{"text_format":"1","workbook":"xlsx","n_sheets":13,"sheets":["Read_me","START","INPUTS","RESULTS","Reference material","Feed EFs","Electricity EFs","Fuel EFs","Fert EFs","Fingerling EF","Processing","Country list","Conversions"],"not_rendered":{"charts":5,"images":6,"macros":1,"external_links":8,"defined_names":126,"comments":4,"pivot_tables":0},"unopened":[],"bounds":{"document_bytes":16777216,"sheet_cells":100000,"rows_first":2000,"rows_last":500,"rows_between":2000,"halvings":0,"cell_chars":16384,"cell_head_chars":4096},"cells_cut":0,"cells_raw":0,"read":"whole","date_system":"1900"}

{"sheet":"Read_me","index":0,"n_rows":32,"n_cols":4,"rows_kept":32,"cut":false,"hidden":true,"merged":[]}
[]
[null,null,"Created","2017-08-28"]
[null,null,"By","Michael MacLeod"]
[null,null,"Based on","FISHe v1 test"]
[]
[null,null,"Blue sheets","Sheets that will be visible to the user"]
[null,null,"Green sheets","Used in the calculations, but will be hidden from the user"]
[null,null,"Grey sheets","Not used in calculations, will be removed from final version"]
[]
[null,null,"Description of the sheets"]
[null,null,"Name","Function"]
[null,null,"Read me","File information and version control"]
[]
[null,null,"START","Introductory sheet"]
[null,null,"INPUTS","Sheet where user inputs details about their fish farm"]
[null,null,"RESULTS","Provides results, i.e. total emissions and emissions intensity, and compares against benchmarks"]
[null,null,"Reference material","References, abbreviations and terms  used in the tool"]
[]
[null,null,"Feed Efs","Calculates the feed emissions per kg of dry matter"]
[null,null,"Electricity EFs","Emission factors for electricity by country"]
[null,null,"Fuel Efs","Emission factors for fuels"]
[null,null,"Fert EFs","Emission factors for fertilizers and lime"]
[null,null,"Fingerling EF","Emission factor per kg of juvenile fish imported into the farm"]
[null,null,"Processing","Factors to convert from liveweight to carcass weight"]
[null,null,"Country list","Full list of FAO countries"]
[null,null,"Conversions","Unit conversions"]
[]
[]
[null,null,"Date","Action"]
[null,null,"2017-08-28","Deleted VBA sub \"refresh\". Saved to word doc \"FISHe v1 old VBA\""]
[null,null,"2017-08-28","Green and red files hidden"]
[null,null,"2017-08-28","Cells locked"]

{"sheet":"START","index":1,"n_rows":242,"n_cols":24,"rows_kept":242,"cut":false,"hidden":false,"merged":[]}
[]
[]
[]
[null,null,null,null,null,null,null,null,null,null,null,null,null,null,null,null,null,null,"Location",null,null,"Commodities",null,"Systems"]
[]
[null,null,null,null,null,null,null,null,null,null,null,null,null,null,null,null,null,null,{"$f":"'Country list'!H4","v":"Afghanistan"},{"$f":"'Country list'!I4","v":"South Asia"},{"$f":"'Country list'!J4","v":"sa"},{"$f":"'Feed EFs'!G240","v":"Algae"},null,"Cages"]
[null,null,null,null,null,null,null,null,null,null,null,null,null,null,null,null,null,null,{"$f":"'Country list'!H5","v":"Albania"},{"$f":"'Country list'!I5","v":"Western Europe"},{"$f":"'Country list'!J5","v":"we"},{"$f":"'Feed EFs'!G241","v":"Bivalves"},null,"Ponds: extensive"]
[null,null,null,null,null,null,null,null,null,null,null,null,null,null,null,null,null,null,{"$f":"'Country list'!H6","v":"Algeria"},{"$f":"'Country list'!I6","v":"Near East and North Africa"},{"$f":"'Country list'!J6","v":"nena"},{"$f":"'Feed EFs'!G242","v":"Catfish"},null,"Ponds: semi-intensive"]
[null,null,null,null,null,null,null,null,null,null,null,null,null,null,null,null,null,null,{"$f":"'Country list'!H7","v":"American Samoa"},{"$f":"'Country list'!I7","v":"Oceania"},{"$f":"'Country list'!J7","v":"oc"},{"$f":"'Feed EFs'!G243","v":"Cyprinids"},null,"Ponds: intensive"]
[null,null,null,null,null,null,null,null,null,null,null,null,null,null,null,null,null,null,{"$f":"'Country list'!H8","v":"Andorra"},{"$f":"'Country list'!I8","v":"Western Europe"},{"$f":"'Country list'!J8","v":"we"},{"$f":"'Feed EFs'!G244","v":"Freshwater fish - general"},null,"Recirculating aquaculture systems"]
[null,null,null,null,null,null,null,null,null,null,null,null,null,null,null,null,null,null,{"$f":"'Country list'!H9","v":"Angola"},{"$f":"'Country list'!I9","v":"Sub-Saharan Africa"},{"$f":"'Country list'!J9","v":"ssa"},{"$f":"'Feed EFs'!G245","v":"Indian major carps"},null,"Tanks: flow through"]
[null,null,null,null,null,null,null,null,null,null,null,null,null,null,null,null,null,null,{"$f":"'Country list'!H10","v":"Anguilla"},{"$f":"'Country list'!I10","v":"Latin America and the Caribbean"},{"$f":"'Country list'!J10","v":"lac"},{"$f":"'Feed EFs'!G246","v":"Marine fish - general"}]
[null,null,null,null,null,null,null,null,null,null,null,null,null,null,null,null,null,null,{"$f":"'Country list'!H11","v":"Antigua and Barbuda"},{"$f":"'Country list'!I11","v":"Latin America and the Caribbean"},{"$f":"'Country list'!J11","v":"lac"},{"$f":"'Feed EFs'!G247","v":"Salmonids"}]
[null,null,null,null,null,null,null,null,null,null,null,null,null,null,null,null,null,null,{"$f":"'Country list'!H12","v":"Argentina"},{"$f":"'Country list'!I12","v":"Latin America and the Caribbean"},{"$f":"'Country list'!J12","v":"lac"},{"$f":"'Feed EFs'!G248","v":"Shrimp"}]
[null,null,null,null,null,null,null,null,null,null,null,null,null,null,null,null,null,null,{"$f":"'Country list'!H13","v":"Armenia"},{"$f":"'Country list'!I13","v":"Near East and North Africa"},{"$f":"'Country list'!J13","v":"nena"},{"$f":"'Feed EFs'!G249","v":"Tilapia"}]
[null,null,null,null,null,null,null,null,null,null,null,null,null,null,null,null,null,null,{"$f":"'Country list'!H14","v":"Aruba"},{"$f":"'Country list'!I14","v":"Latin America and the Caribbean"},{"$f":"'Country list'!J14","v":"lac"}]
[null,null,null,null,null,null,null,null,null,null,null,null,null,null,null,null,null,null,{"$f":"'Country list'!H15","v":"Australia"},{"$f":"'Country list'!I15","v":"Oceania"},{"$f":"'Country list'!J15","v":"oc"}]
[null,null,null,null,null,null,null,null,null,null,null,null,null,null,null,null,null,null,{"$f":"'Country list'!H16","v":"Austria"},{"$f":"'Country list'!I16","v":"Western Europe"},{"$f":"'Country list'!J16","v":"we"}]
[null,null,null,null,null,null,null,null,null,null,null,null,null,null,null,null,null,null,{"$f":"'Country list'!H17","v":"Azerbaijan"},{"$f":"'Country list'!I17","v":"Near East and North Africa"},{"$f":"'Country list'!J17","v":"nena"}]
[null,null,null,null,null,null,null,null,null,null,null,null,null,null,null,null,null,null,{"$f":"'Country list'!H18","v":"Bahamas"},{"$f":"'Country list'!I18","v":"Latin America and the Caribbean"},{"$f":"'Country list'!J18","v":"lac"}]
[null,null,null,null,null,null,null,null,null,null,null,null,null,null,null,null,null,null,{"$f":"'Country list'!H19","v":"Bahrain"},{"$f":"'Country list'!I19","v":"Near East and North Africa"},{"$f":"'Country list'!J19","v":"nena"}]
[null,null,null,null,null,null,null,null,null,null,null,null,null,null,null,null,null,null,{"$f":"'Country list'!H20","v":"Bangladesh"},{"$f":"'Country list'!I20","v":"South Asia"},{"$f":"'Country list'!J20","v":"sa"}]
[null,null,null,null,null,null,null,null,null,null,null,null,null,null,null,null,null,null,{"$f":"'Country list'!H21","v":"Barbados"},{"$f":"'Country list'!I21","v":"Latin America and the Caribbean"},{"$f":"'Country list'!J21","v":"lac"}]
[null,"To get started, enter your location, commodity and system then press NEXT",null,null,null,null,null,null,null,null,null,null,null,null,null,null,null,null,{"$f":"'Country list'!H22","v":"Belarus"},{"$f":"'Country list'!I22","v":"Eastern Europe"},{"$f":"'Country list'!J22","v":"ee"}]
[null,null,null,null,null,null,null,null,null,null,null,null,null,null,null,null,null,null,{"$f":"'Country list'!H23","v":"Belgium"},{"$f":"'Country list'!I23","v":"Western Europe"},{"$f":"'Country list'!J23","v":"we"}]
[null,null,null,null,null,null,null,null,null,null,null,null,null,null,null,null,null,null,{"$f":"'Country list'!H24","v":"Belize"},{"$f":"'Country list'!I24","v":"Latin America and the Caribbean"},{"$f":"'Country list'!J24","v":"lac"}]
[null,null,null,null,null,null,null,219,null,null,null,null,null,null,null,null,null,null,{"$f":"'Country list'!H25","v":"Benin"},{"$f":"'Country list'!I25","v":"Sub-Saharan Africa"},{"$f":"'Country list'!J25","v":"ssa"}]
[null,null,null,null,null,null,null,null,null,null,null,null,null,null,null,null,null,null,{"$f":"'Country list'!H26","v":"Bermuda"},{"$f":"'Country list'!I26","v":"North America"},{"$f":"'Country list'!J26","v":"nam"}]
[null,null,null,null,null,null,null,null,null,null,null,null,null,null,null,null,null,null,{"$f":"'Country list'!H27","v":"Bhutan"},{"$f":"'Country list'!I27","v":"South Asia"},{"$f":"'Country list'!J27","v":"sa"}]
[null,null,null,null,null,null,null,6,null,null,null,null,null,null,null,null,null,null,{"$f":"'Country list'!H28","v":"Bolivia"},{"$f":"'Country list'!I28","v":"Latin America and the Caribbean"},{"$f":"'Country list'!J28","v":"lac"}]
[null,null,null,null,null,null,null,null,null,null,null,null,null,null,null,null,null,null,{"$f":"'Country list'!H29","v":"Bosnia and Herzegovina"},{"$f":"'Country list'!I29","v":"Western Europe"},{"$f":"'Country list'!J29","v":"we"}]
[null,null,null,null,null,null,null,null,null,null,null,null,null,null,null,null,null,null,{"$f":"'Country list'!H30","v":"Botswana"},{"$f":"'Country list'!I30","v":"Sub-Saharan Africa"},{"$f":"'Country list'!J30","v":"ssa"}]
[null,null,null,null,null,null,null,1,null,null,null,null,null,null,null,null,null,null,{"$f":"'Country list'!H31","v":"Brazil"},{"$f":"'Country list'!I31","v":"Latin America and the Caribbean"},{"$f":"'Country list'!J31","v":"lac"}]
[null,null,null,null,null,null,null,null,null,null,null,null,null,null,null,null,null,null,{"$f":"'Country list'!H32","v":"British Indian Ocean Territory"},{"$f":"'Country list'!I32","v":"South Asia"},{"$f":"'Country list'!J32","v":"sa"}]
[null,null,null,null,null,null,null,null,null,null,null,null,null,null,null,null,null,null,{"$f":"'Country list'!H33","v":"British Virgin Islands"},{"$f":"'Country list'!I33","v":"Latin America and the Caribbean"},{"$f":"'Country list'!J33","v":"lac"}]
[null,null,null,null,null,null,null,null,null,null,null,null,null,null,null,null,null,null,{"$f":"'Country list'!H34","v":"Brunei Darussalam"},{"$f":"'Country list'!I34","v":"East Asia and Southeast Asia"},{"$f":"'Country list'!J34","v":"esea"}]
[null,null,null,null,null,null,null,null,null,null,null,null,null,null,null,null,null,null,{"$f":"'Country list'!H35","v":"Bulgaria"},{"$f":"'Country list'!I35","v":"Eastern Europe"},{"$f":"'Country list'!J35","v":"ee"}]
[null,null,null,null,null,null,null,null,null,null,null,null,null,null,null,null,null,null,{"$f":"'Country list'!H36","v":"Burkina Faso"},{"$f":"'Country list'!I36","v":"Sub-Saharan Africa"},{"$f":"'Country list'!J36","v":"ssa"}]
[null,"Disclaimer",null,null,null,null,null,null,null,null,null,null,null,null,null,null,null,null,{"$f":"'Country list'!H37","v":"Burundi"},{"$f":"'Country list'!I37","v":"Sub-Saharan Africa"},{"$f":"'Country list'!J37","v":"ssa"}]
[null,"The views expressed in this information product are those of the author(s) and do not necessarily reflect the views or policies of FAO.",null,null,null,null,null,null,null,null,null,null,null,null,null,null,null,null,{"$f":"'Country list'!H38","v":"Cambodia"},{"$f":"'Country list'!I38","v":"East Asia and Southeast Asia"},{"$f":"'Country list'!J38","v":"esea"}]
[null,null,null,null,null,null,null,null,null,null,null,null,null,null,null,null,null,null,{"$f":"'Country list'!H39","v":"Cameroon"},{"$f":"'Country list'!I39","v":"Sub-Saharan Africa"},{"$f":"'Country list'!J39","v":"ssa"}]
[null,null,null,null,null,null,null,null,null,null,null,null,null,null,null,null,null,null,{"$f":"'Country list'!H40","v":"Canada"},{"$f":"'Country list'!I40","v":"North America"},{"$f":"'Country list'!J40","v":"nam"}]
[null,null,null,null,null,null,null,null,null,null,null,null,null,null,null,null,null,null,{"$f":"'Country list'!H41","v":"Cape Verde"},{"$f":"'Country list'!I41","v":"Sub-Saharan Africa"},{"$f":"'Country list'!J41","v":"ssa"}]
[null,null,null,null,null,null,null,null,null,null,null,null,null,null,null,null,null,null,{"$f":"'Country list'!H42","v":"Cayman Islands"},{"$f":"'Country list'!I42","v":"Latin America and the Caribbean"},{"$f":"'Country list'!J42","v":"lac"}]
[null,null,null,null,null,null,null,null,null,null,null,null,null,null,null,null,null,null,{"$f":"'Country list'!H43","v":"Central African Republic"},{"$f":"'Country list'!I43","v":"Sub-Saharan Africa"},{"$f":"'Country list'!J43","v":"ssa"}]
[null,null,null,null,null,null,null,null,null,null,null,null,null,null,null,null,null,null,{"$f":"'Country list'!H44","v":"Chad"},{"$f":"'Country list'!I44","v":"Sub-Saharan Africa"},{"$f":"'Country list'!J44","v":"ssa"}]
[null,null,null,null,null,null,null,null,null,null,null,null,null,null,null,null,null,null,{"$f":"'Country list'!H45","v":"Chile"},{"$f":"'Country list'!I45","v":"Latin America and the Caribbean"},{"$f":"'Country list'!J45","v":"lac"}]
[null,null,null,null,null,null,null,null,null,null,null,null,null,null,null,null,null,null,{"$f":"'Country list'!H46","v":"China"},{"$f":"'Country list'!I46","v":"East Asia and Southeast Asia"},{"$f":"'Country list'!J46","v":"esea"}]
[null,null,null,null,null,null,null,null,null,null,null,null,null,null,null,null,null,null,{"$f":"'Country list'!H47","v":"Christmas Island"},{"$f":"'Country list'!I47","v":"East Asia and Southeast Asia"},{"$f":"'Country list'!J47","v":"esea"}]
[null,null,null,null,null,null,null,null,null,null,null,null,null,null,null,null,null,null,{"$f":"'Country list'!H48","v":"Colombia"},{"$f":"'Country list'!I48","v":"Latin America and the Caribbean"},{"$f":"'Country list'!J48","v":"lac"}]
[null,null,null,null,null,null,null,null,null,null,null,null,null,null,null,null,null,null,{"$f":"'Country list'!H49","v":"Comoros"},{"$f":"'Country list'!I49","v":"Sub-Saharan Africa"},{"$f":"'Country list'!J49","v":"ssa"}]
[null,null,null,null,null,null,null,null,null,null,null,null,null,null,null,null,null,null,{"$f":"'Country list'!H50","v":"Congo"},{"$f":"'Country list'!I50","v":"Sub-Saharan Africa"},{"$f":"'Country list'!J50","v":"ssa"}]
[null,null,null,null,null,null,null,null,null,null,null,null,null,null,null,null,null,null,{"$f":"'Country list'!H51","v":"Cook Islands"},{"$f":"'Country list'!I51","v":"Oceania"},{"$f":"'Country list'!J51","v":"oc"}]
[null,null,null,null,null,null,null,null,null,null,null,null,null,null,null,null,null,null,{"$f":"'Country list'!H52","v":"Costa Rica"},{"$f":"'Country list'!I52","v":"Latin America and the Caribbean"},{"$f":"'Country list'!J52","v":"lac"}]
[null,null,null,null,null,null,null,null,null,null,null,null,null,null,null,null,null,null,{"$f":"'Country list'!H53","v":"Cote d’Ivoire"},{"$f":"'Country list'!I53","v":"Sub-Saharan Africa"},{"$f":"'Country list'!J53","v":"ssa"}]
[null,null,null,null,null,null,null,null,null,null,null,null,null,null,null,null,null,null,{"$f":"'Country list'!H54","v":"Croatia"},{"$f":"'Country list'!I54","v":"Western Europe"},{"$f":"'Country list'!J54","v":"we"}]
[null,null,null,null,null,null,null,null,null,null,null,null,null,null,null,null,null,null,{"$f":"'Country list'!H55","v":"Cuba"},{"$f":"'Country list'!I55","v":"Latin America and the Caribbean"},{"$f":"'Country list'!J55","v":"lac"}]
[null,null,null,null,null,null,null,null,null,null,null,null,null,null,null,null,null,null,{"$f":"'Country list'!H56","v":"Cyprus"},{"$f":"'Country list'!I56","v":"Near East and North Africa"},{"$f":"'Country list'!J56","v":"nena"}]
[null,null,null,null,null,null,null,null,null,null,null,null,null,null,null,null,null,null,{"$f":"'Country list'!H57","v":"Czech Republic"},{"$f":"'Country list'!I57","v":"Eastern Europe"},{"$f":"'Country list'!J57","v":"ee"}]
[null,null,null,null,null,null,null,null,null,null,null,null,null,null,null,null,null,null,{"$f":"'Country list'!H58","v":"Democratic People’s Republic of Korea"},{"$f":"'Country list'!I58","v":"East Asia and Southeast Asia"},{"$f":"'Country list'!J58","v":"esea"}]
[null,null,null,null,null,null,null,null,null,null,null,null,null,null,null,null,null,null,{"$f":"'Country list'!H59","v":"Democratic Republic of the Congo"},{"$f":"'Country list'!I59","v":"Sub-Saharan Africa"},{"$f":"'Country list'!J59","v":"ssa"}]
[null,null,null,null,null,null,null,null,null,null,null,null,null,null,null,null,null,null,{"$f":"'Country list'!H60","v":"Denmark"},{"$f":"'Country list'!I60","v":"Western Europe"},{"$f":"'Country list'!J60","v":"we"}]
[null,null,null,null,null,null,null,null,null,null,null,null,null,null,null,null,null,null,{"$f":"'Country list'!H61","v":"Djibouti"},{"$f":"'Country list'!I61","v":"Sub-Saharan Africa"},{"$f":"'Country list'!J61","v":"ssa"}]
[null,null,null,null,null,null,null,null,null,null,null,null,null,null,null,null,null,null,{"$f":"'Country list'!H62","v":"Dominica"},{"$f":"'Country list'!I62","v":"Latin America and the Caribbean"},{"$f":"'Country list'!J62","v":"lac"}]
[null,null,null,null,null,null,null,null,null,null,null,null,null,null,null,null,null,null,{"$f":"'Country list'!H63","v":"Dominican Republic"},{"$f":"'Country list'!I63","v":"Latin America and the Caribbean"},{"$f":"'Country list'!J63","v":"lac"}]
[null,null,null,null,null,null,null,null,null,null,null,null,null,null,null,null,null,null,{"$f":"'Country list'!H64","v":"Ecuador"},{"$f":"'Country list'!I64","v":"Latin America and the Caribbean"},{"$f":"'Country list'!J64","v":"lac"}]
[null,null,null,null,null,null,null,null,null,null,null,null,null,null,null,null,null,null,{"$f":"'Country list'!H65","v":"Egypt"},{"$f":"'Country list'!I65","v":"Near East and North Africa"},{"$f":"'Country list'!J65","v":"nena"}]
[null,null,null,null,null,null,null,null,null,null,null,null,null,null,null,null,null,null,{"$f":"'Country list'!H66","v":"El Salvador"},{"$f":"'Country list'!I66","v":"Latin America and the Caribbean"},{"$f":"'Country list'!J66","v":"lac"}]
[null,null,null,null,null,null,null,null,null,null,null,null,null,null,null,null,null,null,{"$f":"'Country list'!H67","v":"Equatorial Guinea"},{"$f":"'Country list'!I67","v":"Sub-Saharan Africa"},{"$f":"'Country list'!J67","v":"ssa"}]
[null,null,null,null,null,null,null,null,null,null,null,null,null,null,null,null,null,null,{"$f":"'Country list'!H68","v":"Eritrea"},{"$f":"'Country list'!I68","v":"Sub-Saharan Africa"},{"$f":"'Country list'!J68","v":"ssa"}]
[null,null,null,null,null,null,null,null,null,null,null,null,null,null,null,null,null,null,{"$f":"'Country list'!H69","v":"Estonia"},{"$f":"'Country list'!I69","v":"Western Europe"},{"$f":"'Country list'!J69","v":"we"}]
[null,null,null,null,null,null,null,null,null,null,null,null,null,null,null,null,null,null,{"$f":"'Country list'!H70","v":"Ethiopia"},{"$f":"'Country list'!I70","v":"Sub-Saharan Africa"},{"$f":"'Country list'!J70","v":"ssa"}]
[null,null,null,null,null,null,null,null,null,null,null,null,null,null,null,null,null,null,{"$f":"'Country list'!H71","v":"Falkland Islands (Malvinas)"},{"$f":"'Country list'!I71","v":"Latin America and the Caribbean"},{"$f":"'Country list'!J71","v":"lac"}]
[null,null,null,null,null,null,null,null,null,null,null,null,null,null,null,null,null,null,{"$f":"'Country list'!H72","v":"Faroe Islands"},{"$f":"'Country list'!I72","v":"Western Europe"},{"$f":"'Country list'!J72","v":"we"}]
[null,null,null,null,null,null,null,null,null,null,null,null,null,null,null,null,null,null,{"$f":"'Country list'!H73","v":"Fiji"},{"$f":"'Country list'!I73","v":"Oceania"},{"$f":"'Country list'!J73","v":"oc"}]
[null,null,null,null,null,null,null,null,null,null,null,null,null,null,null,null,null,null,{"$f":"'Country list'!H74","v":"Finland"},{"$f":"'Country list'!I74","v":"Western Europe"},{"$f":"'Country list'!J74","v":"we"}]
[null,null,null,null,null,null,null,null,null,null,null,null,null,null,null,null,null,null,{"$f":"'Country list'!H75","v":"France"},{"$f":"'Country list'!I75","v":"Western Europe"},{"$f":"'Country list'!J75","v":"we"}]
[null,null,null,null,null,null,null,null,null,null,null,null,null,null,null,null,null,null,{"$f":"'Country list'!H76","v":"French Guiana"},{"$f":"'Country list'!I76","v":"Latin America and the Caribbean"},{"$f":"'Country list'!J76","v":"lac"}]
[null,null,null,null,null,null,null,null,null,null,null,null,null,null,null,null,null,null,{"$f":"'Country list'!H77","v":"French Polynesia"},{"$f":"'Country list'!I77","v":"Oceania"},{"$f":"'Country list'!J77","v":"oc"}]
[null,null,null,null,null,null,null,null,null,null,null,null,null,null,null,null,null,null,{"$f":"'Country list'!H78","v":"Gabon"},{"$f":"'Country list'!I78","v":"Sub-Saharan Africa"},{"$f":"'Country list'!J78","v":"ssa"}]
[null,null,null,null,null,null,null,null,null,null,null,null,null,null,null,null,null,null,{"$f":"'Country list'!H79","v":"Gambia"},{"$f":"'Country list'!I79","v":"Sub-Saharan Africa"},{"$f":"'Country list'!J79","v":"ssa"}]
[null,null,null,null,null,null,null,null,null,null,null,null,null,null,null,null,null,null,{"$f":"'Country list'!H80","v":"Gaza Strip"},{"$f":"'Country list'!I80","v":"Near East and North Africa"},{"$f":"'Country list'!J80","v":"nena"}]
[null,null,null,null,null,null,null,null,null,null,null,null,null,null,null,null,null,null,{"$f":"'Country list'!H81","v":"Georgia"},{"$f":"'Country list'!I81","v":"Near East and North Africa"},{"$f":"'Country list'!J81","v":"nena"}]
[null,null,null,null,null,null,null,null,null,null,null,null,null,null,null,null,null,null,{"$f":"'Country list'!H82","v":"Germany"},{"$f":"'Country list'!I82","v":"Western Europe"},{"$f":"'Country list'!J82","v":"we"}]
[null,null,null,null,null,null,null,null,null,null,null,null,null,null,null,null,null,null,{"$f":"'Country list'!H83","v":"Ghana"},{"$f":"'Country list'!I83","v":"Sub-Saharan Africa"},{"$f":"'Country list'!J83","v":"ssa"}]
[null,null,null,null,null,null,null,null,null,null,null,null,null,null,null,null,null,null,{"$f":"'Country list'!H84","v":"Greece"},{"$f":"'Country list'!I84","v":"Western Europe"},{"$f":"'Country list'!J84","v":"we"}]
[null,null,null,null,null,null,null,null,null,null,null,null,null,null,null,null,null,null,{"$f":"'Country list'!H85","v":"Greenland"},{"$f":"'Country list'!I85","v":"North America"},{"$f":"'Country list'!J85","v":"nam"}]
[null,null,null,null,null,null,null,null,null,null,null,null,null,null,null,null,null,null,{"$f":"'Country list'!H86","v":"Grenada"},{"$f":"'Country list'!I86","v":"Latin America and the Caribbean"},{"$f":"'Country list'!J86","v":"lac"}]
[null,null,null,null,null,null,null,null,null,null,null,null,null,null,null,null,null,null,{"$f":"'Country list'!H87","v":"Guadeloupe"},{"$f":"'Country list'!I87","v":"Latin America and the Caribbean"},{"$f":"'Country list'!J87","v":"lac"}]
[null,null,null,null,null,null,null,null,null,null,null,null,null,null,null,null,null,null,{"$f":"'Country list'!H88","v":"Guam"},{"$f":"'Country list'!I88","v":"Oceania"},{"$f":"'Country list'!J88","v":"oc"}]
[null,null,null,null,null,null,null,null,null,null,null,null,null,null,null,null,null,null,{"$f":"'Country list'!H89","v":"Guatemala"},{"$f":"'Country list'!I89","v":"Latin America and the Caribbean"},{"$f":"'Country list'!J89","v":"lac"}]
[null,null,null,null,null,null,null,null,null,null,null,null,null,null,null,null,null,null,{"$f":"'Country list'!H90","v":"Guernsey"},{"$f":"'Country list'!I90","v":"Western Europe"},{"$f":"'Country list'!J90","v":"we"}]
[null,null,null,null,null,null,null,null,null,null,null,null,null,null,null,null,null,null,{"$f":"'Country list'!H91","v":"Guinea"},{"$f":"'Country list'!I91","v":"Sub-Saharan Africa"},{"$f":"'Country list'!J91","v":"ssa"}]
[null,null,null,null,null,null,null,null,null,null,null,null,null,null,null,null,null,null,{"$f":"'Country list'!H92","v":"Guinea-Bissau"},{"$f":"'Country list'!I92","v":"Sub-Saharan Africa"},{"$f":"'Country list'!J92","v":"ssa"}]
[null,null,null,null,null,null,null,null,null,null,null,null,null,null,null,null,null,null,{"$f":"'Country list'!H93","v":"Guyana"},{"$f":"'Country list'!I93","v":"Latin America and the Caribbean"},{"$f":"'Country list'!J93","v":"lac"}]
[null,null,null,null,null,null,null,null,null,null,null,null,null,null,null,null,null,null,{"$f":"'Country list'!H94","v":"Haiti"},{"$f":"'Country list'!I94","v":"Latin America and the Caribbean"},{"$f":"'Country list'!J94","v":"lac"}]
[null,null,null,null,null,null,null,null,null,null,null,null,null,null,null,null,null,null,{"$f":"'Country list'!H95","v":"Honduras"},{"$f":"'Country list'!I95","v":"Latin America and the Caribbean"},{"$f":"'Country list'!J95","v":"lac"}]
[null,null,null,null,null,null,null,null,null,null,null,null,null,null,null,null,null,null,{"$f":"'Country list'!H96","v":"Hong Kong"},{"$f":"'Country list'!I96","v":"East Asia and Southeast Asia"},{"$f":"'Country list'!J96","v":"esea"}]
[null,null,null,null,null,null,null,null,null,null,null,null,null,null,null,null,null,null,{"$f":"'Country list'!H97","v":"Hungary"},{"$f":"'Country list'!I97","v":"Eastern Europe"},{"$f":"'Country list'!J97","v":"ee"}]
[null,null,null,null,null,null,null,null,null,null,null,null,null,null,null,null,null,null,{"$f":"'Country list'!H98","v":"Iceland"},{"$f":"'Country list'!I98","v":"Western Europe"},{"$f":"'Country list'!J98","v":"we"}]
[null,null,null,null,null,null,null,null,null,null,null,null,null,null,null,null,null,null,{"$f":"'Country list'!H99","v":"India"},{"$f":"'Country list'!I99","v":"South Asia"},{"$f":"'Country list'!J99","v":"sa"}]
[null,null,null,null,null,null,null,null,null,null,null,null,null,null,null,null,null,null,{"$f":"'Country list'!H100","v":"Indonesia"},{"$f":"'Country list'!I100","v":"East Asia and Southeast Asia"},{"$f":"'Country list'!J100","v":"esea"}]
[null,null,null,null,null,null,null,null,null,null,null,null,null,null,null,null,null,null,{"$f":"'Country list'!H101","v":"Iran (Islamic Republic of)"},{"$f":"'Country list'!I101","v":"South Asia"},{"$f":"'Country list'!J101","v":"sa"}]
[null,null,null,null,null,null,null,null,null,null,null,null,null,null,null,null,null,null,{"$f":"'Country list'!H102","v":"Iraq"},{"$f":"'Country list'!I102","v":"Near East and North Africa"},{"$f":"'Country list'!J102","v":"nena"}]
[null,null,null,null,null,null,null,null,null,null,null,null,null,null,null,null,null,null,{"$f":"'Country list'!H103","v":"Ireland"},{"$f":"'Country list'!I103","v":"Western Europe"},{"$f":"'Country list'!J103","v":"we"}]
[null,null,null,null,null,null,null,null,null,null,null,null,null,null,null,null,null,null,{"$f":"'Country list'!H104","v":"Isle of Man"},{"$f":"'Country list'!I104","v":"Western Europe"},{"$f":"'Country list'!J104","v":"we"}]
[null,null,null,null,null,null,null,null,null,null,null,null,null,null,null,null,null,null,{"$f":"'Country list'!H105","v":"Israel"},{"$f":"'Country list'!I105","v":"Near East and North Africa"},{"$f":"'Country list'!J105","v":"nena"}]
[null,null,null,null,null,null,null,null,null,null,null,null,null,null,null,null,null,null,{"$f":"'Country list'!H106","v":"Italy"},{"$f":"'Country list'!I106","v":"Western Europe"},{"$f":"'Country list'!J106","v":"we"}]
[null,null,null,null,null,null,null,null,null,null,null,null,null,null,null,null,null,null,{"$f":"'Country list'!H107","v":"Jamaica"},{"$f":"'Country list'!I107","v":"Latin America and the Caribbean"},{"$f":"'Country list'!J107","v":"lac"}]
[null,null,null,null,null,null,null,null,null,null,null,null,null,null,null,null,null,null,{"$f":"'Country list'!H108","v":"Japan"},{"$f":"'Country list'!I108","v":"East Asia and Southeast Asia"},{"$f":"'Country list'!J108","v":"esea"}]
[null,null,null,null,null,null,null,null,null,null,null,null,null,null,null,null,null,null,{"$f":"'Country list'!H109","v":"Jersey"},{"$f":"'Country list'!I109","v":"Western Europe"},{"$f":"'Country list'!J109","v":"we"}]
[null,null,null,null,null,null,null,null,null,null,null,null,null,null,null,null,null,null,{"$f":"'Country list'!H110","v":"Jordan"},{"$f":"'Country list'!I110","v":"Near East and North Africa"},{"$f":"'Country list'!J110","v":"nena"}]
[null,null,null,null,null,null,null,null,null,null,null,null,null,null,null,null,null,null,{"$f":"'Country list'!H111","v":"Kazakhstan"},{"$f":"'Country list'!I111","v":"Near East and North Africa"},{"$f":"'Country list'!J111","v":"nena"}]
[null,null,null,null,null,null,null,null,null,null,null,null,null,null,null,null,null,null,{"$f":"'Country list'!H112","v":"Kenya"},{"$f":"'Country list'!I112","v":"Sub-Saharan Africa"},{"$f":"'Country list'!J112","v":"ssa"}]
[null,null,null,null,null,null,null,null,null,null,null,null,null,null,null,null,null,null,{"$f":"'Country list'!H113","v":"Kiribati"},{"$f":"'Country list'!I113","v":"Oceania"},{"$f":"'Country list'!J113","v":"oc"}]
[null,null,null,null,null,null,null,null,null,null,null,null,null,null,null,null,null,null,{"$f":"'Country list'!H114","v":"Kuwait"},{"$f":"'Country list'!I114","v":"Near East and North Africa"},{"$f":"'Country list'!J114","v":"nena"}]
[null,null,null,null,null,null,null,null,null,null,null,null,null,null,null,null,null,null,{"$f":"'Country list'!H115","v":"Kyrgyzstan"},{"$f":"'Country list'!I115","v":"Near East and North Africa"},{"$f":"'Country list'!J115","v":"nena"}]
[null,null,null,null,null,null,null,null,null,null,null,null,null,null,null,null,null,null,{"$f":"'Country list'!H116","v":"Lao People’s Democratic Republic"},{"$f":"'Country list'!I116","v":"East Asia and Southeast Asia"},{"$f":"'Country list'!J116","v":"esea"}]
[null,null,null,null,null,null,null,null,null,null,null,null,null,null,null,null,null,null,{"$f":"'Country list'!H117","v":"Latvia"},{"$f":"'Country list'!I117","v":"Western Europe"},{"$f":"'Country list'!J117","v":"we"}]
[null,null,null,null,null,null,null,null,null,null,null,null,null,null,null,null,null,null,{"$f":"'Country list'!H118","v":"Lebanon"},{"$f":"'Country list'!I118","v":"Near East and North Africa"},{"$f":"'Country list'!J118","v":"nena"}]
[null,null,null,null,null,null,null,null,null,null,null,null,null,null,null,null,null,null,{"$f":"'Country list'!H119","v":"Lesotho"},{"$f":"'Country list'!I119","v":"Sub-Saharan Africa"},{"$f":"'Country list'!J119","v":"ssa"}]
[null,null,null,null,null,null,null,null,null,null,null,null,null,null,null,null,null,null,{"$f":"'Country list'!H120","v":"Liberia"},{"$f":"'Country list'!I120","v":"Sub-Saharan Africa"},{"$f":"'Country list'!J120","v":"ssa"}]
[null,null,null,null,null,null,null,null,null,null,null,null,null,null,null,null,null,null,{"$f":"'Country list'!H121","v":"Liechtenstein"},{"$f":"'Country list'!I121","v":"Western Europe"},{"$f":"'Country list'!J121","v":"we"}]
[null,null,null,null,null,null,null,null,null,null,null,null,null,null,null,null,null,null,{"$f":"'Country list'!H122","v":"Lithuania"},{"$f":"'Country list'!I122","v":"Western Europe"},{"$f":"'Country list'!J122","v":"we"}]
[null,null,null,null,null,null,null,null,null,null,null,null,null,null,null,null,null,null,{"$f":"'Country list'!H123","v":"Luxembourg"},{"$f":"'Country list'!I123","v":"Western Europe"},{"$f":"'Country list'!J123","v":"we"}]
[null,null,null,null,null,null,null,null,null,null,null,null,null,null,null,null,null,null,{"$f":"'Country list'!H124","v":"Macau"},{"$f":"'Country list'!I124","v":"East Asia and Southeast Asia"},{"$f":"'Country list'!J124","v":"esea"}]
[null,null,null,null,null,null,null,null,null,null,null,null,null,null,null,null,null,null,{"$f":"'Country list'!H125","v":"Madagascar"},{"$f":"'Country list'!I125","v":"Sub-Saharan Africa"},{"$f":"'Country list'!J125","v":"ssa"}]
[null,null,null,null,null,null,null,null,null,null,null,null,null,null,null,null,null,null,{"$f":"'Country list'!H126","v":"Madeira Islands"},{"$f":"'Country list'!I126","v":"Western Europe"},{"$f":"'Country list'!J126","v":"we"}]
[null,null,null,null,null,null,null,null,null,null,null,null,null,null,null,null,null,null,{"$f":"'Country list'!H127","v":"Malawi"},{"$f":"'Country list'!I127","v":"Sub-Saharan Africa"},{"$f":"'Country list'!J127","v":"ssa"}]
[null,null,null,null,null,null,null,null,null,null,null,null,null,null,null,null,null,null,{"$f":"'Country list'!H128","v":"Malaysia"},{"$f":"'Country list'!I128","v":"East Asia and Southeast Asia"},{"$f":"'Country list'!J128","v":"esea"}]
[null,null,null,null,null,null,null,null,null,null,null,null,null,null,null,null,null,null,{"$f":"'Country list'!H129","v":"Maldives"},{"$f":"'Country list'!I129","v":"South Asia"},{"$f":"'Country list'!J129","v":"sa"}]
[null,null,null,null,null,null,null,null,null,null,null,null,null,null,null,null,null,null,{"$f":"'Country list'!H130","v":"Mali"},{"$f":"'Country list'!I130","v":"Sub-Saharan Africa"},{"$f":"'Country list'!J130","v":"ssa"}]
[null,null,null,null,null,null,null,null,null,null,null,null,null,null,null,null,null,null,{"$f":"'Country list'!H131","v":"Malta"},{"$f":"'Country list'!I131","v":"Western Europe"},{"$f":"'Country list'!J131","v":"we"}]
[null,null,null,null,null,null,null,null,null,null,null,null,null,null,null,null,null,null,{"$f":"'Country list'!H132","v":"Marshall Islands"},{"$f":"'Country list'!I132","v":"Oceania"},{"$f":"'Country list'!J132","v":"oc"}]
[null,null,null,null,null,null,null,null,null,null,null,null,null,null,null,null,null,null,{"$f":"'Country list'!H133","v":"Martinique"},{"$f":"'Country list'!I133","v":"Latin America and the Caribbean"},{"$f":"'Country list'!J133","v":"lac"}]
[null,null,null,null,null,null,null,null,null,null,null,null,null,null,null,null,null,null,{"$f":"'Country list'!H134","v":"Mauritania"},{"$f":"'Country list'!I134","v":"Sub-Saharan Africa"},{"$f":"'Country list'!J134","v":"ssa"}]
[null,null,null,null,null,null,null,null,null,null,null,null,null,null,null,null,null,null,{"$f":"'Country list'!H135","v":"Mauritius"},{"$f":"'Country list'!I135","v":"Sub-Saharan Africa"},{"$f":"'Country list'!J135","v":"ssa"}]
[null,null,null,null,null,null,null,null,null,null,null,null,null,null,null,null,null,null,{"$f":"'Country list'!H136","v":"Mayotte"},{"$f":"'Country list'!I136","v":"Sub-Saharan Africa"},{"$f":"'Country list'!J136","v":"ssa"}]
[null,null,null,null,null,null,null,null,null,null,null,null,null,null,null,null,null,null,{"$f":"'Country list'!H137","v":"Mexico"},{"$f":"'Country list'!I137","v":"Latin America and the Caribbean"},{"$f":"'Country list'!J137","v":"lac"}]
[null,null,null,null,null,null,null,null,null,null,null,null,null,null,null,null,null,null,{"$f":"'Country list'!H138","v":"Micronesia (Federated States of)"},{"$f":"'Country list'!I138","v":"Oceania"},{"$f":"'Country list'!J138","v":"oc"}]
[null,null,null,null,null,null,null,null,null,null,null,null,null,null,null,null,null,null,{"$f":"'Country list'!H139","v":"Moldova, Republic of"},{"$f":"'Country list'!I139","v":"Eastern Europe"},{"$f":"'Country list'!J139","v":"ee"}]
[null,null,null,null,null,null,null,null,null,null,null,null,null,null,null,null,null,null,{"$f":"'Country list'!H140","v":"Monaco"},{"$f":"'Country list'!I140","v":"Western Europe"},{"$f":"'Country list'!J140","v":"we"}]
[null,null,null,null,null,null,null,null,null,null,null,null,null,null,null,null,null,null,{"$f":"'Country list'!H141","v":"Mongolia"},{"$f":"'Country list'!I141","v":"East Asia and Southeast Asia"},{"$f":"'Country list'!J141","v":"esea"}]
[null,null,null,null,null,null,null,null,null,null,null,null,null,null,null,null,null,null,{"$f":"'Country list'!H142","v":"Montenegro"},{"$f":"'Country list'!I142","v":"Western Europe"},{"$f":"'Country list'!J142","v":"we"}]
[null,null,null,null,null,null,null,null,null,null,null,null,null,null,null,null,null,null,{"$f":"'Country list'!H143","v":"Montserrat"},{"$f":"'Country list'!I143","v":"Latin America and the Caribbean"},{"$f":"'Country list'!J143","v":"lac"}]
[null,null,null,null,null,null,null,null,null,null,null,null,null,null,null,null,null,null,{"$f":"'Country list'!H144","v":"Morocco"},{"$f":"'Country list'!I144","v":"Near East and North Africa"},{"$f":"'Country list'!J144","v":"nena"}]
[null,null,null,null,null,null,null,null,null,null,null,null,null,null,null,null,null,null,{"$f":"'Country list'!H145","v":"Mozambique"},{"$f":"'Country list'!I145","v":"Sub-Saharan Africa"},{"$f":"'Country list'!J145","v":"ssa"}]
[null,null,null,null,null,null,null,null,null,null,null,null,null,null,null,null,null,null,{"$f":"'Country list'!H146","v":"Myanmar"},{"$f":"'Country list'!I146","v":"East Asia and Southeast Asia"},{"$f":"'Country list'!J146","v":"esea"}]
[null,null,null,null,null,null,null,null,null,null,null,null,null,null,null,null,null,null,{"$f":"'Country list'!H147","v":"Namibia"},{"$f":"'Country list'!I147","v":"Sub-Saharan Africa"},{"$f":"'Country list'!J147","v":"ssa"}]
[null,null,null,null,null,null,null,null,null,null,null,null,null,null,null,null,null,null,{"$f":"'Country list'!H148","v":"Nauru"},{"$f":"'Country list'!I148","v":"Oceania"},{"$f":"'Country list'!J148","v":"oc"}]
[null,null,null,null,null,null,null,null,null,null,null,null,null,null,null,null,null,null,{"$f":"'Country list'!H149","v":"Nepal"},{"$f":"'Country list'!I149","v":"South Asia"},{"$f":"'Country list'!J149","v":"sa"}]
[null,null,null,null,null,null,null,null,null,null,null,null,null,null,null,null,null,null,{"$f":"'Country list'!H150","v":"Netherlands"},{"$f":"'Country list'!I150","v":"Western Europe"},{"$f":"'Country list'!J150","v":"we"}]
[null,null,null,null,null,null,null,null,null,null,null,null,null,null,null,null,null,null,{"$f":"'Country list'!H151","v":"Netherlands Antilles"},{"$f":"'Country list'!I151","v":"Latin America and the Caribbean"},{"$f":"'Country list'!J151","v":"lac"}]
[null,null,null,null,null,null,null,null,null,null,null,null,null,null,null,null,null,null,{"$f":"'Country list'!H152","v":"New Caledonia"},{"$f":"'Country list'!I152","v":"Oceania"},{"$f":"'Country list'!J152","v":"oc"}]
[null,null,null,null,null,null,null,null,null,null,null,null,null,null,null,null,null,null,{"$f":"'Country list'!H153","v":"New Zealand"},{"$f":"'Country list'!I153","v":"Oceania"},{"$f":"'Country list'!J153","v":"oc"}]
[null,null,null,null,null,null,null,null,null,null,null,null,null,null,null,null,null,null,{"$f":"'Country list'!H154","v":"Nicaragua"},{"$f":"'Country list'!I154","v":"Latin America and the Caribbean"},{"$f":"'Country list'!J154","v":"lac"}]
[null,null,null,null,null,null,null,null,null,null,null,null,null,null,null,null,null,null,{"$f":"'Country list'!H155","v":"Niger"},{"$f":"'Country list'!I155","v":"Sub-Saharan Africa"},{"$f":"'Country list'!J155","v":"ssa"}]
[null,null,null,null,null,null,null,null,null,null,null,null,null,null,null,null,null,null,{"$f":"'Country list'!H156","v":"Nigeria"},{"$f":"'Country list'!I156","v":"Sub-Saharan Africa"},{"$f":"'Country list'!J156","v":"ssa"}]
[null,null,null,null,null,null,null,null,null,null,null,null,null,null,null,null,null,null,{"$f":"'Country list'!H157","v":"Niue"},{"$f":"'Country list'!I157","v":"Oceania"},{"$f":"'Country list'!J157","v":"oc"}]
[null,null,null,null,null,null,null,null,null,null,null,null,null,null,null,null,null,null,{"$f":"'Country list'!H158","v":"Norfolk Island"},{"$f":"'Country list'!I158","v":"Oceania"},{"$f":"'Country list'!J158","v":"oc"}]
[null,null,null,null,null,null,null,null,null,null,null,null,null,null,null,null,null,null,{"$f":"'Country list'!H159","v":"Northern Mariana Islands"},{"$f":"'Country list'!I159","v":"Oceania"},{"$f":"'Country list'!J159","v":"oc"}]
[null,null,null,null,null,null,null,null,null,null,null,null,null,null,null,null,null,null,{"$f":"'Country list'!H160","v":"Norway"},{"$f":"'Country list'!I160","v":"Western Europe"},{"$f":"'Country list'!J160","v":"we"}]
[null,null,null,null,null,null,null,null,null,null,null,null,null,null,null,null,null,null,{"$f":"'Country list'!H161","v":"Oman"},{"$f":"'Country list'!I161","v":"Near East and North Africa"},{"$f":"'Country list'!J161","v":"nena"}]
[null,null,null,null,null,null,null,null,null,null,null,null,null,null,null,null,null,null,{"$f":"'Country list'!H162","v":"Pakistan"},{"$f":"'Country list'!I162","v":"South Asia"},{"$f":"'Country list'!J162","v":"sa"}]
[null,null,null,null,null,null,null,null,null,null,null,null,null,null,null,null,null,null,{"$f":"'Country list'!H163","v":"Palau"},{"$f":"'Country list'!I163","v":"Oceania"},{"$f":"'Country list'!J163","v":"oc"}]
[null,null,null,null,null,null,null,null,null,null,null,null,null,null,null,null,null,null,{"$f":"'Country list'!H164","v":"Panama"},{"$f":"'Country list'!I164","v":"Latin America and the Caribbean"},{"$f":"'Country list'!J164","v":"lac"}]
[null,null,null,null,null,null,null,null,null,null,null,null,null,null,null,null,null,null,{"$f":"'Country list'!H165","v":"Papua New Guinea"},{"$f":"'Country list'!I165","v":"Oceania"},{"$f":"'Country list'!J165","v":"oc"}]
[null,null,null,null,null,null,null,null,null,null,null,null,null,null,null,null,null,null,{"$f":"'Country list'!H166","v":"Paraguay"},{"$f":"'Country list'!I166","v":"Latin America and the Caribbean"},{"$f":"'Country list'!J166","v":"lac"}]
[null,null,null,null,null,null,null,null,null,null,null,null,null,null,null,null,null,null,{"$f":"'Country list'!H167","v":"Peru"},{"$f":"'Country list'!I167","v":"Latin America and the Caribbean"},{"$f":"'Country list'!J167","v":"lac"}]
[null,null,null,null,null,null,null,null,null,null,null,null,null,null,null,null,null,null,{"$f":"'Country list'!H168","v":"Philippines"},{"$f":"'Country list'!I168","v":"East Asia and Southeast Asia"},{"$f":"'Country list'!J168","v":"esea"}]
[null,null,null,null,null,null,null,null,null,null,null,null,null,null,null,null,null,null,{"$f":"'Country list'!H169","v":"Pitcairn"},{"$f":"'Country list'!I169","v":"Oceania"},{"$f":"'Country list'!J169","v":"oc"}]
[null,null,null,null,null,null,null,null,null,null,null,null,null,null,null,null,null,null,{"$f":"'Country list'!H170","v":"Poland"},{"$f":"'Country list'!I170","v":"Eastern Europe"},{"$f":"'Country list'!J170","v":"ee"}]
[null,null,null,null,null,null,null,null,null,null,null,null,null,null,null,null,null,null,{"$f":"'Country list'!H171","v":"Portugal"},{"$f":"'Country list'!I171","v":"Western Europe"},{"$f":"'Country list'!J171","v":"we"}]
[null,null,null,null,null,null,null,null,null,null,null,null,null,null,null,null,null,null,{"$f":"'Country list'!H172","v":"Puerto Rico"},{"$f":"'Country list'!I172","v":"Latin America and the Caribbean"},{"$f":"'Country list'!J172","v":"lac"}]
[null,null,null,null,null,null,null,null,null,null,null,null,null,null,null,null,null,null,{"$f":"'Country list'!H173","v":"Qatar"},{"$f":"'Country list'!I173","v":"Near East and North Africa"},{"$f":"'Country list'!J173","v":"nena"}]
[null,null,null,null,null,null,null,null,null,null,null,null,null,null,null,null,null,null,{"$f":"'Country list'!H174","v":"Republic of Korea"},{"$f":"'Country list'!I174","v":"East Asia and Southeast Asia"},{"$f":"'Country list'!J174","v":"esea"}]
[null,null,null,null,null,null,null,null,null,null,null,null,null,null,null,null,null,null,{"$f":"'Country list'!H175","v":"Republic of Serbia"},{"$f":"'Country list'!I175","v":"Western Europe"},{"$f":"'Country list'!J175","v":"we"}]
[null,null,null,null,null,null,null,null,null,null,null,null,null,null,null,null,null,null,{"$f":"'Country list'!H176","v":"Republic of Sudan"},{"$f":"'Country list'!I176","v":"Near East and North Africa"},{"$f":"'Country list'!J176","v":"nena"}]
[null,null,null,null,null,null,null,null,null,null,null,null,null,null,null,null,null,null,{"$f":"'Country list'!H177","v":"Reunion"},{"$f":"'Country list'!I177","v":"Sub-Saharan Africa"},{"$f":"'Country list'!J177","v":"ssa"}]
[null,null,null,null,null,null,null,null,null,null,null,null,null,null,null,null,null,null,{"$f":"'Country list'!H178","v":"Romania"},{"$f":"'Country list'!I178","v":"Eastern Europe"},{"$f":"'Country list'!J178","v":"ee"}]
[null,null,null,null,null,null,null,null,null,null,null,null,null,null,null,null,null,null,{"$f":"'Country list'!H179","v":"Russian Federation"},{"$f":"'Country list'!I179","v":"Russian Federation"},{"$f":"'Country list'!J179","v":"rus"}]
[null,null,null,null,null,null,null,null,null,null,null,null,null,null,null,null,null,null,{"$f":"'Country list'!H180","v":"Rwanda"},{"$f":"'Country list'!I180","v":"Sub-Saharan Africa"},{"$f":"'Country list'!J180","v":"ssa"}]
[null,null,null,null,null,null,null,null,null,null,null,null,null,null,null,null,null,null,{"$f":"'Country list'!H181","v":"Saint Helena"},{"$f":"'Country list'!I181","v":"Sub-Saharan Africa"},{"$f":"'Country list'!J181","v":"ssa"}]
[null,null,null,null,null,null,null,null,null,null,null,null,null,null,null,null,null,null,{"$f":"'Country list'!H182","v":"Saint Kitts and Nevis"},{"$f":"'Country list'!I182","v":"Latin America and the Caribbean"},{"$f":"'Country list'!J182","v":"lac"}]
[null,null,null,null,null,null,null,null,null,null,null,null,null,null,null,null,null,null,{"$f":"'Country list'!H183","v":"Saint Lucia"},{"$f":"'Country list'!I183","v":"Latin America and the Caribbean"},{"$f":"'Country list'!J183","v":"lac"}]
[null,null,null,null,null,null,null,null,null,null,null,null,null,null,null,null,null,null,{"$f":"'Country list'!H184","v":"Saint Pierre et Miquelon"},{"$f":"'Country list'!I184","v":"Oceania"},{"$f":"'Country list'!J184","v":"oc"}]
[null,null,null,null,null,null,null,null,null,null,null,null,null,null,null,null,null,null,{"$f":"'Country list'!H185","v":"Saint Vincent and the Grenadines"},{"$f":"'Country list'!I185","v":"Latin America and the Caribbean"},{"$f":"'Country list'!J185","v":"lac"}]
[null,null,null,null,null,null,null,null,null,null,null,null,null,null,null,null,null,null,{"$f":"'Country list'!H186","v":"Samoa"},{"$f":"'Country list'!I186","v":"Oceania"},{"$f":"'Country list'!J186","v":"oc"}]
[null,null,null,null,null,null,null,null,null,null,null,null,null,null,null,null,null,null,{"$f":"'Country list'!H187","v":"San Marino"},{"$f":"'Country list'!I187","v":"Western Europe"},{"$f":"'Country list'!J187","v":"we"}]
[null,null,null,null,null,null,null,null,null,null,null,null,null,null,null,null,null,null,{"$f":"'Country list'!H188","v":"Sao Tome and Principe"},{"$f":"'Country list'!I188","v":"Sub-Saharan Africa"},{"$f":"'Country list'!J188","v":"ssa"}]
[null,null,null,null,null,null,null,null,null,null,null,null,null,null,null,null,null,null,{"$f":"'Country list'!H189","v":"Saudi Arabia"},{"$f":"'Country list'!I189","v":"Near East and North Africa"},{"$f":"'Country list'!J189","v":"nena"}]
[null,null,null,null,null,null,null,null,null,null,null,null,null,null,null,null,null,null,{"$f":"'Country list'!H190","v":"Senegal"},{"$f":"'Country list'!I190","v":"Sub-Saharan Africa"},{"$f":"'Country list'!J190","v":"ssa"}]
[null,null,null,null,null,null,null,null,null,null,null,null,null,null,null,null,null,null,{"$f":"'Country list'!H191","v":"Seychelles"},{"$f":"'Country list'!I191","v":"Sub-Saharan Africa"},{"$f":"'Country list'!J191","v":"ssa"}]
[null,null,null,null,null,null,null,null,null,null,null,null,null,null,null,null,null,null,{"$f":"'Country list'!H192","v":"Sierra Leone"},{"$f":"'Country list'!I192","v":"Sub-Saharan Africa"},{"$f":"'Country list'!J192","v":"ssa"}]
[null,null,null,null,null,null,null,null,null,null,null,null,null,null,null,null,null,null,{"$f":"'Country list'!H193","v":"Singapore"},{"$f":"'Country list'!I193","v":"East Asia and Southeast Asia"},{"$f":"'Country list'!J193","v":"esea"}]
[null,null,null,null,null,null,null,null,null,null,null,null,null,null,null,null,null,null,{"$f":"'Country list'!H194","v":"Slovakia"},{"$f":"'Country list'!I194","v":"Eastern Europe"},{"$f":"'Country list'!J194","v":"ee"}]
[null,null,null,null,null,null,null,null,null,null,null,null,null,null,null,null,null,null,{"$f":"'Country list'!H195","v":"Slovenia"},{"$f":"'Country list'!I195","v":"Western Europe"},{"$f":"'Country list'!J195","v":"we"}]
[null,null,null,null,null,null,null,null,null,null,null,null,null,null,null,null,null,null,{"$f":"'Country list'!H196","v":"Solomon Islands"},{"$f":"'Country list'!I196","v":"Oceania"},{"$f":"'Country list'!J196","v":"oc"}]
[null,null,null,null,null,null,null,null,null,null,null,null,null,null,null,null,null,null,{"$f":"'Country list'!H197","v":"Somalia"},{"$f":"'Country list'!I197","v":"Sub-Saharan Africa"},{"$f":"'Country list'!J197","v":"ssa"}]
[null,null,null,null,null,null,null,null,null,null,null,null,null,null,null,null,null,null,{"$f":"'Country list'!H198","v":"South Africa"},{"$f":"'Country list'!I198","v":"Sub-Saharan Africa"},{"$f":"'Country list'!J198","v":"ssa"}]
[null,null,null,null,null,null,null,null,null,null,null,null,null,null,null,null,null,null,{"$f":"'Country list'!H199","v":"South Sudan"},{"$f":"'Country list'!I199","v":"Near East and North Africa"},{"$f":"'Country list'!J199","v":"nena"}]
[null,null,null,null,null,null,null,null,null,null,null,null,null,null,null,null,null,null,{"$f":"'Country list'!H200","v":"Spain"},{"$f":"'Country list'!I200","v":"Western Europe"},{"$f":"'Country list'!J200","v":"we"}]
[null,null,null,null,null,null,null,null,null,null,null,null,null,null,null,null,null,null,{"$f":"'Country list'!H201","v":"Sri Lanka"},{"$f":"'Country list'!I201","v":"South Asia"},{"$f":"'Country list'!J201","v":"sa"}]
[null,null,null,null,null,null,null,null,null,null,null,null,null,null,null,null,null,null,{"$f":"'Country list'!H202","v":"State of Libya"},{"$f":"'Country list'!I202","v":"Near East and North Africa"},{"$f":"'Country list'!J202","v":"nena"}]
[null,null,null,null,null,null,null,null,null,null,null,null,null,null,null,null,null,null,{"$f":"'Country list'!H203","v":"Suriname"},{"$f":"'Country list'!I203","v":"Latin America and the Caribbean"},{"$f":"'Country list'!J203","v":"lac"}]
[null,null,null,null,null,null,null,null,null,null,null,null,null,null,null,null,null,null,{"$f":"'Country list'!H204","v":"Svalbard and Jan Mayen Islands"},{"$f":"'Country list'!I204","v":"Western Europe"},{"$f":"'Country list'!J204","v":"we"}]
[null,null,null,null,null,null,null,null,null,null,null,null,null,null,null,null,null,null,{"$f":"'Country list'!H205","v":"Swaziland"},{"$f":"'Country list'!I205","v":"Sub-Saharan Africa"},{"$f":"'Country list'!J205","v":"ssa"}]
[null,null,null,null,null,null,null,null,null,null,null,null,null,null,null,null,null,null,{"$f":"'Country list'!H206","v":"Sweden"},{"$f":"'Country list'!I206","v":"Western Europe"},{"$f":"'Country list'!J206","v":"we"}]
[null,null,null,null,null,null,null,null,null,null,null,null,null,null,null,null,null,null,{"$f":"'Country list'!H207","v":"Switzerland"},{"$f":"'Country list'!I207","v":"Western Europe"},{"$f":"'Country list'!J207","v":"we"}]
[null,null,null,null,null,null,null,null,null,null,null,null,null,null,null,null,null,null,{"$f":"'Country list'!H208","v":"Syrian Arab Republic"},{"$f":"'Country list'!I208","v":"Near East and North Africa"},{"$f":"'Country list'!J208","v":"nena"}]
[null,null,null,null,null,null,null,null,null,null,null,null,null,null,null,null,null,null,{"$f":"'Country list'!H209","v":"Tajikistan"},{"$f":"'Country list'!I209","v":"Near East and North Africa"},{"$f":"'Country list'!J209","v":"nena"}]
[null,null,null,null,null,null,null,null,null,null,null,null,null,null,null,null,null,null,{"$f":"'Country list'!H210","v":"Thailand"},{"$f":"'Country list'!I210","v":"East Asia and Southeast Asia"},{"$f":"'Country list'!J210","v":"esea"}]
[null,null,null,null,null,null,null,null,null,null,null,null,null,null,null,null,null,null,{"$f":"'Country list'!H211","v":"The former Yugoslav Republic of Macedonia"},{"$f":"'Country list'!I211","v":"Western Europe"},{"$f":"'Country list'!J211","v":"we"}]
[null,null,null,null,null,null,null,null,null,null,null,null,null,null,null,null,null,null,{"$f":"'Country list'!H212","v":"Timor-Leste"},{"$f":"'Country list'!I212","v":"East Asia and Southeast Asia"},{"$f":"'Country list'!J212","v":"esea"}]
[null,null,null,null,null,null,null,null,null,null,null,null,null,null,null,null,null,null,{"$f":"'Country list'!H213","v":"Togo"},{"$f":"'Country list'!I213","v":"Sub-Saharan Africa"},{"$f":"'Country list'!J213","v":"ssa"}]
[null,null,null,null,null,null,null,null,null,null,null,null,null,null,null,null,null,null,{"$f":"'Country list'!H214","v":"Tokelau"},{"$f":"'Country list'!I214","v":"Oceania"},{"$f":"'Country list'!J214","v":"oc"}]
[null,null,null,null,null,null,null,null,null,null,null,null,null,null,null,null,null,null,{"$f":"'Country list'!H215","v":"Tonga"},{"$f":"'Country list'!I215","v":"Oceania"},{"$f":"'Country list'!J215","v":"oc"}]
[null,null,null,null,null,null,null,null,null,null,null,null,null,null,null,null,null,null,{"$f":"'Country list'!H216","v":"Trinidad and Tobago"},{"$f":"'Country list'!I216","v":"Latin America and the Caribbean"},{"$f":"'Country list'!J216","v":"lac"}]
[null,null,null,null,null,null,null,null,null,null,null,null,null,null,null,null,null,null,{"$f":"'Country list'!H217","v":"Tunisia"},{"$f":"'Country list'!I217","v":"Near East and North Africa"},{"$f":"'Country list'!J217","v":"nena"}]
[null,null,null,null,null,null,null,null,null,null,null,null,null,null,null,null,null,null,{"$f":"'Country list'!H218","v":"Turkey"},{"$f":"'Country list'!I218","v":"Near East and North Africa"},{"$f":"'Country list'!J218","v":"nena"}]
[null,null,null,null,null,null,null,null,null,null,null,null,null,null,null,null,null,null,{"$f":"'Country list'!H219","v":"Turkmenistan"},{"$f":"'Country list'!I219","v":"Near East and North Africa"},{"$f":"'Country list'!J219","v":"nena"}]
[null,null,null,null,null,null,null,null,null,null,null,null,null,null,null,null,null,null,{"$f":"'Country list'!H220","v":"Turks and Caicos Islands"},{"$f":"'Country list'!I220","v":"Latin America and the Caribbean"},{"$f":"'Country list'!J220","v":"lac"}]
[null,null,null,null,null,null,null,null,null,null,null,null,null,null,null,null,null,null,{"$f":"'Country list'!H221","v":"Tuvalu"},{"$f":"'Country list'!I221","v":"Oceania"},{"$f":"'Country list'!J221","v":"oc"}]
[null,null,null,null,null,null,null,null,null,null,null,null,null,null,null,null,null,null,{"$f":"'Country list'!H222","v":"U.K. of Great Britain and Northern Ireland"},{"$f":"'Country list'!I222","v":"Western Europe"},{"$f":"'Country list'!J222","v":"we"}]
[null,null,null,null,null,null,null,null,null,null,null,null,null,null,null,null,null,null,{"$f":"'Country list'!H223","v":"Uganda"},{"$f":"'Country list'!I223","v":"Sub-Saharan Africa"},{"$f":"'Country list'!J223","v":"ssa"}]
[null,null,null,null,null,null,null,null,null,null,null,null,null,null,null,null,null,null,{"$f":"'Country list'!H224","v":"Ukraine"},{"$f":"'Country list'!I224","v":"Eastern Europe"},{"$f":"'Country list'!J224","v":"ee"}]
[null,null,null,null,null,null,null,null,null,null,null,null,null,null,null,null,null,null,{"$f":"'Country list'!H225","v":"United Arab Emirates"},{"$f":"'Country list'!I225","v":"Near East and North Africa"},{"$f":"'Country list'!J225","v":"nena"}]
[null,null,null,null,null,null,null,null,null,null,null,null,null,null,null,null,null,null,{"$f":"'Country list'!H226","v":"United Republic of Tanzania"},{"$f":"'Country list'!I226","v":"Sub-Saharan Africa"},{"$f":"'Country list'!J226","v":"ssa"}]
[null,null,null,null,null,null,null,null,null,null,null,null,null,null,null,null,null,null,{"$f":"'Country list'!H227","v":"United States of America"},{"$f":"'Country list'!I227","v":"North America"},{"$f":"'Country list'!J227","v":"nam"}]
[null,null,null,null,null,null,null,null,null,null,null,null,null,null,null,null,null,null,{"$f":"'Country list'!H228","v":"United States Virgin Islands"},{"$f":"'Country list'!I228","v":"Latin America and the Caribbean"},{"$f":"'Country list'!J228","v":"lac"}]
[null,null,null,null,null,null,null,null,null,null,null,null,null,null,null,null,null,null,{"$f":"'Country list'!H229","v":"Uruguay"},{"$f":"'Country list'!I229","v":"Latin America and the Caribbean"},{"$f":"'Country list'!J229","v":"lac"}]
[null,null,null,null,null,null,null,null,null,null,null,null,null,null,null,null,null,null,{"$f":"'Country list'!H230","v":"Uzbekistan"},{"$f":"'Country list'!I230","v":"Near East and North Africa"},{"$f":"'Country list'!J230","v":"nena"}]
[null,null,null,null,null,null,null,null,null,null,null,null,null,null,null,null,null,null,{"$f":"'Country list'!H231","v":"Vanuatu"},{"$f":"'Country list'!I231","v":"Oceania"},{"$f":"'Country list'!J231","v":"oc"}]
[null,null,null,null,null,null,null,null,null,null,null,null,null,null,null,null,null,null,{"$f":"'Country list'!H232","v":"Venezuela"},{"$f":"'Country list'!I232","v":"Latin America and the Caribbean"},{"$f":"'Country list'!J232","v":"lac"}]
[null,null,null,null,null,null,null,null,null,null,null,null,null,null,null,null,null,null,{"$f":"'Country list'!H233","v":"Viet Nam"},{"$f":"'Country list'!I233","v":"East Asia and Southeast Asia"},{"$f":"'Country list'!J233","v":"esea"}]
[null,null,null,null,null,null,null,null,null,null,null,null,null,null,null,null,null,null,{"$f":"'Country list'!H234","v":"Wake Island"},{"$f":"'Country list'!I234","v":"Oceania"},{"$f":"'Country list'!J234","v":"oc"}]
[null,null,null,null,null,null,null,null,null,null,null,null,null,null,null,null,null,null,{"$f":"'Country list'!H235","v":"Wallis and Futuna"},{"$f":"'Country list'!I235","v":"Oceania"},{"$f":"'Country list'!J235","v":"oc"}]
[null,null,null,null,null,null,null,null,null,null,null,null,null,null,null,null,null,null,{"$f":"'Country list'!H236","v":"West Bank"},{"$f":"'Country list'!I236","v":"Near East and North Africa"},{"$f":"'Country list'!J236","v":"nena"}]
[null,null,null,null,null,null,null,null,null,null,null,null,null,null,null,null,null,null,{"$f":"'Country list'!H237","v":"Western Sahara"},{"$f":"'Country list'!I237","v":"Near East and North Africa"},{"$f":"'Country list'!J237","v":"nena"}]
[null,null,null,null,null,null,null,null,null,null,null,null,null,null,null,null,null,null,{"$f":"'Country list'!H238","v":"Yemen"},{"$f":"'Country list'!I238","v":"Near East and North Africa"},{"$f":"'Country list'!J238","v":"nena"}]
[null,null,null,null,null,null,null,null,null,null,null,null,null,null,null,null,null,null,{"$f":"'Country list'!H239","v":"Zambia"},{"$f":"'Country list'!I239","v":"Sub-Saharan Africa"},{"$f":"'Country list'!J239","v":"ssa"}]
[null,null,null,null,null,null,null,null,null,null,null,null,null,null,null,null,null,null,{"$f":"'Country list'!H240","v":"Zimbabwe"},{"$f":"'Country list'!I240","v":"Sub-Saharan Africa"},{"$f":"'Country list'!J240","v":"ssa"}]

{"sheet":"INPUTS","index":2,"n_rows":104,"n_cols":36,"rows_kept":104,"cut":false,"hidden":false,"merged":[]}
[]
[]
[null,null,null,null,null,null,null,null,null,null,null,null,null,null,null,null,null,null,null,null,"Misc","Power sources",null,"Units","Units","Activity",null,null,{"$f":"'Feed EFs'!F6","v":"Commercial"},{"$f":"'Feed EFs'!G6","v":"Non-commercial"},null,{"$f":"'Fert EFs'!Y5","v":"Synthetic fertilizers kgCO2e/kg fertilizer"},null,null,null,{"$f":"'Fert EFs'!AC5","v":"Organic fertilizers kgCO2e/kg fertilizer"}]
[null,null,null,null,null,null,null,null,null,null,null,null,null,null,null,null,null,null,null,null,"kgCO2e","Grid electricity",null,{"$f":"'Fuel EFs'!I4","v":"_tonnes"},"_tonne","Pumping water",null,null,{"$f":"'Feed EFs'!F7","v":"Blood meal"},{"$f":"'Feed EFs'!G7","v":"Cassava"},null,{"$f":"'Fert EFs'!Y6","v":"Urea"},null,null,null,{"$f":"'Fert EFs'!AC6","v":"Cattle manure-fresh"}]
[null,null,null,null,null,null,null,null,null,null,null,null,null,null,null,null,null,null,null,null,"kgCO2e/",null,null,{"$f":"'Fuel EFs'!I5","v":"_litres"},"_litre","Water heating",null,null,{"$f":"'Feed EFs'!F8","v":"Cassava"},{"$f":"'Feed EFs'!G8","v":"Groundnut meal"},null,{"$f":"'Fert EFs'!Y7","v":"Urea Ammonium Nitrate"},null,null,null,{"$f":"'Fert EFs'!AC7","v":"Cattle manure-dried"}]
[null,null,null,null,null,null,null,null,null,null,null,null,null,null,null,null,null,null,null,null,null,{"$f":"'Fuel EFs'!H4","v":"Compressed natural gas"},null,{"$f":"'Fuel EFs'!I6","v":"_cubic metres"},"m3","Space heating/cooling",null,null,{"$f":"'Feed EFs'!F9","v":"Feather meal"},{"$f":"'Feed EFs'!G9","v":"Maize"},null,{"$f":"'Fert EFs'!Y8","v":"Anhydrous Ammonia"},null,null,null,{"$f":"'Fert EFs'!AC8","v":"Buffalo manure-fresh"}]
[null,null,null,null,null,null,null,null,null,null,null,null,null,null,null,null,null,null,null,null,null,{"$f":"'Fuel EFs'!H5","v":"Liquefied natural gas"},null,{"$f":"'Fuel EFs'!I7","v":"_kWh"},"_kWh","Refrigeration",null,null,{"$f":"'Feed EFs'!F10","v":"Fishmeal - reduction"},{"$f":"'Feed EFs'!G10","v":"Maize DDGS"},null,{"$f":"'Fert EFs'!Y9","v":"Ammonium Nitrate"},null,null,null,{"$f":"'Fert EFs'!AC9","v":"Buffalo manure-dried"}]
[null,null,null,null,null,null,null,null,null,null,null,null,null,null,null,null,null,null,null,null,null,{"$f":"'Fuel EFs'!H6","v":"Liquid petroleum gas"},null,"_MJ","_MJ","Feed blending",null,null,{"$f":"'Feed EFs'!F11","v":"Fishoil - reduction"},{"$f":"'Feed EFs'!G11","v":"Maize gluten meal"},null,{"$f":"'Fert EFs'!Y10","v":"Calcium Ammonium Nitrate"},null,null,null,{"$f":"'Fert EFs'!AC10","v":"Pig manure-fresh"}]
[null,null,null,null,"Value","Units",null,null,null,null,null,null,null,null,null,null,null,null,null,null,null,{"$f":"'Fuel EFs'!H7","v":"Natural gas"},null,null,null,"Lighting",null,null,{"$f":"'Feed EFs'!F12","v":"Lime"},{"$f":"'Feed EFs'!G12","v":"Oilseed meal (non-soy)"},null,{"$f":"'Fert EFs'!Y11","v":"Dry Ammonium Sulphate"},null,null,null,{"$f":"'Fert EFs'!AC11","v":"Pig manure-dried"}]
[null,null,null,"Juvenile fish weight at input",50,"g per fingerling",null,null,null,null,null,null,null,null,null,null,null,null,null,null,null,{"$f":"'Fuel EFs'!H8","v":"Burning oil"},null,null,null,"Mobile machinery",null,null,{"$f":"'Feed EFs'!F13","v":"Maize"},{"$f":"'Feed EFs'!G13","v":"Oilseed oil (non-soy)"},null,{"$f":"'Fert EFs'!Y12","v":"Triple Super Phosphate"},null,null,null,{"$f":"'Fert EFs'!AC12","v":"Sheep manure - fresh"}]
[null,null,null,"Fish weight at harvest",1.2,"kg liveweight (LW) per fish",null,null,null,null,null,null,null,null,null,null,null,null,null,null,null,{"$f":"'Fuel EFs'!H9","v":"Diesel (average biofuel blend)"},null,null,null,"Electricity generation",null,null,{"$f":"'Feed EFs'!F14","v":"Maize DDGS"},{"$f":"'Feed EFs'!G14","v":"Pulses"},null,{"$f":"'Fert EFs'!Y13","v":"Single Super Phosphate"},null,null,null,{"$f":"'Fert EFs'!AC13","v":"Sheep manure - dried"}]
[null,null,null,"Length of the growing period",300,"days",null,null,null,null,null,null,null,null,null,null,null,null,null,null,null,{"$f":"'Fuel EFs'!H10","v":"Diesel (100% mineral diesel)"},null,null,null,"Other",null,null,{"$f":"'Feed EFs'!F15","v":"Maize gluten meal"},{"$f":"'Feed EFs'!G15","v":"Rice by-products"},null,{"$f":"'Fert EFs'!Y14","v":"Ground rock"},null,null,null,{"$f":"'Fert EFs'!AC14","v":"Goat manure - fresh"}]
[null,null,null,"% of fingerlings surviving to harvest",0.96,"per cent",null,null,null,null,null,null,null,null,null,null,null,null,null,null,null,{"$f":"'Fuel EFs'!H11","v":"Fuel oil"},null,null,null,"ALL",null,null,{"$f":"'Feed EFs'!F16","v":"Meat and bone meal"},{"$f":"'Feed EFs'!G16","v":"Soybean"},null,{"$f":"'Fert EFs'!Y15","v":"Potassium chloride"},null,null,null,{"$f":"'Fert EFs'!AC15","v":"Goat manure - dried"}]
[null,null,null,null,null,null,null,null,null,null,null,null,null,null,null,null,null,null,null,null,null,{"$f":"'Fuel EFs'!H12","v":"Gas oil"},null,null,null,null,null,null,{"$f":"'Feed EFs'!F17","v":"Oilseed meal (non-soy)"},{"$f":"'Feed EFs'!G17","v":"Soybean meal"},null,{"$f":"'Fert EFs'!Y16","v":"Potassium sulphate"},null,null,null,{"$f":"'Fert EFs'!AC16","v":"Duck manure-fresh"}]
[null,null,null,"Total fish production",10000,"kgLW per year",null,null,null,null,null,null,null,null,null,null,null,null,null,null,null,{"$f":"'Fuel EFs'!H13","v":"Petrol (average biofuel blend)"},null,null,null,null,null,null,{"$f":"'Feed EFs'!F18","v":"Oilseed oil (non-soy)"},{"$f":"'Feed EFs'!G18","v":"Wheat"},null,{"$f":"'Fert EFs'!Y17","v":"MAP"},null,null,null,{"$f":"'Fert EFs'!AC17","v":"Duck manure-dried"}]
[null,null,null,"Total feed consumption",14000,"kg feed per year (as fed, not dry matter)",null,null,null,null,null,null,null,null,null,null,null,null,null,null,null,{"$f":"'Fuel EFs'!H14","v":"Petrol (100% mineral petrol)"},null,null,null,null,null,null,{"$f":"'Feed EFs'!F19","v":"Poultry meal"},{"$f":"'Feed EFs'!G19","v":"Wheat by-products"},null,{"$f":"'Fert EFs'!Y18","v":"DAP"},null,null,null,{"$f":"'Fert EFs'!AC18","v":"Layer hen manure-fresh"}]
[null,null,null,null,null,null,null,null,null,null,null,null,null,null,null,null,null,null,null,null,null,{"$f":"'Fuel EFs'!H15","v":"Coal (domestic)"},null,null,null,null,null,null,{"$f":"'Feed EFs'!F20","v":"Pulses"},{"$f":"'Feed EFs'!G20","v":"Wheat flour"},null,{"$f":"'Fert EFs'!Y19","v":"NPK (based on AN)"},null,null,null,{"$f":"'Fert EFs'!AC19","v":"Layer hen manure-dried"}]
[null,null,null,"Implied feed conversion ratio",{"$f":"E16/E15","v":1.4},"kg feed in (as fed)/kg fish LW out",null,null,null,null,null,null,null,null,null,null,null,null,null,null,null,{"$f":"'Fuel EFs'!H16","v":"Bioethanol"},null,null,null,null,null,null,{"$f":"'Feed EFs'!F21","v":"Rice by-products"},null,null,{"$f":"'Fert EFs'!Y20","v":"NPK (based on Urea)"},null,null,null,{"$f":"'Fert EFs'!AC20","v":"Broiler litter"}]
[null,null,null,"Actual feed conversion ratio (if different from the implied FCR)",1.5,"kg feed in (as fed)/kg fish LW out",null,null,null,null,null,null,null,null,null,null,null,null,null,null,null,{"$f":"'Fuel EFs'!H17","v":"Biodiesel"},null,null,null,null,null,null,{"$f":"'Feed EFs'!F22","v":"Soy oil"},null,null,{"$f":"'Fert EFs'!Y21","v":"NK (nitric acid and MOP)"},null,null,null,{"$f":"'Fert EFs'!AC21","v":"Cattle slurry"}]
[null,null,null,"Regional default feed conversion ratio",{"$f":"'Feed EFs'!F46","v":1.1307604639644369},"kg feed in (as fed)/kg fish LW out",null,null,null,null,null,null,null,null,null,null,null,null,null,null,null,{"$f":"'Fuel EFs'!H18","v":"Biomethane"},null,null,null,null,null,null,{"$f":"'Feed EFs'!F23","v":"Soybean"},null,null,{"$f":"'Fert EFs'!Y22","v":"PK"},null,null,null,{"$f":"'Fert EFs'!AC22","v":"Pig slurry"}]
[null,null,null,null,null,null,null,null,null,null,null,null,null,null,null,null,null,null,null,null,null,{"$f":"'Fuel EFs'!H19","v":"Biodiesel (from used cooking oil)"},null,null,null,null,null,null,{"$f":"'Feed EFs'!F24","v":"Soybean meal"}]
[null,null,null,null,null,null,null,null,null,null,null,null,null,null,null,null,null,null,null,null,null,{"$f":"'Fuel EFs'!H20","v":"Biodiesel (from tallow)"},null,null,null,null,null,null,{"$f":"'Feed EFs'!F25","v":"Vitamin/mineral premix"}]
[null,null,null,null,null,null,null,null,null,null,null,null,null,null,null,null,null,null,null,null,null,{"$f":"'Fuel EFs'!H21","v":"Wood logs"},null,null,null,null,null,null,{"$f":"'Feed EFs'!F26","v":"Wheat"}]
[null,null,null,null,null,null,null,null,null,null,null,null,null,null,null,null,null,null,null,null,null,{"$f":"'Fuel EFs'!H22","v":"Wood chips"},null,null,null,null,null,null,{"$f":"'Feed EFs'!F27","v":"Wheat by-products"}]
[null,null,null,null,null,null,null,null,null,null,null,null,null,null,null,null,null,null,null,null,null,{"$f":"'Fuel EFs'!H23","v":"Wood pellets"},null,null,null,null,null,null,{"$f":"'Feed EFs'!F28","v":"Wheat flour"}]
[null,null,null,null,null,null,null,null,null,null,null,null,"Comparison of specified and default rations",null,null,null,null,null,null,null,null,{"$f":"'Fuel EFs'!H24","v":"Grass/straw"}]
[null,null,null,null,null,null,null,null,null,null,null,null,null,null,null,null,null,null,null,null,null,{"$f":"'Fuel EFs'!H25","v":"Biogas"}]
[null,null,null,null,null,null,null,null,null,null,null,null,null,"Default","Specified",null,null,"Default","Specified",null,null,{"$f":"'Fuel EFs'!H26","v":"Landfill gas"}]
[null,null,null,null,null,null,null,null,null,null,null,null,{"$f":"'Feed EFs'!B137","v":"Blood meal"},{"$f":"'Feed EFs'!C137","v":0},{"$f":"'Feed EFs'!D137","v":0},null,{"$f":"'Feed EFs'!B161","v":"Cassava"},{"$f":"'Feed EFs'!C161","v":0},{"$f":"'Feed EFs'!D161","v":6.900000000000002E-2}]
[null,null,null,null,null,null,null,null,null,null,null,null,{"$f":"'Feed EFs'!B138","v":"Cassava"},{"$f":"'Feed EFs'!C138","v":0},{"$f":"'Feed EFs'!D138","v":0},null,{"$f":"'Feed EFs'!B162","v":"Groundnut meal"},{"$f":"'Feed EFs'!C162","v":0},{"$f":"'Feed EFs'!D162","v":3.3000000000000008E-2}]
[null,null,null,null,null,null,null,null,null,null,null,null,{"$f":"'Feed EFs'!B139","v":"Feather meal"},{"$f":"'Feed EFs'!C139","v":0},{"$f":"'Feed EFs'!D139","v":0},null,{"$f":"'Feed EFs'!B163","v":"Maize"},{"$f":"'Feed EFs'!C163","v":0},{"$f":"'Feed EFs'!D163","v":1.2000000000000002E-2}]
[null,null,null,null,null,null,null,null,null,null,null,null,{"$f":"'Feed EFs'!B140","v":"Fishmeal - reduction"},{"$f":"'Feed EFs'!C140","v":0.17599999999999999},{"$f":"'Feed EFs'!D140","v":0.13999999999999999},null,{"$f":"'Feed EFs'!B164","v":"Maize DDGS"},{"$f":"'Feed EFs'!C164","v":0},{"$f":"'Feed EFs'!D164","v":3.0000000000000006E-2}]
[null,null,null,null,null,null,null,null,null,null,null,null,{"$f":"'Feed EFs'!B141","v":"Fishoil - reduction"},{"$f":"'Feed EFs'!C141","v":0.112},{"$f":"'Feed EFs'!D141","v":0},null,{"$f":"'Feed EFs'!B165","v":"Maize gluten meal"},{"$f":"'Feed EFs'!C165","v":0},{"$f":"'Feed EFs'!D165","v":0}]
[null,null,null,null,null,null,null,null,null,null,null,null,{"$f":"'Feed EFs'!B142","v":"Lime"},{"$f":"'Feed EFs'!C142","v":0},{"$f":"'Feed EFs'!D142","v":0},null,{"$f":"'Feed EFs'!B166","v":"Oilseed meal (non-soy)"},{"$f":"'Feed EFs'!C166","v":7.1999999999999995E-2},{"$f":"'Feed EFs'!D166","v":0}]
[null,null,null,null,null,null,null,null,null,null,null,null,{"$f":"'Feed EFs'!B143","v":"Maize"},{"$f":"'Feed EFs'!C143","v":0},{"$f":"'Feed EFs'!D143","v":0.105},null,{"$f":"'Feed EFs'!B167","v":"Oilseed oil (non-soy)"},{"$f":"'Feed EFs'!C167","v":0.192},{"$f":"'Feed EFs'!D167","v":0}]
[null,null,null,null,null,null,null,null,null,null,null,null,{"$f":"'Feed EFs'!B144","v":"Maize DDGS"},{"$f":"'Feed EFs'!C144","v":0},{"$f":"'Feed EFs'!D144","v":0},null,{"$f":"'Feed EFs'!B168","v":"Pulses"},{"$f":"'Feed EFs'!C168","v":0},{"$f":"'Feed EFs'!D168","v":0}]
[null,null,null,null,null,null,null,null,null,null,null,null,{"$f":"'Feed EFs'!B145","v":"Maize gluten meal"},{"$f":"'Feed EFs'!C145","v":0},{"$f":"'Feed EFs'!D145","v":0},null,{"$f":"'Feed EFs'!B169","v":"Rice by-products"},{"$f":"'Feed EFs'!C169","v":0},{"$f":"'Feed EFs'!D169","v":3.0000000000000006E-2}]
[null,null,null,null,null,null,null,null,null,null,null,null,{"$f":"'Feed EFs'!B146","v":"Meat and bone meal"},{"$f":"'Feed EFs'!C146","v":0},{"$f":"'Feed EFs'!D146","v":0},null,{"$f":"'Feed EFs'!B170","v":"Soybean"},{"$f":"'Feed EFs'!C170","v":0},{"$f":"'Feed EFs'!D170","v":1.5000000000000003E-2}]
[null,null,null,null,null,null,null,null,null,null,null,null,{"$f":"'Feed EFs'!B147","v":"Oilseed meal (non-soy)"},{"$f":"'Feed EFs'!C147","v":0},{"$f":"'Feed EFs'!D147","v":3.4999999999999996E-2},null,{"$f":"'Feed EFs'!B171","v":"Soybean meal"},{"$f":"'Feed EFs'!C171","v":0},{"$f":"'Feed EFs'!D171","v":3.0000000000000006E-2}]
[null,null,null,null,null,null,null,null,null,null,null,null,{"$f":"'Feed EFs'!B148","v":"Oilseed oil (non-soy)"},{"$f":"'Feed EFs'!C148","v":0},{"$f":"'Feed EFs'!D148","v":0.105},null,{"$f":"'Feed EFs'!B172","v":"Wheat"},{"$f":"'Feed EFs'!C172","v":0.106},{"$f":"'Feed EFs'!D172","v":2.1000000000000005E-2}]
[null,"1. Proportions of commercial and farm-made/semi-commercial feed",null,null,null,null,null,null,null,null,null,null,{"$f":"'Feed EFs'!B149","v":"Poultry meal"},{"$f":"'Feed EFs'!C149","v":0},{"$f":"'Feed EFs'!D149","v":0},null,{"$f":"'Feed EFs'!B173","v":"Wheat by-products"},{"$f":"'Feed EFs'!C173","v":6.6000000000000003E-2},{"$f":"'Feed EFs'!D173","v":0}]
[null,null,null,null,"% of total ration",null,null,null,null,null,null,null,{"$f":"'Feed EFs'!B150","v":"Pulses"},{"$f":"'Feed EFs'!C150","v":0},{"$f":"'Feed EFs'!D150","v":0},null,{"$f":"'Feed EFs'!B174","v":"Wheat flour"},{"$f":"'Feed EFs'!C174","v":0},{"$f":"'Feed EFs'!D174","v":0}]
[null,null,null,"Commercial",0.7,null,null,null,null,null,null,null,{"$f":"'Feed EFs'!B151","v":"Rice by-products"},{"$f":"'Feed EFs'!C151","v":0},{"$f":"'Feed EFs'!D151","v":6.9999999999999993E-2}]
[null,null,null,"Farm made/semi-commercial",{"$f":"1-E43","v":0.30000000000000004},null,null,null,null,null,null,null,{"$f":"'Feed EFs'!B152","v":"Soy oil"},{"$f":"'Feed EFs'!C152","v":0},{"$f":"'Feed EFs'!D152","v":2.7999999999999997E-2}]
[null,null,null,null,null,null,null,null,null,null,null,null,{"$f":"'Feed EFs'!B153","v":"Soybean"},{"$f":"'Feed EFs'!C153","v":0},{"$f":"'Feed EFs'!D153","v":0.13999999999999999}]
[null,"2. Commercial feed composition",null,null,null,"3. Farm made/semi-commercial feed composition",null,null,null,null,null,null,{"$f":"'Feed EFs'!B154","v":"Soybean meal"},{"$f":"'Feed EFs'!C154","v":0.254},{"$f":"'Feed EFs'!D154","v":1.3999999999999999E-2}]
[null,"Feed material","% in ration",null,null,"Feed material",null,"% in ration",null,null,null,null,{"$f":"'Feed EFs'!B155","v":"Vitamin/mineral premix"},{"$f":"'Feed EFs'!C155","v":2.1000000000000001E-2},{"$f":"'Feed EFs'!D155","v":0}]
[null,17,0.2,null,null,11,null,0.1,null,null,null,null,{"$f":"'Feed EFs'!B156","v":"Wheat"},{"$f":"'Feed EFs'!C156","v":0},{"$f":"'Feed EFs'!D156","v":0}]
[null,18,0.02,null,null,10,null,0.05,null,null,null,null,{"$f":"'Feed EFs'!B157","v":"Wheat by-products"},{"$f":"'Feed EFs'!C157","v":0},{"$f":"'Feed EFs'!D157","v":3.4999999999999996E-2}]
[null,21,0.05,null,null,1,null,0.23,null,null,null,null,{"$f":"'Feed EFs'!B158","v":"Wheat flour"},{"$f":"'Feed EFs'!C158","v":0},{"$f":"'Feed EFs'!D158","v":2.7999999999999997E-2}]
[null,22,0.04,null,null,3,null,0.04]
[null,4,0.2,null,null,12,null,7.0000000000000007E-2]
[null,11,0.05,null,null,2,null,0.11]
[null,15,0.1,null,null,8,null,0]
[null,12,0.15,null,null,9,null,0.1]
[null,7,0.15,null,null,8,null,0.2]
[null,16,0.04,null,null,4,null,0.1]
[null,"Commercial total",{"$f":"SUM(C48:C57)","v":1},null,null,null,"Non-commercial total",{"$f":"SUM(H48:H57)","v":0.99999999999999989}]
[null,null,{"$f":"IF(C58=0,\"\",IF(C58=1,\"\",\"Total should equal 0% or 100%\"))","v":""},null,null,null,null,{"$f":"IF(H58=0,\"\",IF(H58=1,\"\",\"Total should equal 0% or 100%\"))","v":""}]
[]
[]
[]
[]
[]
[]
[]
[]
[]
[]
[]
[null,null,"Activity","Annual consumption","Units",null,"Emission factor","Units","Total emissions"]
[null,null,1,20000,1,null,{"$f":"IF(E72=1,VLOOKUP(INDEX(START!S$6:S$242,START!H$27),'Electricity EFs'!D$19:K$255,7,FALSE),VLOOKUP(INDEX(START!S$6:S$242,START!H$27),'Electricity EFs'!D$19:K$255,8,FALSE))","v":0.53334000000000004},{"$f":"CONCATENATE(U$5,INDEX(X$7:X$8, E72))","v":"kgCO2e/_kWh"},{"$f":"D72*G72/1000","v":10.6668},"tonne CO2e/year"]
[null,null,3,1000,2,null,{"$f":"IF(E73=1,VLOOKUP(INDEX(START!S$6:S$242,START!H$27),'Electricity EFs'!D$19:K$255,7,FALSE),VLOOKUP(INDEX(START!S$6:S$242,START!H$27),'Electricity EFs'!D$19:K$255,8,FALSE))","v":0.14815000000011852},{"$f":"CONCATENATE(U$5,INDEX(X$7:X$8, E73))","v":"kgCO2e/_MJ"},{"$f":"D73*G73/1000","v":0.14815000000011852},"tonne CO2e/year"]
[null,null,7,2000,1,null,{"$f":"IF(E74=1,VLOOKUP(INDEX(START!S$6:S$242,START!H$27),'Electricity EFs'!D$19:K$255,7,FALSE),VLOOKUP(INDEX(START!S$6:S$242,START!H$27),'Electricity EFs'!D$19:K$255,8,FALSE))","v":0.53334000000000004},{"$f":"CONCATENATE(U$5,INDEX(X$7:X$8, E74))","v":"kgCO2e/_kWh"},1.0666800000000001,"tonne CO2e/year"]
[null,null,null,null,null,null,null,"Total grid electricity emissions",{"$f":"SUM(I72:I74)","v":11.881630000000118},"tonne CO2e/year"]
[]
[]
[null,null,"Activity","Annual fuel consumption","Units",null,"Emission factor","Units","Total emissions"]
[null,4,3,0.5,3,null,{"$f":"IFERROR(VLOOKUP(CONCATENATE(INDEX(V$6:V$28,B79),INDEX(X$4:X$8,E79)),'Fuel EFs'!C$4:F$39,4,FALSE),\"No unit*\")","v":2.3038425371943942},{"$f":"CONCATENATE(U$5,INDEX(Y$4:Y$8,E79))","v":"kgCO2e/m3"},{"$f":"G79*D79/1000","v":1.1519212685971972E-3},"tonne CO2e/year"]
[null,16,7,200,2,null,{"$f":"IFERROR(VLOOKUP(CONCATENATE(INDEX(V$6:V$28,B80),INDEX(X$4:X$8,E80)),'Fuel EFs'!C$4:F$39,4,FALSE),\"No unit*\")","v":0.49509999999999998},{"$f":"CONCATENATE(U$5,INDEX(Y$4:Y$8,E80))","v":"kgCO2e/_litre"},{"$f":"G80*D80/1000","v":9.9019999999999997E-2},"tonne CO2e/year"]
[null,12,3,1,1,null,{"$f":"IFERROR(VLOOKUP(CONCATENATE(INDEX(V$6:V$28,B81),INDEX(X$4:X$8,E81)),'Fuel EFs'!C$4:F$39,4,FALSE),\"No unit*\")","v":3279.002595657214},{"$f":"CONCATENATE(U$5,INDEX(Y$4:Y$8,E81))","v":"kgCO2e/_tonne"},3.279002595657214,"tonne CO2e/year"]
[null,18,2,2,1,null,{"$f":"IFERROR(VLOOKUP(CONCATENATE(INDEX(V$6:V$28,B82),INDEX(X$4:X$8,E82)),'Fuel EFs'!C$4:F$39,4,FALSE),\"No unit*\")","v":105.49377},{"$f":"CONCATENATE(U$5,INDEX(Y$4:Y$8,E82))","v":"kgCO2e/_tonne"},0.21098754,"tonne CO2e/year"]
[null,21,9,1,1,null,{"$f":"IFERROR(VLOOKUP(CONCATENATE(INDEX(V$6:V$28,B83),INDEX(X$4:X$8,E83)),'Fuel EFs'!C$4:F$39,4,FALSE),\"No unit*\")","v":161.90091000000001},{"$f":"CONCATENATE(U$5,INDEX(Y$4:Y$8,E83))","v":"kgCO2e/_tonne"},0.16190091000000001,"tonne CO2e/year"]
[null,"*If \"No unit\" message appears, select another unit.",null,null,null,null,null,"Total fuel emissions",{"$f":"SUM(I79:I83)","v":3.7520629669258114},"tonne CO2e/year"]
[]
[]
[]
[]
[]
[]
[]
[]
[]
[null,"Synthetic fertilizers","Annual use (tonnes)",null,null,null,"Emission factor ","Units","Total emissions"]
[null,1,2,null,null,null,{"$f":"VLOOKUP('Feed EFs'!E$302,'Fert EFs'!D$40:V$49,INPUTS!B95+2,FALSE)","v":1.5705000000000002},"kgCO2e/kg fertilizer",{"$f":"C95*G95","v":3.1410000000000005},"tonne CO2e/year"]
[null,4,0.5,null,null,null,{"$f":"VLOOKUP('Feed EFs'!E$302,'Fert EFs'!D$40:V$49,INPUTS!B96+2,FALSE)","v":2.7166000000000001},"kgCO2e/kg fertilizer",{"$f":"C96*G96","v":1.3583000000000001},"tonne CO2e/year"]
[null,8,0,null,null,null,{"$f":"VLOOKUP('Feed EFs'!E$302,'Fert EFs'!D$40:V$49,INPUTS!B97+2,FALSE)","v":2.6000000000000002E-2},"kgCO2e/kg fertilizer",0,"tonne CO2e/year"]
[null,"Organic fertilizers"]
[null,3,5,null,null,null,{"$f":"VLOOKUP('Feed EFs'!E$302,'Fert EFs'!Y$40:AP$49,INPUTS!B99+1,FALSE)","v":0},"kgCO2e/kg fertilizer",{"$f":"C99*G99","v":0},"tonne CO2e/year"]
[null,4,0,null,null,null,{"$f":"VLOOKUP('Feed EFs'!E$302,'Fert EFs'!Y$40:AP$49,INPUTS!B100+1,FALSE)","v":0},"kgCO2e/kg fertilizer",{"$f":"C100*G100","v":0},"tonne CO2e/year"]
[null,10,0,null,null,null,{"$f":"VLOOKUP('Feed EFs'!E$302,'Fert EFs'!Y$40:AP$49,INPUTS!B101+1,FALSE)","v":0},"kgCO2e/kg fertilizer",0,"tonne CO2e/year"]
[null,"Lime"]
[null,{"$f":"'Fert EFs'!D55","v":"Agricultural lime (CaCO3)"},0.6,null,null,null,{"$f":"'Fert EFs'!E55","v":7.3999999999999996E-2},{"$f":"'Fert EFs'!F55","v":"kgCO2e/kg CaCO3"},{"$f":"C103*G103","v":4.4399999999999995E-2},"tonne CO2e/year"]
[null,null,null,null,null,null,null,"Total emissions",{"$f":"SUM(I95:I103)","v":4.5437000000000012},"tonne CO2e/year"]

{"sheet":"RESULTS","index":3,"n_rows":100,"n_cols":24,"rows_kept":100,"cut":false,"hidden":false,"merged":[]}
[]
[]
[]
[]
[]
[]
[]
[null,null,"Fish output",{"$f":"INPUTS!$E$15","v":10000},"kgLW/year"]
[null,null,"Liveweight gain (LWG) inc. mortalities",{"$f":"D8/INPUTS!$E$13","v":10416.666666666668},"kgLW/year"]
[null,null,"Juvenile fish input",{"$f":"D9/INPUTS!$E$11*INPUTS!$E$10/1000","v":434.02777777777783},"kgLW/year"]
[null,null,"Total LWG on-farm",{"$f":"D9-D10","v":9982.6388888888905},"kgLW/year"]
[null,null,"LWG on-farm excluding mortalities",{"$f":"D8-D10","v":9565.9722222222226},"kgLW/year"]
[]
[null,null,"Feed conversion ratio",{"$f":"IF(INPUTS!$E$19>0,INPUTS!$E$19,IFERROR(INPUTS!$E$18,INPUTS!$E$20))","v":1.5},"kg feed in (as fed)/kg LW out"]
[null,null,"Feed dry matter content",0.9]
[null,null,"Feed conversion ratio",{"$f":"D14*D15","v":1.35},"kg feed in (dry matter)/kg LW out"]
[null,null,"Feed input",{"$f":"D8*D14","v":15000},"kg (as fed)/year"]
[null,null,"Feed input",{"$f":"D8*D16","v":13500},"kg (dry matter)/year"]
[]
[]
[]
[]
[null,null,"Feed production","Specified ration","Default ration and FCR"]
[null,null,"Feed: fertilizer production",{"$f":"D$18*'Feed EFs'!F89","v":1758.1559290953835},{"$f":"'Feed EFs'!F$46*RESULTS!D$15*D$8*'Feed EFs'!C89","v":1903.8734957458869},"kgCO2e"]
[null,null,"Feed: crop N2O",{"$f":"D$18*'Feed EFs'!F90","v":2794.3975901004105},{"$f":"'Feed EFs'!F$46*RESULTS!D$15*D$8*'Feed EFs'!C90","v":3093.4584522929945},"kgCO2e"]
[null,null,"Feed: crop energy use",{"$f":"D$18*'Feed EFs'!F91","v":3511.4753480042637},{"$f":"'Feed EFs'!F$46*RESULTS!D$15*D$8*'Feed EFs'!C91","v":2499.1772462828872},"kgCO2e"]
[null,null,"Feed: crop LUC",{"$f":"D$18*'Feed EFs'!F92","v":5328.0779283854527},{"$f":"'Feed EFs'!F$46*RESULTS!D$15*D$8*'Feed EFs'!C92","v":4659.124735262486},"kgCO2e"]
[null,null,"Feed: rice CH4",{"$f":"D$18*'Feed EFs'!F93","v":430.87044142444012},{"$f":"'Feed EFs'!F$46*RESULTS!D$15*D$8*'Feed EFs'!C93","v":0},"kgCO2e"]
[null,null,"Feed: fishmeal",{"$f":"D$18*'Feed EFs'!F94","v":2457},{"$f":"'Feed EFs'!F$46*RESULTS!D$15*D$8*'Feed EFs'!C94","v":4710.6576320387258},"kgCO2e"]
[null,null,"Feed: animal by-products",{"$f":"D$18*'Feed EFs'!F95","v":0},{"$f":"'Feed EFs'!F$46*RESULTS!D$15*D$8*'Feed EFs'!C95","v":0},"kgCO2e"]
[null,null,"Feed: blending & transport",{"$f":"D$18*'Feed EFs'!F96","v":997.43400000000008},{"$f":"'Feed EFs'!F$46*RESULTS!D$15*D$8*'Feed EFs'!C96","v":799.10005225623422},"kgCO2e"]
[null,null,"Feed: other",{"$f":"D$18*'Feed EFs'!F97","v":612.52200000000016},{"$f":"'Feed EFs'!F$46*RESULTS!D$15*D$8*'Feed EFs'!C97","v":769.36941968140275},"kgCO2e"]
[null,null,"Feed: TOTAL",{"$f":"SUM(D24:D32)","v":17889.933237009951},{"$f":"SUM(E24:E32)","v":18434.761033560619},"kgCO2e"]
[null,null,"Juvenile fish production",{"$f":"D10*'Fingerling EF'!F23","v":1202.4826667333775},{"$f":"D10*'Fingerling EF'!G23","v":1363.3668659394427},"kgCO2e"]
[null,null,"Pond fertilizer production",{"$f":"INPUTS!I104*1000","v":4543.7000000000007},{"$f":"IF('Feed EFs'!N302<0,0,INPUTS!I104*1000)","v":4543.7000000000007},"kgCO2e"]
[null,null,"Grid electricity",{"$f":"INPUTS!I75*1000","v":11881.630000000119},{"$f":"IF('Feed EFs'!N302<0,0,INPUTS!I75*1000)","v":11881.630000000119},"kgCO2e"]
[null,null,"On-farm fuel use",{"$f":"INPUTS!I84*1000","v":3752.0629669258115},{"$f":"IF('Feed EFs'!N302<0,0,INPUTS!I84*1000)","v":3752.0629669258115},"kgCO2e"]
[null,null,"Pond N2O",0,0,"kgCO2e","Not included in current version"]
[null,null,"Refrigerant leakage",0,0,"kgCO2e","Not included in current version"]
[null,null,"TOTAL",{"$f":"SUM(D33:D39)","v":39269.808870669258},{"$f":"IF('Feed EFs'!N302<0,\"No default ration\",SUM(E33:E39))","v":39975.520866425992},"kgCO2e"]
[]
[null,null,null,null,null,null,null,null,null,null,null,null,null,{"$f":"IF('Feed EFs'!N302<0,\"No default ration for specified location/commodity combination\",\"\")","v":""}]
[]
[]
[null,null,null,null,null,null,null,null,null,null,null,null,null,null,null,null,null,null,null,null,null,"_","_(",")"]
[]
[null,null,"Commodity","System","Location","EI","Units","Source",null,null,null,null,null,null,null,null,null,null,null,null,null,null,"Commodity/system/location/source",{"$f":"G48","v":"kgCO2e/kgLW at the farm gate"}]
[null,null,{"$f":"'Feed EFs'!E301","v":"Salmonids"},{"$f":"'Feed EFs'!E300","v":"Cages"},{"$f":"'Feed EFs'!E299","v":"U.K. of Great Britain and Northern Ireland"},{"$f":"D40/D8","v":3.9269808870669256},"kgCO2e/kgLW at the farm gate","FISH-e",null,null,null,null,null,null,null,null,null,null,null,null,null,null,{"$f":"CONCATENATE(C48,V$45,D48,V$45,E48,W45,H48,X45)","v":"Salmonids_Cages_U.K. of Great Britain and Northern Ireland_(FISH-e)"},{"$f":"F48","v":3.9269808870669256}]
[null,null,{"$f":"'Feed EFs'!E301","v":"Salmonids"},{"$f":"'Feed EFs'!E300","v":"Cages"},{"$f":"'Feed EFs'!E299","v":"U.K. of Great Britain and Northern Ireland"},{"$f":"D40/(D8*VLOOKUP('Feed EFs'!E301,Processing!C19:D26,2,FALSE))","v":5.9499710410104933},"kgCO2e/kgCW at the farm gate","FISH-e",null,null,null,null,null,null,null,null,null,null,null,null,null,null,{"$f":"CONCATENATE(C58,V$45,D58,V$45,E58,W$45,H58,X$45)","v":"Tilapia_Lake_Indonesia_(2)"},{"$f":"F58","v":1.52}]
[null,null,{"$f":"'Feed EFs'!E301","v":"Salmonids"},{"$f":"'Feed EFs'!E300","v":"Cages"},{"$f":"'Feed EFs'!E299","v":"U.K. of Great Britain and Northern Ireland"},null,"kgCO2e/kg protein at farm gate","FISH-e",null,null,null,null,null,null,null,null,null,null,null,null,null,null,"Tilapia_Pond_Indonesia_(2)",2.1]
[null,null,null,null,null,null,null,null,null,null,null,null,null,null,null,null,null,null,null,null,null,null,"Striped catfish_Pond_Viet Nam_(1)",1.37]
[null,null,"Comparison with other seafood studies",null,null,null,null,null,null,null,null,null,null,null,null,null,null,null,null,null,null,null,"Striped catfish_Pond_Viet Nam_(4)",8.93]
[null,null,"Commodity","System","Country","EI","Units, kgCO2e per kg of:","Source",null,null,null,null,null,null,null,null,null,null,null,null,null,null,"Striped catfish*_Pond_Viet Nam_(4)",2.85]
[null,null,"Striped catfish","Pond - small","Viet Nam",8.02,"Frozen fillet at import to EU",3,null,null,null,null,null,null,null,null,null,null,null,null,null,null,"Tilapia_Pond_Bangladesh_(1)",1.58]
[null,null,"Striped catfish","Pond - medium","Viet Nam",7.88,"Frozen fillet at import to EU",3,null,null,null,null,null,null,null,null,null,null,null,null,null,null,"Atlantic salmon_Cage_Norway_(5)",1.79]
[null,null,"Striped catfish","Pond - large","Viet Nam",6.88,"Frozen fillet at import to EU",3,null,null,null,null,null,null,null,null,null,null,null,null,null,null,"Atlantic salmon_Cage_UK_(5)",3.27]
[null,null,"Tilapia","Pond","Thailand",10.35,"Frozen fillet at import to EU",3,null,null,null,null,null,null,null,null,null,null,null,null,null,null,"Atlantic salmon_Cage_Canada_(5)",2.37]
[null,null,"Tilapia","Lake","Indonesia",1.52,"LW at farm gate",2,null,null,null,null,null,null,null,null,null,null,null,null,null,null,"Atlantic salmon_Cage_Chile_(5)",2.2999999999999998]
[null,null,"Tilapia","Pond","Indonesia",2.1,"LW at farm gate",2,null,null,null,null,null,null,null,null,null,null,null,null,null,null,"Indian major carps_Pond_India_(1)",1.84]
[null,null,"Striped catfish","Pond","Viet Nam",1.37,"LW at farm gate ",1]
[null,null,"Striped catfish","Pond","Viet Nam",8.93,"LW at farm gate ",4]
[null,null,"Striped catfish*","Pond","Viet Nam",2.85,"LW at farm gate ",4]
[null,null,"Tilapia","Pond","Bangladesh",1.58,"LW at farm gate ",1]
[null,null,"Atlantic salmon","Cage","Norway",1.79,"LW at farm gate  ",5]
[null,null,"Atlantic salmon","Cage","UK",3.27,"LW at farm gate  ",5]
[null,null,"Atlantic salmon","Cage","Canada",2.37,"LW at farm gate  ",5]
[null,null,"Atlantic salmon","Cage","Chile",2.2999999999999998,"LW at farm gate  ",5]
[null,null,"Indian major carps","Pond","India",1.84,"LW at farm gate  ",1]
[null,null,"*low EI ration"]
[]
[null,null,"Comparison with livestock commodities"]
[null,null,"Commodity","System","Country","EI","Units*","Source"]
[null,null,"Dairy cattle: milk","All","Global average",2.8,"kgCO2e/MILK",6]
[null,null,"Dairy cattle: meat","All","Global average",18.399999999999999,"kgCO2e/CW",6]
[null,null,"Specialized beef cattle: meat","All","Global average",67.8,"kgCO2e/CW",6]
[null,null,"Buffalo: milk","All","Global average",3.4,"kgCO2e/MILK",6]
[null,null,"Buffalo: meat","All","Global average",53.4,"kgCO2e/CW",6]
[null,null,"Small ruminants: milk","All","Global average",6.5,"kgCO2e/MILK",6]
[null,null,"Small ruminants: meat","All","Global average",23.8,"kgCO2e/CW",6]
[null,null,"Pigs: meat","Backyard","Global average",5.6,"kgCO2e/CW",7]
[null,null,"Pigs: meat","Intermediate","Global average",6.5,"kgCO2e/CW",7]
[null,null,"Pigs: meat","Industrial","Global average",6.1,"kgCO2e/CW",7]
[null,null,"Chickens: eggs","Backyard","Global average",4.2,"kgCO2e/EGGS",8]
[null,null,"Chickens: meat","Backyard","Global average",6.6,"kgCO2e/CW",8]
[null,null,"Layers: eggs","Industrial","Global average",3.7,"kgCO2e/EGGS",8]
[null,null,"Layers: meat","Industrial","Global average",6.9,"kgCO2e/CW",8]
[null,null,"Broilers: meat","Industrial","Global average",5.3,"kgCO2e/CW",8]
[null,null,"*At delivery to point of retail. CW = carcass weight; milk Ei corrected for fat and protein content"]
[]
[]
[]
[null,null,null,null,null,null,null,"Source"]
[null,null,null,null,null,null,null,1,"Robb et al. (2017)"]
[null,null,null,null,null,null,null,2,"Pelletier and Tyedmers (2010)"]
[null,null,null,null,null,null,null,3,"Henriksson et al. (2014a)"]
[null,null,null,null,null,null,null,4,"Bosma et al. (2009) "]
[null,null,null,null,null,null,null,5,"Pelletier et al. (2009)"]
[null,null,null,null,null,null,null,6,"Opio et al. (2013)"]
[null,null,null,null,null,null,null,7,"MacLeod et al. (2013)"]
[null,null,null,null,null,null,null,8,"MacLeod et al. (2013), Gerber et al. (2013)"]

{"sheet":"Reference material","index":4,"n_rows":70,"n_cols":4,"rows_kept":70,"cut":false,"hidden":false,"merged":[]}
[]
[]
[null,null,"GLOSSARY"]
[null,null,"Term","Definition"]
[null,null,"Animal by-products","Products of slaughter not included in the carcass weight, e.g. offal, trimmings etc."]
[null,null,"Carcass weight","Weight of an eviscerated carcass, including bones"]
[null,null,"CO2e","Carbon dioxide equivalent, i.e. the global warming potential of non-CO2 greenhouse gases, expressed in terms of CO2"]
[null,null,"Cradle to gate","Processes occurring pre- and on-farm"]
[null,null,"Crop by-products","By-products from the processing of grains and oilseeds, e.g. rapeseed meal, wheat bran."]
[null,null,"Crop residues","Stubble, straws and stovers."]
[null,null,"Digestible energy/digestibility","Feed gross energy minus undigested energy excreted in faeces."]
[null,null,"Dry matter","Mass of a feed material (e.g. wheat) not including its moisture content."]
[null,null,"Edible protein","Mass of protein produced by livestock intended for human consumption, i.e. the protein content of meat."]
[null,null,"Emission factor","The amount of emissions produced per unit of good or service, e.g. kg of CO2e per MJ of electricity."]
[null,null,"Emission intensity (EI) ","The amount of emissions produced per unit of commodity output, e.g. kg of CO2e per kg of liveweight"]
[null,null,"Feed conversion ratio","A measure of the efficiency with which livestock convert feed into outputs, e.g. kg feed in/kg of live weight gain."]
[null,null,"F-gases","Fluorinated gases (such as HFCs) used (amongst other things) as refrigerants in cooling systems. "]
[null,null,"Fieldwork","Ploughing, manure spreading, crop harvesting etc."]
[null,null,"Gross energy","Total chemical energy in feed measured from complete combustion in a bomb calorimeter "]
[null,null,"Land use change (LUC)","Conversion of land from one class to another, e.g. from grassland to cropland."]
[null,null,"Life cycle analysis","Analytical approach that measures the environmental impact of a good or service over its full life cycle, including: production of inputs, manufacturing, distribution, consumption, end of life disposal."]
[null,null,"Manure N","The total nitrogen content of manure."]
[null,null,"Methane","Greenhouse gas produced from the anaerobic decomposition of organic compounds."]
[null,null,"Methane conversion factor","The rate at which organic compounds are converted to methane."]
[null,null,"N excretion","Excretion of nitrogenous wastes by livestock."]
[null,null,"Nitrous oxide","Greenhouse gas produced by the microbial transformation of nitrogenous compounds in soils, manure storage or ponds."]
[null,null,"Nutrient use efficiency","A measure of the proportion of a nutrient that is taken up by a plant or animal, e.g. the % of applied fertiliser nitrogen that is taken up by a wheat crop. "]
[null,null,"On-farm","Processes occurring on the fish farm"]
[null,null,"Organic N","Nitrogen content of organic compounds such as: manures, composts and feed. "]
[null,null,"Post-farm","Processes occurring after the fish farm"]
[null,null,"Pre-farm","Processes occurring before the fish farm"]
[null,null,"Synthetic N","Manufactured nitrogenous fertiliser, e.g. ammonium nitrate and urea."]
[null,null,"Volatile solids","Undigested organic matter excreted by fish."]
[]
[]
[null,null,"ABBREVIATIONS"]
[null,null,"AFFRIS","FAO's Aquaculture Feed and Fertilizer Resources Information System  "]
[null,null,"CH4","Methane"]
[null,null,"CO2","Carbon dioxide"]
[null,null,"CP","Crude protein"]
[null,null,"CW","Carcass weight"]
[null,null,"DDGS","Distiller's dried grains with solubles"]
[null,null,"DE","Digestible energy"]
[null,null,"EF","Emission factor"]
[null,null,"EI","Emission Intensity"]
[null,null,"FAO","Food and Agriculture Organization of the United Nations"]
[null,null,"FAOstat","Food and Agriculture Organization of the United Nations Statistics"]
[null,null,"FCR","Feed conversion ratio"]
[null,null,"GE","Gross energy"]
[null,null,"GLEAM","Global Livestock Environmental Assessment Model"]
[null,null,"IPCC","Intergovernmental Panel on Climate Change"]
[null,null,"kgCO2e/kg CW","kg of CO2 equivalent emitted per kg of carcass weight"]
[null,null,"kgCO2e/kg LW","kg of CO2 equivalent emitted per kg of live weight"]
[null,null,"kgCO2e/kg protein","kg of CO2 equivalent emitted per kg of edible protein"]
[null,null,"LCA","Life cycle analysis"]
[null,null,"LUC","Land use change"]
[null,null,"LW","Live weight"]
[null,null,"MCF","Methane conversion factor"]
[null,null,"N2O","Nitrous oxide"]
[null,null,"NUE","Nutrient use efficiency"]
[]
[null,null,"REFERENCES"]
[null,null,"Bosma, R.H., Hanh, C.T.T., &and Potting, J. (2009.)  Environmental impact assessment of the Pangasius sector in the Mekong Delta.  Wageningen University. pp58.  Sourced September "]
[null,null,"Gerber, P.J., Steinfeld, H., Henderson, B., Mottet, A., Opio, C., Dijkman, J., Falcucci, A. & Tempio, G. 2013. Tackling climate change through livestock – A global assessment of emissions and mitigation opportunities. Food and Agriculture Organization of the United Nations (FAO), Rome."]
[null,null,"Henriksson P.J.G., Zhang W., Nahid S.A.A., Newton R., Phan L.T., Dao H.M., Zhang Z., Jaithiang J., Andong R., Chaimanuskul K., Vo N.S., Hua H.V., Haque M.M., Das R., Kruijssen F., Satapornvanit K., Nguyen P.T., Liu Q., Liu L., Wahab M.A., Murray F.J., Little D.C. &and Guinée J.B. (2014a.)  SEAT Deliverable Ref: D 3.5 (2014) Final LCA case study report. Results of LCA studies of Asian Aquaculture Systems for Tilapia, Catfish, Shrimp, and Freshwater prawn"]
[null,null,"MacLeod M, Gerber P, Vellinga T, Opio C, Falcucci A, Tempio G, Henderson B, Mottet A. and Steinfeld H 2013. Greenhouse Gas Emissions from Pig and Chicken Supply Chains: A Global Life Cycle Assessment Food and Agriculture Organization of the United Nations (FAO), Rome."]
[null,null,"Opio C, Gerber P, Vellinga T, MacLeod M., Falcucci A, Henderson B, Mottet A, Tempio G and Steinfeld H 2013. Greenhouse Gas Emissions from Ruminant Supply Chains:  A Global Life Cycle Assessment Food and Agriculture Organization of the United Nations (FAO), Rome."]
[null,null,"Pelletier, N. &, Tyedmers, P.H (2010.)  A life cycle assessment of frozen Indonesian tilapia fillets from lake and pond-based production systems. Journal of Industrial Ecology, 14:467–481."]
[null,null,"Pelletier, N., Tyedmers, P., Sonesson, U., Scholz, A., Ziegler, F., Flysjo, A., Kruse, S., Cancino, B., &and Silverman, H.  (2009.)  Not all salmon are created equal:  Life Cycle Assessment (LCA) of global salmon farming systems.  Environmental Science and Technology, 43:, 8730-8736."]
[null,null,"Robb, D.H.F, Michael MacLeod, Mohammad R. Hasan, Doris Soto, Mamun Rashid, Rajendran Suresh and La Van Chung (2017) Greenhouse gas emissions from aquaculture:  a life cycle assessment of three Asian systems Rome: UN FAO"]

{"sheet":"Feed EFs","index":5,"n_rows":872,"n_cols":77,"rows_kept":872,"cut":false,"hidden":true,"merged":[]}
[null,null,null,null,null,null,null,null,null,null,null,null,"GLEAM feed no.",3,6,7,8,9,12,14,20,31,33,34,37,39,41]
[null,null,null,null,null,null,null,null,null,null,"Values in blue copied from: 2016 04 19 SOFA aqua GHG model - final.xl\\Feed calcs comm. (30/1/17)",null,null,"pulses","wheat-S","wheat-N","maize-S","maize-N","rice","soybean","mloilsds","cpulses","cwheat","cmaize","rice","csoybean","cmloilsds"]
[null,"Specified ration",null,null,null,null,null,null,null,null,"EI (kgCO2e/kgDM)","VALUE","REG_ANNEX5",{"$f":"'[8]Fertiliser production CO2'!C3","v":"feed 3"},{"$f":"'[8]Fertiliser production CO2'!D3","v":"feed 6 "},{"$f":"'[8]Fertiliser production CO2'!E3","v":"feed 7"},{"$f":"'[8]Fertiliser production CO2'!F3","v":"feed 8"},{"$f":"'[8]Fertiliser production CO2'!G3","v":"feed 9"},{"$f":"'[8]Fertiliser production CO2'!H3","v":"feed 12"},{"$f":"'[8]Fertiliser production CO2'!I3","v":"feed 14"},{"$f":"'[8]Fertiliser production CO2'!J3","v":"feed 20"},{"$f":"'[8]Fertiliser production CO2'!K3","v":"feed 31"},{"$f":"'[8]Fertiliser production CO2'!L3","v":"feed 33"},{"$f":"'[8]Fertiliser production CO2'!M3","v":"feed 34"},{"$f":"'[8]Fertiliser production CO2'!N3","v":"feed 37"},{"$f":"'[8]Fertiliser production CO2'!O3","v":"feed 39"},{"$f":"'[8]Fertiliser production CO2'!P3","v":"feed 41"}]
[null,null,null,null,null,null,null,null,null,null,"Manure applied to soils N2O",1,"North America",1.6078725006069002E-2,1.2149098700329999E-2,1.4024297059224798E-2,4.9559811159123994E-3,7.2971484332910001E-3,3.8034637364121999E-3,2.3178774339609999E-2,1.7962757840004999E-2,2.77669880451956E-2,1.39269573846712E-2,7.1270248918058002E-3,4.1891838645798001E-3,2.6083838965871398E-2,1.7068405199082599E-2,null,null,null,null,null,null,null,null,null,null,null,null,null,null,null,null,null,null,null,null,null,null,null,null,null,null,null,null,null,null,null,null,null,null,null,null,null,null,null,null,null,null,null,null,null,null,null,"FAO country","FAO region"]
[null,null,null,null,null,null,null,null,null,null,"Manure applied to soils N2O",2,"Russian Federation",1.02681566859188E-2,8.5602772560515999E-3,9.9196095979996006E-3,5.2285743768297997E-3,7.9352714856218004E-3,1.98346702381874E-3,2.1350819661154402E-2,1.2330083474813999E-2,1.7288946175541001E-2,8.1943002660510005E-3,6.1749603301007993E-3,2.1836406813229401E-3,1.6324689626345399E-2,9.6018351905435995E-3,null,null,null,null,null,null,null,null,null,null,null,null,null,null,null,null,null,null,null,null,null,null,null,null,null,null,null,null,null,null,null,null,null,null,null,null,null,null,null,null,null,null,null,null,null,null,null,{"$f":"'Country list'!H4","v":"Afghanistan"},{"$f":"'Country list'!I4","v":"South Asia"},{"$f":"'Country list'!J4","v":"sa"}]
["Category","Name","%",null,null,"Commercial","Non-commercial",null,null,null,"Manure applied to soils N2O",3,"Western Europe",4.3712609418525998E-2,2.4543316409103601E-2,2.8169022247314001E-2,1.44860553045882E-2,2.1338337130160201E-2,7.1593153370481995E-3,4.7521782660638001E-2,3.8709679502174001E-2,6.9418392696999995E-2,2.8363133518723202E-2,2.26738140045076E-2,8.226981535700801E-3,0.10492950439210801,3.3171652947229999E-2,null,null,null,null,null,null,null,null,null,null,null,null,null,null,null,null,null,null,null,null,null,null,null,null,null,null,null,null,null,null,null,null,null,null,null,null,null,null,null,null,null,null,null,null,null,null,null,{"$f":"'Country list'!H5","v":"Albania"},{"$f":"'Country list'!I5","v":"Western Europe"},{"$f":"'Country list'!J5","v":"we"}]
["Commercial",{"$f":"INDEX(F$7:F$28,B36)","v":"Soybean"},{"$f":"C36","v":0.2},"c_",{"$f":"CONCATENATE(D7,B7)","v":"c_Soybean"},"Blood meal","Cassava",null,null,null,"Manure applied to soils N2O",4,"Eastern Europe",2.5555041051125001E-2,1.5525802220517198E-2,1.7898325473644002E-2,9.7104800443111993E-3,1.4553098226313399E-2,4.3248988658948001E-3,3.6461657407880002E-2,1.9852931116487199E-2,4.9272281466902004E-2,2.26418455422456E-2,1.52940319530778E-2,4.9370947017598E-3,3.6106147032155998E-2,2.1579457912595402E-2,null,null,null,null,null,null,null,null,null,null,null,null,null,null,null,null,null,null,null,null,null,null,null,null,null,null,null,null,null,null,null,null,null,null,null,null,null,null,null,null,null,null,null,null,null,null,null,{"$f":"'Country list'!H6","v":"Algeria"},{"$f":"'Country list'!I6","v":"Near East and North Africa"},{"$f":"'Country list'!J6","v":"nena"}]
["Commercial",{"$f":"INDEX(F$7:F$28,B37)","v":"Soybean meal"},{"$f":"C37","v":0.02},"c_",{"$f":"CONCATENATE(D8,B8)","v":"c_Soybean meal"},"Cassava","Groundnut meal",null,null,null,"Manure applied to soils N2O",5,"West Asia & Northern Africa",3.5320649563746004E-2,2.6841331506149202E-2,3.1369886215602001E-2,6.2899743752376008E-3,9.5814223386793997E-3,2.7793446479322205E-3,3.9508669899215997E-2,4.7682713426185998E-2,6.1290662677620004E-2,2.6961234922067E-2,8.7310490998743998E-3,2.9731770300724797E-3,2.1811057973550201E-2,4.3757795443413995E-2,null,null,null,null,null,null,null,null,null,null,null,null,null,null,null,null,null,null,null,null,null,null,null,null,null,null,null,null,null,null,null,null,null,null,null,null,null,null,null,null,null,null,null,null,null,null,null,{"$f":"'Country list'!H7","v":"American Samoa"},{"$f":"'Country list'!I7","v":"Oceania"},{"$f":"'Country list'!J7","v":"oc"}]
["Commercial","Wheat by-products",0.05,"c_","c_Wheat by-products","Feather meal","Maize",null,null,null,"Manure applied to soils N2O",6,"East Asia",7.2740367788457994E-2,2.4876957962984E-2,2.85862297605496E-2,2.3094792079052597E-2,3.4509415141768002E-2,1.0260318515052399E-2,0.105108964897188,4.3845127627671995E-2,0.139506917563362,2.9879645037049998E-2,3.5927495278811998E-2,1.18702180989286E-2,6.966846395520801E-2,4.3083096970882001E-2,null,null,null,null,null,null,null,null,null,null,null,null,null,null,null,null,null,null,null,null,null,null,null,null,null,null,null,null,null,null,null,null,null,null,null,null,null,null,null,null,null,null,null,null,null,null,null,{"$f":"'Country list'!H8","v":"Andorra"},{"$f":"'Country list'!I8","v":"Western Europe"},{"$f":"'Country list'!J8","v":"we"}]
["Commercial","Wheat flour",0.04,"c_","c_Wheat flour","Fishmeal - reduction","Maize DDGS",null,null,null,"Manure applied to soils N2O",7,"Oceania",6.5747888947850005E-4,4.5804727665167997E-4,5.3320671645319998E-4,3.1596535382156002E-4,4.7250134343804001E-4,5.3132802520429998E-5,0.11317888542543,8.2390057559560007E-4,1.2368323286850199E-3,5.3045607273727996E-4,4.7616098595287999E-4,5.9747228959776E-5,7.7784834047708005E-4,7.9588799098814008E-4,null,null,null,null,null,null,null,null,null,null,null,null,null,null,null,null,null,null,null,null,null,null,null,null,null,null,null,null,null,null,null,null,null,null,null,null,null,null,null,null,null,null,null,null,null,null,null,{"$f":"'Country list'!H9","v":"Angola"},{"$f":"'Country list'!I9","v":"Sub-Saharan Africa"},{"$f":"'Country list'!J9","v":"ssa"}]
["Commercial","Fishmeal - reduction",0.2,"c_","c_Fishmeal - reduction","Fishoil - reduction","Maize gluten meal",null,null,null,"Manure applied to soils N2O",8,"South Asia",0.12812794029014998,4.0305817295888002E-2,4.6560096554605995E-2,4.6968462003991997E-2,7.3385608615310002E-2,1.90051467507154E-2,0.145462054060918,0.130480276187804,0.27442518994222997,4.8681866639521995E-2,7.0874848432194007E-2,2.06813466356978E-2,0.17379979754325001,0.11745337932371801,null,null,null,null,null,null,null,null,null,null,null,null,null,null,null,null,null,null,null,null,null,null,null,null,null,null,null,null,null,null,null,null,null,null,null,null,null,null,null,null,null,null,null,null,null,null,null,{"$f":"'Country list'!H10","v":"Anguilla"},{"$f":"'Country list'!I10","v":"Latin America and the Caribbean"},{"$f":"'Country list'!J10","v":"lac"}]
["Commercial","Oilseed meal (non-soy)",0.05,"c_","c_Oilseed meal (non-soy)","Lime","Oilseed meal (non-soy)",null,null,null,"Manure applied to soils N2O",9,"Central & South America",3.0502531357247998E-2,1.03042588889442E-2,1.19156198634198E-2,9.4279589757354006E-3,1.43524963423324E-2,4.4721740851048006E-3,1.7831265206053999E-2,5.6207523229970004E-3,5.7546293653868E-2,1.0322410271316E-2,1.2675074656724199E-2,4.7383390701631993E-3,1.4950521675939401E-2,5.3077382763110003E-3,null,null,null,null,null,null,null,null,null,null,null,null,null,null,null,null,null,null,null,null,null,null,null,null,null,null,null,null,null,null,null,null,null,null,null,null,null,null,null,null,null,null,null,null,null,null,null,{"$f":"'Country list'!H11","v":"Antigua and Barbuda"},{"$f":"'Country list'!I11","v":"Latin America and the Caribbean"},{"$f":"'Country list'!J11","v":"lac"}]
["Commercial","Rice by-products",0.1,"c_","c_Rice by-products","Maize","Oilseed oil (non-soy)",null,null,null,"Manure applied to soils N2O",10,"Sub-Saharan Africa",2.6270935995856403E-2,2.1692817594163399E-2,2.5167924308319999E-2,8.8469678412443995E-3,1.4235984046529201E-2,2.9234122339388399E-3,2.0631529259842199E-2,1.023212603469E-2,6.2528733746118004E-2,2.6476859813561397E-2,1.6329872793002E-2,3.7266388208126002E-3,1.85525731503592E-2,1.0564117561438E-2,null,null,null,null,null,null,null,null,null,null,null,null,null,null,null,null,null,null,null,null,null,null,null,null,null,null,null,null,null,null,null,null,null,null,null,null,null,null,null,null,null,null,null,null,null,null,null,{"$f":"'Country list'!H12","v":"Argentina"},{"$f":"'Country list'!I12","v":"Latin America and the Caribbean"},{"$f":"'Country list'!J12","v":"lac"}]
["Commercial","Oilseed oil (non-soy)",0.15,"c_","c_Oilseed oil (non-soy)","Maize DDGS","Pulses",null,null,null,"Synthetic fertilizers N2O",1,"North America",0.10060906125010599,8.6439807899377996E-2,9.9787542887463998E-2,3.7973606959055994E-2,5.5914843978845996E-2,2.2623554308652601E-2,0.17395367287093,0.15096208662727401,0.17353959195319202,9.8403913842040003E-2,5.4511596739652002E-2,2.5137532153175598E-2,0.17693435470565802,0.143616729648816,null,null,null,null,null,null,null,null,null,null,null,null,null,null,null,null,null,null,null,null,null,null,null,null,null,null,null,null,null,null,null,null,null,null,null,null,null,null,null,null,null,null,null,null,null,null,null,{"$f":"'Country list'!H13","v":"Armenia"},{"$f":"'Country list'!I13","v":"Near East and North Africa"},{"$f":"'Country list'!J13","v":"nena"}]
["Commercial","Maize",0.15,"c_","c_Maize","Maize gluten meal","Rice by-products",null,null,null,"Synthetic fertilizers N2O",2,"Russian Federation",2.9529433828416201E-2,2.46178386587372E-2,2.85270347667472E-2,1.5036477030673999E-2,2.28204691083954E-2,5.2884209253418E-3,6.140130339199E-2,3.5459141261563999E-2,4.9719991715333998E-2,2.3565355528258201E-2,1.7758113281169999E-2,5.8221277249819996E-3,4.6766508224982004E-2,2.76131560822372E-2,null,null,null,null,null,null,null,null,null,null,null,null,null,null,null,null,null,null,null,null,null,null,null,null,null,null,null,null,null,null,null,null,null,null,null,null,null,null,null,null,null,null,null,null,null,null,null,{"$f":"'Country list'!H14","v":"Aruba"},{"$f":"'Country list'!I14","v":"Latin America and the Caribbean"},{"$f":"'Country list'!J14","v":"lac"}]
["Commercial",{"$f":"INDEX(F$7:F$28,B45)","v":"Soy oil"},0.04,"c_","c_Soy oil","Meat and bone meal","Soybean",null,null,null,"Synthetic fertilizers N2O",3,"Western Europe",0.15653075685270001,7.938162068606E-2,9.1077680699490002E-2,4.8734788928275999E-2,7.1804162784219999E-2,1.8767224115425401E-2,0.15123903099444599,0.14107351098207199,0.25705968879638602,9.4793758587834009E-2,7.4242252390826005E-2,2.1530893776812599E-2,0.25332640379204197,0.124960243818414,null,null,null,null,null,null,null,null,null,null,null,null,null,null,null,null,null,null,null,null,null,null,null,null,null,null,null,null,null,null,null,null,null,null,null,null,null,null,null,null,null,null,null,null,null,null,null,{"$f":"'Country list'!H15","v":"Australia"},{"$f":"'Country list'!I15","v":"Oceania"},{"$f":"'Country list'!J15","v":"oc"}]
[null,null,null,null,null,"Oilseed meal (non-soy)","Soybean meal",null,null,null,"Synthetic fertilizers N2O",4,"Eastern Europe",8.6373112979489991E-2,5.2075254730801997E-2,6.0010363056923997E-2,2.9734876297866399E-2,4.4541361014180006E-2,1.10565021313888E-2,9.1668802371844008E-2,5.2760300022892004E-2,0.17813399597070001,7.8984582098069994E-2,4.7567948727959997E-2,1.26561275319554E-2,9.1512932267625996E-2,5.8261455735156002E-2,null,null,null,null,null,null,null,null,null,null,null,null,null,null,null,null,null,null,null,null,null,null,null,null,null,null,null,null,null,null,null,null,null,null,null,null,null,null,null,null,null,null,null,null,null,null,null,{"$f":"'Country list'!H16","v":"Austria"},{"$f":"'Country list'!I16","v":"Western Europe"},{"$f":"'Country list'!J16","v":"we"}]
["Non-commercial",{"$f":"INDEX(G$7:G$20,B49)","v":"Soybean meal"},{"$f":"C49","v":0.1},"nc_",{"$f":"CONCATENATE(D18,B18)","v":"nc_Soybean meal"},"Oilseed oil (non-soy)","Wheat",null,null,null,"Synthetic fertilizers N2O",5,"West Asia & Northern Africa",0.13046786520866599,4.615074672629E-2,5.3269288939296E-2,0.124661998706858,0.184809437603702,5.9160878794584003E-2,9.3711208537711997E-3,3.8600235653547997E-2,0.42424435634166002,8.6302411160541992E-2,0.22229928523316803,6.5745055064401994E-2,0.32537823542850003,3.9291772642303997E-2,null,null,null,null,null,null,null,null,null,null,null,null,null,null,null,null,null,null,null,null,null,null,null,null,null,null,null,null,null,null,null,null,null,null,null,null,null,null,null,null,null,null,null,null,null,null,null,{"$f":"'Country list'!H17","v":"Azerbaijan"},{"$f":"'Country list'!I17","v":"Near East and North Africa"},{"$f":"'Country list'!J17","v":"nena"}]
["Non-commercial",{"$f":"INDEX(G$7:G$20,B50)","v":"Soybean"},{"$f":"C50","v":0.05},"nc_",{"$f":"CONCATENATE(D19,B19)","v":"nc_Soybean"},"Poultry meal","Wheat by-products",null,null,null,"Synthetic fertilizers N2O",6,"East Asia",0.61623774748437998,0.24652428517573599,0.28326536307569999,0.22684770531499401,0.33887534448793999,8.1551295763359996E-2,1.0231321272428999,0.40263686748141997,1.1767960432928999,0.29720331775033598,0.35370211955246,9.4815094023888005E-2,0.79633241798760002,0.39180602878401999,null,null,null,null,null,null,null,null,null,null,null,null,null,null,null,null,null,null,null,null,null,null,null,null,null,null,null,null,null,null,null,null,null,null,null,null,null,null,null,null,null,null,null,null,null,null,null,{"$f":"'Country list'!H18","v":"Bahamas"},{"$f":"'Country list'!I18","v":"Latin America and the Caribbean"},{"$f":"'Country list'!J18","v":"lac"}]
["Non-commercial","Cassava",0.23,"nc_","nc_Cassava","Pulses","Wheat flour",null,null,null,"Synthetic fertilizers N2O",7,"Oceania",7.4052150186545998E-2,5.8135541970976E-2,6.7765278014015995E-2,2.9171614281952397E-2,4.3613325921024002E-2,5.2194667041498E-3,0,5.9846162592165998E-2,0.12477876251782001,6.1021901230422004E-2,4.1156468069096001E-2,5.7348887748814E-3,5.7698456075759998E-2,5.7811395119599998E-2,null,null,null,null,null,null,null,null,null,null,null,null,null,null,null,null,null,null,null,null,null,null,null,null,null,null,null,null,null,null,null,null,null,null,null,null,null,null,null,null,null,null,null,null,null,null,null,{"$f":"'Country list'!H19","v":"Bahrain"},{"$f":"'Country list'!I19","v":"Near East and North Africa"},{"$f":"'Country list'!J19","v":"nena"}]
["Non-commercial","Maize",0.04,"nc_","nc_Maize","Rice by-products",null,null,null,null,"Synthetic fertilizers N2O",8,"South Asia",0.47713604709040003,0.14899046684143,0.17207513109316799,0.17567171319386399,0.27461517939821001,6.0795845347598E-2,0.5633251722907,0.46850848244582,1.0205079033041,0.182174389832572,0.261998946312682,6.5424429427514003E-2,0.53865433111696004,0.41821374790875998,null,null,null,null,null,null,null,null,null,null,null,null,null,null,null,null,null,null,null,null,null,null,null,null,null,null,null,null,null,null,null,null,null,null,null,null,null,null,null,null,null,null,null,null,null,null,null,{"$f":"'Country list'!H20","v":"Bangladesh"},{"$f":"'Country list'!I20","v":"South Asia"},{"$f":"'Country list'!J20","v":"sa"}]
["Non-commercial","Wheat",7.0000000000000007E-2,"nc_","nc_Wheat","Soy oil",null,null,null,null,"Synthetic fertilizers N2O",9,"Central & South America",0.145118952496084,5.3519368870198002E-2,6.1852877435710003E-2,4.5003576757099997E-2,6.8436030298431996E-2,1.9108580250751399E-2,8.4579886926669998E-2,4.1383074683932E-2,0.27503777714432603,5.5867116781904001E-2,6.2342543038581999E-2,1.99520953610644E-2,7.9129021265583993E-2,3.9557329437135996E-2,null,null,null,null,null,null,null,null,null,null,null,null,null,null,null,null,null,null,null,null,null,null,null,null,null,null,null,null,null,null,null,null,null,null,null,null,null,null,null,null,null,null,null,null,null,null,null,{"$f":"'Country list'!H21","v":"Barbados"},{"$f":"'Country list'!I21","v":"Latin America and the Caribbean"},{"$f":"'Country list'!J21","v":"lac"}]
["Non-commercial","Groundnut meal",0.11,"nc_","nc_Groundnut meal","Soybean",null,null,null,null,"Synthetic fertilizers N2O",10,"Sub-Saharan Africa",1.7458892463765401E-2,3.172127043952E-2,3.6701650708089999E-2,1.9212976447297001E-2,3.0114993976863999E-2,3.0326289597848001E-3,8.8603862910642012E-2,5.9222053387248001E-2,5.0192081602430001E-2,3.5664974013300002E-2,3.0780627057551999E-2,3.2578194459301998E-3,7.7840092068209993E-2,5.050678362035E-2,null,null,null,null,null,null,null,null,null,null,null,null,null,null,null,null,null,null,null,null,null,null,null,null,null,null,null,null,null,null,null,null,null,null,null,null,null,null,null,null,null,null,null,null,null,null,null,{"$f":"'Country list'!H22","v":"Belarus"},{"$f":"'Country list'!I22","v":"Eastern Europe"},{"$f":"'Country list'!J22","v":"ee"}]
["Non-commercial","Pulses",0,"nc_","nc_Pulses","Soybean meal",null,null,null,null,"Crop residue N2O",1,"North America",7.6462586119378007E-2,7.0685318642108003E-2,8.1604989943932005E-2,5.1969002524755996E-2,7.6520738191912005E-2,2.7662043285094601E-2,0.10259924113065601,5.8443335990997998E-2,4.714914972999E-2,5.0897391222021998E-2,4.2582351685395994E-2,1.7208848308657401E-2,6.2223394168527998E-2,3.6709200503522006E-2,null,null,null,null,null,null,null,null,null,null,null,null,null,null,null,null,null,null,null,null,null,null,null,null,null,null,null,null,null,null,null,null,null,null,null,null,null,null,null,null,null,null,null,null,null,null,null,{"$f":"'Country list'!H23","v":"Belgium"},{"$f":"'Country list'!I23","v":"Western Europe"},{"$f":"'Country list'!J23","v":"we"}]
["Non-commercial","Rice by-products",0.1,"nc_","nc_Rice by-products","Vitamin/mineral premix",null,null,null,null,"Crop residue N2O",2,"Russian Federation",7.7089162776216011E-2,7.1556099312038005E-2,8.2918888540147992E-2,5.2564395620637999E-2,7.9775615071440001E-2,2.8320573226667197E-2,0.12320258549867601,6.4654966059492003E-2,5.0199809193005998E-2,5.1839905790987996E-2,4.4697356875887995E-2,1.8556324197555801E-2,7.3402581561718E-2,3.8775368360949997E-2,null,null,null,null,null,null,null,null,null,null,null,null,null,null,null,null,null,null,null,null,null,null,null,null,null,null,null,null,null,null,null,null,null,null,null,null,null,null,null,null,null,null,null,null,null,null,null,{"$f":"'Country list'!H24","v":"Belize"},{"$f":"'Country list'!I24","v":"Latin America and the Caribbean"},{"$f":"'Country list'!J24","v":"lac"}]
["Non-commercial","Pulses",0.2,"nc_","nc_Pulses","Wheat",null,null,null,null,"Crop residue N2O",3,"Western Europe",7.5642498792072008E-2,6.7507609259218004E-2,7.7466236252841991E-2,5.0855821813342E-2,7.4946373817368003E-2,2.7703276617092799E-2,0.10241787257836199,5.8207631460300002E-2,4.1036243754291997E-2,4.6288572775548001E-2,4.1185734909845999E-2,1.7559530024305998E-2,5.9161347133470002E-2,3.5078991058906002E-2,null,null,null,null,null,null,null,null,null,null,null,null,null,null,null,null,null,null,null,null,null,null,null,null,null,null,null,null,null,null,null,null,null,null,null,null,null,null,null,null,null,null,null,null,null,null,null,{"$f":"'Country list'!H25","v":"Benin"},{"$f":"'Country list'!I25","v":"Sub-Saharan Africa"},{"$f":"'Country list'!J25","v":"ssa"}]
["Non-commercial","Maize DDGS",0.1,"nc_","nc_Maize DDGS","Wheat by-products",null,null,null,null,"Crop residue N2O",4,"Eastern Europe",7.6649687485710008E-2,7.0499565917986007E-2,8.1287421518843994E-2,5.2215179632203998E-2,7.8209307859678001E-2,2.8236955229657999E-2,0.113748229341522,5.8197848382540003E-2,4.9060345132508003E-2,5.1175068452846001E-2,4.4522085401806001E-2,1.8556324197555801E-2,7.2860635467923998E-2,3.8775021443058E-2,null,null,null,null,null,null,null,null,null,null,null,null,null,null,null,null,null,null,null,null,null,null,null,null,null,null,null,null,null,null,null,null,null,null,null,null,null,null,null,null,null,null,null,null,null,null,null,{"$f":"'Country list'!H26","v":"Bermuda"},{"$f":"'Country list'!I26","v":"North America"},{"$f":"'Country list'!J26","v":"nam"}]
[null,null,null,null,null,"Wheat flour",null,null,null,null,"Crop residue N2O",5,"West Asia & Northern Africa",7.6529055542665994E-2,7.2131349501412007E-2,8.4086257789697999E-2,5.2233726717421998E-2,7.7845703461254009E-2,2.7771088178264E-2,0.115541837003606,8.0433873983592002E-2,5.6363352137773999E-2,5.3294158598729997E-2,4.4105047010781995E-2,1.7460454677360401E-2,6.5393020369958005E-2,5.6819587887874001E-2,null,null,null,null,null,null,null,null,null,null,null,null,null,null,null,null,null,null,null,null,null,null,null,null,null,null,null,null,null,null,null,null,null,null,null,null,null,null,null,null,null,null,null,null,null,null,null,{"$f":"'Country list'!H27","v":"Bhutan"},{"$f":"'Country list'!I27","v":"South Asia"},{"$f":"'Country list'!J27","v":"sa"}]
[null,null,null,null,null,null,null,null,null,null,"Crop residue N2O",6,"East Asia",7.6973725925281997E-2,7.0710704341883993E-2,8.1245297042252002E-2,5.2282646443910001E-2,7.8102066938206011E-2,2.7964646549651598E-2,0.11408820864741401,5.4127346404164001E-2,5.3265082562611997E-2,5.0278923765321996E-2,4.4387984380559999E-2,1.80453762804972E-2,6.6852737130773998E-2,3.3013157109882001E-2,null,null,null,null,null,null,null,null,null,null,null,null,null,null,null,null,null,null,null,null,null,null,null,null,null,null,null,null,null,null,null,null,null,null,null,null,null,null,null,null,null,null,null,null,null,null,null,{"$f":"'Country list'!H28","v":"Bolivia"},{"$f":"'Country list'!I28","v":"Latin America and the Caribbean"},{"$f":"'Country list'!J28","v":"lac"}]
[null,null,null,null,null,null,null,null,null,null,"Crop residue N2O",7,"Oceania",7.6120638055625994E-2,7.2131796157818007E-2,8.407559007182E-2,5.2400832617514E-2,7.8801019291911995E-2,2.7411187125848797E-2,0.11690774722948201,6.4261886669701992E-2,5.6881239492117999E-2,5.3614294214550003E-2,4.3582094658612E-2,1.66513060976212E-2,6.4600330864652E-2,4.2656991019467995E-2,null,null,null,null,null,null,null,null,null,null,null,null,null,null,null,null,null,null,null,null,null,null,null,null,null,null,null,null,null,null,null,null,null,null,null,null,null,null,null,null,null,null,null,null,null,null,null,{"$f":"'Country list'!H29","v":"Bosnia and Herzegovina"},{"$f":"'Country list'!I29","v":"Western Europe"},{"$f":"'Country list'!J29","v":"we"}]
[null,null,null,null,null,null,null,null,null,null,"Crop residue N2O",8,"South Asia",7.4756896064936004E-2,7.1238409465955999E-2,8.2287160155862002E-2,5.3031142975653998E-2,8.2694970537038004E-2,2.92848243552726E-2,0.13019611593330602,7.9297683958502008E-2,7.6060473860569994E-2,5.1820777618584002E-2,4.8496829433068003E-2,2.0423213878539601E-2,8.8318401714793993E-2,5.3517504187645996E-2,null,null,null,null,null,null,null,null,null,null,null,null,null,null,null,null,null,null,null,null,null,null,null,null,null,null,null,null,null,null,null,null,null,null,null,null,null,null,null,null,null,null,null,null,null,null,null,{"$f":"'Country list'!H30","v":"Botswana"},{"$f":"'Country list'!I30","v":"Sub-Saharan Africa"},{"$f":"'Country list'!J30","v":"ssa"}]
[null,null,null,null,null,null,null,null,null,null,"Crop residue N2O",9,"Central & South America",7.5727580348018006E-2,7.1247533400198002E-2,8.2305668212914004E-2,5.2563818870246005E-2,7.9779847466802001E-2,2.8670515574038997E-2,0.10297158785405801,5.9207365760822001E-2,6.3255881832320004E-2,5.1383696059864002E-2,4.5472965022683998E-2,1.9015890356975398E-2,6.3226480560789999E-2,3.7504149309833999E-2,null,null,null,null,null,null,null,null,null,null,null,null,null,null,null,null,null,null,null,null,null,null,null,null,null,null,null,null,null,null,null,null,null,null,null,null,null,null,null,null,null,null,null,null,null,null,null,{"$f":"'Country list'!H31","v":"Brazil"},{"$f":"'Country list'!I31","v":"Latin America and the Caribbean"},{"$f":"'Country list'!J31","v":"lac"}]
[null,null,null,null,null,null,null,null,null,null,"Crop residue N2O",10,"Sub-Saharan Africa",7.426158437734999E-2,7.1490063535668003E-2,8.279326965561E-2,5.3524295101045997E-2,8.6358169501289994E-2,3.0638557771393998E-2,0.13175218907410802,6.8653317837599995E-2,8.0841415503506001E-2,5.2319202892120005E-2,5.1881076244121999E-2,2.4490283540208199E-2,8.1720660964457986E-2,4.4919163017664E-2,null,null,null,null,null,null,null,null,null,null,null,null,null,null,null,null,null,null,null,null,null,null,null,null,null,null,null,null,null,null,null,null,null,null,null,null,null,null,null,null,null,null,null,null,null,null,null,{"$f":"'Country list'!H32","v":"British Indian Ocean Territory"},{"$f":"'Country list'!I32","v":"South Asia"},{"$f":"'Country list'!J32","v":"sa"}]
[null,null,null,null,null,null,null,null,null,null,"Energy used in field operations CO2",1,"North America",6.8854734301599996E-2,5.1716849207899998E-2,5.97076080739E-2,4.1819781064999999E-2,6.1581008136299999E-2,0.92391026020099998,0.110911913216,0.123412840068,0.118600621819,5.8451779186699998E-2,5.9908039867899998E-2,1.0265766382199999,0.10998852551,0.116743505001,null,null,null,null,null,null,null,null,null,null,null,null,null,null,null,null,null,null,null,null,null,null,null,null,null,null,null,null,null,null,null,null,null,null,null,null,null,null,null,null,null,null,null,null,null,null,null,{"$f":"'Country list'!H33","v":"British Virgin Islands"},{"$f":"'Country list'!I33","v":"Latin America and the Caribbean"},{"$f":"'Country list'!J33","v":"lac"}]
[null,"FEED MATERIAL","% IN RATION",null,"Proportions of commercial and non-commercial feed",null,null,null,null,null,"Energy used in field operations CO2",2,"Russian Federation",7.7957376837700001E-2,6.7858070135099993E-2,7.8633613884400003E-2,9.8267391324000003E-2,0.149137869477,1.3348169326799999,0.230434507132,0.16840937733700001,0.131260231137,6.4956933260000002E-2,0.11605399847,1.46952629089,0.17551122605800001,0.131145700812,null,null,null,null,null,null,null,null,null,null,null,null,null,null,null,null,null,null,null,null,null,null,null,null,null,null,null,null,null,null,null,null,null,null,null,null,null,null,null,null,null,null,null,null,null,null,null,{"$f":"'Country list'!H34","v":"Brunei Darussalam"},{"$f":"'Country list'!I34","v":"East Asia and Southeast Asia"},{"$f":"'Country list'!J34","v":"esea"}]
["Commercial",{"$f":"INPUTS!B48","v":17},{"$f":"INPUTS!C48","v":0.2},null,"Commercial",{"$f":"INPUTS!E43","v":0.7},null,null,null,null,"Energy used in field operations CO2",3,"Western Europe",5.25846965611E-2,2.5185260921699999E-2,2.8919162228700002E-2,4.3331954628199998E-2,6.3922002911599995E-2,1.0222961902600001,9.43505614996E-2,0.12101408839199999,8.4237642586200007E-2,2.89898943156E-2,6.7251905798900002E-2,1.1840326785999999,0.122368164361,0.104094170034,null,null,null,null,null,null,null,null,null,null,null,null,null,null,null,null,null,null,null,null,null,null,null,null,null,null,null,null,null,null,null,null,null,null,null,null,null,null,null,null,null,null,null,null,null,null,null,{"$f":"'Country list'!H35","v":"Bulgaria"},{"$f":"'Country list'!I35","v":"Eastern Europe"},{"$f":"'Country list'!J35","v":"ee"}]
["Commercial",{"$f":"INPUTS!B49","v":18},{"$f":"INPUTS!C49","v":0.02},null,"Non-commercial",{"$f":"1-F36","v":0.30000000000000004},null,null,null,null,"Energy used in field operations CO2",4,"Eastern Europe",7.1898400783500002E-2,4.6119745820800001E-2,5.3183808922800002E-2,7.3840335011500002E-2,0.110660679638,1.2826412916200001,0.17430740594899999,0.120623245835,0.131260231137,6.4956933260000002E-2,0.11605399847,1.46952629089,0.17333358526199999,0.131145700812,null,null,null,null,null,null,null,null,null,null,null,null,null,null,null,null,null,null,null,null,null,null,null,null,null,null,null,null,null,null,null,null,null,null,null,null,null,null,null,null,null,null,null,null,null,null,null,{"$f":"'Country list'!H36","v":"Burkina Faso"},{"$f":"'Country list'!I36","v":"Sub-Saharan Africa"},{"$f":"'Country list'!J36","v":"ssa"}]
["Commercial",{"$f":"INPUTS!B50","v":21},{"$f":"INPUTS!C50","v":0.05},null,null,null,null,null,null,null,"Energy used in field operations CO2",5,"West Asia & Northern Africa",4.1196625679699998E-2,9.1981485486000006E-2,0.10752525180600001,6.2295984476800001E-2,9.3393243849300006E-2,0.43494451045999999,0.18534450232999999,6.8711251020400002E-2,0.18235430121400001,9.0815640986000007E-2,9.9725753068899997E-2,1.10928606987,0.12818007171199999,0.264688909054,null,null,null,null,null,null,null,null,null,null,null,null,null,null,null,null,null,null,null,null,null,null,null,null,null,null,null,null,null,null,null,null,null,null,null,null,null,null,null,null,null,null,null,null,null,null,null,{"$f":"'Country list'!H37","v":"Burundi"},{"$f":"'Country list'!I37","v":"Sub-Saharan Africa"},{"$f":"'Country list'!J37","v":"ssa"}]
["Commercial",{"$f":"INPUTS!B51","v":22},{"$f":"INPUTS!C51","v":0.04},null,"Error messages",null,null,null,null,null,"Energy used in field operations CO2",6,"East Asia",1.23676266521E-2,1.25394864008E-2,1.4408881776E-2,4.1855078190599998E-2,6.2522239983099998E-2,0.55077260732699995,3.8037557154900002E-2,1.81181877851E-2,0.15667051076899999,3.7200417369600003E-2,0.10752543062,1.3015640974,0.13662995398,8.8500238955000005E-2,null,null,null,null,null,null,null,null,null,null,null,null,null,null,null,null,null,null,null,null,null,null,null,null,null,null,null,null,null,null,null,null,null,null,null,null,null,null,null,null,null,null,null,null,null,null,null,{"$f":"'Country list'!H38","v":"Cambodia"},{"$f":"'Country list'!I38","v":"East Asia and Southeast Asia"},{"$f":"'Country list'!J38","v":"esea"}]
["Commercial",{"$f":"INPUTS!B52","v":4},{"$f":"INPUTS!C52","v":0.2},null,"No non-commercial ration specified, either set commercial to 100% or specific a non-commercial ration.",null,null,null,null,null,"Energy used in field operations CO2",7,"Oceania",0.112539172173,9.30051803589E-2,0.108416691422,8.1232011318200001E-2,0.122271083295,0.76711803674699997,0,0.16550020873499999,0.18664740026000001,9.6508115529999994E-2,8.5309699177699996E-2,0.84329837560700005,0.12294872105100001,0.159873187542,null,null,null,null,null,null,null,null,null,null,null,null,null,null,null,null,null,null,null,null,null,null,null,null,null,null,null,null,null,null,null,null,null,null,null,null,null,null,null,null,null,null,null,null,null,null,null,{"$f":"'Country list'!H39","v":"Cameroon"},{"$f":"'Country list'!I39","v":"Sub-Saharan Africa"},{"$f":"'Country list'!J39","v":"ssa"}]
["Commercial",{"$f":"INPUTS!B53","v":11},{"$f":"INPUTS!C53","v":0.05},null,"No default ration for this region/species combination.",null,null,null,null,null,"Energy used in field operations CO2",8,"South Asia",2.41859387606E-2,6.81082578376E-3,7.8715579584200009E-3,1.07754189521E-2,1.6821656376099999E-2,0.575906515121,1.9378632307100001E-2,5.5355686694399997E-2,0.34563788771600001,6.4616814255699997E-2,0.22079409658900001,2.0832188129400002,0.261833786964,0.24025058746299999,null,null,null,null,null,null,null,null,null,null,null,null,null,null,null,null,null,null,null,null,null,null,null,null,null,null,null,null,null,null,null,null,null,null,null,null,null,null,null,null,null,null,null,null,null,null,null,{"$f":"'Country list'!H40","v":"Canada"},{"$f":"'Country list'!I40","v":"North America"},{"$f":"'Country list'!J40","v":"nam"}]
["Commercial",{"$f":"INPUTS!B54","v":15},{"$f":"INPUTS!C54","v":0.1},null,null,null,null,null,null,null,"Energy used in field operations CO2",9,"Central & South America",6.9094888865899998E-2,5.4379086941500003E-2,6.2844514846799995E-2,9.6670143306299999E-2,0.14689660072300001,0.76856744289400003,0.111767925322,0.100419268012,0.23949146270800001,5.6844793260100002E-2,0.13743504881900001,1.6205968856799999,0.115299187601,0.121737509966,null,null,null,null,null,null,null,null,null,null,null,null,null,null,null,null,null,null,null,null,null,null,null,null,null,null,null,null,null,null,null,null,null,null,null,null,null,null,null,null,null,null,null,null,null,null,null,{"$f":"'Country list'!H41","v":"Cape Verde"},{"$f":"'Country list'!I41","v":"Sub-Saharan Africa"},{"$f":"'Country list'!J41","v":"ssa"}]
["Commercial",{"$f":"INPUTS!B55","v":12},{"$f":"INPUTS!C55","v":0.15},null,null,null,null,null,null,null,"Energy used in field operations CO2",10,"Sub-Saharan Africa",1.5898463316299999E-3,1.9208347424900001E-2,2.2187596186999999E-2,1.9740981981200001E-2,3.0232885852499999E-2,0.27812054753299997,0,4.9457453191300002E-2,0.38527047634099998,7.3479518294299995E-2,0.31408762931799999,3.42016768456,0.22358030080800001,0.17661522328900001,null,null,null,null,null,null,null,null,null,null,null,null,null,null,null,null,null,null,null,null,null,null,null,null,null,null,null,null,null,null,null,null,null,null,null,null,null,null,null,null,null,null,null,null,null,null,null,{"$f":"'Country list'!H42","v":"Cayman Islands"},{"$f":"'Country list'!I42","v":"Latin America and the Caribbean"},{"$f":"'Country list'!J42","v":"lac"}]
["Commercial",{"$f":"INPUTS!B56","v":7},{"$f":"INPUTS!C56","v":0.15},null,null,null,null,null,null,null,"Processing and transport CO2",1,"North America",0,0,0,0,0,0,0,8.9718298986599995E-3,1.1189999990199999E-2,1.4919999986900001E-2,1.49199990556E-2,1.4919999986900001E-2,5.2105002105199999E-2,2.3692049086099998E-2,null,null,null,null,null,null,null,null,null,null,null,null,null,null,null,null,null,null,null,null,null,null,null,null,null,null,null,null,null,null,null,null,null,null,null,null,null,null,null,null,null,null,null,null,null,null,null,{"$f":"'Country list'!H43","v":"Central African Republic"},{"$f":"'Country list'!I43","v":"Sub-Saharan Africa"},{"$f":"'Country list'!J43","v":"ssa"}]
["Commercial",{"$f":"INPUTS!B57","v":16},{"$f":"INPUTS!C57","v":0.04},null,"FEED CONVERSION RATIO (kg IN (as fed)/kg fish LW out)",null,null,null,null,null,"Processing and transport CO2",2,"Russian Federation",0,0,0,0,0,0,0,8.9718298986599995E-3,1.1189999990199999E-2,1.4919999986900001E-2,1.4919999986900001E-2,1.49199990556E-2,0.21562281251000001,2.36920509487E-2,null,null,null,null,null,null,null,null,null,null,null,null,null,null,null,null,null,null,null,null,null,null,null,null,null,null,null,null,null,null,null,null,null,null,null,null,null,null,null,null,null,null,null,null,null,null,null,{"$f":"'Country list'!H44","v":"Chad"},{"$f":"'Country list'!I44","v":"Sub-Saharan Africa"},{"$f":"'Country list'!J44","v":"ssa"}]
[null,"Total",{"$f":"SUM(C36:C45)","v":1},null,"Default",{"$f":"VLOOKUP(E303,D256:K294,7,FALSE)","v":1.1307604639644369},null,null,null,null,"Processing and transport CO2",3,"Western Europe",0,0,0,0,0,0,0,8.9718298986599995E-3,1.1189999990199999E-2,1.49199990556E-2,1.49200009182E-2,1.4919999986900001E-2,0.21468177437800001,2.36920509487E-2,null,null,null,null,null,null,null,null,null,null,null,null,null,null,null,null,null,null,null,null,null,null,null,null,null,null,null,null,null,null,null,null,null,null,null,null,null,null,null,null,null,null,null,null,null,null,null,{"$f":"'Country list'!H45","v":"Chile"},{"$f":"'Country list'!I45","v":"Latin America and the Caribbean"},{"$f":"'Country list'!J45","v":"lac"}]
[null,null,null,null,"Specified (please enter)",null,null,null,null,null,"Processing and transport CO2",4,"Eastern Europe",0,0,0,0,0,0,0,8.9718298986599995E-3,1.11900009215E-2,1.49199990556E-2,1.49199990556E-2,1.4919999986900001E-2,5.4031204432199997E-2,2.3692049086099998E-2,null,null,null,null,null,null,null,null,null,null,null,null,null,null,null,null,null,null,null,null,null,null,null,null,null,null,null,null,null,null,null,null,null,null,null,null,null,null,null,null,null,null,null,null,null,null,null,{"$f":"'Country list'!H46","v":"China"},{"$f":"'Country list'!I46","v":"East Asia and Southeast Asia"},{"$f":"'Country list'!J46","v":"esea"}]
[null,null,null,null,null,null,null,null,null,null,"Processing and transport CO2",5,"West Asia & Northern Africa",0,0,0,0,0,0,0,8.9718298986599995E-3,1.11899990588E-2,1.4919999986900001E-2,1.4919999986900001E-2,1.49199990556E-2,0.199233323336,2.36920509487E-2,null,null,null,null,null,null,null,null,null,null,null,null,null,null,null,null,null,null,null,null,null,null,null,null,null,null,null,null,null,null,null,null,null,null,null,null,null,null,null,null,null,null,null,null,null,null,null,{"$f":"'Country list'!H47","v":"Christmas Island"},{"$f":"'Country list'!I47","v":"East Asia and Southeast Asia"},{"$f":"'Country list'!J47","v":"esea"}]
["Non-commercial",{"$f":"INPUTS!F48","v":11},{"$f":"INPUTS!H48","v":0.1},null,null,null,null,null,null,null,"Processing and transport CO2",6,"East Asia",0,0,0,0,0,0,0,8.9718298986599995E-3,1.1189999990199999E-2,1.4919999986900001E-2,1.49200009182E-2,1.4919999986900001E-2,0.216058790684,2.3692049086099998E-2,null,null,null,null,null,null,null,null,null,null,null,null,null,null,null,null,null,null,null,null,null,null,null,null,null,null,null,null,null,null,null,null,null,null,null,null,null,null,null,null,null,null,null,null,null,null,null,{"$f":"'Country list'!H48","v":"Colombia"},{"$f":"'Country list'!I48","v":"Latin America and the Caribbean"},{"$f":"'Country list'!J48","v":"lac"}]
["Non-commercial",{"$f":"INPUTS!F49","v":10},{"$f":"INPUTS!H49","v":0.05},null,null,null,null,null,null,null,"Processing and transport CO2",7,"Oceania",0,0,0,0,0,0,0,8.9718298986599995E-3,1.1189999990199999E-2,1.49200009182E-2,1.4919999986900001E-2,1.4919999986900001E-2,5.2345886826500002E-2,2.36920509487E-2,null,null,null,null,null,null,null,null,null,null,null,null,null,null,null,null,null,null,null,null,null,null,null,null,null,null,null,null,null,null,null,null,null,null,null,null,null,null,null,null,null,null,null,null,null,null,null,{"$f":"'Country list'!H49","v":"Comoros"},{"$f":"'Country list'!I49","v":"Sub-Saharan Africa"},{"$f":"'Country list'!J49","v":"ssa"}]
["Non-commercial",{"$f":"INPUTS!F50","v":1},{"$f":"INPUTS!H50","v":0.23},null,null,null,null,null,null,null,"Processing and transport CO2",8,"South Asia",0,0,0,0,0,0,0,8.9718298986599995E-3,1.1189999990199999E-2,1.49199990556E-2,1.4919999986900001E-2,1.4919999986900001E-2,6.0887422412599999E-2,2.3692047223400001E-2,null,null,null,null,null,null,null,null,null,null,null,null,null,null,null,null,null,null,null,null,null,null,null,null,null,null,null,null,null,null,null,null,null,null,null,null,null,null,null,null,null,null,null,null,null,null,null,{"$f":"'Country list'!H50","v":"Congo"},{"$f":"'Country list'!I50","v":"Sub-Saharan Africa"},{"$f":"'Country list'!J50","v":"ssa"}]
["Non-commercial",{"$f":"INPUTS!F51","v":3},{"$f":"INPUTS!H51","v":0.04},null,null,null,null,null,null,null,"Processing and transport CO2",9,"Central & South America",0,0,0,0,0,0,0,8.9718289673300002E-3,1.11900009215E-2,1.49199990556E-2,1.49200009182E-2,1.49199990556E-2,5.5300779640700001E-2,2.3692049086099998E-2,null,null,null,null,null,null,null,null,null,null,null,null,null,null,null,null,null,null,null,null,null,null,null,null,null,null,null,null,null,null,null,null,null,null,null,null,null,null,null,null,null,null,null,null,null,null,null,{"$f":"'Country list'!H51","v":"Cook Islands"},{"$f":"'Country list'!I51","v":"Oceania"},{"$f":"'Country list'!J51","v":"oc"}]
["Non-commercial",{"$f":"INPUTS!F52","v":12},{"$f":"INPUTS!H52","v":7.0000000000000007E-2},null,null,null,null,null,null,null,"Processing and transport CO2",10,"Sub-Saharan Africa",0,0,0,0,0,0,0,8.9718298986599995E-3,1.1189999990199999E-2,1.49200009182E-2,1.4919999986900001E-2,1.4919999986900001E-2,5.4393205791699997E-2,2.3692047223400001E-2,null,null,null,null,null,null,null,null,null,null,null,null,null,null,null,null,null,null,null,null,null,null,null,null,null,null,null,null,null,null,null,null,null,null,null,null,null,null,null,null,null,null,null,null,null,null,null,{"$f":"'Country list'!H52","v":"Costa Rica"},{"$f":"'Country list'!I52","v":"Latin America and the Caribbean"},{"$f":"'Country list'!J52","v":"lac"}]
["Non-commercial",{"$f":"INPUTS!F53","v":2},{"$f":"INPUTS!H53","v":0.11},null,null,null,null,null,null,null,"Blending and transport CO2",1,"North America",null,null,null,null,null,null,null,null,null,null,null,null,null,null,null,null,null,null,null,null,null,null,null,null,null,null,null,null,null,null,null,null,null,null,null,null,null,null,null,null,null,null,null,null,null,null,null,null,null,null,null,null,null,null,null,null,null,null,null,null,null,{"$f":"'Country list'!H53","v":"Cote d’Ivoire"},{"$f":"'Country list'!I53","v":"Sub-Saharan Africa"},{"$f":"'Country list'!J53","v":"ssa"}]
["Non-commercial",{"$f":"INPUTS!F54","v":8},{"$f":"INPUTS!H54","v":0},null,null,null,null,null,null,null,"Blending and transport CO2",2,"Russian Federation",null,null,null,null,null,null,null,null,null,null,null,null,null,null,null,null,null,null,null,null,null,null,null,null,null,null,null,null,null,null,null,null,null,null,null,null,null,null,null,null,null,null,null,null,null,null,null,null,null,null,null,null,null,null,null,null,null,null,null,null,null,{"$f":"'Country list'!H54","v":"Croatia"},{"$f":"'Country list'!I54","v":"Western Europe"},{"$f":"'Country list'!J54","v":"we"}]
["Non-commercial",{"$f":"INPUTS!F55","v":9},{"$f":"INPUTS!H55","v":0.1},null,null,null,null,null,null,null,"Blending and transport CO2",3,"Western Europe",null,null,null,null,null,null,null,null,null,null,null,null,null,null,null,null,null,null,null,null,null,null,null,null,null,null,null,null,null,null,null,null,null,null,null,null,null,null,null,null,null,null,null,null,null,null,null,null,null,null,null,null,null,null,null,null,null,null,null,null,null,{"$f":"'Country list'!H55","v":"Cuba"},{"$f":"'Country list'!I55","v":"Latin America and the Caribbean"},{"$f":"'Country list'!J55","v":"lac"}]
["Non-commercial",{"$f":"INPUTS!F56","v":8},{"$f":"INPUTS!H56","v":0.2},null,null,null,null,null,null,null,"Blending and transport CO2",4,"Eastern Europe",null,null,null,null,null,null,null,null,null,null,null,null,null,null,null,null,null,null,null,null,null,null,null,null,null,null,null,null,null,null,null,null,null,null,null,null,null,null,null,null,null,null,null,null,null,null,null,null,null,null,null,null,null,null,null,null,null,null,null,null,null,{"$f":"'Country list'!H56","v":"Cyprus"},{"$f":"'Country list'!I56","v":"Near East and North Africa"},{"$f":"'Country list'!J56","v":"nena"}]
["Non-commercial",{"$f":"INPUTS!F57","v":4},{"$f":"INPUTS!H57","v":0.1},null,null,null,null,null,null,null,"Blending and transport CO2",5,"West Asia & Northern Africa",null,null,null,null,null,null,null,null,null,null,null,null,null,null,null,null,null,null,null,null,null,null,null,null,null,null,null,null,null,null,null,null,null,null,null,null,null,null,null,null,null,null,null,null,null,null,null,null,null,null,null,null,null,null,null,null,null,null,null,null,null,{"$f":"'Country list'!H57","v":"Czech Republic"},{"$f":"'Country list'!I57","v":"Eastern Europe"},{"$f":"'Country list'!J57","v":"ee"}]
[null,"Total",{"$f":"SUM(C49:C58)","v":0.99999999999999989},null,null,null,null,null,null,null,"Blending and transport CO2",6,"East Asia",null,null,null,null,null,null,null,null,null,null,null,null,null,null,null,null,null,null,null,null,null,null,null,null,null,null,null,null,null,null,null,null,null,null,null,null,null,null,null,null,null,null,null,null,null,null,null,null,null,null,null,null,null,null,null,null,null,null,null,null,null,{"$f":"'Country list'!H58","v":"Democratic People’s Republic of Korea"},{"$f":"'Country list'!I58","v":"East Asia and Southeast Asia"},{"$f":"'Country list'!J58","v":"esea"}]
[null,null,null,null,null,null,null,null,null,null,"Blending and transport CO2",7,"Oceania",null,null,null,null,null,null,null,null,null,null,null,null,null,null,null,null,null,null,null,null,null,null,null,null,null,null,null,null,null,null,null,null,null,null,null,null,null,null,null,null,null,null,null,null,null,null,null,null,null,null,null,null,null,null,null,null,null,null,null,null,null,{"$f":"'Country list'!H59","v":"Democratic Republic of the Congo"},{"$f":"'Country list'!I59","v":"Sub-Saharan Africa"},{"$f":"'Country list'!J59","v":"ssa"}]
[null,null,null,null,null,null,null,null,null,null,"Blending and transport CO2",8,"South Asia",null,null,null,null,null,null,null,null,null,null,null,null,null,null,null,null,null,null,null,null,null,null,null,null,null,null,null,null,null,null,null,null,null,null,null,null,null,null,null,null,null,null,null,null,null,null,null,null,null,null,null,null,null,null,null,null,null,null,null,null,null,{"$f":"'Country list'!H60","v":"Denmark"},{"$f":"'Country list'!I60","v":"Western Europe"},{"$f":"'Country list'!J60","v":"we"}]
[null,null,null,null,null,null,null,null,null,null,"Blending and transport CO2",9,"Central & South America",null,null,null,null,null,null,null,null,null,null,null,null,null,null,null,null,null,null,null,null,null,null,null,null,null,null,null,null,null,null,null,null,null,null,null,null,null,null,null,null,null,null,null,null,null,null,null,null,null,null,null,null,null,null,null,null,null,null,null,null,null,{"$f":"'Country list'!H61","v":"Djibouti"},{"$f":"'Country list'!I61","v":"Sub-Saharan Africa"},{"$f":"'Country list'!J61","v":"ssa"}]
[null,"PRODUCT GROUP","LOCATION",null,null,null,null,null,null,null,"Blending and transport CO2",10,"Sub-Saharan Africa",null,null,null,null,null,null,null,null,null,null,null,null,null,null,null,null,null,null,null,null,null,null,null,null,null,null,null,null,null,null,null,null,null,null,null,null,null,null,null,null,null,null,null,null,null,null,null,null,null,null,null,null,null,null,null,null,null,null,null,null,null,{"$f":"'Country list'!H62","v":"Dominica"},{"$f":"'Country list'!I62","v":"Latin America and the Caribbean"},{"$f":"'Country list'!J62","v":"lac"}]
[null,{"$f":"START!H30","v":6},{"$f":"START!H27","v":219},null,null,null,null,null,null,null,"Rice cultivation CH4",1,"North America",null,null,null,null,null,1.2249973602599999,null,null,null,null,null,1.2499974109224998,null,null,null,null,null,null,null,null,null,null,null,null,null,null,null,null,null,null,null,null,null,null,null,null,null,null,null,null,null,null,null,null,null,null,null,null,null,null,null,null,null,null,null,null,null,null,null,null,null,{"$f":"'Country list'!H63","v":"Dominican Republic"},{"$f":"'Country list'!I63","v":"Latin America and the Caribbean"},{"$f":"'Country list'!J63","v":"lac"}]
[null,null,null,null,null,null,null,null,null,null,"Rice cultivation CH4",2,"Russian Federation",null,null,null,null,null,1.3000000268225,null,null,null,null,null,1.324999984355,null,null,null,null,null,null,null,null,null,null,null,null,null,null,null,null,null,null,null,null,null,null,null,null,null,null,null,null,null,null,null,null,null,null,null,null,null,null,null,null,null,null,null,null,null,null,null,null,null,{"$f":"'Country list'!H64","v":"Ecuador"},{"$f":"'Country list'!I64","v":"Latin America and the Caribbean"},{"$f":"'Country list'!J64","v":"lac"}]
[null,null,null,null,null,null,null,null,null,null,"Rice cultivation CH4",3,"Western Europe",null,null,null,null,null,1.3000000268225,null,null,null,null,null,1.324999984355,null,null,null,null,null,null,null,null,null,null,null,null,null,null,null,null,null,null,null,null,null,null,null,null,null,null,null,null,null,null,null,null,null,null,null,null,null,null,null,null,null,null,null,null,null,null,null,null,null,{"$f":"'Country list'!H65","v":"Egypt"},{"$f":"'Country list'!I65","v":"Near East and North Africa"},{"$f":"'Country list'!J65","v":"nena"}]
[null,null,null,null,null,null,null,null,null,null,"Rice cultivation CH4",4,"Eastern Europe",null,null,null,null,null,1.2999999336899999,null,null,null,null,null,1.324999984355,null,null,null,null,null,null,null,null,null,null,null,null,null,null,null,null,null,null,null,null,null,null,null,null,null,null,null,null,null,null,null,null,null,null,null,null,null,null,null,null,null,null,null,null,null,null,null,null,null,{"$f":"'Country list'!H66","v":"El Salvador"},{"$f":"'Country list'!I66","v":"Latin America and the Caribbean"},{"$f":"'Country list'!J66","v":"lac"}]
[null,null,null,null,null,null,null,null,null,null,"Rice cultivation CH4",5,"West Asia & Northern Africa",null,null,null,null,null,1.3368003070350001,null,null,null,null,null,1.3691291213025001,null,null,null,null,null,null,null,null,null,null,null,null,null,null,null,null,null,null,null,null,null,null,null,null,null,null,null,null,null,null,null,null,null,null,null,null,null,null,null,null,null,null,null,null,null,null,null,null,null,{"$f":"'Country list'!H67","v":"Equatorial Guinea"},{"$f":"'Country list'!I67","v":"Sub-Saharan Africa"},{"$f":"'Country list'!J67","v":"ssa"}]
[null,null,null,null,null,null,null,null,null,null,"Rice cultivation CH4",6,"East Asia",null,null,null,null,null,1.2296129018074999,null,null,null,null,null,1.2791576795274999,null,null,null,null,null,null,null,null,null,null,null,null,null,null,null,null,null,null,null,null,null,null,null,null,null,null,null,null,null,null,null,null,null,null,null,null,null,null,null,null,null,null,null,null,null,null,null,null,null,{"$f":"'Country list'!H68","v":"Eritrea"},{"$f":"'Country list'!I68","v":"Sub-Saharan Africa"},{"$f":"'Country list'!J68","v":"ssa"}]
[null,"Results","EI (kgCO2e/kgDM)","Ration",null,null,null,null,null,null,"Rice cultivation CH4",7,"Oceania",null,null,null,null,null,1.12499995157,null,null,null,null,null,1.1500000022350001,null,null,null,null,null,null,null,null,null,null,null,null,null,null,null,null,null,null,null,null,null,null,null,null,null,null,null,null,null,null,null,null,null,null,null,null,null,null,null,null,null,null,null,null,null,null,null,null,null,{"$f":"'Country list'!H69","v":"Estonia"},{"$f":"'Country list'!I69","v":"Western Europe"},{"$f":"'Country list'!J69","v":"we"}]
[null,null,null,"Specified ration","Specified ration","Average",null,null,null,null,"Rice cultivation CH4",8,"South Asia",null,null,null,null,null,1.5047183260324999,null,null,null,null,null,1.5553925186399999,null,null,null,null,null,null,null,null,null,null,null,null,null,null,null,null,null,null,null,null,null,null,null,null,null,null,null,null,null,null,null,null,null,null,null,null,null,null,null,null,null,null,null,null,null,null,null,null,null,{"$f":"'Country list'!H70","v":"Ethiopia"},{"$f":"'Country list'!I70","v":"Sub-Saharan Africa"},{"$f":"'Country list'!J70","v":"ssa"}]
[null,"GHG category","Default ration","Commercial","Non-commercial","Specified ration",null,null,null,null,"Rice cultivation CH4",9,"Central & South America",null,null,null,null,null,0.67938687279749999,null,null,null,null,null,0.70615452714250004,null,null,null,null,null,null,null,null,null,null,null,null,null,null,null,null,null,null,null,null,null,null,null,null,null,null,null,null,null,null,null,null,null,null,null,null,null,null,null,null,null,null,null,null,null,null,null,null,null,{"$f":"'Country list'!H71","v":"Falkland Islands (Malvinas)"},{"$f":"'Country list'!I71","v":"Latin America and the Caribbean"},{"$f":"'Country list'!J71","v":"lac"}]
[null,"Manure applied to soils N2O",{"$f":"SUMPRODUCT($N$302:$BE$302,$N306:$BE306)","v":5.734063985368474E-2},{"$f":"SUMPRODUCT($N$303:$BE$303,$N306:$BE306)","v":5.4584287613974602E-2},{"$f":"SUMPRODUCT($N$304:$BE$304,$N306:$BE306)","v":1.0748527135932185E-2},{"$f":"D73*F$36+E73*F$37","v":4.1433559470561876E-2},null,null,null,null,"Rice cultivation CH4",10,"Sub-Saharan Africa",null,null,null,null,null,1.3539962470525,null,null,null,null,null,1.4810063876199999,null,null,null,null,null,null,null,null,null,null,null,null,null,null,null,null,null,null,null,null,null,null,null,null,null,null,null,null,null,null,null,null,null,null,null,null,null,null,null,null,null,null,null,null,null,null,null,null,null,{"$f":"'Country list'!H72","v":"Faroe Islands"},{"$f":"'Country list'!I72","v":"Western Europe"},{"$f":"'Country list'!J72","v":"we"}]
[null,"Synthetic fertilizers N2O",{"$f":"SUMPRODUCT($N$302:$BE$302,$N307:$BE307)","v":0.17774846633921557},{"$f":"SUMPRODUCT($N$303:$BE$303,$N307:$BE307)","v":0.16285590601751965},{"$f":"SUMPRODUCT($N$304:$BE$304,$N307:$BE307)","v":3.4566060606881749E-2},{"$f":"D74*F$36+E74*F$37","v":0.12436895239432827},null,null,null,null,"LUC for feed production CO2",1,"North America",null,null,null,null,null,null,null,null,null,null,null,null,1.31441140547E-2,null,null,null,null,null,null,null,null,null,null,null,null,null,null,null,null,null,null,null,null,null,null,null,null,null,null,null,null,null,null,null,null,null,null,null,null,null,null,null,null,null,null,null,null,null,null,null,null,{"$f":"'Country list'!H73","v":"Fiji"},{"$f":"'Country list'!I73","v":"Oceania"},{"$f":"'Country list'!J73","v":"oc"}]
[null,"Crop residue N2O",6.888120119232749E-2,4.7150451420550236E-2,{"$f":"SUMPRODUCT($N$304:$BE$304,$N308:$BE308)","v":2.7281954074121911E-2},4.1189902216621735E-2,null,null,null,null,"LUC for feed production CO2",2,"Russian Federation",null,null,null,null,null,null,null,null,null,null,null,null,0.75451004505200003,null,null,null,null,null,null,null,null,null,null,null,null,null,null,null,null,null,null,null,null,null,null,null,null,null,null,null,null,null,null,null,null,null,null,null,null,null,null,null,null,null,null,null,null,null,null,null,null,{"$f":"'Country list'!H74","v":"Finland"},{"$f":"'Country list'!I74","v":"Western Europe"},{"$f":"'Country list'!J74","v":"we"}]
[null,"Energy used in field operations CO2",0.12347901329312751,0.13603426518520942,4.5840597092629581E-2,0.10897616475743546,null,null,null,null,"LUC for feed production CO2",3,"Western Europe",null,null,null,null,null,null,null,null,null,null,null,null,2.00269579887,null,null,null,null,null,null,null,null,null,null,null,null,null,null,null,null,null,null,null,null,null,null,null,null,null,null,null,null,null,null,null,null,null,null,null,null,null,null,null,null,null,null,null,null,null,null,null,null,{"$f":"'Country list'!H75","v":"France"},{"$f":"'Country list'!I75","v":"Western Europe"},{"$f":"'Country list'!J75","v":"we"}]
[null,"Processing and transport CO2",0.12209586268417054,0.16478967624880708,0.11926782301917495,0.15113312027991743,null,null,null,null,"LUC for feed production CO2",4,"Eastern Europe",null,null,null,null,null,null,null,null,null,null,null,null,0.47643852233900003,null,null,null,null,null,null,null,null,null,null,null,null,null,null,null,null,null,null,null,null,null,null,null,null,null,null,null,null,null,null,null,null,null,null,null,null,null,null,null,null,null,null,null,null,null,null,null,null,{"$f":"'Country list'!H76","v":"French Guiana"},{"$f":"'Country list'!I76","v":"Latin America and the Caribbean"},{"$f":"'Country list'!J76","v":"lac"}]
[null,"Rice cultivation CH4",0,3.2098015568493114E-2,3.1492393654859306E-2,3.191632899440297E-2,null,null,null,null,"LUC for feed production CO2",5,"West Asia & Northern Africa",null,null,null,null,null,null,null,null,null,null,null,null,1.50928390026,null,null,null,null,null,null,null,null,null,null,null,null,null,null,null,null,null,null,null,null,null,null,null,null,null,null,null,null,null,null,null,null,null,null,null,null,null,null,null,null,null,null,null,null,null,null,null,null,{"$f":"'Country list'!H77","v":"French Polynesia"},{"$f":"'Country list'!I77","v":"Oceania"},{"$f":"'Country list'!J77","v":"oc"}]
[null,"LUC for feed production CO2",0.45781625962168199,0.56381777019951884,0,0.39467243913966316,null,null,null,null,"LUC for feed production CO2",6,"East Asia",null,null,null,null,null,null,null,null,null,null,null,null,1.9135173559200001,null,null,null,null,null,null,null,null,null,null,null,null,null,null,null,null,null,null,null,null,null,null,null,null,null,null,null,null,null,null,null,null,null,null,null,null,null,null,null,null,null,null,null,null,null,null,null,null,{"$f":"'Country list'!H78","v":"Gabon"},{"$f":"'Country list'!I78","v":"Sub-Saharan Africa"},{"$f":"'Country list'!J78","v":"ssa"}]
[null,"Fert. Prod CO2",0.18707896700390286,0.17058594960515175,3.6078692673259111E-2,0.13023377252558396,null,null,null,null,"LUC for feed production CO2",7,"Oceania",null,null,null,null,null,null,null,null,null,null,null,null,3.1834279652700002E-3,null,null,null,null,null,null,null,null,null,null,null,null,null,null,null,null,null,null,null,null,null,null,null,null,null,null,null,null,null,null,null,null,null,null,null,null,null,null,null,null,null,null,null,null,null,null,null,null,{"$f":"'Country list'!H79","v":"Gambia"},{"$f":"'Country list'!I79","v":"Sub-Saharan Africa"},{"$f":"'Country list'!J79","v":"ssa"}]
[null,"CO2e non-disaggregated feeds",0.53847999999999996,0.26,0.15124000000000001,0.22737200000000002,null,null,null,null,"LUC for feed production CO2",8,"South Asia",null,null,null,null,null,null,null,null,null,null,null,null,1.21805465221,null,null,null,null,null,null,null,null,null,null,null,null,null,null,null,null,null,null,null,null,null,null,null,null,null,null,null,null,null,null,null,null,null,null,null,null,null,null,null,null,null,null,null,null,null,null,null,null,{"$f":"'Country list'!H80","v":"Gaza Strip"},{"$f":"'Country list'!I80","v":"Near East and North Africa"},{"$f":"'Country list'!J80","v":"nena"}]
[null,"Feed blending/transport (from GLEAM)",7.8521400000000005E-2,7.8600000000000003E-2,6.2880000000000005E-2,7.3884000000000005E-2,null,null,null,null,"LUC for feed production CO2",9,"Central & South America",null,null,null,null,null,null,null,null,null,null,null,null,4.5648880004899999,null,null,null,null,null,null,null,null,null,null,null,null,null,null,null,null,null,null,null,null,null,null,null,null,null,null,null,null,null,null,null,null,null,null,null,null,null,null,null,null,null,null,null,null,null,null,null,null,{"$f":"'Country list'!H81","v":"Georgia"},{"$f":"'Country list'!I81","v":"Near East and North Africa"},{"$f":"'Country list'!J81","v":"nena"}]
[null,"Total",{"$f":"SUM(C73:C82)","v":1.8114418099881107},{"$f":"SUM(D73:D82)","v":1.6705163218592247},0.51939604825685881,1.3251802397785148,null,null,null,null,"LUC for feed production CO2",10,"Sub-Saharan Africa",null,null,null,null,null,null,null,null,null,null,null,null,0.96228379011200005,null,null,null,null,null,null,null,null,null,null,null,null,null,null,null,null,null,null,null,null,null,null,null,null,null,null,null,null,null,null,null,null,null,null,null,null,null,null,null,null,null,null,null,null,null,null,null,null,{"$f":"'Country list'!H82","v":"Germany"},{"$f":"'Country list'!I82","v":"Western Europe"},{"$f":"'Country list'!J82","v":"we"}]
[null,null,null,null,null,null,null,null,null,null,"Fert. Prod CO2",1,"North America",7.6108887791599994E-2,6.1205781996300002E-2,7.0658981800099996E-2,2.4772889912099999E-2,3.6477725952899998E-2,3.0919330194600001E-2,0.113757543266,9.9109582602999999E-2,0.13120721280600001,6.9501064717800001E-2,3.5539884120199997E-2,3.4355141222500003E-2,0.11484329402399999,9.4126664102099994E-2,null,null,null,null,null,null,null,null,null,null,null,null,null,null,null,null,null,null,null,null,null,null,null,null,null,null,null,null,null,null,null,null,null,null,null,null,null,null,null,null,null,null,null,null,null,null,null,{"$f":"'Country list'!H83","v":"Ghana"},{"$f":"'Country list'!I83","v":"Sub-Saharan Africa"},{"$f":"'Country list'!J83","v":"ssa"}]
[null,null,null,null,null,null,null,null,null,null,"Fert. Prod CO2",2,"Russian Federation",3.69394756854E-2,3.0795380473100001E-2,3.5685546696199999E-2,1.8809694796799999E-2,2.8546985238800001E-2,1.4024829492000001E-2,7.6809205114799994E-2,4.4357173144799998E-2,6.2196604907500001E-2,2.9478793963800001E-2,2.2214289754599999E-2,1.54402107E-2,5.8501988649399997E-2,3.4542337059999997E-2,null,null,null,null,null,null,null,null,null,null,null,null,null,null,null,null,null,null,null,null,null,null,null,null,null,null,null,null,null,null,null,null,null,null,null,null,null,null,null,null,null,null,null,null,null,null,null,{"$f":"'Country list'!H84","v":"Greece"},{"$f":"'Country list'!I84","v":"Western Europe"},{"$f":"'Country list'!J84","v":"we"}]
[null,null,"EI (kgCO2e/kgDM)","Ration",null,null,null,null,null,null,"Fert. Prod CO2",3,"Western Europe",0.160978496075,8.0306291580200001E-2,9.2145010828999993E-2,4.9641408026199998E-2,7.3137283325200003E-2,4.4022288173400002E-2,0.15626958012600001,0.15079960227,0.26378637552299999,9.5755510032199995E-2,7.6098293065999995E-2,5.0636228174E-2,0.261379063129,0.132525235415,null,null,null,null,null,null,null,null,null,null,null,null,null,null,null,null,null,null,null,null,null,null,null,null,null,null,null,null,null,null,null,null,null,null,null,null,null,null,null,null,null,null,null,null,null,null,null,{"$f":"'Country list'!H85","v":"Greenland"},{"$f":"'Country list'!I85","v":"North America"},{"$f":"'Country list'!J85","v":"nam"}]
[null,null,null,"Specified ration","Specified ration","Average",null,null,null,null,"Fert. Prod CO2",4,"Eastern Europe",0.101028598845,6.1684492975500001E-2,7.1077756583699997E-2,3.4400768578099997E-2,5.1529224961999999E-2,2.6486190035900001E-2,0.102040089667,5.9161171317099998E-2,0.21006645262199999,9.4387143850300004E-2,5.5118761956699999E-2,3.0305813998E-2,0.10209396481499999,6.5423995256399997E-2,null,null,null,null,null,null,null,null,null,null,null,null,null,null,null,null,null,null,null,null,null,null,null,null,null,null,null,null,null,null,null,null,null,null,null,null,null,null,null,null,null,null,null,null,null,null,null,{"$f":"'Country list'!H86","v":"Grenada"},{"$f":"'Country list'!I86","v":"Latin America and the Caribbean"},{"$f":"'Country list'!J86","v":"lac"}]
[null,"GHG category","Default ration","Commercial","Non-commercial","Specified ration",null,null,null,null,"Fert. Prod CO2",5,"West Asia & Northern Africa",0.14197990298300001,5.0959818065200002E-2,5.8850686997200002E-2,0.121527075768,0.180216252804,0.120383188128,1.09201930463E-2,4.73555140197E-2,0.43587514758099999,9.1202072799200007E-2,0.21650727093200001,0.133856981993,0.33128607273100003,4.8248894512700001E-2,null,null,null,null,null,null,null,null,null,null,null,null,null,null,null,null,null,null,null,null,null,null,null,null,null,null,null,null,null,null,null,null,null,null,null,null,null,null,null,null,null,null,null,null,null,null,null,{"$f":"'Country list'!H87","v":"Guadeloupe"},{"$f":"'Country list'!I87","v":"Latin America and the Caribbean"},{"$f":"'Country list'!J87","v":"lac"}]
[null,"Feed: fertiliser production",{"$f":"SUMPRODUCT(N$302:BE$302,N319:BE319)","v":0.18707896700390286},{"$f":"SUMPRODUCT(N$303:BE$303,N319:BE319)","v":0.17058594960515175},{"$f":"SUMPRODUCT(N$304:BE$304,N319:BE319)","v":3.6078692673259111E-2},{"$f":"D89*F$36+E89*F$37","v":0.13023377252558396},null,null,null,null,"Fert. Prod CO2",6,"East Asia",0.766202807426,0.30648609995800002,0.35216373205200002,0.28203207254399998,0.42131242155999998,0.21512785553899999,1.27207946777,0.50053906440700002,1.4631134271599999,0.36948898434600003,0.439748644829,0.25015026330899998,0.99019169807399998,0.48707231879200003,null,null,null,null,null,null,null,null,null,null,null,null,null,null,null,null,null,null,null,null,null,null,null,null,null,null,null,null,null,null,null,null,null,null,null,null,null,null,null,null,null,null,null,null,null,null,null,{"$f":"'Country list'!H88","v":"Guam"},{"$f":"'Country list'!I88","v":"Oceania"},{"$f":"'Country list'!J88","v":"oc"}]
[null,"Feed: crop N2O",{"$f":"SUMPRODUCT(N$302:BE$302,N320:BE320)","v":0.30397030738522784},{"$f":"SUMPRODUCT(N$303:BE$303,N320:BE320)","v":0.26459064505204449},{"$f":"SUMPRODUCT(N$304:BE$304,N320:BE320)","v":7.2596541816935853E-2},{"$f":"D90*F$36+E90*F$37","v":0.20699241408151189},null,null,null,null,"Fert. Prod CO2",7,"Oceania",5.1133666187500003E-2,3.9908558130299997E-2,4.6517305076100003E-2,2.3892713710699998E-2,3.5613574087599999E-2,7.5781885534499998E-3,0,4.0986385196400001E-2,8.7127849459600004E-2,4.2235258966700003E-2,3.7550698965800003E-2,8.3265341818300007E-3,4.0228854864799997E-2,3.95928509533E-2,null,null,null,null,null,null,null,null,null,null,null,null,null,null,null,null,null,null,null,null,null,null,null,null,null,null,null,null,null,null,null,null,null,null,null,null,null,null,null,null,null,null,null,null,null,null,null,{"$f":"'Country list'!H89","v":"Guatemala"},{"$f":"'Country list'!I89","v":"Latin America and the Caribbean"},{"$f":"'Country list'!J89","v":"lac"}]
[null,"Feed: crop energy use",0.24557487597729805,0.30082394143401647,0.16510842011180454,0.26010928503735287,null,null,null,null,"Fert. Prod CO2",8,"South Asia",0.61132627725599997,0.18755543231999999,0.216608673334,0.224284902215,0.35069742798800002,0.16498610377299999,0.72522079944600004,0.59218287467999997,1.30791509151,0.229823932052,0.332892209291,0.17750129103699999,0.692989110947,0.52142792940100002,null,null,null,null,null,null,null,null,null,null,null,null,null,null,null,null,null,null,null,null,null,null,null,null,null,null,null,null,null,null,null,null,null,null,null,null,null,null,null,null,null,null,null,null,null,null,null,{"$f":"'Country list'!H90","v":"Guernsey"},{"$f":"'Country list'!I90","v":"Western Europe"},{"$f":"'Country list'!J90","v":"we"}]
[null,"Feed: crop LUC",0.45781625962168199,0.56381777019951884,0,0.39467243913966316,null,null,null,null,"Fert. Prod CO2",9,"Central & South America",0.114499770105,4.1444227099400002E-2,4.7906242310999998E-2,3.5372354090200002E-2,5.37895523012E-2,3.2000470906500003E-2,6.7459776997600002E-2,2.85446736962E-2,0.21642920374899999,4.2698718607400002E-2,4.8574917018399999E-2,3.3343669027100002E-2,6.1140928417400001E-2,2.6955354958799999E-2,null,null,null,null,null,null,null,null,null,null,null,null,null,null,null,null,null,null,null,null,null,null,null,null,null,null,null,null,null,null,null,null,null,null,null,null,null,null,null,null,null,null,null,null,null,null,null,{"$f":"'Country list'!H91","v":"Guinea"},{"$f":"'Country list'!I91","v":"Sub-Saharan Africa"},{"$f":"'Country list'!J91","v":"ssa"}]
[null,"Feed: rice CH4",0,3.2098015568493114E-2,3.1492393654859306E-2,3.191632899440297E-2,null,null,null,null,"Fert. Prod CO2",10,"Sub-Saharan Africa",1.75954867154E-2,3.4422669559699998E-2,3.9831332862400003E-2,1.9975554198000001E-2,3.1279854476500002E-2,6.2083629891300004E-3,9.1408498585200004E-2,6.2411248683900002E-2,5.0287783145900003E-2,3.8679778575899999E-2,3.2060943543900003E-2,6.68563041836E-3,8.0066002905400002E-2,5.3187891840900003E-2,null,null,null,null,null,null,null,null,null,null,null,null,null,null,null,null,null,null,null,null,null,null,null,null,null,null,null,null,null,null,null,null,null,null,null,null,null,null,null,null,null,null,null,null,null,null,null,{"$f":"'Country list'!H92","v":"Guinea-Bissau"},{"$f":"'Country list'!I92","v":"Sub-Saharan Africa"},{"$f":"'Country list'!J92","v":"ssa"}]
[null,"Feed: fishmeal",0.46287999999999996,0.26,0,0.182,null,null,null,null,"Total EI",1,"North America",{"$f":"SUM(N84,N74,N64,N54,N44,N34,N24,N14,N4)","v":0.33811399446875301},{"$f":"SUM(O84,O74,O64,O54,O44,O34,O24,O14,O4)","v":0.282196856446016},0.32578341976462077,0.16149126157682439,0.23779146469324897,2.2339160119857593,0.524401144823196,0.458862433027937,0.50945356434357758,0.30610110634013321,0.21458889636055381,2.3723847546783126,0.55532252353395739,0.43195655354062057,null,null,{"$f":"O94/W94","v":0.92190733911443201},{"$f":"P94/W94","v":1.064300040139734},null,{"$f":"Q94/X94","v":0.75256112648757745},{"$f":"R94/X94","v":1.1081256706484479},null,null,null,null,null,null,null,null,null,null,null,null,null,null,null,null,null,null,null,null,null,null,null,null,null,null,null,null,null,null,null,null,null,null,null,null,null,null,null,null,{"$f":"'Country list'!H93","v":"Guyana"},{"$f":"'Country list'!I93","v":"Latin America and the Caribbean"},{"$f":"'Country list'!J93","v":"lac"}]
[null,"Feed: animal by-products",0,0,0,0,null,null,null,null,"Total EI",2,"Russian Federation",{"$f":"SUM(N85,N75,N65,N55,N45,N35,N25,N15,N5)","v":0.23178360581365101},0.20338766583502682,0.23568469348549478,0.18990653314894182,0.28821621038125722,2.684434250170328,0.51319842079862044,0.33418257117633005,0.32185558311858098,0.19295528879599719,0.22181871869865877,2.8514485776044607,1.3406398516824456,0.26537044845443081,null,null,{"$f":"O95/W95","v":1.0540662922697046},{"$f":"P95/W95","v":1.2214471806195135},null,{"$f":"Q95/X95","v":0.85613393794294823},{"$f":"R95/X95","v":1.2993322298142007},null,null,null,null,null,null,null,null,null,null,null,null,null,null,null,null,null,null,null,null,null,null,null,null,null,null,null,null,null,null,null,null,null,null,null,null,null,null,null,null,{"$f":"'Country list'!H94","v":"Haiti"},{"$f":"'Country list'!I94","v":"Latin America and the Caribbean"},{"$f":"'Country list'!J94","v":"lac"}]
[null,"Feed: blending & transport",7.8521400000000005E-2,7.8600000000000003E-2,6.2880000000000005E-2,7.3884000000000005E-2,null,null,null,null,"Total EI",3,"Western Europe",0.48944905769939806,0.27692409885628161,0.31777711225734601,0.20705002870060618,0.30514815996854816,2.419948321325466,0.55179882785904599,0.51877634250520599,0.72672834334707803,0.30911086828550521,0.2963720010882796,2.6219062964527193,3.0185420560556202,0.45352234422225002,null,null,0.89587305807864759,1.0280360377488778,null,0.69861534807713732,1.0296119702537434,null,null,null,null,null,null,null,null,null,null,null,null,null,null,null,null,null,null,null,null,null,null,null,null,null,null,null,null,null,null,null,null,null,null,null,null,null,null,null,null,{"$f":"'Country list'!H95","v":"Honduras"},{"$f":"'Country list'!I95","v":"Latin America and the Caribbean"},{"$f":"'Country list'!J95","v":"lac"}]
[null,"Feed: other",7.5600000000000001E-2,0,{"$f":"SUMPRODUCT(N$304:BE$304,N327:BE327)","v":0.15124000000000001},4.537200000000001E-2,null,null,null,null,"Total EI",4,"Eastern Europe",0.36150484114482501,0.24590486166560518,0.283457675555912,0.19990163956398158,0.29949367170017138,2.6527457715728415,0.51822618473724602,0.31956732657267917,0.62898330725061002,0.32706557225906158,0.29347682556514382,2.8759016356611706,1.006376991615906,0.3388776802453094,null,null,0.75185186862415854,0.86666925411333506,null,0.681149658679298,1.0205019463579144,null,null,null,null,null,null,null,null,null,null,null,null,null,null,null,null,null,null,null,null,null,null,null,null,null,null,null,null,null,null,null,null,null,null,null,null,null,null,null,null,{"$f":"'Country list'!H96","v":"Hong Kong"},{"$f":"'Country list'!I96","v":"East Asia and Southeast Asia"},{"$f":"'Country list'!J96","v":"esea"}]
[null,"Feed: total",{"$f":"SUMPRODUCT(N$302:BE$302,N328:BE328)","v":1.8114418099881104},1.6705163218592247,0.51939604825685881,1.3251802397785148,null,null,null,null,"Total EI",5,"West Asia & Northern Africa",0.42549409897777801,0.28806473128505122,0.33510137174779603,0.36700876004431759,0.54584606005693548,1.9818393172437805,0.36068632313289312,0.29175541800208604,1.171317819010854,0.36349551845343897,0.60628840533162442,2.7133708589929348,2.5805656818110081,0.47649901048899201,null,null,0.79248495967894617,0.92188584105121496,null,0.60533692681055495,0.90030760155865341,null,null,null,null,null,null,null,null,null,null,null,null,null,null,null,null,null,null,null,null,null,null,null,null,null,null,null,null,null,null,null,null,null,null,null,null,null,null,null,null,{"$f":"'Country list'!H97","v":"Hungary"},{"$f":"'Country list'!I97","v":"Eastern Europe"},{"$f":"'Country list'!J97","v":"ee"}]
[null,null,null,null,null,null,null,null,null,null,"Total EI",6,"East Asia",1.5445222752762198,0.66113753383940388,0.75966950370650166,0.62611229457255657,0.9353214881110139,2.1152896255015636,2.5524463257124022,1.0282384236040158,3.000541981338074,0.79897128825520802,0.99621167557903201,2.970522728626714,4.1892514177315814,1.0671668896978839,null,null,0.82748597297306481,0.95080951577805317,null,0.62849323082731279,0.93887826356519399,null,null,null,null,null,null,null,null,null,null,null,null,null,null,null,null,null,null,null,null,null,null,null,null,null,null,null,null,null,null,null,null,null,null,null,null,null,null,null,null,{"$f":"'Country list'!H98","v":"Iceland"},{"$f":"'Country list'!I98","v":"Western Europe"},{"$f":"'Country list'!J98","v":"we"}]
[null,null,null,null,null,null,null,null,null,null,"Total EI",7,"Oceania",0.31450310549215049,0.26363912389464567,0.30730807130038917,0.18701313728218794,0.28077150393897399,1.932379963502969,0.23008663265491203,0.34039037366752362,0.46786208404842305,0.26883002693260927,0.2229951218440609,2.0389908541121926,0.34178352598845907,0.32442236357405613,null,null,0.98069076175309511,1.1431314976486078,null,0.8386422794170586,1.2590925829100232,null,null,null,null,null,null,null,null,null,null,null,null,null,null,null,null,null,null,null,null,null,null,null,null,null,null,null,null,null,null,null,null,null,null,null,null,null,null,null,null,{"$f":"'Country list'!H99","v":"India"},{"$f":"'Country list'!I99","v":"South Asia"},{"$f":"'Country list'!J99","v":"sa"}]
[null,null,null,null,null,null,null,null,null,null,"Total EI",8,"South Asia",1.3155330994620862,0.45490095170703404,0.52540261909605601,0.51073163934060994,0.79821484291465805,2.3546967613800858,1.5835827740380239,1.3347968338651861,3.0357365463230996,0.59203777945397806,0.94997693004484407,3.9375616125456516,3.0345375029086039,1.3745551955075239,null,null,0.76836473531567195,0.88744779020795261,null,0.53762530771826289,0.8402465551210575,null,null,null,null,null,null,null,null,null,null,null,null,null,null,null,null,null,null,null,null,null,null,null,null,null,null,null,null,null,null,null,null,null,null,null,null,null,null,null,null,{"$f":"'Country list'!H100","v":"Indonesia"},{"$f":"'Country list'!I100","v":"East Asia and Southeast Asia"},{"$f":"'Country list'!J100","v":"esea"}]
[null,null,null,null,null,null,null,null,null,null,"Total EI",9,"Central & South America",0.43494372317225005,0.23089447520024023,0.26682492266984381,0.23903785199958139,0.36325452713176637,1.5322060565078952,0.38461044230638203,0.24414696344328099,0.86295062000901401,0.23203673403618402,0.32142054947359017,2.418721405693403,4.9539349196514131,0.25475413103418099,null,null,0.99507724998505764,1.1499253503035209,null,0.74369187779396217,1.1301534009779095,null,null,null,null,null,null,null,null,null,null,null,null,null,null,null,null,null,null,null,null,null,null,null,null,null,null,null,null,null,null,null,null,null,null,null,null,null,null,null,null,{"$f":"'Country list'!H101","v":"Iran (Islamic Republic of)"},{"$f":"'Country list'!I101","v":"South Asia"},{"$f":"'Country list'!J101","v":"sa"}]
[null,null,null,null,null,null,null,null,null,null,"Total EI",10,"Sub-Saharan Africa",0.13717674588400181,0.17853516855395138,0.20668177372141999,0.12130077556878739,0.19222188785368322,1.6749197565397476,0.33239607982979219,0.25894802903339798,0.64031049032915399,0.24154033450738138,0.46006014894347602,4.9542544443922107,1.4984366258001274,0.359485226552752,null,null,0.73915260951373485,0.85568223685267719,null,0.26366286201348571,0.41781903582633501,null,null,null,null,null,null,null,null,null,null,null,null,null,null,null,null,null,null,null,null,null,null,null,null,null,null,null,null,null,null,null,null,null,null,null,null,null,null,null,null,{"$f":"'Country list'!H102","v":"Iraq"},{"$f":"'Country list'!I102","v":"Near East and North Africa"},{"$f":"'Country list'!J102","v":"nena"}]
[null,null,null,null,null,null,null,null,null,null,null,null,null,null,null,null,null,null,null,null,null,null,null,null,null,null,null,null,null,null,null,null,null,null,null,null,null,null,null,null,null,null,null,null,null,null,null,null,null,null,null,null,null,null,null,null,null,null,null,null,null,null,null,null,null,null,null,null,null,null,null,null,null,null,{"$f":"'Country list'!H103","v":"Ireland"},{"$f":"'Country list'!I103","v":"Western Europe"},{"$f":"'Country list'!J103","v":"we"}]
[null,null,null,null,null,null,null,null,null,null,"Aqua feed EI",null,null,null,null,null,null,null,null,null,null,null,null,null,null,null,null,null,null,null,null,null,null,null,null,null,null,null,null,null,null,null,null,null,null,null,null,null,null,null,null,null,null,null,null,null,null,null,null,null,null,null,null,null,null,null,null,null,null,null,null,null,null,null,{"$f":"'Country list'!H104","v":"Isle of Man"},{"$f":"'Country list'!I104","v":"Western Europe"},{"$f":"'Country list'!J104","v":"we"}]
[null,null,null,null,null,null,null,null,null,null,"By-product processing GHG","(needed for feeds where we are calculating the BY EI from the grain EI in this sheet)",null,null,null,null,null,null,null,null,null,null,null,null,null,null,null,null,null,null,null,null,null,null,null,null,null,null,null,null,null,null,null,null,null,null,null,null,null,null,null,null,null,null,null,null,null,null,null,null,null,null,null,null,null,null,null,null,null,null,null,null,null,null,{"$f":"'Country list'!H105","v":"Israel"},{"$f":"'Country list'!I105","v":"Near East and North Africa"},{"$f":"'Country list'!J105","v":"nena"}]
[null,null,null,null,null,null,null,null,null,null,null,null,null,null,"Soybean meal","Soy oil",null,null,null,null,"Wheat flour","Wheat by-products",null,"Maize gluten meal","Maize DDGS","Rice by-products",null,"Soybean meal",null,null,null,null,"Wheat flour-S","Wheat by-products-S",null,"Wheat flour-N","Wheat by-products-N",null,"Maize gluten meal-S","Maize DDGS-S",null,"Maize gluten meal-N","Maize DDGS-N","Rice by-products",null,null,null,null,null,null,null,null,null,null,null,null,null,null,null,null,null,null,null,null,null,null,null,null,null,null,null,null,null,null,{"$f":"'Country list'!H106","v":"Italy"},{"$f":"'Country list'!I106","v":"Western Europe"},{"$f":"'Country list'!J106","v":"we"}]
[null,null,null,null,null,null,null,null,null,null,null,null,"kgCO2e/kg grain/oilseed)",null,0.18735879126095301,0.45021663775351745,null,null,null,null,0.55517253220427354,0.55517253220427354,null,1.5539731429487178,1.7308481348290596,0.55517253220427354,null,0.18735879126095301,null,null,null,null,0.55517253220427354,0.55517253220427354,null,0.55517253220427354,0.55517253220427354,null,1.5539731429487178,1.7308481348290596,null,1.5539731429487178,1.7308481348290596,0.55517253220427354,null,null,null,null,null,null,null,null,null,null,null,null,null,null,null,null,null,null,null,null,null,null,null,null,null,null,null,null,null,null,{"$f":"'Country list'!H107","v":"Jamaica"},{"$f":"'Country list'!I107","v":"Latin America and the Caribbean"},{"$f":"'Country list'!J107","v":"lac"}]
[null,null,null,null,null,null,null,null,null,null,null,null,"kgCO2e/kg by-product",null,0.16862291213485769,0.71504995407911587,null,null,null,null,0.59157728841438983,0.35494637304863391,null,0.47124358136441785,0.88956522905838409,0.13449008899850765,null,0.16862291213485769,0,0,0,0,0.59157728841438983,0.35494637304863391,0,0.59157728841438983,0.35494637304863391,0,0.47124358136441785,0.88956522905838409,0,0.47124358136441785,0.88956522905838409,0.13449008899850765,null,null,null,null,null,null,null,null,null,null,null,null,null,null,null,null,null,null,null,null,null,null,null,null,null,null,null,null,null,null,{"$f":"'Country list'!H108","v":"Japan"},{"$f":"'Country list'!I108","v":"East Asia and Southeast Asia"},{"$f":"'Country list'!J108","v":"esea"}]
[null,null,null,null,null,null,null,null,null,null,null,null,null,null,null,null,null,null,null,null,null,null,null,null,null,null,null,null,null,null,null,null,null,null,null,null,null,null,null,null,null,null,null,null,null,null,null,null,null,null,null,null,null,null,null,null,null,null,null,null,null,null,null,null,null,null,null,null,null,null,null,null,null,null,{"$f":"'Country list'!H109","v":"Jersey"},{"$f":"'Country list'!I109","v":"Western Europe"},{"$f":"'Country list'!J109","v":"we"}]
[null,null,null,null,null,null,null,null,null,null,null,null,null,null,null,null,null,null,null,null,null,null,null,null,null,null,null,null,null,null,null,null,null,null,null,null,null,null,null,null,null,null,null,null,null,null,null,null,null,null,null,null,null,null,null,null,null,null,null,null,null,null,null,null,null,null,null,null,null,null,null,null,null,null,{"$f":"'Country list'!H110","v":"Jordan"},{"$f":"'Country list'!I110","v":"Near East and North Africa"},{"$f":"'Country list'!J110","v":"nena"}]
[null,null,null,null,null,null,null,null,null,null,"Allocation",null,"Source of EI","GLEAM",null,null,"GLEAM","GLEAM",null,"GLEAM",null,null,"GLEAM",null,null,null,"GLEAM",null,"GLEAM","GLEAM",null,"GLEAM",null,null,"GLEAM",null,null,"GLEAM",null,null,"GLEAM",null,null,null,"Assume same as reduction","Feedprint, Fishmeal CP 0-580","Assume same as reduction","Pelletier and Tydmers (2010, p476)","Based on Feedprint, CFAT 0-100,poultry.","Feedprint, feather meal, hydrolised","Feedprint, meat bone meal, porcine","Feedprint, blood meal, porcine","GLEAM","Feedprint, chalk in laying hen conc feed","GLEAM",null,"Feedprint, peanut expeller partly with shell",null,null,null,null,null,null,null,null,null,null,null,null,null,null,null,null,null,{"$f":"'Country list'!H111","v":"Kazakhstan"},{"$f":"'Country list'!I111","v":"Near East and North Africa"},{"$f":"'Country list'!J111","v":"nena"}]
[null,null,null,null,null,null,null,null,null,null,null,null,"Source of allocation (EFA, MFA)",null,"GLEAM","GLEAM",null,null,null,null,null,null,null,null,"GLEAM",null,null,null,null,"GLEAM",null,null,null,null,null,null,null,null,null,null,null,null,null,null,null,null,null,null,null,null,null,null,null,null,null,null,null,null,null,null,null,null,null,"Allocation",null,null,null,null,null,null,null,null,null,null,{"$f":"'Country list'!H112","v":"Kenya"},{"$f":"'Country list'!I112","v":"Sub-Saharan Africa"},{"$f":"'Country list'!J112","v":"ssa"}]
[null,null,null,null,null,null,null,null,null,null,null,null,"Mass Fraction Allocation",null,0.8,0.17,null,0.57999999999999996,{"$f":"1-R114","v":0.42000000000000004},null,{"$f":"BL118","v":0.84615384615384615},{"$f":"BM118","v":0.15384615384615385},null,null,1,{"$f":"BM164+BO164+BP164","v":0.26400000000000001},null,0.8,null,0.57999999999999996,{"$f":"1-AD114","v":0.42000000000000004},null,{"$f":"BL118","v":0.84615384615384615},{"$f":"BM118","v":0.15384615384615385},null,{"$f":"BL118","v":0.84615384615384615},{"$f":"BM118","v":0.15384615384615385},null,null,null,null,null,null,{"$f":"Z114","v":0.26400000000000001},null,null,null,null,null,null,null,null,null,null,null,null,null,null,null,null,null,null,null,"Wheat",null,null,null,null,null,null,null,null,null,null,{"$f":"'Country list'!H113","v":"Kiribati"},{"$f":"'Country list'!I113","v":"Oceania"},{"$f":"'Country list'!J113","v":"oc"}]
[null,null,null,null,null,null,null,null,null,null,null,null,"Economic Fraction Allocation",null,0.72,0.27,null,0.28000000000000003,{"$f":"1-R115","v":0.72},null,{"$f":"BL119","v":0.90163934426229508},{"$f":"BM119","v":9.836065573770493E-2},null,null,0.08,{"$f":"BM166+BO166+BP166","v":6.3953782718021712E-2},null,0.72,null,0.28000000000000003,{"$f":"1-AD115","v":0.72},null,{"$f":"BL119","v":0.90163934426229508},{"$f":"BM119","v":9.836065573770493E-2},null,{"$f":"BL119","v":0.90163934426229508},{"$f":"BM119","v":9.836065573770493E-2},null,null,null,null,null,null,{"$f":"Z115","v":6.3953782718021712E-2},null,null,null,null,null,null,null,null,null,null,null,null,null,null,null,null,null,null,null,"Flour","Bran",null,null,null,null,null,null,null,null,null,{"$f":"'Country list'!H114","v":"Kuwait"},{"$f":"'Country list'!I114","v":"Near East and North Africa"},{"$f":"'Country list'!J114","v":"nena"}]
[null,null,null,null,null,null,null,null,null,null,null,null,"Final Fraction Allocation",null,{"$f":"O115/O114","v":0.89999999999999991},{"$f":"P115/P114","v":1.588235294117647},null,0.48275862068965525,1.714285714285714,null,1.0655737704918034,0.63934426229508201,null,{"$f":"'Feed EFs'!BO158","v":0.3032507887943397},{"$f":"BM147","v":0.51394759087066788},{"$f":"Z115/Z114","v":0.24224917696220344},null,{"$f":"AB115/AB114","v":0.89999999999999991},null,{"$f":"AD115/AD114","v":0.48275862068965525},1.714285714285714,null,{"$f":"AG115/AG114","v":1.0655737704918034},{"$f":"AH115/AH114","v":0.63934426229508201},null,{"$f":"AJ115/AJ114","v":1.0655737704918034},{"$f":"AK115/AK114","v":0.63934426229508201},null,{"$f":"BO158","v":0.3032507887943397},{"$f":"BM147","v":0.51394759087066788},null,{"$f":"BO158","v":0.3032507887943397},{"$f":"BM147","v":0.51394759087066788},{"$f":"Z116","v":0.24224917696220344},null,null,null,null,null,null,null,null,null,null,null,null,null,null,null,null,null,null,"% of mass",0.82499999999999996,0.15,null,"Henriksson et al (2014b, p87, 97)",null,null,null,null,null,null,null,{"$f":"'Country list'!H115","v":"Kyrgyzstan"},{"$f":"'Country list'!I115","v":"Near East and North Africa"},{"$f":"'Country list'!J115","v":"nena"}]
[null,null,null,null,null,null,null,null,null,null,null,null,null,"Non-local","Non-local","Non-local","Non-local","Non-local","Non-local","Non-local","Non-local","Non-local","Non-local","Non-local","Non-local","Non-local","Local","Local","Local","Local","Local","Local","Local","Local","Local","Local","Local","Local","Local","Local","Local","Local","Local","Local","Non-local","Non-local","Non-local","Non-local","Non-local","Non-local","Non-local","Non-local","Non-local","Non-local","Non-local","Local","Local",null,null,null,null,null,"Value (€/kg)",0.3,0.18,{"$f":"BL116*BL117+BM116*BM117","v":0.27449999999999997},"Henriksson et al (2014b, p87, 97)",null,null,null,null,null,null,null,{"$f":"'Country list'!H116","v":"Lao People’s Democratic Republic"},{"$f":"'Country list'!I116","v":"East Asia and Southeast Asia"},{"$f":"'Country list'!J116","v":"esea"}]
[null,null,null,null,null,null,null,null,null,null,null,null,null,"Crop","Crop","Crop","Crop","Crop","Crop","Crop","Crop","Crop","Crop","Crop","Crop","Crop","Crop","Crop","Crop","Crop","Crop","Crop","Crop","Crop","Crop","Crop","Crop","Crop","Crop","Crop","Crop","Crop","Crop","Crop","Fish","Fish","Fish","Fish","Animal by","Animal by","Animal by","Animal by","Synthetics","Synthetics","Crop","Crop","Crop",null,null,null,null,null,"MFA",{"$f":"BL116/(BL116+BM116)","v":0.84615384615384615},{"$f":"BM116/(BL116+BM116)","v":0.15384615384615385},null,null,null,null,null,null,null,null,null,{"$f":"'Country list'!H117","v":"Latvia"},{"$f":"'Country list'!I117","v":"Western Europe"},{"$f":"'Country list'!J117","v":"we"}]
[null,null,null,null,null,null,null,null,null,null,null,null,null,1,2,3,4,5,6,7,8,9,10,11,12,13,14,15,16,17,18,19,20,21,22,23,24,25,26,27,28,29,30,31,32,33,34,35,36,37,38,39,40,41,42,43,44,null,null,null,null,null,"EFA",{"$f":"BL116*BL117/BN117","v":0.90163934426229508},{"$f":"BM116*BM117/BN117","v":9.836065573770493E-2},null,null,null,null,null,null,null,null,null,{"$f":"'Country list'!H118","v":"Lebanon"},{"$f":"'Country list'!I118","v":"Near East and North Africa"},{"$f":"'Country list'!J118","v":"nena"}]
["Cyprinids. East Asia","EI (east asia)","Mt oilsdmeal","GHG",null,null,null,"Region","GHG category",null,null,"VALUE","REG_ANNEX5","Soybean","Soybean meal","Soy oil","Pulses","Oilseed meal","Oilseed oil","Wheat","Wheat flour","Wheat by-products","Maize","Maize gluten meal","Maize DDGS","Rice by-products","Soybean","Soybean meal","Pulses","Oilseed meal","Oilseed oil","Wheat-S","Wheat flour-S","Wheat by-products-S","Wheat-N","Wheat flour-N","Wheat by-products-N","Maize-S","Maize gluten meal-S","Maize DDGS-S","Maize-N","Maize gluten meal-N","Maize DDGS-N","Rice by-products","Fishmeal - trimmings","Fishmeal - reduction","Fishoil - trimmings","Fishoil - reduction","Poultry meal","Feather meal","Meat and bone meal","Blood meal","Vit and mineral premix","Lime","Cassava","Cassava","Groundnut meal",null,null,null,null,null,null,null,null,null,null,null,null,null,null,null,null,null,{"$f":"'Country list'!H119","v":"Lesotho"},{"$f":"'Country list'!I119","v":"Sub-Saharan Africa"},{"$f":"'Country list'!J119","v":"ssa"}]
["Manure applied to soils N2O",4.3083096970882001E-2,{"$f":"R$350","v":1526669.528436},{"$f":"B121*C121","v":65773.65133609889},null,null,null,{"$f":"L121","v":1},"a",{"$f":"CONCATENATE(H121,I121)","v":"1a"},"Manure applied to soils N2O",1,"North America",{"$f":"Z4","v":2.6083838965871398E-2},{"$f":"N121*O$116","v":2.3475455069284255E-2},{"$f":"N121*P$116","v":4.1427273651678101E-2},{"$f":"V4","v":2.77669880451956E-2},{"$f":"AA4","v":1.7068405199082599E-2},{"$f":"R121*(R$114/R$115)*S$116","v":6.061025519674227E-2},{"$f":"W4","v":1.39269573846712E-2},{"$f":"T121*U$116","v":1.4840200491862755E-2},{"$f":"T121*V$116","v":8.9041202951176523E-3},{"$f":"X4","v":7.1270248918058002E-3},{"$f":"W121*X$116","v":2.1612759201970026E-3},{"$f":"W121*Y$116","v":3.6629172732188736E-3},{"$f":"Y4*Z$116","v":1.0148263433377993E-3},{"$f":"T4","v":2.3178774339609999E-2},{"$f":"AA121*AB$116","v":2.0860896905648997E-2},{"$f":"N4","v":1.6078725006069002E-2},{"$f":"U4","v":1.7962757840004999E-2},{"$f":"AD121*(AD$114/AD$115)*AE$116","v":6.378611967675242E-2},{"$f":"O4","v":1.2149098700329999E-2},{"$f":"AF121*AG$116","v":1.2945760910187705E-2},{"$f":"AF121*AH$116","v":7.7674565461126228E-3},{"$f":"P4","v":1.4024297059224798E-2},{"$f":"AI121*AJ$116","v":1.4943923095895277E-2},{"$f":"AI121*AK$116","v":8.9663538575371661E-3},{"$f":"Q4","v":4.9559811159123994E-3},{"$f":"AL121*AM$116","v":1.5029051826502869E-3},{"$f":"AL121*AN$116","v":2.5471145549237021E-3},{"$f":"R4","v":7.2971484332910001E-3},{"$f":"AO121*AP$116","v":2.2128660183448759E-3},{"$f":"AO121*AQ$116","v":3.7503518575155779E-3},{"$f":"S4*AR$116","v":9.2138595975144253E-4},null,null,null,null,null,null,null,null,null,null,null,null,null,null,null,null,null,null,null,"Maize",null,null,null,null,null,null,null,null,null,null,{"$f":"'Country list'!H120","v":"Liberia"},{"$f":"'Country list'!I120","v":"Sub-Saharan Africa"},{"$f":"'Country list'!J120","v":"ssa"}]
["Synthetic fertilizers N2O",0.39180602878401999,{"$f":"R$350","v":1526669.528436},{"$f":"B122*C122","v":598158.32520208159},null,null,null,{"$f":"L122","v":2},"a",{"$f":"CONCATENATE(H122,I122)","v":"2a"},"Manure applied to soils N2O",2,"Russian Federation",{"$f":"Z5","v":1.6324689626345399E-2},{"$f":"N122*O$116","v":1.4692220663710858E-2},{"$f":"N122*P$116","v":2.5927448230077987E-2},1.7288946175541001E-2,9.6018351905435995E-3,3.4096312717440527E-2,8.1943002660510005E-3,8.731631431037952E-3,{"$f":"T122*V$116","v":5.238978858622771E-3},6.1749603301007993E-3,1.8725615908768236E-3,{"$f":"W122*Y$116","v":3.1736059853772498E-3},5.2898515783166738E-4,{"$f":"T5","v":2.1350819661154402E-2},{"$f":"AA122*AB$116","v":1.9215737695038961E-2},1.02681566859188E-2,1.2330083474813999E-2,{"$f":"AD122*(AD$114/AD$115)*AE$116","v":4.3784378053421127E-2},{"$f":"O5","v":8.5602772560515999E-3},9.1216069121861313E-3,5.4729641473116788E-3,9.9196095979996006E-3,1.0570075801147116E-2,6.3420454806882697E-3,{"$f":"Q5","v":5.2285743768297997E-3},1.58556930404351E-3,2.6872132046597791E-3,7.9352714856218004E-3,2.4063773373120428E-3,4.0783136629400302E-3,{"$f":"S5*AR$116","v":4.8049325405176093E-4},null,null,null,null,null,null,null,null,null,null,null,null,null,null,null,null,null,null,null,"Flour","Bran",null,null,null,null,null,null,null,null,null,{"$f":"'Country list'!H121","v":"Liechtenstein"},{"$f":"'Country list'!I121","v":"Western Europe"},{"$f":"'Country list'!J121","v":"we"}]
["Crop residue N2O",3.3013157109882001E-2,1526669.528436,50400.180997127136,null,null,null,3,"a","3a","Manure applied to soils N2O",3,"Western Europe",0.10492950439210801,9.4436553952897198E-2,0.16665274226981858,6.9418392696999995E-2,3.3171652947229999E-2,0.11779321658812281,2.8363133518723202E-2,3.0223011126508333E-2,1.8133806675905001E-2,2.26738140045076E-2,6.8758519818430761E-3,1.1653152083466291E-2,1.9929795059067637E-3,4.7521782660638001E-2,4.2769604394574195E-2,4.3712609418525998E-2,3.8709679502174001E-2,0.13745886190567905,2.4543316409103601E-2,2.615271420642187E-2,1.5691628523853123E-2,2.8169022247314001E-2,3.001617124713787E-2,1.8009702748282723E-2,1.44860553045882E-2,4.3929076976348003E-3,7.4450732250123646E-3,2.1338337130160201E-2,{"$f":"AO123*AP$116","v":6.4708675662806274E-3},1.0966786961231956E-2,1.7343382480128065E-3,null,null,null,null,null,null,null,null,null,null,null,null,null,null,null,null,null,null,"% of mass",0.82499999999999996,0.15,null,null,null,null,null,null,null,null,null,{"$f":"'Country list'!H122","v":"Lithuania"},{"$f":"'Country list'!I122","v":"Western Europe"},{"$f":"'Country list'!J122","v":"we"}]
["Energy used in field operations CO2",8.8500238955000005E-2,1526669.528436,135110.61807190318,null,null,null,4,"a","4a","Manure applied to soils N2O",4,"Eastern Europe",3.6106147032155998E-2,3.2495532328940396E-2,5.7345057051071291E-2,4.9272281466902004E-2,2.1579457912595402E-2,7.6629095444726514E-2,2.26418455422456E-2,2.4126556725343674E-2,1.4475934035206204E-2,1.52940319530778E-2,4.6379272536166789E-3,7.860330876983351E-3,1.1960071280857668E-3,3.6461657407880002E-2,3.2815491667092002E-2,2.5555041051125001E-2,1.9852931116487199E-2,7.0498163556505539E-2,1.5525802220517198E-2,1.6543887612026523E-2,9.9263325672159144E-3,1.7898325473644002E-2,1.907198616044033E-2,1.1443191696264199E-2,9.7104800443111993E-3,2.9447107330090659E-3,4.9906778249714373E-3,1.4553098226313399E-2,4.4132385165310444E-3,7.4795297731179615E-3,1.0477031907077823E-3,null,null,null,null,null,null,null,null,null,null,null,null,null,null,null,null,null,null,"Value (€/kg)",0.3,0.18,{"$f":"BL123*BL124+BM123*BM124","v":0.27449999999999997},null,null,null,{"$f":"1/0.055","v":18.181818181818183},null,null,null,null,{"$f":"'Country list'!H123","v":"Luxembourg"},{"$f":"'Country list'!I123","v":"Western Europe"},{"$f":"'Country list'!J123","v":"we"}]
["Processing and transport CO2",0,1526669.528436,0,null,null,null,5,"a","5a","Manure applied to soils N2O",5,"West Asia & Northern Africa",2.1811057973550201E-2,1.9629952176195179E-2,3.4641092075638549E-2,6.1290662677620004E-2,4.3757795443413995E-2,0.15538482463579659,2.6961234922067E-2,2.8729184753022215E-2,1.7237510851813329E-2,8.7310490998743998E-3,2.6476975265390212E-3,4.4873016506539612E-3,7.2024968849798655E-4,3.9508669899215997E-2,3.5557802909294396E-2,3.5320649563746004E-2,4.7682713426185998E-2,0.16932228849298694,2.6841331506149202E-2,2.860141881802784E-2,1.7160851290816705E-2,3.1369886215602001E-2,3.3426927934657874E-2,2.0056156760794724E-2,6.2899743752376008E-3,1.9074396907869866E-3,3.2327171767915991E-3,9.5814223386793997E-3,2.9055738819762349E-3,4.9243489280786775E-3,6.7329395345588547E-4,null,null,null,null,null,null,null,null,null,null,null,null,null,null,null,null,null,null,"MFA",{"$f":"BL123/(BL123+BM123)","v":0.84615384615384615},{"$f":"BM123/(BL123+BM123)","v":0.15384615384615385},null,null,null,null,null,null,null,null,null,{"$f":"'Country list'!H124","v":"Macau"},{"$f":"'Country list'!I124","v":"East Asia and Southeast Asia"},{"$f":"'Country list'!J124","v":"esea"}]
["Blending and transport CO2",2.3692049086099998E-2,1526669.528436,36169.92940595885,null,null,null,6,"a","6a","Manure applied to soils N2O",6,"East Asia",6.966846395520801E-2,6.2701617559687201E-2,0.11064991334062448,0.139506917563362,4.3083096970882001E-2,0.1529889565904789,2.9879645037049998E-2,3.1838966023086064E-2,1.910337961385164E-2,3.5927495278811998E-2,1.0895041282704654E-2,1.8464849644562721E-2,2.8755505648273044E-3,0.105108964897188,9.4598068407469191E-2,7.2740367788457994E-2,4.3845127627671995E-2,0.15569494300438622,2.4876957962984E-2,2.6508233894982951E-2,1.5904940336989772E-2,2.85862297605496E-2,3.0460736630093837E-2,1.8276441978056304E-2,2.3094792079052597E-2,7.0035139150139685E-3,1.1869512750688066E-2,3.4509415141768002E-2,1.0465007362572477E-2,1.7736030774467414E-2,2.4855537156415011E-3,null,null,null,null,null,null,null,null,null,null,null,null,null,null,null,null,null,null,"EFA",{"$f":"BL123*BL124/BN124","v":0.90163934426229508},{"$f":"BM123*BM124/BN124","v":9.836065573770493E-2},null,null,null,null,null,null,null,null,null,{"$f":"'Country list'!H125","v":"Madagascar"},{"$f":"'Country list'!I125","v":"Sub-Saharan Africa"},{"$f":"'Country list'!J125","v":"ssa"}]
["Rice cultivation CH4",0,1526669.528436,0,null,null,null,7,"a","7a","Manure applied to soils N2O",7,"Oceania",7.7784834047708005E-4,7.0006350642937197E-4,1.2354061878165389E-3,1.2368323286850199E-3,7.9588799098814008E-4,2.8262144986109456E-3,5.3045607273727996E-4,5.6524007750693767E-4,3.391440465041626E-4,4.7616098595287999E-4,1.4439619458330135E-4,2.4472179159708458E-4,1.4473717041278062E-5,0.11317888542543,0.10186099688288699,6.5747888947850005E-4,8.2390057559560007E-4,2.9256877582374361E-3,4.5804727665167997E-4,4.8808316364523278E-4,2.9284989818713966E-4,5.3320671645319998E-4,5.6817109130259018E-4,3.4090265478155409E-4,3.1596535382156002E-4,9.5816742778070718E-5,1.6238963239518896E-4,4.7250134343804001E-4,1.4328640510397083E-4,2.4284092714313473E-4,1.2871377680269455E-5,null,null,null,null,null,null,null,null,null,null,null,null,null,null,null,null,null,null,null,null,null,null,null,null,null,null,null,null,null,null,{"$f":"'Country list'!H126","v":"Madeira Islands"},{"$f":"'Country list'!I126","v":"Western Europe"},{"$f":"'Country list'!J126","v":"we"}]
["LUC for feed production CO2",0,1526669.528436,0,null,null,null,8,"a","8a","Manure applied to soils N2O",8,"South Asia",0.17379979754325001,0.156419817788925,0.27603497256869119,0.27442518994222997,0.11745337932371801,0.41707934698626381,4.8681866639521995E-2,5.1874120189654586E-2,3.1124472113792753E-2,7.0874848432194007E-2,2.1492853692742103E-2,3.6425957605049845E-2,5.0100392009678274E-3,0.145462054060918,0.13091584865482619,0.12812794029014998,0.130480276187804,0.46333812360567117,4.0305817295888002E-2,4.2948821708733119E-2,2.5769293025239871E-2,4.6560096554605995E-2,4.9613217640153931E-2,2.9767930584092359E-2,4.6968462003991997E-2,1.4243223151167547E-2,2.4139327893852189E-2,7.3385608615310002E-2,2.225424369874545E-2,3.7716356752416302E-2,4.603981158406701E-3,null,null,null,null,null,null,null,null,null,null,null,null,null,null,null,null,null,null,"Feedprint",null,null,null,null,null,null,null,null,null,null,null,{"$f":"'Country list'!H127","v":"Malawi"},{"$f":"'Country list'!I127","v":"Sub-Saharan Africa"},{"$f":"'Country list'!J127","v":"ssa"}]
["Fert. Prod CO2",0.48707231879200003,1526669.528436,743598.4672444117,null,null,null,9,"a","9a","Manure applied to soils N2O",9,"Central & South America",1.4950521675939401E-2,1.3455469508345461E-2,2.3744946191197873E-2,5.7546293653868E-2,5.3077382763110003E-3,1.8847886940369669E-2,1.0322410271316E-2,1.0999289633369509E-2,6.5995737800217053E-3,1.2675074656724199E-2,3.843726387678758E-3,6.5143240839292595E-3,1.1478587399148875E-3,1.7831265206053999E-2,1.6048138685448597E-2,3.0502531357247998E-2,5.6207523229970004E-3,1.9959406208193423E-2,1.03042588889442E-2,1.0979947996415952E-2,6.5879687978495707E-3,1.19156198634198E-2,1.2696971985611262E-2,7.6181831913667581E-3,9.4279589757354006E-3,2.8590359961124354E-3,4.8454768024066988E-3,1.43524963423324E-2,4.3524058369801754E-3,7.3764309181218093E-3,1.083380491348333E-3,null,null,null,null,null,null,null,null,null,null,null,null,null,null,null,null,null,null,null,null,"CO2e/kg",null,null,null,null,null,null,null,null,null,{"$f":"'Country list'!H128","v":"Malaysia"},{"$f":"'Country list'!I128","v":"East Asia and Southeast Asia"},{"$f":"'Country list'!J128","v":"esea"}]
["CO2e non-disaggregated feeds",null,1526669.528436,0,null,null,null,10,"a","10a","Manure applied to soils N2O",10,"Sub-Saharan Africa",1.85525731503592E-2,1.669731583532328E-2,2.9465851474099903E-2,6.2528733746118004E-2,1.0564117561438E-2,3.7513397054902274E-2,2.6476859813561397E-2,2.8213047342319525E-2,1.6927828405391716E-2,1.6329872793002E-2,4.9520468053890834E-3,8.3926987811878424E-3,9.0277518717724872E-4,2.0631529259842199E-2,1.8568376333857977E-2,2.6270935995856403E-2,1.023212603469E-2,3.6334488368082847E-2,2.1692817594163399E-2,2.3115297436403622E-2,1.3869178461842173E-2,2.5167924308319999E-2,2.6818280000668854E-2,1.6090968000401312E-2,8.8469678412443995E-3,2.6828499762955207E-3,4.5468778085178321E-3,1.4235984046529201E-2,4.3170733913736161E-3,7.3165497043869449E-3,7.0819420759292049E-4,null,null,null,null,null,null,null,null,null,null,null,null,null,null,null,null,null,null,"Maize grain EI","Brazil",711,null,null,null,null,null,null,null,null,null,{"$f":"'Country list'!H129","v":"Maldives"},{"$f":"'Country list'!I129","v":"South Asia"},{"$f":"'Country list'!J129","v":"sa"}]
["Feed blending/transport (form GLEAM)",7.8600000000000003E-2,1526669.528436,119996.22493506961,null,null,null,1,"b","1b","Synthetic fertilizers N2O",1,"North America",0.17693435470565802,0.1592409192350922,0.28101338688545685,0.17353959195319202,0.143616729648816,0.50998593793661173,9.8403913842040003E-2,0.10485662950381312,6.2913977702287877E-2,5.4511596739652002E-2,1.6530684709738425E-2,2.80161038188575E-2,6.089546474967714E-3,0.17395367287093,0.15655830558383699,0.10060906125010599,0.15096208662727401,0.53606945047236054,8.6439807899377996E-2,9.2107992023927374E-2,5.5264795214356427E-2,9.9787542887463998E-2,0.10633098832270754,6.3798592993624531E-2,3.7973606959055994E-2,1.1515526263699958E-2,1.9516443813276458E-2,5.5914843978845996E-2,1.6956220541897483E-2,2.8737299356837168E-2,5.4805374112308035E-3,null,null,null,null,null,null,null,null,null,null,null,null,null,null,null,null,null,null,"Maize grain EI","Germany",450,null,null,null,null,null,null,null,null,null,{"$f":"'Country list'!H130","v":"Mali"},{"$f":"'Country list'!I130","v":"Sub-Saharan Africa"},{"$f":"'Country list'!J130","v":"ssa"}]
[null,null,null,null,null,null,null,2,"b","2b","Synthetic fertilizers N2O",2,"Russian Federation",4.6766508224982004E-2,4.2089857402483798E-2,7.4276218945559649E-2,4.9719991715333998E-2,2.76131560822372E-2,9.8054880781821868E-2,2.3565355528258201E-2,2.5110624743225955E-2,1.5066374845935572E-2,1.7758113281169999E-2,5.385161860014042E-3,9.1267395392657328E-3,1.4104056495457154E-3,6.140130339199E-2,5.5261173052790998E-2,2.9529433828416201E-2,3.5459141261563999E-2,0.12591613427575782,2.46178386587372E-2,2.6232123160949476E-2,1.5739273896569685E-2,2.85270347667472E-2,3.0397659997353575E-2,1.8238595998412144E-2,1.5036477030673999E-2,4.5598235202398609E-3,7.7279611450970353E-3,2.28204691083954E-2,6.9203252577777668E-3,1.1728525120798314E-2,1.2811156165937455E-3,null,null,null,null,null,null,null,null,null,null,null,null,null,null,null,null,null,null,"Maize grain EI","France",637,null,null,null,null,null,null,null,null,null,{"$f":"'Country list'!H131","v":"Malta"},{"$f":"'Country list'!I131","v":"Western Europe"},{"$f":"'Country list'!J131","v":"we"}]
[null,null,null,null,null,null,null,3,"b","3b","Synthetic fertilizers N2O",3,"Western Europe",0.25332640379204197,0.22799376341283775,0.4023419354344196,0.25705968879638602,0.124960243818414,0.44373637600824556,9.4793758587834009E-2,0.10100974275752805,6.0605845654516828E-2,7.4242252390826005E-2,2.2514021599386438E-2,3.8156626757077108E-2,5.2158412966934803E-3,0.15123903099444599,0.13611512789500138,0.15653075685270001,0.14107351098207199,0.50095491654858204,7.938162068606E-2,8.4586972862195089E-2,5.0752183717317052E-2,9.1077680699490002E-2,9.7049987630604101E-2,5.8229992578362463E-2,4.8734788928275999E-2,1.477886318422535E-2,2.5047127361277947E-2,7.1804162784219999E-2,2.1774669003031887E-2,3.6903576477435134E-2,4.5463445958270196E-3,null,null,null,null,null,null,null,null,null,null,null,null,null,null,null,null,null,null,"Maize grain EI","Hungary",496,null,null,null,null,null,null,null,null,null,{"$f":"'Country list'!H132","v":"Marshall Islands"},{"$f":"'Country list'!I132","v":"Oceania"},{"$f":"'Country list'!J132","v":"oc"}]
[null,"Comparison of default and specified rations",null,null,null,null,null,4,"b","4b","Synthetic fertilizers N2O",4,"Eastern Europe",9.1512932267625996E-2,8.2361639040863382E-2,0.14534406889564128,0.17813399597070001,5.8261455735156002E-2,0.20688761832483962,7.8984582098069994E-2,8.4163898956959832E-2,5.0498339374175902E-2,4.7567948727959997E-2,1.4425017973082576E-2,2.4447432651394492E-2,3.0659364781448787E-3,9.1668802371844008E-2,8.2501922134659594E-2,8.6373112979489991E-2,5.2760300022892004E-2,0.18735290212210623,5.2075254730801997E-2,5.5490025532821806E-2,3.3294015319693081E-2,6.0010363056923997E-2,6.394546883114853E-2,3.8367281298689118E-2,2.9734876297866399E-2,9.0171246920301013E-3,1.528216803812576E-2,4.4541361014180006E-2,1.3507202861523538E-2,2.2891925187338503E-2,2.6784285414097851E-3,null,null,null,null,null,null,null,null,null,null,null,null,null,null,null,null,null,null,"Maize grain EI","USA",270,null,null,null,null,null,null,null,null,null,{"$f":"'Country list'!H133","v":"Martinique"},{"$f":"'Country list'!I133","v":"Latin America and the Caribbean"},{"$f":"'Country list'!J133","v":"lac"}]
[null,null,"Default","Specified",null,null,null,5,"b","5b","Synthetic fertilizers N2O",5,"West Asia & Northern Africa",0.32537823542850003,0.29284041188565002,0.51677719744526474,0.42424435634166002,3.9291772642303997E-2,0.1395258865257325,8.6302411160541992E-2,9.1961585662872616E-2,5.5176951397723571E-2,0.22229928523316803,6.7412433595376117E-2,0.11425018209785814,1.5926685478686128E-2,9.3711208537711997E-3,8.4340087683940791E-3,0.13046786520866599,3.8600235653547997E-2,0.13707022456566018,4.615074672629E-2,4.9177025200145087E-2,2.950621512008705E-2,5.3269288939296E-2,5.6762357066462953E-2,3.4057414239877772E-2,0.124661998706858,3.7803849440533645E-2,6.4069733908511978E-2,0.184809437603702,5.6043607729960934E-2,9.4982365226585652E-2,1.4331674196348648E-2,null,null,null,null,null,null,null,null,null,null,null,null,null,null,null,null,null,null,"Maize grain EI","Average",{"$f":"AVERAGE(BM130:BM134)","v":512.79999999999995},null,null,null,null,null,null,null,null,null,{"$f":"'Country list'!H134","v":"Mauritania"},{"$f":"'Country list'!I134","v":"Sub-Saharan Africa"},{"$f":"'Country list'!J134","v":"ssa"}]
[null,"Commercial",null,null,null,"Default","With N and S wheat and maize merged",6,"b","6b","Synthetic fertilizers N2O",6,"East Asia",0.79633241798760002,0.71669917618883994,1.2647632520979528,1.1767960432928999,0.39180602878401999,1.3913112042534583,0.29720331775033598,0.316692059897899,0.19001523593873942,0.35370211955246,0.10726044675251334,0.18178435222983577,2.2968878490880803E-2,1.0231321272428999,0.92081891451860987,0.61623774748437998,0.40263686748141997,1.4297717335054501,0.24652428517573599,0.26268981207250558,0.15761388724350334,0.28326536307569999,0.30184014098230327,0.18110408458938199,0.22684770531499401,6.8791745572957863E-2,0.11658783164118038,0.33887534448793999,0.1027642155189214,0.17416416690504441,1.9755734278875187E-2,null,null,null,null,null,null,null,null,null,null,null,null,null,null,null,null,null,null,"Maize gluten meal",null,1020,null,null,null,null,null,null,null,null,null,{"$f":"'Country list'!H135","v":"Mauritius"},{"$f":"'Country list'!I135","v":"Sub-Saharan Africa"},{"$f":"'Country list'!J135","v":"ssa"}]
["c_","Blood meal",{"$f":"IFERROR(VLOOKUP(CONCATENATE(A137,B137),E$137:G$180,3,FALSE),0)","v":0},{"$f":"IFERROR(VLOOKUP(B137,B$7:C$16,2,FALSE),0)*F$36","v":0},{"$f":"TRANSPOSE(N296:BE296)","v":"c_Soybean"},{"$f":"TRANSPOSE(N302:BE302)","v":0},{"$f":"F137","v":0},7,"b","7b","Synthetic fertilizers N2O",7,"Oceania",5.7698456075759998E-2,5.1928610468183992E-2,9.1638724355618817E-2,0.12477876251782001,5.7811395119599998E-2,0.20528944389408973,6.1021901230422004E-2,6.5023337376679188E-2,3.9014002426007513E-2,4.1156468069096001E-2,1.2480731405942417E-2,2.1152267612857458E-2,1.3892720856847984E-3,0,0,7.4052150186545998E-2,5.9846162592165998E-2,0.21251494471503837,5.8135541970976E-2,6.1947708657597383E-2,3.7168625194558429E-2,6.7765278014015995E-2,7.2208902801820324E-2,4.33253416810922E-2,2.9171614281952397E-2,8.8463150414062903E-3,1.4992680882017802E-2,4.3613325921024002E-2,1.3225775487495151E-2,2.2414963786967539E-2,1.2644115132619137E-3,null,null,null,null,null,null,null,null,null,null,null,null,null,null,null,null,null,null,null,"Ratio of gluten meal EI to grain EI",{"$f":"BM136/BM135","v":1.9890795631825275},null,null,null,null,null,null,null,null,null,{"$f":"'Country list'!H136","v":"Mayotte"},{"$f":"'Country list'!I136","v":"Sub-Saharan Africa"},{"$f":"'Country list'!J136","v":"ssa"}]
["c_","Cassava",{"$f":"IFERROR(VLOOKUP(CONCATENATE(A138,B138),E$137:G$180,3,FALSE),0)","v":0},{"$f":"IFERROR(VLOOKUP(B138,B$7:C$16,2,FALSE),0)*F$36","v":0},"c_Soybean meal",0.254,{"$f":"F138","v":0.254},8,"b","8b","Synthetic fertilizers N2O",8,"South Asia",0.53865433111696004,0.48478889800526398,0.85550982000928943,1.0205079033041,0.41821374790875998,1.4850855537984533,0.182174389832572,0.19412025146093739,0.11647215087656243,0.261998946312682,7.9451387132606674E-2,0.13465372726805636,1.5849014182037029E-2,0.5633251722907,0.50699265506162994,0.47713604709040003,0.46850848244582,1.6636831825627072,0.14899046684143,0.15876033351955657,9.5256200111733941E-2,0.17207513109316799,0.18335874624681836,0.11001524774809102,0.17567171319386399,5.3272585594892265E-2,9.0286053780109315E-2,0.27461517939821001,8.3277269767406292E-2,0.1411378098682263,1.472774349817702E-2,null,null,null,null,null,null,null,null,null,null,null,null,null,null,null,null,null,null,null,null,null,null,null,null,null,null,null,null,null,null,{"$f":"'Country list'!H137","v":"Mexico"},{"$f":"'Country list'!I137","v":"Latin America and the Caribbean"},{"$f":"'Country list'!J137","v":"lac"}]
["c_","Feather meal",0,0,"c_Soy oil",0,{"$f":"F139","v":0},9,"b","9b","Synthetic fertilizers N2O",9,"Central & South America",7.9129021265583993E-2,7.1216119139025591E-2,0.12567550436298633,0.27503777714432603,3.9557329437135996E-2,0.14046888412370737,5.5867116781904001E-2,5.9530534275799352E-2,3.5718320565479612E-2,6.2342543038581999E-2,1.8905425351895062E-2,3.2040799803430144E-2,4.8333786798892484E-3,8.4579886926669998E-2,7.6121898234002991E-2,0.145118952496084,4.1383074683932E-2,0.14695214275518706,5.3519368870198002E-2,5.7028835681358532E-2,3.4217301408815119E-2,6.1852877435710003E-2,6.5908803824936898E-2,3.9545282294962139E-2,4.5003576757099997E-2,1.3647370150157186E-2,2.3129479854874728E-2,6.8436030298431996E-2,2.0753280169952832E-2,3.5172532900631159E-2,4.6290378386607415E-3,null,null,null,null,null,null,null,null,null,null,null,null,null,null,null,null,null,null,null,null,null,null,null,null,null,null,null,null,null,null,{"$f":"'Country list'!H138","v":"Micronesia (Federated States of)"},{"$f":"'Country list'!I138","v":"Oceania"},{"$f":"'Country list'!J138","v":"oc"}]
["c_","Fishmeal - reduction",{"$f":"IFERROR(VLOOKUP(CONCATENATE(A140,B140),E$137:G$180,3,FALSE),0)","v":0.17599999999999999},{"$f":"IFERROR(VLOOKUP(B140,B$7:C$16,2,FALSE),0)*F$36","v":0.13999999999999999},"c_Pulses",0,0,10,"b","10b","Synthetic fertilizers N2O",10,"Sub-Saharan Africa",7.7840092068209993E-2,7.0056082861388994E-2,0.12362838152009821,5.0192081602430001E-2,5.050678362035E-2,0.17935061938654892,3.5664974013300002E-2,3.8003660833844266E-2,2.280219650030656E-2,3.0780627057551999E-2,9.334249434787039E-3,1.5819629121717346E-2,7.8920407946805253E-4,8.8603862910642012E-2,7.9743476619577799E-2,1.7458892463765401E-2,5.9222053387248001E-2,0.21029872019145202,3.172127043952E-2,3.3801353747029507E-2,2.0280812248217706E-2,3.6701650708089999E-2,3.9108316328292626E-2,2.3464989796975574E-2,1.9212976447297001E-2,5.8263502627298857E-3,9.8744629585431776E-3,3.0114993976863999E-2,9.1323956780207972E-3,1.5477528603493926E-2,7.3465186953961101E-4,null,null,null,null,null,null,null,null,null,null,null,null,null,null,null,null,null,null,null,null,null,null,null,null,null,null,null,null,null,null,{"$f":"'Country list'!H139","v":"Moldova, Republic of"},{"$f":"'Country list'!I139","v":"Eastern Europe"},{"$f":"'Country list'!J139","v":"ee"}]
["c_","Fishoil - reduction",{"$f":"IFERROR(VLOOKUP(CONCATENATE(A141,B141),E$137:G$180,3,FALSE),0)","v":0.112},0,"c_Oilseed meal (non-soy)",0,0,1,"c","1c","Crop residue N2O",1,"North America",6.2223394168527998E-2,5.6001054751675196E-2,9.8825390738250349E-2,{"$f":"V24","v":4.714914972999E-2},3.6709200503522006E-2,0.13035512015536382,5.0897391222021998E-2,5.4234925072646392E-2,3.2540955043587838E-2,4.2582351685395994E-2,1.2913131737314315E-2,2.1885097062316797E-2,4.1688293392396622E-3,0.10259924113065601,9.2339317017590392E-2,7.6462586119378007E-2,5.8443335990997998E-2,0.2075334788251765,7.0685318642108003E-2,7.5320421503885585E-2,4.5192252902331351E-2,8.1604989943932005E-2,8.6956136825501323E-2,5.2173682095300794E-2,5.1969002524755996E-2,1.5759641008487289E-2,2.670934364755E-2,7.6520738191912005E-2,2.3204974215822471E-2,3.9327649045378284E-2,6.7011072189070136E-3,null,null,null,null,null,null,null,null,null,null,null,null,null,null,null,null,null,null,null,"Dry milled maize",null,null,null,null,null,null,null,null,null,null,{"$f":"'Country list'!H140","v":"Monaco"},{"$f":"'Country list'!I140","v":"Western Europe"},{"$f":"'Country list'!J140","v":"we"}]
["c_","Lime",0,0,"c_Oilseed oil (non-soy)",0,0,2,"c","2c","Crop residue N2O",2,"Russian Federation",7.3402581561718E-2,6.60623234055462E-2,0.11658057071566975,5.0199809193005998E-2,3.8775368360949997E-2,0.13769212438378156,5.1839905790987996E-2,5.5239243875642947E-2,3.314354632538577E-2,4.4697356875887995E-2,1.3554508729635137E-2,2.2972098884649118E-2,4.4952542643017131E-3,0.12320258549867601,0.1108823269488084,7.7089162776216011E-2,6.4654966059492003E-2,0.22959110396635929,7.1556099312038005E-2,7.6248302545614266E-2,4.5748981527368567E-2,8.2918888540147992E-2,8.8356192706715075E-2,5.3013715624029047E-2,5.2564395620637999E-2,1.5940194434456208E-2,2.7015344494799583E-2,7.9775615071440001E-2,2.4192018196967795E-2,4.1000485176192335E-2,6.8606355552579424E-3,null,null,null,null,null,null,null,null,null,null,null,null,null,null,null,null,null,null,null,"Ethanol","*DDGS",null,null,null,null,null,null,null,null,null,{"$f":"'Country list'!H141","v":"Mongolia"},{"$f":"'Country list'!I141","v":"East Asia and Southeast Asia"},{"$f":"'Country list'!J141","v":"esea"}]
["c_","Maize",0,0.105,"c_Wheat",0,0,3,"c","3c","Crop residue N2O",3,"Western Europe",5.9161347133470002E-2,5.3245212420122999E-2,9.3962139564922942E-2,4.1036243754291997E-2,3.5078991058906002E-2,0.1245662131479519,4.6288572775548001E-2,4.9323889023124921E-2,2.9594333413874952E-2,4.1185734909845999E-2,1.2489606598485373E-2,2.1167309235153316E-2,4.2537816962312279E-3,0.10241787257836199,9.2176085320525777E-2,7.5642498792072008E-2,5.8207631460300002E-2,0.20669648722637138,6.7507609259218004E-2,7.1934337735232307E-2,4.3160602641139384E-2,7.7466236252841991E-2,8.2545989449749668E-2,4.9527593669849802E-2,5.0855821813342E-2,1.5422068079680348E-2,2.6137227102715082E-2,7.4946373817368003E-2,2.2727546977392293E-2,3.8518508267928783E-2,6.7110959596469863E-3,null,null,null,null,null,null,null,null,null,null,null,null,null,null,null,null,null,null,"Mass",1,0.92,"Kim and Dale (2002)",null,null,null,null,null,null,null,null,{"$f":"'Country list'!H142","v":"Montenegro"},{"$f":"'Country list'!I142","v":"Western Europe"},{"$f":"'Country list'!J142","v":"we"}]
["c_","Maize DDGS",0,0,"c_Wheat flour",0,0,4,"c","4c","Crop residue N2O",4,"Eastern Europe",7.2860635467923998E-2,6.5574571921131586E-2,0.11571983280199694,4.9060345132508003E-2,3.8775021443058E-2,0.13769089247126715,5.1175068452846001E-2,5.4530810646475247E-2,3.2718486387885153E-2,4.4522085401806001E-2,1.3501357516866626E-2,2.2882018532796325E-2,4.4952542643017131E-3,0.113748229341522,0.10237340640736979,7.6649687485710008E-2,5.8197848382540003E-2,0.20666174731759096,7.0499565917986007E-2,7.5122488273263788E-2,4.5073492963958267E-2,8.1287421518843994E-2,8.6617744241391154E-2,5.1970646544834687E-2,5.2215179632203998E-2,1.5834294410504001E-2,2.6835865778850412E-2,7.8209307859678001E-2,2.3717034299506706E-2,4.01954853581439E-2,6.8403791643032365E-3,null,null,null,null,null,null,null,null,null,null,null,null,null,null,null,null,null,null,"Value (€/kg)",0.64200000000000002,0.22800000000000001,"Henriksson et al (2014b, p101)",null,null,null,null,null,null,null,null,{"$f":"'Country list'!H143","v":"Montserrat"},{"$f":"'Country list'!I143","v":"Latin America and the Caribbean"},{"$f":"'Country list'!J143","v":"lac"}]
["c_","Maize gluten meal",0,0,"c_Wheat by-products",0,0,5,"c","5c","Crop residue N2O",5,"West Asia & Northern Africa",6.5393020369958005E-2,5.8853718332962199E-2,0.10385950294052153,5.6363352137773999E-2,5.6819587887874001E-2,0.2017675161732668,5.3294158598729997E-2,5.6788857523236889E-2,3.4073314513942132E-2,4.4105047010781995E-2,1.3374890295831074E-2,2.2667682656428958E-2,4.2297807749764127E-3,0.115541837003606,0.10398765330324539,7.6529055542665994E-2,8.0433873983592002E-2,0.28562232802336746,7.2131349501412007E-2,7.6861274058881657E-2,4.6116764435328993E-2,8.4086257789697999E-2,8.9600110759514268E-2,5.3760066455708563E-2,5.2233726717421998E-2,1.5839918828726197E-2,2.6845398008615875E-2,7.7845703461254009E-2,2.3606770978875539E-2,4.0008611753543907E-2,6.7275232545292319E-3,null,null,null,null,null,null,null,null,null,null,null,null,null,null,null,null,null,null,"MFA",{"$f":"BL143/(BL143+BM143)","v":0.52083333333333337},{"$f":"1-BL145","v":0.47916666666666663},null,null,null,null,null,null,null,null,null,{"$f":"'Country list'!H144","v":"Morocco"},{"$f":"'Country list'!I144","v":"Near East and North Africa"},{"$f":"'Country list'!J144","v":"nena"}]
["c_","Meat and bone meal",0,0,"c_Maize",0,0,6,"c","6c","Crop residue N2O",6,"East Asia",6.6852737130773998E-2,6.016746341769659E-2,0.10617787661946458,5.3265082562611997E-2,3.3013157109882001E-2,0.11723039463509115,5.0278923765321996E-2,5.35759023728841E-2,3.214554142373046E-2,4.4387984380559999E-2,1.346069127639565E-2,2.2813097635993648E-2,4.3714775519237145E-3,0.11408820864741401,0.10267938778267259,7.6973725925281997E-2,5.4127346404164001E-2,0.19220731172090885,7.0710704341883993E-2,7.5347471839712452E-2,4.5208483103827475E-2,8.1245297042252002E-2,8.6572857504039022E-2,5.1943714502423417E-2,5.2282646443910001E-2,1.5854753774371289E-2,2.6870540184190436E-2,7.8102066938206011E-2,2.3684513405479293E-2,4.014036914491062E-2,6.7744126106920217E-3,null,null,null,null,null,null,null,null,null,null,null,null,null,null,null,null,null,null,"EFA",{"$f":"BL143*BL144/(BL143*BL144+BM143*BM144)","v":0.75373344604113834},{"$f":"1-BL146","v":0.24626655395886166},null,null,null,null,null,null,null,null,null,{"$f":"'Country list'!H145","v":"Mozambique"},{"$f":"'Country list'!I145","v":"Sub-Saharan Africa"},{"$f":"'Country list'!J145","v":"ssa"}]
["c_","Oilseed meal (non-soy)",0,3.4999999999999996E-2,"c_Maize gluten meal",0,0,7,"c","7c","Crop residue N2O",7,"Oceania",6.4600330864652E-2,5.8140297778186793E-2,0.10260052549091787,5.6881239492117999E-2,4.2656991019467995E-2,0.15147584566096794,5.3614294214550003E-2,5.7129985638454922E-2,3.4277991383072956E-2,4.3582094658612E-2,1.3216304582533669E-2,2.2398912554891039E-2,4.0337651974944556E-3,0.11690774722948201,0.10521697250653379,7.6120638055625994E-2,6.4261886669701992E-2,0.22819527103118659,7.2131796157818007E-2,7.6861750004232302E-2,4.6117050002539385E-2,8.407559007182E-2,8.9588743519152469E-2,5.375324611149148E-2,5.2400832617514E-2,1.5890593824741284E-2,2.6931281683388434E-2,7.8801019291911995E-2,2.3896471258070293E-2,4.0499594023231195E-2,6.6403375207938174E-3,null,null,null,null,null,null,null,null,null,null,null,null,null,null,null,null,null,null,"FFA",{"$f":"BL146/BL145","v":1.4471682163989854},{"$f":"BM146/BM145","v":0.51394759087066788},null,null,null,null,null,null,null,null,null,{"$f":"'Country list'!H146","v":"Myanmar"},{"$f":"'Country list'!I146","v":"East Asia and Southeast Asia"},{"$f":"'Country list'!J146","v":"esea"}]
["c_","Oilseed oil (non-soy)",0,0.105,"c_Maize DDGS",0,0,8,"c","8c","Crop residue N2O",8,"South Asia",8.8318401714793993E-2,7.9486561543314585E-2,0.14027040272349633,7.6060473860569994E-2,5.3517504187645996E-2,0.1900417495642939,5.1820777618584002E-2,5.5218861396851809E-2,3.3131316838111088E-2,4.8496829433068003E-2,1.4706701779602422E-2,2.4924828651990999E-2,4.9475067529992688E-3,0.13019611593330602,0.11717650433997541,7.4756896064936004E-2,7.9297683958502008E-2,0.28158769405672135,7.1238409465955999E-2,7.5909780578477706E-2,4.5545868347086627E-2,8.2287160155862002E-2,8.7683039510344757E-2,5.2609823706206857E-2,5.3031142975653998E-2,1.6081735938032481E-2,2.7255228173455315E-2,8.2694970537038004E-2,2.5077315044681456E-2,4.2500880884631539E-2,7.0942245975474773E-3,null,null,null,null,null,null,null,null,null,null,null,null,null,null,null,null,null,null,"Energy use (MJ/kg ethanol)",13.7,null,"Kim and Dale (2002)",null,null,null,null,null,null,null,null,{"$f":"'Country list'!H147","v":"Namibia"},{"$f":"'Country list'!I147","v":"Sub-Saharan Africa"},{"$f":"'Country list'!J147","v":"ssa"}]
["c_","Poultry meal",0,0,"c_Rice by-products",0,0,9,"c","9c","Crop residue N2O",9,"Central & South America",6.3226480560789999E-2,5.6903832504710997E-2,0.10041852794948999,6.3255881832320004E-2,3.7504149309833999E-2,0.13317799959002274,5.1383696059864002E-2,5.4753118752314103E-2,3.2851871251388463E-2,4.5472965022683998E-2,1.3789712511946342E-2,2.3370720823154587E-2,4.6065837881807906E-3,0.10297158785405801,9.2674429068652198E-2,7.5727580348018006E-2,5.9207365760822001E-2,0.21024656413026582,7.1247533400198002E-2,7.5919502803489677E-2,4.5551701682093805E-2,8.2305668212914004E-2,8.7702761210482136E-2,5.2621656726289288E-2,5.2563818870246005E-2,1.5940019534444898E-2,2.7015048075325086E-2,7.9779847466802001E-2,2.4193301674199811E-2,4.1002660405592244E-2,6.9454088008929831E-3,null,null,null,null,null,null,null,null,null,null,null,null,null,null,null,null,null,null,null,null,null,null,null,null,null,null,null,null,null,null,{"$f":"'Country list'!H148","v":"Nauru"},{"$f":"'Country list'!I148","v":"Oceania"},{"$f":"'Country list'!J148","v":"oc"}]
["c_","Pulses",0,0,"nc_Soybean",0,0,10,"c","10c","Crop residue N2O",10,"Sub-Saharan Africa",8.1720660964457986E-2,7.3548594868012185E-2,0.12979163800237445,8.0841415503506001E-2,4.4919163017664E-2,0.15950886459333743,5.2319202892120005E-2,5.5749970294881976E-2,3.3449982176929183E-2,5.1881076244121999E-2,1.5732977294529275E-2,2.6664154147443938E-2,5.9327510311864345E-3,0.13175218907410802,0.1185769701666972,7.426158437734999E-2,6.8653317837599995E-2,0.24378933272943665,7.1490063535668003E-2,7.6177936554400333E-2,4.57067619326402E-2,8.279326965561E-2,8.8222336518272951E-2,5.2933401910963775E-2,5.3524295101045997E-2,1.6231284709053211E-2,2.7508682520233283E-2,8.6358169501289994E-2,2.618818302010148E-2,4.4383573167188779E-2,7.4221654034291179E-3,null,null,null,null,null,null,null,null,null,null,null,null,null,null,null,null,null,null,null,null,null,null,null,null,null,null,null,null,null,null,{"$f":"'Country list'!H149","v":"Nepal"},{"$f":"'Country list'!I149","v":"South Asia"},{"$f":"'Country list'!J149","v":"sa"}]
["c_","Rice by-products",0,6.9999999999999993E-2,"nc_Soybean meal",0,0,1,"d","1d","Energy used in field operations CO2",1,"North America",0.10998852551,9.8989672958999991E-2,0.17468765816294118,0.118600621819,0.116743505001,0.41455856877906111,5.8451779186699998E-2,6.2284682739926232E-2,3.7370809643955741E-2,5.9908039867899998E-2,1.8167160345063424E-2,3.0789592763891128E-2,0.24868734569742065,0.110911913216,9.9820721894399986E-2,6.8854734301599996E-2,0.123412840068,0.43824151371085701,5.1716849207899998E-2,5.5108118008418035E-2,3.3064870805050821E-2,5.97076080739E-2,6.3622861062352459E-2,3.8173716637411481E-2,4.1819781064999999E-2,1.2681881595167841E-2,2.1493175729095523E-2,6.1581008136299999E-2,1.8674489292083627E-2,3.1649410775038384E-2,0.22381650012062748,null,null,null,null,null,null,null,null,null,null,null,null,null,null,null,null,null,null,null,null,null,null,null,null,null,null,null,null,null,null,{"$f":"'Country list'!H150","v":"Netherlands"},{"$f":"'Country list'!I150","v":"Western Europe"},{"$f":"'Country list'!J150","v":"we"}]
["c_","Soy oil",0,2.7999999999999997E-2,"nc_Pulses",0,0,2,"d","2d","Energy used in field operations CO2",2,"Russian Federation",0.17551122605800001,0.15796010345219999,0.27875312373917649,0.131260231137,0.131145700812,0.46570106002628553,6.4956933260000002E-2,6.9216404293442627E-2,4.1529842576065575E-2,0.11605399847,3.5193466578764591E-2,5.9645672924564679E-2,0.35599153449242205,0.230434507132,0.20739105641879998,7.7957376837700001E-2,0.16840937733700001,0.59802513584975492,6.7858070135099993E-2,7.2307779652155735E-2,4.3384667791293442E-2,7.8633613884400003E-2,8.3789916434196726E-2,5.0273949860518037E-2,9.8267391324000003E-2,2.9799663931765055E-2,5.0504289032114971E-2,0.149137869477,4.5226176558007529E-2,7.6649048725288257E-2,0.32335830333694288,null,null,null,null,null,null,null,null,null,null,null,null,null,null,null,null,null,null,null,"Wet milled maize",null,null,null,null,null,null,null,null,null,null,{"$f":"'Country list'!H151","v":"Netherlands Antilles"},{"$f":"'Country list'!I151","v":"Latin America and the Caribbean"},{"$f":"'Country list'!J151","v":"lac"}]
["c_","Soybean",0,0.13999999999999999,"nc_Oilseed meal (non-soy)",7.1999999999999995E-2,7.1999999999999995E-2,3,"d","3d","Energy used in field operations CO2",3,"Western Europe",0.122368164361,0.11013134792489998,0.19434943751452941,8.4237642586200007E-2,0.104094170034,0.36964052216155086,2.89898943156E-2,3.089087099203279E-2,1.8534522595219673E-2,6.7251905798900002E-2,2.0394193481439053E-2,3.4563954966805754E-2,0.28683094188720315,9.43505614996E-2,8.4915505349639986E-2,5.25846965611E-2,0.12101408839199999,0.42972349755526512,2.5185260921699999E-2,2.6836753441155738E-2,1.6102052064693444E-2,2.8919162228700002E-2,3.0815500735500004E-2,1.8489300441300004E-2,4.3331954628199998E-2,1.3140449421002188E-2,2.2270353688880477E-2,6.3922002911599995E-2,1.9384397804256777E-2,3.2852559400044633E-2,0.24765041070208116,null,null,null,null,null,null,null,null,null,null,null,null,null,null,null,null,null,null,null,"Ethanol","Corn oil","Corn gluten meal","Corn gluten feed","Total mass/value",null,null,null,null,null,null,{"$f":"'Country list'!H152","v":"New Caledonia"},{"$f":"'Country list'!I152","v":"Oceania"},{"$f":"'Country list'!J152","v":"oc"}]
["c_","Soybean meal",0.254,1.3999999999999999E-2,"nc_Oilseed oil (non-soy)",0.192,0.192,4,"d","4d","Energy used in field operations CO2",4,"Eastern Europe",0.17333358526199999,0.15600022673579997,0.27529451776905878,0.131260231137,0.131145700812,0.46570106002628553,6.4956933260000002E-2,6.9216404293442627E-2,4.1529842576065575E-2,0.11605399847,3.5193466578764591E-2,5.9645672924564679E-2,0.35599153449242205,0.17430740594899999,0.15687666535409997,7.1898400783500002E-2,0.120623245835,0.42833560765897943,4.6119745820800001E-2,4.9143991448393445E-2,2.9486394869036068E-2,5.3183808922800002E-2,5.6671271802983612E-2,3.400276308179017E-2,7.3840335011500002E-2,2.2392139837075675E-2,3.7950062288243457E-2,0.110660679638,3.3557938388741222E-2,5.6873789704060873E-2,0.31071879723268259,null,null,null,null,null,null,null,null,null,null,null,null,null,null,null,null,null,null,"Mass",1,0.13,0.16,0.68,{"$f":"SUM(BL154:BO154)","v":1.9699999999999998},"Kim and Dale (2002)",null,null,null,null,null,{"$f":"'Country list'!H153","v":"New Zealand"},{"$f":"'Country list'!I153","v":"Oceania"},{"$f":"'Country list'!J153","v":"oc"}]
["c_","Vitamin/mineral premix",2.1000000000000001E-2,0,"nc_Wheat",0,{"$f":"F155+F158","v":0.106},5,"d","5d","Energy used in field operations CO2",5,"West Asia & Northern Africa",0.12818007171199999,0.11536206454079999,0.20358011389552938,0.18235430121400001,0.264688909054,0.93991571786522421,9.0815640986000007E-2,9.6770764985081983E-2,5.8062458991049191E-2,9.9725753068899997E-2,3.0241913281253467E-2,5.1253810537524265E-2,0.26872363744164479,0.18534450232999999,0.16681005209699998,4.1196625679699998E-2,6.8711251020400002E-2,0.24399505464386931,9.1981485486000006E-2,9.8013058304754111E-2,5.8807834982852469E-2,0.10752525180600001,0.11457608799000002,6.8745652794000009E-2,6.2295984476800001E-2,1.889130643130954E-2,3.2016871142767883E-2,9.3393243849300006E-2,2.8321574865362343E-2,4.7999232679944562E-2,0.10536494968316348,null,null,null,null,null,null,null,null,null,null,null,null,null,null,null,null,null,null,"Value (€/kg)",0.73099999999999998,0.95,0.51200000000000001,0.161,{"$f":"SUMPRODUCT(BL154:BO154,BL155:BO155)","v":1.0459000000000001},"Henriksson et al (2014b, p101)",null,null,null,null,null,{"$f":"'Country list'!H154","v":"Nicaragua"},{"$f":"'Country list'!I154","v":"Latin America and the Caribbean"},{"$f":"'Country list'!J154","v":"lac"}]
["c_","Wheat",0,0,"nc_Wheat flour",0,{"$f":"F156+F159","v":0},6,"d","6d","Energy used in field operations CO2",6,"East Asia",0.13662995398,0.12296695858199999,0.21700051514470586,0.15667051076899999,8.8500238955000005E-2,0.31426615465653057,3.7200417369600003E-2,3.9639789000393451E-2,2.378387340023607E-2,0.10752543062,3.2607171650966049E-2,5.5262436024480145E-2,0.31530283135870318,3.8037557154900002E-2,3.4233801439409996E-2,1.23676266521E-2,1.81181877851E-2,6.4338054583824481E-2,1.25394864008E-2,1.3361747804131149E-2,8.0170486824786887E-3,1.4408881776E-2,1.5353726482622952E-2,9.2122358895737715E-3,4.1855078190599998E-2,1.2692585476348214E-2,2.1511316601762302E-2,6.2522239983099998E-2,1.8959918592064078E-2,3.2133154615151989E-2,0.13342421081829259,null,null,null,null,null,null,null,null,null,null,null,null,null,null,null,null,null,null,"MFA",{"$f":"BL154/$BP154","v":0.50761421319796962},{"$f":"BM154/$BP154","v":6.5989847715736058E-2},{"$f":"BN154/$BP154","v":8.1218274111675134E-2},{"$f":"BO154/$BP154","v":0.34517766497461938},null,null,null,null,null,null,null,{"$f":"'Country list'!H155","v":"Niger"},{"$f":"'Country list'!I155","v":"Sub-Saharan Africa"},{"$f":"'Country list'!J155","v":"ssa"}]
["c_","Wheat by-products",0,3.4999999999999996E-2,"nc_Wheat by-products",0,{"$f":"F157+F160","v":6.6000000000000003E-2},7,"d","7d","Energy used in field operations CO2",7,"Oceania",0.12294872105100001,0.1106538489459,0.19527149813982353,0.18664740026000001,0.159873187542,0.567712951679755,9.6508115529999994E-2,0.10283651654836065,6.1701909929016391E-2,8.5309699177699996E-2,2.5870233567445357E-2,4.3844714370280313E-2,0.20428833742435887,0,0,0.112539172173,0.16550020873499999,0.58769461877326512,9.30051803589E-2,9.910388071030328E-2,5.9462328426181973E-2,0.108416691422,0.11552598266278689,6.9315589597672131E-2,8.1232011318200001E-2,2.4633671507594879E-2,4.174899651856772E-2,0.122271083295,3.7078802455947163E-2,6.2840928692612014E-2,0.18583371303482207,null,null,null,null,null,null,null,null,null,null,null,null,null,null,null,null,null,null,"EFA",{"$f":"BL154*BL155/$BP155","v":0.69891959078305765},{"$f":"BM154*BM155/$BP155","v":0.11808012238263696},{"$f":"BN154*BN155/$BP155","v":7.832488765656373E-2},{"$f":"BO154*BO155/$BP155","v":0.10467539917774166},{"$f":"SUM(BL157:BO157)","v":1},null,null,null,null,null,null,{"$f":"'Country list'!H156","v":"Nigeria"},{"$f":"'Country list'!I156","v":"Sub-Saharan Africa"},{"$f":"'Country list'!J156","v":"ssa"}]
["c_","Wheat flour",0,2.7999999999999997E-2,"nc_Wheat",0.106,null,8,"d","8d","Energy used in field operations CO2",8,"South Asia",0.261833786964,0.23565040826759998,0.41585366164870585,0.34563788771600001,0.24025058746299999,0.85313473915432625,6.4616814255699997E-2,6.8853982403614761E-2,4.1312389442168855E-2,0.22079409658900001,6.6955983951747886E-2,0.1134765940203821,0.50465804286689353,1.9378632307100001E-2,1.744076907639E-2,2.41859387606E-2,5.5355686694399997E-2,0.19656917315970607,6.81082578376E-3,7.2574373105639351E-3,4.3544623863383605E-3,7.8715579584200009E-3,8.3877256933983617E-3,5.0326354160390172E-3,1.07754189521E-2,3.2676542968138023E-3,5.5380006110539318E-3,1.6821656376099999E-2,5.101180564879659E-3,8.6454497689508036E-3,0.13951287929523301,null,null,null,null,null,null,null,null,null,null,null,null,null,null,null,null,null,null,"FFA",{"$f":"BL157/BL156","v":1.3768715938426235},{"$f":"BM157/BM156","v":1.7893680084138057},0.96437517927144079,0.3032507887943397,null,null,null,null,null,null,null,{"$f":"'Country list'!H157","v":"Niue"},{"$f":"'Country list'!I157","v":"Oceania"},{"$f":"'Country list'!J157","v":"oc"}]
[null,null,null,null,"nc_Wheat flour",0,null,9,"d","9d","Energy used in field operations CO2",9,"Central & South America",0.115299187601,0.10376926884089999,0.18312223913099998,0.23949146270800001,0.121737509966,0.4322923823282448,5.6844793260100002E-2,6.057232068699181E-2,3.6343392412195086E-2,0.13743504881900001,4.1677286962350339E-2,7.0634412241717681E-2,0.3925882617434901,0.111767925322,0.10059113278979999,6.9094888865899998E-2,0.100419268012,0.35659087008342849,5.4379086941500003E-2,5.7944928708155742E-2,3.4766957224893445E-2,6.2844514846799995E-2,6.6965466640032792E-2,4.017927998401967E-2,9.6670143306299999E-2,2.9315297210497332E-2,4.9683387261395102E-2,0.14689660072300001,4.4546510040456927E-2,7.5497154048676268E-2,0.18618483048101681,null,null,null,null,null,null,null,null,null,null,null,null,null,null,null,null,null,null,"Energy use (MJ/kg ethanol)",12.3,null,null,null,null,null,null,null,null,null,null,{"$f":"'Country list'!H158","v":"Norfolk Island"},{"$f":"'Country list'!I158","v":"Oceania"},{"$f":"'Country list'!J158","v":"oc"}]
[null,"Non-commercial",null,null,"nc_Wheat by-products",6.6000000000000003E-2,null,10,"d","10d","Energy used in field operations CO2",10,"Sub-Saharan Africa",0.22358030080800001,0.20122227072719998,0.35509812481270586,0.38527047634099998,0.17661522328900001,0.62716426229155087,7.3479518294299995E-2,7.8297847362778686E-2,4.6978708417667214E-2,0.31408762931799999,9.5247321341227667E-2,0.16142458041026544,0.82853280665738505,0,0,1.5898463316299999E-3,4.9457453191300002E-2,0.17562442561808567,1.9208347424900001E-2,2.0467911190467217E-2,1.228074671428033E-2,2.2187596186999999E-2,2.3642520527131148E-2,1.418551231627869E-2,1.9740981981200001E-2,5.9864683573737469E-3,1.0145830130659004E-2,3.0232885852499999E-2,9.1681464822998583E-3,1.5538118848960272E-2,6.737447373614662E-2,null,null,null,null,null,null,null,null,null,null,null,null,null,null,null,null,null,null,null,null,null,null,null,null,"Kim and Dale (2002)",null,null,null,null,null,{"$f":"'Country list'!H159","v":"Northern Mariana Islands"},{"$f":"'Country list'!I159","v":"Oceania"},{"$f":"'Country list'!J159","v":"oc"}]
["nc_","Cassava",0,{"$f":"IFERROR(VLOOKUP(B161,B$18:C$27,2,FALSE),0)*F$37","v":6.900000000000002E-2},"nc_Maize",0,{"$f":"F161+F164","v":0},1,"e","1e","Processing and transport CO2",1,"North America",5.2105002105199999E-2,{"$f":"N161*O$116+O$109","v":0.2155174140295377},{"$f":"N161*P$116+P$109","v":0.79780495742266877},1.1189999990199999E-2,2.3692049086099998E-2,8.4130949815946918E-2,1.4919999986900001E-2,{"$f":"T161*U$116+U$109","v":0.60747564905616858},{"$f":"T161*V$116+V$109","v":0.36448538943370112},1.49199990556E-2,{"$f":"W161*X$116+X$109","v":0.47576808284683936},{"$f":"W161*Y$116+Y$109","v":0.8972333266288024},{"$f":"Y44*Z$116+Z$109","v":0.13810444671561026},0,{"$f":"AA161*AB$116+AB$109","v":0.16862291213485769},0,8.9718298986599995E-3,3.1859151068711011E-2,0,{"$f":"AF161*AG$116+AG$109","v":0.59157728841438983},{"$f":"AF161*AH$116+AH$109","v":0.35494637304863391},0,{"$f":"AI161*AJ$116+AJ$109","v":0.59157728841438983},{"$f":"AI161*AK$116+AK$109","v":0.35494637304863391},0,{"$f":"AL161*AM$116+AM$109","v":0.47124358136441785},{"$f":"AL161*AN$116+AN$109","v":0.88956522905838409},0,{"$f":"AO161*AP$116+AP$109","v":0.47124358136441785},{"$f":"AO161*AQ$116+AQ$109","v":0.88956522905838409},{"$f":"S44*AR$116+AR$109","v":0.13449008899850765},null,null,null,null,null,null,null,null,null,null,null,null,null,null,null,null,null,null,null,"Rice",null,null,null,null,null,null,null,null,null,null,{"$f":"'Country list'!H160","v":"Norway"},{"$f":"'Country list'!I160","v":"Western Europe"},{"$f":"'Country list'!J160","v":"we"}]
["nc_","Groundnut meal",0,{"$f":"IFERROR(VLOOKUP(B162,B$18:C$27,2,FALSE),0)*F$37","v":3.3000000000000008E-2},"nc_Maize gluten meal",0,{"$f":"F162+F165","v":0},2,"e","2e","Processing and transport CO2",2,"Russian Federation",0.21562281251000001,{"$f":"N162*O$116+O$109","v":0.36268344339385772},{"$f":"N162*P$116+P$109","v":1.0575097151244099},1.1189999990199999E-2,2.36920509487E-2,8.4130956430077522E-2,1.4919999986900001E-2,{"$f":"T162*U$116+U$109","v":0.60747564905616858},{"$f":"T162*V$116+V$109","v":0.36448538943370112},1.4919999986900001E-2,{"$f":"W162*X$116+X$109","v":0.47576808312925684},{"$f":"W162*Y$116+Y$109","v":0.89723332710744175},{"$f":"Y45*Z$116+Z$109","v":0.13810444649000359},0,{"$f":"AA162*AB$116+AB$109","v":0.16862291213485769},0,8.9718298986599995E-3,3.1859151068711011E-2,0,{"$f":"AF162*AG$116+AG$109","v":0.59157728841438983},{"$f":"AF162*AH$116+AH$109","v":0.35494637304863391},0,{"$f":"AI162*AJ$116+AJ$109","v":0.59157728841438983},{"$f":"AI162*AK$116+AK$109","v":0.35494637304863391},0,{"$f":"AL162*AM$116+AM$109","v":0.47124358136441785},{"$f":"AL162*AN$116+AN$109","v":0.88956522905838409},0,{"$f":"AO162*AP$116+AP$109","v":0.47124358136441785},{"$f":"AO162*AQ$116+AQ$109","v":0.88956522905838409},{"$f":"S45*AR$116+AR$109","v":0.13449008899850765},null,null,null,null,null,null,null,null,null,null,null,null,null,null,null,null,null,null,null,"Dried rice","Husks","Broken rice","Bran","Polishings","White rice",null,null,null,null,null,{"$f":"'Country list'!H161","v":"Oman"},{"$f":"'Country list'!I161","v":"Near East and North Africa"},{"$f":"'Country list'!J161","v":"nena"}]
["nc_","Maize",0,1.2000000000000002E-2,"nc_Maize DDGS",0,{"$f":"F163+F166","v":0},3,"e","3e","Processing and transport CO2",3,"Western Europe",0.21468177437800001,0.36183650907505771,1.0560151251500569,1.1189999990199999E-2,2.36920509487E-2,8.4130956430077522E-2,1.49199990556E-2,0.60747564806379972,0.3644853888382798,1.49200009182E-2,0.47576808341167426,0.8972333275860811,0.13810444671561026,0,0.16862291213485769,0,8.9718298986599995E-3,3.1859151068711011E-2,0,0.59157728841438983,0.35494637304863391,0,0.59157728841438983,0.35494637304863391,0,0.47124358136441785,0.88956522905838409,0,0.47124358136441785,0.88956522905838409,0.13449008899850765,null,null,null,null,null,null,null,null,null,null,null,null,null,null,null,null,null,null,null,900,{"$f":"BL163*0.2","v":180},{"$f":"(BL163-BM163)*0.12","v":86.399999999999991},{"$f":"(BL163-BM163)*0.06","v":43.199999999999996},{"$f":"(BL163-BM163)*0.02","v":14.4},{"$f":"BL163-BM163-BN163-BO163-BP163","v":576},"Henriksson et al (2014b, p82)",null,null,null,null,{"$f":"'Country list'!H162","v":"Pakistan"},{"$f":"'Country list'!I162","v":"South Asia"},{"$f":"'Country list'!J162","v":"sa"}]
["nc_","Maize DDGS",0,3.0000000000000006E-2,"nc_Maize",0,null,4,"e","4e","Processing and transport CO2",4,"Eastern Europe",5.4031204432199997E-2,0.21725099612383769,0.80086421994202173,1.11900009215E-2,2.3692049086099998E-2,8.4130949815946918E-2,1.49199990556E-2,0.60747564806379972,0.3644853888382798,1.49199990556E-2,0.47576808284683936,0.8972333266288024,0.13810444671561026,0,0.16862291213485769,0,8.9718298986599995E-3,3.1859151068711011E-2,0,0.59157728841438983,0.35494637304863391,0,0.59157728841438983,0.35494637304863391,0,0.47124358136441785,0.88956522905838409,0,0.47124358136441785,0.88956522905838409,0.13449008899850765,null,null,null,null,null,null,null,null,null,null,null,null,null,null,null,null,null,null,"MFA",{"$f":"BL163/$BL163","v":1},{"$f":"BM163/$BL163","v":0.2},{"$f":"BN163/$BL163","v":9.5999999999999988E-2},4.7999999999999994E-2,1.6E-2,0.64,null,null,null,null,null,{"$f":"'Country list'!H163","v":"Palau"},{"$f":"'Country list'!I163","v":"Oceania"},{"$f":"'Country list'!J163","v":"oc"}]
["nc_","Maize gluten meal",0,0,"nc_Maize gluten meal",0,null,5,"e","5e","Processing and transport CO2",5,"West Asia & Northern Africa",0.199233323336,0.34793290313725767,1.031479349965704,1.11899990588E-2,2.36920509487E-2,8.4130956430077522E-2,1.4919999986900001E-2,0.60747564905616858,0.36448538943370112,1.4919999986900001E-2,0.47576808312925684,0.89723332710744175,0.13810444649000359,0,0.16862291213485769,0,8.9718298986599995E-3,3.1859151068711011E-2,0,0.59157728841438983,0.35494637304863391,0,0.59157728841438983,0.35494637304863391,0,0.47124358136441785,0.88956522905838409,0,0.47124358136441785,0.88956522905838409,0.13449008899850765,null,null,null,null,null,null,null,null,null,null,null,null,null,null,null,null,null,null,"Value (€/kg)",null,6.9000000000000006E-2,0.24,6.8599999999999994E-2,6.8599999999999994E-2,0.38,"Henriksson et al (2014b, p102)",null,null,null,null,{"$f":"'Country list'!H164","v":"Panama"},{"$f":"'Country list'!I164","v":"Latin America and the Caribbean"},{"$f":"'Country list'!J164","v":"lac"}]
["nc_","Oilseed meal (non-soy)",7.1999999999999995E-2,0,"nc_Maize DDGS",0,null,6,"e","6e","Processing and transport CO2",6,"East Asia",0.216058790684,0.36307582375045766,1.0582021510478217,1.1189999990199999E-2,2.3692049086099998E-2,8.4130949815946918E-2,1.4919999986900001E-2,0.60747564905616858,0.36448538943370112,1.49200009182E-2,0.47576808341167426,0.8972333275860811,0.13810444671561026,0,0.16862291213485769,0,8.9718298986599995E-3,3.1859151068711011E-2,0,0.59157728841438983,0.35494637304863391,0,0.59157728841438983,0.35494637304863391,0,0.47124358136441785,0.88956522905838409,0,0.47124358136441785,0.88956522905838409,0.13449008899850765,null,null,null,null,null,null,null,null,null,null,null,null,null,null,null,null,null,null,"EFA",null,{"$f":"BM164*BM165/$BL167","v":4.8518020577266015E-2},{"$f":"BN164*BN165/$BL167","v":8.1003999572478891E-2},1.1576821605566773E-2,3.8589405351889252E-3,0.85504221770949951,null,null,null,null,null,{"$f":"'Country list'!H165","v":"Papua New Guinea"},{"$f":"'Country list'!I165","v":"Oceania"},{"$f":"'Country list'!J165","v":"oc"}]
["nc_","Oilseed oil (non-soy)",0.192,0,"nc_Rice by-products",0,0,7,"e","7e","Processing and transport CO2",7,"Oceania",5.2345886826500002E-2,0.21573421027870771,0.7981875390388512,1.1189999990199999E-2,2.36920509487E-2,8.4130956430077522E-2,1.49200009182E-2,0.60747565004853743,0.36448539002912245,1.4919999986900001E-2,0.47576808312925684,0.89723332710744175,0.13810444671561026,0,0.16862291213485769,0,8.9718298986599995E-3,3.1859151068711011E-2,0,0.59157728841438983,0.35494637304863391,0,0.59157728841438983,0.35494637304863391,0,0.47124358136441785,0.88956522905838409,0,0.47124358136441785,0.88956522905838409,0.13449008899850765,null,null,null,null,null,null,null,null,null,null,null,null,null,null,null,null,null,null,null,{"$f":"SUMPRODUCT(BM164:BQ164,BM165:BQ165)","v":0.28443039999999997},null,null,null,null,null,null,null,null,null,null,{"$f":"'Country list'!H166","v":"Paraguay"},{"$f":"'Country list'!I166","v":"Latin America and the Caribbean"},{"$f":"'Country list'!J166","v":"lac"}]
["nc_","Pulses",0,0,"c_Fishmeal - trimmings",0,0,8,"e","8e","Processing and transport CO2",8,"South Asia",6.0887422412599999E-2,0.22342159230619768,0.81175350732265705,1.1189999990199999E-2,2.3692047223400001E-2,8.4130943201461209E-2,1.49199990556E-2,0.60747564806379972,0.3644853888382798,1.4919999986900001E-2,0.47576808312925684,0.89723332710744175,0.13810444671561026,0,0.16862291213485769,0,8.9718298986599995E-3,3.1859151068711011E-2,0,0.59157728841438983,0.35494637304863391,0,0.59157728841438983,0.35494637304863391,0,0.47124358136441785,0.88956522905838409,0,0.47124358136441785,0.88956522905838409,0.13449008899850765,null,null,null,null,null,null,null,null,null,null,null,null,null,null,null,null,null,null,null,null,null,null,null,null,null,null,null,null,null,null,{"$f":"'Country list'!H167","v":"Peru"},{"$f":"'Country list'!I167","v":"Latin America and the Caribbean"},{"$f":"'Country list'!J167","v":"lac"}]
["nc_","Rice by-products",0,3.0000000000000006E-2,"c_Fishmeal - reduction",0.17599999999999999,0.17599999999999999,9,"e","9e","Processing and transport CO2",9,"Central & South America",5.5300779640700001E-2,0.2183936138114877,0.80288060409669826,1.11900009215E-2,2.3692049086099998E-2,8.4130949815946918E-2,1.49199990556E-2,0.60747564806379972,0.3644853888382798,1.49200009182E-2,0.47576808341167426,0.8972333275860811,0.13810444649000359,0,0.16862291213485769,0,8.9718289673300002E-3,3.1859147761539176E-2,0,0.59157728841438983,0.35494637304863391,0,0.59157728841438983,0.35494637304863391,0,0.47124358136441785,0.88956522905838409,0,0.47124358136441785,0.88956522905838409,0.13449008899850765,null,null,null,null,null,null,null,null,null,null,null,null,null,null,null,null,null,null,null,null,null,null,null,null,null,null,null,null,null,null,{"$f":"'Country list'!H168","v":"Philippines"},{"$f":"'Country list'!I168","v":"East Asia and Southeast Asia"},{"$f":"'Country list'!J168","v":"esea"}]
["nc_","Soybean",0,1.5000000000000003E-2,"c_Fishoil - trimmings",0,0,10,"e","10e","Processing and transport CO2",10,"Sub-Saharan Africa",5.4393205791699997E-2,0.21757679734738769,0.80143916327769826,1.1189999990199999E-2,2.3692047223400001E-2,8.4130943201461209E-2,1.49200009182E-2,0.60747565004853743,0.36448539002912245,1.4919999986900001E-2,0.47576808312925684,0.89723332710744175,0.13810444671561026,0,0.16862291213485769,0,8.9718298986599995E-3,3.1859151068711011E-2,0,0.59157728841438983,0.35494637304863391,0,0.59157728841438983,0.35494637304863391,0,0.47124358136441785,0.88956522905838409,0,0.47124358136441785,0.88956522905838409,0.13449008899850765,null,null,null,null,null,null,null,null,null,null,null,null,null,null,null,null,null,null,null,null,null,null,null,null,null,null,null,null,null,null,{"$f":"'Country list'!H169","v":"Pitcairn"},{"$f":"'Country list'!I169","v":"Oceania"},{"$f":"'Country list'!J169","v":"oc"}]
["nc_","Soybean meal",0,3.0000000000000006E-2,"c_Fishoil - reduction",0.112,0.112,1,"f","1f","Blending and transport CO2",1,"North America",0,0,0,0,0,0,0,0,0,0,0,0,0,0,0,0,0,0,0,0,0,0,0,0,0,0,0,0,0,0,0,null,null,null,null,null,null,null,null,null,null,null,null,null,null,null,null,null,null,null,null,null,null,null,null,null,null,null,null,null,null,{"$f":"'Country list'!H170","v":"Poland"},{"$f":"'Country list'!I170","v":"Eastern Europe"},{"$f":"'Country list'!J170","v":"ee"}]
["nc_","Wheat",0.106,2.1000000000000005E-2,"c_Poultry meal",0,0,2,"f","2f","Blending and transport CO2",2,"Russian Federation",0,0,0,0,0,0,0,0,0,0,0,0,0,0,0,0,0,0,0,0,0,0,0,0,0,0,0,0,0,0,0,null,null,null,null,null,null,null,null,null,null,null,null,null,null,null,null,null,null,"Notes",null,null,null,null,null,null,null,null,null,null,null,{"$f":"'Country list'!H171","v":"Portugal"},{"$f":"'Country list'!I171","v":"Western Europe"},{"$f":"'Country list'!J171","v":"we"}]
["nc_","Wheat by-products",6.6000000000000003E-2,0,"c_Feather meal",0,0,3,"f","3f","Blending and transport CO2",3,"Western Europe",0,0,0,0,0,0,0,0,0,0,0,0,0,0,0,0,0,0,0,0,0,0,0,0,0,0,0,0,0,0,0,null,null,null,null,null,null,null,null,null,null,null,null,null,null,null,null,null,null,"*Distillers dried grains and solubles",null,null,null,null,null,null,null,null,null,null,null,{"$f":"'Country list'!H172","v":"Puerto Rico"},{"$f":"'Country list'!I172","v":"Latin America and the Caribbean"},{"$f":"'Country list'!J172","v":"lac"}]
["nc_","Wheat flour",{"$f":"IFERROR(VLOOKUP(CONCATENATE(A174,B174),E$137:G$180,3,FALSE),0)","v":0},0,"c_Meat and bone meal",0,0,4,"f","4f","Blending and transport CO2",4,"Eastern Europe",0,0,0,0,0,0,0,0,0,0,0,0,0,0,0,0,0,0,0,0,0,0,0,0,0,0,0,0,0,0,0,null,null,null,null,null,null,null,null,null,null,null,null,null,null,null,null,null,null,"Kim S, Dale BE (2002) Allocation procedure in ethanol production system from corn grain. Int J Life Cycle Assess 7:237–243. doi: 10.1007/BF02978879",null,null,null,null,null,null,null,null,null,null,null,{"$f":"'Country list'!H173","v":"Qatar"},{"$f":"'Country list'!I173","v":"Near East and North Africa"},{"$f":"'Country list'!J173","v":"nena"}]
[null,null,{"$f":"SUM(C137:C174)","v":0.99899999999999989},{"$f":"SUM(D137:D174)","v":0.94000000000000028},"c_Blood meal",0,0,5,"f","5f","Blending and transport CO2",5,"West Asia & Northern Africa",0,0,0,0,0,0,0,0,0,0,0,0,0,0,0,0,0,0,0,0,0,0,0,0,0,0,0,0,0,0,0,null,null,null,null,null,null,null,null,null,null,null,null,null,null,null,null,null,null,null,null,null,null,null,null,null,null,null,null,null,null,{"$f":"'Country list'!H174","v":"Republic of Korea"},{"$f":"'Country list'!I174","v":"East Asia and Southeast Asia"},{"$f":"'Country list'!J174","v":"esea"}]
[null,null,null,null,"c_Vitamin/mineral premix",2.1000000000000001E-2,2.1000000000000001E-2,6,"f","6f","Blending and transport CO2",6,"East Asia",0,0,0,0,0,0,0,0,0,0,0,0,0,0,0,0,0,0,0,0,0,0,0,0,0,0,0,0,0,0,0,null,null,null,null,null,null,null,null,null,null,null,null,null,null,null,null,null,null,null,null,null,null,null,null,null,null,null,null,null,null,{"$f":"'Country list'!H175","v":"Republic of Serbia"},{"$f":"'Country list'!I175","v":"Western Europe"},{"$f":"'Country list'!J175","v":"we"}]
[null,null,null,null,"c_Lime",0,0,7,"f","7f","Blending and transport CO2",7,"Oceania",0,0,0,0,0,0,0,0,0,0,0,0,0,0,0,0,0,0,0,0,0,0,0,0,0,0,0,0,0,0,0,null,null,null,null,null,null,null,null,null,null,null,null,null,null,null,null,null,null,null,null,null,null,null,null,null,null,null,null,null,null,{"$f":"'Country list'!H176","v":"Republic of Sudan"},{"$f":"'Country list'!I176","v":"Near East and North Africa"},{"$f":"'Country list'!J176","v":"nena"}]
[null,null,null,null,"c_Cassava",0,0,8,"f","8f","Blending and transport CO2",8,"South Asia",0,0,0,0,0,0,0,0,0,0,0,0,0,0,0,0,0,0,0,0,0,0,0,0,0,0,0,0,0,0,0,null,null,null,null,null,null,null,null,null,null,null,null,null,null,null,null,null,null,null,null,null,null,null,null,null,null,null,null,null,null,{"$f":"'Country list'!H177","v":"Reunion"},{"$f":"'Country list'!I177","v":"Sub-Saharan Africa"},{"$f":"'Country list'!J177","v":"ssa"}]
[null,null,null,null,"nc_Cassava",0,0,9,"f","9f","Blending and transport CO2",9,"Central & South America",0,0,0,0,0,0,0,0,0,0,0,0,0,0,0,0,0,0,0,0,0,0,0,0,0,0,0,0,0,0,0,null,null,null,null,null,null,null,null,null,null,null,null,null,null,null,null,null,null,null,null,null,null,null,null,null,null,null,null,null,null,{"$f":"'Country list'!H178","v":"Romania"},{"$f":"'Country list'!I178","v":"Eastern Europe"},{"$f":"'Country list'!J178","v":"ee"}]
[null,null,null,null,"nc_Groundnut meal",0,0,10,"f","10f","Blending and transport CO2",10,"Sub-Saharan Africa",0,0,0,0,0,0,0,0,0,0,0,0,0,0,0,0,0,0,0,0,0,0,0,0,0,0,0,0,0,0,0,null,null,null,null,null,null,null,null,null,null,null,null,null,null,null,null,null,null,null,null,null,null,null,null,null,null,null,null,null,null,{"$f":"'Country list'!H179","v":"Russian Federation"},{"$f":"'Country list'!I179","v":"Russian Federation"},{"$f":"'Country list'!J179","v":"rus"}]
[null,null,null,null,null,null,null,1,"g","1g","Rice cultivation CH4",1,"North America",0,0,0,0,0,0,0,0,0,0,0,0,0.30281084400086078,0,0,0,0,0,0,0,0,0,0,0,0,0,0,0,0,0,0.29675460230385681,null,null,null,null,null,null,null,null,null,null,null,null,null,null,null,null,null,null,null,null,null,null,null,null,null,null,null,null,null,null,{"$f":"'Country list'!H180","v":"Rwanda"},{"$f":"'Country list'!I180","v":"Sub-Saharan Africa"},{"$f":"'Country list'!J180","v":"ssa"}]
[null,null,null,null,null,null,null,2,"g","2g","Rice cultivation CH4",2,"Russian Federation",0,0,0,0,0,0,0,0,0,0,0,0,0.32098015568493116,0,0,0,0,0,0,0,0,0,0,0,0,0,0,0,0,0,0.31492393654859302,null,null,null,null,null,null,null,null,null,null,null,null,null,null,null,null,null,null,null,null,null,null,null,null,null,null,null,null,null,null,{"$f":"'Country list'!H181","v":"Saint Helena"},{"$f":"'Country list'!I181","v":"Sub-Saharan Africa"},{"$f":"'Country list'!J181","v":"ssa"}]
[null,null,null,null,null,null,null,3,"g","3g","Rice cultivation CH4",3,"Western Europe",0,0,0,0,0,0,0,0,0,0,0,0,0.32098015568493116,0,0,0,0,0,0,0,0,0,0,0,0,0,0,0,0,0,0.31492393654859302,null,null,null,null,null,null,null,null,null,null,null,null,null,null,null,null,null,null,null,null,null,null,null,null,null,null,null,null,null,null,{"$f":"'Country list'!H182","v":"Saint Kitts and Nevis"},{"$f":"'Country list'!I182","v":"Latin America and the Caribbean"},{"$f":"'Country list'!J182","v":"lac"}]
[null,null,null,null,null,null,null,4,"g","4g","Rice cultivation CH4",4,"Eastern Europe",0,0,0,0,0,0,0,0,0,0,0,0,0.32098015568493116,0,0,0,0,0,0,0,0,0,0,0,0,0,0,0,0,0,0.3149239139873215,null,null,null,null,null,null,null,null,null,null,null,null,null,null,null,null,null,null,null,null,null,null,null,null,null,null,null,null,null,null,{"$f":"'Country list'!H183","v":"Saint Lucia"},{"$f":"'Country list'!I183","v":"Latin America and the Caribbean"},{"$f":"'Country list'!J183","v":"lac"}]
[null,null,null,null,null,null,null,5,"g","5g","Rice cultivation CH4",5,"West Asia & Northern Africa",0,0,0,{"$f":"V68","v":0},{"$f":"AA68","v":0},{"$f":"R185*(R$114/R$115)*S$116","v":0},{"$f":"W68","v":0},{"$f":"T185*U$116","v":0},0,{"$f":"X68","v":0},{"$f":"W185*X$116","v":0},0,{"$f":"Y68*Z$116","v":0.33167040279051546},0,0,{"$f":"N68","v":0},{"$f":"U68","v":0},0,0,{"$f":"AF185*AG$116","v":0},{"$f":"AF185*AH$116","v":0},{"$f":"P68","v":0},{"$f":"AI185*AJ$116","v":0},{"$f":"AI185*AK$116","v":0},0,{"$f":"AL185*AM$116","v":0},{"$f":"AL185*AN$116","v":0},{"$f":"R68","v":0},{"$f":"AO185*AP$116","v":0},{"$f":"AO185*AQ$116","v":0},0.32383877414204965,null,null,null,null,null,null,null,null,null,null,null,null,null,null,null,null,null,null,null,null,null,null,null,null,null,null,null,null,null,null,{"$f":"'Country list'!H184","v":"Saint Pierre et Miquelon"},{"$f":"'Country list'!I184","v":"Oceania"},{"$f":"'Country list'!J184","v":"oc"}]
[null,null,null,null,null,null,null,{"$f":"L186","v":6},"g",{"$f":"CONCATENATE(H186,I186)","v":"6g"},"Rice cultivation CH4",6,"East Asia",{"$f":"Z69","v":0},{"$f":"N186*O$116","v":0},{"$f":"N186*P$116","v":0},0,0,0,0,0,{"$f":"T186*V$116","v":0},0,0,{"$f":"W186*Y$116","v":0},0.30987489507041882,{"$f":"T69","v":0},{"$f":"AA186*AB$116","v":0},0,0,{"$f":"AD186*(AD$114/AD$115)*AE$116","v":0},{"$f":"O69","v":0},0,0,0,0,0,{"$f":"Q69","v":0},0,0,0,0,0,{"$f":"S69*AR$116","v":0.29787271344497351},null,null,null,null,null,null,null,null,null,null,null,null,null,null,null,null,null,null,null,null,null,null,null,null,null,null,null,null,null,null,{"$f":"'Country list'!H185","v":"Saint Vincent and the Grenadines"},{"$f":"'Country list'!I185","v":"Latin America and the Caribbean"},{"$f":"'Country list'!J185","v":"lac"}]
[null,null,null,null,null,null,null,7,"g","7g","Rice cultivation CH4",7,"Oceania",0,0,0,0,0,0,0,0,0,0,0,0,0.2785865540479609,0,0,0,0,0,0,0,0,0,0,0,0,0,0,0,0,0,0.27253031235035124,null,null,null,null,null,null,null,null,null,null,null,null,null,null,null,null,null,null,null,null,null,null,null,null,null,null,null,null,null,null,{"$f":"'Country list'!H186","v":"Samoa"},{"$f":"'Country list'!I186","v":"Oceania"},{"$f":"'Country list'!J186","v":"oc"}]
[null,null,null,null,null,null,null,8,"g","8g","Rice cultivation CH4",8,"South Asia",0,0,0,0,0,0,0,0,0,0,0,0,0.37679255749370866,0,0,0,0,0,0,0,0,0,0,0,0,0,0,0,0,0,0.3645167760413176,null,null,null,null,null,null,null,null,null,null,null,null,null,null,null,null,null,null,null,null,null,null,null,null,null,null,null,null,null,null,{"$f":"'Country list'!H187","v":"San Marino"},{"$f":"'Country list'!I187","v":"Western Europe"},{"$f":"'Country list'!J187","v":"we"}]
[null,null,null,null,null,null,null,9,"g","9g","Rice cultivation CH4",9,"Central & South America",0,0,0,0,0,0,0,0,0,0,0,0,0.17106535300840459,0,0,0,0,0,0,0,0,0,0,0,0,0,0,0,0,0,0.16458091077411957,null,null,null,null,null,null,null,null,null,null,null,null,null,null,null,null,null,null,null,null,null,null,null,null,null,null,null,null,null,null,{"$f":"'Country list'!H188","v":"Sao Tome and Principe"},{"$f":"'Country list'!I188","v":"Sub-Saharan Africa"},{"$f":"'Country list'!J188","v":"ssa"}]
[null,null,null,null,null,null,null,10,"g","10g","Rice cultivation CH4",10,"Sub-Saharan Africa",0,0,0,0,0,0,0,0,0,0,0,0,0.35877257847671101,0,0,0,0,0,0,0,0,0,0,0,0,0,0,0,0,0,0.32800447645838038,null,null,null,null,null,null,null,null,null,null,null,null,null,null,null,null,null,null,null,null,null,null,null,null,null,null,null,null,null,null,{"$f":"'Country list'!H189","v":"Saudi Arabia"},{"$f":"'Country list'!I189","v":"Near East and North Africa"},{"$f":"'Country list'!J189","v":"nena"}]
[null,null,null,null,null,null,null,1,"h","1h","LUC for feed production CO2",1,"North America",{"$f":"Z74","v":1.31441140547E-2},1.1829702649229999E-2,2.0875945851582353E-2,0,0,0,0,0,0,0,0,0,0,0,0,0,0,0,0,0,0,0,0,0,0,0,0,0,0,0,0,null,null,null,null,null,null,null,null,null,null,null,null,null,null,null,null,null,null,null,null,null,null,null,null,null,null,null,null,null,null,{"$f":"'Country list'!H190","v":"Senegal"},{"$f":"'Country list'!I190","v":"Sub-Saharan Africa"},{"$f":"'Country list'!J190","v":"ssa"}]
[null,null,null,null,null,null,null,2,"h","2h","LUC for feed production CO2",2,"Russian Federation",0.75451004505200003,0.6790590405468,1.1983394833178824,0,0,0,0,0,0,0,0,0,0,0,0,0,0,0,0,0,0,0,0,0,0,0,0,0,0,0,0,null,null,null,null,null,null,null,null,null,null,null,null,null,null,null,null,null,null,null,null,null,null,null,null,null,null,null,null,null,null,{"$f":"'Country list'!H191","v":"Seychelles"},{"$f":"'Country list'!I191","v":"Sub-Saharan Africa"},{"$f":"'Country list'!J191","v":"ssa"}]
[null,null,null,null,null,null,null,3,"h","3h","LUC for feed production CO2",3,"Western Europe",2.00269579887,1.8024262189829998,3.1807521511464705,0,0,0,0,0,0,0,0,0,0,0,0,0,0,0,0,0,0,0,0,0,0,0,0,0,0,0,0,null,null,null,null,null,null,null,null,null,null,null,null,null,null,null,null,null,null,null,null,null,null,null,null,null,null,null,null,null,null,{"$f":"'Country list'!H192","v":"Sierra Leone"},{"$f":"'Country list'!I192","v":"Sub-Saharan Africa"},{"$f":"'Country list'!J192","v":"ssa"}]
[null,null,null,null,null,null,null,4,"h","4h","LUC for feed production CO2",4,"Eastern Europe",0.47643852233900003,0.42879467010509997,0.75669647665605877,0,0,0,0,0,0,0,0,0,0,0,0,0,0,0,0,0,0,0,0,0,0,0,0,0,0,0,0,null,null,null,null,null,null,null,null,null,null,null,null,null,null,null,null,null,null,null,null,null,null,null,null,null,null,null,null,null,null,{"$f":"'Country list'!H193","v":"Singapore"},{"$f":"'Country list'!I193","v":"East Asia and Southeast Asia"},{"$f":"'Country list'!J193","v":"esea"}]
[null,null,null,null,null,null,null,5,"h","5h","LUC for feed production CO2",5,"West Asia & Northern Africa",1.50928390026,1.3583555102339999,2.3970979592364703,0,0,0,0,0,0,0,0,0,0,0,0,0,0,0,0,0,0,0,0,0,0,0,0,0,0,0,0,null,null,null,null,null,null,null,null,null,null,null,null,null,null,null,null,null,null,null,null,null,null,null,null,null,null,null,null,null,null,{"$f":"'Country list'!H194","v":"Slovakia"},{"$f":"'Country list'!I194","v":"Eastern Europe"},{"$f":"'Country list'!J194","v":"ee"}]
[null,null,null,null,null,null,null,6,"h","6h","LUC for feed production CO2",6,"East Asia",1.9135173559200001,1.7221656203279998,3.0391158005788235,0,0,0,0,0,0,0,0,0,0,0,0,0,0,0,0,0,0,0,0,0,0,0,0,0,0,0,0,null,null,null,null,null,null,null,null,null,null,null,null,null,null,null,null,null,null,null,null,null,null,null,null,null,null,null,null,null,null,{"$f":"'Country list'!H195","v":"Slovenia"},{"$f":"'Country list'!I195","v":"Western Europe"},{"$f":"'Country list'!J195","v":"we"}]
[null,null,null,null,null,null,null,7,"h","7h","LUC for feed production CO2",7,"Oceania",3.1834279652700002E-3,2.8650851687429999E-3,5.056032650722941E-3,0,0,0,0,0,0,0,0,0,0,0,0,0,0,0,0,0,0,0,0,0,0,0,0,0,0,0,0,null,null,null,null,null,null,null,null,null,null,null,null,null,null,null,null,null,null,null,null,null,null,null,null,null,null,null,null,null,null,{"$f":"'Country list'!H196","v":"Solomon Islands"},{"$f":"'Country list'!I196","v":"Oceania"},{"$f":"'Country list'!J196","v":"oc"}]
[null,null,null,null,null,null,null,8,"h","8h","LUC for feed production CO2",8,"South Asia",1.21805465221,1.0962491869889999,1.9345573888041174,0,0,0,0,0,0,0,0,0,0,0,0,0,0,0,0,0,0,0,0,0,0,0,0,0,0,0,0,null,null,null,null,null,null,null,null,null,null,null,null,null,null,null,null,null,null,null,null,null,null,null,null,null,null,null,null,null,null,{"$f":"'Country list'!H197","v":"Somalia"},{"$f":"'Country list'!I197","v":"Sub-Saharan Africa"},{"$f":"'Country list'!J197","v":"ssa"}]
[null,null,null,null,null,null,null,9,"h","9h","LUC for feed production CO2",9,"Central & South America",4.5648880004899999,4.1083992004409993,7.2501162360723521,0,0,0,0,0,0,0,0,0,0,0,0,0,0,0,0,0,0,0,0,0,0,0,0,0,0,0,0,null,null,null,null,null,null,null,null,null,null,null,null,null,null,null,null,null,null,null,null,null,null,null,null,null,null,null,null,null,null,{"$f":"'Country list'!H198","v":"South Africa"},{"$f":"'Country list'!I198","v":"Sub-Saharan Africa"},{"$f":"'Country list'!J198","v":"ssa"}]
[null,null,null,null,null,null,null,10,"h","10h","LUC for feed production CO2",10,"Sub-Saharan Africa",0.96228379011200005,0.86605541110079998,1.5283330784131766,0,0,0,0,0,0,0,0,0,0,0,0,0,0,0,0,0,0,0,0,0,0,0,0,0,0,0,0,null,null,null,null,null,null,null,null,null,null,null,null,null,null,null,null,null,null,null,null,null,null,null,null,null,null,null,null,null,null,{"$f":"'Country list'!H199","v":"South Sudan"},{"$f":"'Country list'!I199","v":"Near East and North Africa"},{"$f":"'Country list'!J199","v":"nena"}]
[null,null,null,null,null,null,null,1,"i","1i","Fert. Prod CO2",1,"North America",0.11484329402399999,0.10335896462159999,0.18239817286164703,0.13120721280600001,9.4126664102099994E-2,0.33424570517888558,6.9501064717800001E-2,7.4058511584540992E-2,4.4435106950724591E-2,3.5539884120199997E-2,1.0777497893110076E-2,1.8265637823399496E-2,8.3225046855708931E-3,0.113757543266,0.10238178893939999,7.6108887791599994E-2,9.9109582602999999E-2,0.35194015046779581,6.1205781996300002E-2,6.521927589769673E-2,3.9131565538618039E-2,7.0658981800099996E-2,7.5292357655844258E-2,4.517541459350656E-2,2.4772889912099999E-2,7.5123984065596653E-3,1.2731967089228066E-2,3.6477725952899998E-2,1.1061899168640681E-2,1.8747639373933391E-2,7.490182291864456E-3,null,null,null,null,null,null,null,null,null,null,null,null,null,null,null,null,null,null,null,null,null,null,null,null,null,null,null,null,null,null,{"$f":"'Country list'!H200","v":"Spain"},{"$f":"'Country list'!I200","v":"Western Europe"},{"$f":"'Country list'!J200","v":"we"}]
[null,null,null,null,null,null,null,2,"i","2i","Fert. Prod CO2",2,"Russian Federation",5.8501988649399997E-2,5.2651789784459994E-2,9.2914923149047049E-2,6.2196604907500001E-2,3.4542337059999997E-2,0.12266054384571425,2.9478793963800001E-2,3.1411829633557382E-2,1.8847097780134429E-2,2.2214289754599999E-2,6.7365008905884687E-3,1.1416980702279629E-2,3.7403783341980069E-3,7.6809205114799994E-2,6.9128284603319989E-2,3.69394756854E-2,4.4357173144799998E-2,0.15751322708561627,3.0795380473100001E-2,3.281474968445082E-2,1.9688849810670494E-2,3.5685546696199999E-2,3.8025582545131151E-2,2.2815349527078688E-2,1.8809694796799999E-2,5.7040547841103869E-3,9.6671973258278966E-3,2.8546985238800001E-2,8.6568957913664719E-3,1.4671654290101779E-2,3.3975034014722379E-3,null,null,null,null,null,null,null,null,null,null,null,null,null,null,null,null,null,null,null,null,null,null,null,null,null,null,null,null,null,null,{"$f":"'Country list'!H201","v":"Sri Lanka"},{"$f":"'Country list'!I201","v":"South Asia"},{"$f":"'Country list'!J201","v":"sa"}]
[null,null,null,null,null,null,null,3,"i","3i","Fert. Prod CO2",3,"Western Europe",0.261379063129,0.23524115681609997,0.41513145320488232,0.26378637552299999,0.132525235415,0.47059981555530594,9.5755510032199995E-2,0.10203455987037705,6.1220735922226231E-2,7.6098293065999995E-2,2.307686739816733E-2,3.9110534390640744E-2,1.2266584599621837E-2,0.15626958012600001,0.14064262211340001,0.160978496075,0.15079960227,0.53549246520367333,8.0306291580200001E-2,8.5572277913327874E-2,5.1343366747996728E-2,9.2145010828999993E-2,9.8187306621065576E-2,5.8912383972639343E-2,4.9641408026199998E-2,1.5053796140806815E-2,2.5513082062493326E-2,7.3137283325200003E-2,2.217893885864201E-2,3.7588730567812013E-2,1.0664363077999093E-2,null,null,null,null,null,null,null,null,null,null,null,null,null,null,null,null,null,null,null,null,null,null,null,null,null,null,null,null,null,null,{"$f":"'Country list'!H202","v":"State of Libya"},{"$f":"'Country list'!I202","v":"Near East and North Africa"},{"$f":"'Country list'!J202","v":"nena"}]
[null,null,null,null,null,null,null,4,"i","4i","Fert. Prod CO2",4,"Eastern Europe",0.10209396481499999,9.1884568333499991E-2,0.16214923823558822,0.21006645262199999,6.5423995256399997E-2,0.23232194233905298,9.4387143850300004E-2,0.10057646475851641,6.0345878855109843E-2,5.5118761956699999E-2,1.6714808040736717E-2,2.8328154919419785E-2,7.341558498185124E-3,0.102040089667,9.1836080700299985E-2,0.101028598845,5.9161171317099998E-2,0.21008252671786523,6.1684492975500001E-2,6.5729377760778696E-2,3.9437626656467217E-2,7.1077756583699997E-2,7.5738593080991803E-2,4.5443155848595082E-2,3.4400768578099997E-2,1.043206020644036E-2,1.7680192134813866E-2,5.1529224961999999E-2,1.5626278115687477E-2,2.6483321028652581E-2,6.4162577370612886E-3,null,null,null,null,null,null,null,null,null,null,null,null,null,null,null,null,null,null,null,null,null,null,null,null,null,null,null,null,null,null,{"$f":"'Country list'!H203","v":"Suriname"},{"$f":"'Country list'!I203","v":"Latin America and the Caribbean"},{"$f":"'Country list'!J203","v":"lac"}]
[null,null,null,null,null,null,null,5,"i","5i","Fert. Prod CO2",5,"West Asia & Northern Africa",0.33128607273100003,0.29815746545790001,0.52616023316100002,0.43587514758099999,4.8248894512700001E-2,0.17133280908591422,9.1202072799200007E-2,9.7182536589311488E-2,5.8309521953586893E-2,0.21650727093200001,6.5656000689838817E-2,0.11127339030148438,3.2426743718448739E-2,1.09201930463E-2,9.8281737416699988E-3,0.14197990298300001,4.73555140197E-2,0.16816039672301628,5.0959818065200002E-2,5.4301445479311483E-2,3.2580867287586891E-2,5.8850686997200002E-2,6.2709748439639348E-2,3.7625849063783613E-2,0.121527075768,3.6853181586515488E-2,6.2458547816520715E-2,0.180216252804,5.4650720816373136E-2,9.2621708964355051E-2,2.9162728244094101E-2,null,null,null,null,null,null,null,null,null,null,null,null,null,null,null,null,null,null,null,null,null,null,null,null,null,null,null,null,null,null,{"$f":"'Country list'!H204","v":"Svalbard and Jan Mayen Islands"},{"$f":"'Country list'!I204","v":"Western Europe"},{"$f":"'Country list'!J204","v":"we"}]
[null,null,null,null,null,null,null,6,"i","6i","Fert. Prod CO2",6,"East Asia",0.99019169807399998,0.89117252826659987,1.5726574028234117,1.4631134271599999,0.48707231879200003,1.7296037442817953,0.36948898434600003,0.39371777020475418,0.23623066212285249,0.439748644829,0.13335412341563618,0.22600775659850553,6.059869540348372E-2,1.27207946777,1.1448715209929998,0.766202807426,0.50053906440700002,1.7774244327922037,0.30648609995800002,0.3265835491355738,0.1959501294813443,0.35216373205200002,0.3752564357931148,0.22515386147586888,0.28203207254399998,8.5526448464270433E-2,0.14494970423225023,0.42131242155999998,0.12776332416692338,0.21653250406464922,5.2114545945966546E-2,null,null,null,null,null,null,null,null,null,null,null,null,null,null,null,null,null,null,null,null,null,null,null,null,null,null,null,null,null,null,{"$f":"'Country list'!H205","v":"Swaziland"},{"$f":"'Country list'!I205","v":"Sub-Saharan Africa"},{"$f":"'Country list'!J205","v":"ssa"}]
[null,null,null,null,null,null,null,7,"i","7i","Fert. Prod CO2",7,"Oceania",4.0228854864799997E-2,3.6205969378319991E-2,6.3892887138211757E-2,8.7127849459600004E-2,3.95928509533E-2,0.14059502175253463,4.2235258966700003E-2,4.5004784144844268E-2,2.7002870486906562E-2,3.7550698965800003E-2,1.1387279081157647E-2,1.9299091268982591E-2,2.0170960524959719E-3,0,0,5.1133666187500003E-2,4.0986385196400001E-2,0.14554349028925709,3.9908558130299997E-2,4.252551276179508E-2,2.551530765707705E-2,4.6517305076100003E-2,4.9567620163057387E-2,2.9740572097834431E-2,2.3892713710699998E-2,7.2454842792071096E-3,1.2279602650976839E-2,3.5613574087599999E-2,1.0799844433850356E-2,1.8303510604616064E-2,1.8358099399376534E-3,null,null,null,null,null,null,null,null,null,null,null,null,null,null,null,null,null,null,null,null,null,null,null,null,null,null,null,null,null,null,{"$f":"'Country list'!H206","v":"Sweden"},{"$f":"'Country list'!I206","v":"Western Europe"},{"$f":"'Country list'!J206","v":"we"}]
[null,null,null,null,null,null,null,8,"i","8i","Fert. Prod CO2",8,"South Asia",0.692989110947,0.6236901998522999,1.1006297644452352,1.30791509151,0.52142792940100002,1.8516012186892647,0.229823932052,0.24489435382590166,0.146936612295541,0.332892209291,0.10094982505098617,0.1710891489847236,4.2999541663441783E-2,0.72522079944600004,0.65269871950140002,0.61132627725599997,0.59218287467999997,2.1028534733534689,0.18755543231999999,0.19985414919344263,0.11991248951606558,0.216608673334,0.23081252076573772,0.13848751245944263,0.224284902215,6.8014573511360102E-2,0.11527068516206257,0.35069742798800002,0.10634927166550714,0.18024009823897214,3.9967747849209936E-2,null,null,null,null,null,null,null,null,null,null,null,null,null,null,null,null,null,null,null,null,null,null,null,null,null,null,null,null,null,null,{"$f":"'Country list'!H207","v":"Switzerland"},{"$f":"'Country list'!I207","v":"Western Europe"},{"$f":"'Country list'!J207","v":"we"}]
[null,null,null,null,null,null,null,9,"i","9i","Fert. Prod CO2",9,"Central & South America",6.1140928417400001E-2,5.5026835575659995E-2,9.7106180427635289E-2,0.21642920374899999,2.6955354958799999E-2,9.5719015567983637E-2,4.2698718607400002E-2,4.5498634581655741E-2,2.7299180748993446E-2,4.8574917018399999E-2,1.4730381901449395E-2,2.4964961578349286E-2,8.0774763787150906E-3,6.7459776997600002E-2,6.0713799297839995E-2,0.114499770105,2.85446736962E-2,0.10136271883956731,4.1444227099400002E-2,4.4161881335426235E-2,2.6497128801255741E-2,4.7906242310999998E-2,5.1047635249426231E-2,3.0628581149655738E-2,3.5372354090200002E-2,1.0726694279365838E-2,1.8179536168082506E-2,5.37895523012E-2,1.631172416423329E-2,2.7645010819213528E-2,7.752087739502562E-3,null,null,null,null,null,null,null,null,null,null,null,null,null,null,null,null,null,null,null,null,null,null,null,null,null,null,null,null,null,null,{"$f":"'Country list'!H208","v":"Syrian Arab Republic"},{"$f":"'Country list'!I208","v":"Near East and North Africa"},{"$f":"'Country list'!J208","v":"nena"}]
[null,null,null,null,null,null,null,10,"i","10i","Fert. Prod CO2",10,"Sub-Saharan Africa",8.0066002905400002E-2,7.2059402614859991E-2,0.12716365167328236,5.0287783145900003E-2,5.3187891840900003E-2,0.18887128939421627,3.8679778575899999E-2,4.121615749890984E-2,2.4729694499345901E-2,3.2060943543900003E-2,9.7225064191784685E-3,1.6477644695427899E-2,1.6195884663211819E-3,9.1408498585200004E-2,8.2267648726679993E-2,1.75954867154E-2,6.2411248683900002E-2,0.22162361777548156,3.4422669559699998E-2,3.6679893793122947E-2,2.2007936275873771E-2,3.9831332862400003E-2,4.2443223541901644E-2,2.5465934125140987E-2,1.9975554198000001E-2,6.0576025671475837E-3,1.0266387956368557E-2,3.1279854476500002E-2,9.4856405433707824E-3,1.6076205850982253E-2,1.5039708243993477E-3,null,null,null,null,null,null,null,null,null,null,null,null,null,null,null,null,null,null,null,null,null,null,null,null,null,null,null,null,null,null,{"$f":"'Country list'!H209","v":"Tajikistan"},{"$f":"'Country list'!I209","v":"Near East and North Africa"},{"$f":"'Country list'!J209","v":"nena"}]
[null,null,null,null,null,null,null,1,"j","1j","CO2e non-disaggregated feeds",1,"North America",null,null,null,null,null,null,null,null,null,null,null,null,null,null,null,null,null,null,null,null,null,null,null,null,null,null,null,null,null,null,null,1.3,1.3,2.09,2.09,0.316,0.23100000000000001,0.32600000000000001,1.1499999999999999,3.6,1.9E-2,0.46100000000000002,0.46100000000000002,0.41099999999999998,null,null,null,null,null,null,null,null,null,null,null,null,null,null,null,null,null,{"$f":"'Country list'!H210","v":"Thailand"},{"$f":"'Country list'!I210","v":"East Asia and Southeast Asia"},{"$f":"'Country list'!J210","v":"esea"}]
[null,null,null,null,null,null,null,2,"j","2j","CO2e non-disaggregated feeds",2,"Russian Federation",null,null,null,null,null,null,null,null,null,null,null,null,null,null,null,null,null,null,null,null,null,null,null,null,null,null,null,null,null,null,null,1.3,1.3,2.09,2.09,0.316,0.23100000000000001,0.32600000000000001,1.1499999999999999,3.6,1.9E-2,0.46100000000000002,0.46100000000000002,0.41099999999999998,null,null,null,null,null,null,null,null,null,null,null,null,null,null,null,null,null,{"$f":"'Country list'!H211","v":"The former Yugoslav Republic of Macedonia"},{"$f":"'Country list'!I211","v":"Western Europe"},{"$f":"'Country list'!J211","v":"we"}]
[null,null,null,null,null,null,null,3,"j","3j","CO2e non-disaggregated feeds",3,"Western Europe",null,null,null,null,null,null,null,null,null,null,null,null,null,null,null,null,null,null,null,null,null,null,null,null,null,null,null,null,null,null,null,1.3,1.3,2.09,2.09,0.316,0.23100000000000001,0.32600000000000001,1.1499999999999999,3.6,1.9E-2,0.46100000000000002,0.46100000000000002,0.41099999999999998,null,null,null,null,null,null,null,null,null,null,null,null,null,null,null,null,null,{"$f":"'Country list'!H212","v":"Timor-Leste"},{"$f":"'Country list'!I212","v":"East Asia and Southeast Asia"},{"$f":"'Country list'!J212","v":"esea"}]
[null,null,null,null,null,null,null,4,"j","4j","CO2e non-disaggregated feeds",4,"Eastern Europe",null,null,null,null,null,null,null,null,null,null,null,null,null,null,null,null,null,null,null,null,null,null,null,null,null,null,null,null,null,null,null,1.3,1.3,2.09,2.09,0.316,0.23100000000000001,0.32600000000000001,1.1499999999999999,3.6,1.9E-2,0.46100000000000002,0.46100000000000002,0.41099999999999998,null,null,null,null,null,null,null,null,null,null,null,null,null,null,null,null,null,{"$f":"'Country list'!H213","v":"Togo"},{"$f":"'Country list'!I213","v":"Sub-Saharan Africa"},{"$f":"'Country list'!J213","v":"ssa"}]
[null,null,null,null,null,null,null,5,"j","5j","CO2e non-disaggregated feeds",5,"West Asia & Northern Africa",null,null,null,null,null,null,null,null,null,null,null,null,null,null,null,null,null,null,null,null,null,null,null,null,null,null,null,null,null,null,null,1.3,1.3,2.09,2.09,0.316,0.23100000000000001,0.32600000000000001,1.1499999999999999,3.6,1.9E-2,0.46100000000000002,0.46100000000000002,0.41099999999999998,null,null,null,null,null,null,null,null,null,null,null,null,null,null,null,null,null,{"$f":"'Country list'!H214","v":"Tokelau"},{"$f":"'Country list'!I214","v":"Oceania"},{"$f":"'Country list'!J214","v":"oc"}]
[null,null,null,null,null,null,null,6,"j","6j","CO2e non-disaggregated feeds",6,"East Asia",null,null,null,null,null,null,null,null,null,null,null,null,null,null,null,null,null,null,null,null,null,null,null,null,null,null,null,null,null,null,null,1.3,1.3,2.09,2.09,0.316,0.23100000000000001,0.32600000000000001,1.1499999999999999,3.6,1.9E-2,0.46100000000000002,0.46100000000000002,0.41099999999999998,null,null,null,null,null,null,null,null,null,null,null,null,null,null,null,null,null,{"$f":"'Country list'!H215","v":"Tonga"},{"$f":"'Country list'!I215","v":"Oceania"},{"$f":"'Country list'!J215","v":"oc"}]
[null,null,null,null,null,null,null,7,"j","7j","CO2e non-disaggregated feeds",7,"Oceania",null,null,null,null,null,null,null,null,null,null,null,null,null,null,null,null,null,null,null,null,null,null,null,null,null,null,null,null,null,null,null,1.3,1.3,2.09,2.09,0.316,0.23100000000000001,0.32600000000000001,1.1499999999999999,3.6,1.9E-2,0.46100000000000002,0.46100000000000002,0.41099999999999998,null,null,null,null,null,null,null,null,null,null,null,null,null,null,null,null,null,{"$f":"'Country list'!H216","v":"Trinidad and Tobago"},{"$f":"'Country list'!I216","v":"Latin America and the Caribbean"},{"$f":"'Country list'!J216","v":"lac"}]
[null,null,null,null,null,null,null,8,"j","8j","CO2e non-disaggregated feeds",8,"South Asia",null,null,null,null,null,null,null,null,null,null,null,null,null,null,null,null,null,null,null,null,null,null,null,null,null,null,null,null,null,null,null,1.3,1.3,2.09,2.09,0.316,0.23100000000000001,0.32600000000000001,1.1499999999999999,3.6,1.9E-2,0.46100000000000002,0.46100000000000002,0.41099999999999998,null,null,null,null,null,null,null,null,null,null,null,null,null,null,null,null,null,{"$f":"'Country list'!H217","v":"Tunisia"},{"$f":"'Country list'!I217","v":"Near East and North Africa"},{"$f":"'Country list'!J217","v":"nena"}]
[null,null,null,null,null,null,null,9,"j","9j","CO2e non-disaggregated feeds",9,"Central & South America",null,null,null,null,null,null,null,null,null,null,null,null,null,null,null,null,null,null,null,null,null,null,null,null,null,null,null,null,null,null,null,1.3,1.3,2.09,2.09,0.316,0.23100000000000001,0.32600000000000001,1.1499999999999999,3.6,1.9E-2,0.46100000000000002,0.46100000000000002,0.41099999999999998,null,null,null,null,null,null,null,null,null,null,null,null,null,null,null,null,null,{"$f":"'Country list'!H218","v":"Turkey"},{"$f":"'Country list'!I218","v":"Near East and North Africa"},{"$f":"'Country list'!J218","v":"nena"}]
[null,null,null,null,null,null,null,10,"j","10j","CO2e non-disaggregated feeds",10,"Sub-Saharan Africa",null,null,null,null,null,null,null,null,null,null,null,null,null,null,null,null,null,null,null,null,null,null,null,null,null,null,null,null,null,null,null,1.3,1.3,2.09,2.09,0.316,0.23100000000000001,0.32600000000000001,1.1499999999999999,3.6,1.9E-2,0.46100000000000002,0.46100000000000002,0.41099999999999998,null,null,null,null,null,null,null,null,null,null,null,null,null,null,null,null,null,{"$f":"'Country list'!H219","v":"Turkmenistan"},{"$f":"'Country list'!I219","v":"Near East and North Africa"},{"$f":"'Country list'!J219","v":"nena"}]
[null,null,null,null,null,null,null,1,"k","1k","Feed blending/transport (from GLEAM)",1,"North America",7.8600000000000003E-2,7.8600000000000003E-2,7.8600000000000003E-2,7.8600000000000003E-2,7.8600000000000003E-2,7.8600000000000003E-2,7.8600000000000003E-2,7.8600000000000003E-2,7.8600000000000003E-2,7.8600000000000003E-2,7.8600000000000003E-2,7.8600000000000003E-2,7.8600000000000003E-2,7.8600000000000003E-2,7.8600000000000003E-2,7.8600000000000003E-2,7.8600000000000003E-2,7.8600000000000003E-2,7.8600000000000003E-2,7.8600000000000003E-2,7.8600000000000003E-2,7.8600000000000003E-2,7.8600000000000003E-2,7.8600000000000003E-2,7.8600000000000003E-2,7.8600000000000003E-2,7.8600000000000003E-2,7.8600000000000003E-2,7.8600000000000003E-2,7.8600000000000003E-2,7.8600000000000003E-2,7.8600000000000003E-2,7.8600000000000003E-2,7.8600000000000003E-2,7.8600000000000003E-2,7.8600000000000003E-2,7.8600000000000003E-2,7.8600000000000003E-2,7.8600000000000003E-2,7.8600000000000003E-2,7.8600000000000003E-2,7.8600000000000003E-2,7.8600000000000003E-2,7.8600000000000003E-2,null,null,null,null,null,null,null,null,null,null,null,null,null,null,null,null,null,{"$f":"'Country list'!H220","v":"Turks and Caicos Islands"},{"$f":"'Country list'!I220","v":"Latin America and the Caribbean"},{"$f":"'Country list'!J220","v":"lac"}]
[null,null,null,null,null,null,null,2,"k","2k","Feed blending/transport (from GLEAM)",2,"Russian Federation",7.8600000000000003E-2,7.8600000000000003E-2,7.8600000000000003E-2,7.8600000000000003E-2,7.8600000000000003E-2,7.8600000000000003E-2,7.8600000000000003E-2,7.8600000000000003E-2,7.8600000000000003E-2,7.8600000000000003E-2,7.8600000000000003E-2,7.8600000000000003E-2,7.8600000000000003E-2,7.8600000000000003E-2,7.8600000000000003E-2,7.8600000000000003E-2,7.8600000000000003E-2,7.8600000000000003E-2,7.8600000000000003E-2,7.8600000000000003E-2,7.8600000000000003E-2,7.8600000000000003E-2,7.8600000000000003E-2,7.8600000000000003E-2,7.8600000000000003E-2,7.8600000000000003E-2,7.8600000000000003E-2,7.8600000000000003E-2,7.8600000000000003E-2,7.8600000000000003E-2,7.8600000000000003E-2,7.8600000000000003E-2,7.8600000000000003E-2,7.8600000000000003E-2,7.8600000000000003E-2,7.8600000000000003E-2,7.8600000000000003E-2,7.8600000000000003E-2,7.8600000000000003E-2,7.8600000000000003E-2,7.8600000000000003E-2,7.8600000000000003E-2,7.8600000000000003E-2,7.8600000000000003E-2,null,null,null,null,null,null,null,null,null,null,null,null,null,null,null,null,null,{"$f":"'Country list'!H221","v":"Tuvalu"},{"$f":"'Country list'!I221","v":"Oceania"},{"$f":"'Country list'!J221","v":"oc"}]
[null,null,null,null,null,null,null,3,"k","3k","Feed blending/transport (from GLEAM)",3,"Western Europe",7.8600000000000003E-2,7.8600000000000003E-2,7.8600000000000003E-2,7.8600000000000003E-2,7.8600000000000003E-2,7.8600000000000003E-2,7.8600000000000003E-2,7.8600000000000003E-2,7.8600000000000003E-2,7.8600000000000003E-2,7.8600000000000003E-2,7.8600000000000003E-2,7.8600000000000003E-2,7.8600000000000003E-2,7.8600000000000003E-2,7.8600000000000003E-2,7.8600000000000003E-2,7.8600000000000003E-2,7.8600000000000003E-2,7.8600000000000003E-2,7.8600000000000003E-2,7.8600000000000003E-2,7.8600000000000003E-2,7.8600000000000003E-2,7.8600000000000003E-2,7.8600000000000003E-2,7.8600000000000003E-2,7.8600000000000003E-2,7.8600000000000003E-2,7.8600000000000003E-2,7.8600000000000003E-2,7.8600000000000003E-2,7.8600000000000003E-2,7.8600000000000003E-2,7.8600000000000003E-2,7.8600000000000003E-2,7.8600000000000003E-2,7.8600000000000003E-2,7.8600000000000003E-2,7.8600000000000003E-2,7.8600000000000003E-2,7.8600000000000003E-2,7.8600000000000003E-2,7.8600000000000003E-2,null,null,null,null,null,null,null,null,null,null,null,null,null,null,null,null,null,{"$f":"'Country list'!H222","v":"U.K. of Great Britain and Northern Ireland"},{"$f":"'Country list'!I222","v":"Western Europe"},{"$f":"'Country list'!J222","v":"we"}]
[null,null,null,null,null,null,null,4,"k","4k","Feed blending/transport (from GLEAM)",4,"Eastern Europe",7.8600000000000003E-2,7.8600000000000003E-2,7.8600000000000003E-2,7.8600000000000003E-2,7.8600000000000003E-2,7.8600000000000003E-2,7.8600000000000003E-2,7.8600000000000003E-2,7.8600000000000003E-2,7.8600000000000003E-2,7.8600000000000003E-2,7.8600000000000003E-2,7.8600000000000003E-2,7.8600000000000003E-2,7.8600000000000003E-2,7.8600000000000003E-2,7.8600000000000003E-2,7.8600000000000003E-2,7.8600000000000003E-2,7.8600000000000003E-2,7.8600000000000003E-2,7.8600000000000003E-2,7.8600000000000003E-2,7.8600000000000003E-2,7.8600000000000003E-2,7.8600000000000003E-2,7.8600000000000003E-2,7.8600000000000003E-2,7.8600000000000003E-2,7.8600000000000003E-2,7.8600000000000003E-2,7.8600000000000003E-2,7.8600000000000003E-2,7.8600000000000003E-2,7.8600000000000003E-2,7.8600000000000003E-2,7.8600000000000003E-2,7.8600000000000003E-2,7.8600000000000003E-2,7.8600000000000003E-2,7.8600000000000003E-2,7.8600000000000003E-2,7.8600000000000003E-2,7.8600000000000003E-2,null,null,null,null,null,null,null,null,null,null,null,null,null,null,null,null,null,{"$f":"'Country list'!H223","v":"Uganda"},{"$f":"'Country list'!I223","v":"Sub-Saharan Africa"},{"$f":"'Country list'!J223","v":"ssa"}]
[null,null,null,null,null,null,null,5,"k","5k","Feed blending/transport (from GLEAM)",5,"West Asia & Northern Africa",7.8600000000000003E-2,7.8600000000000003E-2,7.8600000000000003E-2,7.8600000000000003E-2,7.8600000000000003E-2,7.8600000000000003E-2,7.8600000000000003E-2,7.8600000000000003E-2,7.8600000000000003E-2,7.8600000000000003E-2,7.8600000000000003E-2,7.8600000000000003E-2,7.8600000000000003E-2,7.8600000000000003E-2,7.8600000000000003E-2,7.8600000000000003E-2,7.8600000000000003E-2,7.8600000000000003E-2,7.8600000000000003E-2,7.8600000000000003E-2,7.8600000000000003E-2,7.8600000000000003E-2,7.8600000000000003E-2,7.8600000000000003E-2,7.8600000000000003E-2,7.8600000000000003E-2,7.8600000000000003E-2,7.8600000000000003E-2,7.8600000000000003E-2,7.8600000000000003E-2,7.8600000000000003E-2,7.8600000000000003E-2,7.8600000000000003E-2,7.8600000000000003E-2,7.8600000000000003E-2,7.8600000000000003E-2,7.8600000000000003E-2,7.8600000000000003E-2,7.8600000000000003E-2,7.8600000000000003E-2,7.8600000000000003E-2,7.8600000000000003E-2,7.8600000000000003E-2,7.8600000000000003E-2,null,null,null,null,null,null,null,null,null,null,null,null,null,null,null,null,null,{"$f":"'Country list'!H224","v":"Ukraine"},{"$f":"'Country list'!I224","v":"Eastern Europe"},{"$f":"'Country list'!J224","v":"ee"}]
[null,null,null,null,null,null,null,6,"k","6k","Feed blending/transport (from GLEAM)",6,"East Asia",7.8600000000000003E-2,7.8600000000000003E-2,7.8600000000000003E-2,7.8600000000000003E-2,7.8600000000000003E-2,7.8600000000000003E-2,7.8600000000000003E-2,7.8600000000000003E-2,7.8600000000000003E-2,7.8600000000000003E-2,7.8600000000000003E-2,7.8600000000000003E-2,7.8600000000000003E-2,7.8600000000000003E-2,7.8600000000000003E-2,7.8600000000000003E-2,7.8600000000000003E-2,7.8600000000000003E-2,7.8600000000000003E-2,7.8600000000000003E-2,7.8600000000000003E-2,7.8600000000000003E-2,7.8600000000000003E-2,7.8600000000000003E-2,7.8600000000000003E-2,7.8600000000000003E-2,7.8600000000000003E-2,7.8600000000000003E-2,7.8600000000000003E-2,7.8600000000000003E-2,7.8600000000000003E-2,7.8600000000000003E-2,7.8600000000000003E-2,7.8600000000000003E-2,7.8600000000000003E-2,7.8600000000000003E-2,7.8600000000000003E-2,7.8600000000000003E-2,7.8600000000000003E-2,7.8600000000000003E-2,7.8600000000000003E-2,7.8600000000000003E-2,7.8600000000000003E-2,7.8600000000000003E-2,null,null,null,null,null,null,null,null,null,null,null,null,null,null,null,null,null,{"$f":"'Country list'!H225","v":"United Arab Emirates"},{"$f":"'Country list'!I225","v":"Near East and North Africa"},{"$f":"'Country list'!J225","v":"nena"}]
[null,null,null,null,null,null,null,7,"k","7k","Feed blending/transport (from GLEAM)",7,"Oceania",7.8600000000000003E-2,7.8600000000000003E-2,7.8600000000000003E-2,7.8600000000000003E-2,7.8600000000000003E-2,7.8600000000000003E-2,7.8600000000000003E-2,7.8600000000000003E-2,7.8600000000000003E-2,7.8600000000000003E-2,7.8600000000000003E-2,7.8600000000000003E-2,7.8600000000000003E-2,7.8600000000000003E-2,7.8600000000000003E-2,7.8600000000000003E-2,7.8600000000000003E-2,7.8600000000000003E-2,7.8600000000000003E-2,7.8600000000000003E-2,7.8600000000000003E-2,7.8600000000000003E-2,7.8600000000000003E-2,7.8600000000000003E-2,7.8600000000000003E-2,7.8600000000000003E-2,7.8600000000000003E-2,7.8600000000000003E-2,7.8600000000000003E-2,7.8600000000000003E-2,7.8600000000000003E-2,7.8600000000000003E-2,7.8600000000000003E-2,7.8600000000000003E-2,7.8600000000000003E-2,7.8600000000000003E-2,7.8600000000000003E-2,7.8600000000000003E-2,7.8600000000000003E-2,7.8600000000000003E-2,7.8600000000000003E-2,7.8600000000000003E-2,7.8600000000000003E-2,7.8600000000000003E-2,null,null,null,null,null,null,null,null,null,null,null,null,null,null,null,null,null,{"$f":"'Country list'!H226","v":"United Republic of Tanzania"},{"$f":"'Country list'!I226","v":"Sub-Saharan Africa"},{"$f":"'Country list'!J226","v":"ssa"}]
[null,null,null,null,null,null,null,8,"k","8k","Feed blending/transport (from GLEAM)",8,"South Asia",7.8600000000000003E-2,7.8600000000000003E-2,7.8600000000000003E-2,7.8600000000000003E-2,7.8600000000000003E-2,7.8600000000000003E-2,7.8600000000000003E-2,7.8600000000000003E-2,7.8600000000000003E-2,7.8600000000000003E-2,7.8600000000000003E-2,7.8600000000000003E-2,7.8600000000000003E-2,7.8600000000000003E-2,7.8600000000000003E-2,7.8600000000000003E-2,7.8600000000000003E-2,7.8600000000000003E-2,7.8600000000000003E-2,7.8600000000000003E-2,7.8600000000000003E-2,7.8600000000000003E-2,7.8600000000000003E-2,7.8600000000000003E-2,7.8600000000000003E-2,7.8600000000000003E-2,7.8600000000000003E-2,7.8600000000000003E-2,7.8600000000000003E-2,7.8600000000000003E-2,7.8600000000000003E-2,7.8600000000000003E-2,7.8600000000000003E-2,7.8600000000000003E-2,7.8600000000000003E-2,7.8600000000000003E-2,7.8600000000000003E-2,7.8600000000000003E-2,7.8600000000000003E-2,7.8600000000000003E-2,7.8600000000000003E-2,7.8600000000000003E-2,7.8600000000000003E-2,7.8600000000000003E-2,null,null,null,null,null,null,null,null,null,null,null,null,null,null,null,null,null,{"$f":"'Country list'!H227","v":"United States of America"},{"$f":"'Country list'!I227","v":"North America"},{"$f":"'Country list'!J227","v":"nam"}]
[null,null,null,null,null,null,null,9,"k","9k","Feed blending/transport (from GLEAM)",9,"Central & South America",7.8600000000000003E-2,7.8600000000000003E-2,7.8600000000000003E-2,7.8600000000000003E-2,7.8600000000000003E-2,7.8600000000000003E-2,7.8600000000000003E-2,7.8600000000000003E-2,7.8600000000000003E-2,7.8600000000000003E-2,7.8600000000000003E-2,7.8600000000000003E-2,7.8600000000000003E-2,7.8600000000000003E-2,7.8600000000000003E-2,7.8600000000000003E-2,7.8600000000000003E-2,7.8600000000000003E-2,7.8600000000000003E-2,7.8600000000000003E-2,7.8600000000000003E-2,7.8600000000000003E-2,7.8600000000000003E-2,7.8600000000000003E-2,7.8600000000000003E-2,7.8600000000000003E-2,7.8600000000000003E-2,7.8600000000000003E-2,7.8600000000000003E-2,7.8600000000000003E-2,7.8600000000000003E-2,7.8600000000000003E-2,7.8600000000000003E-2,7.8600000000000003E-2,7.8600000000000003E-2,7.8600000000000003E-2,7.8600000000000003E-2,7.8600000000000003E-2,7.8600000000000003E-2,7.8600000000000003E-2,7.8600000000000003E-2,7.8600000000000003E-2,7.8600000000000003E-2,7.8600000000000003E-2,null,null,null,null,null,null,null,null,null,null,null,null,null,null,null,null,null,{"$f":"'Country list'!H228","v":"United States Virgin Islands"},{"$f":"'Country list'!I228","v":"Latin America and the Caribbean"},{"$f":"'Country list'!J228","v":"lac"}]
[null,null,null,null,null,null,null,10,"k","10k","Feed blending/transport (from GLEAM)",10,"Sub-Saharan Africa",7.8600000000000003E-2,7.8600000000000003E-2,7.8600000000000003E-2,7.8600000000000003E-2,7.8600000000000003E-2,7.8600000000000003E-2,7.8600000000000003E-2,7.8600000000000003E-2,7.8600000000000003E-2,7.8600000000000003E-2,7.8600000000000003E-2,7.8600000000000003E-2,7.8600000000000003E-2,7.8600000000000003E-2,7.8600000000000003E-2,7.8600000000000003E-2,7.8600000000000003E-2,7.8600000000000003E-2,7.8600000000000003E-2,7.8600000000000003E-2,7.8600000000000003E-2,7.8600000000000003E-2,7.8600000000000003E-2,7.8600000000000003E-2,7.8600000000000003E-2,7.8600000000000003E-2,7.8600000000000003E-2,7.8600000000000003E-2,7.8600000000000003E-2,7.8600000000000003E-2,7.8600000000000003E-2,7.8600000000000003E-2,7.8600000000000003E-2,7.8600000000000003E-2,7.8600000000000003E-2,7.8600000000000003E-2,7.8600000000000003E-2,7.8600000000000003E-2,7.8600000000000003E-2,7.8600000000000003E-2,7.8600000000000003E-2,7.8600000000000003E-2,7.8600000000000003E-2,7.8600000000000003E-2,null,null,null,null,null,null,null,null,null,null,null,null,null,null,null,null,null,{"$f":"'Country list'!H229","v":"Uruguay"},{"$f":"'Country list'!I229","v":"Latin America and the Caribbean"},{"$f":"'Country list'!J229","v":"lac"}]
[null,null,null,null,null,null,null,null,null,null,null,null,null,null,null,null,null,null,null,null,null,null,null,null,null,null,null,null,null,null,null,null,null,null,null,null,null,null,null,null,null,null,null,null,null,null,null,null,null,null,null,null,null,null,null,null,null,null,null,null,null,null,null,null,null,null,null,null,null,null,null,null,null,null,{"$f":"'Country list'!H230","v":"Uzbekistan"},{"$f":"'Country list'!I230","v":"Near East and North Africa"},{"$f":"'Country list'!J230","v":"nena"}]
[null,null,null,null,null,null,null,null,null,null,"Checking GLEAM EI v Feedprint",null,null,null,null,null,null,null,null,null,null,null,null,null,null,null,null,null,null,null,null,null,null,null,null,null,null,null,null,null,null,null,null,null,null,null,null,null,null,null,null,null,null,null,null,null,null,null,null,null,null,null,null,null,null,null,null,null,null,null,null,null,null,null,{"$f":"'Country list'!H231","v":"Vanuatu"},{"$f":"'Country list'!I231","v":"Oceania"},{"$f":"'Country list'!J231","v":"oc"}]
[null,null,null,null,null,null,null,null,null,null,"Total EI",1,"North America",{"$f":"SUM(N121,N131,N141,N151,N161,N171,N181,N191,N201)","v":0.55532252353395739},{"$f":"SUM(O121,O131,O141,O151,O161,O171,O181,O191,O201)","v":0.66841318331541932},1.5970327855742248,0.50945356434357758,0.43195655354062057,1.5338865370626114,0.30610110634013321,0.91775059844895812,0.55065035906937487,0.21458889636055378,0.53631783345226269,0.99985267537048628,0.70919834325700781,0.524401144823196,0.64058394247573403,0.33811399446875301,0.45886243302793706,1.6294298642216534,0.282196856446016,0.89227885675850527,0.53536731405510318,0.32578341976462083,0.93872355537669072,0.56323413322601446,0.16149126157682439,0.52021593382098297,0.97256327389245789,0.23779146469324899,0.54335403060120691,1.0117775794670869,0.67565440430474566,null,null,null,null,null,null,null,null,null,null,null,null,null,null,null,null,null,null,null,null,null,null,null,null,null,null,null,null,null,null,{"$f":"'Country list'!H232","v":"Venezuela"},{"$f":"'Country list'!I232","v":"Latin America and the Caribbean"},{"$f":"'Country list'!J232","v":"lac"}]
[null,null,null,null,null,null,null,null,null,null,"Total EI",2,"Russian Federation",{"$f":"SUM(N122,N132,N142,N152,N162,N172,N182,N192,N202)","v":1.3406398516824456},1.3751987786490587,2.8443014832218232,0.32185558311858098,0.26537044845443081,0.94233587818512121,0.19295528879599722,0.7971853830330754,0.47831122981984525,0.2218187186986588,0.53851028277913582,1.0035684251435781,0.82525116007323396,0.51319842079862044,0.63050149085361606,0.23178360581365104,0.33418257117632999,1.1866891302996205,0.20338766583502677,0.80830185036974633,0.48498111022184776,0.23568469348549481,0.84271671589893338,0.50563002953936009,0.18990653314894179,0.52883288733903289,0.98716723426088338,0.28821621038125722,0.5586453745058495,1.0376932560337047,0.78479207671141926,null,null,null,null,null,null,null,null,null,null,null,null,null,null,null,null,null,null,null,null,null,null,null,null,null,null,null,null,null,null,{"$f":"'Country list'!H233","v":"Viet Nam"},{"$f":"'Country list'!I233","v":"East Asia and Southeast Asia"},{"$f":"'Country list'!J233","v":"esea"}]
[null,null,null,null,null,null,null,null,null,null,"Total EI",3,"Western Europe",{"$f":"SUM(N123,N133,N143,N153,N163,N173,N183,N193,N203)","v":3.0185420560556202},2.8853107625849153,5.5092049842851001,0.72672834334707803,0.45352234422224996,1.6104670998912547,0.30911086828550521,0.92095772183337077,0.55257463310002242,0.2963720010882796,0.56111862447099548,1.0418849050192245,0.76964473138619793,0.55179882785904599,0.665241857207999,0.48944905769939806,0.51877634250520599,1.8421853795082819,0.27692409885628161,0.88666034457272269,0.53199620674363368,0.31777711225734601,0.93019224409844703,0.55811534645906824,0.20705002870060618,0.5340316658877674,0.99597809249876335,0.30514815996854816,0.56378000157402142,1.0463953907328365,0.7207205781306677,null,null,null,null,null,null,null,null,null,null,null,null,null,null,null,null,null,null,null,null,null,null,null,null,null,null,null,null,null,null,{"$f":"'Country list'!H234","v":"Wake Island"},{"$f":"'Country list'!I234","v":"Oceania"},{"$f":"'Country list'!J234","v":"oc"}]
[null,null,null,null,null,null,null,null,null,null,"Total EI",4,"Eastern Europe",1.006376991615906,1.074362204589173,2.3134134113514366,0.62898330725061002,0.3388776802453094,1.2033615584221187,0.32706557225906158,0.94008978344453753,0.56405387006672258,0.29347682556514382,0.56024066020990659,1.0403969365339611,0.83117489326168092,0.51822618473724591,0.63502647839837911,0.36150484114482501,0.31956732657267928,1.1347900984417583,0.24590486166560518,0.85360705904167411,0.51216423542500444,0.28345767555591195,0.89362235253134525,0.53617341151880715,0.1999016395639816,0.53186391124347709,0.99230419512338897,0.29949367170017138,0.5620652735464079,1.043489280109698,0.77711556885199384,null,null,null,null,null,null,null,null,null,null,null,null,null,null,null,null,null,null,null,null,null,null,null,null,null,null,null,null,null,null,{"$f":"'Country list'!H235","v":"Wallis and Futuna"},{"$f":"'Country list'!I235","v":"Oceania"},{"$f":"'Country list'!J235","v":"oc"}]
[null,null,null,null,null,null,null,null,null,null,"Total EI",5,"West Asia & Northern Africa",2.5805656818110081,2.4911320257647649,4.813595448720128,1.171317819010854,0.47649901048899201,1.6920577107160122,0.36349551845343903,0.97890857856969382,0.58734514714181618,0.60628840533162442,0.65510101851809532,1.2011656943513915,0.79180194638277313,0.36068632313289317,0.49324060295446154,0.42549409897777801,0.29175541800208599,1.0360294435176112,0.28806473128505122,0.89853151027550993,0.53911890616530611,0.33510137174779597,0.94865252060466432,0.56919151236279864,0.36700876004431759,0.58253927734228972,1.078188497111592,0.54584606005693537,0.63677182963696599,1.170101496610892,0.61458903247214858,null,null,null,null,null,null,null,null,null,null,null,null,null,null,null,null,null,null,null,null,null,null,null,null,null,null,null,null,null,null,{"$f":"'Country list'!H236","v":"West Bank"},{"$f":"'Country list'!I236","v":"Near East and North Africa"},{"$f":"'Country list'!J236","v":"nena"}]
[null,null,null,null,null,null,null,null,null,null,"Total EI",6,"East Asia",4.1892514177315814,3.938949188093281,7.3685669116528043,{"$f":"SUM(Q126,Q136,Q146,Q156,Q166,Q176,Q186,Q196,Q206)","v":3.000541981338074},1.0671668896978841,3.7895314042333013,0.79897128825520802,1.4429401365551855,0.86576408193311116,0.99621167557903201,0.77334555778989023,1.4015658197194589,0.85409677515584781,2.5524463257124017,2.4658246052760191,1.54452227527622,1.0282384236040158,3.6512956266754841,0.66113753383940399,1.2960681031612957,0.7776408618967775,0.75966950370650155,1.4010611858065638,0.84063671148393826,0.62611229457255657,0.66111262856737962,1.2113541344684555,0.9353214881110139,0.75488056041037854,1.3702714545626078,0.64691725981294901,null,null,null,null,null,null,null,null,null,null,null,null,null,null,null,null,null,null,null,null,null,null,null,null,null,null,null,null,null,null,{"$f":"'Country list'!H237","v":"Western Sahara"},{"$f":"'Country list'!I237","v":"Near East and North Africa"},{"$f":"'Country list'!J237","v":"nena"}]
[null,null,null,null,null,null,null,null,null,null,"Total EI",7,"Oceania",0.34178352598845907,0.47622808552447088,1.2578826130019627,0.46786208404842305,0.32442236357405618,1.1520304339160359,0.26883002693260927,0.87803551383438339,0.52682130830063001,0.2229951218440609,0.53886702796091923,1.0041730347060502,0.62843394524064655,0.23008663265491203,0.3757008815242785,0.31450310549215049,0.34039037366752362,1.2087331636356955,0.26363912389464567,0.87250422371196301,0.52350253422717796,0.30730807130038923,0.91903670865250953,0.55142202519150574,0.18701313728218796,0.52795546276014549,0.98568018042573002,0.28077150393897404,0.55638776140488488,1.033867067092954,0.60260754473535461,null,null,null,null,null,null,null,null,null,null,null,null,null,null,null,null,null,null,null,null,null,null,null,null,null,null,null,null,null,null,{"$f":"'Country list'!H238","v":"Yemen"},{"$f":"'Country list'!I238","v":"Near East and North Africa"},{"$f":"'Country list'!J238","v":"nena"}]
[null,null,null,null,null,1,"Algae",null,null,null,"Total EI",8,"South Asia",3.0345375029086039,2.8997066647526011,5.5346095175221919,3.0357365463231001,1.3745551955075239,4.8810735513940635,0.59203777945397795,1.2224372173407601,0.73346233040445596,0.94997693004484396,0.75932483473694212,1.3778035836376445,1.0883611488756586,1.5835827740380242,1.5938474087690793,1.315533099462086,1.3347968338651861,4.7398907978069857,0.45490095170703398,1.0763078107251638,0.64578468643509834,0.52540261909605601,1.1514325382708428,0.69085952296250586,0.51073163934060994,0.62612335385668405,1.1520545246789176,0.79821484291465805,0.71330286210563787,1.2998058245715813,0.7049134414383994,null,null,null,null,null,null,null,null,null,null,null,null,null,null,null,null,null,null,null,null,null,null,null,null,null,null,null,null,null,null,{"$f":"'Country list'!H239","v":"Zambia"},{"$f":"'Country list'!I239","v":"Sub-Saharan Africa"},{"$f":"'Country list'!J239","v":"ssa"}]
[null,null,null,null,null,2,"Bivalves",null,null,null,"Total EI",9,"Central & South America",{"$f":"SUM(N129,N139,N149,N159,N169,N179,N189,N199,N209)","v":4.9539349196514131},4.6271643398211291,8.5830642382313602,0.86295062000901401,0.25475413103418099,0.90463711836627525,0.23203673403618397,0.83882954599393023,0.50329772759635805,0.32142054947359022,0.56871461652699418,1.0547585461166622,0.72042335882859831,0.38461044230638197,0.51477231021060144,0.43494372317225,0.24414696344328102,0.86697084977818129,0.2308944752002402,0.83761238493923595,0.50256743096354162,0.26682492266984381,0.87589892732487917,0.52553935639492755,0.23903785199958141,0.54373199853499554,1.0124181572204682,0.36325452713176642,0.58140080325024091,1.0762590181506191,0.5056657451240486,null,null,null,null,null,null,null,null,null,null,null,null,null,null,null,null,null,null,null,null,null,null,null,null,null,null,null,null,null,null,{"$f":"'Country list'!H240","v":"Zimbabwe"},{"$f":"'Country list'!I240","v":"Sub-Saharan Africa"},{"$f":"'Country list'!J240","v":"ssa"}]
[null,null,null,null,null,3,"Catfish",null,null,null,"Total EI",10,"Sub-Saharan Africa",{"$f":"SUM(N130,N140,N150,N160,N170,N180,N190,N200,N210)","v":1.4984366258001272},1.517215875354972,3.0949198891734357,0.64031049032915388,0.35948522655275206,1.2765393759220167,0.24154033450738138,0.84895633338127174,0.50937380002876298,0.46006014894347602,0.61075718442436833,1.1260120342634843,1.3346541506138594,0.33239607982979225,0.46777938398167063,0.13717674588400178,0.25894802903339798,0.91952973575124974,0.17853516855395141,0.78181968113581346,0.46909180868148809,0.20668177372142002,0.81181196533065703,0.48708717919839423,0.12130077556878739,0.50802813723701779,0.95190747043270596,0.19222188785368322,0.52953502047958434,0.98835720523339621,0.5402380214979956]
[null,null,null,null,null,4,"Cyprinids"]
[null,null,null,null,null,5,"Freshwater fish - general",null,null,null,null,null,"Feedprint equivalent (broiler unless noted)","soy",null,null,"beans","rapeseed expeller",null,"Wheat","Wheat feedflour","Wheat bran","Maize","Maize gluten meal","DGS (dairy cattle)","Rice branmeal"]
[null,null,null,null,null,6,"Indian major carps",null,null,null,null,"Feedprint","EI (no LUC)",0.64,null,null,0.79,0.53900000000000003,null,0.40500000000000003,0.254,0.42899999999999999,0.61399999999999999,1.02,0.29599999999999999,0.45300000000000001]
[null,null,null,null,null,7,"Marine fish - general",null,null,null,null,null,"LUC (pas 2050/1)",3.77,null,null,3.9E-2,8.4000000000000005E-2,null,2.5999999999999999E-2,1.4E-2,1.2E-2,3.6999999999999998E-2,2.4E-2,0,2.8E-3]
[null,null,null,null,null,8,"Salmonids",null,null,null,null,null,null,null,null,null,"Pulses: Asia much higher due to high fert application rates relative to yield?","Oilseeds: Asia - as for pulses",null,null,null,null,null,null,"DDGS higher in all regions - allocation?"]
[null,null,null,null,null,9,"Shrimp"]
[null,null,null,null,null,10,"Tilapia"]
[null,null,null,null,null,null,null,null,null,null,"Aquaculture production",null,null,11,12,13,14,15,16,17,18,19,20,21,22,23,24,25,26,27,28,29,30,31,32,33,34,35,36,37,38,39,40,41,42,43,44,45,46,47,48,49,50,51,52,53,54]
[null,null,null,null,null,null,null,null,null,null,null,null,null,"Rations: % of each feed material (source of % - see Read_me sheet)"]
[null,null,null,null,null,null,null,null,null,null,null,null,null,"Non-local","Non-local","Non-local","Non-local","Non-local","Non-local","Non-local","Non-local","Non-local","Non-local","Non-local","Non-local","Non-local","Local","Local","Local","Local","Local","Local","Local","Local","Local","Local","Local","Local","Local","Local","Local","Local","Local","Local","Non-local","Non-local","Non-local","Non-local","Non-local","Non-local","Non-local","Non-local","Non-local","Non-local","Non-local","Local","Local",null,null,null,null,null,"Non-local","Soybean","c_",{"$f":"CONCATENATE(BM252,BL252)","v":"c_Soybean"},null,"c_Soybean","Blood meal","c_","Blood meal","Cassava"]
[null,null,null,null,null,null,null,null,null,null,null,null,null,"Crop","Crop","Crop","Crop","Crop","Crop","Crop","Crop","Crop","Crop","Crop","Crop","Crop","Crop","Crop","Crop","Crop","Crop","Crop","Crop","Crop","Crop","Crop","Crop","Crop","Crop","Crop","Crop","Crop","Crop","Crop","Fish","Fish","Fish","Fish","Animal by","Animal by","Animal by","Animal by","Synthetics","Synthetics","Crop","Crop","Crop",null,null,null,null,null,"Non-local","Soybean meal","c_",{"$f":"CONCATENATE(BM253,BL253)","v":"c_Soybean meal"},null,"c_Soybean meal","Cassava","c_","Cassava","Groundnut meal"]
[null,null,null,null,null,null,null,"Production copied from: 2016 03 22 LCA Feeds Background Work mm.xl",null,null,"fresh or DM yield",null,null,1,2,3,4,5,6,7,8,9,10,11,12,13,14,15,16,17,18,19,20,21,22,23,24,25,26,27,28,29,30,31,32,33,34,35,36,37,38,39,40,41,42,43,44,null,null,null,null,null,"Non-local","Soy oil","c_","c_Soy oil",null,"c_Soy oil","Feather meal","c_","Feather meal","Maize"]
[null,"Region","Species","Code",null,"Region","Main species (>90% of regional production)",{"$f":"[8]Production!K4","v":"Production (t) on commercial feed"},null,"FCR (kg IN (as fed)/kg fish LW out)","FCR (kg IN (DM)/kg fish LW out)","Feed input (t DM)",null,"Soybean","Soybean meal","Soy oil","Pulses","Oilseed meal","Oilseed oil","Wheat","Wheat flour","Wheat by-products","Maize","Maize gluten meal","Maize DDGS","Rice by-products","Soybean","Soybean meal","Pulses","Oilseed meal","Oilseed oil","Wheat-s","Wheat flour-s","Wheat by-products-s","Wheat-n","Wheat flour-n","Wheat by-products-n","Maize-s","Maize gluten meal-s","Maize DDGS-s","Maize-n","Maize gluten meal-n","Maize DDGS-n","Rice by-products","Fishmeal - trimmings","Fishmeal - reduction","Fishoil - trimmings","Fishoil - reduction","Poultry meal","Feather meal","Meat and bone meal","Blood meal","Vit and mineral premix","Lime","Cassava","Cassava","Groundnut meal","Sum",null,null,null,null,"Non-local","Pulses","c_","c_Pulses",null,"c_Pulses","Fishmeal - reduction","c_","Fishmeal - reduction","Maize"]
["North America",1,2,{"$f":"CONCATENATE(B256,C256)","v":"12"},null,"North America","Bivalves",199366,null,null,{"$f":"J256*0.9","v":0},{"$f":"K256*H256","v":0},null,null,null,null,null,null,null,null,null,null,null,null,null,null,null,null,null,null,null,null,null,null,null,null,null,null,null,null,null,null,null,null,null,null,null,null,null,null,null,null,null,null,null,null,null,{"$f":"SUM(N256:BE256)","v":0},null,null,null,null,"Non-local","Oilseed meal (non-soy)","c_","c_Oilseed meal (non-soy)",null,"c_Oilseed meal (non-soy)","Fishmeal - trimmings","c_","Fishmeal - trimmings","Maize DDGS"]
["North America",1,8,{"$f":"CONCATENATE(B257,C257)","v":"18"},null,"North America","Salmonids",168793,null,1.2977555348859253,{"$f":"J257*0.9","v":1.1679799813973328},197146.845,null,null,null,0.153,null,null,null,null,null,null,null,null,null,null,null,0.20699999999999999,null,null,null,null,null,null,0.13200000000000001,null,5.0000000000000001E-3,null,null,null,null,3.5000000000000003E-2,null,null,null,0.18099999999999999,null,9.8000000000000004E-2,7.4999999999999997E-2,null,0.06,null,5.3999999999999999E-2,null,null,null,null,{"$f":"SUM(N257:BE257)","v":1},null,null,null,null,"Non-local","Oilseed oil (non-soy)","c_","c_Oilseed oil (non-soy)",null,"c_Oilseed oil (non-soy)","Fishoil - reduction","c_","Fishoil - reduction","Maize DDGS"]
["North America",1,3,{"$f":"CONCATENATE(B258,C258)","v":"13"},null,"North America","Catfish",152920,null,2.5,2.25,344070,null,null,null,null,null,null,null,null,null,null,null,null,null,null,null,0.27,null,0.17,null,null,null,null,null,null,0.2,null,null,null,0.2,6.5000000000000002E-2,0.05,null,null,null,null,null,null,null,1.4999999999999999E-2,null,0.03,null,null,null,null,1,null,null,null,null,"Non-local","Wheat","c_","c_Wheat",null,"c_Wheat","Fishoil - trimmings","c_","Fishoil - trimmings","Maize gluten meal"]
["North America",1,9,"19",null,"North America","Shrimp",50089,null,2.4787298608476913,2.2308568747629223,111741.39000000001,null,null,null,null,null,null,null,null,null,null,null,null,null,null,null,0.28095245719048667,null,0.17131262571928921,null,null,null,null,2.7285226754292253E-3,null,0.20154426555210495,null,null,null,0.20154426555210495,6.8912539648720628E-2,5.2205081504979052E-2,null,null,1.8190151169528172E-3,null,9.0950755847640861E-4,null,null,1.6934835033360688E-2,null,1.1368844480955107E-3,null,null,null,null,1,null,null,null,null,"Non-local","Wheat flour","c_","c_Wheat flour",null,"c_Wheat flour","Lime","c_","Lime","Maize gluten meal"]
["Russian Federation",2,4,"24",null,"Russian Federation","Cyprinid",9829.9999999999982,null,1.8,1.62,15924.599999999999,null,null,0.5,null,null,null,null,null,null,null,null,null,null,null,null,null,null,null,0.08,null,null,null,0.35,null,null,null,null,null,null,null,null,null,null,0.05,null,null,null,null,null,null,0.02,null,null,null,null,1,null,null,null,null,"Non-local","Wheat by-products","c_","c_Wheat by-products",null,"c_Wheat by-products","Maize","c_","Maize","Oilseed meal (non-soy)"]
["Russian Federation",2,8,"28",null,"Russian Federation","Salmonids",46723,null,1.2481561543565267,1.1233405389208742,52485.840000000004,null,null,0.254,null,null,null,null,null,null,null,null,null,null,null,null,null,null,7.1999999999999995E-2,0.192,null,null,null,0.106,null,6.6000000000000003E-2,null,null,null,null,null,null,null,null,0.17599999999999999,null,0.112,null,null,null,null,2.1000000000000001E-2,null,null,null,null,0.99899999999999989,null,null,null,null,"Non-local","Maize","c_","c_Maize",null,"c_Maize","Maize DDGS","c_","Maize DDGS","Oilseed oil (non-soy)"]
["Western Europe",3,8,"38",null,"Western Europe","Salmonids",1484638.7899999998,null,1.1307604639644369,1.0176844175679931,1510893.7622999998,null,null,0.254,null,null,null,null,null,null,null,null,null,null,null,null,null,null,7.1999999999999995E-2,0.192,null,null,null,0.106,null,6.6000000000000003E-2,null,null,null,null,null,null,null,null,0.17599999999999999,null,0.112,null,null,null,null,2.1000000000000001E-2,null,null,null,null,0.99899999999999989,null,null,null,null,"Non-local","Maize gluten meal","c_","c_Maize gluten meal",null,"c_Maize gluten meal","Maize gluten meal","c_","Maize gluten meal","Pulses"]
["Western Europe",3,2,"32",null,"Western Europe","Bivalves",546200.09,null,null,0,0,null,null,null,null,null,null,null,null,null,null,null,null,null,null,null,null,null,null,null,null,null,null,null,null,null,null,null,null,null,null,null,null,null,null,null,null,null,null,null,null,null,null,null,null,null,0,null,null,null,null,"Non-local","Maize DDGS","c_","c_Maize DDGS",null,"c_Maize DDGS","Meat and bone meal","c_","Meat and bone meal","Rice by-products"]
["Eastern Europe",4,4,"44",null,"Eastern Europe","Cyprinid",10728.183000000008,null,1.7,1.53,16414.119990000014,null,null,0.5,null,null,null,null,null,null,null,null,null,null,null,null,null,null,null,0.08,null,null,null,0.35,null,null,null,null,null,null,null,null,null,null,0.05,null,null,null,null,null,null,0.02,null,null,null,null,1,null,null,null,null,"Non-local","Rice by-products","c_","c_Rice by-products",null,"c_Rice by-products","Oilseed meal (non-soy)","c_","Oilseed meal (non-soy)","Soybean"]
["Eastern Europe",4,8,"48",null,"Eastern Europe","Salmonids",19649.909999999996,null,1.2,1.08,21221.902799999996,null,null,0.254,null,null,null,null,null,null,null,null,null,null,null,null,null,null,7.1999999999999995E-2,0.192,null,null,null,0.106,null,6.6000000000000003E-2,null,null,null,null,null,null,null,null,0.17599999999999999,null,0.112,null,null,null,null,2.1000000000000001E-2,null,null,null,null,0.99899999999999989,null,null,null,null,"Local","Soybean","nc_","nc_Soybean",null,"nc_Soybean","Oilseed oil (non-soy)","c_","Oilseed oil (non-soy)","Soybean meal"]
["West Asia & Northern Africa",5,10,"510",null,"West Asia & Northern Africa","Tilapia",567385.24650000001,null,1.7,1.53,868099.42714500008,null,null,0.35,null,null,2.5000000000000001E-2,null,null,null,null,null,null,null,null,null,null,null,2.5000000000000001E-2,null,null,null,null,null,null,null,0.25,null,null,null,null,null,0.22,null,0.04,null,null,null,null,0.05,null,0.04,null,null,null,null,1,null,null,null,null,"Local","Soybean meal","nc_","nc_Soybean meal",null,"nc_Soybean meal","Poultry meal","c_","Poultry meal","Wheat"]
["West Asia & Northern Africa",5,4,"54",null,"West Asia & Northern Africa","Cyprinid",167122.3008,null,1.7,1.53,255697.12022400001,null,null,0.35,null,null,2.5000000000000001E-2,null,null,null,null,null,null,null,null,null,null,null,2.5000000000000001E-2,null,null,null,null,null,null,null,0.25,null,null,null,null,null,0.22,null,0.04,null,null,null,null,0.05,null,0.04,null,null,null,null,1,null,null,null,null,"Local","Pulses","nc_","nc_Pulses",null,"nc_Pulses","Pulses","c_","Pulses","Wheat"]
["West Asia & Northern Africa",5,7,"57",null,"West Asia & Northern Africa","Marine Fish - general",122049.4184,null,2.8850463896858831,2.5965417507172948,316906.41052636359,null,null,0.26319006465714556,1.6445908614557126E-2,null,null,null,null,null,null,null,1.6445908614557126E-2,null,null,null,null,null,2.4257715206471762E-2,null,null,2.8780340075474975E-2,0.2621454993972846,null,null,null,null,null,null,null,null,null,null,null,0.32096186593046033,null,4.7281987266851747E-2,null,null,null,null,2.0490710237196726E-2,null,null,null,null,1,null,null,null,null,"Local","Oilseed meal (non-soy)","nc_","nc_Oilseed meal (non-soy)",null,"nc_Oilseed meal (non-soy)","Rice by-products","c_","Rice by-products","Wheat by-products"]
["West Asia & Northern Africa",5,8,"58",null,"West Asia & Northern Africa","Salmonids",136622.9,null,0.92,0.82800000000000007,113123.76120000001,null,null,0.254,null,null,null,null,null,null,null,null,null,null,null,null,null,null,7.1999999999999995E-2,0.192,0.106,null,6.6000000000000003E-2,null,null,null,null,null,null,null,null,null,null,null,0.17599999999999999,null,0.112,null,null,null,null,2.1000000000000001E-2,null,null,null,null,0.99899999999999989,null,null,null,null,"Local","Oilseed oil (non-soy)","nc_","nc_Oilseed oil (non-soy)",null,"nc_Oilseed oil (non-soy)","Soy oil","c_","Soy oil","Wheat by-products"]
["East Asia",6,1,"61",null,"East Asia","Alga",26277001.199999999,null,null,0,0,null,null,null,null,null,null,null,null,null,null,null,null,null,null,null,null,null,null,null,null,null,null,null,null,null,null,null,null,null,null,null,null,null,null,null,null,null,null,null,null,null,null,null,null,null,0,null,null,null,null,"Local","Wheat","nc_","nc_Wheat",null,"nc_Wheat","Soybean","c_","Soybean","Wheat flour"]
["East Asia",6,4,"64",null,"East Asia","Cyprinid",9978232.2119999994,null,1.7,{"$f":"J271*0.9","v":1.53},{"$f":"K271*H271","v":15266695.284359999},null,null,0.2,null,null,0.1,null,null,null,null,null,null,null,0.3,null,null,null,null,null,null,null,null,null,null,null,null,null,null,null,null,null,null,null,0.05,null,null,null,null,0.1,null,null,null,null,0.25,null,1,null,null,null,null,"Local","Wheat flour","nc_","nc_Wheat flour",null,"nc_Wheat flour","Soybean meal","c_","Soybean meal","Wheat flour"]
["East Asia",6,2,"62",null,"East Asia","Bivalves",13525506.009999998,null,null,{"$f":"J272*0.9","v":0},0,null,null,null,null,null,null,null,null,null,null,null,null,null,null,null,null,null,null,null,null,null,null,null,null,null,null,null,null,null,null,null,null,null,null,null,null,null,null,null,null,null,null,null,null,null,0,null,null,null,null,"Local","Wheat by-products","nc_","nc_Wheat by-products",null,"nc_Wheat by-products","Vitamin/mineral premix","c_","Vitamin/mineral premix"]
["East Asia",6,9,"69",null,"East Asia","Shrimp",3139815.4511999995,null,1.9059575801605957,1.7153618221445361,5385919.553568,null,null,0.28000000000000003,null,null,null,null,0.28000000000000003,null,0.03,null,null,null,null,null,null,null,null,null,null,null,null,null,null,null,null,null,null,null,null,null,0.02,null,0.32,null,0.02,null,null,null,null,0.05,null,null,null,null,1.0000000000000002,null,null,null,null,"Local","Wheat","nc_","nc_Wheat",null,"nc_Wheat","Wheat","c_","Wheat"]
["East Asia",6,5,"65",null,"East Asia","FW Fish - general",1363324.4656,null,1.8,1.62,2208585.6342720003,null,null,0.23,null,null,0.21,null,0.04,0.1,null,0.04,null,null,null,null,null,null,null,null,null,null,null,null,null,null,null,null,null,null,null,null,0.23,null,0.05,null,null,0.04,null,0.02,null,0.04,null,null,null,null,1,null,null,null,null,"Local","Wheat flour","nc_","nc_Wheat flour",null,"nc_Wheat flour","Wheat by-products","c_","Wheat by-products"]
["East Asia",6,10,"610",null,"East Asia","Tilapia",3027417.4391999999,null,1.7,1.53,4631948.6819759998,null,null,0.23,null,null,0.21,null,0.04,0.1,null,0.04,null,null,null,null,null,null,null,null,null,null,null,null,null,null,null,null,null,null,null,null,0.23,null,0.05,null,null,0.04,null,0.02,null,0.04,null,null,null,null,1,null,null,null,null,"Local","Wheat by-products","nc_","nc_Wheat by-products",null,"nc_Wheat by-products","Wheat flour","c_","Wheat flour"]
["East Asia",6,3,"63",null,"East Asia","Catfish",2651836.4574000007,null,1.69,1.5209999999999999,4033443.2517054006,null,null,0.25,null,null,0.12,null,6.5000000000000002E-2,null,0.06,null,null,null,null,null,null,null,null,null,null,null,null,null,null,null,null,null,null,null,null,null,0.21,null,0.01,null,null,null,null,0.1,null,null,null,null,0.18,null,0.99499999999999988,null,null,null,null,"Local","Maize","nc_","nc_Maize",null,"nc_Maize","Cassava","nc_"]
["East Asia",6,7,"67",null,"East Asia","Marine Fish - general",701279.70299999998,null,1.7,1.53,1072957.9455899999,null,null,0.3,null,null,null,null,0.16,null,null,null,null,null,null,null,null,null,null,null,null,null,null,null,null,null,null,null,null,null,null,null,null,null,0.32,null,0.08,null,null,0.1,null,0.04,null,null,null,null,1,null,null,null,null,"Local","Maize gluten meal","nc_","nc_Maize gluten meal",null,"nc_Maize gluten meal","Groundnut meal","nc_"]
["NZ+Australia",7,2,"72",null,"NZ+Australia","Bivalves",101172.4,null,null,0,0,null,null,null,null,null,null,null,null,null,null,null,null,null,null,null,null,null,null,null,null,null,null,null,null,null,null,null,null,null,null,null,null,null,null,null,null,null,null,null,null,null,null,null,null,null,0,null,null,null,null,"Local","Maize DDGS","nc_","nc_Maize DDGS",null,"nc_Maize DDGS","Maize","nc_"]
["NZ+Australia",7,8,"78",null,"NZ+Australia","Salmonids",54768.3,null,1.4109285846009461,1.2698357261408515,69546.744000000006,null,null,0.02,null,null,null,null,null,null,null,null,null,null,null,null,null,0.11700000000000001,null,2.1999999999999999E-2,null,null,null,0.111,null,3.7999999999999999E-2,null,null,null,null,null,null,null,0.08,6.2E-2,null,6.5000000000000002E-2,0.28999999999999998,9.6000000000000002E-2,3.2000000000000001E-2,1.7000000000000001E-2,5.1999999999999998E-2,null,null,null,null,1.002,null,null,null,null,"Local","Maize","nc_","nc_Maize",null,"nc_Maize","Maize","nc_"]
["NZ+Australia",7,7,"77",null,"NZ+Australia","Marine Fish - general",4609.2000000000007,null,1.5227740171830255,1.3704966154647229,6316.8930000000018,null,null,null,null,null,null,null,null,null,null,null,null,null,null,null,null,0.18090452261306533,9.2462311557788959E-2,null,null,null,null,0.14070351758793975,null,null,null,null,null,null,null,null,null,null,0.15075376884422112,null,3.0150753768844223E-2,0.40502512562814086,null,null,null,null,null,null,null,null,1.0000000000000002,null,null,null,null,"Local","Maize gluten meal","nc_","nc_Maize gluten meal",null,"nc_Maize gluten meal","Maize DDGS","nc_"]
["South Asia",8,6,"86",null,"South Asia","Indian Carp",4143378.9799999995,null,1.8,1.62,6712273.9475999996,null,null,null,null,null,null,null,null,null,null,null,null,null,null,0.28999999999999998,null,null,0.15,null,null,null,null,null,null,null,0.15,0.01,0.02,null,null,null,0.34,null,null,null,0.02,null,null,0.01,null,null,null,null,null,0.01,1,null,null,null,null,"Local","Maize DDGS","nc_","nc_Maize DDGS",null,"nc_Maize DDGS","Maize DDGS","nc_"]
["South Asia",8,4,"84",null,"South Asia","Cyprinid",514570.58640000003,null,1.8,1.62,833604.34996800008,null,null,null,null,null,null,null,null,null,null,null,null,null,null,0.28999999999999998,null,null,0.15,null,null,null,null,null,null,null,0.15,0.01,0.02,null,null,null,0.34,null,null,null,0.02,null,null,0.01,null,null,null,null,null,0.01,1,null,null,null,null,"Local","Rice by-products","nc_","nc_Rice by-products",null,"nc_Rice by-products","Maize gluten meal","nc_"]
["South Asia",8,9,"89",null,"South Asia","Shrimp",363381.12,null,1.8324104015090275,1.6491693613581246,599277.00959999999,null,null,0.28000000000000003,null,null,null,null,0.28000000000000003,null,0.03,null,null,null,null,null,null,null,null,null,null,null,null,null,null,null,null,null,null,null,null,null,0.02,null,0.32,null,0.02,null,null,null,null,0.05,null,null,null,null,1.0000000000000002,null,null,null,null,"Non-local","Fishmeal - trimmings","c_","c_Fishmeal - trimmings",null,"c_Fishmeal - trimmings","Maize gluten meal","nc_"]
["South Asia",8,5,"85",null,"South Asia","FW Fish - general",153954.71999999997,null,1.8,1.62,249406.64639999997,null,null,null,null,null,null,null,null,null,null,null,null,null,null,null,0.23,null,0.21,null,0.04,0.1,null,null,null,null,0.04,null,null,null,null,null,0.23,null,0.05,null,null,0.04,null,0.02,null,0.04,null,null,null,null,1,null,null,null,null,"Non-local","Fishmeal - reduction","c_","c_Fishmeal - reduction",null,"c_Fishmeal - reduction","Oilseed meal (non-soy)","nc_"]
["South Asia",8,3,"83",null,"South Asia","Catfish",283072.92,null,1.69,1.5209999999999999,430553.91131999996,null,null,null,null,null,null,null,null,null,null,null,null,null,null,null,0.25,null,0.12,null,null,null,0.125,null,null,null,null,null,null,null,null,null,0.21,null,0.01,null,null,null,null,0.1,null,null,null,null,0.18,null,0.99499999999999988,null,null,null,null,"Non-local","Fishoil - trimmings","c_","c_Fishoil - trimmings",null,"c_Fishoil - trimmings","Oilseed oil (non-soy)","nc_"]
["Latin America and the Caribbean",9,8,"98",null,"Latin America and the Caribbean","Salmonids",834408.08,null,1.3036266978622737,1.1732640280760465,978980.98499999999,null,null,0.20699999999999999,0.153,null,null,null,0.13200000000000001,null,5.0000000000000001E-3,null,3.5000000000000003E-2,null,null,null,null,null,null,null,null,null,null,null,null,null,null,null,null,null,null,null,null,null,0.18099999999999999,null,9.8000000000000004E-2,7.4999999999999997E-2,null,0.06,null,5.3999999999999999E-2,null,null,null,null,1,null,null,null,null,"Non-local","Fishoil - reduction","c_","c_Fishoil - reduction",null,"c_Fishoil - reduction","Pulses","nc_"]
["Latin America and the Caribbean",9,9,"99",null,"Latin America and the Caribbean","Shrimp",640825.17079999996,null,1.5001120641998351,1.3501008577798517,865178.61278399988,null,null,null,null,null,null,null,0.15,null,0.04,0.1,0.04,null,null,null,0.38,null,null,null,null,null,null,null,null,null,null,null,null,null,null,null,null,null,0.15,null,0.04,null,null,0.05,null,0.05,null,null,null,null,1,null,null,null,null,"Non-local","Poultry meal","c_","c_Poultry meal",null,"c_Poultry meal","Rice by-products","nc_"]
["Latin America and the Caribbean",9,10,"910",null,"Latin America and the Caribbean","Tilapia",303436.68599999999,null,1.7,1.53,464258.12958000001,null,null,null,null,null,null,null,null,null,null,null,null,null,null,null,0.3,null,null,null,0.2,null,0.1,null,null,null,0.1,null,0.05,null,null,null,null,null,0.05,null,null,0.1,null,0.05,null,0.05,null,null,null,null,1,null,null,null,null,"Non-local","Feather meal","c_","c_Feather meal",null,"c_Feather meal","Soybean","nc_"]
["Latin America and the Caribbean",9,2,"92",null,"Latin America and the Caribbean","Bivalves",345060.52,null,null,0,0,null,null,null,null,null,null,null,null,null,null,null,null,null,null,null,null,null,null,null,null,null,null,null,null,null,null,null,null,null,null,null,null,null,null,null,null,null,null,null,null,null,null,null,null,null,0,null,null,null,null,"Non-local","Meat and bone meal","c_","c_Meat and bone meal",null,"c_Meat and bone meal","Soybean meal","nc_"]
["Latin America and the Caribbean",9,5,"95",null,"Latin America and the Caribbean","FW Fish - general",75687.770600000003,null,1.8,1.62,122614.18837200002,null,null,null,null,null,null,null,null,null,null,null,null,null,null,null,0.3,null,null,null,0.2,null,0.1,null,null,null,0.1,null,0.05,null,null,null,null,null,0.05,null,null,0.1,null,0.05,null,0.05,null,null,null,null,1,null,null,null,null,"Non-local","Blood meal","c_","c_Blood meal",null,"c_Blood meal","Wheat","nc_"]
["Sub-Saharan Africa",10,3,"103",null,"Sub-Saharan Africa","Catfish",186414.111,null,1.2,1.08,201327.23988000001,null,null,0.25,null,null,null,null,null,null,null,null,null,null,null,null,null,null,null,null,null,null,null,null,null,null,0.15,null,0.04,null,null,null,null,null,0.25,0.06,null,null,null,null,0.1,0.05,null,null,null,0.1,1,null,null,null,null,"Non-local","Vitamin/mineral premix","c_","c_Vitamin/mineral premix",null,"c_Vitamin/mineral premix","Wheat","nc_"]
["Sub-Saharan Africa",10,10,"1010",null,"Sub-Saharan Africa","Tilapia",147169.20000000001,null,1.7,1.53,225168.87600000002,null,0.45,null,null,null,null,null,null,null,null,null,null,null,null,null,null,null,null,null,null,null,null,null,null,null,0.25,null,0.06,null,null,null,null,null,0.15,null,0.04,null,null,null,null,0.05,null,null,null,null,1,null,null,null,null,"Non-local","Lime","c_","c_Lime",null,"c_Lime","Wheat by-products","nc_"]
["Sub-Saharan Africa",10,5,"105",null,"Sub-Saharan Africa","FW Fish - general",17049.64,null,1.8,1.62,27620.416799999999,null,0.45,null,null,null,null,null,null,null,null,null,null,null,null,null,null,null,null,null,null,null,null,null,null,null,0.25,null,0.06,null,null,null,null,null,0.15,null,0.04,null,null,null,null,0.05,null,null,null,null,1,null,null,null,null,"Non-local","Cassava","c_","c_Cassava",null,"c_Cassava","Wheat by-products","nc_"]
["Sub-Saharan Africa",10,4,"104",null,"Sub-Saharan Africa","Cyprinid",14675.143600000001,null,1.8,{"$f":"J294*0.9","v":1.62},23773.732632000003,null,null,0.35,null,null,2.5000000000000001E-2,null,null,null,null,null,null,null,null,null,null,null,2.5000000000000001E-2,null,null,null,null,null,null,null,0.27,null,null,null,null,null,0.2,null,0.04,null,null,null,null,0.05,null,0.04,null,null,null,null,1.0000000000000002,null,null,null,null,"Local","Cassava","nc_","nc_Cassava",null,"nc_Cassava","Wheat flour","nc_"]
[null,null,null,null,null,null,null,{"$f":"SUM(H256:H294)","v":72530165.325500011},null,null,null,{"$f":"SUM(L256:L294)","v":48233177.213592768},null,11,12,13,14,15,16,17,18,19,20,21,22,23,24,25,26,27,28,29,30,31,32,33,34,35,36,37,38,39,40,41,42,43,44,45,46,47,48,49,50,51,52,53,54,null,null,null,null,null,"Local","Groundnut meal","nc_","nc_Groundnut meal",null,"nc_Groundnut meal","Wheat flour","nc_"]
[null,null,null,null,null,null,null,null,null,null,null,null,null,"c_Soybean","c_Soybean meal","c_Soy oil","c_Pulses","c_Oilseed meal (non-soy)","c_Oilseed oil (non-soy)","c_Wheat","c_Wheat flour","c_Wheat by-products","c_Maize","c_Maize gluten meal","c_Maize DDGS","c_Rice by-products","nc_Soybean","nc_Soybean meal","nc_Pulses","nc_Oilseed meal (non-soy)","nc_Oilseed oil (non-soy)","nc_Wheat","nc_Wheat flour","nc_Wheat by-products","nc_Wheat","nc_Wheat flour","nc_Wheat by-products","nc_Maize","nc_Maize gluten meal","nc_Maize DDGS","nc_Maize","nc_Maize gluten meal","nc_Maize DDGS","nc_Rice by-products","c_Fishmeal - trimmings","c_Fishmeal - reduction","c_Fishoil - trimmings","c_Fishoil - reduction","c_Poultry meal","c_Feather meal","c_Meat and bone meal","c_Blood meal","c_Vitamin/mineral premix","c_Lime","c_Cassava","nc_Cassava","nc_Groundnut meal"]
[]
[null,null,null,null,null,null,null,null,null,null,null,null,"Developed (n)",1,1,1,1,1,1,1,1,1,1,1,1,1,1,1,1,1,1,0,0,0,1,1,1,0,0,0,1,1,1,1,1,1,1,1,1,1,1,1,1,1,1,1,1]
[null,null,null,"Country",{"$f":"INDEX(START!S6:S242,START!H27)","v":"U.K. of Great Britain and Northern Ireland"},null,null,null,null,null,null,null,"Developing (s)",1,1,1,1,1,1,1,1,1,1,1,1,1,1,1,1,1,1,1,1,1,0,0,0,1,1,1,0,0,0,1,1,1,1,1,1,1,1,1,1,1,1,1,1]
[null,null,null,"System",{"$f":"INDEX(START!X6:X11, START!H33)","v":"Cages"}]
[null,null,null,"Product",{"$f":"INDEX(C308:C315,B64)","v":"Salmonids"},null,null,null,null,null,null,null,null,"Proportion of feed material in the ration"]
[null,null,null,"Region",{"$f":"INDEX(BX5:BX241,C64)","v":"Western Europe"},null,null,null,null,null,null,null,"Regional default ration",{"$f":"IFERROR(VLOOKUP($E$303,$D$256:$BE$294,N295,FALSE), -0.99)","v":0},{"$f":"VLOOKUP($E$303,$D$256:$BE$294,O295,FALSE)","v":0.254},{"$f":"VLOOKUP($E$303,$D$256:$BE$294,P295,FALSE)","v":0},{"$f":"VLOOKUP($E$303,$D$256:$BE$294,Q295,FALSE)","v":0},0,0,0,0,0,{"$f":"VLOOKUP($E$303,$D$256:$BE$294,W295,FALSE)","v":0},0,0,0,0,0,0,7.1999999999999995E-2,0.192,0,0,0,0.106,0,6.6000000000000003E-2,0,0,0,0,0,0,0,0,0.17599999999999999,0,0.112,0,0,0,0,2.1000000000000001E-2,0,0,0,0]
[null,null,null,"Code",{"$f":"CONCATENATE(VLOOKUP(E302,E306:F315,2,FALSE),VLOOKUP(E301,C306:D315,2,))","v":"38"},null,{"$f":"VLOOKUP(E302,E306:G315,3,FALSE)","v":"n"},null,"EI (kgCO2e/kgDM)",null,null,null,"Commercial",{"$f":"IF($E7=N296,$C7,IF($E8=N296,$C8,IF($E9=N296,$C9,IF($E10=N296,$C10,IF($E11=N296,$C11, IF($E12=N296,$C12, IF($E13=N296,$C13, IF($E14=N296,$C14, IF($E15=N296,$C15, IF($E16=N296,$C16,0))))))))))*IF($G303=\"n\",N298,N299)","v":0.2},{"$f":"IF($E7=O296,$C7,IF($E8=O296,$C8,IF($E9=O296,$C9,IF($E10=O296,$C10,IF($E11=O296,$C11, IF($E12=O296,$C12, IF($E13=O296,$C13, IF($E14=O296,$C14, IF($E15=O296,$C15, IF($E16=O296,$C16,0))))))))))*IF($G303=\"n\",O298,O299)","v":0.02},{"$f":"IF($E7=P296,$C7,IF($E8=P296,$C8,IF($E9=P296,$C9,IF($E10=P296,$C10,IF($E11=P296,$C11, IF($E12=P296,$C12, IF($E13=P296,$C13, IF($E14=P296,$C14, IF($E15=P296,$C15, IF($E16=P296,$C16,0))))))))))*IF($G303=\"n\",P298,P299)","v":0.04},{"$f":"IF($E7=Q296,$C7,IF($E8=Q296,$C8,IF($E9=Q296,$C9,IF($E10=Q296,$C10,IF($E11=Q296,$C11, IF($E12=Q296,$C12, IF($E13=Q296,$C13, IF($E14=Q296,$C14, IF($E15=Q296,$C15, IF($E16=Q296,$C16,0))))))))))*IF($G303=\"n\",Q298,Q299)","v":0},{"$f":"IF($E7=R296,$C7,IF($E8=R296,$C8,IF($E9=R296,$C9,IF($E10=R296,$C10,IF($E11=R296,$C11, IF($E12=R296,$C12, IF($E13=R296,$C13, IF($E14=R296,$C14, IF($E15=R296,$C15, IF($E16=R296,$C16,0))))))))))*IF($G303=\"n\",R298,R299)","v":0.05},0.15,{"$f":"IF($E7=T296,$C7,IF($E8=T296,$C8,IF($E9=T296,$C9,IF($E10=T296,$C10,IF($E11=T296,$C11, IF($E12=T296,$C12, IF($E13=T296,$C13, IF($E14=T296,$C14, IF($E15=T296,$C15, IF($E16=T296,$C16,0))))))))))*IF($G303=\"n\",T298,T299)","v":0},0.04,0.05,0.15,0,0,0.1,0,0,0,0,0,0,0,0,{"$f":"IF($E7=AI296,$C7,IF($E8=AI296,$C8,IF($E9=AI296,$C9,IF($E10=AI296,$C10,IF($E11=AI296,$C11, IF($E12=AI296,$C12, IF($E13=AI296,$C13, IF($E14=AI296,$C14, IF($E15=AI296,$C15, IF($E16=AI296,$C16,0))))))))))*IF($G303=\"n\",AI298,AI299)","v":0},0,0,0,0,0,0,0,0,0,0,0.2,0,0,0,0,0,0,0,0,0,0,0,null,{"$f":"SUM(N303:BE303)","v":1}]
[null,null,null,null,null,null,null,null,null,null,null,null,"Non-commercial",{"$f":"IF($E18=N296,$C18,IF($E19=N296,$C19,IF($E20=N296,$C20,IF($E21=N296,$C21,IF($E22=N296,$C22, IF($E23=N296,$C23, IF($E24=N296,$C24, IF($E25=N296,$C25, IF($E26=N296,$C26, IF($E27=N296,$C27,0))))))))))*IF($G303=\"n\",N298,N299)","v":0},{"$f":"IF($E18=O296,$C18,IF($E19=O296,$C19,IF($E20=O296,$C20,IF($E21=O296,$C21,IF($E22=O296,$C22, IF($E23=O296,$C23, IF($E24=O296,$C24, IF($E25=O296,$C25, IF($E26=O296,$C26, IF($E27=O296,$C27,0))))))))))*IF($G303=\"n\",O298,O299)","v":0},0,0,0,0,0,0,0,0,0,0,0,0.05,0.1,0,0,0,0,0,0,7.0000000000000007E-2,0,0,0,0,0,0.04,0,0.1,0.1,0,0,0,0,0,0,0,0,0,0,0,0.23,0.11,null,{"$f":"SUM(N304:BE304)","v":0.79999999999999993}]
[null,null,"Main species",null,"FAO region",null,"Developed (n) or developing (s)","GHG category","Default ration","Specified ration 1",null,"GHG category",null,"Feed material Efs"]
[null,null,"Algae",1,"North America",1,"n",{"$f":"M306","v":"Manure applied to soils N2O"},{"$f":"SUMPRODUCT($N$302:$BE$302,$N306:$BE306)","v":5.734063985368474E-2},{"$f":"SUMPRODUCT($N$303:$BE$303,$N306:$BE306)","v":5.4584287613974602E-2},null,"a","Manure applied to soils N2O",{"$f":"VLOOKUP(CONCATENATE(VLOOKUP($E$302,$E$306:$F$315,2,FALSE),$L306),$J$121:$BE$242,N$250-6,FALSE)","v":0.10492950439210801},{"$f":"VLOOKUP(CONCATENATE(VLOOKUP($E$302,$E$306:$F$315,2,FALSE),$L306),$J$121:$BE$242,O$250-6,FALSE)","v":9.4436553952897198E-2},0.16665274226981858,6.9418392696999995E-2,3.3171652947229999E-2,0.11779321658812281,2.8363133518723202E-2,3.0223011126508333E-2,1.8133806675905001E-2,2.26738140045076E-2,{"$f":"VLOOKUP(CONCATENATE(VLOOKUP($E$302,$E$306:$F$315,2,FALSE),$L306),$J$121:$BE$242,X$250-6,FALSE)","v":6.8758519818430761E-3},1.1653152083466291E-2,1.9929795059067637E-3,4.7521782660638001E-2,4.2769604394574195E-2,4.3712609418525998E-2,3.8709679502174001E-2,0.13745886190567905,2.4543316409103601E-2,2.615271420642187E-2,{"$f":"VLOOKUP(CONCATENATE(VLOOKUP($E$302,$E$306:$F$315,2,FALSE),$L306),$J$121:$BE$242,AH$250-6,FALSE)","v":1.5691628523853123E-2},2.8169022247314001E-2,3.001617124713787E-2,1.8009702748282723E-2,1.44860553045882E-2,4.3929076976348003E-3,7.4450732250123646E-3,2.1338337130160201E-2,6.4708675662806274E-3,1.0966786961231956E-2,{"$f":"VLOOKUP(CONCATENATE(VLOOKUP($E$302,$E$306:$F$315,2,FALSE),$L306),$J$121:$BE$242,AR$250-6,FALSE)","v":1.7343382480128065E-3},0,0,0,0,0,0,0,0,0,0,0,0,0]
[null,null,"Bivalves",2,"Russian Federation",2,"n",{"$f":"M307","v":"Synthetic fertilizers N2O"},{"$f":"SUMPRODUCT($N$302:$BE$302,$N307:$BE307)","v":0.17774846633921557},{"$f":"SUMPRODUCT($N$303:$BE$303,$N307:$BE307)","v":0.16285590601751965},null,"b","Synthetic fertilizers N2O",0.25332640379204197,0.22799376341283775,0.4023419354344196,0.25705968879638602,0.124960243818414,0.44373637600824556,9.4793758587834009E-2,0.10100974275752805,6.0605845654516828E-2,7.4242252390826005E-2,2.2514021599386438E-2,3.8156626757077108E-2,5.2158412966934803E-3,0.15123903099444599,0.13611512789500138,0.15653075685270001,0.14107351098207199,0.50095491654858204,7.938162068606E-2,8.4586972862195089E-2,5.0752183717317052E-2,9.1077680699490002E-2,9.7049987630604101E-2,5.8229992578362463E-2,4.8734788928275999E-2,1.477886318422535E-2,2.5047127361277947E-2,7.1804162784219999E-2,2.1774669003031887E-2,3.6903576477435134E-2,4.5463445958270196E-3,0,0,0,0,0,0,0,0,0,0,0,0,0]
[null,null,"Catfish",3,"Western Europe",3,"n","Crop residue N2O",6.888120119232749E-2,{"$f":"SUMPRODUCT($N$303:$BE$303,$N308:$BE308)","v":4.7150451420550236E-2},null,"c","Crop residue N2O",5.9161347133470002E-2,5.3245212420122999E-2,9.3962139564922942E-2,4.1036243754291997E-2,3.5078991058906002E-2,0.1245662131479519,4.6288572775548001E-2,4.9323889023124921E-2,2.9594333413874952E-2,4.1185734909845999E-2,1.2489606598485373E-2,2.1167309235153316E-2,4.2537816962312279E-3,0.10241787257836199,9.2176085320525777E-2,7.5642498792072008E-2,5.8207631460300002E-2,0.20669648722637138,6.7507609259218004E-2,7.1934337735232307E-2,4.3160602641139384E-2,7.7466236252841991E-2,8.2545989449749668E-2,4.9527593669849802E-2,5.0855821813342E-2,1.5422068079680348E-2,2.6137227102715082E-2,7.4946373817368003E-2,2.2727546977392293E-2,3.8518508267928783E-2,6.7110959596469863E-3,0,0,0,0,0,0,0,0,0,0,0,0,0]
[null,null,"Cyprinids",4,"Eastern Europe",4,"n","Energy used in field operations CO2",0.12347901329312751,0.13603426518520942,null,"d","Energy used in field operations CO2",{"$f":"VLOOKUP(CONCATENATE(VLOOKUP($E$302,$E$306:$F$315,2,FALSE),$L309),$J$121:$BE$242,N$250-6,FALSE)","v":0.122368164361},{"$f":"VLOOKUP(CONCATENATE(VLOOKUP($E$302,$E$306:$F$315,2,FALSE),$L309),$J$121:$BE$242,O$250-6,FALSE)","v":0.11013134792489998},0.19434943751452941,8.4237642586200007E-2,0.104094170034,0.36964052216155086,2.89898943156E-2,3.089087099203279E-2,1.8534522595219673E-2,6.7251905798900002E-2,2.0394193481439053E-2,3.4563954966805754E-2,0.28683094188720315,9.43505614996E-2,8.4915505349639986E-2,5.25846965611E-2,0.12101408839199999,0.42972349755526512,2.5185260921699999E-2,2.6836753441155738E-2,1.6102052064693444E-2,2.8919162228700002E-2,3.0815500735500004E-2,1.8489300441300004E-2,4.3331954628199998E-2,1.3140449421002188E-2,2.2270353688880477E-2,6.3922002911599995E-2,1.9384397804256777E-2,3.2852559400044633E-2,0.24765041070208116,0,0,0,0,0,0,0,0,0,0,0,0,0]
[null,null,"Freshwater fish - general",5,"Near East and North Africa",5,"s","Processing and transport CO2",0.12209586268417054,0.16478967624880708,null,"e","Processing and transport CO2",0.21468177437800001,0.36183650907505771,1.0560151251500569,1.1189999990199999E-2,2.36920509487E-2,8.4130956430077522E-2,1.49199990556E-2,0.60747564806379972,0.3644853888382798,1.49200009182E-2,0.47576808341167426,0.8972333275860811,0.13810444671561026,0,0.16862291213485769,0,8.9718298986599995E-3,3.1859151068711011E-2,0,0.59157728841438983,0.35494637304863391,0,0.59157728841438983,0.35494637304863391,0,0.47124358136441785,0.88956522905838409,0,0.47124358136441785,0.88956522905838409,0.13449008899850765,0,0,0,0,0,0,0,0,0,0,0,0,0]
[null,null,"Indian major carps",6,"East Asia and Southeast Asia",6,"s","Rice cultivation CH4",0,3.2098015568493114E-2,null,"g","Rice cultivation CH4",0,0,0,0,0,0,0,0,0,0,0,0,0.32098015568493116,0,0,0,0,0,0,0,0,0,0,0,0,0,0,0,0,0,0.31492393654859302,0,0,0,0,0,0,0,0,0,0,0,0,0]
[null,null,"Marine fish - general",7,"Oceania",7,"n","LUC for feed production CO2",0.45781625962168199,0.56381777019951884,null,"h","LUC for feed production CO2",2.00269579887,1.8024262189829998,3.1807521511464705,0,0,0,0,0,0,0,0,0,0,0,0,0,0,0,0,0,0,0,0,0,0,0,0,0,0,0,0,0,0,0,0,0,0,0,0,0,0,0,0,0]
[null,null,"Salmonids",8,"South Asia",8,"s","Fert. Prod CO2",0.18707896700390286,0.17058594960515175,null,"i","Fert. Prod CO2",0.261379063129,0.23524115681609997,0.41513145320488232,0.26378637552299999,0.132525235415,0.47059981555530594,9.5755510032199995E-2,0.10203455987037705,6.1220735922226231E-2,7.6098293065999995E-2,2.307686739816733E-2,3.9110534390640744E-2,1.2266584599621837E-2,0.15626958012600001,0.14064262211340001,0.160978496075,0.15079960227,0.53549246520367333,8.0306291580200001E-2,8.5572277913327874E-2,5.1343366747996728E-2,9.2145010828999993E-2,9.8187306621065576E-2,5.8912383972639343E-2,4.9641408026199998E-2,1.5053796140806815E-2,2.5513082062493326E-2,7.3137283325200003E-2,2.217893885864201E-2,3.7588730567812013E-2,1.0664363077999093E-2,0,0,0,0,0,0,0,0,0,0,0,0,0]
[null,null,"Shrimp",9,"Latin America and the Caribbean",9,"s","CO2e non-disaggregated feeds",{"$f":"SUMPRODUCT($N$302:$BE$302,$N314:$BE314)","v":0.53847999999999996},0.26,null,"j","CO2e non-disaggregated feeds",{"$f":"VLOOKUP(CONCATENATE(VLOOKUP($E$302,$E$306:$F$315,2,FALSE),$L314),$J$121:$BE$242,N$250-6,FALSE)","v":0},0,0,0,0,0,0,0,0,0,0,0,0,0,0,0,0,0,0,0,0,0,0,0,0,0,0,0,0,0,0,1.3,{"$f":"VLOOKUP(CONCATENATE(VLOOKUP($E$302,$E$306:$F$315,2,FALSE),$L314),$J$121:$BE$242,AT$250-6,FALSE)","v":1.3},2.09,2.09,0.316,0.23100000000000001,0.32600000000000001,1.1499999999999999,3.6,1.9E-2,0.46100000000000002,0.46100000000000002,0.41099999999999998]
[null,null,"Tilapia",10,"Sub-Saharan Africa",10,"s",{"$f":"M315","v":"Feed blending/transport (from GLEAM)"},7.8521400000000005E-2,{"$f":"SUMPRODUCT($N$303:$BE$303,$N315:$BE315)","v":7.8600000000000003E-2},null,"k","Feed blending/transport (from GLEAM)",7.8600000000000003E-2,7.8600000000000003E-2,7.8600000000000003E-2,7.8600000000000003E-2,7.8600000000000003E-2,7.8600000000000003E-2,7.8600000000000003E-2,7.8600000000000003E-2,7.8600000000000003E-2,7.8600000000000003E-2,7.8600000000000003E-2,7.8600000000000003E-2,7.8600000000000003E-2,7.8600000000000003E-2,7.8600000000000003E-2,7.8600000000000003E-2,7.8600000000000003E-2,7.8600000000000003E-2,7.8600000000000003E-2,7.8600000000000003E-2,7.8600000000000003E-2,7.8600000000000003E-2,7.8600000000000003E-2,7.8600000000000003E-2,7.8600000000000003E-2,7.8600000000000003E-2,7.8600000000000003E-2,7.8600000000000003E-2,7.8600000000000003E-2,7.8600000000000003E-2,7.8600000000000003E-2,7.8600000000000003E-2,7.8600000000000003E-2,7.8600000000000003E-2,7.8600000000000003E-2,7.8600000000000003E-2,7.8600000000000003E-2,7.8600000000000003E-2,7.8600000000000003E-2,7.8600000000000003E-2,7.8600000000000003E-2,7.8600000000000003E-2,7.8600000000000003E-2,7.8600000000000003E-2]
[null,null,null,null,null,null,null,"Total",{"$f":"SUM(I306:I315)","v":1.8114418099881107},{"$f":"SUM(J306:J315)","v":1.6705163218592247},null,null,"Total",{"$f":"SUM(N306:N315)","v":3.0971420560556204},{"$f":"SUM(O306:O315)","v":2.9639107625849155},5.5878049842850999,0.80532834334707804,0.53212234422225002,1.6890670998912547,0.38771086828550522,0.99955772183337077,0.63117463310002242,0.37497200108827961,0.63971862447099548,1.1204849050192245,0.84824473138619794,0.630398827859046,0.743841857207999,0.56804905769939806,0.59737634250520599,1.9207853795082819,0.35552409885628161,0.96526034457272269,0.61059620674363368,0.39637711225734601,1.0087922440984469,0.63671534645906824,0.28565002870060618,0.61263166588776741,1.0745780924987633,0.38374815996854816,0.64238000157402142,1.1249953907328365,0.7993205781306677,1.3786,1.3786,2.1685999999999996,2.1685999999999996,0.39460000000000001,0.30959999999999999,0.40460000000000002,1.2285999999999999,3.6786000000000003,9.7600000000000006E-2,0.53960000000000008,0.53960000000000008,0.48959999999999998]
[]
[]
[null,null,null,null,null,null,null,null,null,null,null,null,"Feed: fertiliser production",{"$f":"N313","v":0.261379063129},{"$f":"O313","v":0.23524115681609997},0.41513145320488232,0.26378637552299999,0.132525235415,0.47059981555530594,9.5755510032199995E-2,0.10203455987037705,6.1220735922226231E-2,7.6098293065999995E-2,2.307686739816733E-2,3.9110534390640744E-2,1.2266584599621837E-2,0.15626958012600001,0.14064262211340001,0.160978496075,0.15079960227,0.53549246520367333,8.0306291580200001E-2,8.5572277913327874E-2,5.1343366747996728E-2,9.2145010828999993E-2,9.8187306621065576E-2,5.8912383972639343E-2,4.9641408026199998E-2,1.5053796140806815E-2,2.5513082062493326E-2,7.3137283325200003E-2,2.217893885864201E-2,3.7588730567812013E-2,1.0664363077999093E-2,0,0,0,0,0,0,0,0,0,0,0,0,0]
[null,null,null,null,null,null,null,null,null,null,null,null,"Feed: crop N2O",{"$f":"N306+N307+N308","v":0.41741725531761997},{"$f":"O306+O307+O308","v":0.37567552978585794},0.66295681726916111,0.36751432524767802,0.19321088782454998,0.68609580574432028,0.16944546488210521,0.18055664290716131,0.10833398574429677,0.1381018013051796,4.1879480179714886E-2,7.097708807569672E-2,1.1462602498831471E-2,0.30117868623344601,0.27106081761010137,0.27588586506329804,0.23799082194454599,0.84511026568063241,0.1714325463543816,0.18267402480384926,0.10960441488230956,0.196712939199646,0.20961214832749164,0.12576728899649497,0.1140766660462062,3.4593838961540502E-2,5.8629427689005392E-2,0.16808887373174819,5.0973083546704809E-2,8.6388871706595871E-2,1.2991778803486813E-2,0,0,0,0,0,0,0,0,0,0,0,0,0]
[null,null,null,null,null,null,null,null,null,null,null,null,"Feed: crop energy use",{"$f":"N309+N310","v":0.33704993873900002},{"$f":"O309+O310","v":0.47196785699995769},1.2503645626645863,9.5427642576400004E-2,0.12778622098269998,0.45377147859162836,4.39098933712E-2,0.63836651905583253,0.38301991143349945,8.2171906717100007E-2,0.49616227689311332,0.93179728255288685,0.42493538860281344,9.43505614996E-2,0.25353841748449768,5.25846965611E-2,0.12998591829066,0.46158264862397613,2.5185260921699999E-2,0.6184140418555456,0.37104842511332736,2.8919162228700002E-2,0.62239278914988982,0.37343567348993389,4.3331954628199998E-2,0.48438403078542003,0.91183558274726462,6.3922002911599995E-2,0.49062797916867462,0.9224177884584287,0.38214049970058883,0,0,0,0,0,0,0,0,0,0,0,0,0]
[null,null,null,null,null,null,null,null,null,null,null,null,"Feed: crop LUC",{"$f":"N312","v":2.00269579887},{"$f":"O312","v":1.8024262189829998},3.1807521511464705,0,0,0,0,0,0,0,0,0,0,0,0,0,0,0,0,0,0,0,0,0,0,0,0,0,0,0,0,0,0,0,0,0,0,0,0,0,0,0,0,0]
[null,null,null,null,null,null,null,null,null,null,null,null,"Feed: rice CH4",{"$f":"N311","v":0},{"$f":"O311","v":0},0,0,0,0,0,0,0,0,0,0,0.32098015568493116,0,0,0,0,0,0,0,0,0,0,0,0,0,0,0,0,0,0.31492393654859302,0,0,0,0,0,0,0,0,0,0,0,0,0]
[null,null,null,null,null,null,null,null,null,null,null,null,"Feed: fishmeal",null,null,null,null,null,null,null,null,null,null,null,null,null,null,null,null,null,null,null,null,null,null,null,null,null,null,null,null,null,null,null,{"$f":"AS211","v":1.3},{"$f":"AT211","v":1.3},2.09,2.09]
[null,null,null,null,null,null,null,null,null,null,null,null,"Feed: animal by-products",null,null,null,null,null,null,null,null,null,null,null,null,null,null,null,null,null,null,null,null,null,null,null,null,null,null,null,null,null,null,null,null,null,null,null,{"$f":"AW211","v":0.316},{"$f":"AX211","v":0.23100000000000001},0.32600000000000001,1.1499999999999999]
[null,null,null,null,null,null,null,null,null,null,null,null,"Feed: blending & transport",{"$f":"N315","v":7.8600000000000003E-2},{"$f":"O315","v":7.8600000000000003E-2},7.8600000000000003E-2,7.8600000000000003E-2,7.8600000000000003E-2,7.8600000000000003E-2,7.8600000000000003E-2,7.8600000000000003E-2,7.8600000000000003E-2,7.8600000000000003E-2,7.8600000000000003E-2,7.8600000000000003E-2,7.8600000000000003E-2,7.8600000000000003E-2,7.8600000000000003E-2,7.8600000000000003E-2,7.8600000000000003E-2,7.8600000000000003E-2,7.8600000000000003E-2,7.8600000000000003E-2,7.8600000000000003E-2,7.8600000000000003E-2,7.8600000000000003E-2,7.8600000000000003E-2,7.8600000000000003E-2,7.8600000000000003E-2,7.8600000000000003E-2,7.8600000000000003E-2,7.8600000000000003E-2,7.8600000000000003E-2,7.8600000000000003E-2,7.8600000000000003E-2,7.8600000000000003E-2,7.8600000000000003E-2,7.8600000000000003E-2,7.8600000000000003E-2,7.8600000000000003E-2,7.8600000000000003E-2,7.8600000000000003E-2,7.8600000000000003E-2,7.8600000000000003E-2,7.8600000000000003E-2,7.8600000000000003E-2,7.8600000000000003E-2]
[null,null,null,null,null,null,null,null,null,null,null,null,"Feed: other",null,null,null,null,null,null,null,null,null,null,null,null,null,null,null,null,null,null,null,null,null,null,null,null,null,null,null,null,null,null,null,null,null,null,null,null,null,null,null,{"$f":"BA211","v":3.6},{"$f":"BB211","v":1.9E-2},0.46100000000000002,0.46100000000000002,0.41099999999999998]
[null,null,null,null,null,null,null,null,null,null,null,null,"Feed: total",{"$f":"SUM(N319:N327)","v":3.0971420560556195},{"$f":"SUM(O319:O327)","v":2.9639107625849155},5.5878049842850999,0.80532834334707804,0.53212234422225002,1.6890670998912547,0.38771086828550522,0.99955772183337088,0.63117463310002242,0.37497200108827961,0.63971862447099559,1.1204849050192243,0.84824473138619783,0.630398827859046,0.743841857207999,0.56804905769939806,0.59737634250520599,1.9207853795082819,0.35552409885628161,0.96526034457272281,0.61059620674363368,0.39637711225734601,1.0087922440984469,0.63671534645906824,0.28565002870060618,0.6126316658877673,1.0745780924987633,0.38374815996854816,0.64238000157402142,1.1249953907328365,0.79932057813066781,1.3786,1.3786,2.1685999999999996,2.1685999999999996,0.39460000000000001,0.30959999999999999,0.40460000000000002,1.2285999999999999,3.6786000000000003,9.7600000000000006E-2,0.53960000000000008,0.53960000000000008,0.48959999999999998]
[]
[]
[]
[]
[null,null,null,null,null,null,null,null,null,null,null,null,null,"Feed intake (t of feed material)"]
[null,"Region","Species","Code",null,{"$f":"F255","v":"Region"},"Main species (>90% of regional production)","Production (t) on commercial feed",null,{"$f":"J255","v":"FCR (kg IN (as fed)/kg fish LW out)"},"FCR (kg IN (DM)/kg fish LW out)","Feed input (t DM)","Feed x region code",{"$f":"N255","v":"Soybean"},"Soybean meal","Soy oil","Pulses","Oilseed meal","Oilseed oil","Wheat","Wheat flour","Wheat by-products",{"$f":"W255","v":"Maize"},"Maize gluten meal","Maize DDGS","Rice by-products","Soybean","Soybean meal","Pulses","Oilseed meal","Oilseed oil","Wheat-s","Wheat flour-s","Wheat by-products-s","Wheat-n","Wheat flour-n","Wheat by-products-n","Maize-s","Maize gluten meal-s","Maize DDGS-s","Maize-n","Maize gluten meal-n","Maize DDGS-n","Rice by-products","Fishmeal - trimmings","Fishmeal - reduction","Fishoil - trimmings","Fishoil - reduction","Poultry meal","Feather meal","Meat and bone meal","Blood meal","Vit and mineral premix","Lime","Cassava","Cassava","Groundnut meal","Sum"]
["North America",1,2,{"$f":"CONCATENATE(B335,C335)","v":"12"},null,"North America","Bivalves",199366,null,0,0,0,{"$f":"CONCATENATE(B335,C335)","v":"12"},{"$f":"$L335*N256","v":0},0,0,0,0,0,0,0,0,{"$f":"$L335*W256","v":0},0,0,0,0,0,0,0,0,0,0,0,0,0,0,0,0,0,0,0,0,0,0,0,0,0,0,0,0,0,0,0,0,0,0]
["North America",1,8,{"$f":"CONCATENATE(B336,C336)","v":"18"},null,"North America","Salmonids",168793,null,1.2977555348859253,1.1679799813973328,197146.845,{"$f":"CONCATENATE(B336,C336)","v":"18"},{"$f":"$L336*N257","v":0},0,30163.467284999999,0,0,0,0,0,0,0,0,0,0,0,40809.396914999998,0,0,0,0,0,0,26023.383540000003,0,985.73422500000004,0,0,0,0,6900.1395750000011,0,0,0,35683.578945000001,0,19320.390810000001,14786.013374999999,0,11828.8107,0,10645.929630000001,0,0,0,0]
["North America",1,3,"13",null,"North America","Catfish",152920,null,2.5,2.25,344070,"13",{"$f":"$L337*N258","v":0},0,0,0,0,0,0,0,0,0,0,0,0,0,92898.900000000009,0,58491.9,0,0,0,0,0,0,68814,0,0,0,68814,22364.55,17203.5,0,0,0,0,0,0,0,5161.05,0,10322.1,0,0,0,0]
["North America",1,9,"19",null,"North America","Shrimp",50089,null,2.4787298608476913,2.2308568747629223,111741.39000000001,"19",{"$f":"$L338*N259","v":0},0,0,0,0,0,0,0,0,0,0,0,0,0,31394.018090380479,0,19142.710922423128,0,0,0,0,304.88891639898054,0,22520.836379321328,0,0,0,22520.836379321328,7700.3829687781554,5833.4683724296519,0,0,203.2592775993204,0,101.6296387996602,0,0,1892.3220060484198,0,127.03704849957523,0,0,0,0]
["Russian Federation",2,4,"24",null,"Russian Federation","Cyprinid",9829.9999999999982,null,1.8,1.62,15924.599999999999,"24",{"$f":"$L339*N260","v":0},{"$f":"$L339*O260","v":7962.2999999999993},0,0,0,0,0,0,0,0,0,0,0,0,0,0,0,1273.9679999999998,0,0,0,5573.6099999999988,0,0,0,0,0,0,0,0,0,0,796.23,0,0,0,0,0,0,318.49199999999996,0,0,0,0]
["Russian Federation",2,8,"28",null,"Russian Federation","Salmonids",46723,null,1.2481561543565267,1.1233405389208742,52485.840000000004,"28",{"$f":"$L340*N261","v":0},13331.40336,0,0,0,0,0,0,0,0,0,0,0,0,0,0,3778.9804800000002,10077.281280000001,0,0,0,5563.4990400000006,0,3464.0654400000003,0,0,0,0,0,0,0,0,9237.5078400000002,0,5878.4140800000005,0,0,0,0,1102.2026400000002,0,0,0,0]
["Western Europe",3,8,"38",null,"Western Europe","Salmonids",1484638.7899999998,null,1.1307604639644369,1.0176844175679931,1510893.7622999998,"38",{"$f":"$L341*N262","v":0},383767.01562419994,0,0,0,0,0,0,0,0,0,0,0,0,0,0,108784.35088559998,290091.60236159997,0,0,0,160154.73880379999,0,99718.9883118,0,0,0,0,0,0,0,0,265917.30216479994,0,169220.10137759999,0,0,0,0,31728.769008299998,0,0,0,0]
["Western Europe",3,2,"32",null,"Western Europe","Bivalves",546200.09,null,0,0,0,"32",{"$f":"$L342*N263","v":0},0,0,0,0,0,0,0,0,0,0,0,0,0,0,0,0,0,0,0,0,0,0,0,0,0,0,0,0,0,0,0,0,0,0,0,0,0,0,0,0,0,0,0]
["Eastern Europe",4,4,"44",null,"Eastern Europe","Cyprinid",10728.183000000008,null,1.7,1.53,16414.119990000014,"44",{"$f":"$L343*N264","v":0},8207.0599950000069,0,0,0,0,0,0,0,0,0,0,0,0,0,0,0,1313.1295992000012,0,0,0,5744.9419965000043,0,0,0,0,0,0,0,0,0,0,820.70599950000076,0,0,0,0,0,0,328.28239980000029,0,0,0,0]
["Eastern Europe",4,8,"48",null,"Eastern Europe","Salmonids",19649.909999999996,null,1.2,1.08,21221.902799999996,"48",{"$f":"$L344*N265","v":0},5390.3633111999989,0,0,0,0,0,0,0,0,0,0,0,0,0,0,1527.9770015999995,4074.6053375999995,0,0,0,2249.5216967999995,0,1400.6455847999998,0,0,0,0,0,0,0,0,3735.0548927999989,0,2376.8531135999997,0,0,0,0,445.65995879999997,0,0,0,0]
["West Asia & Northern Africa",5,10,"510",null,"West Asia & Northern Africa","Tilapia",567385.24650000001,null,1.7,1.53,868099.42714500008,"510",{"$f":"$L345*N266","v":0},303834.79950075003,0,0,21702.485678625002,0,0,0,0,0,0,0,0,0,0,0,21702.485678625002,0,0,0,0,0,0,0,217024.85678625002,0,0,0,0,0,190981.87397190003,0,34723.977085800005,0,0,0,0,43404.971357250004,0,34723.977085800005,0,0,0,0]
["West Asia & Northern Africa",5,4,"54",null,"West Asia & Northern Africa","Cyprinid",167122.3008,null,1.7,1.53,255697.12022400001,"54",{"$f":"$L346*N267","v":0},89493.992078399999,0,0,6392.4280056000007,0,0,0,0,0,0,0,0,0,0,0,6392.4280056000007,0,0,0,0,0,0,0,63924.280056000003,0,0,0,0,0,56253.366449280002,0,10227.884808960001,0,0,0,0,12784.856011200001,0,10227.884808960001,0,0,0,0]
["West Asia & Northern Africa",5,7,"57",null,"West Asia & Northern Africa","Marine Fish - general",122049.4184,null,2.8850463896858831,2.5965417507172948,316906.41052636359,"57",{"$f":"$L347*N268","v":0},83406.618676697544,5211.8138668839001,0,0,0,0,0,0,0,5211.8138668839001,0,0,0,0,0,7687.4254536537528,0,0,9120.6742670468266,83075.589249634475,0,0,0,0,0,0,0,0,0,0,0,101714.87284786614,0,14983.964867291215,0,0,0,0,6493.6374304058263,0,0,0,0]
["West Asia & Northern Africa",5,8,"58",null,"West Asia & Northern Africa","Salmonids",136622.9,null,0.92,0.82800000000000007,113123.76120000001,"58",{"$f":"$L348*N269","v":0},28733.435344800004,0,0,0,0,0,0,0,0,0,0,0,0,0,0,8144.9108064000002,21719.762150400002,11991.1186872,0,7466.1682392000012,0,0,0,0,0,0,0,0,0,0,0,19909.781971200002,0,12669.861254400001,0,0,0,0,2375.5989852000002,0,0,0,0]
["East Asia",6,1,"61",null,"East Asia","Alga",26277001.199999999,null,0,0,0,"61",{"$f":"$L349*N270","v":0},0,0,0,0,0,0,0,0,0,0,0,0,0,0,0,0,0,0,0,0,0,0,0,0,0,0,0,0,0,0,0,0,0,0,0,0,0,0,0,0,0,0,0]
["East Asia",6,4,"64",null,"East Asia","Cyprinid",9978232.2119999994,null,1.7,1.53,15266695.284359999,"64",{"$f":"$L350*N271","v":0},3053339.056872,0,0,1526669.528436,0,0,0,0,0,0,0,4580008.5853079995,0,0,0,0,0,0,0,0,0,0,0,0,0,0,0,0,0,0,0,763334.764218,0,0,0,0,1526669.528436,0,0,0,0,3816673.8210899998,0]
["East Asia",6,2,"62",null,"East Asia","Bivalves",13525506.009999998,null,0,0,0,"62",{"$f":"$L351*N272","v":0},0,0,0,0,0,0,0,0,0,0,0,0,0,0,0,0,0,0,0,0,0,0,0,0,0,0,0,0,0,0,0,0,0,0,0,0,0,0,0,0,0,0,0]
["East Asia",6,9,"69",null,"East Asia","Shrimp",3139815.4511999995,null,1.9059575801605957,1.7153618221445361,5385919.553568,"69",{"$f":"$L352*N273","v":0},1508057.4749990401,0,0,0,0,1508057.4749990401,0,161577.58660703999,0,0,0,0,0,0,0,0,0,0,0,0,0,0,0,0,0,0,0,0,0,107718.39107136001,0,1723494.2571417601,0,107718.39107136001,0,0,0,0,269295.9776784,0,0,0,0]
["East Asia",6,5,"65",null,"East Asia","FW Fish - general",1363324.4656,null,1.8,1.62,2208585.6342720003,"65",{"$f":"$L353*N274","v":0},507974.6958825601,0,0,463802.98319712002,0,88343.42537088001,220858.56342720005,0,88343.42537088001,0,0,0,0,0,0,0,0,0,0,0,0,0,0,0,0,0,0,0,0,507974.6958825601,0,110429.28171360002,0,0,88343.42537088001,0,44171.712685440005,0,88343.42537088001,0,0,0,0]
["East Asia",6,10,"610",null,{"$f":"F275","v":"East Asia"},"Tilapia",3027417.4391999999,null,{"$f":"J275","v":1.7},1.53,4631948.6819759998,{"$f":"CONCATENATE(B354,C354)","v":"610"},{"$f":"$L354*N275","v":0},1065348.1968544801,0,0,972709.22321495996,0,185277.94727904,463194.86819760001,0,185277.94727904,0,0,0,0,0,0,0,0,0,0,0,0,0,0,0,0,0,0,0,0,1065348.1968544801,0,231597.4340988,0,0,185277.94727904,0,92638.973639520002,0,185277.94727904,0,0,0,0]
["East Asia",6,3,"63",null,"East Asia","Catfish",2651836.4574000007,null,1.69,1.5209999999999999,4033443.2517054006,"63",{"$f":"$L355*N276","v":0},1008360.8129263502,0,0,484013.19020464807,0,262173.81136085105,0,242006.59510232403,0,0,0,0,0,0,0,0,0,0,0,0,0,0,0,0,0,0,0,0,0,847023.08285813406,0,40334.432517054011,0,0,0,0,403344.32517054008,0,0,0,0,726019.7853069721,0]
["East Asia",6,7,"67",null,"East Asia","Marine Fish - general",701279.70299999998,null,1.7,1.53,1072957.9455899999,"67",{"$f":"$L356*N277","v":0},321887.38367699995,0,0,0,0,171673.27129439998,0,0,0,0,0,0,0,0,0,0,0,0,0,0,0,0,0,0,0,0,0,0,0,0,0,343346.54258879996,0,85836.63564719999,0,0,107295.794559,0,42918.317823599995,0,0,0,0]
["NZ+Australia",7,2,"72",null,"NZ+Australia","Bivalves",101172.4,null,0,0,0,"72",{"$f":"$L357*N278","v":0},0,0,0,0,0,0,0,0,0,0,0,0,0,0,0,0,0,0,0,0,0,0,0,0,0,0,0,0,0,0,0,0,0,0,0,0,0,0,0,0,0,0,0]
["NZ+Australia",7,8,"78",null,"NZ+Australia","Salmonids",54768.3,null,1.4109285846009461,1.2698357261408515,69546.744000000006,"78",{"$f":"$L358*N279","v":0},1390.9348800000002,0,0,0,0,0,0,0,0,0,0,0,0,0,8136.9690480000008,0,1530.028368,0,0,0,7719.6885840000004,0,2642.7762720000001,0,0,0,0,0,0,0,5563.739520000001,4311.8981280000007,0,4520.5383600000005,20168.555759999999,6676.4874240000008,2225.4958080000001,1182.2946480000003,3616.4306880000004,0,0,0,0]
["NZ+Australia",7,7,"77",null,"NZ+Australia","Marine Fish - general",4609.2000000000007,null,1.5227740171830255,1.3704966154647229,6316.8930000000018,"77",{"$f":"$L359*N280","v":0},0,0,0,0,0,0,0,0,0,0,0,0,0,0,1142.7545125628144,584.07452864321635,0,0,0,0,888.8090653266338,0,0,0,0,0,0,0,0,0,0,952.29542713567878,0,190.45908542713576,2558.5003809045243,0,0,0,0,0,0,0,0]
["South Asia",8,6,"86",null,"South Asia","Indian Carp",4143378.9799999995,null,1.8,1.62,6712273.9475999996,"86",{"$f":"$L360*N281","v":0},0,0,0,0,0,0,0,0,0,0,0,0,1946559.4448039997,0,0,1006841.0921399998,0,0,0,0,0,0,0,1006841.0921399998,67122.739476000002,134245.478952,0,0,0,2282173.142184,0,0,0,134245.478952,0,0,67122.739476000002,0,0,0,0,0,67122.739476000002]
["South Asia",8,4,"84",null,"South Asia","Cyprinid",514570.58640000003,null,1.8,1.62,833604.34996800008,"84",{"$f":"$L361*N282","v":0},0,0,0,0,0,0,0,0,0,0,0,0,241745.26149072,0,0,125040.6524952,0,0,0,0,0,0,0,125040.6524952,8336.0434996800013,16672.086999360003,0,0,0,283425.47898912005,0,0,0,16672.086999360003,0,0,8336.0434996800013,0,0,0,0,0,8336.0434996800013]
["South Asia",8,9,"89",null,"South Asia","Shrimp",363381.12,null,1.8324104015090275,1.6491693613581246,599277.00959999999,"89",{"$f":"$L362*N283","v":0},167797.56268800001,0,0,0,0,167797.56268800001,0,17978.310288000001,0,0,0,0,0,0,0,0,0,0,0,0,0,0,0,0,0,0,0,0,0,11985.540192,0,191768.64307200001,0,11985.540192,0,0,0,0,29963.850480000001,0,0,0,0]
["South Asia",8,5,"85",null,"South Asia","FW Fish - general",153954.71999999997,null,1.8,1.62,249406.64639999997,"85",{"$f":"$L363*N284","v":0},0,0,0,0,0,0,0,0,0,0,0,0,0,57363.528671999993,0,52375.395743999994,0,9976.2658559999982,24940.664639999999,0,0,0,0,9976.2658559999982,0,0,0,0,0,57363.528671999993,0,12470.33232,0,0,9976.2658559999982,0,4988.1329279999991,0,9976.2658559999982,0,0,0,0]
["South Asia",8,3,"83",null,"South Asia","Catfish",283072.92,null,1.69,1.5209999999999999,430553.91131999996,"83",{"$f":"$L364*N285","v":0},0,0,0,0,0,0,0,0,0,0,0,0,0,107638.47782999999,0,51666.469358399991,0,0,0,53819.238914999994,0,0,0,0,0,0,0,0,0,90416.321377199987,0,4305.5391131999995,0,0,0,0,43055.391131999997,0,0,0,0,77499.704037599993,0]
["Latin America and the Caribbean",9,8,"98",null,"Latin America and the Caribbean","Salmonids",834408.08,null,1.3036266978622737,1.1732640280760465,978980.98499999999,"98",{"$f":"$L365*N286","v":0},202649.063895,149784.09070499998,0,0,0,129225.49002,0,4894.9049249999998,0,34264.334475000003,0,0,0,0,0,0,0,0,0,0,0,0,0,0,0,0,0,0,0,0,0,177195.55828499998,0,95940.136530000003,73423.573875000002,0,58738.859099999994,0,52864.973189999997,0,0,0,0]
["Latin America and the Caribbean",9,9,"99",null,"Latin America and the Caribbean","Shrimp",640825.17079999996,null,1.5001120641998351,1.3501008577798517,865178.61278399988,"99",{"$f":"$L366*N287","v":0},0,0,0,0,0,129776.79191759997,0,34607.144511359998,86517.8612784,34607.144511359998,0,0,0,328767.87285791995,0,0,0,0,0,0,0,0,0,0,0,0,0,0,0,0,0,129776.79191759997,0,34607.144511359998,0,0,43258.9306392,0,43258.9306392,0,0,0,0]
["Latin America and the Caribbean",9,10,"910",null,"Latin America and the Caribbean","Tilapia",303436.68599999999,null,1.7,1.53,464258.12958000001,"910",{"$f":"$L367*N288","v":0},0,0,0,0,0,0,0,0,0,0,0,0,0,139277.43887399998,0,0,0,92851.625916000005,0,46425.812958000002,0,0,0,46425.812958000002,0,23212.906479000001,0,0,0,0,0,23212.906479000001,0,0,46425.812958000002,0,23212.906479000001,0,23212.906479000001,0,0,0,0]
["Latin America and the Caribbean",9,2,"92",null,"Latin America and the Caribbean","Bivalves",345060.52,null,0,0,0,"92",{"$f":"$L368*N289","v":0},0,0,0,0,0,0,0,0,0,0,0,0,0,0,0,0,0,0,0,0,0,0,0,0,0,0,0,0,0,0,0,0,0,0,0,0,0,0,0,0,0,0,0]
["Latin America and the Caribbean",9,5,"95",null,"Latin America and the Caribbean","FW Fish - general",75687.770600000003,null,1.8,1.62,122614.18837200002,"95",{"$f":"$L369*N290","v":0},0,0,0,0,0,0,0,0,0,0,0,0,0,36784.256511600004,0,0,0,24522.837674400005,0,12261.418837200003,0,0,0,12261.418837200003,0,6130.7094186000013,0,0,0,0,0,6130.7094186000013,0,0,12261.418837200003,0,6130.7094186000013,0,6130.7094186000013,0,0,0,0]
["Sub-Saharan Africa",10,3,"103",null,"Sub-Saharan Africa","Catfish",186414.111,null,1.2,1.08,201327.23988000001,"103",{"$f":"$L370*N291","v":0},50331.809970000002,0,0,0,0,0,0,0,0,0,0,0,0,0,0,0,0,0,0,0,0,0,0,30199.085982000001,0,8053.0895952000001,0,0,0,0,0,50331.809970000002,12079.634392800001,0,0,0,0,20132.723988000002,10066.361994000001,0,0,0,20132.723988000002]
["Sub-Saharan Africa",10,10,"1010",null,"Sub-Saharan Africa","Tilapia",147169.20000000001,null,1.7,1.53,225168.87600000002,"1010",{"$f":"$L371*N292","v":101325.99420000002},0,0,0,0,0,0,0,0,0,0,0,0,0,0,0,0,0,0,0,0,0,0,0,56292.219000000005,0,13510.13256,0,0,0,0,0,33775.331400000003,0,9006.7550400000018,0,0,0,0,11258.443800000001,0,0,0,0]
["Sub-Saharan Africa",10,5,"105",null,"Sub-Saharan Africa","FW Fish - general",17049.64,null,1.8,1.62,27620.416799999999,"105",{"$f":"$L372*N293","v":12429.18756},0,0,0,0,0,0,0,0,0,0,0,0,0,0,0,0,0,0,0,0,0,0,0,6905.1041999999998,0,1657.2250079999999,0,0,0,0,0,4143.0625199999995,0,1104.8166719999999,0,0,0,0,1381.0208400000001,0,0,0,0]
["Sub-Saharan Africa",10,4,"104",null,"Sub-Saharan Africa","Cyprinid",14675.143600000001,null,1.8,1.62,23773.732632000003,"104",{"$f":"$L373*N294","v":0},8320.8064212000008,0,0,594.34331580000014,0,0,0,0,0,0,0,0,0,0,0,594.34331580000014,0,0,0,0,0,0,0,6418.9078106400011,0,0,0,0,0,4754.7465264000011,0,950.94930528000009,0,0,0,0,1188.6866316000003,0,950.94930528000009,0,0,0,0]
[null,null,null,null,null,null,null,null,null,null,null,null,null,{"$f":"SUM(N335:N373)/SUM($N335:$BE373)","v":2.3596108027475046E-3},{"$f":"SUM(O335:O373)/SUM($N335:$BE373)","v":0.18294364456255716},3.8407398001896998E-3,0,7.2099870425022208E-2,0,5.4809463150934296E-2,1.4189242564121586E-2,9.5638093658551183E-3,{"$f":"SUM(W335:W373)/SUM($N335:$BE373)","v":7.4703271861791126E-3},1.5367013213378677E-3,0,9.5002597397010835E-2,4.5391755740588999E-2,1.7318938753864976E-2,1.9248825083161252E-4,3.0549193614241126E-2,6.8468197362280669E-3,2.8903521144604139E-3,7.0653048061299637E-4,4.2118063135621877E-3,4.4436050281097261E-3,0,4.1391816936635741E-3,3.2800927252082376E-2,1.5652329565720349E-3,4.2207962973567553E-3,1.8945481274208139E-3,7.6676229732256993E-4,4.7785321594248225E-4,0.11419826725056954,1.1540801633778002E-4,8.9916941787389695E-2,2.5056648291088069E-4,1.5067201128345756E-2,9.4011223330603653E-3,1.3848961960533603E-4,5.2011755256799408E-2,4.4213500832324609E-4,1.8406326324594238E-2,0,0,9.5836144581825253E-2,1.9828437614235026E-3]
[null,null,null,null,null,null,null,null,null,null,null,null,"Total GHG","t CO2e by feed material"]
[null,null,null,null,null,null,null,null,null,null,null,null,null,5,6,7,8,9,10,11,12,13,14,15,16,17,18,19,20,21,22,23,24,25,26,27,28,29,30,31,32,33,34,35,36,37,38,39,40,41,42,43,44,45,46,47,48]
["Region","GHG category","Species",null,null,"Region","Main species (>90% of regional production)","Region x GHG","Region x species",null,null,null,"tCO2e"]
[1,"a",2,null,"Manure applied to soils N2O","North America","Bivalves",{"$f":"CONCATENATE(A378,B378)","v":"1a"},{"$f":"CONCATENATE(A378,C378)","v":"12"},null,null,null,{"$f":"SUM(N378:BE378)","v":0},{"$f":"VLOOKUP($H378,$J$121:$BE$230,N$376,FALSE)*VLOOKUP($I378,$M$335:$BE$373,(N$376-3),FALSE)","v":0},0,0,0,0,0,0,0,0,0,{"$f":"VLOOKUP($H378,$J$121:$BE$230,X$376,FALSE)*VLOOKUP($I378,$M$335:$BE$373,(X$376-3),FALSE)","v":0},0,0,0,0,0,0,0,0,0,{"$f":"VLOOKUP($H378,$J$121:$BE$230,AH$376,FALSE)*VLOOKUP($I378,$M$335:$BE$373,(AH$376-3),FALSE)","v":0},0,0,0,0,0,0,0,0,0,{"$f":"VLOOKUP($H378,$J$121:$BE$230,AR$376,FALSE)*VLOOKUP($I378,$M$335:$BE$373,(AR$376-3),FALSE)","v":0},0,0,0,0,0,0,0,0,0,0,0,0,0]
[1,"a",8,null,"Manure applied to soils N2O","North America","Salmonids",{"$f":"CONCATENATE(A379,B379)","v":"1a"},{"$f":"CONCATENATE(A379,C379)","v":"18"},null,null,null,{"$f":"SUM(N379:BE379)","v":2489.9780228339505},0,0,1249.5902134991347,0,0,0,0,0,0,0,0,0,0,0,851.32062182552522,0,0,0,0,0,0,364.95966125110107,0,8.83844187083516,0,0,0,0,15.269084387354157,0,0,0,0,0,0,0,0,0,0,0,0,0,0,0]
[1,"a",3,null,"Manure applied to soils N2O","North America","Catfish","1a","13",null,null,null,{"$f":"SUM(N380:BE380)","v":4221.7957883823774},0,0,0,0,0,0,0,0,0,0,0,0,0,0,1937.9543755481957,0,1050.6758353017883,0,0,0,0,0,0,617.01067435256255,0,0,0,502.14597228848686,49.489752710574891,64.519178180769245,0,0,0,0,0,0,0,0,0,0,0,0,0,0]
[1,"a",9,null,"Manure applied to soils N2O","North America","Shrimp","1a","19",null,null,null,1408.224257064466,0,0,0,0,0,0,0,0,0,0,0,0,0,0,654.90737483750672,0,343.85588070070537,0,0,0,0,4.2758527336444585,0,201.92978814469114,0,0,0,164.33788590176758,17.03991579985081,21.877558946299921,0,0,0,0,0,0,0,0,0,0,0,0,0,0]
[2,"a",4,null,"Manure applied to soils N2O","Russian Federation","Cyprinid","2a","24",null,null,null,228.05180038213228,0,116.98386859066495,0,0,0,0,0,0,0,0,0,0,0,0,0,0,0,55.779896539960802,0,0,0,55.288035251506543,0,0,0,0,0,0,0,0,0,0,0,0,0,0,0,0,0,0,0,0,0,0]
[2,"a",8,null,"Manure applied to soils N2O","Russian Federation","Salmonids","2a","28",null,null,null,760.84755704853865,0,195.86791992205636,0,0,0,0,0,0,0,0,0,0,0,0,0,0,46.595144768092673,441.22749331418362,0,0,0,55.187738475645567,0,21.969260568560426,0,0,0,0,0,0,0,0,0,0,0,0,0,0,0,0,0,0,0,0]
[3,"a",8,null,"Manure applied to soils N2O","Western Europe","Salmonids","3a","38",null,null,null,86635.615081223048,0,36241.634476337102,0,0,0,0,0,0,0,0,0,0,0,0,0,0,4211.0073576336135,39875.661509020327,0,0,0,4511.4024003770046,0,1795.9093378549971,0,0,0,0,0,0,0,0,0,0,0,0,0,0,0,0,0,0,0,0]
[3,"a",2,null,"Manure applied to soils N2O","Western Europe","Bivalves","3a","32",null,null,null,0,0,0,0,0,0,0,0,0,0,0,0,0,0,0,0,0,0,0,0,0,0,0,0,0,0,0,0,0,0,0,0,0,0,0,0,0,0,0,0,0,0,0,0,0]
[4,"a",4,null,"Manure applied to soils N2O","Eastern Europe","Cyprinid","4a","44",null,null,null,462.0908503289296,0,266.69278339307613,0,0,0,0,0,0,0,0,0,0,0,0,0,0,0,92.573225255290254,0,0,0,102.82484168056325,0,0,0,0,0,0,0,0,0,0,0,0,0,0,0,0,0,0,0,0,0,0]
[4,"a",8,null,"Manure applied to soils N2O","Eastern Europe","Salmonids","4a","48",null,null,null,549.04026833725322,0,175.16272524383376,0,0,0,0,0,0,0,0,0,0,0,0,0,0,30.334822160341442,287.25219351833522,0,0,0,40.262671489350311,0,16.027855925392473,0,0,0,0,0,0,0,0,0,0,0,0,0,0,0,0,0,0,0,0]
[5,"a",10,null,"Manure applied to soils N2O","West Asia & Northern Africa","Tilapia","5a","510",null,null,null,9442.4166467923278,{"$f":"VLOOKUP($H388,$J$121:$BE$230,N$376,FALSE)*VLOOKUP($I388,$M$335:$BE$373,(N$376-3),FALSE)","v":0},5964.2625836635743,0,0,949.65292893889455,0,0,0,0,0,{"$f":"VLOOKUP($H388,$J$121:$BE$230,X$376,FALSE)*VLOOKUP($I388,$M$335:$BE$373,(X$376-3),FALSE)","v":0},0,0,0,0,0,1034.8334052497817,0,0,0,{"$f":"VLOOKUP($H388,$J$121:$BE$230,AH$376,FALSE)*VLOOKUP($I388,$M$335:$BE$373,(AH$376-3),FALSE)","v":0},0,0,0,1365.0807879751228,0,0,0,0,0,{"$f":"VLOOKUP($H388,$J$121:$BE$230,AR$376,FALSE)*VLOOKUP($I388,$M$335:$BE$373,(AR$376-3),FALSE)","v":128.58694096495424},0,0,0,0,0,0,0,0,0,0,0,0,0]
[5,"a",4,null,"Manure applied to soils N2O","West Asia & Northern Africa","Cyprinid","5a","54",null,null,null,2781.2467892997188,0,1756.7627845557822,0,0,279.71855705579571,0,0,0,0,0,0,0,0,0,0,0,304.80831268855053,0,0,0,0,0,0,0,402.08208350775203,0,0,0,0,0,37.875051491838398,0,0,0,0,0,0,0,0,0,0,0,0,0]
[5,"a",7,null,"Manure applied to soils N2O","West Asia & Northern Africa","Marine Fish - general","5a","57",null,null,null,3884.6795290459695,0,1637.2679358017203,180.54292404381496,0,0,0,0,0,0,0,13.799306684130274,0,0,0,0,0,366.55730489173976,0,0,260.86422461461541,1425.6478330099483,0,0,0,0,0,0,0,0,0,0,0,0,0,0,0,0,0,0,0,0,0,0,0]
[5,"a",8,null,"Manure applied to soils N2O","West Asia & Northern Africa","Salmonids","5a","58",null,null,null,5080.0306370465705,0,564.03596167622027,0,0,0,0,0,0,0,0,0,0,0,0,0,0,388.37144786341673,3677.6398328290875,321.85759181271584,0,128.12580286513003,0,0,0,0,0,0,0,0,0,0,0,0,0,0,0,0,0,0,0,0,0,0,0]
[6,"a",1,null,"Manure applied to soils N2O","East Asia","Alga","6a","61",null,null,null,0,0,0,0,0,0,0,0,0,0,0,0,0,0,0,0,0,0,0,0,0,0,0,0,0,0,0,0,0,0,0,0,0,0,0,0,0,0,0,0,0,0,0,0,0]
[6,"a",4,null,"Manure applied to soils N2O","East Asia","Cyprinid","6a","64",null,null,null,270392.99543453933,0,191449.29782404416,0,0,65773.65133609889,0,0,0,0,0,0,0,13170.046274396322,0,0,0,0,0,0,0,0,0,0,0,0,0,0,0,0,0,0,0,0,0,0,0,0,0,0,0,0,0,0,0]
[6,"a",2,null,"Manure applied to soils N2O","East Asia","Bivalves","6a","62",null,null,null,0,0,0,0,0,0,0,0,0,0,0,0,0,0,0,0,0,0,0,0,0,0,0,0,0,0,0,0,0,0,0,0,0,0,0,0,0,0,0,0,0,0,0,0,0]
[6,"a",9,null,"Manure applied to soils N2O","East Asia","Shrimp","6a","69",null,null,null,142972.2829250732,0,94557.643055417357,0,0,0,0,45060.222048441225,0,3086.6779740442757,0,0,0,0,0,0,0,0,0,0,0,0,0,0,0,0,0,0,0,0,0,267.73984717034318,0,0,0,0,0,0,0,0,0,0,0,0,0]
[6,"a",5,null,"Manure applied to soils N2O","East Asia","FW Fish - general","6a","65",null,null,null,65941.038890726937,0,31850.835111226697,0,0,19982.068900465878,0,2639.6701914390119,7031.9082968662206,0,3173.9579979263717,0,0,0,0,0,0,0,0,0,0,0,0,0,0,0,0,0,0,0,0,1262.5983928027588,0,0,0,0,0,0,0,0,0,0,0,0,0]
[6,"a",10,null,"Manure applied to soils N2O","East Asia","Tilapia","6a","610",null,null,null,138294.61870909491,0,66799.055207071971,0,0,41907.325788241425,0,5536.0392978909786,14747.645670611215,0,6656.572576135688,0,0,0,0,0,0,0,0,0,0,0,0,0,0,0,0,0,0,0,0,2647.9801691436264,0,0,0,0,0,0,0,0,0,0,0,0,0]
[6,"a",3,null,"Manure applied to soils N2O","East Asia","Catfish","6a","63",null,null,null,98640.766910656399,{"$f":"VLOOKUP($H398,$J$121:$BE$230,N$376,FALSE)*VLOOKUP($I398,$M$335:$BE$373,(N$376-3),FALSE)","v":0},63225.8540542833,0,0,20852.787208772806,0,7833.6604214727358,0,4623.143855295385,0,{"$f":"VLOOKUP($H398,$J$121:$BE$230,X$376,FALSE)*VLOOKUP($I398,$M$335:$BE$373,(X$376-3),FALSE)","v":0},0,0,0,0,0,0,0,0,0,{"$f":"VLOOKUP($H398,$J$121:$BE$230,AH$376,FALSE)*VLOOKUP($I398,$M$335:$BE$373,(AH$376-3),FALSE)","v":0},0,0,0,0,0,0,0,0,0,{"$f":"VLOOKUP($H398,$J$121:$BE$230,AR$376,FALSE)*VLOOKUP($I398,$M$335:$BE$373,(AR$376-3),FALSE)","v":2105.3213708321541},0,0,0,0,0,0,0,0,0,0,0,0,0]
[6,"a",7,null,"Manure applied to soils N2O","East Asia","Marine Fish - general","6a","67",null,null,null,25312.396037229406,0,20182.85962860355,0,0,0,0,5129.536408625856,0,0,0,0,0,0,0,0,0,0,0,0,0,0,0,0,0,0,0,0,0,0,0,0,0,0,0,0,0,0,0,0,0,0,0,0,0]
[7,"a",2,null,"Manure applied to soils N2O","NZ+Australia","Bivalves","7a","72",null,null,null,0,0,0,0,0,0,0,0,0,0,0,0,0,0,0,0,0,0,0,0,0,0,0,0,0,0,0,0,0,0,0,0,0,0,0,0,0,0,0,0,0,0,0,0,0]
[7,"a",8,null,"Manure applied to soils N2O","NZ+Australia","Salmonids","7a","78",null,null,null,15.817132637755682,0,0.97374274930771787,0,0,0,0,0,0,0,0,0,0,0,0,0,5.3498853733999683,0,4.4763852660136028,0,0,0,4.1161898019158931,0,0.90092944711849854,0,0,0,0,0,0,0,0,0,0,0,0,0,0,0,0,0,0,0,0]
[7,"a",7,null,"Manure applied to soils N2O","NZ+Australia","Marine Fish - general","7a","77",null,null,null,1.7064752714828706,0,0,0,0,0,0,0,0,0,0,0,0,0,0,0,0.75133696786634385,0.48121934033987473,0,0,0,0,0.47391896327665212,0,0,0,0,0,0,0,0,0,0,0,0,0,0,0,0,0,0,0,0,0,0]
[8,"a",6,null,"Manure applied to soils N2O","South Asia","Indian Carp","8a","86",null,null,null,476516.9384911636,0,0,0,0,0,0,0,0,0,0,0,0,0,283150.53519286995,0,0,131372.90377965738,0,0,0,0,0,0,0,47289.777580235386,956.04415687435107,3240.5956346895605,0,0,0,10507.082146836952,0,0,0,0,0,0,0,0,0,0,0,0,0]
[8,"a",4,null,"Manure applied to soils N2O","South Asia","Cyprinid","8a","84",null,null,null,59179.138971480432,0,0,0,0,0,0,0,0,0,0,0,0,0,35164.76229593387,0,0,16315.33887227692,0,0,0,0,0,0,0,5872.9671356751687,118.73212776378193,402.45297475238135,0,0,0,1304.885565078303,0,0,0,0,0,0,0,0,0,0,0,0,0]
[8,"a",9,null,"Manure applied to soils N2O","South Asia","Shrimp","8a","89",null,null,null,35030.30936872599,0,26246.864181082681,0,0,0,0,8168.6985692140479,0,559.56541721196936,0,0,0,0,0,0,0,0,0,0,0,0,0,0,0,0,0,0,0,0,0,55.181201217294237,0,0,0,0,0,0,0,0,0,0,0,0,0]
[8,"a",5,null,"Manure applied to soils N2O","South Asia","FW Fish - general","8a","85",null,null,null,16549.695316845664,0,0,0,0,0,0,0,0,0,0,0,0,0,0,7509.7950379303338,0,6833.9561021226536,0,402.10154888714163,1071.1721589206645,0,0,0,0,468.5698637992586,0,0,0,0,0,264.10060518561056,0,0,0,0,0,0,0,0,0,0,0,0,0]
[8,"a",3,null,"Manure applied to soils N2O","South Asia","Catfish","8a","83",null,null,null,22636.196642589988,0,0,0,0,0,0,0,0,0,0,0,0,0,0,14091.582673028142,0,6741.4551915327429,0,0,0,1386.8837379960275,0,0,0,0,0,0,0,0,0,416.27504003307376,0,0,0,0,0,0,0,0,0,0,0,0,0]
[9,"a",8,null,"Manure applied to soils N2O","Latin America and the Caribbean","Salmonids","9a","98",null,null,null,7781.2790124964777,{"$f":"VLOOKUP($H408,$J$121:$BE$230,N$376,FALSE)*VLOOKUP($I408,$M$335:$BE$373,(N$376-3),FALSE)","v":0},2726.7383001339235,3556.6151740877258,0,0,0,1333.9185254982913,0,32.304286198729109,0,{"$f":"VLOOKUP($H408,$J$121:$BE$230,X$376,FALSE)*VLOOKUP($I408,$M$335:$BE$373,(X$376-3),FALSE)","v":131.70272657780851},0,0,0,0,0,0,0,0,0,{"$f":"VLOOKUP($H408,$J$121:$BE$230,AH$376,FALSE)*VLOOKUP($I408,$M$335:$BE$373,(AH$376-3),FALSE)","v":0},0,0,0,0,0,0,0,0,0,{"$f":"VLOOKUP($H408,$J$121:$BE$230,AR$376,FALSE)*VLOOKUP($I408,$M$335:$BE$373,(AR$376-3),FALSE)","v":0},0,0,0,0,0,0,0,0,0,0,0,0,0]
[9,"a",9,null,"Manure applied to soils N2O","Latin America and the Caribbean","Shrimp","9a","99",null,null,null,8073.7548577354519,0,0,0,0,0,0,1339.6092898686732,0,228.39240351859351,1096.6203508438277,133.02039456052651,0,0,0,5276.1124189438315,0,0,0,0,0,0,0,0,0,0,0,0,0,0,0,0,0,0,0,0,0,0,0,0,0,0,0,0,0]
[9,"a",10,null,"Manure applied to soils N2O","Latin America and the Caribbean","Tilapia","9a","910",null,null,null,4047.9409135276301,0,0,0,0,0,0,0,0,0,0,0,0,0,0,2235.1436548040415,0,0,0,956.76719169786463,0,305.85180718210432,0,0,0,437.70065998318898,0,112.47759986043067,0,0,0,0,0,0,0,0,0,0,0,0,0,0,0,0,0]
[9,"a",2,null,"Manure applied to soils N2O","Latin America and the Caribbean","Bivalves","9a","92",null,null,null,0,0,0,0,0,0,0,0,0,0,0,0,0,0,0,0,0,0,0,0,0,0,0,0,0,0,0,0,0,0,0,0,0,0,0,0,0,0,0,0,0,0,0,0,0]
[9,"a",5,null,"Manure applied to soils N2O","Latin America and the Caribbean","FW Fish - general","9a","95",null,null,null,1069.0927267962363,0,0,0,0,0,0,0,0,0,0,0,0,0,0,590.31884993927247,0,0,0,252.68966808857195,0,80.777844716838587,0,0,0,115.60015378143089,0,29.706210270122565,0,0,0,0,0,0,0,0,0,0,0,0,0,0,0,0,0]
[10,"a",3,null,"Manure applied to soils N2O","Sub-Saharan Africa","Catfish","10a","103",null,null,null,1144.1928845207124,0,840.4061276325632,0,0,0,0,0,0,0,0,0,0,0,0,0,0,0,0,0,0,0,0,0,0,267.17034251772856,0,36.616414370420735,0,0,0,0,0,0,0,0,0,0,0,0,0,0,0,0,0]
[10,"a",10,null,"Manure applied to soils N2O","Sub-Saharan Africa","Tilapia","10a","1010",null,null,null,2439.3022925608575,1879.8579194283723,0,0,0,0,0,0,0,0,0,0,0,0,0,0,0,0,0,0,0,0,0,0,0,498.01545120528704,0,61.428921927198211,0,0,0,0,0,0,0,0,0,0,0,0,0,0,0,0,0]
[10,"a",5,null,"Manure applied to soils N2O","Sub-Saharan Africa","FW Fish - general","10a","105",null,null,null,299.21784581687223,230.5934114064346,0,0,0,0,0,0,0,0,0,0,0,0,0,0,0,0,0,0,0,0,0,0,0,61.089234797841634,0,7.5351996125959859,0,0,0,0,0,0,0,0,0,0,0,0,0,0,0,0,0]
[10,"a",4,null,"Manure applied to soils N2O","Sub-Saharan Africa","Cyprinid","10a","104",null,null,null,211.45039611968323,0,138.93513281936239,0,0,6.2787126599660725,0,0,0,0,0,0,0,0,0,0,0,6.081395715141162,0,0,0,0,0,0,0,56.787870976644584,0,0,0,0,0,3.3672839485690398,0,0,0,0,0,0,0,0,0,0,0,0,0]
[1,"b",2,null,"Synthetic fertilizers N2O","North America","Bivalves","1b","12",null,null,null,0,0,0,0,0,0,0,0,0,0,0,0,0,0,0,0,0,0,0,0,0,0,0,0,0,0,0,0,0,0,0,0,0,0,0,0,0,0,0,0,0,0,0,0,0]
[1,"b",8,null,"Synthetic fertilizers N2O","North America","Salmonids","1b","18",null,null,null,17642.086380976103,{"$f":"VLOOKUP($H418,$J$121:$BE$230,N$376,FALSE)*VLOOKUP($I418,$M$335:$BE$373,(N$376-3),FALSE)","v":0},0,8476.3381019665248,0,0,0,0,0,0,0,{"$f":"VLOOKUP($H418,$J$121:$BE$230,X$376,FALSE)*VLOOKUP($I418,$M$335:$BE$373,(X$376-3),FALSE)","v":0},0,0,0,6389.0500329106644,0,0,0,0,0,{"$f":"VLOOKUP($H418,$J$121:$BE$230,AH$376,FALSE)*VLOOKUP($I418,$M$335:$BE$373,(AH$376-3),FALSE)","v":0},2596.8095010746752,0,62.888456620660911,0,0,0,0,117.00028840357479,0,{"$f":"VLOOKUP($H418,$J$121:$BE$230,AR$376,FALSE)*VLOOKUP($I418,$M$335:$BE$373,(AR$376-3),FALSE)","v":0},0,0,0,0,0,0,0,0,0,0,0,0,0]
[1,"b",3,null,"Synthetic fertilizers N2O","North America","Catfish","1b","13",null,null,null,32485.714472825388,0,0,0,0,0,0,0,0,0,0,0,0,0,0,14544.094374602315,0,8830.0592747938481,0,0,0,0,0,0,4390.2363782632783,0,0,0,3847.7240735603082,379.21824212029333,494.38212948534823,0,0,0,0,0,0,0,0,0,0,0,0,0,0]
[1,"b",9,null,"Synthetic fertilizers N2O","North America","Shrimp","1b","19",null,null,null,10829.496223317105,0,0,0,0,0,0,0,0,0,0,0,0,0,0,4914.9942776982934,0,2889.8235845517047,0,0,0,0,30.424115821075695,0,1436.7976740403342,0,0,0,1259.249052422871,130.56939187567369,167.63812690715261,0,0,0,0,0,0,0,0,0,0,0,0,0,0]
[2,"b",4,null,"Synthetic fertilizers N2O","Russian Federation","Cyprinid","2b","24",null,null,null,654.54376359310527,0,335.13207159579673,0,0,0,0,0,0,0,0,0,0,0,0,0,0,0,160.41312575101861,0,0,0,158.99856624628984,0,0,0,0,0,0,0,0,0,0,0,0,0,0,0,0,0,0,0,0,0,0]
[2,"b",8,null,"Synthetic fertilizers N2O","Russian Federation","Salmonids","2b","28",null,null,null,2185.8983924605336,0,561.11686639739344,0,0,0,0,0,0,0,0,0,0,0,0,0,0,133.99940266501292,1268.8923027870608,0,0,0,158.71013053884468,0,63.17969007222181,0,0,0,0,0,0,0,0,0,0,0,0,0,0,0,0,0,0,0,0]
[3,"b",8,null,"Synthetic fertilizers N2O","Western Europe","Salmonids","3b","38",null,null,null,268559.04905031237,0,87496.486165874652,0,0,0,0,0,0,0,0,0,0,0,0,0,0,15346.590319337261,145322.81445249976,0,0,0,14586.522163282716,0,5806.635949317927,0,0,0,0,0,0,0,0,0,0,0,0,0,0,0,0,0,0,0,0]
[3,"b",2,null,"Synthetic fertilizers N2O","Western Europe","Bivalves","3b","32",null,null,null,0,0,0,0,0,0,0,0,0,0,0,0,0,0,0,0,0,0,0,0,0,0,0,0,0,0,0,0,0,0,0,0,0,0,0,0,0,0,0,0,0,0,0,0,0]
[4,"b",4,null,"Synthetic fertilizers N2O","Eastern Europe","Cyprinid","4b","44",null,null,null,1266.7216091183941,0,675.94691289490061,0,0,0,0,0,0,0,0,0,0,0,0,0,0,0,246.0186412725584,0,0,0,344.75605495093504,0,0,0,0,0,0,0,0,0,0,0,0,0,0,0,0,0,0,0,0,0,0]
[4,"b",8,null,"Synthetic fertilizers N2O","Eastern Europe","Salmonids","4b","48",null,null,null,1476.698394251431,0,443.95915733616744,0,0,0,0,0,0,0,0,0,0,0,0,0,0,80.616525032494906,763.38913500158435,0,0,0,134.99461372939567,0,53.738963151788518,0,0,0,0,0,0,0,0,0,0,0,0,0,0,0,0,0,0,0,0]
[5,"b",10,null,"Synthetic fertilizers N2O","West Asia & Northern Africa","Tilapia","5b","510",null,null,null,120457.40043673053,0,88975.107830993526,0,0,852.72913305739212,0,0,0,0,0,0,0,0,0,0,0,837.72106146267561,0,0,0,0,0,0,0,27054.752416043542,0,0,0,0,0,2737.0899951733891,0,0,0,0,0,0,0,0,0,0,0,0,0]
[5,"b",4,null,"Synthetic fertilizers N2O","West Asia & Northern Africa","Cyprinid","5b","54",null,null,null,35480.509994849381,{"$f":"VLOOKUP($H428,$J$121:$BE$230,N$376,FALSE)*VLOOKUP($I428,$M$335:$BE$373,(N$376-3),FALSE)","v":0},26207.457501529756,0,0,251.16982782833202,0,0,0,0,0,{"$f":"VLOOKUP($H428,$J$121:$BE$230,X$376,FALSE)*VLOOKUP($I428,$M$335:$BE$373,(X$376-3),FALSE)","v":0},0,0,0,0,0,246.74922741449987,0,0,0,{"$f":"VLOOKUP($H428,$J$121:$BE$230,AH$376,FALSE)*VLOOKUP($I428,$M$335:$BE$373,(AH$376-3),FALSE)","v":0},0,0,0,7968.9285176779013,0,0,0,0,0,{"$f":"VLOOKUP($H428,$J$121:$BE$230,AR$376,FALSE)*VLOOKUP($I428,$M$335:$BE$373,(AR$376-3),FALSE)","v":806.20492039889098},0,0,0,0,0,0,0,0,0,0,0,0,0]
[5,"b",7,null,"Synthetic fertilizers N2O","West Asia & Northern Africa","Marine Fish - general","5b","57",null,null,null,30666.026457201566,0,24424.82856727346,2693.3465637346299,0,0,0,0,0,0,0,351.34105621277132,0,0,0,0,0,296.73643408011799,0,0,448.5276282728766,2451.2462076277061,0,0,0,0,0,0,0,0,0,0,0,0,0,0,0,0,0,0,0,0,0,0,0]
[5,"b",8,null,"Synthetic fertilizers N2O","West Asia & Northern Africa","Salmonids","5b","58",null,null,null,12479.536640919598,0,8414.3110412609276,0,0,0,0,0,0,0,0,0,0,0,0,0,0,314.39547650416966,2977.1326754680545,553.39908149785026,0,220.29836618859679,0,0,0,0,0,0,0,0,0,0,0,0,0,0,0,0,0,0,0,0,0,0,0]
[6,"b",1,null,"Synthetic fertilizers N2O","East Asia","Alga","6b","61",null,null,null,0,0,0,0,0,0,0,0,0,0,0,0,0,0,0,0,0,0,0,0,0,0,0,0,0,0,0,0,0,0,0,0,0,0,0,0,0,0,0,0,0,0,0,0,0]
[6,"b",4,null,"Synthetic fertilizers N2O","East Asia","Cyprinid","6b","64",null,null,null,2891681.5725705842,0,2188325.5866853721,0,0,598158.32520208159,0,0,0,0,0,0,0,105197.66068313032,0,0,0,0,0,0,0,0,0,0,0,0,0,0,0,0,0,0,0,0,0,0,0,0,0,0,0,0,0,0,0]
[6,"b",2,null,"Synthetic fertilizers N2O","East Asia","Bivalves","6b","62",null,null,null,0,0,0,0,0,0,0,0,0,0,0,0,0,0,0,0,0,0,0,0,0,0,0,0,0,0,0,0,0,0,0,0,0,0,0,0,0,0,0,0,0,0,0,0,0]
[6,"b",9,null,"Synthetic fertilizers N2O","East Asia","Shrimp","6b","69",null,null,null,1561853.4940576458,0,1080823.5499772341,0,0,0,0,448199.68492790911,0,30702.203241548807,0,0,0,0,0,0,0,0,0,0,0,0,0,0,0,0,0,0,0,0,0,2128.0559109537498,0,0,0,0,0,0,0,0,0,0,0,0,0]
[6,"b",5,null,"Synthetic fertilizers N2O","East Asia","FW Fish - general","6b","65",null,null,null,683268.63348241115,0,364065.04606380733,0,0,181720.80498464513,0,26255.959121654745,69944.153397850765,0,31247.256802204829,0,0,0,0,0,0,0,0,0,0,0,0,0,0,0,0,0,0,0,0,10035.41311224829,0,0,0,0,0,0,0,0,0,0,0,0,0]
[6,"b",10,null,"Synthetic fertilizers N2O","East Asia","Tilapia","6b","610",null,null,null,1432982.8090807118,0,763534.17503987195,0,0,381113.33790944231,0,55065.220637302526,146690.13694363378,0,65533.202658925387,0,0,0,0,0,0,0,0,0,0,0,0,0,0,0,0,0,0,0,0,21046.735891535922,0,0,0,0,0,0,0,0,0,0,0,0,0]
[6,"b",3,null,"Synthetic fertilizers N2O","East Asia","Catfish","6b","63",null,null,null,1052968.0796424055,0,722691.36392542406,0,0,189639.28593316767,0,77918.926563695655,0,45984.940267099082,0,0,0,0,0,0,0,0,0,0,0,0,0,0,0,0,0,0,0,0,0,16733.562953018976,0,0,0,0,0,0,0,0,0,0,0,0,0]
[6,"b",7,null,"Synthetic fertilizers N2O","East Asia","Marine Fish - general","6b","67",null,null,null,281718.28850463609,{"$f":"VLOOKUP($H438,$J$121:$BE$230,N$376,FALSE)*VLOOKUP($I438,$M$335:$BE$373,(N$376-3),FALSE)","v":0},230696.42270688689,0,0,0,0,51021.865797749189,0,0,0,{"$f":"VLOOKUP($H438,$J$121:$BE$230,X$376,FALSE)*VLOOKUP($I438,$M$335:$BE$373,(X$376-3),FALSE)","v":0},0,0,0,0,0,0,0,0,0,{"$f":"VLOOKUP($H438,$J$121:$BE$230,AH$376,FALSE)*VLOOKUP($I438,$M$335:$BE$373,(AH$376-3),FALSE)","v":0},0,0,0,0,0,0,0,0,0,{"$f":"VLOOKUP($H438,$J$121:$BE$230,AR$376,FALSE)*VLOOKUP($I438,$M$335:$BE$373,(AR$376-3),FALSE)","v":0},0,0,0,0,0,0,0,0,0,0,0,0,0]
[7,"b",2,null,"Synthetic fertilizers N2O","NZ+Australia","Bivalves","7b","72",null,null,null,0,0,0,0,0,0,0,0,0,0,0,0,0,0,0,0,0,0,0,0,0,0,0,0,0,0,0,0,0,0,0,0,0,0,0,0,0,0,0,0,0,0,0,0,0]
[7,"b",8,null,"Synthetic fertilizers N2O","NZ+Australia","Salmonids","7b","78",null,null,null,1637.5692916613314,0,72.229315570130254,0,0,0,0,0,0,0,0,0,0,0,0,0,602.56005400577226,0,325.15389403796041,0,0,0,523.12684307638551,0,114.49918497108305,0,0,0,0,0,0,0,0,0,0,0,0,0,0,0,0,0,0,0,0]
[7,"b",7,null,"Synthetic fertilizers N2O","NZ+Australia","Marine Fish - general","7b","77",null,null,null,179.80844141101639,0,0,0,0,0,0,0,0,0,0,0,0,0,0,0,84.6234287906547,34.954619207124644,0,0,0,0,60.230393413237046,0,0,0,0,0,0,0,0,0,0,0,0,0,0,0,0,0,0,0,0,0,0]
[8,"b",6,null,"Synthetic fertilizers N2O","South Asia","Indian Carp","8b","86",null,null,null,1794440.583404131,0,0,0,0,0,0,0,0,0,0,0,0,0,1096545.9346183024,0,0,471713.59214260336,0,0,0,0,0,0,0,176873.49957021483,3575.8018840988639,12120.494532396806,0,0,0,33611.260656514627,0,0,0,0,0,0,0,0,0,0,0,0,0]
[8,"b",4,null,"Synthetic fertilizers N2O","South Asia","Cyprinid",{"$f":"CONCATENATE(A443,B443)","v":"8b"},{"$f":"CONCATENATE(A443,C443)","v":"84"},null,null,null,{"$f":"SUM(N443:BE443)","v":222853.46035670192},0,0,0,0,0,0,0,0,0,0,0,0,0,136181.19107972019,0,0,58582.606344561289,0,0,0,0,0,0,0,21966.105642710387,444.08259085944815,1505.2569434508785,0,0,0,4174.2177553997208,0,0,0,0,0,0,0,0,0,0,0,0,0]
[8,"b",9,null,"Synthetic fertilizers N2O","South Asia","Shrimp","8b","89",null,null,null,114185.30653156833,0,81346.395503484717,0,0,0,0,30568.418598079152,0,2093.9724683695908,0,0,0,0,0,0,0,0,0,0,0,0,0,0,0,0,0,0,0,0,0,176.51996163486737,0,0,0,0,0,0,0,0,0,0,0,0,0]
[8,"b",5,null,"Synthetic fertilizers N2O","South Asia","FW Fish - general","8b","85",null,null,null,61664.544676939884,0,0,0,0,0,0,0,0,0,0,0,0,0,0,29082.887705121211,0,24538.317177520697,0,1486.3685072196579,3959.5882364458112,0,0,0,0,1752.5477142009697,0,0,0,0,0,844.83533643153896,0,0,0,0,0,0,0,0,0,0,0,0,0]
[8,"b",3,null,"Synthetic fertilizers N2O","South Asia","Catfish","8b","83",null,null,null,85236.341395502124,0,0,0,0,0,0,0,0,0,0,0,0,0,0,54571.917661824089,0,24206.179152437438,0,0,0,5126.6161919484584,0,0,0,0,0,0,0,0,0,1331.628389292141,0,0,0,0,0,0,0,0,0,0,0,0,0]
[9,"b",8,null,"Synthetic fertilizers N2O","Latin America and the Caribbean","Salmonids","9b","98",null,null,null,41298.146165704777,0,14431.879877758329,18824.191144902165,0,0,0,7219.45554214611,0,174.83778324869493,0,647.78181764947703,0,0,0,0,0,0,0,0,0,0,0,0,0,0,0,0,0,0,0,0,0,0,0,0,0,0,0,0,0,0,0,0,0]
[9,"b",9,null,"Synthetic fertilizers N2O","Latin America and the Caribbean","Shrimp","9b","99",null,null,null,39560.805109010747,{"$f":"VLOOKUP($H448,$J$121:$BE$230,N$376,FALSE)*VLOOKUP($I448,$M$335:$BE$373,(N$376-3),FALSE)","v":0},0,0,0,0,0,7250.2551896414125,0,1236.1090815126347,5393.7434903547191,{"$f":"VLOOKUP($H448,$J$121:$BE$230,X$376,FALSE)*VLOOKUP($I448,$M$335:$BE$373,(X$376-3),FALSE)","v":654.2627872017614},0,0,0,25026.434560300218,0,0,0,0,0,{"$f":"VLOOKUP($H448,$J$121:$BE$230,AH$376,FALSE)*VLOOKUP($I448,$M$335:$BE$373,(AH$376-3),FALSE)","v":0},0,0,0,0,0,0,0,0,0,{"$f":"VLOOKUP($H448,$J$121:$BE$230,AR$376,FALSE)*VLOOKUP($I448,$M$335:$BE$373,(AR$376-3),FALSE)","v":0},0,0,0,0,0,0,0,0,0,0,0,0,0]
[9,"b",10,null,"Synthetic fertilizers N2O","Latin America and the Caribbean","Tilapia","9b","910",null,null,null,19786.219570733643,0,0,0,0,0,0,0,0,0,0,0,0,0,0,10602.063028259199,0,0,0,4969.3604175960409,0,1588.5660351331608,0,0,0,2089.3276369661207,0,536.90245277912163,0,0,0,0,0,0,0,0,0,0,0,0,0,0,0,0,0]
[9,"b",2,null,"Synthetic fertilizers N2O","Latin America and the Caribbean","Bivalves","9b","92",null,null,null,0,0,0,0,0,0,0,0,0,0,0,0,0,0,0,0,0,0,0,0,0,0,0,0,0,0,0,0,0,0,0,0,0,0,0,0,0,0,0,0,0,0,0,0,0]
[9,"b",5,null,"Synthetic fertilizers N2O","Latin America and the Caribbean","FW Fish - general","9b","95",null,null,null,5225.6947138663581,0,0,0,0,0,0,0,0,0,0,0,0,0,0,2800.0874307894774,0,0,0,1312.4467952402024,0,419.55266405219589,0,0,0,551.8077037908821,0,141.80011999359948,0,0,0,0,0,0,0,0,0,0,0,0,0,0,0,0,0]
[10,"b",3,null,"Synthetic fertilizers N2O","Sub-Saharan Africa","Catfish","10b","103",null,null,null,4185.7837124337002,0,3526.049449822005,0,0,0,0,0,0,0,0,0,0,0,0,0,0,0,0,0,0,0,0,0,0,580.21432770206309,0,79.519934909631871,0,0,0,0,0,0,0,0,0,0,0,0,0,0,0,0,0]
[10,"b",10,null,"Synthetic fertilizers N2O","Sub-Saharan Africa","Tilapia","10b","1010",null,null,null,9102.1710987727274,7887.2247174309132,0,0,0,0,0,0,0,0,0,0,0,0,0,0,0,0,0,0,0,0,0,0,0,1081.5410778130849,0,133.40530352872813,0,0,0,0,0,0,0,0,0,0,0,0,0,0,0,0,0]
[10,"b",5,null,"Synthetic fertilizers N2O","Sub-Saharan Africa","FW Fish - general","10b","105",null,null,null,1116.5209153196492,967.48910400345039,0,0,0,0,0,0,0,0,0,0,0,0,0,0,0,0,0,0,0,0,0,0,0,132.66760436073159,0,16.36420695546742,0,0,0,0,0,0,0,0,0,0,0,0,0,0,0,0,0]
[10,"b",4,null,"Synthetic fertilizers N2O","Sub-Saharan Africa","Cyprinid","10b","104",null,null,null,774.95911295114229,0,582.92310411716483,0,0,30.018369247311956,0,0,0,0,0,0,0,0,0,0,0,35.198231578661606,0,0,0,0,0,0,0,123.32632458319711,0,0,0,0,0,3.4930834248067324,0,0,0,0,0,0,0,0,0,0,0,0,0]
[1,"c",2,null,"Crop residue N2O","North America","Bivalves","1c","12",null,null,null,0,0,0,0,0,0,0,0,0,0,0,0,0,0,0,0,0,0,0,0,0,0,0,0,0,0,0,0,0,0,0,0,0,0,0,0,0,0,0,0,0,0,0,0,0]
[1,"c",8,null,"Crop residue N2O","North America","Salmonids","1c","18",null,null,null,9084.4131765892616,0,0,2980.9164404605563,0,0,0,0,0,0,0,0,0,0,0,3768.31183903086,0,0,0,0,0,0,2123.6379520887858,0,51.429384085607708,0,0,0,0,160.11756092345124,0,0,0,0,0,0,0,0,0,0,0,0,0,0,0]
[1,"c",3,null,"Crop residue N2O","North America","Catfish","1c","13",null,null,null,22048.202596232186,{"$f":"VLOOKUP($H458,$J$121:$BE$230,N$376,FALSE)*VLOOKUP($I458,$M$335:$BE$373,(N$376-3),FALSE)","v":0},0,0,0,0,0,0,0,0,0,{"$f":"VLOOKUP($H458,$J$121:$BE$230,X$376,FALSE)*VLOOKUP($I458,$M$335:$BE$373,(X$376-3),FALSE)","v":0},0,0,0,8578.2209776854288,0,3418.4617644518557,0,0,0,{"$f":"VLOOKUP($H458,$J$121:$BE$230,AH$376,FALSE)*VLOOKUP($I458,$M$335:$BE$373,(AH$376-3),FALSE)","v":0},0,0,3590.2797597060289,0,0,0,5265.6980779382329,518.96880609847244,676.57321035216535,{"$f":"VLOOKUP($H458,$J$121:$BE$230,AR$376,FALSE)*VLOOKUP($I458,$M$335:$BE$373,(AR$376-3),FALSE)","v":0},0,0,0,0,0,0,0,0,0,0,0,0,0]
[1,"c",9,null,"Crop residue N2O","North America","Shrimp","1c","19",null,null,null,7348.9562994087028,0,0,0,0,0,0,0,0,0,0,0,0,0,0,2898.9021889036107,0,1118.7638862177221,0,0,0,0,24.880456956755133,0,1174.994957774996,0,0,0,1723.3110244449349,178.68718824245559,229.4165968682274,0,0,0,0,0,0,0,0,0,0,0,0,0,0]
[2,"c",4,null,"Crop residue N2O","Russian Federation","Cyprinid","2c","24",null,null,null,1280.6573035460494,0,526.00803765198043,0,0,0,0,0,0,0,0,0,0,0,0,0,0,0,292.49171953781479,0,0,0,462.15754635625416,0,0,0,0,0,0,0,0,0,0,0,0,0,0,0,0,0,0,0,0,0,0]
[2,"c",8,null,"Crop residue N2O","Russian Federation","Salmonids","2c","28",null,null,null,4083.6496058768817,0,880.70348021810526,0,0,0,0,0,0,0,0,0,0,0,0,0,0,244.32985467388281,2313.6541340547265,0,0,0,461.3191567909804,0,183.64298013918707,0,0,0,0,0,0,0,0,0,0,0,0,0,0,0,0,0,0,0,0]
[3,"c",8,null,"Crop residue N2O","Western Europe","Salmonids","3c","38",null,null,null,104072.17722121891,0,20433.756266747187,0,0,0,0,0,0,0,0,0,0,0,0,0,0,6332.0794049969636,59960.915182012053,0,0,0,12406.584833187371,0,4938.8415342753324,0,0,0,0,0,0,0,0,0,0,0,0,0,0,0,0,0,0,0,0]
[3,"c",2,null,"Crop residue N2O","Western Europe","Bivalves","3c","32",null,null,null,0,0,0,0,0,0,0,0,0,0,0,0,0,0,0,0,0,0,0,0,0,0,0,0,0,0,0,0,0,0,0,0,0,0,0,0,0,0,0,0,0,0,0,0,0]
[4,"c",4,null,"Crop residue N2O","Eastern Europe","Cyprinid","4c","44",null,null,null,1276.5396249990949,0,538.17444590316984,0,0,0,0,0,0,0,0,0,0,0,0,0,0,0,271.37365742512014,0,0,0,466.99152167080501,0,0,0,0,0,0,0,0,0,0,0,0,0,0,0,0,0,0,0,0,0,0]
[4,"c",8,null,"Crop residue N2O","Eastern Europe","Salmonids","4c","48",null,null,null,1540.1110742062274,0,353.47076663131332,0,0,0,0,0,0,0,0,0,0,0,0,0,0,88.924973871124863,842.06505869799855,0,0,0,182.85781838356672,0,72.792456622224066,0,0,0,0,0,0,0,0,0,0,0,0,0,0,0,0,0,0,0,0]
[5,"c",10,null,"Crop residue N2O","West Asia & Northern Africa","Tilapia","5c","510",null,null,null,33481.401058776537,0,17881.807709569184,0,0,1233.1262924019602,0,0,0,0,0,0,0,0,0,0,0,1745.6149982052336,0,0,0,0,0,0,0,11336.01706026063,0,0,0,0,0,1284.8349983395285,0,0,0,0,0,0,0,0,0,0,0,0,0]
[5,"c",4,null,"Crop residue N2O","West Asia & Northern Africa","Cyprinid","5c","54",null,null,null,9861.8862817933532,0,5267.054202274504,0,0,363.21512488109636,0,0,0,0,0,0,0,0,0,0,0,514.16774865161483,0,0,0,0,0,0,0,3339.0033750530533,0,0,0,0,0,378.44583093308569,0,0,0,0,0,0,0,0,0,0,0,0,0]
[5,"c",7,null,"Crop residue N2O","West Asia & Northern Africa","Marine Fish - general","5c","57",null,null,null,10670.326913438346,{"$f":"VLOOKUP($H468,$J$121:$BE$230,N$376,FALSE)*VLOOKUP($I468,$M$335:$BE$373,(N$376-3),FALSE)","v":0},4908.7896427031419,541.29639763307932,0,0,0,0,0,0,0,{"$f":"VLOOKUP($H468,$J$121:$BE$230,X$376,FALSE)*VLOOKUP($I468,$M$335:$BE$373,(X$376-3),FALSE)","v":69.707438711863304},0,0,0,0,0,618.32941019744351,0,0,701.02664444127572,{"$f":"VLOOKUP($H468,$J$121:$BE$230,AH$376,FALSE)*VLOOKUP($I468,$M$335:$BE$373,(AH$376-3),FALSE)","v":3831.177379751543},0,0,0,0,0,0,0,0,0,{"$f":"VLOOKUP($H468,$J$121:$BE$230,AR$376,FALSE)*VLOOKUP($I468,$M$335:$BE$373,(AR$376-3),FALSE)","v":0},0,0,0,0,0,0,0,0,0,0,0,0,0]
[5,"c",8,null,"Crop residue N2O","West Asia & Northern Africa","Salmonids","5c","58",null,null,null,9759.0963643029427,0,1691.0695105212401,0,0,0,0,0,0,0,0,0,0,0,0,0,0,655.1267294095743,6203.6490295110698,864.93557293933588,0,344.31552192172148,0,0,0,0,0,0,0,0,0,0,0,0,0,0,0,0,0,0,0,0,0,0,0]
[6,"c",1,null,"Crop residue N2O","East Asia","Alga","6c","61",null,null,null,0,0,0,0,0,0,0,0,0,0,0,0,0,0,0,0,0,0,0,0,0,0,0,0,0,0,0,0,0,0,0,0,0,0,0,0,0,0,0,0,0,0,0,0,0]
[6,"c",4,null,"Crop residue N2O","East Asia","Cyprinid","6c","64",null,null,null,254133.25172158921,0,183711.66600617027,0,0,50400.180997127136,0,0,0,0,0,0,0,20021.404718291808,0,0,0,0,0,0,0,0,0,0,0,0,0,0,0,0,0,0,0,0,0,0,0,0,0,0,0,0,0,0,0]
[6,"c",2,null,"Crop residue N2O","East Asia","Bivalves","6c","62",null,null,null,0,0,0,0,0,0,0,0,0,0,0,0,0,0,0,0,0,0,0,0,0,0,0,0,0,0,0,0,0,0,0,0,0,0,0,0,0,0,0,0,0,0,0,0,0]
[6,"c",9,null,"Crop residue N2O","East Asia","Shrimp","6c","69",null,null,null,172483.22760828963,0,90735.992958788644,0,0,0,0,75823.506819200717,0,5193.9990034230004,0,0,0,0,0,0,0,0,0,0,0,0,0,0,0,0,0,0,0,0,0,729.72882687727611,0,0,0,0,0,0,0,0,0,0,0,0,0]
[6,"c",5,null,"Crop residue N2O","East Asia","FW Fish - general","6c","65",null,null,null,69512.275636916005,0,30563.548931629484,0,0,15311.600752318485,0,4441.8123493898893,11832.696832391101,0,3921.3865854877899,0,0,0,0,0,0,0,0,0,0,0,0,0,0,0,0,0,0,0,0,3441.2301856992599,0,0,0,0,0,0,0,0,0,0,0,0,0]
[6,"c",10,null,"Crop residue N2O","East Asia","Tilapia","6c","610",null,null,null,145784.38278382467,0,64099.298661350957,0,0,32112.202408226753,0,9315.575786638201,24816.083038175537,0,8224.1146298842468,0,0,0,0,0,0,0,0,0,0,0,0,0,0,0,0,0,0,0,0,7217.1082595489961,0,0,0,0,0,0,0,0,0,0,0,0,0]
[6,"c",3,null,"Crop residue N2O","East Asia","Catfish","6c","63",null,null,null,103348.64977148145,0,60670.512323584968,0,0,15978.803491481247,0,13181.817074676139,0,7779.4330276777227,0,0,0,0,0,0,0,0,0,0,0,0,0,0,0,0,0,0,0,0,0,5738.0838540613768,0,0,0,0,0,0,0,0,0,0,0,0,0]
[6,"c",7,null,"Crop residue N2O","East Asia","Marine Fish - general","6c","67",null,null,null,27998.694701958539,0,19367.147382003961,0,0,0,0,8631.5473199545777,0,0,0,0,0,0,0,0,0,0,0,0,0,0,0,0,0,0,0,0,0,0,0,0,0,0,0,0,0,0,0,0,0,0,0,0,0]
[7,"c",2,null,"Crop residue N2O","NZ+Australia","Bivalves","7c","72",null,null,null,0,{"$f":"VLOOKUP($H478,$J$121:$BE$230,N$376,FALSE)*VLOOKUP($I478,$M$335:$BE$373,(N$376-3),FALSE)","v":0},0,0,0,0,0,0,0,0,0,{"$f":"VLOOKUP($H478,$J$121:$BE$230,X$376,FALSE)*VLOOKUP($I478,$M$335:$BE$373,(X$376-3),FALSE)","v":0},0,0,0,0,0,0,0,0,0,{"$f":"VLOOKUP($H478,$J$121:$BE$230,AH$376,FALSE)*VLOOKUP($I478,$M$335:$BE$373,(AH$376-3),FALSE)","v":0},0,0,0,0,0,0,0,0,0,{"$f":"VLOOKUP($H478,$J$121:$BE$230,AR$376,FALSE)*VLOOKUP($I478,$M$335:$BE$373,(AR$376-3),FALSE)","v":0},0,0,0,0,0,0,0,0,0,0,0,0,0]
[7,"c",8,null,"Crop residue N2O","NZ+Australia","Salmonids","7c","78",null,null,null,1840.5010582439891,0,80.869368113266532,0,0,0,0,0,0,0,0,0,0,0,0,0,619.39127577263969,0,349.14523812116408,0,0,0,649.03737287049262,0,142.05780336642596,0,0,0,0,0,0,0,0,0,0,0,0,0,0,0,0,0,0,0,0]
[7,"c",7,null,"Crop residue N2O","NZ+Australia","Marine Fish - general","7c","77",null,null,null,199.24808043207685,0,0,0,0,0,0,0,0,0,0,0,0,0,0,0,86.987202637227298,37.533731166329979,0,0,0,0,74.727146628519549,0,0,0,0,0,0,0,0,0,0,0,0,0,0,0,0,0,0,0,0,0,0]
[8,"c",6,null,"Crop residue N2O","South Asia","Indian Carp","8c","86",null,null,null,407597.16995168995,0,0,0,0,0,0,0,0,0,0,0,0,0,253434.47914677334,0,0,79840.166720950714,0,0,0,0,0,0,0,53393.933911039952,1079.4501716903808,3658.891160091553,0,0,0,16190.24884114395,0,0,0,0,0,0,0,0,0,0,0,0,0]
[8,"c",4,null,"Crop residue N2O","South Asia","Cyprinid","8c","84",null,null,null,50619.920545385772,0,0,0,0,0,0,0,0,0,0,0,0,0,31474.294091373162,0,0,9915.4341435292445,0,0,0,0,0,0,0,6631.0487202420181,134.05805032980592,454.40153529525486,0,0,0,2010.6840046162911,0,0,0,0,0,0,0,0,0,0,0,0,0]
[8,"c",9,null,"Crop residue N2O","South Asia","Shrimp","8c","89",null,null,null,22713.72468282374,0,13337.651293417899,0,0,0,0,8695.400180995257,0,595.64509436560024,0,0,0,0,0,0,0,0,0,0,0,0,0,0,0,0,0,0,0,0,0,85.028114044980313,0,0,0,0,0,0,0,0,0,0,0,0,0]
[8,"c",5,null,"Crop residue N2O","South Asia","FW Fish - general","8c","85",null,null,null,14414.841574674549,0,0,0,0,0,0,0,0,0,0,0,0,0,0,6721.6577663909111,0,4153.2475789091823,0,710.69331199096393,1893.2403803037976,0,0,0,0,529.05278097267114,0,0,0,0,0,406.94975610702232,0,0,0,0,0,0,0,0,0,0,0,0,0]
[8,"c",3,null,"Crop residue N2O","South Asia","Catfish","8c","83",null,null,null,19802.409584326255,0,0,0,0,0,0,0,0,0,0,0,0,0,0,12612.700564595341,0,4097.0313584340302,0,0,0,2451.243970162991,0,0,0,0,0,0,0,0,0,641.43369113388997,0,0,0,0,0,0,0,0,0,0,0,0,0]
[9,"c",8,null,"Crop residue N2O","Latin America and the Caribbean","Salmonids","9c","98",null,null,null,33845.991698548518,0,11531.508389117556,15041.097898848984,0,0,0,6640.0833023746691,0,160.8067863838873,0,472.49532182342193,0,0,0,0,0,0,0,0,0,0,0,0,0,0,0,0,0,0,0,0,0,0,0,0,0,0,0,0,0,0,0,0,0]
[9,"c",9,null,"Crop residue N2O","Latin America and the Caribbean","Shrimp","9c","99",null,null,null,42685.141854027679,0,0,0,0,0,0,6668.4112315181719,0,1136.9094558653935,3934.2236797501096,477.22257367103617,0,0,0,30468.374913222968,0,0,0,0,0,0,0,0,0,0,0,0,0,0,0,0,0,0,0,0,0,0,0,0,0,0,0,0,0]
[9,"c",10,null,"Crop residue N2O","Latin America and the Caribbean","Tilapia","9c","910",null,null,null,24705.097038442898,{"$f":"VLOOKUP($H488,$J$121:$BE$230,N$376,FALSE)*VLOOKUP($I488,$M$335:$BE$373,(N$376-3),FALSE)","v":0},0,0,0,0,0,0,0,0,0,{"$f":"VLOOKUP($H488,$J$121:$BE$230,X$376,FALSE)*VLOOKUP($I488,$M$335:$BE$373,(X$376-3),FALSE)","v":0},0,0,0,12907.457129792054,0,0,0,6615.449318712901,0,{"$f":"VLOOKUP($H488,$J$121:$BE$230,AH$376,FALSE)*VLOOKUP($I488,$M$335:$BE$373,(AH$376-3),FALSE)","v":2114.7747822115011},0,0,0,2440.3180232282321,0,627.09778449821022,0,0,0,{"$f":"VLOOKUP($H488,$J$121:$BE$230,AR$376,FALSE)*VLOOKUP($I488,$M$335:$BE$373,(AR$376-3),FALSE)","v":0},0,0,0,0,0,0,0,0,0,0,0,0,0]
[9,"c",2,null,"Crop residue N2O","Latin America and the Caribbean","Bivalves","9c","92",null,null,null,0,0,0,0,0,0,0,0,0,0,0,0,0,0,0,0,0,0,0,0,0,0,0,0,0,0,0,0,0,0,0,0,0,0,0,0,0,0,0,0,0,0,0,0,0]
[9,"c",5,null,"Crop residue N2O","Latin America and the Caribbean","FW Fish - general","9c","95",null,null,null,6524.8085688033007,0,0,0,0,0,0,0,0,0,0,0,0,0,0,3408.9599709273825,0,0,0,1747.1916962744483,0,558.52849307133999,0,0,0,644.50699885080337,0,165.62140967932734,0,0,0,0,0,0,0,0,0,0,0,0,0,0,0,0,0]
[10,"c",3,null,"Crop residue N2O","Sub-Saharan Africa","Catfish","10c","103",null,null,null,5539.7485753210867,0,3701.8339004573068,0,0,0,0,0,0,0,0,0,0,0,0,0,0,0,0,0,0,0,0,0,0,1616.3847898824295,0,221.52988498135076,0,0,0,0,0,0,0,0,0,0,0,0,0,0,0,0,0]
[10,"c",10,null,"Crop residue N2O","Sub-Saharan Africa","Tilapia","10c","1010",null,null,null,11665.074507952853,8280.427218904837,0,0,0,0,0,0,0,0,0,0,0,0,0,0,0,0,0,0,0,0,0,0,0,3013.0013416487086,0,371.64594739930652,0,0,0,0,0,0,0,0,0,0,0,0,0,0,0,0,0]
[10,"c",5,null,"Crop residue N2O","Sub-Saharan Africa","FW Fish - general","10c","105",null,null,null,1430.9003341683538,1015.7214226544188,0,0,0,0,0,0,0,0,0,0,0,0,0,0,0,0,0,0,0,0,0,0,0,369.59083490427213,0,45.588076609663062,0,0,0,0,0,0,0,0,0,0,0,0,0,0,0,0,0]
[10,"c",4,null,"Crop residue N2O","Sub-Saharan Africa","Cyprinid","10c","104",null,null,null,1058.342696356568,0,611.98362044799319,0,0,26.697404290879163,0,0,0,0,0,0,0,0,0,0,0,40.803640564270474,0,0,0,0,0,0,0,343.56751588310448,0,0,0,0,0,35.290515170320859,0,0,0,0,0,0,0,0,0,0,0,0,0]
[1,"d",2,null,"Energy used in field operations CO2","North America","Bivalves","1d","12",null,null,null,0,0,0,0,0,0,0,0,0,0,0,0,0,0,0,0,0,0,0,0,0,0,0,0,0,0,0,0,0,0,0,0,0,0,0,0,0,0,0,0,0,0,0,0,0]
[1,"d",8,null,"Energy used in field operations CO2","North America","Salmonids","1d","18",null,null,null,11063.088628976808,0,0,5269.185462091139,0,0,0,0,0,0,0,0,0,0,0,4073.6234601303995,0,0,0,0,0,0,1553.7939851631006,0,37.629138984948412,0,0,0,0,128.85658260721999,0,0,0,0,0,0,0,0,0,0,0,0,0,0,0]
[1,"d",3,null,"Energy used in field operations CO2","North America","Catfish","1d","13",null,null,null,24318.535579512944,0,0,0,0,0,0,0,0,0,0,0,0,0,0,9273.2352611956758,0,7218.65149997345,0,0,0,0,0,0,2626.8861366868337,0,0,0,4237.6354938913482,417.64654949726889,544.48063826837279,0,0,0,0,0,0,0,0,0,0,0,0,0,0]
[1,"d",9,null,"Energy used in field operations CO2","North America","Shrimp","1d","19",null,null,null,8089.4204491616201,{"$f":"VLOOKUP($H498,$J$121:$BE$230,N$376,FALSE)*VLOOKUP($I498,$M$335:$BE$373,(N$376-3),FALSE)","v":0},0,0,0,0,0,0,0,0,0,{"$f":"VLOOKUP($H498,$J$121:$BE$230,X$376,FALSE)*VLOOKUP($I498,$M$335:$BE$373,(X$376-3),FALSE)","v":0},0,0,0,3133.7735489476318,0,2362.4563215369622,0,0,0,{"$f":"VLOOKUP($H498,$J$121:$BE$230,AH$376,FALSE)*VLOOKUP($I498,$M$335:$BE$373,(AH$376-3),FALSE)","v":0},18.204187926426393,0,859.70402638172038,0,0,0,1386.8558083112678,143.80071929539079,184.62583676222064,{"$f":"VLOOKUP($H498,$J$121:$BE$230,AR$376,FALSE)*VLOOKUP($I498,$M$335:$BE$373,(AR$376-3),FALSE)","v":0},0,0,0,0,0,0,0,0,0,0,0,0,0]
[2,"d",4,null,"Energy used in field operations CO2","Russian Federation","Cyprinid","2d","24",null,null,null,2457.863714667923,0,1257.7257317174519,0,0,0,0,0,0,0,0,0,0,0,0,0,0,0,761.86488626824053,0,0,0,438.27309668223057,0,0,0,0,0,0,0,0,0,0,0,0,0,0,0,0,0,0,0,0,0,0]
[2,"d",8,null,"Energy used in field operations CO2","Russian Federation","Salmonids","2d","28",null,null,null,9380.3433975839798,0,2105.8298539086068,0,0,0,0,0,0,0,0,0,0,0,0,0,0,636.41574960547746,6026.4675064681924,0,0,0,437.47803535759016,0,174.15225224411336,0,0,0,0,0,0,0,0,0,0,0,0,0,0,0,0,0,0,0,0]
[3,"d",8,null,"Energy used in field operations CO2","Western Europe","Salmonids","3d","38",null,null,null,186563.67095954507,0,42264.778719809292,0,0,0,0,0,0,0,0,0,0,0,0,0,0,13164.43905373634,124659.17797823795,0,0,0,4631.5408731621674,0,1843.7343345993536,0,0,0,0,0,0,0,0,0,0,0,0,0,0,0,0,0,0,0,0]
[3,"d",2,null,"Energy used in field operations CO2","Western Europe","Bivalves","3d","32",null,null,null,0,0,0,0,0,0,0,0,0,0,0,0,0,0,0,0,0,0,0,0,0,0,0,0,0,0,0,0,0,0,0,0,0,0,0,0,0,0,0,0,0,0,0,0,0]
[4,"d",4,null,"Energy used in field operations CO2","Eastern Europe","Cyprinid","4d","44",null,null,null,2148.3012822770643,0,1280.3032200543144,0,0,0,0,0,0,0,0,0,0,0,0,0,0,0,562.46016480832463,0,0,0,305.5378974144254,0,0,0,0,0,0,0,0,0,0,0,0,0,0,0,0,0,0,0,0,0,0]
[4,"d",8,null,"Energy used in field operations CO2","Eastern Europe","Salmonids","4d","48",null,null,null,2937.7699495529914,0,840.8978987355373,0,0,0,0,0,0,0,0,0,0,0,0,0,0,184.30954549422293,1745.2985532514169,0,0,0,119.63813209030401,0,47.625819981509835,0,0,0,0,0,0,0,0,0,0,0,0,0,0,0,0,0,0,0,0]
[5,"d",10,null,"Energy used in field operations CO2","West Asia & Northern Africa","Tilapia","5d","510",null,null,null,75929.194599893992,0,35051.009749746547,0,0,5744.4072580353104,0,0,0,0,0,0,0,0,0,0,0,1491.2049412306385,0,0,0,0,0,0,0,13519.777109435974,0,0,0,0,0,20122.795541445517,0,0,0,0,0,0,0,0,0,0,0,0,0]
[5,"d",4,null,"Energy used in field operations CO2","West Asia & Northern Africa","Cyprinid","5d","54",null,null,null,22364.807293989477,0,10324.211690162223,0,0,1692.0047950085011,0,0,0,0,0,0,0,0,0,0,0,439.23172532261663,0,0,0,0,0,0,0,3982.2259580591922,0,0,0,0,0,5927.1331254369443,0,0,0,0,0,0,0,0,0,0,0,0,0]
[5,"d",7,null,"Energy used in field operations CO2","West Asia & Northern Africa","Marine Fish - general",{"$f":"CONCATENATE(A507,B507)","v":"5d"},{"$f":"CONCATENATE(A507,C507)","v":"57"},null,null,null,{"$f":"SUM(N507:BE507)","v":17148.24995299102},0,9621.9597269110764,1061.0216606225238,0,0,0,0,0,0,0,157.61522300033721,0,0,0,0,0,528.21262004661537,0,0,893.94517871473113,4885.4955436957371,0,0,0,0,0,0,0,0,0,0,0,0,0,0,0,0,0,0,0,0,0,0,0]
[5,"d",8,null,"Energy used in field operations CO2","West Asia & Northern Africa","Salmonids","5d","58",null,null,null,10715.940085674412,{"$f":"VLOOKUP($H508,$J$121:$BE$230,N$376,FALSE)*VLOOKUP($I508,$M$335:$BE$373,(N$376-3),FALSE)","v":0},3314.7484227257214,0,0,0,0,0,0,0,0,{"$f":"VLOOKUP($H508,$J$121:$BE$230,X$376,FALSE)*VLOOKUP($I508,$M$335:$BE$373,(X$376-3),FALSE)","v":0},0,0,0,0,0,559.64701095731903,5299.5145527386931,1102.9609094875902,0,{"$f":"VLOOKUP($H508,$J$121:$BE$230,AH$376,FALSE)*VLOOKUP($I508,$M$335:$BE$373,(AH$376-3),FALSE)","v":439.06918976508786},0,0,0,0,0,0,0,0,0,{"$f":"VLOOKUP($H508,$J$121:$BE$230,AR$376,FALSE)*VLOOKUP($I508,$M$335:$BE$373,(AR$376-3),FALSE)","v":0},0,0,0,0,0,0,0,0,0,0,0,0,0]
[6,"d",1,null,"Energy used in field operations CO2","East Asia","Alga","6d","61",null,null,null,0,0,0,0,0,0,0,0,0,0,0,0,0,0,0,0,0,0,0,0,0,0,0,0,0,0,0,0,0,0,0,0,0,0,0,0,0,0,0,0,0,0,0,0,0]
[6,"d",4,null,"Energy used in field operations CO2","East Asia","Cyprinid","6d","64",null,null,null,1954660.1100098663,0,375459.81734318216,0,0,135110.61807190318,0,0,0,0,0,0,0,1444089.6745947809,0,0,0,0,0,0,0,0,0,0,0,0,0,0,0,0,0,0,0,0,0,0,0,0,0,0,0,0,0,0,0]
[6,"d",2,null,"Energy used in field operations CO2","East Asia","Bivalves","6d","62",null,null,null,0,0,0,0,0,0,0,0,0,0,0,0,0,0,0,0,0,0,0,0,0,0,0,0,0,0,0,0,0,0,0,0,0,0,0,0,0,0,0,0,0,0,0,0,0]
[6,"d",9,null,"Energy used in field operations CO2","East Asia","Shrimp","6d","69",null,null,null,259756.79073828179,0,185441.24106748245,0,0,0,0,56100.367487309413,0,3842.9408641775185,0,0,0,0,0,0,0,0,0,0,0,0,0,0,0,0,0,0,0,0,0,14372.241319312423,0,0,0,0,0,0,0,0,0,0,0,0,0]
[6,"d",5,null,"Energy used in field operations CO2","East Asia","FW Fish - general","6d","65",null,null,null,192827.26514836532,0,62464.103389294811,0,0,41046.674840986976,0,3286.4122956568463,8754.7868531842232,0,9499.164855449706,0,0,0,0,0,0,0,0,0,0,0,0,0,0,0,0,0,0,0,0,67776.122913792758,0,0,0,0,0,0,0,0,0,0,0,0,0]
[6,"d",10,null,"Energy used in field operations CO2","East Asia","Tilapia","6d","610",null,null,null,404406.32357341907,0,131002.62759801322,0,0,86084.998688256397,0,6892.4169681630337,18360.946841417917,0,19922.091065568435,0,0,0,0,0,0,0,0,0,0,0,0,0,0,0,0,0,0,0,0,142143.24241200002,0,0,0,0,0,0,0,0,0,0,0,0,0]
[6,"d",3,null,"Energy used in field operations CO2","East Asia","Catfish","6d","63",null,null,null,295352.56111047167,0,123995.06231882634,0,0,42835.282990483225,0,9752.9752060024384,0,5755.8542199358653,0,0,0,0,0,0,0,0,0,0,0,0,0,0,0,0,0,0,0,0,0,113013.3863752238,0,0,0,0,0,0,0,0,0,0,0,0,0]
[6,"d",7,null,"Energy used in field operations CO2","East Asia","Marine Fish - general","6d","67",null,null,null,45967.829920034237,0,39581.512576677989,0,0,0,0,6386.3173433562506,0,0,0,0,0,0,0,0,0,0,0,0,0,0,0,0,0,0,0,0,0,0,0,0,0,0,0,0,0,0,0,0,0,0,0,0,0]
[7,"d",2,null,"Energy used in field operations CO2","NZ+Australia","Bivalves","7d","72",null,null,null,0,0,0,0,0,0,0,0,0,0,0,0,0,0,0,0,0,0,0,0,0,0,0,0,0,0,0,0,0,0,0,0,0,0,0,0,0,0,0,0,0,0,0,0,0]
[7,"d",8,null,"Energy used in field operations CO2","NZ+Australia","Salmonids","7d","78",null,null,null,2988.9581877622704,{"$f":"VLOOKUP($H518,$J$121:$BE$230,N$376,FALSE)*VLOOKUP($I518,$M$335:$BE$373,(N$376-3),FALSE)","v":0},153.91229810510356,0,0,0,0,0,0,0,0,{"$f":"VLOOKUP($H518,$J$121:$BE$230,X$376,FALSE)*VLOOKUP($I518,$M$335:$BE$373,(X$376-3),FALSE)","v":0},0,0,0,0,915.72776065924393,0,899.189438444041,0,0,{"$f":"VLOOKUP($H518,$J$121:$BE$230,AH$376,FALSE)*VLOOKUP($I518,$M$335:$BE$373,(AH$376-3),FALSE)","v":0},836.94309508546417,0,183.18559546841794,0,0,0,0,0,0,{"$f":"VLOOKUP($H518,$J$121:$BE$230,AR$376,FALSE)*VLOOKUP($I518,$M$335:$BE$373,(AR$376-3),FALSE)","v":0},0,0,0,0,0,0,0,0,0,0,0,0,0]
[7,"d",7,null,"Energy used in field operations CO2","NZ+Australia","Marine Fish - general","7d","77",null,null,null,321.63084141662216,0,0,0,0,0,0,0,0,0,0,0,0,0,0,0,128.60464684077925,96.664456407249034,0,0,0,0,96.361738168593902,0,0,0,0,0,0,0,0,0,0,0,0,0,0,0,0,0,0,0,0,0,0]
[8,"d",6,null,"Energy used in field operations CO2","South Asia","Indian Carp","8d","86",null,null,null,423660.50594718626,0,0,0,0,0,0,0,0,0,0,0,0,0,37721.659744769429,0,0,55734.380047549348,0,0,0,0,0,0,0,10849.134585998416,219.33390806266485,743.45154446740378,0,0,0,318392.54611633904,0,0,0,0,0,0,0,0,0,0,0,0,0]
[8,"d",4,null,"Energy used in field operations CO2","South Asia","Cyprinid","8d","84",null,null,null,52614.84311043263,0,0,0,0,0,0,0,0,0,0,0,0,0,4684.6925344124047,0,0,6921.7111835876367,0,0,0,0,0,0,0,1347.3654166797282,27.239308360156123,92.330027990000005,0,0,0,39541.504639402709,0,0,0,0,0,0,0,0,0,0,0,0,0]
[8,"d",9,null,"Energy used in field operations CO2","South Asia","Shrimp","8d","89",null,null,null,52798.972272729741,0,39541.564153735402,0,0,0,0,10842.543940769672,0,742.7269561300069,0,0,0,0,0,0,0,0,0,0,0,0,0,0,0,0,0,0,0,0,0,1672.13722209466,0,0,0,0,0,0,0,0,0,0,0,0,0]
[8,"d",5,null,"Energy used in field operations CO2","South Asia","FW Fish - general","8d","85",null,null,null,12259.141468842896,0,0,0,0,0,0,0,0,0,0,0,0,0,0,1000.4640569752286,0,2899.2759973000748,0,67.946608717689315,181.00531010859862,0,0,0,0,107.4984441759305,0,0,0,0,0,8002.9510515653728,0,0,0,0,0,0,0,0,0,0,0,0,0]
[8,"d",3,null,"Energy used in field operations CO2","South Asia","Catfish","8d","83",null,null,null,17585.925908109588,0,0,0,0,0,0,0,0,0,0,0,0,0,0,1877.2978355671544,0,2860.0328904094076,0,0,0,234.35385151672523,0,0,0,0,0,0,0,0,0,12614.241330616298,0,0,0,0,0,0,0,0,0,0,0,0,0]
[9,"d",8,null,"Energy used in field operations CO2","Latin America and the Caribbean","Salmonids","9d","98",null,null,null,57409.281482897575,0,21028.745191676975,27428.798076100396,0,0,0,7345.7962641220156,0,177.89745050966135,0,1428.0445004885289,0,0,0,0,0,0,0,0,0,0,0,0,0,0,0,0,0,0,0,0,0,0,0,0,0,0,0,0,0,0,0,0,0]
[9,"d",9,null,"Energy used in field operations CO2","Latin America and the Caribbean","Shrimp","9d","99",null,null,null,55038.927076687847,0,0,0,0,0,0,7377.1349065149871,0,1257.7410332418997,11890.586488512374,1442.3318927474782,0,0,0,33071.132755671104,0,0,0,0,0,0,0,0,0,0,0,0,0,0,0,0,0,0,0,0,0,0,0,0,0,0,0,0,0]
[9,"d",10,null,"Energy used in field operations CO2","Latin America and the Caribbean","Tilapia","9d","910",null,null,null,26314.632053805319,0,0,0,0,0,0,0,0,0,0,0,0,0,0,14010.075348397784,0,0,0,5049.1866383457991,0,1614.08425324169,0,0,0,4487.9899917613393,0,1153.2958220587045,0,0,0,0,0,0,0,0,0,0,0,0,0,0,0,0,0]
[9,"d",2,null,"Energy used in field operations CO2","Latin America and the Caribbean","Bivalves","9d","92",null,null,null,0,{"$f":"VLOOKUP($H528,$J$121:$BE$230,N$376,FALSE)*VLOOKUP($I528,$M$335:$BE$373,(N$376-3),FALSE)","v":0},0,0,0,0,0,0,0,0,0,{"$f":"VLOOKUP($H528,$J$121:$BE$230,X$376,FALSE)*VLOOKUP($I528,$M$335:$BE$373,(X$376-3),FALSE)","v":0},0,0,0,0,0,0,0,0,0,{"$f":"VLOOKUP($H528,$J$121:$BE$230,AH$376,FALSE)*VLOOKUP($I528,$M$335:$BE$373,(AH$376-3),FALSE)","v":0},0,0,0,0,0,0,0,0,0,{"$f":"VLOOKUP($H528,$J$121:$BE$230,AR$376,FALSE)*VLOOKUP($I528,$M$335:$BE$373,(AR$376-3),FALSE)","v":0},0,0,0,0,0,0,0,0,0,0,0,0,0]
[9,"d",5,null,"Energy used in field operations CO2","Latin America and the Caribbean","FW Fish - general","9d","95",null,null,null,6949.899303872422,0,0,0,0,0,0,0,0,0,0,0,0,0,0,3700.1700313324209,0,0,0,1333.5295219484897,0,426.29222422943519,0,0,0,1185.3131161306906,0,304.59441023138629,0,0,0,0,0,0,0,0,0,0,0,0,0,0,0,0,0]
[10,"d",3,null,"Energy used in field operations CO2","Sub-Saharan Africa","Catfish","10d","103",null,null,null,10805.745983252573,0,10127.881091973324,0,0,0,0,0,0,0,0,0,0,0,0,0,0,0,0,0,0,0,0,0,0,596.15961221937152,0,81.705279059876688,0,0,0,0,0,0,0,0,0,0,0,0,0,0,0,0,0]
[10,"d",10,null,"Energy used in field operations CO2","Sub-Saharan Africa","Tilapia","10d","1010",null,null,null,23902.831453862877,22654.496262905668,0,0,0,0,0,0,0,0,0,0,0,0,0,0,0,0,0,0,0,0,0,0,0,1111.2636809607645,0,137.07150999644526,0,0,0,0,0,0,0,0,0,0,0,0,0,0,0,0,0]
[10,"d",5,null,"Energy used in field operations CO2","Sub-Saharan Africa","FW Fish - general","10d","105",null,null,null,2932.0489544738084,2778.9214934638517,0,0,0,0,0,0,0,0,0,0,0,0,0,0,0,0,0,0,0,0,0,0,0,136.31353759050845,0,16.81392341944801,0,0,0,0,0,0,0,0,0,0,0,0,0,0,0,0,0]
[10,"d",4,null,"Energy used in field operations CO2","Sub-Saharan Africa","Cyprinid","10d","104",null,null,null,2255.7604349002122,0,1674.3315623553306,0,0,104.97007743034168,0,0,0,0,0,0,0,0,0,0,0,29.39470672074054,0,0,0,0,0,0,0,126.71554342882821,0,0,0,0,0,320.34854496497127,0,0,0,0,0,0,0,0,0,0,0,0,0]
[1,"e",2,null,"Processing and transport CO2","North America","Bivalves","1e","12",null,null,null,0,0,0,0,0,0,0,0,0,0,0,0,0,0,0,0,0,0,0,0,0,0,0,0,0,0,0,0,0,0,0,0,0,0,0,0,0,0,0,0,0,0,0,0,0]
[1,"e",8,null,"Processing and transport CO2","North America","Salmonids","1e","18",null,null,null,34547.492356495066,0,0,24064.563733029485,0,0,0,0,0,0,0,0,0,0,0,6881.399350274577,0,0,0,0,0,0,0,0,349.88278795365608,0,0,0,0,3251.6464852373524,0,0,0,0,0,0,0,0,0,0,0,0,0,0,0]
[1,"e",3,null,"Processing and transport CO2","North America","Catfish","1e","13",null,null,null,66457.728200052559,0,0,0,0,0,0,0,0,0,0,0,0,0,0,15664.883052124933,0,524.77937724943081,0,0,0,0,0,0,24425.279714968696,0,0,0,0,10539.15063760359,15303.635418105911,0,0,0,0,0,0,0,0,0,0,0,0,0,0]
[1,"e",9,null,"Processing and transport CO2","North America","Shrimp","1e","19",null,null,null,22277.191768081208,0,0,0,0,0,0,0,0,0,0,0,0,0,0,5293.7507540143606,0,171.74514619520116,0,0,0,0,0,0,7993.6891908618345,0,0,0,0,3628.7560480845859,5189.2506289252224,0,0,0,0,0,0,0,0,0,0,0,0,0,0]
[2,"e",4,null,"Processing and transport CO2","Russian Federation","Cyprinid","2e","24",null,null,null,2928.3819203036164,{"$f":"VLOOKUP($H538,$J$121:$BE$230,N$376,FALSE)*VLOOKUP($I538,$M$335:$BE$373,(N$376-3),FALSE)","v":0},2887.7943813349129,0,0,0,0,0,0,0,0,{"$f":"VLOOKUP($H538,$J$121:$BE$230,X$376,FALSE)*VLOOKUP($I538,$M$335:$BE$373,(X$376-3),FALSE)","v":0},0,0,0,0,0,0,40.587538968703626,0,0,{"$f":"VLOOKUP($H538,$J$121:$BE$230,AH$376,FALSE)*VLOOKUP($I538,$M$335:$BE$373,(AH$376-3),FALSE)","v":0},0,0,0,0,0,0,0,0,0,{"$f":"VLOOKUP($H538,$J$121:$BE$230,AR$376,FALSE)*VLOOKUP($I538,$M$335:$BE$373,(AR$376-3),FALSE)","v":0},0,0,0,0,0,0,0,0,0,0,0,0,0]
[2,"e",8,null,"Processing and transport CO2","Russian Federation","Salmonids","2e","28",null,null,null,6419.5947365266948,0,4835.079275877245,0,0,0,0,0,0,0,0,0,0,0,0,0,0,33.90437005691652,321.05362666141349,0,0,0,0,0,1229.5574639311203,0,0,0,0,0,0,0,0,0,0,0,0,0,0,0,0,0,0,0,0]
[3,"e",8,null,"Processing and transport CO2","Western Europe","Salmonids","3e","38",null,null,null,184473.87733215059,0,138860.91723161362,0,0,0,0,0,0,0,0,0,0,0,0,0,0,975.99469178174627,9242.0721834026572,0,0,0,0,0,35394.893225352527,0,0,0,0,0,0,0,0,0,0,0,0,0,0,0,0,0,0,0,0]
[3,"e",2,null,"Processing and transport CO2","Western Europe","Bivalves","3e","32",null,null,null,0,0,0,0,0,0,0,0,0,0,0,0,0,0,0,0,0,0,0,0,0,0,0,0,0,0,0,0,0,0,0,0,0,0,0,0,0,0,0,0,0,0,0,0,0]
[4,"e",4,null,"Processing and transport CO2","Eastern Europe","Cyprinid","4e","44",null,null,null,1824.8271534355588,0,1782.99195916185,0,0,0,0,0,0,0,0,0,0,0,0,0,0,0,41.83519427370878,0,0,0,0,0,0,0,0,0,0,0,0,0,0,0,0,0,0,0,0,0,0,0,0,0,0]
[4,"e",8,null,"Processing and transport CO2","Eastern Europe","Salmonids","4e","48",null,null,null,1811.7380858223248,0,1171.0617988275878,0,0,0,0,0,0,0,0,0,0,0,0,0,0,13.708749747419734,129.81346699597461,0,0,0,0,0,497.15407025134272,0,0,0,0,0,0,0,0,0,0,0,0,0,0,0,0,0,0,0,0]
[5,"e",10,null,"Processing and transport CO2","West Asia & Northern Africa","Tilapia","5e","510",null,null,null,132108.18049830332,0,105714.12386442257,0,0,514.17639641141568,0,0,0,0,0,0,0,0,0,0,0,194.71100988672825,0,0,0,0,0,0,0,0,0,0,0,0,0,25685.169227582606,0,0,0,0,0,0,0,0,0,0,0,0,0]
[5,"e",4,null,"Processing and transport CO2","West Asia & Northern Africa","Cyprinid","5e","54",null,null,null,38912.226244110025,0,31137.904477180451,0,0,151.44972999457195,0,0,0,0,0,0,0,0,0,0,0,57.351776705673593,0,0,0,0,0,0,0,0,0,0,0,0,0,7565.5202602293311,0,0,0,0,0,0,0,0,0,0,0,0,0]
[5,"e",7,null,"Processing and transport CO2","West Asia & Northern Africa","Marine Fish - general","5e","57",null,null,null,71827.333167650184,0,29019.906977045594,5375.8783795556474,0,0,0,0,0,0,0,2479.6146930738328,0,0,0,0,0,68.970273528810651,0,0,5395.5837514104642,29487.379093035841,0,0,0,0,0,0,0,0,0,0,0,0,0,0,0,0,0,0,0,0,0,0,0]
[5,"e",8,null,"Processing and transport CO2","West Asia & Northern Africa","Salmonids","5e","58",null,null,null,13412.444851518745,0,9997.3075766229558,0,0,0,0,0,0,0,0,0,0,0,0,0,0,73.074754294778444,691.97318352606521,0,0,2650.0893370749459,0,0,0,0,0,0,0,0,0,0,0,0,0,0,0,0,0,0,0,0,0,0,0]
[6,"e",1,null,"Processing and transport CO2","East Asia","Alga","6e","61",null,null,null,0,{"$f":"VLOOKUP($H548,$J$121:$BE$230,N$376,FALSE)*VLOOKUP($I548,$M$335:$BE$373,(N$376-3),FALSE)","v":0},0,0,0,0,0,0,0,0,0,{"$f":"VLOOKUP($H548,$J$121:$BE$230,X$376,FALSE)*VLOOKUP($I548,$M$335:$BE$373,(X$376-3),FALSE)","v":0},0,0,0,0,0,0,0,0,0,{"$f":"VLOOKUP($H548,$J$121:$BE$230,AH$376,FALSE)*VLOOKUP($I548,$M$335:$BE$373,(AH$376-3),FALSE)","v":0},0,0,0,0,0,0,0,0,0,{"$f":"VLOOKUP($H548,$J$121:$BE$230,AR$376,FALSE)*VLOOKUP($I548,$M$335:$BE$373,(AR$376-3),FALSE)","v":0},0,0,0,0,0,0,0,0,0,0,0,0,0]
[6,"e",4,null,"Processing and transport CO2","East Asia","Cyprinid","6e","64",null,null,null,1777283.0742959119,0,1108593.5932632468,0,0,36169.92940595885,0,0,0,0,0,0,0,632519.55162670615,0,0,0,0,0,0,0,0,0,0,0,0,0,0,0,0,0,0,0,0,0,0,0,0,0,0,0,0,0,0,0]
[6,"e",2,null,"Processing and transport CO2","East Asia","Bivalves","6e","62",null,null,null,0,0,0,0,0,0,0,0,0,0,0,0,0,0,0,0,0,0,0,0,0,0,0,0,0,0,0,0,0,0,0,0,0,0,0,0,0,0,0,0,0,0,0,0,0]
[6,"e",9,null,"Processing and transport CO2","East Asia","Shrimp","6e","69",null,null,null,643419.15308572957,0,547539.20999831171,0,0,0,0,22500.217507230125,0,58892.669578224544,0,0,0,0,0,0,0,0,0,0,0,0,0,0,0,0,0,0,0,0,0,14487.056001963258,0,0,0,0,0,0,0,0,0,0,0,0,0]
[6,"e",5,null,"Processing and transport CO2","East Asia","FW Fish - general","6e","65",null,null,null,400541.70331494784,0,184433.33115194872,0,0,10988.44304418578,0,1318.0839053762309,134166.19916755133,0,1318.0839876504629,0,0,0,0,0,0,0,0,0,0,0,0,0,0,0,0,0,0,0,0,68317.562058235359,0,0,0,0,0,0,0,0,0,0,0,0,0]
[6,"e",10,null,"Processing and transport CO2","East Asia","Tilapia","6e","610",null,null,null,840034.71993859997,0,386802.17415400507,0,0,23045.47466291103,0,2764.3469709761357,281379.60319782351,0,2764.3471435254878,0,0,0,0,0,0,0,0,0,0,0,0,0,0,0,0,0,0,0,0,143278.77380935868,0,0,0,0,0,0,0,0,0,0,0,0,0]
[6,"e",3,null,"Processing and transport CO2","East Asia","Catfish","6e","63",null,null,null,583614.40817240893,0,366111.43279091571,0,0,11467.264260648377,0,3911.6332620694207,0,88207.868061394605,0,0,0,0,0,0,0,0,0,0,0,0,0,0,0,0,0,0,0,0,0,113916.20979738077,0,0,0,0,0,0,0,0,0,0,0,0,0]
[6,"e",7,null,"Processing and transport CO2","East Asia","Marine Fish - general","6e","67",null,null,null,119430.89218886991,0,116869.52698340638,0,0,0,0,2561.3652054635281,0,0,0,0,0,0,0,0,0,0,0,0,0,0,0,0,0,0,0,0,0,0,0,0,0,0,0,0,0,0,0,0,0,0,0,0,0]
[7,"e",2,null,"Processing and transport CO2","NZ+Australia","Bivalves","7e","72",null,null,null,0,0,0,0,0,0,0,0,0,0,0,0,0,0,0,0,0,0,0,0,0,0,0,0,0,0,0,0,0,0,0,0,0,0,0,0,0,0,0,0,0,0,0,0,0]
[7,"e",8,null,"Processing and transport CO2","NZ+Australia","Salmonids","7e","78",null,null,null,1286.8614953268245,0,300.07223788590915,0,0,0,0,0,0,0,0,0,0,0,0,0,0,0,48.745404915525363,0,0,0,0,0,938.04385252538998,0,0,0,0,0,0,0,0,0,0,0,0,0,0,0,0,0,0,0,0]
[7,"e",7,null,"Processing and transport CO2","NZ+Australia","Marine Fish - general","7e","77",null,null,null,5.2402173191269545,{"$f":"VLOOKUP($H558,$J$121:$BE$230,N$376,FALSE)*VLOOKUP($I558,$M$335:$BE$373,(N$376-3),FALSE)","v":0},0,0,0,0,0,0,0,0,0,{"$f":"VLOOKUP($H558,$J$121:$BE$230,X$376,FALSE)*VLOOKUP($I558,$M$335:$BE$373,(X$376-3),FALSE)","v":0},0,0,0,0,0,5.2402173191269545,0,0,0,{"$f":"VLOOKUP($H558,$J$121:$BE$230,AH$376,FALSE)*VLOOKUP($I558,$M$335:$BE$373,(AH$376-3),FALSE)","v":0},0,0,0,0,0,0,0,0,0,{"$f":"VLOOKUP($H558,$J$121:$BE$230,AR$376,FALSE)*VLOOKUP($I558,$M$335:$BE$373,(AR$376-3),FALSE)","v":0},0,0,0,0,0,0,0,0,0,0,0,0,0]
[8,"e",6,null,"Processing and transport CO2","South Asia","Indian Carp","8e","86",null,null,null,467014.14639164053,0,0,0,0,0,0,0,0,0,0,0,0,0,0,0,0,9033.2070136611383,0,0,0,0,0,0,0,0,31631.160141661028,119420.11023398837,0,0,0,306929.66900232999,0,0,0,0,0,0,0,0,0,0,0,0,0]
[8,"e",4,null,"Processing and transport CO2","South Asia","Cyprinid","8e","84",null,null,null,57998.977241961577,0,0,0,0,0,0,0,0,0,0,0,0,0,0,0,0,1121.8434646043904,0,0,0,0,0,0,0,0,3928.3069931987793,14830.908890466988,0,0,0,38117.917893691418,0,0,0,0,0,0,0,0,0,0,0,0,0]
[8,"e",9,null,"Processing and transport CO2","South Asia","Shrimp","8e","89",null,null,null,48157.905900783124,0,37489.598640851982,0,0,0,0,2503.539476836942,0,6552.8314159769261,0,0,0,0,0,0,0,0,0,0,0,0,0,0,0,0,0,0,0,0,0,1611.9363671172705,0,0,0,0,0,0,0,0,0,0,0,0,0]
[8,"e",5,null,"Processing and transport CO2","South Asia","FW Fish - general","8e","85",null,null,null,32611.865231843789,0,0,0,0,0,0,0,0,0,0,0,0,0,0,9672.8052550040447,0,469.90314149016882,0,0,14754.330758983853,0,0,0,0,0,0,0,0,0,0,7714.8260763657245,0,0,0,0,0,0,0,0,0,0,0,0,0]
[8,"e",3,null,"Processing and transport CO2","South Asia","Catfish","8e","83",null,null,null,49876.899126060256,0,0,0,0,0,0,0,0,0,0,0,0,0,0,18150.313589457917,0,463.54277454789377,0,0,0,19102.943653117145,0,0,0,0,0,0,0,0,0,12160.099108937296,0,0,0,0,0,0,0,0,0,0,0,0,0]
[9,"e",8,null,"Processing and transport CO2","Latin America and the Caribbean","Salmonids","9e","98",null,null,null,184530.04488536934,0,44257.261399544128,120258.74122930503,0,0,0,1928.0441890578472,0,1784.1213249150358,0,16301.876742547307,0,0,0,0,0,0,0,0,0,0,0,0,0,0,0,0,0,0,0,0,0,0,0,0,0,0,0,0,0,0,0,0,0]
[9,"e",9,null,"Processing and transport CO2","Latin America and the Caribbean","Shrimp","9e","99",null,null,null,87743.685660575095,0,0,0,0,0,0,1936.2696128493892,0,12613.79852380559,1290.8465697144281,16464.974816520589,0,0,0,55437.796137685102,0,0,0,0,0,0,0,0,0,0,0,0,0,0,0,0,0,0,0,0,0,0,0,0,0,0,0,0,0]
[9,"e",10,null,"Processing and transport CO2","Latin America and the Caribbean","Tilapia","9e","910",null,null,null,60613.435731997364,0,0,0,0,0,0,0,0,0,0,0,0,0,0,23485.367337618514,0,0,0,0,0,16478.673925276373,0,0,0,0,0,20649.394469102484,0,0,0,0,0,0,0,0,0,0,0,0,0,0,0,0,0]
[9,"e",2,null,"Processing and transport CO2","Latin America and the Caribbean","Bivalves","9e","92",null,null,null,0,0,0,0,0,0,0,0,0,0,0,0,0,0,0,0,0,0,0,0,0,0,0,0,0,0,0,0,0,0,0,0,0,0,0,0,0,0,0,0,0,0,0,0,0]
[9,"e",5,null,"Processing and transport CO2","Latin America and the Caribbean","FW Fish - general","9e","95",null,null,null,16008.480526643236,{"$f":"VLOOKUP($H568,$J$121:$BE$230,N$376,FALSE)*VLOOKUP($I568,$M$335:$BE$373,(N$376-3),FALSE)","v":0},0,0,0,0,0,0,0,0,0,{"$f":"VLOOKUP($H568,$J$121:$BE$230,X$376,FALSE)*VLOOKUP($I568,$M$335:$BE$373,(X$376-3),FALSE)","v":0},0,0,0,6202.6684537015944,0,0,0,0,0,{"$f":"VLOOKUP($H568,$J$121:$BE$230,AH$376,FALSE)*VLOOKUP($I568,$M$335:$BE$373,(AH$376-3),FALSE)","v":4352.1461446943395},0,0,0,0,0,5453.6659282473029,0,0,0,{"$f":"VLOOKUP($H568,$J$121:$BE$230,AR$376,FALSE)*VLOOKUP($I568,$M$335:$BE$373,(AR$376-3),FALSE)","v":0},0,0,0,0,0,0,0,0,0,0,0,0,0]
[10,"e",3,null,"Processing and transport CO2","Sub-Saharan Africa","Catfish","10e","103",null,null,null,18114.782508351695,0,10951.034017969918,0,0,0,0,0,0,0,0,0,0,0,0,0,0,0,0,0,0,0,0,0,0,0,0,7163.7484903817776,0,0,0,0,0,0,0,0,0,0,0,0,0,0,0,0,0]
[10,"e",10,null,"Processing and transport CO2","Sub-Saharan Africa","Tilapia","10e","1010",null,null,null,17529.589819914734,5511.445654569201,0,0,0,0,0,0,0,0,0,0,0,0,0,0,0,0,0,0,0,0,0,0,0,0,0,12018.144165345533,0,0,0,0,0,0,0,0,0,0,0,0,0,0,0,0,0]
[10,"e",5,null,"Processing and transport CO2","Sub-Saharan Africa","FW Fish - general",{"$f":"CONCATENATE(A571,B571)","v":"10e"},{"$f":"CONCATENATE(A571,C571)","v":"105"},null,null,null,{"$f":"SUM(N571:BE571)","v":2150.27310061752},676.06335677471759,0,0,0,0,0,0,0,0,0,0,0,0,0,0,0,0,0,0,0,0,0,0,0,0,0,1474.2097438428023,0,0,0,0,0,0,0,0,0,0,0,0,0,0,0,0,0]
[10,"e",4,null,"Processing and transport CO2","Sub-Saharan Africa","Cyprinid","10e","104",null,null,null,2469.2942530087648,0,1810.4144124722748,0,0,14.081209904845743,0,0,0,0,0,0,0,0,0,0,0,5.3323471307631634,0,0,0,0,0,0,0,0,0,0,0,0,0,639.46628350088122,0,0,0,0,0,0,0,0,0,0,0,0,0]
[1,"f",2,null,"Blending and transport CO2","North America","Bivalves","1f","12",null,null,null,0,0,0,0,0,0,0,0,0,0,0,0,0,0,0,0,0,0,0,0,0,0,0,0,0,0,0,0,0,0,0,0,0,0,0,0,0,0,0,0,0,0,0,0,0]
[1,"f",8,null,"Blending and transport CO2","North America","Salmonids","1f","18",null,null,null,0,0,0,0,0,0,0,0,0,0,0,0,0,0,0,0,0,0,0,0,0,0,0,0,0,0,0,0,0,0,0,0,0,0,0,0,0,0,0,0,0,0,0,0,0]
[1,"f",3,null,"Blending and transport CO2","North America","Catfish","1f","13",null,null,null,0,0,0,0,0,0,0,0,0,0,0,0,0,0,0,0,0,0,0,0,0,0,0,0,0,0,0,0,0,0,0,0,0,0,0,0,0,0,0,0,0,0,0,0,0]
[1,"f",9,null,"Blending and transport CO2","North America","Shrimp","1f","19",null,null,null,0,0,0,0,0,0,0,0,0,0,0,0,0,0,0,0,0,0,0,0,0,0,0,0,0,0,0,0,0,0,0,0,0,0,0,0,0,0,0,0,0,0,0,0,0]
[2,"f",4,null,"Blending and transport CO2","Russian Federation","Cyprinid","2f","24",null,null,null,0,0,0,0,0,0,0,0,0,0,0,0,0,0,0,0,0,0,0,0,0,0,0,0,0,0,0,0,0,0,0,0,0,0,0,0,0,0,0,0,0,0,0,0,0]
[2,"f",8,null,"Blending and transport CO2","Russian Federation","Salmonids","2f","28",null,null,null,0,{"$f":"VLOOKUP($H578,$J$121:$BE$230,N$376,FALSE)*VLOOKUP($I578,$M$335:$BE$373,(N$376-3),FALSE)","v":0},0,0,0,0,0,0,0,0,0,{"$f":"VLOOKUP($H578,$J$121:$BE$230,X$376,FALSE)*VLOOKUP($I578,$M$335:$BE$373,(X$376-3),FALSE)","v":0},0,0,0,0,0,0,0,0,0,{"$f":"VLOOKUP($H578,$J$121:$BE$230,AH$376,FALSE)*VLOOKUP($I578,$M$335:$BE$373,(AH$376-3),FALSE)","v":0},0,0,0,0,0,0,0,0,0,{"$f":"VLOOKUP($H578,$J$121:$BE$230,AR$376,FALSE)*VLOOKUP($I578,$M$335:$BE$373,(AR$376-3),FALSE)","v":0},0,0,0,0,0,0,0,0,0,0,0,0,0]
[3,"f",8,null,"Blending and transport CO2","Western Europe","Salmonids","3f","38",null,null,null,0,0,0,0,0,0,0,0,0,0,0,0,0,0,0,0,0,0,0,0,0,0,0,0,0,0,0,0,0,0,0,0,0,0,0,0,0,0,0,0,0,0,0,0,0]
[3,"f",2,null,"Blending and transport CO2","Western Europe","Bivalves","3f","32",null,null,null,0,0,0,0,0,0,0,0,0,0,0,0,0,0,0,0,0,0,0,0,0,0,0,0,0,0,0,0,0,0,0,0,0,0,0,0,0,0,0,0,0,0,0,0,0]
[4,"f",4,null,"Blending and transport CO2","Eastern Europe","Cyprinid","4f","44",null,null,null,{"$f":"SUM(N581:BE581)","v":0},{"$f":"VLOOKUP($H581,$J$121:$BE$230,N$376,FALSE)*VLOOKUP($I581,$M$335:$BE$373,(N$376-3),FALSE)","v":0},0,0,0,0,0,0,0,0,0,0,0,0,0,0,0,0,0,0,0,0,0,0,0,0,0,0,0,0,0,0,0,0,0,0,0,0,0,0,0,0,0,0,0]
[4,"f",8,null,"Blending and transport CO2","Eastern Europe","Salmonids","4f","48",null,null,null,0,0,0,0,0,0,0,0,0,0,0,0,0,0,0,0,0,0,0,0,0,0,0,0,0,0,0,0,0,0,0,0,0,0,0,0,0,0,0,0,0,0,0,0,0]
[5,"f",10,null,"Blending and transport CO2","West Asia & Northern Africa","Tilapia","5f","510",null,null,null,0,0,0,0,0,0,0,0,0,0,0,0,0,0,0,0,0,0,0,0,0,0,0,0,0,0,0,0,0,0,0,0,0,0,0,0,0,0,0,0,0,0,0,0,0]
[5,"f",4,null,"Blending and transport CO2","West Asia & Northern Africa","Cyprinid","5f","54",null,null,null,0,0,0,0,0,0,0,0,0,0,0,0,0,0,0,0,0,0,0,0,0,0,0,0,0,0,0,0,0,0,0,0,0,0,0,0,0,0,0,0,0,0,0,0,0]
[5,"f",7,null,"Blending and transport CO2","West Asia & Northern Africa","Marine Fish - general","5f","57",null,null,null,0,0,0,0,0,0,0,0,0,0,0,0,0,0,0,0,0,0,0,0,0,0,0,0,0,0,0,0,0,0,0,0,0,0,0,0,0,0,0,0,0,0,0,0,0]
[5,"f",8,null,"Blending and transport CO2","West Asia & Northern Africa","Salmonids","5f","58",null,null,null,0,0,0,0,0,0,0,0,0,0,0,0,0,0,0,0,0,0,0,0,0,0,0,0,0,0,0,0,0,0,0,0,0,0,0,0,0,0,0,0,0,0,0,0,0]
[6,"f",1,null,"Blending and transport CO2","East Asia","Alga","6f","61",null,null,null,0,0,0,0,0,0,0,0,0,0,0,0,0,0,0,0,0,0,0,0,0,0,0,0,0,0,0,0,0,0,0,0,0,0,0,0,0,0,0,0,0,0,0,0,0]
[6,"f",4,null,"Blending and transport CO2","East Asia","Cyprinid","6f","64",null,null,null,0,{"$f":"VLOOKUP($H588,$J$121:$BE$230,N$376,FALSE)*VLOOKUP($I588,$M$335:$BE$373,(N$376-3),FALSE)","v":0},0,0,0,0,0,0,0,0,0,{"$f":"VLOOKUP($H588,$J$121:$BE$230,X$376,FALSE)*VLOOKUP($I588,$M$335:$BE$373,(X$376-3),FALSE)","v":0},0,0,0,0,0,0,0,0,0,{"$f":"VLOOKUP($H588,$J$121:$BE$230,AH$376,FALSE)*VLOOKUP($I588,$M$335:$BE$373,(AH$376-3),FALSE)","v":0},0,0,0,0,0,0,0,0,0,{"$f":"VLOOKUP($H588,$J$121:$BE$230,AR$376,FALSE)*VLOOKUP($I588,$M$335:$BE$373,(AR$376-3),FALSE)","v":0},0,0,0,0,0,0,0,0,0,0,0,0,0]
[6,"f",2,null,"Blending and transport CO2","East Asia","Bivalves","6f","62",null,null,null,0,0,0,0,0,0,0,0,0,0,0,0,0,0,0,0,0,0,0,0,0,0,0,0,0,0,0,0,0,0,0,0,0,0,0,0,0,0,0,0,0,0,0,0,0]
[6,"f",9,null,"Blending and transport CO2","East Asia","Shrimp","6f","69",null,null,null,0,0,0,0,0,0,0,0,0,0,0,0,0,0,0,0,0,0,0,0,0,0,0,0,0,0,0,0,0,0,0,0,0,0,0,0,0,0,0,0,0,0,0,0,0]
[6,"f",5,null,"Blending and transport CO2","East Asia","FW Fish - general","6f","65",null,null,null,0,0,0,0,0,0,0,0,0,0,0,0,0,0,0,0,0,0,0,0,0,0,0,0,0,0,0,0,0,0,0,0,0,0,0,0,0,0,0,0,0,0,0,0,0]
[6,"f",10,null,"Blending and transport CO2","East Asia","Tilapia","6f","610",null,null,null,0,0,0,0,0,0,0,0,0,0,0,0,0,0,0,0,0,0,0,0,0,0,0,0,0,0,0,0,0,0,0,0,0,0,0,0,0,0,0,0,0,0,0,0,0]
[6,"f",3,null,"Blending and transport CO2","East Asia","Catfish","6f","63",null,null,null,0,0,0,0,0,0,0,0,0,0,0,0,0,0,0,0,0,0,0,0,0,0,0,0,0,0,0,0,0,0,0,0,0,0,0,0,0,0,0,0,0,0,0,0,0]
[6,"f",7,null,"Blending and transport CO2","East Asia","Marine Fish - general","6f","67",null,null,null,0,0,0,0,0,0,0,0,0,0,0,0,0,0,0,0,0,0,0,0,0,0,0,0,0,0,0,0,0,0,0,0,0,0,0,0,0,0,0,0,0,0,0,0,0]
[7,"f",2,null,"Blending and transport CO2","NZ+Australia","Bivalves","7f","72",null,null,null,0,0,0,0,0,0,0,0,0,0,0,0,0,0,0,0,0,0,0,0,0,0,0,0,0,0,0,0,0,0,0,0,0,0,0,0,0,0,0,0,0,0,0,0,0]
[7,"f",8,null,"Blending and transport CO2","NZ+Australia","Salmonids","7f","78",null,null,null,0,0,0,0,0,0,0,0,0,0,0,0,0,0,0,0,0,0,0,0,0,0,0,0,0,0,0,0,0,0,0,0,0,0,0,0,0,0,0,0,0,0,0,0,0]
[7,"f",7,null,"Blending and transport CO2","NZ+Australia","Marine Fish - general","7f","77",null,null,null,0,0,0,0,0,0,0,0,0,0,0,0,0,0,0,0,0,0,0,0,0,0,0,0,0,0,0,0,0,0,0,0,0,0,0,0,0,0,0,0,0,0,0,0,0]
[8,"f",6,null,"Blending and transport CO2","South Asia","Indian Carp","8f","86",null,null,null,0,{"$f":"VLOOKUP($H598,$J$121:$BE$230,N$376,FALSE)*VLOOKUP($I598,$M$335:$BE$373,(N$376-3),FALSE)","v":0},0,0,0,0,0,0,0,0,0,{"$f":"VLOOKUP($H598,$J$121:$BE$230,X$376,FALSE)*VLOOKUP($I598,$M$335:$BE$373,(X$376-3),FALSE)","v":0},0,0,0,0,0,0,0,0,0,{"$f":"VLOOKUP($H598,$J$121:$BE$230,AH$376,FALSE)*VLOOKUP($I598,$M$335:$BE$373,(AH$376-3),FALSE)","v":0},0,0,0,0,0,0,0,0,0,{"$f":"VLOOKUP($H598,$J$121:$BE$230,AR$376,FALSE)*VLOOKUP($I598,$M$335:$BE$373,(AR$376-3),FALSE)","v":0},0,0,0,0,0,0,0,0,0,0,0,0,0]
[8,"f",4,null,"Blending and transport CO2","South Asia","Cyprinid","8f","84",null,null,null,0,0,0,0,0,0,0,0,0,0,0,0,0,0,0,0,0,0,0,0,0,0,0,0,0,0,0,0,0,0,0,0,0,0,0,0,0,0,0,0,0,0,0,0,0]
[8,"f",9,null,"Blending and transport CO2","South Asia","Shrimp","8f","89",null,null,null,0,0,0,0,0,0,0,0,0,0,0,0,0,0,0,0,0,0,0,0,0,0,0,0,0,0,0,0,0,0,0,0,0,0,0,0,0,0,0,0,0,0,0,0,0]
[8,"f",5,null,"Blending and transport CO2","South Asia","FW Fish - general","8f","85",null,null,null,0,0,0,0,0,0,0,0,0,0,0,0,0,0,0,0,0,0,0,0,0,0,0,0,0,0,0,0,0,0,0,0,0,0,0,0,0,0,0,0,0,0,0,0,0]
[8,"f",3,null,"Blending and transport CO2","South Asia","Catfish","8f","83",null,null,null,0,0,0,0,0,0,0,0,0,0,0,0,0,0,0,0,0,0,0,0,0,0,0,0,0,0,0,0,0,0,0,0,0,0,0,0,0,0,0,0,0,0,0,0,0]
[9,"f",8,null,"Blending and transport CO2","Latin America and the Caribbean","Salmonids","9f","98",null,null,null,0,0,0,0,0,0,0,0,0,0,0,0,0,0,0,0,0,0,0,0,0,0,0,0,0,0,0,0,0,0,0,0,0,0,0,0,0,0,0,0,0,0,0,0,0]
[9,"f",9,null,"Blending and transport CO2","Latin America and the Caribbean","Shrimp","9f","99",null,null,null,0,0,0,0,0,0,0,0,0,0,0,0,0,0,0,0,0,0,0,0,0,0,0,0,0,0,0,0,0,0,0,0,0,0,0,0,0,0,0,0,0,0,0,0,0]
[9,"f",10,null,"Blending and transport CO2","Latin America and the Caribbean","Tilapia","9f","910",null,null,null,0,0,0,0,0,0,0,0,0,0,0,0,0,0,0,0,0,0,0,0,0,0,0,0,0,0,0,0,0,0,0,0,0,0,0,0,0,0,0,0,0,0,0,0,0]
[9,"f",2,null,"Blending and transport CO2","Latin America and the Caribbean","Bivalves","9f","92",null,null,null,0,0,0,0,0,0,0,0,0,0,0,0,0,0,0,0,0,0,0,0,0,0,0,0,0,0,0,0,0,0,0,0,0,0,0,0,0,0,0,0,0,0,0,0,0]
[9,"f",5,null,"Blending and transport CO2","Latin America and the Caribbean","FW Fish - general","9f","95",null,null,null,0,0,0,0,0,0,0,0,0,0,0,0,0,0,0,0,0,0,0,0,0,0,0,0,0,0,0,0,0,0,0,0,0,0,0,0,0,0,0,0,0,0,0,0,0]
[10,"f",3,null,"Blending and transport CO2","Sub-Saharan Africa","Catfish","10f","103",null,null,null,0,{"$f":"VLOOKUP($H608,$J$121:$BE$230,N$376,FALSE)*VLOOKUP($I608,$M$335:$BE$373,(N$376-3),FALSE)","v":0},0,0,0,0,0,0,0,0,0,{"$f":"VLOOKUP($H608,$J$121:$BE$230,X$376,FALSE)*VLOOKUP($I608,$M$335:$BE$373,(X$376-3),FALSE)","v":0},0,0,0,0,0,0,0,0,0,{"$f":"VLOOKUP($H608,$J$121:$BE$230,AH$376,FALSE)*VLOOKUP($I608,$M$335:$BE$373,(AH$376-3),FALSE)","v":0},0,0,0,0,0,0,0,0,0,{"$f":"VLOOKUP($H608,$J$121:$BE$230,AR$376,FALSE)*VLOOKUP($I608,$M$335:$BE$373,(AR$376-3),FALSE)","v":0},0,0,0,0,0,0,0,0,0,0,0,0,0]
[10,"f",10,null,"Blending and transport CO2","Sub-Saharan Africa","Tilapia","10f","1010",null,null,null,0,0,0,0,0,0,0,0,0,0,0,0,0,0,0,0,0,0,0,0,0,0,0,0,0,0,0,0,0,0,0,0,0,0,0,0,0,0,0,0,0,0,0,0,0]
[10,"f",5,null,"Blending and transport CO2","Sub-Saharan Africa","FW Fish - general","10f","105",null,null,null,0,0,0,0,0,0,0,0,0,0,0,0,0,0,0,0,0,0,0,0,0,0,0,0,0,0,0,0,0,0,0,0,0,0,0,0,0,0,0,0,0,0,0,0,0]
[10,"f",4,null,"Blending and transport CO2","Sub-Saharan Africa","Cyprinid","10f","104",null,null,null,0,0,0,0,0,0,0,0,0,0,0,0,0,0,0,0,0,0,0,0,0,0,0,0,0,0,0,0,0,0,0,0,0,0,0,0,0,0,0,0,0,0,0,0,0]
[1,"g",2,null,"Rice cultivation CH4","North America","Bivalves","1g","12",null,null,null,0,0,0,0,0,0,0,0,0,0,0,0,0,0,0,0,0,0,0,0,0,0,0,0,0,0,0,0,0,0,0,0,0,0,0,0,0,0,0,0,0,0,0,0,0]
[1,"g",8,null,"Rice cultivation CH4","North America","Salmonids","1g","18",null,null,null,0,0,0,0,0,0,0,0,0,0,0,0,0,0,0,0,0,0,0,0,0,0,0,0,0,0,0,0,0,0,0,0,0,0,0,0,0,0,0,0,0,0,0,0,0]
[1,"g",3,null,"Rice cultivation CH4","North America","Catfish","1g","13",null,null,null,0,0,0,0,0,0,0,0,0,0,0,0,0,0,0,0,0,0,0,0,0,0,0,0,0,0,0,0,0,0,0,0,0,0,0,0,0,0,0,0,0,0,0,0,0]
[1,"g",9,null,"Rice cultivation CH4","North America","Shrimp","1g","19",null,null,null,0,0,0,0,0,0,0,0,0,0,0,0,0,0,0,0,0,0,0,0,0,0,0,0,0,0,0,0,0,0,0,0,0,0,0,0,0,0,0,0,0,0,0,0,0]
[2,"g",4,null,"Rice cultivation CH4","Russian Federation","Cyprinid","2g","24",null,null,null,0,0,0,0,0,0,0,0,0,0,0,0,0,0,0,0,0,0,0,0,0,0,0,0,0,0,0,0,0,0,0,0,0,0,0,0,0,0,0,0,0,0,0,0,0]
[2,"g",8,null,"Rice cultivation CH4","Russian Federation","Salmonids","2g","28",null,null,null,0,0,0,0,0,0,0,0,0,0,0,0,0,0,0,0,0,0,0,0,0,0,0,0,0,0,0,0,0,0,0,0,0,0,0,0,0,0,0,0,0,0,0,0,0]
[3,"g",8,null,"Rice cultivation CH4","Western Europe","Salmonids","3g","38",null,null,null,0,{"$f":"VLOOKUP($H618,$J$121:$BE$230,N$376,FALSE)*VLOOKUP($I618,$M$335:$BE$373,(N$376-3),FALSE)","v":0},0,0,0,0,0,0,0,0,0,{"$f":"VLOOKUP($H618,$J$121:$BE$230,X$376,FALSE)*VLOOKUP($I618,$M$335:$BE$373,(X$376-3),FALSE)","v":0},0,0,0,0,0,0,0,0,0,{"$f":"VLOOKUP($H618,$J$121:$BE$230,AH$376,FALSE)*VLOOKUP($I618,$M$335:$BE$373,(AH$376-3),FALSE)","v":0},0,0,0,0,0,0,0,0,0,{"$f":"VLOOKUP($H618,$J$121:$BE$230,AR$376,FALSE)*VLOOKUP($I618,$M$335:$BE$373,(AR$376-3),FALSE)","v":0},0,0,0,0,0,0,0,0,0,0,0,0,0]
[3,"g",2,null,"Rice cultivation CH4","Western Europe","Bivalves","3g","32",null,null,null,0,0,0,0,0,0,0,0,0,0,0,0,0,0,0,0,0,0,0,0,0,0,0,0,0,0,0,0,0,0,0,0,0,0,0,0,0,0,0,0,0,0,0,0,0]
[4,"g",4,null,"Rice cultivation CH4","Eastern Europe","Cyprinid","4g","44",null,null,null,0,0,0,0,0,0,0,0,0,0,0,0,0,0,0,0,0,0,0,0,0,0,0,0,0,0,0,0,0,0,0,0,0,0,0,0,0,0,0,0,0,0,0,0,0]
[4,"g",8,null,"Rice cultivation CH4","Eastern Europe","Salmonids","4g","48",null,null,null,0,0,0,0,0,0,0,0,0,0,0,0,0,0,0,0,0,0,0,0,0,0,0,0,0,0,0,0,0,0,0,0,0,0,0,0,0,0,0,0,0,0,0,0,0]
[5,"g",10,null,"Rice cultivation CH4","West Asia & Northern Africa","Tilapia","5g","510",null,null,null,61847.335950411521,0,0,0,0,0,0,0,0,0,0,0,0,0,0,0,0,0,0,0,0,0,0,0,0,0,0,0,0,0,0,61847.335950411521,0,0,0,0,0,0,0,0,0,0,0,0,0]
[5,"g",4,null,"Rice cultivation CH4","West Asia & Northern Africa","Cyprinid","5g","54",null,null,null,18217.021232298339,0,0,0,0,0,0,0,0,0,0,0,0,0,0,0,0,0,0,0,0,0,0,0,0,0,0,0,0,0,0,18217.021232298339,0,0,0,0,0,0,0,0,0,0,0,0,0]
[5,"g",7,null,"Rice cultivation CH4","West Asia & Northern Africa","Marine Fish - general","5g","57",null,null,null,0,0,0,0,0,0,0,0,0,0,0,0,0,0,0,0,0,0,0,0,0,0,0,0,0,0,0,0,0,0,0,0,0,0,0,0,0,0,0,0,0,0,0,0,0]
[5,"g",8,null,"Rice cultivation CH4","West Asia & Northern Africa","Salmonids","5g","58",null,null,null,0,0,0,0,0,0,0,0,0,0,0,0,0,0,0,0,0,0,0,0,0,0,0,0,0,0,0,0,0,0,0,0,0,0,0,0,0,0,0,0,0,0,0,0,0]
[6,"g",1,null,"Rice cultivation CH4","East Asia","Alga","6g","61",null,null,null,0,0,0,0,0,0,0,0,0,0,0,0,0,0,0,0,0,0,0,0,0,0,0,0,0,0,0,0,0,0,0,0,0,0,0,0,0,0,0,0,0,0,0,0,0]
[6,"g",4,null,"Rice cultivation CH4","East Asia","Cyprinid","6g","64",null,null,null,1419229.6797939336,0,0,0,0,0,0,0,0,0,0,0,0,1419229.6797939336,0,0,0,0,0,0,0,0,0,0,0,0,0,0,0,0,0,0,0,0,0,0,0,0,0,0,0,0,0,0,0]
[6,"g",2,null,"Rice cultivation CH4","East Asia","Bivalves","6g","62",null,null,null,0,{"$f":"VLOOKUP($H628,$J$121:$BE$230,N$376,FALSE)*VLOOKUP($I628,$M$335:$BE$373,(N$376-3),FALSE)","v":0},0,0,0,0,0,0,0,0,0,{"$f":"VLOOKUP($H628,$J$121:$BE$230,X$376,FALSE)*VLOOKUP($I628,$M$335:$BE$373,(X$376-3),FALSE)","v":0},0,0,0,0,0,0,0,0,0,{"$f":"VLOOKUP($H628,$J$121:$BE$230,AH$376,FALSE)*VLOOKUP($I628,$M$335:$BE$373,(AH$376-3),FALSE)","v":0},0,0,0,0,0,0,0,0,0,{"$f":"VLOOKUP($H628,$J$121:$BE$230,AR$376,FALSE)*VLOOKUP($I628,$M$335:$BE$373,(AR$376-3),FALSE)","v":0},0,0,0,0,0,0,0,0,0,0,0,0,0]
[6,"g",9,null,"Rice cultivation CH4","East Asia","Shrimp","6g","69",null,null,null,32086.369436352812,0,0,0,0,0,0,0,0,0,0,0,0,0,0,0,0,0,0,0,0,0,0,0,0,0,0,0,0,0,0,32086.369436352812,0,0,0,0,0,0,0,0,0,0,0,0,0]
[6,"g",5,null,"Rice cultivation CH4","East Asia","FW Fish - general","6g","65",null,null,null,151311.80102392338,0,0,0,0,0,0,0,0,0,0,0,0,0,0,0,0,0,0,0,0,0,0,0,0,0,0,0,0,0,0,151311.80102392338,0,0,0,0,0,0,0,0,0,0,0,0,0]
[6,"g",10,null,"Rice cultivation CH4","East Asia","Tilapia","6g","610",null,null,null,317338.15816075378,0,0,0,0,0,0,0,0,0,0,0,0,0,0,0,0,0,0,0,0,0,0,0,0,0,0,0,0,0,0,317338.15816075378,0,0,0,0,0,0,0,0,0,0,0,0,0]
[6,"g",3,null,"Rice cultivation CH4","East Asia","Catfish","6g","63",null,null,null,252305.06404147903,0,0,0,0,0,0,0,0,0,0,0,0,0,0,0,0,0,0,0,0,0,0,0,0,0,0,0,0,0,0,252305.06404147903,0,0,0,0,0,0,0,0,0,0,0,0,0]
[6,"g",7,null,"Rice cultivation CH4","East Asia","Marine Fish - general","6g","67",null,null,null,0,0,0,0,0,0,0,0,0,0,0,0,0,0,0,0,0,0,0,0,0,0,0,0,0,0,0,0,0,0,0,0,0,0,0,0,0,0,0,0,0,0,0,0,0]
[7,"g",2,null,"Rice cultivation CH4","NZ+Australia","Bivalves","7g","72",null,null,null,0,0,0,0,0,0,0,0,0,0,0,0,0,0,0,0,0,0,0,0,0,0,0,0,0,0,0,0,0,0,0,0,0,0,0,0,0,0,0,0,0,0,0,0,0]
[7,"g",8,null,"Rice cultivation CH4","NZ+Australia","Salmonids",{"$f":"CONCATENATE(A635,B635)","v":"7g"},{"$f":"CONCATENATE(A635,C635)","v":"78"},null,null,null,{"$f":"SUM(N635:BE635)","v":0},0,0,0,0,0,0,0,0,0,0,0,0,0,0,0,0,0,0,0,0,0,0,0,0,0,0,0,0,0,0,0,0,0,0,0,0,0,0,0,0,0,0,0,0]
[7,"g",7,null,"Rice cultivation CH4","NZ+Australia","Marine Fish - general","7g","77",null,null,null,0,0,0,0,0,0,0,0,0,0,0,0,0,0,0,0,0,0,0,0,0,0,0,0,0,0,0,0,0,0,0,0,0,0,0,0,0,0,0,0,0,0,0,0,0]
[8,"g",6,null,"Rice cultivation CH4","South Asia","Indian Carp","8g","86",null,null,null,831890.39615699521,0,0,0,0,0,0,0,0,0,0,0,0,0,0,0,0,0,0,0,0,0,0,0,0,0,0,0,0,0,0,831890.39615699521,0,0,0,0,0,0,0,0,0,0,0,0,0]
[8,"g",4,null,"Rice cultivation CH4","South Asia","Cyprinid","8g","84",null,null,null,103313.34184908024,{"$f":"VLOOKUP($H638,$J$121:$BE$230,N$376,FALSE)*VLOOKUP($I638,$M$335:$BE$373,(N$376-3),FALSE)","v":0},0,0,0,0,0,0,0,0,0,{"$f":"VLOOKUP($H638,$J$121:$BE$230,X$376,FALSE)*VLOOKUP($I638,$M$335:$BE$373,(X$376-3),FALSE)","v":0},0,0,0,0,0,0,0,0,0,{"$f":"VLOOKUP($H638,$J$121:$BE$230,AH$376,FALSE)*VLOOKUP($I638,$M$335:$BE$373,(AH$376-3),FALSE)","v":0},0,0,0,0,0,0,0,0,0,{"$f":"VLOOKUP($H638,$J$121:$BE$230,AR$376,FALSE)*VLOOKUP($I638,$M$335:$BE$373,(AR$376-3),FALSE)","v":103313.34184908024},0,0,0,0,0,0,0,0,0,0,0,0,0]
[8,"g",9,null,"Rice cultivation CH4","South Asia","Shrimp","8g","89",null,null,null,4368.9304699014747,0,0,0,0,0,0,0,0,0,0,0,0,0,0,0,0,0,0,0,0,0,0,0,0,0,0,0,0,0,0,4368.9304699014747,0,0,0,0,0,0,0,0,0,0,0,0,0]
[8,"g",5,null,"Rice cultivation CH4","South Asia","FW Fish - general","8g","85",null,null,null,20909.968533871124,0,0,0,0,0,0,0,0,0,0,0,0,0,0,0,0,0,0,0,0,0,0,0,0,0,0,0,0,0,0,20909.968533871124,0,0,0,0,0,0,0,0,0,0,0,0,0]
[8,"g",3,null,"Rice cultivation CH4","South Asia","Catfish","8g","83",null,null,null,32958.265969932603,0,0,0,0,0,0,0,0,0,0,0,0,0,0,0,0,0,0,0,0,0,0,0,0,0,0,0,0,0,0,32958.265969932603,0,0,0,0,0,0,0,0,0,0,0,0,0]
[9,"g",8,null,"Rice cultivation CH4","Latin America and the Caribbean","Salmonids","9g","98",null,null,null,0,0,0,0,0,0,0,0,0,0,0,0,0,0,0,0,0,0,0,0,0,0,0,0,0,0,0,0,0,0,0,0,0,0,0,0,0,0,0,0,0,0,0,0,0]
[9,"g",9,null,"Rice cultivation CH4","Latin America and the Caribbean","Shrimp","9g","99",null,null,null,0,0,0,0,0,0,0,0,0,0,0,0,0,0,0,0,0,0,0,0,0,0,0,0,0,0,0,0,0,0,0,0,0,0,0,0,0,0,0,0,0,0,0,0,0]
[9,"g",10,null,"Rice cultivation CH4","Latin America and the Caribbean","Tilapia","9g","910",null,null,null,0,0,0,0,0,0,0,0,0,0,0,0,0,0,0,0,0,0,0,0,0,0,0,0,0,0,0,0,0,0,0,0,0,0,0,0,0,0,0,0,0,0,0,0,0]
[9,"g",2,null,"Rice cultivation CH4","Latin America and the Caribbean","Bivalves","9g","92",null,null,null,0,0,0,0,0,0,0,0,0,0,0,0,0,0,0,0,0,0,0,0,0,0,0,0,0,0,0,0,0,0,0,0,0,0,0,0,0,0,0,0,0,0,0,0,0]
[9,"g",5,null,"Rice cultivation CH4","Latin America and the Caribbean","FW Fish - general","9g","95",null,null,null,0,0,0,0,0,0,0,0,0,0,0,0,0,0,0,0,0,0,0,0,0,0,0,0,0,0,0,0,0,0,0,0,0,0,0,0,0,0,0,0,0,0,0,0,0]
[10,"g",3,null,"Rice cultivation CH4","Sub-Saharan Africa","Catfish","10g","103",null,null,null,0,0,0,0,0,0,0,0,0,0,0,0,0,0,0,0,0,0,0,0,0,0,0,0,0,0,0,0,0,0,0,0,0,0,0,0,0,0,0,0,0,0,0,0,0]
[10,"g",10,null,"Rice cultivation CH4","Sub-Saharan Africa","Tilapia","10g","1010",null,null,null,0,{"$f":"VLOOKUP($H648,$J$121:$BE$230,N$376,FALSE)*VLOOKUP($I648,$M$335:$BE$373,(N$376-3),FALSE)","v":0},0,0,0,0,0,0,0,0,0,{"$f":"VLOOKUP($H648,$J$121:$BE$230,X$376,FALSE)*VLOOKUP($I648,$M$335:$BE$373,(X$376-3),FALSE)","v":0},0,0,0,0,0,0,0,0,0,{"$f":"VLOOKUP($H648,$J$121:$BE$230,AH$376,FALSE)*VLOOKUP($I648,$M$335:$BE$373,(AH$376-3),FALSE)","v":0},0,0,0,0,0,0,0,0,0,{"$f":"VLOOKUP($H648,$J$121:$BE$230,AR$376,FALSE)*VLOOKUP($I648,$M$335:$BE$373,(AR$376-3),FALSE)","v":0},0,0,0,0,0,0,0,0,0,0,0,0,0]
[10,"g",5,null,"Rice cultivation CH4","Sub-Saharan Africa","FW Fish - general","10g","105",null,null,null,0,0,0,0,0,0,0,0,0,0,0,0,0,0,0,0,0,0,0,0,0,0,0,0,0,0,0,0,0,0,0,0,0,0,0,0,0,0,0,0,0,0,0,0,0]
[10,"g",4,null,"Rice cultivation CH4","Sub-Saharan Africa","Cyprinid","10g","104",null,null,null,1559.578145084135,0,0,0,0,0,0,0,0,0,0,0,0,0,0,0,0,0,0,0,0,0,0,0,0,0,0,0,0,0,0,1559.578145084135,0,0,0,0,0,0,0,0,0,0,0,0,0]
[1,"h",2,null,"LUC for feed production CO2","North America","Bivalves","1h","12",null,null,null,0,0,0,0,0,0,0,0,0,0,0,0,0,0,0,0,0,0,0,0,0,0,0,0,0,0,0,0,0,0,0,0,0,0,0,0,0,0,0,0,0,0,0,0,0]
[1,"h",8,null,"LUC for feed production CO2","North America","Salmonids","1h","18",null,null,null,629.69090973763571,0,0,629.69090973763571,0,0,0,0,0,0,0,0,0,0,0,0,0,0,0,0,0,0,0,0,0,0,0,0,0,0,0,0,0,0,0,0,0,0,0,0,0,0,0,0,0]
[1,"h",3,null,"LUC for feed production CO2","North America","Catfish","1h","13",null,null,null,0,0,0,0,0,0,0,0,0,0,0,0,0,0,0,0,0,0,0,0,0,0,0,0,0,0,0,0,0,0,0,0,0,0,0,0,0,0,0,0,0,0,0,0,0]
[1,"h",9,null,"LUC for feed production CO2","North America","Shrimp","1h","19",null,null,null,0,0,0,0,0,0,0,0,0,0,0,0,0,0,0,0,0,0,0,0,0,0,0,0,0,0,0,0,0,0,0,0,0,0,0,0,0,0,0,0,0,0,0,0,0]
[2,"h",4,null,"LUC for feed production CO2","Russian Federation","Cyprinid","2h","24",null,null,null,5406.8717985457852,0,5406.8717985457852,0,0,0,0,0,0,0,0,0,0,0,0,0,0,0,0,0,0,0,0,0,0,0,0,0,0,0,0,0,0,0,0,0,0,0,0,0,0,0,0,0,0]
[2,"h",8,null,"LUC for feed production CO2","Russian Federation","Salmonids","2h","28",null,null,null,9052.809974783986,0,9052.809974783986,0,0,0,0,0,0,0,0,0,0,0,0,0,0,0,0,0,0,0,0,0,0,0,0,0,0,0,0,0,0,0,0,0,0,0,0,0,0,0,0,0,0]
[3,"h",8,null,"LUC for feed production CO2","Western Europe","Salmonids","3h","38",null,null,null,691711.73094191647,0,691711.73094191647,0,0,0,0,0,0,0,0,0,0,0,0,0,0,0,0,0,0,0,0,0,0,0,0,0,0,0,0,0,0,0,0,0,0,0,0,0,0,0,0,0,0]
[3,"h",2,null,"LUC for feed production CO2","Western Europe","Bivalves","3h","32",null,null,null,0,{"$f":"VLOOKUP($H658,$J$121:$BE$230,N$376,FALSE)*VLOOKUP($I658,$M$335:$BE$373,(N$376-3),FALSE)","v":0},0,0,0,0,0,0,0,0,0,{"$f":"VLOOKUP($H658,$J$121:$BE$230,X$376,FALSE)*VLOOKUP($I658,$M$335:$BE$373,(X$376-3),FALSE)","v":0},0,0,0,0,0,0,0,0,0,{"$f":"VLOOKUP($H658,$J$121:$BE$230,AH$376,FALSE)*VLOOKUP($I658,$M$335:$BE$373,(AH$376-3),FALSE)","v":0},0,0,0,0,0,0,0,0,0,{"$f":"VLOOKUP($H658,$J$121:$BE$230,AR$376,FALSE)*VLOOKUP($I658,$M$335:$BE$373,(AR$376-3),FALSE)","v":0},0,0,0,0,0,0,0,0,0,0,0,0,0]
[4,"h",4,null,"LUC for feed production CO2","Eastern Europe","Cyprinid","4h","44",null,null,null,3519.1435830887913,0,3519.1435830887913,0,0,0,0,0,0,0,0,0,0,0,0,0,0,0,0,0,0,0,0,0,0,0,0,0,0,0,0,0,0,0,0,0,0,0,0,0,0,0,0,0,0]
[4,"h",8,null,"LUC for feed production CO2","Eastern Europe","Salmonids","4h","48",null,null,null,2311.3590577726377,0,2311.3590577726377,0,0,0,0,0,0,0,0,0,0,0,0,0,0,0,0,0,0,0,0,0,0,0,0,0,0,0,0,0,0,0,0,0,0,0,0,0,0,0,0,0,0]
[5,"h",10,null,"LUC for feed production CO2","West Asia & Northern Africa","Tilapia","5h","510",null,null,null,412715.67410268635,0,412715.67410268635,0,0,0,0,0,0,0,0,0,0,0,0,0,0,0,0,0,0,0,0,0,0,0,0,0,0,0,0,0,0,0,0,0,0,0,0,0,0,0,0,0,0]
[5,"h",4,null,"LUC for feed production CO2","West Asia & Northern Africa","Cyprinid","5h","54",null,null,null,121564.65727253258,0,121564.65727253258,0,0,0,0,0,0,0,0,0,0,0,0,0,0,0,0,0,0,0,0,0,0,0,0,0,0,0,0,0,0,0,0,0,0,0,0,0,0,0,0,0,0]
[5,"h",7,null,"LUC for feed production CO2","West Asia & Northern Africa","Marine Fish - general","5h","57",null,null,null,125789.0684537059,0,113295.84006947816,12493.228384227734,0,0,0,0,0,0,0,0,0,0,0,0,0,0,0,0,0,0,0,0,0,0,0,0,0,0,0,0,0,0,0,0,0,0,0,0,0,0,0,0,0]
[5,"h",8,null,"LUC for feed production CO2","West Asia & Northern Africa","Salmonids","5h","58",null,null,null,39030.220228561455,0,39030.220228561455,0,0,0,0,0,0,0,0,0,0,0,0,0,0,0,0,0,0,0,0,0,0,0,0,0,0,0,0,0,0,0,0,0,0,0,0,0,0,0,0,0,0]
[6,"h",1,null,"LUC for feed production CO2","East Asia","Alga","6h","61",null,null,null,0,0,0,0,0,0,0,0,0,0,0,0,0,0,0,0,0,0,0,0,0,0,0,0,0,0,0,0,0,0,0,0,0,0,0,0,0,0,0,0,0,0,0,0,0]
[6,"h",4,null,"LUC for feed production CO2","East Asia","Cyprinid","6h","64",null,null,null,5258355.5509496778,0,5258355.5509496778,0,0,0,0,0,0,0,0,0,0,0,0,0,0,0,0,0,0,0,0,0,0,0,0,0,0,0,0,0,0,0,0,0,0,0,0,0,0,0,0,0,0]
[6,"h",2,null,"LUC for feed production CO2","East Asia","Bivalves","6h","62",null,null,null,0,0,0,0,0,0,0,0,0,0,0,0,0,0,0,0,0,0,0,0,0,0,0,0,0,0,0,0,0,0,0,0,0,0,0,0,0,0,0,0,0,0,0,0,0]
[6,"h",9,null,"LUC for feed production CO2","East Asia","Shrimp","6h","69",null,null,null,2597124.7369219991,{"$f":"VLOOKUP($H668,$J$121:$BE$230,N$376,FALSE)*VLOOKUP($I668,$M$335:$BE$373,(N$376-3),FALSE)","v":0},2597124.7369219991,0,0,0,0,0,0,0,0,{"$f":"VLOOKUP($H668,$J$121:$BE$230,X$376,FALSE)*VLOOKUP($I668,$M$335:$BE$373,(X$376-3),FALSE)","v":0},0,0,0,0,0,0,0,0,0,{"$f":"VLOOKUP($H668,$J$121:$BE$230,AH$376,FALSE)*VLOOKUP($I668,$M$335:$BE$373,(AH$376-3),FALSE)","v":0},0,0,0,0,0,0,0,0,0,{"$f":"VLOOKUP($H668,$J$121:$BE$230,AR$376,FALSE)*VLOOKUP($I668,$M$335:$BE$373,(AR$376-3),FALSE)","v":0},0,0,0,0,0,0,0,0,0,0,0,0,0]
[6,"h",5,null,"LUC for feed production CO2","East Asia","FW Fish - general","6h","65",null,null,null,874816.55724551622,0,874816.55724551622,0,0,0,0,0,0,0,0,0,0,0,0,0,0,0,0,0,0,0,0,0,0,0,0,0,0,0,0,0,0,0,0,0,0,0,0,0,0,0,0,0,0]
[6,"h",10,null,"LUC for feed production CO2","East Asia","Tilapia","6h","610",null,null,null,1834706.0383012118,0,1834706.0383012118,0,0,0,0,0,0,0,0,0,0,0,0,0,0,0,0,0,0,0,0,0,0,0,0,0,0,0,0,0,0,0,0,0,0,0,0,0,0,0,0,0,0]
[6,"h",3,null,"LUC for feed production CO2","East Asia","Catfish","6h","63",null,null,null,1736564.3249077541,0,1736564.3249077541,0,0,0,0,0,0,0,0,0,0,0,0,0,0,0,0,0,0,0,0,0,0,0,0,0,0,0,0,0,0,0,0,0,0,0,0,0,0,0,0,0,0]
[6,"h",7,null,"LUC for feed production CO2","East Asia","Marine Fish - general","6h","67",null,null,null,554343.38578585745,0,554343.38578585745,0,0,0,0,0,0,0,0,0,0,0,0,0,0,0,0,0,0,0,0,0,0,0,0,0,0,0,0,0,0,0,0,0,0,0,0,0,0,0,0,0,0]
[7,"h",2,null,"LUC for feed production CO2","NZ+Australia","Bivalves","7h","72",null,null,null,0,0,0,0,0,0,0,0,0,0,0,0,0,0,0,0,0,0,0,0,0,0,0,0,0,0,0,0,0,0,0,0,0,0,0,0,0,0,0,0,0,0,0,0,0]
[7,"h",8,null,"LUC for feed production CO2","NZ+Australia","Salmonids","7h","78",null,null,null,3.9851468953753248,0,3.9851468953753248,0,0,0,0,0,0,0,0,0,0,0,0,0,0,0,0,0,0,0,0,0,0,0,0,0,0,0,0,0,0,0,0,0,0,0,0,0,0,0,0,0,0]
[7,"h",7,null,"LUC for feed production CO2","NZ+Australia","Marine Fish - general","7h","77",null,null,null,0,0,0,0,0,0,0,0,0,0,0,0,0,0,0,0,0,0,0,0,0,0,0,0,0,0,0,0,0,0,0,0,0,0,0,0,0,0,0,0,0,0,0,0,0]
[8,"h",6,null,"LUC for feed production CO2","South Asia","Indian Carp","8h","86",null,null,null,0,0,0,0,0,0,0,0,0,0,0,0,0,0,0,0,0,0,0,0,0,0,0,0,0,0,0,0,0,0,0,0,0,0,0,0,0,0,0,0,0,0,0,0,0]
[8,"h",4,null,"LUC for feed production CO2","South Asia","Cyprinid","8h","84",null,null,null,0,0,0,0,0,0,0,0,0,0,0,0,0,0,0,0,0,0,0,0,0,0,0,0,0,0,0,0,0,0,0,0,0,0,0,0,0,0,0,0,0,0,0,0,0]
[8,"h",9,null,"LUC for feed production CO2","South Asia","Shrimp","8h","89",null,null,null,183947.94167545575,{"$f":"VLOOKUP($H678,$J$121:$BE$230,N$376,FALSE)*VLOOKUP($I678,$M$335:$BE$373,(N$376-3),FALSE)","v":0},183947.94167545575,0,0,0,0,0,0,0,0,{"$f":"VLOOKUP($H678,$J$121:$BE$230,X$376,FALSE)*VLOOKUP($I678,$M$335:$BE$373,(X$376-3),FALSE)","v":0},0,0,0,0,0,0,0,0,0,{"$f":"VLOOKUP($H678,$J$121:$BE$230,AH$376,FALSE)*VLOOKUP($I678,$M$335:$BE$373,(AH$376-3),FALSE)","v":0},0,0,0,0,0,0,0,0,0,{"$f":"VLOOKUP($H678,$J$121:$BE$230,AR$376,FALSE)*VLOOKUP($I678,$M$335:$BE$373,(AR$376-3),FALSE)","v":0},0,0,0,0,0,0,0,0,0,0,0,0,0]
[8,"h",5,null,"LUC for feed production CO2","South Asia","FW Fish - general","8h","85",null,null,null,0,0,0,0,0,0,0,0,0,0,0,0,0,0,0,0,0,0,0,0,0,0,0,0,0,0,0,0,0,0,0,0,0,0,0,0,0,0,0,0,0,0,0,0,0]
[8,"h",3,null,"LUC for feed production CO2","South Asia","Catfish","8h","83",null,null,null,0,0,0,0,0,0,0,0,0,0,0,0,0,0,0,0,0,0,0,0,0,0,0,0,0,0,0,0,0,0,0,0,0,0,0,0,0,0,0,0,0,0,0,0,0]
[9,"h",8,null,"LUC for feed production CO2","Latin America and the Caribbean","Salmonids","9h","98",null,null,null,1918515.3200019894,0,832563.25207633502,1085952.0679256544,0,0,0,0,0,0,0,0,0,0,0,0,0,0,0,0,0,0,0,0,0,0,0,0,0,0,0,0,0,0,0,0,0,0,0,0,0,0,0,0,0]
[9,"h",9,null,"LUC for feed production CO2","Latin America and the Caribbean","Shrimp","9h","99",null,null,null,0,0,0,0,0,0,0,0,0,0,0,0,0,0,0,0,0,0,0,0,0,0,0,0,0,0,0,0,0,0,0,0,0,0,0,0,0,0,0,0,0,0,0,0,0]
[9,"h",10,null,"LUC for feed production CO2","Latin America and the Caribbean","Tilapia","9h","910",null,null,null,0,0,0,0,0,0,0,0,0,0,0,0,0,0,0,0,0,0,0,0,0,0,0,0,0,0,0,0,0,0,0,0,0,0,0,0,0,0,0,0,0,0,0,0,0]
[9,"h",2,null,"LUC for feed production CO2","Latin America and the Caribbean","Bivalves","9h","92",null,null,null,0,0,0,0,0,0,0,0,0,0,0,0,0,0,0,0,0,0,0,0,0,0,0,0,0,0,0,0,0,0,0,0,0,0,0,0,0,0,0,0,0,0,0,0,0]
[9,"h",5,null,"LUC for feed production CO2","Latin America and the Caribbean","FW Fish - general","9h","95",null,null,null,0,0,0,0,0,0,0,0,0,0,0,0,0,0,0,0,0,0,0,0,0,0,0,0,0,0,0,0,0,0,0,0,0,0,0,0,0,0,0,0,0,0,0,0,0]
[10,"h",3,null,"LUC for feed production CO2","Sub-Saharan Africa","Catfish","10h","103",null,null,null,43590.136375015696,0,43590.136375015696,0,0,0,0,0,0,0,0,0,0,0,0,0,0,0,0,0,0,0,0,0,0,0,0,0,0,0,0,0,0,0,0,0,0,0,0,0,0,0,0,0,0]
[10,"h",10,null,"LUC for feed production CO2","Sub-Saharan Africa","Tilapia","10h","1010",null,null,null,97504.361735642553,97504.361735642553,0,0,0,0,0,0,0,0,0,0,0,0,0,0,0,0,0,0,0,0,0,0,0,0,0,0,0,0,0,0,0,0,0,0,0,0,0,0,0,0,0,0,0]
[10,"h",5,null,"LUC for feed production CO2","Sub-Saharan Africa","FW Fish - general","10h","105",null,null,null,11960.405713249722,{"$f":"VLOOKUP($H688,$J$121:$BE$230,N$376,FALSE)*VLOOKUP($I688,$M$335:$BE$373,(N$376-3),FALSE)","v":11960.405713249722},0,0,0,0,0,0,0,0,0,{"$f":"VLOOKUP($H688,$J$121:$BE$230,X$376,FALSE)*VLOOKUP($I688,$M$335:$BE$373,(X$376-3),FALSE)","v":0},0,0,0,0,0,0,0,0,0,{"$f":"VLOOKUP($H688,$J$121:$BE$230,AH$376,FALSE)*VLOOKUP($I688,$M$335:$BE$373,(AH$376-3),FALSE)","v":0},0,0,0,0,0,0,0,0,0,{"$f":"VLOOKUP($H688,$J$121:$BE$230,AR$376,FALSE)*VLOOKUP($I688,$M$335:$BE$373,(AR$376-3),FALSE)","v":0},0,0,0,0,0,0,0,0,0,0,0,0,0]
[10,"h",4,null,"LUC for feed production CO2","Sub-Saharan Africa","Cyprinid","10h","104",null,null,null,7206.2794258025433,0,7206.2794258025433,0,0,0,0,0,0,0,0,0,0,0,0,0,0,0,0,0,0,0,0,0,0,0,0,0,0,0,0,0,0,0,0,0,0,0,0,0,0,0,0,0,0]
[1,"i",2,null,"Fert. Prod CO2","North America","Bivalves","1i","12",null,null,null,0,0,0,0,0,0,0,0,0,0,0,0,0,0,0,0,0,0,0,0,0,0,0,0,0,0,0,0,0,0,0,0,0,0,0,0,0,0,0,0,0,0,0,0,0]
[1,"i",8,null,"Fert. Prod CO2","North America","Salmonids","1i","18",null,null,null,11639.545766103256,0,0,5501.7613199560647,0,0,0,0,0,0,0,0,0,0,0,4178.1390616957306,0,0,0,0,0,0,1838.785783929882,0,44.530952293383884,0,0,0,0,76.328648228197181,0,0,0,0,0,0,0,0,0,0,0,0,0,0,0]
[1,"i",3,null,"Fert. Prod CO2","North America","Catfish","1i","13",null,null,null,21497.061991740746,0,0,0,0,0,0,0,0,0,0,0,0,0,0,9511.1555725024264,0,5797.1077946564155,0,0,0,0,0,0,3108.7009798375602,0,0,0,2510.1782337228606,247.39439705202295,322.52501396946309,0,0,0,0,0,0,0,0,0,0,0,0,0,0]
[1,"i",9,null,"Fert. Prod CO2","North America","Shrimp","1i","19",null,null,null,{"$f":"SUM(N693:BE693)","v":7166.3866033046224},0,0,0,0,0,0,0,0,0,0,0,0,0,0,3214.1757340890395,0,1897.2260894112453,0,0,0,0,21.543140394887775,0,1017.3881204283662,0,0,0,821.50889767498404,85.180859960541937,109.36376134555728,0,0,0,0,0,0,0,0,0,0,0,0,0,0]
[2,"i",4,null,"Fert. Prod CO2","Russian Federation","Cyprinid","2i","24",null,null,null,818.79347660602139,0,419.22934580080579,0,0,0,0,0,0,0,0,0,0,0,0,0,0,0,200.66681088380835,0,0,0,198.89731992140725,0,0,0,0,0,0,0,0,0,0,0,0,0,0,0,0,0,0,0,0,0,0]
[2,"i",8,null,"Fert. Prod CO2","Russian Federation","Salmonids","2i","28",null,null,null,2734.4226019514704,0,701.92224724256369,0,0,0,0,0,0,0,0,0,0,0,0,0,0,167.62489146217942,1587.30509466227,0,0,0,198.53650478618388,0,79.033863798273629,0,0,0,0,0,0,0,0,0,0,0,0,0,0,0,0,0,0,0,0]
[3,"i",8,null,"Fert. Prod CO2","Western Europe","Salmonids","3i","38",null,null,null,282656.44430372439,0,90277.7967032991,0,0,0,0,0,0,0,0,0,0,0,0,0,0,16404.636846748599,155341.86728349692,0,0,0,14757.460141391815,0,5874.6833287878962,0,0,0,0,0,0,0,0,0,0,0,0,0,0,0,0,0,0,0,0]
[3,"i",2,null,"Fert. Prod CO2","Western Europe","Bivalves","3i","32",null,null,null,0,0,0,0,0,0,0,0,0,0,0,0,0,0,0,0,0,0,0,0,0,0,0,0,0,0,0,0,0,0,0,0,0,0,0,0,0,0,0,0,0,0,0,0,0]
[4,"i",4,null,"Fert. Prod CO2","Eastern Europe","Cyprinid","4i","44",null,null,null,1438.3053378503689,{"$f":"VLOOKUP($H698,$J$121:$BE$230,N$376,FALSE)*VLOOKUP($I698,$M$335:$BE$373,(N$376-3),FALSE)","v":0},754.10216492771224,0,0,0,0,0,0,0,0,{"$f":"VLOOKUP($H698,$J$121:$BE$230,X$376,FALSE)*VLOOKUP($I698,$M$335:$BE$373,(X$376-3),FALSE)","v":0},0,0,0,0,0,0,275.86558410795391,0,0,{"$f":"VLOOKUP($H698,$J$121:$BE$230,AH$376,FALSE)*VLOOKUP($I698,$M$335:$BE$373,(AH$376-3),FALSE)","v":0},408.33758881470277,0,0,0,0,0,0,0,0,{"$f":"VLOOKUP($H698,$J$121:$BE$230,AR$376,FALSE)*VLOOKUP($I698,$M$335:$BE$373,(AR$376-3),FALSE)","v":0},0,0,0,0,0,0,0,0,0,0,0,0,0]
[4,"i",8,null,"Fert. Prod CO2","Eastern Europe","Salmonids",{"$f":"CONCATENATE(A699,B699)","v":"4i"},{"$f":"CONCATENATE(A699,C699)","v":"48"},null,null,null,{"$f":"SUM(N699:BE699)","v":1665.2322110653172},0,495.29120601034759,0,0,0,0,0,0,0,0,0,0,0,0,0,0,90.396909160246352,856.00338470110819,0,0,0,159.89095559490215,0,63.649755598712993,0,0,0,0,0,0,0,0,0,0,0,0,0,0,0,0,0,0,0,0]
[5,"i",10,null,"Fert. Prod CO2","West Asia & Northern Africa","Tilapia","5i","510",null,null,null,124609.41574843298,0,90590.613737052845,0,0,1047.1209421713602,0,0,0,0,0,0,0,0,0,0,0,1027.7323648164647,0,0,0,0,0,0,0,26374.396214201955,0,0,0,0,0,5569.5524901903491,0,0,0,0,0,0,0,0,0,0,0,0,0]
[5,"i",4,null,"Fert. Prod CO2","West Asia & Northern Africa","Cyprinid","5i","54",null,null,null,36703.478614722619,0,26683.301851805125,0,0,308.4275845222237,0,0,0,0,0,0,0,0,0,0,0,302.71671403911375,0,0,0,0,0,0,0,7768.5308257803636,0,0,0,0,0,1640.5016385757933,0,0,0,0,0,0,0,0,0,0,0,0,0]
[5,"i",7,null,"Fert. Prod CO2","West Asia & Northern Africa","Marine Fish - general","5i","57",null,null,null,31518.724609761412,0,24868.306027057686,2742.2491993913659,0,0,0,0,0,0,0,342.18685483944085,0,0,0,0,0,364.04198384589893,0,0,495.26579644660245,2706.6747481804209,0,0,0,0,0,0,0,0,0,0,0,0,0,0,0,0,0,0,0,0,0,0,0]
[5,"i",8,null,"Fert. Prod CO2","West Asia & Northern Africa","Salmonids","5i","58",null,null,null,13459.517977372612,0,8567.0882563040104,0,0,0,0,0,0,0,0,0,0,0,0,0,0,385.70643788168127,3652.4038199408174,611.06522669793185,0,243.25423654817155,0,0,0,0,0,0,0,0,0,0,0,0,0,0,0,0,0,0,0,0,0,0,0]
[6,"i",1,null,"Fert. Prod CO2","East Asia","Alga","6i","61",null,null,null,0,0,0,0,0,0,0,0,0,0,0,0,0,0,0,0,0,0,0,0,0,0,0,0,0,0,0,0,0,0,0,0,0,0,0,0,0,0,0,0,0,0,0,0,0]
[6,"i",4,null,"Fert. Prod CO2","East Asia","Cyprinid","6i","64",null,null,null,3742192.8994186074,0,2721051.8869677759,0,0,743598.4672444117,0,0,0,0,0,0,0,277542.54520641983,0,0,0,0,0,0,0,0,0,0,0,0,0,0,0,0,0,0,0,0,0,0,0,0,0,0,0,0,0,0,0]
[6,"i",2,null,"Fert. Prod CO2","East Asia","Bivalves","6i","62",null,null,null,0,0,0,0,0,0,0,0,0,0,0,0,0,0,0,0,0,0,0,0,0,0,0,0,0,0,0,0,0,0,0,0,0,0,0,0,0,0,0,0,0,0,0,0,0]
[6,"i",9,null,"Fert. Prod CO2","East Asia","Shrimp","6i","69",null,null,null,1944933.2928481356,0,1343939.3927662394,0,0,0,0,557210.62477278872,0,38169.580268393598,0,0,0,0,0,0,0,0,0,0,0,0,0,0,0,0,0,0,0,0,0,5613.6950407139839,0,0,0,0,0,0,0,0,0,0,0,0,0]
[6,"i",5,null,"Fert. Prod CO2","East Asia","FW Fish - general","6i","65",null,null,null,863518.32436505856,{"$f":"VLOOKUP($H708,$J$121:$BE$230,N$376,FALSE)*VLOOKUP($I708,$M$335:$BE$373,(N$376-3),FALSE)","v":0},452693.09402511828,0,0,225905.59448846828,0,32641.922513933107,86955.941123182478,0,38848.90158639638,{"$f":"VLOOKUP($H708,$J$121:$BE$230,X$376,FALSE)*VLOOKUP($I708,$M$335:$BE$373,(X$376-3),FALSE)","v":0},0,0,0,0,0,0,0,0,0,{"$f":"VLOOKUP($H708,$J$121:$BE$230,AH$376,FALSE)*VLOOKUP($I708,$M$335:$BE$373,(AH$376-3),FALSE)","v":0},0,0,0,0,0,0,0,0,0,{"$f":"VLOOKUP($H708,$J$121:$BE$230,AR$376,FALSE)*VLOOKUP($I708,$M$335:$BE$373,(AR$376-3),FALSE)","v":26472.870627960063},0,0,0,0,0,0,0,0,0,0,0,0,0]
[6,"i",10,null,"Fert. Prod CO2","East Asia","Tilapia","6i","610",null,null,null,1811010.8579617166,0,949409.04607507039,0,0,473779.73686167569,0,68458.160561844226,182368.05067704408,0,81475.726232656743,0,0,0,0,0,0,0,0,0,0,0,0,0,0,0,0,0,0,0,0,55520.137553425418,0,0,0,0,0,0,0,0,0,0,0,0,0]
[6,"i",3,null,"Fert. Prod CO2","East Asia","Catfish","6i","63",null,null,null,1332554.8187892952,0,898623.45506053942,0,0,235749.42687889127,0,96870.335281840657,0,57169.378199119077,0,0,0,0,0,0,0,0,0,0,0,0,0,0,0,0,0,0,0,0,0,44142.223368904459,0,0,0,0,0,0,0,0,0,0,0,0,0]
[6,"i",7,null,"Fert. Prod CO2","East Asia","Marine Fish - general","6i","67",null,null,null,350288.57617847627,0,286857.19352855312,0,0,0,0,63431.382649923173,0,0,0,0,0,0,0,0,0,0,0,0,0,0,0,0,0,0,0,0,0,0,0,0,0,0,0,0,0,0,0,0,0,0,0,0,0]
[7,"i",2,null,"Fert. Prod CO2","NZ+Australia","Bivalves","7i","72",null,null,null,0,0,0,0,0,0,0,0,0,0,0,0,0,0,0,0,0,0,0,0,0,0,0,0,0,0,0,0,0,0,0,0,0,0,0,0,0,0,0,0,0,0,0,0,0]
[7,"i",8,null,"Fert. Prod CO2","NZ+Australia","Salmonids","7i","78",null,null,null,1126.8156608815414,0,50.360145672517199,0,0,0,0,0,0,0,0,0,0,0,0,0,416.07305907845171,0,222.68566892029588,0,0,0,359.09910895441448,0,78.597678255862107,0,0,0,0,0,0,0,0,0,0,0,0,0,0,0,0,0,0,0,0]
[7,"i",7,null,"Fert. Prod CO2","NZ+Australia","Marine Fish - general","7i","77",null,null,null,123.71733384022519,0,0,0,0,0,0,0,0,0,0,0,0,0,0,0,58.433227779646231,23.939103614376631,0,0,0,0,41.345002446202322,0,0,0,0,0,0,0,0,0,0,0,0,0,0,0,0,0,0,0,0,0,0]
[8,"i",6,null,"Fert. Prod CO2","South Asia","Indian Carp","8i","86",null,null,null,2344991.9184481278,0,0,0,0,0,0,0,0,0,0,0,0,0,1411685.3967299187,0,0,596234.05228941585,0,0,0,0,0,0,0,225819.25589666367,4565.3244983742752,15474.568338706289,0,0,0,91213.320695049246,0,0,0,0,0,0,0,0,0,0,0,0,0]
[8,"i",4,null,"Fert. Prod CO2","South Asia","Cyprinid","8i","84",null,null,null,291227.00877801771,0,0,0,0,0,0,0,0,0,0,0,0,0,175318.69180058228,0,0,74046.933046470454,0,0,0,0,0,0,0,28044.730517785727,566.97244340288103,1921.8028914977433,0,0,0,11327.878078278698,0,0,0,0,0,0,0,0,0,0,0,0,0]
[8,"i",9,null,"Fert. Prod CO2","South Asia","Shrimp","8i","89",null,null,null,146338.29811005289,0,104653.69540760755,0,0,0,0,38563.895645698125,0,2641.6720085167922,0,0,0,0,0,0,0,0,0,0,0,0,0,0,0,0,0,0,0,0,0,479.03504823042726,0,0,0,0,0,0,0,0,0,0,0,0,0]
[8,"i",5,null,"Fert. Prod CO2","South Asia","FW Fish - general","8i","85",null,null,null,79842.729153675522,{"$f":"VLOOKUP($H718,$J$121:$BE$230,N$376,FALSE)*VLOOKUP($I718,$M$335:$BE$373,(N$376-3),FALSE)","v":0},0,0,0,0,0,0,0,0,0,{"$f":"VLOOKUP($H718,$J$121:$BE$230,X$376,FALSE)*VLOOKUP($I718,$M$335:$BE$373,(X$376-3),FALSE)","v":0},0,0,0,37441.101710296243,0,31015.812414184551,0,1871.1028555613345,4984.4953119461788,{"$f":"VLOOKUP($H718,$J$121:$BE$230,AH$376,FALSE)*VLOOKUP($I718,$M$335:$BE$373,(AH$376-3),FALSE)","v":0},0,0,0,2237.5258119838027,0,0,0,0,0,{"$f":"VLOOKUP($H718,$J$121:$BE$230,AR$376,FALSE)*VLOOKUP($I718,$M$335:$BE$373,(AR$376-3),FALSE)","v":2292.69104970342},0,0,0,0,0,0,0,0,0,0,0,0,0]
[8,"i",3,null,"Fert. Prod CO2","South Asia","Catfish","8i","83",null,null,null,110918.83065435891,0,0,0,0,0,0,0,0,0,0,0,0,0,0,70255.496648720829,0,30595.998349223439,0,0,0,6453.5989221575655,0,0,0,0,0,0,0,0,0,3613.7367342570592,0,0,0,0,0,0,0,0,0,0,0,0,0]
[9,"i",8,null,"Fert. Prod CO2","Latin America and the Caribbean","Salmonids","9i","98",null,null,null,31852.214117680418,0,11151.136718511581,14544.960937189018,0,0,0,5517.7628352673573,0,133.6268942967132,0,504.72673241574859,0,0,0,0,0,0,0,0,0,0,0,0,0,0,0,0,0,0,0,0,0,0,0,0,0,0,0,0,0,0,0,0,0]
[9,"i",9,null,"Fert. Prod CO2","Latin America and the Caribbean","Shrimp","9i","99",null,null,null,31159.170448735091,0,0,0,0,0,0,5541.3027198607042,0,944.74669322215311,4202.5979322077228,509.77645517098108,0,0,0,19960.746648273529,0,0,0,0,0,0,0,0,0,0,0,0,0,0,0,0,0,0,0,0,0,0,0,0,0,0,0,0,0]
[9,"i",10,null,"Fert. Prod CO2","Latin America and the Caribbean","Tilapia","9i","910",null,null,null,15598.567254952652,0,0,0,0,0,0,0,0,0,0,0,0,0,0,8456.0624705132122,0,0,0,3848.1638710112388,0,1230.1507456511338,0,0,0,1642.1902948757715,0,421.99987290129724,0,0,0,0,0,0,0,0,0,0,0,0,0,0,0,0,0]
[9,"i",2,null,"Fert. Prod CO2","Latin America and the Caribbean","Bivalves","9i","92",null,null,null,0,0,0,0,0,0,0,0,0,0,0,0,0,0,0,0,0,0,0,0,0,0,0,0,0,0,0,0,0,0,0,0,0,0,0,0,0,0,0,0,0,0,0,0,0]
[9,"i",5,null,"Fert. Prod CO2","Latin America and the Caribbean","FW Fish - general","9i","95",null,null,null,4119.7031174496642,0,0,0,0,0,0,0,0,0,0,0,0,0,0,2233.3119671655468,0,0,0,1016.3300536995561,0,324.89239421543186,0,0,0,433.71524875768688,0,111.4534536114428,0,0,0,0,0,0,0,0,0,0,0,0,0,0,0,0,0]
[10,"i",3,null,"Fert. Prod CO2","Sub-Saharan Africa","Catfish","10i","103",null,null,null,4312.7997797580756,0,3626.8801589628542,0,0,0,0,0,0,0,0,0,0,0,0,0,0,0,0,0,0,0,0,0,0,603.24347876350305,0,82.676142031718229,0,0,0,0,0,0,0,0,0,0,0,0,0,0,0,0,0]
[10,"i",10,null,"Fert. Prod CO2","Sub-Saharan Africa","Tilapia","10i","1010",null,null,null,9375.9358797728564,8112.7673460097449,0,0,0,0,0,0,0,0,0,0,0,0,0,0,0,0,0,0,0,0,0,0,0,1124.4682715601855,0,138.70026220292669,0,0,0,0,0,0,0,0,0,0,0,0,0,0,0,0,0]
[10,"i",5,null,"Fert. Prod CO2","Sub-Saharan Africa","FW Fish - general","10i","105",null,null,null,1150.102365343783,995.15536729072164,0,0,0,0,0,0,0,0,0,0,0,0,0,0,0,0,0,0,0,0,0,0,0,137.93328318993744,0,17.013714863123987,0,0,0,0,0,0,0,0,0,0,0,0,0,0,0,0,0]
[10,"i",4,null,"Fert. Prod CO2","Sub-Saharan Africa","Cyprinid","10i","104",null,null,null,803.67015738522764,{"$f":"VLOOKUP($H728,$J$121:$BE$230,N$376,FALSE)*VLOOKUP($I728,$M$335:$BE$373,(N$376-3),FALSE)","v":0},599.59233998556317,0,0,31.611867997132283,0,0,0,0,0,{"$f":"VLOOKUP($H728,$J$121:$BE$230,X$376,FALSE)*VLOOKUP($I728,$M$335:$BE$373,(X$376-3),FALSE)","v":0},0,0,0,0,0,37.093708486007522,0,0,0,{"$f":"VLOOKUP($H728,$J$121:$BE$230,AH$376,FALSE)*VLOOKUP($I728,$M$335:$BE$373,(AH$376-3),FALSE)","v":0},0,0,0,128.22124086340486,0,0,0,0,0,{"$f":"VLOOKUP($H728,$J$121:$BE$230,AR$376,FALSE)*VLOOKUP($I728,$M$335:$BE$373,(AR$376-3),FALSE)","v":7.1510000531197448},0,0,0,0,0,0,0,0,0,0,0,0,0]
[1,"j",2,null,"CO2e non-disaggregated feeds","North America","Bivalves","1j","12",null,null,null,0,0,0,0,0,0,0,0,0,0,0,0,0,0,0,0,0,0,0,0,0,0,0,0,0,0,0,0,0,0,0,0,0,0,0,0,0,0,0,0,0,0,0,0,0]
[1,"j",8,null,"CO2e non-disaggregated feeds","North America","Salmonids","1j","18",null,null,null,133622.18860410003,0,0,0,0,0,0,0,0,0,0,0,0,0,0,0,0,0,0,0,0,0,0,0,0,0,0,0,0,0,0,0,0,46388.6526285,0,40379.6167929,4672.3802264999995,0,3856.1922882000003,0,38325.346668000006,0,0,0,0]
[1,"j",3,null,"CO2e non-disaggregated feeds","North America","Catfish","1j","13",null,null,null,38842.062300000005,0,0,0,0,0,0,0,0,0,0,0,0,0,0,0,0,0,0,0,0,0,0,0,0,0,0,0,0,0,0,0,0,0,0,0,0,0,1682.5023000000001,0,37159.560000000005,0,0,0,0]
[1,"j",9,null,"CO2e non-disaggregated feeds","North America","Shrimp","1j","19",null,null,null,1550.8733545406621,0,0,0,0,0,0,0,0,0,0,0,0,0,0,0,0,0,0,0,0,0,0,0,0,0,0,0,0,0,0,0,0,264.23706087911654,0,212.40594509128979,0,0,616.89697397178486,0,457.33337459847087,0,0,0,0]
[2,"j",4,null,"CO2e non-disaggregated feeds","Russian Federation","Cyprinid","2j","24",null,null,null,2181.6702,0,0,0,0,0,0,0,0,0,0,0,0,0,0,0,0,0,0,0,0,0,0,0,0,0,0,0,0,0,0,0,0,1035.0990000000002,0,0,0,0,0,0,1146.5711999999999,0,0,0,0]
[2,"j",8,null,"CO2e non-disaggregated feeds","Russian Federation","Salmonids","2j","28",null,null,null,28262.575123200004,0,0,0,0,0,0,0,0,0,0,0,0,0,0,0,0,0,0,0,0,0,0,0,0,0,0,0,0,0,0,0,0,12008.760192000002,0,12285.885427200001,0,0,0,0,3967.9295040000006,0,0,0,0]
[3,"j",8,null,"CO2e non-disaggregated feeds","Western Europe","Salmonids","3j","38",null,null,null,813586.07312330382,0,0,0,0,0,0,0,0,0,0,0,0,0,0,0,0,0,0,0,0,0,0,0,0,0,0,0,0,0,0,0,0,345692.49281423993,0,353670.01187918393,0,0,0,0,114223.56842987999,0,0,0,0]
[3,"j",2,null,"CO2e non-disaggregated feeds","Western Europe","Bivalves","3j","32",null,null,null,0,0,0,0,0,0,0,0,0,0,0,0,0,0,0,0,0,0,0,0,0,0,0,0,0,0,0,0,0,0,0,0,0,0,0,0,0,0,0,0,0,0,0,0,0]
[4,"j",4,null,"CO2e non-disaggregated feeds","Eastern Europe","Cyprinid","4j","44",null,null,null,2248.7344386300019,0,0,0,0,0,0,0,0,0,0,0,0,0,0,0,0,0,0,0,0,0,0,0,0,0,0,0,0,0,0,0,0,1066.9177993500011,0,0,0,0,0,0,1181.816639280001,0,0,0,0]
[4,"j",8,null,"CO2e non-disaggregated feeds","Eastern Europe","Salmonids","4j","48",null,null,null,11427.570219743997,{"$f":"VLOOKUP($H738,$J$121:$BE$230,N$376,FALSE)*VLOOKUP($I738,$M$335:$BE$373,(N$376-3),FALSE)","v":0},0,0,0,0,0,0,0,0,0,{"$f":"VLOOKUP($H738,$J$121:$BE$230,X$376,FALSE)*VLOOKUP($I738,$M$335:$BE$373,(X$376-3),FALSE)","v":0},0,0,0,0,0,0,0,0,0,{"$f":"VLOOKUP($H738,$J$121:$BE$230,AH$376,FALSE)*VLOOKUP($I738,$M$335:$BE$373,(AH$376-3),FALSE)","v":0},0,0,0,0,0,0,0,0,0,{"$f":"VLOOKUP($H738,$J$121:$BE$230,AR$376,FALSE)*VLOOKUP($I738,$M$335:$BE$373,(AR$376-3),FALSE)","v":0},0,4855.5713606399986,0,4967.6230074239993,0,0,0,0,1604.3758516799999,0,0,0,0]
[5,"j",10,null,"CO2e non-disaggregated feeds","West Asia & Northern Africa","Tilapia","5j","510",null,null,null,184297.50838288353,0,0,0,0,0,0,0,0,0,0,0,0,0,0,0,0,0,0,0,0,0,0,0,0,0,0,0,0,0,0,0,0,45141.170211540011,0,0,0,0,14150.020662463501,0,125006.31750888002,0,0,0,0]
[5,"j",4,null,"CO2e non-disaggregated feeds","West Asia & Northern Africa","Cyprinid","5j","54",null,null,null,54284.498623555206,0,0,0,0,0,0,0,0,0,0,0,0,0,0,0,0,0,0,0,0,0,0,0,0,0,0,0,0,0,0,0,0,13296.250251648002,0,0,0,0,4167.8630596512003,0,36820.385312256003,0,0,0,0]
[5,"j",7,null,"CO2e non-disaggregated feeds","West Asia & Northern Africa","Marine Fish - general","5j","57",null,null,null,186922.91602432562,0,0,0,0,0,0,0,0,0,0,0,0,0,0,0,0,0,0,0,0,0,0,0,0,0,0,0,0,0,0,0,0,132229.33470222598,0,31316.486572638638,0,0,0,0,23377.094749460975,0,0,0,0]
[5,"j",8,null,"CO2e non-disaggregated feeds","West Asia & Northern Africa","Salmonids","5j","58",null,null,null,60914.882930976004,0,0,0,0,0,0,0,0,0,0,0,0,0,0,0,0,0,0,0,0,0,0,0,0,0,0,0,0,0,0,0,0,25882.716562560003,0,26480.010021695998,0,0,0,0,8552.1563467200012,0,0,0,0]
[6,"j",1,null,"CO2e non-disaggregated feeds","East Asia","Alga","6j","61",null,null,null,0,0,0,0,0,0,0,0,0,0,0,0,0,0,0,0,0,0,0,0,0,0,0,0,0,0,0,0,0,0,0,0,0,0,0,0,0,0,0,0,0,0,0,0,0]
[6,"j",4,null,"CO2e non-disaggregated feeds","East Asia","Cyprinid","6j","64",null,null,null,3249516.0912760263,0,0,0,0,0,0,0,0,0,0,0,0,0,0,0,0,0,0,0,0,0,0,0,0,0,0,0,0,0,0,0,0,992335.19348340004,0,0,0,0,497694.266270136,0,0,0,0,1759486.6315224899,0]
[6,"j",2,null,"CO2e non-disaggregated feeds","East Asia","Bivalves","6j","62",null,null,null,0,0,0,0,0,0,0,0,0,0,0,0,0,0,0,0,0,0,0,0,0,0,0,0,0,0,0,0,0,0,0,0,0,0,0,0,0,0,0,0,0,0,0,0,0]
[6,"j",9,null,"CO2e non-disaggregated feeds","East Asia","Shrimp","6j","69",null,null,null,3435139.4912656704,0,0,0,0,0,0,0,0,0,0,0,0,0,0,0,0,0,0,0,0,0,0,0,0,0,0,0,0,0,0,0,0,2240542.5342842881,0,225131.4373391424,0,0,0,0,969465.51964224002,0,0,0,0]
[6,"j",5,null,"CO2e non-disaggregated feeds","East Asia","FW Fish - general","6j","65",null,null,null,503910.89831549959,0,0,0,0,0,0,0,0,0,0,0,0,0,0,0,0,0,0,0,0,0,0,0,0,0,0,0,0,0,0,0,0,143558.06622768004,0,0,27916.522417198084,0,14399.978335453443,0,318036.33133516804,0,0,0,0]
[6,"j",10,null,"CO2e non-disaggregated feeds","East Asia","Tilapia","6j","610",null,null,null,1056825.4112796444,{"$f":"VLOOKUP($H748,$J$121:$BE$230,N$376,FALSE)*VLOOKUP($I748,$M$335:$BE$373,(N$376-3),FALSE)","v":0},0,0,0,0,0,0,0,0,0,{"$f":"VLOOKUP($H748,$J$121:$BE$230,X$376,FALSE)*VLOOKUP($I748,$M$335:$BE$373,(X$376-3),FALSE)","v":0},0,0,0,0,0,0,0,0,0,{"$f":"VLOOKUP($H748,$J$121:$BE$230,AH$376,FALSE)*VLOOKUP($I748,$M$335:$BE$373,(AH$376-3),FALSE)","v":0},0,0,0,0,0,0,0,0,0,{"$f":"VLOOKUP($H748,$J$121:$BE$230,AR$376,FALSE)*VLOOKUP($I748,$M$335:$BE$373,(AR$376-3),FALSE)","v":0},0,301076.66432844003,0,0,58547.831340176643,0,30200.305406483523,0,667000.61020454403,0,0,0,0]
[6,"j",3,null,"CO2e non-disaggregated feeds","East Asia","Catfish","6j","63",null,null,null,518620.13330428046,0,0,0,0,0,0,0,0,0,0,0,0,0,0,0,0,0,0,0,0,0,0,0,0,0,0,0,0,0,0,0,0,52434.762272170214,0,0,0,0,131490.25000559606,0,0,0,0,334695.12102651416,0]
[6,"j",7,null,"CO2e non-disaggregated feeds","East Asia","Marine Fish - general","6j","67",null,null,null,815233.44705928187,0,0,0,0,0,0,0,0,0,0,0,0,0,0,0,0,0,0,0,0,0,0,0,0,0,0,0,0,0,0,0,0,446350.50536543998,0,179398.56850264798,0,0,34978.429026234,0,154505.94416495998,0,0,0,0]
[7,"j",2,null,"CO2e non-disaggregated feeds","NZ+Australia","Bivalves","7j","72",null,null,null,0,0,0,0,0,0,0,0,0,0,0,0,0,0,0,0,0,0,0,0,0,0,0,0,0,0,0,0,0,0,0,0,0,0,0,0,0,0,0,0,0,0,0,0,0]
[7,"j",8,null,"CO2e non-disaggregated feeds","NZ+Australia","Salmonids","7j","78",null,null,null,45306.087285312009,0,0,0,0,0,0,0,0,0,0,0,0,0,0,0,0,0,0,0,0,0,0,0,0,0,0,0,0,0,0,0,7232.8613760000017,5605.4675664000015,0,9447.9251724000005,6373.2636201599998,1542.2685949440004,725.51163340800008,1359.6388452000001,13019.150476800001,0,0,0,0]
[7,"j",7,null,"CO2e non-disaggregated feeds","NZ+Australia","Marine Fish - general","7j","77",null,null,null,2444.5296641849259,0,0,0,0,0,0,0,0,0,0,0,0,0,0,0,0,0,0,0,0,0,0,0,0,0,0,0,0,0,0,0,0,1237.9840552763824,0,398.05948854271372,808.48612036582972,0,0,0,0,0,0,0,0]
[8,"j",6,null,"CO2e non-disaggregated feeds","South Asia","Indian Carp","8j","86",null,null,null,330042.51000349195,0,0,0,0,0,0,0,0,0,0,0,0,0,0,0,0,0,0,0,0,0,0,0,0,0,0,0,0,0,0,0,0,0,0,280573.05100967997,0,0,21882.013069176002,0,0,0,0,0,27587.445924635998]
[8,"j",4,null,"CO2e non-disaggregated feeds","South Asia","Cyprinid","8j","84",null,null,null,40988.325887926563,0,0,0,0,0,0,0,0,0,0,0,0,0,0,0,0,0,0,0,0,0,0,0,0,0,0,0,0,0,0,0,0,0,0,34844.6618286624,0,0,2717.5501808956806,0,0,0,0,0,3426.1138783684805]
[8,"j",9,null,"CO2e non-disaggregated feeds","South Asia","Shrimp","8j","89",null,null,null,382218.87672288,0,0,0,0,0,0,0,0,0,0,0,0,0,0,0,0,0,0,0,0,0,0,0,0,0,0,0,0,0,0,0,0,249299.23599360001,0,25049.77900128,0,0,0,0,107869.861728,0,0,0,0]
[8,"j",5,null,"CO2e non-disaggregated feeds","South Asia","FW Fish - general","8j","85",null,null,null,56904.620442624,0,0,0,0,0,0,0,0,0,0,0,0,0,0,0,0,0,0,0,0,0,0,0,0,0,0,0,0,0,0,0,0,16211.432016000001,0,0,3152.5000104959995,0,1626.1313345279998,0,35914.557081599996,0,0,0,0]
[8,"j",3,null,"CO2e non-disaggregated feeds","South Asia","Catfish","8j","83",null,null,null,55360.621917525597,{"$f":"VLOOKUP($H758,$J$121:$BE$230,N$376,FALSE)*VLOOKUP($I758,$M$335:$BE$373,(N$376-3),FALSE)","v":0},0,0,0,0,0,0,0,0,0,{"$f":"VLOOKUP($H758,$J$121:$BE$230,X$376,FALSE)*VLOOKUP($I758,$M$335:$BE$373,(X$376-3),FALSE)","v":0},0,0,0,0,0,0,0,0,0,{"$f":"VLOOKUP($H758,$J$121:$BE$230,AH$376,FALSE)*VLOOKUP($I758,$M$335:$BE$373,(AH$376-3),FALSE)","v":0},0,0,0,0,0,0,0,0,0,{"$f":"VLOOKUP($H758,$J$121:$BE$230,AR$376,FALSE)*VLOOKUP($I758,$M$335:$BE$373,(AR$376-3),FALSE)","v":0},0,5597.2008471599993,0,0,0,0,14036.057509032,0,0,0,0,35727.363561333601,0]
[9,"j",8,null,"CO2e non-disaggregated feeds","Latin America and the Caribbean","Salmonids","9j","98",null,null,null,663533.73201329994,0,0,0,0,0,0,0,0,0,0,0,0,0,0,0,0,0,0,0,0,0,0,0,0,0,0,0,0,0,0,0,0,230354.22577049996,0,200514.88534769998,23201.849344500002,0,19148.8680666,0,190313.90348399998,0,0,0,0]
[9,"j",9,null,"CO2e non-disaggregated feeds","Latin America and the Caribbean","Shrimp","9j","99",null,null,null,410873.32321112161,0,0,0,0,0,0,0,0,0,0,0,0,0,0,0,0,0,0,0,0,0,0,0,0,0,0,0,0,0,0,0,0,168709.82949287997,0,72328.932028742391,0,0,14102.4113883792,0,155732.15030112001,0,0,0,0]
[9,"j",10,null,"CO2e non-disaggregated feeds","Latin America and the Caribbean","Tilapia","9j","910",null,null,null,135981.206153982,0,0,0,0,0,0,0,0,0,0,0,0,0,0,0,0,0,0,0,0,0,0,0,0,0,0,0,0,0,0,0,0,30176.778422700001,0,0,14670.556894728001,0,7567.4075121540009,0,83566.4633244,0,0,0,0]
[9,"j",2,null,"CO2e non-disaggregated feeds","Latin America and the Caribbean","Bivalves","9j","92",null,null,null,0,0,0,0,0,0,0,0,0,0,0,0,0,0,0,0,0,0,0,0,0,0,0,0,0,0,0,0,0,0,0,0,0,0,0,0,0,0,0,0,0,0,0,0,0]
[9,"j",5,null,"CO2e non-disaggregated feeds","Latin America and the Caribbean","FW Fish - general",{"$f":"CONCATENATE(A763,B763)","v":"9j"},{"$f":"CONCATENATE(A763,C763)","v":"95"},null,null,null,{"$f":"SUM(N763:BE763)","v":35913.695774158812},0,0,0,0,0,0,0,0,0,0,0,0,0,0,0,0,0,0,0,0,0,0,0,0,0,0,0,0,0,0,0,0,7969.9222441800021,0,0,3874.6083525552008,0,1998.6112704636005,0,22070.553906960005,0,0,0,0]
[10,"j",3,null,"CO2e non-disaggregated feeds","Sub-Saharan Africa","Catfish","10j","103",null,null,null,158343.87416562001,0,0,0,0,0,0,0,0,0,0,0,0,0,0,0,0,0,0,0,0,0,0,0,0,0,0,0,0,0,0,0,0,65431.352961000004,25246.435880951998,0,0,0,0,23152.632586200001,36238.903178400004,0,0,0,8274.5495590680002]
[10,"j",10,null,"CO2e non-disaggregated feeds","Sub-Saharan Africa","Tilapia","10j","1010",null,null,null,103262.44653360001,0,0,0,0,0,0,0,0,0,0,0,0,0,0,0,0,0,0,0,0,0,0,0,0,0,0,0,0,0,0,0,0,43907.930820000009,0,18824.118033600003,0,0,0,0,40530.397680000002,0,0,0,0]
[10,"j",5,null,"CO2e non-disaggregated feeds","Sub-Saharan Africa","FW Fish - general","10j","105",null,null,null,12666.723144480002,0,0,0,0,0,0,0,0,0,0,0,0,0,0,0,0,0,0,0,0,0,0,0,0,0,0,0,0,0,0,0,0,5385.9812759999995,0,2309.0668444799999,0,0,0,0,4971.675024000001,0,0,0,0]
[10,"j",4,null,"CO2e non-disaggregated feeds","Sub-Saharan Africa","Cyprinid","10j","104",null,null,null,5047.1634377736009,0,0,0,0,0,0,0,0,0,0,0,0,0,0,0,0,0,0,0,0,0,0,0,0,0,0,0,0,0,0,0,0,1236.2340968640001,0,0,0,0,387.51184190160012,0,3423.4174990080005,0,0,0,0]
[1,"k",2,null,"Feed blending/transport (from GLEAM)","North America","Bivalves","1k","12",null,null,null,0,{"$f":"VLOOKUP($H768,$J$121:$BE$230,N$376,FALSE)*VLOOKUP($I768,$M$335:$BE$373,(N$376-3),FALSE)","v":0},0,0,0,0,0,0,0,0,0,{"$f":"VLOOKUP($H768,$J$121:$BE$230,X$376,FALSE)*VLOOKUP($I768,$M$335:$BE$373,(X$376-3),FALSE)","v":0},0,0,0,0,0,0,0,0,0,{"$f":"VLOOKUP($H768,$J$121:$BE$230,AH$376,FALSE)*VLOOKUP($I768,$M$335:$BE$373,(AH$376-3),FALSE)","v":0},0,0,0,0,0,0,0,0,0,{"$f":"VLOOKUP($H768,$J$121:$BE$230,AR$376,FALSE)*VLOOKUP($I768,$M$335:$BE$373,(AR$376-3),FALSE)","v":0},0,0,0,0,0,0,0,0,0,0,0,0,0]
[1,"k",8,null,"Feed blending/transport (from GLEAM)","North America","Salmonids","1k","18",null,null,null,15495.742017,0,0,2370.848528601,0,0,0,0,0,0,0,0,0,0,0,3207.6185975190001,0,0,0,0,0,0,2045.4379462440004,0,77.478710085000003,0,0,0,0,542.35097059500015,0,0,0,2804.7293050770004,0,1518.5827176660002,1162.1806512749999,0,929.74452102000009,0,836.77006891800011,0,0,0,0]
[1,"k",3,null,"Feed blending/transport (from GLEAM)","North America","Catfish","1k","13",null,null,null,27043.902000000006,0,0,0,0,0,0,0,0,0,0,0,0,0,0,7301.853540000001,0,4597.4633400000002,0,0,0,0,0,0,5408.7804000000006,0,0,0,5408.7804000000006,1757.8536300000001,1352.1951000000001,0,0,0,0,0,0,0,405.65853000000004,0,811.31706000000008,0,0,0,0]
[1,"k",9,null,"Feed blending/transport (from GLEAM)","North America","Shrimp","1k","19",null,null,null,8782.8732540000019,0,0,0,0,0,0,0,0,0,0,0,0,0,0,2467.5698219039059,0,1504.6170785024578,0,0,0,0,23.96426882895987,0,1770.1377394146564,0,0,0,1770.1377394146564,605.250101345963,458.51061407297067,0,0,15.976179219306584,0,7.9880896096532918,0,0,148.73650967540581,0,9.9851120120666135,0,0,0,0]
[2,"k",4,null,"Feed blending/transport (from GLEAM)","Russian Federation","Cyprinid","2k","24",null,null,null,1251.6735599999997,0,625.83677999999998,0,0,0,0,0,0,0,0,0,0,0,0,0,0,0,100.13388479999999,0,0,0,438.08574599999992,0,0,0,0,0,0,0,0,0,0,62.583678000000006,0,0,0,0,0,0,25.033471199999997,0,0,0,0]
[2,"k",8,null,"Feed blending/transport (from GLEAM)","Russian Federation","Salmonids","2k","28",null,null,null,4121.2616369759999,0,1047.848304096,0,0,0,0,0,0,0,0,0,0,0,0,0,0,297.02786572800005,792.07430860800014,0,0,0,437.29102454400004,0,272.27554358400005,0,0,0,0,0,0,0,0,726.06811622400005,0,462.04334668800004,0,0,0,0,86.633127504000015,0,0,0,0]
[3,"k",8,null,"Feed blending/transport (from GLEAM)","Western Europe","Salmonids","3k","38",null,null,null,118637.49346706319,0,30164.087428062117,0,0,0,0,0,0,0,0,0,0,0,0,0,0,8550.4499796081582,22801.19994562176,0,0,0,12588.162469978681,0,7837.9124813074804,0,0,0,0,0,0,0,0,20901.099950153275,0,13300.699968279359,0,0,0,0,2493.8812440523798,0,0,0,0]
[3,"k",2,null,"Feed blending/transport (from GLEAM)","Western Europe","Bivalves","3k","32",null,null,null,0,0,0,0,0,0,0,0,0,0,0,0,0,0,0,0,0,0,0,0,0,0,0,0,0,0,0,0,0,0,0,0,0,0,0,0,0,0,0,0,0,0,0,0,0]
[4,"k",4,null,"Feed blending/transport (from GLEAM)","Eastern Europe","Cyprinid","4k","44",null,null,null,1290.1498312140011,0,645.07491560700055,0,0,0,0,0,0,0,0,0,0,0,0,0,0,0,103.21198649712009,0,0,0,451.55244092490034,0,0,0,0,0,0,0,0,0,0,64.507491560700061,0,0,0,0,0,0,25.802996624280023,0,0,0,0]
[4,"k",8,null,"Feed blending/transport (from GLEAM)","Eastern Europe","Salmonids","4k","48",null,null,null,1666.37351851992,0,423.68255626031993,0,0,0,0,0,0,0,0,0,0,0,0,0,0,120.09899232575997,320.26397953535997,0,0,0,176.81240536847997,0,110.09074296527999,0,0,0,0,0,0,0,0,293.57531457407993,0,186.82065472895999,0,0,0,0,35.028872761679999,0,0,0,0]
[5,"k",10,null,"Feed blending/transport (from GLEAM)","West Asia & Northern Africa","Tilapia","5k","510",null,null,null,68232.61497359701,{"$f":"VLOOKUP($H778,$J$121:$BE$230,N$376,FALSE)*VLOOKUP($I778,$M$335:$BE$373,(N$376-3),FALSE)","v":0},23881.415240758954,0,0,1705.8153743399253,0,0,0,0,0,{"$f":"VLOOKUP($H778,$J$121:$BE$230,X$376,FALSE)*VLOOKUP($I778,$M$335:$BE$373,(X$376-3),FALSE)","v":0},0,0,0,0,0,1705.8153743399253,0,0,0,{"$f":"VLOOKUP($H778,$J$121:$BE$230,AH$376,FALSE)*VLOOKUP($I778,$M$335:$BE$373,(AH$376-3),FALSE)","v":0},0,0,0,17058.153743399253,0,0,0,0,0,{"$f":"VLOOKUP($H778,$J$121:$BE$230,AR$376,FALSE)*VLOOKUP($I778,$M$335:$BE$373,(AR$376-3),FALSE)","v":15011.175294191344},0,2729.3045989438806,0,0,0,0,3411.6307486798505,0,2729.3045989438806,0,0,0,0]
[5,"k",4,null,"Feed blending/transport (from GLEAM)","West Asia & Northern Africa","Cyprinid","5k","54",null,null,null,20097.793649606403,0,7034.22777736224,0,0,502.44484124016009,0,0,0,0,0,0,0,0,0,0,0,502.44484124016009,0,0,0,0,0,0,0,5024.4484124016008,0,0,0,0,0,4421.5146029134085,0,803.91174598425619,0,0,0,0,1004.8896824803202,0,803.91174598425619,0,0,0,0]
[5,"k",7,null,"Feed blending/transport (from GLEAM)","West Asia & Northern Africa","Marine Fish - general","5k","57",null,null,null,24908.843867372176,0,6555.7602279884277,409.64856993707457,0,0,0,0,0,0,0,409.64856993707457,0,0,0,0,0,604.23164065718504,0,0,716.8849973898806,6529.7413150212697,0,0,0,0,0,0,0,0,0,0,0,7994.789005842279,0,1177.7396385690895,0,0,0,0,510.39990202989799,0,0,0,0]
[5,"k",8,null,"Feed blending/transport (from GLEAM)","West Asia & Northern Africa","Salmonids","5k","58",null,null,null,8882.6361026896811,0,2258.4480181012805,0,0,0,0,0,0,0,0,0,0,0,0,0,0,640.18998938304003,1707.1733050214402,942.50192881392002,0,586.84082360112006,0,0,0,0,0,0,0,0,0,0,0,1564.9088629363202,0,995.8510945958401,0,0,0,0,186.72208023672002,0,0,0,0]
[6,"k",1,null,"Feed blending/transport (from GLEAM)","East Asia","Alga","6k","61",null,null,null,0,0,0,0,0,0,0,0,0,0,0,0,0,0,0,0,0,0,0,0,0,0,0,0,0,0,0,0,0,0,0,0,0,0,0,0,0,0,0,0,0,0,0,0,0]
[6,"k",4,null,"Feed blending/transport (from GLEAM)","East Asia","Cyprinid","6k","64",null,null,null,1199962.2493506959,0,239992.44987013921,0,0,119996.22493506961,0,0,0,0,0,0,0,359988.67480520875,0,0,0,0,0,0,0,0,0,0,0,0,0,0,0,0,0,0,0,59998.112467534804,0,0,0,0,119996.22493506961,0,0,0,0,299990.56233767397,0]
[6,"k",2,null,"Feed blending/transport (from GLEAM)","East Asia","Bivalves","6k","62",null,null,null,0,0,0,0,0,0,0,0,0,0,0,0,0,0,0,0,0,0,0,0,0,0,0,0,0,0,0,0,0,0,0,0,0,0,0,0,0,0,0,0,0,0,0,0,0]
[6,"k",9,null,"Feed blending/transport (from GLEAM)","East Asia","Shrimp","6k","69",null,null,null,423333.27691044484,0,118533.31753492456,0,0,0,0,118533.31753492456,0,12699.998307313344,0,0,0,0,0,0,0,0,0,0,0,0,0,0,0,0,0,0,0,0,0,8466.6655382088975,0,135466.64861134236,0,8466.6655382088975,0,0,0,0,21166.663845522242,0,0,0,0]
[6,"k",5,null,"Feed blending/transport (from GLEAM)","East Asia","FW Fish - general","6k","65",null,null,null,173594.83085377922,0,39926.811096369223,0,0,36454.914479293635,0,6943.7932341511687,17359.483085377924,0,6943.7932341511687,0,0,0,0,0,0,0,0,0,0,0,0,0,0,0,0,0,0,0,0,39926.811096369223,0,8679.741542688962,0,0,6943.7932341511687,0,3471.8966170755843,0,6943.7932341511687,0,0,0,0]
[6,"k",10,null,"Feed blending/transport (from GLEAM)","East Asia","Tilapia","6k","610",null,null,null,364071.16640331357,0,83736.368272762134,0,0,76454.944944695861,0,14562.846656132544,36407.116640331362,0,14562.846656132544,0,0,0,0,0,0,0,0,0,0,0,0,0,0,0,0,0,0,0,0,83736.368272762134,0,18203.558320165681,0,0,14562.846656132544,0,7281.423328066272,0,14562.846656132544,0,0,0,0]
[6,"k",3,null,"Feed blending/transport (from GLEAM)","East Asia","Catfish","6k","63",null,null,null,315443.49638612429,{"$f":"VLOOKUP($H788,$J$121:$BE$230,N$376,FALSE)*VLOOKUP($I788,$M$335:$BE$373,(N$376-3),FALSE)","v":0},79257.15989601113,0,0,38043.43675008534,0,20606.861572962895,0,19021.71837504267,0,{"$f":"VLOOKUP($H788,$J$121:$BE$230,X$376,FALSE)*VLOOKUP($I788,$M$335:$BE$373,(X$376-3),FALSE)","v":0},0,0,0,0,0,0,0,0,0,{"$f":"VLOOKUP($H788,$J$121:$BE$230,AH$376,FALSE)*VLOOKUP($I788,$M$335:$BE$373,(AH$376-3),FALSE)","v":0},0,0,0,0,0,0,0,0,0,{"$f":"VLOOKUP($H788,$J$121:$BE$230,AR$376,FALSE)*VLOOKUP($I788,$M$335:$BE$373,(AR$376-3),FALSE)","v":66576.014312649335},0,3170.2863958404455,0,0,0,0,31702.86395840445,0,0,0,0,57065.155125128011,0]
[6,"k",7,null,"Feed blending/transport (from GLEAM)","East Asia","Marine Fish - general","6k","67",null,null,null,84334.494523374,0,25300.348357012197,0,0,0,0,13493.519123739839,0,0,0,0,0,0,0,0,0,0,0,0,0,0,0,0,0,0,0,0,0,0,0,0,0,26987.038247479679,0,6746.7595618699197,0,0,8433.4494523373996,0,3373.3797809349599,0,0,0,0]
[7,"k",2,null,"Feed blending/transport (from GLEAM)","NZ+Australia","Bivalves","7k","72",null,null,null,0,0,0,0,0,0,0,0,0,0,0,0,0,0,0,0,0,0,0,0,0,0,0,0,0,0,0,0,0,0,0,0,0,0,0,0,0,0,0,0,0,0,0,0,0]
[7,"k",8,null,"Feed blending/transport (from GLEAM)","NZ+Australia","Salmonids","7k","78",null,null,null,5477.3068265568008,0,109.32748156800002,0,0,0,0,0,0,0,0,0,0,0,0,0,639.56576717280007,0,120.2602297248,0,0,0,606.76752270240002,0,207.7222149792,0,0,0,0,0,0,0,437.3099262720001,338.91519286080006,0,355.31431509600003,1585.2484827359999,524.77191152640012,174.92397050880001,92.928359332800028,284.25145207680004,0,0,0,0]
[7,"k",7,null,"Feed blending/transport (from GLEAM)","NZ+Australia","Marine Fish - general","7k","77",null,null,null,496.5077898000003,0,0,0,0,0,0,0,0,0,0,0,0,0,0,0,89.820504687437221,45.908257951356809,0,0,0,0,69.860392534673423,0,0,0,0,0,0,0,0,0,0,74.850420572864351,0,14.970084114572872,201.09812993909563,0,0,0,0,0,0,0,0]
[8,"k",6,null,"Feed blending/transport (from GLEAM)","South Asia","Indian Carp","8k","86",null,null,null,527584.73228135996,0,0,0,0,0,0,0,0,0,0,0,0,0,152999.57236159439,0,0,79137.709842203985,0,0,0,0,0,0,0,79137.709842203985,5275.8473228136008,10551.694645627202,0,0,0,179378.8089756624,0,0,0,10551.694645627202,0,0,5275.8473228136008,0,0,0,0,0,5275.8473228136008]
[8,"k",4,null,"Feed blending/transport (from GLEAM)","South Asia","Cyprinid","8k","84",null,null,null,65521.301907484805,0,0,0,0,0,0,0,0,0,0,0,0,0,19001.177553170593,0,0,9828.1952861227201,0,0,0,0,0,0,0,9828.1952861227201,655.21301907484815,1310.4260381496963,0,0,0,22277.242648544838,0,0,0,1310.4260381496963,0,0,655.21301907484815,0,0,0,0,0,655.21301907484815]
[8,"k",9,null,"Feed blending/transport (from GLEAM)","South Asia","Shrimp","8k","89",null,null,null,47103.172954560003,0,13188.888427276801,0,0,0,0,13188.888427276801,0,1413.0951886368,0,0,0,0,0,0,0,0,0,0,0,0,0,0,0,0,0,0,0,0,0,942.06345909120012,0,15073.015345459202,0,942.06345909120012,0,0,0,0,2355.1586477280002,0,0,0,0]
[8,"k",5,null,"Feed blending/transport (from GLEAM)","South Asia","FW Fish - general","8k","85",null,null,null,19603.36240704,0,0,0,0,0,0,0,0,0,0,0,0,0,0,4508.7733536192,0,4116.7061054783999,0,784.13449628159992,1960.3362407039999,0,0,0,0,784.13449628159992,0,0,0,0,0,4508.7733536192,0,980.16812035199996,0,0,784.13449628159992,0,392.06724814079996,0,784.13449628159992,0,0,0,0]
[8,"k",3,null,"Feed blending/transport (from GLEAM)","South Asia","Catfish","8k","83",null,null,null,33672.329742603237,0,0,0,0,0,0,0,0,0,0,0,0,0,0,8460.3843574379989,0,4060.9844915702392,0,0,0,4230.1921787189995,0,0,0,0,0,0,0,0,0,7106.722860247919,0,338.41537429751997,0,0,0,0,3384.1537429751997,0,0,0,0,6091.4767373553595,0]
[9,"k",8,null,"Feed blending/transport (from GLEAM)","Latin America and the Caribbean","Salmonids","9k","98",null,null,null,76947.905420999989,{"$f":"VLOOKUP($H798,$J$121:$BE$230,N$376,FALSE)*VLOOKUP($I798,$M$335:$BE$373,(N$376-3),FALSE)","v":0},15928.216422147001,11773.029529412999,0,0,0,10157.123515572001,0,384.73952710499998,0,{"$f":"VLOOKUP($H798,$J$121:$BE$230,X$376,FALSE)*VLOOKUP($I798,$M$335:$BE$373,(X$376-3),FALSE)","v":2693.1766897350003},0,0,0,0,0,0,0,0,0,{"$f":"VLOOKUP($H798,$J$121:$BE$230,AH$376,FALSE)*VLOOKUP($I798,$M$335:$BE$373,(AH$376-3),FALSE)","v":0},0,0,0,0,0,0,0,0,0,{"$f":"VLOOKUP($H798,$J$121:$BE$230,AR$376,FALSE)*VLOOKUP($I798,$M$335:$BE$373,(AR$376-3),FALSE)","v":0},0,13927.570881200998,0,7540.8947312580003,5771.0929065750006,0,4616.8743252599998,0,4155.1868927340001,0,0,0,0]
[9,"k",9,null,"Feed blending/transport (from GLEAM)","Latin America and the Caribbean","Shrimp","9k","99",null,null,null,68003.038964822394,0,0,0,0,0,0,10200.455844723358,0,2720.1215585928958,6800.3038964822399,2720.1215585928958,0,0,0,25841.154806632509,0,0,0,0,0,0,0,0,0,0,0,0,0,0,0,0,0,10200.455844723358,0,2720.1215585928958,0,0,3400.15194824112,0,3400.15194824112,0,0,0,0]
[9,"k",10,null,"Feed blending/transport (from GLEAM)","Latin America and the Caribbean","Tilapia","9k","910",null,null,null,36490.688984987995,0,0,0,0,0,0,0,0,0,0,0,0,0,0,10947.206695496399,0,0,0,7298.1377969976011,0,3649.0688984988005,0,0,0,3649.0688984988005,0,1824.5344492494003,0,0,0,0,0,1824.5344492494003,0,0,3649.0688984988005,0,1824.5344492494003,0,1824.5344492494003,0,0,0,0]
[9,"k",2,null,"Feed blending/transport (from GLEAM)","Latin America and the Caribbean","Bivalves","9k","92",null,null,null,0,0,0,0,0,0,0,0,0,0,0,0,0,0,0,0,0,0,0,0,0,0,0,0,0,0,0,0,0,0,0,0,0,0,0,0,0,0,0,0,0,0,0,0,0]
[9,"k",5,null,"Feed blending/transport (from GLEAM)","Latin America and the Caribbean","FW Fish - general","9k","95",null,null,null,9637.4752060392002,0,0,0,0,0,0,0,0,0,0,0,0,0,0,2891.2425618117604,0,0,0,1927.4950412078406,0,963.74752060392029,0,0,0,963.74752060392029,0,481.87376030196015,0,0,0,0,0,481.87376030196015,0,0,963.74752060392029,0,481.87376030196015,0,481.87376030196015,0,0,0,0]
[10,"k",3,null,"Feed blending/transport (from GLEAM)","Sub-Saharan Africa","Catfish","10k","103",null,null,null,15824.321054568003,0,3956.0802636420003,0,0,0,0,0,0,0,0,0,0,0,0,0,0,0,0,0,0,0,0,0,0,2373.6481581851999,0,632.97284218272,0,0,0,0,0,3956.0802636420003,949.45926327408006,0,0,0,0,1582.4321054568002,791.21605272840009,0,0,0,1582.4321054568002]
[10,"k",10,null,"Feed blending/transport (from GLEAM)","Sub-Saharan Africa","Tilapia","10k","1010",null,null,null,17698.273653600001,7964.223144120002,0,0,0,0,0,0,0,0,0,0,0,0,0,0,0,0,0,0,0,0,0,0,0,4424.5684134000003,0,1061.8964192160001,0,0,0,0,0,2654.7410480400004,0,707.93094614400013,0,0,0,0,884.91368268000008,0,0,0,0]
[10,"k",5,null,"Feed blending/transport (from GLEAM)","Sub-Saharan Africa","FW Fish - general","10k","105",null,null,null,2170.9647604800002,976.93414221600005,0,0,0,0,0,0,0,0,0,0,0,0,0,0,0,0,0,0,0,0,0,0,0,542.74119012000006,0,130.25788562879998,0,0,0,0,0,325.644714072,0,86.838590419200003,0,0,0,0,108.54823802400001,0,0,0,0]
[10,"k",4,null,"Feed blending/transport (from GLEAM)","Sub-Saharan Africa","Cyprinid","10k","104",null,null,null,1868.6153848752003,0,654.01538470632011,0,0,46.715384621880013,0,0,0,0,0,0,0,0,0,0,0,46.715384621880013,0,0,0,0,0,0,0,504.52615391630411,0,0,0,0,0,373.7230769750401,0,74.744615395008012,0,0,0,0,93.430769243760025,0,74.744615395008012,0,0,0,0]
[null,null,null,null,"Total EI","North America","Bivalves",1]
[null,null,null,null,"Total EI","North America","Salmonids",1]
[null,null,null,null,"Total EI","North America","Catfish",1]
[null,null,null,null,"Total EI","North America","Shrimp",1]
[null,null,null,null,"Total EI","Russian Federation","Cyprinid",2]
[null,null,null,null,"Total EI","Russian Federation","Salmonids",2]
[null,null,null,null,"Total EI","Western Europe","Salmonids",3]
[null,null,null,null,"Total EI","Western Europe","Bivalves",3]
[null,null,null,null,"Total EI","Eastern Europe","Cyprinid",4]
[null,null,null,null,"Total EI","Eastern Europe","Salmonids",4]
[null,null,null,null,"Total EI","West Asia & Northern Africa","Tilapia",5]
[null,null,null,null,"Total EI","West Asia & Northern Africa","Cyprinid",5]
[null,null,null,null,"Total EI","West Asia & Northern Africa","Marine Fish - general",5]
[null,null,null,null,"Total EI","West Asia & Northern Africa","Salmonids",5]
[null,null,null,null,"Total EI","East Asia","Alga",6]
[null,null,null,null,"Total EI","East Asia","Cyprinid",6]
[null,null,null,null,"Total EI","East Asia","Bivalves",6]
[null,null,null,null,"Total EI","East Asia","Shrimp",6]
[null,null,null,null,"Total EI","East Asia","FW Fish - general",6]
[null,null,null,null,"Total EI","East Asia","Tilapia",6]
[null,null,null,null,"Total EI","East Asia","Catfish",6]
[null,null,null,null,"Total EI","East Asia","Marine Fish - general",6]
[null,null,null,null,"Total EI","NZ+Australia","Bivalves",7]
[null,null,null,null,"Total EI","NZ+Australia","Salmonids",7]
[null,null,null,null,"Total EI","NZ+Australia","Marine Fish - general",7]
[null,null,null,null,"Total EI","South Asia","Indian Carp",8]
[null,null,null,null,"Total EI","South Asia","Cyprinid",8]
[null,null,null,null,"Total EI","South Asia","Shrimp",8]
[null,null,null,null,"Total EI","South Asia","FW Fish - general",8]
[null,null,null,null,"Total EI","South Asia","Catfish",8]
[null,null,null,null,"Total EI","Latin America and the Caribbean","Salmonids",9]
[null,null,null,null,"Total EI","Latin America and the Caribbean","Shrimp",9]
[null,null,null,null,"Total EI","Latin America and the Caribbean","Tilapia",9]
[null,null,null,null,"Total EI","Latin America and the Caribbean","Bivalves",9]
[null,null,null,null,"Total EI","Latin America and the Caribbean","FW Fish - general",9]
[null,null,null,null,"Total EI","Sub-Saharan Africa","Catfish",10]
[null,null,null,null,"Total EI","Sub-Saharan Africa","Tilapia",10]
[null,null,null,null,"Total EI","Sub-Saharan Africa","FW Fish - general",10]
[null,null,null,null,"Total EI","Sub-Saharan Africa","Cyprinid",10]
[]
[]
[]
[]
[null,null,null,null,"Feed emissions summary (tCO2e in 2013)"]
[]
[null,null,null,null,"FISHERIES & AQUACULTURE","Feed production"]
[null,null,null,null,null,"a","b","c","d","e","f","g","h","k","j",null,null,"i"]
[null,null,null,null,null,"Manure applied to soils N2O","Synthetic fertilizers N2O","Crop residue N2O","Energy used in field operations CO2","Processing and transport CO2","Blending and transport CO2","Rice cultivation CH4","LUC for feed production CO2","Feed blending/transport (from GLEAM)","Other feed emissions","Total feed emissions",null,"Production of fertilizers used for crops"]
[null,null,null,null,"Countries in developing regions"]
[null,null,null,6,"East Asia",{"$f":"SUMIF($H$378:$H$806,CONCATENATE($D856,F$853),$M$378:$M$806)","v":741554.09890732018},{"$f":"SUMIF($H$378:$H$806,CONCATENATE($D856,G$853),$M$378:$M$806)","v":7904472.8773383945},773260.48222405941,3152970.8805004386,4364323.9509964688,0,2172271.0724564428,12855910.594112014,{"$f":"SUMIF($H$378:$H$806,CONCATENATE($D856,N$853),$M$378:$M$806)","v":2560739.5144277317},{"$f":"SUMIF($H$378:$H$806,CONCATENATE($D856,O$853),$M$378:$M$806)","v":9579245.4725004025},0,0,{"$f":"SUMIF($H$378:$H$806,CONCATENATE($D856,R$853),$M$378:$M$806)","v":10044498.769561291},{"$f":"SUM(F856:R856)","v":54149247.713024557}]
[null,null,null,8,"South Asia",609912.27879080572,2278380.2363648433,515148.06633890024,558919.38870730111,655659.7938922894,0,993440.90297978069,183947.94167545575,693484.89929304796,865514.95497444808,0,0,2973318.7851442331,{"$f":"SUM(F857:R857)","v":10327727.248161105}]
[null,null,null,10,"Sub-Saharan Africa",4094.1634190181253,15179.434839477221,19694.066113798861,39896.38682648947,40263.939681892713,0,1559.578145084135,160261.18324971054,37562.174853523204,279320.20728147362,0,0,15642.508182259942,613473.64259272791]
[null,null,null,5,"West Asia & Northern Africa",21188.373602184587,199083.47352970109,63772.710618311175,126158.1919325489,256260.18476158229,0,80064.357182709864,699099.62005748623,122121.88859326528,486419.80596174032,0,0,206291.1369502896,2260459.7431898192]
[null,null,null,9,"Latin America and the Caribbean",{"$f":"SUMIF($H$378:$H$806,CONCATENATE($D860,F$853),$M$378:$M$806)","v":20972.067510555797},105870.86555931553,107761.03915982239,145712.73991726316,348895.64680458501,0,0,1918515.3200019894,191079.1085768496,1246301.9571525622,0,0,82729.654938817825,4167838.3996217609]
[null,null,null,null,"Countries in developed regions",0,0,0,0,0,0,0,0,0,0,0,0,0,0]
[null,null,null,7,"NZ+Australia",17.523607909238553,1817.3777330723478,2039.749138676066,3310.5890291788928,1292.1017126459515,0,0,3.9851468953753248,5973.8146163568008,47750.616949496936,0,0,1250.5329947217665,63456.290928953378]
[null,null,null,4,"Eastern Europe",1011.1311186661828,2743.4200033698253,2816.6506992053223,5086.0712318300557,3636.5652392578836,0,0,5830.5026408614285,2956.5233497339213,13676.304658374,0,0,3103.5375489156859,40860.706490214303]
[null,null,null,3,"Western Europe",86635.615081223048,268559.04905031237,104072.17722121891,186563.67095954507,184473.87733215059,0,0,691711.73094191647,118637.49346706319,813586.07312330382,0,0,282656.44430372439,2736896.1314804577]
[null,null,null,1,"North America",8119.9980682807936,60957.297077118594,38481.572072230148,43471.044657651371,123282.41232462884,0,0,629.69090973763571,51322.517271000004,174015.12425864069,0,0,40302.994361148623,540582.65100043674]
[null,null,null,2,"Russian Federation",988.89935743067099,2840.4421560536389,5364.3069094229313,11838.207112251903,9347.9766568303112,0,0,14459.681773329772,5372.9351969759991,30444.245323200004,0,0,3553.2160785574915,84209.910564052712]
[null,null,null,null,"WORLD",{"$f":"SUM(F856:F866)","v":1494494.149463394},{"$f":"SUM(G856:G866)","v":10839904.473651659},1632410.820495645,4273927.1708744988,5987436.4494023314,0,3247335.9107640176,16530370.250509396,3789250.8696455481,13536274.762183644,0,0,13653347.580063958,74984752.437054083]
[]
[]
[]
[null,null,null,null,null,"Manure applied to soils N2O","Synthetic fertilizers and crop residue N2O",null,"Energy used in field operations CO2","Processing and transport CO2","Blending and transport CO2","Rice cultivation CH4","LUC for feed production CO2","Production of non-crop feedstuffs CO2","Other feed emissions","Total feed emissions",null,"Production of fertilizers used for crop growing, N2O and CO2"]
[null,null,null,null,null,1494494.149463394,12472315.294147305,null,4273927.1708744988,5987436.4494023314,3789250.8696455481,3247335.9107640176,16530370.250509396,0,13360577.466600014,null,0,13653347.580063958,{"$f":"SUM(F872:R872)","v":74809055.141470462}]

{"sheet":"Electricity EFs","index":6,"n_rows":274,"n_cols":93,"rows_kept":274,"cut":false,"hidden":true,"merged":[[99,32,99,41],[7,43,7,54],[9,43,9,54],[10,43,10,54],[11,43,11,54],[12,43,12,54],[13,43,13,54],[14,43,14,54],[26,43,86,43],[26,49,86,49],[94,32,94,41],[95,32,95,41],[96,32,96,41],[97,32,97,41],[98,32,98,41],[95,20,95,29],[96,20,96,29],[9,32,9,41],[10,32,10,41],[11,32,11,41],[12,32,12,41],[13,32,13,41],[14,32,14,41],[15,32,15,41],[16,32,16,41],[17,32,17,41],[18,32,18,41],[26,32,86,32],[93,32,93,41],[90,20,90,29],[91,20,91,29],[92,20,92,29],[93,20,93,29],[94,20,94,29],[18,20,18,29],[20,20,20,29],[21,20,21,29],[22,20,22,29],[26,20,86,20],[17,20,17,29],[12,20,12,29],[13,20,13,29],[14,20,14,29],[15,20,15,29],[16,20,16,29]]}
[]
[null,null,null,null,null,null,null,null,null,null,null,null,null,null,null,null,null,null,null,null,null,null,null,null,null,null,null,null,null,null,null,null,null,null,null,null,null,null,null,null,null,null,null,"Emissions arising during the production and distribution of fuel used in electricity generation"]
[null,null,null,null,null,null,null,null,null,null,null,null,null,null,null,null,null,null,null,null,null,null,null,null,null,null,null,null,null,null,null,null,null,null,null,null,null,null,null,null,null,null,null,"Source: UK Government GHG Conversion Factors for Company Reporting"]
[null,null,null,null,null,null,null,null,null,null,null,null,null,null,null,null,null,null,null,null,"Emissions arising at the power station",null,null,null,null,null,null,null,null,null,null,null,"Emissions arising due to losses during electricity distribution",null,null,null,null,null,null,null,null,null,null,"https://www.gov.uk/government/collections/government-conversion-factors-for-company-reporting"]
[null,null,"Reasons for using these electricity Efs",null,null,null,null,null,null,null,null,null,null,null,null,null,null,null,null,null,"Source: UK Government GHG Conversion Factors for Company Reporting",null,null,null,null,null,null,null,null,null,null,null,"Source: UK Government GHG Conversion Factors for Company Reporting",null,null,null,null,null,null,null,null,null,null,"Emissions source:","WTT- UK & overseas elec","Expiry:","31/06/2017","Factor set:","Full set"]
[null,null,"Their derivation (and meaning) is clearer than those in the \"Electricity emiss by country sheet\" - it is essential to know whether the EF is per unit of primary energy (chemical/potential energy of fuel entering power station) or secondary energy (electrical energy leaving power station) or tertiary (energy consumed at point of use)",null,null,null,null,null,null,null,null,null,null,null,null,null,null,null,null,null,"https://www.gov.uk/government/collections/government-conversion-factors-for-company-reporting",null,null,null,null,null,null,null,null,null,null,null,"https://www.gov.uk/government/collections/government-conversion-factors-for-company-reporting",null,null,null,null,null,null,null,null,null,null,"Scope:","Scope 3","Version:",1,"Year:",2016]
[null,null,"Consistent with the aqua GHG model developed for SOFA",null,null,null,null,null,null,null,null,null,null,null,null,null,null,null,null,null,"Note: the UK derives the overseas electricity generation Efs from the IEA, which stopped publishing them for free in 2014, hence the latest freely available EFs are for 2013. Transmission and WTW (well to tank) EFs are for 2016",null,null,null,null,null,null,null,null,null,null,null,"Emissions source:","Transmission and distribution","Expiry:","31/06/2017","Factor set:","Full set"]
[null,null,null,null,null,null,null,null,null,null,null,null,null,null,null,null,null,null,null,null,null,null,null,null,null,null,null,null,null,null,null,null,"Scope:","Scope 3","Version:",1,"Year:",2016,null,null,null,null,null,"Well-to-tank (WTT) conversion factors for UK and overseas electricity should be used to report the Scope 3 emissions of extraction, refining and transportation of primary fuels before their use in the generation of electricity. It should be noted that electricity generation, transmission and distribution losses have separate WTT emissions assigned to them."]
[null,null,null,null,null,null,null,null,null,null,null,null,null,null,null,null,null,null,null,null,"http://www.ukconversionfactorscarbonsmart.co.uk/LandingPage.aspx"]
[null,null,null,null,null,null,null,null,null,null,null,null,null,null,null,null,null,null,null,null,"Emissions source:","Overseas electricity","Expiry:","2014-05-31",null,null,null,null,null,null,null,null,"Transmission and distribution (T&D) factors should be used to report the Scope 3 emissions associated with grid losses (the energy loss that occurs in getting the electricity from the power plant to the organisations that purchase it).",null,null,null,null,null,null,null,null,null,null,"Guidance"]
[null,null,null,null,null,null,null,null,null,null,null,null,null,null,null,null,null,null,null,null,"Scope:","Scope 2","Version:",1.1000000000000001,null,null,null,null,null,null,null,null,null,null,null,null,null,null,null,null,null,null,null,"●  WTT factors for UK and international electricity can be found together in this page for electricity generation and T&D losses. "]
[null,null,null,null,null,null,null,null,null,null,null,null,null,null,null,null,null,null,null,null,null,null,null,null,null,null,null,null,null,null,null,null,"Guidance",null,null,null,null,null,null,null,null,null,null,"●  The year displayed alongside the factors is the reporting year for which users should apply these factors. This is based on a calendar reporting year."]
[null,null,null,null,null,null,null,null,null,null,null,null,null,null,null,null,null,null,null,null,"Overseas electricity conversion factors should be used to report on electricity used by an organisation at international sites owned / controlled by them.  Electricity should be reported as a scope 2, indirect emissions source.  The conversion factors in this listing are for the electricity supplied to the grid that organisations purchase; this does not include the emissions associated with the transmission and distribution of electricity",null,null,null,null,null,null,null,null,null,null,null,"● To account for electricity emissions fully, organisations should account for the T&D loss associated with its purchased power.  ",null,null,null,null,null,null,null,null,null,null,"Calculating emissions using WTT factors for UK and overseas electricity generation and T&D losses"]
[null,null,null,null,null,null,null,null,null,null,null,null,null,null,null,null,null,null,null,null,null,null,null,null,null,null,null,null,null,null,null,null,"● The year displayed alongside the T&D factors is the reporting year for which users should apply these factors. This is based on a calendar reporting year.",null,null,null,null,null,null,null,null,null,null,"Company G voluntarily reports the WTT emissions from the electricity it uses, and the transmission and distribution loss associated with it. It uses the same kWh data from its electricity meters and/or utility bills in both instances."]
[null,null,null,null,null,null,null,null,null,null,null,null,null,null,null,null,null,null,null,null,"Defra's overseas electricity guidance",null,null,null,null,null,null,null,null,null,null,null,null,null,null,null,null,null,null,null,null,null,null,"The kWh energy is multiplied by the WTT factor for ‘WTT- UK electricity (generation)’ and separately by the ‘WTT- UK electricity (T&D)’ factor. These are reported as separate items in Scope 3 to demonstrate the WTT impact of the electricity generation and the losses experienced in the grid."]
[null,null,null,null,null,"Source","UK Gov","UK Gov","IEA (generation) and UK Gov T&D/WTT",null,null,null,null,null,null,null,null,null,null,null,"●  The year displayed alongside the electricity factors is the reporting year for which users should apply these factors. (This is based on a calendar reporting year).",null,null,null,null,null,null,null,null,null,null,null,"Calculating emissions from T&D"]
[null,null,null,null,null,null,"National","Regional","Other national","Final EF","Final EF",null,null,null,null,null,null,null,null,null,"●  Defra advise that organisations also account for the transmission and distribution (T&D) losses of the electricity they purchase, which occur between the power station and their site(s).  They should do so using the ‘transmission and distribution’ factors for overseas electricity.  The emissions from T&D should be accounted for in Scope 3",null,null,null,null,null,null,null,null,null,null,null,"Company H reports the emissions from T&D losses associated with its electricity use - this is a Scope 3 emission.   ",null,null,null,null,null,null,null,null,null,null,"Activity","Country","Unit","Year","kg CO2e"]
[null,null,null,"FAO name","FAO region",null,"kgCO2e/kWh","kgCO2e/kWh","kgCO2e/kWh","kgCO2e/kWh","kgCO2e/MJ",null,null,null,null,null,null,null,null,null,"●  Organisations that generate renewable energy or purchase green energy should refer to Annex G of Defra's  'Environmental reporting guidelines' for information on how to account for their electricity usage",null,null,null,null,null,null,null,null,null,null,null,"For every kWh of electricity company H purchases, it reports its associated energy losses using the T&D factor for that year.         ",null,null,null,null,null,null,null,null,null,null,"WTT- UK electricity (generation)","Electricity: UK","kWh",2016,6.1879999999999998E-2]
[null,"Electricity: ",{"$f":"CONCATENATE(B19,D19)","v":"Electricity: Anguilla"},"Anguilla","Latin America and the Caribbean","lac",{"$f":"IFERROR(VLOOKUP(C19,$N$27:$S$87,4,FALSE),-99)","v":-99},{"$f":"VLOOKUP(F19,F$260:J$269,3,FALSE)","v":0.26392000000000004},{"$f":"IFERROR(VLOOKUP(D19,BU$27:CO$198,21,FALSE),-99)","v":-99},{"$f":"IF(I19>0,I19,IF(G19>0,G19,H19))","v":0.26392000000000004},{"$f":"J19/Conversions!J$28","v":7.3311111111169766E-2},null,null,null,null,null,null,null,null,null,"●  Where an organisation voluntarily report the electricity used at a site / for an asset in their supply chain that is not directly under their ownership or control, they may report this electricity in scope 3.  A duplicate set of conversion factors have been provided for this purpose in the scope 3 listing, under ‘managed assets- electricity’",null,null,null,null,null,null,null,null,null,null,null,"Every kWh company H uses is multiplied by the appropriate T&D conversion factor to produce its Scope 3 T&D emissions impact."]
[null,"Electricity: ",{"$f":"CONCATENATE(B20,D20)","v":"Electricity: Antigua and Barbuda"},"Antigua and Barbuda","Latin America and the Caribbean","lac",{"$f":"IFERROR(VLOOKUP(C20,$N$27:$S$87,4,FALSE),-99)","v":-99},{"$f":"VLOOKUP(F20,F$260:J$269,3,FALSE)","v":0.26392000000000004},{"$f":"IFERROR(VLOOKUP(D20,BU$27:CO$198,21,FALSE),-99)","v":-99},{"$f":"IF(I20>0,I20,IF(G20>0,G20,H20))","v":0.26392000000000004},{"$f":"J20/Conversions!J$28","v":7.3311111111169766E-2}]
[null,"Electricity: ","Electricity: Argentina","Argentina","Latin America and the Caribbean","lac",{"$f":"IFERROR(VLOOKUP(C21,$N$27:$S$87,4,FALSE),-99)","v":-99},0.26392000000000004,0.44137999999999999,0.44137999999999999,{"$f":"J21/Conversions!J$28","v":0.12260555555565364},null,null,null,null,null,null,null,null,null,"Example of calculating emissions from overseas electricity",null,null,null,null,null,null,null,null,null,null,null,"Activity","Type","Unit","Year","kg CO2e","kg CO2","kg CH4","kg N2O"]
[null,"Electricity: ","Electricity: Aruba","Aruba","Latin America and the Caribbean","lac",-99,0.26392000000000004,-99,0.26392000000000004,{"$f":"J22/Conversions!J$28","v":7.3311111111169766E-2},null,null,"Total life cycle emission factor for electricity",null,null,null,null,null,null,"Company H report the emissions from electricity for a facility in the Czech Republic.  They receive the kWh consumption from the facility and multiply by the Czech Republic ‘electricity generation’ conversion factor for the appropriate reporting year.  They note in their report that the emissions from overseas electricity are in CO2 only (not CO2e). ",null,null,null,null,null,null,null,null,null,null,null,"T&D- UK electricity","Electricity: UK","kWh",2016,3.7270000000000005E-2,3.705E-2,3.0000000000000001E-5,1.9000000000000001E-4,null,null,null,"Activity","Country","Unit","Year","kg CO2e"]
[null,"Electricity: ","Electricity: Bahamas","Bahamas","Latin America and the Caribbean","lac",-99,0.26392000000000004,-99,0.26392000000000004,{"$f":"J23/Conversions!J$28","v":7.3311111111169766E-2},null,null,null,null,null,null,null,null,null,"The kWh electricity use is multiplied by the ‘electricity generation’ figure appropriate to the reporting year to produce company H's Czech Republic Scope 2 electricity emissions.",null,null,null,null,null,null,null,null,null,null,null,null,null,null,null,null,null,null,null,null,null,null,"WTT- UK electricity (T&D)","Electricity: UK","kWh",2016,5.5999999999999999E-3]
[null,"Electricity: ","Electricity: Barbados","Barbados","Latin America and the Caribbean","lac",-99,0.26392000000000004,-99,0.26392000000000004,{"$f":"J24/Conversions!J$28","v":7.3311111111169766E-2},null,null,null,null,null,null,null,null,null,null,null,null,null,null,null,null,null,null,null,null,null,null,null,null,null,null,null,null,null,null,null,null,null,null,null,null,null,null,null,null,null,null,null,null,null,"T&D and WTT Efs as a % of the generation EF",null,null,null,null,null,null,null,null,null,null,null,null,null,null,"Harmonising FAO and IEA names",null,null,null,null,"Electricity generation only EF (IEA 2013, p110-112)",null,null,null,null,null,null,null,null,null,null,null,null,"Electricity T&D + WTT (2016)"]
[null,"Electricity: ","Electricity: Belize","Belize","Latin America and the Caribbean","lac",-99,{"$f":"VLOOKUP(F25,F$260:J$269,3,FALSE)","v":0.26392000000000004},-99,0.26392000000000004,{"$f":"J25/Conversions!J$28","v":7.3311111111169766E-2},null,null,null,null,null,null,null,null,null,null,null,null,null,null,null,null,null,null,null,null,null,null,null,null,null,null,null,null,null,null,null,null,"WTT- overseas electricity (generation)",null,null,null,null,null,"WTT- overseas electricity (T&D)",null,null,null,null,null,null,null,null,"WTT fuel",null,null,null,null,null,null,null,null,null,null,null,null,null,null,null,null,null,"gCO2 emissions per kWh from electricity generation",null,null,null,null,null,null,null,null,null,null,null,null,"kgCO2e/kWh",null,null,"Total electricity EF"]
[null,"Electricity: ","Electricity: Bolivia","Bolivia","Latin America and the Caribbean","lac",-99,0.26392000000000004,0.48637999999999998,0.48637999999999998,{"$f":"J26/Conversions!J$28","v":0.13510555555566361},null,null,"Country","Unit","Year","kg CO2","MJ/kWh","kgCO2e/MJ",null,"Activity","Country","Unit","Year","kg CO2","MJ/kWh","kgCO2e/MJ",null,null,null,null,null,"Activity","Type","Unit","Year","kg CO2",null,null,null,null,null,null,"Activity","Country","Unit","Year","kg CO2e",null,"Activity","Country","Unit","Year","kg CO2e",null,null,null,"T&D of elec","Production","Distribution","Total","Total",null,null,null,null,null,"FAO name","T&D + WTT (kgCO2e/kWh) 2016",null,null,"FAO region","FAO Name","IEA name","IEA name","IEA name",1990,1995,2000,2004,2005,2006,2007,2008,2009,2010,2011,"Av. 2009-11",null,"National","Regional defaults"]
[null,"Electricity: ","Electricity: Brazil","Brazil","Latin America and the Caribbean","lac",{"$f":"IFERROR(VLOOKUP(C27,$N$27:$S$87,4,FALSE),-99)","v":0.11255999999999999},0.26392000000000004,9.8789999999999989E-2,{"$f":"IF(I27>0,I27,IF(G27>0,G27,H27))","v":9.8789999999999989E-2},{"$f":"J27/Conversions!J$28","v":2.7441666666688614E-2},null,null,"Electricity: Australia","kWh",2013,{"$f":"Y27+AK27+AV27+BB27","v":1.0312599999999998},3.6,{"$f":"Q27/R27","v":0.28646111111111106},null,"Electricity generated","Electricity: Australia","kWh",2013,0.84092,3.6,{"$f":"Y27/Z27","v":0.23358888888888887},null,null,null,null,null,"T&D- overseas electricity","Electricity: Australia","kWh",2016,5.8409999999999997E-2,null,null,null,null,null,null,"WTT- overseas electricity (generation)","Electricity: Australia","kWh",2016,0.12309,null,"WTT- overseas electricity (T&D)","Electricity: Australia","kWh",2016,8.8400000000000006E-3,null,null,"Electricity: Australia",{"$f":"AK27/Y27","v":6.9459639442515334E-2},{"$f":"AV27/Y27","v":0.14637539837321029},{"$f":"BB27/Y27","v":1.0512296056699805E-2},{"$f":"SUM(BF27:BH27)","v":0.22634733387242542},{"$f":"AK27+AV27+BB27","v":0.19034000000000001},null,null,"Electricity: Australia","Electricity","Australia",{"$f":"VLOOKUP(BO27,D$19:D$255,1,FALSE)","v":"Australia"},{"$f":"AK27+AV27+BB27","v":0.19034000000000001},null,null,{"$f":"VLOOKUP(BU27,D$19:$F$255,3,FALSE)","v":{"$error":"#N/A"}},{"$error":"#N/A"},"World",null,null,524,526,528,539,542,543,546,539,533,529,536,533,null,{"$f":"IFERROR(VLOOKUP(BU27,BP$26:BQ$87,2,FALSE),-99)","v":-99},{"$f":"VLOOKUP(BT27,F$260:J$269,5,FALSE)","v":{"$error":"#N/A"}},null,{"$f":"IFERROR(CJ27/1000+IF(CL27>0,CL27,CM27),-99)","v":-99}]
[null,"Electricity: ","Electricity: British Virgin Islands","British Virgin Islands","Latin America and the Caribbean","lac",-99,0.26392000000000004,-99,0.26392000000000004,{"$f":"J28/Conversions!J$28","v":7.3311111111169766E-2},null,null,"Electricity: Austria","kWh",2013,{"$f":"Y28+AK28+AV28+BB28","v":0.23423999999999998},3.6,{"$f":"Q28/R28","v":6.5066666666666662E-2},null,null,"Electricity: Austria","kWh",2013,0.18787999999999999,3.6,{"$f":"Y28/Z28","v":5.2188888888888882E-2},null,null,null,null,null,null,"Electricity: Austria","kWh",2016,1.17E-2,null,null,null,null,null,null,null,"Electricity: Austria","kWh",2016,3.2890000000000003E-2,null,null,"Electricity: Austria","kWh",2016,1.7700000000000001E-3,null,null,"Electricity: Austria",{"$f":"AK28/Y28","v":6.2273791781988511E-2},{"$f":"AV28/Y28","v":0.17505854800936771},{"$f":"BB28/Y28","v":9.4209069618905687E-3},{"$f":"SUM(BF28:BH28)","v":0.24675324675324678},{"$f":"AK28+AV28+BB28","v":4.6360000000000005E-2},null,null,"Electricity: Austria","Electricity","Austria","Austria",{"$f":"AK28+AV28+BB28","v":4.6360000000000005E-2},null,null,{"$f":"VLOOKUP(BU28,D$19:$F$255,3,FALSE)","v":{"$error":"#N/A"}},{"$error":"#N/A"},"Annex","I","Parties",493,472,466,460,461,454,460,447,426,426,429,427,null,{"$f":"IFERROR(VLOOKUP(BU28,BP$26:BQ$87,2,FALSE),-99)","v":-99},{"$f":"VLOOKUP(BT28,F$260:J$269,5,FALSE)","v":{"$error":"#N/A"}},null,{"$f":"IFERROR(CJ28/1000+IF(CL28>0,CL28,CM28),-99)","v":-99}]
[null,"Electricity: ","Electricity: Cayman Islands","Cayman Islands","Latin America and the Caribbean","lac",-99,0.26392000000000004,-99,0.26392000000000004,{"$f":"J29/Conversions!J$28","v":7.3311111111169766E-2},null,null,"Electricity: Belgium","kWh",2013,0.25899999999999995,3.6,7.1944444444444436E-2,null,null,"Electricity: Belgium","kWh",2013,0.21956000000000001,3.6,6.0988888888888891E-2,null,null,null,null,null,null,"Electricity: Belgium","kWh",2016,9.3699999999999999E-3,null,null,null,null,null,null,null,"Electricity: Belgium","kWh",2016,2.8649999999999998E-2,null,null,"Electricity: Belgium","kWh",2016,1.42E-3,null,null,"Electricity: Belgium",4.2676261614137366E-2,0.13048824922572416,6.4674804153762068E-3,0.17963199125523774,3.9439999999999996E-2,null,null,"Electricity: Belgium","Electricity","Belgium","Belgium",3.9439999999999996E-2,null,null,{"$f":"VLOOKUP(BU29,D$19:$F$255,3,FALSE)","v":{"$error":"#N/A"}},{"$error":"#N/A"},"Annex","II","Parties",483,469,466,462,459,448,456,441,420,420,418,419,null,-99,{"$error":"#N/A"},null,-99]
[null,"Electricity: ","Electricity: Chile","Chile","Latin America and the Caribbean","lac",{"$f":"IFERROR(VLOOKUP(C30,$N$27:$S$87,4,FALSE),-99)","v":-99},0.26392000000000004,0.47537999999999997,0.47537999999999997,{"$f":"J30/Conversions!J$28","v":0.13205000000010564},null,null,"Electricity: Brazil","kWh",2013,0.11255999999999999,3.6,3.1266666666666665E-2,null,null,"Electricity: Brazil","kWh",2013,8.677E-2,3.6,2.4102777777777779E-2,null,null,null,null,null,null,"Electricity: Brazil","kWh",2016,1.3299999999999999E-2,null,null,null,null,null,null,null,"Electricity: Brazil","kWh",2016,1.048E-2,null,null,"Electricity: Brazil","kWh",2016,2.0100000000000001E-3,null,null,"Electricity: Brazil",0.1532787829895125,0.12077907110752564,2.3164688256309785E-2,0.29722254235334794,2.579E-2,null,null,"Electricity: Brazil","Electricity","Brazil","Brazil",2.579E-2,null,null,{"$f":"VLOOKUP(BU30,D$19:$F$255,3,FALSE)","v":{"$error":"#N/A"}},{"$error":"#N/A"},"North","America",null,531,534,544,531,526,507,512,499,472,481,460,471,null,-99,{"$error":"#N/A"},null,-99]
[null,"Electricity: ","Electricity: Colombia","Colombia","Latin America and the Caribbean","lac",-99,0.26392000000000004,0.22037999999999999,0.22037999999999999,{"$f":"J31/Conversions!J$28","v":6.1216666666715637E-2},null,null,"Electricity: Bulgaria","kWh",2013,0.72736000000000001,3.6,0.20204444444444444,null,null,"Electricity: Bulgaria","kWh",2013,0.53546000000000005,3.6,0.14873888888888889,null,null,null,null,null,null,"Electricity: Bulgaria","kWh",2016,8.6419999999999997E-2,null,null,null,null,null,null,null,"Electricity: Bulgaria","kWh",2016,9.2410000000000006E-2,null,null,"Electricity: Bulgaria","kWh",2016,1.307E-2,null,null,"Electricity: Bulgaria",0.16139394165764015,0.17258058491764092,2.4408919433757888E-2,0.35838344600903893,0.19189999999999999,null,null,"Electricity: Bulgaria","Electricity","Bulgaria","Bulgaria",0.19189999999999999,null,null,{"$f":"VLOOKUP(BU31,D$19:$F$255,3,FALSE)","v":{"$error":"#N/A"}},{"$error":"#N/A"},"Europe",null,null,408,367,335,335,330,333,335,315,299,290,290,293,null,-99,{"$error":"#N/A"},null,-99]
[null,"Electricity: ","Electricity: Costa Rica","Costa Rica","Latin America and the Caribbean","lac",-99,0.26392000000000004,0.12037999999999999,0.12037999999999999,{"$f":"J32/Conversions!J$28","v":3.3438888888915635E-2},null,null,"Electricity: Canada","kWh",2013,0.23315,3.6,6.4763888888888885E-2,null,null,"Electricity: Canada","kWh",2013,0.18640999999999999,3.6,5.1780555555555552E-2,null,null,null,null,null,null,"Electricity: Canada","kWh",2016,1.9040000000000001E-2,null,null,null,null,null,null,null,"Electricity: Canada","kWh",2016,2.4819999999999998E-2,null,null,"Electricity: Canada","kWh",2016,2.8800000000000002E-3,null,null,"Electricity: Canada",0.10214044310927527,0.13314736333887667,1.5449814924092057E-2,0.25073762137224398,4.6739999999999997E-2,null,null,"Electricity: Canada","Electricity","Canada","Canada",4.6739999999999997E-2,null,null,{"$f":"VLOOKUP(BU32,D$19:$F$255,3,FALSE)","v":{"$error":"#N/A"}},{"$error":"#N/A"},"Asia","Oceania",null,482,461,468,499,504,495,521,512,500,486,547,511,null,-99,{"$error":"#N/A"},null,-99]
[null,"Electricity: ","Electricity: Cuba","Cuba","Latin America and the Caribbean","lac",-99,0.26392000000000004,1.0783799999999999,1.0783799999999999,{"$f":"J33/Conversions!J$28","v":0.29955000000023957},null,null,"Electricity: Chinese Taipei","kWh",2013,0.73484000000000005,3.6,0.20412222222222223,null,null,"Electricity: Chinese Taipei","kWh",2013,0.62380000000000002,3.6,0.17327777777777778,null,null,null,null,null,null,"Electricity: Chinese Taipei","kWh",2016,1.8880000000000001E-2,null,null,null,null,null,null,null,"Electricity: Chinese Taipei","kWh",2016,8.9300000000000004E-2,null,null,"Electricity: Chinese Taipei","kWh",2016,2.8600000000000001E-3,null,null,"Electricity: Chinese Taipei",3.0266110932991343E-2,0.14315485732606606,4.5848028214171208E-3,0.17800577108047452,0.11104,null,null,"Electricity: Chinese Taipei","Electricity","Chinese Taipei",{"$error":"#N/A"},0.11104,null,null,{"$f":"VLOOKUP(BU33,D$19:$F$255,3,FALSE)","v":{"$error":"#N/A"}},{"$error":"#N/A"},"Annex","I","EIT",527,484,464,454,474,484,480,472,449,454,480,461,null,-99,{"$error":"#N/A"},null,-99]
[null,"Electricity: ","Electricity: Dominica","Dominica","Latin America and the Caribbean","lac",-99,0.26392000000000004,-99,0.26392000000000004,{"$f":"J34/Conversions!J$28","v":7.3311111111169766E-2},null,null,"Electricity: Croatia","kWh",2013,0.34144000000000002,3.6,9.4844444444444453E-2,null,null,"Electricity: Croatia","kWh",2013,0.23637,3.6,6.5658333333333332E-2,null,null,null,null,null,null,"Electricity: Croatia","kWh",2016,4.521E-2,null,null,null,null,null,null,null,"Electricity: Croatia","kWh",2016,5.3019999999999998E-2,null,null,"Electricity: Croatia","kWh",2016,6.8399999999999997E-3,null,null,"Electricity: Croatia",0.19126792740195456,0.22430934551762066,2.8937682447011042E-2,0.44451495536658631,0.10507,null,null,"Electricity: Croatia","Electricity","Croatia","Croatia",0.10507,null,null,{"$f":"VLOOKUP(BU34,D$19:$F$255,3,FALSE)","v":{"$error":"#N/A"}},{"$error":"#N/A"},"Non-Annex","I","Parties",625,658,655,669,668,673,663,658,660,647,648,651,null,-99,{"$error":"#N/A"},null,-99]
[null,"Electricity: ","Electricity: Dominican Republic","Dominican Republic","Latin America and the Caribbean","lac",-99,0.26392000000000004,0.81838,0.81838,{"$f":"J35/Conversions!J$28","v":0.22732777777795962},null,null,"Electricity: Cyprus","kWh",2013,0.84702999999999995,3.6,0.23528611111111108,null,null,"Electricity: Cyprus","kWh",2013,0.69708000000000003,3.6,0.19363333333333332,null,null,null,null,null,null,"Electricity: Cyprus","kWh",2016,3.4549999999999997E-2,null,null,null,null,null,null,null,"Electricity: Cyprus","kWh",2016,0.11017,null,null,"Electricity: Cyprus","kWh",2016,5.2300000000000003E-3,null,null,"Electricity: Cyprus",4.9563895105296372E-2,0.15804498766282205,7.5027256555918976E-3,0.21511160842371033,0.14995000000000003,null,null,"Electricity: Cyprus","Electricity","Cyprus","Cyprus",0.14995000000000003,null,null,{"$f":"VLOOKUP(BU35,D$19:$F$255,3,FALSE)","v":{"$error":"#N/A"}},{"$error":"#N/A"},"Annex","I","Kyoto",442,398,382,386,388,391,396,382,365,362,379,369,null,-99,{"$error":"#N/A"},null,-99]
[null,"Electricity: ","Electricity: Ecuador","Ecuador","Latin America and the Caribbean","lac",-99,0.26392000000000004,0.41737999999999997,0.41737999999999997,{"$f":"J36/Conversions!J$28","v":0.11593888888898163},null,null,"Electricity: Czech Republic","kWh",2013,0.72782999999999998,3.6,0.20217499999999999,null,null,"Electricity: Czech Republic","kWh",2013,0.58901999999999999,3.6,0.16361666666666666,null,null,null,null,null,null,"Electricity: Czech Republic","kWh",2016,4.2790000000000002E-2,null,null,null,null,null,null,null,"Electricity: Czech Republic","kWh",2016,8.9550000000000005E-2,null,null,"Electricity: Czech Republic","kWh",2016,6.4700000000000001E-3,null,null,"Electricity: Czech Republic",7.2646090115785544E-2,0.15203218905979424,1.0984346881260399E-2,0.23566262605684019,0.13881000000000002,null,null,"Electricity: Czech Republic","Electricity","Czech Republic","Czech Republic",0.13881000000000002,null,null,{"$f":"VLOOKUP(BU36,D$19:$F$255,3,FALSE)","v":{"$error":"#N/A"}},{"$error":"#N/A"},null,null,null,null,null,null,null,null,null,null,null,null,null,null,null,null,-99,{"$error":"#N/A"},null,-99]
[null,"Electricity: ","Electricity: El Salvador","El Salvador","Latin America and the Caribbean","lac",-99,0.26392000000000004,0.31337999999999999,0.31337999999999999,{"$f":"J37/Conversions!J$28","v":8.7050000000069627E-2},null,null,"Electricity: Denmark","kWh",2013,0.42455999999999994,3.6,0.11793333333333331,null,null,"Electricity: Denmark","kWh",2013,0.35966999999999999,3.6,9.9908333333333321E-2,null,null,null,null,null,null,"Electricity: Denmark","kWh",2016,1.7860000000000001E-2,null,null,null,null,null,null,null,"Electricity: Denmark","kWh",2016,4.4330000000000001E-2,null,null,"Electricity: Denmark","kWh",2016,2.7000000000000001E-3,null,null,"Electricity: Denmark",4.9656629688325411E-2,0.12325186976951094,7.5068813078655438E-3,0.18041538076570188,6.4890000000000003E-2,null,null,"Electricity: Denmark","Electricity","Denmark","Denmark",6.4890000000000003E-2,null,null,{"$f":"VLOOKUP(BU37,D$19:$F$255,3,FALSE)","v":{"$error":"#N/A"}},{"$error":"#N/A"},"Non-OECD","Total",null,573,604,611,636,643,652,643,640,639,627,633,633,null,-99,{"$error":"#N/A"},null,-99]
[null,"Electricity: ","Electricity: Falkland Islands (Malvinas)","Falkland Islands (Malvinas)","Latin America and the Caribbean","lac",-99,0.26392000000000004,-99,0.26392000000000004,{"$f":"J38/Conversions!J$28","v":7.3311111111169766E-2},null,null,"Electricity: Egypt","kWh",2013,0.58684000000000003,3.6,0.16301111111111111,null,null,"Electricity: Egypt","kWh",2013,0.44986999999999999,3.6,0.12496388888888889,null,null,null,null,null,null,"Electricity: Egypt","kWh",2016,5.9279999999999999E-2,null,null,null,null,null,null,null,"Electricity: Egypt","kWh",2016,6.8720000000000003E-2,null,null,"Electricity: Egypt","kWh",2016,8.9700000000000005E-3,null,null,"Electricity: Egypt",0.13177140062684775,0.15275524040278304,1.9939093515904595E-2,0.30446573454553538,0.13697000000000001,null,null,"Electricity: Egypt","Electricity","Egypt","Egypt",0.13697000000000001,null,null,{"$f":"VLOOKUP(BU38,D$19:$F$255,3,FALSE)","v":{"$error":"#N/A"}},{"$error":"#N/A"},"OECD","Total",null,496,482,478,470,467,457,465,451,434,434,434,434,null,-99,{"$error":"#N/A"},null,-99]
[null,"Electricity: ","Electricity: French Guiana","French Guiana","Latin America and the Caribbean","lac",-99,0.26392000000000004,-99,0.26392000000000004,{"$f":"J39/Conversions!J$28","v":7.3311111111169766E-2},null,null,"Electricity: Estonia","kWh",2013,1.3447600000000002,3.6,0.37354444444444451,null,null,"Electricity: Estonia","kWh",2013,1.01414,3.6,0.28170555555555554,null,null,null,null,null,null,"Electricity: Estonia","kWh",2016,0.14413000000000001,null,null,null,null,null,null,null,"Electricity: Estonia","kWh",2016,0.16469,null,null,"Electricity: Estonia","kWh",2016,2.18E-2,null,null,"Electricity: Estonia",0.14212041729938668,0.16239375234188574,2.149604591082099E-2,0.32601021555209342,0.33061999999999997,null,null,"Electricity: Estonia","Electricity","Estonia","Estonia",0.33061999999999997,null,null,{"$f":"VLOOKUP(BU39,D$19:$F$255,3,FALSE)","v":{"$error":"#N/A"}},{"$error":"#N/A"},null,null,null,null,null,null,null,null,null,null,null,null,null,null,null,null,-99,{"$error":"#N/A"},null,-99]
[null,"Electricity: ","Electricity: Grenada","Grenada","Latin America and the Caribbean","lac",-99,0.26392000000000004,-99,0.26392000000000004,{"$f":"J40/Conversions!J$28","v":7.3311111111169766E-2},null,null,"Electricity: Finland","kWh",2013,0.26562999999999998,3.6,7.3786111111111108E-2,null,null,"Electricity: Finland","kWh",2013,0.22947999999999999,3.6,6.3744444444444437E-2,null,null,null,null,null,null,"Electricity: Finland","kWh",2016,6.2500000000000003E-3,null,null,null,null,null,null,null,"Electricity: Finland","kWh",2016,2.895E-2,null,null,"Electricity: Finland","kWh",2016,9.5E-4,null,null,"Electricity: Finland",2.7235488931497302E-2,0.1261547847306955,4.1397943175875895E-3,0.15753006797978039,3.6150000000000002E-2,null,null,"Electricity: Finland","Electricity","Finland","Finland",3.6150000000000002E-2,null,null,{"$f":"VLOOKUP(BU40,D$19:$F$255,3,FALSE)","v":"nam"},"Canada","Canada",null,null,196,176,216,209,194,190,190,190,167,179,167,171,null,4.6739999999999997E-2,8.0445000000000003E-2,null,{"$f":"IFERROR(CJ40/1000+IF(CL40>0,CL40,CM40),-99)","v":0.21774000000000002}]
[null,"Electricity: ","Electricity: Guadeloupe","Guadeloupe","Latin America and the Caribbean","lac",-99,0.26392000000000004,-99,0.26392000000000004,{"$f":"J41/Conversions!J$28","v":7.3311111111169766E-2},null,null,"Electricity: France","kWh",2013,9.3719999999999998E-2,3.6,2.6033333333333332E-2,null,null,"Electricity: France","kWh",2013,7.9089999999999994E-2,3.6,2.1969444444444441E-2,null,null,null,null,null,null,"Electricity: France","kWh",2016,5.0000000000000001E-3,null,null,null,null,null,null,null,"Electricity: France","kWh",2016,8.8699999999999994E-3,null,null,"Electricity: France","kWh",2016,7.6000000000000004E-4,null,null,"Electricity: France",6.3219117461120244E-2,0.11215071437602732,9.6093058540902779E-3,0.18497913769123783,1.4630000000000001E-2,null,null,"Electricity: France","Electricity","France","France",1.4630000000000001E-2,null,null,{"$f":"VLOOKUP(BU41,D$19:$F$255,3,FALSE)","v":"lac"},"Chile","Chile",null,null,457,267,349,322,318,304,408,411,373,410,441,408,null,-99,6.7379999999999995E-2,null,0.47537999999999997]
[null,"Electricity: ","Electricity: Guatemala","Guatemala","Latin America and the Caribbean","lac",-99,0.26392000000000004,0.37437999999999999,0.37437999999999999,{"$f":"J42/Conversions!J$28","v":0.10399444444452763},null,null,"Electricity: Germany","kWh",2013,0.55792999999999993,3.6,0.15498055555555554,null,null,"Electricity: Germany","kWh",2013,0.46089000000000002,3.6,0.128025,null,null,null,null,null,null,"Electricity: Germany","kWh",2016,2.2290000000000001E-2,null,null,null,null,null,null,null,"Electricity: Germany","kWh",2016,7.1379999999999999E-2,null,null,"Electricity: Germany","kWh",2016,3.3700000000000002E-3,null,null,"Electricity: Germany",4.8362949944672266E-2,0.15487426500900431,7.3119399422855776E-3,0.21054915489596215,9.7040000000000001E-2,null,null,"Electricity: Germany","Electricity","Germany","Germany",9.7040000000000001E-2,null,null,{"$f":"VLOOKUP(BU42,D$19:$F$255,3,FALSE)","v":"lac"},"Mexico","Mexico",null,null,549,539,559,495,509,482,479,431,455,457,450,454,null,0.15869,6.7379999999999995E-2,null,0.61268999999999996]
[null,"Electricity: ","Electricity: Guyana","Guyana","Latin America and the Caribbean","lac",-99,0.26392000000000004,-99,0.26392000000000004,{"$f":"J43/Conversions!J$28","v":7.3311111111169766E-2},null,null,"Electricity: Gibraltar","kWh",2013,0.90268000000000004,3.6,0.25074444444444444,null,null,"Electricity: Gibraltar","kWh",2013,0.76160000000000005,3.6,0.21155555555555555,null,null,null,null,null,null,"Electricity: Gibraltar","kWh",2016,2.3949999999999999E-2,null,null,null,null,null,null,null,"Electricity: Gibraltar","kWh",2016,0.11351,null,null,"Electricity: Gibraltar","kWh",2016,3.62E-3,null,null,"Electricity: Gibraltar",3.1446953781512604E-2,0.14904149159663865,4.7531512605042013E-3,0.18524159663865547,0.14108000000000001,null,null,"Electricity: Gibraltar","Electricity","Gibraltar",{"$error":"#N/A"},0.14108000000000001,null,null,{"$f":"VLOOKUP(BU43,D$19:$F$255,3,FALSE)","v":"nam"},"United States of America","United","States",null,582,590,593,577,574,552,560,545,517,522,503,514,null,0.11415,8.0445000000000003E-2,null,0.62814999999999999]
[null,"Electricity: ","Electricity: Haiti","Haiti","Latin America and the Caribbean","lac",-99,0.26392000000000004,0.45838000000000001,0.45838000000000001,{"$f":"J44/Conversions!J$28","v":0.12732777777787962},null,null,"Electricity: Greece","kWh",2013,0.89290999999999998,3.6,0.24803055555555553,null,null,"Electricity: Greece","kWh",2013,0.71826000000000001,3.6,0.19951666666666668,null,null,null,null,null,null,"Electricity: Greece","kWh",2016,5.7329999999999999E-2,null,null,null,null,null,null,null,"Electricity: Greece","kWh",2016,0.10865,null,null,"Electricity: Greece","kWh",2016,8.6700000000000006E-3,null,null,"Electricity: Greece",7.9817893242001503E-2,0.15126834293988248,1.2070837858157215E-2,0.24315707404004119,0.17465,null,null,"Electricity: Greece","Electricity","Greece","Greece",0.17465,null,null,{"$f":"VLOOKUP(BU44,D$19:$F$255,3,FALSE)","v":{"$error":"#N/A"}},{"$error":"#N/A"},"OECD","Americas",null,532,532,543,527,523,503,509,495,470,479,459,469,null,-99,{"$error":"#N/A"},null,-99]
[null,"Electricity: ","Electricity: Honduras","Honduras","Latin America and the Caribbean","lac",-99,0.26392000000000004,0.41737999999999997,0.41737999999999997,{"$f":"J45/Conversions!J$28","v":0.11593888888898163},null,null,"Electricity: Hong Kong","kWh",2013,0.95552000000000004,3.6,0.26542222222222223,null,null,"Electricity: Hong Kong","kWh",2013,0.72343000000000002,3.6,0.20095277777777779,null,null,null,null,null,null,"Electricity: Hong Kong, China","kWh",2016,0.10045,null,null,null,null,null,null,null,"Electricity: Hong Kong, China","kWh",2016,0.11644,null,null,"Electricity: Hong Kong, China","kWh",2016,1.52E-2,null,null,"Electricity: Hong Kong, China",0.13885241142888738,0.16095544835022046,2.101101696086698E-2,0.32081887673997483,0.23208999999999999,null,null,"Electricity: Hong Kong, China","Electricity","Hong Kong","Hong Kong",0.23208999999999999,null,null,{"$f":"VLOOKUP(BU45,D$19:$F$255,3,FALSE)","v":{"$error":"#N/A"}},{"$error":"#N/A"},null,null,null,null,null,null,null,null,null,null,null,null,null,null,null,null,-99,{"$error":"#N/A"},null,-99]
[null,"Electricity: ","Electricity: Jamaica","Jamaica","Latin America and the Caribbean","lac",-99,0.26392000000000004,0.71238000000000001,0.71238000000000001,{"$f":"J46/Conversions!J$28","v":0.19788333333349165},null,null,"Electricity: Hungary","kWh",2013,0.40373999999999993,3.6,0.11214999999999997,null,null,"Electricity: Hungary","kWh",2013,0.31707999999999997,3.6,8.8077777777777769E-2,null,null,null,null,null,null,"Electricity: Hungary","kWh",2016,3.3450000000000001E-2,null,null,null,null,null,null,null,"Electricity: Hungary","kWh",2016,4.8149999999999998E-2,null,null,"Electricity: Hungary","kWh",2016,5.0600000000000003E-3,null,null,"Electricity: Hungary",0.10549388167024096,0.1518544215970733,1.5958117825154536E-2,0.27330642109246883,8.6660000000000001E-2,null,null,"Electricity: Hungary","Electricity","Hungary","Hungary",8.6660000000000001E-2,null,null,{"$f":"VLOOKUP(BU46,D$19:$F$255,3,FALSE)","v":"oc"},"Australia","Australia",null,null,817,810,853,880,900,899,887,887,911,844,823,859,null,0.19034000000000001,0.11117,null,1.0493399999999999]
[null,"Electricity: ","Electricity: Martinique","Martinique","Latin America and the Caribbean","lac",-99,0.26392000000000004,-99,0.26392000000000004,{"$f":"J47/Conversions!J$28","v":7.3311111111169766E-2},null,null,"Electricity: Iceland","kWh",2013,{"$f":"Y47+AK47+AV47+BB47","v":2.14E-4},3.6,5.9444444444444445E-5,null,null,"Electricity: Iceland","kWh",2013,1.8000000000000001E-4,3.6,5.0000000000000002E-5,null,null,null,null,null,null,"Electricity: Iceland","kWh",2016,3.9999999999999998E-6,null,null,null,null,null,null,null,"Electricity: Iceland","kWh",2016,3.0000000000000001E-5,null,null,"Electricity: Iceland","kWh",2016,0,null,null,"Electricity: Iceland",2.222222222222222E-2,0.16666666666666666,0,0.18888888888888888,3.4E-5,null,null,"Electricity: Iceland","Electricity","Iceland","Iceland",3.4E-5,null,null,{"$f":"VLOOKUP(BU47,D$19:$F$255,3,FALSE)","v":"nena"},"Israel","Israel",null,null,827,820,765,809,776,774,770,713,694,687,727,703,null,0.15246000000000001,0.21182999999999996,null,0.85546]
[null,"Electricity: ","Electricity: Mexico","Mexico","Latin America and the Caribbean","lac",{"$f":"IFERROR(VLOOKUP(C48,$N$27:$S$87,4,FALSE),-99)","v":0.61351999999999995},0.26392000000000004,0.61268999999999996,0.61268999999999996,{"$f":"J48/Conversions!J$28","v":0.1701916666668028},null,null,"Electricity: India","kWh",2013,1.27403,3.6,0.3538972222222222,null,null,"Electricity: India","kWh",2013,0.91239000000000003,3.6,0.25344166666666668,null,null,null,null,null,null,"Electricity: India","kWh",2016,0.20516999999999999,null,null,null,null,null,null,null,"Electricity: India","kWh",2016,0.12543000000000001,null,null,"Electricity: India","kWh",2016,3.1040000000000002E-2,null,null,"Electricity: India",0.22487094334659519,0.13747410646762898,3.4020539462291347E-2,0.3963655892765155,0.36164000000000002,null,null,"Electricity: India","Electricity","India","India",0.36164000000000002,null,null,{"$f":"VLOOKUP(BU48,D$19:$F$255,3,FALSE)","v":"esea"},"Japan","Japan",null,null,435,412,402,429,431,420,454,440,416,418,497,444,null,0.11055999999999999,0.14720555555555553,null,0.55455999999999994]
[null,"Electricity: ","Electricity: Montserrat","Montserrat","Latin America and the Caribbean","lac",-99,0.26392000000000004,-99,0.26392000000000004,{"$f":"J49/Conversions!J$28","v":7.3311111111169766E-2},null,null,"Electricity: Indonesia","kWh",2013,0.91975000000000007,3.6,0.25548611111111114,null,null,"Electricity: Indonesia","kWh",2013,0.70908000000000004,3.6,0.19696666666666668,null,null,null,null,null,null,"Electricity: Indonesia","kWh",2016,8.3330000000000001E-2,null,null,null,null,null,null,null,"Electricity: Indonesia","kWh",2016,0.11473,null,null,"Electricity: Indonesia","kWh",2016,1.261E-2,null,null,"Electricity: Indonesia",0.11751847464319963,0.16180120719805943,1.7783606927286061E-2,0.29710328876854508,0.21067000000000002,null,null,"Electricity: Indonesia","Electricity","Indonesia","Indonesia",0.21067000000000002,null,null,{"$f":"VLOOKUP(BU49,D$19:$F$255,3,FALSE)","v":"esea"},"Republic of Korea","Korea",null,null,520,554,529,503,487,491,481,487,525,534,545,535,null,0.10736000000000001,0.14720555555555553,null,0.64236000000000004]
[null,"Electricity: ","Electricity: Netherlands Antilles","Netherlands Antilles","Latin America and the Caribbean","lac",-99,0.26392000000000004,-99,0.26392000000000004,{"$f":"J50/Conversions!J$28","v":7.3311111111169766E-2},null,null,"Electricity: Ireland","kWh",2013,0.56181999999999999,3.6,0.15606111111111109,null,null,"Electricity: Ireland","kWh",2013,0.45804,3.6,0.12723333333333334,null,null,null,null,null,null,"Electricity: Ireland","kWh",2016,3.5049999999999998E-2,null,null,null,null,null,null,null,"Electricity: Ireland","kWh",2016,6.343E-2,null,null,"Electricity: Ireland","kWh",2016,5.3E-3,null,null,"Electricity: Ireland",7.6521701161470612E-2,0.13848135534014497,1.1571041830407825E-2,0.22657409833202341,0.10378,null,null,"Electricity: Ireland","Electricity","Ireland","Ireland",0.10378,null,null,{"$f":"VLOOKUP(BU50,D$19:$F$255,3,FALSE)","v":"oc"},"New Zealand","New","Zealand",null,109,89,165,196,237,231,196,215,168,151,141,153,null,3.2000000000000001E-2,0.11117,null,0.185]
[null,"Electricity: ","Electricity: Nicaragua","Nicaragua","Latin America and the Caribbean","lac",-99,0.26392000000000004,0.54637999999999998,0.54637999999999998,{"$f":"J51/Conversions!J$28","v":0.15177222222234363},null,null,"Electricity: Israel","kWh",2013,0.84142000000000006,3.6,0.23372777777777778,null,null,"Electricity: Israel","kWh",2013,0.68896000000000002,3.6,0.19137777777777779,null,null,null,null,null,null,"Electricity: Israel","kWh",2016,3.5400000000000001E-2,null,null,null,null,null,null,null,"Electricity: Israel","kWh",2016,0.11169999999999999,null,null,"Electricity: Israel","kWh",2016,5.3600000000000002E-3,null,null,"Electricity: Israel",5.1381792847189967E-2,0.16212842545285647,7.7798420808174642E-3,0.22129006038086391,0.15246000000000001,null,null,"Electricity: Israel","Electricity","Israel","Israel",0.15246000000000001,null,null,{"$f":"VLOOKUP(BU51,D$19:$F$255,3,FALSE)","v":{"$error":"#N/A"}},{"$error":"#N/A"},"OECD","Asia","Oceania",492,481,487,508,507,502,519,512,512,504,552,523,null,-99,{"$error":"#N/A"},null,-99]
[null,"Electricity: ","Electricity: Panama","Panama","Latin America and the Caribbean","lac",-99,0.26392000000000004,0.38738,0.38738,{"$f":"J52/Conversions!J$28","v":0.10760555555564164},null,null,"Electricity: Italy","kWh",2013,0.50052999999999992,3.6,0.13903611111111108,null,null,"Electricity: Italy","kWh",2013,0.40631,3.6,0.11286388888888889,null,null,null,null,null,null,"Electricity: Italy","kWh",2016,2.9409999999999999E-2,null,null,null,null,null,null,null,"Electricity: Italy","kWh",2016,6.0359999999999997E-2,null,null,"Electricity: Italy","kWh",2016,4.45E-3,null,null,"Electricity: Italy",7.2383155718540024E-2,0.14855652088306956,1.0952228593930743E-2,0.23189190519554032,9.4219999999999984E-2,null,null,"Electricity: Italy","Electricity","Italy","Italy",9.4219999999999984E-2,null,null,{"$f":"VLOOKUP(BU52,D$19:$F$255,3,FALSE)","v":{"$error":"#N/A"}},{"$error":"#N/A"},null,null,null,null,null,null,null,null,null,null,null,null,null,null,null,null,-99,{"$error":"#N/A"},null,-99]
[null,"Electricity: ","Electricity: Paraguay","Paraguay","Latin America and the Caribbean","lac",-99,0.26392000000000004,-99,0.26392000000000004,{"$f":"J53/Conversions!J$28","v":7.3311111111169766E-2},null,null,"Electricity: Japan","kWh",2013,0.52696999999999994,3.6,0.14638055555555554,null,null,"Electricity: Japan","kWh",2013,0.41641,3.6,0.11566944444444444,null,null,null,null,null,null,"Electricity: Japan","kWh",2016,2.647E-2,null,null,null,null,null,null,null,"Electricity: Japan","kWh",2016,8.0089999999999995E-2,null,null,"Electricity: Japan","kWh",2016,4.0000000000000001E-3,null,null,"Electricity: Japan",6.3567157368939267E-2,0.19233447803847167,9.6059172450229345E-3,0.26550755265243386,0.11055999999999999,null,null,"Electricity: Japan","Electricity","Japan","Japan",0.11055999999999999,null,null,{"$f":"VLOOKUP(BU53,D$19:$F$255,3,FALSE)","v":"we"},"Austria","Austria",null,null,238,206,170,224,218,217,204,187,163,193,215,190,null,4.6360000000000005E-2,8.3339999999999997E-2,null,0.23636000000000001]
[null,"Electricity: ","Electricity: Peru","Peru","Latin America and the Caribbean","lac",-99,0.26392000000000004,0.34738000000000002,0.34738000000000002,{"$f":"J54/Conversions!J$28","v":9.649444444452164E-2},null,null,"Electricity: Latvia","kWh",2013,0.15322,3.6,4.2561111111111112E-2,null,null,"Electricity: Latvia","kWh",2013,0.11971,3.6,3.3252777777777777E-2,null,null,null,null,null,null,"Electricity: Latvia","kWh",2016,1.163E-2,null,null,null,null,null,null,null,"Electricity: Latvia","kWh",2016,2.0119999999999999E-2,null,null,"Electricity: Latvia","kWh",2016,1.7600000000000001E-3,null,null,"Electricity: Latvia",9.7151449335895076E-2,0.16807284270319939,1.4702196976025395E-2,0.27992648901511985,3.3509999999999998E-2,null,null,"Electricity: Latvia","Electricity","Latvia","Latvia",3.3509999999999998E-2,null,null,{"$f":"VLOOKUP(BU54,D$19:$F$255,3,FALSE)","v":"we"},"Belgium","Belgium",null,null,347,361,291,285,275,263,254,254,218,220,196,211,null,3.9439999999999996E-2,8.3339999999999997E-2,null,0.25044]
[null,"Electricity: ","Electricity: Puerto Rico","Puerto Rico","Latin America and the Caribbean","lac",-99,0.26392000000000004,-99,0.26392000000000004,{"$f":"J55/Conversions!J$28","v":7.3311111111169766E-2},null,null,"Electricity: Lithuania","kWh",2013,0.40852999999999995,3.6,0.11348055555555554,null,null,"Electricity: Lithuania","kWh",2013,0.33740999999999999,3.6,9.3724999999999989E-2,null,null,null,null,null,null,"Electricity: Lithuania","kWh",2016,2.6290000000000001E-2,null,null,null,null,null,null,null,"Electricity: Lithuania","kWh",2016,4.0849999999999997E-2,null,null,"Electricity: Lithuania","kWh",2016,3.98E-3,null,null,"Electricity: Lithuania",7.791707418274503E-2,0.12106932218962094,1.1795738122758663E-2,0.21078213449512465,7.1120000000000003E-2,null,null,"Electricity: Lithuania","Electricity","Lithuania","Lithuania",7.1120000000000003E-2,null,null,{"$f":"VLOOKUP(BU55,D$19:$F$255,3,FALSE)","v":"ee"},"Czech Republic","Czech","Republic",null,744,794,728,617,614,606,636,621,588,589,591,589,null,0.13881000000000002,0.15232999999999999,null,0.72780999999999996]
[null,"Electricity: ","Electricity: Saint Kitts and Nevis","Saint Kitts and Nevis","Latin America and the Caribbean","lac",-99,0.26392000000000004,-99,0.26392000000000004,{"$f":"J56/Conversions!J$28","v":7.3311111111169766E-2},null,null,"Electricity: Luxembourg","kWh",2013,0.47771999999999992,3.6,0.13269999999999998,null,null,"Electricity: Luxembourg","kWh",2013,0.40983999999999998,3.6,0.11384444444444444,null,null,null,null,null,null,"Electricity: Luxembourg","kWh",2016,7.5900000000000004E-3,null,null,null,null,null,null,null,"Electricity: Luxembourg","kWh",2016,5.9139999999999998E-2,null,null,"Electricity: Luxembourg","kWh",2016,1.15E-3,null,null,"Electricity: Luxembourg",1.851942221354675E-2,0.14430021471793872,2.8059730626585986E-3,0.16562560999414405,6.7879999999999996E-2,null,null,"Electricity: Luxembourg","Electricity","Luxembourg","Luxembourg",6.7879999999999996E-2,null,null,{"$f":"VLOOKUP(BU56,D$19:$F$255,3,FALSE)","v":"we"},"Denmark","Denmark",null,null,669,588,450,404,370,459,426,399,399,359,315,358,null,6.4890000000000003E-2,8.3339999999999997E-2,null,0.42288999999999999]
[null,"Electricity: ","Electricity: Saint Lucia","Saint Lucia","Latin America and the Caribbean","lac",-99,0.26392000000000004,-99,0.26392000000000004,{"$f":"J57/Conversions!J$28","v":7.3311111111169766E-2},null,null,"Electricity: Malaysia","kWh",2013,0.87302999999999997,3.6,0.24250833333333333,null,null,"Electricity: Malaysia","kWh",2013,0.72738000000000003,3.6,0.20205000000000001,null,null,null,null,null,null,"Electricity: Malaysia","kWh",2016,3.1669999999999997E-2,null,null,null,null,null,null,null,"Electricity: Malaysia","kWh",2016,0.10919,null,null,"Electricity: Malaysia","kWh",2016,4.79E-3,null,null,"Electricity: Malaysia",4.3539827875388376E-2,0.15011410816904505,6.5852786713959692E-3,0.20023921471582939,0.14564999999999997,null,null,"Electricity: Malaysia","Electricity","Malaysia","Malaysia",0.14564999999999997,null,null,{"$f":"VLOOKUP(BU57,D$19:$F$255,3,FALSE)","v":"we"},"Estonia","Estonia",null,null,932,1062,1063,1029,1048,965,1048,1084,1078,1014,1085,1059,null,0.33061999999999997,8.3339999999999997E-2,null,1.3896199999999999]
[null,"Electricity: ","Electricity: Saint Vincent and the Grenadines","Saint Vincent and the Grenadines","Latin America and the Caribbean","lac",-99,0.26392000000000004,-99,0.26392000000000004,{"$f":"J58/Conversions!J$28","v":7.3311111111169766E-2},null,null,"Electricity: Malta","kWh",2013,1.13463,3.6,0.31517499999999998,null,null,"Electricity: Malta","kWh",2013,0.87231999999999998,3.6,0.24231111111111109,null,null,null,null,null,null,"Electricity: Malta","kWh",2016,0.11404,null,null,null,null,null,null,null,"Electricity: Malta","kWh",2016,0.13102,null,null,"Electricity: Malta","kWh",2016,1.7250000000000001E-2,null,null,"Electricity: Malta",0.1307318415260455,0.15019717534849597,1.9774853264856937E-2,0.30070387013939842,0.26230999999999999,null,null,"Electricity: Malta","Electricity","Malta","Malta",0.26230999999999999,null,null,{"$f":"VLOOKUP(BU58,D$19:$F$255,3,FALSE)","v":"we"},"Finland","Finland",null,null,188,223,173,258,164,265,238,177,190,230,191,203,null,3.6150000000000002E-2,8.3339999999999997E-2,null,0.23915000000000003]
[null,"Electricity: ","Electricity: Suriname","Suriname","Latin America and the Caribbean","lac",-99,0.26392000000000004,-99,0.26392000000000004,{"$f":"J59/Conversions!J$28","v":7.3311111111169766E-2},null,null,"Electricity: Mexico","kWh",2013,0.61351999999999995,3.6,0.1704222222222222,null,null,"Electricity: Mexico","kWh",2013,0.45483000000000001,3.6,0.12634166666666666,null,null,null,null,null,null,"Electricity: Mexico","kWh",2016,7.8920000000000004E-2,null,null,null,null,null,null,null,"Electricity: Mexico","kWh",2016,6.7830000000000001E-2,null,null,"Electricity: Mexico","kWh",2016,1.1939999999999999E-2,null,null,"Electricity: Mexico",0.17351537937251282,0.1491326429655036,2.6251566519358879E-2,0.34889958885737532,0.15869,null,null,"Electricity: Mexico","Electricity","Mexico",{"$f":"VLOOKUP(BO59,D$19:D$255,1,FALSE)","v":"Mexico"},0.15869,null,null,{"$f":"VLOOKUP(BU59,D$19:$F$255,3,FALSE)","v":"we"},"France","France",null,null,105,73,75,67,79,72,76,72,74,77,61,71,null,1.4630000000000001E-2,{"$f":"VLOOKUP(BT59,F$260:J$269,5,FALSE)","v":8.3339999999999997E-2},null,8.5629999999999998E-2]
[null,"Electricity: ","Electricity: Trinidad and Tobago","Trinidad and Tobago","Latin America and the Caribbean","lac",-99,0.26392000000000004,0.70838000000000001,0.70838000000000001,{"$f":"J60/Conversions!J$28","v":0.19677222222237964},null,null,"Electricity: Netherlands","kWh",2013,0.49462,3.6,0.13739444444444443,null,null,"Electricity: Netherlands","kWh",2013,0.41485,3.6,0.11523611111111111,null,null,null,null,null,null,"Electricity: Netherlands","kWh",2016,1.686E-2,null,null,null,null,null,null,null,"Electricity: Netherlands","kWh",2016,6.0359999999999997E-2,null,null,"Electricity: Netherlands","kWh",2016,2.5500000000000002E-3,null,null,"Electricity: Netherlands",4.0641195612872126E-2,0.14549837290586959,6.1468000482101971E-3,0.19228636856695192,7.9769999999999994E-2,null,null,"Electricity: Netherlands","Electricity","Netherlands","Netherlands",7.9769999999999994E-2,null,null,{"$f":"VLOOKUP(BU60,D$19:$F$255,3,FALSE)","v":"we"},"Germany","Germany",null,null,607,581,526,504,487,485,511,481,473,461,477,470,null,9.7040000000000001E-2,8.3339999999999997E-2,null,0.56703999999999999]
[null,"Electricity: ","Electricity: Turks and Caicos Islands","Turks and Caicos Islands","Latin America and the Caribbean","lac",-99,0.26392000000000004,-99,0.26392000000000004,{"$f":"J61/Conversions!J$28","v":7.3311111111169766E-2},null,null,"Electricity: New Zealand","kWh",2013,0.1822,3.6,5.0611111111111107E-2,null,null,"Electricity: New Zealand","kWh",2013,0.1502,3.6,4.1722222222222223E-2,null,null,null,null,null,null,"Electricity: New Zealand","kWh",2016,1.0240000000000001E-2,null,null,null,null,null,null,null,"Electricity: New Zealand","kWh",2016,2.0209999999999999E-2,null,null,"Electricity: New Zealand","kWh",2016,1.5499999999999999E-3,null,null,"Electricity: New Zealand",6.8175765645805603E-2,0.13455392809587216,1.0319573901464714E-2,0.21304926764314247,3.2000000000000001E-2,null,null,"Electricity: New Zealand","Electricity","New Zealand","New Zealand",3.2000000000000001E-2,null,null,{"$f":"VLOOKUP(BU61,D$19:$F$255,3,FALSE)","v":"we"},"Greece","Greece",null,null,990,946,820,780,779,731,752,748,725,718,720,721,null,0.17465,8.3339999999999997E-2,null,0.89564999999999995]
[null,"Electricity: ","Electricity: United States Virgin Islands","United States Virgin Islands","Latin America and the Caribbean","lac",-99,0.26392000000000004,-99,0.26392000000000004,{"$f":"J62/Conversions!J$28","v":7.3311111111169766E-2},null,null,"Electricity: Norway","kWh",2013,2.0319999999999998E-2,3.6,5.6444444444444441E-3,null,null,"Electricity: Norway","kWh",2013,1.669E-2,3.6,4.6361111111111108E-3,null,null,null,null,null,null,"Electricity: Norway","kWh",2016,1.3500000000000001E-3,null,null,null,null,null,null,null,"Electricity: Norway","kWh",2016,2.0799999999999998E-3,null,null,"Electricity: Norway","kWh",2016,2.0000000000000001E-4,null,null,"Electricity: Norway",8.0886758538046735E-2,0.12462552426602755,1.1983223487118035E-2,0.21749550629119233,3.63E-3,null,null,"Electricity: Norway","Electricity","Norway","Norway",3.63E-3,null,null,{"$f":"VLOOKUP(BU62,D$19:$F$255,3,FALSE)","v":"ee"},"Hungary","Hungary",null,null,496,512,469,448,372,373,368,351,313,317,317,316,null,8.6660000000000001E-2,0.15232999999999999,null,0.40266000000000002]
[null,"Electricity: ","Electricity: Uruguay","Uruguay","Latin America and the Caribbean","lac",-99,0.26392000000000004,0.24437999999999999,0.24437999999999999,{"$f":"J63/Conversions!J$28","v":6.7883333333387627E-2},null,null,"Electricity: Pakistan","kWh",2013,0.58023000000000002,3.6,0.16117500000000001,null,null,"Electricity: Pakistan","kWh",2013,0.42465999999999998,3.6,0.1179611111111111,null,null,null,null,null,null,"Electricity: Pakistan","kWh",2016,8.3290000000000003E-2,null,null,null,null,null,null,null,"Electricity: Pakistan","kWh",2016,5.9679999999999997E-2,null,null,"Electricity: Pakistan","kWh",2016,1.26E-2,null,null,"Electricity: Pakistan",0.19613337729006736,0.14053595817830736,2.9670795459897332E-2,0.36634013092827206,0.15556999999999999,null,null,"Electricity: Pakistan","Electricity","Pakistan","Pakistan",0.15556999999999999,null,null,{"$f":"VLOOKUP(BU63,D$19:$F$255,3,FALSE)","v":"we"},"Iceland","Iceland",null,null,1,1,0,0,0,0,1,1,0,0,0,0,null,3.4E-5,8.3339999999999997E-2,null,3.4E-5]
[null,"Electricity: ","Electricity: Venezuela","Venezuela","Latin America and the Caribbean","lac",-99,0.26392000000000004,0.30037999999999998,0.30037999999999998,{"$f":"J64/Conversions!J$28","v":8.3438888888955634E-2},null,null,"Electricity: China","kWh",2013,0.94077,3.6,0.26132499999999997,null,null,"Electricity: China","kWh",2013,0.76646999999999998,3.6,0.21290833333333331,null,null,null,null,null,null,"Electricity: People's Rep. of China","kWh",2016,5.2519999999999997E-2,null,null,null,null,null,null,null,"Electricity: People's Rep. of China","kWh",2016,0.11383,null,null,"Electricity: People's Rep. of China","kWh",2016,7.9500000000000005E-3,null,null,"Electricity: People's Rep. of China",6.8521925189505131E-2,0.14851200960246325,1.0372225918822656E-2,0.22740616071079101,0.17430000000000001,null,null,"Electricity: People's Rep. of China","Electricity","China","China",0.17430000000000001,null,null,{"$f":"VLOOKUP(BU64,D$19:$F$255,3,FALSE)","v":"we"},"Ireland","Ireland",null,null,740,727,642,575,584,537,510,471,452,458,427,445,null,0.10378,8.3339999999999997E-2,null,0.54878000000000005]
[null,"Electricity: ","Electricity: Angola","Angola","Sub-Saharan Africa","ssa",-99,0.83126000000000011,0.62285000000000001,0.62285000000000001,{"$f":"J65/Conversions!J$28","v":0.1730138888890273},null,null,"Electricity: Philippines","kWh",2013,0.62836999999999998,3.6,0.17454722222222221,null,null,"Electricity: Philippines","kWh",2013,0.48099999999999998,3.6,0.1336111111111111,null,null,null,null,null,null,"Electricity: Philippines","kWh",2016,6.2590000000000007E-2,null,null,null,null,null,null,null,"Electricity: Philippines","kWh",2016,7.5310000000000002E-2,null,null,"Electricity: Philippines","kWh",2016,9.4699999999999993E-3,null,null,"Electricity: Philippines",0.13012474012474015,0.15656964656964659,1.9688149688149689E-2,0.30638253638253643,0.14737000000000003,null,null,"Electricity: Philippines","Electricity","Philippines","Philippines",0.14737000000000003,null,null,{"$f":"VLOOKUP(BU65,D$19:$F$255,3,FALSE)","v":"we"},"Italy","Italy",null,null,575,545,498,497,486,479,475,452,411,406,402,406,null,9.4219999999999984E-2,8.3339999999999997E-2,null,0.50022]
[null,"Electricity: ","Electricity: Benin","Benin","Sub-Saharan Africa","ssa",-99,0.83126000000000011,0.91384999999999994,0.91384999999999994,{"$f":"J66/Conversions!J$28","v":0.25384722222242528},null,null,"Electricity: Poland","kWh",2013,0.97201999999999988,3.6,0.2700055555555555,null,null,"Electricity: Poland","kWh",2013,0.78134999999999999,3.6,0.21704166666666666,null,null,null,null,null,null,"Electricity: Poland","kWh",2016,6.3920000000000005E-2,null,null,null,null,null,null,null,"Electricity: Poland","kWh",2016,0.11708,null,null,"Electricity: Poland","kWh",2016,9.6699999999999998E-3,null,null,"Electricity: Poland",8.1807128687528E-2,0.14984322006783132,1.2376015869968645E-2,0.24402636462532798,0.19067000000000001,null,null,"Electricity: Poland","Electricity","Poland","Poland",0.19067000000000001,null,null,{"$f":"VLOOKUP(BU66,D$19:$F$255,3,FALSE)","v":"we"},"Luxembourg","Luxembourg",null,null,2552,1738,528,393,389,387,381,385,376,379,387,381,null,6.7879999999999996E-2,8.3339999999999997E-2,null,0.44888]
[null,"Electricity: ","Electricity: Botswana","Botswana","Sub-Saharan Africa","ssa",-99,0.83126000000000011,1.9818500000000001,1.9818500000000001,{"$f":"J67/Conversions!J$28","v":0.55051388888932928},null,null,"Electricity: Portugal","kWh",2013,0.33732000000000001,3.6,9.3700000000000006E-2,null,null,"Electricity: Portugal","kWh",2013,0.25530999999999998,3.6,7.0919444444444438E-2,null,null,null,null,null,null,"Electricity: Portugal","kWh",2016,3.4079999999999999E-2,null,null,null,null,null,null,null,"Electricity: Portugal","kWh",2016,4.2770000000000002E-2,null,null,"Electricity: Portugal","kWh",2016,5.1599999999999997E-3,null,null,"Electricity: Portugal",0.13348478320473151,0.1675218361991305,2.0210724217617798E-2,0.3212173436214798,8.201E-2,null,null,"Electricity: Portugal","Electricity","Portugal","Portugal",8.201E-2,null,null,{"$f":"VLOOKUP(BU67,D$19:$F$255,3,FALSE)","v":"we"},"Netherlands","Netherlands",null,null,607,546,477,467,454,452,455,442,420,415,404,413,null,7.9769999999999994E-2,8.3339999999999997E-2,null,0.49276999999999999]
[null,"Electricity: ","Electricity: Burkina Faso","Burkina Faso","Sub-Saharan Africa","ssa",-99,0.83126000000000011,-99,0.83126000000000011,{"$f":"J68/Conversions!J$28","v":0.2309055555557403},null,null,"Electricity: Romania","kWh",2013,0.59151999999999993,3.6,0.1643111111111111,null,null,"Electricity: Romania","kWh",2013,0.41343999999999997,3.6,0.11484444444444443,null,null,null,null,null,null,"Electricity: Romania","kWh",2016,8.7870000000000004E-2,null,null,null,null,null,null,null,"Electricity: Romania","kWh",2016,7.6920000000000002E-2,null,null,"Electricity: Romania","kWh",2016,1.329E-2,null,null,"Electricity: Romania",0.2125338622291022,0.18604876160990713,3.2144930340557279E-2,0.4307275541795666,0.17807999999999999,null,null,"Electricity: Romania","Electricity","Romania","Romania",0.17807999999999999,null,null,{"$f":"VLOOKUP(BU68,D$19:$F$255,3,FALSE)","v":"we"},"Norway","Norway",null,null,1,2,1,3,2,3,4,3,11,16,13,14,null,3.63E-3,8.3339999999999997E-2,null,1.763E-2]
[null,"Electricity: ","Electricity: Burundi","Burundi","Sub-Saharan Africa","ssa",-99,0.83126000000000011,-99,0.83126000000000011,{"$f":"J69/Conversions!J$28","v":0.2309055555557403},null,null,"Electricity: Russian Federation","kWh",2013,0.52611999999999992,3.6,0.14614444444444441,null,null,"Electricity: Russian Federation","kWh",2013,0.3836,3.6,0.10655555555555556,null,null,null,null,null,null,"Electricity: Russian Federation","kWh",2016,6.4680000000000001E-2,null,null,null,null,null,null,null,"Electricity: Russian Federation","kWh",2016,6.8049999999999999E-2,null,null,"Electricity: Russian Federation","kWh",2016,9.7900000000000001E-3,null,null,"Electricity: Russian Federation",0.1686131386861314,0.17739833159541188,2.5521376433785194E-2,0.37153284671532849,0.14252000000000001,null,null,"Electricity: Russian Federation","Electricity","Russian Federation","Russian Federation",0.14252000000000001,null,null,{"$f":"VLOOKUP(BU69,D$19:$F$255,3,FALSE)","v":"ee"},"Poland","Poland",null,null,988,905,866,833,818,821,820,815,799,781,780,787,null,0.19067000000000001,0.15232999999999999,null,0.97767000000000004]
[null,"Electricity: ","Electricity: Cote d’Ivoire","Cote d’Ivoire","Sub-Saharan Africa","ssa",-99,0.83126000000000011,0.62385000000000002,0.62385000000000002,{"$f":"J70/Conversions!J$28","v":0.17329166666680529},null,null,"Electricity: Saudi Arabia","kWh",2013,0.92059999999999997,3.6,0.25572222222222218,null,null,"Electricity: Saudi Arabia","kWh",2013,0.73677999999999999,3.6,0.2046611111111111,null,null,null,null,null,null,"Electricity: Saudi Arabia","kWh",2016,6.0720000000000003E-2,null,null,null,null,null,null,null,"Electricity: Saudi Arabia","kWh",2016,0.11391,null,null,"Electricity: Saudi Arabia","kWh",2016,9.1900000000000003E-3,null,null,"Electricity: Saudi Arabia",8.2412660495670351E-2,0.15460517386465431,1.2473194169222835E-2,0.24949102852954747,0.18382000000000001,null,null,"Electricity: Saudi Arabia","Electricity","Saudi Arabia","Saudi Arabia",0.18382000000000001,null,null,{"$f":"VLOOKUP(BU70,D$19:$F$255,3,FALSE)","v":"we"},"Portugal","Portugal",null,null,519,576,486,465,521,431,396,394,379,255,303,313,null,8.201E-2,8.3339999999999997E-2,null,0.39500999999999997]
[null,"Electricity: ","Electricity: Cameroon","Cameroon","Sub-Saharan Africa","ssa",-99,0.83126000000000011,0.39485000000000003,0.39485000000000003,{"$f":"J71/Conversions!J$28","v":0.10968055555564331},null,null,"Electricity: Singapore","kWh",2013,0.57885999999999993,3.6,0.16079444444444443,null,null,"Electricity: Singapore","kWh",2013,0.49945000000000001,3.6,0.13873611111111112,null,null,null,null,null,null,"Electricity: Singapore","kWh",2016,2.6099999999999999E-3,null,null,null,null,null,null,null,"Electricity: Singapore","kWh",2016,7.6410000000000006E-2,null,null,"Electricity: Singapore","kWh",2016,3.8999999999999999E-4,null,null,"Electricity: Singapore",5.2257483231554708E-3,0.15298828711582743,7.8085894483932326E-4,0.15899489438382222,7.9410000000000008E-2,null,null,"Electricity: Singapore","Electricity","Singapore","Singapore",7.9410000000000008E-2,null,null,{"$f":"VLOOKUP(BU71,D$19:$F$255,3,FALSE)","v":"ee"},"Slovakia","Slovak","Republic",null,389,364,245,233,221,214,221,208,210,197,200,202,null,-99,0.15232999999999999,null,0.35433000000000003]
[null,"Electricity: ","Electricity: Cape Verde","Cape Verde","Sub-Saharan Africa","ssa",-99,0.83126000000000011,-99,0.83126000000000011,{"$f":"J72/Conversions!J$28","v":0.2309055555557403},null,null,"Electricity: Slovak Republic","kWh",2013,0.23366999999999999,3.6,6.4908333333333332E-2,null,null,"Electricity: Slovak Republic","kWh",2013,0.19703999999999999,3.6,5.4733333333333328E-2,null,null,null,null,null,null,"Electricity: Slovak Republic","kWh",2016,5.96E-3,null,null,null,null,null,null,null,"Electricity: Slovak Republic","kWh",2016,2.9770000000000001E-2,null,null,"Electricity: Slovak Republic","kWh",2016,8.9999999999999998E-4,null,null,"Electricity: Slovak Republic",3.0247665448639872E-2,0.15108607389362566,4.5676004872107186E-3,0.18590133982947626,3.6629999999999996E-2,null,null,"Electricity: Slovak Republic","Electricity","Slovak Republic",{"$error":"#N/A"},3.6629999999999996E-2,null,null,{"$f":"VLOOKUP(BU72,D$19:$F$255,3,FALSE)","v":"we"},"Slovenia","Slovenia",null,null,429,382,343,345,349,362,375,332,318,325,338,327,null,7.8920000000000004E-2,8.3339999999999997E-2,null,0.40592]
[null,"Electricity: ","Electricity: Central African Republic","Central African Republic","Sub-Saharan Africa","ssa",-99,0.83126000000000011,-99,0.83126000000000011,{"$f":"J73/Conversions!J$28","v":0.2309055555557403},null,null,"Electricity: Slovenia","kWh",2013,0.40383000000000002,3.6,0.112175,null,null,"Electricity: Slovenia","kWh",2013,0.32490999999999998,3.6,9.0252777777777765E-2,null,null,null,null,null,null,"Electricity: Slovenia","kWh",2016,2.3230000000000001E-2,null,null,null,null,null,null,null,"Electricity: Slovenia","kWh",2016,5.2179999999999997E-2,null,null,"Electricity: Slovenia","kWh",2016,3.5100000000000001E-3,null,null,"Electricity: Slovenia",7.1496722169216098E-2,0.16059831953464038,1.0802991597673202E-2,0.24289803330152968,7.8920000000000004E-2,null,null,"Electricity: Slovenia","Electricity","Slovenia","Slovenia",7.8920000000000004E-2,null,null,{"$f":"VLOOKUP(BU73,D$19:$F$255,3,FALSE)","v":"we"},"Spain","Spain",null,null,427,454,432,383,396,369,387,327,297,237,291,275,null,7.9619999999999996E-2,8.3339999999999997E-2,null,0.35462000000000005]
[null,"Electricity: ","Electricity: Chad","Chad","Sub-Saharan Africa","ssa",-99,0.83126000000000011,-99,0.83126000000000011,{"$f":"J74/Conversions!J$28","v":0.2309055555557403},null,null,"Electricity: South Africa","kWh",2013,1.1643900000000003,3.6,0.32344166666666674,null,null,"Electricity: South Africa","kWh",2013,0.92654000000000003,3.6,0.25737222222222222,null,null,null,null,null,null,"Electricity: South Africa","kWh",2016,9.3950000000000006E-2,null,null,null,null,null,null,null,"Electricity: South Africa","kWh",2016,0.12969,null,null,"Electricity: South Africa","kWh",2016,1.421E-2,null,null,"Electricity: South Africa",0.10139875234744318,0.13997237032400112,1.5336628747814449E-2,0.25670775141925872,0.23785000000000001,null,null,"Electricity: South Africa","Electricity","South Africa","South Africa",0.23785000000000001,null,null,{"$f":"VLOOKUP(BU74,D$19:$F$255,3,FALSE)","v":"we"},"Sweden","Sweden",null,null,12,22,22,23,19,23,17,18,19,26,17,21,null,4.0200000000000001E-3,8.3339999999999997E-2,null,2.5020000000000001E-2]
[null,"Electricity: ","Electricity: Comoros","Comoros","Sub-Saharan Africa","ssa",-99,0.83126000000000011,-99,0.83126000000000011,{"$f":"J75/Conversions!J$28","v":0.2309055555557403},null,null,"Electricity: Republic of Korea","kWh",2013,0.64043000000000005,3.6,0.17789722222222223,null,null,"Electricity: Republic of Korea","kWh",2013,0.53307000000000004,3.6,0.14807500000000001,null,null,null,null,null,null,"Electricity: South Korea","kWh",2016,2.0740000000000001E-2,null,null,null,null,null,null,null,"Electricity: South Korea","kWh",2016,8.3479999999999999E-2,null,null,"Electricity: South Korea","kWh",2016,3.14E-3,null,null,"Electricity: South Korea",3.8906710188155398E-2,0.15660232239668334,5.8904083891421384E-3,0.20139944097398088,0.10736000000000001,null,null,"Electricity: South Korea","Electricity","Republic of Korea","Republic of Korea",0.10736000000000001,null,null,{"$f":"VLOOKUP(BU75,D$19:$F$255,3,FALSE)","v":"we"},"Switzerland","Switzerland",null,null,24,23,25,28,32,33,30,29,26,27,30,28,null,7.6800000000000002E-3,8.3339999999999997E-2,null,3.5680000000000003E-2]
[null,"Electricity: ","Electricity: Congo","Congo","Sub-Saharan Africa","ssa",-99,0.83126000000000011,0.44084999999999996,0.44084999999999996,{"$f":"J76/Conversions!J$28","v":0.12245833333343129},null,null,"Electricity: Spain","kWh",2013,0.31759999999999999,3.6,8.8222222222222216E-2,null,null,"Electricity: Spain","kWh",2013,0.23798,3.6,6.6105555555555556E-2,null,null,null,null,null,null,"Electricity: Spain","kWh",2016,3.117E-2,null,null,null,null,null,null,null,"Electricity: Spain","kWh",2016,4.3729999999999998E-2,null,null,"Electricity: Spain","kWh",2016,4.7200000000000002E-3,null,null,"Electricity: Spain",0.13097739305824019,0.18375493738969662,1.9833599462139678E-2,0.3345659299100765,7.9619999999999996E-2,null,null,"Electricity: Spain","Electricity","Spain","Spain",7.9619999999999996E-2,null,null,{"$f":"VLOOKUP(BU76,D$19:$F$255,3,FALSE)","v":"nena"},"Turkey","Turkey",null,null,568,512,529,426,438,452,494,511,496,460,472,476,null,0.17147999999999999,0.21182999999999996,null,0.64747999999999994]
[null,"Electricity: ","Electricity: Democratic Republic of the Congo","Democratic Republic of the Congo","Sub-Saharan Africa","ssa",-99,0.83126000000000011,0.19685,0.19685,{"$f":"J77/Conversions!J$28","v":5.4680555555599294E-2},null,null,"Electricity: Sweden","kWh",2013,3.3590000000000002E-2,3.6,9.3305555555555555E-3,null,null,"Electricity: Sweden","kWh",2013,2.9569999999999999E-2,3.6,8.2138888888888886E-3,null,null,null,null,null,null,"Electricity: Sweden","kWh",2016,1.32E-3,null,null,null,null,null,null,null,"Electricity: Sweden","kWh",2016,2.5000000000000001E-3,null,null,"Electricity: Sweden","kWh",2016,2.0000000000000001E-4,null,null,"Electricity: Sweden",4.4639837673317556E-2,8.4545147108555971E-2,6.7636117686844782E-3,0.13594859655055799,4.0200000000000001E-3,null,null,"Electricity: Sweden","Electricity","Sweden","Sweden",4.0200000000000001E-3,null,null,{"$f":"VLOOKUP(BU77,D$19:$F$255,3,FALSE)","v":"we"},"U.K. of Great Britain and Northern Ireland","United","Kingdom",null,672,529,472,492,491,515,506,499,453,457,441,450,null,-99,8.3339999999999997E-2,null,0.53334000000000004]
[null,"Electricity: ","Electricity: Djibouti","Djibouti","Sub-Saharan Africa","ssa",-99,0.83126000000000011,-99,0.83126000000000011,{"$f":"J78/Conversions!J$28","v":0.2309055555557403},null,null,"Electricity: Switzerland","kWh",2013,{"$f":"Y78+AK78+AV78+BB78","v":3.499E-2},3.6,9.7194444444444437E-3,null,null,"Electricity: Switzerland","kWh",2013,2.7310000000000001E-2,3.6,7.5861111111111112E-3,null,null,null,null,null,null,"Electricity: Switzerland","kWh",2016,2.5300000000000001E-3,null,null,null,null,null,null,null,"Electricity: Switzerland","kWh",2016,4.7699999999999999E-3,null,null,"Electricity: Switzerland","kWh",2016,3.8000000000000002E-4,null,null,"Electricity: Switzerland",9.2640058586598323E-2,0.17466129622848772,1.3914317099963384E-2,0.28121567191504943,7.6800000000000002E-3,null,null,"Electricity: Switzerland","Electricity","Switzerland","Switzerland",7.6800000000000002E-3,null,null,{"$f":"VLOOKUP(BU78,D$19:$F$255,3,FALSE)","v":{"$error":"#N/A"}},{"$error":"#N/A"},"OECD","Europe",null,448,407,376,370,365,368,374,356,340,331,334,335,null,-99,{"$error":"#N/A"},null,-99]
[null,"Electricity: ","Electricity: Equatorial Guinea","Equatorial Guinea","Sub-Saharan Africa","ssa",-99,0.83126000000000011,-99,0.83126000000000011,{"$f":"J79/Conversions!J$28","v":0.2309055555557403},null,null,"Electricity: Thailand","kWh",2013,0.63032999999999995,3.6,0.17509166666666665,null,null,"Electricity: Thailand","kWh",2013,0.51288999999999996,3.6,0.14246944444444443,null,null,null,null,null,null,"Electricity: Thailand","kWh",2016,3.3029999999999997E-2,null,null,null,null,null,null,null,"Electricity: Thailand","kWh",2016,7.9409999999999994E-2,null,null,"Electricity: Thailand","kWh",2016,5.0000000000000001E-3,null,null,"Electricity: Thailand",6.4399773830645948E-2,0.15482852073544034,9.7486790539881851E-3,0.22897697362007446,0.11743999999999999,null,null,"Electricity: Thailand","Electricity","Thailand","Thailand",0.11743999999999999,null,null,{"$f":"VLOOKUP(BU79,D$19:$F$255,3,FALSE)","v":{"$error":"#N/A"}},{"$error":"#N/A"},"European","Union",27,488,440,401,391,387,389,396,375,357,347,352,352,null,-99,{"$error":"#N/A"},null,-99]
[null,"Electricity: ","Electricity: Eritrea","Eritrea","Sub-Saharan Africa","ssa",-99,0.83126000000000011,1.0378499999999999,1.0378499999999999,{"$f":"J80/Conversions!J$28","v":0.28829166666689726},null,null,"Electricity: Turkey","kWh",2013,0.63107999999999997,3.6,0.17529999999999998,null,null,"Electricity: Turkey","kWh",2013,0.45960000000000001,3.6,0.12766666666666668,null,null,null,null,null,null,"Electricity: Turkey","kWh",2016,8.7919999999999998E-2,null,null,null,null,null,null,null,"Electricity: Turkey","kWh",2016,7.0260000000000003E-2,null,null,"Electricity: Turkey","kWh",2016,1.3299999999999999E-2,null,null,"Electricity: Turkey",0.19129677980852916,0.15287206266318537,2.8938207136640554E-2,0.37310704960835506,0.17147999999999999,null,null,"Electricity: Turkey","Electricity","Turkey","Turkey",0.17147999999999999,null,null,{"$f":"VLOOKUP(BU80,D$19:$F$255,3,FALSE)","v":{"$error":"#N/A"}},{"$error":"#N/A"},null,null,null,null,null,null,null,null,null,null,null,null,null,null,null,null,-99,{"$error":"#N/A"},null,-99]
[null,"Electricity: ","Electricity: Ethiopia","Ethiopia","Sub-Saharan Africa","ssa",-99,0.83126000000000011,0.23885000000000001,0.23885000000000001,{"$f":"J81/Conversions!J$28","v":6.6347222222275293E-2},null,null,"Electricity: Ukraine","kWh",2013,0.54518,3.6,0.15143888888888887,null,null,"Electricity: Ukraine","kWh",2013,0.39165,3.6,0.10879166666666666,null,null,null,null,null,null,"Electricity: Ukraine","kWh",2016,7.1220000000000006E-2,null,null,null,null,null,null,null,"Electricity: Ukraine","kWh",2016,7.1540000000000006E-2,null,null,"Electricity: Ukraine","kWh",2016,1.077E-2,null,null,"Electricity: Ukraine",0.18184603600153199,0.18266309204647008,2.7499042512447339E-2,0.3920081705604494,0.15353,null,null,"Electricity: Ukraine","Electricity","Ukraine","Ukraine",0.15353,null,null,{"$f":"VLOOKUP(BU81,D$19:$F$255,3,FALSE)","v":{"$error":"#N/A"}},{"$error":"#N/A"},"Non-OECD","Total",null,573,604,611,636,643,652,643,640,639,627,633,633,null,-99,{"$error":"#N/A"},null,-99]
[null,"Electricity: ","Electricity: Gabon","Gabon","Sub-Saharan Africa","ssa",-99,0.83126000000000011,0.56684999999999997,0.56684999999999997,{"$f":"J82/Conversions!J$28","v":0.15745833333345929},null,null,"Electricity: United States of America","kWh",2013,0.63639999999999997,3.6,0.17677777777777776,null,null,"Electricity: United States of America","kWh",2013,0.52224999999999999,3.6,0.14506944444444445,null,null,null,null,null,null,"Electricity: United States","kWh",2016,3.3649999999999999E-2,null,null,null,null,null,null,null,"Electricity: United States","kWh",2016,7.5410000000000005E-2,null,null,"Electricity: United States","kWh",2016,5.0899999999999999E-3,null,null,"Electricity: United States",6.4432742939205367E-2,0.14439444710387747,9.7462900909526095E-3,0.21857348013403544,0.11415,null,null,"Electricity: United States","Electricity","United States of America","United States of America",0.11415,null,null,{"$f":"VLOOKUP(BU82,D$19:$F$255,3,FALSE)","v":"we"},"Albania","Albania",null,null,162,38,43,30,26,26,31,"-",1,2,7,3,null,-99,8.3339999999999997E-2,null,8.634E-2]
[null,"Electricity: ","Electricity: Gambia","Gambia","Sub-Saharan Africa","ssa",-99,0.83126000000000011,-99,0.83126000000000011,{"$f":"J83/Conversions!J$28","v":0.2309055555557403},null,null,"Electricity: Africa (average)","kWh",2013,0.83126000000000011,3.6,0.23090555555555559,null,null,"Electricity: Africa (average)","kWh",2013,0.63741000000000003,3.6,0.17705833333333335,null,null,null,null,null,null,"Electricity: Africa (average)","kWh",2016,9.1910000000000006E-2,null,null,null,null,null,null,null,"Electricity: Africa (average)","kWh",2016,8.8039999999999993E-2,null,null,"Electricity: Africa (average)","kWh",2016,1.3899999999999999E-2,null,null,"Electricity: Africa (average)",0.1441929056651135,0.13812146028458919,2.180700020395036E-2,0.30412136615365309,0.19384999999999999,null,null,"Electricity: Africa (average)","Electricity","Africa (average)",{"$error":"#N/A"},0.19384999999999999,null,null,{"$f":"VLOOKUP(BU83,D$19:$F$255,3,FALSE)","v":"nena"},"Armenia","Armenia",null,null,495,211,238,114,131,130,157,159,102,92,123,106,null,-99,0.21182999999999996,null,0.31782999999999995]
[null,"Electricity: ",{"$f":"CONCATENATE(B84,D84)","v":"Electricity: Ghana"},"Ghana","Sub-Saharan Africa","ssa",{"$f":"IFERROR(VLOOKUP(C84,$N$27:$S$87,4,FALSE),-99)","v":-99},{"$f":"VLOOKUP(F84,F$260:J$269,3,FALSE)","v":0.83126000000000011},{"$f":"IFERROR(VLOOKUP(D84,BU$27:CO$198,21,FALSE),-99)","v":0.42685000000000001},{"$f":"IF(I84>0,I84,IF(G84>0,G84,H84))","v":0.42685000000000001},{"$f":"J84/Conversions!J$28","v":0.11856944444453929},null,null,"Electricity: EU (average)","kWh",2013,0.43056999999999995,3.6,0.11960277777777777,null,null,"Electricity: EU (average)","kWh",2013,0.34722999999999998,3.6,9.6452777777777776E-2,null,null,null,null,null,null,"Electricity: EU (average)","kWh",2016,2.6339999999999999E-2,null,null,null,null,null,null,null,"Electricity: EU (average)","kWh",2016,5.3019999999999998E-2,null,null,"Electricity: EU (average)","kWh",2016,3.98E-3,null,null,"Electricity: EU (average)",7.5857500791982266E-2,0.15269417965037582,1.1462143247991245E-2,0.24001382369034932,8.3339999999999997E-2,null,null,"Electricity: EU (average)","Electricity","EU (average)",{"$error":"#N/A"},8.3339999999999997E-2,null,null,{"$f":"VLOOKUP(BU84,D$19:$F$255,3,FALSE)","v":"nena"},"Azerbaijan","Azerbaijan",null,null,574,696,739,535,536,519,549,518,481,431,455,456,null,-99,0.21182999999999996,null,0.66782999999999992]
[null,"Electricity: ","Electricity: Guinea","Guinea","Sub-Saharan Africa","ssa",-99,0.83126000000000011,-99,0.83126000000000011,{"$f":"J85/Conversions!J$28","v":0.2309055555557403},null,null,"Electricity: Latin America (average)","kWh",2013,0.26392000000000004,3.6,7.3311111111111119E-2,null,null,"Electricity: Latin America (average)","kWh",2013,0.19653999999999999,3.6,5.4594444444444439E-2,null,null,null,null,null,null,"Electricity: Latin America (average)","kWh",2016,3.4320000000000003E-2,null,null,null,null,null,null,null,"Electricity: Latin America (average)","kWh",2016,2.7869999999999999E-2,null,null,"Electricity: Latin America (average)","kWh",2016,5.1900000000000002E-3,null,null,"Electricity: Latin America (average)",0.17462094230182154,0.14180319527831484,2.6406838302635599E-2,0.342830975882772,6.7379999999999995E-2,null,null,"Electricity: Latin America (average)","Electricity","Latin America (average)",{"$error":"#N/A"},6.7379999999999995E-2,null,null,{"$f":"VLOOKUP(BU85,D$19:$F$255,3,FALSE)","v":"ee"},"Belarus","Belarus",null,null,548,500,472,463,459,461,452,465,466,449,441,452,null,-99,0.15232999999999999,null,0.60433000000000003]
[null,"Electricity: ","Electricity: Guinea-Bissau","Guinea-Bissau","Sub-Saharan Africa","ssa",-99,0.83126000000000011,-99,0.83126000000000011,{"$f":"J86/Conversions!J$28","v":0.2309055555557403},null,null,"Electricity: Middle East (average)","kWh",2013,0.88605000000000012,3.6,0.24612500000000004,null,null,"Electricity: Middle East (average)","kWh",2013,0.67422000000000004,3.6,0.18728333333333333,null,null,null,null,null,null,"Electricity: Middle East (average)","kWh",2016,9.6019999999999994E-2,null,null,null,null,null,null,null,"Electricity: Middle East (average)","kWh",2016,0.10128,null,null,"Electricity: Middle East (average)","kWh",2016,1.453E-2,null,null,"Electricity: Middle East (average)",0.14241642193942627,0.15021802972323572,2.1550829106226452E-2,0.31418528076888846,0.21182999999999996,null,null,"Electricity: Middle East (average)","Electricity","Middle East (average)",{"$error":"#N/A"},0.21182999999999996,null,null,{"$f":"VLOOKUP(BU86,D$19:$F$255,3,FALSE)","v":"we"},"Bosnia and Herzegovina","Bosnia","and","Herzegovina",713,176,824,772,797,852,1007,830,805,723,974,834,null,-99,8.3339999999999997E-2,null,0.91733999999999993]
[null,"Electricity: ","Electricity: Kenya","Kenya","Sub-Saharan Africa","ssa",-99,0.83126000000000011,0.51585000000000003,0.51585000000000003,{"$f":"J87/Conversions!J$28","v":0.14329166666678131},null,null,"Electricity: Non-OECD Europe and Eurasia (average)","kWh",2013,{"$f":"Y87+AK87+AV87+BB87","v":0.55964999999999998},3.6,0.15545833333333334,null,null,"Electricity: Non-OECD Europe and Eurasia (average)","kWh",2013,0.40732000000000002,3.6,0.11314444444444445,null,null,null,null,null,null,"Electricity: Non-OECD Europe and Eurasia (average)","kWh",2016,7.0319999999999994E-2,null,null,null,null,null,null,null,"Electricity: Non-OECD Europe and Eurasia (average)","kWh",2016,7.1370000000000003E-2,null,null,"Electricity: Non-OECD Europe and Eurasia (average)","kWh",2016,1.064E-2,null,null,"Electricity: Non-OECD Europe and Eurasia (average)",0.17264067563586366,0.17521850142394185,2.6121967985858783E-2,0.37398114504566432,{"$f":"AK87+AV87+BB87","v":0.15232999999999999},null,null,"Electricity: Non-OECD Europe and Eurasia (average)","Electricity","Non-OECD Europe and Eurasia (average)",{"$error":"#N/A"},0.15232999999999999,null,null,{"$f":"VLOOKUP(BU87,D$19:$F$255,3,FALSE)","v":"ee"},"Bulgaria","Bulgaria",null,null,761,582,478,538,506,493,597,566,540,542,591,558,null,0.19189999999999999,0.15232999999999999,null,0.74990000000000001]
[null,"Electricity: ","Electricity: Lesotho","Lesotho","Sub-Saharan Africa","ssa",-99,0.83126000000000011,-99,0.83126000000000011,{"$f":"J88/Conversions!J$28","v":0.2309055555557403},null,null,null,null,null,null,null,null,null,null,null,null,null,null,null,null,null,null,null,null,null,null,null,null,null,null,null,null,null,null,null,null,null,null,null,null,null,null,null,null,null,null,null,null,null,null,null,null,null,null,null,null,null,null,null,null,null,null,null,null,{"$f":"VLOOKUP(BU88,D$19:$F$255,3,FALSE)","v":"we"},"Croatia","Croatia",null,null,382,263,313,312,330,337,422,367,290,236,334,287,null,0.10507,8.3339999999999997E-2,null,0.39206999999999997]
[null,"Electricity: ","Electricity: Liberia","Liberia","Sub-Saharan Africa","ssa",-99,0.83126000000000011,-99,0.83126000000000011,{"$f":"J89/Conversions!J$28","v":0.2309055555557403},null,null,"Electricity: UK","kWh",2016,{"$f":"Y105+AK22+AV18+AV23","v":0.51680000000000004},3.6,{"$f":"Q89/R89","v":0.14355555555555558},null,null,null,null,null,null,null,null,null,null,null,null,null,null,null,null,null,null,null,null,null,null,null,null,null,null,null,null,null,null,null,null,null,null,null,null,null,null,null,null,null,null,null,null,null,null,null,null,null,null,null,null,{"$f":"VLOOKUP(BU89,D$19:$F$255,3,FALSE)","v":"nena"},"Cyprus","Cyprus",null,null,838,822,838,772,788,758,761,759,746,705,732,728,null,0.14995000000000003,0.21182999999999996,null,0.87795000000000001]
[null,"Electricity: ","Electricity: Madagascar","Madagascar","Sub-Saharan Africa","ssa",-99,0.83126000000000011,-99,0.83126000000000011,{"$f":"J90/Conversions!J$28","v":0.2309055555557403},null,null,null,null,null,null,null,null,null,null,null,null,null,null,null,null,null,null,null,null,null,null,null,null,null,null,null,null,null,null,null,null,null,null,null,null,null,null,null,null,null,null,null,null,null,null,null,null,null,null,null,null,null,null,null,null,null,null,null,null,{"$f":"VLOOKUP(BU90,D$19:$F$255,3,FALSE)","v":"nena"},"Georgia","Georgia",null,null,574,510,225,89,101,147,161,79,123,69,102,98,null,-99,0.21182999999999996,null,0.30982999999999994]
[null,"Electricity: ","Electricity: Malawi","Malawi","Sub-Saharan Africa","ssa",-99,0.83126000000000011,-99,0.83126000000000011,{"$f":"J91/Conversions!J$28","v":0.2309055555557403},null,null,null,null,null,null,null,null,null,"FAQs",null,null,null,null,null,null,null,null,null,null,null,"Activity","Type","Unit","Year","kg CO2e","kg CO2","kg CH4","kg N2O",null,null,null,null,null,null,null,null,null,null,null,null,null,null,null,null,null,null,null,null,null,null,null,null,null,null,null,null,null,null,null,{"$f":"VLOOKUP(BU91,D$19:$F$255,3,FALSE)","v":{"$error":"#N/A"}},{"$error":"#N/A"},"Gibraltar",null,null,737,766,760,743,761,751,751,757,757,762,752,757,null,-99,{"$f":"VLOOKUP(BT91,F$260:J$269,5,FALSE)","v":{"$error":"#N/A"}},null,-99]
[null,"Electricity: ","Electricity: Mali","Mali","Sub-Saharan Africa","ssa",-99,0.83126000000000011,-99,0.83126000000000011,{"$f":"J92/Conversions!J$28","v":0.2309055555557403},null,null,null,null,null,null,null,null,null,"I am not publishing a company report, but I need a factor for ‘electricity consumption’ instead of ‘electricity generation’ what should I do?",null,null,null,null,null,null,null,null,null,null,null,"Distribution - district heat & steam","5% loss","kWh",2016,1.0753229124926378E-2,1.0655461742826361E-2,5.6687745721645602E-5,4.1079636378369019E-5,null,null,null,null,null,null,null,null,null,null,null,null,null,null,null,null,null,null,null,null,null,null,null,null,null,null,null,null,null,null,null,{"$f":"VLOOKUP(BU92,D$19:$F$255,3,FALSE)","v":"nena"},"Kazakhstan","Kazakhstan",null,null,611,621,730,597,597,866,683,566,441,409,431,427,null,{"$f":"IFERROR(VLOOKUP(BU92,BP$26:BQ$87,2,FALSE),-99)","v":-99},0.21182999999999996,null,{"$f":"IFERROR(CJ92/1000+IF(CL92>0,CL92,CM92),-99)","v":0.63883000000000001}]
[null,"Electricity: ","Electricity: Mauritania","Mauritania","Sub-Saharan Africa","ssa",-99,0.83126000000000011,-99,0.83126000000000011,{"$f":"J93/Conversions!J$28","v":0.2309055555557403},null,null,null,null,null,null,null,null,null,"For company reporting purposes, organisations should use the ‘electricity generation’ figures for Scope 2 electricity and may use the ‘T&D’ factors for reporting Scope 3 losses.  However, for other reporting contexts (where specific scopes do not need to be reported) the ‘electricity consumption’ figure, (as published in 2011 and 2012 conversion factors) can be calculated by adding together the ‘electricity generation’ and ‘T&D’ values within each year for each country.",null,null,null,null,null,null,null,null,null,null,null,null,null,null,null,null,null,null,null,null,null,null,null,null,null,null,null,null,null,null,null,null,null,null,null,null,null,null,null,null,null,null,null,null,null,null,null,null,null,null,{"$f":"VLOOKUP(BU93,D$19:$F$255,3,FALSE)","v":{"$error":"#N/A"}},{"$error":"#N/A"},"Kosovo","**",null,"..","..",1316,1297,1121,1126,1089,1088,1286,1287,1109,1227,null,-99,{"$error":"#N/A"},null,-99]
[null,"Electricity: ","Electricity: Mauritius","Mauritius","Sub-Saharan Africa","ssa",-99,0.83126000000000011,-99,0.83126000000000011,{"$f":"J94/Conversions!J$28","v":0.2309055555557403},null,null,null,null,null,null,null,null,null,"I previously used a 5 year grid rolling average factors; these factors are based on 1 year average factors and look quite different, what should I do?",null,null,null,null,null,null,null,null,null,null,null,"FAQs",null,null,null,null,null,null,null,null,null,null,null,null,null,null,null,null,null,null,null,null,null,null,null,null,null,null,null,null,null,null,null,null,null,null,null,null,null,null,{"$f":"VLOOKUP(BU94,D$19:$F$255,3,FALSE)","v":"nena"},"Kyrgyzstan","Kyrgyzstan",null,null,165,99,78,73,64,66,65,84,50,56,45,51,null,-99,0.21182999999999996,null,0.26282999999999995]
[null,"Electricity: ","Electricity: Mayotte","Mayotte","Sub-Saharan Africa","ssa",-99,0.83126000000000011,-99,0.83126000000000011,{"$f":"J95/Conversions!J$28","v":0.2309055555557403},null,null,null,null,null,null,null,null,null,"Please refer to the 'what's new in 2013 section of the ‘what’s new’ tab for full instructions on how to rebaseline your data to compensate for the changes made.",null,null,null,null,null,null,null,null,null,null,null,"Is reporting T&D compulsory?",null,null,null,null,null,null,null,null,null,null,null,null,null,null,null,null,null,null,null,null,null,null,null,null,null,null,null,null,null,null,null,null,null,null,null,null,null,null,{"$f":"VLOOKUP(BU95,D$19:$F$255,3,FALSE)","v":"we"},"Latvia","Latvia",null,null,115,134,135,97,88,113,106,114,96,120,133,116,null,3.3509999999999998E-2,8.3339999999999997E-2,null,0.14951]
[null,"Electricity: ","Electricity: Mozambique","Mozambique","Sub-Saharan Africa","ssa",-99,0.83126000000000011,0.19485,0.19485,{"$f":"J96/Conversions!J$28","v":5.4125000000043298E-2},null,null,null,null,null,null,null,null,null,null,null,null,null,null,null,null,null,null,null,null,null,"As with other Scope 3 impacts, reporting T&D is voluntary. However, it is considered best practice.",null,null,null,null,null,null,null,null,null,null,null,null,null,null,null,null,null,null,null,null,null,null,null,null,null,null,null,null,null,null,null,null,null,null,null,null,null,null,{"$f":"VLOOKUP(BU96,D$19:$F$255,3,FALSE)","v":"we"},"Lithuania","Lithuania",null,null,158,65,99,68,101,100,88,83,84,338,270,230,null,7.1120000000000003E-2,8.3339999999999997E-2,null,0.30112]
[null,"Electricity: ","Electricity: Namibia","Namibia","Sub-Saharan Africa","ssa",-99,0.83126000000000011,0.24484999999999998,0.24484999999999998,{"$f":"J97/Conversions!J$28","v":6.8013888888943289E-2},null,null,null,null,null,null,null,null,null,"For information about the derivation of the conversion factors please refer to accompanying 'Methodology paper' to the conversion factors, which is available on the conversion factors website.",null,null,null,null,null,null,null,null,null,null,null,"I am not publishing a company report, but I need a factor for ‘electricity consumption’. What should I do?",null,null,null,null,null,null,null,null,null,null,null,null,null,null,null,null,null,null,null,null,null,null,null,null,null,null,null,null,null,null,null,null,null,null,null,null,null,null,{"$f":"VLOOKUP(BU97,D$19:$F$255,3,FALSE)","v":"we"},"The former Yugoslav Republic of Macedonia","FYR","of","Macedonia",917,879,799,798,791,783,870,904,798,684,811,764,null,-99,8.3339999999999997E-2,null,0.84733999999999998]
[null,"Electricity: ","Electricity: Niger","Niger","Sub-Saharan Africa","ssa",-99,0.83126000000000011,-99,0.83126000000000011,{"$f":"J98/Conversions!J$28","v":0.2309055555557403},null,null,null,null,null,null,null,null,null,null,null,null,null,null,null,null,null,null,null,null,null,"For company reporting purposes, organisations should use the ‘electricity generation’ figures for Scope 2 electricity and may use the ‘T&D’ factors for reporting Scope 3 losses. However, for other reporting contexts (where specific scopes do not need to be reported) the ‘electricity consumption’ figure (as published in 2011 and 2012 conversion factors) can be calculated by adding together the ‘electricity generation’ and ‘T&D’ values within each year for each country.",null,null,null,null,null,null,null,null,null,null,null,null,null,null,null,null,null,null,null,null,null,null,null,null,null,null,null,null,null,null,null,null,null,null,null,null,null,null,{"$f":"VLOOKUP(BU98,D$19:$F$255,3,FALSE)","v":"we"},"Malta","Malta",null,null,1587,957,819,913,1034,954,1012,849,850,871,862,861,null,0.26230999999999999,8.3339999999999997E-2,null,1.12331]
[null,"Electricity: ","Electricity: Nigeria","Nigeria","Sub-Saharan Africa","ssa",-99,0.83126000000000011,0.61185,0.61185,{"$f":"J99/Conversions!J$28","v":0.1699583333334693},null,null,null,null,null,null,null,null,null,null,null,null,null,null,null,null,null,null,null,null,null,"What factor do I need for my CRC Energy Efficiency Scheme (CRC) reporting?",null,null,null,null,null,null,null,null,null,null,null,null,null,null,null,null,null,null,null,null,null,null,null,null,null,null,null,null,null,null,null,null,null,null,null,null,null,null,{"$f":"VLOOKUP(BU99,D$19:$F$255,3,FALSE)","v":"ee"},"Moldova, Republic of","Republic","of","Moldova",723,712,642,494,493,483,491,487,500,493,486,493,null,-99,0.15232999999999999,null,0.64532999999999996]
[null,"Electricity: ","Electricity: Rwanda","Rwanda","Sub-Saharan Africa","ssa",-99,0.83126000000000011,-99,0.83126000000000011,{"$f":"J100/Conversions!J$28","v":0.2309055555557403},null,null,null,null,null,null,null,null,null,null,null,null,null,null,null,null,null,null,null,null,null,"CRC reporting is now aligned with UK Government GHG Conversion Factors for Company Reporting. You should use the 'UK electricity generation CO2 only' factor, which needs to be added to the 'CO2 only T&D- UK electricity' factor to get the overall factor that should be used for CRC reporting.",null,null,null,null,null,null,null,null,null,null,null,null,null,null,null,null,null,null,null,null,null,null,null,null,null,null,null,null,null,null,null,null,null,null,null,null,null,null,{"$f":"VLOOKUP(BU100,D$19:$F$255,3,FALSE)","v":"we"},"Montenegro","Montenegro","**","..","..","..","..",null,384,429,455,530,290,420,653,454,null,-99,8.3339999999999997E-2,null,0.53734000000000004]
[null,"Electricity: ","Electricity: Reunion","Reunion","Sub-Saharan Africa","ssa",-99,0.83126000000000011,-99,0.83126000000000011,{"$f":"J101/Conversions!J$28","v":0.2309055555557403},null,null,null,null,null,null,null,null,null,null,null,null,null,null,null,null,null,null,null,null,null,"For information about how the conversion factors have been derived, please refer to the 'Methodology paper' that accompanies the conversion factors.",null,null,null,null,null,null,null,null,null,null,null,null,null,null,null,null,null,null,null,null,null,null,null,null,null,null,null,null,null,null,null,null,null,null,null,null,null,null,{"$f":"VLOOKUP(BU101,D$19:$F$255,3,FALSE)","v":"ee"},"Romania","Romania",null,null,855,741,579,528,493,521,542,512,472,412,499,461,null,0.17807999999999999,0.15232999999999999,null,0.63907999999999998]
[null,"Electricity: ","Electricity: Saint Helena","Saint Helena","Sub-Saharan Africa","ssa",-99,0.83126000000000011,-99,0.83126000000000011,{"$f":"J102/Conversions!J$28","v":0.2309055555557403},null,null,null,null,null,null,null,null,null,null,null,null,null,null,null,null,null,null,null,null,null,null,null,null,null,null,null,null,null,null,null,null,null,null,null,null,null,null,null,null,null,null,null,null,null,null,null,null,null,null,null,null,null,null,null,null,null,null,null,null,{"$f":"VLOOKUP(BU102,D$19:$F$255,3,FALSE)","v":"rus"},"Russian Federation","Russian","Federation",null,406,363,394,402,436,445,428,426,402,412,437,417,null,0.14252000000000001,0.14252000000000001,null,0.55952000000000002]
[null,"Electricity: ","Electricity: Sao Tome and Principe","Sao Tome and Principe","Sub-Saharan Africa","ssa",-99,0.83126000000000011,-99,0.83126000000000011,{"$f":"J103/Conversions!J$28","v":0.2309055555557403},null,null,null,null,null,null,null,null,null,"https://www.gov.uk/government/publications/greenhouse-gas-reporting-conversion-factors-2016",null,null,null,null,null,null,null,null,null,null,null,null,null,null,null,null,null,null,null,null,null,null,null,null,null,null,null,null,null,null,null,null,null,null,null,null,null,null,null,null,null,null,null,null,null,null,null,null,null,null,{"$f":"VLOOKUP(BU103,D$19:$F$255,3,FALSE)","v":"we"},"Republic of Serbia","Serbia","**",null,892,1001,886,884,764,817,734,733,740,711,784,745,null,-99,8.3339999999999997E-2,null,0.82833999999999997]
[null,"Electricity: ","Electricity: Senegal","Senegal","Sub-Saharan Africa","ssa",-99,0.83126000000000011,0.87285000000000001,0.87285000000000001,{"$f":"J104/Conversions!J$28","v":0.24245833333352729},null,null,null,null,null,null,null,null,null,"Activity","Country","Unit","Year","kg CO2e","kg CO2","kg CH4","kg N2O",null,null,null,null,null,null,null,null,null,null,null,null,null,null,null,null,null,null,null,null,null,null,null,null,null,null,null,null,null,null,null,null,null,null,null,null,null,null,null,null,null,null,null,{"$f":"VLOOKUP(BU104,D$19:$F$255,3,FALSE)","v":"nena"},"Tajikistan","Tajikistan",null,null,68,25,26,22,21,21,20,20,17,14,12,15,null,-99,0.21182999999999996,null,0.22682999999999998]
[null,"Electricity: ","Electricity: Seychelles","Seychelles","Sub-Saharan Africa","ssa",-99,0.83126000000000011,-99,0.83126000000000011,{"$f":"J105/Conversions!J$28","v":0.2309055555557403},null,null,null,null,null,null,null,null,null,"Electricity generated","Electricity: UK","kWh",2016,0.41204999999999997,0.40956999999999999,3.8999999999999999E-4,2.0899999999999998E-3,null,null,null,null,null,null,null,null,null,null,null,null,null,null,null,null,null,null,null,null,null,null,null,null,null,null,null,null,null,null,null,null,null,null,null,null,null,null,null,null,null,null,null,{"$f":"VLOOKUP(BU105,D$19:$F$255,3,FALSE)","v":"nena"},"Turkmenistan","Turkmenistan",null,null,686,931,872,872,872,872,872,927,865,954,983,934,null,-99,0.21182999999999996,null,1.1458300000000001]
[null,"Electricity: ","Electricity: Sierra Leone","Sierra Leone","Sub-Saharan Africa","ssa",-99,0.83126000000000011,-99,0.83126000000000011,{"$f":"J106/Conversions!J$28","v":0.2309055555557403},null,null,null,null,null,null,null,null,null,null,null,null,null,null,null,null,null,null,null,null,null,null,null,null,null,null,null,null,null,null,null,null,null,null,null,null,null,null,null,null,null,null,null,null,null,null,null,null,null,null,null,null,null,null,null,null,null,null,null,null,{"$f":"VLOOKUP(BU106,D$19:$F$255,3,FALSE)","v":"ee"},"Ukraine","Ukraine",null,null,654,566,400,360,397,430,440,432,411,416,450,426,null,0.15353,0.15232999999999999,null,0.57952999999999999]
[null,"Electricity: ","Electricity: Somalia","Somalia","Sub-Saharan Africa","ssa",-99,0.83126000000000011,-99,0.83126000000000011,{"$f":"J107/Conversions!J$28","v":0.2309055555557403},null,null,null,null,null,null,null,null,null,null,null,null,null,null,null,null,null,null,null,null,null,null,null,null,null,null,null,null,null,null,null,null,null,null,null,null,null,null,null,null,null,null,null,null,null,null,null,null,null,null,null,null,null,null,null,null,null,null,null,null,{"$f":"VLOOKUP(BU107,D$19:$F$255,3,FALSE)","v":"nena"},"Uzbekistan","Uzbekistan",null,null,624,572,629,588,588,582,609,543,566,550,559,558,null,-99,0.21182999999999996,null,0.76983000000000001]
[null,"Electricity: ","Electricity: South Africa","South Africa","Sub-Saharan Africa","ssa",1.1643900000000003,0.83126000000000011,1.1388500000000001,1.1388500000000001,{"$f":"J108/Conversions!J$28","v":0.3163472222224753},null,null,null,null,null,null,null,null,null,null,null,null,null,null,null,null,null,null,null,null,null,null,null,null,null,null,null,null,null,null,null,null,null,null,null,null,null,null,null,null,null,null,null,null,null,null,null,null,null,null,null,null,null,null,null,null,null,null,null,null,{"$f":"VLOOKUP(BU108,D$19:$F$255,3,FALSE)","v":{"$error":"#N/A"}},{"$error":"#N/A"},"Non-OECD Europe and Eurasia","Europe",null,500,449,441,430,451,476,463,452,426,427,459,437,null,-99,{"$error":"#N/A"},null,-99]
[null,"Electricity: ","Electricity: Swaziland","Swaziland","Sub-Saharan Africa","ssa",-99,0.83126000000000011,-99,0.83126000000000011,{"$f":"J109/Conversions!J$28","v":0.2309055555557403},null,null,null,null,null,null,null,null,null,null,null,null,null,null,null,null,null,null,null,null,null,null,null,null,null,null,null,null,null,null,null,null,null,null,null,null,null,null,null,null,null,null,null,null,null,null,null,null,null,null,null,null,null,null,null,null,null,null,null,null,{"$f":"VLOOKUP(BU109,D$19:$F$255,3,FALSE)","v":{"$error":"#N/A"}},{"$error":"#N/A"},null,null,null,null,null,null,null,null,null,null,null,null,null,null,null,null,-99,{"$error":"#N/A"},null,-99]
[null,"Electricity: ","Electricity: Togo","Togo","Sub-Saharan Africa","ssa",-99,0.83126000000000011,0.40084999999999998,0.40084999999999998,{"$f":"J110/Conversions!J$28","v":0.11134722222231129},null,null,null,null,null,null,null,null,null,null,null,null,null,null,null,null,null,null,null,null,null,null,null,null,null,null,null,null,null,null,null,null,null,null,null,null,null,null,null,null,null,null,null,null,null,null,null,null,null,null,null,null,null,null,null,null,null,null,null,null,{"$f":"VLOOKUP(BU110,D$19:$F$255,3,FALSE)","v":"nena"},"Algeria","Algeria",null,null,631,633,620,632,606,621,597,596,638,546,556,580,null,-99,0.21182999999999996,null,0.79182999999999992]
[null,"Electricity: ","Electricity: Uganda","Uganda","Sub-Saharan Africa","ssa",-99,0.83126000000000011,-99,0.83126000000000011,{"$f":"J111/Conversions!J$28","v":0.2309055555557403},null,null,null,null,null,null,null,null,null,null,null,null,null,null,null,null,null,null,null,null,null,null,null,null,null,null,null,null,null,null,null,null,null,null,null,null,null,null,null,null,null,null,null,null,null,null,null,null,null,null,null,null,null,null,null,null,null,null,null,null,{"$f":"VLOOKUP(BU111,D$19:$F$255,3,FALSE)","v":"ssa"},"Angola","Angola",null,null,343,177,499,290,273,260,300,330,465,430,390,429,null,-99,0.19384999999999999,null,0.62285000000000001]
[null,"Electricity: ","Electricity: United Republic of Tanzania","United Republic of Tanzania","Sub-Saharan Africa","ssa",-99,0.83126000000000011,0.46384999999999998,0.46384999999999998,{"$f":"J112/Conversions!J$28","v":0.12884722222232528},null,null,null,null,null,null,null,null,null,null,null,null,null,null,null,null,null,null,null,null,null,null,null,null,null,null,null,null,null,null,null,null,null,null,null,null,null,null,null,null,null,null,null,null,null,null,null,null,null,null,null,null,null,null,null,null,null,null,null,null,{"$f":"VLOOKUP(BU112,D$19:$F$255,3,FALSE)","v":"ssa"},"Benin","Benin",null,null,1200,951,601,740,709,698,662,679,719,720,722,720,null,-99,0.19384999999999999,null,0.91384999999999994]
[null,"Electricity: ","Electricity: Zambia","Zambia","Sub-Saharan Africa","ssa",-99,0.83126000000000011,0.19685,0.19685,{"$f":"J113/Conversions!J$28","v":5.4680555555599294E-2},null,null,null,null,null,null,null,null,null,null,null,null,null,null,null,null,null,null,null,null,null,null,null,null,null,null,null,null,null,null,null,null,null,null,null,null,null,null,null,null,null,null,null,null,null,null,null,null,null,null,null,null,null,null,null,null,null,null,null,null,{"$f":"VLOOKUP(BU113,D$19:$F$255,3,FALSE)","v":"ssa"},"Botswana","Botswana",null,null,1791,1800,1876,2190,2073,1927,1587,1789,1787,1790,1787,1788,null,-99,0.19384999999999999,null,1.9818500000000001]
[null,"Electricity: ","Electricity: Zimbabwe","Zimbabwe","Sub-Saharan Africa","ssa",-99,0.83126000000000011,0.55184999999999995,0.55184999999999995,{"$f":"J114/Conversions!J$28","v":0.15329166666678928},null,null,null,null,null,null,null,null,null,null,null,null,null,null,null,null,null,null,null,null,null,null,null,null,null,null,null,null,null,null,null,null,null,null,null,null,null,null,null,null,null,null,null,null,null,null,null,null,null,null,null,null,null,null,null,null,null,null,null,null,{"$f":"VLOOKUP(BU114,D$19:$F$255,3,FALSE)","v":"ssa"},"Cameroon","Cameroon",null,null,13,10,10,28,40,83,162,161,196,207,200,201,null,-99,0.19384999999999999,null,0.39485000000000003]
[null,"Electricity: ","Electricity: Algeria","Algeria","Near East and North Africa","nena",-99,0.88605000000000012,0.79182999999999992,0.79182999999999992,{"$f":"J115/Conversions!J$28","v":0.21995277777795372},null,null,null,null,null,null,null,null,null,null,null,null,null,null,null,null,null,null,null,null,null,null,null,null,null,null,null,null,null,null,null,null,null,null,null,null,null,null,null,null,null,null,null,null,null,null,null,null,null,null,null,null,null,null,null,null,null,null,null,null,{"$f":"VLOOKUP(BU115,D$19:$F$255,3,FALSE)","v":"ssa"},"Congo","Congo",null,null,6,9,"-",97,103,102,130,100,245,267,230,247,null,-99,0.19384999999999999,null,0.44084999999999996]
[null,"Electricity: ","Electricity: Armenia","Armenia","Near East and North Africa","nena",-99,0.88605000000000012,0.31782999999999995,0.31782999999999995,{"$f":"J116/Conversions!J$28","v":8.8286111111181717E-2},null,null,null,null,null,null,null,null,null,null,null,null,null,null,null,null,null,null,null,null,null,null,null,null,null,null,null,null,null,null,null,null,null,null,null,null,null,null,null,null,null,null,null,null,null,null,null,null,null,null,null,null,null,null,null,null,null,null,null,null,{"$f":"VLOOKUP(BU116,D$19:$F$255,3,FALSE)","v":"ssa"},"Democratic Republic of the Congo","D.R. Congo",null,null,4,4,1,1,1,2,3,4,3,3,3,3,null,-99,0.19384999999999999,null,0.19685]
[null,"Electricity: ","Electricity: Azerbaijan","Azerbaijan","Near East and North Africa","nena",-99,0.88605000000000012,0.66782999999999992,0.66782999999999992,{"$f":"J117/Conversions!J$28","v":0.18550833333348171},null,null,null,null,null,null,null,null,null,null,null,null,null,null,null,null,null,null,null,null,null,null,null,null,null,null,null,null,null,null,null,null,null,null,null,null,null,null,null,null,null,null,null,null,null,null,null,null,null,null,null,null,null,null,null,null,null,null,null,null,{"$f":"VLOOKUP(BU117,D$19:$F$255,3,FALSE)","v":"ssa"},"Cote d’Ivoire","Côte","d'Ivoire",null,205,275,379,356,457,385,409,449,391,461,437,430,null,-99,0.19384999999999999,null,0.62385000000000002]
[null,"Electricity: ","Electricity: Bahrain","Bahrain","Near East and North Africa","nena",-99,0.88605000000000012,0.84682999999999997,0.84682999999999997,{"$f":"J118/Conversions!J$28","v":0.23523055555574371},null,null,null,null,null,null,null,null,null,null,null,null,null,null,null,null,null,null,null,null,null,null,null,null,null,null,null,null,null,null,null,null,null,null,null,null,null,null,null,null,null,null,null,null,null,null,null,null,null,null,null,null,null,null,null,null,null,null,null,null,{"$f":"VLOOKUP(BU118,D$19:$F$255,3,FALSE)","v":"nena"},"Egypt","Egypt",null,null,521,443,343,489,474,473,450,460,466,450,457,458,null,0.13697000000000001,0.21182999999999996,null,0.59497]
[null,"Electricity: ","Electricity: Cyprus","Cyprus","Near East and North Africa","nena",0.84702999999999995,0.88605000000000012,0.87795000000000001,0.87795000000000001,{"$f":"J119/Conversions!J$28","v":0.2438750000001951},null,null,null,null,null,null,null,null,null,null,null,null,null,null,null,null,null,null,null,null,null,null,null,null,null,null,null,null,null,null,null,null,null,null,null,null,null,null,null,null,null,null,null,null,null,null,null,null,null,null,null,null,null,null,null,null,null,null,null,null,{"$f":"VLOOKUP(BU119,D$19:$F$255,3,FALSE)","v":"ssa"},"Eritrea","Eritrea","..",null,null,1073,1333,1003,975,962,941,802,833,850,849,844,null,-99,0.19384999999999999,null,1.0378499999999999]
[null,"Electricity: ","Electricity: Egypt","Egypt","Near East and North Africa","nena",0.58684000000000003,0.88605000000000012,0.59497,0.59497,{"$f":"J120/Conversions!J$28","v":0.16526944444457664},null,null,null,null,null,null,null,null,null,null,null,null,null,null,null,null,null,null,null,null,null,null,null,null,null,null,null,null,null,null,null,null,null,null,null,null,null,null,null,null,null,null,null,null,null,null,null,null,null,null,null,null,null,null,null,null,null,null,null,null,{"$f":"VLOOKUP(BU120,D$19:$F$255,3,FALSE)","v":"ssa"},"Ethiopia","Ethiopia",null,null,136,42,11,6,3,3,44,119,122,7,7,45,null,-99,0.19384999999999999,null,0.23885000000000001]
[null,"Electricity: ","Electricity: Gaza Strip","Gaza Strip","Near East and North Africa","nena",-99,0.88605000000000012,-99,0.88605000000000012,{"$f":"J121/Conversions!J$28","v":0.24612500000019691},null,null,null,null,null,null,null,null,null,null,null,null,null,null,null,null,null,null,null,null,null,null,null,null,null,null,null,null,null,null,null,null,null,null,null,null,null,null,null,null,null,null,null,null,null,null,null,null,null,null,null,null,null,null,null,null,null,null,null,null,{"$f":"VLOOKUP(BU121,D$19:$F$255,3,FALSE)","v":"ssa"},"Gabon","Gabon",null,null,270,255,326,327,382,348,424,350,356,383,378,373,null,-99,0.19384999999999999,null,0.56684999999999997]
[null,"Electricity: ","Electricity: Georgia","Georgia","Near East and North Africa","nena",-99,0.88605000000000012,0.30982999999999994,0.30982999999999994,{"$f":"J122/Conversions!J$28","v":8.6063888888957718E-2},null,null,null,null,null,null,null,null,null,null,null,null,null,null,null,null,null,null,null,null,null,null,null,null,null,null,null,null,null,null,null,null,null,null,null,null,null,null,null,null,null,null,null,null,null,null,null,null,null,null,null,null,null,null,null,null,null,null,null,null,{"$f":"VLOOKUP(BU122,D$19:$F$255,3,FALSE)","v":"ssa"},"Ghana","Ghana",null,null,"-",3,66,84,147,276,360,215,188,295,215,233,null,-99,0.19384999999999999,null,0.42685000000000001]
[null,"Electricity: ","Electricity: Iraq","Iraq","Near East and North Africa","nena",-99,0.88605000000000012,1.1578299999999999,1.1578299999999999,{"$f":"J123/Conversions!J$28","v":0.3216194444447017},null,null,null,null,null,null,null,null,null,null,null,null,null,null,null,null,null,null,null,null,null,null,null,null,null,null,null,null,null,null,null,null,null,null,null,null,null,null,null,null,null,null,null,null,null,null,null,null,null,null,null,null,null,null,null,null,null,null,null,null,{"$f":"VLOOKUP(BU123,D$19:$F$255,3,FALSE)","v":"ssa"},"Kenya","Kenya",null,null,51,63,455,217,247,259,249,322,397,274,294,322,null,-99,{"$f":"VLOOKUP(BT123,F$260:J$269,5,FALSE)","v":0.19384999999999999},null,0.51585000000000003]
[null,"Electricity: ","Electricity: Israel","Israel","Near East and North Africa","nena",0.84142000000000006,0.88605000000000012,0.85546,0.85546,{"$f":"J124/Conversions!J$28","v":0.23762777777796787},null,null,null,null,null,null,null,null,null,null,null,null,null,null,null,null,null,null,null,null,null,null,null,null,null,null,null,null,null,null,null,null,null,null,null,null,null,null,null,null,null,null,null,null,null,null,null,null,null,null,null,null,null,null,null,null,null,null,null,null,{"$f":"VLOOKUP(BU124,D$19:$F$255,3,FALSE)","v":"nena"},"State of Libya","Libya",null,null,779,1131,1022,851,902,883,779,692,705,680,636,674,null,-99,0.21182999999999996,null,0.88583000000000001]
[null,"Electricity: ","Electricity: Jordan","Jordan","Near East and North Africa","nena",-99,0.88605000000000012,0.81082999999999994,0.81082999999999994,{"$f":"J125/Conversions!J$28","v":0.22523055555573571},null,null,null,null,null,null,null,null,null,null,null,null,null,null,null,null,null,null,null,null,null,null,null,null,null,null,null,null,null,null,null,null,null,null,null,null,null,null,null,null,null,null,null,null,null,null,null,null,null,null,null,null,null,null,null,null,null,null,null,null,{"$f":"VLOOKUP(BU125,D$19:$F$255,3,FALSE)","v":"nena"},"Morocco","Morocco",null,null,783,928,831,860,830,819,802,787,698,687,729,705,null,-99,0.21182999999999996,null,0.91682999999999992]
[null,"Electricity: ","Electricity: Kazakhstan","Kazakhstan","Near East and North Africa","nena",-99,0.88605000000000012,0.63883000000000001,0.63883000000000001,{"$f":"J126/Conversions!J$28","v":0.17745277777791973},null,null,null,null,null,null,null,null,null,null,null,null,null,null,null,null,null,null,null,null,null,null,null,null,null,null,null,null,null,null,null,null,null,null,null,null,null,null,null,null,null,null,null,null,null,null,null,null,null,null,null,null,null,null,null,null,null,null,null,null,{"$f":"VLOOKUP(BU126,D$19:$F$255,3,FALSE)","v":"ssa"},"Mozambique","Mozambique",null,null,241,64,5,3,1,1,1,0,1,1,1,1,null,-99,0.19384999999999999,null,0.19485]
[null,"Electricity: ","Electricity: Kuwait","Kuwait","Near East and North Africa","nena",-99,0.88605000000000012,1.0168300000000001,1.0168300000000001,{"$f":"J127/Conversions!J$28","v":0.28245277777800376},null,null,null,null,null,null,null,null,null,null,null,null,null,null,null,null,null,null,null,null,null,null,null,null,null,null,null,null,null,null,null,null,null,null,null,null,null,null,null,null,null,null,null,null,null,null,null,null,null,null,null,null,null,null,null,null,null,null,null,null,{"$f":"VLOOKUP(BU127,D$19:$F$255,3,FALSE)","v":"ssa"},"Namibia","Namibia",null,null,"..",37,5,1,29,95,98,148,71,59,24,51,null,-99,0.19384999999999999,null,0.24484999999999998]
[null,"Electricity: ","Electricity: Kyrgyzstan","Kyrgyzstan","Near East and North Africa","nena",-99,0.88605000000000012,0.26282999999999995,0.26282999999999995,{"$f":"J128/Conversions!J$28","v":7.3008333333391726E-2},null,null,null,null,null,null,null,null,null,null,null,null,null,null,null,null,null,null,null,null,null,null,null,null,null,null,null,null,null,null,null,null,null,null,null,null,null,null,null,null,null,null,null,null,null,null,null,null,null,null,null,null,null,null,null,null,null,null,null,null,{"$f":"VLOOKUP(BU128,D$19:$F$255,3,FALSE)","v":"ssa"},"Nigeria","Nigeria",null,null,420,371,338,362,359,385,385,386,416,405,433,418,null,-99,0.19384999999999999,null,0.61185]
[null,"Electricity: ","Electricity: Lebanon","Lebanon","Near East and North Africa","nena",-99,0.88605000000000012,0.92282999999999993,0.92282999999999993,{"$f":"J129/Conversions!J$28","v":0.25634166666687169},null,null,null,null,null,null,null,null,null,null,null,null,null,null,null,null,null,null,null,null,null,null,null,null,null,null,null,null,null,null,null,null,null,null,null,null,null,null,null,null,null,null,null,null,null,null,null,null,null,null,null,null,null,null,null,null,null,null,null,null,{"$f":"VLOOKUP(BU129,D$19:$F$255,3,FALSE)","v":"ssa"},"Senegal","Senegal",null,null,889,881,940,674,741,751,635,617,683,665,689,679,null,-99,0.19384999999999999,null,0.87285000000000001]
[null,"Electricity: ","Electricity: Morocco","Morocco","Near East and North Africa","nena",-99,0.88605000000000012,0.91682999999999992,0.91682999999999992,{"$f":"J130/Conversions!J$28","v":0.25467500000020371},null,null,null,null,null,null,null,null,null,null,null,null,null,null,null,null,null,null,null,null,null,null,null,null,null,null,null,null,null,null,null,null,null,null,null,null,null,null,null,null,null,null,null,null,null,null,null,null,null,null,null,null,null,null,null,null,null,null,null,null,{"$f":"VLOOKUP(BU130,D$19:$F$255,3,FALSE)","v":"ssa"},"South Africa","South","Africa",null,849,884,893,871,851,831,827,948,906,927,869,901,null,0.23785000000000001,0.19384999999999999,null,1.1388500000000001]
[null,"Electricity: ","Electricity: Oman","Oman","Near East and North Africa","nena",-99,0.88605000000000012,0.97482999999999997,0.97482999999999997,{"$f":"J131/Conversions!J$28","v":0.27078611111132772},null,null,null,null,null,null,null,null,null,null,null,null,null,null,null,null,null,null,null,null,null,null,null,null,null,null,null,null,null,null,null,null,null,null,null,null,null,null,null,null,null,null,null,null,null,null,null,null,null,null,null,null,null,null,null,null,null,null,null,null,{"$f":"VLOOKUP(BU131,D$19:$F$255,3,FALSE)","v":"nena"},"Republic of Sudan","Sudan",null,null,325,465,508,607,615,658,580,601,413,165,204,261,null,-99,0.21182999999999996,null,0.47282999999999997]
[null,"Electricity: ","Electricity: Qatar","Qatar","Near East and North Africa","nena",-99,0.88605000000000012,0.70882999999999996,0.70882999999999996,{"$f":"J132/Conversions!J$28","v":0.19689722222237971},null,null,null,null,null,null,null,null,null,null,null,null,null,null,null,null,null,null,null,null,null,null,null,null,null,null,null,null,null,null,null,null,null,null,null,null,null,null,null,null,null,null,null,null,null,null,null,null,null,null,null,null,null,null,null,null,null,null,null,null,{"$f":"VLOOKUP(BU132,D$19:$F$255,3,FALSE)","v":"ssa"},"United Republic of Tanzania","Tanzania",null,null,152,284,192,141,349,415,232,218,253,269,288,270,null,-99,0.19384999999999999,null,0.46384999999999998]
[null,"Electricity: ","Electricity: Republic of Sudan","Republic of Sudan","Near East and North Africa","nena",-99,0.88605000000000012,0.47282999999999997,0.47282999999999997,{"$f":"J133/Conversions!J$28","v":0.13134166666677172},null,null,null,null,null,null,null,null,null,null,null,null,null,null,null,null,null,null,null,null,null,null,null,null,null,null,null,null,null,null,null,null,null,null,null,null,null,null,null,null,null,null,null,null,null,null,null,null,null,null,null,null,null,null,null,null,null,null,null,null,{"$f":"VLOOKUP(BU133,D$19:$F$255,3,FALSE)","v":"ssa"},"Togo","Togo",null,null,422,185,558,439,350,456,401,206,200,216,206,207,null,-99,0.19384999999999999,null,0.40084999999999998]
[null,"Electricity: ","Electricity: Saudi Arabia","Saudi Arabia","Near East and North Africa","nena",0.92059999999999997,0.88605000000000012,0.93281999999999998,0.93281999999999998,{"$f":"J134/Conversions!J$28","v":0.25911666666687394},null,null,null,null,null,null,null,null,null,null,null,null,null,null,null,null,null,null,null,null,null,null,null,null,null,null,null,null,null,null,null,null,null,null,null,null,null,null,null,null,null,null,null,null,null,null,null,null,null,null,null,null,null,null,null,null,null,null,null,null,{"$f":"VLOOKUP(BU134,D$19:$F$255,3,FALSE)","v":"nena"},"Tunisia","Tunisia",null,null,651,588,574,477,469,492,506,494,472,463,455,463,null,-99,0.21182999999999996,null,0.67483000000000004]
[null,"Electricity: ","Electricity: South Sudan","South Sudan","Near East and North Africa","nena",-99,0.88605000000000012,-99,0.88605000000000012,{"$f":"J135/Conversions!J$28","v":0.24612500000019691},null,null,null,null,null,null,null,null,null,null,null,null,null,null,null,null,null,null,null,null,null,null,null,null,null,null,null,null,null,null,null,null,null,null,null,null,null,null,null,null,null,null,null,null,null,null,null,null,null,null,null,null,null,null,null,null,null,null,null,null,{"$f":"VLOOKUP(BU135,D$19:$F$255,3,FALSE)","v":"ssa"},"Zambia","Zambia",null,null,11,7,7,6,6,5,3,3,2,2,3,3,null,-99,0.19384999999999999,null,0.19685]
[null,"Electricity: ","Electricity: State of Libya","State of Libya","Near East and North Africa","nena",-99,0.88605000000000012,0.88583000000000001,0.88583000000000001,{"$f":"J136/Conversions!J$28","v":0.24606388888908573},null,null,null,null,null,null,null,null,null,null,null,null,null,null,null,null,null,null,null,null,null,null,null,null,null,null,null,null,null,null,null,null,null,null,null,null,null,null,null,null,null,null,null,null,null,null,null,null,null,null,null,null,null,null,null,null,null,null,null,null,{"$f":"VLOOKUP(BU136,D$19:$F$255,3,FALSE)","v":"ssa"},"Zimbabwe","Zimbabwe",null,null,714,920,740,572,572,461,422,328,357,358,358,358,null,-99,0.19384999999999999,null,0.55184999999999995]
[null,"Electricity: ","Electricity: Syrian Arab Republic","Syrian Arab Republic","Near East and North Africa","nena",-99,0.88605000000000012,0.81982999999999995,0.81982999999999995,{"$f":"J137/Conversions!J$28","v":0.22773055555573771},null,null,null,null,null,null,null,null,null,null,null,null,null,null,null,null,null,null,null,null,null,null,null,null,null,null,null,null,null,null,null,null,null,null,null,null,null,null,null,null,null,null,null,null,null,null,null,null,null,null,null,null,null,null,null,null,null,null,null,null,{"$f":"VLOOKUP(BU137,D$19:$F$255,3,FALSE)","v":{"$error":"#N/A"}},{"$error":"#N/A"},"Other","Africa",null,374,323,443,460,487,528,518,518,516,527,527,523,null,-99,{"$error":"#N/A"},null,-99]
[null,"Electricity: ","Electricity: Tajikistan","Tajikistan","Near East and North Africa","nena",-99,0.88605000000000012,0.22682999999999998,0.22682999999999998,{"$f":"J138/Conversions!J$28","v":6.3008333333383737E-2},null,null,null,null,null,null,null,null,null,null,null,null,null,null,null,null,null,null,null,null,null,null,null,null,null,null,null,null,null,null,null,null,null,null,null,null,null,null,null,null,null,null,null,null,null,null,null,null,null,null,null,null,null,null,null,null,null,null,null,null,{"$f":"VLOOKUP(BU138,D$19:$F$255,3,FALSE)","v":{"$error":"#N/A"}},{"$error":"#N/A"},"Africa",null,null,670,690,651,649,636,627,612,655,630,620,596,616,null,-99,{"$error":"#N/A"},null,-99]
[null,"Electricity: ","Electricity: Tunisia","Tunisia","Near East and North Africa","nena",-99,0.88605000000000012,0.67483000000000004,0.67483000000000004,{"$f":"J139/Conversions!J$28","v":0.18745277777792774},null,null,null,null,null,null,null,null,null,null,null,null,null,null,null,null,null,null,null,null,null,null,null,null,null,null,null,null,null,null,null,null,null,null,null,null,null,null,null,null,null,null,null,null,null,null,null,null,null,null,null,null,null,null,null,null,null,null,null,null,{"$f":"VLOOKUP(BU139,D$19:$F$255,3,FALSE)","v":{"$error":"#N/A"}},{"$error":"#N/A"},null,null,null,null,null,null,null,null,null,null,null,null,null,null,null,null,-99,{"$error":"#N/A"},null,-99]
[null,"Electricity: ","Electricity: Turkey","Turkey","Near East and North Africa","nena",0.63107999999999997,0.88605000000000012,0.64747999999999994,0.64747999999999994,{"$f":"J140/Conversions!J$28","v":0.1798555555556994},null,null,null,null,null,null,null,null,null,null,null,null,null,null,null,null,null,null,null,null,null,null,null,null,null,null,null,null,null,null,null,null,null,null,null,null,null,null,null,null,null,null,null,null,null,null,null,null,null,null,null,null,null,null,null,null,null,null,null,null,{"$f":"VLOOKUP(BU140,D$19:$F$255,3,FALSE)","v":"sa"},"Bangladesh","Bangladesh",null,null,554,601,556,546,553,578,593,585,597,604,564,588,null,-99,0.25860499999999997,null,0.84660499999999994]
[null,"Electricity: ","Electricity: Turkmenistan","Turkmenistan","Near East and North Africa","nena",-99,0.88605000000000012,1.1458300000000001,1.1458300000000001,{"$f":"J141/Conversions!J$28","v":0.31828611111136573},null,null,null,null,null,null,null,null,null,null,null,null,null,null,null,null,null,null,null,null,null,null,null,null,null,null,null,null,null,null,null,null,null,null,null,null,null,null,null,null,null,null,null,null,null,null,null,null,null,null,null,null,null,null,null,null,null,null,null,null,{"$f":"VLOOKUP(BU141,D$19:$F$255,3,FALSE)","v":"esea"},"Brunei Darussalam","Brunei",null,"Darussalam",924,880,795,820,800,839,739,791,789,730,717,745,null,-99,0.14720555555555553,null,0.89220555555555547]
[null,"Electricity: ","Electricity: United Arab Emirates","United Arab Emirates","Near East and North Africa","nena",-99,0.88605000000000012,0.82282999999999995,0.82282999999999995,{"$f":"J142/Conversions!J$28","v":0.22856388888907173},null,null,null,null,null,null,null,null,null,null,null,null,null,null,null,null,null,null,null,null,null,null,null,null,null,null,null,null,null,null,null,null,null,null,null,null,null,null,null,null,null,null,null,null,null,null,null,null,null,null,null,null,null,null,null,null,null,null,null,null,{"$f":"VLOOKUP(BU142,D$19:$F$255,3,FALSE)","v":"esea"},"Cambodia","Cambodia",null,null,"..",805,834,806,793,797,805,820,816,804,793,804,null,-99,0.14720555555555553,null,0.95120555555555564]
[null,"Electricity: ","Electricity: Uzbekistan","Uzbekistan","Near East and North Africa","nena",-99,0.88605000000000012,0.76983000000000001,0.76983000000000001,{"$f":"J143/Conversions!J$28","v":0.21384166666683774},null,null,null,null,null,null,null,null,null,null,null,null,null,null,null,null,null,null,null,null,null,null,null,null,null,null,null,null,null,null,null,null,null,null,null,null,null,null,null,null,null,null,null,null,null,null,null,null,null,null,null,null,null,null,null,null,null,null,null,null,{"$f":"VLOOKUP(BU143,D$19:$F$255,3,FALSE)","v":{"$error":"#N/A"}},{"$error":"#N/A"},"Chinese",null,"Taipei",463,533,625,644,649,657,653,648,635,624,601,620,null,-99,{"$error":"#N/A"},null,-99]
[null,"Electricity: ","Electricity: West Bank","West Bank","Near East and North Africa","nena",-99,0.88605000000000012,-99,0.88605000000000012,{"$f":"J144/Conversions!J$28","v":0.24612500000019691},null,null,null,null,null,null,null,null,null,null,null,null,null,null,null,null,null,null,null,null,null,null,null,null,null,null,null,null,null,null,null,null,null,null,null,null,null,null,null,null,null,null,null,null,null,null,null,null,null,null,null,null,null,null,null,null,null,null,null,null,{"$f":"VLOOKUP(BU144,D$19:$F$255,3,FALSE)","v":"sa"},"India","India",null,null,812,901,920,931,920,906,916,934,942,913,856,904,null,0.36164000000000002,0.25860499999999997,null,1.2656400000000001]
[null,"Electricity: ","Electricity: Western Sahara","Western Sahara","Near East and North Africa","nena",-99,0.88605000000000012,-99,0.88605000000000012,{"$f":"J145/Conversions!J$28","v":0.24612500000019691},null,null,null,null,null,null,null,null,null,null,null,null,null,null,null,null,null,null,null,null,null,null,null,null,null,null,null,null,null,null,null,null,null,null,null,null,null,null,null,null,null,null,null,null,null,null,null,null,null,null,null,null,null,null,null,null,null,null,null,null,{"$f":"VLOOKUP(BU145,D$19:$F$255,3,FALSE)","v":"esea"},"Indonesia","Indonesia",null,null,679,592,654,708,719,736,768,747,752,716,755,741,null,0.21067000000000002,0.14720555555555553,null,0.95167000000000002]
[null,"Electricity: ","Electricity: Yemen","Yemen","Near East and North Africa","nena",-99,0.88605000000000012,0.85182999999999998,0.85182999999999998,{"$f":"J146/Conversions!J$28","v":0.23661944444463373},null,null,null,null,null,null,null,null,null,null,null,null,null,null,null,null,null,null,null,null,null,null,null,null,null,null,null,null,null,null,null,null,null,null,null,null,null,null,null,null,null,null,null,null,null,null,null,null,null,null,null,null,null,null,null,null,null,null,null,null,{"$f":"VLOOKUP(BU146,D$19:$F$255,3,FALSE)","v":"esea"},"Democratic People’s Republic of Korea","DPR","of","Korea",566,481,584,528,522,533,469,481,498,465,475,480,null,-99,0.14720555555555553,null,0.62720555555555557]
[null,"Electricity: ","Electricity: Afghanistan","Afghanistan","South Asia","sa",-99,0.92713000000000001,-99,0.92713000000000001,{"$f":"J147/Conversions!J$28","v":0.25753611111131713},null,null,null,null,null,null,null,null,null,null,null,null,null,null,null,null,null,null,null,null,null,null,null,null,null,null,null,null,null,null,null,null,null,null,null,null,null,null,null,null,null,null,null,null,null,null,null,null,null,null,null,null,null,null,null,null,null,null,null,null,{"$f":"VLOOKUP(BU147,D$19:$F$255,3,FALSE)","v":"esea"},"Malaysia","Malaysia",null,null,677,543,495,561,618,598,611,653,597,724,688,669,null,0.14564999999999997,0.14720555555555553,null,0.81464999999999999]
[null,"Electricity: ",{"$f":"CONCATENATE(B148,D148)","v":"Electricity: Bangladesh"},"Bangladesh","South Asia","sa",{"$f":"IFERROR(VLOOKUP(C148,$N$27:$S$87,4,FALSE),-99)","v":-99},{"$f":"VLOOKUP(F148,F$260:J$269,3,FALSE)","v":0.92713000000000001},{"$f":"IFERROR(VLOOKUP(D148,BU$27:CO$198,21,FALSE),-99)","v":0.84660499999999994},{"$f":"IF(I148>0,I148,IF(G148>0,G148,H148))","v":0.84660499999999994},{"$f":"J148/Conversions!J$28","v":0.23516805555574366},null,null,null,null,null,null,null,null,null,null,null,null,null,null,null,null,null,null,null,null,null,null,null,null,null,null,null,null,null,null,null,null,null,null,null,null,null,null,null,null,null,null,null,null,null,null,null,null,null,null,null,null,null,null,null,null,null,null,null,null,{"$f":"VLOOKUP(BU148,D$19:$F$255,3,FALSE)","v":"esea"},"Mongolia","Mongolia",null,null,693,1273,1097,872,887,841,953,851,857,947,837,880,null,-99,0.14720555555555553,null,1.0272055555555555]
[null,"Electricity: ","Electricity: Bhutan","Bhutan","South Asia","sa",-99,0.92713000000000001,-99,0.92713000000000001,{"$f":"J149/Conversions!J$28","v":0.25753611111131713},null,null,null,null,null,null,null,null,null,null,null,null,null,null,null,null,null,null,null,null,null,null,null,null,null,null,null,null,null,null,null,null,null,null,null,null,null,null,null,null,null,null,null,null,null,null,null,null,null,null,null,null,null,null,null,null,null,null,null,null,{"$f":"VLOOKUP(BU149,D$19:$F$255,3,FALSE)","v":"esea"},"Myanmar","Myanmar",null,null,510,508,457,436,395,374,357,308,199,262,255,239,null,-99,0.14720555555555553,null,0.38620555555555552]
[null,"Electricity: ","Electricity: British Indian Ocean Territory","British Indian Ocean Territory","South Asia","sa",-99,0.92713000000000001,-99,0.92713000000000001,{"$f":"J150/Conversions!J$28","v":0.25753611111131713},null,null,null,null,null,null,null,null,null,null,null,null,null,null,null,null,null,null,null,null,null,null,null,null,null,null,null,null,null,null,null,null,null,null,null,null,null,null,null,null,null,null,null,null,null,null,null,null,null,null,null,null,null,null,null,null,null,null,null,null,{"$f":"VLOOKUP(BU150,D$19:$F$255,3,FALSE)","v":"sa"},"Nepal","Nepal",null,null,"-",26,12,6,7,5,4,4,4,1,1,2,null,-99,0.25860499999999997,null,0.26060499999999998]
[null,"Electricity: ","Electricity: India","India","South Asia","sa",1.27403,0.92713000000000001,1.2656400000000001,1.2656400000000001,{"$f":"J151/Conversions!J$28","v":0.35156666666694791},null,null,null,null,null,null,null,null,null,"check cf our asia study",null,null,null,null,null,null,null,null,null,null,null,null,null,null,null,null,null,null,null,null,null,null,null,null,null,null,null,null,null,null,null,null,null,null,null,null,null,null,null,null,null,null,null,null,null,null,null,null,null,null,{"$f":"VLOOKUP(BU151,D$19:$F$255,3,FALSE)","v":"sa"},"Pakistan","Pakistan",null,null,408,405,479,397,380,413,433,451,458,425,409,431,null,0.15556999999999999,0.25860499999999997,null,0.58657000000000004]
[null,"Electricity: ","Electricity: Iran (Islamic Republic of)","Iran (Islamic Republic of)","South Asia","sa",-99,0.92713000000000001,0.83160499999999993,0.83160499999999993,{"$f":"J152/Conversions!J$28","v":0.23100138888907365},null,null,null,null,null,null,null,null,null,null,null,null,null,null,null,null,null,null,null,null,null,null,null,null,null,null,null,null,null,null,null,null,null,null,null,null,null,null,null,null,null,null,null,null,null,null,null,null,null,null,null,null,null,null,null,null,null,null,null,null,{"$f":"VLOOKUP(BU152,D$19:$F$255,3,FALSE)","v":"esea"},"Philippines","Philippines",null,null,341,463,493,448,491,429,443,483,475,481,492,483,null,0.14737000000000003,0.14720555555555553,null,0.63036999999999999]
[null,"Electricity: ","Electricity: Maldives","Maldives","South Asia","sa",-99,0.92713000000000001,-99,0.92713000000000001,{"$f":"J153/Conversions!J$28","v":0.25753611111131713},null,null,null,null,null,null,null,null,null,null,null,null,null,null,null,null,null,null,null,null,null,null,null,null,null,null,null,null,null,null,null,null,null,null,null,null,null,null,null,null,null,null,null,null,null,null,null,null,null,null,null,null,null,null,null,null,null,null,null,null,{"$f":"VLOOKUP(BU153,D$19:$F$255,3,FALSE)","v":"esea"},"Singapore","Singapore",null,null,908,933,762,561,534,524,521,507,487,498,500,495,null,7.9410000000000008E-2,0.14720555555555553,null,0.57440999999999998]
[null,"Electricity: ","Electricity: Nepal","Nepal","South Asia","sa",-99,0.92713000000000001,0.26060499999999998,0.26060499999999998,{"$f":"J154/Conversions!J$28","v":7.2390277777835674E-2},null,null,null,null,null,null,null,null,null,"check cf our asia study",null,null,null,null,null,null,null,null,null,null,null,null,null,null,null,null,null,null,null,null,null,null,null,null,null,null,null,null,null,null,null,null,null,null,null,null,null,null,null,null,null,null,null,null,null,null,null,null,null,null,{"$f":"VLOOKUP(BU154,D$19:$F$255,3,FALSE)","v":"sa"},"Sri Lanka","Sri","Lanka",null,2,51,448,513,476,335,394,420,429,379,469,426,null,-99,0.25860499999999997,null,0.68460499999999991]
[null,"Electricity: ","Electricity: Pakistan","Pakistan","South Asia","sa",0.58023000000000002,0.92713000000000001,0.58657000000000004,0.58657000000000004,{"$f":"J155/Conversions!J$28","v":0.16293611111124146},null,null,null,null,null,null,null,null,null,null,null,null,null,null,null,null,null,null,null,null,null,null,null,null,null,null,null,null,null,null,null,null,null,null,null,null,null,null,null,null,null,null,null,null,null,null,null,null,null,null,null,null,null,null,null,null,null,null,null,null,{"$f":"VLOOKUP(BU155,D$19:$F$255,3,FALSE)","v":"esea"},"Thailand","Thailand",null,null,626,605,567,543,535,511,546,529,513,513,522,516,null,0.11743999999999999,{"$f":"VLOOKUP(BT155,F$260:J$269,5,FALSE)","v":0.14720555555555553},null,0.63344]
[null,"Electricity: ","Electricity: Sri Lanka","Sri Lanka","South Asia","sa",-99,0.92713000000000001,0.68460499999999991,0.68460499999999991,{"$f":"J156/Conversions!J$28","v":0.19016805555570765},null,null,null,null,null,null,null,null,null,null,null,null,null,null,null,null,null,null,null,null,null,null,null,null,null,null,null,null,null,null,null,null,null,null,null,null,null,null,null,null,null,null,null,null,null,null,null,null,null,null,null,null,null,null,null,null,null,null,null,null,{"$f":"VLOOKUP(BU156,D$19:$F$255,3,FALSE)","v":"esea"},"Viet Nam","Vietnam",null,null,552,301,427,438,447,435,426,406,384,432,429,415,null,{"$f":"IFERROR(VLOOKUP(BU156,BP$26:BQ$87,2,FALSE),-99)","v":-99},0.14720555555555553,null,{"$f":"IFERROR(CJ156/1000+IF(CL156>0,CL156,CM156),-99)","v":0.56220555555555551}]
[null,"Electricity: ","Electricity: Belarus","Belarus","Eastern Europe","ee",-99,0.55964999999999998,0.60433000000000003,0.60433000000000003,{"$f":"J157/Conversions!J$28","v":0.16786944444457874},null,null,null,null,null,null,null,null,null,null,null,null,null,null,null,null,null,null,null,null,null,null,null,null,null,null,null,null,null,null,null,null,null,null,null,null,null,null,null,null,null,null,null,null,null,null,null,null,null,null,null,null,null,null,null,null,null,null,null,null,{"$f":"VLOOKUP(BU157,D$19:$F$255,3,FALSE)","v":{"$error":"#N/A"}},{"$error":"#N/A"},"Other","Asia",null,348,264,253,406,411,357,327,311,316,315,315,315,null,-99,{"$error":"#N/A"},null,-99]
[null,"Electricity: ","Electricity: Bulgaria","Bulgaria","Eastern Europe","ee",0.72736000000000001,0.55964999999999998,0.74990000000000001,0.74990000000000001,{"$f":"J158/Conversions!J$28","v":0.20830555555572219},null,null,null,null,null,null,null,null,null,null,null,null,null,null,null,null,null,null,null,null,null,null,null,null,null,null,null,null,null,null,null,null,null,null,null,null,null,null,null,null,null,null,null,null,null,null,null,null,null,null,null,null,null,null,null,null,null,null,null,null,{"$f":"VLOOKUP(BU158,D$19:$F$255,3,FALSE)","v":{"$error":"#N/A"}},{"$error":"#N/A"},"Asia",null,null,664,704,729,725,723,717,730,740,740,730,707,725,null,-99,{"$error":"#N/A"},null,-99]
[null,"Electricity: ","Electricity: Czech Republic","Czech Republic","Eastern Europe","ee",0.72782999999999998,0.55964999999999998,0.72780999999999996,0.72780999999999996,{"$f":"J159/Conversions!J$28","v":0.20216944444460616},null,null,null,null,null,null,null,null,null,null,null,null,null,null,null,null,null,null,null,null,null,null,null,null,null,null,null,null,null,null,null,null,null,null,null,null,null,null,null,null,null,null,null,null,null,null,null,null,null,null,null,null,null,null,null,null,null,null,null,null,{"$f":"VLOOKUP(BU159,D$19:$F$255,3,FALSE)","v":"esea"},"China","China",null,null,897,904,889,882,869,863,823,797,790,758,764,771,null,0.17430000000000001,0.14720555555555553,null,0.94530000000000003]
[null,"Electricity: ","Electricity: Hungary","Hungary","Eastern Europe","ee",0.40373999999999993,0.55964999999999998,0.40266000000000002,0.40266000000000002,{"$f":"J160/Conversions!J$28","v":0.11185000000008948},null,null,null,null,null,null,null,null,null,null,null,null,null,null,null,null,null,null,null,null,null,null,null,null,null,null,null,null,null,null,null,null,null,null,null,null,null,null,null,null,null,null,null,null,null,null,null,null,null,null,null,null,null,null,null,null,null,null,null,null,{"$f":"VLOOKUP(BU160,D$19:$F$255,3,FALSE)","v":"esea"},"Hong Kong","Hong","Kong,","China",828,855,712,749,755,754,775,757,763,723,768,751,null,0.23208999999999999,0.14720555555555553,null,0.98309000000000002]
[null,"Electricity: ","Electricity: Moldova, Republic of","Moldova, Republic of","Eastern Europe","ee",-99,0.55964999999999998,0.64532999999999996,0.64532999999999996,{"$f":"J161/Conversions!J$28","v":0.17925833333347671},null,null,null,null,null,null,null,null,null,null,null,null,null,null,null,null,null,null,null,null,null,null,null,null,null,null,null,null,null,null,null,null,null,null,null,null,null,null,null,null,null,null,null,null,null,null,null,null,null,null,null,null,null,null,null,null,null,null,null,null,{"$f":"VLOOKUP(BU161,D$19:$F$255,3,FALSE)","v":"esea"},"China","China",null,null,894,903,885,879,867,862,822,797,790,758,764,771,null,0.17430000000000001,0.14720555555555553,null,0.94530000000000003]
[null,"Electricity: ","Electricity: Poland","Poland","Eastern Europe","ee",0.97201999999999988,0.55964999999999998,0.97767000000000004,0.97767000000000004,{"$f":"J162/Conversions!J$28","v":0.27157500000021728},null,null,null,null,null,null,null,null,null,null,null,null,null,null,null,null,null,null,null,null,null,null,null,null,null,null,null,null,null,null,null,null,null,null,null,null,null,null,null,null,null,null,null,null,null,null,null,null,null,null,null,null,null,null,null,null,null,null,null,null,{"$f":"VLOOKUP(BU162,D$19:$F$255,3,FALSE)","v":"lac"},"Argentina","Argentina",null,null,394,273,338,308,313,370,395,369,366,366,390,374,null,-99,6.7379999999999995E-2,null,0.44137999999999999]
[null,"Electricity: ","Electricity: Romania","Romania","Eastern Europe","ee",0.59151999999999993,0.55964999999999998,0.63907999999999998,0.63907999999999998,{"$f":"J163/Conversions!J$28","v":0.17752222222236422},null,null,null,null,null,null,null,null,null,null,null,null,null,null,null,null,null,null,null,null,null,null,null,null,null,null,null,null,null,null,null,null,null,null,null,null,null,null,null,null,null,null,null,null,null,null,null,null,null,null,null,null,null,null,null,null,null,null,null,null,{"$f":"VLOOKUP(BU163,D$19:$F$255,3,FALSE)","v":"lac"},"Bolivia","Bolivia",null,null,307,400,314,295,329,326,334,375,393,430,433,419,null,-99,6.7379999999999995E-2,null,0.48637999999999998]
[null,"Electricity: ","Electricity: Slovakia","Slovakia","Eastern Europe","ee",-99,0.55964999999999998,0.35433000000000003,0.35433000000000003,{"$f":"J164/Conversions!J$28","v":9.8425000000078741E-2},null,null,null,null,null,null,null,null,null,null,null,null,null,null,null,null,null,null,null,null,null,null,null,null,null,null,null,null,null,null,null,null,null,null,null,null,null,null,null,null,null,null,null,null,null,null,null,null,null,null,null,null,null,null,null,null,null,null,null,null,{"$f":"VLOOKUP(BU164,D$19:$F$255,3,FALSE)","v":"lac"},"Brazil","Brazil",null,null,55,55,88,85,84,81,73,90,64,86,68,73,null,2.579E-2,6.7379999999999995E-2,null,9.8789999999999989E-2]
[null,"Electricity: ","Electricity: Ukraine","Ukraine","Eastern Europe","ee",0.54518,0.55964999999999998,0.57952999999999999,0.57952999999999999,{"$f":"J165/Conversions!J$28","v":0.16098055555568433},null,null,null,null,null,null,null,null,null,null,null,null,null,null,null,null,null,null,null,null,null,null,null,null,null,null,null,null,null,null,null,null,null,null,null,null,null,null,null,null,null,null,null,null,null,null,null,null,null,null,null,null,null,null,null,null,null,null,null,null,{"$f":"VLOOKUP(BU165,D$19:$F$255,3,FALSE)","v":"lac"},"Colombia","Colombia",null,null,208,205,160,117,131,127,127,107,176,176,108,153,null,-99,6.7379999999999995E-2,null,0.22037999999999999]
[null,"Electricity: ","Electricity: Russian Federation","Russian Federation","Russian Federation","rus",0.52611999999999992,0.52611999999999992,0.55952000000000002,0.55952000000000002,{"$f":"J166/Conversions!J$28","v":0.15542222222234656},null,null,null,null,null,null,null,null,null,null,null,null,null,null,null,null,null,null,null,null,null,null,null,null,null,null,null,null,null,null,null,null,null,null,null,null,null,null,null,null,null,null,null,null,null,null,null,null,null,null,null,null,null,null,null,null,null,null,null,null,{"$f":"VLOOKUP(BU166,D$19:$F$255,3,FALSE)","v":"lac"},"Costa Rica","Costa","Rica",null,20,155,8,8,28,55,72,63,40,56,64,53,null,-99,6.7379999999999995E-2,null,0.12037999999999999]
[null,"Electricity: ","Electricity: Brunei Darussalam","Brunei Darussalam","East Asia and Southeast Asia","esea",-99,0.743781111111111,0.89220555555555547,0.89220555555555547,{"$f":"J167/Conversions!J$28","v":0.24783487654340811},null,null,null,null,null,null,null,null,null,null,null,null,null,null,null,null,null,null,null,null,null,null,null,null,null,null,null,null,null,null,null,null,null,null,null,null,null,null,null,null,null,null,null,null,null,null,null,null,null,null,null,null,null,null,null,null,null,null,null,null,{"$f":"VLOOKUP(BU167,D$19:$F$255,3,FALSE)","v":"lac"},"Cuba","Cuba",null,null,765,858,690,820,832,767,750,733,1063,1014,955,1011,null,-99,6.7379999999999995E-2,null,1.0783799999999999]
[null,"Electricity: ","Electricity: Cambodia","Cambodia","East Asia and Southeast Asia","esea",-99,0.743781111111111,0.95120555555555564,0.95120555555555564,{"$f":"J168/Conversions!J$28","v":0.26422376543231013},null,null,null,null,null,null,null,null,null,null,null,null,null,null,null,null,null,null,null,null,null,null,null,null,null,null,null,null,null,null,null,null,null,null,null,null,null,null,null,null,null,null,null,null,null,null,null,null,null,null,null,null,null,null,null,null,null,null,null,null,{"$f":"VLOOKUP(BU168,D$19:$F$255,3,FALSE)","v":"lac"},"Dominican Republic","Dominican","Republic",null,868,895,782,777,810,832,820,816,757,754,743,751,null,-99,6.7379999999999995E-2,null,0.81838]
[null,"Electricity: ","Electricity: China","China","East Asia and Southeast Asia","esea",0.94077,0.743781111111111,0.94530000000000003,0.94530000000000003,{"$f":"J169/Conversions!J$28","v":0.26258333333354339},null,null,null,null,null,null,null,null,null,null,null,null,null,null,null,null,null,null,null,null,null,null,null,null,null,null,null,null,null,null,null,null,null,null,null,null,null,null,null,null,null,null,null,null,null,null,null,null,null,null,null,null,null,null,null,null,null,null,null,null,{"$f":"VLOOKUP(BU169,D$19:$F$255,3,FALSE)","v":"lac"},"Ecuador","Ecuador",null,null,187,314,215,283,378,430,366,279,329,376,345,350,null,-99,6.7379999999999995E-2,null,0.41737999999999997]
[null,"Electricity: ","Electricity: Christmas Island","Christmas Island","East Asia and Southeast Asia","esea",-99,0.743781111111111,-99,0.743781111111111,{"$f":"J170/Conversions!J$28","v":0.20660586419769611},null,null,null,null,null,null,null,null,null,null,null,null,null,null,null,null,null,null,null,null,null,null,null,null,null,null,null,null,null,null,null,null,null,null,null,null,null,null,null,null,null,null,null,null,null,null,null,null,null,null,null,null,null,null,null,null,null,null,null,null,{"$f":"VLOOKUP(BU170,D$19:$F$255,3,FALSE)","v":"lac"},"El Salvador","El","Salvador",null,67,391,324,312,302,310,316,270,273,220,243,246,null,-99,6.7379999999999995E-2,null,0.31337999999999999]
[null,"Electricity: ","Electricity: Democratic People’s Republic of Korea","Democratic People’s Republic of Korea","East Asia and Southeast Asia","esea",-99,0.743781111111111,0.62720555555555557,0.62720555555555557,{"$f":"J171/Conversions!J$28","v":0.17422376543223814},null,null,null,null,null,null,null,null,null,null,null,null,null,null,null,null,null,null,null,null,null,null,null,null,null,null,null,null,null,null,null,null,null,null,null,null,null,null,null,null,null,null,null,null,null,null,null,null,null,null,null,null,null,null,null,null,null,null,null,null,{"$f":"VLOOKUP(BU171,D$19:$F$255,3,FALSE)","v":"lac"},"Guatemala","Guatemala",null,null,74,296,392,323,299,345,369,343,349,286,286,307,null,-99,6.7379999999999995E-2,null,0.37437999999999999]
[null,"Electricity: ","Electricity: Hong Kong","Hong Kong","East Asia and Southeast Asia","esea",0.95552000000000004,0.743781111111111,0.98309000000000002,0.98309000000000002,{"$f":"J172/Conversions!J$28","v":0.27308055555577398},null,null,null,null,null,null,null,null,null,null,null,null,null,null,null,null,null,null,null,null,null,null,null,null,null,null,null,null,null,null,null,null,null,null,null,null,null,null,null,null,null,null,null,null,null,null,null,null,null,null,null,null,null,null,null,null,null,null,null,null,{"$f":"VLOOKUP(BU172,D$19:$F$255,3,FALSE)","v":"lac"},"Haiti","Haiti",null,null,408,327,346,301,307,305,372,351,399,393,382,391,null,-99,6.7379999999999995E-2,null,0.45838000000000001]
[null,"Electricity: ","Electricity: Indonesia","Indonesia","East Asia and Southeast Asia","esea",0.91975000000000007,0.743781111111111,0.95167000000000002,0.95167000000000002,{"$f":"J173/Conversions!J$28","v":0.26435277777798927},null,null,null,null,null,null,null,null,null,null,null,null,null,null,null,null,null,null,null,null,null,null,null,null,null,null,null,null,null,null,null,null,null,null,null,null,null,null,null,null,null,null,null,null,null,null,null,null,null,null,null,null,null,null,null,null,null,null,null,null,{"$f":"VLOOKUP(BU173,D$19:$F$255,3,FALSE)","v":"lac"},"Honduras","Honduras",null,null,10,327,281,451,411,267,420,409,346,332,371,350,null,-99,6.7379999999999995E-2,null,0.41737999999999997]
[null,"Electricity: ","Electricity: Japan","Japan","East Asia and Southeast Asia","esea",0.52696999999999994,0.743781111111111,0.55455999999999994,0.55455999999999994,{"$f":"J174/Conversions!J$28","v":0.15404444444456766},null,null,null,null,null,null,null,null,null,null,null,null,null,null,null,null,null,null,null,null,null,null,null,null,null,null,null,null,null,null,null,null,null,null,null,null,null,null,null,null,null,null,null,null,null,null,null,null,null,null,null,null,null,null,null,null,null,null,null,null,{"$f":"VLOOKUP(BU174,D$19:$F$255,3,FALSE)","v":"lac"},"Jamaica","Jamaica",null,null,757,888,824,618,572,484,611,626,568,746,620,645,null,-99,6.7379999999999995E-2,null,0.71238000000000001]
[null,"Electricity: ","Electricity: Lao People’s Democratic Republic","Lao People’s Democratic Republic","East Asia and Southeast Asia","esea",-99,0.743781111111111,-99,0.743781111111111,{"$f":"J175/Conversions!J$28","v":0.20660586419769611},null,null,null,null,null,null,null,null,null,null,null,null,null,null,null,null,null,null,null,null,null,null,null,null,null,null,null,null,null,null,null,null,null,null,null,null,null,null,null,null,null,null,null,null,null,null,null,null,null,null,null,null,null,null,null,null,null,null,null,null,{"$f":"VLOOKUP(BU175,D$19:$F$255,3,FALSE)","v":"we"},"Netherlands","Netherlands","Antilles",null,717,714,714,713,711,710,708,707,707,707,708,707,null,7.9769999999999994E-2,8.3339999999999997E-2,null,0.78676999999999997]
[null,"Electricity: ","Electricity: Macau","Macau","East Asia and Southeast Asia","esea",-99,0.743781111111111,-99,0.743781111111111,{"$f":"J176/Conversions!J$28","v":0.20660586419769611},null,null,null,null,null,null,null,null,null,null,null,null,null,null,null,null,null,null,null,null,null,null,null,null,null,null,null,null,null,null,null,null,null,null,null,null,null,null,null,null,null,null,null,null,null,null,null,null,null,null,null,null,null,null,null,null,null,null,null,null,{"$f":"VLOOKUP(BU176,D$19:$F$255,3,FALSE)","v":"lac"},"Nicaragua","Nicaragua",null,null,345,473,591,536,481,522,533,480,506,460,471,479,null,-99,6.7379999999999995E-2,null,0.54637999999999998]
[null,"Electricity: ","Electricity: Malaysia","Malaysia","East Asia and Southeast Asia","esea",0.87302999999999997,0.743781111111111,0.81464999999999999,0.81464999999999999,{"$f":"J177/Conversions!J$28","v":0.22629166666684769},null,null,null,null,null,null,null,null,null,null,null,null,null,null,null,null,null,null,null,null,null,null,null,null,null,null,null,null,null,null,null,null,null,null,null,null,null,null,null,null,null,null,null,null,null,null,null,null,null,null,null,null,null,null,null,null,null,null,null,null,{"$f":"VLOOKUP(BU177,D$19:$F$255,3,FALSE)","v":"lac"},"Panama","Panama",null,null,170,317,231,266,275,310,317,273,302,301,357,320,null,-99,6.7379999999999995E-2,null,0.38738]
[null,"Electricity: ","Electricity: Mongolia","Mongolia","East Asia and Southeast Asia","esea",-99,0.743781111111111,1.0272055555555555,1.0272055555555555,{"$f":"J178/Conversions!J$28","v":0.28533487654343809},null,null,null,null,null,null,null,null,null,null,null,null,null,null,null,null,null,null,null,null,null,null,null,null,null,null,null,null,null,null,null,null,null,null,null,null,null,null,null,null,null,null,null,null,null,null,null,null,null,null,null,null,null,null,null,null,null,null,null,null,{"$f":"VLOOKUP(BU178,D$19:$F$255,3,FALSE)","v":"lac"},"Paraguay","Paraguay",null,null,0,2,"-","-","-","-","-","-","-","-","-","-",null,-99,6.7379999999999995E-2,null,-99]
[null,"Electricity: ","Electricity: Myanmar","Myanmar","East Asia and Southeast Asia","esea",-99,0.743781111111111,0.38620555555555552,0.38620555555555552,{"$f":"J179/Conversions!J$28","v":0.10727932098774014},null,null,null,null,null,null,null,null,null,null,null,null,null,null,null,null,null,null,null,null,null,null,null,null,null,null,null,null,null,null,null,null,null,null,null,null,null,null,null,null,null,null,null,null,null,null,null,null,null,null,null,null,null,null,null,null,null,null,null,null,{"$f":"VLOOKUP(BU179,D$19:$F$255,3,FALSE)","v":"lac"},"Peru","Peru",null,null,184,186,154,212,209,183,199,240,253,290,297,280,null,-99,6.7379999999999995E-2,null,0.34738000000000002]
[null,"Electricity: ","Electricity: Philippines","Philippines","East Asia and Southeast Asia","esea",0.62836999999999998,0.743781111111111,0.63036999999999999,0.63036999999999999,{"$f":"J180/Conversions!J$28","v":0.17510277777791786},null,null,null,null,null,null,null,null,null,null,null,null,null,null,null,null,null,null,null,null,null,null,null,null,null,null,null,null,null,null,null,null,null,null,null,null,null,null,null,null,null,null,null,null,null,null,null,null,null,null,null,null,null,null,null,null,null,null,null,null,{"$f":"VLOOKUP(BU180,D$19:$F$255,3,FALSE)","v":"lac"},"Trinidad and Tobago","Trinidad","and","Tobago",708,711,685,751,759,753,753,704,719,699,506,641,null,-99,6.7379999999999995E-2,null,0.70838000000000001]
[null,"Electricity: ","Electricity: Republic of Korea","Republic of Korea","East Asia and Southeast Asia","esea",0.64043000000000005,0.743781111111111,0.64236000000000004,0.64236000000000004,{"$f":"J181/Conversions!J$28","v":0.17843333333347608},null,null,null,null,null,null,null,null,null,null,null,null,null,null,null,null,null,null,null,null,null,null,null,null,null,null,null,null,null,null,null,null,null,null,null,null,null,null,null,null,null,null,null,null,null,null,null,null,null,null,null,null,null,null,null,null,null,null,null,null,{"$f":"VLOOKUP(BU181,D$19:$F$255,3,FALSE)","v":"lac"},"Uruguay","Uruguay",null,null,43,53,57,151,103,296,104,307,253,80,197,177,null,-99,6.7379999999999995E-2,null,0.24437999999999999]
[null,"Electricity: ","Electricity: Singapore","Singapore","East Asia and Southeast Asia","esea",0.57885999999999993,0.743781111111111,0.57440999999999998,0.57440999999999998,{"$f":"J182/Conversions!J$28","v":0.15955833333346098},null,null,null,null,null,null,null,null,null,null,null,null,null,null,null,null,null,null,null,null,null,null,null,null,null,null,null,null,null,null,null,null,null,null,null,null,null,null,null,null,null,null,null,null,null,null,null,null,null,null,null,null,null,null,null,null,null,null,null,null,{"$f":"VLOOKUP(BU182,D$19:$F$255,3,FALSE)","v":"lac"},"Venezuela","Venezuela",null,null,323,219,191,222,208,222,208,203,207,258,234,233,null,-99,6.7379999999999995E-2,null,0.30037999999999998]
[null,"Electricity: ","Electricity: Thailand","Thailand","East Asia and Southeast Asia","esea",0.63032999999999995,0.743781111111111,0.63344,0.63344,{"$f":"J183/Conversions!J$28","v":0.17595555555569631},null,null,null,null,null,null,null,null,null,null,null,null,null,null,null,null,null,null,null,null,null,null,null,null,null,null,null,null,null,null,null,null,null,null,null,null,null,null,null,null,null,null,null,null,null,null,null,null,null,null,null,null,null,null,null,null,null,null,null,null,{"$f":"VLOOKUP(BU183,D$19:$F$255,3,FALSE)","v":{"$error":"#N/A"}},{"$error":"#N/A"},"Other","Non-OECD","Americas",223,216,213,233,227,225,236,253,253,252,284,263,null,-99,{"$error":"#N/A"},null,-99]
[null,"Electricity: ","Electricity: Timor-Leste","Timor-Leste","East Asia and Southeast Asia","esea",-99,0.743781111111111,-99,0.743781111111111,{"$f":"J184/Conversions!J$28","v":0.20660586419769611},null,null,null,null,null,null,null,null,null,null,null,null,null,null,null,null,null,null,null,null,null,null,null,null,null,null,null,null,null,null,null,null,null,null,null,null,null,null,null,null,null,null,null,null,null,null,null,null,null,null,null,null,null,null,null,null,null,null,null,null,{"$f":"VLOOKUP(BU184,D$19:$F$255,3,FALSE)","v":{"$error":"#N/A"}},{"$error":"#N/A"},"Non-OECD","Americas",null,184,167,174,179,179,183,181,187,185,196,184,188,null,-99,{"$error":"#N/A"},null,-99]
[null,"Electricity: ","Electricity: Viet Nam","Viet Nam","East Asia and Southeast Asia","esea",-99,0.743781111111111,0.56220555555555551,0.56220555555555551,{"$f":"J185/Conversions!J$28","v":0.15616820987666813},null,null,null,null,null,null,null,null,null,null,null,null,null,null,null,null,null,null,null,null,null,null,null,null,null,null,null,null,null,null,null,null,null,null,null,null,null,null,null,null,null,null,null,null,null,null,null,null,null,null,null,null,null,null,null,null,null,null,null,null,{"$f":"VLOOKUP(BU185,D$19:$F$255,3,FALSE)","v":{"$error":"#N/A"}},{"$error":"#N/A"},null,null,null,null,null,null,null,null,null,null,null,null,null,null,null,null,-99,{"$error":"#N/A"},null,-99]
[null,"Electricity: ","Electricity: American Samoa","American Samoa","Oceania","oc",-99,0.60672999999999988,-99,0.60672999999999988,{"$f":"J186/Conversions!J$28","v":0.16853611111124589},null,null,null,null,null,null,null,null,null,null,null,null,null,null,null,null,null,null,null,null,null,null,null,null,null,null,null,null,null,null,null,null,null,null,null,null,null,null,null,null,null,null,null,null,null,null,null,null,null,null,null,null,null,null,null,null,null,null,null,null,{"$f":"VLOOKUP(BU186,D$19:$F$255,3,FALSE)","v":"nena"},"Bahrain","Bahrain",null,null,1061,815,868,881,873,824,837,651,665,640,601,635,null,-99,0.21182999999999996,null,0.84682999999999997]
[null,"Electricity: ","Electricity: Australia","Australia","Oceania","oc",1.0312599999999998,0.60672999999999988,1.0493399999999999,1.0493399999999999,{"$f":"J187/Conversions!J$28","v":0.29148333333356646},null,null,null,null,null,null,null,null,null,null,null,null,null,null,null,null,null,null,null,null,null,null,null,null,null,null,null,null,null,null,null,null,null,null,null,null,null,null,null,null,null,null,null,null,null,null,null,null,null,null,null,null,null,null,null,null,null,null,null,null,{"$f":"VLOOKUP(BU187,D$19:$F$255,3,FALSE)","v":"sa"},"Iran (Islamic Republic of)","Iran",null,null,603,606,574,542,541,549,546,582,578,565,578,573,null,-99,{"$f":"VLOOKUP(BT187,F$260:J$269,5,FALSE)","v":0.25860499999999997},null,0.83160499999999993]
[null,"Electricity: ","Electricity: Cook Islands","Cook Islands","Oceania","oc",-99,0.60672999999999988,-99,0.60672999999999988,{"$f":"J188/Conversions!J$28","v":0.16853611111124589},null,null,null,null,null,null,null,null,null,"Check our asia study",null,null,null,null,null,null,null,null,null,null,null,null,null,null,null,null,null,null,null,null,null,null,null,null,null,null,null,null,null,null,null,null,null,null,null,null,null,null,null,null,null,null,null,null,null,null,null,null,null,null,{"$f":"VLOOKUP(BU188,D$19:$F$255,3,FALSE)","v":"nena"},"Iraq","Iraq",null,null,569,1678,641,579,573,387,423,672,932,1003,903,946,null,-99,0.21182999999999996,null,1.1578299999999999]
[null,"Electricity: ","Electricity: Fiji","Fiji","Oceania","oc",-99,0.60672999999999988,-99,0.60672999999999988,{"$f":"J189/Conversions!J$28","v":0.16853611111124589},null,null,null,null,null,null,null,null,null,null,null,null,null,null,null,null,null,null,null,null,null,null,null,null,null,null,null,null,null,null,null,null,null,null,null,null,null,null,null,null,null,null,null,null,null,null,null,null,null,null,null,null,null,null,null,null,null,null,null,null,{"$f":"VLOOKUP(BU189,D$19:$F$255,3,FALSE)","v":"nena"},"Jordan","Jordan",null,null,815,834,708,682,660,626,588,594,584,575,637,599,null,-99,0.21182999999999996,null,0.81082999999999994]
[null,"Electricity: ","Electricity: French Polynesia","French Polynesia","Oceania","oc",-99,0.60672999999999988,-99,0.60672999999999988,{"$f":"J190/Conversions!J$28","v":0.16853611111124589},null,null,null,null,null,null,null,null,null,null,null,null,null,null,null,null,null,null,null,null,null,null,null,null,null,null,null,null,null,null,null,null,null,null,null,null,null,null,null,null,null,null,null,null,null,null,null,null,null,null,null,null,null,null,null,null,null,null,null,null,{"$f":"VLOOKUP(BU190,D$19:$F$255,3,FALSE)","v":"nena"},"Kuwait","Kuwait",null,null,887,578,780,727,799,786,782,778,870,758,787,805,null,-99,0.21182999999999996,null,1.0168300000000001]
[null,"Electricity: ","Electricity: Guam","Guam","Oceania","oc",-99,0.60672999999999988,-99,0.60672999999999988,{"$f":"J191/Conversions!J$28","v":0.16853611111124589},null,null,null,null,null,null,null,null,null,null,null,null,null,null,null,null,null,null,null,null,null,null,null,null,null,null,null,null,null,null,null,null,null,null,null,null,null,null,null,null,null,null,null,null,null,null,null,null,null,null,null,null,null,null,null,null,null,null,null,null,{"$f":"VLOOKUP(BU191,D$19:$F$255,3,FALSE)","v":"nena"},"Lebanon","Lebanon",null,null,1835,678,737,599,591,706,662,715,717,709,707,711,null,-99,0.21182999999999996,null,0.92282999999999993]
[null,"Electricity: ","Electricity: Kiribati","Kiribati","Oceania","oc",-99,0.60672999999999988,-99,0.60672999999999988,{"$f":"J192/Conversions!J$28","v":0.16853611111124589},null,null,null,null,null,null,null,null,null,null,null,null,null,null,null,null,null,null,null,null,null,null,null,null,null,null,null,null,null,null,null,null,null,null,null,null,null,null,null,null,null,null,null,null,null,null,null,null,null,null,null,null,null,null,null,null,null,null,null,null,{"$f":"VLOOKUP(BU192,D$19:$F$255,3,FALSE)","v":"nena"},"Oman","Oman",null,null,762,830,795,885,861,885,874,826,791,755,741,763,null,-99,0.21182999999999996,null,0.97482999999999997]
[null,"Electricity: ","Electricity: Marshall Islands","Marshall Islands","Oceania","oc",-99,0.60672999999999988,-99,0.60672999999999988,{"$f":"J193/Conversions!J$28","v":0.16853611111124589},null,null,null,null,null,null,null,null,null,null,null,null,null,null,null,null,null,null,null,null,null,null,null,null,null,null,null,null,null,null,null,null,null,null,null,null,null,null,null,null,null,null,null,null,null,null,null,null,null,null,null,null,null,null,null,null,null,null,null,null,{"$f":"VLOOKUP(BU193,D$19:$F$255,3,FALSE)","v":"nena"},"Qatar","Qatar",null,null,1077,1131,771,649,618,617,565,534,507,493,490,497,null,-99,0.21182999999999996,null,0.70882999999999996]
[null,"Electricity: ","Electricity: Micronesia (Federated States of)","Micronesia (Federated States of)","Oceania","oc",-99,0.60672999999999988,-99,0.60672999999999988,{"$f":"J194/Conversions!J$28","v":0.16853611111124589},null,null,null,null,null,null,null,null,null,null,null,null,null,null,null,null,null,null,null,null,null,null,null,null,null,null,null,null,null,null,null,null,null,null,null,null,null,null,null,null,null,null,null,null,null,null,null,null,null,null,null,null,null,null,null,null,null,null,null,null,{"$f":"VLOOKUP(BU194,D$19:$F$255,3,FALSE)","v":"nena"},"Saudi Arabia","Saudi","Arabia",null,831,813,805,754,739,749,726,736,757,737,754,749,null,0.18382000000000001,0.21182999999999996,null,0.93281999999999998]
[null,"Electricity: ","Electricity: Nauru","Nauru","Oceania","oc",-99,0.60672999999999988,-99,0.60672999999999988,{"$f":"J195/Conversions!J$28","v":0.16853611111124589},null,null,null,null,null,null,null,null,null,null,null,null,null,null,null,null,null,null,null,null,null,null,null,null,null,null,null,null,null,null,null,null,null,null,null,null,null,null,null,null,null,null,null,null,null,null,null,null,null,null,null,null,null,null,null,null,null,null,null,null,{"$f":"VLOOKUP(BU195,D$19:$F$255,3,FALSE)","v":"nena"},"Syrian Arab Republic","Syrian","Arab","Republic",553,586,567,571,607,612,623,627,629,594,602,608,null,-99,0.21182999999999996,null,0.81982999999999995]
[null,"Electricity: ","Electricity: New Caledonia","New Caledonia","Oceania","oc",-99,0.60672999999999988,-99,0.60672999999999988,{"$f":"J196/Conversions!J$28","v":0.16853611111124589},null,null,null,null,null,null,null,null,null,null,null,null,null,null,null,null,null,null,null,null,null,null,null,null,null,null,null,null,null,null,null,null,null,null,null,null,null,null,null,null,null,null,null,null,null,null,null,null,null,null,null,null,null,null,null,null,null,null,null,null,{"$f":"VLOOKUP(BU196,D$19:$F$255,3,FALSE)","v":"nena"},"United Arab Emirates","United","Arab","Emirates",743,737,728,913,844,820,720,729,632,600,600,611,null,-99,0.21182999999999996,null,0.82282999999999995]
[null,"Electricity: ","Electricity: New Zealand","New Zealand","Oceania","oc",0.1822,0.60672999999999988,0.185,0.185,{"$f":"J197/Conversions!J$28","v":5.138888888893E-2},null,null,null,null,null,null,null,null,null,null,null,null,null,null,null,null,null,null,null,null,null,null,null,null,null,null,null,null,null,null,null,null,null,null,null,null,null,null,null,null,null,null,null,null,null,null,null,null,null,null,null,null,null,null,null,null,null,null,null,null,{"$f":"VLOOKUP(BU197,D$19:$F$255,3,FALSE)","v":"nena"},"Yemen","Yemen",null,null,746,946,930,874,841,781,679,636,630,655,633,640,null,-99,0.21182999999999996,null,0.85182999999999998]
[null,"Electricity: ","Electricity: Niue","Niue","Oceania","oc",-99,0.60672999999999988,-99,0.60672999999999988,{"$f":"J198/Conversions!J$28","v":0.16853611111124589},null,null,null,null,null,null,null,null,null,null,null,null,null,null,null,null,null,null,null,null,null,null,null,null,null,null,null,null,null,null,null,null,null,null,null,null,null,null,null,null,null,null,null,null,null,null,null,null,null,null,null,null,null,null,null,null,null,null,null,null,{"$f":"VLOOKUP(BU198,D$19:$F$255,3,FALSE)","v":{"$error":"#N/A"}},{"$error":"#N/A"},"Middle","East",null,737,809,701,679,676,668,650,673,687,668,674,677,null,-99,{"$error":"#N/A"},null,-99]
[null,"Electricity: ","Electricity: Norfolk Island","Norfolk Island","Oceania","oc",-99,0.60672999999999988,-99,0.60672999999999988,{"$f":"J199/Conversions!J$28","v":0.16853611111124589}]
[null,"Electricity: ","Electricity: Northern Mariana Islands","Northern Mariana Islands","Oceania","oc",-99,0.60672999999999988,-99,0.60672999999999988,{"$f":"J200/Conversions!J$28","v":0.16853611111124589}]
[null,"Electricity: ","Electricity: Palau","Palau","Oceania","oc",-99,0.60672999999999988,-99,0.60672999999999988,{"$f":"J201/Conversions!J$28","v":0.16853611111124589}]
[null,"Electricity: ","Electricity: Papua New Guinea","Papua New Guinea","Oceania","oc",-99,0.60672999999999988,-99,0.60672999999999988,{"$f":"J202/Conversions!J$28","v":0.16853611111124589}]
[null,"Electricity: ","Electricity: Pitcairn","Pitcairn","Oceania","oc",-99,0.60672999999999988,-99,0.60672999999999988,{"$f":"J203/Conversions!J$28","v":0.16853611111124589}]
[null,"Electricity: ","Electricity: Saint Pierre et Miquelon","Saint Pierre et Miquelon","Oceania","oc",-99,0.60672999999999988,-99,0.60672999999999988,{"$f":"J204/Conversions!J$28","v":0.16853611111124589}]
[null,"Electricity: ","Electricity: Samoa","Samoa","Oceania","oc",-99,0.60672999999999988,-99,0.60672999999999988,{"$f":"J205/Conversions!J$28","v":0.16853611111124589}]
[null,"Electricity: ","Electricity: Solomon Islands","Solomon Islands","Oceania","oc",-99,0.60672999999999988,-99,0.60672999999999988,{"$f":"J206/Conversions!J$28","v":0.16853611111124589}]
[null,"Electricity: ","Electricity: Tokelau","Tokelau","Oceania","oc",-99,0.60672999999999988,-99,0.60672999999999988,{"$f":"J207/Conversions!J$28","v":0.16853611111124589}]
[null,"Electricity: ","Electricity: Tonga","Tonga","Oceania","oc",-99,0.60672999999999988,-99,0.60672999999999988,{"$f":"J208/Conversions!J$28","v":0.16853611111124589}]
[null,"Electricity: ","Electricity: Tuvalu","Tuvalu","Oceania","oc",-99,0.60672999999999988,-99,0.60672999999999988,{"$f":"J209/Conversions!J$28","v":0.16853611111124589}]
[null,"Electricity: ","Electricity: Vanuatu","Vanuatu","Oceania","oc",-99,0.60672999999999988,-99,0.60672999999999988,{"$f":"J210/Conversions!J$28","v":0.16853611111124589}]
[null,"Electricity: ","Electricity: Wake Island","Wake Island","Oceania","oc",-99,0.60672999999999988,-99,0.60672999999999988,{"$f":"J211/Conversions!J$28","v":0.16853611111124589}]
[null,"Electricity: ",{"$f":"CONCATENATE(B212,D212)","v":"Electricity: Wallis and Futuna"},"Wallis and Futuna","Oceania","oc",{"$f":"IFERROR(VLOOKUP(C212,$N$27:$S$87,4,FALSE),-99)","v":-99},{"$f":"VLOOKUP(F212,F$260:J$269,3,FALSE)","v":0.60672999999999988},{"$f":"IFERROR(VLOOKUP(D212,BU$27:CO$198,21,FALSE),-99)","v":-99},{"$f":"IF(I212>0,I212,IF(G212>0,G212,H212))","v":0.60672999999999988},{"$f":"J212/Conversions!J$28","v":0.16853611111124589}]
[null,"Electricity: ","Electricity: Albania","Albania","Western Europe","we",-99,0.43056999999999995,8.634E-2,8.634E-2,{"$f":"J213/Conversions!J$28","v":2.3983333333352518E-2}]
[null,"Electricity: ","Electricity: Andorra","Andorra","Western Europe","we",-99,0.43056999999999995,-99,0.43056999999999995,{"$f":"J214/Conversions!J$28","v":0.11960277777787344}]
[null,"Electricity: ","Electricity: Austria","Austria","Western Europe","we",0.23423999999999998,0.43056999999999995,0.23636000000000001,0.23636000000000001,{"$f":"J215/Conversions!J$28","v":6.5655555555608078E-2}]
[null,"Electricity: ","Electricity: Belgium","Belgium","Western Europe","we",0.25899999999999995,0.43056999999999995,0.25044,0.25044,{"$f":"J216/Conversions!J$28","v":6.9566666666722315E-2}]
[null,"Electricity: ","Electricity: Bosnia and Herzegovina","Bosnia and Herzegovina","Western Europe","we",-99,0.43056999999999995,0.91733999999999993,0.91733999999999993,{"$f":"J217/Conversions!J$28","v":0.25481666666687047}]
[null,"Electricity: ","Electricity: Croatia","Croatia","Western Europe","we",0.34144000000000002,0.43056999999999995,0.39206999999999997,0.39206999999999997,{"$f":"J218/Conversions!J$28","v":0.10890833333342045}]
[null,"Electricity: ","Electricity: Denmark","Denmark","Western Europe","we",0.42455999999999994,0.43056999999999995,0.42288999999999999,0.42288999999999999,{"$f":"J219/Conversions!J$28","v":0.11746944444453841}]
[null,"Electricity: ","Electricity: Estonia","Estonia","Western Europe","we",1.3447600000000002,0.43056999999999995,1.3896199999999999,1.3896199999999999,{"$f":"J220/Conversions!J$28","v":0.3860055555558643}]
[null,"Electricity: ","Electricity: Faroe Islands","Faroe Islands","Western Europe","we",-99,0.43056999999999995,-99,0.43056999999999995,{"$f":"J221/Conversions!J$28","v":0.11960277777787344}]
[null,"Electricity: ","Electricity: Finland","Finland","Western Europe","we",0.26562999999999998,0.43056999999999995,0.23915000000000003,0.23915000000000003,{"$f":"J222/Conversions!J$28","v":6.64305555556087E-2}]
[null,"Electricity: ","Electricity: France","France","Western Europe","we",9.3719999999999998E-2,0.43056999999999995,8.5629999999999998E-2,8.5629999999999998E-2,{"$f":"J223/Conversions!J$28","v":2.3786111111130138E-2}]
[null,"Electricity: ","Electricity: Germany","Germany","Western Europe","we",0.55792999999999993,0.43056999999999995,0.56703999999999999,0.56703999999999999,{"$f":"J224/Conversions!J$28","v":0.15751111111123711}]
[null,"Electricity: ","Electricity: Greece","Greece","Western Europe","we",0.89290999999999998,0.43056999999999995,0.89564999999999995,0.89564999999999995,{"$f":"J225/Conversions!J$28","v":0.24879166666686567}]
[null,"Electricity: ","Electricity: Guernsey","Guernsey","Western Europe","we",-99,0.43056999999999995,-99,0.43056999999999995,{"$f":"J226/Conversions!J$28","v":0.11960277777787344}]
[null,"Electricity: ","Electricity: Iceland","Iceland","Western Europe","we",{"$f":"IFERROR(VLOOKUP(C227,$N$27:$S$87,4,FALSE),-99)","v":2.14E-4},0.43056999999999995,3.4E-5,3.4E-5,{"$f":"J227/Conversions!J$28","v":9.4444444444520001E-6}]
[null,"Electricity: ","Electricity: Ireland","Ireland","Western Europe","we",0.56181999999999999,0.43056999999999995,0.54878000000000005,0.54878000000000005,{"$f":"J228/Conversions!J$28","v":0.15243888888901083}]
[null,"Electricity: ","Electricity: Isle of Man","Isle of Man","Western Europe","we",-99,0.43056999999999995,-99,0.43056999999999995,{"$f":"J229/Conversions!J$28","v":0.11960277777787344}]
[null,"Electricity: ","Electricity: Italy","Italy","Western Europe","we",0.50052999999999992,0.43056999999999995,0.50022,0.50022,{"$f":"J230/Conversions!J$28","v":0.13895000000011115}]
[null,"Electricity: ","Electricity: Jersey","Jersey","Western Europe","we",-99,0.43056999999999995,-99,0.43056999999999995,{"$f":"J231/Conversions!J$28","v":0.11960277777787344}]
[null,"Electricity: ","Electricity: Latvia","Latvia","Western Europe","we",0.15322,0.43056999999999995,0.14951,0.14951,{"$f":"J232/Conversions!J$28","v":4.153055555558878E-2}]
[null,"Electricity: ","Electricity: Liechtenstein","Liechtenstein","Western Europe","we",-99,0.43056999999999995,-99,0.43056999999999995,{"$f":"J233/Conversions!J$28","v":0.11960277777787344}]
[null,"Electricity: ","Electricity: Lithuania","Lithuania","Western Europe","we",0.40852999999999995,0.43056999999999995,0.30112,0.30112,{"$f":"J234/Conversions!J$28","v":8.3644444444511357E-2}]
[null,"Electricity: ","Electricity: Luxembourg","Luxembourg","Western Europe","we",0.47771999999999992,0.43056999999999995,0.44888,0.44888,{"$f":"J235/Conversions!J$28","v":0.12468888888898863}]
[null,"Electricity: ","Electricity: Madeira Islands","Madeira Islands","Western Europe","we",-99,0.43056999999999995,-99,0.43056999999999995,{"$f":"J236/Conversions!J$28","v":0.11960277777787344}]
[null,"Electricity: ","Electricity: Malta","Malta","Western Europe","we",1.13463,0.43056999999999995,1.12331,1.12331,{"$f":"J237/Conversions!J$28","v":0.31203055555580517}]
[null,"Electricity: ","Electricity: Monaco","Monaco","Western Europe","we",-99,0.43056999999999995,-99,0.43056999999999995,{"$f":"J238/Conversions!J$28","v":0.11960277777787344}]
[null,"Electricity: ","Electricity: Montenegro","Montenegro","Western Europe","we",-99,0.43056999999999995,0.53734000000000004,0.53734000000000004,{"$f":"J239/Conversions!J$28","v":0.14926111111123053}]
[null,"Electricity: ","Electricity: Netherlands","Netherlands","Western Europe","we",0.49462,0.43056999999999995,0.49276999999999999,0.49276999999999999,{"$f":"J240/Conversions!J$28","v":0.13688055555566506}]
[null,"Electricity: ","Electricity: Norway","Norway","Western Europe","we",2.0319999999999998E-2,0.43056999999999995,1.763E-2,1.763E-2,{"$f":"J241/Conversions!J$28","v":4.89722222222614E-3}]
[null,"Electricity: ","Electricity: Portugal","Portugal","Western Europe","we",0.33732000000000001,0.43056999999999995,0.39500999999999997,0.39500999999999997,{"$f":"J242/Conversions!J$28","v":0.10972500000008777}]
[null,"Electricity: ","Electricity: Republic of Serbia","Republic of Serbia","Western Europe","we",-99,0.43056999999999995,0.82833999999999997,0.82833999999999997,{"$f":"J243/Conversions!J$28","v":0.23009444444462851}]
[null,"Electricity: ","Electricity: San Marino","San Marino","Western Europe","we",-99,0.43056999999999995,-99,0.43056999999999995,{"$f":"J244/Conversions!J$28","v":0.11960277777787344}]
[null,"Electricity: ","Electricity: Slovenia","Slovenia","Western Europe","we",0.40383000000000002,0.43056999999999995,0.40592,0.40592,{"$f":"J245/Conversions!J$28","v":0.11275555555564576}]
[null,"Electricity: ","Electricity: Spain","Spain","Western Europe","we",0.31759999999999999,0.43056999999999995,0.35462000000000005,0.35462000000000005,{"$f":"J246/Conversions!J$28","v":9.8505555555634366E-2}]
[null,"Electricity: ","Electricity: Svalbard and Jan Mayen Islands","Svalbard and Jan Mayen Islands","Western Europe","we",-99,0.43056999999999995,-99,0.43056999999999995,{"$f":"J247/Conversions!J$28","v":0.11960277777787344}]
[null,"Electricity: ","Electricity: Sweden","Sweden","Western Europe","we",3.3590000000000002E-2,0.43056999999999995,2.5020000000000001E-2,2.5020000000000001E-2,{"$f":"J248/Conversions!J$28","v":6.9500000000055602E-3}]
[null,"Electricity: ","Electricity: Switzerland","Switzerland","Western Europe","we",3.499E-2,0.43056999999999995,3.5680000000000003E-2,3.5680000000000003E-2,{"$f":"J249/Conversions!J$28","v":9.9111111111190413E-3}]
[null,"Electricity: ","Electricity: The former Yugoslav Republic of Macedonia","The former Yugoslav Republic of Macedonia","Western Europe","we",-99,0.43056999999999995,0.84733999999999998,0.84733999999999998,{"$f":"J250/Conversions!J$28","v":0.2353722222224105}]
[null,"Electricity: ","Electricity: U.K. of Great Britain and Northern Ireland","U.K. of Great Britain and Northern Ireland","Western Europe","we",-99,0.43056999999999995,0.53334000000000004,0.53334000000000004,{"$f":"J251/Conversions!J$28","v":0.14815000000011852}]
[null,"Electricity: ","Electricity: Bermuda","Bermuda","North America","nam",-99,0.43477499999999997,-99,0.43477499999999997,{"$f":"J252/Conversions!J$28","v":0.12077083333342993}]
[null,"Electricity: ","Electricity: Canada","Canada","North America","nam",0.23315,0.43477499999999997,0.21774000000000002,0.21774000000000002,{"$f":"J253/Conversions!J$28","v":6.0483333333381725E-2}]
[null,"Electricity: ","Electricity: Greenland","Greenland","North America","nam",-99,0.43477499999999997,-99,0.43477499999999997,{"$f":"J254/Conversions!J$28","v":0.12077083333342993}]
[null,"Electricity: ","Electricity: United States of America","United States of America","North America","nam",0.63639999999999997,0.43477499999999997,0.62814999999999999,0.62814999999999999,{"$f":"J255/Conversions!J$28","v":0.17448611111125067}]
[]
[null,null,null,null,null,null,null,"Regional averages"]
[null,null,null,null,null,null,null,"TOTAL EF","Generation EF","T&D and WTT"]
[null,null,null,null,null,null,null,"kgCO2e/kWh","kgCO2e/kWh","kgCO2e/kWh"]
[null,null,null,null,"Latin America and the Caribbean","lac",null,{"$f":"Q85","v":0.26392000000000004},{"$f":"Y85","v":0.19653999999999999},{"$f":"BJ85","v":6.7379999999999995E-2},{"$f":"(I260+J260)/H260","v":0.99999999999999978}]
[null,null,null,null,"Sub-Saharan Africa","ssa",null,{"$f":"Q83","v":0.83126000000000011},{"$f":"Y83","v":0.63741000000000003},{"$f":"BJ83","v":0.19384999999999999},{"$f":"(I261+J261)/H261","v":0.99999999999999989}]
[null,null,null,null,"Near East and North Africa","nena",null,{"$f":"Q86","v":0.88605000000000012},{"$f":"Y86","v":0.67422000000000004},{"$f":"BJ86","v":0.21182999999999996},0.99999999999999989]
[null,null,null,null,"South Asia","sa",null,{"$f":"AVERAGE(G151,G155)","v":0.92713000000000001},{"$f":"AVERAGE(Y48,Y63)","v":0.66852500000000004},{"$f":"AVERAGE(BJ48,BJ63)","v":0.25860499999999997},1]
[null,null,null,null,"Eastern Europe","ee",null,{"$f":"Q87","v":0.55964999999999998},{"$f":"Y87","v":0.40732000000000002},{"$f":"BJ87","v":0.15232999999999999},1]
[null,null,null,null,"Russian Federation","rus",null,{"$f":"Q69","v":0.52611999999999992},{"$f":"Y69","v":0.3836},{"$f":"BJ69","v":0.14252000000000001},1.0000000000000002]
[null,null,null,null,"East Asia and Southeast Asia","esea",null,{"$f":"AVERAGE(G172:G174,G177,G180:G183,G169)","v":0.743781111111111},{"$f":"AVERAGE(Y45,Y49,Y53,Y57,Y64,Y65,Y71,Y75,Y79)","v":0.59657555555555553},{"$f":"AVERAGE(BJ45,BJ49,BJ53,BJ57,BJ64,BJ65,BJ71,BJ75,BJ79)","v":0.14720555555555553},1]
[null,null,null,null,"Oceania","oc",null,{"$f":"AVERAGE(G187,G197)","v":0.60672999999999988},{"$f":"AVERAGE(Y27,Y61)","v":0.49556},{"$f":"AVERAGE(BJ27,BJ61)","v":0.11117},1.0000000000000002]
[null,null,null,null,"Western Europe","we",null,{"$f":"Q84","v":0.43056999999999995},{"$f":"Y84","v":0.34722999999999998},{"$f":"BJ84","v":8.3339999999999997E-2},1.0000000000000002]
[null,null,null,null,"North America","nam",null,{"$f":"AVERAGE(G253,G255)","v":0.43477499999999997},{"$f":"AVERAGE(Y82,Y32)","v":0.35432999999999998},{"$f":"AVERAGE(BJ82,BJ32)","v":8.0445000000000003E-2},1]
[]
[null,null,"References"]
[]
[null,null,"IEA (2013) CO2 EMISSIONS FROM FUEL COMBUSTION HIGHLIGHTS Paris: IEA/OECD"]
[null,null,"UK BEIS (2016) Government GHG Conversion Factors for Company Reporting: Methodology Paper for Emission Factors. September 2016. London: UK Department of Business, Energy & Industrial Strategy"]

{"sheet":"Fuel EFs","index":7,"n_rows":242,"n_cols":22,"rows_kept":242,"cut":false,"hidden":true,"merged":[[237,1,237,8],[236,1,236,8],[235,1,235,8],[86,2,89,2],[90,2,93,2],[114,2,117,2],[118,2,121,2],[122,2,125,2],[126,2,129,2],[146,2,149,2],[94,2,97,2],[98,2,101,2],[102,2,105,2],[106,2,109,2],[169,2,171,2],[234,1,234,8],[233,1,233,8],[86,1,153,1],[157,1,174,1],[110,2,113,2],[172,2,174,2],[134,2,137,2],[138,2,141,2],[142,2,145,2],[182,1,182,6],[166,2,168,2],[157,2,159,2],[150,2,153,2],[130,2,133,2],[160,2,162,2],[163,2,165,2],[182,10,182,13],[48,1,48,6],[48,10,48,15],[232,1,232,8],[63,2,66,2],[67,2,70,2],[71,2,74,2],[75,2,78,2],[63,1,82,1],[79,2,82,2]]}
[]
[]
[null,null,"Fuel ","Fuel","Units","Scope 1 + WTT EF",null,"Fuels","Units"]
[null,null,"Compressed natural gas_tonnes",{"$f":"VLOOKUP(C4,$P$64:$T$229,2,FALSE)","v":"Compressed natural gas"},{"$f":"VLOOKUP(C4,$P$64:$T$229,3,FALSE)","v":"tonnes"},{"$f":"VLOOKUP(C4,$P$64:$T$229,5,FALSE)","v":3259.6259912226205},null,"Compressed natural gas","_tonnes"]
[null,null,"Compressed natural gas_litres",{"$f":"VLOOKUP(C5,$P$64:$T$229,2,FALSE)","v":"Compressed natural gas"},{"$f":"VLOOKUP(C5,$P$64:$T$229,3,FALSE)","v":"litres"},{"$f":"VLOOKUP(C5,$P$64:$T$229,5,FALSE)","v":0.57043954846395861},null,"Liquefied natural gas","_litres"]
[null,null,"Liquefied natural gas_tonnes","Liquefied natural gas","tonnes",3722.5259912226211,null,"Liquid petroleum gas","_cubic metres"]
[null,null,"Liquefied natural gas_litres","Liquefied natural gas","litres",1.6843905390147607,null,"Natural gas","_kWh"]
[null,null,"Liquid petroleum gas_tonnes","Liquid petroleum gas","tonnes",3311.4802393169448,null,"Burning oil"]
[null,null,"Liquid petroleum gas_litres","Liquid petroleum gas","litres",1.6941763657518969,null,"Diesel (average biofuel blend)"]
[null,null,"Natural gas_tonnes","Natural gas","tonnes",3084.625991222621,null,"Diesel (100% mineral diesel)"]
[null,null,"Natural gas_cubic metres","Natural gas","cubic metres",2.3038425371943942,null,"Fuel oil"]
[null,null,"Burning oil_tonnes","Burning oil","tonnes",3804.0984682317212,null,"Gas oil"]
[null,null,"Burning oil_litres","Burning oil","litres",3.0432787745853771,null,"Petrol (average biofuel blend)"]
[null,null,"Diesel (average biofuel blend)_tonnes","Diesel (average biofuel blend)","tonnes",3768.346578350639,null,"Petrol (100% mineral petrol)"]
[null,null,"Diesel (average biofuel blend)_litres","Diesel (average biofuel blend)","litres",3.1659613216115585,null,"Coal (domestic)"]
[null,null,"Diesel (100% mineral diesel)_tonnes","Diesel (100% mineral diesel)","tonnes",3848.8314827158019,null,"Bioethanol"]
[null,null,"Diesel (100% mineral diesel)_litres","Diesel (100% mineral diesel)","litres",3.2288609083186253,null,"Biodiesel"]
[null,null,"Fuel oil_tonnes","Fuel oil","tonnes",3818.1079404199686,null,"Biomethane"]
[null,null,"Fuel oil_litres","Fuel oil","litres",3.7654198228993776,null,"Biodiesel (from used cooking oil)"]
[null,null,"Gas oil_tonnes","Gas oil","tonnes",4129.2212320624685,null,"Biodiesel (from tallow)"]
[null,null,"Gas oil_litres","Gas oil","litres",3.5231877747973281,null,"Wood logs"]
[null,null,"Petrol (average biofuel blend)_tonnes","Petrol (average biofuel blend)","tonnes",3622.0936384853635,null,"Wood chips"]
[null,null,"Petrol (average biofuel blend)_litres","Petrol (average biofuel blend)","litres",2.6582747287714956,null,"Wood pellets"]
[null,null,"Petrol (100% mineral petrol)_tonnes","Petrol (100% mineral petrol)","tonnes",3765.9219553922244,null,"Grass/straw"]
[null,null,"Petrol (100% mineral petrol)_litres","Petrol (100% mineral petrol)","litres",2.7529014293802812,null,"Biogas"]
[null,null,"Coal (domestic)_tonnes","Coal (domestic)","tonnes",3279.002595657214,null,"Landfill gas"]
[null,null,"Bioethanol_litres","Bioethanol","litres",0.69417000000000006]
[null,null,"Biodiesel_litres","Biodiesel","litres",0.64137999999999995]
[null,null,"Biomethane_litres","Biomethane","litres",0]
[null,null,"Biodiesel (from used cooking oil)_litres","Biodiesel (from used cooking oil)","litres",0.49509999999999998]
[null,null,"Biodiesel (from tallow)_litres","Biodiesel (from tallow)","litres",0.48713000000000001]
[null,null,"Wood logs_tonnes","Wood logs","tonnes",105.49377]
[null,null,"Wood chips_tonnes","Wood chips","tonnes",79.761310000000009]
[null,null,"Wood pellets_tonnes","Wood pellets","tonnes",232.53147999999999]
[null,null,"Grass/straw_tonnes","Grass/straw","tonnes",161.90091000000001]
[null,null,"Biogas_tonnes","Biogas","tonnes",332.95449000000002]
[null,null,"Biogas_kWh","Biogas","kWh",2.665E-2]
[null,null,"Landfill gas_tonnes","Landfill gas","tonnes",{"$f":"VLOOKUP(C38,$P$64:$T$229,5,FALSE)","v":1.6925300000000001}]
[null,null,"Landfill gas_kWh","Landfill gas","kWh",2.0000000000000001E-4]
[]
[]
[null,"Fossil fuels: direct emissions",null,null,null,null,null,null,null,null,"Fossil fuels: WTT emissions"]
[null,null,"Source: UK Government GHG Conversion Factors for Company Reporting"]
[null,null,"Copied from: Copy of ghg-conversion-factors-2016update_MASTER__links_removed__v2"]
[null,null,"https://www.gov.uk/government/collections/government-conversion-factors-for-company-reporting"]
[null,"Emissions source:","Fuels","Expiry:",{"$f":"[4]Introduction!$C$5","v":"31/06/2017"},"Factor set:",{"$f":"[4]Introduction!E5","v":"Full set"},null,null,null,"Emissions source:","WTT- fuels","Expiry:",{"$f":"[4]Introduction!$C$5","v":"31/06/2017"},"Factor set:",{"$f":"[4]Introduction!Q26","v":"00:00:00"}]
[null,"Scope:","Scope 1","Version:",{"$f":"[4]Introduction!C6","v":1},"Year:",{"$f":"UpdateYear","v":2016},null,null,null,"Scope:","Scope 3","Version:",{"$f":"[4]Introduction!O27","v":0},"Year:",{"$f":"UpdateYear","v":2016}]
[]
[null,"Fuels conversion factors should be used for primary fuel sources combusted at a site or in an asset owned or controlled by the reporting organisation.",null,null,null,null,null,null,null,null,"Well-to-tank (WTT) fuels conversion factors should be used to account for the upstream Scope 3 emissions associated with extraction, refining and transportation of the raw fuel sources to an organisation’s site (or asset), prior to combustion.      "]
[]
[null,"Guidance",null,null,null,null,null,null,null,null,"Guidance"]
[null,"●  Gross gross calorific value (CV)/net CV basis - typically organisations should use gross CV for each kWh of energy reported (most energy billing is provided on a gross CV basis)."]
[null,"●  'Diesel (average biofuel blend)'/'diesel (100% mineral oil)' - typically organisations purchasing forecourt fuel should use 'diesel (average biofuel blend)'. It should be noted that any fuel an organisation reports in Scope 1 that has biofuel content must have the ‘outside of scopes’ portion reported separately as per the 'WBCSD/WRI GHG Protocol (chapter 9)'.  See information about the outside of scopes emissions in the example section below. ",null,null,null,null,null,null,null,null,"●  Gross CV /net CV basis - typically organisations should use gross CV for each kWh of energy consumed (most energy billing is provided on a gross CV basis)."]
[null,"●  If any fuel type or unit (such as coal in litres) has no result in the table, this is an indication the conversion factor is not available or does not exist.",null,null,null,null,null,null,null,null,"●  'Diesel (average biofuel blend)'/'diesel (100% mineral oil)' - typically, organisations purchasing forecourt fuel should use 'diesel (average biofuel blend)'. It should be noted that any fuel an organisation reports in Scope 1, which has a biofuel content, should have the ‘outside of scopes’ portion reported separately as per the 'WBCSD/ WRI GHG Protocol (chapter 9)'. See information about the outside of scopes emissions in the example section below. "]
[null,"Example of calculating emissions from fuels"]
[null,"Company A needs to report the Scope 1 emissions from its natural gas and diesel use.  ",null,null,null,null,null,null,null,null,"Example of calculating emissions from WTT of fuels "]
[null,"●  For natural gas consumption it selects a kWh conversion factor on a gross CV basis - this is the basis of most energy bills.  It reports in CO2e for all fuels combusted at its premises.",null,null,null,null,null,null,null,null,"Company A elects to report the WTT emissions associated with its use of natural gas and diesel. For natural gas consumption, it selects a kWh conversion factor based on gross CV to correlate with the same values on which it reported its natural gas consumption. It reports in CO2e.    "]
[null,"●  It is faced with two different types of diesel conversion factors, '100% mineral fuel' and 'diesel (average biofuel blend)'. Since it fills up its vehicles at a national chain of filling stations, it selects the average biofuel blend (this is the correct conversion factor for standard forecourt fuel, which contains a small blend of biofuel).",null,null,null,null,null,null,null,null,"Company A is faced with two different types of WTT factors for diesel, '100% mineral fuel' and 'average biofuel blend'. Since company A fills up its vehicles at a national chain of filling stations, it selects the WTT value for 'average biofuel blend' (this is the correct conversion factor for standard forecourt fuel), which also correlates with the conversion factor it is using in the Scope 1 reporting of diesel for the same vehicles."]
[null,"The activity data (that is, litres) is multiplied by the appropriate conversion factor to produce company A's fuel emissions. ",null,null,null,null,null,null,null,null,"The activity data are multiplied by the conversion factors to produce company A's WTT emissions for fuels.   "]
[null,"Since company A is reporting a type of fuel that has biofuel content, it should also account for the ‘biogenic’ part of this fuel. To calculate this, it must also multiply the total litres of fuel used by the ‘outside of scopes’ fuel factor for ‘forecourt fuels- diesel (average biofuel blend)’ and report as a separate line item within its report called ‘outside of scopes’. This will not be included in the organisation's emissions total, but displayed separately within the emissions report. This ensures that the organisation is being transparent with regard to all potential sources of CO2 from its activities.  "]
[null,"For more information refer to the ‘Outside of scopes’ tab for guidance."]
[null,null,null,null,null,null,null,null,null,null,null,null,null,null,null,null,null,null,null,"Scope 1 + WTT"]
[null,"Activity","Fuel","Unit","kg CO2e","kg CO2","kg CH4","kg N2O",null,null,"Activity","Fuel","Unit","kg CO2e",null,null,"Fuel","Unit","_",{"$f":"N63","v":"kg CO2e"}]
[null,"Gaseous fuels","CNG","tonnes",2715.8259912226208,2710.6371418547596,3.7637245548547762,1.4251248130061496,null,null,"Gaseous fuels","CNG","tonnes",543.79999999999995,null,{"$f":"S64","v":"Compressed natural gas_tonnes"},"Compressed natural gas","tonnes",{"$f":"CONCATENATE(Q64,S$63,R64)","v":"Compressed natural gas_tonnes"},{"$f":"E64+N64","v":3259.6259912226205},null,"Compressed natural gas_tonnes"]
[null,null,null,"litres",0.47526954846395858,0.47436149982458292,6.5865179709958578E-4,2.4939684227607618E-4,null,null,null,null,"litres",9.5170000000000005E-2,null,{"$f":"S65","v":"Compressed natural gas_litres"},"Compressed natural gas","litres",{"$f":"CONCATENATE(Q65,S$63,R65)","v":"Compressed natural gas_litres"},{"$f":"E65+N65","v":0.57043954846395861},null,"Compressed natural gas_litres"]
[null,null,null,"kWh (Net CV)",0.20444090909030596,0.20405030487437806,2.8332421592799456E-4,1.0727999999991412E-4,null,null,null,null,"kWh (Net CV)",4.0939999999999997E-2,null,"Compressed natural gas_kWh (Net CV)","Compressed natural gas","kWh (Net CV)","Compressed natural gas_kWh (Net CV)",0.24538090909030597,null,"Liquefied natural gas_tonnes"]
[null,null,null,"kWh (Gross CV)",0.18399681818127539,0.18364527438694028,2.549917943351951E-4,9.6551999999922717E-5,null,null,null,null,"kWh (Gross CV)",3.6850000000000001E-2,null,"Compressed natural gas_kWh (Gross CV)","Compressed natural gas","kWh (Gross CV)","Compressed natural gas_kWh (Gross CV)",0.22084681818127538,null,"Liquefied natural gas_litres"]
[null,null,"LNG","tonnes",2715.8259912226208,2710.6371418547596,3.7637245548547762,1.4251248130061496,null,null,null,"LNG","tonnes",1006.7,null,"Liquefied natural gas_tonnes","Liquefied natural gas","tonnes","Liquefied natural gas_tonnes",3722.5259912226211,null,"Liquid petroleum gas_tonnes"]
[null,null,null,"litres",1.2288805390147606,1.2265326433731945,1.7030427850021612E-3,6.4485285656386857E-4,null,null,null,null,"litres",0.45551000000000003,null,"Liquefied natural gas_litres","Liquefied natural gas","litres","Liquefied natural gas_litres",1.6843905390147607,null,"Liquid petroleum gas_litres"]
[null,null,null,"kWh (Net CV)",0.20444090909030596,0.20405030487437806,2.8332421592799456E-4,1.0727999999991412E-4,null,null,null,null,"kWh (Net CV)",7.578E-2,null,"Liquefied natural gas_kWh (Net CV)","Liquefied natural gas","kWh (Net CV)","Liquefied natural gas_kWh (Net CV)",0.28022090909030595,null,"Natural gas_tonnes"]
[null,null,null,"kWh (Gross CV)",0.18399681818127539,0.18364527438694028,2.549917943351951E-4,9.6551999999922717E-5,null,null,null,null,"kWh (Gross CV)",6.8199999999999997E-2,null,"Liquefied natural gas_kWh (Gross CV)","Liquefied natural gas","kWh (Gross CV)","Liquefied natural gas_kWh (Gross CV)",0.25219681818127537,null,"Natural gas_cubic metres"]
[null,null,"LPG","tonnes",2941.780239316945,2936.4761416983624,2.5365577228638609,2.7675398957185076,null,null,null,"LPG","tonnes",369.7,null,"Liquid petroleum gas_tonnes","Liquid petroleum gas","tonnes","Liquid petroleum gas_tonnes",3311.4802393169448,null,"Burning oil_tonnes"]
[null,null,null,"litres",1.5050163657518969,1.5023027865338361,1.2977043065837163E-3,1.4158749114769947E-3,null,null,null,null,"litres",0.18915999999999999,null,"Liquid petroleum gas_litres","Liquid petroleum gas","litres","Liquid petroleum gas_litres",1.6941763657518969,null,"Burning oil_litres"]
[null,null,null,"kWh (Net CV)",0.23040617798432192,0.22999075033149458,1.986683309482623E-4,2.1675932187908392E-4,null,null,null,null,"kWh (Net CV)",2.896E-2,null,"Liquid petroleum gas_kWh (Net CV)","Liquid petroleum gas","kWh (Net CV)","Liquid petroleum gas_kWh (Net CV)",0.25936617798432193,null,"Diesel (average biofuel blend)_tonnes"]
[null,null,null,"kWh (Gross CV)",0.21457727355679901,0.2141903857837209,1.8501981661211668E-4,2.0186795646599085E-4,null,null,null,null,"kWh (Gross CV)",2.6970000000000001E-2,null,"Liquid petroleum gas_kWh (Gross CV)","Liquid petroleum gas","kWh (Gross CV)","Liquid petroleum gas_kWh (Gross CV)",0.241547273556799,null,"Diesel (average biofuel blend)_litres"]
[null,null,"Natural gas","tonnes",2715.8259912226208,2710.6371418547596,3.7637245548547762,1.4251248130061496,null,null,null,"Natural gas","tonnes",368.8,null,"Natural gas_tonnes","Natural gas","tonnes","Natural gas_tonnes",3084.625991222621,null,"Diesel (100% mineral diesel)_tonnes"]
[null,null,null,"cubic metres",2.0283825371943944,2.0245071153227734,2.8110317769071609E-3,1.0643900947139679E-3,null,null,null,null,"cubic metres",0.27545999999999998,null,"Natural gas_cubic metres","Natural gas","cubic metres","Natural gas_cubic metres",2.3038425371943942,null,"Diesel (100% mineral diesel)_litres"]
[null,null,null,"kWh (Net CV)",0.20444090909030596,0.20405030487437806,2.8332421592799456E-4,1.0727999999991412E-4,null,null,null,null,"kWh (Net CV)",2.776E-2,null,"Natural gas_kWh (Net CV)","Natural gas","kWh (Net CV)","Natural gas_kWh (Net CV)",0.23220090909030597,null,"Fuel oil_tonnes"]
[null,null,null,"kWh (Gross CV)",0.18399681818127539,0.18364527438694028,2.549917943351951E-4,9.6551999999922717E-5,null,null,null,null,"kWh (Gross CV)",2.4989999999999998E-2,null,"Natural gas_kWh (Gross CV)","Natural gas","kWh (Gross CV)","Natural gas_kWh (Gross CV)",0.2089868181812754,null,"Fuel oil_litres"]
[null,null,"Other petroleum gas","tonnes",2651.8494166711966,2649.351151357655,1.1397195773457309,1.3585457361961113,null,null,null,"Other petroleum gas","tonnes",324.39999999999998,null,"Other petroleum gas_tonnes","Other petroleum gas","tonnes","Other petroleum gas_tonnes",2976.2494166711967,null,"Gas oil_tonnes"]
[null,null,null,"litres",0.97137341270007216,0.97045829720060628,4.1747969866143991E-4,4.976358008044364E-4,null,null,null,null,"litres",0.11882,null,"Other petroleum gas_litres","Other petroleum gas","litres","Other petroleum gas_litres",1.0901934127000721,null,"Gas oil_litres"]
[null,null,null,"kWh (Net CV)",0.20485569530300204,0.20466270399865438,8.8043478260799111E-5,1.0494782608687254E-4,null,null,null,null,"kWh (Net CV)",2.5059999999999999E-2,null,"Other petroleum gas_kWh (Net CV)","Other petroleum gas","kWh (Net CV)","Other petroleum gas_kWh (Net CV)",0.22991569530300204,null,"Petrol (average biofuel blend)_tonnes"]
[null,null,null,"kWh (Gross CV)",0.18846723967876189,0.18828968767876203,8.0999999999935196E-5,9.6551999999922757E-5,null,null,null,null,"kWh (Gross CV)",2.3050000000000001E-2,null,"Other petroleum gas_kWh (Gross CV)","Other petroleum gas","kWh (Gross CV)","Other petroleum gas_kWh (Gross CV)",0.2115172396787619,null,"Petrol (average biofuel blend)_litres"]
[null,null,null,null,null,null,null,null,null,null,null,null,null,null,null,"_",null,null,"_",0,null,"Petrol (100% mineral petrol)_tonnes"]
[null,null,null,null,null,null,null,null,null,null,null,null,null,null,null,"_",null,null,"_",0,null,"Petrol (100% mineral petrol)_litres"]
[null,"Activity","Fuel","Unit","kg CO2e","kg CO2","kg CH4","kg N2O",null,null,"Activity","Fuel","Unit","kg CO2e",null,"Fuel_Unit","Fuel","Unit","Fuel_Unit",{"$error":"#VALUE!"},null,"Coal (domestic)_tonnes"]
[null,"Liquid fuels","Aviation spirit","tonnes",3175.3771021138214,3127.6666666666661,17.910435447155084,29.8,null,null,"Liquid fuels","Aviation spirit","tonnes",619.5,null,"Aviation spirit_tonnes","Aviation spirit","tonnes","Aviation spirit_tonnes",3794.8771021138214,null,"Bioethanol_litres"]
[null,null,null,"litres",2.2552394191149294,2.2213541666666661,1.2720479720990828E-2,2.1164772727272727E-2,null,null,null,null,"litres",0.44001000000000001,null,"Aviation spirit_litres","Aviation spirit","litres","Aviation spirit_litres",2.6952494191149294,null,"Biodiesel_litres"]
[null,null,null,"kWh (Net CV)",0.25384754283671412,0.25003345196924909,1.4318047536367648E-3,2.3822861138282931E-3,null,null,null,null,"kWh (Net CV)",4.9529999999999998E-2,null,"Aviation spirit_kWh (Net CV)","Aviation spirit","kWh (Net CV)","Aviation spirit_kWh (Net CV)",0.30337754283671414,null,"Biomethane_litres"]
[null,null,null,"kWh (Gross CV)",0.24115516569487841,0.23753177937078662,1.3602145159549264E-3,2.2631718081368782E-3,null,null,null,null,"kWh (Gross CV)",4.7050000000000002E-2,null,"Aviation spirit_kWh (Gross CV)","Aviation spirit","kWh (Gross CV)","Aviation spirit_kWh (Gross CV)",0.28820516569487842,null,"Biodiesel (from used cooking oil)_litres"]
[null,null,"Aviation turbine fuel","tonnes",3181.1858626021826,3149.6666666666661,1.7191959355163415,29.799999999999997,null,null,null,"Aviation turbine fuel","tonnes",639.6,null,"Aviation turbine fuel_tonnes","Aviation turbine fuel","tonnes","Aviation turbine fuel_tonnes",3820.7858626021825,null,"Biodiesel (from tallow)_litres"]
[null,null,null,"litres",2.5327912918807187,2.5076963906581735,1.3687865728633293E-3,2.3726114649681527E-2,null,null,null,null,"litres",0.50927,null,"Aviation turbine fuel_litres","Aviation turbine fuel","litres","Aviation turbine fuel_litres",3.0420612918807186,null,"Wood logs_tonnes"]
[null,null,null,"kWh (Net CV)",0.26055882062988839,0.25797720331016266,1.4081279269341875E-4,2.4408045270323362E-3,null,null,null,null,"kWh (Net CV)",5.2389999999999999E-2,null,"Aviation turbine fuel_kWh (Net CV)","Aviation turbine fuel","kWh (Net CV)","Aviation turbine fuel_kWh (Net CV)",0.31294882062988838,null,"Wood chips_tonnes"]
[null,null,null,"kWh (Gross CV)",0.24753087959839398,0.24507834314465451,1.337721530587478E-4,2.3187643006807191E-3,null,null,null,null,"kWh (Gross CV)",4.9770000000000002E-2,null,"Aviation turbine fuel_kWh (Gross CV)","Aviation turbine fuel","kWh (Gross CV)","Aviation turbine fuel_kWh (Gross CV)",0.29730087959839396,null,"Wood pellets_tonnes"]
[null,null,"Burning oil","tonnes",3165.3984682317214,3149.6666666666665,7.8860396299305551,7.8457619351241901,null,null,null,"Burning oil","tonnes",638.70000000000005,null,"Burning oil_tonnes","Burning oil","tonnes","Burning oil_tonnes",3804.0984682317212,null,"Grass/straw_tonnes"]
[null,null,null,"litres",2.5323187745853772,2.5197333333333334,6.3088317039444444E-3,6.2766095480993522E-3,null,null,null,null,"litres",0.51095999999999997,null,"Burning oil_litres","Burning oil","litres","Burning oil_litres",3.0432787745853771,null,"Biogas_tonnes"]
[null,null,null,"kWh (Net CV)",0.25964552972356453,0.25835511021023655,6.4686166929188329E-4,6.4355784403607444E-4,null,null,null,null,"kWh (Net CV)",5.2389999999999999E-2,null,"Burning oil_kWh (Net CV)","Burning oil","kWh (Net CV)","Burning oil_kWh (Net CV)",0.31203552972356452,null,"Biogas_kWh"]
[null,null,null,"kWh (Gross CV)",0.24666325323738625,0.24543735469972469,6.1451858582728912E-4,6.1137995183427069E-4,null,null,null,null,"kWh (Gross CV)",4.9770000000000002E-2,null,"Burning oil_kWh (Gross CV)","Burning oil","kWh (Gross CV)","Burning oil_kWh (Gross CV)",0.29643325323738623,null,"Landfill gas_tonnes"]
[null,null,"Diesel (average biofuel blend)","tonnes",3108.520389248934,3082.8222398664648,0.7141508197122961,24.983998562756607,null,null,null,"Diesel (average biofuel blend)","tonnes",659.82618910170527,null,"Diesel (average biofuel blend)_tonnes","Diesel (average biofuel blend)","tonnes","Diesel (average biofuel blend)_tonnes",3768.346578350639,null,"Landfill gas_kWh"]
[null,null,null,"litres",2.6116251996137536,2.5900663494606757,5.9911981519487933E-4,2.0959730337883061E-2,null,null,null,null,"litres",0.55433612199780491,null,"Diesel (average biofuel blend)_litres","Diesel (average biofuel blend)","litres","Diesel (average biofuel blend)_litres",3.1659613216115585]
[null,null,null,"kWh (Net CV)",0.26161252748420333,0.25945714142875131,5.9898115439688361E-5,2.0954879400122842E-3,null,null,null,null,"kWh (Net CV)",5.552689406081792E-2,null,"Diesel (average biofuel blend)_kWh (Net CV)","Diesel (average biofuel blend)","kWh (Net CV)","Diesel (average biofuel blend)_kWh (Net CV)",0.31713942154502123]
[null,null,null,"kWh (Gross CV)",0.24591577583515109,0.24388971294302625,5.6304228513307054E-5,1.9697586636115466E-3,null,null,null,null,"kWh (Gross CV)",5.2232339396233694E-2,null,"Diesel (average biofuel blend)_kWh (Gross CV)","Diesel (average biofuel blend)","kWh (Gross CV)","Diesel (average biofuel blend)_kWh (Gross CV)",0.29814811523138479]
[null,null,"Diesel (100% mineral diesel)","tonnes",3190.0314827158018,3164.3333333333326,0.7141508197122961,24.983998562756607,null,null,null,"Diesel (100% mineral diesel)","tonnes",658.8,null,"Diesel (100% mineral diesel)_tonnes","Diesel (100% mineral diesel)","tonnes","Diesel (100% mineral diesel)_tonnes",3848.8314827158019]
[null,null,null,"litres",2.6762009083186253,2.6546420581655474,5.9911981519487933E-4,2.0959730337883061E-2,null,null,null,null,"litres",0.55266000000000004,null,"Diesel (100% mineral diesel)_litres","Diesel (100% mineral diesel)","litres","Diesel (100% mineral diesel)_litres",3.2288609083186253]
[null,null,null,"kWh (Net CV)",0.2675581526111373,0.26540276655568529,5.9898115439688361E-5,2.0954879400122842E-3,null,null,null,null,"kWh (Net CV)",5.525E-2,null,"Diesel (100% mineral diesel)_kWh (Net CV)","Diesel (100% mineral diesel)","kWh (Net CV)","Diesel (100% mineral diesel)_kWh (Net CV)",0.32280815261113732]
[null,null,null,"kWh (Gross CV)",0.25150466345446904,0.24947860056234419,5.6304228513307054E-5,1.9697586636115466E-3,null,null,null,null,"kWh (Gross CV)",5.194E-2,null,"Diesel (100% mineral diesel)_kWh (Gross CV)","Diesel (100% mineral diesel)","kWh (Gross CV)","Diesel (100% mineral diesel)_kWh (Gross CV)",0.30344466345446902]
[null,null,"Fuel oil","tonnes",3225.1079404199686,3213.5886682305427,4.2280712856944822,7.2912009037314167,null,null,null,"Fuel oil","tonnes",593,null,"Fuel oil_tonnes","Fuel oil","tonnes","Fuel oil_tonnes",3818.1079404199686]
[null,null,null,"litres",3.1805798228993774,3.1692195939157224,4.1696955480221721E-3,7.1905334356325611E-3,null,null,null,null,"litres",0.58484000000000003,null,"Fuel oil_litres","Fuel oil","litres","Fuel oil_litres",3.7654198228993776]
[null,null,null,"kWh (Net CV)",0.28492018095471466,0.28390251792534937,3.7352636192779199E-4,6.4413666743749895E-4,null,null,null,null,"kWh (Net CV)",5.2389999999999999E-2,null,"Fuel oil_kWh (Net CV)","Fuel oil","kWh (Net CV)","Fuel oil_kWh (Net CV)",0.33731018095471466]
[null,null,null,"kWh (Gross CV)",0.26782497009743172,0.2668683668498284,3.5111478021212443E-4,6.0548846739124891E-4,null,null,null,null,"kWh (Gross CV)",4.9250000000000002E-2,null,"Fuel oil_kWh (Gross CV)","Fuel oil","kWh (Gross CV)","Fuel oil_kWh (Gross CV)",0.31707497009743174]
[null,null,"Gas oil","tonnes",3475.8212320624689,3190,3.5666073170494048,282.25462474541916,null,null,null,"Gas oil","tonnes",653.4,null,"Gas oil_tonnes","Gas oil","tonnes","Gas oil_tonnes",4129.2212320624685]
[null,null,null,"litres",2.9657177747973282,2.7218430034129693,3.0431803046496626E-3,0.2408315910797092,null,null,null,null,"litres",0.55747000000000002,null,"Gas oil_litres","Gas oil","litres","Gas oil_litres",3.5231877747973281]
[null,null,null,"kWh (Net CV)",0.29394662074862465,0.26977501361072881,3.0162430642668601E-4,2.3869982831469159E-2,null,null,null,null,"kWh (Net CV)",5.525E-2,null,"Gas oil_kWh (Net CV)","Gas oil","kWh (Net CV)","Gas oil_kWh (Net CV)",0.34919662074862468]
[null,null,null,"kWh (Gross CV)",0.27630982350370714,0.25358851279408506,2.8352684804108482E-4,2.2437783861581007E-2,null,null,null,null,"kWh (Gross CV)",5.194E-2,null,"Gas oil_kWh (Gross CV)","Gas oil","kWh (Gross CV)","Gas oil_kWh (Gross CV)",0.32824982350370713]
[null,null,"Lubricants","tonnes",3181.9227746935999,3171.0851575297288,3.2026055448791251,7.635011618991804,null,null,null,"Lubricants","tonnes",388.3,null,"Lubricants_tonnes","Lubricants","tonnes","Lubricants_tonnes",3570.2227746936001]
[null,null,null,"litres",null,null,null,null,null,null,null,null,"litres",0.33968999999999999,null,"Lubricants_litres","Lubricants","litres","Lubricants_litres",0.33968999999999999]
[null,null,null,"kWh (Net CV)",0.28110501400197258,0.28014757136734064,2.8293222063591157E-4,6.7451041399601045E-4,null,null,null,null,"kWh (Net CV)",3.4299999999999997E-2,null,"Lubricants_kWh (Net CV)","Lubricants","kWh (Net CV)","Lubricants_kWh (Net CV)",0.31540501400197257]
[null,null,null,"kWh (Gross CV)",0.26423871316185427,0.26333871708530021,2.6595628739775688E-4,6.3403978915624977E-4,null,null,null,null,"kWh (Gross CV)",3.2239999999999998E-2,null,"Lubricants_kWh (Gross CV)","Lubricants","kWh (Gross CV)","Lubricants_kWh (Gross CV)",0.29647871316185426]
[null,null,"Naphtha","tonnes",3142.8158693281603,3131.3333333333326,3.3931843956346999,8.089351599193094,null,null,null,"Naphtha","tonnes",639.20000000000005,null,"Naphtha_tonnes","Naphtha","tonnes","Naphtha_tonnes",3782.0158693281601]
[null,null,null,"litres",null,null,null,null,null,null,null,null,"litres",0.43752999999999997,null,"Naphtha_litres","Naphtha","litres","Naphtha_litres",0.43752999999999997]
[null,null,null,"kWh (Net CV)",0.2495666685319311,0.24865485620385483,2.6944808749298826E-4,6.4236424058328157E-4,null,null,null,null,"kWh (Net CV)",5.076E-2,null,"Naphtha_kWh (Net CV)","Naphtha","kWh (Net CV)","Naphtha_kWh (Net CV)",0.30032666853193113]
[null,null,null,"kWh (Gross CV)",0.2370883351053345,0.23622211339366206,2.5597568311833883E-4,6.1024602855411746E-4,null,null,null,null,"kWh (Gross CV)",4.8219999999999999E-2,null,"Naphtha_kWh (Gross CV)","Naphtha","kWh (Gross CV)","Naphtha_kWh (Gross CV)",0.28530833510533449]
[null,null,"Petrol (average biofuel blend)","tonnes",2993.5847854823637,2978.7628300901379,9.4265776821788876,5.3953777100468212,null,null,null,"Petrol (average biofuel blend)","tonnes",628.50885300299967,null,"Petrol (average biofuel blend)_tonnes","Petrol (average biofuel blend)","tonnes","Petrol (average biofuel blend)_tonnes",3622.0936384853635]
[null,null,null,"litres",2.1969738770453207,2.1861391143317053,6.8907731594874911E-3,3.9439895541277933E-3,null,null,null,null,"litres",0.4613008517261748,null,"Petrol (average biofuel blend)_litres","Petrol (average biofuel blend)","litres","Petrol (average biofuel blend)_litres",2.6582747287714956]
[null,null,null,"kWh (Net CV)",0.24551948691698311,0.24432807314548385,7.577242119178319E-4,4.336895595814263E-4,null,null,null,null,"kWh (Net CV)",5.1559029373638238E-2,null,"Petrol (average biofuel blend)_kWh (Net CV)","Petrol (average biofuel blend)","kWh (Net CV)","Petrol (average biofuel blend)_kWh (Net CV)",0.29707851629062132]
[null,null,null,"kWh (Gross CV)",0.23324351257113396,0.23211166948820966,7.1983800132194038E-4,4.1200508160235498E-4,null,null,null,null,"kWh (Gross CV)",4.8809205177654531E-2,null,"Petrol (average biofuel blend)_kWh (Gross CV)","Petrol (average biofuel blend)","kWh (Gross CV)","Petrol (average biofuel blend)_kWh (Gross CV)",0.28205271774878848]
[null,null,"Petrol (100% mineral petrol)","tonnes",3149.8219553922245,3134.9999999999986,9.4265776821788876,5.3953777100468212,null,null,null,"Petrol (100% mineral petrol)","tonnes",616.1,null,"Petrol (100% mineral petrol)_tonnes","Petrol (100% mineral petrol)","tonnes","Petrol (100% mineral petrol)_tonnes",3765.9219553922244]
[null,null,null,"litres",2.302501429380281,2.2916666666666656,6.8907731594874911E-3,3.9439895541277933E-3,null,null,null,null,"litres",0.45040000000000002,null,"Petrol (100% mineral petrol)_litres","Petrol (100% mineral petrol)","litres","Petrol (100% mineral petrol)_litres",2.7529014293802812]
[null,null,null,"kWh (Net CV)",0.25318800091608534,0.25199658714458606,7.577242119178319E-4,4.336895595814263E-4,null,null,null,null,"kWh (Net CV)",4.9529999999999998E-2,null,{"$f":"S129","v":"Petrol (100% mineral petrol)_kWh (Net CV)"},"Petrol (100% mineral petrol)","kWh (Net CV)",{"$f":"CONCATENATE(Q129,S$63,R129)","v":"Petrol (100% mineral petrol)_kWh (Net CV)"},{"$f":"E129+N129","v":0.30271800091608536}]
[null,null,null,"kWh (Gross CV)",0.24052860087028105,0.23939675778735675,7.1983800132194038E-4,4.1200508160235498E-4,null,null,null,null,"kWh (Gross CV)",4.7050000000000002E-2,null,"Petrol (100% mineral petrol)_kWh (Gross CV)","Petrol (100% mineral petrol)","kWh (Gross CV)","Petrol (100% mineral petrol)_kWh (Gross CV)",0.28757860087028103]
[null,null,"Processed fuel oils - residual oil","tonnes",3225.1079404199686,3213.5886682305427,4.2280712856944822,7.2912009037314167,null,null,null,"Processed fuel oils - residual oil","tonnes",393.5,null,"Processed fuel oils - residual oil_tonnes","Processed fuel oils - residual oil","tonnes","Processed fuel oils - residual oil_tonnes",3618.6079404199686]
[null,null,null,"litres",3.1805798228993774,3.1692195939157224,4.1696955480221721E-3,7.1905334356325611E-3,null,null,null,null,"litres",0.38804,null,"Processed fuel oils - residual oil_litres","Processed fuel oils - residual oil","litres","Processed fuel oils - residual oil_litres",3.5686198228993775]
[null,null,null,"kWh (Net CV)",0.28492018095471466,0.28390251792534937,3.7352636192779199E-4,6.4413666743749895E-4,null,null,null,null,"kWh (Net CV)",3.4759999999999999E-2,null,"Processed fuel oils - residual oil_kWh (Net CV)","Processed fuel oils - residual oil","kWh (Net CV)","Processed fuel oils - residual oil_kWh (Net CV)",0.31968018095471468]
[null,null,null,"kWh (Gross CV)",0.26782497009743172,0.2668683668498284,3.5111478021212443E-4,6.0548846739124891E-4,null,null,null,null,"kWh (Gross CV)",3.2680000000000001E-2,null,"Processed fuel oils - residual oil_kWh (Gross CV)","Processed fuel oils - residual oil","kWh (Gross CV)","Processed fuel oils - residual oil_kWh (Gross CV)",0.30050497009743171]
[null,null,"Processed fuel oils - distillate oil","tonnes",3475.8212320624689,3190,3.5666073170494048,282.25462474541916,null,null,null,"Processed fuel oils - distillate oil","tonnes",390.6,null,"Processed fuel oils - distillate oil_tonnes","Processed fuel oils - distillate oil","tonnes","Processed fuel oils - distillate oil_tonnes",3866.4212320624688]
[null,null,null,"litres",2.9657200000000001,2.7218430034129693,3.0431803046496626E-3,0.2408315910797092,null,null,null,null,"litres",0.33326,null,"Processed fuel oils - distillate oil_litres","Processed fuel oils - distillate oil","litres","Processed fuel oils - distillate oil_litres",3.2989800000000002]
[null,null,null,"kWh (Net CV)",0.29394662074862465,0.26977501361072881,3.0162430642668601E-4,2.3869982831469159E-2,null,null,null,null,"kWh (Net CV)",3.3029999999999997E-2,null,"Processed fuel oils - distillate oil_kWh (Net CV)","Processed fuel oils - distillate oil","kWh (Net CV)","Processed fuel oils - distillate oil_kWh (Net CV)",0.32697662074862466]
[null,null,null,"kWh (Gross CV)",0.27630982350370714,0.25358851279408506,2.8352684804108482E-4,2.2437783861581007E-2,null,null,null,null,"kWh (Gross CV)",3.1050000000000001E-2,null,"Processed fuel oils - distillate oil_kWh (Gross CV)","Processed fuel oils - distillate oil","kWh (Gross CV)","Processed fuel oils - distillate oil_kWh (Gross CV)",0.30735982350370716]
[null,null,"Refinery miscellaneous","tonnes",2944.8158693281607,2933.333333333333,3.3931843956346999,8.089351599193094,null,null,null,"Refinery miscellaneous","tonnes",359.2,null,"Refinery miscellaneous_tonnes","Refinery miscellaneous","tonnes","Refinery miscellaneous_tonnes",3304.0158693281605]
[null,null,null,"litres",null,null,null,null,null,null,null,null,"litres",0,null,"Refinery miscellaneous_litres","Refinery miscellaneous","litres","Refinery miscellaneous_litres",0]
[null,null,null,"kWh (Net CV)",0.25920139681107329,0.25819070904624819,2.9866659717054154E-4,7.1202116765456836E-4,null,null,null,null,"kWh (Net CV)",3.1609999999999999E-2,null,"Refinery miscellaneous_kWh (Net CV)","Refinery miscellaneous","kWh (Net CV)","Refinery miscellaneous_kWh (Net CV)",0.29081139681107326]
[null,null,null,"kWh (Gross CV)",0.24562989977522282,0.2446721304983891,2.8302874610926053E-4,6.7474053072447463E-4,null,null,null,null,"kWh (Gross CV)",2.9960000000000001E-2,null,"Refinery miscellaneous_kWh (Gross CV)","Refinery miscellaneous","kWh (Gross CV)","Refinery miscellaneous_kWh (Gross CV)",0.2755898997752228]
[null,null,"Waste oils","tonnes",3222.8957690994844,3171.0851575297288,3.2026055448791251,48.608006024876225,null,null,null,"Waste oils","tonnes",388.3,null,"Waste oils_tonnes","Waste oils","tonnes","Waste oils_tonnes",3611.1957690994846]
[null,null,null,"litres",null,null,null,null,null,null,null,null,"litres",0.38290999999999997,null,"Waste oils_litres","Waste oils","litres","Waste oils_litres",0.38290999999999997]
[null,null,null,"kWh (Net CV)",0.28472474803755987,0.28014757136734064,2.8293222063591157E-4,4.2942444495833367E-3,null,null,null,null,"kWh (Net CV)",3.4299999999999997E-2,null,"Waste oils_kWh (Net CV)","Waste oils","kWh (Net CV)","Waste oils_kWh (Net CV)",0.31902474803755987]
[null,null,null,"kWh (Gross CV)",0.26764126315530634,0.26333871708530021,2.6595628739775688E-4,4.0365897826083359E-3,null,null,null,null,"kWh (Gross CV)",3.2239999999999998E-2,null,"Waste oils_kWh (Gross CV)","Waste oils","kWh (Gross CV)","Waste oils_kWh (Gross CV)",0.29988126315530633]
[null,null,"Marine gas oil","tonnes",3215.09,3190,1.25,23.839999999999996,null,null,null,"Marine gas oil","tonnes",653.4,null,"Marine gas oil_tonnes","Marine gas oil","tonnes","Marine gas oil_tonnes",3868.4900000000002]
[null,null,null,"litres",2.7432508532423205,2.7218430034129693,1.0665529010238908E-3,2.0341296928327642E-2,null,null,null,null,"litres",0.55747000000000002,null,"Marine gas oil_litres","Marine gas oil","litres","Marine gas oil_litres",3.3007208532423205]
[null,null,null,"kWh (Net CV)",0.27189684906260753,0.26977501361072881,1.0571121222990942E-4,2.0161242396488322E-3,null,null,null,null,"kWh (Net CV)",5.525E-2,null,"Marine gas oil_kWh (Net CV)","Marine gas oil","kWh (Net CV)","Marine gas oil_kWh (Net CV)",0.32714684906260755]
[null,null,null,"kWh (Gross CV)",0.25558303811885108,0.25358851279408506,9.9368539496114843E-5,1.8951567852699019E-3,null,null,null,null,"kWh (Gross CV)",5.194E-2,null,"Marine gas oil_kWh (Gross CV)","Marine gas oil","kWh (Gross CV)","Marine gas oil_kWh (Gross CV)",0.30752303811885107]
[null,null,"Marine fuel oil","tonnes",3248.09,3223,1.25,23.84,null,null,null,"Marine fuel oil","tonnes",593,null,"Marine fuel oil_tonnes","Marine fuel oil","tonnes","Marine fuel oil_tonnes",3841.09]
[null,null,null,"litres",3.2032445759368837,3.1785009861932938,1.232741617357002E-3,2.351084812623274E-2,null,null,null,null,"litres",0.58484000000000003,null,"Marine fuel oil_litres","Marine fuel oil","litres","Marine fuel oil_litres",3.7880845759368835]
[null,null,null,"kWh (Net CV)",0.28695051689857204,0.28473395625247383,1.1043048256766749E-4,2.106130163530554E-3,null,null,null,null,"kWh (Net CV)",5.2389999999999999E-2,null,"Marine fuel oil_kWh (Net CV)","Marine fuel oil","kWh (Net CV)","Marine fuel oil_kWh (Net CV)",0.33934051689857203]
[null,null,null,"kWh (Gross CV)",0.26973348588465773,0.26764991887732542,1.0380465361360744E-4,1.9797623537187209E-3,null,null,null,null,"kWh (Gross CV)",4.9250000000000002E-2,null,"Marine fuel oil_kWh (Gross CV)","Marine fuel oil","kWh (Gross CV)","Marine fuel oil_kWh (Gross CV)",0.31898348588465775]
[null,null,null,null,null,null,null,null,null,null,null,null,null,null,null,"_",null,null,"_",0]
[null,null,null,null,null,null,null,null,null,null,null,null,null,null,null,"_",null,null,"_",0]
[null,"Activity","Fuel","Unit","kg CO2e","kg CO2","kg CH4","kg N2O",null,null,"Activity","Fuel","Unit","kg CO2e",null,"Fuel_Unit","Fuel","Unit","Fuel_Unit"]
[null,"Solid fuels","Coal (industrial)","tonnes",2417.4640818652074,2395.8443417335343,6.0825030392689863,15.537237092403988,null,null,"Solid fuels","Coal (industrial)","tonnes",378.4,null,"Coal (industrial)_tonnes","Coal (industrial)","tonnes","Coal (industrial)_tonnes",{"$f":"E158+N158","v":2795.8640818652075}]
[null,null,null,"kWh (Net CV)",0.33931161970047385,0.33627710551819018,8.5373097104922825E-4,2.1807832112344205E-3,null,null,null,null,"kWh (Net CV)",5.3109999999999997E-2,null,"Coal (industrial)_kWh (Net CV)","Coal (industrial)","kWh (Net CV)","Coal (industrial)_kWh (Net CV)",0.39242161970047384]
[null,null,null,"kWh (Gross CV)",0.32234603871545003,0.31946325024228062,8.1104442249676676E-4,2.0717440506726995E-3,null,null,null,null,"kWh (Gross CV)",5.0450000000000002E-2,null,"Coal (industrial)_kWh (Gross CV)","Coal (industrial)","kWh (Gross CV)","Coal (industrial)_kWh (Gross CV)",0.37279603871545003]
[null,null,"Coal (electricity generation)","tonnes",2258.4954813757709,2244.9360465108425,0.61806569159468994,12.941369173333324,null,null,null,"Coal (electricity generation)","tonnes",367.8,null,"Coal (electricity generation)_tonnes","Coal (electricity generation)","tonnes","Coal (electricity generation)_tonnes",2626.295481375771]
[null,null,null,"kWh (Net CV)",0.32610716337301782,0.32414929855672453,8.9243326420714568E-5,1.8686214898725197E-3,null,null,null,null,"kWh (Net CV)",5.3109999999999997E-2,null,"Coal (electricity generation)_kWh (Net CV)","Coal (electricity generation)","kWh (Net CV)","Coal (electricity generation)_kWh (Net CV)",0.37921716337301781]
[null,null,null,"kWh (Gross CV)",0.30980180520436684,0.30794183362888827,8.4781160099678835E-5,1.7751904153788939E-3,null,null,null,null,"kWh (Gross CV)",5.0450000000000002E-2,null,"Coal (electricity generation)_kWh (Gross CV)","Coal (electricity generation)","kWh (Gross CV)","Coal (electricity generation)_kWh (Gross CV)",0.36025180520436684]
[null,null,"Coal (domestic)","tonnes",2856.7025956572138,2634.1543231788069,185.41970747840699,37.128565000000002,null,null,null,"Coal (domestic)","tonnes",422.3,null,"Coal (domestic)_tonnes","Coal (domestic)","tonnes","Coal (domestic)_tonnes",3279.002595657214]
[null,null,null,"kWh (Net CV)",0.35925240956105647,0.33126524588043377,2.3317959941993566E-2,4.6692037386291668E-3,null,null,null,null,"kWh (Net CV)",5.3109999999999997E-2,null,"Coal (domestic)_kWh (Net CV)","Coal (domestic)","kWh (Net CV)","Coal (domestic)_kWh (Net CV)",0.41236240956105646]
[null,null,null,"kWh (Gross CV)",0.34128978908300367,0.31470198358641205,2.2152061944893886E-2,4.4357435516977073E-3,null,null,null,null,"kWh (Gross CV)",5.0450000000000002E-2,null,"Coal (domestic)_kWh (Gross CV)","Coal (domestic)","kWh (Gross CV)","Coal (domestic)_kWh (Gross CV)",0.39173978908300366]
[null,null,"Coking coal","tonnes",3265.081512513028,3197.5102371216581,49.875228201283818,17.696047190086091,null,null,null,"Coking coal","tonnes",446.1,null,"Coking coal_tonnes","Coking coal","tonnes","Coking coal_tonnes",3711.1815125130279]
[null,null,null,"kWh (Net CV)",0.38870018006076384,0.38065598060941674,5.9375271668147527E-3,2.1066722845323733E-3,null,null,null,null,"kWh (Net CV)",5.3109999999999997E-2,null,"Coking coal_kWh (Net CV)","Coking coal","kWh (Net CV)","Coking coal_kWh (Net CV)",0.44181018006076384]
[null,null,null,"kWh (Gross CV)",0.36926517105772566,0.36162318157894585,5.6406508084740148E-3,2.001338670305755E-3,null,null,null,null,"kWh (Gross CV)",5.0450000000000002E-2,null,"Coking coal_kWh (Gross CV)","Coking coal","kWh (Gross CV)","Coking coal_kWh (Gross CV)",0.41971517105772566]
[null,null,"Petroleum coke","tonnes",3375.2943407426656,3365.3238828966123,3.0148993223353751,6.9555585237180573,null,null,null,"Petroleum coke","tonnes",412,null,"Petroleum coke_tonnes","Petroleum coke","tonnes","Petroleum coke_tonnes",3787.2943407426656]
[null,null,null,"kWh (Net CV)",0.35767866556764039,0.35662209991811245,3.1948774168134554E-4,7.3707790784660848E-4,null,null,null,null,"kWh (Net CV)",4.3659999999999997E-2,null,"Petroleum coke_kWh (Net CV)","Petroleum coke","kWh (Net CV)","Petroleum coke_kWh (Net CV)",0.40133866556764036]
[null,null,null,"kWh (Gross CV)",0.33979473228925833,0.33879099492220677,3.0351335459727824E-4,7.0022401245427789E-4,null,null,null,null,"kWh (Gross CV)",4.1480000000000003E-2,null,"Petroleum coke_kWh (Gross CV)","Petroleum coke","kWh (Gross CV)","Petroleum coke_kWh (Gross CV)",0.38127473228925834]
[null,null,"Coal (electricity generation - home produced coal only)","tonnes",2258.4954813757709,2244.9360465108425,0.61806569159468994,12.941369173333324,null,null,null,"Coal (electricity generation - home produced coal only)","tonnes",352.2,null,"Coal (electricity generation - home produced coal only)_tonnes","Coal (electricity generation - home produced coal only)","tonnes","Coal (electricity generation - home produced coal only)_tonnes",2610.6954813757707]
[null,null,null,"kWh (Net CV)",0.34051254316571522,0.33846819209757234,9.3185539764809519E-5,1.951165528378106E-3,null,null,null,null,"kWh (Net CV)",5.3109999999999997E-2,null,"_kWh (Net CV)",null,"kWh (Net CV)","_kWh (Net CV)",0.39362254316571521]
[null,null,null,"kWh (Gross CV)",0.32348691600742946,0.32154478249269369,8.8526262776569045E-5,1.8536072519592006E-3,null,null,null,null,"kWh (Gross CV)",5.0450000000000002E-2,null,"_kWh (Gross CV)",null,"kWh (Gross CV)","_kWh (Gross CV)",0.37393691600742945]
[null,null,null,null,null,null,null,null,null,null,null,null,null,null,null,"_",null,null,"_"]
[null,null,null,null,null,null,null,null,null,null,null,null,null,null,null,0]
[null,"Bioenergy: direct emissions",null,null,null,null,null,null,null,null,"Bioenergy: WTT emissions",null,null,null,null,0]
[null,null,null,null,null,null,null,null,null,null,null,null,null,null,null,0]
[null,"Emissions source:","Bioenergy","Expiry:","31/06/2017","Factor set:","Full set",null,null,null,"Emissions source:","WTT- bioenergy","Expiry:","31/06/2017",null,0]
[null,"Scope:","Scope 1","Version:",{"$f":"[3]Introduction!C161","v":0},"Year:",2016,null,null,null,"Scope:","Scope 3","Version:",{"$f":"[3]Introduction!P161","v":0},null,0]
[null,null,null,null,null,null,null,null,null,null,null,null,null,null,null,0]
[null,"Bioenergy conversion factors should be used for the combustion of fuels produced from recently living sources (such as trees) at a site or in an asset under the direct control of the reporting organisation.",null,null,null,null,null,null,null,null,"Well-to-tank (WTT) bioenergy conversion factors should be used for the emissions associated with upstream Scope 3 extraction, refining and transportation of the bioenergy sources prior to their combustion.",null,null,null,null,0]
[null,null,null,null,null,null,null,null,null,null,null,null,null,null,null,0]
[null,"Guidance",null,null,null,null,null,null,null,null,"Guidance",null,null,null,null,0]
[null,"●  Within the Scope 1 conversion factors for biofuels, the CO2 emissions value is set as net ‘0’ to account for the CO2 absorbed by fast-growing bioenergy sources during their growth. The Scope 1 conversion factors presented in this listing contain values for N2O and CH4 emissions (which are not absorbed during growth).",null,null,null,null,null,null,null,null,"●  For conversion factors associated with the combustion of bioenergy sources themselves ,users should refer to the: ",null,null,null,null,0]
[null,"●  Although the Scope 1 conversion factors contain a ‘0’ value for CO2 emissions, organisations must account for the impact of the CO2 released through combustion of the fuel.  Organisations should refer to the ‘outside of scopes’ listing in the 'outside of scopes' tab to find the true values for CO2 emissions.  These emissions should be calculated in the same way as the Scope 1 emissions, but should be listed as a separate line item within its report called ‘outside of scopes’. This should not be included within the organisation's emissions total, but displayed separately within the emissions report. This ensures that the organisation is being transparent with regard to all potential sources of CO2 from its activities.   ",null,null,null,null,null,null,null,null,null,"- 'Bioenergy', and",null,null,null,0]
[null,"For more information refer to the ‘outside of scopes’ tab for guidance.",null,null,null,null,null,null,null,null,null,"- 'Outside of scopes' tabs.",null,null,null,0]
[null,null,null,null,null,null,null,null,null,null,null,null,null,null,null,0]
[null,"Example of calculating emissions from bioenergy",null,null,null,null,null,null,null,null,"Example of calculating emissions from WTT bioenergy",null,null,null,null,0]
[null,"Company B reports its emissions from standard biodiesel use in its delivery vehicles.  It has data on how many litres have been consumed and it needs to publicly report its Scope 1 emissions. ",null,null,null,null,null,null,null,null,"Company B elects to report its Scope 3 emissions for WTT biodiesel use. It has data on how many litres have been consumed.",null,null,null,null,0]
[null,"The activity data (litres of fuel) is multiplied by the appropriate conversion factor to produce company B's Scope 1 biodiesel emissions.",null,null,null,null,null,null,null,null,"The activity data (litres of fuel) are multiplied by the appropriate conversion factor to produce company B's Scope 3 WTT biodiesel emissions.",null,null,null,null,0]
[null,null,null,null,null,null,null,null,null,null,null,null,null,null,null,{"$f":"S193","v":0},null,null,null,"Scope 1 + WTT"]
[null,"Activity","Fuel","Unit","kg CO2e",null,null,null,null,null,"Activity","Fuel","Unit","kg CO2e",null,"Fuel_Unit","Fuel","Unit",{"$f":"CONCATENATE(Q194,S$63,R194)","v":"Fuel_Unit"},{"$f":"N194","v":"kg CO2e"}]
[null,"Biofuel","Bioethanol","litres",7.0400000000000003E-3,null,null,null,null,null,"WTT- biofuel","Bioethanol","litres",0.68713000000000002,null,"Bioethanol_litres","Bioethanol","litres","Bioethanol_litres",{"$f":"E195+N195","v":0.69417000000000006}]
[null,null,null,"GJ",0.33095000000000002,null,null,null,null,null,null,null,"GJ",32.279539999999997,null,"Bioethanol_GJ","Bioethanol","GJ","Bioethanol_GJ",32.610489999999999]
[null,null,null,"kg",8.8699999999999994E-3,null,null,null,null,null,null,null,"kg",0.86509000000000003,null,"Bioethanol_kg","Bioethanol","kg","Bioethanol_kg",0.87396000000000007]
[null,null,"Biodiesel","litres",1.9820000000000001E-2,null,null,null,null,null,null,"Biodiesel","litres",0.62156,null,"Biodiesel_litres","Biodiesel","litres","Biodiesel_litres",0.64137999999999995]
[null,null,null,"GJ",0.59872000000000003,null,null,null,null,null,null,null,"GJ",18.78058,null,"Biodiesel_GJ","Biodiesel","GJ","Biodiesel_GJ",19.379300000000001]
[null,null,null,"kg",2.2270000000000002E-2,null,null,null,null,null,null,null,"kg",0.69864000000000004,null,"Biodiesel_kg","Biodiesel","kg","Biodiesel_kg",0.72091000000000005]
[null,null,"Biomethane","litres",null,null,null,null,null,null,null,"Biomethane","litres",null,null,"Biomethane_litres","Biomethane","litres","Biomethane_litres",0]
[null,null,null,"GJ",0.1085,null,null,null,null,null,null,null,"GJ",10,null,"Biomethane_GJ","Biomethane","GJ","Biomethane_GJ",10.108499999999999]
[null,null,null,"kg",5.3200000000000001E-3,null,null,null,null,null,null,null,"kg",0.49,null,"Biomethane_kg","Biomethane","kg","Biomethane_kg",0.49531999999999998]
[null,null,"Biodiesel (from used cooking oil)","litres",1.9820000000000001E-2,null,null,null,null,null,null,"Biodiesel (from used cooking oil)","litres",0.47527999999999998,null,"Biodiesel (from used cooking oil)_litres","Biodiesel (from used cooking oil)","litres","Biodiesel (from used cooking oil)_litres",0.49509999999999998]
[null,null,null,"GJ",0.59872000000000003,null,null,null,null,null,null,null,"GJ",14.3606,null,"Biodiesel (from used cooking oil)_GJ","Biodiesel (from used cooking oil)","GJ","Biodiesel (from used cooking oil)_GJ",14.95932]
[null,null,null,"kg",2.2270000000000002E-2,null,null,null,null,null,null,null,"kg",0.53420999999999996,null,"Biodiesel (from used cooking oil)_kg","Biodiesel (from used cooking oil)","kg","Biodiesel (from used cooking oil)_kg",0.55647999999999997]
[null,null,"Biodiesel (from tallow)","litres",1.9820000000000001E-2,null,null,null,null,null,null,"Biodiesel (from tallow)","litres",0.46731,null,"Biodiesel (from tallow)_litres","Biodiesel (from tallow)","litres","Biodiesel (from tallow)_litres",0.48713000000000001]
[null,null,null,"GJ",0.59872000000000003,null,null,null,null,null,null,null,"GJ",14.119809999999999,null,"Biodiesel (from tallow)_GJ","Biodiesel (from tallow)","GJ","Biodiesel (from tallow)_GJ",14.718529999999999]
[null,null,null,"kg",2.2270000000000002E-2,null,null,null,null,null,null,null,"kg",0.52525999999999995,null,"Biodiesel (from tallow)_kg","Biodiesel (from tallow)","kg","Biodiesel (from tallow)_kg",0.54752999999999996]
[null,null,null,null,null,null,null,null,null,null,null,null,null,null,null,"_",null,null,"_",0]
[null,null,null,null,null,null,null,null,null,null,null,null,null,null,null,"_",null,null,"_",0]
[null,null,null,null,null,null,null,null,null,null,null,null,null,null,null,"_",null,null,"_",0]
[null,"Activity","Fuel","Unit","kg CO2e",null,null,null,null,null,"Activity","Fuel","Unit","kg CO2e",null,"Fuel_Unit","Fuel","Unit","Fuel_Unit"]
[null,"Biomass","Wood logs","tonnes",53.353769999999997,null,null,null,null,null,"WTT- biomass","Wood logs","tonnes",52.14,null,"Wood logs_tonnes","Wood logs","tonnes","Wood logs_tonnes",{"$f":"E214+N214","v":105.49377}]
[null,null,null,"kWh",1.307E-2,null,null,null,null,null,null,null,"kWh",1.277E-2,null,"Wood logs_kWh","Wood logs","kWh","Wood logs_kWh",2.5840000000000002E-2]
[null,null,"Wood chips","tonnes",49.361310000000003,null,null,null,null,null,null,"Wood chips","tonnes",30.4,null,"Wood chips_tonnes","Wood chips","tonnes","Wood chips_tonnes",79.761310000000009]
[null,null,null,"kWh",1.307E-2,null,null,null,null,null,null,null,"kWh",7.92E-3,null,"Wood chips_kWh","Wood chips","kWh","Wood chips_kWh",2.0990000000000002E-2]
[null,null,"Wood pellets","tonnes",55.531480000000002,null,null,null,null,null,null,"Wood pellets","tonnes",177,null,"Wood pellets_tonnes","Wood pellets","tonnes","Wood pellets_tonnes",232.53147999999999]
[null,null,null,"kWh",1.307E-2,null,null,null,null,null,null,null,"kWh",3.7440000000000001E-2,null,"Wood pellets_kWh","Wood pellets","kWh","Wood pellets_kWh",5.0509999999999999E-2]
[null,null,"Grass/straw","tonnes",93.250910000000005,null,null,null,null,null,null,"Grass/straw","tonnes",68.650000000000006,null,"Grass/straw_tonnes","Grass/straw","tonnes","Grass/straw_tonnes",161.90091000000001]
[null,null,null,"kWh",2.5049999999999999E-2,null,null,null,null,null,null,null,"kWh",1.6039999999999999E-2,null,"Grass/straw_kWh","Grass/straw","kWh","Grass/straw_kWh",4.1090000000000002E-2]
[null,null,null,null,null,null,null,null,null,null,null,null,null,null,null,"_",null,null,"_"]
[null,null,null,null,null,null,null,null,null,null,null,null,null,null,null,"_",null,null,"_"]
[null,null,null,null,null,null,null,null,null,null,null,null,null,null,null,"_",null,null,"_"]
[null,"Activity","Fuel","Unit","kg CO2e",null,null,null,null,null,"Activity","Fuel","Unit","kg CO2e",null,"Fuel_Unit","Fuel","Unit","Fuel_Unit"]
[null,"Biogas","Biogas","tonnes",1.9544900000000001,null,null,null,null,null,"WTT- biogas","Biogas","tonnes",331,null,"Biogas_tonnes","Biogas","tonnes","Biogas_tonnes",{"$f":"E226+N226","v":332.95449000000002}]
[null,null,null,"kWh",2.3000000000000001E-4,null,null,null,null,null,null,null,"kWh",2.6419999999999999E-2,null,"Biogas_kWh","Biogas","kWh","Biogas_kWh",{"$f":"E227+N227","v":2.665E-2}]
[null,null,"Landfill gas","tonnes",1.6925300000000001,null,null,null,null,null,null,"Landfill gas","tonnes",0,null,"Landfill gas_tonnes","Landfill gas","tonnes","Landfill gas_tonnes",{"$f":"E228+N228","v":1.6925300000000001}]
[null,null,null,"kWh",2.0000000000000001E-4,null,null,null,null,null,null,null,"kWh",0,null,"Landfill gas_kWh","Landfill gas","kWh","Landfill gas_kWh",{"$f":"E229+N229","v":2.0000000000000001E-4}]
[]
[]
[null,"FAQs"]
[null,"I need a conversion factor for my specific % biofuel blend, rather than the “average biofuel blend” factor that is reported here."]
[null,"The steps taken to calculate this by hand are straightforward and can be illustrated using the following worked example (consistent for all biofuels, conventional fuels, scopes and units):\n\nCompany B wants to report on its Scope 1 fuel emissions (in kgCO2e/litre) from a specific biodiesel blend of Z%. Using 2016 values, it is known that:\n●100% mineral diesel conversion factor = 2.676 kgCO2e/litre\n●100% biodiesel conversion factor = 0.020 kgCO2e/litre\n\nTherefore, Z% biodiesel blend conversion factor = ( Z% x 0.020) + [(1-Z%) x 2.676]",null,null,null,null,null,null,null,null,"FAQs"]
[null,"For information about how the conversion factors have been derived, please refer to the 'Methodology paper' that accompanies the conversion factors."]
[null,"I need a conversion factor for my specific % biofuel blend, rather than the “average biofuel blend” factor that is reported here.",null,null,null,null,null,null,null,null,"We provide a specific conversion table at the end of these listings to allow organisations to convert the conversion factors into different units where required. Please see the ‘Conversions’ sheet."]
[null,"The steps taken to calculate this by hand are straightforward and can be illustrated using the following worked example (consistent for all biofuels, conventional fuels, scopes and units):\n\nCompany B wants to report on its Scope 1 fuel emissions (in kgCO2e/litre) from a specific biodiesel blend of Z%. Using 2016 values, it is known that:\n●100% mineral diesel conversion factor = 2.676 kgCO2e/litre\n●100% biodiesel conversion factor = 0.020 kgCO2e/litre\n\nTherefore, Z% biodiesel blend conversion factor = ( Z% x 0.020) + [(1-Z%) x 2.676]",null,null,null,null,null,null,null,null,"For information about how the conversion factors have been derived, please refer to the 'Methodology paper' that accompanies the conversion factors."]
[null,"For information about how the conversion factors have been derived, please refer to the 'Methodology paper' that accompanies the conversion factors."]
[]
[]
[null,"References"]
[null,"UK BEIS (2016) Government GHG Conversion Factors for Company Reporting: Methodology Paper for Emission Factors. September 2016. London: UK Department of Business, Energy & Industrial Strategy"]

{"sheet":"Fert EFs","index":8,"n_rows":69,"n_cols":71,"rows_kept":69,"cut":false,"hidden":true,"merged":[]}
[]
[null,null,null,"Carbon footprint of synthetic fertilisers (Kool et al. 2012, p9-10)",null,null,null,null,null,null,null,null,null,null,null,null,null,null,null,null,null,null,null,null,null,null,null,null,null,null,null,null,null,null,null,null,null,null,null,null,null,null,null,null,null,null,null,null,"Manure composition:",null,null,null,null,null,null,null,"Kool et al. (2012)"]
[null,null,null,null,null,"N","N","N","N","N","N","P","P","P","K","K","NP","NP","NPK","NPK","NK","PK",null,null,null,null,null,null,null,null,null,null,null,null,null,null,null,null,null,null,null,null,null,null,null,null,null,null,"IPCC 2006?",null,null,"FMH p5"]
[null,null,null,null,null,"kgCO2e/kgN","kgCO2e/kgN","kgCO2e/kgN","kgCO2e/kgN","kgCO2e/kgN","kgCO2e/kgN","kgCO2e/kgP2O5","kgCO2e/kgP2O5","kgCO2e/kgP2O5","kgCO2e/kgK2O","kgCO2e/kgK2O","kgCO2e/kgN","kgCO2e/kgN","kgCO2e/kgN","kgCO2e/kgN","kgCO2e/kgN","kgCO2e/kgP2O5",null,null,null,null,null,null,null,null,null,null,null,null,null,null,null,null,null,null,null,null,null,null,null,null,null,null,"Defra (2016c, p84, Table D2.2)",null,null,null,null,null,null,null,null,null,null,null,null,null,null,null,null,null,"TABLE 6: AVERAGE EMISSION FACTORS FROM PRODUCTION AND TRANSPORT OF N, P2O5, K2O AND LIME (Ref 1, p15)"]
[null,null,null,null,"Inert","Urea","Nitrogen solutions (liquid UAN)","Anhydrous Ammonia","Ammonium Nitrate","Calcium Ammonium Nitrate","Ammonium Sulphate","Triple Super Phosphate","Single Super Phosphate","Ground rock","Potassium chloride","Potassium sulphate","Mono-Ammonium Phosphate (MAP)","Di-Ammonium Phosphate (DAP)","NPK compound (based on AN, AP and MOP)","NPK compound (based on Urea, TSP & MOP)","NK compound (based on nitric acid and MOP)","PK",null,null,"Synthetic fertilizers kgCO2e/kg fertilizer",null,null,null,"Organic fertilizers kgCO2e/kg fertilizer",null,null,null,null,null,null,null,null,null,null,null,null,null,null,null,null,null,null,null,null,null,null,null,null,null,null,null,null,null,null,null,null,null,null,null,null,null,"Region","Nitrogen","P2O5","K2O","Lime"]
[null,null,null,"World average",null,5,7.27,4.21,9.4700000000000006,9.51,3.33,0.45,0.16,0.23,0.69,0.23,4.75,4.5199999999999996,9.1199999999999992,6.19,19.600000000000001,1.19,null,null,"Urea",null,null,null,"Cattle manure-fresh",null,null,null,null,null,null,null,null,null,null,null,null,null,null,null,null,null,null,null,null,null,null,null,null,null,null,null,null,null,null,null,null,null,null,null,null,null,"Global Average",5.66,1.36,1.36,7.3999999999999996E-2]
[null,null,null,"Western Europe",null,3.49,5.77,2.85,7.99,8.0299999999999994,2.14,0.36,0.13,0.19,0.56000000000000005,0.19,3.29,3.1,7.47,4.45,17.100000000000001,0.97,null,null,"Urea Ammonium Nitrate",null,null,null,"Cattle manure-dried",null,null,null,null,null,null,null,null,null,null,null,null,null,null,null,null,null,null,null,null,null,null,null,null,null,null,null,null,null,null,null,null,null,null,null,null,null,"W. Europe",5.62,1.47,1.45]
[null,null,null,"Russia and central Europe",null,4.82,7.08,4.04,9.2799999999999994,9.33,3.18,0.44,0.16,0.23,0.68,0.23,4.57,4.34,8.92,5.98,19.3,1.17,null,null,"Anhydrous Ammonia",null,null,null,"Buffalo manure-fresh",null,null,null,null,null,null,null,null,null,null,null,null,null,null,null,null,null,null,null,null,null,null,null,null,null,null,null,null,null,null,null,null,null,null,null,null,null,"E. Europe Inc. Russia",6.87,1.57,0.61]
[null,null,null,"North America",null,3.75,6.04,3.11,8.27,8.31,2.4,0.36,1.3,0.19,0.56000000000000005,0.19,3.55,3.36,7.75,4.71,17.3,0.97,null,null,"Ammonium Nitrate",null,null,null,"Buffalo manure-dried",null,null,null,null,null,null,null,null,null,null,null,null,null,null,null,null,null,null,null,null,null,null,null,null,null,null,null,null,null,null,null,null,null,null,null,null,null,"Central & S. America",3.53,0.54,1.02]
[null,null,null,"China and India",null,7.41,9.65,6.36,11.8,11.86,5.2,0.59,0.21,0.31,0.91,0.31,7.06,6.76,11.75,8.98,23.7,1.57,null,null,"Calcium Ammonium Nitrate",null,null,null,"Pig manure-fresh",null,null,null,null,null,null,null,null,null,null,null,null,null,null,null,null,null,null,null,null,null,null,null,null,null,null,null,null,null,null,null,null,null,null,null,null,null,"Asia",4,1.29,1.47]
[null,null,null,"Rest of world",null,3.63,5.91,2.99,8.14,8.18,2.2799999999999998,0.36,0.13,0.19,0.56000000000000005,0.19,3.42,3.24,7.62,4.59,17.100000000000001,0.97,null,null,"Dry Ammonium Sulphate",null,null,null,"Pig manure-dried",null,null,null,null,null,null,null,null,null,null,null,null,null,null,null,null,null,null,null,null,null,null,null,null,null,null,null,null,null,null,null,null,null,null,null,null,null,"Australia",6.92,1.66,1.63]
[null,null,null,null,null,null,null,null,null,null,null,null,null,null,null,null,null,null,null,null,null,null,null,null,"Triple Super Phosphate",null,null,null,"Sheep manure - fresh",null,null,null,null,null,null,null,null,null,null,null,null,null,null,null,null,null,null,null,null,null,null,null,null,null,null,null,null,null,null,null,null,null,null,null,null,null,"New Zealand",3.06,1.1399999999999999,0.74]
[null,null,null,"Fertiliser N content",0,0.45,0.3,0.82,0.34,0.24,0.21,null,null,null,null,null,0.11,0.18,{"$f":"SUMPRODUCT(E13:R13,E22:R22)/SUM(E22:R22)","v":0.15785356068204615},{"$f":"SUMPRODUCT(E13:R13,E23:R23)/SUM(E23:R23)","v":0.14849999999999999},0.13,0,null,null,"Single Super Phosphate",null,null,null,"Sheep manure - dried",null,null,null,null,null,null,null,null,null,null,null,null,null,null,null,null,null,null,null,null,null,null,null,null,null,null,null,null,null,null,null,null,null,null,null,null,null,"Source: Kool et al. (2012); Data on New Zealand taken from Barber et al. (2011)."]
[null,null,null,"Fertiliser P2O5 content",0,null,null,null,null,null,null,0.46,0.2,0.38,null,null,null,null,null,null,0,0.52,null,null,"Ground rock",null,null,null,"Goat manure - fresh"]
[null,null,null,"Fertiliser K2O content",0,null,null,null,null,null,null,null,null,null,0.6,0.5,null,null,null,null,0.46,0.34,null,null,"Potassium chloride",null,null,null,"Goat manure - dried",null,null,null,null,null,null,null,null,null,null,null,null,null,null,null,null,null,null,null,null,null,null,null,null,null,null,null,null,null,null,null,null,null,null,null,null,null,null,"Nitrogen","P2O5","K2O","Lime"]
[null,null,null,"Sources",null,null,null,null,null,null,null,null,null,null,null,null,null,null,null,null,8,8,null,null,"Potassium sulphate",null,null,null,"Duck manure-fresh",null,null,null,null,null,null,null,null,null,null,null,null,null,null,null,null,null,null,null,"Organic fertilisers",null,null,null,null,null,null,null,null,null,null,null,null,null,null,null,null,"lac","Latin America and the Caribbean",{"$f":"BP9","v":3.53},{"$f":"BQ9","v":0.54},1.02,{"$f":"BS$6","v":7.3999999999999996E-2}]
[null,null,null,"Fertiliser N content",null,4,4,4,4,5,4,null,null,null,null,null,4,4,"calculated","calculated",8,8,null,null,"MAP",null,null,null,"Duck manure-dried",null,null,null,null,null,null,null,null,null,null,null,null,null,null,null,null,null,null,null,"Livestock manures","Cattle manure-fresh",null,null,null,null,null,null,null,null,null,null,null,null,null,null,null,"ssa","Sub-Saharan Africa",{"$f":"BP6","v":5.66},{"$f":"BQ6","v":1.36},1.36,{"$f":"BS$6","v":7.3999999999999996E-2}]
[null,null,null,"Fertiliser P2O5 content",null,null,null,null,null,null,null,7,6,6,null,null,null,null,null,null,8,8,null,null,"DAP",null,null,null,"Layer hen manure-fresh",null,null,null,null,null,null,null,null,null,null,null,null,null,null,null,null,null,null,null,"Livestock manures","Cattle manure-dried",null,null,null,null,null,null,null,null,null,null,null,null,null,null,null,"nena","Near East and North Africa",{"$f":"BP6","v":5.66},{"$f":"BQ6","v":1.36},1.36,{"$f":"BS$6","v":7.3999999999999996E-2}]
[null,null,null,"Fertiliser K2O content",null,null,null,null,null,null,null,null,null,null,7,7,null,null,null,null,null,null,null,null,"NPK (based on AN)",null,null,null,"Layer hen manure-dried",null,null,null,null,null,null,null,null,null,null,null,null,null,null,null,null,null,null,null,"Livestock manures","Buffalo manure-fresh"]
[null,null,null,null,null,null,null,null,null,null,null,null,null,null,null,null,null,null,null,null,null,null,null,null,"NPK (based on Urea)",null,null,null,"Broiler litter",null,null,null,null,null,null,null,null,null,null,null,null,null,null,null,null,null,null,null,"Livestock manures","Buffalo manure-dried"]
[null,null,null,"Composition of compound fertilisers (p8)",null,null,null,null,null,null,null,null,null,null,null,null,null,null,null,null,null,null,null,null,"NK (nitric acid and MOP)",null,null,null,"Cattle slurry",null,null,null,null,null,null,null,null,null,null,null,null,null,null,null,null,null,null,null,"Livestock manures","Pig manure-fresh"]
[null,null,null,"NPK compound (based on AN, AP and MOP)",110,null,null,null,330,null,null,null,null,null,250,null,144,163,null,null,null,null,null,null,"PK",null,null,null,"Pig slurry",null,null,null,null,null,null,null,null,null,null,null,null,null,null,null,null,null,null,null,"Livestock manures","Pig manure-dried"]
[null,null,null,"NPK compound (based on Urea, TSP & MOP)",110,330,null,null,null,null,null,310,null,null,250,null,null,null,null,null,null,null,null,null,null,null,null,null,null,null,null,null,null,null,null,null,null,null,null,null,null,null,null,null,null,null,null,null,"Livestock manures","Sheep manure - fresh"]
[null,null,null,null,null,null,null,null,null,null,null,null,null,null,null,null,null,null,null,null,null,null,null,null,null,null,null,null,null,null,null,null,null,null,null,null,null,null,null,null,null,null,null,null,null,null,null,null,"Livestock manures","Sheep manure - dried"]
[null,null,null,null,null,null,null,null,null,null,null,null,null,null,null,null,null,null,null,null,null,null,null,null,null,null,null,null,null,null,null,null,null,null,null,null,null,null,null,null,null,null,null,null,null,null,null,null,"Livestock manures","Goat manure - fresh"]
[null,null,null,null,null,null,null,null,null,null,null,null,null,null,null,null,null,null,null,null,null,null,null,null,null,null,null,null,null,null,null,null,null,null,null,null,null,null,null,null,null,null,null,null,null,null,null,null,"Livestock manures","Goat manure - dried",null,null,null,null,null,null,null,null,null,null,null,null,null,null,null,"sa","South Asia",{"$f":"BP10","v":4},{"$f":"BQ10","v":1.29},1.47,{"$f":"BS$6","v":7.3999999999999996E-2}]
[null,null,null,null,null,"EF expressed per kg of fertilizer (rather than per kg of N, P2O5 or K20)",null,null,null,null,null,null,null,null,null,null,null,null,null,null,null,null,null,null,null,null,null,null,null,null,null,null,null,null,null,null,null,null,null,null,null,null,null,null,null,null,null,null,"Livestock manures","Duck manure-fresh",null,null,null,null,null,null,null,null,null,null,null,null,null,null,null,"ee","Eastern Europe",{"$f":"BP8","v":6.87},{"$f":"BQ8","v":1.57},0.61,7.3999999999999996E-2]
[null,null,null,null,null,"Urea","Urea Ammonium Nitrate","Anhydrous Ammonia","Ammonium Nitrate","Calcium Ammonium Nitrate","Dry Ammonium Sulphate","Triple Super Phosphate","Single Super Phosphate","Ground rock","Potassium chloride","Potassium sulphate","Mono-Ammonium Phosphate (MAP)","Di-Ammonium Phosphate (DAP)","NPK compound (based on AN, AP and MOP)","NPK compound (based on Urea, TSP & MOP)","NK compound (based on nitric acid and MOP)","PK",null,null,null,null,null,null,null,null,null,null,null,null,null,null,null,null,null,null,null,null,null,null,null,null,null,null,"Livestock manures","Duck manure-dried",null,null,null,null,null,null,null,null,null,null,null,null,null,null,null,"rus","Russian Federation",{"$f":"BP8","v":6.87},{"$f":"BQ8","v":1.57},0.61,7.3999999999999996E-2]
[null,null,null,"World average",null,{"$f":"F6*F$13","v":2.25},{"$f":"G6*G$13","v":2.1809999999999996},3.4521999999999999,3.2198000000000007,2.2824,0.69930000000000003,{"$f":"L6*L$14","v":0.20700000000000002},{"$f":"M6*M$14","v":3.2000000000000001E-2},8.7400000000000005E-2,{"$f":"O6*O$15","v":0.41399999999999998},{"$f":"P6*P$15","v":0.115},{"$f":"Q6*Q$13","v":0.52249999999999996},{"$f":"R6*R$13","v":0.81359999999999988},1.4396244734202608,0.919215,{"$f":"U6*U$13","v":2.5480000000000005},{"$f":"V6*V$14","v":0.61880000000000002},null,null,null,null,null,null,null,null,null,null,null,null,null,null,null,null,null,null,null,null,null,null,null,null,null,null,"Livestock manures","Layer hen manure-fresh",null,null,null,null,null,null,null,null,null,null,null,null,null,null,null,"esea","East Asia and Southeast Asia",{"$f":"BP10","v":4},{"$f":"BQ10","v":1.29},1.47,7.3999999999999996E-2]
[" ",null,null,"Western Europe",null,{"$f":"F7*F$13","v":1.5705000000000002},1.7309999999999999,2.3369999999999997,2.7166000000000001,1.9271999999999998,0.44940000000000002,{"$f":"L7*L$14","v":0.1656},2.6000000000000002E-2,7.22E-2,{"$f":"O7*O$15","v":0.33600000000000002},9.5000000000000001E-2,{"$f":"Q7*Q$13","v":0.3619},0.55799999999999994,1.1791660982948846,0.660825,2.2230000000000003,{"$f":"V7*V$14","v":0.50439999999999996},null,null,null,null,null,null,null,null,null,null,null,null,null,null,null,null,null,null,null,null,null,null,null,null,null,null,"Livestock manures","Layer hen manure-fresh-dried",null,null,null,null,null,null,null,null,null,null,null,null,null,null,null,"oc","Oceania",{"$f":"AVERAGE(BP11:BP12)","v":4.99},{"$f":"AVERAGE(BQ11:BQ12)","v":1.4},1.1850000000000001,7.3999999999999996E-2]
[null,null,null,"Russia and central Europe",null,2.169,2.1240000000000001,3.3127999999999997,3.1552000000000002,2.2391999999999999,0.66780000000000006,0.2024,3.2000000000000001E-2,8.7400000000000005E-2,0.40800000000000003,0.115,0.50270000000000004,0.78119999999999989,1.4080537612838515,{"$f":"T8*T$13","v":0.88802999999999999},{"$f":"U8*U$13","v":2.5090000000000003},0.60839999999999994,null,null,null,null,null,null,null,null,null,null,null,null,null,null,null,null,null,null,null,null,null,null,null,null,null,null,"Livestock manures","Broiler litter",null,null,null,null,null,null,null,null,null,null,null,null,null,null,null,"we","Western Europe",{"$f":"BP7","v":5.62},{"$f":"BQ7","v":1.47},1.45,7.3999999999999996E-2]
[null,null,null,"North America",null,1.6875,1.8119999999999998,2.5501999999999998,2.8117999999999999,1.9944,0.504,0.1656,0.26,7.22E-2,0.33600000000000002,9.5000000000000001E-2,0.39049999999999996,0.6048,1.2233650952858577,0.69943499999999992,2.2490000000000001,0.50439999999999996,null,null,null,null,null,null,null,null,null,null,null,null,null,null,null,null,null,null,null,null,null,null,null,null,null,null,"Livestock manures","Cattle slurry",null,null,null,null,null,null,null,null,null,null,null,null,null,null,null,"nam","North America",{"$f":"BP6","v":5.66},{"$f":"BQ6","v":1.36},1.36,7.3999999999999996E-2]
[null,null,null,"China and India",null,3.3345000000000002,2.895,5.2152000000000003,4.0120000000000005,2.8463999999999996,1.0920000000000001,0.27139999999999997,4.2000000000000003E-2,0.1178,0.54600000000000004,0.155,0.77659999999999996,1.2167999999999999,1.8547793380140423,1.3335300000000001,3.081,0.81640000000000001,null,null,null,null,null,null,null,null,null,null,null,null,null,null,null,null,null,null,null,null,null,null,null,null,null,null,"Livestock manures","Pig slurry"]
[null,null,null,"Rest of world",null,1.6335,1.7729999999999999,2.4518,2.7676000000000003,1.9631999999999998,0.47879999999999995,{"$f":"L11*L$14","v":0.1656},{"$f":"M11*M$14","v":2.6000000000000002E-2},7.22E-2,{"$f":"O11*O$15","v":0.33600000000000002},{"$f":"P11*P$15","v":9.5000000000000001E-2},0.37619999999999998,0.58320000000000005,1.2028441323971917,0.68161499999999997,2.2230000000000003,0.50439999999999996]
[null,null,null,null,null,null,null,null,null,null,null,null,null,null,null,null,null,null,null,null,null,null,null,null,null,null,null,null,null,null,null,null,null,null,null,null,null,null,null,null,null,null,null,null,null,null,null,null,"Compost","Green"]
[null,null,null,null,null,null,null,null,null,null,null,null,null,null,null,null,null,null,null,null,null,null,null,null,null,null,null,null,null,null,null,null,null,null,null,null,null,null,null,null,null,null,null,null,null,null,null,null,"Compost","Food waste"]
[null,null,null,1,2,3,4,5,6,7,8,9,10,11,12,13,14,15,16,17,18,19,null,null,1,2,3,4,5,6,7,8,9,10,11,12,13,14,15,16,17,18,null,null,null,null,null,null,"Crop residues"]
[null,null,null,null,null,"Synthetic fertilizers kgCO2e/kg fertilizer",null,null,null,null,null,null,null,null,null,null,null,null,null,null,null,null,null,null,null,"Organic fertilizers kgCO2e/kg fertilizer",null,null,null,null,null,null,null,null,null,null,null,null,null,null,null,null,null,null,null,null,null,null,"Other","Human sewage"]
[null,null,null,"FAO region",null,"Urea","Urea Ammonium Nitrate","Anhydrous Ammonia","Ammonium Nitrate","Calcium Ammonium Nitrate","Dry Ammonium Sulphate","Triple Super Phosphate","Single Super Phosphate","Ground rock","Potassium chloride","Potassium sulphate","MAP","DAP","NPK (based on AN)","NPK (based on Urea)","NK (nitric acid and MOP)","PK",null,null,"FAO region","Cattle manure-fresh","Cattle manure-dried","Buffalo manure-fresh","Buffalo manure-dried","Pig manure-fresh","Pig manure-dried","Sheep manure - fresh","Sheep manure - dried","Goat manure - fresh","Goat manure - dried","Duck manure-fresh","Duck manure-dried","Layer hen manure-fresh","Layer hen manure-dried","Broiler litter","Cattle slurry","Pig slurry"]
[null,null,1,"North America",null,{"$f":"F32","v":1.6875},{"$f":"G32","v":1.8119999999999998},2.5501999999999998,2.8117999999999999,1.9944,0.504,0.1656,0.26,7.22E-2,0.33600000000000002,9.5000000000000001E-2,0.39049999999999996,0.6048,1.2233650952858577,0.69943499999999992,2.2490000000000001,0.50439999999999996,null,1,"North America",0,0,0,0,0,0,0,0,0,0,0,0,0,0,0,0,0]
[null,null,2,"Russian Federation",null,{"$f":"F31","v":2.169},{"$f":"G31","v":2.1240000000000001},3.3127999999999997,3.1552000000000002,2.2391999999999999,0.66780000000000006,0.2024,3.2000000000000001E-2,8.7400000000000005E-2,0.40800000000000003,0.115,0.50270000000000004,0.78119999999999989,1.4080537612838515,0.88802999999999999,2.5090000000000003,0.60839999999999994,null,2,"Russian Federation",0,0,0,0,0,0,0,0,0,0,0,0,0,0,0,0,0]
[null,null,3,"Western Europe",null,{"$f":"F30","v":1.5705000000000002},{"$f":"G30","v":1.7309999999999999},2.3369999999999997,2.7166000000000001,1.9271999999999998,0.44940000000000002,0.1656,2.6000000000000002E-2,7.22E-2,0.33600000000000002,9.5000000000000001E-2,0.3619,0.55799999999999994,1.1791660982948846,0.660825,2.2230000000000003,0.50439999999999996,null,3,"Western Europe",0,0,0,0,0,0,0,0,0,0,0,0,0,0,0,0,0]
[null,null,4,"Eastern Europe",null,{"$f":"F31","v":2.169},{"$f":"G31","v":2.1240000000000001},3.3127999999999997,3.1552000000000002,2.2391999999999999,0.66780000000000006,0.2024,3.2000000000000001E-2,8.7400000000000005E-2,0.40800000000000003,0.115,0.50270000000000004,0.78119999999999989,1.4080537612838515,0.88802999999999999,2.5090000000000003,0.60839999999999994,null,4,"Eastern Europe",0,0,0,0,0,0,0,0,0,0,0,0,0,0,0,0,0]
[null,null,5,"Near East and North Africa",null,{"$f":"F34","v":1.6335},{"$f":"G34","v":1.7729999999999999},2.4518,2.7676000000000003,1.9631999999999998,0.47879999999999995,0.1656,2.6000000000000002E-2,7.22E-2,0.33600000000000002,9.5000000000000001E-2,0.37619999999999998,0.58320000000000005,1.2028441323971917,0.68161499999999997,2.2230000000000003,0.50439999999999996,null,5,"Near East and North Africa",0,0,0,0,0,0,0,0,0,0,0,0,0,0,0,0,0]
[null,null,6,"East Asia and Southeast Asia",null,{"$f":"F33","v":3.3345000000000002},{"$f":"G33","v":2.895},5.2152000000000003,4.0120000000000005,2.8463999999999996,1.0920000000000001,0.27139999999999997,4.2000000000000003E-2,0.1178,0.54600000000000004,0.155,0.77659999999999996,1.2167999999999999,1.8547793380140423,1.3335300000000001,3.081,0.81640000000000001,null,6,"East Asia and Southeast Asia",0,0,0,0,0,0,0,0,0,0,0,0,0,0,0,0,0]
[null,null,7,"Oceania",null,{"$f":"F34","v":1.6335},{"$f":"G34","v":1.7729999999999999},2.4518,2.7676000000000003,1.9631999999999998,0.47879999999999995,0.1656,2.6000000000000002E-2,7.22E-2,0.33600000000000002,9.5000000000000001E-2,0.37619999999999998,0.58320000000000005,1.2028441323971917,0.68161499999999997,2.2230000000000003,0.50439999999999996,null,7,"Oceania",0,0,0,0,0,0,0,0,0,0,0,0,0,0,0,0,0]
[null,null,8,"South Asia",null,{"$f":"F33","v":3.3345000000000002},{"$f":"G33","v":2.895},5.2152000000000003,4.0120000000000005,2.8463999999999996,1.0920000000000001,0.27139999999999997,4.2000000000000003E-2,0.1178,0.54600000000000004,0.155,0.77659999999999996,1.2167999999999999,1.8547793380140423,1.3335300000000001,3.081,0.81640000000000001,null,8,"South Asia",0,0,0,0,0,0,0,0,0,0,0,0,0,0,0,0,0]
[null,null,9,"Latin America and the Caribbean",null,{"$f":"F34","v":1.6335},{"$f":"G34","v":1.7729999999999999},2.4518,2.7676000000000003,1.9631999999999998,0.47879999999999995,0.1656,2.6000000000000002E-2,7.22E-2,0.33600000000000002,9.5000000000000001E-2,0.37619999999999998,0.58320000000000005,1.2028441323971917,0.68161499999999997,2.2230000000000003,0.50439999999999996,null,9,"Latin America and the Caribbean",0,0,0,0,0,0,0,0,0,0,0,0,0,0,0,0,0]
[null,null,10,"Sub-Saharan Africa",null,{"$f":"F34","v":1.6335},{"$f":"G34","v":1.7729999999999999},2.4518,2.7676000000000003,1.9631999999999998,0.47879999999999995,0.1656,2.6000000000000002E-2,7.22E-2,0.33600000000000002,9.5000000000000001E-2,0.37619999999999998,0.58320000000000005,1.2028441323971917,0.68161499999999997,2.2230000000000003,0.50439999999999996,null,10,"Sub-Saharan Africa",0,0,0,0,0,0,0,0,0,0,0,0,0,0,0,0,0]
[]
[]
[null,null,null,"Carbon footprint of lime"]
[null,null,null,"\"The most commonly used liming compounds are quicklime (CaO), caustic or slaked lime (Ca(OH)2) and agricultural lime (CaCO3) \" (ref 9)"]
[]
[null,null,null,"Agricultural lime (CaCO3)",7.3999999999999996E-2,"kgCO2e/kg CaCO3","Konshaug 1998, cited in Kool et al 2012, p12"]
[null,null,null,"Quicklime"]
[null,null,null,"Slaked lime"]
[]
[]
[null,null,null,"References"]
[null,null,1,"FAO (2015) Global database of GHG emissions related to feed crops: A life cycle inventory"]
[null,null,2,"A. Kool, M. Marinussen and H. Blonk (2012) LCI data for the calculation tool Feedprint for greenhouse gas emissions of feed production and utilization GHG Emissions of N, P and K fertilizer production Gouda: Blonk Consultants"]
[null,null,3,"Defra (2016c) The British Survey of Fertiliser Practice: Fertiliser Use on Farm Crops for Crop Year 2015 London: Defra"]
[null,null,4,"Cornell University Cooperative Extension (2009) Agronomy Fact Sheet Series Fact Sheet 44 Nitrogen Fertilizers for Field Crops"]
[null,null,5,"Wikipedia \"Calcium ammonium nitrate\""]
[null,null,6,"University of Minnesota (2002) \"Understanding phosphorous fertilizers\", http://www.extension.umn.edu/agriculture/nutrient-management/phosphorus/understanding-phosphorus-fertilizers/"]
[null,null,7,"AGP Fertilizer Specifications","http://www.fao.org/agriculture/crops/thematic-sitemap/theme/spi/plantnutrition/fertspecs/en/"]
[null,null,8,"http://www.terrabetter.net/html_products/Potassium-Nitrate-powder-79.html"]
[null,null,9,"North African catfish - Pond fertilization","http://www.fao.org/fishery/affris/species-profiles/north-african-catfish/pond-fertilization/en/"]

{"sheet":"Fingerling EF","index":9,"n_rows":23,"n_cols":22,"rows_kept":23,"cut":false,"hidden":true,"merged":[]}
[]
[]
[]
[]
[null,null,null,"Inputs required to produce 1 kg of fingerlings",null,null,null,null,null,null,null,null,null,null,"Sources"]
[null,null,null,null,"Units","Catfish","Cyprinid","FW Fish - general","Indian Carp","Marine Fish - general","Salmonids","Shrimp","Tilapia",null,"Catfish","Cyprinid","FW Fish - general","Indian Carp","Marine Fish - general","Salmonids","Shrimp","Tilapia"]
[null,null,null,"Feed","kg",0.84699999999999998,0.84699999999999998,0.84699999999999998,0.84699999999999998,0.84699999999999998,0.84699999999999998,0.84699999999999998,0.84699999999999998,null,"Assumed same as tilapia","Assumed same as tilapia","Assumed same as tilapia","Assumed same as tilapia","Assumed same as tilapia","Assumed same as tilapia",null,"Pelletier and Tyedmers (2010)"]
[null,null,null,"Electricity","MJ",10.9,10.9,10.9,10.9,10.9,10.9,10.9,10.9,null,"Assumed same as tilapia","Assumed same as tilapia","Assumed same as tilapia","Assumed same as tilapia","Assumed same as tilapia","Assumed same as tilapia",null,"Pelletier and Tyedmers (2010)"]
[null,null,null,"Diesel","MJ",2.13,2.13,2.13,2.13,2.13,2.13,2.13,2.13,null,"Assumed same as tilapia","Assumed same as tilapia","Assumed same as tilapia","Assumed same as tilapia","Assumed same as tilapia","Assumed same as tilapia",null,"Pelletier and Tyedmers (2010)"]
[]
[null,null,null,null,null,"Ration"]
[null,null,null,"Emission factors",null,"Specified","Default"]
[null,null,null,"Feed","kgCO2e/kg feed dry matter",{"$f":"'Feed EFs'!F98","v":1.3251802397785148},{"$f":"'Feed EFs'!C98","v":1.8114418099881104}]
[null,null,null,"Feed","kgCO2e/kg feed as fed",{"$f":"F13*RESULTS!D15","v":1.1926622158006634},{"$f":"G13*RESULTS!D15","v":1.6302976289892994}]
[null,null,null,"Electricity","kgCO2e/MJ",{"$f":"VLOOKUP('Feed EFs'!E299,'Electricity EFs'!D19:K255,8,FALSE)","v":0.14815000000011852},{"$f":"F15","v":0.14815000000011852}]
[null,null,null,"Diesel","kgCO2e/MJ",{"$f":"'Fuel EFs'!E102/Conversions!J28","v":6.8309937732041054E-2},{"$f":"F16","v":6.8309937732041054E-2}]
[]
[]
[null,null,null,"Emissions per kg of fingerling",null,"Specified","Default"]
[null,null,null,"Feed","kgCO2e/kg",{"$f":"VLOOKUP(D20,D$7:M$9,START!H$30+2,FALSE)*F14","v":1.0101848967831619},{"$f":"VLOOKUP(D20,D$7:M$9,START!H$30+2,FALSE)*G14","v":1.3808620917539365}]
[null,null,null,"Electricity","kgCO2e/kg",{"$f":"VLOOKUP(D21,D$7:M$9,START!H$30+2,FALSE)*F15","v":1.6148350000012919},{"$f":"VLOOKUP(D21,D$7:M$9,START!H$30+2,FALSE)*G15","v":1.6148350000012919}]
[null,null,null,"Diesel","kgCO2e/kg",{"$f":"VLOOKUP(D22,D$7:M$9,START!H$30+2,FALSE)*F16","v":0.14550016736924742},{"$f":"VLOOKUP(D22,D$7:M$9,START!H$30+2,FALSE)*G16","v":0.14550016736924742}]
[null,null,null,"Total","kgCO2e/kg",{"$f":"SUM(F20:F22)","v":2.7705200641537013},{"$f":"SUM(G20:G22)","v":3.1411972591244757}]

{"sheet":"Processing","index":10,"n_rows":26,"n_cols":7,"rows_kept":26,"cut":false,"hidden":true,"merged":[]}
[]
[]
[null,null,null,"Dressing percentages"]
[]
[null,null,null,"% of liveweight"]
[null,null,"Commodity","Gutted, with head","Gutted, no head","Skinless fillet","Source"]
[null,null,"Nile Tilapia",0.86,0.66,0.33,"http://www.fao.org/fishery/culturedspecies/Oreochromis_niloticus/en"]
[null,"Pangasius hypopthalmus","Striped catfish",null,null,{"$f":"1/3","v":0.33333333333333331},"http://www.fao.org/fishery/culturedspecies/Pangasius_hypophthalmus/en"]
[null,"Catla catla","Catla"]
[null,null,"Striped bass",0.90500000000000003,null,0.32,"http://www.fao.org/fishery/culturedspecies/Morone_hybrid/en"]
[]
[]
[]
[]
[]
[]
[]
[null,null,null,"CW:LW"]
[null,null,"Catfish",{"$f":"E$7","v":0.66}]
[null,null,"Cyprinids",{"$f":"E$7","v":0.66}]
[null,null,"Freshwater fish - general",0.66]
[null,null,"Indian major carps",0.66]
[null,null,"Marine fish - general",0.66]
[null,null,"Salmonids",0.66]
[null,null,"Shrimp",0.66]
[null,null,"Tilapia",0.66]

{"sheet":"Country list","index":11,"n_rows":257,"n_cols":10,"rows_kept":257,"cut":false,"hidden":true,"merged":[]}
[]
[null,null,"Source: MacLeod et al (2013)",null,null,null,null,"Source: MacLeod et al (2013)"]
[]
[null,null,"Anguilla","Latin America and the Caribbean","lac",null,null,"Afghanistan","South Asia","sa"]
[null,null,"Antigua and Barbuda","Latin America and the Caribbean","lac",null,null,"Albania","Western Europe","we"]
[null,null,"Argentina","Latin America and the Caribbean","lac",null,null,"Algeria","Near East and North Africa","nena"]
[null,null,"Aruba","Latin America and the Caribbean","lac",null,null,"American Samoa","Oceania","oc"]
[null,null,"Bahamas","Latin America and the Caribbean","lac",null,null,"Andorra","Western Europe","we"]
[null,null,"Barbados","Latin America and the Caribbean","lac",null,null,"Angola","Sub-Saharan Africa","ssa"]
[null,null,"Belize","Latin America and the Caribbean","lac",null,null,"Anguilla","Latin America and the Caribbean","lac"]
[null,null,"Bolivia","Latin America and the Caribbean","lac",null,null,"Antigua and Barbuda","Latin America and the Caribbean","lac"]
[null,null,"Brazil","Latin America and the Caribbean","lac",null,null,"Argentina","Latin America and the Caribbean","lac"]
[null,null,"British Virgin Islands","Latin America and the Caribbean","lac",null,null,"Armenia","Near East and North Africa","nena"]
[null,null,"Cayman Islands","Latin America and the Caribbean","lac",null,null,"Aruba","Latin America and the Caribbean","lac"]
[null,null,"Chile","Latin America and the Caribbean","lac",null,null,"Australia","Oceania","oc"]
[null,null,"Colombia","Latin America and the Caribbean","lac",null,null,"Austria","Western Europe","we"]
[null,null,"Costa Rica","Latin America and the Caribbean","lac",null,null,"Azerbaijan","Near East and North Africa","nena"]
[null,null,"Cuba","Latin America and the Caribbean","lac",null,null,"Bahamas","Latin America and the Caribbean","lac"]
[null,null,"Dominica","Latin America and the Caribbean","lac",null,null,"Bahrain","Near East and North Africa","nena"]
[null,null,"Dominican Republic","Latin America and the Caribbean","lac",null,null,"Bangladesh","South Asia","sa"]
[null,null,"Ecuador","Latin America and the Caribbean","lac",null,null,"Barbados","Latin America and the Caribbean","lac"]
[null,null,"El Salvador","Latin America and the Caribbean","lac",null,null,"Belarus","Eastern Europe","ee"]
[null,null,"Falkland Islands (Malvinas)","Latin America and the Caribbean","lac",null,null,"Belgium","Western Europe","we"]
[null,null,"French Guiana","Latin America and the Caribbean","lac",null,null,"Belize","Latin America and the Caribbean","lac"]
[null,null,"Grenada","Latin America and the Caribbean","lac",null,null,"Benin","Sub-Saharan Africa","ssa"]
[null,null,"Guadeloupe","Latin America and the Caribbean","lac",null,null,"Bermuda","North America","nam"]
[null,null,"Guatemala","Latin America and the Caribbean","lac",null,null,"Bhutan","South Asia","sa"]
[null,null,"Guyana","Latin America and the Caribbean","lac",null,null,"Bolivia","Latin America and the Caribbean","lac"]
[null,null,"Haiti","Latin America and the Caribbean","lac",null,null,"Bosnia and Herzegovina","Western Europe","we"]
[null,null,"Honduras","Latin America and the Caribbean","lac",null,null,"Botswana","Sub-Saharan Africa","ssa"]
[null,null,"Jamaica","Latin America and the Caribbean","lac",null,null,"Brazil","Latin America and the Caribbean","lac"]
[null,null,"Martinique","Latin America and the Caribbean","lac",null,null,"British Indian Ocean Territory","South Asia","sa"]
[null,null,"Mexico","Latin America and the Caribbean","lac",null,null,"British Virgin Islands","Latin America and the Caribbean","lac"]
[null,null,"Montserrat","Latin America and the Caribbean","lac",null,null,"Brunei Darussalam","East Asia and Southeast Asia","esea"]
[null,null,"Netherlands Antilles","Latin America and the Caribbean","lac",null,null,"Bulgaria","Eastern Europe","ee"]
[null,null,"Nicaragua","Latin America and the Caribbean","lac",null,null,"Burkina Faso","Sub-Saharan Africa","ssa"]
[null,null,"Panama","Latin America and the Caribbean","lac",null,null,"Burundi","Sub-Saharan Africa","ssa"]
[null,null,"Paraguay","Latin America and the Caribbean","lac",null,null,"Cambodia","East Asia and Southeast Asia","esea"]
[null,null,"Peru","Latin America and the Caribbean","lac",null,null,"Cameroon","Sub-Saharan Africa","ssa"]
[null,null,"Puerto Rico","Latin America and the Caribbean","lac",null,null,"Canada","North America","nam"]
[null,null,"Saint Kitts and Nevis","Latin America and the Caribbean","lac",null,null,"Cape Verde","Sub-Saharan Africa","ssa"]
[null,null,"Saint Lucia","Latin America and the Caribbean","lac",null,null,"Cayman Islands","Latin America and the Caribbean","lac"]
[null,null,"Saint Vincent and the Grenadines","Latin America and the Caribbean","lac",null,null,"Central African Republic","Sub-Saharan Africa","ssa"]
[null,null,"Suriname","Latin America and the Caribbean","lac",null,null,"Chad","Sub-Saharan Africa","ssa"]
[null,null,"Trinidad and Tobago","Latin America and the Caribbean","lac",null,null,"Chile","Latin America and the Caribbean","lac"]
[null,null,"Turks and Caicos Islands","Latin America and the Caribbean","lac",null,null,"China","East Asia and Southeast Asia","esea"]
[null,null,"United States Virgin Islands","Latin America and the Caribbean","lac",null,null,"Christmas Island","East Asia and Southeast Asia","esea"]
[null,null,"Uruguay","Latin America and the Caribbean","lac",null,null,"Colombia","Latin America and the Caribbean","lac"]
[null,null,"Venezuela","Latin America and the Caribbean","lac",null,null,"Comoros","Sub-Saharan Africa","ssa"]
[null,null,"Angola","Sub-Saharan Africa","ssa",null,null,"Congo","Sub-Saharan Africa","ssa"]
[null,null,"Benin","Sub-Saharan Africa","ssa",null,null,"Cook Islands","Oceania","oc"]
[null,null,"Botswana","Sub-Saharan Africa","ssa",null,null,"Costa Rica","Latin America and the Caribbean","lac"]
[null,null,"Burkina Faso","Sub-Saharan Africa","ssa",null,null,"Cote d’Ivoire","Sub-Saharan Africa","ssa"]
[null,null,"Burundi","Sub-Saharan Africa","ssa",null,null,"Croatia","Western Europe","we"]
[null,null,"Cote d’Ivoire","Sub-Saharan Africa","ssa",null,null,"Cuba","Latin America and the Caribbean","lac"]
[null,null,"Cameroon","Sub-Saharan Africa","ssa",null,null,"Cyprus","Near East and North Africa","nena"]
[null,null,"Cape Verde","Sub-Saharan Africa","ssa",null,null,"Czech Republic","Eastern Europe","ee"]
[null,null,"Central African Republic","Sub-Saharan Africa","ssa",null,null,"Democratic People’s Republic of Korea","East Asia and Southeast Asia","esea"]
[null,null,"Chad","Sub-Saharan Africa","ssa",null,null,"Democratic Republic of the Congo","Sub-Saharan Africa","ssa"]
[null,null,"Comoros","Sub-Saharan Africa","ssa",null,null,"Denmark","Western Europe","we"]
[null,null,"Congo","Sub-Saharan Africa","ssa",null,null,"Djibouti","Sub-Saharan Africa","ssa"]
[null,null,"Democratic Republic of the Congo","Sub-Saharan Africa","ssa",null,null,"Dominica","Latin America and the Caribbean","lac"]
[null,null,"Djibouti","Sub-Saharan Africa","ssa",null,null,"Dominican Republic","Latin America and the Caribbean","lac"]
[null,null,"Equatorial Guinea","Sub-Saharan Africa","ssa",null,null,"Ecuador","Latin America and the Caribbean","lac"]
[null,null,"Eritrea","Sub-Saharan Africa","ssa",null,null,"Egypt","Near East and North Africa","nena"]
[null,null,"Ethiopia","Sub-Saharan Africa","ssa",null,null,"El Salvador","Latin America and the Caribbean","lac"]
[null,null,"Gabon","Sub-Saharan Africa","ssa",null,null,"Equatorial Guinea","Sub-Saharan Africa","ssa"]
[null,null,"Gambia","Sub-Saharan Africa","ssa",null,null,"Eritrea","Sub-Saharan Africa","ssa"]
[null,null,"Ghana","Sub-Saharan Africa","ssa",null,null,"Estonia","Western Europe","we"]
[null,null,"Guinea","Sub-Saharan Africa","ssa",null,null,"Ethiopia","Sub-Saharan Africa","ssa"]
[null,null,"Guinea-Bissau","Sub-Saharan Africa","ssa",null,null,"Falkland Islands (Malvinas)","Latin America and the Caribbean","lac"]
[null,null,"Kenya","Sub-Saharan Africa","ssa",null,null,"Faroe Islands","Western Europe","we"]
[null,null,"Lesotho","Sub-Saharan Africa","ssa",null,null,"Fiji","Oceania","oc"]
[null,null,"Liberia","Sub-Saharan Africa","ssa",null,null,"Finland","Western Europe","we"]
[null,null,"Madagascar","Sub-Saharan Africa","ssa",null,null,"France","Western Europe","we"]
[null,null,"Malawi","Sub-Saharan Africa","ssa",null,null,"French Guiana","Latin America and the Caribbean","lac"]
[null,null,"Mali","Sub-Saharan Africa","ssa",null,null,"French Polynesia","Oceania","oc"]
[null,null,"Mauritania","Sub-Saharan Africa","ssa",null,null,"Gabon","Sub-Saharan Africa","ssa"]
[null,null,"Mauritius","Sub-Saharan Africa","ssa",null,null,"Gambia","Sub-Saharan Africa","ssa"]
[null,null,"Mayotte","Sub-Saharan Africa","ssa",null,null,"Gaza Strip","Near East and North Africa","nena"]
[null,null,"Mozambique","Sub-Saharan Africa","ssa",null,null,"Georgia","Near East and North Africa","nena"]
[null,null,"Namibia","Sub-Saharan Africa","ssa",null,null,"Germany","Western Europe","we"]
[null,null,"Niger","Sub-Saharan Africa","ssa",null,null,"Ghana","Sub-Saharan Africa","ssa"]
[null,null,"Nigeria","Sub-Saharan Africa","ssa",null,null,"Greece","Western Europe","we"]
[null,null,"Rwanda","Sub-Saharan Africa","ssa",null,null,"Greenland","North America","nam"]
[null,null,"Reunion","Sub-Saharan Africa","ssa",null,null,"Grenada","Latin America and the Caribbean","lac"]
[null,null,"Saint Helena","Sub-Saharan Africa","ssa",null,null,"Guadeloupe","Latin America and the Caribbean","lac"]
[null,null,"Sao Tome and Principe","Sub-Saharan Africa","ssa",null,null,"Guam","Oceania","oc"]
[null,null,"Senegal","Sub-Saharan Africa","ssa",null,null,"Guatemala","Latin America and the Caribbean","lac"]
[null,null,"Seychelles","Sub-Saharan Africa","ssa",null,null,"Guernsey","Western Europe","we"]
[null,null,"Sierra Leone","Sub-Saharan Africa","ssa",null,null,"Guinea","Sub-Saharan Africa","ssa"]
[null,null,"Somalia","Sub-Saharan Africa","ssa",null,null,"Guinea-Bissau","Sub-Saharan Africa","ssa"]
[null,null,"South Africa","Sub-Saharan Africa","ssa",null,null,"Guyana","Latin America and the Caribbean","lac"]
[null,null,"Swaziland","Sub-Saharan Africa","ssa",null,null,"Haiti","Latin America and the Caribbean","lac"]
[null,null,"Togo","Sub-Saharan Africa","ssa",null,null,"Honduras","Latin America and the Caribbean","lac"]
[null,null,"Uganda","Sub-Saharan Africa","ssa",null,null,"Hong Kong","East Asia and Southeast Asia","esea"]
[null,null,"United Republic of Tanzania","Sub-Saharan Africa","ssa",null,null,"Hungary","Eastern Europe","ee"]
[null,null,"Zambia","Sub-Saharan Africa","ssa",null,null,"Iceland","Western Europe","we"]
[null,null,"Zimbabwe","Sub-Saharan Africa","ssa",null,null,"India","South Asia","sa"]
[null,null,"Algeria","Near East and North Africa","nena",null,null,"Indonesia","East Asia and Southeast Asia","esea"]
[null,null,"Armenia","Near East and North Africa","nena",null,null,"Iran (Islamic Republic of)","South Asia","sa"]
[null,null,"Azerbaijan","Near East and North Africa","nena",null,null,"Iraq","Near East and North Africa","nena"]
[null,null,"Bahrain","Near East and North Africa","nena",null,null,"Ireland","Western Europe","we"]
[null,null,"Cyprus","Near East and North Africa","nena",null,null,"Isle of Man","Western Europe","we"]
[null,null,"Egypt","Near East and North Africa","nena",null,null,"Israel","Near East and North Africa","nena"]
[null,null,"Gaza Strip","Near East and North Africa","nena",null,null,"Italy","Western Europe","we"]
[null,null,"Georgia","Near East and North Africa","nena",null,null,"Jamaica","Latin America and the Caribbean","lac"]
[null,null,"Iraq","Near East and North Africa","nena",null,null,"Japan","East Asia and Southeast Asia","esea"]
[null,null,"Israel","Near East and North Africa","nena",null,null,"Jersey","Western Europe","we"]
[null,null,"Jordan","Near East and North Africa","nena",null,null,"Jordan","Near East and North Africa","nena"]
[null,null,"Kazakhstan","Near East and North Africa","nena",null,null,"Kazakhstan","Near East and North Africa","nena"]
[null,null,"Kuwait","Near East and North Africa","nena",null,null,"Kenya","Sub-Saharan Africa","ssa"]
[null,null,"Kyrgyzstan","Near East and North Africa","nena",null,null,"Kiribati","Oceania","oc"]
[null,null,"Lebanon","Near East and North Africa","nena",null,null,"Kuwait","Near East and North Africa","nena"]
[null,null,"Morocco","Near East and North Africa","nena",null,null,"Kyrgyzstan","Near East and North Africa","nena"]
[null,null,"Oman","Near East and North Africa","nena",null,null,"Lao People’s Democratic Republic","East Asia and Southeast Asia","esea"]
[null,null,"Qatar","Near East and North Africa","nena",null,null,"Latvia","Western Europe","we"]
[null,null,"Republic of Sudan","Near East and North Africa","nena",null,null,"Lebanon","Near East and North Africa","nena"]
[null,null,"Saudi Arabia","Near East and North Africa","nena",null,null,"Lesotho","Sub-Saharan Africa","ssa"]
[null,null,"South Sudan","Near East and North Africa","nena",null,null,"Liberia","Sub-Saharan Africa","ssa"]
[null,null,"State of Libya","Near East and North Africa","nena",null,null,"Liechtenstein","Western Europe","we"]
[null,null,"Syrian Arab Republic","Near East and North Africa","nena",null,null,"Lithuania","Western Europe","we"]
[null,null,"Tajikistan","Near East and North Africa","nena",null,null,"Luxembourg","Western Europe","we"]
[null,null,"Tunisia","Near East and North Africa","nena",null,null,"Macau","East Asia and Southeast Asia","esea"]
[null,null,"Turkey","Near East and North Africa","nena",null,null,"Madagascar","Sub-Saharan Africa","ssa"]
[null,null,"Turkmenistan","Near East and North Africa","nena",null,null,"Madeira Islands","Western Europe","we"]
[null,null,"United Arab Emirates","Near East and North Africa","nena",null,null,"Malawi","Sub-Saharan Africa","ssa"]
[null,null,"Uzbekistan","Near East and North Africa","nena",null,null,"Malaysia","East Asia and Southeast Asia","esea"]
[null,null,"West Bank","Near East and North Africa","nena",null,null,"Maldives","South Asia","sa"]
[null,null,"Western Sahara","Near East and North Africa","nena",null,null,"Mali","Sub-Saharan Africa","ssa"]
[null,null,"Yemen","Near East and North Africa","nena",null,null,"Malta","Western Europe","we"]
[null,null,"Afghanistan","South Asia","sa",null,null,"Marshall Islands","Oceania","oc"]
[null,null,"Bangladesh","South Asia","sa",null,null,"Martinique","Latin America and the Caribbean","lac"]
[null,null,"Bhutan","South Asia","sa",null,null,"Mauritania","Sub-Saharan Africa","ssa"]
[null,null,"British Indian Ocean Territory","South Asia","sa",null,null,"Mauritius","Sub-Saharan Africa","ssa"]
[null,null,"India","South Asia","sa",null,null,"Mayotte","Sub-Saharan Africa","ssa"]
[null,null,"Iran (Islamic Republic of)","South Asia","sa",null,null,"Mexico","Latin America and the Caribbean","lac"]
[null,null,"Maldives","South Asia","sa",null,null,"Micronesia (Federated States of)","Oceania","oc"]
[null,null,"Nepal","South Asia","sa",null,null,"Moldova, Republic of","Eastern Europe","ee"]
[null,null,"Pakistan","South Asia","sa",null,null,"Monaco","Western Europe","we"]
[null,null,"Sri Lanka","South Asia","sa",null,null,"Mongolia","East Asia and Southeast Asia","esea"]
[null,null,"Belarus","Eastern Europe","ee",null,null,"Montenegro","Western Europe","we"]
[null,null,"Bulgaria","Eastern Europe","ee",null,null,"Montserrat","Latin America and the Caribbean","lac"]
[null,null,"Czech Republic","Eastern Europe","ee",null,null,"Morocco","Near East and North Africa","nena"]
[null,null,"Hungary","Eastern Europe","ee",null,null,"Mozambique","Sub-Saharan Africa","ssa"]
[null,null,"Moldova, Republic of","Eastern Europe","ee",null,null,"Myanmar","East Asia and Southeast Asia","esea"]
[null,null,"Poland","Eastern Europe","ee",null,null,"Namibia","Sub-Saharan Africa","ssa"]
[null,null,"Romania","Eastern Europe","ee",null,null,"Nauru","Oceania","oc"]
[null,null,"Slovakia","Eastern Europe","ee",null,null,"Nepal","South Asia","sa"]
[null,null,"Ukraine","Eastern Europe","ee",null,null,"Netherlands","Western Europe","we"]
[null,null,"Russian Federation","Russian Federation","rus",null,null,"Netherlands Antilles","Latin America and the Caribbean","lac"]
[null,null,"Brunei Darussalam","East Asia and Southeast Asia","esea",null,null,"New Caledonia","Oceania","oc"]
[null,null,"Cambodia","East Asia and Southeast Asia","esea",null,null,"New Zealand","Oceania","oc"]
[null,null,"China","East Asia and Southeast Asia","esea",null,null,"Nicaragua","Latin America and the Caribbean","lac"]
[null,null,"Christmas Island","East Asia and Southeast Asia","esea",null,null,"Niger","Sub-Saharan Africa","ssa"]
[null,null,"Democratic People’s Republic of Korea","East Asia and Southeast Asia","esea",null,null,"Nigeria","Sub-Saharan Africa","ssa"]
[null,null,"Hong Kong","East Asia and Southeast Asia","esea",null,null,"Niue","Oceania","oc"]
[null,null,"Indonesia","East Asia and Southeast Asia","esea",null,null,"Norfolk Island","Oceania","oc"]
[null,null,"Japan","East Asia and Southeast Asia","esea",null,null,"Northern Mariana Islands","Oceania","oc"]
[null,null,"Lao People’s Democratic Republic","East Asia and Southeast Asia","esea",null,null,"Norway","Western Europe","we"]
[null,null,"Macau","East Asia and Southeast Asia","esea",null,null,"Oman","Near East and North Africa","nena"]
[null,null,"Malaysia","East Asia and Southeast Asia","esea",null,null,"Pakistan","South Asia","sa"]
[null,null,"Mongolia","East Asia and Southeast Asia","esea",null,null,"Palau","Oceania","oc"]
[null,null,"Myanmar","East Asia and Southeast Asia","esea",null,null,"Panama","Latin America and the Caribbean","lac"]
[null,null,"Philippines","East Asia and Southeast Asia","esea",null,null,"Papua New Guinea","Oceania","oc"]
[null,null,"Republic of Korea","East Asia and Southeast Asia","esea",null,null,"Paraguay","Latin America and the Caribbean","lac"]
[null,null,"Singapore","East Asia and Southeast Asia","esea",null,null,"Peru","Latin America and the Caribbean","lac"]
[null,null,"Thailand","East Asia and Southeast Asia","esea",null,null,"Philippines","East Asia and Southeast Asia","esea"]
[null,null,"Timor-Leste","East Asia and Southeast Asia","esea",null,null,"Pitcairn","Oceania","oc"]
[null,null,"Viet Nam","East Asia and Southeast Asia","esea",null,null,"Poland","Eastern Europe","ee"]
[null,null,"American Samoa","Oceania","oc",null,null,"Portugal","Western Europe","we"]
[null,null,"Australia","Oceania","oc",null,null,"Puerto Rico","Latin America and the Caribbean","lac"]
[null,null,"Cook Islands","Oceania","oc",null,null,"Qatar","Near East and North Africa","nena"]
[null,null,"Fiji","Oceania","oc",null,null,"Republic of Korea","East Asia and Southeast Asia","esea"]
[null,null,"French Polynesia","Oceania","oc",null,null,"Republic of Serbia","Western Europe","we"]
[null,null,"Guam","Oceania","oc",null,null,"Republic of Sudan","Near East and North Africa","nena"]
[null,null,"Kiribati","Oceania","oc",null,null,"Reunion","Sub-Saharan Africa","ssa"]
[null,null,"Marshall Islands","Oceania","oc",null,null,"Romania","Eastern Europe","ee"]
[null,null,"Micronesia (Federated States of)","Oceania","oc",null,null,"Russian Federation","Russian Federation","rus"]
[null,null,"Nauru","Oceania","oc",null,null,"Rwanda","Sub-Saharan Africa","ssa"]
[null,null,"New Caledonia","Oceania","oc",null,null,"Saint Helena","Sub-Saharan Africa","ssa"]
[null,null,"New Zealand","Oceania","oc",null,null,"Saint Kitts and Nevis","Latin America and the Caribbean","lac"]
[null,null,"Niue","Oceania","oc",null,null,"Saint Lucia","Latin America and the Caribbean","lac"]
[null,null,"Norfolk Island","Oceania","oc",null,null,"Saint Pierre et Miquelon","Oceania","oc"]
[null,null,"Northern Mariana Islands","Oceania","oc",null,null,"Saint Vincent and the Grenadines","Latin America and the Caribbean","lac"]
[null,null,"Palau","Oceania","oc",null,null,"Samoa","Oceania","oc"]
[null,null,"Papua New Guinea","Oceania","oc",null,null,"San Marino","Western Europe","we"]
[null,null,"Pitcairn","Oceania","oc",null,null,"Sao Tome and Principe","Sub-Saharan Africa","ssa"]
[null,null,"Saint Pierre et Miquelon","Oceania","oc",null,null,"Saudi Arabia","Near East and North Africa","nena"]
[null,null,"Samoa","Oceania","oc",null,null,"Senegal","Sub-Saharan Africa","ssa"]
[null,null,"Solomon Islands","Oceania","oc",null,null,"Seychelles","Sub-Saharan Africa","ssa"]
[null,null,"Tokelau","Oceania","oc",null,null,"Sierra Leone","Sub-Saharan Africa","ssa"]
[null,null,"Tonga","Oceania","oc",null,null,"Singapore","East Asia and Southeast Asia","esea"]
[null,null,"Tuvalu","Oceania","oc",null,null,"Slovakia","Eastern Europe","ee"]
[null,null,"Vanuatu","Oceania","oc",null,null,"Slovenia","Western Europe","we"]
[null,null,"Wake Island","Oceania","oc",null,null,"Solomon Islands","Oceania","oc"]
[null,null,"Wallis and Futuna","Oceania","oc",null,null,"Somalia","Sub-Saharan Africa","ssa"]
[null,null,"Albania","Western Europe","we",null,null,"South Africa","Sub-Saharan Africa","ssa"]
[null,null,"Andorra","Western Europe","we",null,null,"South Sudan","Near East and North Africa","nena"]
[null,null,"Austria","Western Europe","we",null,null,"Spain","Western Europe","we"]
[null,null,"Belgium","Western Europe","we",null,null,"Sri Lanka","South Asia","sa"]
[null,null,"Bosnia and Herzegovina","Western Europe","we",null,null,"State of Libya","Near East and North Africa","nena"]
[null,null,"Croatia","Western Europe","we",null,null,"Suriname","Latin America and the Caribbean","lac"]
[null,null,"Denmark","Western Europe","we",null,null,"Svalbard and Jan Mayen Islands","Western Europe","we"]
[null,null,"Estonia","Western Europe","we",null,null,"Swaziland","Sub-Saharan Africa","ssa"]
[null,null,"Faroe Islands","Western Europe","we",null,null,"Sweden","Western Europe","we"]
[null,null,"Finland","Western Europe","we",null,null,"Switzerland","Western Europe","we"]
[null,null,"France","Western Europe","we",null,null,"Syrian Arab Republic","Near East and North Africa","nena"]
[null,null,"Germany","Western Europe","we",null,null,"Tajikistan","Near East and North Africa","nena"]
[null,null,"Greece","Western Europe","we",null,null,"Thailand","East Asia and Southeast Asia","esea"]
[null,null,"Guernsey","Western Europe","we",null,null,"The former Yugoslav Republic of Macedonia","Western Europe","we"]
[null,null,"Iceland","Western Europe","we",null,null,"Timor-Leste","East Asia and Southeast Asia","esea"]
[null,null,"Ireland","Western Europe","we",null,null,"Togo","Sub-Saharan Africa","ssa"]
[null,null,"Isle of Man","Western Europe","we",null,null,"Tokelau","Oceania","oc"]
[null,null,"Italy","Western Europe","we",null,null,"Tonga","Oceania","oc"]
[null,null,"Jersey","Western Europe","we",null,null,"Trinidad and Tobago","Latin America and the Caribbean","lac"]
[null,null,"Latvia","Western Europe","we",null,null,"Tunisia","Near East and North Africa","nena"]
[null,null,"Liechtenstein","Western Europe","we",null,null,"Turkey","Near East and North Africa","nena"]
[null,null,"Lithuania","Western Europe","we",null,null,"Turkmenistan","Near East and North Africa","nena"]
[null,null,"Luxembourg","Western Europe","we",null,null,"Turks and Caicos Islands","Latin America and the Caribbean","lac"]
[null,null,"Madeira Islands","Western Europe","we",null,null,"Tuvalu","Oceania","oc"]
[null,null,"Malta","Western Europe","we",null,null,"U.K. of Great Britain and Northern Ireland","Western Europe","we"]
[null,null,"Monaco","Western Europe","we",null,null,"Uganda","Sub-Saharan Africa","ssa"]
[null,null,"Montenegro","Western Europe","we",null,null,"Ukraine","Eastern Europe","ee"]
[null,null,"Netherlands","Western Europe","we",null,null,"United Arab Emirates","Near East and North Africa","nena"]
[null,null,"Norway","Western Europe","we",null,null,"United Republic of Tanzania","Sub-Saharan Africa","ssa"]
[null,null,"Portugal","Western Europe","we",null,null,"United States of America","North America","nam"]
[null,null,"Republic of Serbia","Western Europe","we",null,null,"United States Virgin Islands","Latin America and the Caribbean","lac"]
[null,null,"San Marino","Western Europe","we",null,null,"Uruguay","Latin America and the Caribbean","lac"]
[null,null,"Slovenia","Western Europe","we",null,null,"Uzbekistan","Near East and North Africa","nena"]
[null,null,"Spain","Western Europe","we",null,null,"Vanuatu","Oceania","oc"]
[null,null,"Svalbard and Jan Mayen Islands","Western Europe","we",null,null,"Venezuela","Latin America and the Caribbean","lac"]
[null,null,"Sweden","Western Europe","we",null,null,"Viet Nam","East Asia and Southeast Asia","esea"]
[null,null,"Switzerland","Western Europe","we",null,null,"Wake Island","Oceania","oc"]
[null,null,"The former Yugoslav Republic of Macedonia","Western Europe","we",null,null,"Wallis and Futuna","Oceania","oc"]
[null,null,"U.K. of Great Britain and Northern Ireland","Western Europe","we",null,null,"West Bank","Near East and North Africa","nena"]
[null,null,"Bermuda","North America","nam",null,null,"Western Sahara","Near East and North Africa","nena"]
[null,null,"Canada","North America","nam",null,null,"Yemen","Near East and North Africa","nena"]
[null,null,"Greenland","North America","nam",null,null,"Zambia","Sub-Saharan Africa","ssa"]
[null,null,"United States of America","North America","nam",null,null,"Zimbabwe","Sub-Saharan Africa","ssa"]
[]
[]
[null,null,null,"Latin America and the Caribbean","lac"]
[null,null,null,"Sub-Saharan Africa","ssa"]
[null,null,null,"Near East and North Africa","nena"]
[null,null,null,"South Asia","sa"]
[null,null,null,"Eastern Europe","ee"]
[null,null,null,"Russian Federation","rus"]
[null,null,null,"East Asia and Southeast Asia","esea"]
[null,null,null,"Oceania","oc"]
[null,null,null,"Western Europe","we"]
[null,null,null,"North America","nam"]
[]
[]
[]
[null,null,"Refs"]
[null,null,"Michael MacLeod, Pierre Gerber, Carolyn Opio, Benjamin Henderson, Klaas Dietze, Alessandra Falcucci, Guya Gianni, Anne Mottet, Giuseppe Tempio, Olaf Thieme, Theun Vellinga, Viola Weiler and Henning Steinfeld. (2013) Greenhouse gas emissions from pork and chicken meat and egg supply chains, a life cycle assessment Rome: FAO"]

{"sheet":"Conversions","index":12,"n_rows":64,"n_cols":11,"rows_kept":64,"cut":false,"hidden":true,"merged":[[4,1,4,12],[6,1,6,12],[9,1,9,12],[10,1,10,12],[59,1,63,1],[11,1,11,12],[18,1,22,1],[26,1,30,1],[34,1,39,1],[43,1,47,1],[51,1,55,1]]}
[{"$f":"[3]Introduction!$A$1","v":"UK Government GHG Conversion Factors for Company Reporting"},null,null,null,"Copied from: Copy of ghg-conversion-factors-2016update_MASTER__links_removed__v2",null,null,null,null,null,"https://www.gov.uk/government/collections/government-conversion-factors-for-company-reporting "]
[{"$f":"MID(CELL(\"filename\",$B$2),FIND(\"]\",CELL(\"filename\",$B$2))+1,256)","v":"Conversions"}]
[]
[]
[null,"The conversion values should be used to change units (such as those for energy, mass and volume) into alternative units. This is particularly useful where an organisation is collecting data in units of measure that do not have conversion factors that can be directly used to determine a carbon emission total."]
[]
[null,"Using the abbreviation table"]
[null,"The abbreviation table simply demonstrates common abbreviations that may be found within the carbon reporting arena and their long-hand form. This table is entirely for reference."]
[]
[null,"Using the conversions table"]
[null,"To convert from the units of measure in the columns on the left hand side of the table to the units of measure in the column headers in the same tables, simply multiple by the factor displayed where the two units meet on the table."]
[null," For example, to convert from kWh to GJ, multiply the kWh value by 0.036."]
[]
[]
[null,"Emissions source:","None","Expiry:",{"$f":"[3]Introduction!$C$5","v":"31/06/2017"},"Factor set:",{"$f":"[3]Introduction!$E$5","v":"Full set"}]
[null,"Scope:","-","Version:",1,"Year:",{"$f":"UpdateYear","v":2016}]
[]
[null,null,null,"Symbol","Number","Standard form"]
[null,"Abbreviation","Kilo","k",1000,"10 3"]
[null,null,"Mega","M",1000000,"10 6"]
[null,null,"Giga","G",1000000000,"10 9"]
[null,null,"Tera","T",1000000000000,"10 12"]
[null,null,"Peta","P",1000000000000000,"10 15"]
[]
[]
[null,null,null,"GJ","kWh","therm","toe","kcal",null,"MJ"]
[null,"Energy","Gigajoule, GJ",null,277.77777777799997,9.4781707770000008,2.3884590000000001E-2,238902.95761861501]
[null,null,"Kilowatt-hour, kWh",3.5999999999971203E-3,null,3.4121414797172706E-2,8.5984523999931223E-5,860.05064742632601,null,{"$f":"D28*1000","v":3.5999999999971202}]
[null,null,"Therm",0.10550559000547115,29.307108334876538,null,2.5199577599887761E-3,25205.597497604045,null,{"$f":"D29*1000","v":105.50559000547115}]
[null,null,"Tonne oil equivalent, toe",41.867999408823849,11629.999835793706,396.83204848816752,null,10002388.888342442,null,41867.999408823845]
[null,null,"Kilocalorie, kcal",4.1858000000000057E-6,1.1627222222231539E-3,3.9673727238366659E-5,9.9976116822000138E-8,null,null,4.185800000000006E-3]
[]
[]
[null,null,null,"L","m3","cu ft","Imp. gallon","US gallon","Bbl (US,P)"]
[null,"Volume","Litres, L",null,1E-3,3.5314667000000001E-2,0.21996924800000001,0.26417205100000002,6.2898110000000002E-3]
[null,null,"Cubic metres, m3",1000,null,35.314667,219.96924799999999,264.17205100000001,6.2898110000000003]
[null,null,"Cubic feet, cu ft",28.316846368677353,2.8316846368677356E-2,null,6.228835401449488,7.4805193830653991,0.17810761177501688]
[null,null,"Imperial gallon",4.5460900061812275,4.5460900061812274E-3,0.16054365472031801,null,1.2009499209634977,2.8594046927868752E-2]
[null,null,"US gallon",3.7854118034613733,3.7854118034613732E-3,0.13368055729710784,0.83267418777772206,null,2.3809524800941183E-2]
[null,null,"Barrel (US, petroleum), bbl",158.98728912522174,0.15898728912522173,5.6145831726899269,34.972314430433606,41.999998251139822]
[]
[]
[null,null,null,"kg","tonne","ton (UK)","ton (US)","lb"]
[null,"Weight/mass","Kilogram, kg",null,1E-3,9.8420699999999996E-4,1.1023109999999999E-3,2.2046236800000001]
[null,null,"tonne, t (metric ton)",1000,null,0.98420699999999994,1.1023109999999998,2204.6236800000001]
[null,null,"ton (UK, long ton)",1016.0464211288886,1.0160464211288887,null,1.1199991465210062,2240]
[null,null,"ton (US, short ton)",907.18499588591612,0.90718499588591617,0.8928578232458898,null,2000.0015240707933]
[null,null,"Pound, lb",0.45359215228968236,4.5359215228968239E-4,4.4642857142857141E-4,4.9999961898259206E-4]
[]
[]
[null,null,null,"m","ft","mi","km","nmi"]
[null,"Length / distance","Metre, m",null,3.2808398950000002,6.2137119223733392E-4,1E-3,5.3995680351745805E-4]
[null,null,"Feet, ft",0.30480000000121921,null,1.8939393939469695E-4,3.0480000000121922E-4,1.6457883371277953E-4]
[null,null,"Miles, mi",1609.3440000000001,5279.9999999788806,null,1.6093440000000001,0.86897624200000001]
[null,null,"Kilometres, km",1000,3280.8398950000001,0.62137119223733395,null,0.53995680351745801]
[null,null,"Nautical miles, nmi or NM",1851.9999997882567,6076.1154848453043,1.1507794478919713,1.8519999997882568]
[]
[]
[null,null,null,"m","ft","in","cm","yd"]
[null,"Length / distance","Metre, m",null,3.2808398950000002,39.370078739999997,100,1.093613298]
[null,null,"Feet, ft",0.30480000000121921,null,12,30.480000000121919,0.33333333323173331]
[null,null,"Inch, in",2.5400000000101602E-2,8.3333333333333343E-2,null,2.5400000000101604,2.7777777769311111E-2]
[null,null,"Centimetres, cm",0.01,3.2808398950000005E-2,0.39370078739999997,null,1.0936132979999999E-2]
[null,null,"Yard, yd",0.91440000028236679,3.0000000009144006,36.000000010972798,91.440000028236682]