{"text_format":"1","workbook":"xlsx","n_sheets":60,"sheets":["dummy_database","Investment_Briquette","Briquette Tech","Label","Title","START","Process Description","Energy Demand","STORAGE_RES1","STORAGE_RES2","STORAGE_RES3","STORAGE_RES4","Data entry needs","Raw mat_Briquette","FA4_RURAL_RES1","FA40_RURAL_RES1","FA400_RURAL_RES1","FA4000_RURAL_RES1","FA4_URBAN_RES1","FA40_URBAN_RES1","FA400_URBAN_RES1","FA4000_URBAN_RES1","PRICE_RES1","PRICE_RES2","PRICE_RES3","PRICE_RES4","COST_RES1","COST_RES2","COST_RES3","COST_RES4","FA4_RURAL_RES2","FA40_RURAL_RES2","FA400_RURAL_RES2","FA4000_RURAL_RES2","FA4_URBAN_RES2","FA40_URBAN_RES2","FA400_URBAN_RES2","FA4000_URBAN_RES2","FA4_RURAL_RES3","FA40_RURAL_RES3","FA400_RURAL_RES3","FA4000_RURAL_RES3","FA4_URBAN_RES3","FA40_URBAN_RES3","FA400_URBAN_RES3","FA4000_URBAN_RES3","FA4_RURAL_RES4","FA40_RURAL_RES4","FA400_RURAL_RES4","FA4000_RURAL_RES4","FA4_URBAN_RES4","FA40_URBAN_RES4","FA400_URBAN_RES4","FA4000_URBAN_RES4","Summary of results-by feedstock","Summary of results-fs1 print","Summary of results-fs2 print","Summary of results-fs3 print","Summary of results-fs4 print","Summary of results-comparative"],"not_rendered":{"charts":127,"images":60,"macros":1,"external_links":0,"defined_names":600,"comments":38,"pivot_tables":0},"unopened":[],"bounds":{"document_bytes":16777216,"sheet_cells":100000,"rows_first":2000,"rows_last":500,"rows_between":2000,"halvings":0,"cell_chars":16384,"cell_head_chars":4096},"cells_cut":0,"cells_raw":0,"read":"whole","date_system":"1900"}

{"sheet":"dummy_database","index":0,"n_rows":32,"n_cols":18,"rows_kept":32,"cut":false,"hidden":true,"merged":[]}
["From Natutal Resources, Start or Crop budget"]
[null,"From energy sheet"]
[null,"Residue1","Residue2","Residue3","Residue4",null,null,null,null,null,null,null,null,null,"Moisture (%)","Particle size (mm)","%Residue dry basis","%Residue wet basis"]
["Ammount (ton per year)",2500,3000,3500,1000,null,null,null,null,null,null,{"$f":"title190","v":"barley"},{"$f":"title191","v":"straw"},{"$f":"+L4&M4","v":"barleystraw"},0.08,7,0.22999999999999998,{"$f":"+Q4/(1-O4)","v":0.24999999999999997}]
["Feedstock yield (ton per ha)",80,90,100,110,null,null,null,null,null,null,{"$f":"title173","v":"cacao"},{"$f":"title192","v":"pods"},{"$f":"+L5&M5","v":"cacaopods"},0.09,8,0.34409999999999996,{"$f":"+Q5/(1-O5)","v":0.37813186813186805}]
["Cost (dedicated wood)",100,200,300,400,null,null,null,null,null,null,{"$f":"title174","v":"cassava"},{"$f":"title193","v":"stalk"},"cassavastalk",0.08,8,0.13500000000000001,0.14673913043478262]
[{"$f":"title319","v":"Unskilled labour wage"},1,"USD/Person/h",null,null,null,null,null,null,null,null,{"$f":"title175","v":"coconut"},{"$f":"title194","v":"fronds"},"coconutfronds",0.09,6,0.34870000000000001,0.38318681318681319]
[{"$f":"title315","v":"Skilled labour wage"},1.5,"USD/Person/h",null,null,null,null,null,null,null,null,{"$f":"title175","v":"coconut"},{"$f":"title195","v":"husk"},"coconuthusk",0.09,8,0.34870000000000001,0.38318681318681319]
["Price Fuel",2,"USD/L",null,null,null,null,null,null,null,null,{"$f":"title175","v":"coconut"},{"$f":"title196","v":"shell"},"coconutshell",0.09,8,0.34870000000000001,0.38318681318681319]
[null,null,null,null,null,null,null,null,null,null,null,{"$f":"title176","v":"coffee"},{"$f":"title195","v":"husk"},"coffeehusk",0.09,6,0.4093,0.44978021978021976]
["Energy consumption profile proxies available on: http://www.indexmundi.com/commodities/",null,null,null,null,null,null,null,null,null,null,{"$f":"title177","v":"cotton"},{"$f":"title197","v":"hull"},"cottonhull",0.09,6,0.43500000000000005,0.47802197802197804]
[null,{"$f":"title414","v":"Rural"},null,null,null,{"$f":"title415","v":"Urban"},null,null,null,null,null,{"$f":"title177","v":"cotton"},{"$f":"title193","v":"stalk"},"cottonstalk",0.08,7,0.43500000000000005,0.47282608695652178]
["Energy consumption/household","Units","Units","Energy consumption/household",null,"Units","Units",null,null,null,null,{"$f":"title178","v":"groundnut"},{"$f":"title195","v":"husk"},"groundnuthusk",0.09,7,0.54720000000000002,0.60131868131868127]
["in Rural Area","Price",{"$f":"title79","v":"Consumption"},"in Urban Area",null,"Price",{"$f":"title79","v":"Consumption"},null,null,null,null,{"$f":"title179","v":"maize"},{"$f":"title198","v":"cob"},"maizecob",0.08,6,0.11899999999999999,0.1293478260869565]
[null,"USD/kg",{"$f":"title98","v":"kg/day"},null,null,"USD/kg",{"$f":"title98","v":"kg/day"},null,null,null,null,{"$f":"title179","v":"maize"},{"$f":"title195","v":"husk"},"maizehusk",0.09,7,0.11899999999999999,0.13076923076923075]
["Briquette",0.1,0,"Briquette",null,0.15,0,null,null,null,null,{"$f":"title179","v":"maize"},{"$f":"title199","v":"stover"},"maizestover",0.09,8,0.11899999999999999,0.13076923076923075]
[{"$f":"title88","v":"Fuel wood"},0.06,9.3000000000000007,{"$f":"title88","v":"Fuel wood"},null,0.06,0,null,null,null,null,{"$f":"title180","v":"millet"},{"$f":"title191","v":"straw"},"milletstraw",0.09,6,0.11,0.12087912087912088]
[{"$f":"title89","v":"Charcoal"},0.11,0,{"$f":"title89","v":"Charcoal"},null,0.11,1,null,null,null,null,{"$f":"title181","v":"oat"},{"$f":"title191","v":"straw"},"oatstraw",0.09,8,0.62929999999999997,0.69153846153846144]
[{"$f":"title91","v":"Kerosene"},0.57999999999999996,1,{"$f":"title91","v":"Kerosene"},null,0.57999999999999996,9,null,null,null,null,{"$f":"title182","v":"oil palm"},{"$f":"title200","v":"empty bunches"},"oil palmempty bunches",0.08,6,0.31559999999999999,0.34304347826086956]
[{"$f":"title92","v":"LPG"},0.64,0,{"$f":"title92","v":"LPG"},null,0.64,1,null,null,null,null,{"$f":"title182","v":"oil palm"},{"$f":"title194","v":"fronds"},"oil palmfronds",0.08,8,0.31559999999999999,0.34304347826086956]
[null,null,null,null,null,null,null,null,null,null,null,{"$f":"title182","v":"oil palm"},{"$f":"title196","v":"shell"},"oil palmshell",0.09,7,0.31559999999999999,0.34681318681318679]
["Country","Tanzania, Republic of",null,null,null,null,null,null,null,null,null,{"$f":"title183","v":"rice"},{"$f":"title191","v":"straw"},"ricestraw",0.08,6,0.32938181818181822,0.35802371541501982]
[null,null,null,null,null,null,null,null,null,null,null,{"$f":"title183","v":"rice"},{"$f":"title195","v":"husk"},"ricehusk",0.09,7,0.32938181818181822,0.36195804195804199]
[null,null,null,null,null,null,null,null,null,null,null,"rye",{"$f":"title191","v":"straw"},"ryestraw",0.09,6,0.39200000000000002,0.43076923076923079]
[null,null,null,null,null,null,null,null,null,null,null,{"$f":"title184","v":"sorghum"},{"$f":"title201","v":"straw/stalk"},"sorghumstraw/stalk",0.08,7,0.14500000000000002,0.15760869565217392]
[null,null,null,null,null,null,null,null,null,null,null,{"$f":"title185","v":"soybean"},{"$f":"title191","v":"straw"},"soybeanstraw",0.08,8,0.65399999999999991,0.7108695652173912]
[null,null,null,null,null,null,null,null,null,null,null,{"$f":"title185","v":"soybean"},{"$f":"title192","v":"pods"},"soybeanpods",0.09,7,0.65399999999999991,0.71868131868131857]
[null,null,null,null,null,null,null,null,null,null,null,{"$f":"title186","v":"sugarcane"},{"$f":"title202","v":"tops/leaves"},"sugarcanetops/leaves",0.08,8,0.16500000000000001,0.17934782608695651]
[null,null,null,null,null,null,null,null,null,null,null,{"$f":"title186","v":"sugarcane"},{"$f":"title203","v":"bagasse"},"sugarcanebagasse",0.08,7,0.16500000000000001,0.17934782608695651]
[null,null,null,null,null,null,null,null,null,null,null,{"$f":"title187","v":"wheat"},{"$f":"title191","v":"straw"},"wheatstraw",0.09,6,0.128,{"$f":"+Q30/(1-O30)","v":0.14065934065934066}]
[null,null,null,null,null,null,null,null,null,null,null,{"$f":"title188","v":"Forest Harvesting Residues"},null,{"$f":"+L31&M31","v":"Forest Harvesting Residues"},0.08,6,0.11,{"$f":"+Q31/(1-O31)","v":0.11956521739130434}]
[null,null,null,null,null,null,null,null,null,null,null,{"$f":"title189","v":"Wood Processing Residues"},null,{"$f":"+L32&M32","v":"Wood Processing Residues"},0.08,7,0.14000000000000001,{"$f":"+Q32/(1-O32)","v":0.15217391304347827}]

{"sheet":"Investment_Briquette","index":1,"n_rows":24,"n_cols":8,"rows_kept":24,"cut":false,"hidden":true,"merged":[[6,1,8,1],[6,2,8,2],[9,1,12,1],[9,2,10,2],[13,1,14,1]]}
[null,"Investment cost of briquette project"]
[]
[null,"Capacity of Briquette production","Ton per year","<20 ","<200 ","<2000","<20,000"]
[null,"Investment cost of equipment","USD",1000,10000,100000,1100000]
[null,"Lifetime of equipments","Years",5,10,15,20,"assumption"]
[null,"Estimate Equipment cost per ton of briquette","USD per ton",{"$f":"D4/(20*D5)","v":10},{"$f":"E4/(200*E5)","v":5},{"$f":"100000/(2000*F5)","v":3.3333333333333335},{"$f":"G4/(20000*G5)","v":2.75}]
[null,{"$f":"title225","v":"Equipments"},null,"1 or 2 manual machines e.g. lever extruder/ manual screw extruder","Motorised machines that are fabricated locally e.g. Electric screw extruder","Motorised machines that are imported e.g. Roller press/ large(flywheel) piston","Large-scale industrial machinery, imported e.g. 8 tons/hr hydraulic pellet press"]
[null,null,null,"Single Drum Kilns","Sun-drying/solar driers","Sun-drying / Flash drier","Accelerated drying"]
[null,null,null,"Sun-drying"]
[null,"Building and land",null,"Often in entrepreneurs house and garden","Can do at entrepreneurs residence or in a large garden","Dedicated factory needed. Approximate 2 acres of land","Large centralised factory "]
[null,null,null,"e.g. biomass storage, Briquette storage, Briguetting Plant","e.g. biomass storage, Briquette storage, Briguetting Plant","e.g. biomass storage, Briquette storage, Briguetting Plant","e.g. biomass storage, Briquette storage, Briguetting Plant, Office building"]
[null,null,null,"Estimate at 20% of Total investment cost","Estimate at 20% of Total investment cost","Estimate at 44% of Total investment cost","Estimate at 44% of Total investment cost"]
[null,null,"USD per ton",{"$f":"20%*D6/(1-20%)","v":2.5},{"$f":"20%*E6/(1-20%)","v":1.25},{"$f":"44%*F6/(1-44%)","v":2.6190476190476191},{"$f":"44%*G6/(1-44%)","v":2.1607142857142856}]
[null,"Installation cost",null,"Estimate at 10% of equipment cost","Estimate at 10% of equipment cost","Estimate at 10% of equipment cost","Estimate at 10% of equipment cost"]
[null,null,"USD per ton",{"$f":"10%*D6","v":1},{"$f":"10%*E6","v":0.5},{"$f":"10%*F6","v":0.33333333333333337},{"$f":"10%*G6","v":0.27500000000000002}]
[null,"Estimated total investment cost","USD per ton per year",{"$f":"D6+D13+D15","v":13.5},{"$f":"E6+E13+E15","v":6.75},{"$f":"F6+F13+F15","v":6.2857142857142856},{"$f":"G6+G13+G15","v":5.1857142857142859}]
[null,"Source: Ferguson 2012, Young and Khennas, 2003"]
[]
[]
[null,null,"Size (t/yr)",9.6,96,1920,28800]
[null,null,"Size (kg/h)",4,40,400,4000]
[null,null,"Investment (USD)",{"$f":"D6*D20*20","v":1920},{"$f":"E6*E20*20","v":9600},128000,1584000]
[null,null,"Building (USD)",{"$f":"D13*D20*20","v":480},{"$f":"E13*E20*20","v":2400},100571.42857142857,1244571.4285714286]
[null,null,"Installation (USD)",{"$f":"D15*D20*20","v":192},{"$f":"E15*E20*20","v":960},12800.000000000002,158400.00000000003]

{"sheet":"Briquette Tech","index":2,"n_rows":22,"n_cols":8,"rows_kept":22,"cut":false,"hidden":true,"merged":[]}
[]
[null,"Briquetting technologies comparison"]
[]
[null,"Briquetting technologies",{"$f":"title31","v":"Screw press"},{"$f":"title388","v":"Piston press "},{"$f":"title389","v":"Roller press"},{"$f":"title391","v":"Pellet mill"},{"$f":"title390","v":"Agglomerator"},{"$f":"title354","v":"Manual"}]
[null,"Production capacity (kg/hr)","150 kg/hr","200 - 2,500 kg/hr","900-1,500 kg/hr","200 - 8,000 kg/hr","No information","6 kg/hr"]
[null,"Optimum moisture content of the raw material","8–9%"," 10–15%"," 10–15%"," 10–15%","No information","up to 80%"]
[null,"Particle size","Smaller ","Larger","Larger","Smaller","Smaller-powder","Smaller-fiber"]
[null,"Wear of contact parts ","High","Low","High","High","Low","Low"]
[null,"Output from machine","Continuous","In strokes","Continuous","Continuous","Continuous","In strokes"]
[null,"Specific energy consumption (kWh/ton)","36.8-150","37.4-77","29.91-83.1","16.4-74.5","No information","No electricity "]
[null,"Through puts (ton/hr) ",0.5,2.5,"5.0-10.0",5,"No information","No information"]
[null,"Density of briquette","1-1.4 g/cm3","1-1.2 g/cm3","0.6-0.7 g/cm3","0.7-0.8 g/cm3","0.4-0.5 g/cm3","No information"]
[null,"Maintenance","Low","High","Low","Low","Low","Low"]
[null,"Combustion performance of briquettes","Very good","Moderate","Moderate","Very good","No information","Moderate"]
[null,"Carbonization of charcoal ","Makes good charcoal","Not possible","Not possible","Not possible","Not possible","Yes"]
[null,"Suitability in gasifiers ","Suitable","Suitable","Suitable","Suitable","Suitable","No information"]
[null,"Suitability for cofiring","Suitable","Suitable","Suitable","Suitable","Suitable","Suitable"]
[null,"Suitability for biochemical conversion","Not suitable","Suitable","Suitable","Suitable","No information","No information"]
[null,"Homogeneity of densified biomass","Homogenous","Not homogenous","Not homogenous","Homogenous","Homogenous","Homogenous"]
[null,"Cost (USD)",1350,"20,000-30,000","14,000-19,000","No information","No information",150]
[]
[null,"Source: Tumuluru et al., 2010"]

{"sheet":"Label","index":3,"n_rows":42,"n_cols":7,"rows_kept":42,"cut":false,"hidden":true,"merged":[]}
[]
[null,"Selection",{"$f":"VLOOKUP(START!D9,$A$3:$C$5,3,FALSE)","v":1}]
["EN","English",1]
["FR","French",2]
["ES","Spanish",3]
[]
["ID","English","French","Spanish","Typeof","Ref","Name"]
[1,1,2,3]
[2,"Briquetting Process Description","Description des Processus de Fabrication de Briquettes ","Descripción del Proceso de Producción de Briquetas","label",{"$f":"HLOOKUP($C$2,$B$8:$D9,$A9,FALSE)","v":"Briquetting Process Description"},{"$f":"$E9&$A9","v":"label2"}]
[3,"Data Entry","Saisie de Données","Datos de Entrada","label",{"$f":"HLOOKUP($C$2,$B$8:$D10,$A10,FALSE)","v":"Data Entry"},{"$f":"$E10&$A10","v":"label3"}]
[4,"NEXT >>\nEnergy Demand","SUIVANT >>\nDemande d'Énergie","SIGUIENTE >>\nDemanda de Energía","label",{"$f":"HLOOKUP($C$2,$B$8:$D11,$A11,FALSE)","v":"NEXT >>\nEnergy Demand"},"label4"]
[5,"<< BACK \nStart","<< RETOUR\nDébut \n\n","<< VOLVER\nInicio\n\n\n","label",{"$f":"HLOOKUP($C$2,$B$8:$D12,$A12,FALSE)","v":"<< BACK \nStart"},"label5"]
[6,"Energy Demand","Demande d'Énergie","Demanda de Energía","label",{"$f":"HLOOKUP($C$2,$B$8:$D13,$A13,FALSE)","v":"Energy Demand"},"label6"]
[7,"NEXT >>\nData Entry","SUIVANT >>\nSaisie de Données","SIGUIENTE >>\nDatos de Entrada","label",{"$f":"HLOOKUP($C$2,$B$8:$D14,$A14,FALSE)","v":"NEXT >>\nData Entry"},"label7"]
[8,"Production Cost 1","Coût de Production 1","Costo de Producción 1","label",{"$f":"HLOOKUP($C$2,$B$8:$D15,$A15,FALSE)","v":"Production Cost 1"},"label8"]
[9,"Production Cost 2","Coût de Production 2","Costo de Producción 2","label",{"$f":"HLOOKUP($C$2,$B$8:$D16,$A16,FALSE)","v":"Production Cost 2"},"label9"]
[10,"Production Cost 3","Coût de Production 3","Costo de Producción 3","label",{"$f":"HLOOKUP($C$2,$B$8:$D17,$A17,FALSE)","v":"Production Cost 3"},"label10"]
[11,"Production Cost 4","Coût de Production 4","Costo de Producción 4","label",{"$f":"HLOOKUP($C$2,$B$8:$D18,$A18,FALSE)","v":"Production Cost 4"},"label11"]
[12,"Hide this sheet","Cachez cette feuille","Ocultar esta Hoja","label",{"$f":"HLOOKUP($C$2,$B$8:$D19,$A19,FALSE)","v":"Hide this sheet"},"label12"]
[13,"Storage Calculator  1","Calculateur de Stockage 1","Calculadora de Almacenamiento 1","label",{"$f":"HLOOKUP($C$2,$B$8:$D20,$A20,FALSE)","v":"Storage Calculator  1"},"label13"]
[14,"Storage Calculator  2","Calculateur de Stockage 2","Calculadora de Almacenamiento 2","label",{"$f":"HLOOKUP($C$2,$B$8:$D21,$A21,FALSE)","v":"Storage Calculator  2"},"label14"]
[15,"Storage Calculator  3","Calculateur de Stockage 3","Calculadora de Almacenamiento 3","label",{"$f":"HLOOKUP($C$2,$B$8:$D22,$A22,FALSE)","v":"Storage Calculator  3"},"label15"]
[16,"Storage Calculator  4","Calculateur de Stockage 4","Calculadora de Almacenamiento 4","label",{"$f":"HLOOKUP($C$2,$B$8:$D23,$A23,FALSE)","v":"Storage Calculator  4"},"label16"]
[17,"Price Calculator  1","Calculateur de Prix 1","Calculadora de Precio 1","label",{"$f":"HLOOKUP($C$2,$B$8:$D24,$A24,FALSE)","v":"Price Calculator  1"},"label17"]
[18,"Price Calculator  2","Calculateur de Prix 2","Calculadora de Precio 2","label",{"$f":"HLOOKUP($C$2,$B$8:$D25,$A25,FALSE)","v":"Price Calculator  2"},"label18"]
[19,"Price Calculator  3","Calculateur de Prix 3","Calculadora de Precio 3","label",{"$f":"HLOOKUP($C$2,$B$8:$D26,$A26,FALSE)","v":"Price Calculator  3"},"label19"]
[20,"Price Calculator  4","Calculateur de Prix 4","Calculadora de Precio 4","label",{"$f":"HLOOKUP($C$2,$B$8:$D27,$A27,FALSE)","v":"Price Calculator  4"},"label20"]
[21,"Clear data","Effacer les données","Borrar datos","label",{"$f":"HLOOKUP($C$2,$B$8:$D28,$A28,FALSE)","v":"Clear data"},"label21"]
[22,"Load Default Values","Charger les Valeurs par Défaut","Cargar Valores por Defecto","label",{"$f":"HLOOKUP($C$2,$B$8:$D29,$A29,FALSE)","v":"Load Default Values"},"label22"]
[23,"NEXT >>\nSummary of Results Comparative\n\n","SUIVANT >>\nRésumé des Résultats Comparatifs\n\n","SIGUIENTE >>\nResumen de Resultados Comparativos\n\n\n\n","label",{"$f":"HLOOKUP($C$2,$B$8:$D30,$A30,FALSE)","v":"NEXT >>\nSummary of Results Comparative\n\n"},"label23"]
[24,"NEXT >>\nSummary of Results by Feedstock\n\n\n","SUIVANT >>\nRésumé des Résultats par Matière Premières\n\n","SIGUIENTE >>\nResumen de Resultados por Materia Prima\n\n\n\n\n","label",{"$f":"HLOOKUP($C$2,$B$8:$D31,$A31,FALSE)","v":"NEXT >>\nSummary of Results by Feedstock\n\n\n"},"label24"]
[25,"<< BACK \nData Entry","<< RETOUR\nSaisie de Données","<< VOLVER\nDatos de Entrada","label",{"$f":"HLOOKUP($C$2,$B$8:$D32,$A32,FALSE)","v":"<< BACK \nData Entry"},"label25"]
[26,"<< BACK \nProduction Cost 1","<< RETOUR\nCoût de Production 1","<< VOLVER\nCosto de Producción 1","label",{"$f":"HLOOKUP($C$2,$B$8:$D33,$A33,FALSE)","v":"<< BACK \nProduction Cost 1"},"label26"]
[27,"<< BACK \nProduction Cost 2","<< RETOUR\nCoût de Production 2","<< VOLVER\nCosto de Producción 2","label",{"$f":"HLOOKUP($C$2,$B$8:$D34,$A34,FALSE)","v":"<< BACK \nProduction Cost 2"},"label27"]
[28,"<< BACK \nProduction Cost 3","<< RETOUR\nCoût de Production 3","<< VOLVER\nCosto de Producción 3","label",{"$f":"HLOOKUP($C$2,$B$8:$D35,$A35,FALSE)","v":"<< BACK \nProduction Cost 3"},"label28"]
[29,"<< BACK \nProduction Cost 4","<< RETOUR\nCoût de Production 4","<< VOLVER\nCosto de Producción 4","label",{"$f":"HLOOKUP($C$2,$B$8:$D36,$A36,FALSE)","v":"<< BACK \nProduction Cost 4"},"label29"]
[30,"Hide this sheet","Cachez cette feuille","Ocultar esta Hoja","label",{"$f":"HLOOKUP($C$2,$B$8:$D37,$A37,FALSE)","v":"Hide this sheet"},"label30"]
[31,"Financial Analysis  (4 kg/h)","Analyse Financière  (4 kg/h)","Analisís financiero  (4 kg/h)","label",{"$f":"HLOOKUP($C$2,$B$8:$D38,$A38,FALSE)","v":"Financial Analysis  (4 kg/h)"},"label31"]
[32,"Financial Analysis  (40 kg/h)","Analyse Financière  (40 kg/h)","Analisís financiero  (40 kg/h)","label",{"$f":"HLOOKUP($C$2,$B$8:$D39,$A39,FALSE)","v":"Financial Analysis  (40 kg/h)"},"label32"]
[33,"Financial Analysis  (400 kg/h)","Analyse Financière  (400 kg/h)","Analisís financiero  (400 kg/h)","label",{"$f":"HLOOKUP($C$2,$B$8:$D40,$A40,FALSE)","v":"Financial Analysis  (400 kg/h)"},"label33"]
[34,"Financial Analysis  (4000 kg/h)","Analyse Financière  (4000 kg/h)","Analisís financiero  (4000 kg/h)","label",{"$f":"HLOOKUP($C$2,$B$8:$D41,$A41,FALSE)","v":"Financial Analysis  (4000 kg/h)"},"label34"]
[35,"Create PDF Report","Créer un Rapport PDF","Crear un reporte en PDF","label",{"$f":"HLOOKUP($C$2,$B$8:$D42,$A42,FALSE)","v":"Create PDF Report"},"label35"]

{"sheet":"Title","index":4,"n_rows":527,"n_cols":7,"rows_kept":527,"cut":false,"hidden":true,"merged":[]}
[]
[null,"Selection",{"$f":"VLOOKUP(START!D9,$A$3:$C$5,3,FALSE)","v":1}]
["EN","English",1]
["FR","French",2]
["ES","Spanish",3]
[]
["ID","English","French","Spanish","Typeof","Ref","Name"]
[1,1,2,3]
[2,"RAPID APPRAISAL TOOL FOR BRIQUETTES PRODUCTION","OUTIL D'EVALUATION RAPIDE POUR LA PRODUCTION DE BRIQUETTES ","HERRAMIENTA DE EVALUACIÓN RÁPIDA PARA LA PRODUCCIÓN DE BRIQUETAS","title",{"$f":"HLOOKUP($C$2,$B$8:$D9,$A9,FALSE)","v":"RAPID APPRAISAL TOOL FOR BRIQUETTES PRODUCTION"},{"$f":"$E9&$A9","v":"title2"}]
[3,"Disclaimer ","Déni de responsabilité ","Descargo de Responsabilidad ","title",{"$f":"HLOOKUP($C$2,$B$8:$D10,$A10,FALSE)","v":"Disclaimer "},"title3"]
[4,"FAO declines all responsibility for errors or deficiencies in the database or software or in the documentation accompanying it, for program maintenance and upgrading as well as for any damage that may arise from them.  FAO also declines any responsibility for updating the data and assumes no responsibility for errors and omissions in the data provided. Users are, however, kindly asked to report any errors or deficiencies in this product to FAO.  The choices of calculation made in this tool are those of the author(s) and do not necessarily reflect the views and choices of the Food and Agriculture Organization of the United Nations.","La FAO décline toute responsabilité quant aux erreurs ou défauts des textes du présent site et des bases de données y afférentes, ainsi que pour les dommages pouvant en résulter. La FAO décline également toute responsabilité quant à la mise à jour des données et se dégage de toute responsabilité quant aux erreurs ou omissions concernant les données fournies. Les utilisateurs sont toutefois invités à signaler toute erreur ou lacune de ce produit à la FAO. Les choix  des calculs faits  dans le présent outil sont celles du/des auteur(s) et ne reflètent pas nécessairement les choix et opinions de l’Organisation des Nations Unies pour l’alimentation et l’agriculture (FAO).","La FAO declina cualquier responsabilidad por errores u otros defectos del banco de datos, programa o de la documentación que los acompaña, o por cualquier daño derivado de ellos, así como por el mantenimiento y el mejoramiento de los programas. La FAO declina asimismo cualquier responsabilidad por la actualización de los datos, o por errores u omisiones en los datos que se han proporcionado. Se pide no obstante a los usuarios que señalen eventuales errores o defectos de este producto a la FAO. La elección de los cálculos presente en esta herramienta son las del/de los autor(es) y no reflejan necesariamente  las opiniones y elecciones de la Organización de las Naciones Unidas para la Agricultura y la Alimentación.","title",{"$f":"HLOOKUP($C$2,$B$8:$D11,$A11,FALSE)","v":"FAO declines all responsibility for errors or deficiencies in the database or software or in the documentation accompanying it, for program maintenance and upgrading as well as for any damage that may arise from them.  FAO also declines any responsibility for updating the data and assumes no responsibility for errors and omissions in the data provided. Users are, however, kindly asked to report any errors or deficiencies in this product to FAO.  The choices of calculation made in this tool are those of the author(s) and do not necessarily reflect the views and choices of the Food and Agriculture Organization of the United Nations."},"title4"]
[5,"BIOMASS BRIQUETTE SYSTEM FOR RURAL/URBAN ENERGY","SYSTÈME DE BRIQUETTES DE BIOMASSE POUR L'ÉNERGIE RURALE/URBAINE","SISTEMA DE BRIQUETAS A PARTIR DE BIOMASA PARA ENERGÍA RURAL/URBANA","title",{"$f":"HLOOKUP($C$2,$B$8:$D12,$A12,FALSE)","v":"BIOMASS BRIQUETTE SYSTEM FOR RURAL/URBAN ENERGY"},"title5"]
[6,"Low bulk density biomass","Biomasse en vrac à faible densité","Biomasa de baja densidad aparente","title",{"$f":"HLOOKUP($C$2,$B$8:$D13,$A13,FALSE)","v":"Low bulk density biomass"},"title6"]
[7,"80–100 kg/m3 for agricultural straw and grass ","80–100 kg/m3 pour la paille et l'herbe agricole","80–100 kg/m3 para residuos agrícolas","title",{"$f":"HLOOKUP($C$2,$B$8:$D14,$A14,FALSE)","v":"80–100 kg/m3 for agricultural straw and grass "},"title7"]
[8,"150-200 kg/m3 for woodfuel biomass","150-200 kg/m3 pour la biomasse du bois de feu","150-200 kg/m3 para madera combustible","title",{"$f":"HLOOKUP($C$2,$B$8:$D15,$A15,FALSE)","v":"150-200 kg/m3 for woodfuel biomass"},"title8"]
[9,"Binder","Liant","Aglutinante","title",{"$f":"HLOOKUP($C$2,$B$8:$D16,$A16,FALSE)","v":"Binder"},"title9"]
[10,"Type of binder in the cold briquette process:","Type de liant dans le procédé de briquettes froides:","Tipo de aglutinante en el proceso en frío de briquetas:","title",{"$f":"HLOOKUP($C$2,$B$8:$D17,$A17,FALSE)","v":"Type of binder in the cold briquette process:"},"title10"]
[11,"Cassava flour","Farine de manioc ","Harina de yuca","title",{"$f":"HLOOKUP($C$2,$B$8:$D18,$A18,FALSE)","v":"Cassava flour"},"title11"]
[12,"Maize flour","Farine de maïs","Harina de maíz","title",{"$f":"HLOOKUP($C$2,$B$8:$D19,$A19,FALSE)","v":"Maize flour"},"title12"]
[13,"Wheat flour","Farine de blé ","Harina de trigo","title",{"$f":"HLOOKUP($C$2,$B$8:$D20,$A20,FALSE)","v":"Wheat flour"},"title13"]
[14,"The briquettes’ densities generally range from 900 to 1300 kg/m3.","La densités des briquettes varient généralement de 900 à 1300 kg/m3.","La densidad de las briquetas generalmente varía de 900 a 1300 kg/m3.","title",{"$f":"HLOOKUP($C$2,$B$8:$D21,$A21,FALSE)","v":"The briquettes’ densities generally range from 900 to 1300 kg/m3."},"title14"]
[15,"Biomass residue collection & transportation","Collecte des résidus de biomasse et le transport","Recolección y transporte de la biomasa residual","title",{"$f":"HLOOKUP($C$2,$B$8:$D22,$A22,FALSE)","v":"Biomass residue collection & transportation"},"title15"]
[16,"Biomass stockpile","Stocks de biomasse","Reserva de biomasa","title",{"$f":"HLOOKUP($C$2,$B$8:$D23,$A23,FALSE)","v":"Biomass stockpile"},"title16"]
[17,"Pre-treatment","Pré-traitement","Pre-tratamiento","title",{"$f":"HLOOKUP($C$2,$B$8:$D24,$A24,FALSE)","v":"Pre-treatment"},"title17"]
[18,"Briquetting","Briquetage","Producción de briquetas","title",{"$f":"HLOOKUP($C$2,$B$8:$D25,$A25,FALSE)","v":"Briquetting"},"title18"]
[19,"Cooling or drying system","Système de refroidissement ou séchage","Sistema de enfriamiento o secado","title",{"$f":"HLOOKUP($C$2,$B$8:$D26,$A26,FALSE)","v":"Cooling or drying system"},"title19"]
[20,"Briquette packaging & storage","Emballage et stockage de briquettes","Empaque y almacenamiento de las briquetas","title",{"$f":"HLOOKUP($C$2,$B$8:$D27,$A27,FALSE)","v":"Briquette packaging & storage"},"title20"]
[21,"Distribute to market","Distribuer  au marché ","Distribución al mercado","title",{"$f":"HLOOKUP($C$2,$B$8:$D28,$A28,FALSE)","v":"Distribute to market"},"title21"]
[22,"Biomass residues from the field","Résidus de biomasse provenant des champs","Biomass residues from the field","title",{"$f":"HLOOKUP($C$2,$B$8:$D29,$A29,FALSE)","v":"Biomass residues from the field"},"title22"]
[23,"Pre-treatment process:","Processus de pré-traitement:","Proceso de pre-tratamiento:","title",{"$f":"HLOOKUP($C$2,$B$8:$D30,$A30,FALSE)","v":"Pre-treatment process:"},"title23"]
[24,"Cutting","Coupe","Cortado","title",{"$f":"HLOOKUP($C$2,$B$8:$D31,$A31,FALSE)","v":"Cutting"},"title24"]
[25,"Grinding","Broyage","Molienda","title",{"$f":"HLOOKUP($C$2,$B$8:$D32,$A32,FALSE)","v":"Grinding"},"title25"]
[26,"Pre-heating","Pré-chauffage","Precalentamiento","title",{"$f":"HLOOKUP($C$2,$B$8:$D33,$A33,FALSE)","v":"Pre-heating"},"title26"]
[27,"Torrefication and charcoal process","Torrefication et processus de charbon de bois","Proceso de torrefication y carbón vegetal ","title",{"$f":"HLOOKUP($C$2,$B$8:$D34,$A34,FALSE)","v":"Torrefication and charcoal process"},"title27"]
[28,"Briquetting machine:","Machine à briquettes:","Máquina de briqueteado:","title",{"$f":"HLOOKUP($C$2,$B$8:$D35,$A35,FALSE)","v":"Briquetting machine:"},"title28"]
[29,"Manual press","Presse manuelle ","Prensa manual","title",{"$f":"HLOOKUP($C$2,$B$8:$D36,$A36,FALSE)","v":"Manual press"},"title29"]
[30,"Hydraulic press","Presse hydraulique ","Prensa hidráulica","title",{"$f":"HLOOKUP($C$2,$B$8:$D37,$A37,FALSE)","v":"Hydraulic press"},"title30"]
[31,"Screw press","Presse à vis ","Prensa de tornillo","title",{"$f":"HLOOKUP($C$2,$B$8:$D38,$A38,FALSE)","v":"Screw press"},"title31"]
[32,"Pits press","Presse fosses,","Presión pits","title",{"$f":"HLOOKUP($C$2,$B$8:$D39,$A39,FALSE)","v":"Pits press"},"title32"]
[33,"Quality parameter:","Paramètre de qualité: ","Parámetro de calidad:","title",{"$f":"HLOOKUP($C$2,$B$8:$D40,$A40,FALSE)","v":"Quality parameter:"},"title33"]
[34,"Moisture content (%)","Teneur en humidité (%) ","Contenido de humedad (%)","title",{"$f":"HLOOKUP($C$2,$B$8:$D41,$A41,FALSE)","v":"Moisture content (%)"},"title34"]
[35,"Unit density (kg/m3)","Densité de l'unité (kg/m3)","Densidad unitaria (kg/m3)","title",{"$f":"HLOOKUP($C$2,$B$8:$D42,$A42,FALSE)","v":"Unit density (kg/m3)"},"title35"]
[36,"Bulk density (kg/m3)","Densité volumique (kg/m3)","Densidad aparente (kg/m3)","title",{"$f":"HLOOKUP($C$2,$B$8:$D43,$A43,FALSE)","v":"Bulk density (kg/m3)"},"title36"]
[37,"Durability index (%)","Indice de durabilité (%)","Índice de durabilidad (%)","title",{"$f":"HLOOKUP($C$2,$B$8:$D44,$A44,FALSE)","v":"Durability index (%)"},"title37"]
[38,"Percent fines (%)","Amendes de pourcentages (%)","Porcentaje de finos (%)","title",{"$f":"HLOOKUP($C$2,$B$8:$D45,$A45,FALSE)","v":"Percent fines (%)"},"title38"]
[39,"Calorific value (MJ/kg)","Pouvoir calorifique (MJ/kg)","Valor calorífico (MJ/kg)","title",{"$f":"HLOOKUP($C$2,$B$8:$D46,$A46,FALSE)","v":"Calorific value (MJ/kg)"},"title39"]
[40,"Potential applications for charcoal briquettes","Applications potentielles de briquettes de charbon de bois ","Aplicaciones potenciales de briquetas de carbón vegetal ","title",{"$f":"HLOOKUP($C$2,$B$8:$D47,$A47,FALSE)","v":"Potential applications for charcoal briquettes"},"title40"]
[41,"Industry","Industrie ","Industria","title",{"$f":"HLOOKUP($C$2,$B$8:$D48,$A48,FALSE)","v":"Industry"},"title41"]
[42,"Domestic use","Usage domestique ","Uso doméstico","title",{"$f":"HLOOKUP($C$2,$B$8:$D49,$A49,FALSE)","v":"Domestic use"},"title42"]
[43,"Commercial and institutional catering","Restauration commerciale et collective ","Servicio de comidas comercial e institucional","title",{"$f":"HLOOKUP($C$2,$B$8:$D50,$A50,FALSE)","v":"Commercial and institutional catering"},"title43"]
[44,"Hospitality","Hospitalité ","Hospitalidad ","title",{"$f":"HLOOKUP($C$2,$B$8:$D51,$A51,FALSE)","v":"Hospitality"},"title44"]
[45,"Industrial boilers","Chaudières industrielles ","Calderas industriales","title",{"$f":"HLOOKUP($C$2,$B$8:$D52,$A52,FALSE)","v":"Industrial boilers"},"title45"]
[46,"Food processing","Transformation des aliments ","Procesamiento de alimentos","title",{"$f":"HLOOKUP($C$2,$B$8:$D53,$A53,FALSE)","v":"Food processing"},"title46"]
[47,"Textiles","Textiles","Textiles","title",{"$f":"HLOOKUP($C$2,$B$8:$D54,$A54,FALSE)","v":"Textiles"},"title47"]
[48,"Crop processing","Traitement de récolte ","Procesamiento de cultivos","title",{"$f":"HLOOKUP($C$2,$B$8:$D55,$A55,FALSE)","v":"Crop processing"},"title48"]
[49,"Ceramic production","Production de céramique ","Producción de cerámicas","title",{"$f":"HLOOKUP($C$2,$B$8:$D56,$A56,FALSE)","v":"Ceramic production"},"title49"]
[50,"Gasification","Gazéification","Gasificación","title",{"$f":"HLOOKUP($C$2,$B$8:$D57,$A57,FALSE)","v":"Gasification"},"title50"]
[51,"Charcoal production","Production de charbon de bois","Producción de carbón vegetal","title",{"$f":"HLOOKUP($C$2,$B$8:$D58,$A58,FALSE)","v":"Charcoal production"},"title51"]
[52,"Poultry","Volaille","Aves de corral","title",{"$f":"HLOOKUP($C$2,$B$8:$D59,$A59,FALSE)","v":"Poultry"},"title52"]
[53,"Possible application","Application possible ","Aplicación industrial","title",{"$f":"HLOOKUP($C$2,$B$8:$D60,$A60,FALSE)","v":"Possible application"},"title53"]
[54,"Cooking, water heating and space heating","Cuisson, le chauffage de l'eau et le chauffage des locaux ","Cocina, calentamiento de agua, calefacción de espacios","title",{"$f":"HLOOKUP($C$2,$B$8:$D61,$A61,FALSE)","v":"Cooking, water heating and space heating"},"title54"]
[55,"Cooking, water heating, grilling","Cuisson, le chauffage de l'eau, griller ","Cocina, calentamiento de agua, asar a la parrilla","title",{"$f":"HLOOKUP($C$2,$B$8:$D62,$A62,FALSE)","v":"Cooking, water heating, grilling"},"title55"]
[56,"Cooking, water heating, space heating (outdoor dining areas)","Cuisson, le chauffage de l'eau, le chauffage des locaux (salles à manger en plein air)","Cocina, calentamiento de agua, calefacción (comedores al aire libre)","title",{"$f":"HLOOKUP($C$2,$B$8:$D63,$A63,FALSE)","v":"Cooking, water heating, space heating (outdoor dining areas)"},"title56"]
[57,"Generation of heat and steam","Génération de chaleur et de vapeur ","Generación de calor y vapor","title",{"$f":"HLOOKUP($C$2,$B$8:$D64,$A64,FALSE)","v":"Generation of heat and steam"},"title57"]
[58,"Distilleries, bakeries, canteens, restaurants, drying","Distilleries, boulangeries, cantines, restaurants, séchage ","Destilerías, panaderías, comedores, restaurantes, secado","title",{"$f":"HLOOKUP($C$2,$B$8:$D65,$A65,FALSE)","v":"Distilleries, bakeries, canteens, restaurants, drying"},"title58"]
[59,"Dyeing, bleaching","Teinture, le blanchiment ","Tintura, blanqueo","title",{"$f":"HLOOKUP($C$2,$B$8:$D66,$A66,FALSE)","v":"Dyeing, bleaching"},"title59"]
[60,"Tobacco curing, tea drying, oil milling","Durcissement de tabac, séchage du thé, de la mouture de l'huile","Curado de tabaco, secado de té, molienda de aceite","title",{"$f":"HLOOKUP($C$2,$B$8:$D67,$A67,FALSE)","v":"Tobacco curing, tea drying, oil milling"},"title60"]
[61,"Brick kilns, tile making, pot firing, etc.","Les fours à briques, fabrication de tuiles, pot tir, etc ","Los hornos de ladrillos, fabricación de tejas, olla de cocción, etc.","title",{"$f":"HLOOKUP($C$2,$B$8:$D68,$A68,FALSE)","v":"Brick kilns, tile making, pot firing, etc."},"title61"]
[62,"Fuel for gasifiers to produce electricity","Carburant pour les gazogènes à produire de l'électricité ","Combustible para gasificadores para producir electricidad","title",{"$f":"HLOOKUP($C$2,$B$8:$D69,$A69,FALSE)","v":"Fuel for gasifiers to produce electricity"},"title62"]
[63,"Initiating pyrolysis to make charcoal production more efficient","Lancement de pyrolyse pour rendre la production de charbon de bois plus efficace","Iniciador de pirolisis para aumentar la eficiencia de la producción de carbón vegetal","title",{"$f":"HLOOKUP($C$2,$B$8:$D70,$A70,FALSE)","v":"Initiating pyrolysis to make charcoal production more efficient"},"title63"]
[64,"Incubation and heating of chicks","Incubation et le chauffage des poussins ","Incubación y calentamiento de pollitos","title",{"$f":"HLOOKUP($C$2,$B$8:$D71,$A71,FALSE)","v":"Incubation and heating of chicks"},"title64"]
[65,"User feedback on briquettes","Commentaires des utilisateurs sur les briquettes ","Comentarios de los usuarios sobre las briquetas","title",{"$f":"HLOOKUP($C$2,$B$8:$D72,$A72,FALSE)","v":"User feedback on briquettes"},"title65"]
[66,"Pros","Avantages","Pros:","title",{"$f":"HLOOKUP($C$2,$B$8:$D73,$A73,FALSE)","v":"Pros"},{"$f":"$E73&$A73","v":"title66"}]
[67,"1. Briquettes are a good substitute for wood ","1. Les briquettes sont un bon substitut pour le bois ","1. Las briquetas son un buen sustituto para la madera","title",{"$f":"HLOOKUP($C$2,$B$8:$D74,$A74,FALSE)","v":"1. Briquettes are a good substitute for wood "},"title67"]
[68,"2. They burn with a small flame and with less smoke","2. Ils brûlent avec une petite flamme et avec moins de fumée ","2. Ellos se queman con una flama pequeña y producen menos humo","title",{"$f":"HLOOKUP($C$2,$B$8:$D75,$A75,FALSE)","v":"2. They burn with a small flame and with less smoke"},"title68"]
[69,"3. Clean and convenient to handle ","3. Propre et facile à manipuler ","3. Manejo limpio y conveniente","title",{"$f":"HLOOKUP($C$2,$B$8:$D76,$A76,FALSE)","v":"3. Clean and convenient to handle "},"title69"]
[70,"4. Do not require chopping","4. Ne nécessite pas de hachage ","4. No requiere cortado","title",{"$f":"HLOOKUP($C$2,$B$8:$D77,$A77,FALSE)","v":"4. Do not require chopping"},"title70"]
[71,"5. Fit entirely inside cooking stoves so that doors can be closed","5. Se contient entièrement à l'intérieur des cuisinières afin que les portes peuvent être fermées ","5. Entran completamente en las estufas, pudiendo cerrar sus puertas","title",{"$f":"HLOOKUP($C$2,$B$8:$D78,$A78,FALSE)","v":"5. Fit entirely inside cooking stoves so that doors can be closed"},"title71"]
[72,"6. Cook slower and last longer than wood ","6. Cuire lentement et durent plus longtemps que le bois ","6. Cocina lento y dura más que la madera","title",{"$f":"HLOOKUP($C$2,$B$8:$D79,$A79,FALSE)","v":"6. Cook slower and last longer than wood "},"title72"]
[73,"Cons","Inconvénients","Contras:","title",{"$f":"HLOOKUP($C$2,$B$8:$D80,$A80,FALSE)","v":"Cons"},"title73"]
[74,"1. Produce less heat than wood","1. Produisent moins de chaleur que le bois et ne sont pas adaptés pour les opérations de grande puissance comme les copeaux de friture","1. Produce menos calor que la madera","title",{"$f":"HLOOKUP($C$2,$B$8:$D81,$A81,FALSE)","v":"1. Produce less heat than wood"},"title74"]
[75," ENERGY DEMAND FOR BRIQUETTE PRODUCTION","DEMANDE EN ÉNERGIE POUR LA PRODUCTION DES BRIQUETTES ","DEMANDA DE ENERGÍA PARA PRODUCCIÓN DE BRIQUETAS","title",{"$f":"HLOOKUP($C$2,$B$8:$D82,$A82,FALSE)","v":" ENERGY DEMAND FOR BRIQUETTE PRODUCTION"},"title75"]
[76,"Energy Consumption per Household (hh)","Consommation d'Énergie par les Ménages (hh)","Consumo de Energía por Hogar (hh)","title",{"$f":"HLOOKUP($C$2,$B$8:$D83,$A83,FALSE)","v":"Energy Consumption per Household (hh)"},"title76"]
[77,"Rural Households","Ménages Ruraux ","Hogares rurales","title",{"$f":"HLOOKUP($C$2,$B$8:$D84,$A84,FALSE)","v":"Rural Households"},"title77"]
[78,"Market price","Prix du Marché ","Precio del mercado","title",{"$f":"HLOOKUP($C$2,$B$8:$D85,$A85,FALSE)","v":"Market price"},"title78"]
[79,"Consumption","Consommation","Consumo","title",{"$f":"HLOOKUP($C$2,$B$8:$D86,$A86,FALSE)","v":"Consumption"},"title79"]
[80,"Energy expenditure","Dépense d'énergie ","Gasto de energía","title",{"$f":"HLOOKUP($C$2,$B$8:$D87,$A87,FALSE)","v":"Energy expenditure"},"title80"]
[81,"Briquette consumption equivalent ","Consommation de briquettes équivalent ","Consumo de briquetas equivalente","title",{"$f":"HLOOKUP($C$2,$B$8:$D88,$A88,FALSE)","v":"Briquette consumption equivalent "},"title81"]
[82,"Unit/day/hh","Unité/jour/hh","Unidad/día/hh","title",{"$f":"HLOOKUP($C$2,$B$8:$D89,$A89,FALSE)","v":"Unit/day/hh"},"title82"]
[83,"t/year","t/an","t/año","title",{"$f":"HLOOKUP($C$2,$B$8:$D90,$A90,FALSE)","v":"t/year"},"title83"]
[84,"USD/year","USD/an","USD/año","title",{"$f":"HLOOKUP($C$2,$B$8:$D91,$A91,FALSE)","v":"USD/year"},"title84"]
[85,"t/year/hh","t/an/hh","t/año/hh","title",{"$f":"HLOOKUP($C$2,$B$8:$D92,$A92,FALSE)","v":"t/year/hh"},"title85"]
[86," Urban Households","Ménages Urbains ","Hogares urbanos","title",{"$f":"HLOOKUP($C$2,$B$8:$D93,$A93,FALSE)","v":" Urban Households"},"title86"]
[87,"Coal","Charbon ","Carbón","title",{"$f":"HLOOKUP($C$2,$B$8:$D94,$A94,FALSE)","v":"Coal"},"title87"]
[88,"Fuel wood","Bois de feu",null,"title",{"$f":"HLOOKUP($C$2,$B$8:$D95,$A95,FALSE)","v":"Fuel wood"},"title88"]
[89,"Charcoal","Charbon de Bois","Carbón vegetal","title",{"$f":"HLOOKUP($C$2,$B$8:$D96,$A96,FALSE)","v":"Charcoal"},"title89"]
[90,"Natural Gas","Gaz Naturel","Gas Natural","title",{"$f":"HLOOKUP($C$2,$B$8:$D97,$A97,FALSE)","v":"Natural Gas"},"title90"]
[91,"Kerosene","Kérosène ","Kerosén","title",{"$f":"HLOOKUP($C$2,$B$8:$D98,$A98,FALSE)","v":"Kerosene"},"title91"]
[92,"LPG","GPL","GPL","title",{"$f":"HLOOKUP($C$2,$B$8:$D99,$A99,FALSE)","v":"LPG"},"title92"]
[93,"BIOMASS STORAGE CALCULATION FOR ","LE CALCUL DU STOCKAGE DE LA BIOMASSE POUR ","CÁLCULO DEL ALMACENAMIENTO DE BIOMASA PARA ","title",{"$f":"HLOOKUP($C$2,$B$8:$D100,$A100,FALSE)","v":"BIOMASS STORAGE CALCULATION FOR "},"title93"]
[94,"Biomass safety stock rate definition","Définition du Taux de stockage de sécurité de la biomasse","Definición del nivel de stock de biomasa de seguridad","title",{"$f":"HLOOKUP($C$2,$B$8:$D101,$A101,FALSE)","v":"Biomass safety stock rate definition"},"title94"]
[95,"Capacities (kg of briquette per hour)","Capacités (tonnes de briquettes par heure)","Capacidad (toneladas de briquetas por hora)","title",{"$f":"HLOOKUP($C$2,$B$8:$D102,$A102,FALSE)","v":"Capacities (kg of briquette per hour)"},"title95"]
[96,"Unit","Unité","Unidad","title",{"$f":"HLOOKUP($C$2,$B$8:$D103,$A103,FALSE)","v":"Unit"},"title96"]
[97,"t/month","t/mois","t/mes","title",{"$f":"HLOOKUP($C$2,$B$8:$D104,$A104,FALSE)","v":"t/month"},"title97"]
[98,"kg/day","kg/jour","kh/día","title",{"$f":"HLOOKUP($C$2,$B$8:$D105,$A105,FALSE)","v":"kg/day"},"title98"]
[99,"Biomass consumption","Consommation de biomasse","Consumo de biomasa","title",{"$f":"HLOOKUP($C$2,$B$8:$D106,$A106,FALSE)","v":"Biomass consumption"},"title99"]
[100,"Biomass production yield within a specific distance","Rendement de la production de biomasse à une distance donnée","Rendimiento en la producción de biomasa dentro una distancia específica","title",{"$f":"HLOOKUP($C$2,$B$8:$D107,$A107,FALSE)","v":"Biomass production yield within a specific distance"},"title100"]
[101,"Biomass safety stock rate","Taux de stock de sécurité de la matière première","Nivel de stock de biomasa de seguridad","title",{"$f":"HLOOKUP($C$2,$B$8:$D108,$A108,FALSE)","v":"Biomass safety stock rate"},"title101"]
[102,"Biomass stock pile capacity","La capacité de stockage en pile de la biomasse","Capacidad de acópio de biomasa","title",{"$f":"HLOOKUP($C$2,$B$8:$D109,$A109,FALSE)","v":"Biomass stock pile capacity"},"title102"]
[103,"Maximum storage definition","Définition du stockage maximal","Definición del almacenamiento máximo","title",{"$f":"HLOOKUP($C$2,$B$8:$D110,$A110,FALSE)","v":"Maximum storage definition"},"title103"]
[104,"Harvest Month Selection","Sélection du Mois de la Récolte ","Selección de los meses de recolección","title",{"$f":"HLOOKUP($C$2,$B$8:$D111,$A111,FALSE)","v":"Harvest Month Selection"},"title104"]
[105,"Storage Month","Mois de stockage","Meses de almacenamiento","title",{"$f":"HLOOKUP($C$2,$B$8:$D112,$A112,FALSE)","v":"Storage Month"},"title105"]
[106,"Cumulative  Storage (t)","Stockage cumulatif (t)","Almacenamiento acumulado (t)","title",{"$f":"HLOOKUP($C$2,$B$8:$D113,$A113,FALSE)","v":"Cumulative  Storage (t)"},"title106"]
[107,"January","Janvier","Enero","title",{"$f":"HLOOKUP($C$2,$B$8:$D114,$A114,FALSE)","v":"January"},"title107"]
[108,"February","Février","Febrero","title",{"$f":"HLOOKUP($C$2,$B$8:$D115,$A115,FALSE)","v":"February"},"title108"]
[109,"March","Mars","Marzo","title",{"$f":"HLOOKUP($C$2,$B$8:$D116,$A116,FALSE)","v":"March"},"title109"]
[110,"April","Avril","Abril","title",{"$f":"HLOOKUP($C$2,$B$8:$D117,$A117,FALSE)","v":"April"},"title110"]
[111,"May","Mai","Mayo","title",{"$f":"HLOOKUP($C$2,$B$8:$D118,$A118,FALSE)","v":"May"},"title111"]
[112,"June","Juin","Junio","title",{"$f":"HLOOKUP($C$2,$B$8:$D119,$A119,FALSE)","v":"June"},"title112"]
[113,"July","Juillet","Julio","title",{"$f":"HLOOKUP($C$2,$B$8:$D120,$A120,FALSE)","v":"July"},"title113"]
[114,"August","Août","Agosto","title",{"$f":"HLOOKUP($C$2,$B$8:$D121,$A121,FALSE)","v":"August"},"title114"]
[115,"September","Septembre","Septiembre","title",{"$f":"HLOOKUP($C$2,$B$8:$D122,$A122,FALSE)","v":"September"},"title115"]
[116,"October","Octobre","Octubre","title",{"$f":"HLOOKUP($C$2,$B$8:$D123,$A123,FALSE)","v":"October"},"title116"]
[117,"November","Novembre","Noviembre","title",{"$f":"HLOOKUP($C$2,$B$8:$D124,$A124,FALSE)","v":"November"},"title117"]
[118,"December","Décembre","Diciembre","title",{"$f":"HLOOKUP($C$2,$B$8:$D125,$A125,FALSE)","v":"December"},"title118"]
[119,"Maximum Storage Capacity Required (t)","Capacité de stockage maximale requise (t)","Capacidad máxima requerida de almacenamiento (t)","title",{"$f":"HLOOKUP($C$2,$B$8:$D126,$A126,FALSE)","v":"Maximum Storage Capacity Required (t)"},"title119"]
[120,"Minimum Safety Storage (t)","Stockage de sécurité minimal (t)","Nivel mínimo de stock de seguridad (t)","title",{"$f":"HLOOKUP($C$2,$B$8:$D127,$A127,FALSE)","v":"Minimum Safety Storage (t)"},"title120"]
[121,"Monthly Consumption of Biomass Stocked","Consommation mensuelle de la Biomasse stockée","Consumo mensual de la biomasa almacenada","title",{"$f":"HLOOKUP($C$2,$B$8:$D128,$A128,FALSE)","v":"Monthly Consumption of Biomass Stocked"},"title121"]
[122,"DATA ENTRY FOR BIOMASS IN BRIQUETTES PRODUCTION","SAISIE DE DONNEES POUR BIOMASSE DANS LA PRODUCTION DE BRIQUETTES ","DATOS DE ENTRADA PARA LA BIOMASA EN LA PRODUCCIÓN DE BRIQUETAS","title",{"$f":"HLOOKUP($C$2,$B$8:$D129,$A129,FALSE)","v":"DATA ENTRY FOR BIOMASS IN BRIQUETTES PRODUCTION"},"title122"]
[123,"Use white cells to input data","Utilisez les cellules blanches pour saisir les données","Utilice las celdas blancas para ingresar los datos","title",{"$f":"HLOOKUP($C$2,$B$8:$D130,$A130,FALSE)","v":"Use white cells to input data"},"title123"]
[124,"Grey cells are used for calculations","Les cellules grises sont utilisées pour les calculs","Utilice las celdas grises para los cálculos","title",{"$f":"HLOOKUP($C$2,$B$8:$D131,$A131,FALSE)","v":"Grey cells are used for calculations"},"title124"]
[125,"Feedstock Availability and Cost","Disponibilité et Coût des Matières Premières","Disponibilidad y costo de la materia prima","title",{"$f":"HLOOKUP($C$2,$B$8:$D132,$A132,FALSE)","v":"Feedstock Availability and Cost"},"title125"]
[126,"Feedstock ","Matière première ","Materia Prima","title",{"$f":"HLOOKUP($C$2,$B$8:$D133,$A133,FALSE)","v":"Feedstock "},"title126"]
[127,"Feedstock available (t/year)","Matières premières disponibles (t/an)","Materia prima disponible (t/año)","title",{"$f":"HLOOKUP($C$2,$B$8:$D134,$A134,FALSE)","v":"Feedstock available (t/year)"},"title127"]
[128,"Feedstock yield (t/ha)","Rendement des Matières premières","Rendimiento de las materias primas (t/año)","title",{"$f":"HLOOKUP($C$2,$B$8:$D135,$A135,FALSE)","v":"Feedstock yield (t/ha)"},"title128"]
[129,"Moisture content","Teneur en Humidité","Contenido de humedad","title",{"$f":"HLOOKUP($C$2,$B$8:$D136,$A136,FALSE)","v":"Moisture content"},"title129"]
[130,"Feedstock price (USD/t)","Prix des matières premières (USD/t)","Precio de materia prima (USD/t)","title",{"$f":"HLOOKUP($C$2,$B$8:$D137,$A137,FALSE)","v":"Feedstock price (USD/t)"},{"$f":"$E137&$A137","v":"title130"}]
[131,"Chemical binder","Liant Chimique","Aglutinante químico","title",{"$f":"HLOOKUP($C$2,$B$8:$D138,$A138,FALSE)","v":"Chemical binder"},"title131"]
[132,"Binder cost (USD/t)","Coût du liant (USD/t)","Costo del aglutinante (USD/t)","title",{"$f":"HLOOKUP($C$2,$B$8:$D139,$A139,FALSE)","v":"Binder cost (USD/t)"},"title132"]
[133,"Feedstock storage cost (USD/t)","Coût de stockage des matières premières (USD/t)","Costo de almacenamiento de la materia prima (USD/t)","title",{"$f":"HLOOKUP($C$2,$B$8:$D140,$A140,FALSE)","v":"Feedstock storage cost (USD/t)"},"title133"]
[134,"Production Cost and Financial Parameters","Coût de Production et Paramètres Financiers","Costo de producción y parámetros financieros","title",{"$f":"HLOOKUP($C$2,$B$8:$D141,$A141,FALSE)","v":"Production Cost and Financial Parameters"},"title134"]
[135,"Utilities","Utilitaires","Servicios","title",{"$f":"HLOOKUP($C$2,$B$8:$D142,$A142,FALSE)","v":"Utilities"},"title135"]
[136,"Water","Eau","Agua","title",{"$f":"HLOOKUP($C$2,$B$8:$D143,$A143,FALSE)","v":"Water"},"title136"]
[137,"Electricity","Électricité","Electricidad","title",{"$f":"HLOOKUP($C$2,$B$8:$D144,$A144,FALSE)","v":"Electricity"},"title137"]
[138,"Labour","Main d’oeuvre","Mano de obra","title",{"$f":"HLOOKUP($C$2,$B$8:$D145,$A145,FALSE)","v":"Labour"},"title138"]
[139,"Skilled worker","Ouvrier qualifié","Trabajadores cualificados","title",{"$f":"HLOOKUP($C$2,$B$8:$D146,$A146,FALSE)","v":"Skilled worker"},"title139"]
[140,"USD/person-hour","USD/personne-heure","USD/persona-hora","title",{"$f":"HLOOKUP($C$2,$B$8:$D147,$A147,FALSE)","v":"USD/person-hour"},"title140"]
[141,"Unskilled worker","Ouvrier non-qualifié","Trabajadores no cualificados","title",{"$f":"HLOOKUP($C$2,$B$8:$D148,$A148,FALSE)","v":"Unskilled worker"},"title141"]
[142,"Feedstock collection","Collecte des matières premières","Recolección de la materia prima","title",{"$f":"HLOOKUP($C$2,$B$8:$D149,$A149,FALSE)","v":"Feedstock collection"},"title142"]
[143,"Working hours per day (manual)","Heures de travail par jour (manuel)","Horas de trabajo por día (manual)","title",{"$f":"HLOOKUP($C$2,$B$8:$D150,$A150,FALSE)","v":"Working hours per day (manual)"},"title143"]
[144,"Diesel price","Prix du Diesel","Precio del diésel","title",{"$f":"HLOOKUP($C$2,$B$8:$D151,$A151,FALSE)","v":"Diesel price"},"title144"]
[145,"h/day","h/jour","h/día","title",{"$f":"HLOOKUP($C$2,$B$8:$D152,$A152,FALSE)","v":"h/day"},"title145"]
[146,"Working hours per day (mechanized)","Heures de travail par jour (mécanisé )","Horas de trabajo por día (mecanizado)","title",{"$f":"HLOOKUP($C$2,$B$8:$D153,$A153,FALSE)","v":"Working hours per day (mechanized)"},"title146"]
[147,"Price of briquettes","Prix des briquettes","Precio de las briquetas","title",{"$f":"HLOOKUP($C$2,$B$8:$D154,$A154,FALSE)","v":"Price of briquettes"},"title147"]
[148,"Market price (rural areas)","Prix du Marché (zone rurale)","Precio de mercado (zona rural)","title",{"$f":"HLOOKUP($C$2,$B$8:$D155,$A155,FALSE)","v":"Market price (rural areas)"},"title148"]
[149,"Market price (urban areas)","Prix du Marché (zone urbaine)","Precio de mercado (zona urbana)","title",{"$f":"HLOOKUP($C$2,$B$8:$D156,$A156,FALSE)","v":"Market price (urban areas)"},"title149"]
[150,"Transportation cost ","Frais du transport","Costo de transporte","title",{"$f":"HLOOKUP($C$2,$B$8:$D157,$A157,FALSE)","v":"Transportation cost "},"title150"]
[151,"Feedstock (farm to briquette plant)","Matières premières (de la ferme à l'usine de briquettes)","Materia Prima (granja a la planta de briquetaje)","title",{"$f":"HLOOKUP($C$2,$B$8:$D158,$A158,FALSE)","v":"Feedstock (farm to briquette plant)"},"title151"]
[152,"Product (briquettes plant to market)","Produit (briquette usine de marché) ","Producto (planta de briquetas al mercado)","title",{"$f":"HLOOKUP($C$2,$B$8:$D159,$A159,FALSE)","v":"Product (briquettes plant to market)"},"title152"]
[153,"Operating parameters","Paramètres de fonctionnement","Parámetros de operación","title",{"$f":"HLOOKUP($C$2,$B$8:$D160,$A160,FALSE)","v":"Operating parameters"},"title153"]
[154,"Operating days per year","Jours de fonctionnement par an ","Días de operación por año","title",{"$f":"HLOOKUP($C$2,$B$8:$D161,$A161,FALSE)","v":"Operating days per year"},"title154"]
[155,"Operating hours per day (manual-max. 8h)","Heures de fonctionnement par jour (Manuel-max. 8h)","Horas de operación por día","title",{"$f":"HLOOKUP($C$2,$B$8:$D162,$A162,FALSE)","v":"Operating hours per day (manual-max. 8h)"},"title155"]
[156,"days/year","jours/an","días/año","title",{"$f":"HLOOKUP($C$2,$B$8:$D163,$A163,FALSE)","v":"days/year"},"title156"]
[157,"Storage safety rate of product","Taux de sécurité de stockage du produit ","Nivel de stock de seguridad para el producto","title",{"$f":"HLOOKUP($C$2,$B$8:$D164,$A164,FALSE)","v":"Storage safety rate of product"},"title157"]
[158,"Operating hours per day (semi-mechanized)","Heures de fonctionnement par jour (semi-mécanisée)","Horas de operación por dia (semi mecanizada)","title",{"$f":"HLOOKUP($C$2,$B$8:$D165,$A165,FALSE)","v":"Operating hours per day (semi-mechanized)"},"title158"]
[159,"Other costs","Autres coûts","Otros costos","title",{"$f":"HLOOKUP($C$2,$B$8:$D166,$A166,FALSE)","v":"Other costs"},"title159"]
[160,"Plant overhead (%)","Frais généraux de l'usine (%)","Gastos generales de planta (%)","title",{"$f":"HLOOKUP($C$2,$B$8:$D167,$A167,FALSE)","v":"Plant overhead (%)"},"title160"]
[161,"Maintenance (%)","Maintenance (%)","Mantenimiento (%)","title",{"$f":"HLOOKUP($C$2,$B$8:$D168,$A168,FALSE)","v":"Maintenance (%)"},"title161"]
[162,"Miscellaneous (%)","Divers (%)","Gastos miscelaneos (%)","title",{"$f":"HLOOKUP($C$2,$B$8:$D169,$A169,FALSE)","v":"Miscellaneous (%)"},"title162"]
[163,"General and administrative (%)","Frais généraux et administratifs (%)","Generales y administrativos (%)","title",{"$f":"HLOOKUP($C$2,$B$8:$D170,$A170,FALSE)","v":"General and administrative (%)"},"title163"]
[164,"Financial parameters","Paramètres financiers","Parámetros financieros","title",{"$f":"HLOOKUP($C$2,$B$8:$D171,$A171,FALSE)","v":"Financial parameters"},"title164"]
[165,"Discount rate","Taux d'escompte","Tasa de descuento","title",{"$f":"HLOOKUP($C$2,$B$8:$D172,$A172,FALSE)","v":"Discount rate"},"title165"]
[166,"Loan ratio","Ratio du prêt","Proporción de créditos","title",{"$f":"HLOOKUP($C$2,$B$8:$D173,$A173,FALSE)","v":"Loan ratio"},"title166"]
[167,"Loan interest rate","Taux d'intérêt du prêt","Tasa de interés de créditos","title",{"$f":"HLOOKUP($C$2,$B$8:$D174,$A174,FALSE)","v":"Loan interest rate"},"title167"]
[168,"Loan term","Durée du prêt","Duración del prestamo","title",{"$f":"HLOOKUP($C$2,$B$8:$D175,$A175,FALSE)","v":"Loan term"},"title168"]
[169,"year","an","año","title",{"$f":"HLOOKUP($C$2,$B$8:$D176,$A176,FALSE)","v":"year"},"title169"]
[170,"Investment cost update","Mise à jour des coûts d'investissement","Actualización del costo de inversión","title",{"$f":"HLOOKUP($C$2,$B$8:$D177,$A177,FALSE)","v":"Investment cost update"},"title170"]
[171,"Plant Cost Index during ","Indice du coût de l'usine pendant ","Índice de costo de la planta durante ","title",{"$f":"HLOOKUP($C$2,$B$8:$D178,$A178,FALSE)","v":"Plant Cost Index during "},"title171"]
[172,"Please Select","Sélectionnez","Seleccione","title",{"$f":"HLOOKUP($C$2,$B$8:$D179,$A179,FALSE)","v":"Please Select"},"title172"]
[173,"cacao","cacao","cacao","title",{"$f":"HLOOKUP($C$2,$B$8:$D180,$A180,FALSE)","v":"cacao"},"title173"]
[174,"cassava","cannioc","yuca","title",{"$f":"HLOOKUP($C$2,$B$8:$D181,$A181,FALSE)","v":"cassava"},"title174"]
[175,"coconut","noix de coco","coco","title",{"$f":"HLOOKUP($C$2,$B$8:$D182,$A182,FALSE)","v":"coconut"},"title175"]
[176,"coffee","café","café","title",{"$f":"HLOOKUP($C$2,$B$8:$D183,$A183,FALSE)","v":"coffee"},"title176"]
[177,"cotton","coton","algodón","title",{"$f":"HLOOKUP($C$2,$B$8:$D184,$A184,FALSE)","v":"cotton"},"title177"]
[178,"groundnut","arachide","cacahuete","title",{"$f":"HLOOKUP($C$2,$B$8:$D185,$A185,FALSE)","v":"groundnut"},"title178"]
[179,"maize","maïs","maíz","title",{"$f":"HLOOKUP($C$2,$B$8:$D186,$A186,FALSE)","v":"maize"},"title179"]
[180,"millet","millet","mijo","title",{"$f":"HLOOKUP($C$2,$B$8:$D187,$A187,FALSE)","v":"millet"},"title180"]
[181,"oat","avoine","avena","title",{"$f":"HLOOKUP($C$2,$B$8:$D188,$A188,FALSE)","v":"oat"},"title181"]
[182,"oil palm","palmier à huile","palma aceitera","title",{"$f":"HLOOKUP($C$2,$B$8:$D189,$A189,FALSE)","v":"oil palm"},"title182"]
[183,"rice","riz","arroz","title",{"$f":"HLOOKUP($C$2,$B$8:$D190,$A190,FALSE)","v":"rice"},"title183"]
[184,"sorghum","sorgho","sorgo","title",{"$f":"HLOOKUP($C$2,$B$8:$D191,$A191,FALSE)","v":"sorghum"},"title184"]
[185,"soybean","soja","soja","title",{"$f":"HLOOKUP($C$2,$B$8:$D192,$A192,FALSE)","v":"soybean"},"title185"]
[186,"sugarcane","canne à sucre","caña de azúcar","title",{"$f":"HLOOKUP($C$2,$B$8:$D193,$A193,FALSE)","v":"sugarcane"},"title186"]
[187,"wheat","blé","trigo","title",{"$f":"HLOOKUP($C$2,$B$8:$D194,$A194,FALSE)","v":"wheat"},"title187"]
[188,"Forest Harvesting Residues","Résidus de l'exploitation forestière","Residuos de la explotación forestal","title",{"$f":"HLOOKUP($C$2,$B$8:$D195,$A195,FALSE)","v":"Forest Harvesting Residues"},"title188"]
[189,"Wood Processing Residues","Résidus de la transformation du bois","Residuos del procesamiento de la madera","title",{"$f":"HLOOKUP($C$2,$B$8:$D196,$A196,FALSE)","v":"Wood Processing Residues"},"title189"]
[190,"barley","orge","cebada","title",{"$f":"HLOOKUP($C$2,$B$8:$D197,$A197,FALSE)","v":"barley"},"title190"]
[191,"straw","paille","paja","title",{"$f":"HLOOKUP($C$2,$B$8:$D198,$A198,FALSE)","v":"straw"},"title191"]
[192,"pods","cabosse","vainas","title",{"$f":"HLOOKUP($C$2,$B$8:$D199,$A199,FALSE)","v":"pods"},"title192"]
[193,"stalk","tige","tallos","title",{"$f":"HLOOKUP($C$2,$B$8:$D200,$A200,FALSE)","v":"stalk"},"title193"]
[194,"fronds","frondes","frondas","title",{"$f":"HLOOKUP($C$2,$B$8:$D201,$A201,FALSE)","v":"fronds"},{"$f":"$E201&$A201","v":"title194"}]
[195,"husk","écorce","cascarilla","title",{"$f":"HLOOKUP($C$2,$B$8:$D202,$A202,FALSE)","v":"husk"},"title195"]
[196,"shell","coquilles","concha","title",{"$f":"HLOOKUP($C$2,$B$8:$D203,$A203,FALSE)","v":"shell"},"title196"]
[197,"hull","coque","cáscara","title",{"$f":"HLOOKUP($C$2,$B$8:$D204,$A204,FALSE)","v":"hull"},"title197"]
[198,"cob","épi","mazorcas","title",{"$f":"HLOOKUP($C$2,$B$8:$D205,$A205,FALSE)","v":"cob"},"title198"]
[199,"stover","canne","rastrojo","title",{"$f":"HLOOKUP($C$2,$B$8:$D206,$A206,FALSE)","v":"stover"},"title199"]
[200,"empty bunches","péricarpe","racimos ","title",{"$f":"HLOOKUP($C$2,$B$8:$D207,$A207,FALSE)","v":"empty bunches"},"title200"]
[201,"straw/stalk","paille/tige","paja/tallos","title",{"$f":"HLOOKUP($C$2,$B$8:$D208,$A208,FALSE)","v":"straw/stalk"},"title201"]
[202,"tops/leaves","dessus/feuilles","copa/hojas","title",{"$f":"HLOOKUP($C$2,$B$8:$D209,$A209,FALSE)","v":"tops/leaves"},"title202"]
[203,"bagasse","bagasse","bagazo","title",{"$f":"HLOOKUP($C$2,$B$8:$D210,$A210,FALSE)","v":"bagasse"},"title203"]
[204,"yes","oui","si","title",{"$f":"HLOOKUP($C$2,$B$8:$D211,$A211,FALSE)","v":"yes"},"title204"]
[205,"None","Aucun","Ninguno","title",{"$f":"HLOOKUP($C$2,$B$8:$D212,$A212,FALSE)","v":"None"},"title205"]
[206,"Input data below!","Entrez les données \nci-dessous!","Ingresa los datos abajo!","title",{"$f":"HLOOKUP($C$2,$B$8:$D213,$A213,FALSE)","v":"Input data below!"},"title206"]
[207," FINANCIAL ANALYSIS OF BIOMASS BRIQUETTING 4 KG/HOUR","ANALYSE FINANCIÈRE DU BRIQUETAGE DE LA BIOMASSE  4 KG/HEURE","ANALISIS FINANCIERO DE LA PRODUCCION DE BRIQUETAS A PARTIR DE BIOMASA 4 KG/HORA","title",{"$f":"HLOOKUP($C$2,$B$8:$D214,$A214,FALSE)","v":" FINANCIAL ANALYSIS OF BIOMASS BRIQUETTING 4 KG/HOUR"},"title207"]
[208,"Revenues of biomass briquetting system","Chiffre d'affaires de système de fabrication de briquettes de biomasse ","Ingresos del sistema de producción de briquetas de biomasa","title",{"$f":"HLOOKUP($C$2,$B$8:$D215,$A215,FALSE)","v":"Revenues of biomass briquetting system"},"title208"]
[209,"Operating Year","Année d'exploitation ","Año de operación","title",{"$f":"HLOOKUP($C$2,$B$8:$D216,$A216,FALSE)","v":"Operating Year"},"title209"]
[210,"Briquette production capacity (tons per year)","Capacité de production de briquettes (tonnes par an) ","Capacidad de producción de briquetas (ton por año)","title",{"$f":"HLOOKUP($C$2,$B$8:$D217,$A217,FALSE)","v":"Briquette production capacity (tons per year)"},"title210"]
[211,"Efficiency % of briquetting machine","Rendement % de la machine de briquetage ","% de eficiencia de la máquina de producción de briquetas","title",{"$f":"HLOOKUP($C$2,$B$8:$D218,$A218,FALSE)","v":"Efficiency % of briquetting machine"},"title211"]
[212,"Operating hours per year","Heures de fonctionnement par an ","Horas de operación por año","title",{"$f":"HLOOKUP($C$2,$B$8:$D219,$A219,FALSE)","v":"Operating hours per year"},"title212"]
[213,"Capacity utilization factor","Facteur des capacités d'utilisation ","Factor de capacidad de uso","title",{"$f":"HLOOKUP($C$2,$B$8:$D220,$A220,FALSE)","v":"Capacity utilization factor"},"title213"]
[214,"Briquette production (tons per year)","Production de briquettes (tonnes par an) ","Producción de briquetas (ton por año)","title",{"$f":"HLOOKUP($C$2,$B$8:$D221,$A221,FALSE)","v":"Briquette production (tons per year)"},"title214"]
[215,"Total briquette sell to customers (tons per year)","Total des briquettes de vente aux clients (tonnes par an) ","Briquetas totales vendidas a los consumidores (ton por año)","title",{"$f":"HLOOKUP($C$2,$B$8:$D222,$A222,FALSE)","v":"Total briquette sell to customers (tons per year)"},"title215"]
[216,"Price of briquette (USD/kg)","Prix des briquettes (USD / kg) ","Precio de las briquetas (USD/kg)","title",{"$f":"HLOOKUP($C$2,$B$8:$D223,$A223,FALSE)","v":"Price of briquette (USD/kg)"},"title216"]
[217,"Market price of briquette pay by consumers (USD/kg)","Prix du marché de briquettes de rémunération par les consommateurs (USD/kg) ","Precio de mercado de las briquetas pagado por los consumidores (USD/kg)","title",{"$f":"HLOOKUP($C$2,$B$8:$D224,$A224,FALSE)","v":"Market price of briquette pay by consumers (USD/kg)"},"title217"]
[218,"Increasing rate of price of briquette (%)","Augmentation du taux de prix des briquettes (%) ","Tasa de incremento del precio de las briquetas (%)","title",{"$f":"HLOOKUP($C$2,$B$8:$D225,$A225,FALSE)","v":"Increasing rate of price of briquette (%)"},"title218"]
[219,"Total income of briquette (USD per year)","Revenu total de la briquette (USD par an) ","Ingresos totales de las briquetas (USD por año)","title",{"$f":"HLOOKUP($C$2,$B$8:$D226,$A226,FALSE)","v":"Total income of briquette (USD per year)"},"title219"]
[220,"Lifespan of civil work (years)","Durée de vie des travaux de génie civil (ans) ","Vida útil de la obra civil (años)","title",{"$f":"HLOOKUP($C$2,$B$8:$D227,$A227,FALSE)","v":"Lifespan of civil work (years)"},"title220"]
[221,"Lifespan of briquette system (years)","Durée de vie d'un système de briquettes (ans) ","Vida útil del sistema de briquetas (años)","title",{"$f":"HLOOKUP($C$2,$B$8:$D228,$A228,FALSE)","v":"Lifespan of briquette system (years)"},"title221"]
[222,"Project life time (years)","Durée de vie d’un projet (en années) ","Tiempo de vida del proyecto (años)","title",{"$f":"HLOOKUP($C$2,$B$8:$D229,$A229,FALSE)","v":"Project life time (years)"},"title222"]
[223,"Capital and operating cost of biomass briquette system ","Capital et coûts d'exploitation d'un système de briquettes de biomasse ","Costos de capital y operación del sistema de briquetas a partir de biomasa ","title",{"$f":"HLOOKUP($C$2,$B$8:$D230,$A230,FALSE)","v":"Capital and operating cost of biomass briquette system "},"title223"]
[224,"Direct capital cost (USD)","Coût en capital direct (USD)","Costo de capital (USD)","title",{"$f":"HLOOKUP($C$2,$B$8:$D231,$A231,FALSE)","v":"Direct capital cost (USD)"},"title224"]
[225,"Equipments","Equipements","Equipos","title",{"$f":"HLOOKUP($C$2,$B$8:$D232,$A232,FALSE)","v":"Equipments"},"title225"]
[226,"Building","Bâtiment","Construcción","title",{"$f":"HLOOKUP($C$2,$B$8:$D233,$A233,FALSE)","v":"Building"},"title226"]
[227,"Installation","Installation","Instalación","title",{"$f":"HLOOKUP($C$2,$B$8:$D234,$A234,FALSE)","v":"Installation"},"title227"]
[228,"Total capital cost (USD)","Coût total en capital (USD)","Costo total de capital (USD)","title",{"$f":"HLOOKUP($C$2,$B$8:$D235,$A235,FALSE)","v":"Total capital cost (USD)"},"title228"]
[229,"Capital cost (USD/kg of briquette)","Coût en capital (USD/kg de briquettes)","Costo de capital (USD/kg de briqueta)","title",{"$f":"HLOOKUP($C$2,$B$8:$D236,$A236,FALSE)","v":"Capital cost (USD/kg of briquette)"},"title229"]
[230,"Appraisal","Évaluation","Evaluación","title",{"$f":"HLOOKUP($C$2,$B$8:$D237,$A237,FALSE)","v":"Appraisal"},"title230"]
[231,"Project lifetime","Durée de vie du projet","Tiempo de vida del proyecto","title",{"$f":"HLOOKUP($C$2,$B$8:$D238,$A238,FALSE)","v":"Project lifetime"},"title231"]
[232,"Investment per year","Investissement par an","Inversión por año","title",{"$f":"HLOOKUP($C$2,$B$8:$D239,$A239,FALSE)","v":"Investment per year"},"title232"]
[233,"Annual operating and maintenance cost ","Coûts d'opérations et d'entretien annuel ","Costo anual de operación y mantenimiento ","title",{"$f":"HLOOKUP($C$2,$B$8:$D240,$A240,FALSE)","v":"Annual operating and maintenance cost "},"title233"]
[234,"Sub-total material cost (USD)","Sous-total des coûts des matériels (USD)","Costo sub-total de la materia (USD)","title",{"$f":"HLOOKUP($C$2,$B$8:$D241,$A241,FALSE)","v":"Sub-total material cost (USD)"},"title234"]
[235,"Biomass cost (USD/year)","Coût de la biomasse (USD/an)","Costo de la biomasa (USD/año)","title",{"$f":"HLOOKUP($C$2,$B$8:$D242,$A242,FALSE)","v":"Biomass cost (USD/year)"},"title235"]
[236,"Biomass consumption (ton per year)","Consommation de biomasse (tonnes par an) ","Consumo de la biomasa (ton por año)","title",{"$f":"HLOOKUP($C$2,$B$8:$D243,$A243,FALSE)","v":"Biomass consumption (ton per year)"},"title236"]
[237,"Biomass price (USD/ton)","Prix de la biomasse (USD/t)","Precio de la biomasa (USD/t)","title",{"$f":"HLOOKUP($C$2,$B$8:$D244,$A244,FALSE)","v":"Biomass price (USD/ton)"},"title237"]
[238,"Biomass cost of collection (USD/ton)","Coût de la collecte de la biomasse (USD/tonne)","Costo de recolección de la biomasa (USD/t)","title",{"$f":"HLOOKUP($C$2,$B$8:$D245,$A245,FALSE)","v":"Biomass cost of collection (USD/ton)"},"title238"]
[239,"Biomass transportation cost (USD/ton)","Coût de transport de la biomasse (USD/t)","Costo de transporte de la biomasa (USD/t)","title",{"$f":"HLOOKUP($C$2,$B$8:$D246,$A246,FALSE)","v":"Biomass transportation cost (USD/ton)"},"title239"]
[240,"Biomass from farm to plant (USD/ton/km)","Biomasse de la ferme à l'usine (USD/t/km)","Biomasa de la finca a la planta (USD/t/km)","title",{"$f":"HLOOKUP($C$2,$B$8:$D247,$A247,FALSE)","v":"Biomass from farm to plant (USD/ton/km)"},"title240"]
[241,"Transportation distant (km)","Transport à distance (km)","Distancia de transporte (km)","title",{"$f":"HLOOKUP($C$2,$B$8:$D248,$A248,FALSE)","v":"Transportation distant (km)"},"title241"]
[242,"Chemical cost (USD/year)","Coût d'un produit chimique (USD/an)","Costo de productos químicos (USD/año)","title",{"$f":"HLOOKUP($C$2,$B$8:$D249,$A249,FALSE)","v":"Chemical cost (USD/year)"},"title242"]
[243,"Chemical consumption (tons per year)","Consommation d'un produit chimique (tonne par an)","Consumo de productos químicos (USD/año)","title",{"$f":"HLOOKUP($C$2,$B$8:$D250,$A250,FALSE)","v":"Chemical consumption (tons per year)"},"title243"]
[244,"Chemical price (USD/ton)","Prix d'un produit chimique (USD/tonne)","Precio productos químicos (USD/año)","title",{"$f":"HLOOKUP($C$2,$B$8:$D251,$A251,FALSE)","v":"Chemical price (USD/ton)"},"title244"]
[245,"Electricity cost (USD)","Coût de l'électricité (USD)","Costo de la electricidad (USD)","title",{"$f":"HLOOKUP($C$2,$B$8:$D252,$A252,FALSE)","v":"Electricity cost (USD)"},"title245"]
[246,"Water cost (USD/year)","Coût de l'eau (USD/an)","Costo agua (USD/año)","title",{"$f":"HLOOKUP($C$2,$B$8:$D253,$A253,FALSE)","v":"Water cost (USD/year)"},"title246"]
[247,"Sub-total operating cost (USD)","Sous-total  des coûts d'opérations (USD)","Sub-total costos de operación (USD)","title",{"$f":"HLOOKUP($C$2,$B$8:$D254,$A254,FALSE)","v":"Sub-total operating cost (USD)"},"title247"]
[248,"Labour cost (USD)","Coût de la main d’oeuvre (USD)","Costo de la mano de obra (USD)","title",{"$f":"HLOOKUP($C$2,$B$8:$D255,$A255,FALSE)","v":"Labour cost (USD)"},"title248"]
[249,"Annual change in labour cost (%)","Changement annuel du coût du travail (%)","Tasa de cambio anual de los costos de mano de obra (%)","title",{"$f":"HLOOKUP($C$2,$B$8:$D256,$A256,FALSE)","v":"Annual change in labour cost (%)"},"title249"]
[250,"General and administrative cost","Coût généraux et administratifs","Costos generales y administrativos","title",{"$f":"HLOOKUP($C$2,$B$8:$D257,$A257,FALSE)","v":"General and administrative cost"},"title250"]
[251,"Sub-total maintenance cost (USD)","Sous-total des coût d'entretien (USD)","Sub-total costos de mantenimiento (USD)","title",{"$f":"HLOOKUP($C$2,$B$8:$D258,$A258,FALSE)","v":"Sub-total maintenance cost (USD)"},"title251"]
[252,"Sub-total of annual fixed costs","Sous-total des coûts annuels fixes","Sub-total de costo fijo anual","title",{"$f":"HLOOKUP($C$2,$B$8:$D259,$A259,FALSE)","v":"Sub-total of annual fixed costs"},"title252"]
[253,"Sub-total of storage capacity","Sous-total de capacité de stokage","Sub-total de capacidad de almacenamiento","title",{"$f":"HLOOKUP($C$2,$B$8:$D260,$A260,FALSE)","v":"Sub-total of storage capacity"},"title253"]
[254,"Sub-total of briquette transportation to market","Sous-total du transport des briquettes à marché","Sub-total de transporte de briquetas al mercado","title",{"$f":"HLOOKUP($C$2,$B$8:$D261,$A261,FALSE)","v":"Sub-total of briquette transportation to market"},"title254"]
[255,"Total operation and maintenance cost (USD)","Coûts total d'opération et d'entretien (USD)","Costo total de operación y mantenimiento (USD)","title",{"$f":"HLOOKUP($C$2,$B$8:$D262,$A262,FALSE)","v":"Total operation and maintenance cost (USD)"},"title255"]
[256,"Operation and maintenance cost (USD/kg of briquette) without loan interest","Coût de fonctionnement et d'entretien (USD/kg de briquettes) sans intérêts d'emprunt","Costo total de operación y mantenimiento (USD/kg de briqueta) sin intereses de crédito","title",{"$f":"HLOOKUP($C$2,$B$8:$D263,$A263,FALSE)","v":"Operation and maintenance cost (USD/kg of briquette) without loan interest"},"title256"]
[257,"Annual change in raw material cost (%)","Variation annuelle des coût des matières premières (%)","Porcentaje de cambio anual en costos de materia prima (%)","title",{"$f":"HLOOKUP($C$2,$B$8:$D264,$A264,FALSE)","v":"Annual change in raw material cost (%)"},"title257"]
[258,"Inflation rate (%)","Taux d'inflation (%)","Tasa de inflación (%)","title",{"$f":"HLOOKUP($C$2,$B$8:$D265,$A265,FALSE)","v":"Inflation rate (%)"},{"$f":"$E265&$A265","v":"title258"}]
[259,"Loan without policy","Prêt sans politique","Préstamo sin política","title",{"$f":"HLOOKUP($C$2,$B$8:$D266,$A266,FALSE)","v":"Loan without policy"},"title259"]
[260,"Loan amount (USD)","Montant du prêt (USD)","Monto del préstamo (USD)","title",{"$f":"HLOOKUP($C$2,$B$8:$D267,$A267,FALSE)","v":"Loan amount (USD)"},"title260"]
[261,"Loan term (years)","Durée du prêt (années)","Plazo del crédito (años)","title",{"$f":"HLOOKUP($C$2,$B$8:$D268,$A268,FALSE)","v":"Loan term (years)"},"title261"]
[262,"Loan payment (USD/month)","Paiement de prêt (USD/mois)","Pago del crédito (USD/mes)","title",{"$f":"HLOOKUP($C$2,$B$8:$D269,$A269,FALSE)","v":"Loan payment (USD/month)"},"title262"]
[263,"Loan payment (USD/year)","Paiement de prêt (USD/an)","Pago del crédito (USD/año)","title",{"$f":"HLOOKUP($C$2,$B$8:$D270,$A270,FALSE)","v":"Loan payment (USD/year)"},"title263"]
[264,"Total loan payment (USD)","Paiement total du prêt (USD)","Pago total del crédito (USD)","title",{"$f":"HLOOKUP($C$2,$B$8:$D271,$A271,FALSE)","v":"Total loan payment (USD)"},"title264"]
[265,"Loan interest payment (USD)","Paiement des intérêts du prêt (USD)","Intereses por pago del préstamo (USD)","title",{"$f":"HLOOKUP($C$2,$B$8:$D272,$A272,FALSE)","v":"Loan interest payment (USD)"},"title265"]
[266,"Average loan interest payment for project lifetime","Paiement d'intérêt moyen  du prêt pour la durée de vie du projet","Pago de intereses del préstamo promedio por la vida del proyecto","title",{"$f":"HLOOKUP($C$2,$B$8:$D273,$A273,FALSE)","v":"Average loan interest payment for project lifetime"},"title266"]
[267,"USD per year","USD par an","USD por año","title",{"$f":"HLOOKUP($C$2,$B$8:$D274,$A274,FALSE)","v":"USD per year"},"title267"]
[268,"Income tax analysis","Analyse de l'impôt sur le revenu","Análisis del impuesto a los ingresos","title",{"$f":"HLOOKUP($C$2,$B$8:$D275,$A275,FALSE)","v":"Income tax analysis"},"title268"]
[269,"Effective income tax rate (%)","Taux d'imposition effectif (%)","Tasa efectiva del impuesto a los ingresos (%)","title",{"$f":"HLOOKUP($C$2,$B$8:$D276,$A276,FALSE)","v":"Effective income tax rate (%)"},"title269"]
[270,"Income tax (USD)","Impôt sur le revenu (USD)","Impuesto a los ingresos (USD)","title",{"$f":"HLOOKUP($C$2,$B$8:$D277,$A277,FALSE)","v":"Income tax (USD)"},"title270"]
[271,"Total income tax payment (USD)","Paiement total de l'impôt sur le revenu","Pago total del impuesto a los ingresos (USD)","title",{"$f":"HLOOKUP($C$2,$B$8:$D278,$A278,FALSE)","v":"Total income tax payment (USD)"},"title271"]
[272,"Depreciation","Amortissement","Depreciación","title",{"$f":"HLOOKUP($C$2,$B$8:$D279,$A279,FALSE)","v":"Depreciation"},"title272"]
[273,"Depreciation method"," Méthode d'amortissement","Método de depreciación","title",{"$f":"HLOOKUP($C$2,$B$8:$D280,$A280,FALSE)","v":"Depreciation method"},"title273"]
[274,"Total depreciation (USD)","Amortissement total (USD)","Depreciación total (USD)","title",{"$f":"HLOOKUP($C$2,$B$8:$D281,$A281,FALSE)","v":"Total depreciation (USD)"},"title274"]
[275,"Straight-line","Linéaire","Línea-recta","title",{"$f":"HLOOKUP($C$2,$B$8:$D282,$A282,FALSE)","v":"Straight-line"},"title275"]
[276,"Base case project summary","Résumé du projet qui est un cas de référence ","Sumario del caso de referencia","title",{"$f":"HLOOKUP($C$2,$B$8:$D283,$A283,FALSE)","v":"Base case project summary"},"title276"]
[277,"Summary of this project - Before Tax","Résumé de ce projet - avant impôt","Resumen del proyecto - antes de impuestos","title",{"$f":"HLOOKUP($C$2,$B$8:$D284,$A284,FALSE)","v":"Summary of this project - Before Tax"},"title277"]
[278,"Total revenue (USD)","Total des revenus (USD)","Ingresos totales (USD)","title",{"$f":"HLOOKUP($C$2,$B$8:$D285,$A285,FALSE)","v":"Total revenue (USD)"},"title278"]
[279,"Total operating and maintenance cost (USD)","Coût total de fonctionnement et d'entretien (USD)","Costo total de operación y mantenimiento (USD)","title",{"$f":"HLOOKUP($C$2,$B$8:$D286,$A286,FALSE)","v":"Total operating and maintenance cost (USD)"},"title279"]
[280,"Loan payment (USD)","Paiement de prêt (USD)","Pago del crédito (USD)","title",{"$f":"HLOOKUP($C$2,$B$8:$D287,$A287,FALSE)","v":"Loan payment (USD)"},"title280"]
[281,"Cash flow - before tax (USD)","Flux de trésorerie - avant impôts (USD)","El flujo de efectivo - antes de impuestos (USD)","title",{"$f":"HLOOKUP($C$2,$B$8:$D288,$A288,FALSE)","v":"Cash flow - before tax (USD)"},"title281"]
[282,"Average revenue (USD)","Le revenu moyen (USD)","Ingreso medio (USD)","title",{"$f":"HLOOKUP($C$2,$B$8:$D289,$A289,FALSE)","v":"Average revenue (USD)"},"title282"]
[283,"Summary of this project - After Tax","Résumé de ce projet - après impôts","Resumen del proyecto - Después de impuestos","title",{"$f":"HLOOKUP($C$2,$B$8:$D290,$A290,FALSE)","v":"Summary of this project - After Tax"},"title283"]
[284,"Depreciation of fixed costs (USD)","Amortissement des coûts fixes (USD)","Depreciación de costos fijos (USD)","title",{"$f":"HLOOKUP($C$2,$B$8:$D291,$A291,FALSE)","v":"Depreciation of fixed costs (USD)"},"title284"]
[285,"Net profit - before tax (USD) for income tax calculation","Bénéfice net - avant impôts (USD) pour le calcul de l'impôt sur le revenu","Beneficio Neto - antes de impuestos (USD) para impuesto a los ingresos","title",{"$f":"HLOOKUP($C$2,$B$8:$D292,$A292,FALSE)","v":"Net profit - before tax (USD) for income tax calculation"},"title285"]
[286,"Income tax","l'impôt sur le revenu","Impuesto a los ingresos","title",{"$f":"HLOOKUP($C$2,$B$8:$D293,$A293,FALSE)","v":"Income tax"},"title286"]
[287,"Cash flow - after tax (USD)","Flux de  trésorerie - après impôts ( USD )","Flujo de caja - despues de impuestos (USD)","title",{"$f":"HLOOKUP($C$2,$B$8:$D294,$A294,FALSE)","v":"Cash flow - after tax (USD)"},"title287"]
[288,"Cumulative value of Net Profit","Valeur cumulée du bénéfice net","Valor acumulado de beneficios netos","title",{"$f":"HLOOKUP($C$2,$B$8:$D295,$A295,FALSE)","v":"Cumulative value of Net Profit"},"title288"]
[289,"Cumulative value of net profit - before tax","Valeur cumulée du bénéfice net - avant impôt","Valor acumulado de beneficios netos - antes de impuestos","title",{"$f":"HLOOKUP($C$2,$B$8:$D296,$A296,FALSE)","v":"Cumulative value of net profit - before tax"},"title289"]
[290,"Cumulative value of net profit - after tax","Valeur cumulée du bénéfice net - après impôts","Valor acumulado de beneficios netos - después de impuestos","title",{"$f":"HLOOKUP($C$2,$B$8:$D297,$A297,FALSE)","v":"Cumulative value of net profit - after tax"},"title290"]
[291,"Financial analysis results","Résultat de l’analyse financière","Resumen del análisis financiero","title",{"$f":"HLOOKUP($C$2,$B$8:$D298,$A298,FALSE)","v":"Financial analysis results"},"title291"]
[292,"Net present value (NPV) (USD) - before tax","Valeur Actuelle Nette (VAN) (USD) - avant impôt","Valor Actual Neto (VAN) (USD) - antes de impuestos","title",{"$f":"HLOOKUP($C$2,$B$8:$D299,$A299,FALSE)","v":"Net present value (NPV) (USD) - before tax"},"title292"]
[293,"Internal rate of return (IRR) (%) - before tax","Taux de rendement interne (TRI) (%) - avant impôt","Tasa Interna de Rendimiento (TIR) (%) - antes de impuestos","title",{"$f":"HLOOKUP($C$2,$B$8:$D300,$A300,FALSE)","v":"Internal rate of return (IRR) (%) - before tax"},"title293"]
[294,"Payback period (years)","Période de récupération (années)","Tiempo de amortización (años)","title",{"$f":"HLOOKUP($C$2,$B$8:$D301,$A301,FALSE)","v":"Payback period (years)"},"title294"]
[295,"Net present value (NPV) (USD) - after tax","Valeur Actuelle Nette (VAN) (USD) - après impôt","Tasa Interna de Rendimiento (TIR) (%) - después de impuestos","title",{"$f":"HLOOKUP($C$2,$B$8:$D302,$A302,FALSE)","v":"Net present value (NPV) (USD) - after tax"},"title295"]
[296,"Internal rate of return (IRR) (%) - after tax","Taux de rendement interne (TRI) (%) - après impôt","Tasa Interna de Retorno (%) - después de impuestos","title",{"$f":"HLOOKUP($C$2,$B$8:$D303,$A303,FALSE)","v":"Internal rate of return (IRR) (%) - after tax"},"title296"]
[297,"Total Income tax payment of project lifetime","Paiement total de l'impôt sur le revenu de vie du projet","Pago total del impuesto a los ingresos durante la vida útil del proyecto","title",{"$f":"HLOOKUP($C$2,$B$8:$D304,$A304,FALSE)","v":"Total Income tax payment of project lifetime"},"title297"]
[298,"Please see Figure of the cumulative value of net profit - before tax","S'il vous plaît voir la figure de la valeur cumulée du bénéfice net - avant impôt","Por favor, consulte la figura del valor acumulado del Beneficio Neto - antes de impuestos","title",{"$f":"HLOOKUP($C$2,$B$8:$D305,$A305,FALSE)","v":"Please see Figure of the cumulative value of net profit - before tax"},"title298"]
[299,"Please see Figure of the cumulative value of net profit - after tax","S'il vous plaît voir la figure de la valeur cumulée du bénéfice net - après impôt","Por favor, consulte la figura del valor acumulado del Beneficio Neto - después de impuestos","title",{"$f":"HLOOKUP($C$2,$B$8:$D306,$A306,FALSE)","v":"Please see Figure of the cumulative value of net profit - after tax"},"title299"]
[300,"FINANCIAL ANALYSIS OF BIOMASS BRIQUETTING 40 KG/HOUR","ANALYSE FINANCIÈRE DU BRIQUETAGE DE LA BIOMASSE  40 KG/HEURE","ANALISIS FINANCIERO DE LA PRODUCCION DE BRIQUETAS A PARTIR DE BIOMASA 40 KG/HORA","title",{"$f":"HLOOKUP($C$2,$B$8:$D307,$A307,FALSE)","v":"FINANCIAL ANALYSIS OF BIOMASS BRIQUETTING 40 KG/HOUR"},"title300"]
[301,"FINANCIAL ANALYSIS OF BIOMASS BRIQUETTING 400 KG/HOUR","ANALYSE FINANCIÈRE DU BRIQUETAGE DE LA BIOMASSE  400 KG/HEURE","ANALISIS FINANCIERO DE LA PRODUCCION DE BRIQUETAS A PARTIR DE BIOMASA 400 KG/HORA","title",{"$f":"HLOOKUP($C$2,$B$8:$D308,$A308,FALSE)","v":"FINANCIAL ANALYSIS OF BIOMASS BRIQUETTING 400 KG/HOUR"},"title301"]
[302,"FINANCIAL ANALYSIS OF BIOMASS BRIQUETTING 4000 KG/HOUR","ANALYSE FINANCIÈRE DU BRIQUETAGE DE LA BIOMASSE  4000 KG/HEURE","ANALISIS FINANCIERO DE LA PRODUCCION DE BRIQUETAS A PARTIR DE BIOMASA 4000 KG/HORA","title",{"$f":"HLOOKUP($C$2,$B$8:$D309,$A309,FALSE)","v":"FINANCIAL ANALYSIS OF BIOMASS BRIQUETTING 4000 KG/HOUR"},"title302"]
[303,"COLLECTION COSTS CALCULATOR FOR ","CALCULATEUR DES FRAIS DE LA COLLECTE POUR ","CALCULADORA PARA COSTOS DE RECOLECCIÓN PARA ","title",{"$f":"HLOOKUP($C$2,$B$8:$D310,$A310,FALSE)","v":"COLLECTION COSTS CALCULATOR FOR "},"title303"]
[304,"Biomass Collection Definition","Définition de la Collecte de Biomasse","Definición de la recolección de la biomasa","title",{"$f":"HLOOKUP($C$2,$B$8:$D311,$A311,FALSE)","v":"Biomass Collection Definition"},"title304"]
[305,"Sources of biomass","Sources de biomasse","Fuentes de la biomasa","title",{"$f":"HLOOKUP($C$2,$B$8:$D312,$A312,FALSE)","v":"Sources of biomass"},"title305"]
[306,"Collecting method","Méthode de collecte","Método de recolección ","title",{"$f":"HLOOKUP($C$2,$B$8:$D313,$A313,FALSE)","v":"Collecting method"},"title306"]
[307,"Biomass Price Definition","Définition du prix de la Biomasse","Definición del precio de la biomasa","title",{"$f":"HLOOKUP($C$2,$B$8:$D314,$A314,FALSE)","v":"Biomass Price Definition"},"title307"]
[308,"Labour cost","Coût de la main d’oeuvre","Costo de la mano de obra","title",{"$f":"HLOOKUP($C$2,$B$8:$D315,$A315,FALSE)","v":"Labour cost"},"title308"]
[309,"Machinery & operating cost","Coût des opérations et des machines","Maquinaria y costos de operación","title",{"$f":"HLOOKUP($C$2,$B$8:$D316,$A316,FALSE)","v":"Machinery & operating cost"},"title309"]
[310,"Warning: Selecting this option you are assuming that briquette producer owns the wood plantation. Then, feedstock price is equal to production cost. ","Attention: en sélectionnant cette option vous supposez que le producteur de briquettes est propriétaire de la plantation de bois. Donc, le prix des matières premières est égal au coût de production. ","Atención: Al seleccionar esta opción usted está asumiendo que el fabricante de briquetas es dueño de la plantación de donde proviene la madera. Entonces, el precio de la madera es igual al costo de producción de la misma. ","title",{"$f":"HLOOKUP($C$2,$B$8:$D317,$A317,FALSE)","v":"Warning: Selecting this option you are assuming that briquette producer owns the wood plantation. Then, feedstock price is equal to production cost. "},"title310"]
[311,"Warning: Selecting this option you are assuming that this type of biomass is already collected. Then, only transportation cost should be considered. ","Attention: En sélectionnant cette option, vous supposez que ce type de biomasse est déjà collecté. Donc, seuls les frais de transport doivent être pris en considération. ","Atención: Al seleccionar esta opción usted está asumiendo que éste tipo de biomasa se encuentra ya recolectada. Entonces, sólo costos de transporte serán tomados en cuenta. ","title",{"$f":"HLOOKUP($C$2,$B$8:$D318,$A318,FALSE)","v":"Warning: Selecting this option you are assuming that this type of biomass is already collected. Then, only transportation cost should be considered. "},"title311"]
[312,"Collection price of ","Prix de la collecte de ","Precio de recolección de ","title",{"$f":"HLOOKUP($C$2,$B$8:$D319,$A319,FALSE)","v":"Collection price of "},"title312"]
[313,"Production cost of ","Coût de production de ","Costos de producción de","title",{"$f":"HLOOKUP($C$2,$B$8:$D320,$A320,FALSE)","v":"Production cost of "},"title313"]
[314,"Number of skilled workers","Nombre de travailleurs qualifiés","Número de trabajadores cualificados","title",{"$f":"HLOOKUP($C$2,$B$8:$D321,$A321,FALSE)","v":"Number of skilled workers"},"title314"]
[315,"Skilled labour wage","Salaire de travailleurs qualifiés","Salario de mano de obra cualificada","title",{"$f":"HLOOKUP($C$2,$B$8:$D322,$A322,FALSE)","v":"Skilled labour wage"},"title315"]
[316,"Average fuel economy","Économie moyenne de carburant","Consumo promedio de combustible","title",{"$f":"HLOOKUP($C$2,$B$8:$D323,$A323,FALSE)","v":"Average fuel economy"},"title316"]
[317,"Fuel price","Prix du carburant","Precio de los combustibles","title",{"$f":"HLOOKUP($C$2,$B$8:$D324,$A324,FALSE)","v":"Fuel price"},"title317"]
[318,"Number of unskilled workers","Nombre de travailleurs non qualifiés","Número de trabajadores no cualificados","title",{"$f":"HLOOKUP($C$2,$B$8:$D325,$A325,FALSE)","v":"Number of unskilled workers"},"title318"]
[319,"Unskilled labour wage","Salaire de travailleurs non qualifiés","Salario de mano de obra no cualificada","title",{"$f":"HLOOKUP($C$2,$B$8:$D326,$A326,FALSE)","v":"Unskilled labour wage"},"title319"]
[320,"person-hour/ha","person-heure/ha","persona-hora/ha","title",{"$f":"HLOOKUP($C$2,$B$8:$D327,$A327,FALSE)","v":"person-hour/ha"},"title320"]
[321,"Agriculture residues spread in the field","Résidus agricoles répartis dans les champs","Residuos agrícolas repartidos en el campo","title",{"$f":"HLOOKUP($C$2,$B$8:$D328,$A328,FALSE)","v":"Agriculture residues spread in the field"},"title321"]
[322,"Agriculture residues collected from field","Résidus agricoles recueillis  dans les champs","Residuos agrícolas recolectados de campo","title",{"$f":"HLOOKUP($C$2,$B$8:$D329,$A329,FALSE)","v":"Agriculture residues collected from field"},{"$f":"$E329&$A329","v":"title322"}]
[323,"Agriculture residues from food processing plant","Résidus agricoles issue de la transformation de produits alimentaires","Residuos agrícolas de la planta de procesamiento de alimentos","title",{"$f":"HLOOKUP($C$2,$B$8:$D330,$A330,FALSE)","v":"Agriculture residues from food processing plant"},"title323"]
[324,"Forestry ","Exploitation forestière","Explotación forestal","title",{"$f":"HLOOKUP($C$2,$B$8:$D331,$A331,FALSE)","v":"Forestry "},"title324"]
[325,"Forestry and plantation residues","Résidus agricoles et de l’exploitation forestière","Residuos agrícolas y de explotación forestal","title",{"$f":"HLOOKUP($C$2,$B$8:$D332,$A332,FALSE)","v":"Forestry and plantation residues"},"title325"]
[326,"Residues from wood industry","Résidus de l'industrie du bois","Residuos de la industria maderera","title",{"$f":"HLOOKUP($C$2,$B$8:$D333,$A333,FALSE)","v":"Residues from wood industry"},"title326"]
[327,"Dedicated wood energy plantation ","Plantation de bois dédiée à l'énergie","Plantación forestal dedicata para energía","title",{"$f":"HLOOKUP($C$2,$B$8:$D334,$A334,FALSE)","v":"Dedicated wood energy plantation "},"title327"]
[328,"Collection method","Méthode de collecte","Método de recolección","title",{"$f":"HLOOKUP($C$2,$B$8:$D335,$A335,FALSE)","v":"Collection method"},"title328"]
[329,"Mechanized","Mécanisé","Mecanizada","title",{"$f":"HLOOKUP($C$2,$B$8:$D336,$A336,FALSE)","v":"Mechanized"},"title329"]
[330,"Semi-mechanized","Semi-mécanisé","Semi-mecanizada","title",{"$f":"HLOOKUP($C$2,$B$8:$D337,$A337,FALSE)","v":"Semi-mechanized"},"title330"]
[331,"Quantity ","Quantité ","Cantidad ","title",{"$f":"HLOOKUP($C$2,$B$8:$D338,$A338,FALSE)","v":"Quantity "},"title331"]
[332," Processing costs for Briquette Production from "," Coûts de traitement pour la Production de Briquettes "," Costos de procesamiento para Producción de Briquetas a partir de ","title",{"$f":"HLOOKUP($C$2,$B$8:$D339,$A339,FALSE)","v":" Processing costs for Briquette Production from "},"title332"]
[333,"Summary of Feedstock and Storage","Résumé des Matières Premières et du Stockage","Resumen de materias primas y almacenamiento","title",{"$f":"HLOOKUP($C$2,$B$8:$D340,$A340,FALSE)","v":"Summary of Feedstock and Storage"},"title333"]
[334,"Safety storage rate of product","Taux de stockage de sécurité du produit","Nivel de almacenamiento de seguridad de producto","title",{"$f":"HLOOKUP($C$2,$B$8:$D341,$A341,FALSE)","v":"Safety storage rate of product"},"title334"]
[335,"Briquette products storage cost (USD/t)","Coût de stockage de briquettes (USD/t)","Costo de almacenamiento de briquetas (USD/t)","title",{"$f":"HLOOKUP($C$2,$B$8:$D342,$A342,FALSE)","v":"Briquette products storage cost (USD/t)"},"title335"]
[336,"Chemical binder cost (USD/t)","Coût du liant Chimique (USD/t)","Costo del aglutinante químico (USD/t)","title",{"$f":"HLOOKUP($C$2,$B$8:$D343,$A343,FALSE)","v":"Chemical binder cost (USD/t)"},"title336"]
[337,"Transformation efficiency (%)","Efficacité de la transformation (%)","Eficiencia de transformación (%)","title",{"$f":"HLOOKUP($C$2,$B$8:$D344,$A344,FALSE)","v":"Transformation efficiency (%)"},"title337"]
[338,"Transport Distance of Feedstock","Distance de Transport des Matières Premières","Distancia de transporte de la materia prima","title",{"$f":"HLOOKUP($C$2,$B$8:$D345,$A345,FALSE)","v":"Transport Distance of Feedstock"},"title338"]
[339,"Transport Quantity","Quantité à Transporter ","Cantidad transportada","title",{"$f":"HLOOKUP($C$2,$B$8:$D346,$A346,FALSE)","v":"Transport Quantity"},"title339"]
[340,"Transport Distance of Products","Distance de Transport des Produits","Distancia de transporte de productos","title",{"$f":"HLOOKUP($C$2,$B$8:$D347,$A347,FALSE)","v":"Transport Distance of Products"},"title340"]
[341,"Distance manual production (km)","Distance de la production manuelle (km)","Distancia de producción manual (km)","title",{"$f":"HLOOKUP($C$2,$B$8:$D348,$A348,FALSE)","v":"Distance manual production (km)"},"title341"]
[342,"Distance small scale production (km)","Distance  à la production à petite échelle (km)","Distancia de producción de pequeña escala (km)","title",{"$f":"HLOOKUP($C$2,$B$8:$D349,$A349,FALSE)","v":"Distance small scale production (km)"},"title342"]
[343,"Distance medium scale production (km)","Distance à  la production à moyenne échelle de support (km)","Distancia de producción de mediana escala (km)","title",{"$f":"HLOOKUP($C$2,$B$8:$D350,$A350,FALSE)","v":"Distance medium scale production (km)"},"title343"]
[344,"Distance large scale production (km)","Distance à la production à grande échelle (km)","Distancia de producción de gran escala (km)","title",{"$f":"HLOOKUP($C$2,$B$8:$D351,$A351,FALSE)","v":"Distance large scale production (km)"},"title344"]
[345,"Manual (t/year)","Manuel (t/an)","Manual (t/año)","title",{"$f":"HLOOKUP($C$2,$B$8:$D352,$A352,FALSE)","v":"Manual (t/year)"},"title345"]
[346,"Small scale (t/year)","Petite échelle (t/an)","Pequeña escala (t/año)","title",{"$f":"HLOOKUP($C$2,$B$8:$D353,$A353,FALSE)","v":"Small scale (t/year)"},"title346"]
[347,"Medium scale (t/year)","Moyenne échelle (t/an)","Mediana escala (t/año)","title",{"$f":"HLOOKUP($C$2,$B$8:$D354,$A354,FALSE)","v":"Medium scale (t/year)"},"title347"]
[348,"Large scale (t/year)","Grande échelle (t/an)","Gran escala (t/año)","title",{"$f":"HLOOKUP($C$2,$B$8:$D355,$A355,FALSE)","v":"Large scale (t/year)"},"title348"]
[349,"Production Cost Details","Détails des Coûts de Production","Detalles de los costos de producción","title",{"$f":"HLOOKUP($C$2,$B$8:$D356,$A356,FALSE)","v":"Production Cost Details"},"title349"]
[350,"Rural Markets","Marchés Ruraux ","Mercados rurales","title",{"$f":"HLOOKUP($C$2,$B$8:$D357,$A357,FALSE)","v":"Rural Markets"},"title350"]
[351,"Urban Markets","Marchés Urbains","Mercados urbanos","title",{"$f":"HLOOKUP($C$2,$B$8:$D358,$A358,FALSE)","v":"Urban Markets"},"title351"]
[352,"Annual briquette production (t/year)","Production annuelle de briquettes (t/an)","Producción anual de briquetas (t/año)","title",{"$f":"HLOOKUP($C$2,$B$8:$D359,$A359,FALSE)","v":"Annual briquette production (t/year)"},"title352"]
[353,"Inputs","Intrant","Insumos","title",{"$f":"HLOOKUP($C$2,$B$8:$D360,$A360,FALSE)","v":"Inputs"},"title353"]
[354,"Manual","Manuel ","Manual ","title",{"$f":"HLOOKUP($C$2,$B$8:$D361,$A361,FALSE)","v":"Manual"},"title354"]
[355,"Subtotal","Sous-total","Sub-total","title",{"$f":"HLOOKUP($C$2,$B$8:$D362,$A362,FALSE)","v":"Subtotal"},"title355"]
[356,"Unit Price","Prix Unitaire","Precio unitario","title",{"$f":"HLOOKUP($C$2,$B$8:$D363,$A363,FALSE)","v":"Unit Price"},"title356"]
[357,"(USD/Unit)","(USD/Unité)","(USD/Unidad)","title",{"$f":"HLOOKUP($C$2,$B$8:$D364,$A364,FALSE)","v":"(USD/Unit)"},"title357"]
[358,"(USD/year)","(USD/an)","(USD/año)","title",{"$f":"HLOOKUP($C$2,$B$8:$D365,$A365,FALSE)","v":"(USD/year)"},"title358"]
[359,"Labour and miscellaneous costs","Travail et coût divers","Mano de obra y costos varios","title",{"$f":"HLOOKUP($C$2,$B$8:$D366,$A366,FALSE)","v":"Labour and miscellaneous costs"},"title359"]
[360,"Transportation","Transport","Transporte","title",{"$f":"HLOOKUP($C$2,$B$8:$D367,$A367,FALSE)","v":"Transportation"},"title360"]
[361,"Storage","Stockage","Almacenamiento","title",{"$f":"HLOOKUP($C$2,$B$8:$D368,$A368,FALSE)","v":"Storage"},"title361"]
[362,"Briquette products","Produits de Briquettes","Briquetas producidas","title",{"$f":"HLOOKUP($C$2,$B$8:$D369,$A369,FALSE)","v":"Briquette products"},"title362"]
[363,"Investment","Investissement","Inversión","title",{"$f":"HLOOKUP($C$2,$B$8:$D370,$A370,FALSE)","v":"Investment"},"title363"]
[364,"Total investment","Investissement total","Inversión total","title",{"$f":"HLOOKUP($C$2,$B$8:$D371,$A371,FALSE)","v":"Total investment"},"title364"]
[365,"Maintenance cost","Coût de Maintenance","Costo de mantenimiento","title",{"$f":"HLOOKUP($C$2,$B$8:$D372,$A372,FALSE)","v":"Maintenance cost"},"title365"]
[366,"Plant overhead","Frais généraux de l'usine","Gastos generales de planta","title",{"$f":"HLOOKUP($C$2,$B$8:$D373,$A373,FALSE)","v":"Plant overhead"},"title366"]
[367,"Loan interest","Intérêts du prêt","Intereses de créditos","title",{"$f":"HLOOKUP($C$2,$B$8:$D374,$A374,FALSE)","v":"Loan interest"},"title367"]
[368,"Total costs","Coûts totaux","Costos totales","title",{"$f":"HLOOKUP($C$2,$B$8:$D375,$A375,FALSE)","v":"Total costs"},"title368"]
[369,"Total operating costs","Total des coûts d’opérations","Costos de operación totales","title",{"$f":"HLOOKUP($C$2,$B$8:$D376,$A376,FALSE)","v":"Total operating costs"},"title369"]
[370,"Total fixed costs","Total des coûts fixes","Costos fijos totales","title",{"$f":"HLOOKUP($C$2,$B$8:$D377,$A377,FALSE)","v":"Total fixed costs"},"title370"]
[371,"Total other costs","Total des autres charges","Otros costos totales","title",{"$f":"HLOOKUP($C$2,$B$8:$D378,$A378,FALSE)","v":"Total other costs"},"title371"]
[372,"Total production costs","Coûts totaux de production","Total des coûts de production","title",{"$f":"HLOOKUP($C$2,$B$8:$D379,$A379,FALSE)","v":"Total production costs"},"title372"]
[373,"(Unit/year)","(Unité/an)","(Unidad/año)","title",{"$f":"HLOOKUP($C$2,$B$8:$D380,$A380,FALSE)","v":"(Unit/year)"},"title373"]
[374,"(USD/person-hour)","(USD/personne-heure)","(USD/persona-hora)","title",{"$f":"HLOOKUP($C$2,$B$8:$D381,$A381,FALSE)","v":"(USD/person-hour)"},"title374"]
[375,"# employee","# employé","# trabajadores","title",{"$f":"HLOOKUP($C$2,$B$8:$D382,$A382,FALSE)","v":"# employee"},"title375"]
[376,"Rate (%)","Taux (%)","Tasa (%)","title",{"$f":"HLOOKUP($C$2,$B$8:$D383,$A383,FALSE)","v":"Rate (%)"},"title376"]
[377,"Share (%)","Part (%)","Participación (%)","title",{"$f":"HLOOKUP($C$2,$B$8:$D384,$A384,FALSE)","v":"Share (%)"},"title377"]
[378,"Total Depreciation","Total des amortissements","Depreciación total","title",{"$f":"HLOOKUP($C$2,$B$8:$D385,$A385,FALSE)","v":"Total Depreciation"},"title378"]
[379,"Average loan interest","Intérêt moyen du prêt","Interés promedio del crédito","title",{"$f":"HLOOKUP($C$2,$B$8:$D386,$A386,FALSE)","v":"Average loan interest"},"title379"]
[380,"Loan amount","Montant du prêt","Monto del crédito","title",{"$f":"HLOOKUP($C$2,$B$8:$D387,$A387,FALSE)","v":"Loan amount"},"title380"]
[381,"Loan payment","Paiement de prêt","Pago del crédito","title",{"$f":"HLOOKUP($C$2,$B$8:$D388,$A388,FALSE)","v":"Loan payment"},"title381"]
[382,"Annual loan payment","Paiement annuel du prêt","Pago anual del crédito","title",{"$f":"HLOOKUP($C$2,$B$8:$D389,$A389,FALSE)","v":"Annual loan payment"},"title382"]
[383,"Total loan payment","Paiement total du prêt ","Pago total del crédito","title",{"$f":"HLOOKUP($C$2,$B$8:$D390,$A390,FALSE)","v":"Total loan payment"},"title383"]
[384,"USD/month","USD/mois","USD/mes","title",{"$f":"HLOOKUP($C$2,$B$8:$D391,$A391,FALSE)","v":"USD/month"},"title384"]
[385,"Unit cost of briquette (USD/kg of briquette)","Coût unitaire de briquettes (USD / kg de briquettes) ","Costo unitario de las briquetas (USD/kg de briqueta)","title",{"$f":"HLOOKUP($C$2,$B$8:$D392,$A392,FALSE)","v":"Unit cost of briquette (USD/kg of briquette)"},"title385"]
[386,"Show Costing Details","Montrez les Détails des Coûts","Mostrar detalles de cálculo de costos","title",{"$f":"HLOOKUP($C$2,$B$8:$D393,$A393,FALSE)","v":"Show Costing Details"},"title386"]
[387,"Hide Costing Details","Cachez les Détails des Coûts","Ocultar detalles de cálculo de costos","title",{"$f":"HLOOKUP($C$2,$B$8:$D394,$A394,FALSE)","v":"Hide Costing Details"},{"$f":"$E394&$A394","v":"title387"}]
[388,"Piston press ","Presse à piston","Prensa de piston","title",{"$f":"HLOOKUP($C$2,$B$8:$D395,$A395,FALSE)","v":"Piston press "},"title388"]
[389,"Roller press","Presse à cylindre","Prensa de rodillo","title",{"$f":"HLOOKUP($C$2,$B$8:$D396,$A396,FALSE)","v":"Roller press"},"title389"]
[390,"Agglomerator","Agglomérateur","Aglomerador","title",{"$f":"HLOOKUP($C$2,$B$8:$D397,$A397,FALSE)","v":"Agglomerator"},"title390"]
[391,"Pellet mill","Usine de fabrication de granulés de bois ","Molino de pellets","title",{"$f":"HLOOKUP($C$2,$B$8:$D398,$A398,FALSE)","v":"Pellet mill"},"title391"]
[392,"SUMMARY OF RESULTS FOR BRIQUETTE PRODUCTION FROM ","RÉSUMÉ DES RÉSULTATS POUR LA PRODUCTION DE BRIQUETTE DE ","RESUMEN DE RESULTADOS PARA LA PRODUCCIÓN DE BRIQUETAS DE ","title",{"$f":"HLOOKUP($C$2,$B$8:$D399,$A399,FALSE)","v":"SUMMARY OF RESULTS FOR BRIQUETTE PRODUCTION FROM "},"title392"]
[393,"Select a feedstock to see the summary results","Sélectionner une matière première pour voir les résultats sommaires ","Seleccione la materia prima para ver el resumen de resultados","title",{"$f":"HLOOKUP($C$2,$B$8:$D400,$A400,FALSE)","v":"Select a feedstock to see the summary results"},"title393"]
[394,"Production Cost and Investment Results","Résultats des Coûts de Production et d'Investissement ","Resultados de Costos de Producción e Inversión","title",{"$f":"HLOOKUP($C$2,$B$8:$D401,$A401,FALSE)","v":"Production Cost and Investment Results"},"title394"]
[395,"Production Cost of Briquettes + Transport (USD/kg of briquettes)","Coût de Production de Briquettes + Transport (USD / kg de briquettes) ","Costo de producción de las briquetas + Transporte (USD/kg de briquetas)","title",{"$f":"HLOOKUP($C$2,$B$8:$D402,$A402,FALSE)","v":"Production Cost of Briquettes + Transport (USD/kg of briquettes)"},"title395"]
[396,"Share of Production Cost (%)","Part des Coûts de Production (%)","Porcentaje de costo producción (%)","title",{"$f":"HLOOKUP($C$2,$B$8:$D403,$A403,FALSE)","v":"Share of Production Cost (%)"},"title396"]
[397,"     Compare to market price rural","     Comparer au prix du marché rural","     Comparar con el precio de mercado rural","title",{"$f":"HLOOKUP($C$2,$B$8:$D404,$A404,FALSE)","v":"     Compare to market price rural"},"title397"]
[398,"     Compare to market price urban","     Comparer au prix du marché urbain","     Comparar con el precio de mercado urbano","title",{"$f":"HLOOKUP($C$2,$B$8:$D405,$A405,FALSE)","v":"     Compare to market price urban"},"title398"]
[399,"Operating Results","Résultats de l'exploitation","Resultados de operación","title",{"$f":"HLOOKUP($C$2,$B$8:$D406,$A406,FALSE)","v":"Operating Results"},"title399"]
[400,"Feedstock Consumption","Consommation de Matières Premières","Consumo de Material Prima","title",{"$f":"HLOOKUP($C$2,$B$8:$D407,$A407,FALSE)","v":"Feedstock Consumption"},"title400"]
[401,"Number of Potential Plants and Area Required","Nombre d'usines potentielles et Zone requise","Número potencial de plantas y area requerida","title",{"$f":"HLOOKUP($C$2,$B$8:$D408,$A408,FALSE)","v":"Number of Potential Plants and Area Required"},"title401"]
[402,"Households Potentially Supplied per plant","Les ménages potentiellement approvisionnés par plante","Hogares potencialmente suministrados por planta","title",{"$f":"HLOOKUP($C$2,$B$8:$D409,$A409,FALSE)","v":"Households Potentially Supplied per plant"},"title402"]
[403,"Not enough biomass available for Size 1. Then potential number of plants is zero","Pas suffisamment de biomasse disponible pour la taille 1. Donc, le nombre potentiel d'usines est zéro","Biomasa disponible insuficiente para Tamaño 1. Entonces, número potencial de plantas es cero","title",{"$f":"HLOOKUP($C$2,$B$8:$D410,$A410,FALSE)","v":"Not enough biomass available for Size 1. Then potential number of plants is zero"},"title403"]
[404,"The maximum number of plants potentially available for Size 1 is ","Le nombre maximal d'usines potentiellement disponibles pour la taille 1 est","El número máximo de plantas potencialmente disponible para la tamaño 1 es","title",{"$f":"HLOOKUP($C$2,$B$8:$D411,$A411,FALSE)","v":"The maximum number of plants potentially available for Size 1 is "},"title404"]
[405,"Not enough biomass available for Size 2. Then potential number of plants is zero","Pas suffisamment de biomasse disponible pour la taille 2. Donc, le nombre potentiel d'usines est zéro","Biomasa disponible insuficiente para Tamaño 2. Entonces, número potencial de plantas es cero","title",{"$f":"HLOOKUP($C$2,$B$8:$D412,$A412,FALSE)","v":"Not enough biomass available for Size 2. Then potential number of plants is zero"},"title405"]
[406,"The maximum number of plants potentially available for Size 2 is ","Le nombre maximal d'usines potentiellement disponibles pour la taille 2 est","El número máximo de plantas potencialmente disponible para la tamaño 2 es","title",{"$f":"HLOOKUP($C$2,$B$8:$D413,$A413,FALSE)","v":"The maximum number of plants potentially available for Size 2 is "},"title406"]
[407,"Not enough biomass available for Size 3. Then potential number of plants is zero","Pas suffisamment de biomasse disponible pour la taille 3. Donc, le nombre potentiel d'usines est zéro","Biomasa disponible insuficiente para Tamaño 3. Entonces, número potencial de plantas es cero","title",{"$f":"HLOOKUP($C$2,$B$8:$D414,$A414,FALSE)","v":"Not enough biomass available for Size 3. Then potential number of plants is zero"},"title407"]
[408,"The maximum number of plants potentially available for Size 3 is ","Le nombre maximal d'usines potentiellement disponibles pour la taille 3 est","El número máximo de plantas potencialmente disponible para la tamaño 3 es","title",{"$f":"HLOOKUP($C$2,$B$8:$D415,$A415,FALSE)","v":"The maximum number of plants potentially available for Size 3 is "},"title408"]
[409,"Not enough biomass available for Size 4. Then potential number of plants is zero","Pas suffisamment de biomasse disponible pour la taille 4. Donc, le nombre potentiel d'usines est zéro","Biomasa disponible insuficiente para Tamaño 4. Entonces, número potencial de plantas es cero","title",{"$f":"HLOOKUP($C$2,$B$8:$D416,$A416,FALSE)","v":"Not enough biomass available for Size 4. Then potential number of plants is zero"},"title409"]
[410,"The maximum number of plants potentially available for Size 4 is ","Le nombre maximal d'usines potentiellement disponibles pour la taille 4 est","El número máximo de plantas potencialmente disponible para la tamaño 4 es","title",{"$f":"HLOOKUP($C$2,$B$8:$D417,$A417,FALSE)","v":"The maximum number of plants potentially available for Size 4 is "},"title410"]
[411,"Potential Job Creation","Emplois Potentiellement Créés","Empleos Potencialmente Generados","title",{"$f":"HLOOKUP($C$2,$B$8:$D418,$A418,FALSE)","v":"Potential Job Creation"},"title411"]
[412,"Net Present Value (rural and urban market prices) USD (1000)","Valeur Actuelle Nette (prix du marché urbain et rural)","Valor Actual Neto (precios de mercado rural y urbano) USD (1000)","title",{"$f":"HLOOKUP($C$2,$B$8:$D419,$A419,FALSE)","v":"Net Present Value (rural and urban market prices) USD (1000)"},"title412"]
[413,"Internal Rate of Return (%)","Taux de Rendement Interne (%)","Tasa Interna de Retorno (%)","title",{"$f":"HLOOKUP($C$2,$B$8:$D420,$A420,FALSE)","v":"Internal Rate of Return (%)"},"title413"]
[414,"Rural","Rural","Rural ","title",{"$f":"HLOOKUP($C$2,$B$8:$D421,$A421,FALSE)","v":"Rural"},"title414"]
[415,"Urban","Urbain","Urbano","title",{"$f":"HLOOKUP($C$2,$B$8:$D422,$A422,FALSE)","v":"Urban"},"title415"]
[416,"Net Present Value (NPV) - rural","Valeur Actuelle Nette (VAN) - Rural","Valor Actual Neto (VAN) - Rural","title",{"$f":"HLOOKUP($C$2,$B$8:$D423,$A423,FALSE)","v":"Net Present Value (NPV) - rural"},"title416"]
[417,"Net Present Value (NPV) - urban","Valeur Actuelle Nette (VAN) - Urbain","Valor Actual Neto (VAN) - Urbano","title",{"$f":"HLOOKUP($C$2,$B$8:$D424,$A424,FALSE)","v":"Net Present Value (NPV) - urban"},"title417"]
[418,"Internal Rate of Return (IRR) - rural","Taux de rendement interne (TRI) (%) - Rural","Tasa Interna de Retorno (TIR) - Rural","title",{"$f":"HLOOKUP($C$2,$B$8:$D425,$A425,FALSE)","v":"Internal Rate of Return (IRR) - rural"},"title418"]
[419,"Internal Rate of Return (IRR) - urban","Taux de rendement interne (TRI) (%) - Urbain","Tasa Interna de Retorno (TIR) - Urbano","title",{"$f":"HLOOKUP($C$2,$B$8:$D426,$A426,FALSE)","v":"Internal Rate of Return (IRR) - urban"},"title419"]
[420,"Collection","Collecte","Recolección","title",{"$f":"HLOOKUP($C$2,$B$8:$D427,$A427,FALSE)","v":"Collection"},"title420"]
[421,"Processing","Transformation","Procesamiento","title",{"$f":"HLOOKUP($C$2,$B$8:$D428,$A428,FALSE)","v":"Processing"},"title421"]
[422,"Total job creation by this project","Nombre Total d'emplois Créés à travers ce projet","Número total de empleos creados por el proyecto","title",{"$f":"HLOOKUP($C$2,$B$8:$D429,$A429,FALSE)","v":"Total job creation by this project"},"title422"]
[423,"Potential Number of Plants","Nombre potentiel des centrales","Número de plantas potenciales","title",{"$f":"HLOOKUP($C$2,$B$8:$D430,$A430,FALSE)","v":"Potential Number of Plants"},"title423"]
[424,"Area Required (Ha)","Zone requise (ha)","Área requerida (ha)","title",{"$f":"HLOOKUP($C$2,$B$8:$D431,$A431,FALSE)","v":"Area Required (Ha)"},"title424"]
[425,"Total Investment (USD)","Investissement total (USD)","Inversión total (USD)","title",{"$f":"HLOOKUP($C$2,$B$8:$D432,$A432,FALSE)","v":"Total Investment (USD)"},"title425"]
[426,"Biomass required (t/year)","La biomasse requise","Biomasa requerida (t/año)","title",{"$f":"HLOOKUP($C$2,$B$8:$D433,$A433,FALSE)","v":"Biomass required (t/year)"},"title426"]
[427,"Biomass available (t/year)","Biomasse disponible (t/an)","Biomasa disponible (t/año)","title",{"$f":"HLOOKUP($C$2,$B$8:$D434,$A434,FALSE)","v":"Biomass available (t/year)"},"title427"]
[428,"Annual basis","Base annuelle ","Base anual","title",{"$f":"HLOOKUP($C$2,$B$8:$D435,$A435,FALSE)","v":"Annual basis"},"title428"]
[429,"Plants potentially supported","Les usines potentiellement prises en charge","Plantas potencialmente suministrables","title",{"$f":"HLOOKUP($C$2,$B$8:$D436,$A436,FALSE)","v":"Plants potentially supported"},"title429"]
[430,"Area required","Zone requise","Área requerida","title",{"$f":"HLOOKUP($C$2,$B$8:$D437,$A437,FALSE)","v":"Area required"},"title430"]
[431,"Raw materials","Matières premières","Materias primas","title",{"$f":"HLOOKUP($C$2,$B$8:$D438,$A438,FALSE)","v":"Raw materials"},"title431"]
[432,"Transport and storage","Transport et stockage","Transporte y almacenamiento","title",{"$f":"HLOOKUP($C$2,$B$8:$D439,$A439,FALSE)","v":"Transport and storage"},"title432"]
[433,"Total annualized production cost","Coût de production total annualisé (USD )","Costo de producción total anualizada","title",{"$f":"HLOOKUP($C$2,$B$8:$D440,$A440,FALSE)","v":"Total annualized production cost"},"title433"]
[434,"kg product basis","kg du produit de base","kg de producto base","title",{"$f":"HLOOKUP($C$2,$B$8:$D441,$A441,FALSE)","v":"kg product basis"},"title434"]
[435,"Total production cost-limsup","Coût total de production-limsup","Costo de producción total-limsup","title",{"$f":"HLOOKUP($C$2,$B$8:$D442,$A442,FALSE)","v":"Total production cost-limsup"},"title435"]
[436,"Total production cost-liminf","Coût total de production-liminf","Costo de producción total-liminf","title",{"$f":"HLOOKUP($C$2,$B$8:$D443,$A443,FALSE)","v":"Total production cost-liminf"},"title436"]
[437,"Total investment - ","Investissement total - ","Inversión total - ","title",{"$f":"HLOOKUP($C$2,$B$8:$D444,$A444,FALSE)","v":"Total investment - "},"title437"]
[438," years"," années"," años","title",{"$f":"HLOOKUP($C$2,$B$8:$D445,$A445,FALSE)","v":" years"},"title438"]
[439,"Potential briquette consumption per household","Potentiel de consommation de briquettes par ménage","Consumo potencial de briquetas por hogar","title",{"$f":"HLOOKUP($C$2,$B$8:$D446,$A446,FALSE)","v":"Potential briquette consumption per household"},"title439"]
[440,"t/year/houseshold","t/an/ménage","t/año/hogar","title",{"$f":"HLOOKUP($C$2,$B$8:$D447,$A447,FALSE)","v":"t/year/houseshold"},"title440"]
[441,"Households","Ménages","Hogares","title",{"$f":"HLOOKUP($C$2,$B$8:$D448,$A448,FALSE)","v":"Households"},"title441"]
[442,"No. of employees","Nombre d'employés","Número de empleados","title",{"$f":"HLOOKUP($C$2,$B$8:$D449,$A449,FALSE)","v":"No. of employees"},"title442"]
[443,"USD/kg of briquettes","USD/kg de briquettes","USD/kg de briquetas","title",{"$f":"HLOOKUP($C$2,$B$8:$D450,$A450,FALSE)","v":"USD/kg of briquettes"},"title443"]
[444,"Number of household that can be supplied","Nombre de ménages pouvant être approvisionné","Número total de hogares que pueden ser suministrados","title",{"$f":"HLOOKUP($C$2,$B$8:$D451,$A451,FALSE)","v":"Number of household that can be supplied"},"title444"]
[445,"Biomass collection","Collecte de la biomasse","Recolección de biomasa","title",{"$f":"HLOOKUP($C$2,$B$8:$D452,$A452,FALSE)","v":"Biomass collection"},"title445"]
[446,"Years","Années","Años","title",{"$f":"HLOOKUP($C$2,$B$8:$D453,$A453,FALSE)","v":"Years"},"title446"]
[447,"Market price rural (USD/kg)","Prix du marché rural (USD/kg)","Precio de mercado rural (USD/kg)","title",{"$f":"HLOOKUP($C$2,$B$8:$D454,$A454,FALSE)","v":"Market price rural (USD/kg)"},"title447"]
[448,"Market price urban (USD/kg)","Prix du marché urbain (USD/kg)","Precio de mercado urbano (USD/kg)","title",{"$f":"HLOOKUP($C$2,$B$8:$D455,$A455,FALSE)","v":"Market price urban (USD/kg)"},"title448"]
[449,"Briquette revenue market rural","Revenus provenant des briquettes pour le marché rural ","Beneficios por briquetas provenientes del mercado rural","title",{"$f":"HLOOKUP($C$2,$B$8:$D456,$A456,FALSE)","v":"Briquette revenue market rural"},"title449"]
[450,"Briquette revenue market urban","Revenus provenant des briquettes pour le marché urbain","Beneficios por briquetas provenientes del mercado urbano","title",{"$f":"HLOOKUP($C$2,$B$8:$D457,$A457,FALSE)","v":"Briquette revenue market urban"},"title450"]
[451,"Total production cost","Coût total de production","Costo total de producción","title",{"$f":"HLOOKUP($C$2,$B$8:$D458,$A458,FALSE)","v":"Total production cost"},{"$f":"$E458&$A458","v":"title451"}]
[452,"SIZE 1","Dimension 1","Tamaño 1","title",{"$f":"HLOOKUP($C$2,$B$8:$D459,$A459,FALSE)","v":"SIZE 1"},"title452"]
[453,"SIZE 2","Dimension 2","Tamaño 2","title",{"$f":"HLOOKUP($C$2,$B$8:$D460,$A460,FALSE)","v":"SIZE 2"},"title453"]
[454,"SIZE 3","Dimension 3","Tamaño 3","title",{"$f":"HLOOKUP($C$2,$B$8:$D461,$A461,FALSE)","v":"SIZE 3"},"title454"]
[455,"SIZE 4","Dimension 4","Tamaño 4","title",{"$f":"HLOOKUP($C$2,$B$8:$D462,$A462,FALSE)","v":"SIZE 4"},"title455"]
[456,"Warning: Jobs created by biomass collection are excluded, due to market price option that was selected in the data entry sheet or that the biomass analyzed has not collection cost.","Avertissement: Les emplois créés par la collecte de la biomasse sont exclus, en raison de l'option des prix du marché  qui a été sélectionné dans la feuille de saisie de données ou que la biomasse analysé n'a pas de coût de collecte.","Advertencia: Los empleos generados por la recolección de la biomasa están excluidos, debido a la opción de precio de mercado que se seleccionó en la hoja de entrada de datos o que la biomasa analizada no tiene costo de recolección.","title",{"$f":"HLOOKUP($C$2,$B$8:$D463,$A463,FALSE)","v":"Warning: Jobs created by biomass collection are excluded, due to market price option that was selected in the data entry sheet or that the biomass analyzed has not collection cost."},"title456"]
[457,"Job creation includes labour required to collect biomass and produce briquettes.","La création d'emplois comprend la main-d'œuvre nécessaire pour la collecte de la biomasse et la production des briquettes.","La generación de empleo incluye la mano de obra necesaria para recoger la biomasa y la producción de briquetas.","title",{"$f":"HLOOKUP($C$2,$B$8:$D464,$A464,FALSE)","v":"Job creation includes labour required to collect biomass and produce briquettes."},"title457"]
[458,"Average income tax payment ","paiement moyen de l'impôt sur le revenu","Pago promedio de impuestos","title",{"$f":"HLOOKUP($C$2,$B$8:$D465,$A465,FALSE)","v":"Average income tax payment "},"title458"]
[459,"Not feasible","Pas faisable","No factible","title",{"$f":"HLOOKUP($C$2,$B$8:$D466,$A466,FALSE)","v":"Not feasible"},"title459"]
[460,"Total Production Cost of Briquettes + Transport (USD/kg of briquettes)","Coût total de Production de Briquettes + leur Transport (USD / kg de briquettes)","Costo total de producción de Briquetas + Transporte (UDS/kg de briquetas)","title",{"$f":"HLOOKUP($C$2,$B$8:$D467,$A467,FALSE)","v":"Total Production Cost of Briquettes + Transport (USD/kg of briquettes)"},"title460"]
[461,"Feedstock Selection","Sélection de Matières Premières","Selección de la materia prima","title",{"$f":"HLOOKUP($C$2,$B$8:$D468,$A468,FALSE)","v":"Feedstock Selection"},"title461"]
[462,"Techno-economic Results","Résultats Techno-économiques","Resultados tecno-económicos","title",{"$f":"HLOOKUP($C$2,$B$8:$D469,$A469,FALSE)","v":"Techno-economic Results"},"title462"]
[463,"Comparison of Production Costs (USD/kg briquettes)","Comparaison des coûts de production (USD / kg briquettes)","Comparación de costos de producción (USD/kg de briquetas)","title",{"$f":"HLOOKUP($C$2,$B$8:$D470,$A470,FALSE)","v":"Comparison of Production Costs (USD/kg briquettes)"},"title463"]
[464,"Annual Production Supported and Transformation Efficiency","Production annuelle prise en charge et l'efficacité de la transformation","Producción anual soportada y eficiencia de la transformación","title",{"$f":"HLOOKUP($C$2,$B$8:$D471,$A471,FALSE)","v":"Annual Production Supported and Transformation Efficiency"},"title464"]
[465,"Socio-economic Results","Résultats Socio-économiques","Resultados socio-económicos","title",{"$f":"HLOOKUP($C$2,$B$8:$D472,$A472,FALSE)","v":"Socio-economic Results"},"title465"]
[466,"Total Number of Jobs Created","Nombre Total d'Emplois Créés","Número total de empleos creados","title",{"$f":"HLOOKUP($C$2,$B$8:$D473,$A473,FALSE)","v":"Total Number of Jobs Created"},"title466"]
[467,"Total Number of Households Supplied","Nombre Total des Ménages approvisionnés","Número total de hogares suministrados","title",{"$f":"HLOOKUP($C$2,$B$8:$D474,$A474,FALSE)","v":"Total Number of Households Supplied"},"title467"]
[468,"Rural market price","Prix du Marché Rural","Precio de mercado rural","title",{"$f":"HLOOKUP($C$2,$B$8:$D475,$A475,FALSE)","v":"Rural market price"},"title468"]
[469,"NPV - Rural market price (1000 USD)","VAN - Prix du Marché Rural (1000 USD)","VAN - Precio de mercado rural (1000 USD)","title",{"$f":"HLOOKUP($C$2,$B$8:$D476,$A476,FALSE)","v":"NPV - Rural market price (1000 USD)"},"title469"]
[470,"IRR - Rural market price","TRI - Prix du Marché Rural","TIR - Precio de mercado rural","title",{"$f":"HLOOKUP($C$2,$B$8:$D477,$A477,FALSE)","v":"IRR - Rural market price"},"title470"]
[471,"Urban market price","Prix du Marché Urbain","Precio de mercado urbano","title",{"$f":"HLOOKUP($C$2,$B$8:$D478,$A478,FALSE)","v":"Urban market price"},"title471"]
[472,"NPV - Urban market price (1000 USD)","VAN - Prix du Marché Urbain (1000 USD)","VAN - Precio de mercado urbano (1000 USD)","title",{"$f":"HLOOKUP($C$2,$B$8:$D479,$A479,FALSE)","v":"NPV - Urban market price (1000 USD)"},"title472"]
[473,"IRR - Urban market price","TRI - Prix du Marché Urbain","TIR - Precio de mercado urbano","title",{"$f":"HLOOKUP($C$2,$B$8:$D480,$A480,FALSE)","v":"IRR - Urban market price"},"title473"]
[474,"Use price definition calculator","Utilisez la calculatrice de définition de prix","Use la calculadora de definición de precio","title",{"$f":"HLOOKUP($C$2,$B$8:$D481,$A481,FALSE)","v":"Use price definition calculator"},"title474"]
[475,"Market price (transport excluded)","Prix du marché (transport exclu)","Precio del mercado (transporte excluido)","title",{"$f":"HLOOKUP($C$2,$B$8:$D482,$A482,FALSE)","v":"Market price (transport excluded)"},"title475"]
[476,"Net Present Value (NPV) - after tax - rural","Valeur Actuelle Nette (VAN) - après impôt - rural","Valor Actual Neto (VAN) - después de impuestos - rural","title",{"$f":"HLOOKUP($C$2,$B$8:$D483,$A483,FALSE)","v":"Net Present Value (NPV) - after tax - rural"},"title476"]
[477,"Net Present Value (NPV) - after tax - urban","Valeur Actuelle Nette (VAN) - après impôt - urbain","Valor Actual Neto (VAN) - después de impuestos - urbano","title",{"$f":"HLOOKUP($C$2,$B$8:$D484,$A484,FALSE)","v":"Net Present Value (NPV) - after tax - urban"},"title477"]
[478,"Internal Rate of Return (IRR) - after tax - rural","Taux de rendement interne (TRI) - après impôt - rural","Tasa Interna de Rendimiento (TIR) - después de impuestos - rural","title",{"$f":"HLOOKUP($C$2,$B$8:$D485,$A485,FALSE)","v":"Internal Rate of Return (IRR) - after tax - rural"},"title478"]
[479,"Internal Rate of Return (IRR) - after tax-urban","Taux de rendement interne (TRI) - après impôt - urbain","Tasa Interna de Rendimiento (TIR) - después de impuestos - urban","title",{"$f":"HLOOKUP($C$2,$B$8:$D486,$A486,FALSE)","v":"Internal Rate of Return (IRR) - after tax-urban"},"title479"]
[480,"Storage Planning Calculator - Feedstock 1","Calculateur de la Planification de Stockage - Matières premières 1","Calculadora de planificación de almacenamiento - Materia prima 1","title",{"$f":"HLOOKUP($C$2,$B$8:$D487,$A487,FALSE)","v":"Storage Planning Calculator - Feedstock 1"},"title480"]
[481,"Storage Planning Calculator - Feedstock 2","Calculateur de la Planification de Stockage - Matières premières 2","Calculadora de planificación de almacenamiento - Materia prima 2","title",{"$f":"HLOOKUP($C$2,$B$8:$D488,$A488,FALSE)","v":"Storage Planning Calculator - Feedstock 2"},"title481"]
[482,"Storage Planning Calculator - Feedstock 3","Calculateur de la Planification de Stockage - Matières premières 3","Calculadora de planificación de almacenamiento - Materia prima 3","title",{"$f":"HLOOKUP($C$2,$B$8:$D489,$A489,FALSE)","v":"Storage Planning Calculator - Feedstock 3"},"title482"]
[483,"Storage Planning Calculator - Feedstock 4","Calculateur de la Planification de Stockage - Matières premières 4","Calculadora de planificación de almacenamiento - Materia prima 4","title",{"$f":"HLOOKUP($C$2,$B$8:$D490,$A490,FALSE)","v":"Storage Planning Calculator - Feedstock 4"},"title483"]
[484,"Collection months","Mois de la collecte","Meses de recolección","title",{"$f":"HLOOKUP($C$2,$B$8:$D491,$A491,FALSE)","v":"Collection months"},"title484"]
[485,"Month","Mois","Mes","title",{"$f":"HLOOKUP($C$2,$B$8:$D492,$A492,FALSE)","v":"Month"},"title485"]
[486,"Safety storage rate","Taux de stockage de sécurité","Nivel de almacenamiento de seguridad","title",{"$f":"HLOOKUP($C$2,$B$8:$D493,$A493,FALSE)","v":"Safety storage rate"},"title486"]
[487,"Capacity","Capacité","Capacidad","title",{"$f":"HLOOKUP($C$2,$B$8:$D494,$A494,FALSE)","v":"Capacity"},"title487"]
[488,"Rate","Taux","Tasa","title",{"$f":"HLOOKUP($C$2,$B$8:$D495,$A495,FALSE)","v":"Rate"},"title488"]
[489,"Biomass available","Biomasse disponible","Biomasa disponible","title",{"$f":"HLOOKUP($C$2,$B$8:$D496,$A496,FALSE)","v":"Biomass available"},"title489"]
[490,"Default values","Valeurs par Défaut","Valores por defecto","title",{"$f":"HLOOKUP($C$2,$B$8:$D497,$A497,FALSE)","v":"Default values"},"title490"]
[491,"Calculate","Calculez","Calcular","title",{"$f":"HLOOKUP($C$2,$B$8:$D498,$A498,FALSE)","v":"Calculate"},"title491"]
[492,"Cancel","Annuler","Cancelar","title",{"$f":"HLOOKUP($C$2,$B$8:$D499,$A499,FALSE)","v":"Cancel"},"title492"]
[493,"Storage requiments","Exigences de stockage","Requisitos de almacenamiento","title",{"$f":"HLOOKUP($C$2,$B$8:$D500,$A500,FALSE)","v":"Storage requiments"},"title493"]
[494,"Storage capacity required (t)","Capacité de stokage requis (t)","Capacidad de almacenamiento requerida (t)","title",{"$f":"HLOOKUP($C$2,$B$8:$D501,$A501,FALSE)","v":"Storage capacity required (t)"},"title494"]
[495,"Minimum safety feedstock to store (t/month)","Minimum de matières premières de sécurité à stocker (t/mois)","Materia prima mínima de seguridad para almacenar (t/mes)","title",{"$f":"HLOOKUP($C$2,$B$8:$D502,$A502,FALSE)","v":"Minimum safety feedstock to store (t/month)"},"title495"]
[496,"Monthly Change of Biomass Stored","Variation mensuelle de la biomasse stockée","Variación mensual de la biomasa almacenada","title",{"$f":"HLOOKUP($C$2,$B$8:$D503,$A503,FALSE)","v":"Monthly Change of Biomass Stored"},"title496"]
[497,"Back","Retour","Volver","title",{"$f":"HLOOKUP($C$2,$B$8:$D504,$A504,FALSE)","v":"Back"},"title497"]
[498,"Please input first the Plant Cost Index for the current period in the investment cost update section.","Veuillez saisir d'abord l'indice du coût de la centrale pour la période en cours dans la section de mise à jour des coûts d'investissement.","Por favor, introduzca por primera vez el Índice del Costo de la planta para el período actual en la sección de actualización de los costos de inversión.","title",{"$f":"HLOOKUP($C$2,$B$8:$D505,$A505,FALSE)","v":"Please input first the Plant Cost Index for the current period in the investment cost update section."},"title498"]
[499,"Additional Data Required","Données supplémentaires nécessaires","Se requieren datos adicionales","title",{"$f":"HLOOKUP($C$2,$B$8:$D506,$A506,FALSE)","v":"Additional Data Required"},"title499"]
[500,"Please go first to the General Input Section below and input the following data: wages for both unskilled and skilled labour; working hours per day for feedstock collection, both manual and mechanical, and price of diesel.","S'il vous plaît allez d'abord à la section d'intrant générale ci-dessous et entrez les données suivantes : les salaires à la fois pour la main d'œuvre non qualifiée et qualifiée; heures de travail par jour pour la collecte des matières premières, à la fois manuel et mécanique ; et le prix du diesel.","Por favor, vaya primero a la sección de Entradas Generales e ingrese los siguientes datos: salarios para la mano de obra calificada y no calificada; horas de trabajo por día para la recolección de la materia prima, tanto manual como mecánica, y el precio del diésel. ","title",{"$f":"HLOOKUP($C$2,$B$8:$D507,$A507,FALSE)","v":"Please go first to the General Input Section below and input the following data: wages for both unskilled and skilled labour; working hours per day for feedstock collection, both manual and mechanical, and price of diesel."},"title500"]
[501,"You have selected to input your own market price (transport excluded). Consequently, the labour creation potential for collection of feedstock will be zero.","Vous avez choisi l'option du prix du marché (transport exclu). Par conséquent, le potentiel de création d'emplois pour la collecte de la matière première sera de zéro.","Ha seleccionado introducir su propio precio de mercado (excluyendo el transporte). Por consiguiente, el potencial de generación de empleo para la recolección de la materia prima será cero. ","title",{"$f":"HLOOKUP($C$2,$B$8:$D508,$A508,FALSE)","v":"You have selected to input your own market price (transport excluded). Consequently, the labour creation potential for collection of feedstock will be zero."},"title501"]
[502,"Minimum technical parameters required to run the tool have now been loaded.","Paramètres techniques minimaux requis pour exécuter l'outil ont été chargés.","Los parámetros técnicos mínimos necesarios para ejecutar la herramienta ya están cargados.","title",{"$f":"HLOOKUP($C$2,$B$8:$D509,$A509,FALSE)","v":"Minimum technical parameters required to run the tool have now been loaded."},"title502"]
[503,"Now you will need to define specific parameters for your country and for the selected crops","Maintenant, vous aurez besoin de définir des paramètres spécifiques pour votre pays et pour les cultures sélectionnées.","Ahora usted tendrá que definir los parámetros específicos para su país y para los cultivos seleccionados.","title",{"$f":"HLOOKUP($C$2,$B$8:$D510,$A510,FALSE)","v":"Now you will need to define specific parameters for your country and for the selected crops"},"title503"]
[504,"If you want to obtain more accurate results, you will need to provide your own data.","Si vous voulez obtenir des résultats plus précis, vous devrez fournir vos propres données.","Si desea obtener resultados más precisos, usted tendrá que proporcionar sus propios datos.","title",{"$f":"HLOOKUP($C$2,$B$8:$D511,$A511,FALSE)","v":"If you want to obtain more accurate results, you will need to provide your own data."},"title504"]
[505,"A pdf report has been generated. It will automatically opened and will be saved in the same folder in which the tool file is found.","Un rapport PDF a été généré. Il s'ouvrira automatiquement et sera enregistré dans le même dossier où se trouve l'outil.","Un informe en pdf ha sido generado. Se abrirá automáticamente y se guardará en la misma carpeta en la que se encuentra la herramienta.","title",{"$f":"HLOOKUP($C$2,$B$8:$D512,$A512,FALSE)","v":"A pdf report has been generated. It will automatically opened and will be saved in the same folder in which the tool file is found."},"title505"]
[506,"Generating Report","Générer un rapport","Generando el reporte","title",{"$f":"HLOOKUP($C$2,$B$8:$D513,$A513,FALSE)","v":"Generating Report"},"title506"]
[507,"In order to print a new report you need to close the report currently opened first.","Pour imprimer un nouveau rapport, vous devez d'abord fermer le rapport ouvert.","Con el fin de imprimir un nuevo informe, necesita primero cerrar el informe actualmente abierto.","title",{"$f":"HLOOKUP($C$2,$B$8:$D514,$A514,FALSE)","v":"In order to print a new report you need to close the report currently opened first."},"title507"]
[508,"Briquettes","Briquettes","Briquetas","title",{"$f":"HLOOKUP($C$2,$B$8:$D515,$A515,FALSE)","v":"Briquettes"},"title508"]
[509,"Wage for trained operators and technicians who lead the operation and maintenance of the plant.","Mener des opérateurs et des techniciens formés qui conduit l'opération et la maintenance de l'usine.","Salarios para los operadores y técnicos capacitados que conduce la operación y mantenimiento de la planta.","title",{"$f":"HLOOKUP($C$2,$B$8:$D516,$A516,FALSE)","v":"Wage for trained operators and technicians who lead the operation and maintenance of the plant."},"title509"]
[510,"The plant overhead is a percentage of costs for services, facilities, payroll overhead, etc. ","Les frais généraux de l'usine est un pourcentage des coûts des services, des installations, de la paie des frais généraux, etc.","Los gastos generales son un porcentaje de los costos de los servicios, las instalaciones, gastos generales de la nómina, etc.","title",{"$f":"HLOOKUP($C$2,$B$8:$D517,$A517,FALSE)","v":"The plant overhead is a percentage of costs for services, facilities, payroll overhead, etc. "},"title510"]
[511,"This item is a percentage of the costs for maintenance of equipment, including labour and materials.","Cet item est un pourcentage des coûts d'entretien des équipements, y compris le travail et les matériaux.","Este ítem es un porcentaje de los costos de mantenimiento de los equipos, incluyendo mano de obra y los materiales.","title",{"$f":"HLOOKUP($C$2,$B$8:$D518,$A518,FALSE)","v":"This item is a percentage of the costs for maintenance of equipment, including labour and materials."},"title511"]
[512,"Wage for non-trained operators who support the operation of the plant (e.g. biomass collection).","Salaire pour les opérateurs non qualifiés qui prennent en charge le fonctionnement de la plante (par exemple, la collecte de la biomasse).","Salario para los operadores no capacitados que soportan la operación en la planta (por ejemplo, la recolección de la biomasa).","title",{"$f":"HLOOKUP($C$2,$B$8:$D519,$A519,FALSE)","v":"Wage for non-trained operators who support the operation of the plant (e.g. biomass collection)."},"title512"]
[513,"The miscellaneous item is a percentage of the cost required for operating supplies and other charges of the daily vegetable oil extraction and electricity generation.","L'objet divers est un pourcentage du coût requis pour les fournitures d'exploitation et autres frais quotidiens de l'extraction de l'huile végétale et de la production d'électricité.","El ítem varios, es un porcentaje del costo de los suministros de operación y de otros cargos de las operaciones diarias.","title",{"$f":"HLOOKUP($C$2,$B$8:$D520,$A520,FALSE)","v":"The miscellaneous item is a percentage of the cost required for operating supplies and other charges of the daily vegetable oil extraction and electricity generation."},"title513"]
[514,"The general and administrative item is a percentage of the cost to cover rents, insurances and salaries of managerial, administrative and executive staff.","L'item général et administratif est un pourcentage du coût pour couvrir les loyers, les assurances et les salaires du personnel de direction, d'administration et de direction.","Los ítems generales y administrativos son un porcentaje del costo para cubrir los alquileres, seguros y salarios del personal directivo, administrativo y ejecutivo.","title",{"$f":"HLOOKUP($C$2,$B$8:$D521,$A521,FALSE)","v":"The general and administrative item is a percentage of the cost to cover rents, insurances and salaries of managerial, administrative and executive staff."},"title514"]
[515,"This index is a proxy used to update the cost of equipments and installation at the current year.","Cet indice est un proxy permettant de mettre à jour le coût des équipements et de l'installation à l'année en cours. ","Este índice es un indicador utilizado para actualizar el costo de los equipos y la instalación del año en curso.","title",{"$f":"HLOOKUP($C$2,$B$8:$D522,$A522,FALSE)","v":"This index is a proxy used to update the cost of equipments and installation at the current year."},{"$f":"$E522&$A522","v":"title515"}]
[516,"Forest Harv. Res.","Résidus de l'exploitation forestière","Residuos de la explotación forestal","title",{"$f":"HLOOKUP($C$2,$B$8:$D523,$A523,FALSE)","v":"Forest Harv. Res."},"title516"]
[517,"Wood Proc. Res.","Résidus de la transformation du bois","Residuos del procesamiento de la madera","title",{"$f":"HLOOKUP($C$2,$B$8:$D524,$A524,FALSE)","v":"Wood Proc. Res."},"title517"]
[518,"person-hour/t","person-heure/t","persona-hora/t","title",{"$f":"HLOOKUP($C$2,$B$8:$D525,$A525,FALSE)","v":"person-hour/t"},"title518"]
[519,"IRR","TIR","TIR","title",{"$f":"HLOOKUP($C$2,$B$8:$D526,$A526,FALSE)","v":"IRR"},"title519"]
[520,"MIRR","TIRM","TIRM","title",{"$f":"HLOOKUP($C$2,$B$8:$D527,$A527,FALSE)","v":"MIRR"},"title520"]

{"sheet":"START","index":5,"n_rows":33,"n_cols":6,"rows_kept":33,"cut":false,"hidden":false,"merged":[[2,5,5,13],[8,3,10,3],[27,2,27,5],[28,2,31,13],[32,2,32,5]]}
[]
[]
[null,null,null,null,null,{"$f":"title2","v":"RAPID APPRAISAL TOOL FOR BRIQUETTES PRODUCTION"}]
[]
[]
[]
[]
[]
[null,null,null,"EN"]
[]
[]
[]
[]
[]
[]
[]
[]
[]
[]
[]
[]
[]
[]
[]
[]
[]
[]
[null,null,{"$f":"title3","v":"Disclaimer "}]
[null,null,{"$f":"title4","v":"FAO declines all responsibility for errors or deficiencies in the database or software or in the documentation accompanying it, for program maintenance and upgrading as well as for any damage that may arise from them.  FAO also declines any responsibility for updating the data and assumes no responsibility for errors and omissions in the data provided. Users are, however, kindly asked to report any errors or deficiencies in this product to FAO.  The choices of calculation made in this tool are those of the author(s) and do not necessarily reflect the views and choices of the Food and Agriculture Organization of the United Nations."}]
[]
[]
[]
[null,null,"© FAO, 2014"]

{"sheet":"Process Description","index":6,"n_rows":29,"n_cols":22,"rows_kept":29,"cut":false,"hidden":false,"merged":[[25,5,25,9],[10,15,13,16],[24,10,26,10],[2,2,2,21],[28,20,28,21],[19,2,19,4],[21,2,21,4]]}
[]
[]
[null,null,{"$f":"title5","v":"BIOMASS BRIQUETTE SYSTEM FOR RURAL/URBAN ENERGY"}]
[]
[]
[null,null,null,null,null,null,null,null,null,null,null,null,null,null,null,null,null,null,null,null,{"$f":"title40","v":"Potential applications for charcoal briquettes"}]
[null,null,null,null,null,null,null,null,null,null,null,null,null,null,null,null,null,null,null,null,{"$f":"title41","v":"Industry"},{"$f":"title53","v":"Possible application"}]
[null,null,null,null,null,null,null,null,null,null,null,null,null,null,null,null,null,null,null,null,{"$f":"title42","v":"Domestic use"},{"$f":"title54","v":"Cooking, water heating and space heating"}]
[null,null,null,null,null,null,null,null,null,null,null,null,null,null,null,null,null,null,null,null,{"$f":"title43","v":"Commercial and institutional catering"},{"$f":"title55","v":"Cooking, water heating, grilling"}]
[null,null,null,null,null,null,null,null,null,null,null,null,null,null,null,null,null,null,null,null,{"$f":"title44","v":"Hospitality"},{"$f":"title56","v":"Cooking, water heating, space heating (outdoor dining areas)"}]
[null,null,null,null,null,null,null,null,null,null,{"$f":"title10","v":"Type of binder in the cold briquette process:"},null,null,null,null,{"$f":"title14","v":"The briquettes’ densities generally range from 900 to 1300 kg/m3."},null,null,null,null,{"$f":"title45","v":"Industrial boilers"},{"$f":"title57","v":"Generation of heat and steam"}]
[null,null,null,null,null,null,null,null,null,null,{"$f":"title11","v":"Cassava flour"},null,null,null,null,null,null,null,null,null,{"$f":"title46","v":"Food processing"},{"$f":"title58","v":"Distilleries, bakeries, canteens, restaurants, drying"}]
[null,null,null,null,null,null,null,null,null,null,{"$f":"title12","v":"Maize flour"},null,null,null,null,null,null,null,null,null,{"$f":"title47","v":"Textiles"},{"$f":"title59","v":"Dyeing, bleaching"}]
[null,null,null,null,null,null,null,null,null,null,{"$f":"title13","v":"Wheat flour"},null,null,null,null,null,null,null,null,null,{"$f":"title48","v":"Crop processing"},{"$f":"title60","v":"Tobacco curing, tea drying, oil milling"}]
[null,null,null,null,null,null,null,null,null,null,null,null,null,null,null,null,null,null,null,null,{"$f":"title49","v":"Ceramic production"},{"$f":"title61","v":"Brick kilns, tile making, pot firing, etc."}]
[null,null,null,null,null,null,null,null,null,null,null,null,null,null,null,null,null,null,null,null,{"$f":"title50","v":"Gasification"},{"$f":"title62","v":"Fuel for gasifiers to produce electricity"}]
[null,null,null,null,null,null,null,null,null,null,null,null,null,null,null,null,null,null,null,null,{"$f":"title51","v":"Charcoal production"},{"$f":"title63","v":"Initiating pyrolysis to make charcoal production more efficient"}]
[null,null,null,null,null,null,null,null,null,null,null,null,null,null,null,null,null,null,null,null,{"$f":"title52","v":"Poultry"},{"$f":"title64","v":"Incubation and heating of chicks"}]
[]
[null,null,{"$f":"title6","v":"Low bulk density biomass"},null,null,null,null,null,null,null,null,null,null,null,null,null,null,null,null,null,{"$f":"title65","v":"User feedback on briquettes"}]
[null,null,{"$f":"title7","v":"80–100 kg/m3 for agricultural straw and grass "},null,null,null,null,null,null,null,{"$f":"title23","v":"Pre-treatment process:"},null,{"$f":"title28","v":"Briquetting machine:"},null,null,{"$f":"title33","v":"Quality parameter:"},null,null,null,null,{"$f":"title66","v":"Pros"}]
[null,null,{"$f":"title8","v":"150-200 kg/m3 for woodfuel biomass"},null,null,null,null,null,null,null,{"$f":"title24","v":"Cutting"},null,{"$f":"title29","v":"Manual press"},null,null,{"$f":"title34","v":"Moisture content (%)"},null,null,null,null,{"$f":"title67","v":"1. Briquettes are a good substitute for wood "}]
[null,null,null,null,null,null,null,null,null,null,{"$f":"title25","v":"Grinding"},null,{"$f":"title30","v":"Hydraulic press"},null,null,{"$f":"title35","v":"Unit density (kg/m3)"},null,null,null,null,{"$f":"title68","v":"2. They burn with a small flame and with less smoke"}]
[null,null,null,null,null,null,null,null,null,null,{"$f":"title26","v":"Pre-heating"},null,{"$f":"title31","v":"Screw press"},null,null,{"$f":"title36","v":"Bulk density (kg/m3)"},null,null,null,null,{"$f":"title69","v":"3. Clean and convenient to handle "}]
[null,null,null,null,null,null,null,null,null,null,{"$f":"title27","v":"Torrefication and charcoal process"},null,{"$f":"title32","v":"Pits press"},null,null,{"$f":"title37","v":"Durability index (%)"},null,null,null,null,{"$f":"title70","v":"4. Do not require chopping"}]
[null,null,null,null,null,{"$f":"title22","v":"Biomass residues from the field"},null,null,null,null,null,null,"etc.",null,null,{"$f":"title38","v":"Percent fines (%)"},null,null,null,null,{"$f":"title71","v":"5. Fit entirely inside cooking stoves so that doors can be closed"}]
[null,null,null,null,null,null,null,null,null,null,null,null,null,null,null,{"$f":"title39","v":"Calorific value (MJ/kg)"},null,null,null,null,{"$f":"title72","v":"6. Cook slower and last longer than wood "}]
[null,null,null,null,null,null,null,null,null,null,null,null,null,null,null,null,null,null,null,null,{"$f":"title73","v":"Cons"}]
[null,null,null,null,null,null,null,null,null,null,null,null,null,null,null,null,null,null,null,null,{"$f":"title74","v":"1. Produce less heat than wood"}]

{"sheet":"Energy Demand","index":7,"n_rows":56,"n_cols":23,"rows_kept":56,"cut":false,"hidden":false,"merged":[[30,2,31,2],[30,3,31,3],[35,2,36,2],[35,3,36,3],[25,13,25,14],[25,10,25,12],[27,13,27,14],[27,8,27,9],[27,6,27,7],[27,10,27,12],[24,6,24,7],[24,8,24,9],[24,10,24,12],[24,13,24,14],[25,6,25,7],[25,8,25,9],[2,2,2,12],[7,2,8,2],[6,3,6,7],[6,8,6,12],[23,6,23,14],[7,4,7,5]]}
[]
[]
[null,null,{"$f":"title75","v":" ENERGY DEMAND FOR BRIQUETTE PRODUCTION"}]
[]
[null,null,{"$f":"title76","v":"Energy Consumption per Household (hh)"}]
[]
[null,null,null,{"$f":"title77","v":"Rural Households"},null,null,null,null,{"$f":"title86","v":" Urban Households"}]
[null,null,null,{"$f":"title78","v":"Market price"},{"$f":"title79","v":"Consumption"},null,{"$f":"title80","v":"Energy expenditure"},{"$f":"title81","v":"Briquette consumption equivalent "},{"$f":"title78","v":"Market price"},{"$f":"title79","v":"Consumption"},{"$f":"title80","v":"Energy expenditure"},null,{"$f":"title81","v":"Briquette consumption equivalent "}]
[null,null,null,{"$f":"+\"USD/\"&title96","v":"USD/Unit"},{"$f":"title82","v":"Unit/day/hh"},{"$f":"title83","v":"t/year"},{"$f":"title84","v":"USD/year"},{"$f":"title85","v":"t/year/hh"},{"$f":"+\"USD/\"&title96","v":"USD/Unit"},{"$f":"title82","v":"Unit/day/hh"},{"$f":"title84","v":"USD/year"},{"$f":"title83","v":"t/year"},{"$f":"title85","v":"t/year/hh"}]
[null,null,{"$f":"title508&\" (kg)\"","v":"Briquettes (kg)"},null,null,{"$f":"E10*365/1000","v":0},{"$f":"F10*1000*D10","v":0},{"$f":"F10/VLOOKUP($C10,$Q$50:$W$56,7,FALSE)","v":0},null,null,{"$f":"L10*1000*I10","v":0},{"$f":"J10*365/1000","v":0},{"$f":"L10/VLOOKUP($C10,$Q$50:$T$56,4,FALSE)","v":0}]
[null,null,{"$f":"title89&\" (kg)\"","v":"Charcoal (kg)"},null,null,0,0,0,null,null,0,0,{"$f":"L11/VLOOKUP($C11,$Q$50:$T$56,4,FALSE)","v":0}]
[null,null,{"$f":"title87&\" (kg)\"","v":"Coal (kg)"},null,null,0,{"$f":"F12*1000*D12","v":0},0,null,null,{"$f":"L12*1000*I12","v":0},0,0]
[null,null,{"$f":"title88&\" (kg)\"","v":"Fuel wood (kg)"},null,null,0,0,0,null,null,{"$f":"L13*1000*I13","v":0},0,0]
[null,null,{"$f":"title91&\" (l)\"","v":"Kerosene (l)"},null,null,0,0,0,null,null,0,0,0]
[null,null,{"$f":"title92&\" (l)\"","v":"LPG (l)"},null,null,0,0,0,null,null,0,0,0]
[null,null,{"$f":"title90&\" (m3)\"","v":"Natural Gas (m3)"},null,null,0,0,0,null,null,0,0,0]
[null,null,null,null,"Total",null,{"$f":"SUM(G10:G16)","v":0},{"$f":"SUM(H10:H16)","v":0},null,"Total",{"$f":"SUM(K10:K16)","v":0},null,{"$f":"SUM(M10:M16)","v":0}]
[]
[null,null,null,"Units",{"$f":"title414","v":"Rural"},null,{"$f":"title415","v":"Urban"}]
[null,null,"Market price of Briquette","USD/kg",{"$f":"+'Data entry needs'!$D$36","v":0},null,{"$f":"+'Data entry needs'!$H$36","v":0}]
[]
[null,null,"Potential Revenue"]
[]
[null,null,null,null,null,null,"Capacities (kg of briquette production per hour)"]
[null,null,null,null,null,null,4,null,{"$f":"40","v":40},null,{"$f":"400","v":400},null,null,{"$f":"4000","v":4000}]
[null,null,null,null,null,null,{"$f":"title354","v":"Manual"},null,{"$f":"title329","v":"Mechanized"},null,{"$f":"title329","v":"Mechanized"},null,null,{"$f":"title329","v":"Mechanized"}]
[null,null,null,null,null,null,{"$f":"title212","v":"Operating hours per year"},{"$f":"IF('Data entry needs'!$D$44>8,8,'Data entry needs'!$D$44)*IF('Data entry needs'!E40>300,300,'Data entry needs'!$D$43)","v":0},{"$f":"title212","v":"Operating hours per year"},{"$f":"IF('Data entry needs'!$H$44>18,18,'Data entry needs'!$H$44)*'Data entry needs'!$D$43","v":0},{"$f":"title212","v":"Operating hours per year"},null,{"$f":"IF('Data entry needs'!$H$44>18,18,'Data entry needs'!$H$44)*'Data entry needs'!$D$43","v":0},{"$f":"title212","v":"Operating hours per year"},{"$f":"'Data entry needs'!$H$44*'Data entry needs'!$D$43*75%","v":0}]
[null,null,{"$f":"title352","v":"Annual briquette production (t/year)"},null,null,null,{"$f":"4*H27/1000","v":0},null,{"$f":"40*J27/1000","v":0},null,{"$f":"400*M27/1000","v":0},null,null,{"$f":"4000*O27/1000","v":0}]
[]
[null,null,{"$f":"title77","v":"Rural Households"}]
[null,null,"Revenue of the project (Rural Market price)",{"$f":"title96","v":"Unit"},{"$f":"title356","v":"Unit Price"},null,{"$f":"title331","v":"Quantity "},"Total",{"$f":"title331","v":"Quantity "},"Total",{"$f":"title331","v":"Quantity "},null,"Total",{"$f":"title331","v":"Quantity "},"Total"]
[null,null,null,null,{"$f":"title357","v":"(USD/Unit)"},null,"(Units)",{"$f":"\"(\"&title84&\")\"","v":"(USD/year)"},"(Units)",{"$f":"\"(\"&title84&\")\"","v":"(USD/year)"},"(Units)",null,{"$f":"\"(\"&title84&\")\"","v":"(USD/year)"},"(Units)",{"$f":"\"(\"&title84&\")\"","v":"(USD/year)"}]
[null,null,{"$f":"title362","v":"Briquette products"},{"$f":"title83","v":"t/year"},{"$f":"$E$20*1000","v":0},null,{"$f":"G28","v":0},{"$f":"E33*G33","v":0},{"$f":"I28","v":0},{"$f":"E33*I33","v":0},{"$f":"K28","v":0},null,{"$f":"E33*K33","v":0},{"$f":"N28","v":0},{"$f":"E33*N33","v":0}]
[null,null,"Subtotals",null,null,null,{"$f":"SUM(G33:G33)","v":0},{"$f":"SUM(H33:H33)","v":0},{"$f":"SUM(I33:I33)","v":0},{"$f":"SUM(J33:J33)","v":0},{"$f":"SUM(K33:K33)","v":0},null,{"$f":"SUM(M33:M33)","v":0},{"$f":"SUM(N33)","v":0},{"$f":"SUM(O33:O33)","v":0}]
[null,null,{"$f":"title86","v":" Urban Households"}]
[null,null,"Revenue of the project (Urban Market price)",{"$f":"title96","v":"Unit"},{"$f":"title356","v":"Unit Price"},null,{"$f":"title331","v":"Quantity "},"Total",{"$f":"title331","v":"Quantity "},"Total",{"$f":"title331","v":"Quantity "},null,"Total",{"$f":"title331","v":"Quantity "},"Total"]
[null,null,null,null,{"$f":"title357","v":"(USD/Unit)"},null,"(Units)",{"$f":"\"(\"&title84&\")\"","v":"(USD/year)"},"(Units)",{"$f":"\"(\"&title84&\")\"","v":"(USD/year)"},"(Units)",null,{"$f":"\"(\"&title84&\")\"","v":"(USD/year)"},"(Units)",{"$f":"\"(\"&title84&\")\"","v":"(USD/year)"}]
[null,null,{"$f":"title362","v":"Briquette products"},{"$f":"title83","v":"t/year"},{"$f":"$G$20*1000","v":0},null,{"$f":"G33","v":0},{"$f":"E38*G38","v":0},{"$f":"I33","v":0},{"$f":"E38*I38","v":0},{"$f":"K33","v":0},null,{"$f":"E38*K38","v":0},{"$f":"N33","v":0},{"$f":"E38*N38","v":0}]
[null,null,"Subtotals",null,null,null,{"$f":"SUM(G38:G38)","v":0},{"$f":"SUM(H38:H38)","v":0},{"$f":"SUM(I38:I38)","v":0},{"$f":"SUM(J38:J38)","v":0},{"$f":"SUM(K38:K38)","v":0},null,{"$f":"SUM(M38:M38)","v":0},{"$f":"SUM(N38)","v":0},{"$f":"SUM(O38:O38)","v":0}]
[]
[]
[]
[]
[]
[]
[null,null,null,null,null,null,null,null,null,null,null,null,null,null,null,null,"Comparison Briquette to Fossil Fuels"]
[]
[null,null,null,null,null,null,null,null,null,null,null,null,null,null,null,null,null,"Prices","Calorific Value","Stove efficiency","Useful energy","Energy ratio per CV of briquette","kg of Fuel"]
[null,null,null,null,null,null,null,null,null,null,null,null,null,null,null,null,null,"USD/unit","MJ/unit","%","MJ/kg",null,"compared to energy of briquette 1 kg"]
[null,null,null,null,null,null,null,null,null,null,null,null,null,null,null,null,{"$f":"title508&\" (kg)\"","v":"Briquettes (kg)"},null,15.4,0.7,{"$f":"S50*T50","v":10.78},{"$f":"U50/$U$50","v":1},{"$f":"$U$50/U50","v":1}]
[null,null,null,null,null,null,null,null,null,null,null,null,null,null,null,null,{"$f":"title89&\" (kg)\"","v":"Charcoal (kg)"},null,30.8,0.45,13.860000000000001,{"$f":"U51/$U$50","v":1.2857142857142858},{"$f":"$U$50/U51","v":0.77777777777777768}]
[null,null,null,null,null,null,null,null,null,null,null,null,null,null,null,null,{"$f":"title87&\" (kg)\"","v":"Coal (kg)"},null,33,0.6,19.8,1.8367346938775513,0.5444444444444444]
[null,null,null,null,null,null,null,null,null,null,null,null,null,null,null,null,{"$f":"title88&\" (kg)\"","v":"Fuel wood (kg)"},null,14.5,0.2,2.9000000000000004,0.26901669758812619,3.717241379310344]
[null,null,null,null,null,null,null,null,null,null,null,null,null,null,null,null,{"$f":"title91&\" (l)\"","v":"Kerosene (l)"},null,35,0.55000000000000004,19.25,1.7857142857142858,0.55999999999999994]
[null,null,null,null,null,null,null,null,null,null,null,null,null,null,null,null,{"$f":"title92&\" (l)\"","v":"LPG (l)"},null,46.89,0.6,28.134,2.6098330241187386,0.38316627568067102]
[null,null,null,null,null,null,null,null,null,null,null,null,null,null,null,null,{"$f":"title90&\" (m3)\"","v":"Natural Gas (m3)"},null,34.94,0.8,27.951999999999998,2.5929499072356217,0.38566113337149399]

{"sheet":"STORAGE_RES1","index":8,"n_rows":50,"n_cols":37,"rows_kept":50,"cut":false,"hidden":true,"merged":[[7,5,7,14],[21,5,21,14],[2,2,2,15]]}
[]
[]
[null,null,{"$f":"UPPER(title93&'Data entry needs'!$D$10&\" \"&'Data entry needs'!$D$11)","v":"BIOMASS STORAGE CALCULATION FOR PLEASE SELECT PLEASE SELECT"}]
[]
[null,null,{"$f":"title94","v":"Biomass safety stock rate definition"}]
[]
[]
[null,null,null,null,null,{"$f":"title95","v":"Capacities (kg of briquette per hour)"}]
[null,null,null,{"$f":"title96","v":"Unit"},null,4,null,null,40,null,null,400,null,null,3000]
[null,null,{"$f":"title99","v":"Biomass consumption"},{"$f":"title83","v":"t/year"},null,{"$f":"+COST_RES1!F$33","v":{"$error":"#DIV/0!"}},null,null,{"$f":"+COST_RES1!H$33","v":{"$error":"#DIV/0!"}},null,null,{"$f":"+COST_RES1!J$33","v":{"$error":"#DIV/0!"}},null,null,{"$f":"+COST_RES1!L$33","v":{"$error":"#DIV/0!"}}]
[null,null,null,{"$f":"title97","v":"t/month"},null,{"$f":"F10/12","v":{"$error":"#DIV/0!"}},null,null,{"$f":"I10/12","v":{"$error":"#DIV/0!"}},null,null,{"$f":"L10/12","v":{"$error":"#DIV/0!"}},null,null,{"$f":"O10/12","v":{"$error":"#DIV/0!"}}]
[null,null,null,{"$f":"title98","v":"kg/day"},null,{"$f":"F10/365","v":{"$error":"#DIV/0!"}},null,null,{"$f":"I10/365","v":{"$error":"#DIV/0!"}},null,null,{"$f":"L10/365","v":{"$error":"#DIV/0!"}},null,null,{"$f":"O10/365","v":{"$error":"#DIV/0!"}}]
[]
[null,null,{"$f":"title100","v":"Biomass production yield within a specific distance"},{"$f":"title83","v":"t/year"},null,{"$f":"COST_RES1!$D$9","v":0},null,null,{"$f":"COST_RES1!$D$9","v":0},null,null,{"$f":"COST_RES1!$D$9","v":0},null,null,{"$f":"COST_RES1!$D$9","v":0}]
[]
[null,null,{"$f":"title101","v":"Biomass safety stock rate"},null,null,{"$f":"+F17/100","v":0.3},{"$f":"+G17/100","v":0},0,0.3,0,0,0.3,0,0,0.3]
[null,null,null,null,null,30,null,null,30,null,null,30,null,null,30]
[null,null,{"$f":"title102","v":"Biomass stock pile capacity"},"t",null,{"$f":"+MAX(F25:F36)","v":{"$error":"#DIV/0!"}},null,null,{"$f":"+MAX(I25:I36)","v":{"$error":"#DIV/0!"}},null,null,{"$f":"+MAX(L25:L36)","v":{"$error":"#DIV/0!"}},null,null,{"$f":"+MAX(O25:O36)","v":{"$error":"#DIV/0!"}}]
[]
[null,null,{"$f":"title103","v":"Maximum storage definition"}]
[]
[null,null,null,null,null,{"$f":"title95","v":"Capacities (kg of briquette per hour)"}]
[null,null,null,null,null,{"$f":"+F9","v":4},null,null,{"$f":"+I9","v":40},null,null,{"$f":"+L9","v":400},null,null,{"$f":"+O9","v":3000}]
[null,null,{"$f":"title104","v":"Harvest Month Selection"},{"$f":"title105","v":"Storage Month"},"Monthly Consumption (t/month)",{"$f":"title106","v":"Cumulative  Storage (t)"},"Storage Depletion (t/month)","Monthly Consumption (t/month)",{"$f":"title106","v":"Cumulative  Storage (t)"},"Storage Depletion (t/month)","Monthly Consumption (t/month)",{"$f":"title106","v":"Cumulative  Storage (t)"},"Storage Depletion (t/month)","Monthly Consumption (t/month)",{"$f":"title106","v":"Cumulative  Storage (t)"},"Storage Depletion (t/month)",null,null,null,null,null,null,null,null,null,null,null,"Harvest Period ","Harvest Period ","Depletion term","Depletion month","EQ term","Depletion time","Storageterm",{"$f":"title105","v":"Storage Month"},"EQ term","Storage time"]
[null,null,{"$f":"title107","v":"January"},{"$f":"+IF($AC25=0,0,IF($AC25>$AC36,1,IF($AC25=$AC36,$D36+1,IF($AC36>$AC25,0))))","v":0},{"$f":"+F$11","v":{"$error":"#DIV/0!"}},{"$f":"+IF(AND($D$25=1,$D$36=0,$D$26=0),$F$11*$AG$25+$F$11*$F$16,IF($D25>0,($AG25*$F$11/$AK25)*$D25+$F$11*$F$16,0))","v":0},{"$f":"IF(AND($D$25=1,$D$36=0,$D$26=0),$F$11*$AG25+$G$36,IF($D25>0,IFERROR(($AG25*$F$11/$AK25)*$D25,\"\")+$F$11*$F$16,IF($D25=0,G36-E25)))","v":{"$error":"#VALUE!"}},{"$f":"+I$11","v":{"$error":"#DIV/0!"}},{"$f":"+IF(AND($D$25=1,$D$36=0,$D$26=0),$I$11*$AG$25+$I$11*$I$16,IF($D25>0,($AG25*$I$11/$AK25)*$D25+$I$11*$I$16,0))","v":0},{"$f":"IF(AND($D$25=1,$D$36=0,$D$26=0),$I$11*$AG25+$J$36,IF($D25>0,IFERROR(($AG25*$I$11/$AK25)*$D25,\"\")+$I$11*$I$16,IF($D25=0,J36-D25)))","v":{"$error":"#VALUE!"}},{"$f":"+L$11","v":{"$error":"#DIV/0!"}},{"$f":"+IF(AND($D$25=1,$D$36=0,$D$26=0),$L$11*$AG$25+$L$11*$L$16,IF($D25>0,($AG25*$L$11/$AK25)*$D25+$L$11*$L$16,0))","v":0},{"$f":"IF(AND($D$25=1,$D$36=0,$D$26=0),$I$11*$AG25+$M$36,IF($D25>0,IFERROR(($AG25*$I$11/$AK25)*$D25,\"\")+$I$11*$I$16,IF($D25=0,M36-D25)))","v":{"$error":"#VALUE!"}},{"$f":"+O$11","v":{"$error":"#DIV/0!"}},{"$f":"+IF(AND($D$25=1,$D$36=0,$D$26=0),$O$11*$AG$25+$O$11*$O$16,IF($D25>0,($AG25*$O$11/$AK25)*$D25+$O$11*$O$16,0))","v":0},{"$f":"IF(AND($D$25=1,$D$36=0,$D$26=0),$O$11*$AG25+$P$36,IF($D25>0,IFERROR(($AG25*$O$11/$AK25)*$D25,\"\")+$O$11*$O$16,IF($D25=0,P36-N25)))","v":{"$error":"#VALUE!"}},null,null,null,null,null,null,null,null,null,null,null,false,{"$f":"+N(AB25)","v":0},{"$f":"+IF(AND(AC26>AC25,AC25=0),\"Last\"&AF25,\"\")","v":""},{"$f":"+IF($AC25=1,0,IF($AC25<$AC36,1,IF($AC25=$AC36,$AE36+1,IF($AC36>$AC25,1))))","v":4},1,{"$f":"IFERROR(VLOOKUP(\"LAST\"&AF25,$AD$25:$AE$36,2,FALSE),AK25)","v":5},{"$f":"+IF(AND(AI25>AI26,AI26=0),\"Last\"&AJ25,\"\")","v":""},{"$f":"+IF($AC25=0,0,IF($AC25>$AC36,1,IF($AC25=$AC36,$AI36+1,IF($AC36>$AC25,0))))","v":0},1,{"$f":"IFERROR(VLOOKUP(\"LAST\"&AJ25,$AH$25:$AI$36,2,FALSE),VLOOKUP(\"LAST\"&1,$AH$25:$AI$36,2,FALSE))","v":1}]
[null,null,{"$f":"title108","v":"February"},{"$f":"+IF($AC26=0,0,IF($AC26>$AC25,1,IF($AC26=$AC25,$D25+1,IF($AC25>$AC26,0))))","v":0},{"$f":"+F$11","v":{"$error":"#DIV/0!"}},{"$f":"IF($D26>0,($AG26*$F$11/$AK26)*$D26+$F$11*$F$16,0)","v":0},{"$f":"+IF($D26>0,IFERROR(($AG26*$F$11/$AK26)*$D26,\"\")+$F$11*$F$16,IF($D26=0,G25-E26))","v":{"$error":"#VALUE!"}},{"$error":"#DIV/0!"},{"$f":"IF($D26>0,($AG26*$I$11/$AK26)*$D26+$I$11*$I$16,0)","v":0},{"$f":"+IF($D26>0,IFERROR(($AG26*$I$11/$AK26)*$D26,\"\")+$I$11*$I$16,IF($D26=0,J25-H26))","v":{"$error":"#VALUE!"}},{"$error":"#DIV/0!"},{"$f":"IF($D26>0,($AG26*$L$11/$AK26)*$D26+$L$11*$L$16,0)","v":0},{"$f":"+IF($D26>0,IFERROR(($AG26*$L$11/$AK26)*$D26,\"\")+$L$11*$L$16,IF($D26=0,M25-K26))","v":{"$error":"#VALUE!"}},{"$error":"#DIV/0!"},{"$f":"IF($D26>0,($AG26*$O$11/$AK26)*$D26+$O$11*$O$16,0)","v":0},{"$f":"+IF($D26>0,IFERROR(($AG26*$O$11/$AK26)*$D26,\"\")+$O$11*$O$16,IF($D26=0,P25-N26))","v":{"$error":"#VALUE!"}},null,null,null,null,null,null,null,null,null,null,null,false,{"$f":"+N(AB26)","v":0},"Last1",{"$f":"+IF($AC26=1,0,IF($AC26<$AC25,1,IF($AC26=$AC25,$AE25+1,IF($AC25>$AC26,1))))","v":5},{"$f":"+IF($AE25>$AE26,$AF25+1,$AF25)","v":1},{"$f":"IFERROR(VLOOKUP(\"LAST\"&AF26,$AD$25:$AE$36,2,FALSE),$AG$25)","v":5},{"$f":"+IF(AND(AI26>AI27,AI27=0),\"Last\"&AJ26,\"\")","v":""},{"$f":"+IF($AC26=0,0,IF($AC26>$AC25,1,IF($AC26=$AC25,$AI25+1,IF($AC25>$AC26,0))))","v":0},{"$f":"+IF($AI25>$AI26,$AJ25+1,$AJ25)","v":1},1]
[null,null,{"$f":"title109","v":"March"},1,{"$error":"#DIV/0!"},{"$f":"IF($D27>0,($AG27*$F$11/$AK27)*$D27+$F$11*$F$16,0)","v":{"$error":"#DIV/0!"}},{"$error":"#VALUE!"},{"$error":"#DIV/0!"},{"$error":"#DIV/0!"},{"$error":"#VALUE!"},{"$error":"#DIV/0!"},{"$error":"#DIV/0!"},{"$error":"#VALUE!"},{"$error":"#DIV/0!"},{"$error":"#DIV/0!"},{"$error":"#VALUE!"},null,null,null,null,null,null,null,null,null,null,null,true,1,"",0,2,5,{"$f":"+IF(AND(AI27>AI28,AI28=0),\"Last\"&AJ27,\"\")","v":"Last1"},1,1,1]
[null,null,{"$f":"title110","v":"April"},0,{"$error":"#DIV/0!"},{"$f":"IF($D28>0,($AG28*$F$11/$AK28)*$D28+$F$11*$F$16,0)","v":0},{"$error":"#VALUE!"},{"$error":"#DIV/0!"},0,{"$error":"#VALUE!"},{"$error":"#DIV/0!"},0,{"$error":"#VALUE!"},{"$error":"#DIV/0!"},0,{"$error":"#VALUE!"},null,null,null,null,null,null,null,null,null,null,null,false,0,"",1,2,5,{"$f":"+IF(AND(AI28>AI29,AI29=0),\"Last\"&AJ28,\"\")","v":""},0,2,1]
[null,null,{"$f":"title111","v":"May"},0,{"$error":"#DIV/0!"},0,{"$error":"#VALUE!"},{"$error":"#DIV/0!"},0,{"$error":"#VALUE!"},{"$error":"#DIV/0!"},0,{"$error":"#VALUE!"},{"$error":"#DIV/0!"},0,{"$error":"#VALUE!"},null,null,null,null,null,null,null,null,null,null,null,false,0,"",2,2,5,{"$f":"+IF(AND(AI29>AI30,AI30=0),\"Last\"&AJ29,\"\")","v":""},0,2,1]
[null,null,{"$f":"title112","v":"June"},0,{"$error":"#DIV/0!"},0,{"$error":"#VALUE!"},{"$error":"#DIV/0!"},0,{"$error":"#VALUE!"},{"$error":"#DIV/0!"},0,{"$error":"#VALUE!"},{"$error":"#DIV/0!"},0,{"$error":"#VALUE!"},null,null,null,null,null,null,null,null,null,null,null,false,0,"",3,2,5,"",0,2,1]
[null,null,{"$f":"title113","v":"July"},0,{"$error":"#DIV/0!"},0,{"$error":"#VALUE!"},{"$error":"#DIV/0!"},0,{"$error":"#VALUE!"},{"$error":"#DIV/0!"},0,{"$error":"#VALUE!"},{"$error":"#DIV/0!"},0,{"$error":"#VALUE!"},null,null,null,null,null,null,null,null,null,null,null,false,0,"",4,2,5,"",0,2,1]
[null,null,{"$f":"title114","v":"August"},0,{"$error":"#DIV/0!"},0,{"$error":"#VALUE!"},{"$error":"#DIV/0!"},0,{"$error":"#VALUE!"},{"$error":"#DIV/0!"},0,{"$error":"#VALUE!"},{"$error":"#DIV/0!"},0,{"$error":"#VALUE!"},null,null,null,null,null,null,null,null,null,null,null,false,0,"Last2",5,2,5,"",0,2,1]
[null,null,{"$f":"title115","v":"September"},1,{"$error":"#DIV/0!"},{"$error":"#DIV/0!"},{"$error":"#VALUE!"},{"$error":"#DIV/0!"},{"$error":"#DIV/0!"},{"$error":"#VALUE!"},{"$error":"#DIV/0!"},{"$error":"#DIV/0!"},{"$error":"#VALUE!"},{"$error":"#DIV/0!"},{"$error":"#DIV/0!"},{"$error":"#VALUE!"},null,null,null,null,null,null,null,null,null,null,null,true,1,"",0,3,5,"Last2",1,2,1]
[null,null,{"$f":"title116","v":"October"},0,{"$error":"#DIV/0!"},0,{"$error":"#VALUE!"},{"$error":"#DIV/0!"},0,{"$error":"#VALUE!"},{"$error":"#DIV/0!"},0,{"$error":"#VALUE!"},{"$error":"#DIV/0!"},0,{"$error":"#VALUE!"},null,null,null,null,null,null,null,null,null,null,null,false,0,"",1,3,5,"",0,3,1]
[null,null,{"$f":"title117","v":"November"},0,{"$error":"#DIV/0!"},0,{"$error":"#VALUE!"},{"$error":"#DIV/0!"},0,{"$error":"#VALUE!"},{"$error":"#DIV/0!"},0,{"$error":"#VALUE!"},{"$error":"#DIV/0!"},0,{"$error":"#VALUE!"},null,null,null,null,null,null,null,null,null,null,null,false,0,"",2,3,5,"",0,3,1]
[null,null,{"$f":"title118","v":"December"},0,{"$error":"#DIV/0!"},0,{"$error":"#VALUE!"},{"$error":"#DIV/0!"},0,{"$error":"#VALUE!"},{"$error":"#DIV/0!"},0,{"$error":"#VALUE!"},{"$error":"#DIV/0!"},0,{"$error":"#VALUE!"},null,null,null,null,null,null,null,null,null,null,null,false,0,{"$f":"+IF(AND(AC25>AC36,AC36=0),\"Last\"&AF36,\"\")","v":""},3,3,5,{"$f":"+IF(AND(AI36>AI25,AI25=0),\"Last\"&AJ36,\"\")","v":""},0,3,1]
[null,null,null,{"$f":"+MAX(D25:D36)*30","v":30}]
[null,null,{"$f":"title119","v":"Maximum Storage Capacity Required (t)"},null,null,{"$f":"+ROUNDUP(MAX(F25:F36),0)","v":{"$error":"#DIV/0!"}},null,null,{"$f":"+ROUNDUP(MAX(I25:I36),0)","v":{"$error":"#DIV/0!"}},null,null,{"$f":"+ROUNDUP(MAX(L25:L36),0)","v":{"$error":"#DIV/0!"}},null,null,{"$f":"+ROUNDUP(MAX(O25:O36),0)","v":{"$error":"#DIV/0!"}},null,null,null,null,null,null,null,null,null,null,null,null,null,null,null,null,{"$f":"4&\" (kg/h)\"","v":"4 (kg/h)"},{"$f":"40&\" (kg/hr)\"","v":"40 (kg/hr)"},{"$f":"400&\" (kg/h)\"","v":"400 (kg/h)"},{"$f":"3000&\" (kg/h)\"","v":"3000 (kg/h)"}]
[null,null,{"$f":"title120","v":"Minimum Safety Storage (t)"},null,null,{"$f":"+ROUNDUP(MIN(G25:G36),0)","v":{"$error":"#VALUE!"}},null,null,{"$f":"+ROUNDUP(MIN(J25:J36),0)","v":{"$error":"#VALUE!"}},null,null,{"$f":"+ROUNDUP(MIN(M25:M36),0)","v":{"$error":"#VALUE!"}},null,null,{"$f":"+ROUNDUP(MIN(P25:P36),0)","v":{"$error":"#VALUE!"}},null,null,null,null,null,null,null,null,null,null,null,null,null,null,null,{"$f":"+LEFT(C25,3)","v":"Jan"},{"$f":"+G25","v":{"$error":"#VALUE!"}},{"$f":"+J25","v":{"$error":"#VALUE!"}},{"$f":"+M25","v":{"$error":"#VALUE!"}},{"$f":"+P25","v":{"$error":"#VALUE!"}}]
[null,null,null,null,null,null,null,null,null,null,null,null,null,null,null,null,null,null,null,null,null,null,null,null,null,null,null,"No. Storage Months",{"$f":"+COUNTIF(AC25:AC36,\">0\")","v":2},null,"Feb",{"$error":"#VALUE!"},{"$error":"#VALUE!"},{"$error":"#VALUE!"},{"$error":"#VALUE!"}]
[null,null,{"$f":"title121","v":"Monthly Consumption of Biomass Stocked"},null,null,null,null,null,null,null,null,null,null,null,null,null,null,null,null,null,null,null,null,null,null,null,null,"Total Depletion Period",{"$f":"12-AC40","v":10},null,"Mar",{"$error":"#VALUE!"},{"$error":"#VALUE!"},{"$error":"#VALUE!"},{"$error":"#VALUE!"}]
[null,null,null,null,null,null,null,null,null,null,null,null,null,null,null,null,null,null,null,null,null,null,null,null,null,null,null,null,null,null,"Apr",{"$error":"#VALUE!"},{"$error":"#VALUE!"},{"$error":"#VALUE!"},{"$error":"#VALUE!"}]
[null,null,null,null,null,null,null,null,null,null,null,null,null,null,null,null,null,null,null,null,null,null,null,null,null,null,null,null,null,null,"May",{"$error":"#VALUE!"},{"$error":"#VALUE!"},{"$error":"#VALUE!"},{"$error":"#VALUE!"}]
[null,null,null,null,null,null,null,null,null,null,null,null,null,null,null,null,null,null,null,null,null,null,null,null,null,null,null,null,null,null,"Jun",{"$error":"#VALUE!"},{"$error":"#VALUE!"},{"$error":"#VALUE!"},{"$error":"#VALUE!"}]
[null,null,null,null,null,null,null,null,null,null,null,null,null,null,null,null,null,null,null,null,null,null,null,null,null,null,null,null,null,null,{"$f":"+LEFT(C31,3)","v":"Jul"},{"$f":"+G31","v":{"$error":"#VALUE!"}},{"$f":"+J31","v":{"$error":"#VALUE!"}},{"$f":"+M31","v":{"$error":"#VALUE!"}},{"$f":"+P31","v":{"$error":"#VALUE!"}}]
[null,null,null,null,null,null,null,null,null,null,null,null,null,null,null,null,null,null,null,null,null,null,null,null,null,null,null,null,null,null,"Aug",{"$error":"#VALUE!"},{"$error":"#VALUE!"},{"$error":"#VALUE!"},{"$error":"#VALUE!"}]
[null,null,null,null,null,null,null,null,null,null,null,null,null,null,null,null,null,null,null,null,null,null,null,null,null,null,null,null,null,null,"Sep",{"$error":"#VALUE!"},{"$error":"#VALUE!"},{"$error":"#VALUE!"},{"$error":"#VALUE!"}]
[null,null,null,null,null,null,null,null,null,null,null,null,null,null,null,null,null,null,null,null,null,null,null,null,null,null,null,null,null,null,"Oct",{"$error":"#VALUE!"},{"$error":"#VALUE!"},{"$error":"#VALUE!"},{"$error":"#VALUE!"}]
[null,null,null,null,null,null,null,null,null,null,null,null,null,null,null,null,null,null,null,null,null,null,null,null,null,null,null,null,null,null,"Nov",{"$error":"#VALUE!"},{"$error":"#VALUE!"},{"$error":"#VALUE!"},{"$error":"#VALUE!"}]
[null,null,null,null,null,null,null,null,null,null,null,null,null,null,null,null,null,null,null,null,null,null,null,null,null,null,null,null,null,null,"Dec",{"$error":"#VALUE!"},{"$error":"#VALUE!"},{"$error":"#VALUE!"},{"$error":"#VALUE!"}]

{"sheet":"STORAGE_RES2","index":9,"n_rows":54,"n_cols":37,"rows_kept":54,"cut":false,"hidden":true,"merged":[[7,5,7,14],[21,5,21,14],[2,2,2,15]]}
[]
[]
[null,null,{"$f":"+UPPER(title93&'Data entry needs'!$E$10&\" \"&'Data entry needs'!$E$11)","v":"BIOMASS STORAGE CALCULATION FOR PLEASE SELECT PLEASE SELECT"}]
[]
[null,null,{"$f":"title94","v":"Biomass safety stock rate definition"}]
[]
[]
[null,null,null,null,null,{"$f":"title95","v":"Capacities (kg of briquette per hour)"}]
[null,null,null,{"$f":"title96","v":"Unit"},null,4,null,null,40,null,null,400,null,null,3000]
[null,null,{"$f":"title99","v":"Biomass consumption"},{"$f":"title83","v":"t/year"},null,{"$f":"+COST_RES2!F$33","v":{"$error":"#DIV/0!"}},null,null,{"$f":"+COST_RES2!H$33","v":{"$error":"#DIV/0!"}},null,null,{"$f":"+COST_RES2!J$33","v":{"$error":"#DIV/0!"}},null,null,{"$f":"+COST_RES2!L$33","v":{"$error":"#DIV/0!"}}]
[null,null,null,{"$f":"title97","v":"t/month"},null,{"$f":"F10/12","v":{"$error":"#DIV/0!"}},null,null,{"$f":"I10/12","v":{"$error":"#DIV/0!"}},null,null,{"$f":"L10/12","v":{"$error":"#DIV/0!"}},null,null,{"$f":"O10/12","v":{"$error":"#DIV/0!"}}]
[null,null,null,{"$f":"title98","v":"kg/day"},null,{"$f":"F10/365","v":{"$error":"#DIV/0!"}},null,null,{"$f":"I10/365","v":{"$error":"#DIV/0!"}},null,null,{"$f":"L10/365","v":{"$error":"#DIV/0!"}},null,null,{"$f":"O10/365","v":{"$error":"#DIV/0!"}}]
[]
[null,null,{"$f":"title100","v":"Biomass production yield within a specific distance"},{"$f":"title83","v":"t/year"},null,{"$f":"COST_RES2!$D$9","v":0},null,null,{"$f":"COST_RES2!$D$9","v":0},null,null,{"$f":"COST_RES2!$D$9","v":0},null,null,{"$f":"COST_RES2!$D$9","v":0}]
[]
[null,null,{"$f":"title101","v":"Biomass safety stock rate"},null,null,{"$f":"+F17/100","v":0.3},{"$f":"+G17/100","v":0},0,0.3,0,0,0.3,0,0,0.3]
[null,null,null,null,null,30,null,null,30,null,null,30,null,null,30]
[null,null,{"$f":"title102","v":"Biomass stock pile capacity"},"t",null,{"$f":"+MAX(F25:F36)","v":{"$error":"#DIV/0!"}},null,null,{"$f":"+MAX(I25:I36)","v":{"$error":"#DIV/0!"}},null,null,{"$f":"+MAX(L25:L36)","v":{"$error":"#DIV/0!"}},null,null,{"$f":"+MAX(O25:O36)","v":{"$error":"#DIV/0!"}}]
[]
[null,null,{"$f":"title103","v":"Maximum storage definition"}]
[]
[null,null,null,null,null,{"$f":"title95","v":"Capacities (kg of briquette per hour)"}]
[null,null,null,null,null,{"$f":"+F9","v":4},null,null,{"$f":"+I9","v":40},null,null,{"$f":"+L9","v":400},null,null,{"$f":"+O9","v":3000}]
[null,null,{"$f":"title104","v":"Harvest Month Selection"},{"$f":"title105","v":"Storage Month"},"Monthly Consumption (t/month)",{"$f":"title106","v":"Cumulative  Storage (t)"},"Storage Depletion (t/month)","Monthly Consumption (t/month)",{"$f":"title106","v":"Cumulative  Storage (t)"},"Storage Depletion (t/month)","Monthly Consumption (t/month)",{"$f":"title106","v":"Cumulative  Storage (t)"},"Storage Depletion (t/month)","Monthly Consumption (t/month)",{"$f":"title106","v":"Cumulative  Storage (t)"},"Storage Depletion (t/month)",null,null,null,null,null,null,null,null,null,null,null,"Harvest Period ","Harvest Period ","Depletion term","Depletion month","EQ term","Depletion time","Storageterm",{"$f":"title105","v":"Storage Month"},"EQ term","Storage time"]
[null,null,{"$f":"title107","v":"January"},{"$f":"+IF($AC25=0,0,IF($AC25>$AC36,1,IF($AC25=$AC36,$D36+1,IF($AC36>$AC25,0))))","v":0},{"$f":"+F$11","v":{"$error":"#DIV/0!"}},{"$f":"+IF(AND($D$25=1,$D$36=0,$D$26=0),$F$11*$AG25+$F$11*$F$16,IF($D25>0,($AG25*$F$11/$AK25)*$D25+$F$11*$F$16,0))","v":0},{"$f":"IF(AND($D$25=1,$D$36=0,$D$26=0),$F$11*#REF!+$G$36,IF($D25>0,IFERROR((#REF!*$F$11/#REF!)*$D25,\"\")+$F$11*$F$16,IF($D25=0,G36-E25)))","v":{"$error":"#VALUE!"}},{"$f":"+I$11","v":{"$error":"#DIV/0!"}},{"$f":"+IF(AND($D$25=1,$D$36=0,$D$26=0),$I$11*$AG25+$I$11*$I$16,IF($D25>0,($AG25*$I$11/$AK25)*$D25+$I$11*$I$16,0))","v":0},{"$f":"IF(AND($D$25=1,$D$36=0,$D$26=0),$I$11*#REF!+$J$36,IF($D25>0,IFERROR((#REF!*$I$11/#REF!)*$D25,\"\")+$I$11*$I$16,IF($D25=0,J36-H25)))","v":{"$error":"#VALUE!"}},{"$f":"+L$11","v":{"$error":"#DIV/0!"}},{"$f":"+IF(AND($D$25=1,$D$36=0,$D$26=0),$L$11*$AG25+$L$11*$L$16,IF($D25>0,($AG25*$L$11/$AK25)*$D25+$L$11*$L$16,0))","v":0},{"$f":"IF(AND($D$25=1,$D$36=0,$D$26=0),$L$11*#REF!+$M$36,IF($D25>0,IFERROR((#REF!*$L$11/#REF!)*$D25,\"\")+$L$11*$L$16,IF($D25=0,M36-K25)))","v":{"$error":"#VALUE!"}},{"$f":"+O$11","v":{"$error":"#DIV/0!"}},{"$f":"+IF(AND($D$25=1,$D$36=0,$D$26=0),$O$11*$AG25+$O$11*$O$16,IF($D25>0,($AG25*$O$11/$AK25)*$D25+$O$11*$O$16,0))","v":0},{"$f":"IF(AND($D$25=1,$D$36=0,$D$26=0),$O$11*#REF!+$P$36,IF($D25>0,IFERROR((#REF!*$O$11/#REF!)*$D25,\"\")+$O$11*$O$16,IF($D25=0,P36-N25)))","v":{"$error":"#VALUE!"}},null,null,null,null,null,null,null,null,null,null,null,false,{"$f":"+N(AB25)","v":0},{"$f":"+IF(AND(AC26>AC25,AC25=0),\"Last\"&AF25,\"\")","v":""},{"$f":"+IF($AC25=1,0,IF($AC25<$AC36,1,IF($AC25=$AC36,$AE36+1,IF($AC36>$AC25,1))))","v":7},1,{"$f":"IFERROR(VLOOKUP(\"LAST\"&AF25,$AD$25:$AE$36,2,FALSE),AK25)","v":9},{"$f":"+IF(AND(AI25>AI26,AI26=0),\"Last\"&AJ25,\"\")","v":""},{"$f":"+IF($AC25=0,0,IF($AC25>$AC36,1,IF($AC25=$AC36,$AI36+1,IF($AC36>$AC25,0))))","v":0},1,{"$f":"IFERROR(VLOOKUP(\"LAST\"&AJ25,$AH$25:$AI$36,2,FALSE),VLOOKUP(\"LAST\"&1,$AH$25:$AI$36,2,FALSE))","v":3}]
[null,null,{"$f":"title108","v":"February"},{"$f":"+IF($AC26=0,0,IF($AC26>$AC25,1,IF($AC26=$AC25,$D25+1,IF($AC25>$AC26,0))))","v":0},{"$error":"#DIV/0!"},{"$f":"IF($D26>0,($AG26*$F$11/$AK26)*$D26+$F$11*$F$16,0)","v":0},{"$f":"+IF($D26>0,IFERROR(($AG26*$F$11/$AK26)*$D26,\"\")+$F$11*$F$16,IF($D26=0,G25-E26))","v":{"$error":"#VALUE!"}},{"$error":"#DIV/0!"},{"$f":"IF($D26>0,($AG26*$I$11/$AK26)*$D26+$I$11*$I$16,0)","v":0},{"$f":"+IF($D26>0,IFERROR(($AG26*$I$11/$AK26)*$D26,\"\")+$I$11*$I$16,IF($D26=0,J25-H26))","v":{"$error":"#VALUE!"}},{"$error":"#DIV/0!"},{"$f":"IF($D26>0,($AG26*$L$11/$AK26)*$D26+$L$11*$L$16,0)","v":0},{"$f":"+IF($D26>0,IFERROR(($AG26*$L$11/$AK26)*$D26,\"\")+$L$11*$L$16,IF($D26=0,M25-K26))","v":{"$error":"#VALUE!"}},{"$error":"#DIV/0!"},{"$f":"IF($D26>0,($AG26*$O$11/$AK26)*$D26+$O$11*$O$16,0)","v":0},{"$f":"+IF($D26>0,IFERROR(($AG26*$O$11/$AK26)*$D26,\"\")+$O$11*$O$16,IF($D26=0,P25-N26))","v":{"$error":"#VALUE!"}},null,null,null,null,null,null,null,null,null,null,null,false,{"$f":"+N(AB26)","v":0},{"$f":"+IF(AND(AC27>AC26,AC26=0),\"Last\"&AF26,\"\")","v":""},{"$f":"+IF($AC26=1,0,IF($AC26<$AC25,1,IF($AC26=$AC25,$AE25+1,IF($AC25>$AC26,1))))","v":8},{"$f":"+IF($AE25>$AE26,$AF25+1,$AF25)","v":1},{"$f":"IFERROR(VLOOKUP(\"LAST\"&AF26,$AD$25:$AE$36,2,FALSE),$AG$25)","v":9},{"$f":"+IF(AND(AI26>AI27,AI27=0),\"Last\"&AJ26,\"\")","v":""},{"$f":"+IF($AC26=0,0,IF($AC26>$AC25,1,IF($AC26=$AC25,$AI25+1,IF($AC25>$AC26,0))))","v":0},{"$f":"+IF($AI25>$AI26,$AJ25+1,$AJ25)","v":1},3]
[null,null,{"$f":"title109","v":"March"},0,{"$error":"#DIV/0!"},0,{"$error":"#VALUE!"},{"$error":"#DIV/0!"},0,{"$error":"#VALUE!"},{"$error":"#DIV/0!"},0,{"$error":"#VALUE!"},{"$error":"#DIV/0!"},0,{"$error":"#VALUE!"},null,null,null,null,null,null,null,null,null,null,null,false,0,{"$f":"+IF(AND(AC28>AC27,AC27=0),\"Last\"&AF27,\"\")","v":"Last1"},9,1,9,{"$f":"+IF(AND(AI27>AI28,AI28=0),\"Last\"&AJ27,\"\")","v":""},0,1,3]
[null,null,{"$f":"title110","v":"April"},1,{"$error":"#DIV/0!"},{"$error":"#DIV/0!"},{"$error":"#VALUE!"},{"$error":"#DIV/0!"},{"$error":"#DIV/0!"},{"$error":"#VALUE!"},{"$error":"#DIV/0!"},{"$error":"#DIV/0!"},{"$error":"#VALUE!"},{"$error":"#DIV/0!"},{"$error":"#DIV/0!"},{"$error":"#VALUE!"},null,null,null,null,null,null,null,null,null,null,null,true,1,{"$f":"+IF(AND(AC29>AC28,AC28=0),\"Last\"&AF28,\"\")","v":""},0,2,9,{"$f":"+IF(AND(AI28>AI29,AI29=0),\"Last\"&AJ28,\"\")","v":""},1,1,3]
[null,null,{"$f":"title111","v":"May"},2,{"$error":"#DIV/0!"},{"$error":"#DIV/0!"},{"$error":"#VALUE!"},{"$error":"#DIV/0!"},{"$error":"#DIV/0!"},{"$error":"#VALUE!"},{"$error":"#DIV/0!"},{"$error":"#DIV/0!"},{"$error":"#VALUE!"},{"$error":"#DIV/0!"},{"$error":"#DIV/0!"},{"$error":"#VALUE!"},null,null,null,null,null,null,null,null,null,null,null,true,1,"",0,2,9,{"$f":"+IF(AND(AI29>AI30,AI30=0),\"Last\"&AJ29,\"\")","v":""},2,1,3]
[null,null,{"$f":"title112","v":"June"},3,{"$error":"#DIV/0!"},{"$error":"#DIV/0!"},{"$error":"#VALUE!"},{"$error":"#DIV/0!"},{"$error":"#DIV/0!"},{"$error":"#VALUE!"},{"$error":"#DIV/0!"},{"$error":"#DIV/0!"},{"$error":"#VALUE!"},{"$error":"#DIV/0!"},{"$error":"#DIV/0!"},{"$error":"#VALUE!"},null,null,null,null,null,null,null,null,null,null,null,true,1,"",0,2,9,"Last1",3,1,3]
[null,null,{"$f":"title113","v":"July"},0,{"$error":"#DIV/0!"},0,{"$error":"#VALUE!"},{"$error":"#DIV/0!"},0,{"$error":"#VALUE!"},{"$error":"#DIV/0!"},0,{"$error":"#VALUE!"},{"$error":"#DIV/0!"},0,{"$error":"#VALUE!"},null,null,null,null,null,null,null,null,null,null,null,false,0,"",1,2,9,"",0,2,3]
[null,null,{"$f":"title114","v":"August"},0,{"$error":"#DIV/0!"},0,{"$error":"#VALUE!"},{"$error":"#DIV/0!"},0,{"$error":"#VALUE!"},{"$error":"#DIV/0!"},0,{"$error":"#VALUE!"},{"$error":"#DIV/0!"},0,{"$error":"#VALUE!"},null,null,null,null,null,null,null,null,null,null,null,false,0,"",2,2,9,"",0,2,3]
[null,null,{"$f":"title115","v":"September"},0,{"$error":"#DIV/0!"},0,{"$error":"#VALUE!"},{"$error":"#DIV/0!"},0,{"$error":"#VALUE!"},{"$error":"#DIV/0!"},0,{"$error":"#VALUE!"},{"$error":"#DIV/0!"},0,{"$error":"#VALUE!"},null,null,null,null,null,null,null,null,null,null,null,false,0,"",3,2,9,"",0,2,3]
[null,null,{"$f":"title116","v":"October"},0,{"$error":"#DIV/0!"},0,{"$error":"#VALUE!"},{"$error":"#DIV/0!"},0,{"$error":"#VALUE!"},{"$error":"#DIV/0!"},0,{"$error":"#VALUE!"},{"$error":"#DIV/0!"},0,{"$error":"#VALUE!"},null,null,null,null,null,null,null,null,null,null,null,false,0,"",4,2,9,"",0,2,3]
[null,null,{"$f":"title117","v":"November"},0,{"$error":"#DIV/0!"},0,{"$error":"#VALUE!"},{"$error":"#DIV/0!"},0,{"$error":"#VALUE!"},{"$error":"#DIV/0!"},0,{"$error":"#VALUE!"},{"$error":"#DIV/0!"},0,{"$error":"#VALUE!"},null,null,null,null,null,null,null,null,null,null,null,false,0,"",5,2,9,"",0,2,3]
[null,null,{"$f":"title118","v":"December"},0,{"$error":"#DIV/0!"},0,{"$error":"#VALUE!"},{"$error":"#DIV/0!"},0,{"$error":"#VALUE!"},{"$error":"#DIV/0!"},0,{"$error":"#VALUE!"},{"$error":"#DIV/0!"},0,{"$error":"#VALUE!"},null,null,null,null,null,null,null,null,null,null,null,false,0,{"$f":"+IF(AND(AC25>AC36,AC36=0),\"Last\"&AF36,\"\")","v":""},6,2,9,{"$f":"+IF(AND(AI36>AI25,AI25=0),\"Last\"&AJ36,\"\")","v":""},0,2,3]
[null,null,null,{"$f":"+MAX(D25:D36)*30","v":90}]
[null,null,{"$f":"title119","v":"Maximum Storage Capacity Required (t)"},null,null,{"$f":"+ROUNDUP(MAX(F25:F36),0)","v":{"$error":"#DIV/0!"}},null,null,{"$f":"+ROUNDUP(MAX(I25:I36),0)","v":{"$error":"#DIV/0!"}},null,null,{"$f":"+ROUNDUP(MAX(L25:L36),0)","v":{"$error":"#DIV/0!"}},null,null,{"$f":"+ROUNDUP(MAX(O25:O36),0)","v":{"$error":"#DIV/0!"}}]
[null,null,{"$f":"title120","v":"Minimum Safety Storage (t)"},null,null,{"$f":"+ROUNDUP(MIN(G25:G36),0)","v":{"$error":"#VALUE!"}},null,null,{"$f":"+ROUNDUP(MIN(J25:J36),0)","v":{"$error":"#VALUE!"}},null,null,{"$f":"+ROUNDUP(MIN(M25:M36),0)","v":{"$error":"#VALUE!"}},null,null,{"$f":"+ROUNDUP(MIN(P25:P36),0)","v":{"$error":"#VALUE!"}}]
[null,null,null,null,null,null,null,null,null,null,null,null,null,null,null,null,null,null,null,null,null,null,null,null,null,null,null,"No. Storage Months",{"$f":"+COUNTIF(AC25:AC36,\">0\")","v":3}]
[null,null,{"$f":"title121","v":"Monthly Consumption of Biomass Stocked"},null,null,null,null,null,null,null,null,null,null,null,null,null,null,null,null,null,null,null,null,null,null,null,null,"Total Depletion Period",{"$f":"12-AC40","v":9}]
[null,null,null,null,null,null,null,null,null,null,null,null,null,null,null,null,null,null,null,"Depletion time definition",null,null,null,null,null,null,null,null,null,{"$f":"4&\" (kg/h)\"","v":"4 (kg/h)"},{"$f":"40&\" (kg/hr)\"","v":"40 (kg/hr)"},{"$f":"400&\" (kg/h)\"","v":"400 (kg/h)"},{"$f":"3000&\" (kg/h)\"","v":"3000 (kg/h)"}]
[null,null,null,null,null,null,null,null,null,null,null,null,null,null,null,null,null,null,null,"Depletion time definition",null,null,null,null,null,null,null,null,{"$f":"+LEFT(C25,3)","v":"Jan"},{"$f":"+G25","v":{"$error":"#VALUE!"}},{"$f":"+J25","v":{"$error":"#VALUE!"}},{"$f":"+M25","v":{"$error":"#VALUE!"}},{"$f":"+P25","v":{"$error":"#VALUE!"}}]
[null,null,null,null,null,null,null,null,null,null,null,null,null,null,null,null,null,null,null,"Depletion time definition",null,null,null,null,null,null,null,null,"Feb",{"$error":"#VALUE!"},{"$error":"#VALUE!"},{"$error":"#VALUE!"},{"$error":"#VALUE!"}]
[null,null,null,null,null,null,null,null,null,null,null,null,null,null,null,null,null,null,null,"Depletion time definition",null,null,null,null,null,null,null,null,"Mar",{"$error":"#VALUE!"},{"$error":"#VALUE!"},{"$error":"#VALUE!"},{"$error":"#VALUE!"}]
[null,null,null,null,null,null,null,null,null,null,null,null,null,null,null,null,null,null,null,null,null,null,null,null,null,null,null,null,"Apr",{"$error":"#VALUE!"},{"$error":"#VALUE!"},{"$error":"#VALUE!"},{"$error":"#VALUE!"}]
[null,null,null,null,null,null,null,null,null,null,null,null,null,null,null,null,null,null,null,null,null,null,null,null,null,null,null,null,"May",{"$error":"#VALUE!"},{"$error":"#VALUE!"},{"$error":"#VALUE!"},{"$error":"#VALUE!"}]
[null,null,null,null,null,null,null,null,null,null,null,null,null,null,null,null,null,null,null,null,null,null,null,null,null,null,null,null,"Jun",{"$error":"#VALUE!"},{"$error":"#VALUE!"},{"$error":"#VALUE!"},{"$error":"#VALUE!"}]
[null,null,null,null,null,null,null,null,null,null,null,null,null,null,null,null,null,null,null,null,null,null,null,null,null,null,null,null,{"$f":"+LEFT(C31,3)","v":"Jul"},{"$f":"+G31","v":{"$error":"#VALUE!"}},{"$f":"+J31","v":{"$error":"#VALUE!"}},{"$f":"+M31","v":{"$error":"#VALUE!"}},{"$f":"+P31","v":{"$error":"#VALUE!"}}]
[null,null,null,null,null,null,null,null,null,null,null,null,null,null,null,null,null,null,null,null,null,null,null,null,null,null,null,null,"Aug",{"$error":"#VALUE!"},{"$error":"#VALUE!"},{"$error":"#VALUE!"},{"$error":"#VALUE!"}]
[null,null,null,null,null,null,null,null,null,null,null,null,null,null,null,null,null,null,null,null,null,null,null,null,null,null,null,null,"Sep",{"$error":"#VALUE!"},{"$error":"#VALUE!"},{"$error":"#VALUE!"},{"$error":"#VALUE!"}]
[null,null,null,null,null,null,null,null,null,null,null,null,null,null,null,null,null,null,null,null,null,null,null,null,null,null,null,null,"Oct",{"$error":"#VALUE!"},{"$error":"#VALUE!"},{"$error":"#VALUE!"},{"$error":"#VALUE!"}]
[null,null,null,null,null,null,null,null,null,null,null,null,null,null,null,null,null,null,null,null,null,null,null,null,null,null,null,null,"Nov",{"$error":"#VALUE!"},{"$error":"#VALUE!"},{"$error":"#VALUE!"},{"$error":"#VALUE!"}]
[null,null,null,null,null,null,null,null,null,null,null,null,null,null,null,null,null,null,null,null,null,null,null,null,null,null,null,null,"Dec",{"$error":"#VALUE!"},{"$error":"#VALUE!"},{"$error":"#VALUE!"},{"$error":"#VALUE!"}]

{"sheet":"STORAGE_RES3","index":10,"n_rows":54,"n_cols":37,"rows_kept":54,"cut":false,"hidden":true,"merged":[[2,2,2,15],[7,5,7,14],[21,5,21,14]]}
[]
[]
[null,null,{"$f":"+UPPER(title93&'Data entry needs'!$F$10&\" \"&'Data entry needs'!$F$11)","v":"BIOMASS STORAGE CALCULATION FOR PLEASE SELECT PLEASE SELECT"}]
[]
[null,null,{"$f":"title94","v":"Biomass safety stock rate definition"}]
[]
[]
[null,null,null,null,null,{"$f":"title95","v":"Capacities (kg of briquette per hour)"}]
[null,null,null,{"$f":"title96","v":"Unit"},null,4,null,null,40,null,null,400,null,null,3000]
[null,null,{"$f":"title99","v":"Biomass consumption"},{"$f":"title83","v":"t/year"},null,{"$f":"+COST_RES3!F$33","v":{"$error":"#DIV/0!"}},null,null,{"$f":"+COST_RES3!H$33","v":{"$error":"#DIV/0!"}},null,null,{"$f":"+COST_RES3!J$33","v":{"$error":"#DIV/0!"}},null,null,{"$f":"+COST_RES3!L$33","v":{"$error":"#DIV/0!"}}]
[null,null,null,{"$f":"title97","v":"t/month"},null,{"$f":"F10/12","v":{"$error":"#DIV/0!"}},null,null,{"$f":"I10/12","v":{"$error":"#DIV/0!"}},null,null,{"$f":"L10/12","v":{"$error":"#DIV/0!"}},null,null,{"$f":"O10/12","v":{"$error":"#DIV/0!"}}]
[null,null,null,{"$f":"title98","v":"kg/day"},null,{"$f":"F10/365","v":{"$error":"#DIV/0!"}},null,null,{"$f":"I10/365","v":{"$error":"#DIV/0!"}},null,null,{"$f":"L10/365","v":{"$error":"#DIV/0!"}},null,null,{"$f":"O10/365","v":{"$error":"#DIV/0!"}}]
[]
[null,null,{"$f":"title100","v":"Biomass production yield within a specific distance"},{"$f":"title83","v":"t/year"},null,{"$f":"COST_RES3!$D$9","v":0},null,null,{"$f":"COST_RES3!$D$9","v":0},null,null,{"$f":"COST_RES3!$D$9","v":0},null,null,{"$f":"COST_RES3!$D$9","v":0}]
[]
[null,null,{"$f":"title101","v":"Biomass safety stock rate"},null,null,{"$f":"+F17/100","v":0.3},{"$f":"+G17/100","v":0},0,0.3,0,0,0.3,0,0,0.3]
[null,null,null,null,null,30,null,null,30,null,null,30,null,null,30]
[null,null,{"$f":"title102","v":"Biomass stock pile capacity"},"t",null,{"$f":"+MAX(F25:F36)","v":{"$error":"#DIV/0!"}},null,null,{"$f":"+MAX(I25:I36)","v":{"$error":"#DIV/0!"}},null,null,{"$f":"+MAX(L25:L36)","v":{"$error":"#DIV/0!"}},null,null,{"$f":"+MAX(O25:O36)","v":{"$error":"#DIV/0!"}}]
[]
[null,null,{"$f":"title103","v":"Maximum storage definition"}]
[]
[null,null,null,null,null,{"$f":"title95","v":"Capacities (kg of briquette per hour)"}]
[null,null,null,null,null,{"$f":"+F9","v":4},null,null,{"$f":"+I9","v":40},null,null,{"$f":"+L9","v":400},null,null,{"$f":"+O9","v":3000}]
[null,null,{"$f":"title104","v":"Harvest Month Selection"},{"$f":"title105","v":"Storage Month"},"Monthly Consumption (t/month)",{"$f":"title106","v":"Cumulative  Storage (t)"},"Storage Depletion (t/month)","Monthly Consumption (t/month)",{"$f":"title106","v":"Cumulative  Storage (t)"},"Storage Depletion (t/month)","Monthly Consumption (t/month)",{"$f":"title106","v":"Cumulative  Storage (t)"},"Storage Depletion (t/month)","Monthly Consumption (t/month)",{"$f":"title106","v":"Cumulative  Storage (t)"},"Storage Depletion (t/month)",null,null,null,null,null,null,null,null,null,null,null,"Harvest Period ","Harvest Period ","Depletion term","Depletion month","EQ term","Depletion time","Storageterm",{"$f":"title105","v":"Storage Month"},"EQ term","Storage time"]
[null,null,{"$f":"title107","v":"January"},{"$f":"+IF($AC25=0,0,IF($AC25>$AC36,1,IF($AC25=$AC36,$D36+1,IF($AC36>$AC25,0))))","v":0},{"$f":"+F$11","v":{"$error":"#DIV/0!"}},{"$f":"+IF(AND($D$25=1,$D$36=0,$D$26=0),$F$11*$AG25+$F$11*$F$16,IF($D25>0,($AG25*$F$11/$AK25)*$D25+$F$11*$F$16,0))","v":0},{"$f":"IF(AND($D$25=1,$D$36=0,$D$26=0),$F$11*#REF!+$G$36,IF($D25>0,IFERROR((#REF!*$F$11/#REF!)*$D25,\"\")+$F$11*$F$16,IF($D25=0,G36-E25)))","v":{"$error":"#VALUE!"}},{"$f":"+I$11","v":{"$error":"#DIV/0!"}},{"$f":"+IF(AND($D$25=1,$D$36=0,$D$26=0),$I$11*$AG25+$I$11*$I$16,IF($D25>0,($AG25*$I$11/$AK25)*$D25+$I$11*$I$16,0))","v":0},{"$f":"IF(AND($D$25=1,$D$36=0,$D$26=0),$I$11*#REF!+$J$36,IF($D25>0,IFERROR((#REF!*$I$11/#REF!)*$D25,\"\")+$I$11*$I$16,IF($D25=0,J36-H25)))","v":{"$error":"#VALUE!"}},{"$f":"+L$11","v":{"$error":"#DIV/0!"}},{"$f":"+IF(AND($D$25=1,$D$36=0,$D$26=0),$L$11*$AG25+$L$11*$L$16,IF($D25>0,($AG25*$L$11/$AK25)*$D25+$L$11*$L$16,0))","v":0},{"$f":"IF(AND($D$25=1,$D$36=0,$D$26=0),$L$11*#REF!+$M$36,IF($D25>0,IFERROR((#REF!*$L$11/#REF!)*$D25,\"\")+$L$11*$L$16,IF($D25=0,M36-K25)))","v":{"$error":"#VALUE!"}},{"$f":"+O$11","v":{"$error":"#DIV/0!"}},{"$f":"+IF(AND($D$25=1,$D$36=0,$D$26=0),$O$11*$AG25+$O$11*$O$16,IF($D25>0,($AG25*$O$11/$AK25)*$D25+$O$11*$O$16,0))","v":0},{"$f":"IF(AND($D$25=1,$D$36=0,$D$26=0),$O$11*#REF!+$P$36,IF($D25>0,IFERROR((#REF!*$O$11/#REF!)*$D25,\"\")+$O$11*$O$16,IF($D25=0,P36-N25)))","v":{"$error":"#VALUE!"}},null,null,null,null,null,null,null,null,null,null,null,false,{"$f":"+N(AB25)","v":0},{"$f":"+IF(AND(AC26>AC25,AC25=0),\"Last\"&AF25,\"\")","v":""},{"$f":"+IF($AC25=1,0,IF($AC25<$AC36,1,IF($AC25=$AC36,$AE36+1,IF($AC36>$AC25,1))))","v":7},1,{"$f":"IFERROR(VLOOKUP(\"LAST\"&AF25,$AD$25:$AE$36,2,FALSE),AK25)","v":9},{"$f":"+IF(AND(AI25>AI26,AI26=0),\"Last\"&AJ25,\"\")","v":""},{"$f":"+IF($AC25=0,0,IF($AC25>$AC36,1,IF($AC25=$AC36,$AI36+1,IF($AC36>$AC25,0))))","v":0},1,{"$f":"IFERROR(VLOOKUP(\"LAST\"&AJ25,$AH$25:$AI$36,2,FALSE),VLOOKUP(\"LAST\"&1,$AH$25:$AI$36,2,FALSE))","v":3}]
[null,null,{"$f":"title108","v":"February"},{"$f":"+IF($AC26=0,0,IF($AC26>$AC25,1,IF($AC26=$AC25,$D25+1,IF($AC25>$AC26,0))))","v":0},{"$error":"#DIV/0!"},{"$f":"IF($D26>0,($AG26*$F$11/$AK26)*$D26+$F$11*$F$16,0)","v":0},{"$f":"+IF($D26>0,IFERROR(($AG26*$F$11/$AK26)*$D26,\"\")+$F$11*$F$16,IF($D26=0,G25-E26))","v":{"$error":"#VALUE!"}},{"$error":"#DIV/0!"},{"$f":"IF($D26>0,($AG26*$I$11/$AK26)*$D26+$I$11*$I$16,0)","v":0},{"$f":"+IF($D26>0,IFERROR(($AG26*$I$11/$AK26)*$D26,\"\")+$I$11*$I$16,IF($D26=0,J25-H26))","v":{"$error":"#VALUE!"}},{"$error":"#DIV/0!"},{"$f":"IF($D26>0,($AG26*$L$11/$AK26)*$D26+$L$11*$L$16,0)","v":0},{"$f":"+IF($D26>0,IFERROR(($AG26*$L$11/$AK26)*$D26,\"\")+$L$11*$L$16,IF($D26=0,M25-K26))","v":{"$error":"#VALUE!"}},{"$error":"#DIV/0!"},{"$f":"IF($D26>0,($AG26*$O$11/$AK26)*$D26+$O$11*$O$16,0)","v":0},{"$f":"+IF($D26>0,IFERROR(($AG26*$O$11/$AK26)*$D26,\"\")+$O$11*$O$16,IF($D26=0,P25-N26))","v":{"$error":"#VALUE!"}},null,null,null,null,null,null,null,null,null,null,null,false,{"$f":"+N(AB26)","v":0},{"$f":"+IF(AND(AC27>AC26,AC26=0),\"Last\"&AF26,\"\")","v":""},{"$f":"+IF($AC26=1,0,IF($AC26<$AC25,1,IF($AC26=$AC25,$AE25+1,IF($AC25>$AC26,1))))","v":8},{"$f":"+IF($AE25>$AE26,$AF25+1,$AF25)","v":1},{"$f":"IFERROR(VLOOKUP(\"LAST\"&AF26,$AD$25:$AE$36,2,FALSE),$AG$25)","v":9},{"$f":"+IF(AND(AI26>AI27,AI27=0),\"Last\"&AJ26,\"\")","v":""},{"$f":"+IF($AC26=0,0,IF($AC26>$AC25,1,IF($AC26=$AC25,$AI25+1,IF($AC25>$AC26,0))))","v":0},{"$f":"+IF($AI25>$AI26,$AJ25+1,$AJ25)","v":1},3]
[null,null,{"$f":"title109","v":"March"},0,{"$error":"#DIV/0!"},0,{"$error":"#VALUE!"},{"$error":"#DIV/0!"},0,{"$error":"#VALUE!"},{"$error":"#DIV/0!"},0,{"$error":"#VALUE!"},{"$error":"#DIV/0!"},0,{"$error":"#VALUE!"},null,null,null,null,null,null,null,null,null,null,null,false,0,{"$f":"+IF(AND(AC28>AC27,AC27=0),\"Last\"&AF27,\"\")","v":"Last1"},9,1,9,{"$f":"+IF(AND(AI27>AI28,AI28=0),\"Last\"&AJ27,\"\")","v":""},0,1,3]
[null,null,{"$f":"title110","v":"April"},1,{"$error":"#DIV/0!"},{"$error":"#DIV/0!"},{"$error":"#VALUE!"},{"$error":"#DIV/0!"},{"$error":"#DIV/0!"},{"$error":"#VALUE!"},{"$error":"#DIV/0!"},{"$error":"#DIV/0!"},{"$error":"#VALUE!"},{"$error":"#DIV/0!"},{"$error":"#DIV/0!"},{"$error":"#VALUE!"},null,null,null,null,null,null,null,null,null,null,null,true,1,{"$f":"+IF(AND(AC29>AC28,AC28=0),\"Last\"&AF28,\"\")","v":""},0,2,9,{"$f":"+IF(AND(AI28>AI29,AI29=0),\"Last\"&AJ28,\"\")","v":""},1,1,3]
[null,null,{"$f":"title111","v":"May"},2,{"$error":"#DIV/0!"},{"$error":"#DIV/0!"},{"$error":"#VALUE!"},{"$error":"#DIV/0!"},{"$error":"#DIV/0!"},{"$error":"#VALUE!"},{"$error":"#DIV/0!"},{"$error":"#DIV/0!"},{"$error":"#VALUE!"},{"$error":"#DIV/0!"},{"$error":"#DIV/0!"},{"$error":"#VALUE!"},null,null,null,null,null,null,null,null,null,null,null,true,1,"",0,2,9,{"$f":"+IF(AND(AI29>AI30,AI30=0),\"Last\"&AJ29,\"\")","v":""},2,1,3]
[null,null,{"$f":"title112","v":"June"},3,{"$error":"#DIV/0!"},{"$error":"#DIV/0!"},{"$error":"#VALUE!"},{"$error":"#DIV/0!"},{"$error":"#DIV/0!"},{"$error":"#VALUE!"},{"$error":"#DIV/0!"},{"$error":"#DIV/0!"},{"$error":"#VALUE!"},{"$error":"#DIV/0!"},{"$error":"#DIV/0!"},{"$error":"#VALUE!"},null,null,null,null,null,null,null,null,null,null,null,true,1,"",0,2,9,"Last1",3,1,3]
[null,null,{"$f":"title113","v":"July"},0,{"$error":"#DIV/0!"},0,{"$error":"#VALUE!"},{"$error":"#DIV/0!"},0,{"$error":"#VALUE!"},{"$error":"#DIV/0!"},0,{"$error":"#VALUE!"},{"$error":"#DIV/0!"},0,{"$error":"#VALUE!"},null,null,null,null,null,null,null,null,null,null,null,false,0,"",1,2,9,"",0,2,3]
[null,null,{"$f":"title114","v":"August"},0,{"$error":"#DIV/0!"},0,{"$error":"#VALUE!"},{"$error":"#DIV/0!"},0,{"$error":"#VALUE!"},{"$error":"#DIV/0!"},0,{"$error":"#VALUE!"},{"$error":"#DIV/0!"},0,{"$error":"#VALUE!"},null,null,null,null,null,null,null,null,null,null,null,false,0,"",2,2,9,"",0,2,3]
[null,null,{"$f":"title115","v":"September"},0,{"$error":"#DIV/0!"},0,{"$error":"#VALUE!"},{"$error":"#DIV/0!"},0,{"$error":"#VALUE!"},{"$error":"#DIV/0!"},0,{"$error":"#VALUE!"},{"$error":"#DIV/0!"},0,{"$error":"#VALUE!"},null,null,null,null,null,null,null,null,null,null,null,false,0,"",3,2,9,"",0,2,3]
[null,null,{"$f":"title116","v":"October"},0,{"$error":"#DIV/0!"},0,{"$error":"#VALUE!"},{"$error":"#DIV/0!"},0,{"$error":"#VALUE!"},{"$error":"#DIV/0!"},0,{"$error":"#VALUE!"},{"$error":"#DIV/0!"},0,{"$error":"#VALUE!"},null,null,null,null,null,null,null,null,null,null,null,false,0,"",4,2,9,"",0,2,3]
[null,null,{"$f":"title117","v":"November"},0,{"$error":"#DIV/0!"},0,{"$error":"#VALUE!"},{"$error":"#DIV/0!"},0,{"$error":"#VALUE!"},{"$error":"#DIV/0!"},0,{"$error":"#VALUE!"},{"$error":"#DIV/0!"},0,{"$error":"#VALUE!"},null,null,null,null,null,null,null,null,null,null,null,false,0,"",5,2,9,"",0,2,3]
[null,null,{"$f":"title118","v":"December"},0,{"$error":"#DIV/0!"},0,{"$error":"#VALUE!"},{"$error":"#DIV/0!"},0,{"$error":"#VALUE!"},{"$error":"#DIV/0!"},0,{"$error":"#VALUE!"},{"$error":"#DIV/0!"},0,{"$error":"#VALUE!"},null,null,null,null,null,null,null,null,null,null,null,false,0,{"$f":"+IF(AND(AC25>AC36,AC36=0),\"Last\"&AF36,\"\")","v":""},6,2,9,{"$f":"+IF(AND(AI36>AI25,AI25=0),\"Last\"&AJ36,\"\")","v":""},0,2,3]
[null,null,null,{"$f":"+MAX(D25:D36)*30","v":90}]
[null,null,{"$f":"title119","v":"Maximum Storage Capacity Required (t)"},null,null,{"$f":"+ROUNDUP(MAX(F25:F36),0)","v":{"$error":"#DIV/0!"}},null,null,{"$f":"+ROUNDUP(MAX(I25:I36),0)","v":{"$error":"#DIV/0!"}},null,null,{"$f":"+ROUNDUP(MAX(L25:L36),0)","v":{"$error":"#DIV/0!"}},null,null,{"$f":"+ROUNDUP(MAX(O25:O36),0)","v":{"$error":"#DIV/0!"}}]
[null,null,{"$f":"title120","v":"Minimum Safety Storage (t)"},null,null,{"$f":"+ROUNDUP(MIN(G25:G36),0)","v":{"$error":"#VALUE!"}},null,null,{"$f":"+ROUNDUP(MIN(J25:J36),0)","v":{"$error":"#VALUE!"}},null,null,{"$f":"+ROUNDUP(MIN(M25:M36),0)","v":{"$error":"#VALUE!"}},null,null,{"$f":"+ROUNDUP(MIN(P25:P36),0)","v":{"$error":"#VALUE!"}}]
[null,null,null,null,null,null,null,null,null,null,null,null,null,null,null,null,null,null,null,null,null,null,null,null,null,null,null,"No. Storage Months",{"$f":"+COUNTIF(AC25:AC36,\">0\")","v":3}]
[null,null,{"$f":"title121","v":"Monthly Consumption of Biomass Stocked"},null,null,null,null,null,null,null,null,null,null,null,null,null,null,null,null,null,null,null,null,null,null,null,null,"Total Depletion Period",{"$f":"12-AC40","v":9}]
[null,null,null,null,null,null,null,null,null,null,null,null,null,null,null,null,null,null,null,"Depletion time definition",null,null,null,null,null,null,null,null,null,{"$f":"4&\" (kg/h)\"","v":"4 (kg/h)"},{"$f":"40&\" (kg/hr)\"","v":"40 (kg/hr)"},{"$f":"400&\" (kg/h)\"","v":"400 (kg/h)"},{"$f":"3000&\" (kg/h)\"","v":"3000 (kg/h)"}]
[null,null,null,null,null,null,null,null,null,null,null,null,null,null,null,null,null,null,null,"Depletion time definition",null,null,null,null,null,null,null,null,{"$f":"+LEFT(C25,3)","v":"Jan"},{"$f":"+G25","v":{"$error":"#VALUE!"}},{"$f":"+J25","v":{"$error":"#VALUE!"}},{"$f":"+M25","v":{"$error":"#VALUE!"}},{"$f":"+P25","v":{"$error":"#VALUE!"}}]
[null,null,null,null,null,null,null,null,null,null,null,null,null,null,null,null,null,null,null,"Depletion time definition",null,null,null,null,null,null,null,null,"Feb",{"$error":"#VALUE!"},{"$error":"#VALUE!"},{"$error":"#VALUE!"},{"$error":"#VALUE!"}]
[null,null,null,null,null,null,null,null,null,null,null,null,null,null,null,null,null,null,null,"Depletion time definition",null,null,null,null,null,null,null,null,"Mar",{"$error":"#VALUE!"},{"$error":"#VALUE!"},{"$error":"#VALUE!"},{"$error":"#VALUE!"}]
[null,null,null,null,null,null,null,null,null,null,null,null,null,null,null,null,null,null,null,null,null,null,null,null,null,null,null,null,"Apr",{"$error":"#VALUE!"},{"$error":"#VALUE!"},{"$error":"#VALUE!"},{"$error":"#VALUE!"}]
[null,null,null,null,null,null,null,null,null,null,null,null,null,null,null,null,null,null,null,null,null,null,null,null,null,null,null,null,"May",{"$error":"#VALUE!"},{"$error":"#VALUE!"},{"$error":"#VALUE!"},{"$error":"#VALUE!"}]
[null,null,null,null,null,null,null,null,null,null,null,null,null,null,null,null,null,null,null,null,null,null,null,null,null,null,null,null,"Jun",{"$error":"#VALUE!"},{"$error":"#VALUE!"},{"$error":"#VALUE!"},{"$error":"#VALUE!"}]
[null,null,null,null,null,null,null,null,null,null,null,null,null,null,null,null,null,null,null,null,null,null,null,null,null,null,null,null,{"$f":"+LEFT(C31,3)","v":"Jul"},{"$f":"+G31","v":{"$error":"#VALUE!"}},{"$f":"+J31","v":{"$error":"#VALUE!"}},{"$f":"+M31","v":{"$error":"#VALUE!"}},{"$f":"+P31","v":{"$error":"#VALUE!"}}]
[null,null,null,null,null,null,null,null,null,null,null,null,null,null,null,null,null,null,null,null,null,null,null,null,null,null,null,null,"Aug",{"$error":"#VALUE!"},{"$error":"#VALUE!"},{"$error":"#VALUE!"},{"$error":"#VALUE!"}]
[null,null,null,null,null,null,null,null,null,null,null,null,null,null,null,null,null,null,null,null,null,null,null,null,null,null,null,null,"Sep",{"$error":"#VALUE!"},{"$error":"#VALUE!"},{"$error":"#VALUE!"},{"$error":"#VALUE!"}]
[null,null,null,null,null,null,null,null,null,null,null,null,null,null,null,null,null,null,null,null,null,null,null,null,null,null,null,null,"Oct",{"$error":"#VALUE!"},{"$error":"#VALUE!"},{"$error":"#VALUE!"},{"$error":"#VALUE!"}]
[null,null,null,null,null,null,null,null,null,null,null,null,null,null,null,null,null,null,null,null,null,null,null,null,null,null,null,null,"Nov",{"$error":"#VALUE!"},{"$error":"#VALUE!"},{"$error":"#VALUE!"},{"$error":"#VALUE!"}]
[null,null,null,null,null,null,null,null,null,null,null,null,null,null,null,null,null,null,null,null,null,null,null,null,null,null,null,null,"Dec",{"$error":"#VALUE!"},{"$error":"#VALUE!"},{"$error":"#VALUE!"},{"$error":"#VALUE!"}]

{"sheet":"STORAGE_RES4","index":11,"n_rows":56,"n_cols":37,"rows_kept":56,"cut":false,"hidden":true,"merged":[[7,5,7,14],[21,5,21,14],[2,2,2,15]]}
[]
[]
[null,null,{"$f":"+UPPER(title93&'Data entry needs'!$G$10&\" \"&'Data entry needs'!$G$11)","v":"BIOMASS STORAGE CALCULATION FOR PLEASE SELECT PLEASE SELECT"}]
[]
[null,null,{"$f":"title94","v":"Biomass safety stock rate definition"}]
[]
[]
[null,null,null,null,null,{"$f":"title95","v":"Capacities (kg of briquette per hour)"}]
[null,null,null,{"$f":"title96","v":"Unit"},null,4,null,null,40,null,null,400,null,null,3000]
[null,null,{"$f":"title99","v":"Biomass consumption"},{"$f":"title83","v":"t/year"},null,{"$f":"+COST_RES4!F$33","v":{"$error":"#DIV/0!"}},null,null,{"$f":"+COST_RES4!H$33","v":{"$error":"#DIV/0!"}},null,null,{"$f":"+COST_RES4!J$33","v":{"$error":"#DIV/0!"}},null,null,{"$f":"+COST_RES4!L$33","v":{"$error":"#DIV/0!"}}]
[null,null,null,{"$f":"title97","v":"t/month"},null,{"$f":"F10/12","v":{"$error":"#DIV/0!"}},null,null,{"$f":"I10/12","v":{"$error":"#DIV/0!"}},null,null,{"$f":"L10/12","v":{"$error":"#DIV/0!"}},null,null,{"$f":"O10/12","v":{"$error":"#DIV/0!"}}]
[null,null,null,{"$f":"title98","v":"kg/day"},null,{"$f":"F10/365","v":{"$error":"#DIV/0!"}},null,null,{"$f":"I10/365","v":{"$error":"#DIV/0!"}},null,null,{"$f":"L10/365","v":{"$error":"#DIV/0!"}},null,null,{"$f":"O10/365","v":{"$error":"#DIV/0!"}}]
[]
[null,null,{"$f":"title100","v":"Biomass production yield within a specific distance"},{"$f":"title83","v":"t/year"},null,{"$f":"COST_RES4!$D$9","v":0},null,null,{"$f":"COST_RES4!$D$9","v":0},null,null,{"$f":"COST_RES4!$D$9","v":0},null,null,{"$f":"COST_RES4!$D$9","v":0}]
[]
[null,null,{"$f":"title101","v":"Biomass safety stock rate"},null,null,{"$f":"+F17/100","v":0.3},{"$f":"+G17/100","v":0},0,0.3,0,0,0.3,0,0,0.3]
[null,null,null,null,null,30,null,null,30,null,null,30,null,null,30]
[null,null,{"$f":"title102","v":"Biomass stock pile capacity"},"t",null,{"$f":"+MAX(F25:F36)","v":{"$error":"#DIV/0!"}},null,null,{"$f":"+MAX(I25:I36)","v":{"$error":"#DIV/0!"}},null,null,{"$f":"+MAX(L25:L36)","v":{"$error":"#DIV/0!"}},null,null,{"$f":"+MAX(O25:O36)","v":{"$error":"#DIV/0!"}}]
[]
[null,null,{"$f":"title103","v":"Maximum storage definition"}]
[]
[null,null,null,null,null,{"$f":"title95","v":"Capacities (kg of briquette per hour)"}]
[null,null,null,null,null,{"$f":"+F9","v":4},null,null,{"$f":"+I9","v":40},null,null,{"$f":"+L9","v":400},null,null,{"$f":"+O9","v":3000}]
[null,null,{"$f":"title104","v":"Harvest Month Selection"},{"$f":"title105","v":"Storage Month"},"Monthly Consumption (t/month)",{"$f":"title106","v":"Cumulative  Storage (t)"},"Storage Depletion (t/month)","Monthly Consumption (t/month)",{"$f":"title106","v":"Cumulative  Storage (t)"},"Storage Depletion (t/month)","Monthly Consumption (t/month)",{"$f":"title106","v":"Cumulative  Storage (t)"},"Storage Depletion (t/month)","Monthly Consumption (t/month)",{"$f":"title106","v":"Cumulative  Storage (t)"},"Storage Depletion (t/month)",null,null,null,null,null,null,null,null,null,null,null,"Harvest Period ","Harvest Period ","Depletion term","Depletion month","EQ term","Depletion time","Storageterm",{"$f":"title105","v":"Storage Month"},"EQ term","Storage time"]
[null,null,{"$f":"title107","v":"January"},{"$f":"+IF($AC25=0,0,IF($AC25>$AC36,1,IF($AC25=$AC36,$D36+1,IF($AC36>$AC25,0))))","v":0},{"$f":"+F$11","v":{"$error":"#DIV/0!"}},{"$f":"+IF(AND($D$25=1,$D$36=0,$D$26=0),$F$11*$AG25+$F$11*$F$16,IF($D25>0,($AG25*$F$11/$AK25)*$D25+$F$11*$F$16,0))","v":0},{"$f":"IF(AND($D$25=1,$D$36=0,$D$26=0),$F$11*$AG25+$G$36,IF($D25>0,IFERROR(($AG25*$F$11/$AK25)*$D25,\"\")+$F$11*$F$16,IF($D25=0,G36-E25)))","v":{"$error":"#VALUE!"}},{"$f":"+I$11","v":{"$error":"#DIV/0!"}},{"$f":"+IF(AND($D$25=1,$D$36=0,$D$26=0),$I$11*$AG25+$I$11*$I$16,IF($D25>0,($AG25*$I$11/$AK25)*$D25+$I$11*$I$16,0))","v":0},{"$f":"IF(AND($D$25=1,$D$36=0,$D$26=0),$I$11*$AG25+$J$36,IF($D25>0,IFERROR(($AG25*$I$11/$AK25)*$D25,\"\")+$I$11*$I$16,IF($D25=0,J36-H25)))","v":{"$error":"#VALUE!"}},{"$f":"+L$11","v":{"$error":"#DIV/0!"}},{"$f":"+IF(AND($D$25=1,$D$36=0,$D$26=0),$L$11*$AG25+$L$11*$L$16,IF($D25>0,($AG25*$L$11/$AK25)*$D25+$L$11*$L$16,0))","v":0},{"$f":"IF(AND($D$25=1,$D$36=0,$D$26=0),$L$11*$AG25+$M$36,IF($D25>0,IFERROR(($AG25*$L$11/$AK25)*$D25,\"\")+$L$11*$L$16,IF($D25=0,M36-K25)))","v":{"$error":"#VALUE!"}},{"$f":"+O$11","v":{"$error":"#DIV/0!"}},{"$f":"+IF(AND($D$25=1,$D$36=0,$D$26=0),$O$11*$AG25+$O$11*$O$16,IF($D25>0,($AG25*$O$11/$AK25)*$D25+$O$11*$O$16,0))","v":0},{"$f":"IF(AND($D$25=1,$D$36=0,$D$26=0),$O$11*$AG25+$P$36,IF($D25>0,IFERROR(($AG25*$O$11/$AK25)*$D25,\"\")+$O$11*$O$16,IF($D25=0,P36-N25)))","v":{"$error":"#VALUE!"}},null,null,null,null,null,null,null,null,null,null,null,false,{"$f":"+N(AB25)","v":0},{"$f":"+IF(AND(AC26>AC25,AC25=0),\"Last\"&AF25,\"\")","v":""},{"$f":"+IF($AC25=1,0,IF($AC25<$AC36,1,IF($AC25=$AC36,$AE36+1,IF($AC36>$AC25,1))))","v":7},1,{"$f":"IFERROR(VLOOKUP(\"LAST\"&AF25,$AD$25:$AE$36,2,FALSE),AK25)","v":9},{"$f":"+IF(AND(AI25>AI26,AI26=0),\"Last\"&AJ25,\"\")","v":""},{"$f":"+IF($AC25=0,0,IF($AC25>$AC36,1,IF($AC25=$AC36,$AI36+1,IF($AC36>$AC25,0))))","v":0},1,{"$f":"IFERROR(VLOOKUP(\"LAST\"&AJ25,$AH$25:$AI$36,2,FALSE),VLOOKUP(\"LAST\"&1,$AH$25:$AI$36,2,FALSE))","v":3}]
[null,null,{"$f":"title108","v":"February"},{"$f":"+IF($AC26=0,0,IF($AC26>$AC25,1,IF($AC26=$AC25,$D25+1,IF($AC25>$AC26,0))))","v":0},{"$error":"#DIV/0!"},{"$f":"IF($D26>0,($AG26*$F$11/$AK26)*$D26+$F$11*$F$16,0)","v":0},{"$f":"+IF($D26>0,IFERROR(($AG26*$F$11/$AK26)*$D26,\"\")+$F$11*$F$16,IF($D26=0,G25-E26))","v":{"$error":"#VALUE!"}},{"$error":"#DIV/0!"},{"$f":"IF($D26>0,($AG26*$I$11/$AK26)*$D26+$I$11*$I$16,0)","v":0},{"$f":"+IF($D26>0,IFERROR(($AG26*$I$11/$AK26)*$D26,\"\")+$I$11*$I$16,IF($D26=0,J25-H26))","v":{"$error":"#VALUE!"}},{"$error":"#DIV/0!"},{"$f":"IF($D26>0,($AG26*$L$11/$AK26)*$D26+$L$11*$L$16,0)","v":0},{"$f":"+IF($D26>0,IFERROR(($AG26*$L$11/$AK26)*$D26,\"\")+$L$11*$L$16,IF($D26=0,M25-K26))","v":{"$error":"#VALUE!"}},{"$error":"#DIV/0!"},{"$f":"IF($D26>0,($AG26*$O$11/$AK26)*$D26+$O$11*$O$16,0)","v":0},{"$f":"+IF($D26>0,IFERROR(($AG26*$O$11/$AK26)*$D26,\"\")+$O$11*$O$16,IF($D26=0,P25-N26))","v":{"$error":"#VALUE!"}},null,null,null,null,null,null,null,null,null,null,null,false,{"$f":"+N(AB26)","v":0},{"$f":"+IF(AND(AC27>AC26,AC26=0),\"Last\"&AF26,\"\")","v":""},{"$f":"+IF($AC26=1,0,IF($AC26<$AC25,1,IF($AC26=$AC25,$AE25+1,IF($AC25>$AC26,1))))","v":8},{"$f":"+IF($AE25>$AE26,$AF25+1,$AF25)","v":1},{"$f":"IFERROR(VLOOKUP(\"LAST\"&AF26,$AD$25:$AE$36,2,FALSE),$AG$25)","v":9},{"$f":"+IF(AND(AI26>AI27,AI27=0),\"Last\"&AJ26,\"\")","v":""},{"$f":"+IF($AC26=0,0,IF($AC26>$AC25,1,IF($AC26=$AC25,$AI25+1,IF($AC25>$AC26,0))))","v":0},{"$f":"+IF($AI25>$AI26,$AJ25+1,$AJ25)","v":1},3]
[null,null,{"$f":"title109","v":"March"},0,{"$error":"#DIV/0!"},0,{"$error":"#VALUE!"},{"$error":"#DIV/0!"},0,{"$error":"#VALUE!"},{"$error":"#DIV/0!"},0,{"$error":"#VALUE!"},{"$error":"#DIV/0!"},0,{"$error":"#VALUE!"},null,null,null,null,null,null,null,null,null,null,null,false,0,{"$f":"+IF(AND(AC28>AC27,AC27=0),\"Last\"&AF27,\"\")","v":"Last1"},9,1,9,{"$f":"+IF(AND(AI27>AI28,AI28=0),\"Last\"&AJ27,\"\")","v":""},0,1,3]
[null,null,{"$f":"title110","v":"April"},1,{"$error":"#DIV/0!"},{"$error":"#DIV/0!"},{"$error":"#VALUE!"},{"$error":"#DIV/0!"},{"$error":"#DIV/0!"},{"$error":"#VALUE!"},{"$error":"#DIV/0!"},{"$error":"#DIV/0!"},{"$error":"#VALUE!"},{"$error":"#DIV/0!"},{"$error":"#DIV/0!"},{"$error":"#VALUE!"},null,null,null,null,null,null,null,null,null,null,null,true,1,{"$f":"+IF(AND(AC29>AC28,AC28=0),\"Last\"&AF28,\"\")","v":""},0,2,9,{"$f":"+IF(AND(AI28>AI29,AI29=0),\"Last\"&AJ28,\"\")","v":""},1,1,3]
[null,null,{"$f":"title111","v":"May"},2,{"$error":"#DIV/0!"},{"$error":"#DIV/0!"},{"$error":"#VALUE!"},{"$error":"#DIV/0!"},{"$error":"#DIV/0!"},{"$error":"#VALUE!"},{"$error":"#DIV/0!"},{"$error":"#DIV/0!"},{"$error":"#VALUE!"},{"$error":"#DIV/0!"},{"$error":"#DIV/0!"},{"$error":"#VALUE!"},null,null,null,null,null,null,null,null,null,null,null,true,1,"",0,2,9,{"$f":"+IF(AND(AI29>AI30,AI30=0),\"Last\"&AJ29,\"\")","v":""},2,1,3]
[null,null,{"$f":"title112","v":"June"},3,{"$error":"#DIV/0!"},{"$error":"#DIV/0!"},{"$error":"#VALUE!"},{"$error":"#DIV/0!"},{"$error":"#DIV/0!"},{"$error":"#VALUE!"},{"$error":"#DIV/0!"},{"$error":"#DIV/0!"},{"$error":"#VALUE!"},{"$error":"#DIV/0!"},{"$error":"#DIV/0!"},{"$error":"#VALUE!"},null,null,null,null,null,null,null,null,null,null,null,true,1,"",0,2,9,"Last1",3,1,3]
[null,null,{"$f":"title113","v":"July"},0,{"$error":"#DIV/0!"},0,{"$error":"#VALUE!"},{"$error":"#DIV/0!"},0,{"$error":"#VALUE!"},{"$error":"#DIV/0!"},0,{"$error":"#VALUE!"},{"$error":"#DIV/0!"},0,{"$error":"#VALUE!"},null,null,null,null,null,null,null,null,null,null,null,false,0,"",1,2,9,"",0,2,3]
[null,null,{"$f":"title114","v":"August"},0,{"$error":"#DIV/0!"},0,{"$error":"#VALUE!"},{"$error":"#DIV/0!"},0,{"$error":"#VALUE!"},{"$error":"#DIV/0!"},0,{"$error":"#VALUE!"},{"$error":"#DIV/0!"},0,{"$error":"#VALUE!"},null,null,null,null,null,null,null,null,null,null,null,false,0,"",2,2,9,"",0,2,3]
[null,null,{"$f":"title115","v":"September"},0,{"$error":"#DIV/0!"},0,{"$error":"#VALUE!"},{"$error":"#DIV/0!"},0,{"$error":"#VALUE!"},{"$error":"#DIV/0!"},0,{"$error":"#VALUE!"},{"$error":"#DIV/0!"},0,{"$error":"#VALUE!"},null,null,null,null,null,null,null,null,null,null,null,false,0,"",3,2,9,"",0,2,3]
[null,null,{"$f":"title116","v":"October"},0,{"$error":"#DIV/0!"},0,{"$error":"#VALUE!"},{"$error":"#DIV/0!"},0,{"$error":"#VALUE!"},{"$error":"#DIV/0!"},0,{"$error":"#VALUE!"},{"$error":"#DIV/0!"},0,{"$error":"#VALUE!"},null,null,null,null,null,null,null,null,null,null,null,false,0,"",4,2,9,"",0,2,3]
[null,null,{"$f":"title117","v":"November"},0,{"$error":"#DIV/0!"},0,{"$error":"#VALUE!"},{"$error":"#DIV/0!"},0,{"$error":"#VALUE!"},{"$error":"#DIV/0!"},0,{"$error":"#VALUE!"},{"$error":"#DIV/0!"},0,{"$error":"#VALUE!"},null,null,null,null,null,null,null,null,null,null,null,false,0,"",5,2,9,"",0,2,3]
[null,null,{"$f":"title118","v":"December"},0,{"$error":"#DIV/0!"},0,{"$error":"#VALUE!"},{"$error":"#DIV/0!"},0,{"$error":"#VALUE!"},{"$error":"#DIV/0!"},0,{"$error":"#VALUE!"},{"$error":"#DIV/0!"},0,{"$error":"#VALUE!"},null,null,null,null,null,null,null,null,null,null,null,false,0,{"$f":"+IF(AND(AC25>AC36,AC36=0),\"Last\"&AF36,\"\")","v":""},6,2,9,{"$f":"+IF(AND(AI36>AI25,AI25=0),\"Last\"&AJ36,\"\")","v":""},0,2,3]
[null,null,null,{"$f":"+MAX(D25:D36)*30","v":90}]
[null,null,{"$f":"title119","v":"Maximum Storage Capacity Required (t)"},null,null,{"$f":"+ROUNDUP(MAX(F25:F36),0)","v":{"$error":"#DIV/0!"}},null,null,{"$f":"+ROUNDUP(MAX(I25:I36),0)","v":{"$error":"#DIV/0!"}},null,null,{"$f":"+ROUNDUP(MAX(L25:L36),0)","v":{"$error":"#DIV/0!"}},null,null,{"$f":"+ROUNDUP(MAX(O25:O36),0)","v":{"$error":"#DIV/0!"}}]
[null,null,{"$f":"title120","v":"Minimum Safety Storage (t)"},null,null,{"$f":"+ROUNDUP(MIN(G25:G36),0)","v":{"$error":"#VALUE!"}},null,null,{"$f":"+ROUNDUP(MIN(J25:J36),0)","v":{"$error":"#VALUE!"}},null,null,{"$f":"+ROUNDUP(MIN(M25:M36),0)","v":{"$error":"#VALUE!"}},null,null,{"$f":"+ROUNDUP(MIN(P25:P36),0)","v":{"$error":"#VALUE!"}}]
[null,null,null,null,null,null,null,null,null,null,null,null,null,null,null,null,null,null,null,null,null,null,null,null,null,null,null,"No. Storage Months",{"$f":"+COUNTIF(AC25:AC36,\">0\")","v":3}]
[null,null,{"$f":"title121","v":"Monthly Consumption of Biomass Stocked"},null,null,null,null,null,null,null,null,null,null,null,null,null,null,null,null,null,null,null,null,null,null,null,null,"Total Depletion Period",{"$f":"12-AC40","v":9}]
[]
[]
[null,null,null,null,null,null,null,null,null,null,null,null,null,null,null,null,null,null,null,null,null,null,null,null,null,null,null,null,null,{"$f":"4&\" (kg/h)\"","v":"4 (kg/h)"},{"$f":"40&\" (kg/hr)\"","v":"40 (kg/hr)"},{"$f":"400&\" (kg/h)\"","v":"400 (kg/h)"},{"$f":"3000&\" (kg/h)\"","v":"3000 (kg/h)"}]
[null,null,null,null,null,null,null,null,null,null,null,null,null,null,null,null,null,null,null,null,null,null,null,null,null,null,null,null,{"$f":"+LEFT(C25,3)","v":"Jan"},{"$f":"+G25","v":{"$error":"#VALUE!"}},{"$f":"+J25","v":{"$error":"#VALUE!"}},{"$f":"+M25","v":{"$error":"#VALUE!"}},{"$f":"+P25","v":{"$error":"#VALUE!"}}]
[null,null,null,null,null,null,null,null,null,null,null,null,null,null,null,null,null,null,null,null,null,null,null,null,null,null,null,null,"Feb",{"$error":"#VALUE!"},{"$error":"#VALUE!"},{"$error":"#VALUE!"},{"$error":"#VALUE!"}]
[null,null,null,null,null,null,null,null,null,null,null,null,null,null,null,null,null,null,null,null,null,null,null,null,null,null,null,null,"Mar",{"$error":"#VALUE!"},{"$error":"#VALUE!"},{"$error":"#VALUE!"},{"$error":"#VALUE!"}]
[null,null,null,null,null,null,null,null,null,null,null,null,null,null,null,null,null,null,null,null,null,null,null,null,null,null,null,null,"Apr",{"$error":"#VALUE!"},{"$error":"#VALUE!"},{"$error":"#VALUE!"},{"$error":"#VALUE!"}]
[null,null,null,null,null,null,null,null,null,null,null,null,null,null,null,null,null,null,null,null,null,null,null,null,null,null,null,null,"May",{"$error":"#VALUE!"},{"$error":"#VALUE!"},{"$error":"#VALUE!"},{"$error":"#VALUE!"}]
[null,null,null,null,null,null,null,null,null,null,null,null,null,null,null,null,null,null,null,null,null,null,null,null,null,null,null,null,"Jun",{"$error":"#VALUE!"},{"$error":"#VALUE!"},{"$error":"#VALUE!"},{"$error":"#VALUE!"}]
[null,null,null,null,null,null,null,null,null,null,null,null,null,null,null,null,null,null,null,null,null,null,null,null,null,null,null,null,{"$f":"+LEFT(C31,3)","v":"Jul"},{"$f":"+G31","v":{"$error":"#VALUE!"}},{"$f":"+J31","v":{"$error":"#VALUE!"}},{"$f":"+M31","v":{"$error":"#VALUE!"}},{"$f":"+P31","v":{"$error":"#VALUE!"}}]
[null,null,null,null,null,null,null,null,null,null,null,null,null,null,null,null,null,null,null,null,null,null,null,null,null,null,null,null,"Aug",{"$error":"#VALUE!"},{"$error":"#VALUE!"},{"$error":"#VALUE!"},{"$error":"#VALUE!"}]
[null,null,null,null,null,null,null,null,null,null,null,null,null,null,null,null,null,null,null,null,null,null,null,null,null,null,null,null,"Sep",{"$error":"#VALUE!"},{"$error":"#VALUE!"},{"$error":"#VALUE!"},{"$error":"#VALUE!"}]
[null,null,null,null,null,null,null,null,null,null,null,null,null,null,null,null,null,null,null,null,null,null,null,null,null,null,null,null,"Oct",{"$error":"#VALUE!"},{"$error":"#VALUE!"},{"$error":"#VALUE!"},{"$error":"#VALUE!"}]
[null,null,null,null,null,null,null,null,null,null,null,null,null,null,null,null,null,null,null,null,null,null,null,null,null,null,null,null,"Nov",{"$error":"#VALUE!"},{"$error":"#VALUE!"},{"$error":"#VALUE!"},{"$error":"#VALUE!"}]
[null,null,null,null,null,null,null,null,null,null,null,null,null,null,null,null,null,null,null,null,null,null,null,null,null,null,null,null,"Dec",{"$error":"#VALUE!"},{"$error":"#VALUE!"},{"$error":"#VALUE!"},{"$error":"#VALUE!"}]

{"sheet":"Data entry needs","index":12,"n_rows":116,"n_cols":41,"rows_kept":116,"cut":false,"hidden":false,"merged":[[47,5,47,6],[22,2,22,8],[2,2,2,8],[28,5,28,6],[17,2,18,2],[35,5,35,6],[5,3,5,4],[42,5,42,6],[20,2,21,2]]}
[]
[]
[null,null,{"$f":"title122","v":"DATA ENTRY FOR BIOMASS IN BRIQUETTES PRODUCTION"}]
[]
[null,null,null,null,null,null,"Please Select Please Select"]
[null,null,{"$f":"title123","v":"Use white cells to input data"},{"$f":"title124","v":"Grey cells are used for calculations"}]
[null,null,{"$f":"title125","v":"Feedstock Availability and Cost"}]
[null,null,null,{"$f":"IF(OR(entry1=title516,entry1=title517),TRUE,FALSE)","v":false},{"$f":"IF(OR(entry2=title516,entry2=title517),TRUE,FALSE)","v":false},{"$f":"IF(OR(entry3=title516,entry3=title517),TRUE,FALSE)","v":false},{"$f":"IF(OR(entry4=title516,entry4=title517),TRUE,FALSE)","v":false}]
[null,null,null,{"$f":"title126&\" 1\"","v":"Feedstock  1"},{"$f":"title126&\" 2\"","v":"Feedstock  2"},{"$f":"title126&\" 3\"","v":"Feedstock  3"},{"$f":"title126&\" 4\"","v":"Feedstock  4"}]
[null,null,null,"Please Select","Please Select","Please Select","Please Select"]
[null,null,{"$f":"title126","v":"Feedstock "},"Please Select","Please Select","Please Select","Please Select"]
[null,null,{"$f":"title127","v":"Feedstock available (t/year)"}]
[null,null,{"$f":"title128","v":"Feedstock yield (t/ha)"}]
[null,null,{"$f":"title129","v":"Moisture content"},{"$f":"+IF(D$11=title172,0,IFERROR(VLOOKUP(D$10&D$11,dummy_database!$N$3:$P$32,2,FALSE),\"\"))","v":0},{"$f":"+IF(E$11=title172,0,IFERROR(VLOOKUP(E$10&E$11,dummy_database!$N$3:$P$32,2,FALSE),\"\"))","v":0},{"$f":"+IF(F$11=title172,0,IFERROR(VLOOKUP(F$10&F$11,dummy_database!$N$3:$P$32,2,FALSE),\"\"))","v":0},{"$f":"+IF(G$11=title172,0,IFERROR(VLOOKUP(G$10&G$11,dummy_database!$N$3:$P$32,2,FALSE),\"\"))","v":0}]
[null,null,{"$f":"title130","v":"Feedstock price (USD/t)"}]
[null,null,null,{"$f":"+IF(D$11=title172,0,IF($C$17=FALSE,PRICE_RES1!$I$26,title206))","v":0},{"$f":"+IF(E$11=title172,0,IF($C$17=FALSE,PRICE_RES2!$I$26,title206))","v":0},{"$f":"+IF(F$11=title172,0,IF($C$17=FALSE,PRICE_RES3!$I$26,title206))","v":0},{"$f":"+IF(G$11=title172,0,IF($C$17=FALSE,PRICE_RES4!$I$26,title206))","v":0}]
[null,null,false]
[null,null,{"$f":"title131","v":"Chemical binder"},"Please Select","Please Select","Please Select","Please Select"]
[null,null,null,"None","None","None","None"]
[null,null,{"$f":"title132","v":"Binder cost (USD/t)"}]
[null,null,{"$f":"title133","v":"Feedstock storage cost (USD/t)"}]
[]
[null,null,{"$f":"title134","v":"Production Cost and Financial Parameters"}]
[]
[null,null,{"$f":"title135","v":"Utilities"},null,{"$f":"title96","v":"Unit"},null,null,null,{"$f":"title96","v":"Unit"}]
[null,null,{"$f":"title136","v":"Water"},null,"USD/m3",{"$f":"title137","v":"Electricity"},null,null,"USD/kWh"]
[]
[null,null,{"$f":"title138","v":"Labour"},null,{"$f":"title96","v":"Unit"},null,null,null,{"$f":"title96","v":"Unit"}]
[null,null,{"$f":"title139","v":"Skilled worker"},null,{"$f":"title140","v":"USD/person-hour"},{"$f":"title141","v":"Unskilled worker"},null,null,{"$f":"title140","v":"USD/person-hour"}]
[]
[null,null,{"$f":"title142","v":"Feedstock collection"},null,{"$f":"title96","v":"Unit"},null,null,null,{"$f":"title96","v":"Unit"}]
[null,null,{"$f":"title143","v":"Working hours per day (manual)"},null,{"$f":"title145","v":"h/day"},{"$f":"title146","v":"Working hours per day (mechanized)"},null,null,{"$f":"title145","v":"h/day"}]
[null,null,{"$f":"title144","v":"Diesel price"},null,"USD/l"]
[]
[null,null,{"$f":"title147","v":"Price of briquettes"},null,{"$f":"title96","v":"Unit"},null,null,null,{"$f":"title96","v":"Unit"}]
[null,null,{"$f":"title148","v":"Market price (rural areas)"},null,"USD/kg",{"$f":"title149","v":"Market price (urban areas)"},null,null,"USD/kg"]
[]
[null,null,{"$f":"title150","v":"Transportation cost "},null,{"$f":"title96","v":"Unit"},null,null,null,{"$f":"title96","v":"Unit"}]
[null,null,{"$f":"title151","v":"Feedstock (farm to briquette plant)"},null,null,"Briquette products (briquette plant to market)"]
[null,null,{"$f":"title151","v":"Feedstock (farm to briquette plant)"},null,"USD/t/km",{"$f":"title152","v":"Product (briquettes plant to market)"},null,null,"USD/t/km"]
[]
[null,null,{"$f":"title153","v":"Operating parameters"},null,{"$f":"title96","v":"Unit"},null,null,null,{"$f":"title96","v":"Unit"}]
[null,null,{"$f":"title154","v":"Operating days per year"},null,{"$f":"title156","v":"days/year"},{"$f":"title157","v":"Storage safety rate of product"}]
[null,null,{"$f":"title155","v":"Operating hours per day (manual-max. 8h)"},null,{"$f":"title145","v":"h/day"},{"$f":"title158","v":"Operating hours per day (semi-mechanized)"},null,null,{"$f":"title145","v":"h/day"}]
[]
[null,null,{"$f":"title159","v":"Other costs"},null,{"$f":"title96","v":"Unit"},null,null,null,{"$f":"title96","v":"Unit"}]
[null,null,{"$f":"title160","v":"Plant overhead (%)"},null,null,{"$f":"title162","v":"Miscellaneous (%)"}]
[null,null,{"$f":"title161","v":"Maintenance (%)"},null,null,{"$f":"title163","v":"General and administrative (%)"}]
[]
[null,null,{"$f":"title164","v":"Financial parameters"},null,{"$f":"title96","v":"Unit"},{"$f":"title170","v":"Investment cost update"},null,null,{"$f":"title96","v":"Unit"}]
[null,null,{"$f":"title165","v":"Discount rate"}]
[null,null,{"$f":"title166","v":"Loan ratio"},null,null,{"$f":"title171&MONTH(TODAY())&\"/\"&YEAR(TODAY())","v":"Plant Cost Index during 1/2017"}]
[null,null,{"$f":"title167","v":"Loan interest rate"},null,null,"http://base.intratec.us/home/ic-index"]
[null,null,{"$f":"title168","v":"Loan term"},null,{"$f":"title169","v":"year"}]
[]
[]
[]
[]
[]
[]
[null,null,null,null,null,null,null,null,null,null,null,null,null,null,null,null,null,null,null,null,null,null,null,null,null,null,"Residue 1","Selection Crop","Crop Residue","Crop","Crop","Residue","Options","Binder","Residue 1",{"$f":"+IF($D$18=title204,AH62,title205)","v":"None"}]
[null,null,null,null,null,null,null,null,null,null,null,null,null,null,null,null,null,null,null,null,null,null,null,null,null,null,null,{"$f":"$D$10","v":"Please Select"},{"$f":"+IFERROR(VLOOKUP($AB$62&AA62,$AE$63:$AF$91,2,FALSE),title172)","v":"Please Select"},{"$f":"title172","v":"Please Select"},{"$f":"title172","v":"Please Select"},null,{"$f":"title172","v":"Please Select"},{"$f":"title11","v":"Cassava flour"},null,{"$f":"+IF($D$18=title204,AH63,title205)","v":"None"}]
[null,null,null,null,null,null,null,null,null,null,null,null,null,null,null,null,null,null,null,null,null,null,null,null,null,null,1,null,{"$f":"+IFERROR(VLOOKUP($AB$62&AA63,$AE$63:$AF$91,2,FALSE),\"\")","v":""},{"$f":"title173","v":"cacao"},{"$f":"title190","v":"barley"},{"$f":"title191","v":"straw"},{"$f":"title204","v":"yes"},{"$f":"title12","v":"Maize flour"},null,{"$f":"+IF($D$18=title204,AH64,title205)","v":"None"}]
[null,null,null,null,null,null,null,null,null,null,null,null,null,null,null,null,null,null,null,null,null,null,null,null,null,null,2,null,{"$f":"+IFERROR(VLOOKUP($AB$62&AA64,$AE$63:$AF$91,2,FALSE),\"\")","v":""},{"$f":"title174","v":"cassava"},{"$f":"title173","v":"cacao"},{"$f":"title192","v":"pods"},"no",{"$f":"title13","v":"Wheat flour"},"Residue 2",{"$f":"+IF($E$18=title204,$AH62,title205)","v":"None"}]
[null,null,null,null,null,null,null,null,null,null,null,null,null,null,null,null,null,null,null,null,null,null,null,null,null,null,"Residue 2",null,null,{"$f":"title175","v":"coconut"},{"$f":"title174","v":"cassava"},{"$f":"title193","v":"stalk"},null,null,null,{"$f":"+IF($E$18=title204,$AH63,title205)","v":"None"}]
[null,null,null,null,null,null,null,null,null,null,null,null,null,null,null,null,null,null,null,null,null,null,null,null,null,null,null,"Selection Crop","Crop Residue",{"$f":"title176","v":"coffee"},{"$f":"title175","v":"coconut"},{"$f":"title194","v":"fronds"},null,null,null,{"$f":"+IF($E$18=title204,$AH64,title205)","v":"None"}]
[null,null,null,null,null,null,null,null,null,null,null,null,null,null,null,null,null,null,null,null,null,null,null,null,null,null,null,{"$f":"$E$10","v":"Please Select"},{"$f":"+IFERROR(VLOOKUP($AB$67&AA67,$AE$63:$AF$91,2,FALSE),title172)","v":"Please Select"},"cotton",{"$f":"title175&1","v":"coconut1"},{"$f":"title195","v":"husk"},null,null,"Residue 3",{"$f":"+IF($F$18=title204,$AH62,title205)","v":"None"}]
[null,null,null,null,null,null,null,null,null,null,null,null,null,null,null,null,null,null,null,null,null,null,null,null,null,null,1,null,{"$f":"+IFERROR(VLOOKUP($AB$67&AA68,$AE$63:$AF$91,2,FALSE),\"\")","v":""},{"$f":"title178","v":"groundnut"},{"$f":"title175&2","v":"coconut2"},{"$f":"title196","v":"shell"},null,null,null,{"$f":"+IF($F$18=title204,$AH63,title205)","v":"None"}]
[null,null,null,null,null,null,null,null,null,null,null,null,null,null,null,null,null,null,null,null,null,null,null,null,null,null,2,null,{"$f":"+IFERROR(VLOOKUP($AB$67&AA69,$AE$63:$AF$91,2,FALSE),\"\")","v":""},"maize",{"$f":"title176","v":"coffee"},{"$f":"title195","v":"husk"},null,null,null,{"$f":"+IF($F$18=title204,$AH64,title205)","v":"None"}]
[null,null,null,null,null,null,null,null,null,null,null,null,null,null,null,null,null,null,null,null,null,null,null,null,null,null,"Residue 3",null,null,{"$f":"title180","v":"millet"},{"$f":"title177","v":"cotton"},{"$f":"title197","v":"hull"},null,null,"Residue 4",{"$f":"+IF($G$18=title204,$AH62,title205)","v":"None"}]
[null,null,null,null,null,null,null,null,null,null,null,null,null,null,null,null,null,null,null,null,null,null,null,null,null,null,null,"Selection Crop","Crop Residue",{"$f":"title181","v":"oat"},{"$f":"title177&1","v":"cotton1"},{"$f":"title193","v":"stalk"},null,null,null,{"$f":"+IF($G$18=title204,$AH63,\"\")","v":""}]
[null,null,null,null,null,null,null,null,null,null,null,null,null,null,null,null,null,null,null,null,null,null,null,null,null,null,null,{"$f":"$F$10","v":"Please Select"},{"$f":"+IFERROR(VLOOKUP($AB$72&AA72,$AE$63:$AF$91,2,FALSE),title172)","v":"Please Select"},{"$f":"title182","v":"oil palm"},{"$f":"title178","v":"groundnut"},{"$f":"title195","v":"husk"},null,null,null,{"$f":"+IF($G$18=title204,$AH64,\"\")","v":""}]
[null,null,null,null,null,null,null,null,null,null,null,null,null,null,null,null,null,null,null,null,null,null,null,null,null,null,1,null,{"$f":"+IFERROR(VLOOKUP($AB$72&AA73,$AE$63:$AF$91,2,FALSE),\"\")","v":""},{"$f":"title183","v":"rice"},{"$f":"title179","v":"maize"},"cob"]
[null,null,null,null,null,null,null,null,null,null,null,null,null,null,null,null,null,null,null,null,null,null,null,null,null,null,2,null,{"$f":"+IFERROR(VLOOKUP($AB$72&AA74,$AE$63:$AF$91,2,FALSE),\"\")","v":""},{"$f":"title184","v":"sorghum"},{"$f":"title179&1","v":"maize1"},{"$f":"title195","v":"husk"}]
[null,null,null,null,null,null,null,null,null,null,null,null,null,null,null,null,null,null,null,null,null,null,null,null,null,null,"Residue 4",null,null,{"$f":"title185","v":"soybean"},{"$f":"title179&2","v":"maize2"},{"$f":"title199","v":"stover"}]
[null,null,null,null,null,null,null,null,null,null,null,null,null,null,null,null,null,null,null,null,null,null,null,null,null,null,null,"Selection Crop","Crop Residue",{"$f":"title186","v":"sugarcane"},{"$f":"title180","v":"millet"},{"$f":"title191","v":"straw"}]
[null,null,null,null,null,null,null,null,null,null,null,null,null,null,null,null,null,null,null,null,null,null,null,null,null,null,null,{"$f":"$G$10","v":"Please Select"},{"$f":"+IFERROR(VLOOKUP($AB$77&AA77,$AE$63:$AF$91,2,FALSE),title172)","v":"Please Select"},{"$f":"title187","v":"wheat"},{"$f":"title181","v":"oat"},{"$f":"title191","v":"straw"}]
[null,null,null,null,null,null,null,null,null,null,null,null,null,null,null,null,null,null,null,null,null,null,null,null,null,null,1,null,{"$f":"+IFERROR(VLOOKUP($AB$77&AA78,$AE$63:$AF$91,2,FALSE),\"\")","v":""},{"$f":"title516","v":"Forest Harv. Res."},{"$f":"title182","v":"oil palm"},{"$f":"title200","v":"empty bunches"}]
[null,null,null,null,null,null,null,null,null,null,null,null,null,null,null,null,null,null,null,null,null,null,null,null,null,null,2,null,{"$f":"+IFERROR(VLOOKUP($AB$77&AA79,$AE$63:$AF$91,2,FALSE),\"\")","v":""},{"$f":"title517","v":"Wood Proc. Res."},{"$f":"title182&1","v":"oil palm1"},{"$f":"title194","v":"fronds"}]
[null,null,null,null,null,null,null,null,null,null,null,null,null,null,null,null,null,null,null,null,null,null,null,null,null,null,null,null,null,null,{"$f":"title182&2","v":"oil palm2"},{"$f":"title196","v":"shell"}]
[null,null,null,null,null,null,null,null,null,null,null,null,null,null,null,null,null,null,null,null,null,null,null,null,null,null,null,null,null,null,{"$f":"title183","v":"rice"},{"$f":"title191","v":"straw"}]
[null,null,null,null,null,null,null,null,null,null,null,null,null,null,null,null,null,null,null,null,null,null,null,null,null,null,null,null,null,null,{"$f":"title183&1","v":"rice1"},{"$f":"title195","v":"husk"}]
[null,null,null,null,null,null,null,null,null,null,null,null,null,null,null,null,null,null,null,null,null,null,null,null,null,null,null,null,null,null,"rye",{"$f":"title191","v":"straw"}]
[null,null,null,null,null,null,null,null,null,null,null,null,null,null,null,null,null,null,null,null,null,null,null,null,null,null,null,null,null,null,{"$f":"title184","v":"sorghum"},{"$f":"title201","v":"straw/stalk"}]
[null,null,null,null,null,null,null,null,null,null,null,null,null,null,null,null,null,null,null,null,null,null,null,null,null,null,null,null,null,null,{"$f":"title185","v":"soybean"},{"$f":"title191","v":"straw"}]
[null,null,null,null,null,null,null,null,null,null,null,null,null,null,null,null,null,null,null,null,null,null,null,null,null,null,null,null,null,null,{"$f":"title185&1","v":"soybean1"},{"$f":"title192","v":"pods"}]
[null,null,null,null,null,null,null,null,null,null,null,null,null,null,null,null,null,null,null,null,null,null,null,null,null,null,null,null,null,null,{"$f":"title186","v":"sugarcane"},{"$f":"title202","v":"tops/leaves"}]
[null,null,null,null,null,null,null,null,null,null,null,null,null,null,null,null,null,null,null,null,null,null,null,null,null,null,null,null,null,null,{"$f":"title186&1","v":"sugarcane1"},{"$f":"title203","v":"bagasse"}]
[null,null,null,null,null,null,null,null,null,null,null,null,null,null,null,null,null,null,null,null,null,null,null,null,null,null,null,null,null,null,{"$f":"title187","v":"wheat"},{"$f":"title191","v":"straw"}]
[null,null,null,null,null,null,null,null,null,null,null,null,null,null,null,null,null,null,null,null,null,null,null,null,null,null,null,null,null,null,{"$f":"title188","v":"Forest Harvesting Residues"},{"$f":"title188","v":"Forest Harvesting Residues"}]
[null,null,null,null,null,null,null,null,null,null,null,null,null,null,null,null,null,null,null,null,null,null,null,null,null,null,null,null,null,null,{"$f":"title189","v":"Wood Processing Residues"},{"$f":"title189","v":"Wood Processing Residues"}]
[]
[null,null,null,null,null,null,null,null,null,null,null,null,null,null,null,null,null,null,null,null,null,null,null,null,null,null,null,null,null,null,null,null,{"$f":"+$D$10&\" \"&$D$11","v":"Please Select Please Select"}]
[null,null,null,null,null,null,null,null,null,null,null,null,null,null,null,null,null,null,null,null,null,null,null,null,null,null,null,null,null,null,null,null,{"$f":"+$E$10&\" \"&$E$11","v":"Please Select Please Select"}]
[null,null,null,null,null,null,null,null,null,null,null,null,null,null,null,null,null,null,null,null,null,null,null,null,null,null,null,null,null,null,null,null,{"$f":"+$F$10&\" \"&$F$11","v":"Please Select Please Select"},null,null,null,null,null,null,"Wage1",{"$f":"IF(OR($D$29=\"\",$D$29=\" \"),TRUE,FALSE)","v":true}]
[null,null,null,null,null,null,null,null,null,null,null,null,null,null,null,null,null,null,null,null,null,null,null,null,null,null,null,null,null,null,null,null,{"$f":"+$G$10&\" \"&$G$11","v":"Please Select Please Select"},null,null,null,null,null,null,"Wage2",{"$f":"IF(OR($I$29=\"\",$I$29=\" \"),TRUE,FALSE)","v":false}]
[null,null,null,null,null,null,null,null,null,null,null,null,null,null,null,null,null,null,null,null,null,null,null,null,null,null,null,null,null,"FS1",{"$f":"+$D$10","v":"Please Select"},{"$f":"+IF(AE97=title172,TRUE,FALSE)","v":true},null,null,null,null,null,null,null,"Diesel",{"$f":"IF(OR($D$33=\"\",$D$33=\" \"),TRUE,FALSE)","v":true}]
[null,null,null,null,null,null,null,null,null,null,null,null,null,null,null,null,null,null,null,null,null,null,null,null,null,null,null,null,null,"FS2",{"$f":"+E$10","v":"Please Select"},{"$f":"+IF(AE98=title172,TRUE,FALSE)","v":true},null,null,null,null,null,null,null,"Decision1",{"$f":"+OR(AO95,AO96,AO97)","v":true}]
[null,null,null,null,null,null,null,null,null,null,null,null,null,null,null,null,null,null,null,null,null,null,null,null,null,null,null,null,null,"FS3",{"$f":"+$F$10","v":"Please Select"},{"$f":"+IF(AE99=title172,TRUE,FALSE)","v":true},null,null,null,null,null,null,null,"Decision2",{"$f":"+C17","v":false}]
[null,null,null,null,null,null,null,null,null,null,null,null,null,null,null,null,null,null,null,null,null,null,null,null,null,null,null,null,null,"FS4",{"$f":"+$G$10","v":"Please Select"},{"$f":"+IF(AE100=title172,TRUE,FALSE)","v":true},null,null,null,null,null,null,null,"ICU",{"$f":"IF(OR($H$52=\"\",$H$52=\" \"),TRUE,FALSE)","v":true}]
[]
[]
[]
[]
[]
[]
[]
[]
[]
[]
[null,null,null,null,null,null,null,null,null,null,null,null,null,null,null,null,null,null,null,null,null,null,null,null,null,null,null,"Change in raw material cost (%)"]
[null,null,null,null,null,null,null,null,null,null,null,null,null,null,null,null,null,null,null,null,null,null,null,null,null,null,null,"Change in labor cost (%)"]
[null,null,null,null,null,null,null,null,null,null,null,null,null,null,null,null,null,null,null,null,null,null,null,null,null,null,null,"Change in Investment cost (%)"]
[null,null,null,null,null,null,null,null,null,null,null,null,null,null,null,null,null,null,null,null,null,null,null,null,null,null,null,"Change in briquette price(%)"]
[null,null,null,null,null,null,null,null,null,null,null,null,null,null,null,null,null,null,null,null,null,null,null,null,null,null,null,"Income",null,0]
[null,null,null,null,null,null,null,null,null,null,null,null,null,null,null,null,null,null,null,null,null,null,null,null,null,null,null,"Inflation rate"]

{"sheet":"Raw mat_Briquette","index":13,"n_rows":28,"n_cols":4,"rows_kept":28,"cut":false,"hidden":true,"merged":[]}
[]
[null,"Raw material conversion factor for biomass briquette project"]
[]
[null,"Biomass consumption based on briquetting machine",4.2366666666666671E-2,"Average bulk density of biomass"]
[null,"These parameters are based on the available technologies","Bulk density improvement"]
[null,{"$f":"title31","v":"Screw press"},{"$f":"1.4/$C$4","v":33.044846577498028},"Source: Tumuluru et al., 2010"]
[null,{"$f":"title388","v":"Piston press "},{"$f":"1.2/$C$4","v":28.324154209284025},"Source: Tumuluru et al., 2010"]
[null,{"$f":"title389","v":"Roller press"},{"$f":"0.7/$C$4","v":16.522423288749014},"Source: Tumuluru et al., 2010"]
[null,{"$f":"title391","v":"Pellet mill"},{"$f":"0.8/$C$4","v":18.882769472856019},"Source: Tumuluru et al., 2010"]
[null,{"$f":"title390","v":"Agglomerator"},{"$f":"0.5/$C$4","v":11.801730920535011},"Source: Tumuluru et al., 2010"]
[null,{"$f":"title354","v":"Manual"},"No data","Source: Tumuluru et al., 2010"]
[]
[null,"Water consumption","kg of Briquette per m3"]
[null,"Specific Water consumption (kg of Briquette per m3)",{"$f":"7000*1000/1500","v":4666.666666666667},"source: SNNPRs Investment Expansion Process, 2012"]
[]
[null,"Chemical consumption"," kg of Briquette per kg of chemical"]
[null,"Specific Chemical (Catalyst) consumption",10,"Assumption"]
[null,{"$f":"title205","v":"None"},10000000000]
[null,{"$f":"title11","v":"Cassava flour"},10]
[null,{"$f":"title12","v":"Maize flour"},10]
[null,{"$f":"title13","v":"Wheat flour"},10]
[]
[null,"Estimated Electricity consumption based on briquetting machine","Average kWh per Ton of Briquette","Source: Tumuluru et al., 2010"]
[null,{"$f":"title31","v":"Screw press"},{"$f":"(36.8+150)/2","v":93.4},"Source: Tumuluru et al., 2010"]
[null,{"$f":"title388","v":"Piston press "},{"$f":"(37.4+77)/2","v":57.2},"Source: Tumuluru et al., 2010"]
[null,{"$f":"title389","v":"Roller press"},{"$f":"(29.91+83.1)/2","v":56.504999999999995},"Source: Tumuluru et al., 2010"]
[null,{"$f":"title391","v":"Pellet mill"},{"$f":"(16.4+74.5)/2","v":45.45},"Source: Tumuluru et al., 2010"]
[null,{"$f":"title390","v":"Agglomerator"},0,"Source: Tumuluru et al., 2010"]

{"sheet":"FA4_RURAL_RES1","index":14,"n_rows":133,"n_cols":23,"rows_kept":133,"cut":false,"hidden":true,"merged":[[1,1,1,13]]}
[]
[null,{"$f":"title207","v":" FINANCIAL ANALYSIS OF BIOMASS BRIQUETTING 4 KG/HOUR"}]
[]
[{"$f":"title208","v":"Revenues of biomass briquetting system"}]
[null,{"$f":"title209","v":"Operating Year"},0,1,2,3,4,5,6,7,8,9,10,11,12,13,14,15,16,17,18,19,20]
[]
[null,{"$f":"title210","v":"Briquette production capacity (tons per year)"},{"$f":"COST_RES1!$F$29","v":0},{"$f":"C7","v":0},{"$f":"D7","v":0},0,0,0,0,0,0,0,0,0,0,0,0,0,0,0,0,0,0]
[]
[null,{"$f":"title211","v":"Efficiency % of briquetting machine"},{"$f":"COST_RES1!$G$12","v":0},{"$f":"C9","v":0},{"$f":"D9","v":0},0,0,0,0,0,0,0,0,0,0,0,0,0,0,0,0,0,0]
[]
[null,{"$f":"title212","v":"Operating hours per year"},{"$f":"COST_RES1!$G$28","v":0},{"$f":"C11","v":0},{"$f":"D11","v":0},0,0,0,0,0,0,0,0,0,0,0,0,0,0,0,0,0,0]
[null,{"$f":"title213","v":"Capacity utilization factor"},{"$f":"C$11/8760","v":0},{"$f":"D$11/8760","v":0},{"$f":"E$11/8760","v":0},0,0,0,0,0,0,0,0,0,0,0,0,0,0,0,0,0,0]
[]
[null,{"$f":"title214","v":"Briquette production (tons per year)"},{"$f":"C$7","v":0},{"$f":"D$7","v":0},0,0,0,0,0,0,0,0,0,0,0,0,0,0,0,0,0,0,0]
[null,{"$f":"title215","v":"Total briquette sell to customers (tons per year)"},{"$f":"SUM(C14:C14)","v":0},{"$f":"SUM(D14:D14)","v":0},0,0,0,0,0,0,0,0,0,0,0,0,0,0,0,0,0,0,0]
[]
[null,{"$f":"title216","v":"Price of briquette (USD/kg)"},{"$f":"SUM(C18:C18)","v":0},0,0,0,0,0,0,0,0,0,0,0,0,0,0,0,0,0,0,0,0]
[null,{"$f":"title217","v":"Market price of briquette pay by consumers (USD/kg)"},{"$f":"+'Energy Demand'!E20","v":0},{"$f":"C18*(1+D19)","v":0},0,0,0,0,0,0,0,0,0,0,0,0,0,0,0,0,0,0,0]
[null,{"$f":"title218","v":"Increasing rate of price of briquette (%)"},{"$f":"+'Data entry needs'!$AD$114","v":0},{"$f":"C19","v":0},{"$f":"D19","v":0},0,0,0,0,0,0,0,0,0,0,0,0,0,0,0,0,0,0]
[]
[null,{"$f":"title219","v":"Total income of briquette (USD per year)"},{"$f":"C15*C18*1000","v":0},{"$f":"D15*D18*1000","v":0},0,0,0,0,0,0,0,0,0,0,0,0,0,0,0,0,0,0,0]
[]
[null,{"$f":"title220","v":"Lifespan of civil work (years)"},{"$f":"COST_RES1!$E$61","v":10}]
[null,{"$f":"title221","v":"Lifespan of briquette system (years)"},{"$f":"COST_RES1!$E$60","v":10}]
[null,{"$f":"title222","v":"Project life time (years)"},20]
[]
[{"$f":"title223","v":"Capital and operating cost of biomass briquette system "}]
[null,null,{"$f":"title230","v":"Appraisal"},{"$f":"title231","v":"Project lifetime"},{"$f":"title232","v":"Investment per year"}]
[null,{"$f":"title224","v":"Direct capital cost (USD)"}]
[null,{"$f":"title225","v":"Equipments"},{"$f":"D30*E30","v":0},{"$f":"$C$25","v":20},{"$f":"COST_RES1!F60/D30","v":0}]
[null,{"$f":"title226","v":"Building"},{"$f":"D31*E31","v":0},{"$f":"$C$25","v":20},{"$f":"COST_RES1!F61/D31","v":0}]
[null,{"$f":"title227","v":"Installation"},{"$f":"D32*E32","v":0},{"$f":"$C$25","v":20},{"$f":"COST_RES1!F62/D32","v":0}]
[null,{"$f":"title228","v":"Total capital cost (USD)"},{"$f":"SUM(C30:C32)","v":0},null,{"$f":"SUM(E30:E32)","v":0}]
[null,{"$f":"title229","v":"Capital cost (USD/kg of briquette)"},{"$f":"C33/(C14*1000*C25)","v":{"$error":"#DIV/0!"}}]
[]
[]
[null,{"$f":"title209","v":"Operating Year"},{"$f":"title230","v":"Appraisal"},1,2,3,4,5,6,7,8,9,10,11,12,13,14,15,16,17,18,19,20]
[null,{"$f":"title233","v":"Annual operating and maintenance cost "}]
[null,{"$f":"title234","v":"Sub-total material cost (USD)"},{"$f":"C40+C48+C50+C53","v":{"$error":"#DIV/0!"}},{"$f":"D40+D48+D50+D53","v":{"$error":"#DIV/0!"}},{"$error":"#DIV/0!"},{"$error":"#DIV/0!"},{"$error":"#DIV/0!"},{"$error":"#DIV/0!"},{"$error":"#DIV/0!"},{"$error":"#DIV/0!"},{"$error":"#DIV/0!"},{"$error":"#DIV/0!"},{"$error":"#DIV/0!"},{"$error":"#DIV/0!"},{"$error":"#DIV/0!"},{"$error":"#DIV/0!"},{"$error":"#DIV/0!"},{"$error":"#DIV/0!"},{"$error":"#DIV/0!"},{"$error":"#DIV/0!"},{"$error":"#DIV/0!"},{"$error":"#DIV/0!"},{"$error":"#DIV/0!"}]
[null,{"$f":"title235","v":"Biomass cost (USD/year)"},{"$f":"C41*C42","v":{"$error":"#DIV/0!"}},{"$f":"D41*D42","v":{"$error":"#DIV/0!"}},{"$error":"#DIV/0!"},{"$error":"#DIV/0!"},{"$error":"#DIV/0!"},{"$error":"#DIV/0!"},{"$error":"#DIV/0!"},{"$error":"#DIV/0!"},{"$error":"#DIV/0!"},{"$error":"#DIV/0!"},{"$error":"#DIV/0!"},{"$error":"#DIV/0!"},{"$error":"#DIV/0!"},{"$error":"#DIV/0!"},{"$error":"#DIV/0!"},{"$error":"#DIV/0!"},{"$error":"#DIV/0!"},{"$error":"#DIV/0!"},{"$error":"#DIV/0!"},{"$error":"#DIV/0!"},{"$error":"#DIV/0!"}]
[null,{"$f":"title236","v":"Biomass consumption (ton per year)"},{"$f":"C14/COST_RES1!$G$12","v":{"$error":"#DIV/0!"}},{"$f":"D14/COST_RES1!$G$12","v":{"$error":"#DIV/0!"}},{"$f":"E14/COST_RES1!$G$12","v":{"$error":"#DIV/0!"}},{"$f":"F14/COST_RES1!$G$12","v":{"$error":"#DIV/0!"}},{"$f":"G14/COST_RES1!$G$12","v":{"$error":"#DIV/0!"}},{"$f":"H14/COST_RES1!$G$12","v":{"$error":"#DIV/0!"}},{"$f":"I14/COST_RES1!$G$12","v":{"$error":"#DIV/0!"}},{"$f":"J14/COST_RES1!$G$12","v":{"$error":"#DIV/0!"}},{"$f":"K14/COST_RES1!$G$12","v":{"$error":"#DIV/0!"}},{"$f":"L14/COST_RES1!$G$12","v":{"$error":"#DIV/0!"}},{"$f":"M14/COST_RES1!$G$12","v":{"$error":"#DIV/0!"}},{"$f":"N14/COST_RES1!$G$12","v":{"$error":"#DIV/0!"}},{"$f":"O14/COST_RES1!$G$12","v":{"$error":"#DIV/0!"}},{"$f":"P14/COST_RES1!$G$12","v":{"$error":"#DIV/0!"}},{"$f":"Q14/COST_RES1!$G$12","v":{"$error":"#DIV/0!"}},{"$f":"R14/COST_RES1!$G$12","v":{"$error":"#DIV/0!"}},{"$f":"S14/COST_RES1!$G$12","v":{"$error":"#DIV/0!"}},{"$f":"T14/COST_RES1!$G$12","v":{"$error":"#DIV/0!"}},{"$f":"U14/COST_RES1!$G$12","v":{"$error":"#DIV/0!"}},{"$f":"V14/COST_RES1!$G$12","v":{"$error":"#DIV/0!"}},{"$f":"W14/COST_RES1!$G$12","v":{"$error":"#DIV/0!"}}]
[null,{"$f":"title237","v":"Biomass price (USD/ton)"},{"$f":"SUM(C43:C44)","v":0},{"$f":"SUM(D43:D44)","v":0},0,0,0,0,0,0,0,0,0,0,0,0,0,0,0,0,0,0,0]
[null,{"$f":"title238","v":"Biomass cost of collection (USD/ton)"},{"$f":"COST_RES1!E33","v":0},{"$f":"C43*(1+D73+D74)","v":0},{"$f":"D43*(1+E73+E74)","v":0},0,0,0,0,0,0,0,0,0,0,0,0,0,0,0,0,0,0]
[null,{"$f":"title239","v":"Biomass transportation cost (USD/ton)"},{"$f":"C45*C46","v":0},{"$f":"D45*D46","v":0},0,0,0,0,0,0,0,0,0,0,0,0,0,0,0,0,0,0,0]
[null,{"$f":"title240","v":"Biomass from farm to plant (USD/ton/km)"},{"$f":"COST_RES1!E48","v":0},{"$f":"C45*(1+D73+D74)","v":0},{"$f":"D45*(1+E73+E74)","v":0},0,0,0,0,0,0,0,0,0,0,0,0,0,0,0,0,0,0]
[null,{"$f":"title241","v":"Transportation distant (km)"},{"$f":"COST_RES1!F48","v":0},{"$f":"C46","v":0},{"$f":"D46","v":0},0,0,0,0,0,0,0,0,0,0,0,0,0,0,0,0,0,0]
[]
[null,{"$f":"title246","v":"Water cost (USD/year)"},{"$f":"COST_RES1!G35","v":0},{"$f":"C48*(1+D73+D74)","v":0},{"$f":"D48*(1+E73+E74)","v":0},0,0,0,0,0,0,0,0,0,0,0,0,0,0,0,0,0,0]
[]
[null,{"$f":"title242","v":"Chemical cost (USD/year)"},{"$f":"C51*C52","v":0},{"$f":"D51*D52","v":0},0,0,0,0,0,0,0,0,0,0,0,0,0,0,0,0,0,0,0]
[null,{"$f":"title243","v":"Chemical consumption (tons per year)"},{"$f":"+COST_RES1!$F$34","v":0},{"$f":"+COST_RES1!$F$34","v":0},{"$f":"+COST_RES1!$F$34","v":0},{"$f":"+COST_RES1!$F$34","v":0},{"$f":"+COST_RES1!$F$34","v":0},{"$f":"+COST_RES1!$F$34","v":0},{"$f":"+COST_RES1!$F$34","v":0},{"$f":"+COST_RES1!$F$34","v":0},{"$f":"+COST_RES1!$F$34","v":0},{"$f":"+COST_RES1!$F$34","v":0},{"$f":"+COST_RES1!$F$34","v":0},{"$f":"+COST_RES1!$F$34","v":0},{"$f":"+COST_RES1!$F$34","v":0},{"$f":"+COST_RES1!$F$34","v":0},{"$f":"+COST_RES1!$F$34","v":0},{"$f":"+COST_RES1!$F$34","v":0},{"$f":"+COST_RES1!$F$34","v":0},{"$f":"+COST_RES1!$F$34","v":0},{"$f":"+COST_RES1!$F$34","v":0},{"$f":"+COST_RES1!$F$34","v":0},{"$f":"+COST_RES1!$F$34","v":0}]
[null,{"$f":"title244","v":"Chemical price (USD/ton)"},{"$f":"+'Data entry needs'!$D$20","v":0},{"$f":"C52","v":0},{"$f":"D52","v":0},0,0,0,0,0,0,0,0,0,0,0,0,0,0,0,0,0,0]
[null,{"$f":"title245","v":"Electricity cost (USD)"},{"$f":"COST_RES1!G36","v":0},{"$f":"C53*(1+D73+D74)","v":0},{"$f":"D53*(1+E73+E74)","v":0},0,0,0,0,0,0,0,0,0,0,0,0,0,0,0,0,0,0]
[]
[null,{"$f":"title247","v":"Sub-total operating cost (USD)"},{"$f":"C56+C58+C59","v":{"$error":"#DIV/0!"}},{"$f":"D56+D58+D59","v":{"$error":"#DIV/0!"}},{"$error":"#DIV/0!"},{"$error":"#DIV/0!"},{"$error":"#DIV/0!"},{"$error":"#DIV/0!"},{"$error":"#DIV/0!"},{"$error":"#DIV/0!"},{"$error":"#DIV/0!"},{"$error":"#DIV/0!"},{"$error":"#DIV/0!"},{"$error":"#DIV/0!"},{"$error":"#DIV/0!"},{"$error":"#DIV/0!"},{"$error":"#DIV/0!"},{"$error":"#DIV/0!"},{"$error":"#DIV/0!"},{"$error":"#DIV/0!"},{"$error":"#DIV/0!"},{"$error":"#DIV/0!"},{"$error":"#DIV/0!"}]
[null,{"$f":"title248","v":"Labour cost (USD)"},{"$f":"COST_RES1!G44","v":0},{"$f":"C56*(1+D57)","v":0},0,0,0,0,0,0,0,0,0,0,0,0,0,0,0,0,0,0,0]
[null,{"$f":"title249","v":"Annual change in labour cost (%)"},null,{"$f":"COST_RES1!M12","v":0},{"$f":"D57","v":0},{"$f":"E57","v":0},0,0,0,0,0,0,0,0,0,0,0,0,0,0,0,0,0]
[null,{"$f":"title249","v":"Annual change in labour cost (%)"},{"$f":"COST_RES1!G70","v":0},{"$f":"C58","v":0},{"$f":"D58","v":0},0,0,0,0,0,0,0,0,0,0,0,0,0,0,0,0,0,0]
[null,{"$f":"title250","v":"General and administrative cost"},{"$f":"COST_RES1!G71","v":{"$error":"#DIV/0!"}},{"$f":"C59","v":{"$error":"#DIV/0!"}},{"$f":"D59","v":{"$error":"#DIV/0!"}},{"$error":"#DIV/0!"},{"$error":"#DIV/0!"},{"$error":"#DIV/0!"},{"$error":"#DIV/0!"},{"$error":"#DIV/0!"},{"$error":"#DIV/0!"},{"$error":"#DIV/0!"},{"$error":"#DIV/0!"},{"$error":"#DIV/0!"},{"$error":"#DIV/0!"},{"$error":"#DIV/0!"},{"$error":"#DIV/0!"},{"$error":"#DIV/0!"},{"$error":"#DIV/0!"},{"$error":"#DIV/0!"},{"$error":"#DIV/0!"},{"$error":"#DIV/0!"},{"$error":"#DIV/0!"}]
[null,{"$f":"title251","v":"Sub-total maintenance cost (USD)"},{"$f":"COST_RES1!G65","v":0},{"$f":"C60","v":0},{"$f":"D60","v":0},0,0,0,0,0,0,0,0,0,0,0,0,0,0,0,0,0,0]
[]
[null,{"$f":"title252","v":"Sub-total of annual fixed costs"},{"$f":"+E33","v":0},{"$f":"C62","v":0},{"$f":"D62","v":0},0,0,0,0,0,0,0,0,0,0,0,0,0,0,0,0,0,0]
[]
[null,{"$f":"title253","v":"Sub-total of storage capacity"},{"$f":"COST_RES1!G56","v":{"$error":"#DIV/0!"}},{"$f":"C64","v":{"$error":"#DIV/0!"}},{"$f":"D64","v":{"$error":"#DIV/0!"}},{"$error":"#DIV/0!"},{"$error":"#DIV/0!"},{"$error":"#DIV/0!"},{"$error":"#DIV/0!"},{"$error":"#DIV/0!"},{"$error":"#DIV/0!"},{"$error":"#DIV/0!"},{"$error":"#DIV/0!"},{"$error":"#DIV/0!"},{"$error":"#DIV/0!"},{"$error":"#DIV/0!"},{"$error":"#DIV/0!"},{"$error":"#DIV/0!"},{"$error":"#DIV/0!"},{"$error":"#DIV/0!"},{"$error":"#DIV/0!"},{"$error":"#DIV/0!"},{"$error":"#DIV/0!"}]
[]
[null,{"$f":"title254","v":"Sub-total of briquette transportation to market"},{"$f":"COST_RES1!G49","v":0},{"$f":"C66*(1+D73+D74)","v":0},{"$f":"D66*(1+E73+E74)","v":0},0,0,0,0,0,0,0,0,0,0,0,0,0,0,0,0,0,0]
[]
[null,{"$f":"title255","v":"Total operation and maintenance cost (USD)"},{"$f":"C39+C55+C60+C62+C64+C66","v":{"$error":"#DIV/0!"}},{"$f":"D39+D55+D60+D62+D64+D66","v":{"$error":"#DIV/0!"}},{"$error":"#DIV/0!"},{"$error":"#DIV/0!"},{"$error":"#DIV/0!"},{"$error":"#DIV/0!"},{"$error":"#DIV/0!"},{"$error":"#DIV/0!"},{"$error":"#DIV/0!"},{"$error":"#DIV/0!"},{"$error":"#DIV/0!"},{"$error":"#DIV/0!"},{"$error":"#DIV/0!"},{"$error":"#DIV/0!"},{"$error":"#DIV/0!"},{"$error":"#DIV/0!"},{"$error":"#DIV/0!"},{"$error":"#DIV/0!"},{"$error":"#DIV/0!"},{"$error":"#DIV/0!"},{"$error":"#DIV/0!"}]
[null,{"$f":"title256","v":"Operation and maintenance cost (USD/kg of briquette) without loan interest"},{"$f":"C68/(C14*1000)","v":{"$error":"#DIV/0!"}},{"$error":"#DIV/0!"},{"$error":"#DIV/0!"},{"$error":"#DIV/0!"},{"$error":"#DIV/0!"},{"$error":"#DIV/0!"},{"$error":"#DIV/0!"},{"$error":"#DIV/0!"},{"$error":"#DIV/0!"},{"$error":"#DIV/0!"},{"$error":"#DIV/0!"},{"$error":"#DIV/0!"},{"$error":"#DIV/0!"},{"$error":"#DIV/0!"},{"$error":"#DIV/0!"},{"$error":"#DIV/0!"},{"$error":"#DIV/0!"},{"$error":"#DIV/0!"},{"$error":"#DIV/0!"},{"$error":"#DIV/0!"},{"$error":"#DIV/0!"}]
[]
[{"$f":"title164","v":"Financial parameters"}]
[null,{"$f":"title209","v":"Operating Year"},{"$f":"title230","v":"Appraisal"},1,2,3,4,5,6,7,8,9,10,11,12,13,14,15,16,17,18,19,20]
[null,{"$f":"title257","v":"Annual change in raw material cost (%)"},null,0,{"$f":"D73","v":0},{"$f":"E73","v":0},0,0,0,0,0,0,0,0,0,0,0,0,0,0,0,0,0]
[null,{"$f":"title258","v":"Inflation rate (%)"},null,{"$f":"COST_RES1!J12","v":0},{"$f":"D74","v":0},{"$f":"E74","v":0},0,0,0,0,0,0,0,0,0,0,0,0,0,0,0,0,0]
[null,{"$f":"title165&\" (%)\"","v":"Discount rate (%)"},{"$f":"COST_RES1!J9","v":0}]
[null,{"$f":"title166&\" (%)\"","v":"Loan ratio (%)"},{"$f":"COST_RES1!J10","v":0}]
[]
[null,{"$f":"title259","v":"Loan without policy"},{"$f":"title230","v":"Appraisal"},1,2,3,4,5,6,7,8,9,10,11,12,13,14,15,16,17,18,19,20]
[null,{"$f":"title260","v":"Loan amount (USD)"},{"$f":"C76*(C33)","v":0}]
[null,{"$f":"title167&\" (%)\"","v":"Loan interest rate (%)"},{"$f":"COST_RES1!J11","v":0}]
[null,{"$f":"title261","v":"Loan term (years)"},{"$f":"COST_RES1!M9","v":0}]
[null,{"$f":"title262","v":"Loan payment (USD/month)"},{"$f":"(PMT($C$80/12,(12*$C$81),$C$79))","v":{"$error":"#NUM!"}}]
[null,{"$f":"title263","v":"Loan payment (USD/year)"},null,{"$f":"IF(D72<=$C$81,$C$82*12,0)","v":0},{"$f":"IF(E72<$C$81,$C$82*12,IF(E72=$C$81,$C$82*12,0))","v":0},{"$f":"IF(F72<$C$81,$C$82*12,IF(F72=$C$81,$C$82*12,0))","v":0},0,0,0,0,0,0,0,0,0,0,0,0,0,0,0,0,0]
[null,{"$f":"title264","v":"Total loan payment (USD)"},{"$f":"SUM(D83:W83)","v":0}]
[null,{"$f":"title265","v":"Loan interest payment (USD)"},{"$f":"C84+C79","v":0},{"$f":"title266","v":"Average loan interest payment for project lifetime"},null,null,{"$f":"C85/C25","v":0},{"$f":"title267","v":"USD per year"}]
[]
[{"$f":"title268","v":"Income tax analysis"}]
[null,{"$f":"title209","v":"Operating Year"},{"$f":"title230","v":"Appraisal"},1,2,3,4,5,6,7,8,9,10,11,12,13,14,15,16,17,18,19,20]
[null,{"$f":"title269","v":"Effective income tax rate (%)"},{"$f":"+'Data entry needs'!$AD$115","v":0},{"$f":"C89","v":0},{"$f":"D89","v":0},0,0,0,0,0,0,0,0,0,0,0,0,0,0,0,0,0,0]
[null,{"$f":"title270","v":"Income tax (USD)"},null,{"$f":"IF(D114<0,0,D89*D114)","v":{"$error":"#DIV/0!"}},{"$error":"#DIV/0!"},{"$error":"#DIV/0!"},{"$error":"#DIV/0!"},{"$error":"#DIV/0!"},{"$error":"#DIV/0!"},{"$error":"#DIV/0!"},{"$error":"#DIV/0!"},{"$error":"#DIV/0!"},{"$error":"#DIV/0!"},{"$error":"#DIV/0!"},{"$error":"#DIV/0!"},{"$error":"#DIV/0!"},{"$error":"#DIV/0!"},{"$error":"#DIV/0!"},{"$error":"#DIV/0!"},{"$error":"#DIV/0!"},{"$error":"#DIV/0!"},{"$error":"#DIV/0!"},{"$error":"#DIV/0!"}]
[null,{"$f":"title271","v":"Total income tax payment (USD)"},{"$f":"SUM(D90:W90)","v":{"$error":"#DIV/0!"}},{"$f":"title458","v":"Average income tax payment "},null,{"$f":"C91/C25","v":{"$error":"#DIV/0!"}},{"$f":"title267","v":"USD per year"}]
[]
[{"$f":"title272","v":"Depreciation"}]
[null,{"$f":"title209","v":"Operating Year"},{"$f":"title230","v":"Appraisal"},1,2,3,4,5,6,7,8,9,10,11,12,13,14,15,16,17,18,19,20]
[null,{"$f":"title273","v":"Depreciation method"},{"$f":"title275","v":"Straight-line"}]
[null,{"$f":"title274","v":"Total depreciation (USD)"},null,{"$f":"COST_RES1!G64","v":0},{"$f":"D96","v":0},{"$f":"E96","v":0},0,0,0,0,0,0,0,0,0,0,0,0,0,0,0,0,0]
[]
[{"$f":"title276","v":"Base case project summary"}]
[{"$f":"title277","v":"Summary of this project - Before Tax"}]
[null,{"$f":"title209","v":"Operating Year"},{"$f":"title230","v":"Appraisal"},1,2,3,4,5,6,7,8,9,10,11,12,13,14,15,16,17,18,19,20]
[null,{"$f":"title278","v":"Total revenue (USD)"},null,{"$f":"D15*1000*D18","v":0},{"$f":"E15*1000*E18","v":0},0,0,0,0,0,0,0,0,0,0,0,0,0,0,0,0,0,0]
[null,{"$f":"title228","v":"Total capital cost (USD)"},{"$f":"-(C33-C79)","v":0}]
[null,{"$f":"title279","v":"Total operating and maintenance cost (USD)"},null,{"$f":"-D68+D62","v":{"$error":"#DIV/0!"}},{"$error":"#DIV/0!"},{"$error":"#DIV/0!"},{"$error":"#DIV/0!"},{"$error":"#DIV/0!"},{"$error":"#DIV/0!"},{"$error":"#DIV/0!"},{"$error":"#DIV/0!"},{"$error":"#DIV/0!"},{"$error":"#DIV/0!"},{"$error":"#DIV/0!"},{"$error":"#DIV/0!"},{"$error":"#DIV/0!"},{"$error":"#DIV/0!"},{"$error":"#DIV/0!"},{"$error":"#DIV/0!"},{"$error":"#DIV/0!"},{"$error":"#DIV/0!"},{"$error":"#DIV/0!"},{"$error":"#DIV/0!"}]
[null,{"$f":"title280","v":"Loan payment (USD)"},null,{"$f":"D83","v":0},{"$f":"E83","v":0},0,0,0,0,0,0,0,0,0,0,0,0,0,0,0,0,0,0]
[null,{"$f":"title281","v":"Cash flow - before tax (USD)"},{"$f":"SUM(C101:C104)","v":0},{"$error":"#DIV/0!"},{"$error":"#DIV/0!"},{"$error":"#DIV/0!"},{"$error":"#DIV/0!"},{"$error":"#DIV/0!"},{"$error":"#DIV/0!"},{"$error":"#DIV/0!"},{"$error":"#DIV/0!"},{"$error":"#DIV/0!"},{"$error":"#DIV/0!"},{"$error":"#DIV/0!"},{"$error":"#DIV/0!"},{"$error":"#DIV/0!"},{"$error":"#DIV/0!"},{"$error":"#DIV/0!"},{"$error":"#DIV/0!"},{"$error":"#DIV/0!"},{"$error":"#DIV/0!"},{"$error":"#DIV/0!"},{"$error":"#DIV/0!"}]
[null,{"$f":"title282","v":"Average revenue (USD)"}]
[]
[{"$f":"title283","v":"Summary of this project - After Tax"}]
[null,{"$f":"title209","v":"Operating Year"},{"$f":"title230","v":"Appraisal"},1,2,3,4,5,6,7,8,9,10,11,12,13,14,15,16,17,18,19,20]
[null,{"$f":"B101","v":"Total revenue (USD)"},{"$f":"C101","v":0},{"$f":"D101","v":0},{"$f":"E101","v":0},0,0,0,0,0,0,0,0,0,0,0,0,0,0,0,0,0,0]
[null,{"$f":"title279","v":"Total operating and maintenance cost (USD)"},null,{"$f":"-D68+D62","v":{"$error":"#DIV/0!"}},{"$error":"#DIV/0!"},{"$error":"#DIV/0!"},{"$error":"#DIV/0!"},{"$error":"#DIV/0!"},{"$error":"#DIV/0!"},{"$error":"#DIV/0!"},{"$error":"#DIV/0!"},{"$error":"#DIV/0!"},{"$error":"#DIV/0!"},{"$error":"#DIV/0!"},{"$error":"#DIV/0!"},{"$error":"#DIV/0!"},{"$error":"#DIV/0!"},{"$error":"#DIV/0!"},{"$error":"#DIV/0!"},{"$error":"#DIV/0!"},{"$error":"#DIV/0!"},{"$error":"#DIV/0!"},{"$error":"#DIV/0!"}]
[null,{"$f":"title280","v":"Loan payment (USD)"},null,{"$f":"$G$85","v":0},{"$f":"$G$85","v":0},0,0,0,0,0,0,0,0,0,0,0,0,0,0,0,0,0,0]
[null,{"$f":"title284","v":"Depreciation of fixed costs (USD)"},null,{"$f":"-D62","v":0},{"$f":"-E62","v":0},0,0,0,0,0,0,0,0,0,0,0,0,0,0,0,0,0,0]
[null,{"$f":"title285","v":"Net profit - before tax (USD) for income tax calculation"},{"$f":"SUM(C110:C113)","v":0},{"$f":"SUM(D110:D113)","v":{"$error":"#DIV/0!"}},{"$f":"SUM(E110:E113)","v":{"$error":"#DIV/0!"}},{"$error":"#DIV/0!"},{"$error":"#DIV/0!"},{"$error":"#DIV/0!"},{"$error":"#DIV/0!"},{"$error":"#DIV/0!"},{"$error":"#DIV/0!"},{"$error":"#DIV/0!"},{"$error":"#DIV/0!"},{"$error":"#DIV/0!"},{"$error":"#DIV/0!"},{"$error":"#DIV/0!"},{"$error":"#DIV/0!"},{"$error":"#DIV/0!"},{"$error":"#DIV/0!"},{"$error":"#DIV/0!"},{"$error":"#DIV/0!"},{"$error":"#DIV/0!"},{"$error":"#DIV/0!"}]
[null,{"$f":"title286","v":"Income tax"},null,{"$f":"IF(D114>0,-D90,0)","v":{"$error":"#DIV/0!"}},{"$error":"#DIV/0!"},{"$error":"#DIV/0!"},{"$error":"#DIV/0!"},{"$error":"#DIV/0!"},{"$error":"#DIV/0!"},{"$error":"#DIV/0!"},{"$error":"#DIV/0!"},{"$error":"#DIV/0!"},{"$error":"#DIV/0!"},{"$error":"#DIV/0!"},{"$error":"#DIV/0!"},{"$error":"#DIV/0!"},{"$error":"#DIV/0!"},{"$error":"#DIV/0!"},{"$error":"#DIV/0!"},{"$error":"#DIV/0!"},{"$error":"#DIV/0!"},{"$error":"#DIV/0!"},{"$error":"#DIV/0!"}]
[null,{"$f":"title287","v":"Cash flow - after tax (USD)"},{"$f":"C102","v":0},{"$f":"D105+D115","v":{"$error":"#DIV/0!"}},{"$f":"E105+E115","v":{"$error":"#DIV/0!"}},{"$error":"#DIV/0!"},{"$error":"#DIV/0!"},{"$error":"#DIV/0!"},{"$error":"#DIV/0!"},{"$error":"#DIV/0!"},{"$error":"#DIV/0!"},{"$error":"#DIV/0!"},{"$error":"#DIV/0!"},{"$error":"#DIV/0!"},{"$error":"#DIV/0!"},{"$error":"#DIV/0!"},{"$error":"#DIV/0!"},{"$error":"#DIV/0!"},{"$error":"#DIV/0!"},{"$error":"#DIV/0!"},{"$error":"#DIV/0!"},{"$error":"#DIV/0!"},{"$f":"W105+W115","v":{"$error":"#DIV/0!"}}]
[]
[{"$f":"title288","v":"Cumulative value of Net Profit"}]
[null,{"$f":"title209","v":"Operating Year"},{"$f":"title230","v":"Appraisal"},1,2,3,4,5,6,7,8,9,10,11,12,13,14,15,16,17,18,19,20]
[null,{"$f":"title289","v":"Cumulative value of net profit - before tax"},{"$f":"C105","v":0},{"$f":"C120+(D105)","v":{"$error":"#DIV/0!"}},{"$error":"#DIV/0!"},{"$error":"#DIV/0!"},{"$error":"#DIV/0!"},{"$error":"#DIV/0!"},{"$error":"#DIV/0!"},{"$error":"#DIV/0!"},{"$error":"#DIV/0!"},{"$error":"#DIV/0!"},{"$error":"#DIV/0!"},{"$error":"#DIV/0!"},{"$error":"#DIV/0!"},{"$error":"#DIV/0!"},{"$error":"#DIV/0!"},{"$error":"#DIV/0!"},{"$error":"#DIV/0!"},{"$error":"#DIV/0!"},{"$error":"#DIV/0!"},{"$error":"#DIV/0!"},{"$error":"#DIV/0!"}]
[null,{"$f":"title290","v":"Cumulative value of net profit - after tax"},{"$f":"C116","v":0},{"$f":"C121+(D116)","v":{"$error":"#DIV/0!"}},{"$error":"#DIV/0!"},{"$error":"#DIV/0!"},{"$error":"#DIV/0!"},{"$error":"#DIV/0!"},{"$error":"#DIV/0!"},{"$error":"#DIV/0!"},{"$error":"#DIV/0!"},{"$error":"#DIV/0!"},{"$error":"#DIV/0!"},{"$error":"#DIV/0!"},{"$error":"#DIV/0!"},{"$error":"#DIV/0!"},{"$error":"#DIV/0!"},{"$error":"#DIV/0!"},{"$error":"#DIV/0!"},{"$error":"#DIV/0!"},{"$error":"#DIV/0!"},{"$error":"#DIV/0!"},{"$error":"#DIV/0!"}]
[]
[{"$f":"title291","v":"Financial analysis results"}]
[]
[null,{"$f":"title292","v":"Net present value (NPV) (USD) - before tax"},{"$f":"NPV(C75,D105:W105)+C105","v":{"$error":"#DIV/0!"}}]
[null,{"$f":"title293","v":"Internal rate of return (IRR) (%) - before tax"},{"$f":"IF(C125<0,title459,IF(TIR_cell=title519,IRR(C105:W105,0.001),MIRR(C105:W105,C80,C75)))","v":{"$error":"#DIV/0!"}}]
[null,{"$f":"title294","v":"Payback period (years)"},{"$f":"title298","v":"Please see Figure of the cumulative value of net profit - before tax"}]
[]
[]
[null,{"$f":"title295","v":"Net present value (NPV) (USD) - after tax"},{"$f":"NPV(C75,D116:W116)+C116","v":{"$error":"#DIV/0!"}}]
[null,{"$f":"title296","v":"Internal rate of return (IRR) (%) - after tax"},{"$f":"IF(C130<0,title459,MIRR(C116:W116,$C$80,0%))","v":{"$error":"#DIV/0!"}}]
[null,{"$f":"title294","v":"Payback period (years)"},{"$f":"title299","v":"Please see Figure of the cumulative value of net profit - after tax"}]
[null,{"$f":"title297","v":"Total Income tax payment of project lifetime"},{"$f":"SUM(D115:W115)","v":{"$error":"#DIV/0!"}}]

{"sheet":"FA40_RURAL_RES1","index":15,"n_rows":133,"n_cols":23,"rows_kept":133,"cut":false,"hidden":true,"merged":[[1,1,1,13]]}
[]
[null,{"$f":"title300","v":"FINANCIAL ANALYSIS OF BIOMASS BRIQUETTING 40 KG/HOUR"}]
[]
[{"$f":"title208","v":"Revenues of biomass briquetting system"}]
[null,{"$f":"title209","v":"Operating Year"},0,1,2,3,4,5,6,7,8,9,10,11,12,13,14,15,16,17,18,19,20]
[]
[null,{"$f":"title210","v":"Briquette production capacity (tons per year)"},{"$f":"COST_RES1!$H$29","v":0},{"$f":"C7","v":0},{"$f":"D7","v":0},0,0,0,0,0,0,0,0,0,0,0,0,0,0,0,0,0,0]
[]
[null,{"$f":"title211","v":"Efficiency % of briquetting machine"},{"$f":"COST_RES1!$G$12","v":0},{"$f":"C9","v":0},{"$f":"D9","v":0},0,0,0,0,0,0,0,0,0,0,0,0,0,0,0,0,0,0]
[]
[null,{"$f":"title212","v":"Operating hours per year"},{"$f":"COST_RES1!I28","v":0},{"$f":"C11","v":0},{"$f":"D11","v":0},0,0,0,0,0,0,0,0,0,0,0,0,0,0,0,0,0,0]
[null,{"$f":"title213","v":"Capacity utilization factor"},{"$f":"C11/8760","v":0},{"$f":"D11/8760","v":0},0,0,0,0,0,0,0,0,0,0,0,0,0,0,0,0,0,0,0]
[]
[null,{"$f":"title214","v":"Briquette production (tons per year)"},{"$f":"C7","v":0},{"$f":"D7","v":0},0,0,0,0,0,0,0,0,0,0,0,0,0,0,0,0,0,0,0]
[null,{"$f":"title215","v":"Total briquette sell to customers (tons per year)"},{"$f":"SUM(C14:C14)","v":0},{"$f":"SUM(D14:D14)","v":0},0,0,0,0,0,0,0,0,0,0,0,0,0,0,0,0,0,0,0]
[]
[null,{"$f":"title216","v":"Price of briquette (USD/kg)"},{"$f":"SUM(C18:C18)","v":0},{"$f":"SUM(D18:D18)","v":0},0,0,0,0,0,0,0,0,0,0,0,0,0,0,0,0,0,0,0]
[null,{"$f":"title217","v":"Market price of briquette pay by consumers (USD/kg)"},{"$f":"+'Energy Demand'!E20","v":0},{"$f":"C18*(1+D19)","v":0},0,0,0,0,0,0,0,0,0,0,0,0,0,0,0,0,0,0,0]
[null,{"$f":"title218","v":"Increasing rate of price of briquette (%)"},{"$f":"+'Data entry needs'!$AD$114","v":0},{"$f":"C19","v":0},{"$f":"D19","v":0},0,0,0,0,0,0,0,0,0,0,0,0,0,0,0,0,0,0]
[]
[null,{"$f":"title219","v":"Total income of briquette (USD per year)"},{"$f":"C15*C18*1000","v":0},{"$f":"D15*D18*1000","v":0},0,0,0,0,0,0,0,0,0,0,0,0,0,0,0,0,0,0,0]
[]
[null,{"$f":"title220","v":"Lifespan of civil work (years)"},{"$f":"COST_RES1!E61","v":10}]
[null,{"$f":"title221","v":"Lifespan of briquette system (years)"},{"$f":"COST_RES1!E60","v":10}]
[null,{"$f":"title222","v":"Project life time (years)"},20]
[]
[{"$f":"title223","v":"Capital and operating cost of biomass briquette system "}]
[null,null,{"$f":"title230","v":"Appraisal"},{"$f":"title231","v":"Project lifetime"},{"$f":"title232","v":"Investment per year"}]
[null,{"$f":"title224","v":"Direct capital cost (USD)"}]
[null,{"$f":"title225","v":"Equipments"},{"$f":"D30*E30","v":0},{"$f":"$C$25","v":20},{"$f":"COST_RES1!H60/D30","v":0}]
[null,{"$f":"title226","v":"Building"},{"$f":"D31*E31","v":0},{"$f":"$C$25","v":20},{"$f":"COST_RES1!H61/D31","v":0}]
[null,{"$f":"title227","v":"Installation"},{"$f":"D32*E32","v":0},{"$f":"$C$25","v":20},{"$f":"COST_RES1!H62/D32","v":0}]
[null,{"$f":"title228","v":"Total capital cost (USD)"},{"$f":"SUM(C30:C32)","v":0},null,{"$f":"SUM(E30:E32)","v":0}]
[null,{"$f":"title229","v":"Capital cost (USD/kg of briquette)"},{"$f":"C33/(C14*1000*C25)","v":{"$error":"#DIV/0!"}}]
[]
[]
[null,{"$f":"title209","v":"Operating Year"},{"$f":"title230","v":"Appraisal"},1,2,3,4,5,6,7,8,9,10,11,12,13,14,15,16,17,18,19,20]
[null,{"$f":"title233","v":"Annual operating and maintenance cost "}]
[null,{"$f":"title234","v":"Sub-total material cost (USD)"},{"$f":"C40+C48+C50+C53","v":{"$error":"#DIV/0!"}},{"$f":"D40+D48+D50+D53","v":{"$error":"#DIV/0!"}},{"$error":"#DIV/0!"},{"$error":"#DIV/0!"},{"$error":"#DIV/0!"},{"$error":"#DIV/0!"},{"$error":"#DIV/0!"},{"$error":"#DIV/0!"},{"$error":"#DIV/0!"},{"$error":"#DIV/0!"},{"$error":"#DIV/0!"},{"$error":"#DIV/0!"},{"$error":"#DIV/0!"},{"$error":"#DIV/0!"},{"$error":"#DIV/0!"},{"$error":"#DIV/0!"},{"$error":"#DIV/0!"},{"$error":"#DIV/0!"},{"$error":"#DIV/0!"},{"$error":"#DIV/0!"},{"$error":"#DIV/0!"}]
[null,{"$f":"title235","v":"Biomass cost (USD/year)"},{"$f":"C41*C42","v":{"$error":"#DIV/0!"}},{"$f":"D41*D42","v":{"$error":"#DIV/0!"}},{"$error":"#DIV/0!"},{"$error":"#DIV/0!"},{"$error":"#DIV/0!"},{"$error":"#DIV/0!"},{"$error":"#DIV/0!"},{"$error":"#DIV/0!"},{"$error":"#DIV/0!"},{"$error":"#DIV/0!"},{"$error":"#DIV/0!"},{"$error":"#DIV/0!"},{"$error":"#DIV/0!"},{"$error":"#DIV/0!"},{"$error":"#DIV/0!"},{"$error":"#DIV/0!"},{"$error":"#DIV/0!"},{"$error":"#DIV/0!"},{"$error":"#DIV/0!"},{"$error":"#DIV/0!"},{"$error":"#DIV/0!"}]
[null,{"$f":"title236","v":"Biomass consumption (ton per year)"},{"$f":"C14/COST_RES1!$G$12","v":{"$error":"#DIV/0!"}},{"$f":"D14/COST_RES1!$G$12","v":{"$error":"#DIV/0!"}},{"$f":"E14/COST_RES1!$G$12","v":{"$error":"#DIV/0!"}},{"$f":"F14/COST_RES1!$G$12","v":{"$error":"#DIV/0!"}},{"$f":"G14/COST_RES1!$G$12","v":{"$error":"#DIV/0!"}},{"$f":"H14/COST_RES1!$G$12","v":{"$error":"#DIV/0!"}},{"$f":"I14/COST_RES1!$G$12","v":{"$error":"#DIV/0!"}},{"$f":"J14/COST_RES1!$G$12","v":{"$error":"#DIV/0!"}},{"$f":"K14/COST_RES1!$G$12","v":{"$error":"#DIV/0!"}},{"$f":"L14/COST_RES1!$G$12","v":{"$error":"#DIV/0!"}},{"$f":"M14/COST_RES1!$G$12","v":{"$error":"#DIV/0!"}},{"$f":"N14/COST_RES1!$G$12","v":{"$error":"#DIV/0!"}},{"$f":"O14/COST_RES1!$G$12","v":{"$error":"#DIV/0!"}},{"$f":"P14/COST_RES1!$G$12","v":{"$error":"#DIV/0!"}},{"$f":"Q14/COST_RES1!$G$12","v":{"$error":"#DIV/0!"}},{"$f":"R14/COST_RES1!$G$12","v":{"$error":"#DIV/0!"}},{"$f":"S14/COST_RES1!$G$12","v":{"$error":"#DIV/0!"}},{"$f":"T14/COST_RES1!$G$12","v":{"$error":"#DIV/0!"}},{"$f":"U14/COST_RES1!$G$12","v":{"$error":"#DIV/0!"}},{"$f":"V14/COST_RES1!$G$12","v":{"$error":"#DIV/0!"}},{"$f":"W14/COST_RES1!$G$12","v":{"$error":"#DIV/0!"}}]
[null,{"$f":"title237","v":"Biomass price (USD/ton)"},{"$f":"SUM(C43:C44)","v":0},{"$f":"SUM(D43:D44)","v":0},0,0,0,0,0,0,0,0,0,0,0,0,0,0,0,0,0,0,0]
[null,{"$f":"title238","v":"Biomass cost of collection (USD/ton)"},{"$f":"COST_RES1!E33","v":0},{"$f":"C43*(1+D73+D74)","v":0},{"$f":"D43*(1+E73+E74)","v":0},0,0,0,0,0,0,0,0,0,0,0,0,0,0,0,0,0,0]
[null,{"$f":"title239","v":"Biomass transportation cost (USD/ton)"},{"$f":"C45*C46","v":0},{"$f":"D45*D46","v":0},0,0,0,0,0,0,0,0,0,0,0,0,0,0,0,0,0,0,0]
[null,{"$f":"title240","v":"Biomass from farm to plant (USD/ton/km)"},{"$f":"COST_RES1!E48","v":0},{"$f":"C45*(1+D73+D74)","v":0},{"$f":"D45*(1+E73+E74)","v":0},0,0,0,0,0,0,0,0,0,0,0,0,0,0,0,0,0,0]
[null,{"$f":"title241","v":"Transportation distant (km)"},{"$f":"COST_RES1!H48","v":0},{"$f":"C46","v":0},{"$f":"D46","v":0},0,0,0,0,0,0,0,0,0,0,0,0,0,0,{"$f":"S46","v":0},{"$f":"T46","v":0},{"$f":"U46","v":0},{"$f":"V46","v":0}]
[]
[null,{"$f":"title246","v":"Water cost (USD/year)"},{"$f":"COST_RES1!I35","v":0},{"$f":"C48*(1+D73+D74)","v":0},{"$f":"D48*(1+E73+E74)","v":0},0,0,0,0,0,0,0,0,0,0,0,0,0,0,0,0,0,0]
[]
[null,{"$f":"title242","v":"Chemical cost (USD/year)"},{"$f":"C51*C52","v":0},{"$f":"D51*D52","v":0},0,0,0,0,0,0,0,0,0,0,0,0,0,0,0,0,0,0,0]
[null,{"$f":"title243","v":"Chemical consumption (tons per year)"},{"$f":"+COST_RES1!$H$34","v":0},{"$f":"+COST_RES1!$H$34","v":0},{"$f":"+COST_RES1!$H$34","v":0},{"$f":"+COST_RES1!$H$34","v":0},{"$f":"+COST_RES1!$H$34","v":0},{"$f":"+COST_RES1!$H$34","v":0},{"$f":"+COST_RES1!$H$34","v":0},{"$f":"+COST_RES1!$H$34","v":0},{"$f":"+COST_RES1!$H$34","v":0},{"$f":"+COST_RES1!$H$34","v":0},{"$f":"+COST_RES1!$H$34","v":0},{"$f":"+COST_RES1!$H$34","v":0},{"$f":"+COST_RES1!$H$34","v":0},{"$f":"+COST_RES1!$H$34","v":0},{"$f":"+COST_RES1!$H$34","v":0},{"$f":"+COST_RES1!$H$34","v":0},{"$f":"+COST_RES1!$H$34","v":0},{"$f":"+COST_RES1!$H$34","v":0},{"$f":"+COST_RES1!$H$34","v":0},{"$f":"+COST_RES1!$H$34","v":0},{"$f":"+COST_RES1!$H$34","v":0}]
[null,{"$f":"title244","v":"Chemical price (USD/ton)"},{"$f":"+'Data entry needs'!$D$20","v":0},{"$f":"C52","v":0},{"$f":"D52","v":0},0,0,0,0,0,0,0,0,0,0,0,0,0,0,0,0,0,0]
[null,{"$f":"title245","v":"Electricity cost (USD)"},{"$f":"COST_RES1!I36","v":0},{"$f":"C53*(1+D73+D74)","v":0},{"$f":"D53*(1+E73+E74)","v":0},0,0,0,0,0,0,0,0,0,0,0,0,0,0,0,0,0,0]
[]
[null,{"$f":"title247","v":"Sub-total operating cost (USD)"},{"$f":"C56+C58+C59","v":{"$error":"#DIV/0!"}},{"$f":"D56+D58+D59","v":{"$error":"#DIV/0!"}},{"$error":"#DIV/0!"},{"$error":"#DIV/0!"},{"$error":"#DIV/0!"},{"$error":"#DIV/0!"},{"$error":"#DIV/0!"},{"$error":"#DIV/0!"},{"$error":"#DIV/0!"},{"$error":"#DIV/0!"},{"$error":"#DIV/0!"},{"$error":"#DIV/0!"},{"$error":"#DIV/0!"},{"$error":"#DIV/0!"},{"$error":"#DIV/0!"},{"$error":"#DIV/0!"},{"$error":"#DIV/0!"},{"$error":"#DIV/0!"},{"$error":"#DIV/0!"},{"$error":"#DIV/0!"},{"$error":"#DIV/0!"}]
[null,{"$f":"title248","v":"Labour cost (USD)"},{"$f":"COST_RES1!I44","v":0},{"$f":"C56*(1+D57)","v":0},0,0,0,0,0,0,0,0,0,0,0,0,0,0,0,0,0,0,0]
[null,{"$f":"title249","v":"Annual change in labour cost (%)"},null,{"$f":"COST_RES1!M12","v":0},{"$f":"D57","v":0},{"$f":"E57","v":0},0,0,0,0,0,0,0,0,0,0,0,0,0,0,0,0,0]
[null,{"$f":"title249","v":"Annual change in labour cost (%)"},{"$f":"COST_RES1!I70","v":0},{"$f":"C58","v":0},{"$f":"D58","v":0},0,0,0,0,0,0,0,0,0,0,0,0,0,0,0,0,0,0]
[null,{"$f":"title250","v":"General and administrative cost"},{"$f":"COST_RES1!I71","v":{"$error":"#DIV/0!"}},{"$f":"C59","v":{"$error":"#DIV/0!"}},{"$error":"#DIV/0!"},{"$error":"#DIV/0!"},{"$error":"#DIV/0!"},{"$error":"#DIV/0!"},{"$error":"#DIV/0!"},{"$error":"#DIV/0!"},{"$error":"#DIV/0!"},{"$error":"#DIV/0!"},{"$error":"#DIV/0!"},{"$error":"#DIV/0!"},{"$error":"#DIV/0!"},{"$error":"#DIV/0!"},{"$error":"#DIV/0!"},{"$error":"#DIV/0!"},{"$error":"#DIV/0!"},{"$error":"#DIV/0!"},{"$error":"#DIV/0!"},{"$error":"#DIV/0!"},{"$error":"#DIV/0!"}]
[null,{"$f":"title251","v":"Sub-total maintenance cost (USD)"},{"$f":"COST_RES1!I65","v":0},{"$f":"C60","v":0},0,0,0,0,0,0,0,0,0,0,0,0,0,0,0,0,0,0,0]
[]
[null,{"$f":"title252","v":"Sub-total of annual fixed costs"},{"$f":"+E33","v":0},{"$f":"C62","v":0},{"$f":"D62","v":0},0,0,0,0,0,0,0,0,0,0,0,0,0,0,0,0,0,0]
[]
[null,{"$f":"title253","v":"Sub-total of storage capacity"},{"$f":"COST_RES1!I56","v":{"$error":"#DIV/0!"}},{"$f":"C64","v":{"$error":"#DIV/0!"}},{"$f":"D64","v":{"$error":"#DIV/0!"}},{"$error":"#DIV/0!"},{"$error":"#DIV/0!"},{"$error":"#DIV/0!"},{"$error":"#DIV/0!"},{"$error":"#DIV/0!"},{"$error":"#DIV/0!"},{"$error":"#DIV/0!"},{"$error":"#DIV/0!"},{"$error":"#DIV/0!"},{"$error":"#DIV/0!"},{"$error":"#DIV/0!"},{"$error":"#DIV/0!"},{"$error":"#DIV/0!"},{"$error":"#DIV/0!"},{"$error":"#DIV/0!"},{"$error":"#DIV/0!"},{"$error":"#DIV/0!"},{"$error":"#DIV/0!"}]
[]
[null,{"$f":"title254","v":"Sub-total of briquette transportation to market"},{"$f":"COST_RES1!I49","v":0},{"$f":"C66*(1+D73+D74)","v":0},{"$f":"D66*(1+E73+E74)","v":0},0,0,0,0,0,0,0,0,0,0,0,0,0,0,0,0,0,0]
[]
[null,{"$f":"title255","v":"Total operation and maintenance cost (USD)"},{"$f":"C39+C55+C60+C62+C64+C66","v":{"$error":"#DIV/0!"}},{"$f":"D39+D55+D60+D62+D64+D66","v":{"$error":"#DIV/0!"}},{"$error":"#DIV/0!"},{"$error":"#DIV/0!"},{"$error":"#DIV/0!"},{"$error":"#DIV/0!"},{"$error":"#DIV/0!"},{"$error":"#DIV/0!"},{"$error":"#DIV/0!"},{"$error":"#DIV/0!"},{"$error":"#DIV/0!"},{"$error":"#DIV/0!"},{"$error":"#DIV/0!"},{"$error":"#DIV/0!"},{"$error":"#DIV/0!"},{"$error":"#DIV/0!"},{"$error":"#DIV/0!"},{"$error":"#DIV/0!"},{"$error":"#DIV/0!"},{"$error":"#DIV/0!"},{"$error":"#DIV/0!"}]
[null,{"$f":"title256","v":"Operation and maintenance cost (USD/kg of briquette) without loan interest"},{"$f":"C68/(C14*1000)","v":{"$error":"#DIV/0!"}},{"$error":"#DIV/0!"},{"$error":"#DIV/0!"},{"$error":"#DIV/0!"},{"$error":"#DIV/0!"},{"$error":"#DIV/0!"},{"$error":"#DIV/0!"},{"$error":"#DIV/0!"},{"$error":"#DIV/0!"},{"$error":"#DIV/0!"},{"$error":"#DIV/0!"},{"$error":"#DIV/0!"},{"$error":"#DIV/0!"},{"$error":"#DIV/0!"},{"$error":"#DIV/0!"},{"$error":"#DIV/0!"},{"$error":"#DIV/0!"},{"$error":"#DIV/0!"},{"$error":"#DIV/0!"},{"$error":"#DIV/0!"},{"$error":"#DIV/0!"}]
[]
[{"$f":"title164","v":"Financial parameters"}]
[null,{"$f":"title209","v":"Operating Year"},{"$f":"title230","v":"Appraisal"},1,2,3,4,5,6,7,8,9,10,11,12,13,14,15,16,17,18,19,20]
[null,{"$f":"title257","v":"Annual change in raw material cost (%)"},null,0,{"$f":"D73","v":0},{"$f":"E73","v":0},0,0,0,0,0,0,0,0,0,0,0,0,0,0,0,0,0]
[null,{"$f":"title258","v":"Inflation rate (%)"},null,{"$f":"COST_RES1!J12","v":0},{"$f":"D74","v":0},0,0,0,0,0,0,0,0,0,0,0,0,0,0,0,0,0,0]
[null,{"$f":"title165&\" (%)\"","v":"Discount rate (%)"},{"$f":"COST_RES1!J9","v":0}]
[null,{"$f":"title166&\" (%)\"","v":"Loan ratio (%)"},{"$f":"COST_RES1!J10","v":0}]
[]
[null,{"$f":"title259","v":"Loan without policy"},{"$f":"title230","v":"Appraisal"},1,2,3,4,5,6,7,8,9,10,11,12,13,14,15,16,17,18,19,20]
[null,{"$f":"title260","v":"Loan amount (USD)"},{"$f":"C76*(C33)","v":0}]
[null,{"$f":"title167&\" (%)\"","v":"Loan interest rate (%)"},{"$f":"COST_RES1!J11","v":0}]
[null,{"$f":"title261","v":"Loan term (years)"},{"$f":"COST_RES1!M9","v":0}]
[null,{"$f":"title262","v":"Loan payment (USD/month)"},{"$f":"(PMT($C$80/12,(12*$C$81),$C$79))","v":{"$error":"#NUM!"}}]
[null,{"$f":"title263","v":"Loan payment (USD/year)"},null,{"$f":"IF(D72<=$C$81,$C$82*12,0)","v":0},{"$f":"IF(E72<$C$81,$C$82*12,IF(E72=$C$81,$C$82*12,0))","v":0},{"$f":"IF(F72<$C$81,$C$82*12,IF(F72=$C$81,$C$82*12,0))","v":0},0,0,0,0,0,0,0,0,0,0,0,0,0,0,0,0,0]
[null,{"$f":"title264","v":"Total loan payment (USD)"},{"$f":"SUM(D83:W83)","v":0}]
[null,{"$f":"title265","v":"Loan interest payment (USD)"},{"$f":"C84+C79","v":0},{"$f":"title266","v":"Average loan interest payment for project lifetime"},null,null,{"$f":"C85/C25","v":0},{"$f":"title267","v":"USD per year"}]
[]
[{"$f":"title268","v":"Income tax analysis"}]
[null,{"$f":"title209","v":"Operating Year"},{"$f":"title230","v":"Appraisal"},1,2,3,4,5,6,7,8,9,10,11,12,13,14,15,16,17,18,19,20]
[null,{"$f":"title269","v":"Effective income tax rate (%)"},{"$f":"+'Data entry needs'!$AD$115","v":0},{"$f":"C89","v":0},{"$f":"D89","v":0},0,0,0,0,0,0,0,0,0,0,0,0,0,0,0,0,0,0]
[null,{"$f":"title270","v":"Income tax (USD)"},null,{"$f":"IF(D114<0,0,D89*D114)","v":{"$error":"#DIV/0!"}},{"$error":"#DIV/0!"},{"$error":"#DIV/0!"},{"$error":"#DIV/0!"},{"$error":"#DIV/0!"},{"$error":"#DIV/0!"},{"$error":"#DIV/0!"},{"$error":"#DIV/0!"},{"$error":"#DIV/0!"},{"$error":"#DIV/0!"},{"$error":"#DIV/0!"},{"$error":"#DIV/0!"},{"$error":"#DIV/0!"},{"$error":"#DIV/0!"},{"$error":"#DIV/0!"},{"$error":"#DIV/0!"},{"$error":"#DIV/0!"},{"$error":"#DIV/0!"},{"$error":"#DIV/0!"},{"$error":"#DIV/0!"}]
[null,{"$f":"title271","v":"Total income tax payment (USD)"},{"$f":"SUM(D90:W90)","v":{"$error":"#DIV/0!"}},{"$f":"title458","v":"Average income tax payment "},null,{"$f":"C91/C25","v":{"$error":"#DIV/0!"}},{"$f":"title267","v":"USD per year"}]
[]
[{"$f":"title272","v":"Depreciation"}]
[null,{"$f":"title209","v":"Operating Year"},{"$f":"title230","v":"Appraisal"},1,2,3,4,5,6,7,8,9,10,11,12,13,14,15,16,17,18,19,20]
[null,{"$f":"title273","v":"Depreciation method"},{"$f":"title275","v":"Straight-line"}]
[null,{"$f":"title274","v":"Total depreciation (USD)"},null,{"$f":"COST_RES1!I64","v":0},{"$f":"D96","v":0},{"$f":"E96","v":0},0,0,0,0,0,0,0,0,0,0,0,0,0,0,0,0,0]
[]
[{"$f":"title276","v":"Base case project summary"}]
[{"$f":"title277","v":"Summary of this project - Before Tax"}]
[null,{"$f":"title209","v":"Operating Year"},{"$f":"title230","v":"Appraisal"},1,2,3,4,5,6,7,8,9,10,11,12,13,14,15,16,17,18,19,20]
[null,{"$f":"title278","v":"Total revenue (USD)"},null,{"$f":"D15*1000*D18","v":0},{"$f":"E15*1000*E18","v":0},0,0,0,0,0,0,0,0,0,0,0,0,0,0,0,0,0,0]
[null,{"$f":"title228","v":"Total capital cost (USD)"},{"$f":"-(C33-C79)","v":0}]
[null,{"$f":"title279","v":"Total operating and maintenance cost (USD)"},null,{"$f":"-D68+D62","v":{"$error":"#DIV/0!"}},{"$error":"#DIV/0!"},{"$error":"#DIV/0!"},{"$error":"#DIV/0!"},{"$error":"#DIV/0!"},{"$error":"#DIV/0!"},{"$error":"#DIV/0!"},{"$error":"#DIV/0!"},{"$error":"#DIV/0!"},{"$error":"#DIV/0!"},{"$error":"#DIV/0!"},{"$error":"#DIV/0!"},{"$error":"#DIV/0!"},{"$error":"#DIV/0!"},{"$error":"#DIV/0!"},{"$error":"#DIV/0!"},{"$error":"#DIV/0!"},{"$error":"#DIV/0!"},{"$error":"#DIV/0!"},{"$error":"#DIV/0!"}]
[null,{"$f":"title280","v":"Loan payment (USD)"},null,{"$f":"D83","v":0},{"$f":"E83","v":0},0,0,0,0,0,0,0,0,0,0,0,0,0,0,0,0,0,0]
[null,{"$f":"title281","v":"Cash flow - before tax (USD)"},{"$f":"SUM(C101:C104)","v":0},{"$error":"#DIV/0!"},{"$error":"#DIV/0!"},{"$error":"#DIV/0!"},{"$error":"#DIV/0!"},{"$error":"#DIV/0!"},{"$error":"#DIV/0!"},{"$error":"#DIV/0!"},{"$error":"#DIV/0!"},{"$error":"#DIV/0!"},{"$error":"#DIV/0!"},{"$error":"#DIV/0!"},{"$error":"#DIV/0!"},{"$error":"#DIV/0!"},{"$error":"#DIV/0!"},{"$error":"#DIV/0!"},{"$error":"#DIV/0!"},{"$error":"#DIV/0!"},{"$error":"#DIV/0!"},{"$error":"#DIV/0!"},{"$error":"#DIV/0!"}]
[null,{"$f":"title282","v":"Average revenue (USD)"}]
[]
[{"$f":"title283","v":"Summary of this project - After Tax"}]
[null,{"$f":"title209","v":"Operating Year"},{"$f":"title230","v":"Appraisal"},1,2,3,4,5,6,7,8,9,10,11,12,13,14,15,16,17,18,19,20]
[null,{"$f":"B101","v":"Total revenue (USD)"},{"$f":"C101","v":0},{"$f":"D101","v":0},0,0,0,0,0,0,0,0,0,0,0,0,0,0,0,0,0,0,0]
[null,{"$f":"title279","v":"Total operating and maintenance cost (USD)"},null,{"$f":"-D68+D62","v":{"$error":"#DIV/0!"}},{"$error":"#DIV/0!"},{"$error":"#DIV/0!"},{"$error":"#DIV/0!"},{"$error":"#DIV/0!"},{"$error":"#DIV/0!"},{"$error":"#DIV/0!"},{"$error":"#DIV/0!"},{"$error":"#DIV/0!"},{"$error":"#DIV/0!"},{"$error":"#DIV/0!"},{"$error":"#DIV/0!"},{"$error":"#DIV/0!"},{"$error":"#DIV/0!"},{"$error":"#DIV/0!"},{"$error":"#DIV/0!"},{"$error":"#DIV/0!"},{"$error":"#DIV/0!"},{"$error":"#DIV/0!"},{"$error":"#DIV/0!"}]
[null,{"$f":"title280","v":"Loan payment (USD)"},null,{"$f":"$G$85","v":0},{"$f":"$G$85","v":0},0,0,0,0,0,0,0,0,0,0,0,0,0,0,0,0,0,0]
[null,{"$f":"title284","v":"Depreciation of fixed costs (USD)"},null,{"$f":"-D62","v":0},{"$f":"-E62","v":0},0,0,0,0,0,0,0,0,0,0,0,0,0,0,0,0,0,0]
[null,{"$f":"title285","v":"Net profit - before tax (USD) for income tax calculation"},{"$f":"SUM(C110:C113)","v":0},{"$f":"SUM(D110:D113)","v":{"$error":"#DIV/0!"}},{"$f":"SUM(E110:E113)","v":{"$error":"#DIV/0!"}},{"$error":"#DIV/0!"},{"$error":"#DIV/0!"},{"$error":"#DIV/0!"},{"$error":"#DIV/0!"},{"$error":"#DIV/0!"},{"$error":"#DIV/0!"},{"$error":"#DIV/0!"},{"$error":"#DIV/0!"},{"$error":"#DIV/0!"},{"$error":"#DIV/0!"},{"$error":"#DIV/0!"},{"$error":"#DIV/0!"},{"$error":"#DIV/0!"},{"$error":"#DIV/0!"},{"$error":"#DIV/0!"},{"$error":"#DIV/0!"},{"$error":"#DIV/0!"},{"$error":"#DIV/0!"}]
[null,{"$f":"title286","v":"Income tax"},null,{"$f":"IF(D114>0,-D90,0)","v":{"$error":"#DIV/0!"}},{"$error":"#DIV/0!"},{"$error":"#DIV/0!"},{"$error":"#DIV/0!"},{"$error":"#DIV/0!"},{"$error":"#DIV/0!"},{"$error":"#DIV/0!"},{"$error":"#DIV/0!"},{"$error":"#DIV/0!"},{"$error":"#DIV/0!"},{"$error":"#DIV/0!"},{"$error":"#DIV/0!"},{"$error":"#DIV/0!"},{"$error":"#DIV/0!"},{"$error":"#DIV/0!"},{"$error":"#DIV/0!"},{"$error":"#DIV/0!"},{"$error":"#DIV/0!"},{"$error":"#DIV/0!"},{"$error":"#DIV/0!"}]
[null,{"$f":"title287","v":"Cash flow - after tax (USD)"},{"$f":"C102","v":0},{"$f":"D105+D115","v":{"$error":"#DIV/0!"}},{"$f":"E105+E115","v":{"$error":"#DIV/0!"}},{"$error":"#DIV/0!"},{"$error":"#DIV/0!"},{"$error":"#DIV/0!"},{"$error":"#DIV/0!"},{"$error":"#DIV/0!"},{"$error":"#DIV/0!"},{"$error":"#DIV/0!"},{"$error":"#DIV/0!"},{"$error":"#DIV/0!"},{"$error":"#DIV/0!"},{"$error":"#DIV/0!"},{"$error":"#DIV/0!"},{"$error":"#DIV/0!"},{"$error":"#DIV/0!"},{"$error":"#DIV/0!"},{"$error":"#DIV/0!"},{"$error":"#DIV/0!"},{"$f":"W105+W115","v":{"$error":"#DIV/0!"}}]
[]
[{"$f":"title288","v":"Cumulative value of Net Profit"}]
[null,{"$f":"title209","v":"Operating Year"},{"$f":"title230","v":"Appraisal"},1,2,3,4,5,6,7,8,9,10,11,12,13,14,15,16,17,18,19,20]
[null,{"$f":"title289","v":"Cumulative value of net profit - before tax"},{"$f":"C105","v":0},{"$f":"C120+(D105)","v":{"$error":"#DIV/0!"}},{"$error":"#DIV/0!"},{"$error":"#DIV/0!"},{"$error":"#DIV/0!"},{"$error":"#DIV/0!"},{"$error":"#DIV/0!"},{"$error":"#DIV/0!"},{"$error":"#DIV/0!"},{"$error":"#DIV/0!"},{"$error":"#DIV/0!"},{"$error":"#DIV/0!"},{"$error":"#DIV/0!"},{"$error":"#DIV/0!"},{"$error":"#DIV/0!"},{"$error":"#DIV/0!"},{"$error":"#DIV/0!"},{"$error":"#DIV/0!"},{"$error":"#DIV/0!"},{"$error":"#DIV/0!"},{"$error":"#DIV/0!"}]
[null,{"$f":"title290","v":"Cumulative value of net profit - after tax"},{"$f":"C116","v":0},{"$f":"C121+(D116)","v":{"$error":"#DIV/0!"}},{"$error":"#DIV/0!"},{"$error":"#DIV/0!"},{"$error":"#DIV/0!"},{"$error":"#DIV/0!"},{"$error":"#DIV/0!"},{"$error":"#DIV/0!"},{"$error":"#DIV/0!"},{"$error":"#DIV/0!"},{"$error":"#DIV/0!"},{"$error":"#DIV/0!"},{"$error":"#DIV/0!"},{"$error":"#DIV/0!"},{"$error":"#DIV/0!"},{"$error":"#DIV/0!"},{"$error":"#DIV/0!"},{"$error":"#DIV/0!"},{"$error":"#DIV/0!"},{"$error":"#DIV/0!"},{"$error":"#DIV/0!"}]
[]
[{"$f":"title291","v":"Financial analysis results"}]
[]
[null,{"$f":"title292","v":"Net present value (NPV) (USD) - before tax"},{"$f":"NPV(C75,D105:W105)+C105","v":{"$error":"#DIV/0!"}}]
[null,{"$f":"title293","v":"Internal rate of return (IRR) (%) - before tax"},{"$f":"IF(C125<0,title459,IF(TIR_cell=title519,IRR(C105:W105,0.001),MIRR(C105:W105,C80,C75)))","v":{"$error":"#DIV/0!"}}]
[null,{"$f":"title294","v":"Payback period (years)"},{"$f":"title298","v":"Please see Figure of the cumulative value of net profit - before tax"}]
[]
[]
[null,{"$f":"title295","v":"Net present value (NPV) (USD) - after tax"},{"$f":"NPV(C75,D116:W116)+C116","v":{"$error":"#DIV/0!"}}]
[null,{"$f":"title296","v":"Internal rate of return (IRR) (%) - after tax"},{"$f":"IF(C130<0,title459,MIRR(C116:W116,$C$80,0%))","v":{"$error":"#DIV/0!"}}]
[null,{"$f":"title294","v":"Payback period (years)"},{"$f":"title299","v":"Please see Figure of the cumulative value of net profit - after tax"}]
[null,{"$f":"title297","v":"Total Income tax payment of project lifetime"},{"$f":"SUM(D115:W115)","v":{"$error":"#DIV/0!"}}]

{"sheet":"FA400_RURAL_RES1","index":16,"n_rows":134,"n_cols":23,"rows_kept":134,"cut":false,"hidden":true,"merged":[[1,1,1,13]]}
[]
[null,{"$f":"title301","v":"FINANCIAL ANALYSIS OF BIOMASS BRIQUETTING 400 KG/HOUR"}]
[]
[{"$f":"title208","v":"Revenues of biomass briquetting system"}]
[null,{"$f":"title209","v":"Operating Year"},0,1,2,3,4,5,6,7,8,9,10,11,12,13,14,15,16,17,18,19,20]
[]
[null,{"$f":"title210","v":"Briquette production capacity (tons per year)"},{"$f":"COST_RES1!J29","v":0},{"$f":"C7","v":0},{"$f":"D7","v":0},0,0,0,0,0,0,0,0,0,0,0,0,0,0,0,0,0,0]
[]
[null,{"$f":"title211","v":"Efficiency % of briquetting machine"},{"$f":"COST_RES1!G12","v":0},{"$f":"C9","v":0},{"$f":"D9","v":0},0,0,0,0,0,0,0,0,0,0,0,0,0,0,0,0,0,0]
[]
[null,{"$f":"title212","v":"Operating hours per year"},{"$f":"COST_RES1!K28","v":0},{"$f":"C11","v":0},{"$f":"D11","v":0},0,0,0,0,0,0,0,0,0,0,0,0,0,0,0,0,0,0]
[null,{"$f":"title213","v":"Capacity utilization factor"},{"$f":"C11/8760","v":0},{"$f":"D11/8760","v":0},0,0,0,0,0,0,0,0,0,0,0,0,0,0,0,0,0,0,0]
[]
[null,{"$f":"title214","v":"Briquette production (tons per year)"},{"$f":"C7","v":0},{"$f":"D7","v":0},0,0,0,0,0,0,0,0,0,0,0,0,0,0,0,0,0,0,0]
[null,{"$f":"title215","v":"Total briquette sell to customers (tons per year)"},{"$f":"SUM(C14:C14)","v":0},{"$f":"SUM(D14:D14)","v":0},0,0,0,0,0,0,0,0,0,0,0,0,0,0,0,0,0,0,0]
[]
[null,{"$f":"title216","v":"Price of briquette (USD/kg)"},{"$f":"SUM(C18:C18)","v":0},{"$f":"SUM(D18:D18)","v":0},0,0,0,0,0,0,0,0,0,0,0,0,0,0,0,0,0,0,0]
[null,{"$f":"title217","v":"Market price of briquette pay by consumers (USD/kg)"},{"$f":"+'Energy Demand'!E20","v":0},{"$f":"C18*(1+D19)","v":0},0,0,0,0,0,0,0,0,0,0,0,0,0,0,0,0,0,0,0]
[null,{"$f":"title218","v":"Increasing rate of price of briquette (%)"},{"$f":"+'Data entry needs'!$AD$114","v":0},{"$f":"C19","v":0},{"$f":"D19","v":0},0,0,0,0,0,0,0,0,0,0,0,0,0,0,0,0,0,0]
[]
[null,{"$f":"title219","v":"Total income of briquette (USD per year)"},{"$f":"C15*C18*1000","v":0},{"$f":"D15*D18*1000","v":0},0,0,0,0,0,0,0,0,0,0,0,0,0,0,0,0,0,0,0]
[]
[null,{"$f":"title220","v":"Lifespan of civil work (years)"},{"$f":"COST_RES1!E61","v":10}]
[null,{"$f":"title221","v":"Lifespan of briquette system (years)"},{"$f":"COST_RES1!E60","v":10}]
[null,{"$f":"title222","v":"Project life time (years)"},20]
[]
[{"$f":"title223","v":"Capital and operating cost of biomass briquette system "}]
[]
[null,null,{"$f":"title230","v":"Appraisal"},{"$f":"title231","v":"Project lifetime"},{"$f":"title232","v":"Investment per year"}]
[null,{"$f":"title224","v":"Direct capital cost (USD)"}]
[null,{"$f":"title225","v":"Equipments"},{"$f":"D31*E31","v":0},{"$f":"$C$25","v":20},{"$f":"COST_RES1!J60/D31","v":0}]
[null,{"$f":"title226","v":"Building"},{"$f":"D32*E32","v":0},{"$f":"$C$25","v":20},{"$f":"COST_RES1!J61/D32","v":0}]
[null,{"$f":"title227","v":"Installation"},{"$f":"D33*E33","v":0},{"$f":"$C$25","v":20},{"$f":"COST_RES1!J62/D33","v":0}]
[null,{"$f":"title228","v":"Total capital cost (USD)"},{"$f":"SUM(C31:C33)","v":0},null,{"$f":"SUM(E31:E33)","v":0}]
[null,{"$f":"title229","v":"Capital cost (USD/kg of briquette)"},{"$f":"C34/(C14*1000*C25)","v":{"$error":"#DIV/0!"}}]
[]
[]
[null,{"$f":"title209","v":"Operating Year"},{"$f":"title230","v":"Appraisal"},1,2,3,4,5,6,7,8,9,10,11,12,13,14,15,16,17,18,19,20]
[null,{"$f":"title233","v":"Annual operating and maintenance cost "}]
[null,{"$f":"title234","v":"Sub-total material cost (USD)"},{"$f":"C41+C49+C51+C54","v":{"$error":"#DIV/0!"}},{"$f":"D41+D49+D51+D54","v":{"$error":"#DIV/0!"}},{"$error":"#DIV/0!"},{"$error":"#DIV/0!"},{"$error":"#DIV/0!"},{"$error":"#DIV/0!"},{"$error":"#DIV/0!"},{"$error":"#DIV/0!"},{"$error":"#DIV/0!"},{"$error":"#DIV/0!"},{"$error":"#DIV/0!"},{"$error":"#DIV/0!"},{"$error":"#DIV/0!"},{"$error":"#DIV/0!"},{"$error":"#DIV/0!"},{"$error":"#DIV/0!"},{"$error":"#DIV/0!"},{"$error":"#DIV/0!"},{"$error":"#DIV/0!"},{"$error":"#DIV/0!"},{"$error":"#DIV/0!"}]
[null,{"$f":"title235","v":"Biomass cost (USD/year)"},{"$f":"C42*C43","v":{"$error":"#DIV/0!"}},{"$f":"D42*D43","v":{"$error":"#DIV/0!"}},{"$error":"#DIV/0!"},{"$error":"#DIV/0!"},{"$error":"#DIV/0!"},{"$error":"#DIV/0!"},{"$error":"#DIV/0!"},{"$error":"#DIV/0!"},{"$error":"#DIV/0!"},{"$error":"#DIV/0!"},{"$error":"#DIV/0!"},{"$error":"#DIV/0!"},{"$error":"#DIV/0!"},{"$error":"#DIV/0!"},{"$error":"#DIV/0!"},{"$error":"#DIV/0!"},{"$error":"#DIV/0!"},{"$error":"#DIV/0!"},{"$error":"#DIV/0!"},{"$error":"#DIV/0!"},{"$error":"#DIV/0!"}]
[null,{"$f":"title236","v":"Biomass consumption (ton per year)"},{"$f":"C14/COST_RES1!$G$12","v":{"$error":"#DIV/0!"}},{"$f":"D14/COST_RES1!$G$12","v":{"$error":"#DIV/0!"}},{"$f":"E14/COST_RES1!$G$12","v":{"$error":"#DIV/0!"}},{"$f":"F14/COST_RES1!$G$12","v":{"$error":"#DIV/0!"}},{"$f":"G14/COST_RES1!$G$12","v":{"$error":"#DIV/0!"}},{"$f":"H14/COST_RES1!$G$12","v":{"$error":"#DIV/0!"}},{"$f":"I14/COST_RES1!$G$12","v":{"$error":"#DIV/0!"}},{"$f":"J14/COST_RES1!$G$12","v":{"$error":"#DIV/0!"}},{"$f":"K14/COST_RES1!$G$12","v":{"$error":"#DIV/0!"}},{"$f":"L14/COST_RES1!$G$12","v":{"$error":"#DIV/0!"}},{"$f":"M14/COST_RES1!$G$12","v":{"$error":"#DIV/0!"}},{"$f":"N14/COST_RES1!$G$12","v":{"$error":"#DIV/0!"}},{"$f":"O14/COST_RES1!$G$12","v":{"$error":"#DIV/0!"}},{"$f":"P14/COST_RES1!$G$12","v":{"$error":"#DIV/0!"}},{"$f":"Q14/COST_RES1!$G$12","v":{"$error":"#DIV/0!"}},{"$f":"R14/COST_RES1!$G$12","v":{"$error":"#DIV/0!"}},{"$f":"S14/COST_RES1!$G$12","v":{"$error":"#DIV/0!"}},{"$f":"T14/COST_RES1!$G$12","v":{"$error":"#DIV/0!"}},{"$f":"U14/COST_RES1!$G$12","v":{"$error":"#DIV/0!"}},{"$f":"V14/COST_RES1!$G$12","v":{"$error":"#DIV/0!"}},{"$f":"W14/COST_RES1!$G$12","v":{"$error":"#DIV/0!"}}]
[null,{"$f":"title237","v":"Biomass price (USD/ton)"},{"$f":"SUM(C44:C45)","v":0},{"$f":"SUM(D44:D45)","v":0},0,0,0,0,0,0,0,0,0,0,0,0,0,0,0,0,0,0,0]
[null,{"$f":"title238","v":"Biomass cost of collection (USD/ton)"},{"$f":"COST_RES1!E33","v":0},{"$f":"C44*(1+D74+D75)","v":0},{"$f":"D44*(1+E74+E75)","v":0},0,0,0,0,0,0,0,0,0,0,0,0,0,0,0,0,0,0]
[null,{"$f":"title239","v":"Biomass transportation cost (USD/ton)"},{"$f":"C46*C47","v":0},{"$f":"D46*D47","v":0},0,0,0,0,0,0,0,0,0,0,0,0,0,0,0,0,0,0,0]
[null,{"$f":"title240","v":"Biomass from farm to plant (USD/ton/km)"},{"$f":"COST_RES1!E48","v":0},{"$f":"C46*(1+D74+D75)","v":0},{"$f":"D46*(1+E74+E75)","v":0},0,0,0,0,0,0,0,0,0,0,0,0,0,0,0,0,0,0]
[null,{"$f":"title241","v":"Transportation distant (km)"},{"$f":"COST_RES1!J48","v":0},{"$f":"C47","v":0},{"$f":"D47","v":0},0,0,0,0,0,0,0,0,0,0,0,0,0,0,{"$f":"S47","v":0},{"$f":"T47","v":0},{"$f":"U47","v":0},{"$f":"V47","v":0}]
[]
[null,{"$f":"title246","v":"Water cost (USD/year)"},{"$f":"COST_RES1!K35","v":0},{"$f":"C49*(1+D74+D75)","v":0},{"$f":"D49*(1+E74+E75)","v":0},0,0,0,0,0,0,0,0,0,0,0,0,0,0,0,0,0,0]
[]
[null,{"$f":"title242","v":"Chemical cost (USD/year)"},{"$f":"C52*C53","v":0},{"$f":"D52*D53","v":0},0,0,0,0,0,0,0,0,0,0,0,0,0,0,0,0,0,0,0]
[null,{"$f":"title243","v":"Chemical consumption (tons per year)"},{"$f":"+COST_RES1!$J$34","v":0},{"$f":"+COST_RES1!$J$34","v":0},{"$f":"+COST_RES1!$J$34","v":0},{"$f":"+COST_RES1!$J$34","v":0},{"$f":"+COST_RES1!$J$34","v":0},{"$f":"+COST_RES1!$J$34","v":0},{"$f":"+COST_RES1!$J$34","v":0},{"$f":"+COST_RES1!$J$34","v":0},{"$f":"+COST_RES1!$J$34","v":0},{"$f":"+COST_RES1!$J$34","v":0},{"$f":"+COST_RES1!$J$34","v":0},{"$f":"+COST_RES1!$J$34","v":0},{"$f":"+COST_RES1!$J$34","v":0},{"$f":"+COST_RES1!$J$34","v":0},{"$f":"+COST_RES1!$J$34","v":0},{"$f":"+COST_RES1!$J$34","v":0},{"$f":"+COST_RES1!$J$34","v":0},{"$f":"+COST_RES1!$J$34","v":0},{"$f":"+COST_RES1!$J$34","v":0},{"$f":"+COST_RES1!$J$34","v":0},{"$f":"+COST_RES1!$J$34","v":0}]
[null,{"$f":"title244","v":"Chemical price (USD/ton)"},{"$f":"+'Data entry needs'!$D$20","v":0},{"$f":"C53","v":0},{"$f":"D53","v":0},0,0,0,0,0,0,0,0,0,0,0,0,0,0,0,0,0,0]
[null,{"$f":"title245","v":"Electricity cost (USD)"},{"$f":"COST_RES1!K36","v":0},{"$f":"C54*(1+D74+D75)","v":0},{"$f":"D54*(1+E74+E75)","v":0},0,0,0,0,0,0,0,0,0,0,0,0,0,0,0,0,0,0]
[]
[null,{"$f":"title247","v":"Sub-total operating cost (USD)"},{"$f":"C57+C59+C60","v":{"$error":"#DIV/0!"}},{"$f":"D57+D59+D60","v":{"$error":"#DIV/0!"}},{"$error":"#DIV/0!"},{"$error":"#DIV/0!"},{"$error":"#DIV/0!"},{"$error":"#DIV/0!"},{"$error":"#DIV/0!"},{"$error":"#DIV/0!"},{"$error":"#DIV/0!"},{"$error":"#DIV/0!"},{"$error":"#DIV/0!"},{"$error":"#DIV/0!"},{"$error":"#DIV/0!"},{"$error":"#DIV/0!"},{"$error":"#DIV/0!"},{"$error":"#DIV/0!"},{"$error":"#DIV/0!"},{"$error":"#DIV/0!"},{"$error":"#DIV/0!"},{"$error":"#DIV/0!"},{"$error":"#DIV/0!"}]
[null,{"$f":"title248","v":"Labour cost (USD)"},{"$f":"COST_RES1!K44","v":0},{"$f":"C57*(1+D58)","v":0},0,0,0,0,0,0,0,0,0,0,0,0,0,0,0,0,0,0,0]
[null,"Annual change in  labour cost (%)",null,{"$f":"COST_RES1!M12","v":0},{"$f":"D58","v":0},0,0,0,0,0,0,0,0,0,0,0,0,0,0,0,0,0,0]
[null,{"$f":"title249","v":"Annual change in labour cost (%)"},{"$f":"COST_RES1!K70","v":0},{"$f":"C59","v":0},{"$f":"D59","v":0},0,0,0,0,0,0,0,0,0,0,0,0,0,0,0,{"$f":"T59","v":0},0,0]
[null,{"$f":"title250","v":"General and administrative cost"},{"$f":"COST_RES1!K71","v":{"$error":"#DIV/0!"}},{"$f":"C60","v":{"$error":"#DIV/0!"}},{"$error":"#DIV/0!"},{"$error":"#DIV/0!"},{"$error":"#DIV/0!"},{"$error":"#DIV/0!"},{"$error":"#DIV/0!"},{"$error":"#DIV/0!"},{"$error":"#DIV/0!"},{"$error":"#DIV/0!"},{"$error":"#DIV/0!"},{"$error":"#DIV/0!"},{"$error":"#DIV/0!"},{"$error":"#DIV/0!"},{"$error":"#DIV/0!"},{"$error":"#DIV/0!"},{"$error":"#DIV/0!"},{"$error":"#DIV/0!"},{"$error":"#DIV/0!"},{"$error":"#DIV/0!"},{"$error":"#DIV/0!"}]
[null,{"$f":"title251","v":"Sub-total maintenance cost (USD)"},{"$f":"COST_RES1!K65","v":0},{"$f":"C61","v":0},0,0,0,0,0,0,0,0,0,0,0,0,0,0,0,0,0,0,0]
[]
[null,{"$f":"title252","v":"Sub-total of annual fixed costs"},{"$f":"+E34","v":0},{"$f":"C63","v":0},{"$f":"D63","v":0},0,0,0,0,0,0,0,0,0,0,0,0,0,0,0,0,0,0]
[]
[null,{"$f":"title253","v":"Sub-total of storage capacity"},{"$f":"COST_RES1!K56","v":{"$error":"#DIV/0!"}},{"$f":"C65","v":{"$error":"#DIV/0!"}},{"$f":"D65","v":{"$error":"#DIV/0!"}},{"$error":"#DIV/0!"},{"$error":"#DIV/0!"},{"$error":"#DIV/0!"},{"$error":"#DIV/0!"},{"$error":"#DIV/0!"},{"$error":"#DIV/0!"},{"$error":"#DIV/0!"},{"$error":"#DIV/0!"},{"$error":"#DIV/0!"},{"$error":"#DIV/0!"},{"$error":"#DIV/0!"},{"$error":"#DIV/0!"},{"$error":"#DIV/0!"},{"$error":"#DIV/0!"},{"$error":"#DIV/0!"},{"$error":"#DIV/0!"},{"$error":"#DIV/0!"},{"$error":"#DIV/0!"}]
[]
[null,{"$f":"title254","v":"Sub-total of briquette transportation to market"},{"$f":"COST_RES1!K49","v":0},{"$f":"C67*(1+D74+D75)","v":0},{"$f":"D67*(1+E74+E75)","v":0},0,0,0,0,0,0,0,0,0,0,0,0,0,0,0,0,0,0]
[]
[null,{"$f":"title255","v":"Total operation and maintenance cost (USD)"},{"$f":"C40+C56+C61+C63+C65+C67","v":{"$error":"#DIV/0!"}},{"$f":"D40+D56+D61+D63+D65+D67","v":{"$error":"#DIV/0!"}},{"$error":"#DIV/0!"},{"$error":"#DIV/0!"},{"$error":"#DIV/0!"},{"$error":"#DIV/0!"},{"$error":"#DIV/0!"},{"$error":"#DIV/0!"},{"$error":"#DIV/0!"},{"$error":"#DIV/0!"},{"$error":"#DIV/0!"},{"$error":"#DIV/0!"},{"$error":"#DIV/0!"},{"$error":"#DIV/0!"},{"$error":"#DIV/0!"},{"$error":"#DIV/0!"},{"$error":"#DIV/0!"},{"$error":"#DIV/0!"},{"$error":"#DIV/0!"},{"$error":"#DIV/0!"},{"$error":"#DIV/0!"}]
[null,{"$f":"title256","v":"Operation and maintenance cost (USD/kg of briquette) without loan interest"},{"$f":"C69/(C14*1000)","v":{"$error":"#DIV/0!"}},{"$error":"#DIV/0!"},{"$error":"#DIV/0!"},{"$error":"#DIV/0!"},{"$error":"#DIV/0!"},{"$error":"#DIV/0!"},{"$error":"#DIV/0!"},{"$error":"#DIV/0!"},{"$error":"#DIV/0!"},{"$error":"#DIV/0!"},{"$error":"#DIV/0!"},{"$error":"#DIV/0!"},{"$error":"#DIV/0!"},{"$error":"#DIV/0!"},{"$error":"#DIV/0!"},{"$error":"#DIV/0!"},{"$error":"#DIV/0!"},{"$error":"#DIV/0!"},{"$error":"#DIV/0!"},{"$error":"#DIV/0!"},{"$error":"#DIV/0!"}]
[]
[{"$f":"title164","v":"Financial parameters"}]
[null,{"$f":"title209","v":"Operating Year"},{"$f":"title230","v":"Appraisal"},1,2,3,4,5,6,7,8,9,10,11,12,13,14,15,16,17,18,19,20]
[null,{"$f":"title257","v":"Annual change in raw material cost (%)"},null,0,{"$f":"D74","v":0},{"$f":"E74","v":0},0,0,0,0,0,0,0,0,0,0,0,0,0,0,0,{"$f":"U74","v":0},{"$f":"V74","v":0}]
[null,{"$f":"title258","v":"Inflation rate (%)"},null,{"$f":"COST_RES1!J12","v":0},{"$f":"D75","v":0},0,0,0,0,0,0,0,0,0,0,0,0,0,0,0,0,{"$f":"U75","v":0},{"$f":"V75","v":0}]
[null,{"$f":"title165&\" (%)\"","v":"Discount rate (%)"},{"$f":"COST_RES1!J9","v":0}]
[null,{"$f":"title166&\" (%)\"","v":"Loan ratio (%)"},{"$f":"COST_RES1!J10","v":0}]
[]
[null,{"$f":"title259","v":"Loan without policy"},{"$f":"title230","v":"Appraisal"},1,2,3,4,5,6,7,8,9,10,11,12,13,14,15,16,17,18,19,20]
[null,{"$f":"title260","v":"Loan amount (USD)"},{"$f":"C77*(C34)","v":0}]
[null,{"$f":"title167&\" (%)\"","v":"Loan interest rate (%)"},{"$f":"COST_RES1!J11","v":0}]
[null,{"$f":"title261","v":"Loan term (years)"},{"$f":"COST_RES1!M9","v":0}]
[null,{"$f":"title262","v":"Loan payment (USD/month)"},{"$f":"(PMT($C$81/12,(12*$C$82),$C$80))","v":{"$error":"#NUM!"}}]
[null,{"$f":"title263","v":"Loan payment (USD/year)"},null,{"$f":"IF(D73<=$C$82,$C$83*12,0)","v":0},{"$f":"IF(E73<$C$82,$C$83*12,IF(E73=$C$82,$C$83*12,0))","v":0},{"$f":"IF(F73<$C$82,$C$83*12,IF(F73=$C$82,$C$83*12,0))","v":0},0,0,0,0,0,0,0,0,0,0,0,0,0,0,0,0,0]
[null,{"$f":"title264","v":"Total loan payment (USD)"},{"$f":"SUM(D84:W84)","v":0}]
[null,{"$f":"title265","v":"Loan interest payment (USD)"},{"$f":"C85+C80","v":0},{"$f":"title266","v":"Average loan interest payment for project lifetime"},null,null,{"$f":"C86/C25","v":0},{"$f":"title267","v":"USD per year"}]
[]
[{"$f":"title268","v":"Income tax analysis"}]
[null,{"$f":"title209","v":"Operating Year"},{"$f":"title230","v":"Appraisal"},1,2,3,4,5,6,7,8,9,10,11,12,13,14,15,16,17,18,19,20]
[null,{"$f":"title269","v":"Effective income tax rate (%)"},{"$f":"+'Data entry needs'!$AD$115","v":0},{"$f":"C90","v":0},{"$f":"D90","v":0},0,0,0,0,0,0,0,0,0,0,0,0,0,0,0,0,0,0]
[null,{"$f":"title270","v":"Income tax (USD)"},null,{"$f":"IF(D115<0,0,D90*D115)","v":{"$error":"#DIV/0!"}},{"$error":"#DIV/0!"},{"$error":"#DIV/0!"},{"$error":"#DIV/0!"},{"$error":"#DIV/0!"},{"$error":"#DIV/0!"},{"$error":"#DIV/0!"},{"$error":"#DIV/0!"},{"$error":"#DIV/0!"},{"$error":"#DIV/0!"},{"$error":"#DIV/0!"},{"$error":"#DIV/0!"},{"$error":"#DIV/0!"},{"$error":"#DIV/0!"},{"$error":"#DIV/0!"},{"$error":"#DIV/0!"},{"$error":"#DIV/0!"},{"$error":"#DIV/0!"},{"$error":"#DIV/0!"},{"$error":"#DIV/0!"}]
[null,{"$f":"title271","v":"Total income tax payment (USD)"},{"$f":"SUM(D91:W91)","v":{"$error":"#DIV/0!"}},{"$f":"title458","v":"Average income tax payment "},null,{"$f":"C92/C25","v":{"$error":"#DIV/0!"}},{"$f":"title267","v":"USD per year"}]
[]
[{"$f":"title272","v":"Depreciation"}]
[null,{"$f":"title209","v":"Operating Year"},{"$f":"title230","v":"Appraisal"},1,2,3,4,5,6,7,8,9,10,11,12,13,14,15,16,17,18,19,20]
[null,{"$f":"title273","v":"Depreciation method"},{"$f":"title275","v":"Straight-line"}]
[null,{"$f":"title274","v":"Total depreciation (USD)"},null,{"$f":"COST_RES1!K64","v":0},{"$f":"D97","v":0},{"$f":"E97","v":0},0,0,0,0,0,0,0,0,0,0,0,0,0,0,0,0,0]
[]
[{"$f":"title276","v":"Base case project summary"}]
[{"$f":"title277","v":"Summary of this project - Before Tax"}]
[null,{"$f":"title209","v":"Operating Year"},{"$f":"title230","v":"Appraisal"},1,2,3,4,5,6,7,8,9,10,11,12,13,14,15,16,17,18,19,20]
[null,{"$f":"title278","v":"Total revenue (USD)"},null,{"$f":"D15*1000*D18","v":0},{"$f":"E15*1000*E18","v":0},0,0,0,0,0,0,0,0,0,0,0,0,0,0,0,0,0,0]
[null,{"$f":"title228","v":"Total capital cost (USD)"},{"$f":"-(C34-C80)","v":0}]
[null,{"$f":"title279","v":"Total operating and maintenance cost (USD)"},null,{"$f":"-D69+D63","v":{"$error":"#DIV/0!"}},{"$error":"#DIV/0!"},{"$error":"#DIV/0!"},{"$error":"#DIV/0!"},{"$error":"#DIV/0!"},{"$error":"#DIV/0!"},{"$error":"#DIV/0!"},{"$error":"#DIV/0!"},{"$error":"#DIV/0!"},{"$error":"#DIV/0!"},{"$error":"#DIV/0!"},{"$error":"#DIV/0!"},{"$error":"#DIV/0!"},{"$error":"#DIV/0!"},{"$error":"#DIV/0!"},{"$error":"#DIV/0!"},{"$error":"#DIV/0!"},{"$error":"#DIV/0!"},{"$error":"#DIV/0!"},{"$error":"#DIV/0!"}]
[null,{"$f":"title280","v":"Loan payment (USD)"},null,{"$f":"D84","v":0},{"$f":"E84","v":0},0,0,0,0,0,0,0,0,0,0,0,0,0,0,0,0,0,0]
[null,{"$f":"title281","v":"Cash flow - before tax (USD)"},{"$f":"SUM(C102:C105)","v":0},{"$error":"#DIV/0!"},{"$error":"#DIV/0!"},{"$error":"#DIV/0!"},{"$error":"#DIV/0!"},{"$error":"#DIV/0!"},{"$error":"#DIV/0!"},{"$error":"#DIV/0!"},{"$error":"#DIV/0!"},{"$error":"#DIV/0!"},{"$error":"#DIV/0!"},{"$error":"#DIV/0!"},{"$error":"#DIV/0!"},{"$error":"#DIV/0!"},{"$error":"#DIV/0!"},{"$error":"#DIV/0!"},{"$error":"#DIV/0!"},{"$error":"#DIV/0!"},{"$error":"#DIV/0!"},{"$error":"#DIV/0!"},{"$error":"#DIV/0!"}]
[null,{"$f":"title282","v":"Average revenue (USD)"}]
[]
[{"$f":"title283","v":"Summary of this project - After Tax"}]
[null,{"$f":"title209","v":"Operating Year"},{"$f":"title230","v":"Appraisal"},1,2,3,4,5,6,7,8,9,10,11,12,13,14,15,16,17,18,19,20]
[null,{"$f":"B102","v":"Total revenue (USD)"},{"$f":"C102","v":0},{"$f":"D102","v":0},0,0,0,0,0,0,0,0,0,0,0,0,0,0,0,0,0,0,0]
[null,{"$f":"title279","v":"Total operating and maintenance cost (USD)"},null,{"$f":"-D69+D63","v":{"$error":"#DIV/0!"}},{"$error":"#DIV/0!"},{"$error":"#DIV/0!"},{"$error":"#DIV/0!"},{"$error":"#DIV/0!"},{"$error":"#DIV/0!"},{"$error":"#DIV/0!"},{"$error":"#DIV/0!"},{"$error":"#DIV/0!"},{"$error":"#DIV/0!"},{"$error":"#DIV/0!"},{"$error":"#DIV/0!"},{"$error":"#DIV/0!"},{"$error":"#DIV/0!"},{"$error":"#DIV/0!"},{"$error":"#DIV/0!"},{"$error":"#DIV/0!"},{"$error":"#DIV/0!"},{"$error":"#DIV/0!"},{"$error":"#DIV/0!"}]
[null,{"$f":"title280","v":"Loan payment (USD)"},null,{"$f":"$G$86","v":0},{"$f":"$G$86","v":0},0,0,0,0,0,0,0,0,0,0,0,0,0,0,0,0,0,0]
[null,{"$f":"title284","v":"Depreciation of fixed costs (USD)"},null,{"$f":"-D63","v":0},{"$f":"-E63","v":0},0,0,0,0,0,0,0,0,0,0,0,0,0,0,0,0,0,0]
[null,{"$f":"title285","v":"Net profit - before tax (USD) for income tax calculation"},{"$f":"SUM(C111:C114)","v":0},{"$f":"SUM(D111:D114)","v":{"$error":"#DIV/0!"}},{"$f":"SUM(E111:E114)","v":{"$error":"#DIV/0!"}},{"$error":"#DIV/0!"},{"$error":"#DIV/0!"},{"$error":"#DIV/0!"},{"$error":"#DIV/0!"},{"$error":"#DIV/0!"},{"$error":"#DIV/0!"},{"$error":"#DIV/0!"},{"$error":"#DIV/0!"},{"$error":"#DIV/0!"},{"$error":"#DIV/0!"},{"$error":"#DIV/0!"},{"$error":"#DIV/0!"},{"$error":"#DIV/0!"},{"$error":"#DIV/0!"},{"$error":"#DIV/0!"},{"$error":"#DIV/0!"},{"$error":"#DIV/0!"},{"$error":"#DIV/0!"}]
[null,{"$f":"title286","v":"Income tax"},null,{"$f":"IF(D115>0,-D91,0)","v":{"$error":"#DIV/0!"}},{"$error":"#DIV/0!"},{"$error":"#DIV/0!"},{"$error":"#DIV/0!"},{"$error":"#DIV/0!"},{"$error":"#DIV/0!"},{"$error":"#DIV/0!"},{"$error":"#DIV/0!"},{"$error":"#DIV/0!"},{"$error":"#DIV/0!"},{"$error":"#DIV/0!"},{"$error":"#DIV/0!"},{"$error":"#DIV/0!"},{"$error":"#DIV/0!"},{"$error":"#DIV/0!"},{"$error":"#DIV/0!"},{"$error":"#DIV/0!"},{"$error":"#DIV/0!"},{"$error":"#DIV/0!"},{"$error":"#DIV/0!"}]
[null,{"$f":"title287","v":"Cash flow - after tax (USD)"},{"$f":"C103","v":0},{"$f":"D106+D116","v":{"$error":"#DIV/0!"}},{"$f":"E106+E116","v":{"$error":"#DIV/0!"}},{"$error":"#DIV/0!"},{"$error":"#DIV/0!"},{"$error":"#DIV/0!"},{"$error":"#DIV/0!"},{"$error":"#DIV/0!"},{"$error":"#DIV/0!"},{"$error":"#DIV/0!"},{"$error":"#DIV/0!"},{"$error":"#DIV/0!"},{"$error":"#DIV/0!"},{"$error":"#DIV/0!"},{"$error":"#DIV/0!"},{"$error":"#DIV/0!"},{"$error":"#DIV/0!"},{"$error":"#DIV/0!"},{"$error":"#DIV/0!"},{"$error":"#DIV/0!"},{"$f":"W106+W116","v":{"$error":"#DIV/0!"}}]
[]
[{"$f":"title288","v":"Cumulative value of Net Profit"}]
[null,{"$f":"title209","v":"Operating Year"},{"$f":"title230","v":"Appraisal"},1,2,3,4,5,6,7,8,9,10,11,12,13,14,15,16,17,18,19,20]
[null,{"$f":"title289","v":"Cumulative value of net profit - before tax"},{"$f":"C106","v":0},{"$f":"C121+(D106)","v":{"$error":"#DIV/0!"}},{"$error":"#DIV/0!"},{"$error":"#DIV/0!"},{"$error":"#DIV/0!"},{"$error":"#DIV/0!"},{"$error":"#DIV/0!"},{"$error":"#DIV/0!"},{"$error":"#DIV/0!"},{"$error":"#DIV/0!"},{"$error":"#DIV/0!"},{"$error":"#DIV/0!"},{"$error":"#DIV/0!"},{"$error":"#DIV/0!"},{"$error":"#DIV/0!"},{"$error":"#DIV/0!"},{"$error":"#DIV/0!"},{"$error":"#DIV/0!"},{"$error":"#DIV/0!"},{"$error":"#DIV/0!"},{"$error":"#DIV/0!"}]
[null,{"$f":"title290","v":"Cumulative value of net profit - after tax"},{"$f":"C117","v":0},{"$f":"C122+(D117)","v":{"$error":"#DIV/0!"}},{"$error":"#DIV/0!"},{"$error":"#DIV/0!"},{"$error":"#DIV/0!"},{"$error":"#DIV/0!"},{"$error":"#DIV/0!"},{"$error":"#DIV/0!"},{"$error":"#DIV/0!"},{"$error":"#DIV/0!"},{"$error":"#DIV/0!"},{"$error":"#DIV/0!"},{"$error":"#DIV/0!"},{"$error":"#DIV/0!"},{"$error":"#DIV/0!"},{"$error":"#DIV/0!"},{"$error":"#DIV/0!"},{"$error":"#DIV/0!"},{"$error":"#DIV/0!"},{"$error":"#DIV/0!"},{"$error":"#DIV/0!"}]
[]
[{"$f":"title291","v":"Financial analysis results"}]
[]
[null,{"$f":"title292","v":"Net present value (NPV) (USD) - before tax"},{"$f":"NPV(C76,D106:W106)+C106","v":{"$error":"#DIV/0!"}}]
[null,{"$f":"title293","v":"Internal rate of return (IRR) (%) - before tax"},{"$f":"IF(C126<0,title459,IF(TIR_cell=title519,IRR(C106:W106,0.001),MIRR(C106:W106,C81,C76)))","v":{"$error":"#DIV/0!"}}]
[null,{"$f":"title294","v":"Payback period (years)"},{"$f":"title298","v":"Please see Figure of the cumulative value of net profit - before tax"}]
[]
[]
[null,{"$f":"title295","v":"Net present value (NPV) (USD) - after tax"},{"$f":"NPV(C76,D117:W117)+C117","v":{"$error":"#DIV/0!"}}]
[null,{"$f":"title296","v":"Internal rate of return (IRR) (%) - after tax"},{"$f":"IF(C131<0,title459,MIRR(C117:W117,C81,0%))","v":{"$error":"#DIV/0!"}}]
[null,{"$f":"title294","v":"Payback period (years)"},{"$f":"title299","v":"Please see Figure of the cumulative value of net profit - after tax"}]
[null,{"$f":"title297","v":"Total Income tax payment of project lifetime"},{"$f":"SUM(D116:W116)","v":{"$error":"#DIV/0!"}}]

{"sheet":"FA4000_RURAL_RES1","index":17,"n_rows":134,"n_cols":23,"rows_kept":134,"cut":false,"hidden":true,"merged":[[1,1,1,13]]}
[]
[null,{"$f":"title302","v":"FINANCIAL ANALYSIS OF BIOMASS BRIQUETTING 4000 KG/HOUR"}]
[]
[{"$f":"title208","v":"Revenues of biomass briquetting system"}]
[null,{"$f":"title209","v":"Operating Year"},0,1,2,3,4,5,6,7,8,9,10,11,12,13,14,15,16,17,18,19,20]
[]
[null,{"$f":"title210","v":"Briquette production capacity (tons per year)"},{"$f":"COST_RES1!L29","v":0},{"$f":"C7","v":0},{"$f":"D7","v":0},0,0,0,0,0,0,0,0,0,0,0,0,0,0,0,0,0,0]
[null,null,null,null,null,null,null,null," "]
[null,{"$f":"title211","v":"Efficiency % of briquetting machine"},{"$f":"COST_RES1!G12","v":0},{"$f":"C9","v":0},{"$f":"D9","v":0},0,0,0,0,0,0,0,0,0,0,0,0,0,0,0,0,0,0]
[]
[null,{"$f":"title212","v":"Operating hours per year"},{"$f":"COST_RES1!M28","v":0},{"$f":"C11","v":0},{"$f":"D11","v":0},0,0,0,0,0,0,0,0,0,0,0,0,0,0,0,0,0,0]
[null,{"$f":"title213","v":"Capacity utilization factor"},{"$f":"C11/8760","v":0},{"$f":"D11/8760","v":0},0,0,0,0,0,0,0,0,0,0,0,0,0,0,0,0,0,0,0]
[]
[null,{"$f":"title214","v":"Briquette production (tons per year)"},{"$f":"C7","v":0},{"$f":"D7","v":0},0,0,0,0,0,0,0,0,0,0,0,0,0,0,0,0,0,0,0]
[null,{"$f":"title215","v":"Total briquette sell to customers (tons per year)"},{"$f":"SUM(C14:C14)","v":0},{"$f":"SUM(D14:D14)","v":0},0,0,0,0,0,0,0,0,0,0,0,0,0,0,0,0,0,0,0]
[]
[null,{"$f":"title216","v":"Price of briquette (USD/kg)"},{"$f":"SUM(C18:C18)","v":0},{"$f":"SUM(D18:D18)","v":0},0,0,0,0,0,0,0,0,0,0,0,0,0,0,0,0,0,0,0]
[null,{"$f":"title217","v":"Market price of briquette pay by consumers (USD/kg)"},{"$f":"+'Energy Demand'!E20","v":0},{"$f":"C18*(1+D19)","v":0},0,0,0,0,0,0,0,0,0,0,0,0,0,0,0,0,0,0,0]
[null,{"$f":"title218","v":"Increasing rate of price of briquette (%)"},{"$f":"+'Data entry needs'!$AD$114","v":0},{"$f":"C19","v":0},{"$f":"D19","v":0},0,0,0,0,0,0,0,0,0,0,0,0,0,0,0,0,0,0]
[]
[null,{"$f":"title219","v":"Total income of briquette (USD per year)"},{"$f":"C15*C18*1000","v":0},{"$f":"D15*D18*1000","v":0},0,0,0,0,0,0,0,0,0,0,0,0,0,0,0,0,0,0,0]
[]
[null,{"$f":"title220","v":"Lifespan of civil work (years)"},{"$f":"COST_RES1!E61","v":10}]
[null,{"$f":"title221","v":"Lifespan of briquette system (years)"},{"$f":"COST_RES1!E60","v":10}]
[null,{"$f":"title222","v":"Project life time (years)"},20]
[]
[{"$f":"title223","v":"Capital and operating cost of biomass briquette system "}]
[]
[null,null,{"$f":"title230","v":"Appraisal"},{"$f":"title231","v":"Project lifetime"},{"$f":"title232","v":"Investment per year"}]
[null,{"$f":"title224","v":"Direct capital cost (USD)"}]
[null,{"$f":"title225","v":"Equipments"},{"$f":"D31*E31","v":0},{"$f":"$C$25","v":20},{"$f":"COST_RES1!L60/D31","v":0}]
[null,{"$f":"title226","v":"Building"},{"$f":"D32*E32","v":0},{"$f":"$C$25","v":20},{"$f":"COST_RES1!L61/D32","v":0}]
[null,{"$f":"title227","v":"Installation"},{"$f":"D33*E33","v":0},{"$f":"$C$25","v":20},{"$f":"COST_RES1!L62/D33","v":0}]
[null,{"$f":"title228","v":"Total capital cost (USD)"},{"$f":"SUM(C31:C33)","v":0},null,{"$f":"SUM(E31:E33)","v":0}]
[null,{"$f":"title229","v":"Capital cost (USD/kg of briquette)"},{"$f":"C34/(C14*1000*C25)","v":{"$error":"#DIV/0!"}}]
[]
[]
[null,{"$f":"title209","v":"Operating Year"},{"$f":"title230","v":"Appraisal"},1,2,3,4,5,6,7,8,9,10,11,12,13,14,15,16,17,18,19,20]
[null,{"$f":"title233","v":"Annual operating and maintenance cost "}]
[null,{"$f":"title234","v":"Sub-total material cost (USD)"},{"$f":"C41+C49+C51+C54","v":{"$error":"#DIV/0!"}},{"$f":"D41+D49+D51+D54","v":{"$error":"#DIV/0!"}},{"$error":"#DIV/0!"},{"$error":"#DIV/0!"},{"$error":"#DIV/0!"},{"$error":"#DIV/0!"},{"$error":"#DIV/0!"},{"$error":"#DIV/0!"},{"$error":"#DIV/0!"},{"$error":"#DIV/0!"},{"$error":"#DIV/0!"},{"$error":"#DIV/0!"},{"$error":"#DIV/0!"},{"$error":"#DIV/0!"},{"$error":"#DIV/0!"},{"$error":"#DIV/0!"},{"$error":"#DIV/0!"},{"$error":"#DIV/0!"},{"$error":"#DIV/0!"},{"$error":"#DIV/0!"},{"$error":"#DIV/0!"}]
[null,{"$f":"title235","v":"Biomass cost (USD/year)"},{"$f":"C42*C43","v":{"$error":"#DIV/0!"}},{"$f":"D42*D43","v":{"$error":"#DIV/0!"}},{"$error":"#DIV/0!"},{"$error":"#DIV/0!"},{"$error":"#DIV/0!"},{"$error":"#DIV/0!"},{"$error":"#DIV/0!"},{"$error":"#DIV/0!"},{"$error":"#DIV/0!"},{"$error":"#DIV/0!"},{"$error":"#DIV/0!"},{"$error":"#DIV/0!"},{"$error":"#DIV/0!"},{"$error":"#DIV/0!"},{"$error":"#DIV/0!"},{"$error":"#DIV/0!"},{"$error":"#DIV/0!"},{"$error":"#DIV/0!"},{"$error":"#DIV/0!"},{"$error":"#DIV/0!"},{"$error":"#DIV/0!"}]
[null,{"$f":"title236","v":"Biomass consumption (ton per year)"},{"$f":"C14/COST_RES1!$G$12","v":{"$error":"#DIV/0!"}},{"$f":"D14/COST_RES1!$G$12","v":{"$error":"#DIV/0!"}},{"$f":"E14/COST_RES1!$G$12","v":{"$error":"#DIV/0!"}},{"$f":"F14/COST_RES1!$G$12","v":{"$error":"#DIV/0!"}},{"$f":"G14/COST_RES1!$G$12","v":{"$error":"#DIV/0!"}},{"$f":"H14/COST_RES1!$G$12","v":{"$error":"#DIV/0!"}},{"$f":"I14/COST_RES1!$G$12","v":{"$error":"#DIV/0!"}},{"$f":"J14/COST_RES1!$G$12","v":{"$error":"#DIV/0!"}},{"$f":"K14/COST_RES1!$G$12","v":{"$error":"#DIV/0!"}},{"$f":"L14/COST_RES1!$G$12","v":{"$error":"#DIV/0!"}},{"$f":"M14/COST_RES1!$G$12","v":{"$error":"#DIV/0!"}},{"$f":"N14/COST_RES1!$G$12","v":{"$error":"#DIV/0!"}},{"$f":"O14/COST_RES1!$G$12","v":{"$error":"#DIV/0!"}},{"$f":"P14/COST_RES1!$G$12","v":{"$error":"#DIV/0!"}},{"$f":"Q14/COST_RES1!$G$12","v":{"$error":"#DIV/0!"}},{"$f":"R14/COST_RES1!$G$12","v":{"$error":"#DIV/0!"}},{"$f":"S14/COST_RES1!$G$12","v":{"$error":"#DIV/0!"}},{"$f":"T14/COST_RES1!$G$12","v":{"$error":"#DIV/0!"}},{"$f":"U14/COST_RES1!$G$12","v":{"$error":"#DIV/0!"}},{"$f":"V14/COST_RES1!$G$12","v":{"$error":"#DIV/0!"}},{"$f":"W14/COST_RES1!$G$12","v":{"$error":"#DIV/0!"}}]
[null,{"$f":"title237","v":"Biomass price (USD/ton)"},{"$f":"SUM(C44:C45)","v":0},{"$f":"SUM(D44:D45)","v":0},0,0,0,0,0,0,0,0,0,0,0,0,0,0,0,0,0,0,0]
[null,{"$f":"title238","v":"Biomass cost of collection (USD/ton)"},{"$f":"COST_RES1!E33","v":0},{"$f":"C44*(1+D74+D75)","v":0},{"$f":"D44*(1+E74+E75)","v":0},0,0,0,0,0,0,0,0,0,0,0,0,0,0,0,0,0,0]
[null,{"$f":"title239","v":"Biomass transportation cost (USD/ton)"},{"$f":"C46*C47","v":0},{"$f":"D46*D47","v":0},0,0,0,0,0,0,0,0,0,0,0,0,0,0,0,0,0,0,0]
[null,{"$f":"title240","v":"Biomass from farm to plant (USD/ton/km)"},{"$f":"COST_RES1!E48","v":0},{"$f":"C46*(1+D74+D75)","v":0},{"$f":"D46*(1+E74+E75)","v":0},0,0,0,0,0,0,0,0,0,0,0,0,0,0,0,0,0,0]
[null,{"$f":"title241","v":"Transportation distant (km)"},{"$f":"COST_RES1!L48","v":0},{"$f":"C47","v":0},{"$f":"D47","v":0},0,0,0,0,0,0,0,0,0,0,0,0,0,0,{"$f":"S47","v":0},{"$f":"T47","v":0},{"$f":"U47","v":0},{"$f":"V47","v":0}]
[]
[null,{"$f":"title246","v":"Water cost (USD/year)"},{"$f":"COST_RES1!M35","v":0},{"$f":"C49*(1+D74+D75)","v":0},{"$f":"D49*(1+E74+E75)","v":0},0,0,0,0,0,0,0,0,0,0,0,0,0,0,0,0,0,0]
[]
[null,{"$f":"title242","v":"Chemical cost (USD/year)"},{"$f":"C52*C53","v":0},{"$f":"D52*D53","v":0},0,0,0,0,0,0,0,0,0,0,0,0,0,0,0,0,0,0,0]
[null,{"$f":"title243","v":"Chemical consumption (tons per year)"},{"$f":"+COST_RES1!$L$34","v":0},{"$f":"+COST_RES1!$L$34","v":0},{"$f":"+COST_RES1!$L$34","v":0},{"$f":"+COST_RES1!$L$34","v":0},{"$f":"+COST_RES1!$L$34","v":0},{"$f":"+COST_RES1!$L$34","v":0},{"$f":"+COST_RES1!$L$34","v":0},{"$f":"+COST_RES1!$L$34","v":0},{"$f":"+COST_RES1!$L$34","v":0},{"$f":"+COST_RES1!$L$34","v":0},{"$f":"+COST_RES1!$L$34","v":0},{"$f":"+COST_RES1!$L$34","v":0},{"$f":"+COST_RES1!$L$34","v":0},{"$f":"+COST_RES1!$L$34","v":0},{"$f":"+COST_RES1!$L$34","v":0},{"$f":"+COST_RES1!$L$34","v":0},{"$f":"+COST_RES1!$L$34","v":0},{"$f":"+COST_RES1!$L$34","v":0},{"$f":"+COST_RES1!$L$34","v":0},{"$f":"+COST_RES1!$L$34","v":0},{"$f":"+COST_RES1!$L$34","v":0}]
[null,{"$f":"title244","v":"Chemical price (USD/ton)"},{"$f":"+'Data entry needs'!$D$20","v":0},{"$f":"+C53","v":0},{"$f":"+D53","v":0},0,0,0,0,0,0,0,0,0,0,0,0,0,0,0,0,0,0]
[null,{"$f":"title245","v":"Electricity cost (USD)"},{"$f":"COST_RES1!M36","v":0},{"$f":"C54*(1+D74+D75)","v":0},{"$f":"D54*(1+E74+E75)","v":0},0,0,0,0,0,0,0,0,0,0,0,0,0,0,0,0,0,0]
[]
[null,{"$f":"title247","v":"Sub-total operating cost (USD)"},{"$f":"C57+C59+C60","v":{"$error":"#DIV/0!"}},{"$f":"D57+D59+D60","v":{"$error":"#DIV/0!"}},{"$error":"#DIV/0!"},{"$error":"#DIV/0!"},{"$error":"#DIV/0!"},{"$error":"#DIV/0!"},{"$error":"#DIV/0!"},{"$error":"#DIV/0!"},{"$error":"#DIV/0!"},{"$error":"#DIV/0!"},{"$error":"#DIV/0!"},{"$error":"#DIV/0!"},{"$error":"#DIV/0!"},{"$error":"#DIV/0!"},{"$error":"#DIV/0!"},{"$error":"#DIV/0!"},{"$error":"#DIV/0!"},{"$error":"#DIV/0!"},{"$error":"#DIV/0!"},{"$error":"#DIV/0!"},{"$error":"#DIV/0!"}]
[null,{"$f":"title248","v":"Labour cost (USD)"},{"$f":"COST_RES1!M44","v":0},{"$f":"C57*(1+D58)","v":0},0,0,0,0,0,0,0,0,0,0,0,0,0,0,0,0,0,0,0]
[null,"Annual change in  labour cost (%)",null,{"$f":"COST_RES1!M12","v":0},{"$f":"D58","v":0},{"$f":"E58","v":0},0,0,0,0,0,0,0,0,0,0,0,0,0,0,0,{"$f":"U58","v":0},0]
[null,{"$f":"title249","v":"Annual change in labour cost (%)"},{"$f":"COST_RES1!M70","v":0},{"$f":"C59","v":0},{"$f":"D59","v":0},0,0,0,0,0,0,0,0,0,0,0,0,0,0,0,0,0,0]
[null,{"$f":"title250","v":"General and administrative cost"},{"$f":"COST_RES1!M71","v":{"$error":"#DIV/0!"}},{"$f":"C60","v":{"$error":"#DIV/0!"}},{"$error":"#DIV/0!"},{"$error":"#DIV/0!"},{"$error":"#DIV/0!"},{"$error":"#DIV/0!"},{"$error":"#DIV/0!"},{"$error":"#DIV/0!"},{"$error":"#DIV/0!"},{"$error":"#DIV/0!"},{"$error":"#DIV/0!"},{"$error":"#DIV/0!"},{"$error":"#DIV/0!"},{"$error":"#DIV/0!"},{"$error":"#DIV/0!"},{"$error":"#DIV/0!"},{"$error":"#DIV/0!"},{"$error":"#DIV/0!"},{"$error":"#DIV/0!"},{"$error":"#DIV/0!"},{"$error":"#DIV/0!"}]
[null,{"$f":"title251","v":"Sub-total maintenance cost (USD)"},{"$f":"COST_RES1!M65","v":0},{"$f":"C61","v":0},0,0,0,0,0,0,0,0,0,0,0,0,0,0,0,0,0,0,0]
[]
[null,{"$f":"title252","v":"Sub-total of annual fixed costs"},{"$f":"+E34","v":0},{"$f":"C63","v":0},{"$f":"D63","v":0},0,0,0,0,0,0,0,0,0,0,0,0,0,0,0,0,0,0]
[]
[null,{"$f":"title253","v":"Sub-total of storage capacity"},{"$f":"COST_RES1!M56","v":{"$error":"#DIV/0!"}},{"$f":"C65","v":{"$error":"#DIV/0!"}},{"$f":"D65","v":{"$error":"#DIV/0!"}},{"$error":"#DIV/0!"},{"$error":"#DIV/0!"},{"$error":"#DIV/0!"},{"$error":"#DIV/0!"},{"$error":"#DIV/0!"},{"$error":"#DIV/0!"},{"$error":"#DIV/0!"},{"$error":"#DIV/0!"},{"$error":"#DIV/0!"},{"$error":"#DIV/0!"},{"$error":"#DIV/0!"},{"$error":"#DIV/0!"},{"$error":"#DIV/0!"},{"$error":"#DIV/0!"},{"$error":"#DIV/0!"},{"$error":"#DIV/0!"},{"$error":"#DIV/0!"},{"$error":"#DIV/0!"}]
[]
[null,{"$f":"title254","v":"Sub-total of briquette transportation to market"},{"$f":"COST_RES1!M49","v":0},{"$f":"C67*(1+D74+D75)","v":0},{"$f":"D67*(1+E74+E75)","v":0},0,0,0,0,0,0,0,0,0,0,0,0,0,0,0,0,0,0]
[]
[null,{"$f":"title255","v":"Total operation and maintenance cost (USD)"},{"$f":"C40+C56+C61+C63+C65+C67","v":{"$error":"#DIV/0!"}},{"$f":"D40+D56+D61+D63+D65+D67","v":{"$error":"#DIV/0!"}},{"$error":"#DIV/0!"},{"$error":"#DIV/0!"},{"$error":"#DIV/0!"},{"$error":"#DIV/0!"},{"$error":"#DIV/0!"},{"$error":"#DIV/0!"},{"$error":"#DIV/0!"},{"$error":"#DIV/0!"},{"$error":"#DIV/0!"},{"$error":"#DIV/0!"},{"$error":"#DIV/0!"},{"$error":"#DIV/0!"},{"$error":"#DIV/0!"},{"$error":"#DIV/0!"},{"$error":"#DIV/0!"},{"$error":"#DIV/0!"},{"$error":"#DIV/0!"},{"$error":"#DIV/0!"},{"$error":"#DIV/0!"}]
[null,{"$f":"title256","v":"Operation and maintenance cost (USD/kg of briquette) without loan interest"},{"$f":"C69/(C14*1000)","v":{"$error":"#DIV/0!"}},{"$error":"#DIV/0!"},{"$error":"#DIV/0!"},{"$error":"#DIV/0!"},{"$error":"#DIV/0!"},{"$error":"#DIV/0!"},{"$error":"#DIV/0!"},{"$error":"#DIV/0!"},{"$error":"#DIV/0!"},{"$error":"#DIV/0!"},{"$error":"#DIV/0!"},{"$error":"#DIV/0!"},{"$error":"#DIV/0!"},{"$error":"#DIV/0!"},{"$error":"#DIV/0!"},{"$error":"#DIV/0!"},{"$error":"#DIV/0!"},{"$error":"#DIV/0!"},{"$error":"#DIV/0!"},{"$error":"#DIV/0!"},{"$error":"#DIV/0!"}]
[]
[{"$f":"title164","v":"Financial parameters"}]
[null,{"$f":"title209","v":"Operating Year"},{"$f":"title230","v":"Appraisal"},1,2,3,4,5,6,7,8,9,10,11,12,13,14,15,16,17,18,19,20]
[null,{"$f":"title257","v":"Annual change in raw material cost (%)"},null,0,{"$f":"D74","v":0},{"$f":"E74","v":0},0,0,0,0,0,0,0,0,0,0,0,0,0,0,0,{"$f":"U74","v":0},{"$f":"V74","v":0}]
[null,{"$f":"title258","v":"Inflation rate (%)"},null,{"$f":"COST_RES1!J12","v":0},{"$f":"D75","v":0},0,0,0,0,0,0,0,0,0,0,0,0,0,0,0,0,{"$f":"U75","v":0},{"$f":"V75","v":0}]
[null,{"$f":"title165&\" (%)\"","v":"Discount rate (%)"},{"$f":"COST_RES1!J9","v":0}]
[null,{"$f":"title166&\" (%)\"","v":"Loan ratio (%)"},{"$f":"COST_RES1!J10","v":0}]
[]
[null,{"$f":"title259","v":"Loan without policy"},{"$f":"title230","v":"Appraisal"},1,2,3,4,5,6,7,8,9,10,11,12,13,14,15,16,17,18,19,20]
[null,{"$f":"title260","v":"Loan amount (USD)"},{"$f":"C77*(C34)","v":0}]
[null,{"$f":"title167&\" (%)\"","v":"Loan interest rate (%)"},{"$f":"COST_RES1!J11","v":0}]
[null,{"$f":"title261","v":"Loan term (years)"},{"$f":"COST_RES1!M9","v":0}]
[null,{"$f":"title262","v":"Loan payment (USD/month)"},{"$f":"(PMT($C$81/12,(12*$C$82),$C$80))","v":{"$error":"#NUM!"}}]
[null,{"$f":"title263","v":"Loan payment (USD/year)"},null,{"$f":"IF(D73<=$C$82,$C$83*12,0)","v":0},{"$f":"IF(E73<$C$82,$C$83*12,IF(E73=$C$82,$C$83*12,0))","v":0},{"$f":"IF(F73<$C$82,$C$83*12,IF(F73=$C$82,$C$83*12,0))","v":0},0,0,0,0,0,0,0,0,0,0,0,0,0,0,0,0,0]
[null,{"$f":"title264","v":"Total loan payment (USD)"},{"$f":"SUM(D84:W84)","v":0}]
[null,{"$f":"title265","v":"Loan interest payment (USD)"},{"$f":"C85+C80","v":0},{"$f":"title266","v":"Average loan interest payment for project lifetime"},null,null,{"$f":"C86/C25","v":0},{"$f":"title267","v":"USD per year"}]
[]
[{"$f":"title268","v":"Income tax analysis"}]
[null,{"$f":"title209","v":"Operating Year"},{"$f":"title230","v":"Appraisal"},1,2,3,4,5,6,7,8,9,10,11,12,13,14,15,16,17,18,19,20]
[null,{"$f":"title269","v":"Effective income tax rate (%)"},{"$f":"+'Data entry needs'!$AD$115","v":0},{"$f":"C90","v":0},{"$f":"D90","v":0},0,0,0,0,0,0,0,0,0,0,0,0,0,0,0,0,0,0]
[null,{"$f":"title270","v":"Income tax (USD)"},null,{"$f":"IF(D115<0,0,D90*D115)","v":{"$error":"#DIV/0!"}},{"$error":"#DIV/0!"},{"$error":"#DIV/0!"},{"$error":"#DIV/0!"},{"$error":"#DIV/0!"},{"$error":"#DIV/0!"},{"$error":"#DIV/0!"},{"$error":"#DIV/0!"},{"$error":"#DIV/0!"},{"$error":"#DIV/0!"},{"$error":"#DIV/0!"},{"$error":"#DIV/0!"},{"$error":"#DIV/0!"},{"$error":"#DIV/0!"},{"$error":"#DIV/0!"},{"$error":"#DIV/0!"},{"$error":"#DIV/0!"},{"$error":"#DIV/0!"},{"$error":"#DIV/0!"},{"$error":"#DIV/0!"}]
[null,{"$f":"title271","v":"Total income tax payment (USD)"},{"$f":"SUM(D91:W91)","v":{"$error":"#DIV/0!"}},{"$f":"title458","v":"Average income tax payment "},null,{"$f":"C92/C25","v":{"$error":"#DIV/0!"}},{"$f":"title267","v":"USD per year"}]
[]
[{"$f":"title272","v":"Depreciation"}]
[null,{"$f":"title209","v":"Operating Year"},{"$f":"title230","v":"Appraisal"},1,2,3,4,5,6,7,8,9,10,11,12,13,14,15,16,17,18,19,20]
[null,{"$f":"title273","v":"Depreciation method"},{"$f":"title275","v":"Straight-line"}]
[null,{"$f":"title274","v":"Total depreciation (USD)"},null,{"$f":"COST_RES1!M64","v":0},{"$f":"D97","v":0},{"$f":"E97","v":0},0,0,0,0,0,0,0,0,0,0,0,0,0,0,0,0,0]
[]
[{"$f":"title276","v":"Base case project summary"}]
[{"$f":"title277","v":"Summary of this project - Before Tax"}]
[null,{"$f":"title209","v":"Operating Year"},{"$f":"title230","v":"Appraisal"},1,2,3,4,5,6,7,8,9,10,11,12,13,14,15,16,17,18,19,20]
[null,{"$f":"title278","v":"Total revenue (USD)"},null,{"$f":"D15*1000*D18","v":0},{"$f":"E15*1000*E18","v":0},0,0,0,0,0,0,0,0,0,0,0,0,0,0,0,0,0,0]
[null,{"$f":"title228","v":"Total capital cost (USD)"},{"$f":"-(C34-C80)","v":0}]
[null,{"$f":"title279","v":"Total operating and maintenance cost (USD)"},null,{"$f":"-D69+D63","v":{"$error":"#DIV/0!"}},{"$error":"#DIV/0!"},{"$error":"#DIV/0!"},{"$error":"#DIV/0!"},{"$error":"#DIV/0!"},{"$error":"#DIV/0!"},{"$error":"#DIV/0!"},{"$error":"#DIV/0!"},{"$error":"#DIV/0!"},{"$error":"#DIV/0!"},{"$error":"#DIV/0!"},{"$error":"#DIV/0!"},{"$error":"#DIV/0!"},{"$error":"#DIV/0!"},{"$error":"#DIV/0!"},{"$error":"#DIV/0!"},{"$error":"#DIV/0!"},{"$error":"#DIV/0!"},{"$error":"#DIV/0!"},{"$error":"#DIV/0!"}]
[null,{"$f":"title280","v":"Loan payment (USD)"},null,{"$f":"D84","v":0},{"$f":"E84","v":0},0,0,0,0,0,0,0,0,0,0,0,0,0,0,0,0,0,0]
[null,{"$f":"title281","v":"Cash flow - before tax (USD)"},{"$f":"SUM(C102:C105)","v":0},{"$error":"#DIV/0!"},{"$error":"#DIV/0!"},{"$error":"#DIV/0!"},{"$error":"#DIV/0!"},{"$error":"#DIV/0!"},{"$error":"#DIV/0!"},{"$error":"#DIV/0!"},{"$error":"#DIV/0!"},{"$error":"#DIV/0!"},{"$error":"#DIV/0!"},{"$error":"#DIV/0!"},{"$error":"#DIV/0!"},{"$error":"#DIV/0!"},{"$error":"#DIV/0!"},{"$error":"#DIV/0!"},{"$error":"#DIV/0!"},{"$error":"#DIV/0!"},{"$error":"#DIV/0!"},{"$error":"#DIV/0!"},{"$error":"#DIV/0!"}]
[null,{"$f":"title282","v":"Average revenue (USD)"}]
[]
[{"$f":"title283","v":"Summary of this project - After Tax"}]
[null,{"$f":"title209","v":"Operating Year"},{"$f":"title230","v":"Appraisal"},1,2,3,4,5,6,7,8,9,10,11,12,13,14,15,16,17,18,19,20]
[null,{"$f":"B102","v":"Total revenue (USD)"},{"$f":"C102","v":0},{"$f":"D102","v":0},0,0,0,0,0,0,0,0,0,0,0,0,0,0,0,0,0,0,0]
[null,{"$f":"title279","v":"Total operating and maintenance cost (USD)"},null,{"$f":"-D69+D63","v":{"$error":"#DIV/0!"}},{"$error":"#DIV/0!"},{"$error":"#DIV/0!"},{"$error":"#DIV/0!"},{"$error":"#DIV/0!"},{"$error":"#DIV/0!"},{"$error":"#DIV/0!"},{"$error":"#DIV/0!"},{"$error":"#DIV/0!"},{"$error":"#DIV/0!"},{"$error":"#DIV/0!"},{"$error":"#DIV/0!"},{"$error":"#DIV/0!"},{"$error":"#DIV/0!"},{"$error":"#DIV/0!"},{"$error":"#DIV/0!"},{"$error":"#DIV/0!"},{"$error":"#DIV/0!"},{"$error":"#DIV/0!"},{"$error":"#DIV/0!"}]
[null,{"$f":"title280","v":"Loan payment (USD)"},null,{"$f":"$G$86","v":0},{"$f":"$G$86","v":0},0,0,0,0,0,0,0,0,0,0,0,0,0,0,0,0,0,0]
[null,{"$f":"title284","v":"Depreciation of fixed costs (USD)"},null,{"$f":"-D63","v":0},{"$f":"-E63","v":0},0,0,0,0,0,0,0,0,0,0,0,0,0,0,0,0,0,0]
[null,{"$f":"title285","v":"Net profit - before tax (USD) for income tax calculation"},{"$f":"SUM(C111:C114)","v":0},{"$f":"SUM(D111:D114)","v":{"$error":"#DIV/0!"}},{"$f":"SUM(E111:E114)","v":{"$error":"#DIV/0!"}},{"$error":"#DIV/0!"},{"$error":"#DIV/0!"},{"$error":"#DIV/0!"},{"$error":"#DIV/0!"},{"$error":"#DIV/0!"},{"$error":"#DIV/0!"},{"$error":"#DIV/0!"},{"$error":"#DIV/0!"},{"$error":"#DIV/0!"},{"$error":"#DIV/0!"},{"$error":"#DIV/0!"},{"$error":"#DIV/0!"},{"$error":"#DIV/0!"},{"$error":"#DIV/0!"},{"$error":"#DIV/0!"},{"$error":"#DIV/0!"},{"$error":"#DIV/0!"},{"$error":"#DIV/0!"}]
[null,{"$f":"title286","v":"Income tax"},null,{"$f":"IF(D115>0,-D91,0)","v":{"$error":"#DIV/0!"}},{"$error":"#DIV/0!"},{"$error":"#DIV/0!"},{"$error":"#DIV/0!"},{"$error":"#DIV/0!"},{"$error":"#DIV/0!"},{"$error":"#DIV/0!"},{"$error":"#DIV/0!"},{"$error":"#DIV/0!"},{"$error":"#DIV/0!"},{"$error":"#DIV/0!"},{"$error":"#DIV/0!"},{"$error":"#DIV/0!"},{"$error":"#DIV/0!"},{"$error":"#DIV/0!"},{"$error":"#DIV/0!"},{"$error":"#DIV/0!"},{"$error":"#DIV/0!"},{"$error":"#DIV/0!"},{"$error":"#DIV/0!"}]
[null,{"$f":"title287","v":"Cash flow - after tax (USD)"},{"$f":"C103","v":0},{"$f":"D106+D116","v":{"$error":"#DIV/0!"}},{"$f":"E106+E116","v":{"$error":"#DIV/0!"}},{"$error":"#DIV/0!"},{"$error":"#DIV/0!"},{"$error":"#DIV/0!"},{"$error":"#DIV/0!"},{"$error":"#DIV/0!"},{"$error":"#DIV/0!"},{"$error":"#DIV/0!"},{"$error":"#DIV/0!"},{"$error":"#DIV/0!"},{"$error":"#DIV/0!"},{"$error":"#DIV/0!"},{"$error":"#DIV/0!"},{"$error":"#DIV/0!"},{"$error":"#DIV/0!"},{"$error":"#DIV/0!"},{"$error":"#DIV/0!"},{"$error":"#DIV/0!"},{"$f":"W106+W116","v":{"$error":"#DIV/0!"}}]
[]
[{"$f":"title288","v":"Cumulative value of Net Profit"}]
[null,{"$f":"title209","v":"Operating Year"},{"$f":"title230","v":"Appraisal"},1,2,3,4,5,6,7,8,9,10,11,12,13,14,15,16,17,18,19,20]
[null,{"$f":"title289","v":"Cumulative value of net profit - before tax"},{"$f":"C106","v":0},{"$f":"C121+(D106)","v":{"$error":"#DIV/0!"}},{"$error":"#DIV/0!"},{"$error":"#DIV/0!"},{"$error":"#DIV/0!"},{"$error":"#DIV/0!"},{"$error":"#DIV/0!"},{"$error":"#DIV/0!"},{"$error":"#DIV/0!"},{"$error":"#DIV/0!"},{"$error":"#DIV/0!"},{"$error":"#DIV/0!"},{"$error":"#DIV/0!"},{"$error":"#DIV/0!"},{"$error":"#DIV/0!"},{"$error":"#DIV/0!"},{"$error":"#DIV/0!"},{"$error":"#DIV/0!"},{"$error":"#DIV/0!"},{"$error":"#DIV/0!"},{"$error":"#DIV/0!"}]
[null,{"$f":"title290","v":"Cumulative value of net profit - after tax"},{"$f":"C117","v":0},{"$f":"C122+(D117)","v":{"$error":"#DIV/0!"}},{"$error":"#DIV/0!"},{"$error":"#DIV/0!"},{"$error":"#DIV/0!"},{"$error":"#DIV/0!"},{"$error":"#DIV/0!"},{"$error":"#DIV/0!"},{"$error":"#DIV/0!"},{"$error":"#DIV/0!"},{"$error":"#DIV/0!"},{"$error":"#DIV/0!"},{"$error":"#DIV/0!"},{"$error":"#DIV/0!"},{"$error":"#DIV/0!"},{"$error":"#DIV/0!"},{"$error":"#DIV/0!"},{"$error":"#DIV/0!"},{"$error":"#DIV/0!"},{"$error":"#DIV/0!"},{"$error":"#DIV/0!"}]
[]
[{"$f":"title291","v":"Financial analysis results"}]
[]
[null,{"$f":"title292","v":"Net present value (NPV) (USD) - before tax"},{"$f":"NPV(C76,D106:W106)+C106","v":{"$error":"#DIV/0!"}}]
[null,{"$f":"title293","v":"Internal rate of return (IRR) (%) - before tax"},{"$f":"IF(C126<0,title459,IF(TIR_cell=title519,IRR(C106:W106,0.001),MIRR(C106:W106,C81,C76)))","v":{"$error":"#DIV/0!"}}]
[null,{"$f":"title294","v":"Payback period (years)"},{"$f":"title298","v":"Please see Figure of the cumulative value of net profit - before tax"}]
[]
[]
[null,{"$f":"title295","v":"Net present value (NPV) (USD) - after tax"},{"$f":"NPV(C76,D117:W117)+C117","v":{"$error":"#DIV/0!"}}]
[null,{"$f":"title296","v":"Internal rate of return (IRR) (%) - after tax"},{"$f":"IF(C131<0,title459,MIRR(C117:W117,C81,0%))","v":{"$error":"#DIV/0!"}}]
[null,{"$f":"title294","v":"Payback period (years)"},{"$f":"title299","v":"Please see Figure of the cumulative value of net profit - after tax"}]
[null,{"$f":"title297","v":"Total Income tax payment of project lifetime"},{"$f":"SUM(D116:W116)","v":{"$error":"#DIV/0!"}}]

{"sheet":"FA4_URBAN_RES1","index":18,"n_rows":133,"n_cols":23,"rows_kept":133,"cut":false,"hidden":true,"merged":[[1,1,1,13]]}
[]
[null,{"$f":"title207","v":" FINANCIAL ANALYSIS OF BIOMASS BRIQUETTING 4 KG/HOUR"}]
[]
[{"$f":"title208","v":"Revenues of biomass briquetting system"}]
[null,{"$f":"title209","v":"Operating Year"},0,1,2,3,4,5,6,7,8,9,10,11,12,13,14,15,16,17,18,19,20]
[]
[null,{"$f":"title210","v":"Briquette production capacity (tons per year)"},{"$f":"COST_RES1!$F$29","v":0},{"$f":"C7","v":0},{"$f":"D7","v":0},0,0,0,0,0,0,0,0,0,0,0,0,0,0,0,0,0,0]
[]
[null,{"$f":"title211","v":"Efficiency % of briquetting machine"},{"$f":"COST_RES1!$G$12","v":0},{"$f":"C9","v":0},{"$f":"D9","v":0},0,0,0,0,0,0,0,0,0,0,0,0,0,0,0,0,0,0]
[]
[null,{"$f":"title212","v":"Operating hours per year"},{"$f":"COST_RES1!$G$28","v":0},{"$f":"C11","v":0},{"$f":"D11","v":0},0,0,0,0,0,0,0,0,0,0,0,0,0,0,0,0,0,0]
[null,{"$f":"title213","v":"Capacity utilization factor"},{"$f":"C$11/8760","v":0},{"$f":"D$11/8760","v":0},{"$f":"E$11/8760","v":0},0,0,0,0,0,0,0,0,0,0,0,0,0,0,0,0,0,0]
[]
[null,{"$f":"title214","v":"Briquette production (tons per year)"},{"$f":"C$7","v":0},{"$f":"D$7","v":0},0,0,0,0,0,0,0,0,0,0,0,0,0,0,0,0,0,0,0]
[null,{"$f":"title215","v":"Total briquette sell to customers (tons per year)"},{"$f":"SUM(C14:C14)","v":0},{"$f":"SUM(D14:D14)","v":0},0,0,0,0,0,0,0,0,0,0,0,0,0,0,0,0,0,0,0]
[]
[null,{"$f":"title216","v":"Price of briquette (USD/kg)"},{"$f":"SUM(C18:C18)","v":0},0,0,0,0,0,0,0,0,0,0,0,0,0,0,0,0,0,0,0,0]
[null,{"$f":"title217","v":"Market price of briquette pay by consumers (USD/kg)"},{"$f":"+'Energy Demand'!G20","v":0},{"$f":"C18*(1+D19)","v":0},0,0,0,0,0,0,0,0,0,0,0,0,0,0,0,0,0,0,0]
[null,{"$f":"title218","v":"Increasing rate of price of briquette (%)"},{"$f":"+'Data entry needs'!$AD$114","v":0},{"$f":"C19","v":0},{"$f":"D19","v":0},0,0,0,0,0,0,0,0,0,0,0,0,0,0,0,0,0,0]
[]
[null,{"$f":"title219","v":"Total income of briquette (USD per year)"},{"$f":"C15*C18*1000","v":0},{"$f":"D15*D18*1000","v":0},0,0,0,0,0,0,0,0,0,0,0,0,0,0,0,0,0,0,0]
[]
[null,{"$f":"title220","v":"Lifespan of civil work (years)"},{"$f":"COST_RES1!$E$61","v":10}]
[null,{"$f":"title221","v":"Lifespan of briquette system (years)"},{"$f":"COST_RES1!$E$60","v":10}]
[null,{"$f":"title222","v":"Project life time (years)"},20]
[]
[{"$f":"title223","v":"Capital and operating cost of biomass briquette system "}]
[null,null,{"$f":"title230","v":"Appraisal"},{"$f":"title231","v":"Project lifetime"},{"$f":"title232","v":"Investment per year"}]
[null,{"$f":"title224","v":"Direct capital cost (USD)"}]
[null,{"$f":"title225","v":"Equipments"},{"$f":"D30*E30","v":0},{"$f":"$C$25","v":20},{"$f":"COST_RES1!F60/D30","v":0}]
[null,{"$f":"title226","v":"Building"},{"$f":"D31*E31","v":0},{"$f":"$C$25","v":20},{"$f":"COST_RES1!F61/D31","v":0}]
[null,{"$f":"title227","v":"Installation"},{"$f":"D32*E32","v":0},{"$f":"$C$25","v":20},{"$f":"COST_RES1!F62/D32","v":0}]
[null,{"$f":"title228","v":"Total capital cost (USD)"},{"$f":"SUM(C30:C32)","v":0},null,{"$f":"SUM(E30:E32)","v":0}]
[null,{"$f":"title229","v":"Capital cost (USD/kg of briquette)"},{"$f":"C33/(C14*1000*C25)","v":{"$error":"#DIV/0!"}}]
[]
[]
[null,{"$f":"title209","v":"Operating Year"},{"$f":"title230","v":"Appraisal"},1,2,3,4,5,6,7,8,9,10,11,12,13,14,15,16,17,18,19,20]
[null,{"$f":"title233","v":"Annual operating and maintenance cost "}]
[null,{"$f":"title234","v":"Sub-total material cost (USD)"},{"$f":"C40+C48+C50+C53","v":{"$error":"#DIV/0!"}},{"$f":"D40+D48+D50+D53","v":{"$error":"#DIV/0!"}},{"$error":"#DIV/0!"},{"$error":"#DIV/0!"},{"$error":"#DIV/0!"},{"$error":"#DIV/0!"},{"$error":"#DIV/0!"},{"$error":"#DIV/0!"},{"$error":"#DIV/0!"},{"$error":"#DIV/0!"},{"$error":"#DIV/0!"},{"$error":"#DIV/0!"},{"$error":"#DIV/0!"},{"$error":"#DIV/0!"},{"$error":"#DIV/0!"},{"$error":"#DIV/0!"},{"$error":"#DIV/0!"},{"$error":"#DIV/0!"},{"$error":"#DIV/0!"},{"$error":"#DIV/0!"},{"$error":"#DIV/0!"}]
[null,{"$f":"title235","v":"Biomass cost (USD/year)"},{"$f":"C41*C42","v":{"$error":"#DIV/0!"}},{"$f":"D41*D42","v":{"$error":"#DIV/0!"}},{"$error":"#DIV/0!"},{"$error":"#DIV/0!"},{"$error":"#DIV/0!"},{"$error":"#DIV/0!"},{"$error":"#DIV/0!"},{"$error":"#DIV/0!"},{"$error":"#DIV/0!"},{"$error":"#DIV/0!"},{"$error":"#DIV/0!"},{"$error":"#DIV/0!"},{"$error":"#DIV/0!"},{"$error":"#DIV/0!"},{"$error":"#DIV/0!"},{"$error":"#DIV/0!"},{"$error":"#DIV/0!"},{"$error":"#DIV/0!"},{"$error":"#DIV/0!"},{"$error":"#DIV/0!"},{"$error":"#DIV/0!"}]
[null,{"$f":"title236","v":"Biomass consumption (ton per year)"},{"$f":"C14/COST_RES1!$G$12","v":{"$error":"#DIV/0!"}},{"$f":"D14/COST_RES1!$G$12","v":{"$error":"#DIV/0!"}},{"$f":"E14/COST_RES1!$G$12","v":{"$error":"#DIV/0!"}},{"$f":"F14/COST_RES1!$G$12","v":{"$error":"#DIV/0!"}},{"$f":"G14/COST_RES1!$G$12","v":{"$error":"#DIV/0!"}},{"$f":"H14/COST_RES1!$G$12","v":{"$error":"#DIV/0!"}},{"$f":"I14/COST_RES1!$G$12","v":{"$error":"#DIV/0!"}},{"$f":"J14/COST_RES1!$G$12","v":{"$error":"#DIV/0!"}},{"$f":"K14/COST_RES1!$G$12","v":{"$error":"#DIV/0!"}},{"$f":"L14/COST_RES1!$G$12","v":{"$error":"#DIV/0!"}},{"$f":"M14/COST_RES1!$G$12","v":{"$error":"#DIV/0!"}},{"$f":"N14/COST_RES1!$G$12","v":{"$error":"#DIV/0!"}},{"$f":"O14/COST_RES1!$G$12","v":{"$error":"#DIV/0!"}},{"$f":"P14/COST_RES1!$G$12","v":{"$error":"#DIV/0!"}},{"$f":"Q14/COST_RES1!$G$12","v":{"$error":"#DIV/0!"}},{"$f":"R14/COST_RES1!$G$12","v":{"$error":"#DIV/0!"}},{"$f":"S14/COST_RES1!$G$12","v":{"$error":"#DIV/0!"}},{"$f":"T14/COST_RES1!$G$12","v":{"$error":"#DIV/0!"}},{"$f":"U14/COST_RES1!$G$12","v":{"$error":"#DIV/0!"}},{"$f":"V14/COST_RES1!$G$12","v":{"$error":"#DIV/0!"}},{"$f":"W14/COST_RES1!$G$12","v":{"$error":"#DIV/0!"}}]
[null,{"$f":"title237","v":"Biomass price (USD/ton)"},{"$f":"SUM(C43:C44)","v":0},{"$f":"SUM(D43:D44)","v":0},0,0,0,0,0,0,0,0,0,0,0,0,0,0,0,0,0,0,0]
[null,{"$f":"title238","v":"Biomass cost of collection (USD/ton)"},{"$f":"COST_RES1!E33","v":0},{"$f":"C43*(1+D73+D74)","v":0},{"$f":"D43*(1+E73+E74)","v":0},0,0,0,0,0,0,0,0,0,0,0,0,0,0,0,0,0,0]
[null,{"$f":"title239","v":"Biomass transportation cost (USD/ton)"},{"$f":"C45*C46","v":0},{"$f":"D45*D46","v":0},0,0,0,0,0,0,0,0,0,0,0,0,0,0,0,0,0,0,0]
[null,{"$f":"title240","v":"Biomass from farm to plant (USD/ton/km)"},{"$f":"COST_RES1!E48","v":0},{"$f":"C45*(1+D73+D74)","v":0},{"$f":"D45*(1+E73+E74)","v":0},0,0,0,0,0,0,0,0,0,0,0,0,0,0,0,0,0,0]
[null,{"$f":"title241","v":"Transportation distant (km)"},{"$f":"COST_RES1!F48","v":0},{"$f":"C46","v":0},{"$f":"D46","v":0},0,0,0,0,0,0,0,0,0,0,0,0,0,0,0,0,0,0]
[]
[null,{"$f":"title246","v":"Water cost (USD/year)"},{"$f":"COST_RES1!G35","v":0},{"$f":"C48*(1+D73+D74)","v":0},{"$f":"D48*(1+E73+E74)","v":0},0,0,0,0,0,0,0,0,0,0,0,0,0,0,0,0,0,0]
[]
[null,{"$f":"title242","v":"Chemical cost (USD/year)"},{"$f":"C51*C52","v":0},{"$f":"D51*D52","v":0},0,0,0,0,0,0,0,0,0,0,0,0,0,0,0,0,0,0,0]
[null,{"$f":"title243","v":"Chemical consumption (tons per year)"},{"$f":"+COST_RES1!$F$34","v":0},{"$f":"+COST_RES1!$F$34","v":0},{"$f":"+COST_RES1!$F$34","v":0},{"$f":"+COST_RES1!$F$34","v":0},{"$f":"+COST_RES1!$F$34","v":0},{"$f":"+COST_RES1!$F$34","v":0},{"$f":"+COST_RES1!$F$34","v":0},{"$f":"+COST_RES1!$F$34","v":0},{"$f":"+COST_RES1!$F$34","v":0},{"$f":"+COST_RES1!$F$34","v":0},{"$f":"+COST_RES1!$F$34","v":0},{"$f":"+COST_RES1!$F$34","v":0},{"$f":"+COST_RES1!$F$34","v":0},{"$f":"+COST_RES1!$F$34","v":0},{"$f":"+COST_RES1!$F$34","v":0},{"$f":"+COST_RES1!$F$34","v":0},{"$f":"+COST_RES1!$F$34","v":0},{"$f":"+COST_RES1!$F$34","v":0},{"$f":"+COST_RES1!$F$34","v":0},{"$f":"+COST_RES1!$F$34","v":0},{"$f":"+COST_RES1!$F$34","v":0}]
[null,{"$f":"title244","v":"Chemical price (USD/ton)"},{"$f":"+'Data entry needs'!$D$20","v":0},{"$f":"C52","v":0},{"$f":"D52","v":0},0,0,0,0,0,0,0,0,0,0,0,0,0,0,0,0,0,0]
[null,{"$f":"title245","v":"Electricity cost (USD)"},{"$f":"COST_RES1!G36","v":0},{"$f":"C53*(1+D73+D74)","v":0},{"$f":"D53*(1+E73+E74)","v":0},0,0,0,0,0,0,0,0,0,0,0,0,0,0,0,0,0,0]
[]
[null,{"$f":"title247","v":"Sub-total operating cost (USD)"},{"$f":"C56+C58+C59","v":{"$error":"#DIV/0!"}},{"$f":"D56+D58+D59","v":{"$error":"#DIV/0!"}},{"$error":"#DIV/0!"},{"$error":"#DIV/0!"},{"$error":"#DIV/0!"},{"$error":"#DIV/0!"},{"$error":"#DIV/0!"},{"$error":"#DIV/0!"},{"$error":"#DIV/0!"},{"$error":"#DIV/0!"},{"$error":"#DIV/0!"},{"$error":"#DIV/0!"},{"$error":"#DIV/0!"},{"$error":"#DIV/0!"},{"$error":"#DIV/0!"},{"$error":"#DIV/0!"},{"$error":"#DIV/0!"},{"$error":"#DIV/0!"},{"$error":"#DIV/0!"},{"$error":"#DIV/0!"},{"$error":"#DIV/0!"}]
[null,{"$f":"title248","v":"Labour cost (USD)"},{"$f":"COST_RES1!G44","v":0},{"$f":"C56*(1+D57)","v":0},0,0,0,0,0,0,0,0,0,0,0,0,0,0,0,0,0,0,0]
[null,{"$f":"title249","v":"Annual change in labour cost (%)"},null,{"$f":"COST_RES1!M12","v":0},{"$f":"D57","v":0},{"$f":"E57","v":0},0,0,0,0,0,0,0,0,0,0,0,0,0,0,0,0,0]
[null,{"$f":"title249","v":"Annual change in labour cost (%)"},{"$f":"COST_RES1!G70","v":0},{"$f":"C58","v":0},{"$f":"D58","v":0},0,0,0,0,0,0,0,0,0,0,0,0,0,0,0,0,0,0]
[null,{"$f":"title250","v":"General and administrative cost"},{"$f":"COST_RES1!G71","v":{"$error":"#DIV/0!"}},{"$f":"C59","v":{"$error":"#DIV/0!"}},{"$error":"#DIV/0!"},{"$error":"#DIV/0!"},{"$error":"#DIV/0!"},{"$error":"#DIV/0!"},{"$error":"#DIV/0!"},{"$error":"#DIV/0!"},{"$error":"#DIV/0!"},{"$error":"#DIV/0!"},{"$error":"#DIV/0!"},{"$error":"#DIV/0!"},{"$error":"#DIV/0!"},{"$error":"#DIV/0!"},{"$error":"#DIV/0!"},{"$error":"#DIV/0!"},{"$error":"#DIV/0!"},{"$error":"#DIV/0!"},{"$error":"#DIV/0!"},{"$error":"#DIV/0!"},{"$error":"#DIV/0!"}]
[null,{"$f":"title251","v":"Sub-total maintenance cost (USD)"},{"$f":"COST_RES1!G65","v":0},{"$f":"C60","v":0},0,0,0,0,0,0,0,0,0,0,0,0,0,0,0,0,0,0,0]
[]
[null,{"$f":"title252","v":"Sub-total of annual fixed costs"},{"$f":"+E33","v":0},{"$f":"C62","v":0},{"$f":"D62","v":0},0,0,0,0,0,0,0,0,0,0,0,0,0,0,0,0,0,0]
[]
[null,{"$f":"title253","v":"Sub-total of storage capacity"},{"$f":"COST_RES1!G56","v":{"$error":"#DIV/0!"}},{"$f":"C64","v":{"$error":"#DIV/0!"}},{"$f":"D64","v":{"$error":"#DIV/0!"}},{"$error":"#DIV/0!"},{"$error":"#DIV/0!"},{"$error":"#DIV/0!"},{"$error":"#DIV/0!"},{"$error":"#DIV/0!"},{"$error":"#DIV/0!"},{"$error":"#DIV/0!"},{"$error":"#DIV/0!"},{"$error":"#DIV/0!"},{"$error":"#DIV/0!"},{"$error":"#DIV/0!"},{"$error":"#DIV/0!"},{"$error":"#DIV/0!"},{"$error":"#DIV/0!"},{"$error":"#DIV/0!"},{"$error":"#DIV/0!"},{"$error":"#DIV/0!"},{"$error":"#DIV/0!"}]
[]
[null,{"$f":"title254","v":"Sub-total of briquette transportation to market"},{"$f":"COST_RES1!G49","v":0},{"$f":"C66*(1+D73+D74)","v":0},{"$f":"D66*(1+E73+E74)","v":0},0,0,0,0,0,0,0,0,0,0,0,0,0,0,0,0,0,0]
[]
[null,{"$f":"title255","v":"Total operation and maintenance cost (USD)"},{"$f":"C39+C55+C60+C62+C64+C66","v":{"$error":"#DIV/0!"}},{"$f":"D39+D55+D60+D62+D64+D66","v":{"$error":"#DIV/0!"}},{"$error":"#DIV/0!"},{"$error":"#DIV/0!"},{"$error":"#DIV/0!"},{"$error":"#DIV/0!"},{"$error":"#DIV/0!"},{"$error":"#DIV/0!"},{"$error":"#DIV/0!"},{"$error":"#DIV/0!"},{"$error":"#DIV/0!"},{"$error":"#DIV/0!"},{"$error":"#DIV/0!"},{"$error":"#DIV/0!"},{"$error":"#DIV/0!"},{"$error":"#DIV/0!"},{"$error":"#DIV/0!"},{"$error":"#DIV/0!"},{"$error":"#DIV/0!"},{"$error":"#DIV/0!"},{"$error":"#DIV/0!"}]
[null,{"$f":"title256","v":"Operation and maintenance cost (USD/kg of briquette) without loan interest"},{"$f":"C68/(C14*1000)","v":{"$error":"#DIV/0!"}},{"$error":"#DIV/0!"},{"$error":"#DIV/0!"},{"$error":"#DIV/0!"},{"$error":"#DIV/0!"},{"$error":"#DIV/0!"},{"$error":"#DIV/0!"},{"$error":"#DIV/0!"},{"$error":"#DIV/0!"},{"$error":"#DIV/0!"},{"$error":"#DIV/0!"},{"$error":"#DIV/0!"},{"$error":"#DIV/0!"},{"$error":"#DIV/0!"},{"$error":"#DIV/0!"},{"$error":"#DIV/0!"},{"$error":"#DIV/0!"},{"$error":"#DIV/0!"},{"$error":"#DIV/0!"},{"$error":"#DIV/0!"},{"$error":"#DIV/0!"}]
[]
[{"$f":"title164","v":"Financial parameters"}]
[null,{"$f":"title209","v":"Operating Year"},{"$f":"title230","v":"Appraisal"},1,2,3,4,5,6,7,8,9,10,11,12,13,14,15,16,17,18,19,20]
[null,{"$f":"title257","v":"Annual change in raw material cost (%)"},null,0,{"$f":"D73","v":0},{"$f":"E73","v":0},0,0,0,0,0,0,0,0,0,0,0,0,0,0,0,0,0]
[null,{"$f":"title258","v":"Inflation rate (%)"},null,{"$f":"COST_RES1!J12","v":0},{"$f":"D74","v":0},0,0,0,0,0,0,0,0,0,0,0,0,0,0,0,0,0,0]
[null,{"$f":"title165&\" (%)\"","v":"Discount rate (%)"},{"$f":"COST_RES1!J9","v":0}]
[null,{"$f":"title166&\" (%)\"","v":"Loan ratio (%)"},{"$f":"COST_RES1!J10","v":0}]
[]
[null,{"$f":"title259","v":"Loan without policy"},{"$f":"title230","v":"Appraisal"},1,2,3,4,5,6,7,8,9,10,11,12,13,14,15,16,17,18,19,20]
[null,{"$f":"title260","v":"Loan amount (USD)"},{"$f":"C76*(C33)","v":0}]
[null,{"$f":"title167&\" (%)\"","v":"Loan interest rate (%)"},{"$f":"COST_RES1!J11","v":0}]
[null,{"$f":"title261","v":"Loan term (years)"},{"$f":"COST_RES1!M9","v":0}]
[null,{"$f":"title262","v":"Loan payment (USD/month)"},{"$f":"(PMT($C$80/12,(12*$C$81),$C$79))","v":{"$error":"#NUM!"}}]
[null,{"$f":"title263","v":"Loan payment (USD/year)"},null,{"$f":"IF(D72<=$C$81,$C$82*12,0)","v":0},{"$f":"IF(E72<$C$81,$C$82*12,IF(E72=$C$81,$C$82*12,0))","v":0},{"$f":"IF(F72<$C$81,$C$82*12,IF(F72=$C$81,$C$82*12,0))","v":0},0,0,0,0,0,0,0,0,0,0,0,0,0,0,0,0,0]
[null,{"$f":"title264","v":"Total loan payment (USD)"},{"$f":"SUM(D83:W83)","v":0}]
[null,{"$f":"title265","v":"Loan interest payment (USD)"},{"$f":"C84+C79","v":0},{"$f":"title266","v":"Average loan interest payment for project lifetime"},null,null,{"$f":"C85/C25","v":0},{"$f":"title267","v":"USD per year"}]
[]
[{"$f":"title268","v":"Income tax analysis"}]
[null,{"$f":"title209","v":"Operating Year"},{"$f":"title230","v":"Appraisal"},1,2,3,4,5,6,7,8,9,10,11,12,13,14,15,16,17,18,19,20]
[null,{"$f":"title269","v":"Effective income tax rate (%)"},{"$f":"+'Data entry needs'!$AD$115","v":0},{"$f":"C89","v":0},{"$f":"D89","v":0},0,0,0,0,0,0,0,0,0,0,0,0,0,0,0,0,0,0]
[null,{"$f":"title270","v":"Income tax (USD)"},null,{"$f":"IF(D114<0,0,D89*D114)","v":{"$error":"#DIV/0!"}},{"$error":"#DIV/0!"},{"$error":"#DIV/0!"},{"$error":"#DIV/0!"},{"$error":"#DIV/0!"},{"$error":"#DIV/0!"},{"$error":"#DIV/0!"},{"$error":"#DIV/0!"},{"$error":"#DIV/0!"},{"$error":"#DIV/0!"},{"$error":"#DIV/0!"},{"$error":"#DIV/0!"},{"$error":"#DIV/0!"},{"$error":"#DIV/0!"},{"$error":"#DIV/0!"},{"$error":"#DIV/0!"},{"$error":"#DIV/0!"},{"$error":"#DIV/0!"},{"$error":"#DIV/0!"},{"$error":"#DIV/0!"}]
[null,{"$f":"title271","v":"Total income tax payment (USD)"},{"$f":"SUM(D90:W90)","v":{"$error":"#DIV/0!"}},{"$f":"title458","v":"Average income tax payment "},null,{"$f":"C91/C25","v":{"$error":"#DIV/0!"}},{"$f":"title267","v":"USD per year"}]
[]
[{"$f":"title272","v":"Depreciation"}]
[null,{"$f":"title209","v":"Operating Year"},{"$f":"title230","v":"Appraisal"},1,2,3,4,5,6,7,8,9,10,11,12,13,14,15,16,17,18,19,20]
[null,{"$f":"title273","v":"Depreciation method"},{"$f":"title275","v":"Straight-line"}]
[null,{"$f":"title274","v":"Total depreciation (USD)"},null,{"$f":"COST_RES1!G64","v":0},{"$f":"D96","v":0},{"$f":"E96","v":0},0,0,0,0,0,0,0,0,0,0,0,0,0,0,0,0,0]
[]
[{"$f":"title276","v":"Base case project summary"}]
[{"$f":"title277","v":"Summary of this project - Before Tax"}]
[null,{"$f":"title209","v":"Operating Year"},{"$f":"title230","v":"Appraisal"},1,2,3,4,5,6,7,8,9,10,11,12,13,14,15,16,17,18,19,20]
[null,{"$f":"title278","v":"Total revenue (USD)"},null,{"$f":"D15*1000*D18","v":0},{"$f":"E15*1000*E18","v":0},0,0,0,0,0,0,0,0,0,0,0,0,0,0,0,0,0,0]
[null,{"$f":"title228","v":"Total capital cost (USD)"},{"$f":"-(C33-C79)","v":0}]
[null,{"$f":"title279","v":"Total operating and maintenance cost (USD)"},null,{"$f":"-D68+D62","v":{"$error":"#DIV/0!"}},{"$error":"#DIV/0!"},{"$error":"#DIV/0!"},{"$error":"#DIV/0!"},{"$error":"#DIV/0!"},{"$error":"#DIV/0!"},{"$error":"#DIV/0!"},{"$error":"#DIV/0!"},{"$error":"#DIV/0!"},{"$error":"#DIV/0!"},{"$error":"#DIV/0!"},{"$error":"#DIV/0!"},{"$error":"#DIV/0!"},{"$error":"#DIV/0!"},{"$error":"#DIV/0!"},{"$error":"#DIV/0!"},{"$error":"#DIV/0!"},{"$error":"#DIV/0!"},{"$error":"#DIV/0!"},{"$error":"#DIV/0!"}]
[null,{"$f":"title280","v":"Loan payment (USD)"},null,{"$f":"D83","v":0},{"$f":"E83","v":0},0,0,0,0,0,0,0,0,0,0,0,0,0,0,0,0,0,0]
[null,{"$f":"title281","v":"Cash flow - before tax (USD)"},{"$f":"SUM(C101:C104)","v":0},{"$error":"#DIV/0!"},{"$error":"#DIV/0!"},{"$error":"#DIV/0!"},{"$error":"#DIV/0!"},{"$error":"#DIV/0!"},{"$error":"#DIV/0!"},{"$error":"#DIV/0!"},{"$error":"#DIV/0!"},{"$error":"#DIV/0!"},{"$error":"#DIV/0!"},{"$error":"#DIV/0!"},{"$error":"#DIV/0!"},{"$error":"#DIV/0!"},{"$error":"#DIV/0!"},{"$error":"#DIV/0!"},{"$error":"#DIV/0!"},{"$error":"#DIV/0!"},{"$error":"#DIV/0!"},{"$error":"#DIV/0!"},{"$error":"#DIV/0!"}]
[null,{"$f":"title282","v":"Average revenue (USD)"}]
[]
[{"$f":"title283","v":"Summary of this project - After Tax"}]
[null,{"$f":"title209","v":"Operating Year"},{"$f":"title230","v":"Appraisal"},1,2,3,4,5,6,7,8,9,10,11,12,13,14,15,16,17,18,19,20]
[null,{"$f":"B101","v":"Total revenue (USD)"},{"$f":"C101","v":0},{"$f":"D101","v":0},{"$f":"E101","v":0},0,0,0,0,0,0,0,0,0,0,0,0,0,0,0,0,0,0]
[null,{"$f":"title279","v":"Total operating and maintenance cost (USD)"},null,{"$f":"-D68+D62","v":{"$error":"#DIV/0!"}},{"$error":"#DIV/0!"},{"$error":"#DIV/0!"},{"$error":"#DIV/0!"},{"$error":"#DIV/0!"},{"$error":"#DIV/0!"},{"$error":"#DIV/0!"},{"$error":"#DIV/0!"},{"$error":"#DIV/0!"},{"$error":"#DIV/0!"},{"$error":"#DIV/0!"},{"$error":"#DIV/0!"},{"$error":"#DIV/0!"},{"$error":"#DIV/0!"},{"$error":"#DIV/0!"},{"$error":"#DIV/0!"},{"$error":"#DIV/0!"},{"$error":"#DIV/0!"},{"$error":"#DIV/0!"},{"$error":"#DIV/0!"}]
[null,{"$f":"title280","v":"Loan payment (USD)"},null,{"$f":"$G$85","v":0},{"$f":"$G$85","v":0},0,0,0,0,0,0,0,0,0,0,0,0,0,0,0,0,0,0]
[null,{"$f":"title284","v":"Depreciation of fixed costs (USD)"},null,{"$f":"-D62","v":0},{"$f":"-E62","v":0},0,0,0,0,0,0,0,0,0,0,0,0,0,0,0,0,0,0]
[null,{"$f":"title285","v":"Net profit - before tax (USD) for income tax calculation"},{"$f":"SUM(C110:C113)","v":0},{"$f":"SUM(D110:D113)","v":{"$error":"#DIV/0!"}},{"$f":"SUM(E110:E113)","v":{"$error":"#DIV/0!"}},{"$error":"#DIV/0!"},{"$error":"#DIV/0!"},{"$error":"#DIV/0!"},{"$error":"#DIV/0!"},{"$error":"#DIV/0!"},{"$error":"#DIV/0!"},{"$error":"#DIV/0!"},{"$error":"#DIV/0!"},{"$error":"#DIV/0!"},{"$error":"#DIV/0!"},{"$error":"#DIV/0!"},{"$error":"#DIV/0!"},{"$error":"#DIV/0!"},{"$error":"#DIV/0!"},{"$error":"#DIV/0!"},{"$error":"#DIV/0!"},{"$error":"#DIV/0!"},{"$error":"#DIV/0!"}]
[null,{"$f":"title286","v":"Income tax"},null,{"$f":"IF(D114>0,-D90,0)","v":{"$error":"#DIV/0!"}},{"$error":"#DIV/0!"},{"$error":"#DIV/0!"},{"$error":"#DIV/0!"},{"$error":"#DIV/0!"},{"$error":"#DIV/0!"},{"$error":"#DIV/0!"},{"$error":"#DIV/0!"},{"$error":"#DIV/0!"},{"$error":"#DIV/0!"},{"$error":"#DIV/0!"},{"$error":"#DIV/0!"},{"$error":"#DIV/0!"},{"$error":"#DIV/0!"},{"$error":"#DIV/0!"},{"$error":"#DIV/0!"},{"$error":"#DIV/0!"},{"$error":"#DIV/0!"},{"$error":"#DIV/0!"},{"$error":"#DIV/0!"}]
[null,{"$f":"title287","v":"Cash flow - after tax (USD)"},{"$f":"C102","v":0},{"$f":"D105+D115","v":{"$error":"#DIV/0!"}},{"$f":"E105+E115","v":{"$error":"#DIV/0!"}},{"$error":"#DIV/0!"},{"$error":"#DIV/0!"},{"$error":"#DIV/0!"},{"$error":"#DIV/0!"},{"$error":"#DIV/0!"},{"$error":"#DIV/0!"},{"$error":"#DIV/0!"},{"$error":"#DIV/0!"},{"$error":"#DIV/0!"},{"$error":"#DIV/0!"},{"$error":"#DIV/0!"},{"$error":"#DIV/0!"},{"$error":"#DIV/0!"},{"$error":"#DIV/0!"},{"$error":"#DIV/0!"},{"$error":"#DIV/0!"},{"$error":"#DIV/0!"},{"$f":"W105+W115","v":{"$error":"#DIV/0!"}}]
[]
[{"$f":"title288","v":"Cumulative value of Net Profit"}]
[null,{"$f":"title209","v":"Operating Year"},{"$f":"title230","v":"Appraisal"},1,2,3,4,5,6,7,8,9,10,11,12,13,14,15,16,17,18,19,20]
[null,{"$f":"title289","v":"Cumulative value of net profit - before tax"},{"$f":"C105","v":0},{"$f":"C120+(D105)","v":{"$error":"#DIV/0!"}},{"$error":"#DIV/0!"},{"$error":"#DIV/0!"},{"$error":"#DIV/0!"},{"$error":"#DIV/0!"},{"$error":"#DIV/0!"},{"$error":"#DIV/0!"},{"$error":"#DIV/0!"},{"$error":"#DIV/0!"},{"$error":"#DIV/0!"},{"$error":"#DIV/0!"},{"$error":"#DIV/0!"},{"$error":"#DIV/0!"},{"$error":"#DIV/0!"},{"$error":"#DIV/0!"},{"$error":"#DIV/0!"},{"$error":"#DIV/0!"},{"$error":"#DIV/0!"},{"$error":"#DIV/0!"},{"$error":"#DIV/0!"}]
[null,{"$f":"title290","v":"Cumulative value of net profit - after tax"},{"$f":"C116","v":0},{"$f":"C121+(D116)","v":{"$error":"#DIV/0!"}},{"$error":"#DIV/0!"},{"$error":"#DIV/0!"},{"$error":"#DIV/0!"},{"$error":"#DIV/0!"},{"$error":"#DIV/0!"},{"$error":"#DIV/0!"},{"$error":"#DIV/0!"},{"$error":"#DIV/0!"},{"$error":"#DIV/0!"},{"$error":"#DIV/0!"},{"$error":"#DIV/0!"},{"$error":"#DIV/0!"},{"$error":"#DIV/0!"},{"$error":"#DIV/0!"},{"$error":"#DIV/0!"},{"$error":"#DIV/0!"},{"$error":"#DIV/0!"},{"$error":"#DIV/0!"},{"$error":"#DIV/0!"}]
[]
[{"$f":"title291","v":"Financial analysis results"}]
[]
[null,{"$f":"title292","v":"Net present value (NPV) (USD) - before tax"},{"$f":"NPV(C75,D105:W105)+C105","v":{"$error":"#DIV/0!"}}]
[null,{"$f":"title293","v":"Internal rate of return (IRR) (%) - before tax"},{"$f":"IF(C125<0,title459,IF(TIR_cell=title519,IRR(C105:W105,0.001),MIRR(C105:W105,C80,C75)))","v":{"$error":"#DIV/0!"}}]
[null,{"$f":"title294","v":"Payback period (years)"},{"$f":"title298","v":"Please see Figure of the cumulative value of net profit - before tax"}]
[]
[]
[null,{"$f":"title295","v":"Net present value (NPV) (USD) - after tax"},{"$f":"NPV(C75,D116:W116)+C116","v":{"$error":"#DIV/0!"}}]
[null,{"$f":"title296","v":"Internal rate of return (IRR) (%) - after tax"},{"$f":"IF(C130<0,title459,MIRR(C116:W116,$C$80,0%))","v":{"$error":"#DIV/0!"}}]
[null,{"$f":"title294","v":"Payback period (years)"},{"$f":"title299","v":"Please see Figure of the cumulative value of net profit - after tax"}]
[null,{"$f":"title297","v":"Total Income tax payment of project lifetime"},{"$f":"SUM(D115:W115)","v":{"$error":"#DIV/0!"}}]

{"sheet":"FA40_URBAN_RES1","index":19,"n_rows":133,"n_cols":23,"rows_kept":133,"cut":false,"hidden":true,"merged":[[1,1,1,13]]}
[]
[null,{"$f":"title300","v":"FINANCIAL ANALYSIS OF BIOMASS BRIQUETTING 40 KG/HOUR"}]
[]
[{"$f":"title208","v":"Revenues of biomass briquetting system"}]
[null,{"$f":"title209","v":"Operating Year"},0,1,2,3,4,5,6,7,8,9,10,11,12,13,14,15,16,17,18,19,20]
[]
[null,{"$f":"title210","v":"Briquette production capacity (tons per year)"},{"$f":"COST_RES1!$H$29","v":0},{"$f":"C7","v":0},{"$f":"D7","v":0},0,0,0,0,0,0,0,0,0,0,0,0,0,0,0,0,0,0]
[]
[null,{"$f":"title211","v":"Efficiency % of briquetting machine"},{"$f":"COST_RES1!$G$12","v":0},{"$f":"C9","v":0},{"$f":"D9","v":0},0,0,0,0,0,0,0,0,0,0,0,0,0,0,0,0,0,0]
[]
[null,{"$f":"title212","v":"Operating hours per year"},{"$f":"COST_RES1!I28","v":0},{"$f":"C11","v":0},{"$f":"D11","v":0},0,0,0,0,0,0,0,0,0,0,0,0,0,0,0,0,0,0]
[null,{"$f":"title213","v":"Capacity utilization factor"},{"$f":"C11/8760","v":0},{"$f":"D11/8760","v":0},0,0,0,0,0,0,0,0,0,0,0,0,0,0,0,0,0,0,0]
[]
[null,{"$f":"title214","v":"Briquette production (tons per year)"},{"$f":"C7","v":0},{"$f":"D7","v":0},0,0,0,0,0,0,0,0,0,0,0,0,0,0,0,0,0,0,0]
[null,{"$f":"title215","v":"Total briquette sell to customers (tons per year)"},{"$f":"SUM(C14:C14)","v":0},{"$f":"SUM(D14:D14)","v":0},0,0,0,0,0,0,0,0,0,0,0,0,0,0,0,0,0,0,0]
[]
[null,{"$f":"title216","v":"Price of briquette (USD/kg)"},{"$f":"SUM(C18:C18)","v":0},0,0,0,0,0,0,0,0,0,0,0,0,0,0,0,0,0,0,0,0]
[null,{"$f":"title217","v":"Market price of briquette pay by consumers (USD/kg)"},{"$f":"+'Energy Demand'!G20","v":0},{"$f":"C18*(1+D19)","v":0},0,0,0,0,0,0,0,0,0,0,0,0,0,0,0,0,0,0,0]
[null,{"$f":"title218","v":"Increasing rate of price of briquette (%)"},{"$f":"+'Data entry needs'!$AD$114","v":0},{"$f":"C19","v":0},{"$f":"D19","v":0},0,0,0,0,0,0,0,0,0,0,0,0,0,0,0,0,0,0]
[]
[null,{"$f":"title219","v":"Total income of briquette (USD per year)"},{"$f":"C15*C18*1000","v":0},{"$f":"D15*D18*1000","v":0},0,0,0,0,0,0,0,0,0,0,0,0,0,0,0,0,0,0,0]
[]
[null,{"$f":"title220","v":"Lifespan of civil work (years)"},{"$f":"COST_RES1!E61","v":10}]
[null,{"$f":"title221","v":"Lifespan of briquette system (years)"},{"$f":"COST_RES1!E60","v":10}]
[null,{"$f":"title222","v":"Project life time (years)"},20]
[]
[{"$f":"title223","v":"Capital and operating cost of biomass briquette system "}]
[null,null,{"$f":"title230","v":"Appraisal"},{"$f":"title231","v":"Project lifetime"},{"$f":"title232","v":"Investment per year"}]
[null,{"$f":"title224","v":"Direct capital cost (USD)"}]
[null,{"$f":"title225","v":"Equipments"},{"$f":"D30*E30","v":0},{"$f":"$C$25","v":20},{"$f":"COST_RES1!H60/D30","v":0}]
[null,{"$f":"title226","v":"Building"},{"$f":"D31*E31","v":0},{"$f":"$C$25","v":20},{"$f":"COST_RES1!H61/D31","v":0}]
[null,{"$f":"title227","v":"Installation"},{"$f":"D32*E32","v":0},{"$f":"$C$25","v":20},{"$f":"COST_RES1!H62/D32","v":0}]
[null,{"$f":"title228","v":"Total capital cost (USD)"},{"$f":"SUM(C30:C32)","v":0},null,{"$f":"SUM(E30:E32)","v":0}]
[null,{"$f":"title229","v":"Capital cost (USD/kg of briquette)"},{"$f":"C33/(C14*1000*C25)","v":{"$error":"#DIV/0!"}}]
[]
[]
[null,{"$f":"title209","v":"Operating Year"},{"$f":"title230","v":"Appraisal"},1,2,3,4,5,6,7,8,9,10,11,12,13,14,15,16,17,18,19,20]
[null,{"$f":"title233","v":"Annual operating and maintenance cost "}]
[null,{"$f":"title234","v":"Sub-total material cost (USD)"},{"$f":"C40+C48+C50+C53","v":{"$error":"#DIV/0!"}},{"$f":"D40+D48+D50+D53","v":{"$error":"#DIV/0!"}},{"$error":"#DIV/0!"},{"$error":"#DIV/0!"},{"$error":"#DIV/0!"},{"$error":"#DIV/0!"},{"$error":"#DIV/0!"},{"$error":"#DIV/0!"},{"$error":"#DIV/0!"},{"$error":"#DIV/0!"},{"$error":"#DIV/0!"},{"$error":"#DIV/0!"},{"$error":"#DIV/0!"},{"$error":"#DIV/0!"},{"$error":"#DIV/0!"},{"$error":"#DIV/0!"},{"$error":"#DIV/0!"},{"$error":"#DIV/0!"},{"$error":"#DIV/0!"},{"$error":"#DIV/0!"},{"$error":"#DIV/0!"}]
[null,{"$f":"title235","v":"Biomass cost (USD/year)"},{"$f":"C41*C42","v":{"$error":"#DIV/0!"}},{"$f":"D41*D42","v":{"$error":"#DIV/0!"}},{"$error":"#DIV/0!"},{"$error":"#DIV/0!"},{"$error":"#DIV/0!"},{"$error":"#DIV/0!"},{"$error":"#DIV/0!"},{"$error":"#DIV/0!"},{"$error":"#DIV/0!"},{"$error":"#DIV/0!"},{"$error":"#DIV/0!"},{"$error":"#DIV/0!"},{"$error":"#DIV/0!"},{"$error":"#DIV/0!"},{"$error":"#DIV/0!"},{"$error":"#DIV/0!"},{"$error":"#DIV/0!"},{"$error":"#DIV/0!"},{"$error":"#DIV/0!"},{"$error":"#DIV/0!"},{"$error":"#DIV/0!"}]
[null,{"$f":"title236","v":"Biomass consumption (ton per year)"},{"$f":"C14/COST_RES1!$G$12","v":{"$error":"#DIV/0!"}},{"$f":"D14/COST_RES1!$G$12","v":{"$error":"#DIV/0!"}},{"$f":"E14/COST_RES1!$G$12","v":{"$error":"#DIV/0!"}},{"$f":"F14/COST_RES1!$G$12","v":{"$error":"#DIV/0!"}},{"$f":"G14/COST_RES1!$G$12","v":{"$error":"#DIV/0!"}},{"$f":"H14/COST_RES1!$G$12","v":{"$error":"#DIV/0!"}},{"$f":"I14/COST_RES1!$G$12","v":{"$error":"#DIV/0!"}},{"$f":"J14/COST_RES1!$G$12","v":{"$error":"#DIV/0!"}},{"$f":"K14/COST_RES1!$G$12","v":{"$error":"#DIV/0!"}},{"$f":"L14/COST_RES1!$G$12","v":{"$error":"#DIV/0!"}},{"$f":"M14/COST_RES1!$G$12","v":{"$error":"#DIV/0!"}},{"$f":"N14/COST_RES1!$G$12","v":{"$error":"#DIV/0!"}},{"$f":"O14/COST_RES1!$G$12","v":{"$error":"#DIV/0!"}},{"$f":"P14/COST_RES1!$G$12","v":{"$error":"#DIV/0!"}},{"$f":"Q14/COST_RES1!$G$12","v":{"$error":"#DIV/0!"}},{"$f":"R14/COST_RES1!$G$12","v":{"$error":"#DIV/0!"}},{"$f":"S14/COST_RES1!$G$12","v":{"$error":"#DIV/0!"}},{"$f":"T14/COST_RES1!$G$12","v":{"$error":"#DIV/0!"}},{"$f":"U14/COST_RES1!$G$12","v":{"$error":"#DIV/0!"}},{"$f":"V14/COST_RES1!$G$12","v":{"$error":"#DIV/0!"}},{"$f":"W14/COST_RES1!$G$12","v":{"$error":"#DIV/0!"}}]
[null,{"$f":"title237","v":"Biomass price (USD/ton)"},{"$f":"SUM(C43:C44)","v":0},{"$f":"SUM(D43:D44)","v":0},0,0,0,0,0,0,0,0,0,0,0,0,0,0,0,0,0,0,0]
[null,{"$f":"title238","v":"Biomass cost of collection (USD/ton)"},{"$f":"COST_RES1!E33","v":0},{"$f":"C43*(1+D73+D74)","v":0},{"$f":"D43*(1+E73+E74)","v":0},0,0,0,0,0,0,0,0,0,0,0,0,0,0,0,0,0,0]
[null,{"$f":"title239","v":"Biomass transportation cost (USD/ton)"},{"$f":"C45*C46","v":0},{"$f":"D45*D46","v":0},0,0,0,0,0,0,0,0,0,0,0,0,0,0,0,0,0,0,0]
[null,{"$f":"title240","v":"Biomass from farm to plant (USD/ton/km)"},{"$f":"COST_RES1!E48","v":0},{"$f":"C45*(1+D73+D74)","v":0},{"$f":"D45*(1+E73+E74)","v":0},0,0,0,0,0,0,0,0,0,0,0,0,0,0,0,0,0,0]
[null,{"$f":"title241","v":"Transportation distant (km)"},{"$f":"COST_RES1!H48","v":0},{"$f":"C46","v":0},{"$f":"D46","v":0},0,0,0,0,0,0,0,0,0,0,0,0,0,0,{"$f":"S46","v":0},{"$f":"T46","v":0},{"$f":"U46","v":0},{"$f":"V46","v":0}]
[]
[null,{"$f":"title246","v":"Water cost (USD/year)"},{"$f":"COST_RES1!I35","v":0},{"$f":"C48*(1+D73+D74)","v":0},{"$f":"D48*(1+E73+E74)","v":0},0,0,0,0,0,0,0,0,0,0,0,0,0,0,0,0,0,0]
[]
[null,{"$f":"title242","v":"Chemical cost (USD/year)"},{"$f":"C51*C52","v":0},{"$f":"D51*D52","v":0},0,0,0,0,0,0,0,0,0,0,0,0,0,0,0,0,0,0,0]
[null,{"$f":"title243","v":"Chemical consumption (tons per year)"},{"$f":"+COST_RES1!$H$34","v":0},{"$f":"+COST_RES1!$H$34","v":0},{"$f":"+COST_RES1!$H$34","v":0},{"$f":"+COST_RES1!$H$34","v":0},{"$f":"+COST_RES1!$H$34","v":0},{"$f":"+COST_RES1!$H$34","v":0},{"$f":"+COST_RES1!$H$34","v":0},{"$f":"+COST_RES1!$H$34","v":0},{"$f":"+COST_RES1!$H$34","v":0},{"$f":"+COST_RES1!$H$34","v":0},{"$f":"+COST_RES1!$H$34","v":0},{"$f":"+COST_RES1!$H$34","v":0},{"$f":"+COST_RES1!$H$34","v":0},{"$f":"+COST_RES1!$H$34","v":0},{"$f":"+COST_RES1!$H$34","v":0},{"$f":"+COST_RES1!$H$34","v":0},{"$f":"+COST_RES1!$H$34","v":0},{"$f":"+COST_RES1!$H$34","v":0},{"$f":"+COST_RES1!$H$34","v":0},{"$f":"+COST_RES1!$H$34","v":0},{"$f":"+COST_RES1!$H$34","v":0}]
[null,{"$f":"title244","v":"Chemical price (USD/ton)"},{"$f":"+'Data entry needs'!$D$20","v":0},{"$f":"C52","v":0},{"$f":"D52","v":0},0,0,0,0,0,0,0,0,0,0,0,0,0,0,0,0,0,0]
[null,{"$f":"title245","v":"Electricity cost (USD)"},{"$f":"COST_RES1!I36","v":0},{"$f":"C53*(1+D73+D74)","v":0},{"$f":"D53*(1+E73+E74)","v":0},0,0,0,0,0,0,0,0,0,0,0,0,0,0,0,0,0,0]
[]
[null,{"$f":"title247","v":"Sub-total operating cost (USD)"},{"$f":"C56+C58+C59","v":{"$error":"#DIV/0!"}},{"$f":"D56+D58+D59","v":{"$error":"#DIV/0!"}},{"$error":"#DIV/0!"},{"$error":"#DIV/0!"},{"$error":"#DIV/0!"},{"$error":"#DIV/0!"},{"$error":"#DIV/0!"},{"$error":"#DIV/0!"},{"$error":"#DIV/0!"},{"$error":"#DIV/0!"},{"$error":"#DIV/0!"},{"$error":"#DIV/0!"},{"$error":"#DIV/0!"},{"$error":"#DIV/0!"},{"$error":"#DIV/0!"},{"$error":"#DIV/0!"},{"$error":"#DIV/0!"},{"$error":"#DIV/0!"},{"$error":"#DIV/0!"},{"$error":"#DIV/0!"},{"$error":"#DIV/0!"}]
[null,{"$f":"title248","v":"Labour cost (USD)"},{"$f":"COST_RES1!I44","v":0},{"$f":"C56*(1+D57)","v":0},0,0,0,0,0,0,0,0,0,0,0,0,0,0,0,0,0,0,0]
[null,{"$f":"title249","v":"Annual change in labour cost (%)"},null,{"$f":"COST_RES1!M12","v":0},{"$f":"D57","v":0},0,0,0,0,0,0,0,0,0,0,0,0,0,0,0,0,0,0]
[null,{"$f":"title249","v":"Annual change in labour cost (%)"},{"$f":"COST_RES1!I70","v":0},{"$f":"C58","v":0},{"$f":"D58","v":0},0,0,0,0,0,0,0,0,0,0,0,0,0,0,0,{"$f":"T58","v":0},0,0]
[null,{"$f":"title250","v":"General and administrative cost"},{"$f":"COST_RES1!I71","v":{"$error":"#DIV/0!"}},{"$f":"C59","v":{"$error":"#DIV/0!"}},{"$error":"#DIV/0!"},{"$error":"#DIV/0!"},{"$error":"#DIV/0!"},{"$error":"#DIV/0!"},{"$error":"#DIV/0!"},{"$error":"#DIV/0!"},{"$error":"#DIV/0!"},{"$error":"#DIV/0!"},{"$error":"#DIV/0!"},{"$error":"#DIV/0!"},{"$error":"#DIV/0!"},{"$error":"#DIV/0!"},{"$error":"#DIV/0!"},{"$error":"#DIV/0!"},{"$error":"#DIV/0!"},{"$error":"#DIV/0!"},{"$error":"#DIV/0!"},{"$error":"#DIV/0!"},{"$error":"#DIV/0!"}]
[null,{"$f":"title251","v":"Sub-total maintenance cost (USD)"},{"$f":"COST_RES1!I65","v":0},{"$f":"C60","v":0},0,0,0,0,0,0,0,0,0,0,0,0,0,0,0,0,0,0,0]
[]
[null,{"$f":"title252","v":"Sub-total of annual fixed costs"},{"$f":"+E33","v":0},{"$f":"C62","v":0},{"$f":"D62","v":0},0,0,0,0,0,0,0,0,0,0,0,0,0,0,0,0,0,0]
[]
[null,{"$f":"title253","v":"Sub-total of storage capacity"},{"$f":"COST_RES1!I56","v":{"$error":"#DIV/0!"}},{"$f":"C64","v":{"$error":"#DIV/0!"}},{"$f":"D64","v":{"$error":"#DIV/0!"}},{"$error":"#DIV/0!"},{"$error":"#DIV/0!"},{"$error":"#DIV/0!"},{"$error":"#DIV/0!"},{"$error":"#DIV/0!"},{"$error":"#DIV/0!"},{"$error":"#DIV/0!"},{"$error":"#DIV/0!"},{"$error":"#DIV/0!"},{"$error":"#DIV/0!"},{"$error":"#DIV/0!"},{"$error":"#DIV/0!"},{"$error":"#DIV/0!"},{"$error":"#DIV/0!"},{"$error":"#DIV/0!"},{"$error":"#DIV/0!"},{"$error":"#DIV/0!"},{"$error":"#DIV/0!"}]
[]
[null,{"$f":"title254","v":"Sub-total of briquette transportation to market"},{"$f":"COST_RES1!I49","v":0},{"$f":"C66*(1+D73+D74)","v":0},{"$f":"D66*(1+E73+E74)","v":0},0,0,0,0,0,0,0,0,0,0,0,0,0,0,0,0,0,0]
[]
[null,{"$f":"title255","v":"Total operation and maintenance cost (USD)"},{"$f":"C39+C55+C60+C62+C64+C66","v":{"$error":"#DIV/0!"}},{"$f":"D39+D55+D60+D62+D64+D66","v":{"$error":"#DIV/0!"}},{"$error":"#DIV/0!"},{"$error":"#DIV/0!"},{"$error":"#DIV/0!"},{"$error":"#DIV/0!"},{"$error":"#DIV/0!"},{"$error":"#DIV/0!"},{"$error":"#DIV/0!"},{"$error":"#DIV/0!"},{"$error":"#DIV/0!"},{"$error":"#DIV/0!"},{"$error":"#DIV/0!"},{"$error":"#DIV/0!"},{"$error":"#DIV/0!"},{"$error":"#DIV/0!"},{"$error":"#DIV/0!"},{"$error":"#DIV/0!"},{"$error":"#DIV/0!"},{"$error":"#DIV/0!"},{"$error":"#DIV/0!"}]
[null,{"$f":"title256","v":"Operation and maintenance cost (USD/kg of briquette) without loan interest"},{"$f":"C68/(C14*1000)","v":{"$error":"#DIV/0!"}},{"$error":"#DIV/0!"},{"$error":"#DIV/0!"},{"$error":"#DIV/0!"},{"$error":"#DIV/0!"},{"$error":"#DIV/0!"},{"$error":"#DIV/0!"},{"$error":"#DIV/0!"},{"$error":"#DIV/0!"},{"$error":"#DIV/0!"},{"$error":"#DIV/0!"},{"$error":"#DIV/0!"},{"$error":"#DIV/0!"},{"$error":"#DIV/0!"},{"$error":"#DIV/0!"},{"$error":"#DIV/0!"},{"$error":"#DIV/0!"},{"$error":"#DIV/0!"},{"$error":"#DIV/0!"},{"$error":"#DIV/0!"},{"$error":"#DIV/0!"}]
[]
[{"$f":"title164","v":"Financial parameters"}]
[null,{"$f":"title209","v":"Operating Year"},{"$f":"title230","v":"Appraisal"},1,2,3,4,5,6,7,8,9,10,11,12,13,14,15,16,17,18,19,20]
[null,{"$f":"title257","v":"Annual change in raw material cost (%)"},null,0,{"$f":"D73","v":0},{"$f":"E73","v":0},0,0,0,0,0,0,0,0,0,0,0,0,0,0,0,{"$f":"U73","v":0},{"$f":"V73","v":0}]
[null,{"$f":"title258","v":"Inflation rate (%)"},null,{"$f":"COST_RES1!J12","v":0},{"$f":"D74","v":0},0,0,0,0,0,0,0,0,0,0,0,0,0,0,0,0,{"$f":"U74","v":0},{"$f":"V74","v":0}]
[null,{"$f":"title165&\" (%)\"","v":"Discount rate (%)"},{"$f":"COST_RES1!J9","v":0}]
[null,{"$f":"title166&\" (%)\"","v":"Loan ratio (%)"},{"$f":"COST_RES1!J10","v":0}]
[]
[null,{"$f":"title259","v":"Loan without policy"},{"$f":"title230","v":"Appraisal"},1,2,3,4,5,6,7,8,9,10,11,12,13,14,15,16,17,18,19,20]
[null,{"$f":"title260","v":"Loan amount (USD)"},{"$f":"C76*(C33)","v":0}]
[null,{"$f":"title167&\" (%)\"","v":"Loan interest rate (%)"},{"$f":"COST_RES1!J11","v":0}]
[null,{"$f":"title261","v":"Loan term (years)"},{"$f":"COST_RES1!M9","v":0}]
[null,{"$f":"title262","v":"Loan payment (USD/month)"},{"$f":"(PMT($C$80/12,(12*$C$81),$C$79))","v":{"$error":"#NUM!"}}]
[null,{"$f":"title263","v":"Loan payment (USD/year)"},null,{"$f":"IF(D72<=$C$81,$C$82*12,0)","v":0},{"$f":"IF(E72<$C$81,$C$82*12,IF(E72=$C$81,$C$82*12,0))","v":0},{"$f":"IF(F72<$C$81,$C$82*12,IF(F72=$C$81,$C$82*12,0))","v":0},0,0,0,0,0,0,0,0,0,0,0,0,0,0,0,0,0]
[null,{"$f":"title264","v":"Total loan payment (USD)"},{"$f":"SUM(D83:W83)","v":0}]
[null,{"$f":"title265","v":"Loan interest payment (USD)"},{"$f":"C84+C79","v":0},{"$f":"title266","v":"Average loan interest payment for project lifetime"},null,null,{"$f":"C85/C25","v":0},{"$f":"title267","v":"USD per year"}]
[]
[{"$f":"title268","v":"Income tax analysis"}]
[null,{"$f":"title209","v":"Operating Year"},{"$f":"title230","v":"Appraisal"},1,2,3,4,5,6,7,8,9,10,11,12,13,14,15,16,17,18,19,20]
[null,{"$f":"title269","v":"Effective income tax rate (%)"},{"$f":"+'Data entry needs'!$AD$115","v":0},{"$f":"C89","v":0},{"$f":"D89","v":0},0,0,0,0,0,0,0,0,0,0,0,0,0,0,0,0,0,0]
[null,{"$f":"title270","v":"Income tax (USD)"},null,{"$f":"IF(D114<0,0,D89*D114)","v":{"$error":"#DIV/0!"}},{"$error":"#DIV/0!"},{"$error":"#DIV/0!"},{"$error":"#DIV/0!"},{"$error":"#DIV/0!"},{"$error":"#DIV/0!"},{"$error":"#DIV/0!"},{"$error":"#DIV/0!"},{"$error":"#DIV/0!"},{"$error":"#DIV/0!"},{"$error":"#DIV/0!"},{"$error":"#DIV/0!"},{"$error":"#DIV/0!"},{"$error":"#DIV/0!"},{"$error":"#DIV/0!"},{"$error":"#DIV/0!"},{"$error":"#DIV/0!"},{"$error":"#DIV/0!"},{"$error":"#DIV/0!"},{"$error":"#DIV/0!"}]
[null,{"$f":"title271","v":"Total income tax payment (USD)"},{"$f":"SUM(D90:W90)","v":{"$error":"#DIV/0!"}},{"$f":"title458","v":"Average income tax payment "},null,{"$f":"C91/C25","v":{"$error":"#DIV/0!"}},{"$f":"title267","v":"USD per year"}]
[]
[{"$f":"title272","v":"Depreciation"}]
[null,{"$f":"title209","v":"Operating Year"},{"$f":"title230","v":"Appraisal"},1,2,3,4,5,6,7,8,9,10,11,12,13,14,15,16,17,18,19,20]
[null,{"$f":"title273","v":"Depreciation method"},{"$f":"title275","v":"Straight-line"}]
[null,{"$f":"title274","v":"Total depreciation (USD)"},null,{"$f":"COST_RES1!I64","v":0},{"$f":"D96","v":0},{"$f":"E96","v":0},0,0,0,0,0,0,0,0,0,0,0,0,0,0,0,0,0]
[]
[{"$f":"title276","v":"Base case project summary"}]
[{"$f":"title277","v":"Summary of this project - Before Tax"}]
[null,{"$f":"title209","v":"Operating Year"},{"$f":"title230","v":"Appraisal"},1,2,3,4,5,6,7,8,9,10,11,12,13,14,15,16,17,18,19,20]
[null,{"$f":"title278","v":"Total revenue (USD)"},null,{"$f":"D15*1000*D18","v":0},{"$f":"E15*1000*E18","v":0},0,0,0,0,0,0,0,0,0,0,0,0,0,0,0,0,0,0]
[null,{"$f":"title228","v":"Total capital cost (USD)"},{"$f":"-(C33-C79)","v":0}]
[null,{"$f":"title279","v":"Total operating and maintenance cost (USD)"},null,{"$f":"-D68+D62","v":{"$error":"#DIV/0!"}},{"$error":"#DIV/0!"},{"$error":"#DIV/0!"},{"$error":"#DIV/0!"},{"$error":"#DIV/0!"},{"$error":"#DIV/0!"},{"$error":"#DIV/0!"},{"$error":"#DIV/0!"},{"$error":"#DIV/0!"},{"$error":"#DIV/0!"},{"$error":"#DIV/0!"},{"$error":"#DIV/0!"},{"$error":"#DIV/0!"},{"$error":"#DIV/0!"},{"$error":"#DIV/0!"},{"$error":"#DIV/0!"},{"$error":"#DIV/0!"},{"$error":"#DIV/0!"},{"$error":"#DIV/0!"},{"$error":"#DIV/0!"}]
[null,{"$f":"title280","v":"Loan payment (USD)"},null,{"$f":"D83","v":0},{"$f":"E83","v":0},0,0,0,0,0,0,0,0,0,0,0,0,0,0,0,0,0,0]
[null,{"$f":"title281","v":"Cash flow - before tax (USD)"},{"$f":"SUM(C101:C104)","v":0},{"$error":"#DIV/0!"},{"$error":"#DIV/0!"},{"$error":"#DIV/0!"},{"$error":"#DIV/0!"},{"$error":"#DIV/0!"},{"$error":"#DIV/0!"},{"$error":"#DIV/0!"},{"$error":"#DIV/0!"},{"$error":"#DIV/0!"},{"$error":"#DIV/0!"},{"$error":"#DIV/0!"},{"$error":"#DIV/0!"},{"$error":"#DIV/0!"},{"$error":"#DIV/0!"},{"$error":"#DIV/0!"},{"$error":"#DIV/0!"},{"$error":"#DIV/0!"},{"$error":"#DIV/0!"},{"$error":"#DIV/0!"},{"$error":"#DIV/0!"}]
[null,{"$f":"title282","v":"Average revenue (USD)"}]
[]
[{"$f":"title283","v":"Summary of this project - After Tax"}]
[null,{"$f":"title209","v":"Operating Year"},{"$f":"title230","v":"Appraisal"},1,2,3,4,5,6,7,8,9,10,11,12,13,14,15,16,17,18,19,20]
[null,{"$f":"B101","v":"Total revenue (USD)"},{"$f":"C101","v":0},{"$f":"D101","v":0},0,0,0,0,0,0,0,0,0,0,0,0,0,0,0,0,0,0,0]
[null,{"$f":"title279","v":"Total operating and maintenance cost (USD)"},null,{"$f":"-D68+D62","v":{"$error":"#DIV/0!"}},{"$error":"#DIV/0!"},{"$error":"#DIV/0!"},{"$error":"#DIV/0!"},{"$error":"#DIV/0!"},{"$error":"#DIV/0!"},{"$error":"#DIV/0!"},{"$error":"#DIV/0!"},{"$error":"#DIV/0!"},{"$error":"#DIV/0!"},{"$error":"#DIV/0!"},{"$error":"#DIV/0!"},{"$error":"#DIV/0!"},{"$error":"#DIV/0!"},{"$error":"#DIV/0!"},{"$error":"#DIV/0!"},{"$error":"#DIV/0!"},{"$error":"#DIV/0!"},{"$error":"#DIV/0!"},{"$error":"#DIV/0!"}]
[null,{"$f":"title280","v":"Loan payment (USD)"},null,{"$f":"$G$85","v":0},{"$f":"$G$85","v":0},0,0,0,0,0,0,0,0,0,0,0,0,0,0,0,0,0,0]
[null,{"$f":"title284","v":"Depreciation of fixed costs (USD)"},null,{"$f":"-D62","v":0},{"$f":"-E62","v":0},0,0,0,0,0,0,0,0,0,0,0,0,0,0,0,0,0,0]
[null,{"$f":"title285","v":"Net profit - before tax (USD) for income tax calculation"},{"$f":"SUM(C110:C113)","v":0},{"$f":"SUM(D110:D113)","v":{"$error":"#DIV/0!"}},{"$f":"SUM(E110:E113)","v":{"$error":"#DIV/0!"}},{"$error":"#DIV/0!"},{"$error":"#DIV/0!"},{"$error":"#DIV/0!"},{"$error":"#DIV/0!"},{"$error":"#DIV/0!"},{"$error":"#DIV/0!"},{"$error":"#DIV/0!"},{"$error":"#DIV/0!"},{"$error":"#DIV/0!"},{"$error":"#DIV/0!"},{"$error":"#DIV/0!"},{"$error":"#DIV/0!"},{"$error":"#DIV/0!"},{"$error":"#DIV/0!"},{"$error":"#DIV/0!"},{"$error":"#DIV/0!"},{"$error":"#DIV/0!"},{"$error":"#DIV/0!"}]
[null,{"$f":"title286","v":"Income tax"},null,{"$f":"IF(D114>0,-D90,0)","v":{"$error":"#DIV/0!"}},{"$error":"#DIV/0!"},{"$error":"#DIV/0!"},{"$error":"#DIV/0!"},{"$error":"#DIV/0!"},{"$error":"#DIV/0!"},{"$error":"#DIV/0!"},{"$error":"#DIV/0!"},{"$error":"#DIV/0!"},{"$error":"#DIV/0!"},{"$error":"#DIV/0!"},{"$error":"#DIV/0!"},{"$error":"#DIV/0!"},{"$error":"#DIV/0!"},{"$error":"#DIV/0!"},{"$error":"#DIV/0!"},{"$error":"#DIV/0!"},{"$error":"#DIV/0!"},{"$error":"#DIV/0!"},{"$error":"#DIV/0!"}]
[null,{"$f":"title287","v":"Cash flow - after tax (USD)"},{"$f":"C102","v":0},{"$f":"D105+D115","v":{"$error":"#DIV/0!"}},{"$f":"E105+E115","v":{"$error":"#DIV/0!"}},{"$error":"#DIV/0!"},{"$error":"#DIV/0!"},{"$error":"#DIV/0!"},{"$error":"#DIV/0!"},{"$error":"#DIV/0!"},{"$error":"#DIV/0!"},{"$error":"#DIV/0!"},{"$error":"#DIV/0!"},{"$error":"#DIV/0!"},{"$error":"#DIV/0!"},{"$error":"#DIV/0!"},{"$error":"#DIV/0!"},{"$error":"#DIV/0!"},{"$error":"#DIV/0!"},{"$error":"#DIV/0!"},{"$error":"#DIV/0!"},{"$error":"#DIV/0!"},{"$f":"W105+W115","v":{"$error":"#DIV/0!"}}]
[]
[{"$f":"title288","v":"Cumulative value of Net Profit"}]
[null,{"$f":"title209","v":"Operating Year"},{"$f":"title230","v":"Appraisal"},1,2,3,4,5,6,7,8,9,10,11,12,13,14,15,16,17,18,19,20]
[null,{"$f":"title289","v":"Cumulative value of net profit - before tax"},{"$f":"C105","v":0},{"$f":"C120+(D105)","v":{"$error":"#DIV/0!"}},{"$error":"#DIV/0!"},{"$error":"#DIV/0!"},{"$error":"#DIV/0!"},{"$error":"#DIV/0!"},{"$error":"#DIV/0!"},{"$error":"#DIV/0!"},{"$error":"#DIV/0!"},{"$error":"#DIV/0!"},{"$error":"#DIV/0!"},{"$error":"#DIV/0!"},{"$error":"#DIV/0!"},{"$error":"#DIV/0!"},{"$error":"#DIV/0!"},{"$error":"#DIV/0!"},{"$error":"#DIV/0!"},{"$error":"#DIV/0!"},{"$error":"#DIV/0!"},{"$error":"#DIV/0!"},{"$error":"#DIV/0!"}]
[null,{"$f":"title290","v":"Cumulative value of net profit - after tax"},{"$f":"C116","v":0},{"$f":"C121+(D116)","v":{"$error":"#DIV/0!"}},{"$error":"#DIV/0!"},{"$error":"#DIV/0!"},{"$error":"#DIV/0!"},{"$error":"#DIV/0!"},{"$error":"#DIV/0!"},{"$error":"#DIV/0!"},{"$error":"#DIV/0!"},{"$error":"#DIV/0!"},{"$error":"#DIV/0!"},{"$error":"#DIV/0!"},{"$error":"#DIV/0!"},{"$error":"#DIV/0!"},{"$error":"#DIV/0!"},{"$error":"#DIV/0!"},{"$error":"#DIV/0!"},{"$error":"#DIV/0!"},{"$error":"#DIV/0!"},{"$error":"#DIV/0!"},{"$error":"#DIV/0!"}]
[]
[{"$f":"title291","v":"Financial analysis results"}]
[]
[null,{"$f":"title292","v":"Net present value (NPV) (USD) - before tax"},{"$f":"NPV(C75,D105:W105)+C105","v":{"$error":"#DIV/0!"}}]
[null,{"$f":"title293","v":"Internal rate of return (IRR) (%) - before tax"},{"$f":"IF(C125<0,title459,IF(TIR_cell=title519,IRR(C105:W105,0.001),MIRR(C105:W105,C80,C75)))","v":{"$error":"#DIV/0!"}}]
[null,{"$f":"title294","v":"Payback period (years)"},{"$f":"title298","v":"Please see Figure of the cumulative value of net profit - before tax"}]
[]
[]
[null,{"$f":"title295","v":"Net present value (NPV) (USD) - after tax"},{"$f":"NPV(C75,D116:W116)+C116","v":{"$error":"#DIV/0!"}}]
[null,{"$f":"title296","v":"Internal rate of return (IRR) (%) - after tax"},{"$f":"IF(C130<0,title459,MIRR(C116:W116,$C$80,0%))","v":{"$error":"#DIV/0!"}}]
[null,{"$f":"title294","v":"Payback period (years)"},{"$f":"title299","v":"Please see Figure of the cumulative value of net profit - after tax"}]
[null,{"$f":"title297","v":"Total Income tax payment of project lifetime"},{"$f":"SUM(D115:W115)","v":{"$error":"#DIV/0!"}}]

{"sheet":"FA400_URBAN_RES1","index":20,"n_rows":134,"n_cols":23,"rows_kept":134,"cut":false,"hidden":true,"merged":[[1,1,1,13]]}
[]
[null,{"$f":"title301","v":"FINANCIAL ANALYSIS OF BIOMASS BRIQUETTING 400 KG/HOUR"}]
[]
[{"$f":"title208","v":"Revenues of biomass briquetting system"}]
[null,{"$f":"title209","v":"Operating Year"},0,1,2,3,4,5,6,7,8,9,10,11,12,13,14,15,16,17,18,19,20]
[]
[null,{"$f":"title210","v":"Briquette production capacity (tons per year)"},{"$f":"COST_RES1!J29","v":0},{"$f":"C7","v":0},{"$f":"D7","v":0},0,0,0,0,0,0,0,0,0,0,0,0,0,0,0,0,0,0]
[]
[null,{"$f":"title211","v":"Efficiency % of briquetting machine"},{"$f":"COST_RES1!G12","v":0},{"$f":"C9","v":0},{"$f":"D9","v":0},0,0,0,0,0,0,0,0,0,0,0,0,0,0,0,0,0,0]
[]
[null,{"$f":"title212","v":"Operating hours per year"},{"$f":"COST_RES1!K28","v":0},{"$f":"C11","v":0},{"$f":"D11","v":0},0,0,0,0,0,0,0,0,0,0,0,0,0,0,0,0,0,0]
[null,{"$f":"title213","v":"Capacity utilization factor"},{"$f":"C11/8760","v":0},{"$f":"D11/8760","v":0},0,0,0,0,0,0,0,0,0,0,0,0,0,0,0,0,0,0,0]
[]
[null,{"$f":"title214","v":"Briquette production (tons per year)"},{"$f":"C7","v":0},{"$f":"D7","v":0},0,0,0,0,0,0,0,0,0,0,0,0,0,0,0,0,0,0,0]
[null,{"$f":"title215","v":"Total briquette sell to customers (tons per year)"},{"$f":"SUM(C14:C14)","v":0},{"$f":"SUM(D14:D14)","v":0},0,0,0,0,0,0,0,0,0,0,0,0,0,0,0,0,0,0,0]
[]
[null,{"$f":"title216","v":"Price of briquette (USD/kg)"},{"$f":"SUM(C18:C18)","v":0},0,0,0,0,0,0,0,0,0,0,0,0,0,0,0,0,0,0,0,0]
[null,{"$f":"title217","v":"Market price of briquette pay by consumers (USD/kg)"},{"$f":"+'Energy Demand'!G20","v":0},{"$f":"C18*(1+D19)","v":0},0,0,0,0,0,0,0,0,0,0,0,0,0,0,0,0,0,0,0]
[null,{"$f":"title218","v":"Increasing rate of price of briquette (%)"},{"$f":"+'Data entry needs'!$AD$114","v":0},{"$f":"C19","v":0},{"$f":"D19","v":0},0,0,0,0,0,0,0,0,0,0,0,0,0,0,0,0,0,0]
[]
[null,{"$f":"title219","v":"Total income of briquette (USD per year)"},{"$f":"C15*C18*1000","v":0},{"$f":"D15*D18*1000","v":0},0,0,0,0,0,0,0,0,0,0,0,0,0,0,0,0,0,0,0]
[]
[null,{"$f":"title220","v":"Lifespan of civil work (years)"},{"$f":"COST_RES1!E61","v":10}]
[null,{"$f":"title221","v":"Lifespan of briquette system (years)"},{"$f":"COST_RES1!E60","v":10}]
[null,{"$f":"title222","v":"Project life time (years)"},20]
[]
[{"$f":"title223","v":"Capital and operating cost of biomass briquette system "}]
[]
[null,null,{"$f":"title230","v":"Appraisal"},{"$f":"title231","v":"Project lifetime"},{"$f":"title232","v":"Investment per year"}]
[null,{"$f":"title224","v":"Direct capital cost (USD)"}]
[null,{"$f":"title225","v":"Equipments"},{"$f":"D31*E31","v":0},{"$f":"$C$25","v":20},{"$f":"COST_RES1!J60/D31","v":0}]
[null,{"$f":"title226","v":"Building"},{"$f":"D32*E32","v":0},{"$f":"$C$25","v":20},{"$f":"COST_RES1!J61/D32","v":0}]
[null,{"$f":"title227","v":"Installation"},{"$f":"D33*E33","v":0},{"$f":"$C$25","v":20},{"$f":"COST_RES1!J62/D33","v":0}]
[null,{"$f":"title228","v":"Total capital cost (USD)"},{"$f":"SUM(C31:C33)","v":0},null,{"$f":"SUM(E31:E33)","v":0}]
[null,{"$f":"title229","v":"Capital cost (USD/kg of briquette)"},{"$f":"C34/(C14*1000*C25)","v":{"$error":"#DIV/0!"}}]
[]
[]
[null,{"$f":"title209","v":"Operating Year"},{"$f":"title230","v":"Appraisal"},1,2,3,4,5,6,7,8,9,10,11,12,13,14,15,16,17,18,19,20]
[null,{"$f":"title233","v":"Annual operating and maintenance cost "}]
[null,{"$f":"title234","v":"Sub-total material cost (USD)"},{"$f":"C41+C49+C51+C54","v":{"$error":"#DIV/0!"}},{"$f":"D41+D49+D51+D54","v":{"$error":"#DIV/0!"}},{"$error":"#DIV/0!"},{"$error":"#DIV/0!"},{"$error":"#DIV/0!"},{"$error":"#DIV/0!"},{"$error":"#DIV/0!"},{"$error":"#DIV/0!"},{"$error":"#DIV/0!"},{"$error":"#DIV/0!"},{"$error":"#DIV/0!"},{"$error":"#DIV/0!"},{"$error":"#DIV/0!"},{"$error":"#DIV/0!"},{"$error":"#DIV/0!"},{"$error":"#DIV/0!"},{"$error":"#DIV/0!"},{"$error":"#DIV/0!"},{"$error":"#DIV/0!"},{"$error":"#DIV/0!"},{"$error":"#DIV/0!"}]
[null,{"$f":"title235","v":"Biomass cost (USD/year)"},{"$f":"C42*C43","v":{"$error":"#DIV/0!"}},{"$f":"D42*D43","v":{"$error":"#DIV/0!"}},{"$error":"#DIV/0!"},{"$error":"#DIV/0!"},{"$error":"#DIV/0!"},{"$error":"#DIV/0!"},{"$error":"#DIV/0!"},{"$error":"#DIV/0!"},{"$error":"#DIV/0!"},{"$error":"#DIV/0!"},{"$error":"#DIV/0!"},{"$error":"#DIV/0!"},{"$error":"#DIV/0!"},{"$error":"#DIV/0!"},{"$error":"#DIV/0!"},{"$error":"#DIV/0!"},{"$error":"#DIV/0!"},{"$error":"#DIV/0!"},{"$error":"#DIV/0!"},{"$error":"#DIV/0!"},{"$error":"#DIV/0!"}]
[null,{"$f":"title236","v":"Biomass consumption (ton per year)"},{"$f":"C14/COST_RES1!$G$12","v":{"$error":"#DIV/0!"}},{"$f":"D14/COST_RES1!$G$12","v":{"$error":"#DIV/0!"}},{"$f":"E14/COST_RES1!$G$12","v":{"$error":"#DIV/0!"}},{"$f":"F14/COST_RES1!$G$12","v":{"$error":"#DIV/0!"}},{"$f":"G14/COST_RES1!$G$12","v":{"$error":"#DIV/0!"}},{"$f":"H14/COST_RES1!$G$12","v":{"$error":"#DIV/0!"}},{"$f":"I14/COST_RES1!$G$12","v":{"$error":"#DIV/0!"}},{"$f":"J14/COST_RES1!$G$12","v":{"$error":"#DIV/0!"}},{"$f":"K14/COST_RES1!$G$12","v":{"$error":"#DIV/0!"}},{"$f":"L14/COST_RES1!$G$12","v":{"$error":"#DIV/0!"}},{"$f":"M14/COST_RES1!$G$12","v":{"$error":"#DIV/0!"}},{"$f":"N14/COST_RES1!$G$12","v":{"$error":"#DIV/0!"}},{"$f":"O14/COST_RES1!$G$12","v":{"$error":"#DIV/0!"}},{"$f":"P14/COST_RES1!$G$12","v":{"$error":"#DIV/0!"}},{"$f":"Q14/COST_RES1!$G$12","v":{"$error":"#DIV/0!"}},{"$f":"R14/COST_RES1!$G$12","v":{"$error":"#DIV/0!"}},{"$f":"S14/COST_RES1!$G$12","v":{"$error":"#DIV/0!"}},{"$f":"T14/COST_RES1!$G$12","v":{"$error":"#DIV/0!"}},{"$f":"U14/COST_RES1!$G$12","v":{"$error":"#DIV/0!"}},{"$f":"V14/COST_RES1!$G$12","v":{"$error":"#DIV/0!"}},{"$f":"W14/COST_RES1!$G$12","v":{"$error":"#DIV/0!"}}]
[null,{"$f":"title237","v":"Biomass price (USD/ton)"},{"$f":"SUM(C44:C45)","v":0},{"$f":"SUM(D44:D45)","v":0},0,0,0,0,0,0,0,0,0,0,0,0,0,0,0,0,0,0,0]
[null,{"$f":"title238","v":"Biomass cost of collection (USD/ton)"},{"$f":"COST_RES1!E33","v":0},{"$f":"C44*(1+D74+D75)","v":0},{"$f":"D44*(1+E74+E75)","v":0},0,0,0,0,0,0,0,0,0,0,0,0,0,0,0,0,0,0]
[null,{"$f":"title239","v":"Biomass transportation cost (USD/ton)"},{"$f":"C46*C47","v":0},{"$f":"D46*D47","v":0},0,0,0,0,0,0,0,0,0,0,0,0,0,0,0,0,0,0,0]
[null,{"$f":"title240","v":"Biomass from farm to plant (USD/ton/km)"},{"$f":"COST_RES1!E48","v":0},{"$f":"C46*(1+D74+D75)","v":0},{"$f":"D46*(1+E74+E75)","v":0},0,0,0,0,0,0,0,0,0,0,0,0,0,0,0,0,0,0]
[null,{"$f":"title241","v":"Transportation distant (km)"},{"$f":"COST_RES1!J48","v":0},{"$f":"C47","v":0},{"$f":"D47","v":0},0,0,0,0,0,0,0,0,0,0,0,0,0,0,{"$f":"S47","v":0},{"$f":"T47","v":0},{"$f":"U47","v":0},{"$f":"V47","v":0}]
[]
[null,{"$f":"title246","v":"Water cost (USD/year)"},{"$f":"COST_RES1!K35","v":0},{"$f":"C49*(1+D74+D75)","v":0},{"$f":"D49*(1+E74+E75)","v":0},0,0,0,0,0,0,0,0,0,0,0,0,0,0,0,0,0,0]
[]
[null,{"$f":"title242","v":"Chemical cost (USD/year)"},{"$f":"C52*C53","v":0},{"$f":"D52*D53","v":0},0,0,0,0,0,0,0,0,0,0,0,0,0,0,0,0,0,0,0]
[null,{"$f":"title243","v":"Chemical consumption (tons per year)"},{"$f":"+COST_RES1!$J$34","v":0},{"$f":"+COST_RES1!$J$34","v":0},{"$f":"+COST_RES1!$J$34","v":0},{"$f":"+COST_RES1!$J$34","v":0},{"$f":"+COST_RES1!$J$34","v":0},{"$f":"+COST_RES1!$J$34","v":0},{"$f":"+COST_RES1!$J$34","v":0},{"$f":"+COST_RES1!$J$34","v":0},{"$f":"+COST_RES1!$J$34","v":0},{"$f":"+COST_RES1!$J$34","v":0},{"$f":"+COST_RES1!$J$34","v":0},{"$f":"+COST_RES1!$J$34","v":0},{"$f":"+COST_RES1!$J$34","v":0},{"$f":"+COST_RES1!$J$34","v":0},{"$f":"+COST_RES1!$J$34","v":0},{"$f":"+COST_RES1!$J$34","v":0},{"$f":"+COST_RES1!$J$34","v":0},{"$f":"+COST_RES1!$J$34","v":0},{"$f":"+COST_RES1!$J$34","v":0},{"$f":"+COST_RES1!$J$34","v":0},{"$f":"+COST_RES1!$J$34","v":0}]
[null,{"$f":"title244","v":"Chemical price (USD/ton)"},{"$f":"+'Data entry needs'!$D$20","v":0},{"$f":"C53","v":0},{"$f":"D53","v":0},0,0,0,0,0,0,0,0,0,0,0,0,0,0,0,0,0,0]
[null,{"$f":"title245","v":"Electricity cost (USD)"},{"$f":"COST_RES1!K36","v":0},{"$f":"C54*(1+D74+D75)","v":0},{"$f":"D54*(1+E74+E75)","v":0},0,0,0,0,0,0,0,0,0,0,0,0,0,0,0,0,0,0]
[]
[null,{"$f":"title247","v":"Sub-total operating cost (USD)"},{"$f":"C57+C59+C60","v":{"$error":"#DIV/0!"}},{"$f":"D57+D59+D60","v":{"$error":"#DIV/0!"}},{"$error":"#DIV/0!"},{"$error":"#DIV/0!"},{"$error":"#DIV/0!"},{"$error":"#DIV/0!"},{"$error":"#DIV/0!"},{"$error":"#DIV/0!"},{"$error":"#DIV/0!"},{"$error":"#DIV/0!"},{"$error":"#DIV/0!"},{"$error":"#DIV/0!"},{"$error":"#DIV/0!"},{"$error":"#DIV/0!"},{"$error":"#DIV/0!"},{"$error":"#DIV/0!"},{"$error":"#DIV/0!"},{"$error":"#DIV/0!"},{"$error":"#DIV/0!"},{"$error":"#DIV/0!"},{"$error":"#DIV/0!"}]
[null,{"$f":"title248","v":"Labour cost (USD)"},{"$f":"COST_RES1!K44","v":0},{"$f":"C57*(1+D58)","v":0},0,0,0,0,0,0,0,0,0,0,0,0,0,0,0,0,0,0,0]
[null,"Annual change in  labour cost (%)",null,{"$f":"COST_RES1!M12","v":0},{"$f":"D58","v":0},0,0,0,0,0,0,0,0,0,0,0,0,0,0,0,0,0,0]
[null,{"$f":"title249","v":"Annual change in labour cost (%)"},{"$f":"COST_RES1!K70","v":0},{"$f":"C59","v":0},0,0,0,0,0,0,0,0,0,0,0,0,0,0,0,0,0,0,0]
[null,{"$f":"title250","v":"General and administrative cost"},{"$f":"COST_RES1!K71","v":{"$error":"#DIV/0!"}},{"$f":"C60","v":{"$error":"#DIV/0!"}},{"$error":"#DIV/0!"},{"$error":"#DIV/0!"},{"$error":"#DIV/0!"},{"$error":"#DIV/0!"},{"$error":"#DIV/0!"},{"$error":"#DIV/0!"},{"$error":"#DIV/0!"},{"$error":"#DIV/0!"},{"$error":"#DIV/0!"},{"$error":"#DIV/0!"},{"$error":"#DIV/0!"},{"$error":"#DIV/0!"},{"$error":"#DIV/0!"},{"$error":"#DIV/0!"},{"$error":"#DIV/0!"},{"$error":"#DIV/0!"},{"$error":"#DIV/0!"},{"$error":"#DIV/0!"},{"$error":"#DIV/0!"}]
[null,{"$f":"title251","v":"Sub-total maintenance cost (USD)"},{"$f":"COST_RES1!K65","v":0},{"$f":"C61","v":0},0,0,0,0,0,0,0,0,0,0,0,0,0,0,0,0,0,0,0]
[]
[null,{"$f":"title252","v":"Sub-total of annual fixed costs"},{"$f":"+E34","v":0},{"$f":"C63","v":0},{"$f":"D63","v":0},0,0,0,0,0,0,0,0,0,0,0,0,0,0,0,0,0,0]
[]
[null,{"$f":"title253","v":"Sub-total of storage capacity"},{"$f":"COST_RES1!K56","v":{"$error":"#DIV/0!"}},{"$f":"C65","v":{"$error":"#DIV/0!"}},{"$f":"D65","v":{"$error":"#DIV/0!"}},{"$error":"#DIV/0!"},{"$error":"#DIV/0!"},{"$error":"#DIV/0!"},{"$error":"#DIV/0!"},{"$error":"#DIV/0!"},{"$error":"#DIV/0!"},{"$error":"#DIV/0!"},{"$error":"#DIV/0!"},{"$error":"#DIV/0!"},{"$error":"#DIV/0!"},{"$error":"#DIV/0!"},{"$error":"#DIV/0!"},{"$error":"#DIV/0!"},{"$error":"#DIV/0!"},{"$error":"#DIV/0!"},{"$error":"#DIV/0!"},{"$error":"#DIV/0!"},{"$error":"#DIV/0!"}]
[]
[null,{"$f":"title254","v":"Sub-total of briquette transportation to market"},{"$f":"COST_RES1!K49","v":0},{"$f":"C67*(1+D74+D75)","v":0},{"$f":"D67*(1+E74+E75)","v":0},0,0,0,0,0,0,0,0,0,0,0,0,0,0,0,0,0,0]
[]
[null,{"$f":"title255","v":"Total operation and maintenance cost (USD)"},{"$f":"C40+C56+C61+C63+C65+C67","v":{"$error":"#DIV/0!"}},{"$f":"D40+D56+D61+D63+D65+D67","v":{"$error":"#DIV/0!"}},{"$error":"#DIV/0!"},{"$error":"#DIV/0!"},{"$error":"#DIV/0!"},{"$error":"#DIV/0!"},{"$error":"#DIV/0!"},{"$error":"#DIV/0!"},{"$error":"#DIV/0!"},{"$error":"#DIV/0!"},{"$error":"#DIV/0!"},{"$error":"#DIV/0!"},{"$error":"#DIV/0!"},{"$error":"#DIV/0!"},{"$error":"#DIV/0!"},{"$error":"#DIV/0!"},{"$error":"#DIV/0!"},{"$error":"#DIV/0!"},{"$error":"#DIV/0!"},{"$error":"#DIV/0!"},{"$error":"#DIV/0!"}]
[null,{"$f":"title256","v":"Operation and maintenance cost (USD/kg of briquette) without loan interest"},{"$f":"C69/(C14*1000)","v":{"$error":"#DIV/0!"}},{"$error":"#DIV/0!"},{"$error":"#DIV/0!"},{"$error":"#DIV/0!"},{"$error":"#DIV/0!"},{"$error":"#DIV/0!"},{"$error":"#DIV/0!"},{"$error":"#DIV/0!"},{"$error":"#DIV/0!"},{"$error":"#DIV/0!"},{"$error":"#DIV/0!"},{"$error":"#DIV/0!"},{"$error":"#DIV/0!"},{"$error":"#DIV/0!"},{"$error":"#DIV/0!"},{"$error":"#DIV/0!"},{"$error":"#DIV/0!"},{"$error":"#DIV/0!"},{"$error":"#DIV/0!"},{"$error":"#DIV/0!"},{"$error":"#DIV/0!"}]
[]
[{"$f":"title164","v":"Financial parameters"}]
[null,{"$f":"title209","v":"Operating Year"},{"$f":"title230","v":"Appraisal"},1,2,3,4,5,6,7,8,9,10,11,12,13,14,15,16,17,18,19,20]
[null,{"$f":"title257","v":"Annual change in raw material cost (%)"},null,0,{"$f":"D74","v":0},{"$f":"E74","v":0},0,0,0,0,0,0,0,0,0,0,0,0,0,0,0,{"$f":"U74","v":0},{"$f":"V74","v":0}]
[null,{"$f":"title258","v":"Inflation rate (%)"},null,{"$f":"COST_RES1!J12","v":0},{"$f":"D75","v":0},0,0,0,0,0,0,0,0,0,0,0,0,0,0,0,0,{"$f":"U75","v":0},{"$f":"V75","v":0}]
[null,{"$f":"title165&\" (%)\"","v":"Discount rate (%)"},{"$f":"COST_RES1!J9","v":0}]
[null,{"$f":"title166&\" (%)\"","v":"Loan ratio (%)"},{"$f":"COST_RES1!J10","v":0}]
[]
[null,{"$f":"title259","v":"Loan without policy"},{"$f":"title230","v":"Appraisal"},1,2,3,4,5,6,7,8,9,10,11,12,13,14,15,16,17,18,19,20]
[null,{"$f":"title260","v":"Loan amount (USD)"},{"$f":"C77*(C34)","v":0}]
[null,{"$f":"title167&\" (%)\"","v":"Loan interest rate (%)"},{"$f":"COST_RES1!J11","v":0}]
[null,{"$f":"title261","v":"Loan term (years)"},{"$f":"COST_RES1!M9","v":0}]
[null,{"$f":"title262","v":"Loan payment (USD/month)"},{"$f":"(PMT($C$81/12,(12*$C$82),$C$80))","v":{"$error":"#NUM!"}}]
[null,{"$f":"title263","v":"Loan payment (USD/year)"},null,{"$f":"IF(D73<=$C$82,$C$83*12,0)","v":0},{"$f":"IF(E73<$C$82,$C$83*12,IF(E73=$C$82,$C$83*12,0))","v":0},{"$f":"IF(F73<$C$82,$C$83*12,IF(F73=$C$82,$C$83*12,0))","v":0},0,0,0,0,0,0,0,0,0,0,0,0,0,0,0,0,0]
[null,{"$f":"title264","v":"Total loan payment (USD)"},{"$f":"SUM(D84:W84)","v":0}]
[null,{"$f":"title265","v":"Loan interest payment (USD)"},{"$f":"C85+C80","v":0},{"$f":"title266","v":"Average loan interest payment for project lifetime"},null,null,{"$f":"C86/C25","v":0},{"$f":"title267","v":"USD per year"}]
[]
[{"$f":"title268","v":"Income tax analysis"}]
[null,{"$f":"title209","v":"Operating Year"},{"$f":"title230","v":"Appraisal"},1,2,3,4,5,6,7,8,9,10,11,12,13,14,15,16,17,18,19,20]
[null,{"$f":"title269","v":"Effective income tax rate (%)"},{"$f":"+'Data entry needs'!$AD$115","v":0},{"$f":"C90","v":0},{"$f":"D90","v":0},0,0,0,0,0,0,0,0,0,0,0,0,0,0,0,0,0,0]
[null,{"$f":"title270","v":"Income tax (USD)"},null,{"$f":"IF(D115<0,0,D90*D115)","v":{"$error":"#DIV/0!"}},{"$error":"#DIV/0!"},{"$error":"#DIV/0!"},{"$error":"#DIV/0!"},{"$error":"#DIV/0!"},{"$error":"#DIV/0!"},{"$error":"#DIV/0!"},{"$error":"#DIV/0!"},{"$error":"#DIV/0!"},{"$error":"#DIV/0!"},{"$error":"#DIV/0!"},{"$error":"#DIV/0!"},{"$error":"#DIV/0!"},{"$error":"#DIV/0!"},{"$error":"#DIV/0!"},{"$error":"#DIV/0!"},{"$error":"#DIV/0!"},{"$error":"#DIV/0!"},{"$error":"#DIV/0!"},{"$error":"#DIV/0!"}]
[null,{"$f":"title271","v":"Total income tax payment (USD)"},{"$f":"SUM(D91:W91)","v":{"$error":"#DIV/0!"}},{"$f":"title458","v":"Average income tax payment "},null,{"$f":"C92/C25","v":{"$error":"#DIV/0!"}},{"$f":"title267","v":"USD per year"}]
[]
[{"$f":"title272","v":"Depreciation"}]
[null,{"$f":"title209","v":"Operating Year"},{"$f":"title230","v":"Appraisal"},1,2,3,4,5,6,7,8,9,10,11,12,13,14,15,16,17,18,19,20]
[null,{"$f":"title273","v":"Depreciation method"},{"$f":"title275","v":"Straight-line"}]
[null,{"$f":"title274","v":"Total depreciation (USD)"},null,{"$f":"COST_RES1!K64","v":0},{"$f":"D97","v":0},{"$f":"E97","v":0},0,0,0,0,0,0,0,0,0,0,0,0,0,0,0,0,0]
[]
[{"$f":"title276","v":"Base case project summary"}]
[{"$f":"title277","v":"Summary of this project - Before Tax"}]
[null,{"$f":"title209","v":"Operating Year"},{"$f":"title230","v":"Appraisal"},1,2,3,4,5,6,7,8,9,10,11,12,13,14,15,16,17,18,19,20]
[null,{"$f":"title278","v":"Total revenue (USD)"},null,{"$f":"D15*1000*D18","v":0},{"$f":"E15*1000*E18","v":0},0,0,0,0,0,0,0,0,0,0,0,0,0,0,0,0,0,0]
[null,{"$f":"title228","v":"Total capital cost (USD)"},{"$f":"-(C34-C80)","v":0}]
[null,{"$f":"title279","v":"Total operating and maintenance cost (USD)"},null,{"$f":"-D69+D63","v":{"$error":"#DIV/0!"}},{"$error":"#DIV/0!"},{"$error":"#DIV/0!"},{"$error":"#DIV/0!"},{"$error":"#DIV/0!"},{"$error":"#DIV/0!"},{"$error":"#DIV/0!"},{"$error":"#DIV/0!"},{"$error":"#DIV/0!"},{"$error":"#DIV/0!"},{"$error":"#DIV/0!"},{"$error":"#DIV/0!"},{"$error":"#DIV/0!"},{"$error":"#DIV/0!"},{"$error":"#DIV/0!"},{"$error":"#DIV/0!"},{"$error":"#DIV/0!"},{"$error":"#DIV/0!"},{"$error":"#DIV/0!"},{"$error":"#DIV/0!"}]
[null,{"$f":"title280","v":"Loan payment (USD)"},null,{"$f":"D84","v":0},{"$f":"E84","v":0},0,0,0,0,0,0,0,0,0,0,0,0,0,0,0,0,0,0]
[null,{"$f":"title281","v":"Cash flow - before tax (USD)"},{"$f":"SUM(C102:C105)","v":0},{"$error":"#DIV/0!"},{"$error":"#DIV/0!"},{"$error":"#DIV/0!"},{"$error":"#DIV/0!"},{"$error":"#DIV/0!"},{"$error":"#DIV/0!"},{"$error":"#DIV/0!"},{"$error":"#DIV/0!"},{"$error":"#DIV/0!"},{"$error":"#DIV/0!"},{"$error":"#DIV/0!"},{"$error":"#DIV/0!"},{"$error":"#DIV/0!"},{"$error":"#DIV/0!"},{"$error":"#DIV/0!"},{"$error":"#DIV/0!"},{"$error":"#DIV/0!"},{"$error":"#DIV/0!"},{"$error":"#DIV/0!"},{"$error":"#DIV/0!"}]
[null,{"$f":"title282","v":"Average revenue (USD)"}]
[]
[{"$f":"title283","v":"Summary of this project - After Tax"}]
[null,{"$f":"title209","v":"Operating Year"},{"$f":"title230","v":"Appraisal"},1,2,3,4,5,6,7,8,9,10,11,12,13,14,15,16,17,18,19,20]
[null,{"$f":"B102","v":"Total revenue (USD)"},{"$f":"C102","v":0},{"$f":"D102","v":0},0,0,0,0,0,0,0,0,0,0,0,0,0,0,0,0,0,0,0]
[null,{"$f":"title279","v":"Total operating and maintenance cost (USD)"},null,{"$f":"-D69+D63","v":{"$error":"#DIV/0!"}},{"$error":"#DIV/0!"},{"$error":"#DIV/0!"},{"$error":"#DIV/0!"},{"$error":"#DIV/0!"},{"$error":"#DIV/0!"},{"$error":"#DIV/0!"},{"$error":"#DIV/0!"},{"$error":"#DIV/0!"},{"$error":"#DIV/0!"},{"$error":"#DIV/0!"},{"$error":"#DIV/0!"},{"$error":"#DIV/0!"},{"$error":"#DIV/0!"},{"$error":"#DIV/0!"},{"$error":"#DIV/0!"},{"$error":"#DIV/0!"},{"$error":"#DIV/0!"},{"$error":"#DIV/0!"},{"$error":"#DIV/0!"}]
[null,{"$f":"title280","v":"Loan payment (USD)"},null,{"$f":"$G$86","v":0},{"$f":"$G$86","v":0},0,0,0,0,0,0,0,0,0,0,0,0,0,0,0,0,0,0]
[null,{"$f":"title284","v":"Depreciation of fixed costs (USD)"},null,{"$f":"-D63","v":0},{"$f":"-E63","v":0},0,0,0,0,0,0,0,0,0,0,0,0,0,0,0,0,0,0]
[null,{"$f":"title285","v":"Net profit - before tax (USD) for income tax calculation"},{"$f":"SUM(C111:C114)","v":0},{"$f":"SUM(D111:D114)","v":{"$error":"#DIV/0!"}},{"$f":"SUM(E111:E114)","v":{"$error":"#DIV/0!"}},{"$error":"#DIV/0!"},{"$error":"#DIV/0!"},{"$error":"#DIV/0!"},{"$error":"#DIV/0!"},{"$error":"#DIV/0!"},{"$error":"#DIV/0!"},{"$error":"#DIV/0!"},{"$error":"#DIV/0!"},{"$error":"#DIV/0!"},{"$error":"#DIV/0!"},{"$error":"#DIV/0!"},{"$error":"#DIV/0!"},{"$error":"#DIV/0!"},{"$error":"#DIV/0!"},{"$error":"#DIV/0!"},{"$error":"#DIV/0!"},{"$error":"#DIV/0!"},{"$error":"#DIV/0!"}]
[null,{"$f":"title286","v":"Income tax"},null,{"$f":"IF(D115>0,-D91,0)","v":{"$error":"#DIV/0!"}},{"$error":"#DIV/0!"},{"$error":"#DIV/0!"},{"$error":"#DIV/0!"},{"$error":"#DIV/0!"},{"$error":"#DIV/0!"},{"$error":"#DIV/0!"},{"$error":"#DIV/0!"},{"$error":"#DIV/0!"},{"$error":"#DIV/0!"},{"$error":"#DIV/0!"},{"$error":"#DIV/0!"},{"$error":"#DIV/0!"},{"$error":"#DIV/0!"},{"$error":"#DIV/0!"},{"$error":"#DIV/0!"},{"$error":"#DIV/0!"},{"$error":"#DIV/0!"},{"$error":"#DIV/0!"},{"$error":"#DIV/0!"}]
[null,{"$f":"title287","v":"Cash flow - after tax (USD)"},{"$f":"C103","v":0},{"$f":"D106+D116","v":{"$error":"#DIV/0!"}},{"$f":"E106+E116","v":{"$error":"#DIV/0!"}},{"$error":"#DIV/0!"},{"$error":"#DIV/0!"},{"$error":"#DIV/0!"},{"$error":"#DIV/0!"},{"$error":"#DIV/0!"},{"$error":"#DIV/0!"},{"$error":"#DIV/0!"},{"$error":"#DIV/0!"},{"$error":"#DIV/0!"},{"$error":"#DIV/0!"},{"$error":"#DIV/0!"},{"$error":"#DIV/0!"},{"$error":"#DIV/0!"},{"$error":"#DIV/0!"},{"$error":"#DIV/0!"},{"$error":"#DIV/0!"},{"$error":"#DIV/0!"},{"$f":"W106+W116","v":{"$error":"#DIV/0!"}}]
[]
[{"$f":"title288","v":"Cumulative value of Net Profit"}]
[null,{"$f":"title209","v":"Operating Year"},{"$f":"title230","v":"Appraisal"},1,2,3,4,5,6,7,8,9,10,11,12,13,14,15,16,17,18,19,20]
[null,{"$f":"title289","v":"Cumulative value of net profit - before tax"},{"$f":"C106","v":0},{"$f":"C121+(D106)","v":{"$error":"#DIV/0!"}},{"$error":"#DIV/0!"},{"$error":"#DIV/0!"},{"$error":"#DIV/0!"},{"$error":"#DIV/0!"},{"$error":"#DIV/0!"},{"$error":"#DIV/0!"},{"$error":"#DIV/0!"},{"$error":"#DIV/0!"},{"$error":"#DIV/0!"},{"$error":"#DIV/0!"},{"$error":"#DIV/0!"},{"$error":"#DIV/0!"},{"$error":"#DIV/0!"},{"$error":"#DIV/0!"},{"$error":"#DIV/0!"},{"$error":"#DIV/0!"},{"$error":"#DIV/0!"},{"$error":"#DIV/0!"},{"$error":"#DIV/0!"}]
[null,{"$f":"title290","v":"Cumulative value of net profit - after tax"},{"$f":"C117","v":0},{"$f":"C122+(D117)","v":{"$error":"#DIV/0!"}},{"$error":"#DIV/0!"},{"$error":"#DIV/0!"},{"$error":"#DIV/0!"},{"$error":"#DIV/0!"},{"$error":"#DIV/0!"},{"$error":"#DIV/0!"},{"$error":"#DIV/0!"},{"$error":"#DIV/0!"},{"$error":"#DIV/0!"},{"$error":"#DIV/0!"},{"$error":"#DIV/0!"},{"$error":"#DIV/0!"},{"$error":"#DIV/0!"},{"$error":"#DIV/0!"},{"$error":"#DIV/0!"},{"$error":"#DIV/0!"},{"$error":"#DIV/0!"},{"$error":"#DIV/0!"},{"$error":"#DIV/0!"}]
[]
[{"$f":"title291","v":"Financial analysis results"}]
[]
[null,{"$f":"title292","v":"Net present value (NPV) (USD) - before tax"},{"$f":"NPV(C76,D106:W106)+C106","v":{"$error":"#DIV/0!"}}]
[null,{"$f":"title293","v":"Internal rate of return (IRR) (%) - before tax"},{"$f":"IF(C126<0,title459,IF(TIR_cell=title519,IRR(C106:W106,0.001),MIRR(C106:W106,C81,C76)))","v":{"$error":"#DIV/0!"}}]
[null,{"$f":"title294","v":"Payback period (years)"},{"$f":"title298","v":"Please see Figure of the cumulative value of net profit - before tax"}]
[]
[]
[null,{"$f":"title295","v":"Net present value (NPV) (USD) - after tax"},{"$f":"NPV(C76,D117:W117)+C117","v":{"$error":"#DIV/0!"}}]
[null,{"$f":"title296","v":"Internal rate of return (IRR) (%) - after tax"},{"$f":"IF(C131<0,title459,MIRR(C117:W117,C81,0%))","v":{"$error":"#DIV/0!"}}]
[null,{"$f":"title294","v":"Payback period (years)"},{"$f":"title299","v":"Please see Figure of the cumulative value of net profit - after tax"}]
[null,{"$f":"title297","v":"Total Income tax payment of project lifetime"},{"$f":"SUM(D116:W116)","v":{"$error":"#DIV/0!"}}]

{"sheet":"FA4000_URBAN_RES1","index":21,"n_rows":134,"n_cols":23,"rows_kept":134,"cut":false,"hidden":true,"merged":[[1,1,1,13]]}
[]
[null,{"$f":"title302","v":"FINANCIAL ANALYSIS OF BIOMASS BRIQUETTING 4000 KG/HOUR"}]
[]
[{"$f":"title208","v":"Revenues of biomass briquetting system"}]
[null,{"$f":"title209","v":"Operating Year"},0,1,2,3,4,5,6,7,8,9,10,11,12,13,14,15,16,17,18,19,20]
[]
[null,{"$f":"title210","v":"Briquette production capacity (tons per year)"},{"$f":"COST_RES1!L29","v":0},{"$f":"C7","v":0},{"$f":"D7","v":0},0,0,0,0,0,0,0,0,0,0,0,0,0,0,0,0,0,0]
[null,null,null,null,null,null,null,null," "]
[null,{"$f":"title211","v":"Efficiency % of briquetting machine"},{"$f":"COST_RES1!G12","v":0},{"$f":"C9","v":0},{"$f":"D9","v":0},0,0,0,0,0,0,0,0,0,0,0,0,0,0,0,0,0,0]
[]
[null,{"$f":"title212","v":"Operating hours per year"},{"$f":"COST_RES1!M28","v":0},{"$f":"C11","v":0},{"$f":"D11","v":0},0,0,0,0,0,0,0,0,0,0,0,0,0,0,0,0,0,0]
[null,{"$f":"title213","v":"Capacity utilization factor"},{"$f":"C11/8760","v":0},{"$f":"D11/8760","v":0},0,0,0,0,0,0,0,0,0,0,0,0,0,0,0,0,0,0,0]
[]
[null,{"$f":"title214","v":"Briquette production (tons per year)"},{"$f":"C7","v":0},{"$f":"D7","v":0},0,0,0,0,0,0,0,0,0,0,0,0,0,0,0,0,0,0,0]
[null,{"$f":"title215","v":"Total briquette sell to customers (tons per year)"},{"$f":"SUM(C14:C14)","v":0},{"$f":"SUM(D14:D14)","v":0},0,0,0,0,0,0,0,0,0,0,0,0,0,0,0,0,0,0,0]
[]
[null,{"$f":"title216","v":"Price of briquette (USD/kg)"},{"$f":"SUM(C18:C18)","v":0},0,0,0,0,0,0,0,0,0,0,0,0,0,0,0,0,0,0,0,0]
[null,{"$f":"title217","v":"Market price of briquette pay by consumers (USD/kg)"},{"$f":"+'Energy Demand'!G20","v":0},{"$f":"C18*(1+D19)","v":0},0,0,0,0,0,0,0,0,0,0,0,0,0,0,0,0,0,0,0]
[null,{"$f":"title218","v":"Increasing rate of price of briquette (%)"},{"$f":"+'Data entry needs'!$AD$114","v":0},{"$f":"C19","v":0},{"$f":"D19","v":0},0,0,0,0,0,0,0,0,0,0,0,0,0,0,0,0,0,0]
[]
[null,{"$f":"title219","v":"Total income of briquette (USD per year)"},{"$f":"C15*C18*1000","v":0},{"$f":"D15*D18*1000","v":0},0,0,0,0,0,0,0,0,0,0,0,0,0,0,0,0,0,0,0]
[]
[null,{"$f":"title220","v":"Lifespan of civil work (years)"},{"$f":"COST_RES1!E61","v":10}]
[null,{"$f":"title221","v":"Lifespan of briquette system (years)"},{"$f":"COST_RES1!E60","v":10}]
[null,{"$f":"title222","v":"Project life time (years)"},20]
[]
[{"$f":"title223","v":"Capital and operating cost of biomass briquette system "}]
[]
[null,null,{"$f":"title230","v":"Appraisal"},{"$f":"title231","v":"Project lifetime"},{"$f":"title232","v":"Investment per year"}]
[null,{"$f":"title224","v":"Direct capital cost (USD)"}]
[null,{"$f":"title225","v":"Equipments"},{"$f":"D31*E31","v":0},{"$f":"$C$25","v":20},{"$f":"COST_RES1!L60/D31","v":0}]
[null,{"$f":"title226","v":"Building"},{"$f":"D32*E32","v":0},{"$f":"$C$25","v":20},{"$f":"COST_RES1!L61/D32","v":0}]
[null,{"$f":"title227","v":"Installation"},{"$f":"D33*E33","v":0},{"$f":"$C$25","v":20},{"$f":"COST_RES1!L62/D33","v":0}]
[null,{"$f":"title228","v":"Total capital cost (USD)"},{"$f":"SUM(C31:C33)","v":0},null,{"$f":"SUM(E31:E33)","v":0}]
[null,{"$f":"title229","v":"Capital cost (USD/kg of briquette)"},{"$f":"C34/(C14*1000*C25)","v":{"$error":"#DIV/0!"}}]
[]
[]
[null,{"$f":"title209","v":"Operating Year"},{"$f":"title230","v":"Appraisal"},1,2,3,4,5,6,7,8,9,10,11,12,13,14,15,16,17,18,19,20]
[null,{"$f":"title233","v":"Annual operating and maintenance cost "}]
[null,{"$f":"title234","v":"Sub-total material cost (USD)"},{"$f":"C41+C49+C51+C54","v":{"$error":"#DIV/0!"}},{"$f":"D41+D49+D51+D54","v":{"$error":"#DIV/0!"}},{"$error":"#DIV/0!"},{"$error":"#DIV/0!"},{"$error":"#DIV/0!"},{"$error":"#DIV/0!"},{"$error":"#DIV/0!"},{"$error":"#DIV/0!"},{"$error":"#DIV/0!"},{"$error":"#DIV/0!"},{"$error":"#DIV/0!"},{"$error":"#DIV/0!"},{"$error":"#DIV/0!"},{"$error":"#DIV/0!"},{"$error":"#DIV/0!"},{"$error":"#DIV/0!"},{"$error":"#DIV/0!"},{"$error":"#DIV/0!"},{"$error":"#DIV/0!"},{"$error":"#DIV/0!"},{"$error":"#DIV/0!"}]
[null,{"$f":"title235","v":"Biomass cost (USD/year)"},{"$f":"C42*C43","v":{"$error":"#DIV/0!"}},{"$f":"D42*D43","v":{"$error":"#DIV/0!"}},{"$error":"#DIV/0!"},{"$error":"#DIV/0!"},{"$error":"#DIV/0!"},{"$error":"#DIV/0!"},{"$error":"#DIV/0!"},{"$error":"#DIV/0!"},{"$error":"#DIV/0!"},{"$error":"#DIV/0!"},{"$error":"#DIV/0!"},{"$error":"#DIV/0!"},{"$error":"#DIV/0!"},{"$error":"#DIV/0!"},{"$error":"#DIV/0!"},{"$error":"#DIV/0!"},{"$error":"#DIV/0!"},{"$error":"#DIV/0!"},{"$error":"#DIV/0!"},{"$error":"#DIV/0!"},{"$error":"#DIV/0!"}]
[null,{"$f":"title236","v":"Biomass consumption (ton per year)"},{"$f":"C14/COST_RES1!$G$12","v":{"$error":"#DIV/0!"}},{"$f":"D14/COST_RES1!$G$12","v":{"$error":"#DIV/0!"}},{"$f":"E14/COST_RES1!$G$12","v":{"$error":"#DIV/0!"}},{"$f":"F14/COST_RES1!$G$12","v":{"$error":"#DIV/0!"}},{"$f":"G14/COST_RES1!$G$12","v":{"$error":"#DIV/0!"}},{"$f":"H14/COST_RES1!$G$12","v":{"$error":"#DIV/0!"}},{"$f":"I14/COST_RES1!$G$12","v":{"$error":"#DIV/0!"}},{"$f":"J14/COST_RES1!$G$12","v":{"$error":"#DIV/0!"}},{"$f":"K14/COST_RES1!$G$12","v":{"$error":"#DIV/0!"}},{"$f":"L14/COST_RES1!$G$12","v":{"$error":"#DIV/0!"}},{"$f":"M14/COST_RES1!$G$12","v":{"$error":"#DIV/0!"}},{"$f":"N14/COST_RES1!$G$12","v":{"$error":"#DIV/0!"}},{"$f":"O14/COST_RES1!$G$12","v":{"$error":"#DIV/0!"}},{"$f":"P14/COST_RES1!$G$12","v":{"$error":"#DIV/0!"}},{"$f":"Q14/COST_RES1!$G$12","v":{"$error":"#DIV/0!"}},{"$f":"R14/COST_RES1!$G$12","v":{"$error":"#DIV/0!"}},{"$f":"S14/COST_RES1!$G$12","v":{"$error":"#DIV/0!"}},{"$f":"T14/COST_RES1!$G$12","v":{"$error":"#DIV/0!"}},{"$f":"U14/COST_RES1!$G$12","v":{"$error":"#DIV/0!"}},{"$f":"V14/COST_RES1!$G$12","v":{"$error":"#DIV/0!"}},{"$f":"W14/COST_RES1!$G$12","v":{"$error":"#DIV/0!"}}]
[null,{"$f":"title237","v":"Biomass price (USD/ton)"},{"$f":"SUM(C44:C45)","v":0},{"$f":"SUM(D44:D45)","v":0},0,0,0,0,0,0,0,0,0,0,0,0,0,0,0,0,0,0,0]
[null,{"$f":"title238","v":"Biomass cost of collection (USD/ton)"},{"$f":"COST_RES1!E33","v":0},{"$f":"C44*(1+D74+D75)","v":0},{"$f":"D44*(1+E74+E75)","v":0},0,0,0,0,0,0,0,0,0,0,0,0,0,0,0,0,0,0]
[null,{"$f":"title239","v":"Biomass transportation cost (USD/ton)"},{"$f":"C46*C47","v":0},{"$f":"D46*D47","v":0},0,0,0,0,0,0,0,0,0,0,0,0,0,0,0,0,0,0,0]
[null,{"$f":"title240","v":"Biomass from farm to plant (USD/ton/km)"},{"$f":"COST_RES1!E48","v":0},{"$f":"C46*(1+D74+D75)","v":0},{"$f":"D46*(1+E74+E75)","v":0},0,0,0,0,0,0,0,0,0,0,0,0,0,0,0,0,0,0]
[null,{"$f":"title241","v":"Transportation distant (km)"},{"$f":"COST_RES1!L48","v":0},{"$f":"C47","v":0},{"$f":"D47","v":0},0,0,0,0,0,0,0,0,0,0,0,0,0,0,{"$f":"S47","v":0},{"$f":"T47","v":0},{"$f":"U47","v":0},{"$f":"V47","v":0}]
[]
[null,{"$f":"title246","v":"Water cost (USD/year)"},{"$f":"COST_RES1!M35","v":0},{"$f":"C49*(1+D74+D75)","v":0},{"$f":"D49*(1+E74+E75)","v":0},0,0,0,0,0,0,0,0,0,0,0,0,0,0,0,0,0,0]
[]
[null,{"$f":"title242","v":"Chemical cost (USD/year)"},{"$f":"C52*C53","v":0},{"$f":"D52*D53","v":0},0,0,0,0,0,0,0,0,0,0,0,0,0,0,0,0,0,0,0]
[null,{"$f":"title243","v":"Chemical consumption (tons per year)"},{"$f":"+COST_RES1!$L$34","v":0},{"$f":"+COST_RES1!$L$34","v":0},{"$f":"+COST_RES1!$L$34","v":0},{"$f":"+COST_RES1!$L$34","v":0},{"$f":"+COST_RES1!$L$34","v":0},{"$f":"+COST_RES1!$L$34","v":0},{"$f":"+COST_RES1!$L$34","v":0},{"$f":"+COST_RES1!$L$34","v":0},{"$f":"+COST_RES1!$L$34","v":0},{"$f":"+COST_RES1!$L$34","v":0},{"$f":"+COST_RES1!$L$34","v":0},{"$f":"+COST_RES1!$L$34","v":0},{"$f":"+COST_RES1!$L$34","v":0},{"$f":"+COST_RES1!$L$34","v":0},{"$f":"+COST_RES1!$L$34","v":0},{"$f":"+COST_RES1!$L$34","v":0},{"$f":"+COST_RES1!$L$34","v":0},{"$f":"+COST_RES1!$L$34","v":0},{"$f":"+COST_RES1!$L$34","v":0},{"$f":"+COST_RES1!$L$34","v":0},{"$f":"+COST_RES1!$L$34","v":0}]
[null,{"$f":"title244","v":"Chemical price (USD/ton)"},{"$f":"+'Data entry needs'!$D$20","v":0},{"$f":"+C53","v":0},{"$f":"+D53","v":0},0,0,0,0,0,0,0,0,0,0,0,0,0,0,0,0,0,0]
[null,{"$f":"title245","v":"Electricity cost (USD)"},{"$f":"COST_RES1!M36","v":0},{"$f":"C54*(1+D74+D75)","v":0},{"$f":"D54*(1+E74+E75)","v":0},0,0,0,0,0,0,0,0,0,0,0,0,0,0,0,0,0,0]
[]
[null,{"$f":"title247","v":"Sub-total operating cost (USD)"},{"$f":"C57+C59+C60","v":{"$error":"#DIV/0!"}},{"$f":"D57+D59+D60","v":{"$error":"#DIV/0!"}},{"$error":"#DIV/0!"},{"$error":"#DIV/0!"},{"$error":"#DIV/0!"},{"$error":"#DIV/0!"},{"$error":"#DIV/0!"},{"$error":"#DIV/0!"},{"$error":"#DIV/0!"},{"$error":"#DIV/0!"},{"$error":"#DIV/0!"},{"$error":"#DIV/0!"},{"$error":"#DIV/0!"},{"$error":"#DIV/0!"},{"$error":"#DIV/0!"},{"$error":"#DIV/0!"},{"$error":"#DIV/0!"},{"$error":"#DIV/0!"},{"$error":"#DIV/0!"},{"$error":"#DIV/0!"},{"$error":"#DIV/0!"}]
[null,{"$f":"title248","v":"Labour cost (USD)"},{"$f":"COST_RES1!M44","v":0},{"$f":"C57*(1+D58)","v":0},0,0,0,0,0,0,0,0,0,0,0,0,0,0,0,0,0,0,0]
[null,"Annual change in  labour cost (%)",null,{"$f":"COST_RES1!M12","v":0},{"$f":"D58","v":0},0,0,0,0,0,0,0,0,0,0,0,0,0,0,0,0,0,0]
[null,{"$f":"title249","v":"Annual change in labour cost (%)"},{"$f":"COST_RES1!M70","v":0},{"$f":"C59","v":0},{"$f":"D59","v":0},0,0,0,0,0,0,0,0,0,0,0,0,0,0,0,{"$f":"T59","v":0},0,0]
[null,{"$f":"title250","v":"General and administrative cost"},{"$f":"COST_RES1!M71","v":{"$error":"#DIV/0!"}},{"$f":"C60","v":{"$error":"#DIV/0!"}},{"$error":"#DIV/0!"},{"$error":"#DIV/0!"},{"$error":"#DIV/0!"},{"$error":"#DIV/0!"},{"$error":"#DIV/0!"},{"$error":"#DIV/0!"},{"$error":"#DIV/0!"},{"$error":"#DIV/0!"},{"$error":"#DIV/0!"},{"$error":"#DIV/0!"},{"$error":"#DIV/0!"},{"$error":"#DIV/0!"},{"$error":"#DIV/0!"},{"$error":"#DIV/0!"},{"$error":"#DIV/0!"},{"$error":"#DIV/0!"},{"$error":"#DIV/0!"},{"$error":"#DIV/0!"},{"$error":"#DIV/0!"}]
[null,{"$f":"title251","v":"Sub-total maintenance cost (USD)"},{"$f":"COST_RES1!M65","v":0},{"$f":"C61","v":0},0,0,0,0,0,0,0,0,0,0,0,0,0,0,0,0,0,0,0]
[]
[null,{"$f":"title252","v":"Sub-total of annual fixed costs"},{"$f":"+E34","v":0},{"$f":"C63","v":0},{"$f":"D63","v":0},0,0,0,0,0,0,0,0,0,0,0,0,0,0,0,0,0,0]
[]
[null,{"$f":"title253","v":"Sub-total of storage capacity"},{"$f":"COST_RES1!M56","v":{"$error":"#DIV/0!"}},{"$f":"C65","v":{"$error":"#DIV/0!"}},{"$f":"D65","v":{"$error":"#DIV/0!"}},{"$error":"#DIV/0!"},{"$error":"#DIV/0!"},{"$error":"#DIV/0!"},{"$error":"#DIV/0!"},{"$error":"#DIV/0!"},{"$error":"#DIV/0!"},{"$error":"#DIV/0!"},{"$error":"#DIV/0!"},{"$error":"#DIV/0!"},{"$error":"#DIV/0!"},{"$error":"#DIV/0!"},{"$error":"#DIV/0!"},{"$error":"#DIV/0!"},{"$error":"#DIV/0!"},{"$error":"#DIV/0!"},{"$error":"#DIV/0!"},{"$error":"#DIV/0!"},{"$error":"#DIV/0!"}]
[]
[null,{"$f":"title254","v":"Sub-total of briquette transportation to market"},{"$f":"COST_RES1!M49","v":0},{"$f":"C67*(1+D74+D75)","v":0},{"$f":"D67*(1+E74+E75)","v":0},0,0,0,0,0,0,0,0,0,0,0,0,0,0,0,0,0,0]
[]
[null,{"$f":"title255","v":"Total operation and maintenance cost (USD)"},{"$f":"C40+C56+C61+C63+C65+C67","v":{"$error":"#DIV/0!"}},{"$f":"D40+D56+D61+D63+D65+D67","v":{"$error":"#DIV/0!"}},{"$error":"#DIV/0!"},{"$error":"#DIV/0!"},{"$error":"#DIV/0!"},{"$error":"#DIV/0!"},{"$error":"#DIV/0!"},{"$error":"#DIV/0!"},{"$error":"#DIV/0!"},{"$error":"#DIV/0!"},{"$error":"#DIV/0!"},{"$error":"#DIV/0!"},{"$error":"#DIV/0!"},{"$error":"#DIV/0!"},{"$error":"#DIV/0!"},{"$error":"#DIV/0!"},{"$error":"#DIV/0!"},{"$error":"#DIV/0!"},{"$error":"#DIV/0!"},{"$error":"#DIV/0!"},{"$error":"#DIV/0!"}]
[null,{"$f":"title256","v":"Operation and maintenance cost (USD/kg of briquette) without loan interest"},{"$f":"C69/(C14*1000)","v":{"$error":"#DIV/0!"}},{"$error":"#DIV/0!"},{"$error":"#DIV/0!"},{"$error":"#DIV/0!"},{"$error":"#DIV/0!"},{"$error":"#DIV/0!"},{"$error":"#DIV/0!"},{"$error":"#DIV/0!"},{"$error":"#DIV/0!"},{"$error":"#DIV/0!"},{"$error":"#DIV/0!"},{"$error":"#DIV/0!"},{"$error":"#DIV/0!"},{"$error":"#DIV/0!"},{"$error":"#DIV/0!"},{"$error":"#DIV/0!"},{"$error":"#DIV/0!"},{"$error":"#DIV/0!"},{"$error":"#DIV/0!"},{"$error":"#DIV/0!"},{"$error":"#DIV/0!"}]
[]
[{"$f":"title164","v":"Financial parameters"}]
[null,{"$f":"title209","v":"Operating Year"},{"$f":"title230","v":"Appraisal"},1,2,3,4,5,6,7,8,9,10,11,12,13,14,15,16,17,18,19,20]
[null,{"$f":"title257","v":"Annual change in raw material cost (%)"},null,0,{"$f":"D74","v":0},{"$f":"E74","v":0},0,0,0,0,0,0,0,0,0,0,0,0,0,0,0,{"$f":"U74","v":0},{"$f":"V74","v":0}]
[null,{"$f":"title258","v":"Inflation rate (%)"},null,{"$f":"COST_RES1!J12","v":0},{"$f":"D75","v":0},0,0,0,0,0,0,0,0,0,0,0,0,0,0,0,0,{"$f":"U75","v":0},{"$f":"V75","v":0}]
[null,{"$f":"title165&\" (%)\"","v":"Discount rate (%)"},{"$f":"COST_RES1!J9","v":0}]
[null,{"$f":"title166&\" (%)\"","v":"Loan ratio (%)"},{"$f":"COST_RES1!J10","v":0}]
[]
[null,{"$f":"title259","v":"Loan without policy"},{"$f":"title230","v":"Appraisal"},1,2,3,4,5,6,7,8,9,10,11,12,13,14,15,16,17,18,19,20]
[null,{"$f":"title260","v":"Loan amount (USD)"},{"$f":"C77*(C34)","v":0}]
[null,{"$f":"title167&\" (%)\"","v":"Loan interest rate (%)"},{"$f":"COST_RES1!J11","v":0}]
[null,{"$f":"title261","v":"Loan term (years)"},{"$f":"COST_RES1!M9","v":0}]
[null,{"$f":"title262","v":"Loan payment (USD/month)"},{"$f":"(PMT($C$81/12,(12*$C$82),$C$80))","v":{"$error":"#NUM!"}}]
[null,{"$f":"title263","v":"Loan payment (USD/year)"},null,{"$f":"IF(D73<=$C$82,$C$83*12,0)","v":0},{"$f":"IF(E73<$C$82,$C$83*12,IF(E73=$C$82,$C$83*12,0))","v":0},{"$f":"IF(F73<$C$82,$C$83*12,IF(F73=$C$82,$C$83*12,0))","v":0},0,0,0,0,0,0,0,0,0,0,0,0,0,0,0,0,0]
[null,{"$f":"title264","v":"Total loan payment (USD)"},{"$f":"SUM(D84:W84)","v":0}]
[null,{"$f":"title265","v":"Loan interest payment (USD)"},{"$f":"C85+C80","v":0},{"$f":"title266","v":"Average loan interest payment for project lifetime"},null,null,{"$f":"C86/C25","v":0},{"$f":"title267","v":"USD per year"}]
[]
[{"$f":"title268","v":"Income tax analysis"}]
[null,{"$f":"title209","v":"Operating Year"},{"$f":"title230","v":"Appraisal"},1,2,3,4,5,6,7,8,9,10,11,12,13,14,15,16,17,18,19,20]
[null,{"$f":"title269","v":"Effective income tax rate (%)"},{"$f":"+'Data entry needs'!$AD$115","v":0},{"$f":"C90","v":0},{"$f":"D90","v":0},0,0,0,0,0,0,0,0,0,0,0,0,0,0,0,0,0,0]
[null,{"$f":"title270","v":"Income tax (USD)"},null,{"$f":"IF(D115<0,0,D90*D115)","v":{"$error":"#DIV/0!"}},{"$error":"#DIV/0!"},{"$error":"#DIV/0!"},{"$error":"#DIV/0!"},{"$error":"#DIV/0!"},{"$error":"#DIV/0!"},{"$error":"#DIV/0!"},{"$error":"#DIV/0!"},{"$error":"#DIV/0!"},{"$error":"#DIV/0!"},{"$error":"#DIV/0!"},{"$error":"#DIV/0!"},{"$error":"#DIV/0!"},{"$error":"#DIV/0!"},{"$error":"#DIV/0!"},{"$error":"#DIV/0!"},{"$error":"#DIV/0!"},{"$error":"#DIV/0!"},{"$error":"#DIV/0!"},{"$error":"#DIV/0!"}]
[null,{"$f":"title271","v":"Total income tax payment (USD)"},{"$f":"SUM(D91:W91)","v":{"$error":"#DIV/0!"}},{"$f":"title458","v":"Average income tax payment "},null,{"$f":"C92/C25","v":{"$error":"#DIV/0!"}},{"$f":"title267","v":"USD per year"}]
[]
[{"$f":"title272","v":"Depreciation"}]
[null,{"$f":"title209","v":"Operating Year"},{"$f":"title230","v":"Appraisal"},1,2,3,4,5,6,7,8,9,10,11,12,13,14,15,16,17,18,19,20]
[null,{"$f":"title273","v":"Depreciation method"},{"$f":"title275","v":"Straight-line"}]
[null,{"$f":"title274","v":"Total depreciation (USD)"},null,{"$f":"COST_RES1!M64","v":0},{"$f":"D97","v":0},{"$f":"E97","v":0},0,0,0,0,0,0,0,0,0,0,0,0,0,0,0,0,0]
[]
[{"$f":"title276","v":"Base case project summary"}]
[{"$f":"title277","v":"Summary of this project - Before Tax"}]
[null,{"$f":"title209","v":"Operating Year"},{"$f":"title230","v":"Appraisal"},1,2,3,4,5,6,7,8,9,10,11,12,13,14,15,16,17,18,19,20]
[null,{"$f":"title278","v":"Total revenue (USD)"},null,{"$f":"D15*1000*D18","v":0},{"$f":"E15*1000*E18","v":0},0,0,0,0,0,0,0,0,0,0,0,0,0,0,0,0,0,0]
[null,{"$f":"title228","v":"Total capital cost (USD)"},{"$f":"-(C34-C80)","v":0}]
[null,{"$f":"title279","v":"Total operating and maintenance cost (USD)"},null,{"$f":"-D69+D63","v":{"$error":"#DIV/0!"}},{"$error":"#DIV/0!"},{"$error":"#DIV/0!"},{"$error":"#DIV/0!"},{"$error":"#DIV/0!"},{"$error":"#DIV/0!"},{"$error":"#DIV/0!"},{"$error":"#DIV/0!"},{"$error":"#DIV/0!"},{"$error":"#DIV/0!"},{"$error":"#DIV/0!"},{"$error":"#DIV/0!"},{"$error":"#DIV/0!"},{"$error":"#DIV/0!"},{"$error":"#DIV/0!"},{"$error":"#DIV/0!"},{"$error":"#DIV/0!"},{"$error":"#DIV/0!"},{"$error":"#DIV/0!"},{"$error":"#DIV/0!"}]
[null,{"$f":"title280","v":"Loan payment (USD)"},null,{"$f":"D84","v":0},{"$f":"E84","v":0},0,0,0,0,0,0,0,0,0,0,0,0,0,0,0,0,0,0]
[null,{"$f":"title281","v":"Cash flow - before tax (USD)"},{"$f":"SUM(C102:C105)","v":0},{"$error":"#DIV/0!"},{"$error":"#DIV/0!"},{"$error":"#DIV/0!"},{"$error":"#DIV/0!"},{"$error":"#DIV/0!"},{"$error":"#DIV/0!"},{"$error":"#DIV/0!"},{"$error":"#DIV/0!"},{"$error":"#DIV/0!"},{"$error":"#DIV/0!"},{"$error":"#DIV/0!"},{"$error":"#DIV/0!"},{"$error":"#DIV/0!"},{"$error":"#DIV/0!"},{"$error":"#DIV/0!"},{"$error":"#DIV/0!"},{"$error":"#DIV/0!"},{"$error":"#DIV/0!"},{"$error":"#DIV/0!"},{"$error":"#DIV/0!"}]
[null,{"$f":"title282","v":"Average revenue (USD)"}]
[]
[{"$f":"title283","v":"Summary of this project - After Tax"}]
[null,{"$f":"title209","v":"Operating Year"},{"$f":"title230","v":"Appraisal"},1,2,3,4,5,6,7,8,9,10,11,12,13,14,15,16,17,18,19,20]
[null,{"$f":"B102","v":"Total revenue (USD)"},{"$f":"C102","v":0},{"$f":"D102","v":0},0,0,0,0,0,0,0,0,0,0,0,0,0,0,0,0,0,0,0]
[null,{"$f":"title279","v":"Total operating and maintenance cost (USD)"},null,{"$f":"-D69+D63","v":{"$error":"#DIV/0!"}},{"$error":"#DIV/0!"},{"$error":"#DIV/0!"},{"$error":"#DIV/0!"},{"$error":"#DIV/0!"},{"$error":"#DIV/0!"},{"$error":"#DIV/0!"},{"$error":"#DIV/0!"},{"$error":"#DIV/0!"},{"$error":"#DIV/0!"},{"$error":"#DIV/0!"},{"$error":"#DIV/0!"},{"$error":"#DIV/0!"},{"$error":"#DIV/0!"},{"$error":"#DIV/0!"},{"$error":"#DIV/0!"},{"$error":"#DIV/0!"},{"$error":"#DIV/0!"},{"$error":"#DIV/0!"},{"$error":"#DIV/0!"}]
[null,{"$f":"title280","v":"Loan payment (USD)"},null,{"$f":"$G$86","v":0},{"$f":"$G$86","v":0},0,0,0,0,0,0,0,0,0,0,0,0,0,0,0,0,0,0]
[null,{"$f":"title284","v":"Depreciation of fixed costs (USD)"},null,{"$f":"-D63","v":0},{"$f":"-E63","v":0},0,0,0,0,0,0,0,0,0,0,0,0,0,0,0,0,0,0]
[null,{"$f":"title285","v":"Net profit - before tax (USD) for income tax calculation"},{"$f":"SUM(C111:C114)","v":0},{"$f":"SUM(D111:D114)","v":{"$error":"#DIV/0!"}},{"$f":"SUM(E111:E114)","v":{"$error":"#DIV/0!"}},{"$error":"#DIV/0!"},{"$error":"#DIV/0!"},{"$error":"#DIV/0!"},{"$error":"#DIV/0!"},{"$error":"#DIV/0!"},{"$error":"#DIV/0!"},{"$error":"#DIV/0!"},{"$error":"#DIV/0!"},{"$error":"#DIV/0!"},{"$error":"#DIV/0!"},{"$error":"#DIV/0!"},{"$error":"#DIV/0!"},{"$error":"#DIV/0!"},{"$error":"#DIV/0!"},{"$error":"#DIV/0!"},{"$error":"#DIV/0!"},{"$error":"#DIV/0!"},{"$error":"#DIV/0!"}]
[null,{"$f":"title286","v":"Income tax"},null,{"$f":"IF(D115>0,-D91,0)","v":{"$error":"#DIV/0!"}},{"$error":"#DIV/0!"},{"$error":"#DIV/0!"},{"$error":"#DIV/0!"},{"$error":"#DIV/0!"},{"$error":"#DIV/0!"},{"$error":"#DIV/0!"},{"$error":"#DIV/0!"},{"$error":"#DIV/0!"},{"$error":"#DIV/0!"},{"$error":"#DIV/0!"},{"$error":"#DIV/0!"},{"$error":"#DIV/0!"},{"$error":"#DIV/0!"},{"$error":"#DIV/0!"},{"$error":"#DIV/0!"},{"$error":"#DIV/0!"},{"$error":"#DIV/0!"},{"$error":"#DIV/0!"},{"$error":"#DIV/0!"}]
[null,{"$f":"title287","v":"Cash flow - after tax (USD)"},{"$f":"C103","v":0},{"$f":"D106+D116","v":{"$error":"#DIV/0!"}},{"$f":"E106+E116","v":{"$error":"#DIV/0!"}},{"$error":"#DIV/0!"},{"$error":"#DIV/0!"},{"$error":"#DIV/0!"},{"$error":"#DIV/0!"},{"$error":"#DIV/0!"},{"$error":"#DIV/0!"},{"$error":"#DIV/0!"},{"$error":"#DIV/0!"},{"$error":"#DIV/0!"},{"$error":"#DIV/0!"},{"$error":"#DIV/0!"},{"$error":"#DIV/0!"},{"$error":"#DIV/0!"},{"$error":"#DIV/0!"},{"$error":"#DIV/0!"},{"$error":"#DIV/0!"},{"$error":"#DIV/0!"},{"$f":"W106+W116","v":{"$error":"#DIV/0!"}}]
[]
[{"$f":"title288","v":"Cumulative value of Net Profit"}]
[null,{"$f":"title209","v":"Operating Year"},{"$f":"title230","v":"Appraisal"},1,2,3,4,5,6,7,8,9,10,11,12,13,14,15,16,17,18,19,20]
[null,{"$f":"title289","v":"Cumulative value of net profit - before tax"},{"$f":"C106","v":0},{"$f":"C121+(D106)","v":{"$error":"#DIV/0!"}},{"$error":"#DIV/0!"},{"$error":"#DIV/0!"},{"$error":"#DIV/0!"},{"$error":"#DIV/0!"},{"$error":"#DIV/0!"},{"$error":"#DIV/0!"},{"$error":"#DIV/0!"},{"$error":"#DIV/0!"},{"$error":"#DIV/0!"},{"$error":"#DIV/0!"},{"$error":"#DIV/0!"},{"$error":"#DIV/0!"},{"$error":"#DIV/0!"},{"$error":"#DIV/0!"},{"$error":"#DIV/0!"},{"$error":"#DIV/0!"},{"$error":"#DIV/0!"},{"$error":"#DIV/0!"},{"$error":"#DIV/0!"}]
[null,{"$f":"title290","v":"Cumulative value of net profit - after tax"},{"$f":"C117","v":0},{"$f":"C122+(D117)","v":{"$error":"#DIV/0!"}},{"$error":"#DIV/0!"},{"$error":"#DIV/0!"},{"$error":"#DIV/0!"},{"$error":"#DIV/0!"},{"$error":"#DIV/0!"},{"$error":"#DIV/0!"},{"$error":"#DIV/0!"},{"$error":"#DIV/0!"},{"$error":"#DIV/0!"},{"$error":"#DIV/0!"},{"$error":"#DIV/0!"},{"$error":"#DIV/0!"},{"$error":"#DIV/0!"},{"$error":"#DIV/0!"},{"$error":"#DIV/0!"},{"$error":"#DIV/0!"},{"$error":"#DIV/0!"},{"$error":"#DIV/0!"},{"$error":"#DIV/0!"}]
[]
[{"$f":"title291","v":"Financial analysis results"}]
[]
[null,{"$f":"title292","v":"Net present value (NPV) (USD) - before tax"},{"$f":"NPV(C76,D106:W106)+C106","v":{"$error":"#DIV/0!"}}]
[null,{"$f":"title293","v":"Internal rate of return (IRR) (%) - before tax"},{"$f":"IF(C126<0,title459,IF(TIR_cell=title519,IRR(C106:W106,0.001),MIRR(C106:W106,C81,C76)))","v":{"$error":"#DIV/0!"}}]
[null,{"$f":"title294","v":"Payback period (years)"},{"$f":"title298","v":"Please see Figure of the cumulative value of net profit - before tax"}]
[]
[]
[null,{"$f":"title295","v":"Net present value (NPV) (USD) - after tax"},{"$f":"NPV(C76,D117:W117)+C117","v":{"$error":"#DIV/0!"}}]
[null,{"$f":"title296","v":"Internal rate of return (IRR) (%) - after tax"},{"$f":"IF(C131<0,title459,MIRR(C117:W117,C81,0%))","v":{"$error":"#DIV/0!"}}]
[null,{"$f":"title294","v":"Payback period (years)"},{"$f":"title299","v":"Please see Figure of the cumulative value of net profit - after tax"}]
[null,{"$f":"title297","v":"Total Income tax payment of project lifetime"},{"$f":"SUM(D116:W116)","v":{"$error":"#DIV/0!"}}]

{"sheet":"PRICE_RES1","index":22,"n_rows":48,"n_cols":22,"rows_kept":48,"cut":false,"hidden":true,"merged":[[25,3,25,7],[2,2,2,9],[12,2,13,9],[5,2,5,3],[10,2,10,3],[5,4,5,5]]}
[]
[]
[null,null,{"$f":"IF(OR('Data entry needs'!$D$10=title188,'Data entry needs'!$D$10=title189),title303&UPPER('Data entry needs'!$D$10),title303&UPPER('Data entry needs'!$D$10&\" \"&'Data entry needs'!$D$11))","v":"COLLECTION COSTS CALCULATOR FOR PLEASE SELECT PLEASE SELECT"},null,null,null,null,null,null,null,null,null,null,null,null,{"$f":"title305","v":"Sources of biomass"},"No.","Selection2","Number",{"$f":"title329","v":"Mechanized"},{"$f":"title314","v":"Number of skilled workers"},{"$f":"title320","v":"person-hour/ha"}]
[null,null,null,null,null,null,null,null,null,null,null,null,null,null,null,{"$f":"title321","v":"Agriculture residues spread in the field"},1,{"$f":"+$F$11","v":"Mechanized"},null,{"$f":"title329&2","v":"Mechanized2"},{"$f":"title315","v":"Skilled labour wage"},{"$f":"title140","v":"USD/person-hour"}]
[null,null,null,null,null,null,null,null,null,null,null,null,null,null,null,{"$f":"title322","v":"Agriculture residues collected from field"},2,"Selection1",1,{"$f":"title329&4","v":"Mechanized4"},{"$f":"title316","v":"Average fuel economy"},"l/h"]
[null,null,{"$f":"title123","v":"Use white cells to input data"},null,{"$f":"title124","v":"Grey cells are used for calculations"},null,null,null,null,null,null,null,null,null,null,{"$f":"title323","v":"Agriculture residues from food processing plant"},3,{"$f":"+VLOOKUP($C$11,$P$3:$Q$10,2,FALSE)","v":1},2,{"$f":"title329&5","v":"Mechanized5"},{"$f":"title317","v":"Fuel price"},"USD/l"]
[null,null,null,null,null,null,null,null,null,null,null,null,null,null,null,{"$f":"title324","v":"Forestry "},4,null,3,{"$f":"title330","v":"Semi-mechanized"},{"$f":"title314","v":"Number of skilled workers"},{"$f":"title320","v":"person-hour/ha"}]
[null,null,{"$f":"title304","v":"Biomass Collection Definition"},null,null,null,null,null,null,null,null,null,null,null,null,{"$f":"title325","v":"Forestry and plantation residues"},5,null,4,{"$f":"title330&1","v":"Semi-mechanized1"},{"$f":"title318","v":"Number of unskilled workers"},{"$f":"title320","v":"person-hour/ha"}]
[null,null,null,null,null,null,null,null,null,null,null,null,null,null,null,{"$f":"title326","v":"Residues from wood industry"},6,null,5,{"$f":"title330&2","v":"Semi-mechanized2"},{"$f":"title315","v":"Skilled labour wage"},{"$f":"title140","v":"USD/person-hour"}]
[null,null,{"$f":"title305","v":"Sources of biomass"},null,null,{"$f":"title306","v":"Collecting method"},null,null,null,null,null,null,null,null,null,{"$f":"title327","v":"Dedicated wood energy plantation "},7,null,null,{"$f":"title330&3","v":"Semi-mechanized3"},{"$f":"title319","v":"Unskilled labour wage"},{"$f":"title140","v":"USD/person-hour"}]
[null,null,"Agriculture residues spread in the field",null,null,"Mechanized",null,null,null,null,null,null,null,null,null,{"$f":"title328","v":"Collection method"},null,null,null,{"$f":"title330&4","v":"Semi-mechanized4"},{"$f":"title316","v":"Average fuel economy"},"l/h"]
[null,null,null,null,null,null,null,null,null,null,null,null,null,null,null,{"$f":"title329","v":"Mechanized"},null,null,null,{"$f":"title330&5","v":"Semi-mechanized5"},{"$f":"title317","v":"Fuel price"},"USD/l"]
[null,null,{"$f":"IF($R$6=7,title310,IF(OR($R$6=1,$R$6=5,$R$6=4),title304,title311))","v":"Biomass Collection Definition"},null,null,null,null,null,null,null,null,null,null,null,null,{"$f":"title330","v":"Semi-mechanized"},null,null,null,{"$f":"title354","v":"Manual"},{"$f":"title318","v":"Number of unskilled workers"},{"$f":"title320","v":"person-hour/ha"}]
[null,null,null,null,null,null,null,null,null,null,null,null,null,null,null,{"$f":"title354","v":"Manual"},null,null,null,{"$f":"title354&2","v":"Manual2"},{"$f":"title319","v":"Unskilled labour wage"},{"$f":"title140","v":"USD/person-hour"}]
[]
[null,null,{"$f":"title307","v":"Biomass Price Definition"}]
[null,null,{"$f":"title308","v":"Labour cost"},{"$f":"title331","v":"Quantity "},{"$f":"title96","v":"Unit"},{"$f":"title331","v":"Quantity "},null,{"$f":"title96","v":"Unit"},"Total",{"$f":"title96","v":"Unit"}]
[null,null,{"$f":"+IF(OR($R$6=1,$R$6=4,$R$6=5),IFERROR(VLOOKUP($R$4&$S4,$T$3:$V$14,2,FALSE),\"\"),\"\")","v":"Number of skilled workers"},null,{"$f":"IF(OR(entry1=title516,entry1=title517),title518,IF(OR($R$6=1,$R$6=4,$R$6=5),IFERROR(VLOOKUP($R$4&$S4,$T$3:$V$23,3,FALSE),\"\"),\"\"))","v":"person-hour/ha"},{"$f":"IF(OR($R$6=1,$R$6=4,$R$6=5),IFERROR(VLOOKUP($R$4&$S6,$T$3:$V$14,2,FALSE),\"\"),\"\")","v":"Skilled labour wage"},{"$f":"IF(F18=\"\",\"\",IF(F18=title319,'Data entry needs'!H29,IF(F18=title315,'Data entry needs'!$D$29)))","v":0},{"$f":"IF(OR($R$6=1,$R$6=4,$R$6=5),IFERROR(VLOOKUP($R$4&$S6,$T$3:$V$20,3,FALSE),\"\"),\"\")","v":"USD/person-hour"},{"$f":"+IFERROR(G18*D18*(COST_RES1!$D$9/created1),\"\")","v":""},{"$f":"+IF(OR($R$6=1,$R$6=4,$R$6=5),title84,\"\")","v":"USD/year"},{"$f":"IF(OR(entry1=title516,entry1=title517),1,COST_RES1!D10)","v":0}]
[null,null,{"$f":"IF(OR($R$6=1,$R$6=4,$R$6=5),IFERROR(VLOOKUP($R$4&$S5,$T$3:$V$14,2,FALSE),\"\"),\"\")","v":""},null,{"$f":"IF(AND(selection1=title330,OR(entry1=title516,entry1=title517)),title518,IF(OR($R$6=1,$R$6=4,$R$6=5),IFERROR(VLOOKUP($R$4&$S5,$T$3:$V$23,3,FALSE),\"\"),\"\"))","v":""},{"$f":"IF(OR($R$6=1,$R$6=4,$R$6=5),IFERROR(VLOOKUP($R$4&$S7,$T$3:$V$14,2,FALSE),\"\"),\"\")","v":""},{"$f":"IF(F19=\"\",\"\",'Data entry needs'!$H$29)","v":""},{"$f":"IF(OR($R$6=1,$R$6=4,$R$6=5),IFERROR(VLOOKUP($R$4&$S7,$T$3:$V$27,3,FALSE),\"\"),\"\")","v":""},{"$f":"+IFERROR(G19*D19*(COST_RES1!$D$9/created1),\"\")","v":""},{"$f":"+IF(OR($R$6=1,$R$6=4,$R$6=5),title84,\"\")","v":"USD/year"}]
[null,null,null,{"$f":"+IF(AND(C18=\"\",C19=\"\"),0,IF(C18=\"\",D19,IF(C19=\"\",D18,D18+D19)))","v":0},null,null,null,{"$f":"+IF(OR($R$6=1,$R$6=4,$R$6=5),title355,\"\")","v":"Subtotal"},{"$f":"+SUMIF($I$18:$I$19,\">0\")","v":0},{"$f":"+IF(OR($R$6=1,$R$6=4,$R$6=5),title84,\"\")","v":"USD/year"}]
[null,null,{"$f":"title309","v":"Machinery & operating cost"},{"$f":"title331","v":"Quantity "},{"$f":"title96","v":"Unit"},{"$f":"title331","v":"Quantity "},null,{"$f":"title96","v":"Unit"},"Total",{"$f":"title96","v":"Unit"}]
[null,null,{"$f":"IF(OR($R$6=1,$R$6=4,$R$6=5),IFERROR(VLOOKUP($R$4&$S8,$T$3:$V$14,2,FALSE),\"\"),\"\")","v":"Average fuel economy"},null,{"$f":"IF(OR($R$6=1,$R$6=4,$R$6=5),IFERROR(VLOOKUP($R$4&$S8,$T$3:$V$27,3,FALSE),\"\"),\"\")","v":"l/h"},{"$f":"IF(OR($R$6=1,$R$6=4,$R$6=5),IFERROR(VLOOKUP($R$4&$S9,$T$3:$V$14,2,FALSE),\"\"),\"\")","v":"Fuel price"},{"$f":"IF(F22=\"\",\"\",'Data entry needs'!$D$33)","v":0},{"$f":"+IFERROR(VLOOKUP($R$4&$S9,$T$3:$V$14,3,FALSE),\"\")","v":"USD/l"},{"$f":"+IFERROR(G22*D22*IF($F$11=title354,0,$D$18*'Data entry needs'!$E$12/'Data entry needs'!$E$13),\"\")","v":""},{"$f":"+IF(OR($R$6=1,$R$6=4,$R$6=5),title84,\"\")","v":"USD/year"}]
[null,null,null,null,null,null,null,{"$f":"+IF(OR($R$6=1,$R$6=4,$R$6=5),title355,\"\")","v":"Subtotal"},{"$f":"+I22","v":""},{"$f":"+IF(OR($R$6=1,$R$6=4,$R$6=5),title84,\"\")","v":"USD/year"}]
[null,null,null,null,null,null,null,{"$f":"+IF(OR($R$6=1,$R$6=4,$R$6=5),\"Total\",\"\")","v":"Total"},{"$f":"IFERROR(I20+I23,I20)","v":0},{"$f":"+IF(OR($R$6=1,$R$6=4,$R$6=5),title84,\"\")","v":"USD/year"}]
[]
[null,null,null,{"$f":"IF($R$6=7,title313,title312)&'Data entry needs'!$D$10&\" \"&'Data entry needs'!$D$11","v":"Collection price of Please Select Please Select"},null,null,null,null,{"$f":"IFERROR(I24/'Data entry needs'!$D$12,\"\")","v":""},"USD/ton"]
[]
[]
[]
[]
[]
[]
[]
[]
[]
[]
[]
[]
[]
[]
[]
[]
[]
[]
[null,null,null,null,null,null,null,null,null,null,null,null,null,null,{"$f":"title328","v":"Collection method"},"Efficiency Factor"]
[null,null,null,null,null,null,null,null,null,null,null,null,null,null,{"$f":"title329","v":"Mechanized"},1]
[null,null,null,null,null,null,null,null,null,null,null,null,null,null,{"$f":"title330","v":"Semi-mechanized"},1]
[null,null,null,null,null,null,null,null,null,null,null,null,null,null,{"$f":"title354","v":"Manual"},1]

{"sheet":"PRICE_RES2","index":23,"n_rows":48,"n_cols":21,"rows_kept":48,"cut":false,"hidden":true,"merged":[[25,4,25,7],[2,2,2,9],[12,2,13,9],[5,2,5,3],[10,2,10,3],[5,4,5,5]]}
[]
[]
[null,null,{"$f":"IF(OR('Data entry needs'!$E$10=title188,'Data entry needs'!$E$10=title189),title303&UPPER('Data entry needs'!$E$10),title303&UPPER('Data entry needs'!$E$10&\" \"&'Data entry needs'!$E$11))","v":"COLLECTION COSTS CALCULATOR FOR PLEASE SELECT PLEASE SELECT"},null,null,null,null,null,null,null,null,null,null,null,{"$f":"title305","v":"Sources of biomass"},"No.","Selection2","Number",{"$f":"title329","v":"Mechanized"},{"$f":"title314","v":"Number of skilled workers"},{"$f":"title320","v":"person-hour/ha"}]
[null,null,null,null,null,null,null,null,null,null,null,null,null,null,{"$f":"title321","v":"Agriculture residues spread in the field"},1,{"$f":"+$F$11","v":"Mechanized"},null,{"$f":"title329&2","v":"Mechanized2"},{"$f":"title315","v":"Skilled labour wage"},{"$f":"title140","v":"USD/person-hour"}]
[null,null,null,null,null,null,null,null,null,null,null,null,null,null,{"$f":"title322","v":"Agriculture residues collected from field"},2,"Selection1",1,{"$f":"title329&4","v":"Mechanized4"},{"$f":"title316","v":"Average fuel economy"},"l/h"]
[null,null,{"$f":"title123","v":"Use white cells to input data"},null,{"$f":"title124","v":"Grey cells are used for calculations"},null,null,null,null,null,null,null,null,null,{"$f":"title323","v":"Agriculture residues from food processing plant"},3,{"$f":"+VLOOKUP($C$11,$O$3:$P$10,2,FALSE)","v":1},2,{"$f":"title329&5","v":"Mechanized5"},{"$f":"title317","v":"Fuel price"},"USD/l"]
[null,null,null,null,null,null,null,null,null,null,null,null,null,null,{"$f":"title324","v":"Forestry "},4,null,3,{"$f":"title330","v":"Semi-mechanized"},{"$f":"title314","v":"Number of skilled workers"},{"$f":"title320","v":"person-hour/ha"}]
[null,null,{"$f":"title304","v":"Biomass Collection Definition"},null,null,null,null,null,null,null,null,null,null,null,{"$f":"title325","v":"Forestry and plantation residues"},5,null,4,{"$f":"title330&1","v":"Semi-mechanized1"},{"$f":"title318","v":"Number of unskilled workers"},{"$f":"title320","v":"person-hour/ha"}]
[null,null,null,null,null,null,null,null,null,null,null,null,null,null,{"$f":"title326","v":"Residues from wood industry"},6,null,5,{"$f":"title330&2","v":"Semi-mechanized2"},{"$f":"title315","v":"Skilled labour wage"},{"$f":"title140","v":"USD/person-hour"}]
[null,null,{"$f":"title305","v":"Sources of biomass"},null,null,{"$f":"title306","v":"Collecting method"},null,null,null,null,null,null,null,null,{"$f":"title327","v":"Dedicated wood energy plantation "},7,null,null,{"$f":"title330&3","v":"Semi-mechanized3"},{"$f":"title319","v":"Unskilled labour wage"},{"$f":"title140","v":"USD/person-hour"}]
[null,null,"Agriculture residues spread in the field",null,null,"Mechanized",null,null,null,null,null,null,null,null,{"$f":"title328","v":"Collection method"},null,null,null,{"$f":"title330&4","v":"Semi-mechanized4"},{"$f":"title316","v":"Average fuel economy"},"l/h"]
[null,null,null,null,null,null,null,null,null,null,null,null,null,null,{"$f":"title329","v":"Mechanized"},null,null,null,{"$f":"title330&5","v":"Semi-mechanized5"},{"$f":"title317","v":"Fuel price"},"USD/l"]
[null,null,{"$f":"IF($Q$6=7,title310,IF(OR($Q$6=1,$Q$6=5,$Q$6=4),title304,title311))","v":"Biomass Collection Definition"},null,null,null,null,null,null,null,null,null,null,null,{"$f":"title330","v":"Semi-mechanized"},null,null,null,{"$f":"title354","v":"Manual"},{"$f":"title318","v":"Number of unskilled workers"},{"$f":"title320","v":"person-hour/ha"}]
[null,null,null,null,null,null,null,null,null,null,null,null,null,null,{"$f":"title354","v":"Manual"},null,null,null,{"$f":"title354&2","v":"Manual2"},{"$f":"title319","v":"Unskilled labour wage"},{"$f":"title140","v":"USD/person-hour"}]
[]
[null,null,{"$f":"title307","v":"Biomass Price Definition"}]
[null,null,{"$f":"title308","v":"Labour cost"},{"$f":"title331","v":"Quantity "},{"$f":"title96","v":"Unit"},{"$f":"title331","v":"Quantity "},null,{"$f":"title96","v":"Unit"},"Total",{"$f":"title96","v":"Unit"}]
[null,null,{"$f":"+IF(OR($Q$6=1,$Q$6=4,$Q$6=5),IFERROR(VLOOKUP($Q$4&$R4,$S$3:$U$14,2,FALSE),\"\"),\"\")","v":"Number of skilled workers"},null,{"$f":"IF(OR(entry2=title516,entry2=title517),title518,IF(OR($Q$6=1,$Q$6=4,$Q$6=5),IFERROR(VLOOKUP($Q$4&$R4,$S$3:$U$23,3,FALSE),\"\"),\"\"))","v":"person-hour/ha"},{"$f":"IF(OR($Q$6=1,$Q$6=4,$Q$6=5),IFERROR(VLOOKUP($Q$4&$R6,$S$3:$U$14,2,FALSE),\"\"),\"\")","v":"Skilled labour wage"},{"$f":"IF(F18=\"\",\"\",IF(F18=title319,'Data entry needs'!H29,IF(F18=title315,'Data entry needs'!$D$29)))","v":0},{"$f":"IF(OR($Q$6=1,$Q$6=4,$Q$6=5),IFERROR(VLOOKUP($Q$4&$R6,$S$3:$U$20,3,FALSE),\"\"),\"\")","v":"USD/person-hour"},{"$f":"+IFERROR(G18*D18*(COST_RES2!$D$9/created2),\"\")","v":""},{"$f":"+IF(OR($Q$6=1,$Q$6=4,$Q$6=5),title84,\"\")","v":"USD/year"},{"$f":"IF(OR(entry2=title516,entry2=title517),1,COST_RES2!D10)","v":0}]
[null,null,{"$f":"IF(OR($Q$6=1,$Q$6=4,$Q$6=5),IFERROR(VLOOKUP($Q$4&$R5,$S$3:$U$14,2,FALSE),\"\"),\"\")","v":""},null,{"$f":"IF(AND(selection2=title330,OR(entry2=title516,entry2=title517)),title518,IF(OR($Q$6=1,$Q$6=4,$Q$6=5),IFERROR(VLOOKUP($Q$4&$R5,$S$3:$U$23,3,FALSE),\"\"),\"\"))","v":""},{"$f":"IF(OR($Q$6=1,$Q$6=4,$Q$6=5),IFERROR(VLOOKUP($Q$4&$R7,$S$3:$U$14,2,FALSE),\"\"),\"\")","v":""},{"$f":"IF(F19=\"\",\"\",'Data entry needs'!$H$29)","v":""},{"$f":"IF(OR($Q$6=1,$Q$6=4,$Q$6=5),IFERROR(VLOOKUP($Q$4&$R7,$S$3:$U$27,3,FALSE),\"\"),\"\")","v":""},{"$f":"+IFERROR(G19*D19*(COST_RES2!$D$9/created2),\"\")","v":""},{"$f":"+IF(OR($Q$6=1,$Q$6=4,$Q$6=5),title84,\"\")","v":"USD/year"}]
[null,null,null,{"$f":"+IF(AND(C18=\"\",C19=\"\"),0,IF(C18=\"\",D19,IF(C19=\"\",D18,D18+D19)))","v":0},null,null,null,{"$f":"+IF(OR($Q$6=1,$Q$6=4,$Q$6=5),title355,\"\")","v":"Subtotal"},{"$f":"+SUMIF($I$18:$I$19,\">0\")","v":0},{"$f":"+IF(OR($Q$6=1,$Q$6=4,$Q$6=5),title84,\"\")","v":"USD/year"}]
[null,null,{"$f":"title309","v":"Machinery & operating cost"},{"$f":"title331","v":"Quantity "},{"$f":"title96","v":"Unit"},{"$f":"title331","v":"Quantity "},null,{"$f":"title96","v":"Unit"},"Total",{"$f":"title96","v":"Unit"}]
[null,null,{"$f":"IF(OR($Q$6=1,$Q$6=4,$Q$6=5),IFERROR(VLOOKUP($Q$4&$R8,$S$3:$U$14,2,FALSE),\"\"),\"\")","v":"Average fuel economy"},null,{"$f":"IF(OR($Q$6=1,$Q$6=4,$Q$6=5),IFERROR(VLOOKUP($Q$4&$R8,$S$3:$U$27,3,FALSE),\"\"),\"\")","v":"l/h"},{"$f":"IF(OR($Q$6=1,$Q$6=4,$Q$6=5),IFERROR(VLOOKUP($Q$4&$R9,$S$3:$U$14,2,FALSE),\"\"),\"\")","v":"Fuel price"},{"$f":"IF(F22=\"\",\"\",'Data entry needs'!$D$33)","v":0},{"$f":"+IFERROR(VLOOKUP($Q$4&$R9,$S$3:$U$14,3,FALSE),\"\")","v":"USD/l"},{"$f":"+IFERROR(G22*D22*IF($F$11=title354,0,$D$18*'Data entry needs'!$E$12/'Data entry needs'!$E$13),\"\")","v":""},{"$f":"+IF(OR($Q$6=1,$Q$6=4,$Q$6=5),title84,\"\")","v":"USD/year"}]
[null,null,null,null,null,null,null,{"$f":"+IF(OR($Q$6=1,$Q$6=4,$Q$6=5),title355,\"\")","v":"Subtotal"},{"$f":"+I22","v":""},{"$f":"+IF(OR($Q$6=1,$Q$6=4,$Q$6=5),title84,\"\")","v":"USD/year"}]
[null,null,null,null,null,null,null,{"$f":"+IF(OR($Q$6=1,$Q$6=4,$Q$6=5),\"Total\",\"\")","v":"Total"},{"$f":"IFERROR(I20+I23,I20)","v":0},{"$f":"+IF(OR($Q$6=1,$Q$6=4,$Q$6=5),title84,\"\")","v":"USD/year"}]
[]
[null,null,null,null,{"$f":"IF($Q$6=7,title313,title312)&'Data entry needs'!$E$10&\" \"&'Data entry needs'!$E$11","v":"Collection price of Please Select Please Select"},null,null,null,{"$f":"IFERROR(I24/'Data entry needs'!$E$12,\"\")","v":""},"USD/ton"]
[]
[]
[]
[]
[]
[]
[]
[]
[]
[]
[]
[]
[]
[]
[]
[]
[]
[]
[null,null,null,null,null,null,null,null,null,null,null,null,null,null,{"$f":"title328","v":"Collection method"},"Efficiency Factor"]
[null,null,null,null,null,null,null,null,null,null,null,null,null,null,{"$f":"title329","v":"Mechanized"},1]
[null,null,null,null,null,null,null,null,null,null,null,null,null,null,{"$f":"title330","v":"Semi-mechanized"},1]
[null,null,null,null,null,null,null,null,null,null,null,null,null,null,{"$f":"title354","v":"Manual"},1]

{"sheet":"PRICE_RES3","index":24,"n_rows":49,"n_cols":24,"rows_kept":49,"cut":false,"hidden":true,"merged":[[25,4,25,7],[2,2,2,9],[12,2,13,9],[5,2,5,3],[5,4,5,5],[10,2,10,3]]}
[]
[]
[null,null,{"$f":"IF(OR('Data entry needs'!$F$10=title188,'Data entry needs'!$F$10=title189),title303&UPPER('Data entry needs'!$F$10),title303&UPPER('Data entry needs'!$F$10&\" \"&'Data entry needs'!$F$11))","v":"COLLECTION COSTS CALCULATOR FOR PLEASE SELECT PLEASE SELECT"},null,null,null,null,null,null,null,null,null,null,null,null,null,null,{"$f":"title305","v":"Sources of biomass"},"No.","Selection2","Number",{"$f":"title329","v":"Mechanized"},{"$f":"title314","v":"Number of skilled workers"},{"$f":"title320","v":"person-hour/ha"}]
[null,null,null,null,null,null,null,null,null,null,null,null,null,null,null,null,null,{"$f":"title321","v":"Agriculture residues spread in the field"},1,{"$f":"+$F$11","v":"Mechanized"},null,{"$f":"title329&2","v":"Mechanized2"},{"$f":"title315","v":"Skilled labour wage"},{"$f":"title140","v":"USD/person-hour"}]
[null,null,null,null,null,null,null,null,null,null,null,null,null,null,null,null,null,{"$f":"title322","v":"Agriculture residues collected from field"},2,"Selection1",1,{"$f":"title329&4","v":"Mechanized4"},{"$f":"title316","v":"Average fuel economy"},"l/h"]
[null,null,{"$f":"title123","v":"Use white cells to input data"},null,{"$f":"title124","v":"Grey cells are used for calculations"},null,null,null,null,null,null,null,null,null,null,null,null,{"$f":"title323","v":"Agriculture residues from food processing plant"},3,{"$f":"+VLOOKUP($C$11,$R$3:$S$10,2,FALSE)","v":1},2,{"$f":"title329&5","v":"Mechanized5"},{"$f":"title317","v":"Fuel price"},"USD/l"]
[null,null,null,null,null,null,null,null,null,null,null,null,null,null,null,null,null,{"$f":"title324","v":"Forestry "},4,null,3,{"$f":"title330","v":"Semi-mechanized"},{"$f":"title314","v":"Number of skilled workers"},{"$f":"title320","v":"person-hour/ha"}]
[null,null,{"$f":"title304","v":"Biomass Collection Definition"},null,null,null,null,null,null,null,null,null,null,null,null,null,null,{"$f":"title325","v":"Forestry and plantation residues"},5,null,4,{"$f":"title330&1","v":"Semi-mechanized1"},{"$f":"title318","v":"Number of unskilled workers"},{"$f":"title320","v":"person-hour/ha"}]
[null,null,null,null,null,null,null,null,null,null,null,null,null,null,null,null,null,{"$f":"title326","v":"Residues from wood industry"},6,null,5,{"$f":"title330&2","v":"Semi-mechanized2"},{"$f":"title315","v":"Skilled labour wage"},{"$f":"title140","v":"USD/person-hour"}]
[null,null,{"$f":"title305","v":"Sources of biomass"},null,null,{"$f":"title306","v":"Collecting method"},null,null,null,null,null,null,null,null,null,null,null,{"$f":"title327","v":"Dedicated wood energy plantation "},7,null,null,{"$f":"title330&3","v":"Semi-mechanized3"},{"$f":"title319","v":"Unskilled labour wage"},{"$f":"title140","v":"USD/person-hour"}]
[null,null,"Agriculture residues spread in the field",null,null,"Mechanized",null,null,null,null,null,null,null,null,null,null,null,{"$f":"title328","v":"Collection method"},null,null,null,{"$f":"title330&4","v":"Semi-mechanized4"},{"$f":"title316","v":"Average fuel economy"},"l/h"]
[null,null,null,null,null,null,null,null,null,null,null,null,null,null,null,null,null,{"$f":"title329","v":"Mechanized"},null,null,null,{"$f":"title330&5","v":"Semi-mechanized5"},{"$f":"title317","v":"Fuel price"},"USD/l"]
[null,null,{"$f":"IF($T$6=7,title310,IF(OR($T$6=1,$T$6=5,$T$6=4),title304,title311))","v":"Biomass Collection Definition"},null,null,null,null,null,null,null,null,null,null,null,null,null,null,{"$f":"title330","v":"Semi-mechanized"},null,null,null,{"$f":"title354","v":"Manual"},{"$f":"title318","v":"Number of unskilled workers"},{"$f":"title320","v":"person-hour/ha"}]
[null,null,null,null,null,null,null,null,null,null,null,null,null,null,null,null,null,{"$f":"title354","v":"Manual"},null,null,null,{"$f":"title354&2","v":"Manual2"},{"$f":"title319","v":"Unskilled labour wage"},{"$f":"title140","v":"USD/person-hour"}]
[]
[null,null,{"$f":"title307","v":"Biomass Price Definition"}]
[null,null,{"$f":"title308","v":"Labour cost"},{"$f":"title331","v":"Quantity "},{"$f":"title96","v":"Unit"},{"$f":"title331","v":"Quantity "},null,{"$f":"title96","v":"Unit"},"Total",{"$f":"title96","v":"Unit"}]
[null,null,{"$f":"+IF(OR($T$6=1,$T$6=4,$T$6=5),IFERROR(VLOOKUP($T$4&$U4,$V$3:$X$14,2,FALSE),\"\"),\"\")","v":"Number of skilled workers"},null,{"$f":"IF(OR(entry3=title516,entry3=title517),title518,IF(OR($T$6=1,$T$6=4,$T$6=5),IFERROR(VLOOKUP($T$4&$U4,$V$3:$X$23,3,FALSE),\"\"),\"\"))","v":"person-hour/ha"},{"$f":"IF(OR($T$6=1,$T$6=4,$T$6=5),IFERROR(VLOOKUP($T$4&$U6,$V$3:$X$14,2,FALSE),\"\"),\"\")","v":"Skilled labour wage"},{"$f":"IF(F18=\"\",\"\",IF(F18=title319,'Data entry needs'!H29,IF(F18=title315,'Data entry needs'!$D$29)))","v":0},{"$f":"IF(OR($T$6=1,$T$6=4,$T$6=5),IFERROR(VLOOKUP($T$4&$U6,$V$3:$X$20,3,FALSE),\"\"),\"\")","v":"USD/person-hour"},{"$f":"+IFERROR(G18*D18*(COST_RES3!$D$9/created3),\"\")","v":""},{"$f":"+IF(OR($T$6=1,$T$6=4,$T$6=5),title84,\"\")","v":"USD/year"},{"$f":"IF(OR(entry3=title516,entry3=title517),1,COST_RES3!D10)","v":0}]
[null,null,{"$f":"IF(OR($T$6=1,$T$6=4,$T$6=5),IFERROR(VLOOKUP($T$4&$U5,$V$3:$X$14,2,FALSE),\"\"),\"\")","v":""},null,{"$f":"IF(AND(selection3=title330,OR(entry3=title516,entry3=title517)),title518,IF(OR($T$6=1,$T$6=4,$T$6=5),IFERROR(VLOOKUP($T$4&$U5,$V$3:$X$23,3,FALSE),\"\"),\"\"))","v":""},{"$f":"IF(OR($T$6=1,$T$6=4,$T$6=5),IFERROR(VLOOKUP($T$4&$U7,$V$3:$X$14,2,FALSE),\"\"),\"\")","v":""},{"$f":"IF(F19=\"\",\"\",'Data entry needs'!$H$29)","v":""},{"$f":"IF(OR($T$6=1,$T$6=4,$T$6=5),IFERROR(VLOOKUP($T$4&$U7,$V$3:$X$27,3,FALSE),\"\"),\"\")","v":""},{"$f":"+IFERROR(G19*D19*(COST_RES3!$D$9/created3),\"\")","v":""},{"$f":"+IF(OR($T$6=1,$T$6=4,$T$6=5),title84,\"\")","v":"USD/year"}]
[null,null,null,{"$f":"+IF(AND(C18=\"\",C19=\"\"),0,IF(C18=\"\",D19,IF(C19=\"\",D18,D18+D19)))","v":0},null,null,null,{"$f":"+IF(OR($T$6=1,$T$6=4,$T$6=5),title355,\"\")","v":"Subtotal"},{"$f":"+SUMIF($I$18:$I$19,\">0\")","v":0},{"$f":"+IF(OR($T$6=1,$T$6=4,$T$6=5),title84,\"\")","v":"USD/year"}]
[null,null,{"$f":"title309","v":"Machinery & operating cost"},{"$f":"title331","v":"Quantity "},{"$f":"title96","v":"Unit"},{"$f":"title331","v":"Quantity "},null,{"$f":"title96","v":"Unit"},"Total",{"$f":"title96","v":"Unit"}]
[null,null,{"$f":"IF(OR($T$6=1,$T$6=4,$T$6=5),IFERROR(VLOOKUP($T$4&$U8,$V$3:$X$14,2,FALSE),\"\"),\"\")","v":"Average fuel economy"},null,{"$f":"IF(OR($T$6=1,$T$6=4,$T$6=5),IFERROR(VLOOKUP($T$4&$U8,$V$3:$X$27,3,FALSE),\"\"),\"\")","v":"l/h"},{"$f":"IF(OR($T$6=1,$T$6=4,$T$6=5),IFERROR(VLOOKUP($T$4&$U9,$V$3:$X$14,2,FALSE),\"\"),\"\")","v":"Fuel price"},{"$f":"IF(F22=\"\",\"\",'Data entry needs'!$D$33)","v":0},{"$f":"+IFERROR(VLOOKUP($T$4&$U9,$V$3:$X$14,3,FALSE),\"\")","v":"USD/l"},{"$f":"+IFERROR(G22*D22*IF($F$11=title354,0,$D$18*'Data entry needs'!$E$12/'Data entry needs'!$E$13),\"\")","v":""},{"$f":"+IF(OR($T$6=1,$T$6=4,$T$6=5),title84,\"\")","v":"USD/year"}]
[null,null,null,null,null,null,null,{"$f":"+IF(OR($T$6=1,$T$6=4,$T$6=5),title355,\"\")","v":"Subtotal"},{"$f":"+I22","v":""},{"$f":"+IF(OR($T$6=1,$T$6=4,$T$6=5),title84,\"\")","v":"USD/year"}]
[null,null,null,null,null,null,null,{"$f":"+IF(OR($T$6=1,$T$6=4,$T$6=5),\"Total\",\"\")","v":"Total"},{"$f":"IFERROR(I20+I23,I20)","v":0},{"$f":"+IF(OR($T$6=1,$T$6=4,$T$6=5),title84,\"\")","v":"USD/year"}]
[]
[null,null,null,null,{"$f":"IF($T$6=7,title313,title312)&'Data entry needs'!$F$10&\" \"&'Data entry needs'!$F$11","v":"Collection price of Please Select Please Select"},null,null,null,{"$f":"IFERROR(24/'Data entry needs'!$F$12,\"\")","v":""},"USD/ton"]
[]
[]
[]
[]
[]
[]
[]
[]
[]
[]
[]
[]
[]
[]
[]
[]
[]
[]
[]
[null,null,null,null,null,null,null,null,null,null,null,null,null,null,{"$f":"title328","v":"Collection method"},1]
[null,null,null,null,null,null,null,null,null,null,null,null,null,null,{"$f":"title329","v":"Mechanized"},1]
[null,null,null,null,null,null,null,null,null,null,null,null,null,null,{"$f":"title330","v":"Semi-mechanized"},1]
[null,null,null,null,null,null,null,null,null,null,null,null,null,null,{"$f":"title354","v":"Manual"},1]

{"sheet":"PRICE_RES4","index":25,"n_rows":48,"n_cols":28,"rows_kept":48,"cut":false,"hidden":true,"merged":[[25,4,25,7],[2,2,2,9],[12,2,13,9],[5,2,5,3],[5,4,5,5],[10,2,10,3]]}
[]
[]
[null,null,{"$f":"IF(OR('Data entry needs'!$G$10=title188,'Data entry needs'!$G$10=title189),title303&UPPER('Data entry needs'!$G$10),title303&UPPER('Data entry needs'!$G$10&\" \"&'Data entry needs'!$G$11))","v":"COLLECTION COSTS CALCULATOR FOR PLEASE SELECT PLEASE SELECT"},null,null,null,null,null,null,null,null,null,null,null,null,null,null,null,null,null,null,{"$f":"title305","v":"Sources of biomass"},"No.","Selection2","Number",{"$f":"title329","v":"Mechanized"},{"$f":"title314","v":"Number of skilled workers"},{"$f":"title320","v":"person-hour/ha"}]
[null,null,null,null,null,null,null,null,null,null,null,null,null,null,null,null,null,null,null,null,null,{"$f":"title321","v":"Agriculture residues spread in the field"},1,{"$f":"+$F$11","v":"Mechanized"},null,{"$f":"title329&2","v":"Mechanized2"},{"$f":"title315","v":"Skilled labour wage"},{"$f":"title140","v":"USD/person-hour"}]
[null,null,null,null,null,null,null,null,null,null,null,null,null,null,null,null,null,null,null,null,null,{"$f":"title322","v":"Agriculture residues collected from field"},2,"Selection1",1,{"$f":"title329&4","v":"Mechanized4"},{"$f":"title316","v":"Average fuel economy"},"l/h"]
[null,null,{"$f":"title123","v":"Use white cells to input data"},null,{"$f":"title124","v":"Grey cells are used for calculations"},null,null,null,null,null,null,null,null,null,null,null,null,null,null,null,null,{"$f":"title323","v":"Agriculture residues from food processing plant"},3,{"$f":"+VLOOKUP($C$11,$V$3:$W$10,2,FALSE)","v":1},2,{"$f":"title329&5","v":"Mechanized5"},{"$f":"title317","v":"Fuel price"},"USD/l"]
[null,null,null,null,null,null,null,null,null,null,null,null,null,null,null,null,null,null,null,null,null,{"$f":"title324","v":"Forestry "},4,null,3,{"$f":"title330","v":"Semi-mechanized"},{"$f":"title314","v":"Number of skilled workers"},{"$f":"title320","v":"person-hour/ha"}]
[null,null,{"$f":"title304","v":"Biomass Collection Definition"},null,null,null,null,null,null,null,null,null,null,null,null,null,null,null,null,null,null,{"$f":"title325","v":"Forestry and plantation residues"},5,null,4,{"$f":"title330&1","v":"Semi-mechanized1"},{"$f":"title318","v":"Number of unskilled workers"},{"$f":"title320","v":"person-hour/ha"}]
[null,null,null,null,null,null,null,null,null,null,null,null,null,null,null,null,null,null,null,null,null,{"$f":"title326","v":"Residues from wood industry"},6,null,5,{"$f":"title330&2","v":"Semi-mechanized2"},{"$f":"title315","v":"Skilled labour wage"},{"$f":"title140","v":"USD/person-hour"}]
[null,null,{"$f":"title305","v":"Sources of biomass"},null,null,{"$f":"title306","v":"Collecting method"},null,null,null,null,null,null,null,null,null,null,null,null,null,null,null,{"$f":"title327","v":"Dedicated wood energy plantation "},7,null,null,{"$f":"title330&3","v":"Semi-mechanized3"},{"$f":"title319","v":"Unskilled labour wage"},{"$f":"title140","v":"USD/person-hour"}]
[null,null,"Agriculture residues spread in the field",null,null,"Mechanized",{"$f":"'Data entry needs'!$AD$111","v":0},null,null,null,null,null,null,null,null,null,null,null,null,null,null,{"$f":"title328","v":"Collection method"},null,null,null,{"$f":"title330&4","v":"Semi-mechanized4"},{"$f":"title316","v":"Average fuel economy"},"l/h"]
[null,null,null,null,null,null,null,null,null,null,null,null,null,null,null,null,null,null,null,null,null,{"$f":"title329","v":"Mechanized"},null,null,null,{"$f":"title330&5","v":"Semi-mechanized5"},{"$f":"title317","v":"Fuel price"},"USD/l"]
[null,null,{"$f":"IF($X$6=7,title310,IF(OR($X$6=1,$X$6=5,$X$6=4),title304,title311))","v":"Biomass Collection Definition"},null,null,null,null,null,null,null,null,null,null,null,null,null,null,null,null,null,null,{"$f":"title330","v":"Semi-mechanized"},null,null,null,{"$f":"title354","v":"Manual"},{"$f":"title318","v":"Number of unskilled workers"},{"$f":"title320","v":"person-hour/ha"}]
[null,null,null,null,null,null,null,null,null,null,null,null,null,null,null,null,null,null,null,null,null,{"$f":"title354","v":"Manual"},null,null,null,{"$f":"title354&2","v":"Manual2"},{"$f":"title319","v":"Unskilled labour wage"},{"$f":"title140","v":"USD/person-hour"}]
[]
[null,null,{"$f":"title307","v":"Biomass Price Definition"}]
[null,null,{"$f":"title308","v":"Labour cost"},{"$f":"title331","v":"Quantity "},{"$f":"title96","v":"Unit"},{"$f":"title331","v":"Quantity "},null,{"$f":"title96","v":"Unit"},"Total",{"$f":"title96","v":"Unit"}]
[null,null,{"$f":"+IF(OR($X$6=1,$X$6=4,$X$6=5),IFERROR(VLOOKUP($X$4&$Y4,$Z$3:$AB$14,2,FALSE),\"\"),\"\")","v":"Number of skilled workers"},null,{"$f":"IF(OR(entry4=title516,entry4=title517),title518,IF(OR($X$6=1,$X$6=4,$X$6=5),IFERROR(VLOOKUP($X$4&$Y4,$Z$3:$AB$23,3,FALSE),\"\"),\"\"))","v":"person-hour/ha"},{"$f":"IF(OR($X$6=1,$X$6=4,$X$6=5),IFERROR(VLOOKUP($X$4&$Y6,$Z$3:$AB$14,2,FALSE),\"\"),\"\")","v":"Skilled labour wage"},{"$f":"IF(F18=\"\",\"\",IF(F18=title319,'Data entry needs'!H29,IF(F18=title315,'Data entry needs'!$D$29)))","v":0},{"$f":"IF(OR($X$6=1,$X$6=4,$X$6=5),IFERROR(VLOOKUP($X$4&$Y6,$Z$3:$AB$20,3,FALSE),\"\"),\"\")","v":"USD/person-hour"},{"$f":"+IFERROR(G18*D18*(COST_RES4!$D$9/created4),\"\")","v":""},{"$f":"+IF(OR($X$6=1,$X$6=4,$X$6=5),title84,\"\")","v":"USD/year"},{"$f":"IF(OR(entry4=title516,entry4=title517),1,COST_RES4!D10)","v":0}]
[null,null,{"$f":"IF(OR($X$6=1,$X$6=4,$X$6=5),IFERROR(VLOOKUP($X$4&$Y5,$Z$3:$AB$14,2,FALSE),\"\"),\"\")","v":""},null,{"$f":"IF(AND(selection4=title330,OR(entry4=title516,entry4=title517)),title518,IF(OR($X$6=1,$X$6=4,$X$6=5),IFERROR(VLOOKUP($X$4&$Y5,$Z$3:$AB$23,3,FALSE),\"\"),\"\"))","v":""},{"$f":"IF(OR($X$6=1,$X$6=4,$X$6=5),IFERROR(VLOOKUP($X$4&$Y7,$Z$3:$AB$14,2,FALSE),\"\"),\"\")","v":""},{"$f":"IF(F19=\"\",\"\",'Data entry needs'!$H$29)","v":""},{"$f":"IF(OR($X$6=1,$X$6=4,$X$6=5),IFERROR(VLOOKUP($X$4&$Y7,$Z$3:$AB$27,3,FALSE),\"\"),\"\")","v":""},{"$f":"+IFERROR(G19*D19*(COST_RES4!$D$9/created4),\"\")","v":""},{"$f":"+IF(OR($X$6=1,$X$6=4,$X$6=5),title84,\"\")","v":"USD/year"}]
[null,null,null,{"$f":"+IF(AND(C18=\"\",C19=\"\"),0,IF(C18=\"\",D19,IF(C19=\"\",D18,D18+D19)))","v":0},null,null,null,{"$f":"+IF(OR($X$6=1,$X$6=4,$X$6=5),title355,\"\")","v":"Subtotal"},{"$f":"+SUMIF($I$18:$I$19,\">0\")","v":0},{"$f":"+IF(OR($X$6=1,$X$6=4,$X$6=5),title84,\"\")","v":"USD/year"}]
[null,null,{"$f":"title309","v":"Machinery & operating cost"},{"$f":"title331","v":"Quantity "},{"$f":"title96","v":"Unit"},{"$f":"title331","v":"Quantity "},null,{"$f":"title96","v":"Unit"},"Total",{"$f":"title96","v":"Unit"}]
[null,null,{"$f":"IF(OR($X$6=1,$X$6=4,$X$6=5),IFERROR(VLOOKUP($X$4&$Y8,$Z$3:$AB$14,2,FALSE),\"\"),\"\")","v":"Average fuel economy"},null,{"$f":"IF(OR($X$6=1,$X$6=4,$X$6=5),IFERROR(VLOOKUP($X$4&$Y8,$Z$3:$AB$27,3,FALSE),\"\"),\"\")","v":"l/h"},{"$f":"IF(OR($X$6=1,$X$6=4,$X$6=5),IFERROR(VLOOKUP($X$4&$Y9,$Z$3:$AB$14,2,FALSE),\"\"),\"\")","v":"Fuel price"},{"$f":"IF(F22=\"\",\"\",'Data entry needs'!$D$33)","v":0},{"$f":"+IFERROR(VLOOKUP($X$4&$Y9,$Z$3:$AB$14,3,FALSE),\"\")","v":"USD/l"},{"$f":"+IFERROR(G22*D22*IF($F$11=title354,0,$D$18*'Data entry needs'!$E$12/'Data entry needs'!$E$13),\"\")","v":""},{"$f":"+IF(OR($X$6=1,$X$6=4,$X$6=5),title84,\"\")","v":"USD/year"}]
[null,null,null,null,null,null,null,{"$f":"+IF(OR($X$6=1,$X$6=4,$X$6=5),title355,\"\")","v":"Subtotal"},{"$f":"+I22","v":""},{"$f":"+IF(OR($X$6=1,$X$6=4,$X$6=5),title84,\"\")","v":"USD/year"}]
[null,null,null,null,null,null,null,{"$f":"+IF(OR($X$6=1,$X$6=4,$X$6=5),\"Total\",\"\")","v":"Total"},{"$f":"IFERROR(I20+I23,I20)","v":0},{"$f":"+IF(OR($X$6=1,$X$6=4,$X$6=5),title84,\"\")","v":"USD/year"}]
[]
[null,null,null,null,{"$f":"IF($X$6=7,title313,title312)&'Data entry needs'!$G$10&\" \"&'Data entry needs'!$G$11","v":"Collection price of Please Select Please Select"},null,null,null,{"$f":"IFERROR(I24/'Data entry needs'!$G$12,\"\")","v":""},"USD/ton"]
[]
[]
[]
[]
[]
[]
[]
[]
[]
[]
[]
[]
[]
[]
[]
[]
[]
[]
[null,null,null,null,null,null,null,null,null,null,null,null,null,null,{"$f":"title328","v":"Collection method"},"Efficiency Factor"]
[null,null,null,null,null,null,null,null,null,null,null,null,null,null,{"$f":"title329","v":"Mechanized"},1]
[null,null,null,null,null,null,null,null,null,null,null,null,null,null,{"$f":"title330","v":"Semi-mechanized"},1]
[null,null,null,null,null,null,null,null,null,null,null,null,null,null,{"$f":"title354","v":"Manual"},1]

{"sheet":"COST_RES1","index":26,"n_rows":96,"n_cols":32,"rows_kept":96,"cut":false,"hidden":false,"merged":[[2,2,2,12],[36,5,36,6],[36,7,36,8],[36,9,36,10],[36,11,36,12],[23,5,23,12],[25,5,25,6],[25,11,25,12],[25,7,25,8],[30,2,31,2],[28,5,28,6],[28,7,28,8],[28,9,28,10],[28,11,28,12],[25,9,25,10],[26,7,26,8],[72,5,72,6],[83,11,83,12],[72,7,72,8],[82,5,82,12],[84,5,84,6],[80,5,80,6],[80,7,80,8],[80,9,80,10],[80,11,80,12],[84,9,84,10],[83,7,83,8],[83,9,83,10],[84,7,84,8],[84,11,84,12],[65,5,65,6],[65,7,65,8],[49,5,49,6],[49,11,49,12],[55,5,55,6],[55,7,55,8],[55,9,55,10],[55,11,55,12],[49,7,49,8],[49,9,49,10],[65,9,65,10],[65,11,65,12],[86,2,87,2],[86,3,87,3],[86,4,87,4],[51,2,52,2],[51,3,52,3],[57,2,58,2],[57,3,58,3],[57,4,58,4],[51,4,52,4],[67,2,68,2],[67,3,68,3],[67,4,68,4],[75,2,76,2],[75,3,76,3],[75,4,76,4],[38,3,39,3],[45,2,46,2],[45,3,46,3],[38,2,39,2],[30,3,31,3],[26,9,26,10],[26,5,26,6],[26,11,26,12],[5,3,5,5],[24,5,24,6],[24,7,24,8],[24,9,24,10],[24,11,24,12]]}
[]
[]
[null,null,{"$f":"+UPPER(title332&'Data entry needs'!$D$10&\" \"&'Data entry needs'!$D$11)","v":" PROCESSING COSTS FOR BRIQUETTE PRODUCTION FROM PLEASE SELECT PLEASE SELECT"}]
[]
[]
[null,null,{"$f":"title123","v":"Use white cells to input data"},{"$f":"title124","v":"Grey cells are used for calculations"}]
[null,null,{"$f":"title333","v":"Summary of Feedstock and Storage"},null,null,null,null,null,{"$f":"title164","v":"Financial parameters"}]
[]
[null,null,{"$f":"title127","v":"Feedstock available (t/year)"},{"$f":"'Data entry needs'!$D$12","v":0},{"$f":"title131","v":"Chemical binder"},null,{"$f":"'Data entry needs'!$D$19","v":"None"},null,{"$f":"title165&\" (%)\"","v":"Discount rate (%)"},{"$f":"'Data entry needs'!D51","v":0},{"$f":"title261","v":"Loan term (years)"},null,{"$f":"'Data entry needs'!D54","v":0}]
[null,null,{"$f":"title128","v":"Feedstock yield (t/ha)"},{"$f":"'Data entry needs'!$D$13","v":0},{"$f":"title336","v":"Chemical binder cost (USD/t)"},null,{"$f":"+'Data entry needs'!$D$20","v":0},null,{"$f":"title166&\" (%)\"","v":"Loan ratio (%)"},{"$f":"'Data entry needs'!D52","v":0}]
[null,null,{"$f":"title334","v":"Safety storage rate of product"},{"$f":"'Data entry needs'!$H$43","v":0},{"$f":"title133","v":"Feedstock storage cost (USD/t)"},null,{"$f":"+'Data entry needs'!$D$21","v":0},null,{"$f":"title167&\" (%)\"","v":"Loan interest rate (%)"},{"$f":"'Data entry needs'!D53","v":0},{"$f":"+'Data entry needs'!F52","v":"Plant Cost Index during 1/2017"},null,{"$f":"+'Data entry needs'!$H$52","v":0}]
[null,null,{"$f":"title335","v":"Briquette products storage cost (USD/t)"},{"$f":"+'Data entry needs'!D21","v":0},{"$f":"title337","v":"Transformation efficiency (%)"}]
[]
[null,null,{"$f":"title338","v":"Transport Distance of Feedstock"},null,{"$f":"title339","v":"Transport Quantity"},null,null,{"$f":"title340","v":"Transport Distance of Products"},null,null,{"$f":"title339","v":"Transport Quantity"}]
[]
[null,null,{"$f":"title341","v":"Distance manual production (km)"},null,{"$f":"title345","v":"Manual (t/year)"},null,{"$f":"+$F$33","v":{"$error":"#DIV/0!"}},{"$f":"title341","v":"Distance manual production (km)"},null,null,{"$f":"title345","v":"Manual (t/year)"},null,{"$f":"+$F$29","v":0}]
[null,null,{"$f":"title342","v":"Distance small scale production (km)"},null,{"$f":"title346","v":"Small scale (t/year)"},null,{"$f":"+$H$33","v":{"$error":"#DIV/0!"}},{"$f":"title342","v":"Distance small scale production (km)"},null,null,{"$f":"title346","v":"Small scale (t/year)"},null,{"$f":"+$H$29","v":0}]
[null,null,{"$f":"title343","v":"Distance medium scale production (km)"},null,{"$f":"title347","v":"Medium scale (t/year)"},null,{"$f":"+$J$33","v":{"$error":"#DIV/0!"}},{"$f":"title343","v":"Distance medium scale production (km)"},null,null,{"$f":"title347","v":"Medium scale (t/year)"},null,{"$f":"+$J$29","v":0}]
[null,null,{"$f":"title344","v":"Distance large scale production (km)"},null,{"$f":"title348","v":"Large scale (t/year)"},null,{"$f":"+$L$33","v":{"$error":"#DIV/0!"}},{"$f":"title344","v":"Distance large scale production (km)"},null,null,{"$f":"title348","v":"Large scale (t/year)"},null,{"$f":"+$L$29","v":0}]
[]
[]
[null,null,{"$f":"title349","v":"Production Cost Details"}]
[null,null,{"$f":"title350","v":"Rural Markets"}]
[null,null,null,null,null,{"$f":"title95","v":"Capacities (kg of briquette per hour)"}]
[null,null,null,null,null,4,null,{"$f":"40","v":40},null,{"$f":"400","v":400},null,{"$f":"4000","v":4000}]
[null,null,null,null,null,{"$f":"title354","v":"Manual"},null,{"$f":"title329","v":"Mechanized"},null,{"$f":"title329","v":"Mechanized"},null,{"$f":"title329","v":"Mechanized"}]
[null,null,{"$f":"title351","v":"Urban Markets"},null,null,{"$f":"title390","v":"Agglomerator"},null,{"$f":"title31","v":"Screw press"},null,{"$f":"title389","v":"Roller press"},null,{"$f":"title388","v":"Piston press "}]
[null,null,null,null,null,{"$f":"title212","v":"Operating hours per year"},{"$f":"IF('Data entry needs'!$D$44>8,8,'Data entry needs'!$D$44)*IF('Data entry needs'!D43>300,300,'Data entry needs'!$D$43)","v":0},{"$f":"title212","v":"Operating hours per year"},{"$f":"IF('Data entry needs'!$H$44>8,8,'Data entry needs'!$H$44)*'Data entry needs'!$D$43","v":0},{"$f":"title212","v":"Operating hours per year"},{"$f":"IF('Data entry needs'!$H$44>16,16,'Data entry needs'!$H$44)*'Data entry needs'!$D$43","v":0},{"$f":"title212","v":"Operating hours per year"},{"$f":"'Data entry needs'!$H$44*'Data entry needs'!$D$43","v":0}]
[null,null,{"$f":"title352","v":"Annual briquette production (t/year)"},null,null,{"$f":"4*$G$28/1000","v":0},null,{"$f":"40*$I$28/1000","v":0},null,{"$f":"400*$K$28/1000","v":0},null,{"$f":"4000*$M$28/1000","v":0}]
[]
[null,null,{"$f":"title353","v":"Inputs"},{"$f":"title96","v":"Unit"},{"$f":"title356","v":"Unit Price"},{"$f":"title331","v":"Quantity "},"Total",{"$f":"title331","v":"Quantity "},"Total",{"$f":"title331","v":"Quantity "},"Total",{"$f":"title331","v":"Quantity "},"Total"]
[null,null,null,null,{"$f":"title357","v":"(USD/Unit)"},{"$f":"title373","v":"(Unit/year)"},{"$f":"\"(\"&title84&\")\"","v":"(USD/year)"},{"$f":"title373","v":"(Unit/year)"},{"$f":"\"(\"&title84&\")\"","v":"(USD/year)"},{"$f":"title373","v":"(Unit/year)"},{"$f":"\"(\"&title84&\")\"","v":"(USD/year)"},{"$f":"title373","v":"(Unit/year)"},{"$f":"\"(\"&title84&\")\"","v":"(USD/year)"}]
[null,null,{"$f":"title126","v":"Feedstock "},"t",{"$f":"+IF('Data entry needs'!$C$17=FALSE,'Data entry needs'!D$16,'Data entry needs'!D$17)","v":0},{"$f":"F$29/$G$12","v":{"$error":"#DIV/0!"}},{"$f":"+F33*E33","v":{"$error":"#DIV/0!"}},{"$f":"H$29/$G$12","v":{"$error":"#DIV/0!"}},{"$f":"+H33*$E33","v":{"$error":"#DIV/0!"}},{"$f":"J$29/$G$12","v":{"$error":"#DIV/0!"}},{"$f":"+J33*$E33","v":{"$error":"#DIV/0!"}},{"$f":"L$29/$G$12","v":{"$error":"#DIV/0!"}},{"$f":"+L33*$E33","v":{"$error":"#DIV/0!"}}]
[null,null,{"$f":"title131","v":"Chemical binder"},"t",{"$f":"+'Data entry needs'!$D$20","v":0},{"$f":"IF('Data entry needs'!$D$18=\"NO\",0,F$29/VLOOKUP($G$9,'Raw mat_Briquette'!$B$18:$C$21,2,FALSE))","v":0},{"$f":"+F34*E34","v":0},null,{"$f":"+H34*$E34","v":0},null,{"$f":"+J34*$E34","v":0},null,{"$f":"+L34*$E34","v":0}]
[null,null,{"$f":"title136","v":"Water"},"m3",{"$f":"'Data entry needs'!$D$26","v":0},{"$f":"F$29*1000/'Raw mat_Briquette'!$C$14","v":0},{"$f":"+F35*E35","v":0},{"$f":"H$29*1000/'Raw mat_Briquette'!$C$14","v":0},{"$f":"+H35*$E35","v":0},{"$f":"J$29*1000/'Raw mat_Briquette'!$C$14","v":0},{"$f":"+J35*$E35","v":0},{"$f":"L$29*1000/'Raw mat_Briquette'!$C$14","v":0},{"$f":"+L35*$E35","v":0}]
[null,null,{"$f":"title137","v":"Electricity"},"KWh",{"$f":"'Data entry needs'!$H$26","v":0},null,{"$f":"+F36*E36","v":0},{"$f":"VLOOKUP(H$27,'Raw mat_Briquette'!$B$24:$C$27,2,FALSE)*H$29","v":0},{"$f":"+H36*$E36","v":0},{"$f":"VLOOKUP(J$27,'Raw mat_Briquette'!$B$24:$C$27,2,FALSE)*J$29","v":0},{"$f":"+J36*$E36","v":0},{"$f":"VLOOKUP(L$27,'Raw mat_Briquette'!$B$24:$C$27,2,FALSE)*L$29","v":0},{"$f":"+L36*$E36","v":0}]
[null,null,{"$f":"title355","v":"Subtotal"},null,null,{"$f":"SUM(G33:G36)","v":{"$error":"#DIV/0!"}},null,{"$f":"SUM(I33:I36)","v":{"$error":"#DIV/0!"}},null,{"$f":"SUM(K33:K36)","v":{"$error":"#DIV/0!"}},null,{"$f":"SUM(M33:M36)","v":{"$error":"#DIV/0!"}}]
[]
[null,null,{"$f":"title359","v":"Labour and miscellaneous costs"},{"$f":"title96","v":"Unit"},{"$f":"title356","v":"Unit Price"},{"$f":"title331","v":"Quantity "},"Total",{"$f":"title331","v":"Quantity "},"Total",{"$f":"title331","v":"Quantity "},"Total",{"$f":"title331","v":"Quantity "},"Total"]
[null,null,null,null,{"$f":"title374","v":"(USD/person-hour)"},"(Unit)",{"$f":"\"(\"&title84&\")\"","v":"(USD/year)"},"(Unit)",{"$f":"\"(\"&title84&\")\"","v":"(USD/year)"},"(Unit)",{"$f":"\"(\"&title84&\")\"","v":"(USD/year)"},"(Unit)",{"$f":"\"(\"&title84&\")\"","v":"(USD/year)"}]
[null,null,{"$f":"title141","v":"Unskilled worker"},{"$f":"title375","v":"# employee"},{"$f":"'Data entry needs'!$H$29","v":0},1,{"$f":"+E41*F41*G28","v":0},{"$f":"+ROUNDUP(H29/500,0)","v":0},{"$f":"+$E41*H41*I28","v":0},{"$f":"+ROUNDUP(J29/600,0)","v":0},{"$f":"+$E41*J41*K28","v":0},{"$f":"+ROUNDUP(L29/700,0)","v":0},{"$f":"+$E41*L41*M28","v":0}]
[null,null,{"$f":"title139","v":"Skilled worker"},{"$f":"title375","v":"# employee"},{"$f":"'Data entry needs'!$D$29","v":0},null,{"$f":"+E42*F42*G28","v":0},{"$f":"+ROUND(H41/4,0)","v":0},{"$f":"+$E42*H42*I28","v":0},{"$f":"+ROUND(J41/4,0)","v":0},{"$f":"+$E42*J42*K28","v":0},{"$f":"+ROUND(L41/4,0)","v":0},{"$f":"+$E42*L42*M28","v":0}]
[null,null,"Miscellaneous costs",null,null,{"$f":"+'Data entry needs'!$H$47","v":0},{"$f":"+F43*SUM(G41:G42)","v":0},{"$f":"+'Data entry needs'!$H$47","v":0},{"$f":"+H43*SUM(I41:I42)","v":0},{"$f":"+'Data entry needs'!$H$47","v":0},{"$f":"+J43*SUM(K41:K42)","v":0},{"$f":"+'Data entry needs'!$H$47","v":0},{"$f":"+L43*SUM(M41:M42)","v":0}]
[null,null,{"$f":"title355","v":"Subtotal"},null,null,{"$f":"SUM(G41:G43)","v":0},{"$f":"+G41+G42+G43","v":0},{"$f":"SUM(I41:I43)","v":0},{"$f":"+I41+I42+I43","v":0},{"$f":"SUM(K41:K43)","v":0},{"$f":"+K41+K42+K43","v":0},{"$f":"SUM(M41:M43)","v":0},{"$f":"+M41+M42+M43","v":0}]
[]
[null,null,{"$f":"title360","v":"Transportation"},{"$f":"title96","v":"Unit"},{"$f":"title356","v":"Unit Price"},{"$f":"title331","v":"Quantity "},"Total",{"$f":"title331","v":"Quantity "},"Total",{"$f":"title331","v":"Quantity "},"Total",{"$f":"title331","v":"Quantity "},"Total"]
[null,null,null,null,"(USD/t/km)","(Unit)",{"$f":"\"(\"&title84&\")\"","v":"(USD/year)"},"(Unit)",{"$f":"\"(\"&title84&\")\"","v":"(USD/year)"},"(Unit)",{"$f":"\"(\"&title84&\")\"","v":"(USD/year)"},"(Unit)",{"$f":"\"(\"&title84&\")\"","v":"(USD/year)"}]
[null,null,{"$f":"title151","v":"Feedstock (farm to briquette plant)"},"km",{"$f":"'Data entry needs'!$D$40","v":0},{"$f":"+$D$16","v":0},{"$f":"+F48*E48*F33","v":{"$error":"#DIV/0!"}},{"$f":"+$D$17","v":0},{"$f":"+H48*$E48*H$33","v":{"$error":"#DIV/0!"}},{"$f":"+$D$18","v":0},{"$f":"+J48*$E48*J$33","v":{"$error":"#DIV/0!"}},{"$f":"+$D$19","v":0},{"$f":"+L48*$E48*L$33","v":{"$error":"#DIV/0!"}}]
[null,null,"Briquette products (briquette plant to market)","km",{"$f":"'Data entry needs'!$H$40","v":0},{"$f":"+$J$16","v":0},{"$f":"+F49*E49*F29","v":0},{"$f":"+$J$17","v":0},{"$f":"+H49*$E49*H29","v":0},{"$f":"+$J$18","v":0},{"$f":"+J49*$E49*J29","v":0},{"$f":"+$J$19","v":0},{"$f":"+L49*$E49*L29","v":0}]
[null,null,{"$f":"title355","v":"Subtotal"},null,null,{"$f":"SUM(G48:G49)","v":{"$error":"#DIV/0!"}},{"$f":"SUM(G48:G49)","v":{"$error":"#DIV/0!"}},{"$f":"SUM(I48:I49)","v":{"$error":"#DIV/0!"}},{"$f":"SUM(I48:I49)","v":{"$error":"#DIV/0!"}},{"$f":"SUM(K48:K49)","v":{"$error":"#DIV/0!"}},{"$f":"SUM(K48:K49)","v":{"$error":"#DIV/0!"}},{"$f":"SUM(M48:M49)","v":{"$error":"#DIV/0!"}},{"$f":"SUM(M48:M49)","v":{"$error":"#DIV/0!"}}]
[]
[null,null,{"$f":"title361","v":"Storage"},{"$f":"title96","v":"Unit"},{"$f":"title356","v":"Unit Price"},{"$f":"title331","v":"Quantity "},"Total",{"$f":"title331","v":"Quantity "},"Total",{"$f":"title331","v":"Quantity "},"Total",{"$f":"title331","v":"Quantity "},"Total"]
[null,null,null,null,null,"(Unit)",{"$f":"\"(\"&title84&\")\"","v":"(USD/year)"},"(Unit)",{"$f":"\"(\"&title84&\")\"","v":"(USD/year)"},"(Unit)",{"$f":"\"(\"&title84&\")\"","v":"(USD/year)"},"(Unit)",{"$f":"\"(\"&title84&\")\"","v":"(USD/year)"}]
[null,null,{"$f":"title126","v":"Feedstock "},"USD/t",{"$f":"COST_RES1!G11","v":0},{"$f":"+STORAGE_RES1!F$38","v":{"$error":"#DIV/0!"}},{"$f":"+$E$54*F54","v":{"$error":"#DIV/0!"}},{"$f":"STORAGE_RES1!$I$38","v":{"$error":"#DIV/0!"}},{"$f":"+$E$54*H54","v":{"$error":"#DIV/0!"}},{"$f":"STORAGE_RES1!$L$38","v":{"$error":"#DIV/0!"}},{"$f":"+$E$54*J54","v":{"$error":"#DIV/0!"}},{"$f":"STORAGE_RES1!$O$38","v":{"$error":"#DIV/0!"}},{"$f":"+$E$54*L54","v":{"$error":"#DIV/0!"}}]
[null,null,{"$f":"title362","v":"Briquette products"},"USD/t",{"$f":"COST_RES1!D12","v":0},{"$f":"$D$11*F$29","v":0},{"$f":"+$E$55*F55","v":0},{"$f":"$D$11*H$29","v":0},{"$f":"+$E$55*H55","v":0},{"$f":"$D$11*J$29","v":0},{"$f":"+$E$55*J55","v":0},{"$f":"$D$11*L$29","v":0},{"$f":"+$E$55*L55","v":0}]
[null,null,{"$f":"title355","v":"Subtotal"},null,null,{"$f":"SUM(G54:G55)","v":{"$error":"#DIV/0!"}},{"$f":"SUM(G54:G54)","v":{"$error":"#DIV/0!"}},{"$f":"SUM(I54:I55)","v":{"$error":"#DIV/0!"}},{"$f":"SUM(I54:I54)","v":{"$error":"#DIV/0!"}},{"$f":"SUM(K54:K55)","v":{"$error":"#DIV/0!"}},{"$f":"SUM(K54:K54)","v":{"$error":"#DIV/0!"}},{"$f":"SUM(M54:M55)","v":{"$error":"#DIV/0!"}},{"$f":"SUM(M54:M54)","v":{"$error":"#DIV/0!"}}]
[]
[null,null,{"$f":"title363","v":"Investment"},{"$f":"title96","v":"Unit"},{"$f":"title446","v":"Years"},"Total",{"$f":"title272","v":"Depreciation"},"Total",{"$f":"title272","v":"Depreciation"},"Total",{"$f":"title272","v":"Depreciation"},"Total",{"$f":"title272","v":"Depreciation"}]
[null,null,"Investment",null,null,"(USD)",{"$f":"\"(\"&title84&\")\"","v":"(USD/year)"},"(USD)",{"$f":"\"(\"&title84&\")\"","v":"(USD/year)"},"(USD)",{"$f":"\"(\"&title84&\")\"","v":"(USD/year)"},"(USD)",{"$f":"\"(\"&title84&\")\"","v":"(USD/year)"}]
[null,null,{"$f":"title225","v":"Equipments"},"USD",10,{"$f":"size1_inv*('Data entry needs'!$H$52/155.257667602403)","v":0},{"$f":"+F60/E60","v":0},{"$f":"size2_inv*('Data entry needs'!$H$52/155.257667602403)","v":0},{"$f":"+H60/$E$60","v":0},{"$f":"size3_inv*('Data entry needs'!$H$52/155.257667602403)","v":0},{"$f":"+J60/$E$60","v":0},{"$f":"size4_inv*('Data entry needs'!$H$52/155.257667602403)","v":0},{"$f":"+L60/$E$60","v":0}]
[null,null,{"$f":"title226","v":"Building"},"USD",10,{"$f":"size1_bui*('Data entry needs'!$H$52/155.257667602403)","v":0},{"$f":"+F61/E61","v":0},{"$f":"size2_bui*('Data entry needs'!$H$52/155.257667602403)","v":0},{"$f":"+H61/$E$60","v":0},{"$f":"size3_bui*('Data entry needs'!$H$52/155.257667602403)","v":0},{"$f":"+J61/$E$60","v":0},{"$f":"size4_bui*('Data entry needs'!$H$52/155.257667602403)","v":0},{"$f":"+L61/$E$60","v":0}]
[null,null,{"$f":"title227","v":"Installation"},"USD",10,{"$f":"size1_ins*('Data entry needs'!$H$52/155.257667602403)","v":0},{"$f":"+F62/E62","v":0},{"$f":"size2_ins*('Data entry needs'!$H$52/155.257667602403)","v":0},{"$f":"+H62/$E$60","v":0},{"$f":"size3_ins*('Data entry needs'!$H$52/155.257667602403)","v":0},{"$f":"+J62/$E$60","v":0},{"$f":"size4_ins*('Data entry needs'!$H$52/155.257667602403)","v":0},{"$f":"+L62/$E$60","v":0}]
[null,null,{"$f":"title364","v":"Total investment"},null,null,{"$f":"SUM(F60:F62)","v":0},null,{"$f":"SUM(H60:H62)","v":0},null,{"$f":"SUM(J60:J62)","v":0},null,{"$f":"SUM(L60:L62)","v":0}]
[null,null,null,null,null,{"$f":"title378","v":"Total Depreciation"},{"$f":"SUM(G60:G63)","v":0},{"$f":"title378","v":"Total Depreciation"},{"$f":"SUM(I60:I63)","v":0},{"$f":"title378","v":"Total Depreciation"},{"$f":"SUM(K60:K63)","v":0},{"$f":"title378","v":"Total Depreciation"},{"$f":"SUM(M60:M63)","v":0}]
[null,null,{"$f":"title365","v":"Maintenance cost"},null,{"$f":"+'Data entry needs'!$D$48","v":0},null,{"$f":"+E65*G64","v":0},null,{"$f":"+E65*$I$64","v":0},null,{"$f":"+$E$65*K64","v":0},null,{"$f":"+$E$65*M64","v":0}]
[null,null,{"$f":"title355","v":"Subtotal"},null,null,{"$f":"SUM(G64:G65)","v":0},null,{"$f":"SUM(I64:I65)","v":0},null,{"$f":"SUM(K64:K65)","v":0},null,{"$f":"SUM(M64:M65)","v":0}]
[]
[null,null,{"$f":"title159","v":"Other costs"},{"$f":"title96","v":"Unit"},{"$f":"title376","v":"Rate (%)"},null,"Total",null,"Total",null,"Total",null,"Total"]
[null,null,null,null,null,null,{"$f":"\"(\"&title84&\")\"","v":"(USD/year)"},null,{"$f":"\"(\"&title84&\")\"","v":"(USD/year)"},null,{"$f":"\"(\"&title84&\")\"","v":"(USD/year)"},null,{"$f":"\"(\"&title84&\")\"","v":"(USD/year)"}]
[null,null,{"$f":"title366","v":"Plant overhead"},"USD",{"$f":"+'Data entry needs'!$D$47","v":0},null,{"$f":"+(G41+G42+G65)*$E$70","v":0},null,{"$f":"+(I41+I42+I65)*$E$70","v":0},null,{"$f":"+(K41+K42+K65)*$E$70","v":0},null,{"$f":"+(M41+M42+M65)*$E$70","v":0}]
[null,null,{"$f":"title250","v":"General and administrative cost"},"USD",{"$f":"+'Data entry needs'!$H$48","v":0},null,{"$f":"+(F37+G44+G70+G65)*$E$71","v":{"$error":"#DIV/0!"}},null,{"$f":"+(H37+I44+I70+I65)*$E$71","v":{"$error":"#DIV/0!"}},null,{"$f":"+(J37+K44+K70+K65)*$E$71","v":{"$error":"#DIV/0!"}},null,{"$f":"+(L37+M44+M70+M65)*$E$71","v":{"$error":"#DIV/0!"}}]
[null,null,{"$f":"title367","v":"Loan interest"},"USD",{"$f":"J11","v":0},null,{"$f":"-FA4_RURAL_RES1!G85","v":0},null,{"$f":"-FA40_RURAL_RES1!G85","v":0},null,{"$f":"-FA400_RURAL_RES1!G86","v":0},null,{"$f":"-FA4000_RURAL_RES1!G86","v":0}]
[null,null,{"$f":"title355","v":"Subtotal"},null,null,{"$f":"SUM(G70:G72)","v":{"$error":"#DIV/0!"}},null,{"$f":"SUM(I70:I72)","v":{"$error":"#DIV/0!"}},null,null,{"$f":"SUM(K70:K72)","v":{"$error":"#DIV/0!"}},null,{"$f":"SUM(M70:M72)","v":{"$error":"#DIV/0!"}}]
[]
[]
[null,null,{"$f":"title368","v":"Total costs"},null,null,"Total",{"$f":"title377","v":"Share (%)"},"Total",{"$f":"title377","v":"Share (%)"},"Total",{"$f":"title377","v":"Share (%)"},"Total",{"$f":"title377","v":"Share (%)"}]
[null,null,"Investment",null,null,{"$f":"\"(\"&title84&\")\"","v":"(USD/year)"},null,{"$f":"\"(\"&title84&\")\"","v":"(USD/year)"},null,{"$f":"\"(\"&title84&\")\"","v":"(USD/year)"},null,{"$f":"\"(\"&title84&\")\"","v":"(USD/year)"}]
[null,null,{"$f":"title369","v":"Total operating costs"},null,null,{"$f":"+F37+G44+G50+G56","v":{"$error":"#DIV/0!"}},{"$f":"+F78/$F$81","v":{"$error":"#DIV/0!"}},{"$f":"+H37+I44+I50+I56","v":{"$error":"#DIV/0!"}},{"$f":"+H78/$H$81","v":{"$error":"#DIV/0!"}},{"$f":"+J37+K44+K50+K56","v":{"$error":"#DIV/0!"}},{"$f":"+J78/$J$81","v":{"$error":"#DIV/0!"}},{"$f":"+L37+M44+M50+M56","v":{"$error":"#DIV/0!"}},{"$f":"+L78/$L$81","v":{"$error":"#DIV/0!"}}]
[null,null,{"$f":"title370","v":"Total fixed costs"},null,null,{"$f":"+F66","v":0},{"$f":"+F79/$F$81","v":{"$error":"#DIV/0!"}},{"$f":"+H66","v":0},{"$f":"+H79/$H$81","v":{"$error":"#DIV/0!"}},{"$f":"+J66","v":0},{"$f":"+J79/$J$81","v":{"$error":"#DIV/0!"}},{"$f":"+L66","v":0},{"$f":"+L79/$L$81","v":{"$error":"#DIV/0!"}}]
[null,null,{"$f":"title371","v":"Total other costs"},null,null,{"$f":"+F73","v":{"$error":"#DIV/0!"}},{"$f":"+F80/$F$81","v":{"$error":"#DIV/0!"}},{"$f":"+H73","v":{"$error":"#DIV/0!"}},{"$f":"+H80/$H$81","v":{"$error":"#DIV/0!"}},{"$f":"+K73","v":{"$error":"#DIV/0!"}},{"$f":"+J80/$J$81","v":{"$error":"#DIV/0!"}},{"$f":"+M73","v":{"$error":"#DIV/0!"}},{"$f":"+L80/$L$81","v":{"$error":"#DIV/0!"}}]
[null,null,{"$f":"title372","v":"Total production costs"},null,null,{"$f":"SUM(F78:F80)","v":{"$error":"#DIV/0!"}},null,{"$f":"SUM(H78:H80)","v":{"$error":"#DIV/0!"}},null,{"$f":"SUM(J78:J80)","v":{"$error":"#DIV/0!"}},null,{"$f":"SUM(L78:L80)","v":{"$error":"#DIV/0!"}}]
[]
[null,null,null,null,null,{"$f":"title95","v":"Capacities (kg of briquette per hour)"}]
[null,null,null,null,null,{"$f":"F25","v":4},null,{"$f":"H25","v":40},null,{"$f":"J25","v":400},null,{"$f":"L25","v":4000}]
[null,null,{"$f":"title385","v":"Unit cost of briquette (USD/kg of briquette)"},null,null,{"$f":"F81/(F29*1000)","v":{"$error":"#DIV/0!"}},null,{"$f":"H81/(H29*1000)","v":{"$error":"#DIV/0!"}},null,{"$f":"J81/(J29*1000)","v":{"$error":"#DIV/0!"}},null,{"$f":"L81/(L29*1000)","v":{"$error":"#DIV/0!"}}]
[]
[null,null,{"$f":"title379","v":"Average loan interest"},{"$f":"title96","v":"Unit"},{"$f":"title166&\" (%)\"","v":"Loan ratio (%)"},{"$f":"title364","v":"Total investment"},{"$f":"title380","v":"Loan amount"},{"$f":"title364","v":"Total investment"},{"$f":"title380","v":"Loan amount"},{"$f":"title364","v":"Total investment"},{"$f":"title380","v":"Loan amount"},{"$f":"title364","v":"Total investment"},{"$f":"title380","v":"Loan amount"}]
[null,null,null,null,null,"(USD)","(USD)","(USD)","(USD)","(USD)","(USD)","(USD)","(USD)"]
[null,null,{"$f":"title380","v":"Loan amount"},"USD",{"$f":"J10","v":0},{"$f":"F63","v":0},{"$f":"$E$89*F89","v":0},{"$f":"H63","v":0},{"$f":"$E$89*H89","v":0},{"$f":"J63","v":0},{"$f":"$E$89*J89","v":0},{"$f":"L63","v":0},{"$f":"$E$89*L89","v":0}]
[null,null,{"$f":"title167","v":"Loan interest rate"},"%",null,null,{"$f":"+$J$11","v":0},null,{"$f":"+$J$11","v":0},null,{"$f":"+$J$11","v":0},null,{"$f":"+$J$11","v":0}]
[null,null,{"$f":"title381","v":"Loan payment"},{"$f":"title384","v":"USD/month"},null,null,{"$f":"PMT(G90/12,G93*12,G89,0)","v":{"$error":"#NUM!"}},null,{"$f":"PMT(I90/12,I93*12,I89,0)","v":{"$error":"#NUM!"}},null,{"$f":"PMT(K90/12,K93*12,K89,0)","v":{"$error":"#NUM!"}},null,{"$f":"PMT(M90/12,M93*12,M89,0)","v":{"$error":"#NUM!"}}]
[null,null,{"$f":"title382","v":"Annual loan payment"},{"$f":"title84","v":"USD/year"},null,null,{"$f":"G91*12","v":{"$error":"#NUM!"}},null,{"$f":"I91*12","v":{"$error":"#NUM!"}},null,{"$f":"K91*12","v":{"$error":"#NUM!"}},null,{"$f":"M91*12","v":{"$error":"#NUM!"}},null,null,null,null,null,null,null,null,null,null,null,null,null,null,null,null,"FS1",{"$f":"+$D$10","v":0},{"$f":"+IF(AE92=title172,VERDADRO,FALSE)","v":false}]
[null,null,{"$f":"title168","v":"Loan term"},{"$f":"title169","v":"year"},null,null,{"$f":"+$M$9","v":0},null,{"$f":"+$M$9","v":0},null,{"$f":"+$M$9","v":0},null,{"$f":"+$M$9","v":0},null,null,null,null,null,null,null,null,null,null,null,null,null,null,null,null,"FS2",{"$f":"+E$11","v":"Feedstock storage cost (USD/t)"},{"$f":"+IF(AE93=title172,VERDADRO,FALSE)","v":false}]
[null,null,{"$f":"title383","v":"Total loan payment"},"USD",null,null,{"$f":"G92*G93","v":{"$error":"#NUM!"}},null,{"$f":"I92*I93","v":{"$error":"#NUM!"}},null,{"$f":"K92*K93","v":{"$error":"#NUM!"}},null,{"$f":"M92*M93","v":{"$error":"#NUM!"}},null,null,null,null,null,null,null,null,null,null,null,null,null,null,null,null,"FS3",{"$f":"+$F$11","v":0},{"$f":"+IF(AE94=title172,VERDADRO,FALSE)","v":false}]
[null,null,{"$f":"title367","v":"Loan interest"},"USD",null,null,{"$f":"G94+G89","v":{"$error":"#NUM!"}},null,{"$f":"I94+I89","v":{"$error":"#NUM!"}},null,{"$f":"K94+K89","v":{"$error":"#NUM!"}},null,{"$f":"M94+M89","v":{"$error":"#NUM!"}},null,null,null,null,null,null,null,null,null,null,null,null,null,null,null,null,"FS4",{"$f":"+$G$11","v":0},{"$f":"+IF(AE95=title172,VERDADRO,FALSE)","v":false}]
[null,null,{"$f":"title379","v":"Average loan interest"},{"$f":"title84","v":"USD/year"},null,null,{"$f":"+G95/20","v":{"$error":"#NUM!"}},null,{"$f":"+I95/20","v":{"$error":"#NUM!"}},null,{"$f":"+K95/20","v":{"$error":"#NUM!"}},null,{"$f":"+M95/20","v":{"$error":"#NUM!"}}]

{"sheet":"COST_RES2","index":27,"n_rows":96,"n_cols":32,"rows_kept":96,"cut":false,"hidden":false,"merged":[[2,2,2,12],[23,5,23,12],[24,5,24,6],[24,7,24,8],[24,9,24,10],[24,11,24,12],[5,3,5,5],[25,5,25,6],[25,7,25,8],[25,9,25,10],[25,11,25,12],[26,7,26,8],[26,9,26,10],[26,11,26,12],[26,5,26,6],[28,5,28,6],[28,7,28,8],[28,9,28,10],[28,11,28,12],[30,2,31,2],[30,3,31,3],[36,5,36,6],[36,7,36,8],[36,9,36,10],[36,11,36,12],[38,2,39,2],[38,3,39,3],[45,2,46,2],[45,3,46,3],[49,5,49,6],[49,7,49,8],[49,9,49,10],[49,11,49,12],[51,2,52,2],[51,3,52,3],[51,4,52,4],[55,5,55,6],[55,7,55,8],[55,9,55,10],[55,11,55,12],[57,2,58,2],[57,3,58,3],[57,4,58,4],[65,5,65,6],[65,7,65,8],[65,9,65,10],[65,11,65,12],[67,2,68,2],[67,3,68,3],[67,4,68,4],[80,11,80,12],[72,5,72,6],[72,7,72,8],[72,9,72,10],[75,2,76,2],[75,3,76,3],[75,4,76,4],[72,11,72,12],[80,2,80,4],[80,5,80,6],[80,7,80,8],[80,9,80,10],[82,5,82,12],[86,2,87,2],[86,3,87,3],[86,4,87,4],[83,7,83,8],[83,11,83,12],[83,9,83,10],[84,5,84,6],[84,7,84,8],[84,9,84,10],[84,11,84,12]]}
[]
[]
[null,null,{"$f":"+UPPER(title332&'Data entry needs'!$E$10&\" \"&'Data entry needs'!$E$11)","v":" PROCESSING COSTS FOR BRIQUETTE PRODUCTION FROM PLEASE SELECT PLEASE SELECT"}]
[]
[]
[null,null,{"$f":"title123","v":"Use white cells to input data"},{"$f":"title124","v":"Grey cells are used for calculations"}]
[null,null,{"$f":"title333","v":"Summary of Feedstock and Storage"},null,null,null,null,null,{"$f":"title164","v":"Financial parameters"}]
[]
[null,null,{"$f":"title127","v":"Feedstock available (t/year)"},{"$f":"'Data entry needs'!$E$12","v":0},{"$f":"title131","v":"Chemical binder"},null,{"$f":"'Data entry needs'!$E$19","v":"None"},null,{"$f":"title165&\" (%)\"","v":"Discount rate (%)"},{"$f":"'Data entry needs'!D51","v":0},{"$f":"title261","v":"Loan term (years)"},null,{"$f":"'Data entry needs'!D54","v":0}]
[null,null,{"$f":"title128","v":"Feedstock yield (t/ha)"},{"$f":"'Data entry needs'!$E$13","v":0},{"$f":"title336","v":"Chemical binder cost (USD/t)"},null,{"$f":"+'Data entry needs'!$E$20","v":0},null,{"$f":"title166&\" (%)\"","v":"Loan ratio (%)"},{"$f":"'Data entry needs'!D52","v":0}]
[null,null,{"$f":"title334","v":"Safety storage rate of product"},{"$f":"'Data entry needs'!$H$43","v":0},{"$f":"title133","v":"Feedstock storage cost (USD/t)"},null,{"$f":"+'Data entry needs'!$E$21","v":0},null,{"$f":"title167&\" (%)\"","v":"Loan interest rate (%)"},{"$f":"'Data entry needs'!D53","v":0},{"$f":"+'Data entry needs'!F52","v":"Plant Cost Index during 1/2017"},null,{"$f":"+'Data entry needs'!$H$52","v":0}]
[null,null,{"$f":"title335","v":"Briquette products storage cost (USD/t)"},{"$f":"+'Data entry needs'!E21","v":0},{"$f":"title337","v":"Transformation efficiency (%)"}]
[]
[null,null,{"$f":"title338","v":"Transport Distance of Feedstock"},null,{"$f":"title339","v":"Transport Quantity"},null,null,{"$f":"title340","v":"Transport Distance of Products"},null,null,{"$f":"title339","v":"Transport Quantity"}]
[]
[null,null,{"$f":"title341","v":"Distance manual production (km)"},null,{"$f":"title345","v":"Manual (t/year)"},null,{"$f":"+$F$33","v":{"$error":"#DIV/0!"}},{"$f":"title341","v":"Distance manual production (km)"},null,null,{"$f":"title345","v":"Manual (t/year)"},null,{"$f":"+$F$29","v":0}]
[null,null,{"$f":"title342","v":"Distance small scale production (km)"},null,{"$f":"title346","v":"Small scale (t/year)"},null,{"$f":"+$H$33","v":{"$error":"#DIV/0!"}},{"$f":"title342","v":"Distance small scale production (km)"},null,null,{"$f":"title346","v":"Small scale (t/year)"},null,{"$f":"+$H$29","v":0}]
[null,null,{"$f":"title343","v":"Distance medium scale production (km)"},null,{"$f":"title347","v":"Medium scale (t/year)"},null,{"$f":"+$J$33","v":{"$error":"#DIV/0!"}},{"$f":"title343","v":"Distance medium scale production (km)"},null,null,{"$f":"title347","v":"Medium scale (t/year)"},null,{"$f":"+$J$29","v":0}]
[null,null,{"$f":"title344","v":"Distance large scale production (km)"},null,{"$f":"title348","v":"Large scale (t/year)"},null,{"$f":"+$L$33","v":{"$error":"#DIV/0!"}},{"$f":"title344","v":"Distance large scale production (km)"},null,null,{"$f":"title348","v":"Large scale (t/year)"},null,{"$f":"+$L$29","v":0}]
[]
[]
[null,null,{"$f":"title349","v":"Production Cost Details"}]
[null,null,{"$f":"title350","v":"Rural Markets"}]
[null,null,null,null,null,{"$f":"title95","v":"Capacities (kg of briquette per hour)"}]
[null,null,null,null,null,4,null,{"$f":"40","v":40},null,{"$f":"400","v":400},null,{"$f":"4000","v":4000}]
[null,null,null,null,null,{"$f":"title354","v":"Manual"},null,{"$f":"title329","v":"Mechanized"},null,{"$f":"title329","v":"Mechanized"},null,{"$f":"title329","v":"Mechanized"}]
[null,null,{"$f":"title351","v":"Urban Markets"},null,null,{"$f":"title390","v":"Agglomerator"},null,{"$f":"title31","v":"Screw press"},null,{"$f":"title389","v":"Roller press"},null,{"$f":"title388","v":"Piston press "}]
[null,null,null,null,null,{"$f":"title212","v":"Operating hours per year"},{"$f":"IF('Data entry needs'!$D$44>8,8,'Data entry needs'!$D$44)*IF('Data entry needs'!D43>300,300,'Data entry needs'!$D$43)","v":0},{"$f":"title212","v":"Operating hours per year"},{"$f":"IF('Data entry needs'!$H$44>8,8,'Data entry needs'!$H$44)*'Data entry needs'!$D$43","v":0},{"$f":"title212","v":"Operating hours per year"},{"$f":"IF('Data entry needs'!$H$44>16,16,'Data entry needs'!$H$44)*'Data entry needs'!$D$43","v":0},{"$f":"title212","v":"Operating hours per year"},{"$f":"'Data entry needs'!$H$44*'Data entry needs'!$D$43","v":0}]
[null,null,{"$f":"title352","v":"Annual briquette production (t/year)"},null,null,{"$f":"4*$G$28/1000","v":0},null,{"$f":"40*$I$28/1000","v":0},null,{"$f":"400*$K$28/1000","v":0},null,{"$f":"4000*$M$28/1000","v":0}]
[]
[null,null,{"$f":"title353","v":"Inputs"},{"$f":"title96","v":"Unit"},{"$f":"title356","v":"Unit Price"},{"$f":"title331","v":"Quantity "},"Total",{"$f":"title331","v":"Quantity "},"Total",{"$f":"title331","v":"Quantity "},"Total",{"$f":"title331","v":"Quantity "},"Total"]
[null,null,null,null,{"$f":"title357","v":"(USD/Unit)"},{"$f":"title373","v":"(Unit/year)"},{"$f":"\"(\"&title84&\")\"","v":"(USD/year)"},{"$f":"title373","v":"(Unit/year)"},{"$f":"\"(\"&title84&\")\"","v":"(USD/year)"},{"$f":"title373","v":"(Unit/year)"},{"$f":"\"(\"&title84&\")\"","v":"(USD/year)"},{"$f":"title373","v":"(Unit/year)"},{"$f":"\"(\"&title84&\")\"","v":"(USD/year)"}]
[null,null,{"$f":"title126","v":"Feedstock "},"t",{"$f":"+IF('Data entry needs'!$C$17=FALSE,'Data entry needs'!E$16,'Data entry needs'!E$17)","v":0},{"$f":"F$29/$G$12","v":{"$error":"#DIV/0!"}},{"$f":"+F33*E33","v":{"$error":"#DIV/0!"}},{"$f":"H$29/$G$12","v":{"$error":"#DIV/0!"}},{"$f":"+H33*$E33","v":{"$error":"#DIV/0!"}},{"$f":"J$29/$G$12","v":{"$error":"#DIV/0!"}},{"$f":"+J33*$E33","v":{"$error":"#DIV/0!"}},{"$f":"L$29/$G$12","v":{"$error":"#DIV/0!"}},{"$f":"+L33*$E33","v":{"$error":"#DIV/0!"}}]
[null,null,{"$f":"title131","v":"Chemical binder"},"t",{"$f":"+'Data entry needs'!$E$20","v":0},{"$f":"IF('Data entry needs'!$D$18=\"NO\",0,F$29/VLOOKUP($G$9,'Raw mat_Briquette'!$B$18:$C$21,2,FALSE))","v":0},{"$f":"+F34*E34","v":0},null,{"$f":"+H34*$E34","v":0},null,{"$f":"+J34*$E34","v":0},null,{"$f":"+L34*$E34","v":0}]
[null,null,{"$f":"title136","v":"Water"},"m3",{"$f":"'Data entry needs'!$D$26","v":0},{"$f":"F$29*1000/'Raw mat_Briquette'!$C$14","v":0},{"$f":"+F35*E35","v":0},{"$f":"H$29*1000/'Raw mat_Briquette'!$C$14","v":0},{"$f":"+H35*$E35","v":0},{"$f":"J$29*1000/'Raw mat_Briquette'!$C$14","v":0},{"$f":"+J35*$E35","v":0},{"$f":"L$29*1000/'Raw mat_Briquette'!$C$14","v":0},{"$f":"+L35*$E35","v":0}]
[null,null,{"$f":"title137","v":"Electricity"},"KWh",{"$f":"'Data entry needs'!$H$26","v":0},null,{"$f":"+F36*E36","v":0},{"$f":"VLOOKUP(H$27,'Raw mat_Briquette'!$B$24:$C$27,2,FALSE)*H$29","v":0},{"$f":"+H36*$E36","v":0},{"$f":"VLOOKUP(J$27,'Raw mat_Briquette'!$B$24:$C$27,2,FALSE)*J$29","v":0},{"$f":"+J36*$E36","v":0},{"$f":"VLOOKUP(L$27,'Raw mat_Briquette'!$B$24:$C$27,2,FALSE)*L$29","v":0},{"$f":"+L36*$E36","v":0}]
[null,null,{"$f":"title355","v":"Subtotal"},null,null,{"$f":"SUM(G33:G36)","v":{"$error":"#DIV/0!"}},null,{"$f":"SUM(I33:I36)","v":{"$error":"#DIV/0!"}},null,{"$f":"SUM(K33:K36)","v":{"$error":"#DIV/0!"}},null,{"$f":"SUM(M33:M36)","v":{"$error":"#DIV/0!"}}]
[]
[null,null,{"$f":"title359","v":"Labour and miscellaneous costs"},{"$f":"title96","v":"Unit"},{"$f":"title356","v":"Unit Price"},{"$f":"title331","v":"Quantity "},"Total",{"$f":"title331","v":"Quantity "},"Total",{"$f":"title331","v":"Quantity "},"Total",{"$f":"title331","v":"Quantity "},"Total"]
[null,null,null,null,{"$f":"title374","v":"(USD/person-hour)"},"(Unit)",{"$f":"\"(\"&title84&\")\"","v":"(USD/year)"},"(Unit)",{"$f":"\"(\"&title84&\")\"","v":"(USD/year)"},"(Unit)",{"$f":"\"(\"&title84&\")\"","v":"(USD/year)"},"(Unit)",{"$f":"\"(\"&title84&\")\"","v":"(USD/year)"}]
[null,null,{"$f":"title141","v":"Unskilled worker"},{"$f":"title375","v":"# employee"},{"$f":"'Data entry needs'!$H$29","v":0},1,{"$f":"+E41*F41*G28","v":0},{"$f":"+ROUNDUP(H29/500,0)","v":0},{"$f":"+$E41*H41*I28","v":0},{"$f":"+ROUNDUP(J29/600,0)","v":0},{"$f":"+$E41*J41*K28","v":0},{"$f":"+ROUNDUP(L29/700,0)","v":0},{"$f":"+$E41*L41*M28","v":0}]
[null,null,{"$f":"title139","v":"Skilled worker"},{"$f":"title375","v":"# employee"},{"$f":"'Data entry needs'!$D$29","v":0},null,{"$f":"+E42*F42*G28","v":0},{"$f":"+ROUND(H41/4,0)","v":0},{"$f":"+$E42*H42*I28","v":0},{"$f":"+ROUND(J41/4,0)","v":0},{"$f":"+$E42*J42*K28","v":0},{"$f":"+ROUND(L41/4,0)","v":0},{"$f":"+$E42*L42*M28","v":0}]
[null,null,"Miscellaneous costs",null,null,{"$f":"+'Data entry needs'!$H$47","v":0},{"$f":"+F43*SUM(G41:G42)","v":0},{"$f":"+'Data entry needs'!$H$47","v":0},{"$f":"+H43*SUM(I41:I42)","v":0},{"$f":"+'Data entry needs'!$H$47","v":0},{"$f":"+J43*SUM(K41:K42)","v":0},{"$f":"+'Data entry needs'!$H$47","v":0},{"$f":"+L43*SUM(M41:M42)","v":0}]
[null,null,{"$f":"title355","v":"Subtotal"},null,null,{"$f":"SUM(G41:G43)","v":0},{"$f":"+G41+G42+G43","v":0},{"$f":"SUM(I41:I43)","v":0},{"$f":"+I41+I42+I43","v":0},{"$f":"SUM(K41:K43)","v":0},{"$f":"+K41+K42+K43","v":0},{"$f":"SUM(M41:M43)","v":0},{"$f":"+M41+M42+M43","v":0}]
[]
[null,null,{"$f":"title360","v":"Transportation"},{"$f":"title96","v":"Unit"},{"$f":"title356","v":"Unit Price"},{"$f":"title331","v":"Quantity "},"Total",{"$f":"title331","v":"Quantity "},"Total",{"$f":"title331","v":"Quantity "},"Total",{"$f":"title331","v":"Quantity "},"Total"]
[null,null,null,null,"(USD/t/km)","(Unit)",{"$f":"\"(\"&title84&\")\"","v":"(USD/year)"},"(Unit)",{"$f":"\"(\"&title84&\")\"","v":"(USD/year)"},"(Unit)",{"$f":"\"(\"&title84&\")\"","v":"(USD/year)"},"(Unit)",{"$f":"\"(\"&title84&\")\"","v":"(USD/year)"}]
[null,null,{"$f":"title151","v":"Feedstock (farm to briquette plant)"},"km",{"$f":"'Data entry needs'!$D$40","v":0},{"$f":"+$D$16","v":0},{"$f":"+F48*E48*F33","v":{"$error":"#DIV/0!"}},{"$f":"+$D$17","v":0},{"$f":"+H48*$E48*H$33","v":{"$error":"#DIV/0!"}},{"$f":"+$D$18","v":0},{"$f":"+J48*$E48*J$33","v":{"$error":"#DIV/0!"}},{"$f":"+$D$19","v":0},{"$f":"+L48*$E48*L$33","v":{"$error":"#DIV/0!"}}]
[null,null,"Briquette products (briquette plant to market)","km",{"$f":"'Data entry needs'!$H$40","v":0},{"$f":"+$J$16","v":0},{"$f":"+F49*E49*F29","v":0},{"$f":"+$J$17","v":0},{"$f":"+H49*$E49*H29","v":0},{"$f":"+$J$18","v":0},{"$f":"+J49*$E49*J29","v":0},{"$f":"+$J$19","v":0},{"$f":"+L49*$E49*L29","v":0}]
[null,null,{"$f":"title355","v":"Subtotal"},null,null,{"$f":"SUM(G48:G49)","v":{"$error":"#DIV/0!"}},{"$f":"SUM(G48:G49)","v":{"$error":"#DIV/0!"}},{"$f":"SUM(I48:I49)","v":{"$error":"#DIV/0!"}},{"$f":"SUM(I48:I49)","v":{"$error":"#DIV/0!"}},{"$f":"SUM(K48:K49)","v":{"$error":"#DIV/0!"}},{"$f":"SUM(K48:K49)","v":{"$error":"#DIV/0!"}},{"$f":"SUM(M48:M49)","v":{"$error":"#DIV/0!"}},{"$f":"SUM(M48:M49)","v":{"$error":"#DIV/0!"}}]
[]
[null,null,{"$f":"title361","v":"Storage"},{"$f":"title96","v":"Unit"},{"$f":"title356","v":"Unit Price"},{"$f":"title331","v":"Quantity "},"Total",{"$f":"title331","v":"Quantity "},"Total",{"$f":"title331","v":"Quantity "},"Total",{"$f":"title331","v":"Quantity "},"Total"]
[null,null,null,null,null,"(Unit)",{"$f":"\"(\"&title84&\")\"","v":"(USD/year)"},"(Unit)",{"$f":"\"(\"&title84&\")\"","v":"(USD/year)"},"(Unit)",{"$f":"\"(\"&title84&\")\"","v":"(USD/year)"},"(Unit)",{"$f":"\"(\"&title84&\")\"","v":"(USD/year)"}]
[null,null,{"$f":"title126","v":"Feedstock "},"USD/t",{"$f":"COST_RES2!G11","v":0},{"$f":"+STORAGE_RES2!F$38","v":{"$error":"#DIV/0!"}},{"$f":"+$E$54*F54","v":{"$error":"#DIV/0!"}},{"$f":"STORAGE_RES2!$I$38","v":{"$error":"#DIV/0!"}},{"$f":"+$E$54*H54","v":{"$error":"#DIV/0!"}},{"$f":"STORAGE_RES2!$L$38","v":{"$error":"#DIV/0!"}},{"$f":"+$E$54*J54","v":{"$error":"#DIV/0!"}},{"$f":"STORAGE_RES2!$O$38","v":{"$error":"#DIV/0!"}},{"$f":"+$E$54*L54","v":{"$error":"#DIV/0!"}}]
[null,null,{"$f":"title362","v":"Briquette products"},"USD/t",{"$f":"COST_RES2!D12","v":0},{"$f":"$D$11*F$29","v":0},{"$f":"+$E$55*F55","v":0},{"$f":"$D$11*H$29","v":0},{"$f":"+$E$55*H55","v":0},{"$f":"$D$11*J$29","v":0},{"$f":"+$E$55*J55","v":0},{"$f":"$D$11*L$29","v":0},{"$f":"+$E$55*L55","v":0}]
[null,null,{"$f":"title355","v":"Subtotal"},null,null,{"$f":"SUM(G54:G55)","v":{"$error":"#DIV/0!"}},{"$f":"SUM(G54:G54)","v":{"$error":"#DIV/0!"}},{"$f":"SUM(I54:I55)","v":{"$error":"#DIV/0!"}},{"$f":"SUM(I54:I54)","v":{"$error":"#DIV/0!"}},{"$f":"SUM(K54:K55)","v":{"$error":"#DIV/0!"}},{"$f":"SUM(K54:K54)","v":{"$error":"#DIV/0!"}},{"$f":"SUM(M54:M55)","v":{"$error":"#DIV/0!"}},{"$f":"SUM(M54:M54)","v":{"$error":"#DIV/0!"}}]
[]
[null,null,{"$f":"title363","v":"Investment"},{"$f":"title96","v":"Unit"},{"$f":"title446","v":"Years"},"Total",{"$f":"title272","v":"Depreciation"},"Total",{"$f":"title272","v":"Depreciation"},"Total",{"$f":"title272","v":"Depreciation"},"Total",{"$f":"title272","v":"Depreciation"}]
[null,null,"Investment",null,null,"(USD)",{"$f":"\"(\"&title84&\")\"","v":"(USD/year)"},"(USD)",{"$f":"\"(\"&title84&\")\"","v":"(USD/year)"},"(USD)",{"$f":"\"(\"&title84&\")\"","v":"(USD/year)"},"(USD)",{"$f":"\"(\"&title84&\")\"","v":"(USD/year)"}]
[null,null,{"$f":"title225","v":"Equipments"},"USD",10,{"$f":"size1_inv*('Data entry needs'!$H$52/155.257667602403)","v":0},{"$f":"+F60/E60","v":0},{"$f":"size2_inv*('Data entry needs'!$H$52/155.257667602403)","v":0},{"$f":"+H60/$E$60","v":0},{"$f":"size3_inv*('Data entry needs'!$H$52/155.257667602403)","v":0},{"$f":"+J60/$E$60","v":0},{"$f":"size4_inv*('Data entry needs'!$H$52/155.257667602403)","v":0},{"$f":"+L60/$E$60","v":0}]
[null,null,{"$f":"title226","v":"Building"},"USD",10,{"$f":"size1_bui*('Data entry needs'!$H$52/155.257667602403)","v":0},{"$f":"+F61/E61","v":0},{"$f":"size2_bui*('Data entry needs'!$H$52/155.257667602403)","v":0},{"$f":"+H61/$E$60","v":0},{"$f":"size3_bui*('Data entry needs'!$H$52/155.257667602403)","v":0},{"$f":"+J61/$E$60","v":0},{"$f":"size4_bui*('Data entry needs'!$H$52/155.257667602403)","v":0},{"$f":"+L61/$E$60","v":0}]
[null,null,{"$f":"title227","v":"Installation"},"USD",10,{"$f":"size1_ins*('Data entry needs'!$H$52/155.257667602403)","v":0},{"$f":"+F62/E62","v":0},{"$f":"size2_ins*('Data entry needs'!$H$52/155.257667602403)","v":0},{"$f":"+H62/$E$60","v":0},{"$f":"size3_ins*('Data entry needs'!$H$52/155.257667602403)","v":0},{"$f":"+J62/$E$60","v":0},{"$f":"size4_ins*('Data entry needs'!$H$52/155.257667602403)","v":0},{"$f":"+L62/$E$60","v":0}]
[null,null,{"$f":"title364","v":"Total investment"},null,null,{"$f":"SUM(F60:F62)","v":0},null,{"$f":"SUM(H60:H62)","v":0},null,{"$f":"SUM(J60:J62)","v":0},null,{"$f":"SUM(L60:L62)","v":0}]
[null,null,null,null,null,{"$f":"title378","v":"Total Depreciation"},{"$f":"SUM(G60:G63)","v":0},{"$f":"title378","v":"Total Depreciation"},{"$f":"SUM(I60:I63)","v":0},{"$f":"title378","v":"Total Depreciation"},{"$f":"SUM(K60:K63)","v":0},{"$f":"title378","v":"Total Depreciation"},{"$f":"SUM(M60:M63)","v":0}]
[null,null,{"$f":"title365","v":"Maintenance cost"},null,{"$f":"+'Data entry needs'!$D$48","v":0},null,{"$f":"+E65*G64","v":0},null,{"$f":"+E65*$I$64","v":0},null,{"$f":"+$E$65*K64","v":0},null,{"$f":"+$E$65*M64","v":0}]
[null,null,{"$f":"title355","v":"Subtotal"},null,null,{"$f":"SUM(G64:G65)","v":0},null,{"$f":"SUM(I64:I65)","v":0},null,{"$f":"SUM(K64:K65)","v":0},null,{"$f":"SUM(M64:M65)","v":0}]
[]
[null,null,{"$f":"title159","v":"Other costs"},{"$f":"title96","v":"Unit"},{"$f":"title376","v":"Rate (%)"},null,"Total",null,"Total",null,"Total",null,"Total"]
[null,null,null,null,null,null,{"$f":"\"(\"&title84&\")\"","v":"(USD/year)"},null,{"$f":"\"(\"&title84&\")\"","v":"(USD/year)"},null,{"$f":"\"(\"&title84&\")\"","v":"(USD/year)"},null,{"$f":"\"(\"&title84&\")\"","v":"(USD/year)"}]
[null,null,{"$f":"title366","v":"Plant overhead"},"USD",{"$f":"+'Data entry needs'!$D$47","v":0},null,{"$f":"+(G41+G42+G65)*$E$70","v":0},null,{"$f":"+(I41+I42+I65)*$E$70","v":0},null,{"$f":"+(K41+K42+K65)*$E$70","v":0},null,{"$f":"+(M41+M42+M65)*$E$70","v":0}]
[null,null,{"$f":"title250","v":"General and administrative cost"},"USD",{"$f":"+'Data entry needs'!$H$48","v":0},null,{"$f":"+(F37+G44+G70+G65)*$E$71","v":{"$error":"#DIV/0!"}},null,{"$f":"+(H37+I44+I70+I65)*$E$71","v":{"$error":"#DIV/0!"}},null,{"$f":"+(J37+K44+K70+K65)*$E$71","v":{"$error":"#DIV/0!"}},null,{"$f":"+(L37+M44+M70+M65)*$E$71","v":{"$error":"#DIV/0!"}}]
[null,null,{"$f":"title367","v":"Loan interest"},"USD",{"$f":"J11","v":0},null,{"$f":"-FA4_RURAL_RES2!G85","v":0},null,{"$f":"-FA40_RURAL_RES2!G85","v":0},null,{"$f":"-FA400_RURAL_RES2!G86","v":0},null,{"$f":"-FA4000_RURAL_RES2!G86","v":0}]
[null,null,{"$f":"title355","v":"Subtotal"},null,null,{"$f":"SUM(G70:G72)","v":{"$error":"#DIV/0!"}},null,{"$f":"SUM(I70:I72)","v":{"$error":"#DIV/0!"}},null,{"$f":"SUM(K70:K72)","v":{"$error":"#DIV/0!"}},null,{"$f":"SUM(M70:M72)","v":{"$error":"#DIV/0!"}}]
[]
[]
[null,null,{"$f":"title368","v":"Total costs"},null,null,"Total",{"$f":"title377","v":"Share (%)"},"Total",{"$f":"title377","v":"Share (%)"},"Total",{"$f":"title377","v":"Share (%)"},"Total",{"$f":"title377","v":"Share (%)"}]
[null,null,"Investment",null,null,{"$f":"\"(\"&title84&\")\"","v":"(USD/year)"},null,{"$f":"\"(\"&title84&\")\"","v":"(USD/year)"},null,{"$f":"\"(\"&title84&\")\"","v":"(USD/year)"},null,{"$f":"\"(\"&title84&\")\"","v":"(USD/year)"}]
[null,null,{"$f":"title369","v":"Total operating costs"},null,null,{"$f":"+F37+G44+G50+G56","v":{"$error":"#DIV/0!"}},{"$f":"+F78/$F$81","v":{"$error":"#DIV/0!"}},{"$f":"+H37+I44+I50+I56","v":{"$error":"#DIV/0!"}},{"$f":"+H78/$H$81","v":{"$error":"#DIV/0!"}},{"$f":"+J37+K44+K50+K56","v":{"$error":"#DIV/0!"}},{"$f":"+J78/$J$81","v":{"$error":"#DIV/0!"}},{"$f":"+L37+M44+M50+M56","v":{"$error":"#DIV/0!"}},{"$f":"+L78/$L$81","v":{"$error":"#DIV/0!"}}]
[null,null,{"$f":"title370","v":"Total fixed costs"},null,null,{"$f":"+F66","v":0},{"$f":"+F79/$F$81","v":{"$error":"#DIV/0!"}},{"$f":"+H66","v":0},{"$f":"+H79/$H$81","v":{"$error":"#DIV/0!"}},{"$f":"+J66","v":0},{"$f":"+J79/$J$81","v":{"$error":"#DIV/0!"}},{"$f":"+L66","v":0},{"$f":"+L79/$L$81","v":{"$error":"#DIV/0!"}}]
[null,null,{"$f":"title371","v":"Total other costs"},null,null,{"$f":"+F73","v":{"$error":"#DIV/0!"}},{"$f":"+F80/$F$81","v":{"$error":"#DIV/0!"}},{"$f":"+H73","v":{"$error":"#DIV/0!"}},{"$f":"+H80/$H$81","v":{"$error":"#DIV/0!"}},{"$f":"+J73","v":{"$error":"#DIV/0!"}},{"$f":"+J80/$J$81","v":{"$error":"#DIV/0!"}},{"$f":"+L73","v":{"$error":"#DIV/0!"}},{"$f":"+L80/$L$81","v":{"$error":"#DIV/0!"}}]
[null,null,{"$f":"title372","v":"Total production costs"},null,null,{"$f":"SUM(F78:F80)","v":{"$error":"#DIV/0!"}},null,{"$f":"SUM(H78:H80)","v":{"$error":"#DIV/0!"}},null,{"$f":"SUM(J78:J80)","v":{"$error":"#DIV/0!"}},null,{"$f":"SUM(L78:L80)","v":{"$error":"#DIV/0!"}}]
[]
[null,null,null,null,null,{"$f":"title95","v":"Capacities (kg of briquette per hour)"}]
[null,null,null,null,null,{"$f":"F25","v":4},null,{"$f":"H25","v":40},null,{"$f":"J25","v":400},null,{"$f":"L25","v":4000}]
[null,null,{"$f":"title385","v":"Unit cost of briquette (USD/kg of briquette)"},null,null,{"$f":"F81/(F29*1000)","v":{"$error":"#DIV/0!"}},null,{"$f":"H81/(H29*1000)","v":{"$error":"#DIV/0!"}},null,{"$f":"J81/(J29*1000)","v":{"$error":"#DIV/0!"}},null,{"$f":"L81/(L29*1000)","v":{"$error":"#DIV/0!"}}]
[]
[null,null,{"$f":"title379","v":"Average loan interest"},{"$f":"title96","v":"Unit"},{"$f":"title166&\" (%)\"","v":"Loan ratio (%)"},{"$f":"title364","v":"Total investment"},{"$f":"title380","v":"Loan amount"},{"$f":"title364","v":"Total investment"},{"$f":"title380","v":"Loan amount"},{"$f":"title364","v":"Total investment"},{"$f":"title380","v":"Loan amount"},{"$f":"title364","v":"Total investment"},{"$f":"title380","v":"Loan amount"}]
[null,null,null,null,null,"(USD)","(USD)","(USD)","(USD)","(USD)","(USD)","(USD)","(USD)"]
[null,null,{"$f":"title380","v":"Loan amount"},"USD",{"$f":"J10","v":0},{"$f":"F63","v":0},{"$f":"$E$89*F89","v":0},{"$f":"H63","v":0},{"$f":"$E$89*H89","v":0},{"$f":"J63","v":0},{"$f":"$E$89*J89","v":0},{"$f":"L63","v":0},{"$f":"$E$89*L89","v":0}]
[null,null,{"$f":"title167","v":"Loan interest rate"},"%",null,null,{"$f":"+$J$11","v":0},null,{"$f":"+$J$11","v":0},null,{"$f":"+$J$11","v":0},null,{"$f":"+$J$11","v":0}]
[null,null,{"$f":"title381","v":"Loan payment"},{"$f":"title384","v":"USD/month"},null,null,{"$f":"PMT(G90/12,G93*12,G89,0)","v":{"$error":"#NUM!"}},null,{"$f":"PMT(I90/12,I93*12,I89,0)","v":{"$error":"#NUM!"}},null,{"$f":"PMT(K90/12,K93*12,K89,0)","v":{"$error":"#NUM!"}},null,{"$f":"PMT(M90/12,M93*12,M89,0)","v":{"$error":"#NUM!"}}]
[null,null,{"$f":"title382","v":"Annual loan payment"},{"$f":"title84","v":"USD/year"},null,null,{"$f":"G91*12","v":{"$error":"#NUM!"}},null,{"$f":"I91*12","v":{"$error":"#NUM!"}},null,{"$f":"K91*12","v":{"$error":"#NUM!"}},null,{"$f":"M91*12","v":{"$error":"#NUM!"}},null,null,null,null,null,null,null,null,null,null,null,null,null,null,null,null,"FS1",{"$f":"+$D$10","v":0},{"$f":"+IF(AE92=title172,VERDADRO,FALSE)","v":false}]
[null,null,{"$f":"title168","v":"Loan term"},{"$f":"title169","v":"year"},null,null,{"$f":"+$M$9","v":0},null,{"$f":"+$M$9","v":0},null,{"$f":"+$M$9","v":0},null,{"$f":"+$M$9","v":0},null,null,null,null,null,null,null,null,null,null,null,null,null,null,null,null,"FS2",{"$f":"+E$11","v":"Feedstock storage cost (USD/t)"},{"$f":"+IF(AE93=title172,VERDADRO,FALSE)","v":false}]
[null,null,{"$f":"title383","v":"Total loan payment"},"USD",null,null,{"$f":"G92*G93","v":{"$error":"#NUM!"}},null,{"$f":"I92*I93","v":{"$error":"#NUM!"}},null,{"$f":"K92*K93","v":{"$error":"#NUM!"}},null,{"$f":"M92*M93","v":{"$error":"#NUM!"}},null,null,null,null,null,null,null,null,null,null,null,null,null,null,null,null,"FS3",{"$f":"+$F$11","v":0},{"$f":"+IF(AE94=title172,VERDADRO,FALSE)","v":false}]
[null,null,{"$f":"title367","v":"Loan interest"},"USD",null,null,{"$f":"G94+G89","v":{"$error":"#NUM!"}},null,{"$f":"I94+I89","v":{"$error":"#NUM!"}},null,{"$f":"K94+K89","v":{"$error":"#NUM!"}},null,{"$f":"M94+M89","v":{"$error":"#NUM!"}},null,null,null,null,null,null,null,null,null,null,null,null,null,null,null,null,"FS4",{"$f":"+$G$11","v":0},{"$f":"+IF(AE95=title172,VERDADRO,FALSE)","v":false}]
[null,null,{"$f":"title379","v":"Average loan interest"},{"$f":"title84","v":"USD/year"},null,null,{"$f":"+G95/20","v":{"$error":"#NUM!"}},null,{"$f":"+I95/20","v":{"$error":"#NUM!"}},null,{"$f":"+K95/20","v":{"$error":"#NUM!"}},null,{"$f":"+M95/20","v":{"$error":"#NUM!"}}]

{"sheet":"COST_RES3","index":28,"n_rows":96,"n_cols":32,"rows_kept":96,"cut":false,"hidden":false,"merged":[[2,2,2,12],[23,5,23,12],[24,5,24,6],[24,7,24,8],[24,9,24,10],[24,11,24,12],[5,3,5,5],[25,5,25,6],[25,7,25,8],[25,9,25,10],[25,11,25,12],[26,7,26,8],[26,9,26,10],[26,11,26,12],[26,5,26,6],[36,9,36,10],[36,11,36,12],[38,2,39,2],[38,3,39,3],[28,5,28,6],[28,7,28,8],[28,9,28,10],[28,11,28,12],[30,2,31,2],[30,3,31,3],[45,2,46,2],[45,3,46,3],[49,5,49,6],[49,7,49,8],[36,5,36,6],[36,7,36,8],[49,9,49,10],[49,11,49,12],[51,2,52,2],[51,3,52,3],[51,4,52,4],[55,5,55,6],[55,7,55,8],[55,9,55,10],[55,11,55,12],[57,2,58,2],[57,3,58,3],[57,4,58,4],[65,9,65,10],[65,11,65,12],[67,2,68,2],[67,3,68,3],[67,4,68,4],[75,2,76,2],[75,3,76,3],[75,4,76,4],[65,5,65,6],[65,7,65,8],[84,11,84,12],[72,5,72,6],[72,7,72,8],[72,9,72,10],[72,11,72,12],[83,11,83,12],[83,5,83,6],[82,5,82,12],[80,2,80,4],[80,5,80,6],[80,7,80,8],[80,9,80,10],[80,11,80,12],[86,2,87,2],[86,3,87,3],[86,4,87,4],[83,7,83,8],[83,9,83,10],[84,5,84,6],[84,7,84,8],[84,9,84,10]]}
[]
[]
[null,null,{"$f":"+UPPER(title332&'Data entry needs'!$F$10&\" \"&'Data entry needs'!$F$11)","v":" PROCESSING COSTS FOR BRIQUETTE PRODUCTION FROM PLEASE SELECT PLEASE SELECT"}]
[]
[]
[null,null,{"$f":"title123","v":"Use white cells to input data"},{"$f":"title124","v":"Grey cells are used for calculations"}]
[null,null,{"$f":"title333","v":"Summary of Feedstock and Storage"},null,null,null,null,null,{"$f":"title164","v":"Financial parameters"}]
[]
[null,null,{"$f":"title127","v":"Feedstock available (t/year)"},{"$f":"'Data entry needs'!$F$12","v":0},{"$f":"title131","v":"Chemical binder"},null,{"$f":"'Data entry needs'!$F$19","v":"None"},null,{"$f":"title165&\" (%)\"","v":"Discount rate (%)"},{"$f":"'Data entry needs'!D51","v":0},{"$f":"title261","v":"Loan term (years)"},null,{"$f":"'Data entry needs'!D54","v":0}]
[null,null,{"$f":"title128","v":"Feedstock yield (t/ha)"},{"$f":"'Data entry needs'!$F$13","v":0},{"$f":"title336","v":"Chemical binder cost (USD/t)"},null,{"$f":"+'Data entry needs'!$F$20","v":0},null,{"$f":"title166&\" (%)\"","v":"Loan ratio (%)"},{"$f":"'Data entry needs'!D52","v":0}]
[null,null,{"$f":"title334","v":"Safety storage rate of product"},{"$f":"'Data entry needs'!$H$43","v":0},{"$f":"title133","v":"Feedstock storage cost (USD/t)"},null,{"$f":"+'Data entry needs'!$F$21","v":0},null,{"$f":"title167&\" (%)\"","v":"Loan interest rate (%)"},{"$f":"'Data entry needs'!D53","v":0},{"$f":"+'Data entry needs'!F52","v":"Plant Cost Index during 1/2017"},null,{"$f":"+'Data entry needs'!$H$52","v":0}]
[null,null,{"$f":"title335","v":"Briquette products storage cost (USD/t)"},{"$f":"+'Data entry needs'!D21","v":0},{"$f":"title337","v":"Transformation efficiency (%)"}]
[]
[null,null,{"$f":"title338","v":"Transport Distance of Feedstock"},null,{"$f":"title339","v":"Transport Quantity"},null,null,{"$f":"title340","v":"Transport Distance of Products"},null,null,{"$f":"title339","v":"Transport Quantity"}]
[]
[null,null,{"$f":"title341","v":"Distance manual production (km)"},null,{"$f":"title345","v":"Manual (t/year)"},null,{"$f":"+$F$33","v":{"$error":"#DIV/0!"}},{"$f":"title341","v":"Distance manual production (km)"},null,null,{"$f":"title345","v":"Manual (t/year)"},null,{"$f":"+$F$29","v":0}]
[null,null,{"$f":"title342","v":"Distance small scale production (km)"},null,{"$f":"title346","v":"Small scale (t/year)"},null,{"$f":"+$H$33","v":{"$error":"#DIV/0!"}},{"$f":"title342","v":"Distance small scale production (km)"},null,null,{"$f":"title346","v":"Small scale (t/year)"},null,{"$f":"+$H$29","v":0}]
[null,null,{"$f":"title343","v":"Distance medium scale production (km)"},null,{"$f":"title347","v":"Medium scale (t/year)"},null,{"$f":"+$J$33","v":{"$error":"#DIV/0!"}},{"$f":"title343","v":"Distance medium scale production (km)"},null,null,{"$f":"title347","v":"Medium scale (t/year)"},null,{"$f":"+$J$29","v":0}]
[null,null,{"$f":"title344","v":"Distance large scale production (km)"},null,{"$f":"title348","v":"Large scale (t/year)"},null,{"$f":"+$L$33","v":{"$error":"#DIV/0!"}},{"$f":"title344","v":"Distance large scale production (km)"},null,null,{"$f":"title348","v":"Large scale (t/year)"},null,{"$f":"+$L$29","v":0}]
[]
[]
[null,null,{"$f":"title349","v":"Production Cost Details"}]
[null,null,{"$f":"title350","v":"Rural Markets"}]
[null,null,null,null,null,{"$f":"title95","v":"Capacities (kg of briquette per hour)"}]
[null,null,null,null,null,4,null,{"$f":"40","v":40},null,{"$f":"400","v":400},null,{"$f":"4000","v":4000}]
[null,null,null,null,null,{"$f":"title354","v":"Manual"},null,{"$f":"title329","v":"Mechanized"},null,{"$f":"title329","v":"Mechanized"},null,{"$f":"title329","v":"Mechanized"}]
[null,null,{"$f":"title351","v":"Urban Markets"},null,null,{"$f":"title390","v":"Agglomerator"},null,{"$f":"title31","v":"Screw press"},null,{"$f":"title389","v":"Roller press"},null,{"$f":"title388","v":"Piston press "}]
[null,null,null,null,null,{"$f":"title212","v":"Operating hours per year"},{"$f":"IF('Data entry needs'!$D$44>8,8,'Data entry needs'!$D$44)*IF('Data entry needs'!D43>300,300,'Data entry needs'!$D$43)","v":0},{"$f":"title212","v":"Operating hours per year"},{"$f":"IF('Data entry needs'!$H$44>8,8,'Data entry needs'!$H$44)*'Data entry needs'!$D$43","v":0},{"$f":"title212","v":"Operating hours per year"},{"$f":"IF('Data entry needs'!$H$44>16,16,'Data entry needs'!$H$44)*'Data entry needs'!$D$43","v":0},{"$f":"title212","v":"Operating hours per year"},{"$f":"'Data entry needs'!$H$44*'Data entry needs'!$D$43","v":0}]
[null,null,{"$f":"title352","v":"Annual briquette production (t/year)"},null,null,{"$f":"4*$G$28/1000","v":0},null,{"$f":"40*$I$28/1000","v":0},null,{"$f":"400*$K$28/1000","v":0},null,{"$f":"4000*$M$28/1000","v":0}]
[]
[null,null,{"$f":"title353","v":"Inputs"},{"$f":"title96","v":"Unit"},{"$f":"title356","v":"Unit Price"},{"$f":"title331","v":"Quantity "},"Total",{"$f":"title331","v":"Quantity "},"Total",{"$f":"title331","v":"Quantity "},"Total",{"$f":"title331","v":"Quantity "},"Total"]
[null,null,null,null,{"$f":"title357","v":"(USD/Unit)"},{"$f":"title373","v":"(Unit/year)"},{"$f":"\"(\"&title84&\")\"","v":"(USD/year)"},{"$f":"title373","v":"(Unit/year)"},{"$f":"\"(\"&title84&\")\"","v":"(USD/year)"},{"$f":"title373","v":"(Unit/year)"},{"$f":"\"(\"&title84&\")\"","v":"(USD/year)"},{"$f":"title373","v":"(Unit/year)"},{"$f":"\"(\"&title84&\")\"","v":"(USD/year)"}]
[null,null,{"$f":"title126","v":"Feedstock "},"t",{"$f":"+IF('Data entry needs'!$C$17=FALSE,'Data entry needs'!F$16,'Data entry needs'!F$17)","v":0},{"$f":"F$29/$G$12","v":{"$error":"#DIV/0!"}},{"$f":"+F33*E33","v":{"$error":"#DIV/0!"}},{"$f":"H$29/$G$12","v":{"$error":"#DIV/0!"}},{"$f":"+H33*$E33","v":{"$error":"#DIV/0!"}},{"$f":"J$29/$G$12","v":{"$error":"#DIV/0!"}},{"$f":"+J33*$E33","v":{"$error":"#DIV/0!"}},{"$f":"L$29/$G$12","v":{"$error":"#DIV/0!"}},{"$f":"+L33*$E33","v":{"$error":"#DIV/0!"}}]
[null,null,{"$f":"title131","v":"Chemical binder"},"t",{"$f":"+'Data entry needs'!$F$20","v":0},{"$f":"IF('Data entry needs'!$D$18=\"NO\",0,F$29/VLOOKUP($G$9,'Raw mat_Briquette'!$B$18:$C$21,2,FALSE))","v":0},{"$f":"+F34*E34","v":0},null,{"$f":"+H34*$E34","v":0},null,{"$f":"+J34*$E34","v":0},null,{"$f":"+L34*$E34","v":0}]
[null,null,{"$f":"title136","v":"Water"},"m3",{"$f":"'Data entry needs'!$D$26","v":0},{"$f":"F$29*1000/'Raw mat_Briquette'!$C$14","v":0},{"$f":"+F35*E35","v":0},{"$f":"H$29*1000/'Raw mat_Briquette'!$C$14","v":0},{"$f":"+H35*$E35","v":0},{"$f":"J$29*1000/'Raw mat_Briquette'!$C$14","v":0},{"$f":"+J35*$E35","v":0},{"$f":"L$29*1000/'Raw mat_Briquette'!$C$14","v":0},{"$f":"+L35*$E35","v":0}]
[null,null,{"$f":"title137","v":"Electricity"},"KWh",{"$f":"'Data entry needs'!$H$26","v":0},null,{"$f":"+F36*E36","v":0},{"$f":"VLOOKUP(H$27,'Raw mat_Briquette'!$B$24:$C$27,2,FALSE)*H$29","v":0},{"$f":"+H36*$E36","v":0},{"$f":"VLOOKUP(J$27,'Raw mat_Briquette'!$B$24:$C$27,2,FALSE)*J$29","v":0},{"$f":"+J36*$E36","v":0},{"$f":"VLOOKUP(L$27,'Raw mat_Briquette'!$B$24:$C$27,2,FALSE)*L$29","v":0},{"$f":"+L36*$E36","v":0}]
[null,null,{"$f":"title355","v":"Subtotal"},null,null,{"$f":"SUM(G33:G36)","v":{"$error":"#DIV/0!"}},null,{"$f":"SUM(I33:I36)","v":{"$error":"#DIV/0!"}},null,{"$f":"SUM(K33:K36)","v":{"$error":"#DIV/0!"}},null,{"$f":"SUM(M33:M36)","v":{"$error":"#DIV/0!"}}]
[]
[null,null,{"$f":"title359","v":"Labour and miscellaneous costs"},{"$f":"title96","v":"Unit"},{"$f":"title356","v":"Unit Price"},{"$f":"title331","v":"Quantity "},"Total",{"$f":"title331","v":"Quantity "},"Total",{"$f":"title331","v":"Quantity "},"Total",{"$f":"title331","v":"Quantity "},"Total"]
[null,null,null,null,{"$f":"title374","v":"(USD/person-hour)"},"(Unit)",{"$f":"\"(\"&title84&\")\"","v":"(USD/year)"},"(Unit)",{"$f":"\"(\"&title84&\")\"","v":"(USD/year)"},"(Unit)",{"$f":"\"(\"&title84&\")\"","v":"(USD/year)"},"(Unit)",{"$f":"\"(\"&title84&\")\"","v":"(USD/year)"}]
[null,null,{"$f":"title141","v":"Unskilled worker"},{"$f":"title375","v":"# employee"},{"$f":"'Data entry needs'!$H$29","v":0},1,{"$f":"+E41*F41*G28","v":0},{"$f":"+ROUNDUP(H29/500,0)","v":0},{"$f":"+$E41*H41*I28","v":0},{"$f":"+ROUNDUP(J29/600,0)","v":0},{"$f":"+$E41*J41*K28","v":0},{"$f":"+ROUNDUP(L29/700,0)","v":0},{"$f":"+$E41*L41*M28","v":0}]
[null,null,{"$f":"title139","v":"Skilled worker"},{"$f":"title375","v":"# employee"},{"$f":"'Data entry needs'!$D$29","v":0},null,{"$f":"+E42*F42*G28","v":0},{"$f":"+ROUND(H41/4,0)","v":0},{"$f":"+$E42*H42*I28","v":0},{"$f":"+ROUND(J41/4,0)","v":0},{"$f":"+$E42*J42*K28","v":0},{"$f":"+ROUND(L41/4,0)","v":0},{"$f":"+$E42*L42*M28","v":0}]
[null,null,"Miscellaneous costs",null,null,{"$f":"+'Data entry needs'!$H$47","v":0},{"$f":"+F43*SUM(G41:G42)","v":0},{"$f":"+'Data entry needs'!$H$47","v":0},{"$f":"+H43*SUM(I41:I42)","v":0},{"$f":"+'Data entry needs'!$H$47","v":0},{"$f":"+J43*SUM(K41:K42)","v":0},{"$f":"+'Data entry needs'!$H$47","v":0},{"$f":"+L43*SUM(M41:M42)","v":0}]
[null,null,{"$f":"title355","v":"Subtotal"},null,null,{"$f":"SUM(G41:G43)","v":0},{"$f":"+G41+G42+G43","v":0},null,{"$f":"SUM(I41:I43)","v":0},{"$f":"SUM(K41:K43)","v":0},{"$f":"+K41+K42+K43","v":0},{"$f":"SUM(M41:M43)","v":0},{"$f":"+M41+M42+M43","v":0}]
[]
[null,null,{"$f":"title360","v":"Transportation"},{"$f":"title96","v":"Unit"},{"$f":"title356","v":"Unit Price"},{"$f":"title331","v":"Quantity "},"Total",{"$f":"title331","v":"Quantity "},"Total",{"$f":"title331","v":"Quantity "},"Total",{"$f":"title331","v":"Quantity "},"Total"]
[null,null,null,null,"(USD/t/km)","(Unit)",{"$f":"\"(\"&title84&\")\"","v":"(USD/year)"},"(Unit)",{"$f":"\"(\"&title84&\")\"","v":"(USD/year)"},"(Unit)",{"$f":"\"(\"&title84&\")\"","v":"(USD/year)"},"(Unit)",{"$f":"\"(\"&title84&\")\"","v":"(USD/year)"}]
[null,null,{"$f":"title151","v":"Feedstock (farm to briquette plant)"},"km",{"$f":"'Data entry needs'!$D$40","v":0},{"$f":"+$D$16","v":0},{"$f":"+F48*E48*F33","v":{"$error":"#DIV/0!"}},{"$f":"+$D$17","v":0},{"$f":"+H48*$E48*H$33","v":{"$error":"#DIV/0!"}},{"$f":"+$D$18","v":0},{"$f":"+J48*$E48*J$33","v":{"$error":"#DIV/0!"}},{"$f":"+$D$19","v":0},{"$f":"+L48*$E48*L$33","v":{"$error":"#DIV/0!"}}]
[null,null,"Briquette products (briquette plant to market)","km",{"$f":"'Data entry needs'!$H$40","v":0},{"$f":"+$J$16","v":0},{"$f":"+F49*E49*F29","v":0},{"$f":"+$J$17","v":0},{"$f":"+H49*$E49*H29","v":0},{"$f":"+$J$18","v":0},{"$f":"+J49*$E49*J29","v":0},{"$f":"+$J$19","v":0},{"$f":"+L49*$E49*L29","v":0}]
[null,null,{"$f":"title355","v":"Subtotal"},null,null,{"$f":"SUM(G48:G49)","v":{"$error":"#DIV/0!"}},{"$f":"SUM(G48:G49)","v":{"$error":"#DIV/0!"}},{"$f":"SUM(I48:I49)","v":{"$error":"#DIV/0!"}},{"$f":"SUM(I48:I49)","v":{"$error":"#DIV/0!"}},{"$f":"SUM(K48:K49)","v":{"$error":"#DIV/0!"}},{"$f":"SUM(K48:K49)","v":{"$error":"#DIV/0!"}},{"$f":"SUM(M48:M49)","v":{"$error":"#DIV/0!"}},{"$f":"SUM(M48:M49)","v":{"$error":"#DIV/0!"}}]
[]
[null,null,{"$f":"title361","v":"Storage"},{"$f":"title96","v":"Unit"},{"$f":"title356","v":"Unit Price"},{"$f":"title331","v":"Quantity "},"Total",{"$f":"title331","v":"Quantity "},"Total",{"$f":"title331","v":"Quantity "},"Total",{"$f":"title331","v":"Quantity "},"Total"]
[null,null,null,null,null,"(Unit)",{"$f":"\"(\"&title84&\")\"","v":"(USD/year)"},"(Unit)",{"$f":"\"(\"&title84&\")\"","v":"(USD/year)"},"(Unit)",{"$f":"\"(\"&title84&\")\"","v":"(USD/year)"},"(Unit)",{"$f":"\"(\"&title84&\")\"","v":"(USD/year)"}]
[null,null,{"$f":"title126","v":"Feedstock "},"USD/t",{"$f":"COST_RES3!G11","v":0},{"$f":"+STORAGE_RES3!F$38","v":{"$error":"#DIV/0!"}},{"$f":"+$E$54*F54","v":{"$error":"#DIV/0!"}},{"$f":"STORAGE_RES3!$I$38","v":{"$error":"#DIV/0!"}},{"$f":"+$E$54*H54","v":{"$error":"#DIV/0!"}},{"$f":"STORAGE_RES3!$L$38","v":{"$error":"#DIV/0!"}},{"$f":"+$E$54*J54","v":{"$error":"#DIV/0!"}},{"$f":"STORAGE_RES3!$O$38","v":{"$error":"#DIV/0!"}},{"$f":"+$E$54*L54","v":{"$error":"#DIV/0!"}}]
[null,null,{"$f":"title362","v":"Briquette products"},"USD/t",{"$f":"COST_RES3!D12","v":0},{"$f":"$D$11*F$29","v":0},{"$f":"+$E$55*F55","v":0},{"$f":"$D$11*H$29","v":0},{"$f":"+$E$55*H55","v":0},{"$f":"$D$11*J$29","v":0},{"$f":"+$E$55*J55","v":0},{"$f":"$D$11*L$29","v":0},{"$f":"+$E$55*L55","v":0}]
[null,null,{"$f":"title355","v":"Subtotal"},null,null,{"$f":"SUM(G54:G55)","v":{"$error":"#DIV/0!"}},{"$f":"SUM(G54:G54)","v":{"$error":"#DIV/0!"}},{"$f":"SUM(I54:I55)","v":{"$error":"#DIV/0!"}},{"$f":"SUM(I54:I54)","v":{"$error":"#DIV/0!"}},{"$f":"SUM(K54:K55)","v":{"$error":"#DIV/0!"}},{"$f":"SUM(K54:K54)","v":{"$error":"#DIV/0!"}},{"$f":"SUM(M54:M55)","v":{"$error":"#DIV/0!"}},{"$f":"SUM(M54:M54)","v":{"$error":"#DIV/0!"}}]
[]
[null,null,{"$f":"title363","v":"Investment"},{"$f":"title96","v":"Unit"},{"$f":"title446","v":"Years"},"Total",{"$f":"title272","v":"Depreciation"},"Total",{"$f":"title272","v":"Depreciation"},"Total",{"$f":"title272","v":"Depreciation"},"Total",{"$f":"title272","v":"Depreciation"}]
[null,null,"Investment",null,null,"(USD)",{"$f":"\"(\"&title84&\")\"","v":"(USD/year)"},"(USD)",{"$f":"\"(\"&title84&\")\"","v":"(USD/year)"},"(USD)",{"$f":"\"(\"&title84&\")\"","v":"(USD/year)"},"(USD)",{"$f":"\"(\"&title84&\")\"","v":"(USD/year)"}]
[null,null,{"$f":"title225","v":"Equipments"},"USD",10,{"$f":"size1_inv*('Data entry needs'!$H$52/155.257667602403)","v":0},{"$f":"+F60/E60","v":0},{"$f":"size2_inv*('Data entry needs'!$H$52/155.257667602403)","v":0},{"$f":"+H60/$E$60","v":0},{"$f":"size3_inv*('Data entry needs'!$H$52/155.257667602403)","v":0},{"$f":"+J60/$E$60","v":0},{"$f":"size4_inv*('Data entry needs'!$H$52/155.257667602403)","v":0},{"$f":"+L60/$E$60","v":0}]
[null,null,{"$f":"title226","v":"Building"},"USD",10,{"$f":"size1_bui*('Data entry needs'!$H$52/155.257667602403)","v":0},{"$f":"+F61/E61","v":0},{"$f":"size2_bui*('Data entry needs'!$H$52/155.257667602403)","v":0},{"$f":"+H61/$E$60","v":0},{"$f":"size3_bui*('Data entry needs'!$H$52/155.257667602403)","v":0},{"$f":"+J61/$E$60","v":0},{"$f":"size4_bui*('Data entry needs'!$H$52/155.257667602403)","v":0},{"$f":"+L61/$E$60","v":0}]
[null,null,{"$f":"title227","v":"Installation"},"USD",10,{"$f":"size1_ins*('Data entry needs'!$H$52/155.257667602403)","v":0},{"$f":"+F62/E62","v":0},{"$f":"size2_ins*('Data entry needs'!$H$52/155.257667602403)","v":0},{"$f":"+H62/$E$60","v":0},{"$f":"size3_ins*('Data entry needs'!$H$52/155.257667602403)","v":0},{"$f":"+J62/$E$60","v":0},{"$f":"size4_ins*('Data entry needs'!$H$52/155.257667602403)","v":0},{"$f":"+L62/$E$60","v":0}]
[null,null,{"$f":"title364","v":"Total investment"},null,null,{"$f":"SUM(F60:F62)","v":0},null,{"$f":"SUM(H60:H62)","v":0},null,{"$f":"SUM(J60:J62)","v":0},null,{"$f":"SUM(L60:L62)","v":0}]
[null,null,null,null,null,{"$f":"title378","v":"Total Depreciation"},{"$f":"SUM(G60:G63)","v":0},{"$f":"title378","v":"Total Depreciation"},{"$f":"SUM(I60:I63)","v":0},{"$f":"title378","v":"Total Depreciation"},{"$f":"SUM(K60:K63)","v":0},{"$f":"title378","v":"Total Depreciation"},{"$f":"SUM(M60:M63)","v":0}]
[null,null,{"$f":"title365","v":"Maintenance cost"},null,{"$f":"+'Data entry needs'!$D$48","v":0},null,{"$f":"+E65*G64","v":0},null,{"$f":"+E65*$I$64","v":0},null,{"$f":"+$E$65*K64","v":0},null,{"$f":"+$E$65*M64","v":0}]
[null,null,{"$f":"title355","v":"Subtotal"},null,null,{"$f":"SUM(G64:G65)","v":0},null,{"$f":"SUM(I64:I65)","v":0},null,{"$f":"SUM(K64:K65)","v":0},null,{"$f":"SUM(M64:M65)","v":0}]
[]
[null,null,{"$f":"title159","v":"Other costs"},{"$f":"title96","v":"Unit"},{"$f":"title376","v":"Rate (%)"},null,"Total",null,"Total",null,"Total",null,"Total"]
[null,null,null,null,null,null,{"$f":"\"(\"&title84&\")\"","v":"(USD/year)"},null,{"$f":"\"(\"&title84&\")\"","v":"(USD/year)"},null,{"$f":"\"(\"&title84&\")\"","v":"(USD/year)"},null,{"$f":"\"(\"&title84&\")\"","v":"(USD/year)"}]
[null,null,{"$f":"title366","v":"Plant overhead"},"USD",{"$f":"+'Data entry needs'!$D$47","v":0},null,{"$f":"+(G41+G42+G65)*$E$70","v":0},null,{"$f":"+(I41+I42+I65)*$E$70","v":0},null,{"$f":"+(K41+K42+K65)*$E$70","v":0},null,{"$f":"+(M41+M42+M65)*$E$70","v":0}]
[null,null,{"$f":"title250","v":"General and administrative cost"},"USD",{"$f":"+'Data entry needs'!$H$48","v":0},null,{"$f":"+(F37+G44+G70+G65)*$E$71","v":{"$error":"#DIV/0!"}},null,{"$f":"+(H37+I44+I70+I65)*$E$71","v":{"$error":"#DIV/0!"}},null,{"$f":"+(J37+K44+K70+K65)*$E$71","v":{"$error":"#DIV/0!"}},null,{"$f":"+(L37+M44+M70+M65)*$E$71","v":{"$error":"#DIV/0!"}}]
[null,null,{"$f":"title367","v":"Loan interest"},"USD",{"$f":"J11","v":0},null,{"$f":"-FA4_RURAL_RES3!G85","v":0},null,{"$f":"-FA40_RURAL_RES3!G85","v":0},null,{"$f":"-FA400_RURAL_RES3!G86","v":0},null,{"$f":"-FA4000_RURAL_RES3!G86","v":0}]
[null,null,{"$f":"title355","v":"Subtotal"},null,null,{"$f":"SUM(G70:G72)","v":{"$error":"#DIV/0!"}},{"$f":"SUM(G70:G72)","v":{"$error":"#DIV/0!"}},{"$f":"SUM(I70:I72)","v":{"$error":"#DIV/0!"}},{"$f":"SUM(I70:I72)","v":{"$error":"#DIV/0!"}},{"$f":"SUM(K70:K72)","v":{"$error":"#DIV/0!"}},{"$f":"SUM(K70:K72)","v":{"$error":"#DIV/0!"}},{"$f":"SUM(M70:M72)","v":{"$error":"#DIV/0!"}},{"$f":"SUM(M70:M72)","v":{"$error":"#DIV/0!"}}]
[]
[]
[null,null,{"$f":"title368","v":"Total costs"},null,null,"Total",{"$f":"title377","v":"Share (%)"},"Total",{"$f":"title377","v":"Share (%)"},"Total",{"$f":"title377","v":"Share (%)"},"Total",{"$f":"title377","v":"Share (%)"}]
[null,null,"Investment",null,null,{"$f":"\"(\"&title84&\")\"","v":"(USD/year)"},null,{"$f":"\"(\"&title84&\")\"","v":"(USD/year)"},null,{"$f":"\"(\"&title84&\")\"","v":"(USD/year)"},null,{"$f":"\"(\"&title84&\")\"","v":"(USD/year)"}]
[null,null,{"$f":"title369","v":"Total operating costs"},null,null,{"$f":"+F37+G44+G50+G56","v":{"$error":"#DIV/0!"}},{"$f":"+F78/$F$81","v":{"$error":"#DIV/0!"}},{"$f":"+H37+I44+I50+I56","v":{"$error":"#DIV/0!"}},{"$f":"+H78/$H$81","v":{"$error":"#DIV/0!"}},{"$f":"+J37+K44+K50+K56","v":{"$error":"#DIV/0!"}},{"$f":"+J78/$J$81","v":{"$error":"#DIV/0!"}},{"$f":"+L37+M44+M50+M56","v":{"$error":"#DIV/0!"}},{"$f":"+L78/$L$81","v":{"$error":"#DIV/0!"}}]
[null,null,{"$f":"title370","v":"Total fixed costs"},null,null,{"$f":"+F66","v":0},{"$f":"+F79/$F$81","v":{"$error":"#DIV/0!"}},{"$f":"+H66","v":0},{"$f":"+H79/$H$81","v":{"$error":"#DIV/0!"}},{"$f":"+J66","v":0},{"$f":"+J79/$J$81","v":{"$error":"#DIV/0!"}},{"$f":"+L66","v":0},{"$f":"+L79/$L$81","v":{"$error":"#DIV/0!"}}]
[null,null,{"$f":"title371","v":"Total other costs"},null,null,{"$f":"+G73","v":{"$error":"#DIV/0!"}},{"$f":"+F80/$F$81","v":{"$error":"#DIV/0!"}},{"$f":"+I73","v":{"$error":"#DIV/0!"}},{"$f":"+H80/$H$81","v":{"$error":"#DIV/0!"}},{"$f":"+K73","v":{"$error":"#DIV/0!"}},{"$f":"+J80/$J$81","v":{"$error":"#DIV/0!"}},{"$f":"+M73","v":{"$error":"#DIV/0!"}},{"$f":"+L80/$L$81","v":{"$error":"#DIV/0!"}}]
[null,null,{"$f":"title372","v":"Total production costs"},null,null,{"$f":"SUM(F78:F80)","v":{"$error":"#DIV/0!"}},null,{"$f":"SUM(H78:H80)","v":{"$error":"#DIV/0!"}},null,{"$f":"SUM(J78:J80)","v":{"$error":"#DIV/0!"}},null,{"$f":"SUM(L78:L80)","v":{"$error":"#DIV/0!"}}]
[]
[null,null,null,null,null,{"$f":"title95","v":"Capacities (kg of briquette per hour)"}]
[null,null,null,null,null,{"$f":"F25","v":4},null,{"$f":"H25","v":40},null,{"$f":"J25","v":400},null,{"$f":"L25","v":4000}]
[null,null,{"$f":"title385","v":"Unit cost of briquette (USD/kg of briquette)"},null,null,{"$f":"F81/(F29*1000)","v":{"$error":"#DIV/0!"}},null,{"$f":"H81/(H29*1000)","v":{"$error":"#DIV/0!"}},null,{"$f":"J81/(J29*1000)","v":{"$error":"#DIV/0!"}},null,{"$f":"L81/(L29*1000)","v":{"$error":"#DIV/0!"}}]
[]
[null,null,{"$f":"title379","v":"Average loan interest"},{"$f":"title96","v":"Unit"},{"$f":"title166&\" (%)\"","v":"Loan ratio (%)"},{"$f":"title364","v":"Total investment"},{"$f":"title380","v":"Loan amount"},{"$f":"title364","v":"Total investment"},{"$f":"title380","v":"Loan amount"},{"$f":"title364","v":"Total investment"},{"$f":"title380","v":"Loan amount"},{"$f":"title364","v":"Total investment"},{"$f":"title380","v":"Loan amount"}]
[null,null,null,null,null,"(USD)","(USD)","(USD)","(USD)","(USD)","(USD)","(USD)","(USD)"]
[null,null,{"$f":"title380","v":"Loan amount"},"USD",{"$f":"J10","v":0},{"$f":"F63","v":0},{"$f":"$E$89*F89","v":0},{"$f":"H63","v":0},{"$f":"$E$89*H89","v":0},{"$f":"J63","v":0},{"$f":"$E$89*J89","v":0},{"$f":"L63","v":0},{"$f":"$E$89*L89","v":0}]
[null,null,{"$f":"title167","v":"Loan interest rate"},"%",null,null,{"$f":"+$J$11","v":0},null,{"$f":"+$J$11","v":0},null,{"$f":"+$J$11","v":0},null,{"$f":"+$J$11","v":0}]
[null,null,{"$f":"title381","v":"Loan payment"},{"$f":"title384","v":"USD/month"},null,null,{"$f":"PMT(G90/12,G93*12,G89,0)","v":{"$error":"#NUM!"}},null,{"$f":"PMT(I90/12,I93*12,I89,0)","v":{"$error":"#NUM!"}},null,{"$f":"PMT(K90/12,K93*12,K89,0)","v":{"$error":"#NUM!"}},null,{"$f":"PMT(M90/12,M93*12,M89,0)","v":{"$error":"#NUM!"}}]
[null,null,{"$f":"title382","v":"Annual loan payment"},{"$f":"title84","v":"USD/year"},null,null,{"$f":"G91*12","v":{"$error":"#NUM!"}},null,{"$f":"I91*12","v":{"$error":"#NUM!"}},null,{"$f":"K91*12","v":{"$error":"#NUM!"}},null,{"$f":"M91*12","v":{"$error":"#NUM!"}},null,null,null,null,null,null,null,null,null,null,null,null,null,null,null,null,"FS1",{"$f":"+$D$10","v":0},{"$f":"+IF(AE92=title172,VERDADRO,FALSE)","v":false}]
[null,null,{"$f":"title168","v":"Loan term"},{"$f":"title169","v":"year"},null,null,{"$f":"+$M$9","v":0},null,{"$f":"+$M$9","v":0},null,{"$f":"+$M$9","v":0},null,{"$f":"+$M$9","v":0},null,null,null,null,null,null,null,null,null,null,null,null,null,null,null,null,"FS2",{"$f":"+E$11","v":"Feedstock storage cost (USD/t)"},{"$f":"+IF(AE93=title172,VERDADRO,FALSE)","v":false}]
[null,null,{"$f":"title383","v":"Total loan payment"},"USD",null,null,{"$f":"G92*G93","v":{"$error":"#NUM!"}},null,{"$f":"I92*I93","v":{"$error":"#NUM!"}},null,{"$f":"K92*K93","v":{"$error":"#NUM!"}},null,{"$f":"M92*M93","v":{"$error":"#NUM!"}},null,null,null,null,null,null,null,null,null,null,null,null,null,null,null,null,"FS3",{"$f":"+$F$11","v":0},{"$f":"+IF(AE94=title172,VERDADRO,FALSE)","v":false}]
[null,null,{"$f":"title367","v":"Loan interest"},"USD",null,null,{"$f":"G94+G89","v":{"$error":"#NUM!"}},null,{"$f":"I94+I89","v":{"$error":"#NUM!"}},null,{"$f":"K94+K89","v":{"$error":"#NUM!"}},null,{"$f":"M94+M89","v":{"$error":"#NUM!"}},null,null,null,null,null,null,null,null,null,null,null,null,null,null,null,null,"FS4",{"$f":"+$G$11","v":0},{"$f":"+IF(AE95=title172,VERDADRO,FALSE)","v":false}]
[null,null,{"$f":"title379","v":"Average loan interest"},{"$f":"title84","v":"USD/year"},null,null,{"$f":"+G95/20","v":{"$error":"#NUM!"}},null,{"$f":"+I95/20","v":{"$error":"#NUM!"}},null,{"$f":"+K95/20","v":{"$error":"#NUM!"}},null,{"$f":"+M95/20","v":{"$error":"#NUM!"}}]

{"sheet":"COST_RES4","index":29,"n_rows":96,"n_cols":32,"rows_kept":96,"cut":false,"hidden":false,"merged":[[2,2,2,12],[23,5,23,12],[24,5,24,6],[24,7,24,8],[24,9,24,10],[24,11,24,12],[5,3,5,5],[25,5,25,6],[25,7,25,8],[25,9,25,10],[25,11,25,12],[26,7,26,8],[26,9,26,10],[26,11,26,12],[26,5,26,6],[28,5,28,6],[28,7,28,8],[28,9,28,10],[28,11,28,12],[30,2,31,2],[30,3,31,3],[36,5,36,6],[36,7,36,8],[36,9,36,10],[36,11,36,12],[38,2,39,2],[38,3,39,3],[45,2,46,2],[45,3,46,3],[49,5,49,6],[49,7,49,8],[49,9,49,10],[49,11,49,12],[51,2,52,2],[51,3,52,3],[51,4,52,4],[55,5,55,6],[55,7,55,8],[55,9,55,10],[55,11,55,12],[57,2,58,2],[57,3,58,3],[57,4,58,4],[65,9,65,10],[65,11,65,12],[65,5,65,6],[65,7,65,8],[67,2,68,2],[67,3,68,3],[67,4,68,4],[75,2,76,2],[75,3,76,3],[75,4,76,4],[83,5,83,6],[83,7,83,8],[83,9,83,10],[83,11,83,12],[72,5,72,6],[72,7,72,8],[72,9,72,10],[72,11,72,12],[82,5,82,12],[80,2,80,4],[80,5,80,6],[80,7,80,8],[80,9,80,10],[80,11,80,12],[84,5,84,6],[84,7,84,8],[84,9,84,10],[84,11,84,12],[86,2,87,2],[86,3,87,3],[86,4,87,4]]}
[]
[]
[null,null,{"$f":"+UPPER(title332&'Data entry needs'!$G$10&\" \"&'Data entry needs'!$G$11)","v":" PROCESSING COSTS FOR BRIQUETTE PRODUCTION FROM PLEASE SELECT PLEASE SELECT"}]
[]
[]
[null,null,{"$f":"title123","v":"Use white cells to input data"},{"$f":"title124","v":"Grey cells are used for calculations"}]
[null,null,{"$f":"title333","v":"Summary of Feedstock and Storage"},null,null,null,null,null,{"$f":"title164","v":"Financial parameters"}]
[]
[null,null,{"$f":"title127","v":"Feedstock available (t/year)"},{"$f":"'Data entry needs'!$G$12","v":0},{"$f":"title131","v":"Chemical binder"},null,{"$f":"'Data entry needs'!$G$19","v":"None"},null,{"$f":"title165&\" (%)\"","v":"Discount rate (%)"},{"$f":"'Data entry needs'!D51","v":0},{"$f":"title261","v":"Loan term (years)"},null,{"$f":"'Data entry needs'!D54","v":0}]
[null,null,{"$f":"title128","v":"Feedstock yield (t/ha)"},{"$f":"'Data entry needs'!$G$13","v":0},{"$f":"title336","v":"Chemical binder cost (USD/t)"},null,{"$f":"+'Data entry needs'!$G$20","v":0},null,{"$f":"title166&\" (%)\"","v":"Loan ratio (%)"},{"$f":"'Data entry needs'!D52","v":0}]
[null,null,{"$f":"title334","v":"Safety storage rate of product"},{"$f":"'Data entry needs'!$H$43","v":0},{"$f":"title133","v":"Feedstock storage cost (USD/t)"},null,{"$f":"+'Data entry needs'!$G$21","v":0},null,{"$f":"title167&\" (%)\"","v":"Loan interest rate (%)"},{"$f":"'Data entry needs'!D53","v":0},{"$f":"+'Data entry needs'!F52","v":"Plant Cost Index during 1/2017"},null,{"$f":"+'Data entry needs'!$H$52","v":0}]
[null,null,{"$f":"title335","v":"Briquette products storage cost (USD/t)"},{"$f":"+'Data entry needs'!G21","v":0},{"$f":"title337","v":"Transformation efficiency (%)"}]
[]
[null,null,{"$f":"title338","v":"Transport Distance of Feedstock"},null,{"$f":"title339","v":"Transport Quantity"},null,null,{"$f":"title340","v":"Transport Distance of Products"},null,null,{"$f":"title339","v":"Transport Quantity"}]
[]
[null,null,{"$f":"title341","v":"Distance manual production (km)"},null,{"$f":"title345","v":"Manual (t/year)"},null,{"$f":"+$F$33","v":{"$error":"#DIV/0!"}},{"$f":"title341","v":"Distance manual production (km)"},null,null,{"$f":"title345","v":"Manual (t/year)"},null,{"$f":"+$F$29","v":0}]
[null,null,{"$f":"title342","v":"Distance small scale production (km)"},null,{"$f":"title346","v":"Small scale (t/year)"},null,{"$f":"+$H$33","v":{"$error":"#DIV/0!"}},{"$f":"title342","v":"Distance small scale production (km)"},null,null,{"$f":"title346","v":"Small scale (t/year)"},null,{"$f":"+$H$29","v":0}]
[null,null,{"$f":"title343","v":"Distance medium scale production (km)"},null,{"$f":"title347","v":"Medium scale (t/year)"},null,{"$f":"+$J$33","v":{"$error":"#DIV/0!"}},{"$f":"title343","v":"Distance medium scale production (km)"},null,null,{"$f":"title347","v":"Medium scale (t/year)"},null,{"$f":"+$J$29","v":0}]
[null,null,{"$f":"title344","v":"Distance large scale production (km)"},null,{"$f":"title348","v":"Large scale (t/year)"},null,{"$f":"+$L$33","v":{"$error":"#DIV/0!"}},{"$f":"title344","v":"Distance large scale production (km)"},null,null,{"$f":"title348","v":"Large scale (t/year)"},null,{"$f":"+$L$29","v":0}]
[]
[]
[null,null,{"$f":"title349","v":"Production Cost Details"}]
[null,null,{"$f":"title350","v":"Rural Markets"}]
[null,null,null,null,null,{"$f":"title95","v":"Capacities (kg of briquette per hour)"}]
[null,null,null,null,null,4,null,{"$f":"40","v":40},null,{"$f":"400","v":400},null,{"$f":"4000","v":4000}]
[null,null,null,null,null,{"$f":"title354","v":"Manual"},null,{"$f":"title329","v":"Mechanized"},null,{"$f":"title329","v":"Mechanized"},null,{"$f":"title329","v":"Mechanized"}]
[null,null,{"$f":"title351","v":"Urban Markets"},null,null,{"$f":"title390","v":"Agglomerator"},null,{"$f":"title31","v":"Screw press"},null,{"$f":"title389","v":"Roller press"},null,{"$f":"title388","v":"Piston press "}]
[null,null,null,null,null,{"$f":"title212","v":"Operating hours per year"},{"$f":"IF('Data entry needs'!$D$44>8,8,'Data entry needs'!$D$44)*IF('Data entry needs'!D43>300,300,'Data entry needs'!$D$43)","v":0},{"$f":"title212","v":"Operating hours per year"},{"$f":"IF('Data entry needs'!$H$44>8,8,'Data entry needs'!$H$44)*'Data entry needs'!$D$43","v":0},{"$f":"title212","v":"Operating hours per year"},{"$f":"IF('Data entry needs'!$H$44>16,16,'Data entry needs'!$H$44)*'Data entry needs'!$D$43","v":0},{"$f":"title212","v":"Operating hours per year"},{"$f":"'Data entry needs'!$H$44*'Data entry needs'!$D$43","v":0}]
[null,null,{"$f":"title352","v":"Annual briquette production (t/year)"},null,null,{"$f":"4*$G$28/1000","v":0},null,{"$f":"40*$I$28/1000","v":0},null,{"$f":"400*$K$28/1000","v":0},null,{"$f":"4000*$M$28/1000","v":0}]
[]
[null,null,{"$f":"title353","v":"Inputs"},{"$f":"title96","v":"Unit"},{"$f":"title356","v":"Unit Price"},{"$f":"title331","v":"Quantity "},"Total",{"$f":"title331","v":"Quantity "},"Total",{"$f":"title331","v":"Quantity "},"Total",{"$f":"title331","v":"Quantity "},"Total"]
[null,null,null,null,{"$f":"title357","v":"(USD/Unit)"},{"$f":"title373","v":"(Unit/year)"},{"$f":"\"(\"&title84&\")\"","v":"(USD/year)"},{"$f":"title373","v":"(Unit/year)"},{"$f":"\"(\"&title84&\")\"","v":"(USD/year)"},{"$f":"title373","v":"(Unit/year)"},{"$f":"\"(\"&title84&\")\"","v":"(USD/year)"},{"$f":"title373","v":"(Unit/year)"},{"$f":"\"(\"&title84&\")\"","v":"(USD/year)"}]
[null,null,{"$f":"title126","v":"Feedstock "},"t",{"$f":"+IF('Data entry needs'!$C$17=FALSE,'Data entry needs'!G$16,'Data entry needs'!G$17)","v":0},{"$f":"F$29/$G$12","v":{"$error":"#DIV/0!"}},{"$f":"+F33*E33","v":{"$error":"#DIV/0!"}},{"$f":"H$29/$G$12","v":{"$error":"#DIV/0!"}},{"$f":"+H33*$E33","v":{"$error":"#DIV/0!"}},{"$f":"J$29/$G$12","v":{"$error":"#DIV/0!"}},{"$f":"+J33*$E33","v":{"$error":"#DIV/0!"}},{"$f":"L$29/$G$12","v":{"$error":"#DIV/0!"}},{"$f":"+L33*$E33","v":{"$error":"#DIV/0!"}}]
[null,null,{"$f":"title131","v":"Chemical binder"},"t",{"$f":"+'Data entry needs'!$G$20","v":0},{"$f":"IF('Data entry needs'!$D$18=\"NO\",0,F$29/VLOOKUP($G$9,'Raw mat_Briquette'!$B$18:$C$21,2,FALSE))","v":0},{"$f":"+F34*E34","v":0},null,{"$f":"+H34*$E34","v":0},null,{"$f":"+J34*$E34","v":0},null,{"$f":"+L34*$E34","v":0}]
[null,null,{"$f":"title136","v":"Water"},"m3",{"$f":"'Data entry needs'!$D$26","v":0},{"$f":"F$29*1000/'Raw mat_Briquette'!$C$14","v":0},{"$f":"+F35*E35","v":0},{"$f":"H$29*1000/'Raw mat_Briquette'!$C$14","v":0},{"$f":"+H35*$E35","v":0},{"$f":"J$29*1000/'Raw mat_Briquette'!$C$14","v":0},{"$f":"+J35*$E35","v":0},{"$f":"L$29*1000/'Raw mat_Briquette'!$C$14","v":0},{"$f":"+L35*$E35","v":0}]
[null,null,{"$f":"title137","v":"Electricity"},"KWh",{"$f":"'Data entry needs'!$H$26","v":0},null,{"$f":"+F36*E36","v":0},{"$f":"VLOOKUP(H$27,'Raw mat_Briquette'!$B$24:$C$27,2,FALSE)*H$29","v":0},{"$f":"+H36*$E36","v":0},{"$f":"VLOOKUP(J$27,'Raw mat_Briquette'!$B$24:$C$27,2,FALSE)*J$29","v":0},{"$f":"+J36*$E36","v":0},{"$f":"VLOOKUP(L$27,'Raw mat_Briquette'!$B$24:$C$27,2,FALSE)*L$29","v":0},{"$f":"+L36*$E36","v":0}]
[null,null,{"$f":"title355","v":"Subtotal"},null,null,{"$f":"SUM(G33:G36)","v":{"$error":"#DIV/0!"}},null,{"$f":"SUM(I33:I36)","v":{"$error":"#DIV/0!"}},null,{"$f":"SUM(K33:K36)","v":{"$error":"#DIV/0!"}},null,{"$f":"SUM(M33:M36)","v":{"$error":"#DIV/0!"}}]
[]
[null,null,{"$f":"title359","v":"Labour and miscellaneous costs"},{"$f":"title96","v":"Unit"},{"$f":"title356","v":"Unit Price"},{"$f":"title331","v":"Quantity "},"Total",{"$f":"title331","v":"Quantity "},"Total",{"$f":"title331","v":"Quantity "},"Total",{"$f":"title331","v":"Quantity "},"Total"]
[null,null,null,null,{"$f":"title374","v":"(USD/person-hour)"},"(Unit)",{"$f":"\"(\"&title84&\")\"","v":"(USD/year)"},"(Unit)",{"$f":"\"(\"&title84&\")\"","v":"(USD/year)"},"(Unit)",{"$f":"\"(\"&title84&\")\"","v":"(USD/year)"},"(Unit)",{"$f":"\"(\"&title84&\")\"","v":"(USD/year)"}]
[null,null,{"$f":"title141","v":"Unskilled worker"},{"$f":"title375","v":"# employee"},{"$f":"'Data entry needs'!$H$29","v":0},1,{"$f":"+E41*F41*G28","v":0},{"$f":"+ROUNDUP(H29/500,0)","v":0},{"$f":"+$E41*H41*I28","v":0},{"$f":"+ROUNDUP(J29/600,0)","v":0},{"$f":"+$E41*J41*K28","v":0},{"$f":"+ROUNDUP(L29/700,0)","v":0},{"$f":"+$E41*L41*M28","v":0}]
[null,null,{"$f":"title139","v":"Skilled worker"},{"$f":"title375","v":"# employee"},{"$f":"'Data entry needs'!$D$29","v":0},null,{"$f":"+E42*F42*G28","v":0},{"$f":"+ROUND(H41/4,0)","v":0},{"$f":"+$E42*H42*I28","v":0},{"$f":"+ROUND(J41/4,0)","v":0},{"$f":"+$E42*J42*K28","v":0},{"$f":"+ROUND(L41/4,0)","v":0},{"$f":"+$E42*L42*M28","v":0}]
[null,null,"Miscellaneous costs",null,null,{"$f":"+'Data entry needs'!$H$47","v":0},{"$f":"+F43*SUM(G41:G42)","v":0},{"$f":"+'Data entry needs'!$H$47","v":0},{"$f":"+H43*SUM(I41:I42)","v":0},{"$f":"+'Data entry needs'!$H$47","v":0},{"$f":"+J43*SUM(K41:K42)","v":0},{"$f":"+'Data entry needs'!$H$47","v":0},{"$f":"+L43*SUM(M41:M42)","v":0}]
[null,null,{"$f":"title355","v":"Subtotal"},null,null,{"$f":"SUM(G41:G43)","v":0},{"$f":"+G41+G42+G43","v":0},{"$f":"SUM(I41:I43)","v":0},{"$f":"+I41+I42+I43","v":0},{"$f":"SUM(K41:K43)","v":0},{"$f":"+K41+K42+K43","v":0},{"$f":"SUM(M41:M43)","v":0},{"$f":"+M41+M42+M43","v":0}]
[]
[null,null,{"$f":"title360","v":"Transportation"},{"$f":"title96","v":"Unit"},{"$f":"title356","v":"Unit Price"},{"$f":"title331","v":"Quantity "},"Total",{"$f":"title331","v":"Quantity "},"Total",{"$f":"title331","v":"Quantity "},"Total",{"$f":"title331","v":"Quantity "},"Total"]
[null,null,null,null,"(USD/t/km)","(Unit)",{"$f":"\"(\"&title84&\")\"","v":"(USD/year)"},"(Unit)",{"$f":"\"(\"&title84&\")\"","v":"(USD/year)"},"(Unit)",{"$f":"\"(\"&title84&\")\"","v":"(USD/year)"},"(Unit)",{"$f":"\"(\"&title84&\")\"","v":"(USD/year)"}]
[null,null,{"$f":"title151","v":"Feedstock (farm to briquette plant)"},"km",{"$f":"'Data entry needs'!$D$40","v":0},{"$f":"+$D$16","v":0},{"$f":"+F48*E48*F33","v":{"$error":"#DIV/0!"}},{"$f":"+$D$17","v":0},{"$f":"+H48*$E48*H$33","v":{"$error":"#DIV/0!"}},{"$f":"+$D$18","v":0},{"$f":"+J48*$E48*J$33","v":{"$error":"#DIV/0!"}},{"$f":"+$D$19","v":0},{"$f":"+L48*$E48*L$33","v":{"$error":"#DIV/0!"}}]
[null,null,"Briquette products (briquette plant to market)","km",{"$f":"'Data entry needs'!$H$40","v":0},{"$f":"+$J$16","v":0},{"$f":"+F49*E49*F29","v":0},{"$f":"+$J$17","v":0},{"$f":"+H49*$E49*H29","v":0},{"$f":"+$J$18","v":0},{"$f":"+J49*$E49*J29","v":0},{"$f":"+$J$19","v":0},{"$f":"+L49*$E49*L29","v":0}]
[null,null,{"$f":"title355","v":"Subtotal"},null,null,{"$f":"SUM(G48:G49)","v":{"$error":"#DIV/0!"}},{"$f":"SUM(G48:G49)","v":{"$error":"#DIV/0!"}},{"$f":"SUM(I48:I49)","v":{"$error":"#DIV/0!"}},{"$f":"SUM(I48:I49)","v":{"$error":"#DIV/0!"}},{"$f":"SUM(K48:K49)","v":{"$error":"#DIV/0!"}},{"$f":"SUM(K48:K49)","v":{"$error":"#DIV/0!"}},{"$f":"SUM(M48:M49)","v":{"$error":"#DIV/0!"}},{"$f":"SUM(M48:M49)","v":{"$error":"#DIV/0!"}}]
[]
[null,null,{"$f":"title361","v":"Storage"},{"$f":"title96","v":"Unit"},{"$f":"title356","v":"Unit Price"},{"$f":"title331","v":"Quantity "},"Total",{"$f":"title331","v":"Quantity "},"Total",{"$f":"title331","v":"Quantity "},"Total",{"$f":"title331","v":"Quantity "},"Total"]
[null,null,null,null,null,"(Unit)",{"$f":"\"(\"&title84&\")\"","v":"(USD/year)"},"(Unit)",{"$f":"\"(\"&title84&\")\"","v":"(USD/year)"},"(Unit)",{"$f":"\"(\"&title84&\")\"","v":"(USD/year)"},"(Unit)",{"$f":"\"(\"&title84&\")\"","v":"(USD/year)"}]
[null,null,{"$f":"title126","v":"Feedstock "},"USD/t",{"$f":"COST_RES4!G11","v":0},{"$f":"+STORAGE_RES4!F$38","v":{"$error":"#DIV/0!"}},{"$f":"+$E$54*F54","v":{"$error":"#DIV/0!"}},{"$f":"STORAGE_RES4!$I$38","v":{"$error":"#DIV/0!"}},{"$f":"+$E$54*H54","v":{"$error":"#DIV/0!"}},{"$f":"STORAGE_RES4!$L$38","v":{"$error":"#DIV/0!"}},{"$f":"+$E$54*J54","v":{"$error":"#DIV/0!"}},{"$f":"STORAGE_RES4!$O$38","v":{"$error":"#DIV/0!"}},{"$f":"+$E$54*L54","v":{"$error":"#DIV/0!"}}]
[null,null,{"$f":"title362","v":"Briquette products"},"USD/t",{"$f":"COST_RES4!D12","v":0},{"$f":"$D$11*F$29","v":0},{"$f":"+$E$55*F55","v":0},{"$f":"$D$11*H$29","v":0},{"$f":"+$E$55*H55","v":0},{"$f":"$D$11*J$29","v":0},{"$f":"+$E$55*J55","v":0},{"$f":"$D$11*L$29","v":0},{"$f":"+$E$55*L55","v":0}]
[null,null,{"$f":"title355","v":"Subtotal"},null,null,{"$f":"SUM(G54:G55)","v":{"$error":"#DIV/0!"}},{"$f":"SUM(G54:G54)","v":{"$error":"#DIV/0!"}},{"$f":"SUM(I54:I55)","v":{"$error":"#DIV/0!"}},{"$f":"SUM(I54:I54)","v":{"$error":"#DIV/0!"}},{"$f":"SUM(K54:K55)","v":{"$error":"#DIV/0!"}},{"$f":"SUM(K54:K54)","v":{"$error":"#DIV/0!"}},{"$f":"SUM(M54:M55)","v":{"$error":"#DIV/0!"}},{"$f":"SUM(M54:M54)","v":{"$error":"#DIV/0!"}}]
[]
[null,null,{"$f":"title363","v":"Investment"},{"$f":"title96","v":"Unit"},{"$f":"title446","v":"Years"},"Total",{"$f":"title272","v":"Depreciation"},"Total",{"$f":"title272","v":"Depreciation"},"Total",{"$f":"title272","v":"Depreciation"},"Total",{"$f":"title272","v":"Depreciation"}]
[null,null,"Investment",null,null,"(USD)",{"$f":"\"(\"&title84&\")\"","v":"(USD/year)"},"(USD)",{"$f":"\"(\"&title84&\")\"","v":"(USD/year)"},"(USD)",{"$f":"\"(\"&title84&\")\"","v":"(USD/year)"},"(USD)",{"$f":"\"(\"&title84&\")\"","v":"(USD/year)"}]
[null,null,{"$f":"title225","v":"Equipments"},"USD",10,{"$f":"size1_inv*('Data entry needs'!$H$52/155.257667602403)","v":0},{"$f":"+F60/E60","v":0},{"$f":"size2_inv*('Data entry needs'!$H$52/155.257667602403)","v":0},{"$f":"+H60/$E$60","v":0},{"$f":"size3_inv*('Data entry needs'!$H$52/155.257667602403)","v":0},{"$f":"+J60/$E$60","v":0},{"$f":"size4_inv*('Data entry needs'!$H$52/155.257667602403)","v":0},{"$f":"+L60/$E$60","v":0}]
[null,null,{"$f":"title226","v":"Building"},"USD",10,{"$f":"size1_bui*('Data entry needs'!$H$52/155.257667602403)","v":0},{"$f":"+F61/E61","v":0},{"$f":"size2_bui*('Data entry needs'!$H$52/155.257667602403)","v":0},{"$f":"+H61/$E$60","v":0},{"$f":"size3_bui*('Data entry needs'!$H$52/155.257667602403)","v":0},{"$f":"+J61/$E$60","v":0},{"$f":"size4_bui*('Data entry needs'!$H$52/155.257667602403)","v":0},{"$f":"+L61/$E$60","v":0}]
[null,null,{"$f":"title227","v":"Installation"},"USD",10,{"$f":"size1_ins*('Data entry needs'!$H$52/155.257667602403)","v":0},{"$f":"+F62/E62","v":0},{"$f":"size2_ins*('Data entry needs'!$H$52/155.257667602403)","v":0},{"$f":"+H62/$E$60","v":0},{"$f":"size3_ins*('Data entry needs'!$H$52/155.257667602403)","v":0},{"$f":"+J62/$E$60","v":0},{"$f":"size4_ins*('Data entry needs'!$H$52/155.257667602403)","v":0},{"$f":"+L62/$E$60","v":0}]
[null,null,{"$f":"title364","v":"Total investment"},null,null,{"$f":"SUM(F60:F62)","v":0},null,{"$f":"SUM(H60:H62)","v":0},null,{"$f":"SUM(J60:J62)","v":0},null,{"$f":"SUM(L60:L62)","v":0}]
[null,null,null,null,null,{"$f":"title378","v":"Total Depreciation"},{"$f":"SUM(G60:G63)","v":0},{"$f":"title378","v":"Total Depreciation"},{"$f":"SUM(I60:I63)","v":0},{"$f":"title378","v":"Total Depreciation"},{"$f":"SUM(K60:K63)","v":0},{"$f":"title378","v":"Total Depreciation"},{"$f":"SUM(M60:M63)","v":0}]
[null,null,{"$f":"title365","v":"Maintenance cost"},null,{"$f":"+'Data entry needs'!$D$48","v":0},null,{"$f":"+E65*G64","v":0},null,{"$f":"+E65*$I$64","v":0},null,{"$f":"+$E$65*K64","v":0},null,{"$f":"+$E$65*M64","v":0}]
[null,null,{"$f":"title355","v":"Subtotal"},null,null,{"$f":"SUM(G64:G65)","v":0},null,{"$f":"SUM(I64:I65)","v":0},null,{"$f":"SUM(K64:K65)","v":0},null,{"$f":"SUM(M64:M65)","v":0}]
[]
[null,null,{"$f":"title159","v":"Other costs"},{"$f":"title96","v":"Unit"},{"$f":"title376","v":"Rate (%)"},null,"Total",null,"Total",null,"Total",null,"Total"]
[null,null,null,null,null,null,{"$f":"\"(\"&title84&\")\"","v":"(USD/year)"},null,{"$f":"\"(\"&title84&\")\"","v":"(USD/year)"},null,{"$f":"\"(\"&title84&\")\"","v":"(USD/year)"},null,{"$f":"\"(\"&title84&\")\"","v":"(USD/year)"}]
[null,null,{"$f":"title366","v":"Plant overhead"},"USD",{"$f":"+'Data entry needs'!$D$47","v":0},null,{"$f":"+(G41+G42+G65)*$E$70","v":0},null,{"$f":"+(I41+I42+I65)*$E$70","v":0},null,{"$f":"+(K41+K42+K65)*$E$70","v":0},null,{"$f":"+(M41+M42+M65)*$E$70","v":0}]
[null,null,{"$f":"title250","v":"General and administrative cost"},"USD",{"$f":"+'Data entry needs'!$H$48","v":0},null,{"$f":"+(F37+G44+G70+G65)*$E$71","v":{"$error":"#DIV/0!"}},null,{"$f":"+(H37+I44+I70+I65)*$E$71","v":{"$error":"#DIV/0!"}},null,{"$f":"+(J37+K44+K70+K65)*$E$71","v":{"$error":"#DIV/0!"}},null,{"$f":"+(L37+M44+M70+M65)*$E$71","v":{"$error":"#DIV/0!"}}]
[null,null,{"$f":"title367","v":"Loan interest"},"USD",{"$f":"J11","v":0},null,{"$f":"-FA4_RURAL_RES4!G85","v":0},null,{"$f":"-FA40_RURAL_RES4!G85","v":0},null,{"$f":"-FA400_RURAL_RES4!G86","v":0},null,{"$f":"-FA4000_RURAL_RES4!G86","v":0}]
[null,null,{"$f":"title355","v":"Subtotal"},null,null,{"$f":"SUM(G70:G72)","v":{"$error":"#DIV/0!"}},{"$f":"SUM(G70:G72)","v":{"$error":"#DIV/0!"}},{"$f":"SUM(I70:I72)","v":{"$error":"#DIV/0!"}},{"$f":"SUM(I70:I72)","v":{"$error":"#DIV/0!"}},{"$f":"SUM(K70:K72)","v":{"$error":"#DIV/0!"}},{"$f":"SUM(K70:K72)","v":{"$error":"#DIV/0!"}},{"$f":"SUM(M70:M72)","v":{"$error":"#DIV/0!"}},{"$f":"SUM(M70:M72)","v":{"$error":"#DIV/0!"}}]
[]
[]
[null,null,{"$f":"title368","v":"Total costs"},null,null,"Total",{"$f":"title377","v":"Share (%)"},"Total",{"$f":"title377","v":"Share (%)"},"Total",{"$f":"title377","v":"Share (%)"},"Total",{"$f":"title377","v":"Share (%)"}]
[null,null,"Investment",null,null,{"$f":"\"(\"&title84&\")\"","v":"(USD/year)"},null,{"$f":"\"(\"&title84&\")\"","v":"(USD/year)"},null,{"$f":"\"(\"&title84&\")\"","v":"(USD/year)"},null,{"$f":"\"(\"&title84&\")\"","v":"(USD/year)"}]
[null,null,{"$f":"title369","v":"Total operating costs"},null,null,{"$f":"+F37+G44+G50+G56","v":{"$error":"#DIV/0!"}},{"$f":"+F78/$F$81","v":{"$error":"#DIV/0!"}},{"$f":"+H37+I44+I50+I56","v":{"$error":"#DIV/0!"}},{"$f":"+H78/$H$81","v":{"$error":"#DIV/0!"}},{"$f":"+J37+K44+K50+K56","v":{"$error":"#DIV/0!"}},{"$f":"+J78/$J$81","v":{"$error":"#DIV/0!"}},{"$f":"+L37+M44+M50+M56","v":{"$error":"#DIV/0!"}},{"$f":"+L78/$L$81","v":{"$error":"#DIV/0!"}}]
[null,null,{"$f":"title370","v":"Total fixed costs"},null,null,{"$f":"+F66","v":0},{"$f":"+F79/$F$81","v":{"$error":"#DIV/0!"}},{"$f":"+H66","v":0},{"$f":"+H79/$H$81","v":{"$error":"#DIV/0!"}},{"$f":"+J66","v":0},{"$f":"+J79/$J$81","v":{"$error":"#DIV/0!"}},{"$f":"+L66","v":0},{"$f":"+L79/$L$81","v":{"$error":"#DIV/0!"}}]
[null,null,{"$f":"title371","v":"Total other costs"},null,null,{"$f":"+G73","v":{"$error":"#DIV/0!"}},{"$f":"+F80/$F$81","v":{"$error":"#DIV/0!"}},{"$f":"+I73","v":{"$error":"#DIV/0!"}},{"$f":"+H80/$H$81","v":{"$error":"#DIV/0!"}},{"$f":"+K73","v":{"$error":"#DIV/0!"}},{"$f":"+J80/$J$81","v":{"$error":"#DIV/0!"}},{"$f":"+M73","v":{"$error":"#DIV/0!"}},{"$f":"+L80/$L$81","v":{"$error":"#DIV/0!"}}]
[null,null,{"$f":"title372","v":"Total production costs"},null,null,{"$f":"SUM(F78:F80)","v":{"$error":"#DIV/0!"}},null,{"$f":"SUM(H78:H80)","v":{"$error":"#DIV/0!"}},null,{"$f":"SUM(J78:J80)","v":{"$error":"#DIV/0!"}},null,{"$f":"SUM(L78:L80)","v":{"$error":"#DIV/0!"}}]
[]
[null,null,null,null,null,{"$f":"title95","v":"Capacities (kg of briquette per hour)"}]
[null,null,null,null,null,{"$f":"F25","v":4},null,{"$f":"H25","v":40},null,{"$f":"J25","v":400},null,{"$f":"L25","v":4000}]
[null,null,{"$f":"title385","v":"Unit cost of briquette (USD/kg of briquette)"},null,null,{"$f":"F81/(F29*1000)","v":{"$error":"#DIV/0!"}},null,{"$f":"H81/(H29*1000)","v":{"$error":"#DIV/0!"}},null,{"$f":"J81/(J29*1000)","v":{"$error":"#DIV/0!"}},null,{"$f":"L81/(L29*1000)","v":{"$error":"#DIV/0!"}}]
[]
[null,null,{"$f":"title379","v":"Average loan interest"},{"$f":"title96","v":"Unit"},{"$f":"title166&\" (%)\"","v":"Loan ratio (%)"},{"$f":"title364","v":"Total investment"},{"$f":"title380","v":"Loan amount"},{"$f":"title364","v":"Total investment"},{"$f":"title380","v":"Loan amount"},{"$f":"title364","v":"Total investment"},{"$f":"title380","v":"Loan amount"},{"$f":"title364","v":"Total investment"},{"$f":"title380","v":"Loan amount"}]
[null,null,null,null,null,"(USD)","(USD)","(USD)","(USD)","(USD)","(USD)","(USD)","(USD)"]
[null,null,{"$f":"title380","v":"Loan amount"},"USD",{"$f":"J10","v":0},{"$f":"F63","v":0},{"$f":"$E$89*F89","v":0},{"$f":"H63","v":0},{"$f":"$E$89*H89","v":0},{"$f":"J63","v":0},{"$f":"$E$89*J89","v":0},{"$f":"L63","v":0},{"$f":"$E$89*L89","v":0}]
[null,null,{"$f":"title167","v":"Loan interest rate"},"%",null,null,{"$f":"+$J$11","v":0},null,{"$f":"+$J$11","v":0},null,{"$f":"+$J$11","v":0},null,{"$f":"+$J$11","v":0}]
[null,null,{"$f":"title381","v":"Loan payment"},{"$f":"title384","v":"USD/month"},null,null,{"$f":"PMT(G90/12,G93*12,G89,0)","v":{"$error":"#NUM!"}},null,{"$f":"PMT(I90/12,I93*12,I89,0)","v":{"$error":"#NUM!"}},null,{"$f":"PMT(K90/12,K93*12,K89,0)","v":{"$error":"#NUM!"}},null,{"$f":"PMT(M90/12,M93*12,M89,0)","v":{"$error":"#NUM!"}}]
[null,null,{"$f":"title382","v":"Annual loan payment"},{"$f":"title84","v":"USD/year"},null,null,{"$f":"G91*12","v":{"$error":"#NUM!"}},null,{"$f":"I91*12","v":{"$error":"#NUM!"}},null,{"$f":"K91*12","v":{"$error":"#NUM!"}},null,{"$f":"M91*12","v":{"$error":"#NUM!"}},null,null,null,null,null,null,null,null,null,null,null,null,null,null,null,null,"FS1",{"$f":"+$D$10","v":0},{"$f":"+IF(AE92=title172,VERDADRO,FALSE)","v":false}]
[null,null,{"$f":"title168","v":"Loan term"},{"$f":"title169","v":"year"},null,null,{"$f":"+$M$9","v":0},null,{"$f":"+$M$9","v":0},null,{"$f":"+$M$9","v":0},null,{"$f":"+$M$9","v":0},null,null,null,null,null,null,null,null,null,null,null,null,null,null,null,null,"FS2",{"$f":"+E$11","v":"Feedstock storage cost (USD/t)"},{"$f":"+IF(AE93=title172,VERDADRO,FALSE)","v":false}]
[null,null,{"$f":"title383","v":"Total loan payment"},"USD",null,null,{"$f":"G92*G93","v":{"$error":"#NUM!"}},null,{"$f":"I92*I93","v":{"$error":"#NUM!"}},null,{"$f":"K92*K93","v":{"$error":"#NUM!"}},null,{"$f":"M92*M93","v":{"$error":"#NUM!"}},null,null,null,null,null,null,null,null,null,null,null,null,null,null,null,null,"FS3",{"$f":"+$F$11","v":0},{"$f":"+IF(AE94=title172,VERDADRO,FALSE)","v":false}]
[null,null,{"$f":"title367","v":"Loan interest"},"USD",null,null,{"$f":"G94+G89","v":{"$error":"#NUM!"}},null,{"$f":"I94+I89","v":{"$error":"#NUM!"}},null,{"$f":"K94+K89","v":{"$error":"#NUM!"}},null,{"$f":"M94+M89","v":{"$error":"#NUM!"}},null,null,null,null,null,null,null,null,null,null,null,null,null,null,null,null,"FS4",{"$f":"+$G$11","v":0},{"$f":"+IF(AE95=title172,VERDADRO,FALSE)","v":false}]
[null,null,{"$f":"title379","v":"Average loan interest"},{"$f":"title84","v":"USD/year"},null,null,{"$f":"+G95/20","v":{"$error":"#NUM!"}},null,{"$f":"+I95/20","v":{"$error":"#NUM!"}},null,{"$f":"+K95/20","v":{"$error":"#NUM!"}},null,{"$f":"+M95/20","v":{"$error":"#NUM!"}}]

{"sheet":"FA4_RURAL_RES2","index":30,"n_rows":133,"n_cols":23,"rows_kept":133,"cut":false,"hidden":true,"merged":[[1,1,1,13]]}
[]
[null,{"$f":"title207","v":" FINANCIAL ANALYSIS OF BIOMASS BRIQUETTING 4 KG/HOUR"}]
[]
[{"$f":"title208","v":"Revenues of biomass briquetting system"}]
[null,{"$f":"title209","v":"Operating Year"},0,1,2,3,4,5,6,7,8,9,10,11,12,13,14,15,16,17,18,19,20]
[]
[null,{"$f":"title210","v":"Briquette production capacity (tons per year)"},{"$f":"COST_RES2!$F$29","v":0},{"$f":"C7","v":0},{"$f":"D7","v":0},0,0,0,0,0,0,0,0,0,0,0,0,0,0,0,0,0,0]
[]
[null,{"$f":"title211","v":"Efficiency % of briquetting machine"},{"$f":"COST_RES2!$G$12","v":0},{"$f":"+C9","v":0},{"$f":"+D9","v":0},0,0,0,0,0,0,0,0,0,0,0,0,0,0,0,0,0,0]
[]
[null,{"$f":"title212","v":"Operating hours per year"},{"$f":"COST_RES2!$G$28","v":0},{"$f":"+C11","v":0},{"$f":"D11","v":0},0,0,0,0,0,0,0,0,0,0,0,0,0,0,0,0,0,0]
[null,{"$f":"title213","v":"Capacity utilization factor"},{"$f":"C$11/8760","v":0},{"$f":"D$11/8760","v":0},{"$f":"E$11/8760","v":0},0,0,0,0,0,0,0,0,0,0,0,0,0,0,0,0,0,0]
[]
[null,{"$f":"title214","v":"Briquette production (tons per year)"},{"$f":"C$7","v":0},{"$f":"D$7","v":0},0,0,0,0,0,0,0,0,0,0,0,0,0,0,0,0,0,0,0]
[null,{"$f":"title215","v":"Total briquette sell to customers (tons per year)"},{"$f":"SUM(C14:C14)","v":0},{"$f":"SUM(D14:D14)","v":0},0,0,0,0,0,0,0,0,0,0,0,0,0,0,0,0,0,0,0]
[]
[null,{"$f":"title216","v":"Price of briquette (USD/kg)"},{"$f":"SUM(C18:C18)","v":0},0,0,0,0,0,0,0,0,0,0,0,0,0,0,0,0,0,0,0,0]
[null,{"$f":"title217","v":"Market price of briquette pay by consumers (USD/kg)"},{"$f":"+'Energy Demand'!E20","v":0},{"$f":"C18*(1+D19)","v":0},0,0,0,0,0,0,0,0,0,0,0,0,0,0,0,0,0,0,0]
[null,{"$f":"title218","v":"Increasing rate of price of briquette (%)"},{"$f":"+'Data entry needs'!$AD$114","v":0},{"$f":"C19","v":0},{"$f":"D19","v":0},0,0,0,0,0,0,0,0,0,0,0,0,0,0,0,0,0,0]
[]
[null,{"$f":"title219","v":"Total income of briquette (USD per year)"},{"$f":"C15*C18*1000","v":0},{"$f":"D15*D18*1000","v":0},0,0,0,0,0,0,0,0,0,0,0,0,0,0,0,0,0,0,0]
[]
[null,{"$f":"title220","v":"Lifespan of civil work (years)"},{"$f":"COST_RES2!$E$61","v":10}]
[null,{"$f":"title221","v":"Lifespan of briquette system (years)"},{"$f":"COST_RES2!$E$60","v":10}]
[null,{"$f":"title222","v":"Project life time (years)"},20]
[]
[{"$f":"title223","v":"Capital and operating cost of biomass briquette system "}]
[null,null,{"$f":"title230","v":"Appraisal"},{"$f":"title231","v":"Project lifetime"},{"$f":"title232","v":"Investment per year"}]
[null,{"$f":"title224","v":"Direct capital cost (USD)"}]
[null,{"$f":"title225","v":"Equipments"},{"$f":"D30*E30","v":0},{"$f":"$C$25","v":20},{"$f":"COST_RES4!F60/20","v":0}]
[null,{"$f":"title226","v":"Building"},{"$f":"D31*E31","v":0},{"$f":"$C$25","v":20},{"$f":"COST_RES2!F61/20","v":0}]
[null,{"$f":"title227","v":"Installation"},{"$f":"D32*E32","v":0},{"$f":"$C$25","v":20},{"$f":"COST_RES2!F62/20","v":0}]
[null,{"$f":"title228","v":"Total capital cost (USD)"},{"$f":"SUM(C30:C32)","v":0},null,{"$f":"SUM(E30:E32)","v":0}]
[null,{"$f":"title229","v":"Capital cost (USD/kg of briquette)"},{"$f":"C33/(C14*1000*C25)","v":{"$error":"#DIV/0!"}}]
[]
[]
[null,{"$f":"title209","v":"Operating Year"},{"$f":"title230","v":"Appraisal"},1,2,3,4,5,6,7,8,9,10,11,12,13,14,15,16,17,18,19,20]
[null,{"$f":"title233","v":"Annual operating and maintenance cost "}]
[null,{"$f":"title234","v":"Sub-total material cost (USD)"},{"$f":"C40+C48+C50+C53","v":{"$error":"#DIV/0!"}},{"$f":"D40+D48+D50+D53","v":{"$error":"#DIV/0!"}},{"$error":"#DIV/0!"},{"$error":"#DIV/0!"},{"$error":"#DIV/0!"},{"$error":"#DIV/0!"},{"$error":"#DIV/0!"},{"$error":"#DIV/0!"},{"$error":"#DIV/0!"},{"$error":"#DIV/0!"},{"$error":"#DIV/0!"},{"$error":"#DIV/0!"},{"$error":"#DIV/0!"},{"$error":"#DIV/0!"},{"$error":"#DIV/0!"},{"$error":"#DIV/0!"},{"$error":"#DIV/0!"},{"$error":"#DIV/0!"},{"$error":"#DIV/0!"},{"$error":"#DIV/0!"},{"$error":"#DIV/0!"}]
[null,{"$f":"title235","v":"Biomass cost (USD/year)"},{"$f":"C41*C42","v":{"$error":"#DIV/0!"}},{"$f":"D41*D42","v":{"$error":"#DIV/0!"}},{"$error":"#DIV/0!"},{"$error":"#DIV/0!"},{"$error":"#DIV/0!"},{"$error":"#DIV/0!"},{"$error":"#DIV/0!"},{"$error":"#DIV/0!"},{"$error":"#DIV/0!"},{"$error":"#DIV/0!"},{"$error":"#DIV/0!"},{"$error":"#DIV/0!"},{"$error":"#DIV/0!"},{"$error":"#DIV/0!"},{"$error":"#DIV/0!"},{"$error":"#DIV/0!"},{"$error":"#DIV/0!"},{"$error":"#DIV/0!"},{"$error":"#DIV/0!"},{"$error":"#DIV/0!"},{"$error":"#DIV/0!"}]
[null,{"$f":"title236","v":"Biomass consumption (ton per year)"},{"$f":"C14/COST_RES2!$G$12","v":{"$error":"#DIV/0!"}},{"$f":"D14/COST_RES2!$G$12","v":{"$error":"#DIV/0!"}},{"$f":"E14/COST_RES2!$G$12","v":{"$error":"#DIV/0!"}},{"$f":"F14/COST_RES2!$G$12","v":{"$error":"#DIV/0!"}},{"$f":"G14/COST_RES2!$G$12","v":{"$error":"#DIV/0!"}},{"$f":"H14/COST_RES2!$G$12","v":{"$error":"#DIV/0!"}},{"$f":"I14/COST_RES2!$G$12","v":{"$error":"#DIV/0!"}},{"$f":"J14/COST_RES2!$G$12","v":{"$error":"#DIV/0!"}},{"$f":"K14/COST_RES2!$G$12","v":{"$error":"#DIV/0!"}},{"$f":"L14/COST_RES2!$G$12","v":{"$error":"#DIV/0!"}},{"$f":"M14/COST_RES2!$G$12","v":{"$error":"#DIV/0!"}},{"$f":"N14/COST_RES2!$G$12","v":{"$error":"#DIV/0!"}},{"$f":"O14/COST_RES2!$G$12","v":{"$error":"#DIV/0!"}},{"$f":"P14/COST_RES2!$G$12","v":{"$error":"#DIV/0!"}},{"$f":"Q14/COST_RES2!$G$12","v":{"$error":"#DIV/0!"}},{"$f":"R14/COST_RES2!$G$12","v":{"$error":"#DIV/0!"}},{"$f":"S14/COST_RES2!$G$12","v":{"$error":"#DIV/0!"}},{"$f":"T14/COST_RES2!$G$12","v":{"$error":"#DIV/0!"}},{"$f":"U14/COST_RES2!$G$12","v":{"$error":"#DIV/0!"}},{"$f":"V14/COST_RES2!$G$12","v":{"$error":"#DIV/0!"}},{"$f":"W14/COST_RES2!$G$12","v":{"$error":"#DIV/0!"}}]
[null,{"$f":"title237","v":"Biomass price (USD/ton)"},{"$f":"SUM(C43:C44)","v":0},{"$f":"SUM(D43:D44)","v":0},0,0,0,0,0,0,0,0,0,0,0,0,0,0,0,0,0,0,0]
[null,{"$f":"title238","v":"Biomass cost of collection (USD/ton)"},{"$f":"COST_RES2!E33","v":0},{"$f":"C43*(1+D73+D74)","v":0},{"$f":"D43*(1+E73+E74)","v":0},0,0,0,0,0,0,0,0,0,0,0,0,0,0,0,0,0,0]
[null,{"$f":"title239","v":"Biomass transportation cost (USD/ton)"},{"$f":"C45*C46","v":0},{"$f":"D45*D46","v":0},0,0,0,0,0,0,0,0,0,0,0,0,0,0,0,0,0,0,0]
[null,{"$f":"title240","v":"Biomass from farm to plant (USD/ton/km)"},{"$f":"COST_RES2!E48","v":0},{"$f":"C45*(1+D73+D74)","v":0},{"$f":"D45*(1+E73+E74)","v":0},0,0,0,0,0,0,0,0,0,0,0,0,0,0,0,0,0,0]
[null,{"$f":"title241","v":"Transportation distant (km)"},{"$f":"COST_RES2!F48","v":0},{"$f":"C46","v":0},{"$f":"D46","v":0},0,0,0,0,0,0,0,0,0,0,0,0,0,0,0,0,0,0]
[]
[null,{"$f":"title246","v":"Water cost (USD/year)"},{"$f":"COST_RES2!G35","v":0},{"$f":"C48*(1+D73+D74)","v":0},{"$f":"D48*(1+E73+E74)","v":0},0,0,0,0,0,0,0,0,0,0,0,0,0,0,0,0,0,0]
[]
[null,{"$f":"title242","v":"Chemical cost (USD/year)"},{"$f":"C51*C52","v":0},{"$f":"D51*D52","v":0},0,0,0,0,0,0,0,0,0,0,0,0,0,0,0,0,0,0,0]
[null,{"$f":"title243","v":"Chemical consumption (tons per year)"},{"$f":"+COST_RES2!$F$34","v":0},{"$f":"+COST_RES2!$F$34","v":0},{"$f":"+COST_RES2!$F$34","v":0},{"$f":"+COST_RES2!$F$34","v":0},{"$f":"+COST_RES2!$F$34","v":0},{"$f":"+COST_RES2!$F$34","v":0},{"$f":"+COST_RES2!$F$34","v":0},{"$f":"+COST_RES2!$F$34","v":0},{"$f":"+COST_RES2!$F$34","v":0},{"$f":"+COST_RES2!$F$34","v":0},{"$f":"+COST_RES2!$F$34","v":0},{"$f":"+COST_RES2!$F$34","v":0},{"$f":"+COST_RES2!$F$34","v":0},{"$f":"+COST_RES2!$F$34","v":0},{"$f":"+COST_RES2!$F$34","v":0},{"$f":"+COST_RES2!$F$34","v":0},{"$f":"+COST_RES2!$F$34","v":0},{"$f":"+COST_RES2!$F$34","v":0},{"$f":"+COST_RES2!$F$34","v":0},{"$f":"+COST_RES2!$F$34","v":0},{"$f":"+COST_RES2!$F$34","v":0}]
[null,{"$f":"title244","v":"Chemical price (USD/ton)"},{"$f":"+'Data entry needs'!$E$20","v":0},{"$f":"C52","v":0},{"$f":"D52","v":0},0,0,0,0,0,0,0,0,0,0,0,0,0,0,0,0,0,0]
[null,{"$f":"title245","v":"Electricity cost (USD)"},{"$f":"COST_RES2!G36","v":0},{"$f":"C53*(1+D73+D74)","v":0},{"$f":"D53*(1+E73+E74)","v":0},0,0,0,0,0,0,0,0,0,0,0,0,0,0,0,0,0,0]
[]
[null,{"$f":"title247","v":"Sub-total operating cost (USD)"},{"$f":"C56+C58+C59","v":{"$error":"#DIV/0!"}},{"$f":"D56+D58+D59","v":{"$error":"#DIV/0!"}},{"$error":"#DIV/0!"},{"$error":"#DIV/0!"},{"$error":"#DIV/0!"},{"$error":"#DIV/0!"},{"$error":"#DIV/0!"},{"$error":"#DIV/0!"},{"$error":"#DIV/0!"},{"$error":"#DIV/0!"},{"$error":"#DIV/0!"},{"$error":"#DIV/0!"},{"$error":"#DIV/0!"},{"$error":"#DIV/0!"},{"$error":"#DIV/0!"},{"$error":"#DIV/0!"},{"$error":"#DIV/0!"},{"$error":"#DIV/0!"},{"$error":"#DIV/0!"},{"$error":"#DIV/0!"},{"$error":"#DIV/0!"}]
[null,{"$f":"title248","v":"Labour cost (USD)"},{"$f":"COST_RES2!G44","v":0},{"$f":"C56*(1+D57)","v":0},0,0,0,0,0,0,0,0,0,0,0,0,0,0,0,0,0,0,0]
[null,{"$f":"title249","v":"Annual change in labour cost (%)"},null,{"$f":"COST_RES2!M12","v":0},{"$f":"D57","v":0},{"$f":"E57","v":0},0,0,0,0,0,0,0,0,0,0,0,0,0,0,0,0,0]
[null,{"$f":"title249","v":"Annual change in labour cost (%)"},{"$f":"COST_RES2!G70","v":0},{"$f":"C58","v":0},{"$f":"D58","v":0},0,0,0,0,0,0,0,0,0,0,0,0,0,0,0,0,0,0]
[null,{"$f":"title250","v":"General and administrative cost"},{"$f":"COST_RES2!G71","v":{"$error":"#DIV/0!"}},{"$f":"C59","v":{"$error":"#DIV/0!"}},{"$error":"#DIV/0!"},{"$error":"#DIV/0!"},{"$error":"#DIV/0!"},{"$error":"#DIV/0!"},{"$error":"#DIV/0!"},{"$error":"#DIV/0!"},{"$error":"#DIV/0!"},{"$error":"#DIV/0!"},{"$error":"#DIV/0!"},{"$error":"#DIV/0!"},{"$error":"#DIV/0!"},{"$error":"#DIV/0!"},{"$error":"#DIV/0!"},{"$error":"#DIV/0!"},{"$error":"#DIV/0!"},{"$error":"#DIV/0!"},{"$error":"#DIV/0!"},{"$error":"#DIV/0!"},{"$error":"#DIV/0!"}]
[null,{"$f":"title251","v":"Sub-total maintenance cost (USD)"},{"$f":"COST_RES2!G65","v":0},{"$f":"C60","v":0},0,0,0,0,0,0,0,0,0,0,0,0,0,0,0,0,0,0,0]
[]
[null,{"$f":"title252","v":"Sub-total of annual fixed costs"},{"$f":"+E33","v":0},{"$f":"C62","v":0},{"$f":"D62","v":0},0,0,0,0,0,0,0,0,0,0,0,0,0,0,0,0,0,0]
[]
[null,{"$f":"title253","v":"Sub-total of storage capacity"},{"$f":"COST_RES2!G56","v":{"$error":"#DIV/0!"}},{"$f":"C64","v":{"$error":"#DIV/0!"}},{"$f":"D64","v":{"$error":"#DIV/0!"}},{"$error":"#DIV/0!"},{"$error":"#DIV/0!"},{"$error":"#DIV/0!"},{"$error":"#DIV/0!"},{"$error":"#DIV/0!"},{"$error":"#DIV/0!"},{"$error":"#DIV/0!"},{"$error":"#DIV/0!"},{"$error":"#DIV/0!"},{"$error":"#DIV/0!"},{"$error":"#DIV/0!"},{"$error":"#DIV/0!"},{"$error":"#DIV/0!"},{"$error":"#DIV/0!"},{"$error":"#DIV/0!"},{"$error":"#DIV/0!"},{"$error":"#DIV/0!"},{"$error":"#DIV/0!"}]
[]
[null,{"$f":"title254","v":"Sub-total of briquette transportation to market"},{"$f":"COST_RES2!G49","v":0},{"$f":"C66*(1+D73+D74)","v":0},{"$f":"D66*(1+E73+E74)","v":0},0,0,0,0,0,0,0,0,0,0,0,0,0,0,0,0,0,0]
[]
[null,{"$f":"title255","v":"Total operation and maintenance cost (USD)"},{"$f":"C39+C55+C60+C62+C64+C66","v":{"$error":"#DIV/0!"}},{"$f":"D39+D55+D60+D62+D64+D66","v":{"$error":"#DIV/0!"}},{"$error":"#DIV/0!"},{"$error":"#DIV/0!"},{"$error":"#DIV/0!"},{"$error":"#DIV/0!"},{"$error":"#DIV/0!"},{"$error":"#DIV/0!"},{"$error":"#DIV/0!"},{"$error":"#DIV/0!"},{"$error":"#DIV/0!"},{"$error":"#DIV/0!"},{"$error":"#DIV/0!"},{"$error":"#DIV/0!"},{"$error":"#DIV/0!"},{"$error":"#DIV/0!"},{"$error":"#DIV/0!"},{"$error":"#DIV/0!"},{"$error":"#DIV/0!"},{"$error":"#DIV/0!"},{"$error":"#DIV/0!"}]
[null,{"$f":"title256","v":"Operation and maintenance cost (USD/kg of briquette) without loan interest"},{"$f":"C68/(C14*1000)","v":{"$error":"#DIV/0!"}},{"$error":"#DIV/0!"},{"$error":"#DIV/0!"},{"$error":"#DIV/0!"},{"$error":"#DIV/0!"},{"$error":"#DIV/0!"},{"$error":"#DIV/0!"},{"$error":"#DIV/0!"},{"$error":"#DIV/0!"},{"$error":"#DIV/0!"},{"$error":"#DIV/0!"},{"$error":"#DIV/0!"},{"$error":"#DIV/0!"},{"$error":"#DIV/0!"},{"$error":"#DIV/0!"},{"$error":"#DIV/0!"},{"$error":"#DIV/0!"},{"$error":"#DIV/0!"},{"$error":"#DIV/0!"},{"$error":"#DIV/0!"},{"$error":"#DIV/0!"}]
[]
[{"$f":"title164","v":"Financial parameters"}]
[null,{"$f":"title209","v":"Operating Year"},{"$f":"title230","v":"Appraisal"},1,2,3,4,5,6,7,8,9,10,11,12,13,14,15,16,17,18,19,20]
[null,{"$f":"title257","v":"Annual change in raw material cost (%)"},null,0,{"$f":"D73","v":0},{"$f":"E73","v":0},0,0,0,0,0,0,0,0,0,0,0,0,0,0,0,0,0]
[null,{"$f":"title258","v":"Inflation rate (%)"},null,{"$f":"COST_RES2!J12","v":0},{"$f":"D74","v":0},0,0,0,0,0,0,0,0,0,0,0,0,0,0,0,0,0,0]
[null,{"$f":"title165&\" (%)\"","v":"Discount rate (%)"},{"$f":"COST_RES2!J9","v":0}]
[null,{"$f":"title166&\" (%)\"","v":"Loan ratio (%)"},{"$f":"COST_RES2!J10","v":0}]
[]
[null,{"$f":"title259","v":"Loan without policy"},{"$f":"title230","v":"Appraisal"},1,2,3,4,5,6,7,8,9,10,11,12,13,14,15,16,17,18,19,20]
[null,{"$f":"title260","v":"Loan amount (USD)"},{"$f":"C76*(C33)","v":0}]
[null,{"$f":"title167&\" (%)\"","v":"Loan interest rate (%)"},{"$f":"COST_RES2!J11","v":0}]
[null,{"$f":"title261","v":"Loan term (years)"},{"$f":"COST_RES2!M9","v":0}]
[null,{"$f":"title262","v":"Loan payment (USD/month)"},{"$f":"(PMT($C$80/12,(12*$C$81),$C$79))","v":{"$error":"#NUM!"}}]
[null,{"$f":"title263","v":"Loan payment (USD/year)"},null,{"$f":"IF(D72<=$C$81,$C$82*12,0)","v":0},{"$f":"IF(E72<$C$81,$C$82*12,IF(E72=$C$81,$C$82*12,0))","v":0},{"$f":"IF(F72<$C$81,$C$82*12,IF(F72=$C$81,$C$82*12,0))","v":0},0,0,0,0,0,0,0,0,0,0,0,0,0,0,0,0,0]
[null,{"$f":"title264","v":"Total loan payment (USD)"},{"$f":"SUM(D83:W83)","v":0}]
[null,{"$f":"title265","v":"Loan interest payment (USD)"},{"$f":"C84+C79","v":0},{"$f":"title266","v":"Average loan interest payment for project lifetime"},null,null,{"$f":"C85/C25","v":0},{"$f":"title267","v":"USD per year"}]
[]
[{"$f":"title268","v":"Income tax analysis"}]
[null,{"$f":"title209","v":"Operating Year"},{"$f":"title230","v":"Appraisal"},1,2,3,4,5,6,7,8,9,10,11,12,13,14,15,16,17,18,19,20]
[null,{"$f":"title269","v":"Effective income tax rate (%)"},{"$f":"+'Data entry needs'!$AD$115","v":0},{"$f":"C89","v":0},{"$f":"D89","v":0},0,0,0,0,0,0,0,0,0,0,0,0,0,0,0,0,0,0]
[null,{"$f":"title270","v":"Income tax (USD)"},null,{"$f":"IF(D114<0,0,D89*D114)","v":{"$error":"#DIV/0!"}},{"$error":"#DIV/0!"},{"$error":"#DIV/0!"},{"$error":"#DIV/0!"},{"$error":"#DIV/0!"},{"$error":"#DIV/0!"},{"$error":"#DIV/0!"},{"$error":"#DIV/0!"},{"$error":"#DIV/0!"},{"$error":"#DIV/0!"},{"$error":"#DIV/0!"},{"$error":"#DIV/0!"},{"$error":"#DIV/0!"},{"$error":"#DIV/0!"},{"$error":"#DIV/0!"},{"$error":"#DIV/0!"},{"$error":"#DIV/0!"},{"$error":"#DIV/0!"},{"$error":"#DIV/0!"},{"$error":"#DIV/0!"}]
[null,{"$f":"title271","v":"Total income tax payment (USD)"},{"$f":"SUM(D90:W90)","v":{"$error":"#DIV/0!"}},{"$f":"title458","v":"Average income tax payment "},null,{"$f":"C91/C25","v":{"$error":"#DIV/0!"}},{"$f":"title267","v":"USD per year"}]
[]
[{"$f":"title272","v":"Depreciation"}]
[null,{"$f":"title209","v":"Operating Year"},{"$f":"title230","v":"Appraisal"},1,2,3,4,5,6,7,8,9,10,11,12,13,14,15,16,17,18,19,20]
[null,{"$f":"title273","v":"Depreciation method"},{"$f":"title275","v":"Straight-line"}]
[null,{"$f":"title274","v":"Total depreciation (USD)"},null,{"$f":"COST_RES2!G64","v":0},{"$f":"D96","v":0},{"$f":"E96","v":0},0,0,0,0,0,0,0,0,0,0,0,0,0,0,0,0,0]
[]
[{"$f":"title276","v":"Base case project summary"}]
[{"$f":"title277","v":"Summary of this project - Before Tax"}]
[null,{"$f":"title209","v":"Operating Year"},{"$f":"title230","v":"Appraisal"},1,2,3,4,5,6,7,8,9,10,11,12,13,14,15,16,17,18,19,20]
[null,{"$f":"title278","v":"Total revenue (USD)"},null,{"$f":"D15*1000*D18","v":0},{"$f":"E15*1000*E18","v":0},0,0,0,0,0,0,0,0,0,0,0,0,0,0,0,0,0,0]
[null,{"$f":"title228","v":"Total capital cost (USD)"},{"$f":"-(C33-C79)","v":0}]
[null,{"$f":"title279","v":"Total operating and maintenance cost (USD)"},null,{"$f":"-D68+D62","v":{"$error":"#DIV/0!"}},{"$error":"#DIV/0!"},{"$error":"#DIV/0!"},{"$error":"#DIV/0!"},{"$error":"#DIV/0!"},{"$error":"#DIV/0!"},{"$error":"#DIV/0!"},{"$error":"#DIV/0!"},{"$error":"#DIV/0!"},{"$error":"#DIV/0!"},{"$error":"#DIV/0!"},{"$error":"#DIV/0!"},{"$error":"#DIV/0!"},{"$error":"#DIV/0!"},{"$error":"#DIV/0!"},{"$error":"#DIV/0!"},{"$error":"#DIV/0!"},{"$error":"#DIV/0!"},{"$error":"#DIV/0!"},{"$error":"#DIV/0!"}]
[null,{"$f":"title280","v":"Loan payment (USD)"},null,{"$f":"D83","v":0},{"$f":"E83","v":0},0,0,0,0,0,0,0,0,0,0,0,0,0,0,0,0,0,0]
[null,{"$f":"title281","v":"Cash flow - before tax (USD)"},{"$f":"SUM(C101:C104)","v":0},{"$error":"#DIV/0!"},{"$error":"#DIV/0!"},{"$error":"#DIV/0!"},{"$error":"#DIV/0!"},{"$error":"#DIV/0!"},{"$error":"#DIV/0!"},{"$error":"#DIV/0!"},{"$error":"#DIV/0!"},{"$error":"#DIV/0!"},{"$error":"#DIV/0!"},{"$error":"#DIV/0!"},{"$error":"#DIV/0!"},{"$error":"#DIV/0!"},{"$error":"#DIV/0!"},{"$error":"#DIV/0!"},{"$error":"#DIV/0!"},{"$error":"#DIV/0!"},{"$error":"#DIV/0!"},{"$error":"#DIV/0!"},{"$error":"#DIV/0!"}]
[null,{"$f":"title282","v":"Average revenue (USD)"}]
[]
[{"$f":"title283","v":"Summary of this project - After Tax"}]
[null,{"$f":"title209","v":"Operating Year"},{"$f":"title230","v":"Appraisal"},1,2,3,4,5,6,7,8,9,10,11,12,13,14,15,16,17,18,19,20]
[null,{"$f":"B101","v":"Total revenue (USD)"},{"$f":"C101","v":0},{"$f":"D101","v":0},{"$f":"E101","v":0},0,0,0,0,0,0,0,0,0,0,0,0,0,0,0,0,0,0]
[null,{"$f":"title279","v":"Total operating and maintenance cost (USD)"},null,{"$f":"-D68+D62","v":{"$error":"#DIV/0!"}},{"$error":"#DIV/0!"},{"$error":"#DIV/0!"},{"$error":"#DIV/0!"},{"$error":"#DIV/0!"},{"$error":"#DIV/0!"},{"$error":"#DIV/0!"},{"$error":"#DIV/0!"},{"$error":"#DIV/0!"},{"$error":"#DIV/0!"},{"$error":"#DIV/0!"},{"$error":"#DIV/0!"},{"$error":"#DIV/0!"},{"$error":"#DIV/0!"},{"$error":"#DIV/0!"},{"$error":"#DIV/0!"},{"$error":"#DIV/0!"},{"$error":"#DIV/0!"},{"$error":"#DIV/0!"},{"$error":"#DIV/0!"}]
[null,{"$f":"title280","v":"Loan payment (USD)"},null,{"$f":"$G$85","v":0},{"$f":"$G$85","v":0},0,0,0,0,0,0,0,0,0,0,0,0,0,0,0,0,0,0]
[null,{"$f":"title284","v":"Depreciation of fixed costs (USD)"},null,{"$f":"-D62","v":0},{"$f":"-E62","v":0},0,0,0,0,0,0,0,0,0,0,0,0,0,0,0,0,0,0]
[null,{"$f":"title285","v":"Net profit - before tax (USD) for income tax calculation"},{"$f":"SUM(C110:C113)","v":0},{"$f":"SUM(D110:D113)","v":{"$error":"#DIV/0!"}},{"$f":"SUM(E110:E113)","v":{"$error":"#DIV/0!"}},{"$error":"#DIV/0!"},{"$error":"#DIV/0!"},{"$error":"#DIV/0!"},{"$error":"#DIV/0!"},{"$error":"#DIV/0!"},{"$error":"#DIV/0!"},{"$error":"#DIV/0!"},{"$error":"#DIV/0!"},{"$error":"#DIV/0!"},{"$error":"#DIV/0!"},{"$error":"#DIV/0!"},{"$error":"#DIV/0!"},{"$error":"#DIV/0!"},{"$error":"#DIV/0!"},{"$error":"#DIV/0!"},{"$error":"#DIV/0!"},{"$error":"#DIV/0!"},{"$error":"#DIV/0!"}]
[null,{"$f":"title286","v":"Income tax"},null,{"$f":"IF(D114>0,-D90,0)","v":{"$error":"#DIV/0!"}},{"$error":"#DIV/0!"},{"$error":"#DIV/0!"},{"$error":"#DIV/0!"},{"$error":"#DIV/0!"},{"$error":"#DIV/0!"},{"$error":"#DIV/0!"},{"$error":"#DIV/0!"},{"$error":"#DIV/0!"},{"$error":"#DIV/0!"},{"$error":"#DIV/0!"},{"$error":"#DIV/0!"},{"$error":"#DIV/0!"},{"$error":"#DIV/0!"},{"$error":"#DIV/0!"},{"$error":"#DIV/0!"},{"$error":"#DIV/0!"},{"$error":"#DIV/0!"},{"$error":"#DIV/0!"},{"$error":"#DIV/0!"}]
[null,{"$f":"title287","v":"Cash flow - after tax (USD)"},{"$f":"C102","v":0},{"$f":"D105+D115","v":{"$error":"#DIV/0!"}},{"$f":"E105+E115","v":{"$error":"#DIV/0!"}},{"$error":"#DIV/0!"},{"$error":"#DIV/0!"},{"$error":"#DIV/0!"},{"$error":"#DIV/0!"},{"$error":"#DIV/0!"},{"$error":"#DIV/0!"},{"$error":"#DIV/0!"},{"$error":"#DIV/0!"},{"$error":"#DIV/0!"},{"$error":"#DIV/0!"},{"$error":"#DIV/0!"},{"$error":"#DIV/0!"},{"$error":"#DIV/0!"},{"$error":"#DIV/0!"},{"$error":"#DIV/0!"},{"$error":"#DIV/0!"},{"$error":"#DIV/0!"},{"$f":"W105+W115","v":{"$error":"#DIV/0!"}}]
[]
[{"$f":"title288","v":"Cumulative value of Net Profit"}]
[null,{"$f":"title209","v":"Operating Year"},{"$f":"title230","v":"Appraisal"},1,2,3,4,5,6,7,8,9,10,11,12,13,14,15,16,17,18,19,20]
[null,{"$f":"title289","v":"Cumulative value of net profit - before tax"},{"$f":"C105","v":0},{"$f":"C120+(D105)","v":{"$error":"#DIV/0!"}},{"$error":"#DIV/0!"},{"$error":"#DIV/0!"},{"$error":"#DIV/0!"},{"$error":"#DIV/0!"},{"$error":"#DIV/0!"},{"$error":"#DIV/0!"},{"$error":"#DIV/0!"},{"$error":"#DIV/0!"},{"$error":"#DIV/0!"},{"$error":"#DIV/0!"},{"$error":"#DIV/0!"},{"$error":"#DIV/0!"},{"$error":"#DIV/0!"},{"$error":"#DIV/0!"},{"$error":"#DIV/0!"},{"$error":"#DIV/0!"},{"$error":"#DIV/0!"},{"$error":"#DIV/0!"},{"$error":"#DIV/0!"}]
[null,{"$f":"title290","v":"Cumulative value of net profit - after tax"},{"$f":"C116","v":0},{"$f":"C121+(D116)","v":{"$error":"#DIV/0!"}},{"$error":"#DIV/0!"},{"$error":"#DIV/0!"},{"$error":"#DIV/0!"},{"$error":"#DIV/0!"},{"$error":"#DIV/0!"},{"$error":"#DIV/0!"},{"$error":"#DIV/0!"},{"$error":"#DIV/0!"},{"$error":"#DIV/0!"},{"$error":"#DIV/0!"},{"$error":"#DIV/0!"},{"$error":"#DIV/0!"},{"$error":"#DIV/0!"},{"$error":"#DIV/0!"},{"$error":"#DIV/0!"},{"$error":"#DIV/0!"},{"$error":"#DIV/0!"},{"$error":"#DIV/0!"},{"$error":"#DIV/0!"}]
[]
[{"$f":"title291","v":"Financial analysis results"}]
[]
[null,{"$f":"title292","v":"Net present value (NPV) (USD) - before tax"},{"$f":"NPV(C75,D105:W105)+C105","v":{"$error":"#DIV/0!"}}]
[null,{"$f":"title293","v":"Internal rate of return (IRR) (%) - before tax"},{"$f":"IF(C125<0,title459,IF(TIR_cell=title519,IRR(C105:W105,0.001),MIRR(C105:W105,C80,C75)))","v":{"$error":"#DIV/0!"}}]
[null,{"$f":"title294","v":"Payback period (years)"},{"$f":"title298","v":"Please see Figure of the cumulative value of net profit - before tax"}]
[]
[]
[null,{"$f":"title295","v":"Net present value (NPV) (USD) - after tax"},{"$f":"NPV(C75,D116:W116)+C116","v":{"$error":"#DIV/0!"}}]
[null,{"$f":"title296","v":"Internal rate of return (IRR) (%) - after tax"},{"$f":"IF(C130<0,title459,MIRR(C116:W116,$C$80,0%))","v":{"$error":"#DIV/0!"}}]
[null,{"$f":"title294","v":"Payback period (years)"},{"$f":"title299","v":"Please see Figure of the cumulative value of net profit - after tax"}]
[null,{"$f":"title297","v":"Total Income tax payment of project lifetime"},{"$f":"SUM(D115:W115)","v":{"$error":"#DIV/0!"}}]

{"sheet":"FA40_RURAL_RES2","index":31,"n_rows":133,"n_cols":23,"rows_kept":133,"cut":false,"hidden":true,"merged":[[1,1,1,13]]}
[]
[null,{"$f":"title300","v":"FINANCIAL ANALYSIS OF BIOMASS BRIQUETTING 40 KG/HOUR"}]
[]
[{"$f":"title208","v":"Revenues of biomass briquetting system"}]
[null,{"$f":"title209","v":"Operating Year"},0,1,2,3,4,5,6,7,8,9,10,11,12,13,14,15,16,17,18,19,20]
[]
[null,{"$f":"title210","v":"Briquette production capacity (tons per year)"},{"$f":"COST_RES2!$H$29","v":0},{"$f":"C7","v":0},{"$f":"D7","v":0},0,0,0,0,0,0,0,0,0,0,0,0,0,0,0,0,0,0]
[]
[null,{"$f":"title211","v":"Efficiency % of briquetting machine"},{"$f":"COST_RES2!$G$12","v":0},{"$f":"+C9","v":0},{"$f":"+D9","v":0},0,0,0,0,0,0,0,0,0,0,0,0,0,0,0,0,0,0]
[]
[null,{"$f":"title212","v":"Operating hours per year"},{"$f":"COST_RES2!I28","v":0},{"$f":"+C11","v":0},{"$f":"D11","v":0},0,0,0,0,0,0,0,0,0,0,0,0,0,0,0,0,0,0]
[null,{"$f":"title213","v":"Capacity utilization factor"},{"$f":"C11/8760","v":0},{"$f":"D11/8760","v":0},0,0,0,0,0,0,0,0,0,0,0,0,0,0,0,0,0,0,0]
[]
[null,{"$f":"title214","v":"Briquette production (tons per year)"},{"$f":"C7","v":0},{"$f":"D7","v":0},0,0,0,0,0,0,0,0,0,0,0,0,0,0,0,0,0,0,0]
[null,{"$f":"title215","v":"Total briquette sell to customers (tons per year)"},{"$f":"SUM(C14:C14)","v":0},{"$f":"SUM(D14:D14)","v":0},0,0,0,0,0,0,0,0,0,0,0,0,0,0,0,0,0,0,0]
[]
[null,{"$f":"title216","v":"Price of briquette (USD/kg)"},{"$f":"SUM(C18:C18)","v":0},{"$f":"SUM(D18:D18)","v":0},0,0,0,0,0,0,0,0,0,0,0,0,0,0,0,0,0,0,0]
[null,{"$f":"title217","v":"Market price of briquette pay by consumers (USD/kg)"},{"$f":"+'Energy Demand'!E20","v":0},{"$f":"C18*(1+D19)","v":0},0,0,0,0,0,0,0,0,0,0,0,0,0,0,0,0,0,0,0]
[null,{"$f":"title218","v":"Increasing rate of price of briquette (%)"},{"$f":"+'Data entry needs'!$AD$114","v":0},{"$f":"C19","v":0},{"$f":"D19","v":0},0,0,0,0,0,0,0,0,0,0,0,0,0,0,0,0,0,0]
[]
[null,{"$f":"title219","v":"Total income of briquette (USD per year)"},{"$f":"C15*C18*1000","v":0},{"$f":"D15*D18*1000","v":0},0,0,0,0,0,0,0,0,0,0,0,0,0,0,0,0,0,0,0]
[]
[null,{"$f":"title220","v":"Lifespan of civil work (years)"},{"$f":"COST_RES2!E61","v":10}]
[null,{"$f":"title221","v":"Lifespan of briquette system (years)"},{"$f":"COST_RES2!E60","v":10}]
[null,{"$f":"title222","v":"Project life time (years)"},20]
[]
[{"$f":"title223","v":"Capital and operating cost of biomass briquette system "}]
[null,null,{"$f":"title230","v":"Appraisal"},{"$f":"title231","v":"Project lifetime"},{"$f":"title232","v":"Investment per year"}]
[null,{"$f":"title224","v":"Direct capital cost (USD)"}]
[null,{"$f":"title225","v":"Equipments"},{"$f":"D30*E30","v":0},{"$f":"$C$25","v":20},{"$f":"COST_RES1!H60/D30","v":0}]
[null,{"$f":"title226","v":"Building"},{"$f":"D31*E31","v":0},{"$f":"$C$25","v":20},{"$f":"COST_RES2!H61/D31","v":0}]
[null,{"$f":"title227","v":"Installation"},{"$f":"D32*E32","v":0},{"$f":"$C$25","v":20},{"$f":"COST_RES2!H62/D32","v":0}]
[null,{"$f":"title228","v":"Total capital cost (USD)"},{"$f":"SUM(C30:C32)","v":0},null,{"$f":"SUM(E30:E32)","v":0}]
[null,{"$f":"title229","v":"Capital cost (USD/kg of briquette)"},{"$f":"C33/(C14*1000*C25)","v":{"$error":"#DIV/0!"}}]
[]
[]
[null,{"$f":"title209","v":"Operating Year"},{"$f":"title230","v":"Appraisal"},1,2,3,4,5,6,7,8,9,10,11,12,13,14,15,16,17,18,19,20]
[null,{"$f":"title233","v":"Annual operating and maintenance cost "}]
[null,{"$f":"title234","v":"Sub-total material cost (USD)"},{"$f":"C40+C48+C50+C53","v":{"$error":"#DIV/0!"}},{"$f":"D40+D48+D50+D53","v":{"$error":"#DIV/0!"}},{"$error":"#DIV/0!"},{"$error":"#DIV/0!"},{"$error":"#DIV/0!"},{"$error":"#DIV/0!"},{"$error":"#DIV/0!"},{"$error":"#DIV/0!"},{"$error":"#DIV/0!"},{"$error":"#DIV/0!"},{"$error":"#DIV/0!"},{"$error":"#DIV/0!"},{"$error":"#DIV/0!"},{"$error":"#DIV/0!"},{"$error":"#DIV/0!"},{"$error":"#DIV/0!"},{"$error":"#DIV/0!"},{"$error":"#DIV/0!"},{"$error":"#DIV/0!"},{"$error":"#DIV/0!"},{"$error":"#DIV/0!"}]
[null,{"$f":"title235","v":"Biomass cost (USD/year)"},{"$f":"C41*C42","v":{"$error":"#DIV/0!"}},{"$f":"D41*D42","v":{"$error":"#DIV/0!"}},{"$error":"#DIV/0!"},{"$error":"#DIV/0!"},{"$error":"#DIV/0!"},{"$error":"#DIV/0!"},{"$error":"#DIV/0!"},{"$error":"#DIV/0!"},{"$error":"#DIV/0!"},{"$error":"#DIV/0!"},{"$error":"#DIV/0!"},{"$error":"#DIV/0!"},{"$error":"#DIV/0!"},{"$error":"#DIV/0!"},{"$error":"#DIV/0!"},{"$error":"#DIV/0!"},{"$error":"#DIV/0!"},{"$error":"#DIV/0!"},{"$error":"#DIV/0!"},{"$error":"#DIV/0!"},{"$error":"#DIV/0!"}]
[null,{"$f":"title236","v":"Biomass consumption (ton per year)"},{"$f":"C14/COST_RES2!$G$12","v":{"$error":"#DIV/0!"}},{"$f":"D14/COST_RES2!$G$12","v":{"$error":"#DIV/0!"}},{"$f":"E14/COST_RES2!$G$12","v":{"$error":"#DIV/0!"}},{"$f":"F14/COST_RES2!$G$12","v":{"$error":"#DIV/0!"}},{"$f":"G14/COST_RES2!$G$12","v":{"$error":"#DIV/0!"}},{"$f":"H14/COST_RES2!$G$12","v":{"$error":"#DIV/0!"}},{"$f":"I14/COST_RES2!$G$12","v":{"$error":"#DIV/0!"}},{"$f":"J14/COST_RES2!$G$12","v":{"$error":"#DIV/0!"}},{"$f":"K14/COST_RES2!$G$12","v":{"$error":"#DIV/0!"}},{"$f":"L14/COST_RES2!$G$12","v":{"$error":"#DIV/0!"}},{"$f":"M14/COST_RES2!$G$12","v":{"$error":"#DIV/0!"}},{"$f":"N14/COST_RES2!$G$12","v":{"$error":"#DIV/0!"}},{"$f":"O14/COST_RES2!$G$12","v":{"$error":"#DIV/0!"}},{"$f":"P14/COST_RES2!$G$12","v":{"$error":"#DIV/0!"}},{"$f":"Q14/COST_RES2!$G$12","v":{"$error":"#DIV/0!"}},{"$f":"R14/COST_RES2!$G$12","v":{"$error":"#DIV/0!"}},{"$f":"S14/COST_RES2!$G$12","v":{"$error":"#DIV/0!"}},{"$f":"T14/COST_RES2!$G$12","v":{"$error":"#DIV/0!"}},{"$f":"U14/COST_RES2!$G$12","v":{"$error":"#DIV/0!"}},{"$f":"V14/COST_RES2!$G$12","v":{"$error":"#DIV/0!"}},{"$f":"W14/COST_RES2!$G$12","v":{"$error":"#DIV/0!"}}]
[null,{"$f":"title237","v":"Biomass price (USD/ton)"},{"$f":"SUM(C43:C44)","v":0},{"$f":"SUM(D43:D44)","v":0},0,0,0,0,0,0,0,0,0,0,0,0,0,0,0,0,0,0,0]
[null,{"$f":"title238","v":"Biomass cost of collection (USD/ton)"},{"$f":"COST_RES2!E33","v":0},{"$f":"C43*(1+D73+D74)","v":0},{"$f":"D43*(1+E73+E74)","v":0},0,0,0,0,0,0,0,0,0,0,0,0,0,0,0,0,0,0]
[null,{"$f":"title239","v":"Biomass transportation cost (USD/ton)"},{"$f":"C45*C46","v":0},{"$f":"D45*D46","v":0},0,0,0,0,0,0,0,0,0,0,0,0,0,0,0,0,0,0,0]
[null,{"$f":"title240","v":"Biomass from farm to plant (USD/ton/km)"},{"$f":"COST_RES2!E48","v":0},{"$f":"C45*(1+D73+D74)","v":0},{"$f":"D45*(1+E73+E74)","v":0},0,0,0,0,0,0,0,0,0,0,0,0,0,0,0,0,0,0]
[null,{"$f":"title241","v":"Transportation distant (km)"},{"$f":"COST_RES2!H48","v":0},{"$f":"C46","v":0},{"$f":"D46","v":0},0,0,0,0,0,0,0,0,0,0,0,0,0,0,{"$f":"S46","v":0},{"$f":"T46","v":0},{"$f":"U46","v":0},{"$f":"V46","v":0}]
[]
[null,{"$f":"title246","v":"Water cost (USD/year)"},{"$f":"COST_RES2!I35","v":0},{"$f":"C48*(1+D73+D74)","v":0},{"$f":"D48*(1+E73+E74)","v":0},0,0,0,0,0,0,0,0,0,0,0,0,0,0,0,0,0,0]
[]
[null,{"$f":"title242","v":"Chemical cost (USD/year)"},{"$f":"C51*C52","v":0},{"$f":"D51*D52","v":0},0,0,0,0,0,0,0,0,0,0,0,0,0,0,0,0,0,0,0]
[null,{"$f":"title243","v":"Chemical consumption (tons per year)"},{"$f":"+COST_RES2!$H$34","v":0},{"$f":"+COST_RES2!$H$34","v":0},{"$f":"+COST_RES2!$H$34","v":0},{"$f":"+COST_RES2!$H$34","v":0},{"$f":"+COST_RES2!$H$34","v":0},{"$f":"+COST_RES2!$H$34","v":0},{"$f":"+COST_RES2!$H$34","v":0},{"$f":"+COST_RES2!$H$34","v":0},{"$f":"+COST_RES2!$H$34","v":0},{"$f":"+COST_RES2!$H$34","v":0},{"$f":"+COST_RES2!$H$34","v":0},{"$f":"+COST_RES2!$H$34","v":0},{"$f":"+COST_RES2!$H$34","v":0},{"$f":"+COST_RES2!$H$34","v":0},{"$f":"+COST_RES2!$H$34","v":0},{"$f":"+COST_RES2!$H$34","v":0},{"$f":"+COST_RES2!$H$34","v":0},{"$f":"+COST_RES2!$H$34","v":0},{"$f":"+COST_RES2!$H$34","v":0},{"$f":"+COST_RES2!$H$34","v":0},{"$f":"+COST_RES2!$H$34","v":0}]
[null,{"$f":"title244","v":"Chemical price (USD/ton)"},{"$f":"+'Data entry needs'!$E$20","v":0},{"$f":"C52","v":0},{"$f":"D52","v":0},0,0,0,0,0,0,0,0,0,0,0,0,0,0,0,0,0,0]
[null,{"$f":"title245","v":"Electricity cost (USD)"},{"$f":"COST_RES2!I36","v":0},{"$f":"C53*(1+D73+D74)","v":0},{"$f":"D53*(1+E73+E74)","v":0},0,0,0,0,0,0,0,0,0,0,0,0,0,0,0,0,0,0]
[]
[null,{"$f":"title247","v":"Sub-total operating cost (USD)"},{"$f":"C56+C58+C59","v":{"$error":"#DIV/0!"}},{"$f":"D56+D58+D59","v":{"$error":"#DIV/0!"}},{"$error":"#DIV/0!"},{"$error":"#DIV/0!"},{"$error":"#DIV/0!"},{"$error":"#DIV/0!"},{"$error":"#DIV/0!"},{"$error":"#DIV/0!"},{"$error":"#DIV/0!"},{"$error":"#DIV/0!"},{"$error":"#DIV/0!"},{"$error":"#DIV/0!"},{"$error":"#DIV/0!"},{"$error":"#DIV/0!"},{"$error":"#DIV/0!"},{"$error":"#DIV/0!"},{"$error":"#DIV/0!"},{"$error":"#DIV/0!"},{"$error":"#DIV/0!"},{"$error":"#DIV/0!"},{"$error":"#DIV/0!"}]
[null,{"$f":"title248","v":"Labour cost (USD)"},{"$f":"COST_RES2!I44","v":0},{"$f":"C56*(1+D57)","v":0},0,0,0,0,0,0,0,0,0,0,0,0,0,0,0,0,0,0,0]
[null,{"$f":"title249","v":"Annual change in labour cost (%)"},null,{"$f":"COST_RES2!M12","v":0},{"$f":"D57","v":0},0,0,0,0,0,0,0,0,0,0,0,0,0,0,0,0,0,0]
[null,{"$f":"title249","v":"Annual change in labour cost (%)"},{"$f":"COST_RES2!I70","v":0},{"$f":"C58","v":0},{"$f":"D58","v":0},0,0,0,0,0,0,0,0,0,0,0,0,0,0,0,{"$f":"T58","v":0},0,0]
[null,{"$f":"title250","v":"General and administrative cost"},{"$f":"COST_RES2!I71","v":{"$error":"#DIV/0!"}},{"$f":"C59","v":{"$error":"#DIV/0!"}},{"$error":"#DIV/0!"},{"$error":"#DIV/0!"},{"$error":"#DIV/0!"},{"$error":"#DIV/0!"},{"$error":"#DIV/0!"},{"$error":"#DIV/0!"},{"$error":"#DIV/0!"},{"$error":"#DIV/0!"},{"$error":"#DIV/0!"},{"$error":"#DIV/0!"},{"$error":"#DIV/0!"},{"$error":"#DIV/0!"},{"$error":"#DIV/0!"},{"$error":"#DIV/0!"},{"$error":"#DIV/0!"},{"$error":"#DIV/0!"},{"$error":"#DIV/0!"},{"$error":"#DIV/0!"},{"$error":"#DIV/0!"}]
[null,{"$f":"title251","v":"Sub-total maintenance cost (USD)"},{"$f":"COST_RES2!I65","v":0},{"$f":"C60","v":0},0,0,0,0,0,0,0,0,0,0,0,0,0,0,0,0,0,0,0]
[]
[null,{"$f":"title252","v":"Sub-total of annual fixed costs"},{"$f":"+E33","v":0},{"$f":"C62","v":0},{"$f":"D62","v":0},0,0,0,0,0,0,0,0,0,0,0,0,0,0,0,0,0,0]
[]
[null,{"$f":"title253","v":"Sub-total of storage capacity"},{"$f":"COST_RES2!I56","v":{"$error":"#DIV/0!"}},{"$f":"C64","v":{"$error":"#DIV/0!"}},{"$f":"D64","v":{"$error":"#DIV/0!"}},{"$error":"#DIV/0!"},{"$error":"#DIV/0!"},{"$error":"#DIV/0!"},{"$error":"#DIV/0!"},{"$error":"#DIV/0!"},{"$error":"#DIV/0!"},{"$error":"#DIV/0!"},{"$error":"#DIV/0!"},{"$error":"#DIV/0!"},{"$error":"#DIV/0!"},{"$error":"#DIV/0!"},{"$error":"#DIV/0!"},{"$error":"#DIV/0!"},{"$error":"#DIV/0!"},{"$error":"#DIV/0!"},{"$error":"#DIV/0!"},{"$error":"#DIV/0!"},{"$error":"#DIV/0!"}]
[]
[null,{"$f":"title254","v":"Sub-total of briquette transportation to market"},{"$f":"COST_RES2!I49","v":0},{"$f":"C66*(1+D73+D74)","v":0},{"$f":"D66*(1+E73+E74)","v":0},0,0,0,0,0,0,0,0,0,0,0,0,0,0,0,0,0,0]
[]
[null,{"$f":"title255","v":"Total operation and maintenance cost (USD)"},{"$f":"C39+C55+C60+C62+C64+C66","v":{"$error":"#DIV/0!"}},{"$f":"D39+D55+D60+D62+D64+D66","v":{"$error":"#DIV/0!"}},{"$error":"#DIV/0!"},{"$error":"#DIV/0!"},{"$error":"#DIV/0!"},{"$error":"#DIV/0!"},{"$error":"#DIV/0!"},{"$error":"#DIV/0!"},{"$error":"#DIV/0!"},{"$error":"#DIV/0!"},{"$error":"#DIV/0!"},{"$error":"#DIV/0!"},{"$error":"#DIV/0!"},{"$error":"#DIV/0!"},{"$error":"#DIV/0!"},{"$error":"#DIV/0!"},{"$error":"#DIV/0!"},{"$error":"#DIV/0!"},{"$error":"#DIV/0!"},{"$error":"#DIV/0!"},{"$error":"#DIV/0!"}]
[null,{"$f":"title256","v":"Operation and maintenance cost (USD/kg of briquette) without loan interest"},{"$f":"C68/(C14*1000)","v":{"$error":"#DIV/0!"}},{"$error":"#DIV/0!"},{"$error":"#DIV/0!"},{"$error":"#DIV/0!"},{"$error":"#DIV/0!"},{"$error":"#DIV/0!"},{"$error":"#DIV/0!"},{"$error":"#DIV/0!"},{"$error":"#DIV/0!"},{"$error":"#DIV/0!"},{"$error":"#DIV/0!"},{"$error":"#DIV/0!"},{"$error":"#DIV/0!"},{"$error":"#DIV/0!"},{"$error":"#DIV/0!"},{"$error":"#DIV/0!"},{"$error":"#DIV/0!"},{"$error":"#DIV/0!"},{"$error":"#DIV/0!"},{"$error":"#DIV/0!"},{"$error":"#DIV/0!"}]
[]
[{"$f":"title164","v":"Financial parameters"}]
[null,{"$f":"title209","v":"Operating Year"},{"$f":"title230","v":"Appraisal"},1,2,3,4,5,6,7,8,9,10,11,12,13,14,15,16,17,18,19,20]
[null,{"$f":"title257","v":"Annual change in raw material cost (%)"},null,0,{"$f":"D73","v":0},{"$f":"E73","v":0},0,0,0,0,0,0,0,0,0,0,0,0,0,0,0,{"$f":"U73","v":0},{"$f":"V73","v":0}]
[null,{"$f":"title258","v":"Inflation rate (%)"},null,{"$f":"COST_RES2!J12","v":0},{"$f":"D74","v":0},0,0,0,0,0,0,0,0,0,0,0,0,0,0,0,0,{"$f":"U74","v":0},{"$f":"V74","v":0}]
[null,{"$f":"title165&\" (%)\"","v":"Discount rate (%)"},{"$f":"COST_RES2!J9","v":0}]
[null,{"$f":"title166&\" (%)\"","v":"Loan ratio (%)"},{"$f":"COST_RES2!J10","v":0}]
[]
[null,{"$f":"title259","v":"Loan without policy"},{"$f":"title230","v":"Appraisal"},1,2,3,4,5,6,7,8,9,10,11,12,13,14,15,16,17,18,19,20]
[null,{"$f":"title260","v":"Loan amount (USD)"},{"$f":"C76*(C33)","v":0}]
[null,{"$f":"title167&\" (%)\"","v":"Loan interest rate (%)"},{"$f":"COST_RES2!J11","v":0}]
[null,{"$f":"title261","v":"Loan term (years)"},{"$f":"COST_RES2!M9","v":0}]
[null,{"$f":"title262","v":"Loan payment (USD/month)"},{"$f":"(PMT($C$80/12,(12*$C$81),$C$79))","v":{"$error":"#NUM!"}}]
[null,{"$f":"title263","v":"Loan payment (USD/year)"},null,{"$f":"IF(D72<=$C$81,$C$82*12,0)","v":0},{"$f":"IF(E72<$C$81,$C$82*12,IF(E72=$C$81,$C$82*12,0))","v":0},{"$f":"IF(F72<$C$81,$C$82*12,IF(F72=$C$81,$C$82*12,0))","v":0},0,0,0,0,0,0,0,0,0,0,0,0,0,0,0,0,0]
[null,{"$f":"title264","v":"Total loan payment (USD)"},{"$f":"SUM(D83:W83)","v":0}]
[null,{"$f":"title265","v":"Loan interest payment (USD)"},{"$f":"C84+C79","v":0},{"$f":"title266","v":"Average loan interest payment for project lifetime"},null,null,{"$f":"C85/C25","v":0},{"$f":"title267","v":"USD per year"}]
[]
[{"$f":"title268","v":"Income tax analysis"}]
[null,{"$f":"title209","v":"Operating Year"},{"$f":"title230","v":"Appraisal"},1,2,3,4,5,6,7,8,9,10,11,12,13,14,15,16,17,18,19,20]
[null,{"$f":"title269","v":"Effective income tax rate (%)"},{"$f":"+'Data entry needs'!$AD$115","v":0},{"$f":"C89","v":0},{"$f":"D89","v":0},0,0,0,0,0,0,0,0,0,0,0,0,0,0,0,0,0,0]
[null,{"$f":"title270","v":"Income tax (USD)"},null,{"$f":"IF(D114<0,0,D89*D114)","v":{"$error":"#DIV/0!"}},{"$error":"#DIV/0!"},{"$error":"#DIV/0!"},{"$error":"#DIV/0!"},{"$error":"#DIV/0!"},{"$error":"#DIV/0!"},{"$error":"#DIV/0!"},{"$error":"#DIV/0!"},{"$error":"#DIV/0!"},{"$error":"#DIV/0!"},{"$error":"#DIV/0!"},{"$error":"#DIV/0!"},{"$error":"#DIV/0!"},{"$error":"#DIV/0!"},{"$error":"#DIV/0!"},{"$error":"#DIV/0!"},{"$error":"#DIV/0!"},{"$error":"#DIV/0!"},{"$error":"#DIV/0!"},{"$error":"#DIV/0!"}]
[null,{"$f":"title271","v":"Total income tax payment (USD)"},{"$f":"SUM(D90:W90)","v":{"$error":"#DIV/0!"}},{"$f":"title458","v":"Average income tax payment "},null,{"$f":"C91/C25","v":{"$error":"#DIV/0!"}},{"$f":"title267","v":"USD per year"}]
[]
[{"$f":"title272","v":"Depreciation"}]
[null,{"$f":"title209","v":"Operating Year"},{"$f":"title230","v":"Appraisal"},1,2,3,4,5,6,7,8,9,10,11,12,13,14,15,16,17,18,19,20]
[null,{"$f":"title273","v":"Depreciation method"},{"$f":"title275","v":"Straight-line"}]
[null,{"$f":"title274","v":"Total depreciation (USD)"},null,{"$f":"COST_RES2!I64","v":0},{"$f":"D96","v":0},{"$f":"E96","v":0},0,0,0,0,0,0,0,0,0,0,0,0,0,0,0,0,0]
[]
[{"$f":"title276","v":"Base case project summary"}]
[{"$f":"title277","v":"Summary of this project - Before Tax"}]
[null,{"$f":"title209","v":"Operating Year"},{"$f":"title230","v":"Appraisal"},1,2,3,4,5,6,7,8,9,10,11,12,13,14,15,16,17,18,19,20]
[null,{"$f":"title278","v":"Total revenue (USD)"},null,{"$f":"D15*1000*D18","v":0},{"$f":"E15*1000*E18","v":0},0,0,0,0,0,0,0,0,0,0,0,0,0,0,0,0,0,0]
[null,{"$f":"title228","v":"Total capital cost (USD)"},{"$f":"-(C33-C79)","v":0}]
[null,{"$f":"title279","v":"Total operating and maintenance cost (USD)"},null,{"$f":"-D68+D62","v":{"$error":"#DIV/0!"}},{"$error":"#DIV/0!"},{"$error":"#DIV/0!"},{"$error":"#DIV/0!"},{"$error":"#DIV/0!"},{"$error":"#DIV/0!"},{"$error":"#DIV/0!"},{"$error":"#DIV/0!"},{"$error":"#DIV/0!"},{"$error":"#DIV/0!"},{"$error":"#DIV/0!"},{"$error":"#DIV/0!"},{"$error":"#DIV/0!"},{"$error":"#DIV/0!"},{"$error":"#DIV/0!"},{"$error":"#DIV/0!"},{"$error":"#DIV/0!"},{"$error":"#DIV/0!"},{"$error":"#DIV/0!"},{"$error":"#DIV/0!"}]
[null,{"$f":"title280","v":"Loan payment (USD)"},null,{"$f":"D83","v":0},{"$f":"E83","v":0},0,0,0,0,0,0,0,0,0,0,0,0,0,0,0,0,0,0]
[null,{"$f":"title281","v":"Cash flow - before tax (USD)"},{"$f":"SUM(C101:C104)","v":0},{"$error":"#DIV/0!"},{"$error":"#DIV/0!"},{"$error":"#DIV/0!"},{"$error":"#DIV/0!"},{"$error":"#DIV/0!"},{"$error":"#DIV/0!"},{"$error":"#DIV/0!"},{"$error":"#DIV/0!"},{"$error":"#DIV/0!"},{"$error":"#DIV/0!"},{"$error":"#DIV/0!"},{"$error":"#DIV/0!"},{"$error":"#DIV/0!"},{"$error":"#DIV/0!"},{"$error":"#DIV/0!"},{"$error":"#DIV/0!"},{"$error":"#DIV/0!"},{"$error":"#DIV/0!"},{"$error":"#DIV/0!"},{"$error":"#DIV/0!"}]
[null,{"$f":"title282","v":"Average revenue (USD)"}]
[]
[{"$f":"title283","v":"Summary of this project - After Tax"}]
[null,{"$f":"title209","v":"Operating Year"},{"$f":"title230","v":"Appraisal"},1,2,3,4,5,6,7,8,9,10,11,12,13,14,15,16,17,18,19,20]
[null,{"$f":"B101","v":"Total revenue (USD)"},{"$f":"C101","v":0},{"$f":"D101","v":0},0,0,0,0,0,0,0,0,0,0,0,0,0,0,0,0,0,0,0]
[null,{"$f":"title279","v":"Total operating and maintenance cost (USD)"},null,{"$f":"-D68+D62","v":{"$error":"#DIV/0!"}},{"$error":"#DIV/0!"},{"$error":"#DIV/0!"},{"$error":"#DIV/0!"},{"$error":"#DIV/0!"},{"$error":"#DIV/0!"},{"$error":"#DIV/0!"},{"$error":"#DIV/0!"},{"$error":"#DIV/0!"},{"$error":"#DIV/0!"},{"$error":"#DIV/0!"},{"$error":"#DIV/0!"},{"$error":"#DIV/0!"},{"$error":"#DIV/0!"},{"$error":"#DIV/0!"},{"$error":"#DIV/0!"},{"$error":"#DIV/0!"},{"$error":"#DIV/0!"},{"$error":"#DIV/0!"},{"$error":"#DIV/0!"}]
[null,{"$f":"title280","v":"Loan payment (USD)"},null,{"$f":"$G$85","v":0},{"$f":"$G$85","v":0},0,0,0,0,0,0,0,0,0,0,0,0,0,0,0,0,0,0]
[null,{"$f":"title284","v":"Depreciation of fixed costs (USD)"},null,{"$f":"-D62","v":0},{"$f":"-E62","v":0},0,0,0,0,0,0,0,0,0,0,0,0,0,0,0,0,0,0]
[null,{"$f":"title285","v":"Net profit - before tax (USD) for income tax calculation"},{"$f":"SUM(C110:C113)","v":0},{"$f":"SUM(D110:D113)","v":{"$error":"#DIV/0!"}},{"$f":"SUM(E110:E113)","v":{"$error":"#DIV/0!"}},{"$error":"#DIV/0!"},{"$error":"#DIV/0!"},{"$error":"#DIV/0!"},{"$error":"#DIV/0!"},{"$error":"#DIV/0!"},{"$error":"#DIV/0!"},{"$error":"#DIV/0!"},{"$error":"#DIV/0!"},{"$error":"#DIV/0!"},{"$error":"#DIV/0!"},{"$error":"#DIV/0!"},{"$error":"#DIV/0!"},{"$error":"#DIV/0!"},{"$error":"#DIV/0!"},{"$error":"#DIV/0!"},{"$error":"#DIV/0!"},{"$error":"#DIV/0!"},{"$error":"#DIV/0!"}]
[null,{"$f":"title286","v":"Income tax"},null,{"$f":"IF(D114>0,-D90,0)","v":{"$error":"#DIV/0!"}},{"$error":"#DIV/0!"},{"$error":"#DIV/0!"},{"$error":"#DIV/0!"},{"$error":"#DIV/0!"},{"$error":"#DIV/0!"},{"$error":"#DIV/0!"},{"$error":"#DIV/0!"},{"$error":"#DIV/0!"},{"$error":"#DIV/0!"},{"$error":"#DIV/0!"},{"$error":"#DIV/0!"},{"$error":"#DIV/0!"},{"$error":"#DIV/0!"},{"$error":"#DIV/0!"},{"$error":"#DIV/0!"},{"$error":"#DIV/0!"},{"$error":"#DIV/0!"},{"$error":"#DIV/0!"},{"$error":"#DIV/0!"}]
[null,{"$f":"title287","v":"Cash flow - after tax (USD)"},{"$f":"C102","v":0},{"$f":"D105+D115","v":{"$error":"#DIV/0!"}},{"$f":"E105+E115","v":{"$error":"#DIV/0!"}},{"$error":"#DIV/0!"},{"$error":"#DIV/0!"},{"$error":"#DIV/0!"},{"$error":"#DIV/0!"},{"$error":"#DIV/0!"},{"$error":"#DIV/0!"},{"$error":"#DIV/0!"},{"$error":"#DIV/0!"},{"$error":"#DIV/0!"},{"$error":"#DIV/0!"},{"$error":"#DIV/0!"},{"$error":"#DIV/0!"},{"$error":"#DIV/0!"},{"$error":"#DIV/0!"},{"$error":"#DIV/0!"},{"$error":"#DIV/0!"},{"$error":"#DIV/0!"},{"$f":"W105+W115","v":{"$error":"#DIV/0!"}}]
[]
[{"$f":"title288","v":"Cumulative value of Net Profit"}]
[null,{"$f":"title209","v":"Operating Year"},{"$f":"title230","v":"Appraisal"},1,2,3,4,5,6,7,8,9,10,11,12,13,14,15,16,17,18,19,20]
[null,{"$f":"title289","v":"Cumulative value of net profit - before tax"},{"$f":"C105","v":0},{"$f":"C120+(D105)","v":{"$error":"#DIV/0!"}},{"$error":"#DIV/0!"},{"$error":"#DIV/0!"},{"$error":"#DIV/0!"},{"$error":"#DIV/0!"},{"$error":"#DIV/0!"},{"$error":"#DIV/0!"},{"$error":"#DIV/0!"},{"$error":"#DIV/0!"},{"$error":"#DIV/0!"},{"$error":"#DIV/0!"},{"$error":"#DIV/0!"},{"$error":"#DIV/0!"},{"$error":"#DIV/0!"},{"$error":"#DIV/0!"},{"$error":"#DIV/0!"},{"$error":"#DIV/0!"},{"$error":"#DIV/0!"},{"$error":"#DIV/0!"},{"$error":"#DIV/0!"}]
[null,{"$f":"title290","v":"Cumulative value of net profit - after tax"},{"$f":"C116","v":0},{"$f":"C121+(D116)","v":{"$error":"#DIV/0!"}},{"$error":"#DIV/0!"},{"$error":"#DIV/0!"},{"$error":"#DIV/0!"},{"$error":"#DIV/0!"},{"$error":"#DIV/0!"},{"$error":"#DIV/0!"},{"$error":"#DIV/0!"},{"$error":"#DIV/0!"},{"$error":"#DIV/0!"},{"$error":"#DIV/0!"},{"$error":"#DIV/0!"},{"$error":"#DIV/0!"},{"$error":"#DIV/0!"},{"$error":"#DIV/0!"},{"$error":"#DIV/0!"},{"$error":"#DIV/0!"},{"$error":"#DIV/0!"},{"$error":"#DIV/0!"},{"$error":"#DIV/0!"}]
[]
[{"$f":"title291","v":"Financial analysis results"}]
[]
[null,{"$f":"title292","v":"Net present value (NPV) (USD) - before tax"},{"$f":"NPV(C75,D105:W105)+C105","v":{"$error":"#DIV/0!"}}]
[null,{"$f":"title293","v":"Internal rate of return (IRR) (%) - before tax"},{"$f":"IF(C125<0,title459,IF(TIR_cell=title519,IRR(C105:W105,0.001),MIRR(C105:W105,C80,C75)))","v":{"$error":"#DIV/0!"}}]
[null,{"$f":"title294","v":"Payback period (years)"},{"$f":"title298","v":"Please see Figure of the cumulative value of net profit - before tax"}]
[]
[]
[null,{"$f":"title295","v":"Net present value (NPV) (USD) - after tax"},{"$f":"NPV(C75,D116:W116)+C116","v":{"$error":"#DIV/0!"}}]
[null,{"$f":"title296","v":"Internal rate of return (IRR) (%) - after tax"},{"$f":"IF(C130<0,title459,MIRR(C116:W116,$C$80,0%))","v":{"$error":"#DIV/0!"}}]
[null,{"$f":"title294","v":"Payback period (years)"},{"$f":"title299","v":"Please see Figure of the cumulative value of net profit - after tax"}]
[null,{"$f":"title297","v":"Total Income tax payment of project lifetime"},{"$f":"SUM(D115:W115)","v":{"$error":"#DIV/0!"}}]

{"sheet":"FA400_RURAL_RES2","index":32,"n_rows":134,"n_cols":23,"rows_kept":134,"cut":false,"hidden":true,"merged":[[1,1,1,13]]}
[]
[null,{"$f":"title301","v":"FINANCIAL ANALYSIS OF BIOMASS BRIQUETTING 400 KG/HOUR"}]
[]
[{"$f":"title208","v":"Revenues of biomass briquetting system"}]
[null,{"$f":"title209","v":"Operating Year"},0,1,2,3,4,5,6,7,8,9,10,11,12,13,14,15,16,17,18,19,20]
[]
[null,{"$f":"title210","v":"Briquette production capacity (tons per year)"},{"$f":"COST_RES2!J29","v":0},{"$f":"C7","v":0},{"$f":"D7","v":0},0,0,0,0,0,0,0,0,0,0,0,0,0,0,0,0,0,0]
[]
[null,{"$f":"title211","v":"Efficiency % of briquetting machine"},{"$f":"COST_RES2!G12","v":0},{"$f":"+C9","v":0},{"$f":"+D9","v":0},0,0,0,0,0,0,0,0,0,0,0,0,0,0,0,0,0,0]
[]
[null,{"$f":"title212","v":"Operating hours per year"},{"$f":"COST_RES2!K28","v":0},{"$f":"+C11","v":0},{"$f":"D11","v":0},0,0,0,0,0,0,0,0,0,0,0,0,0,0,0,0,0,0]
[null,{"$f":"title213","v":"Capacity utilization factor"},{"$f":"C11/8760","v":0},{"$f":"D11/8760","v":0},0,0,0,0,0,0,0,0,0,0,0,0,0,0,0,0,0,0,0]
[]
[null,{"$f":"title214","v":"Briquette production (tons per year)"},{"$f":"C7","v":0},{"$f":"D7","v":0},0,0,0,0,0,0,0,0,0,0,0,0,0,0,0,0,0,0,0]
[null,{"$f":"title215","v":"Total briquette sell to customers (tons per year)"},{"$f":"SUM(C14:C14)","v":0},{"$f":"SUM(D14:D14)","v":0},0,0,0,0,0,0,0,0,0,0,0,0,0,0,0,0,0,0,0]
[]
[null,{"$f":"title216","v":"Price of briquette (USD/kg)"},{"$f":"SUM(C18:C18)","v":0},{"$f":"SUM(D18:D18)","v":0},0,0,0,0,0,0,0,0,0,0,0,0,0,0,0,0,0,0,0]
[null,{"$f":"title217","v":"Market price of briquette pay by consumers (USD/kg)"},{"$f":"+'Energy Demand'!E20","v":0},{"$f":"C18*(1+D19)","v":0},0,0,0,0,0,0,0,0,0,0,0,0,0,0,0,0,0,0,0]
[null,{"$f":"title218","v":"Increasing rate of price of briquette (%)"},{"$f":"+'Data entry needs'!$AD$114","v":0},{"$f":"C19","v":0},{"$f":"D19","v":0},0,0,0,0,0,0,0,0,0,0,0,0,0,0,0,0,0,0]
[]
[null,{"$f":"title219","v":"Total income of briquette (USD per year)"},{"$f":"C15*C18*1000","v":0},{"$f":"D15*D18*1000","v":0},0,0,0,0,0,0,0,0,0,0,0,0,0,0,0,0,0,0,0]
[]
[null,{"$f":"title220","v":"Lifespan of civil work (years)"},{"$f":"COST_RES2!E61","v":10}]
[null,{"$f":"title221","v":"Lifespan of briquette system (years)"},{"$f":"COST_RES2!E60","v":10}]
[null,{"$f":"title222","v":"Project life time (years)"},20]
[]
[{"$f":"title223","v":"Capital and operating cost of biomass briquette system "}]
[]
[null,null,{"$f":"title230","v":"Appraisal"},{"$f":"title231","v":"Project lifetime"},{"$f":"title232","v":"Investment per year"}]
[null,{"$f":"title224","v":"Direct capital cost (USD)"}]
[null,{"$f":"title225","v":"Equipments"},{"$f":"D31*E31","v":0},{"$f":"$C$25","v":20},{"$f":"COST_RES2!J60/D31","v":0}]
[null,{"$f":"title226","v":"Building"},{"$f":"D32*E32","v":0},{"$f":"$C$25","v":20},{"$f":"COST_RES2!J61/D32","v":0}]
[null,{"$f":"title227","v":"Installation"},{"$f":"D33*E33","v":0},{"$f":"$C$25","v":20},{"$f":"COST_RES1!J62/D33","v":0}]
[null,{"$f":"title228","v":"Total capital cost (USD)"},{"$f":"SUM(C31:C33)","v":0},null,{"$f":"SUM(E31:E33)","v":0}]
[null,{"$f":"title229","v":"Capital cost (USD/kg of briquette)"},{"$f":"C34/(C14*1000*C25)","v":{"$error":"#DIV/0!"}}]
[]
[]
[null,{"$f":"title209","v":"Operating Year"},{"$f":"title230","v":"Appraisal"},1,2,3,4,5,6,7,8,9,10,11,12,13,14,15,16,17,18,19,20]
[null,{"$f":"title233","v":"Annual operating and maintenance cost "}]
[null,{"$f":"title234","v":"Sub-total material cost (USD)"},{"$f":"C41+C49+C51+C54","v":{"$error":"#DIV/0!"}},{"$f":"D41+D49+D51+D54","v":{"$error":"#DIV/0!"}},{"$error":"#DIV/0!"},{"$error":"#DIV/0!"},{"$error":"#DIV/0!"},{"$error":"#DIV/0!"},{"$error":"#DIV/0!"},{"$error":"#DIV/0!"},{"$error":"#DIV/0!"},{"$error":"#DIV/0!"},{"$error":"#DIV/0!"},{"$error":"#DIV/0!"},{"$error":"#DIV/0!"},{"$error":"#DIV/0!"},{"$error":"#DIV/0!"},{"$error":"#DIV/0!"},{"$error":"#DIV/0!"},{"$error":"#DIV/0!"},{"$error":"#DIV/0!"},{"$error":"#DIV/0!"},{"$error":"#DIV/0!"}]
[null,{"$f":"title235","v":"Biomass cost (USD/year)"},{"$f":"C42*C43","v":{"$error":"#DIV/0!"}},{"$f":"D42*D43","v":{"$error":"#DIV/0!"}},{"$error":"#DIV/0!"},{"$error":"#DIV/0!"},{"$error":"#DIV/0!"},{"$error":"#DIV/0!"},{"$error":"#DIV/0!"},{"$error":"#DIV/0!"},{"$error":"#DIV/0!"},{"$error":"#DIV/0!"},{"$error":"#DIV/0!"},{"$error":"#DIV/0!"},{"$error":"#DIV/0!"},{"$error":"#DIV/0!"},{"$error":"#DIV/0!"},{"$error":"#DIV/0!"},{"$error":"#DIV/0!"},{"$error":"#DIV/0!"},{"$error":"#DIV/0!"},{"$error":"#DIV/0!"},{"$error":"#DIV/0!"}]
[null,{"$f":"title236","v":"Biomass consumption (ton per year)"},{"$f":"C14/COST_RES2!$G$12","v":{"$error":"#DIV/0!"}},{"$f":"D14/COST_RES2!$G$12","v":{"$error":"#DIV/0!"}},{"$f":"E14/COST_RES2!$G$12","v":{"$error":"#DIV/0!"}},{"$f":"F14/COST_RES2!$G$12","v":{"$error":"#DIV/0!"}},{"$f":"G14/COST_RES2!$G$12","v":{"$error":"#DIV/0!"}},{"$f":"H14/COST_RES2!$G$12","v":{"$error":"#DIV/0!"}},{"$f":"I14/COST_RES2!$G$12","v":{"$error":"#DIV/0!"}},{"$f":"J14/COST_RES2!$G$12","v":{"$error":"#DIV/0!"}},{"$f":"K14/COST_RES2!$G$12","v":{"$error":"#DIV/0!"}},{"$f":"L14/COST_RES2!$G$12","v":{"$error":"#DIV/0!"}},{"$f":"M14/COST_RES2!$G$12","v":{"$error":"#DIV/0!"}},{"$f":"N14/COST_RES2!$G$12","v":{"$error":"#DIV/0!"}},{"$f":"O14/COST_RES2!$G$12","v":{"$error":"#DIV/0!"}},{"$f":"P14/COST_RES2!$G$12","v":{"$error":"#DIV/0!"}},{"$f":"Q14/COST_RES2!$G$12","v":{"$error":"#DIV/0!"}},{"$f":"R14/COST_RES2!$G$12","v":{"$error":"#DIV/0!"}},{"$f":"S14/COST_RES2!$G$12","v":{"$error":"#DIV/0!"}},{"$f":"T14/COST_RES2!$G$12","v":{"$error":"#DIV/0!"}},{"$f":"U14/COST_RES2!$G$12","v":{"$error":"#DIV/0!"}},{"$f":"V14/COST_RES2!$G$12","v":{"$error":"#DIV/0!"}},{"$f":"W14/COST_RES2!$G$12","v":{"$error":"#DIV/0!"}}]
[null,{"$f":"title237","v":"Biomass price (USD/ton)"},{"$f":"SUM(C44:C45)","v":0},{"$f":"SUM(D44:D45)","v":0},0,0,0,0,0,0,0,0,0,0,0,0,0,0,0,0,0,0,0]
[null,{"$f":"title238","v":"Biomass cost of collection (USD/ton)"},{"$f":"COST_RES2!E33","v":0},{"$f":"C44*(1+D74+D75)","v":0},{"$f":"D44*(1+E74+E75)","v":0},0,0,0,0,0,0,0,0,0,0,0,0,0,0,0,0,0,0]
[null,{"$f":"title239","v":"Biomass transportation cost (USD/ton)"},{"$f":"C46*C47","v":0},{"$f":"D46*D47","v":0},0,0,0,0,0,0,0,0,0,0,0,0,0,0,0,0,0,0,0]
[null,{"$f":"title240","v":"Biomass from farm to plant (USD/ton/km)"},{"$f":"COST_RES2!E48","v":0},{"$f":"C46*(1+D74+D75)","v":0},{"$f":"D46*(1+E74+E75)","v":0},0,0,0,0,0,0,0,0,0,0,0,0,0,0,0,0,0,0]
[null,{"$f":"title241","v":"Transportation distant (km)"},{"$f":"COST_RES2!J48","v":0},{"$f":"C47","v":0},{"$f":"D47","v":0},0,0,0,0,0,0,0,0,0,0,0,0,0,0,{"$f":"S47","v":0},{"$f":"T47","v":0},{"$f":"U47","v":0},{"$f":"V47","v":0}]
[]
[null,{"$f":"title246","v":"Water cost (USD/year)"},{"$f":"COST_RES2!K35","v":0},{"$f":"C49*(1+D74+D75)","v":0},{"$f":"D49*(1+E74+E75)","v":0},0,0,0,0,0,0,0,0,0,0,0,0,0,0,0,0,0,0]
[]
[null,{"$f":"title242","v":"Chemical cost (USD/year)"},{"$f":"C52*C53","v":0},{"$f":"D52*D53","v":0},0,0,0,0,0,0,0,0,0,0,0,0,0,0,0,0,0,0,0]
[null,{"$f":"title243","v":"Chemical consumption (tons per year)"},{"$f":"+COST_RES2!$J$34","v":0},{"$f":"+COST_RES2!$J$34","v":0},{"$f":"+COST_RES2!$J$34","v":0},{"$f":"+COST_RES2!$J$34","v":0},{"$f":"+COST_RES2!$J$34","v":0},{"$f":"+COST_RES2!$J$34","v":0},{"$f":"+COST_RES2!$J$34","v":0},{"$f":"+COST_RES2!$J$34","v":0},{"$f":"+COST_RES2!$J$34","v":0},{"$f":"+COST_RES2!$J$34","v":0},{"$f":"+COST_RES2!$J$34","v":0},{"$f":"+COST_RES2!$J$34","v":0},{"$f":"+COST_RES2!$J$34","v":0},{"$f":"+COST_RES2!$J$34","v":0},{"$f":"+COST_RES2!$J$34","v":0},{"$f":"+COST_RES2!$J$34","v":0},{"$f":"+COST_RES2!$J$34","v":0},{"$f":"+COST_RES2!$J$34","v":0},{"$f":"+COST_RES2!$J$34","v":0},{"$f":"+COST_RES2!$J$34","v":0},{"$f":"+COST_RES2!$J$34","v":0}]
[null,{"$f":"title244","v":"Chemical price (USD/ton)"},{"$f":"+'Data entry needs'!$E$20","v":0},{"$f":"C53","v":0},{"$f":"D53","v":0},0,0,0,0,0,0,0,0,0,0,0,0,0,0,0,0,0,0]
[null,{"$f":"title245","v":"Electricity cost (USD)"},{"$f":"COST_RES2!K36","v":0},{"$f":"C54*(1+D74+D75)","v":0},{"$f":"D54*(1+E74+E75)","v":0},0,0,0,0,0,0,0,0,0,0,0,0,0,0,0,0,0,0]
[]
[null,{"$f":"title247","v":"Sub-total operating cost (USD)"},{"$f":"C57+C59+C60","v":{"$error":"#DIV/0!"}},{"$f":"D57+D59+D60","v":{"$error":"#DIV/0!"}},{"$error":"#DIV/0!"},{"$error":"#DIV/0!"},{"$error":"#DIV/0!"},{"$error":"#DIV/0!"},{"$error":"#DIV/0!"},{"$error":"#DIV/0!"},{"$error":"#DIV/0!"},{"$error":"#DIV/0!"},{"$error":"#DIV/0!"},{"$error":"#DIV/0!"},{"$error":"#DIV/0!"},{"$error":"#DIV/0!"},{"$error":"#DIV/0!"},{"$error":"#DIV/0!"},{"$error":"#DIV/0!"},{"$error":"#DIV/0!"},{"$error":"#DIV/0!"},{"$error":"#DIV/0!"},{"$error":"#DIV/0!"}]
[null,{"$f":"title248","v":"Labour cost (USD)"},{"$f":"COST_RES2!K44","v":0},{"$f":"C57*(1+D58)","v":0},0,0,0,0,0,0,0,0,0,0,0,0,0,0,0,0,0,0,0]
[null,"Annual change in  labour cost (%)",null,{"$f":"COST_RES2!M12","v":0},{"$f":"D58","v":0},0,0,0,0,0,0,0,0,0,0,0,0,0,0,0,0,0,0]
[null,{"$f":"title249","v":"Annual change in labour cost (%)"},{"$f":"COST_RES2!K70","v":0},{"$f":"C59","v":0},0,0,0,0,0,0,0,0,0,0,0,0,0,0,0,0,0,0,0]
[null,{"$f":"title250","v":"General and administrative cost"},{"$f":"COST_RES2!K71","v":{"$error":"#DIV/0!"}},{"$f":"C60","v":{"$error":"#DIV/0!"}},{"$error":"#DIV/0!"},{"$error":"#DIV/0!"},{"$error":"#DIV/0!"},{"$error":"#DIV/0!"},{"$error":"#DIV/0!"},{"$error":"#DIV/0!"},{"$error":"#DIV/0!"},{"$error":"#DIV/0!"},{"$error":"#DIV/0!"},{"$error":"#DIV/0!"},{"$error":"#DIV/0!"},{"$error":"#DIV/0!"},{"$error":"#DIV/0!"},{"$error":"#DIV/0!"},{"$error":"#DIV/0!"},{"$error":"#DIV/0!"},{"$error":"#DIV/0!"},{"$error":"#DIV/0!"},{"$error":"#DIV/0!"}]
[null,{"$f":"title251","v":"Sub-total maintenance cost (USD)"},{"$f":"COST_RES2!$K$65","v":0},{"$f":"C61","v":0},0,0,0,0,0,0,0,0,0,0,0,0,0,0,0,0,0,0,0]
[]
[null,{"$f":"title252","v":"Sub-total of annual fixed costs"},{"$f":"+E34","v":0},{"$f":"C63","v":0},{"$f":"D63","v":0},0,0,0,0,0,0,0,0,0,0,0,0,0,0,0,0,0,0]
[]
[null,{"$f":"title253","v":"Sub-total of storage capacity"},{"$f":"COST_RES2!K56","v":{"$error":"#DIV/0!"}},{"$f":"C65","v":{"$error":"#DIV/0!"}},{"$f":"D65","v":{"$error":"#DIV/0!"}},{"$error":"#DIV/0!"},{"$error":"#DIV/0!"},{"$error":"#DIV/0!"},{"$error":"#DIV/0!"},{"$error":"#DIV/0!"},{"$error":"#DIV/0!"},{"$error":"#DIV/0!"},{"$error":"#DIV/0!"},{"$error":"#DIV/0!"},{"$error":"#DIV/0!"},{"$error":"#DIV/0!"},{"$error":"#DIV/0!"},{"$error":"#DIV/0!"},{"$error":"#DIV/0!"},{"$error":"#DIV/0!"},{"$error":"#DIV/0!"},{"$error":"#DIV/0!"},{"$error":"#DIV/0!"}]
[]
[null,{"$f":"title254","v":"Sub-total of briquette transportation to market"},{"$f":"COST_RES2!K49","v":0},{"$f":"C67*(1+D74+D75)","v":0},{"$f":"D67*(1+E74+E75)","v":0},0,0,0,0,0,0,0,0,0,0,0,0,0,0,0,0,0,0]
[]
[null,{"$f":"title255","v":"Total operation and maintenance cost (USD)"},{"$f":"C40+C56+C61+C63+C65+C67","v":{"$error":"#DIV/0!"}},{"$f":"D40+D56+D61+D63+D65+D67","v":{"$error":"#DIV/0!"}},{"$error":"#DIV/0!"},{"$error":"#DIV/0!"},{"$error":"#DIV/0!"},{"$error":"#DIV/0!"},{"$error":"#DIV/0!"},{"$error":"#DIV/0!"},{"$error":"#DIV/0!"},{"$error":"#DIV/0!"},{"$error":"#DIV/0!"},{"$error":"#DIV/0!"},{"$error":"#DIV/0!"},{"$error":"#DIV/0!"},{"$error":"#DIV/0!"},{"$error":"#DIV/0!"},{"$error":"#DIV/0!"},{"$error":"#DIV/0!"},{"$error":"#DIV/0!"},{"$error":"#DIV/0!"},{"$error":"#DIV/0!"}]
[null,{"$f":"title256","v":"Operation and maintenance cost (USD/kg of briquette) without loan interest"},{"$f":"C69/(C14*1000)","v":{"$error":"#DIV/0!"}},{"$error":"#DIV/0!"},{"$error":"#DIV/0!"},{"$error":"#DIV/0!"},{"$error":"#DIV/0!"},{"$error":"#DIV/0!"},{"$error":"#DIV/0!"},{"$error":"#DIV/0!"},{"$error":"#DIV/0!"},{"$error":"#DIV/0!"},{"$error":"#DIV/0!"},{"$error":"#DIV/0!"},{"$error":"#DIV/0!"},{"$error":"#DIV/0!"},{"$error":"#DIV/0!"},{"$error":"#DIV/0!"},{"$error":"#DIV/0!"},{"$error":"#DIV/0!"},{"$error":"#DIV/0!"},{"$error":"#DIV/0!"},{"$error":"#DIV/0!"}]
[]
[{"$f":"title164","v":"Financial parameters"}]
[null,{"$f":"title209","v":"Operating Year"},{"$f":"title230","v":"Appraisal"},1,2,3,4,5,6,7,8,9,10,11,12,13,14,15,16,17,18,19,20]
[null,{"$f":"title257","v":"Annual change in raw material cost (%)"},null,0,{"$f":"D74","v":0},{"$f":"E74","v":0},0,0,0,0,0,0,0,0,0,0,0,0,0,0,0,{"$f":"U74","v":0},{"$f":"V74","v":0}]
[null,{"$f":"title258","v":"Inflation rate (%)"},null,{"$f":"COST_RES2!J12","v":0},{"$f":"D75","v":0},0,0,0,0,0,0,0,0,0,0,0,0,0,0,0,0,{"$f":"U75","v":0},{"$f":"V75","v":0}]
[null,{"$f":"title165&\" (%)\"","v":"Discount rate (%)"},{"$f":"COST_RES2!J9","v":0}]
[null,{"$f":"title166&\" (%)\"","v":"Loan ratio (%)"},{"$f":"COST_RES2!J10","v":0}]
[]
[null,{"$f":"title259","v":"Loan without policy"},{"$f":"title230","v":"Appraisal"},1,2,3,4,5,6,7,8,9,10,11,12,13,14,15,16,17,18,19,20]
[null,{"$f":"title260","v":"Loan amount (USD)"},{"$f":"C77*(C34)","v":0}]
[null,{"$f":"title167&\" (%)\"","v":"Loan interest rate (%)"},{"$f":"COST_RES2!J11","v":0}]
[null,{"$f":"title261","v":"Loan term (years)"},{"$f":"COST_RES2!M9","v":0}]
[null,{"$f":"title262","v":"Loan payment (USD/month)"},{"$f":"(PMT($C$81/12,(12*$C$82),$C$80))","v":{"$error":"#NUM!"}}]
[null,{"$f":"title263","v":"Loan payment (USD/year)"},null,{"$f":"IF(D73<=$C$82,$C$83*12,0)","v":0},{"$f":"IF(E73<$C$82,$C$83*12,IF(E73=$C$82,$C$83*12,0))","v":0},{"$f":"IF(F73<$C$82,$C$83*12,IF(F73=$C$82,$C$83*12,0))","v":0},0,0,0,0,0,0,0,0,0,0,0,0,0,0,0,0,0]
[null,{"$f":"title264","v":"Total loan payment (USD)"},{"$f":"SUM(D84:W84)","v":0}]
[null,{"$f":"title265","v":"Loan interest payment (USD)"},{"$f":"C85+C80","v":0},{"$f":"title266","v":"Average loan interest payment for project lifetime"},null,null,{"$f":"C86/C25","v":0},{"$f":"title267","v":"USD per year"}]
[]
[{"$f":"title268","v":"Income tax analysis"}]
[null,{"$f":"title209","v":"Operating Year"},{"$f":"title230","v":"Appraisal"},1,2,3,4,5,6,7,8,9,10,11,12,13,14,15,16,17,18,19,20]
[null,{"$f":"title269","v":"Effective income tax rate (%)"},{"$f":"+'Data entry needs'!$AD$115","v":0},{"$f":"C90","v":0},{"$f":"D90","v":0},0,0,0,0,0,0,0,0,0,0,0,0,0,0,0,0,0,0]
[null,{"$f":"title270","v":"Income tax (USD)"},null,{"$f":"IF(D115<0,0,D90*D115)","v":{"$error":"#DIV/0!"}},{"$error":"#DIV/0!"},{"$error":"#DIV/0!"},{"$error":"#DIV/0!"},{"$error":"#DIV/0!"},{"$error":"#DIV/0!"},{"$error":"#DIV/0!"},{"$error":"#DIV/0!"},{"$error":"#DIV/0!"},{"$error":"#DIV/0!"},{"$error":"#DIV/0!"},{"$error":"#DIV/0!"},{"$error":"#DIV/0!"},{"$error":"#DIV/0!"},{"$error":"#DIV/0!"},{"$error":"#DIV/0!"},{"$error":"#DIV/0!"},{"$error":"#DIV/0!"},{"$error":"#DIV/0!"},{"$error":"#DIV/0!"}]
[null,{"$f":"title271","v":"Total income tax payment (USD)"},{"$f":"SUM(D91:W91)","v":{"$error":"#DIV/0!"}},{"$f":"title458","v":"Average income tax payment "},null,{"$f":"C92/C25","v":{"$error":"#DIV/0!"}},{"$f":"title267","v":"USD per year"}]
[]
[{"$f":"title272","v":"Depreciation"}]
[null,{"$f":"title209","v":"Operating Year"},{"$f":"title230","v":"Appraisal"},1,2,3,4,5,6,7,8,9,10,11,12,13,14,15,16,17,18,19,20]
[null,{"$f":"title273","v":"Depreciation method"},{"$f":"title275","v":"Straight-line"}]
[null,{"$f":"title274","v":"Total depreciation (USD)"},null,{"$f":"COST_RES2!K64","v":0},{"$f":"D97","v":0},{"$f":"E97","v":0},0,0,0,0,0,0,0,0,0,0,0,0,0,0,0,0,0]
[]
[{"$f":"title276","v":"Base case project summary"}]
[{"$f":"title277","v":"Summary of this project - Before Tax"}]
[null,{"$f":"title209","v":"Operating Year"},{"$f":"title230","v":"Appraisal"},1,2,3,4,5,6,7,8,9,10,11,12,13,14,15,16,17,18,19,20]
[null,{"$f":"title278","v":"Total revenue (USD)"},null,{"$f":"D15*1000*D18","v":0},{"$f":"E15*1000*E18","v":0},0,0,0,0,0,0,0,0,0,0,0,0,0,0,0,0,0,0]
[null,{"$f":"title228","v":"Total capital cost (USD)"},{"$f":"-(C34-C80)","v":0}]
[null,{"$f":"title279","v":"Total operating and maintenance cost (USD)"},null,{"$f":"-D69+D63","v":{"$error":"#DIV/0!"}},{"$error":"#DIV/0!"},{"$error":"#DIV/0!"},{"$error":"#DIV/0!"},{"$error":"#DIV/0!"},{"$error":"#DIV/0!"},{"$error":"#DIV/0!"},{"$error":"#DIV/0!"},{"$error":"#DIV/0!"},{"$error":"#DIV/0!"},{"$error":"#DIV/0!"},{"$error":"#DIV/0!"},{"$error":"#DIV/0!"},{"$error":"#DIV/0!"},{"$error":"#DIV/0!"},{"$error":"#DIV/0!"},{"$error":"#DIV/0!"},{"$error":"#DIV/0!"},{"$error":"#DIV/0!"},{"$error":"#DIV/0!"}]
[null,{"$f":"title280","v":"Loan payment (USD)"},null,{"$f":"D84","v":0},{"$f":"E84","v":0},0,0,0,0,0,0,0,0,0,0,0,0,0,0,0,0,0,0]
[null,{"$f":"title281","v":"Cash flow - before tax (USD)"},{"$f":"SUM(C102:C105)","v":0},{"$error":"#DIV/0!"},{"$error":"#DIV/0!"},{"$error":"#DIV/0!"},{"$error":"#DIV/0!"},{"$error":"#DIV/0!"},{"$error":"#DIV/0!"},{"$error":"#DIV/0!"},{"$error":"#DIV/0!"},{"$error":"#DIV/0!"},{"$error":"#DIV/0!"},{"$error":"#DIV/0!"},{"$error":"#DIV/0!"},{"$error":"#DIV/0!"},{"$error":"#DIV/0!"},{"$error":"#DIV/0!"},{"$error":"#DIV/0!"},{"$error":"#DIV/0!"},{"$error":"#DIV/0!"},{"$error":"#DIV/0!"},{"$error":"#DIV/0!"}]
[null,{"$f":"title282","v":"Average revenue (USD)"}]
[]
[{"$f":"title283","v":"Summary of this project - After Tax"}]
[null,{"$f":"title209","v":"Operating Year"},{"$f":"title230","v":"Appraisal"},1,2,3,4,5,6,7,8,9,10,11,12,13,14,15,16,17,18,19,20]
[null,{"$f":"B102","v":"Total revenue (USD)"},{"$f":"C102","v":0},{"$f":"D102","v":0},0,0,0,0,0,0,0,0,0,0,0,0,0,0,0,0,0,0,0]
[null,{"$f":"title279","v":"Total operating and maintenance cost (USD)"},null,{"$f":"-D69+D63","v":{"$error":"#DIV/0!"}},{"$error":"#DIV/0!"},{"$error":"#DIV/0!"},{"$error":"#DIV/0!"},{"$error":"#DIV/0!"},{"$error":"#DIV/0!"},{"$error":"#DIV/0!"},{"$error":"#DIV/0!"},{"$error":"#DIV/0!"},{"$error":"#DIV/0!"},{"$error":"#DIV/0!"},{"$error":"#DIV/0!"},{"$error":"#DIV/0!"},{"$error":"#DIV/0!"},{"$error":"#DIV/0!"},{"$error":"#DIV/0!"},{"$error":"#DIV/0!"},{"$error":"#DIV/0!"},{"$error":"#DIV/0!"},{"$error":"#DIV/0!"}]
[null,{"$f":"title280","v":"Loan payment (USD)"},null,{"$f":"$G$86","v":0},{"$f":"$G$86","v":0},0,0,0,0,0,0,0,0,0,0,0,0,0,0,0,0,0,0]
[null,{"$f":"title284","v":"Depreciation of fixed costs (USD)"},null,{"$f":"-D63","v":0},{"$f":"-E63","v":0},0,0,0,0,0,0,0,0,0,0,0,0,0,0,0,0,0,0]
[null,{"$f":"title285","v":"Net profit - before tax (USD) for income tax calculation"},{"$f":"SUM(C111:C114)","v":0},{"$f":"SUM(D111:D114)","v":{"$error":"#DIV/0!"}},{"$f":"SUM(E111:E114)","v":{"$error":"#DIV/0!"}},{"$error":"#DIV/0!"},{"$error":"#DIV/0!"},{"$error":"#DIV/0!"},{"$error":"#DIV/0!"},{"$error":"#DIV/0!"},{"$error":"#DIV/0!"},{"$error":"#DIV/0!"},{"$error":"#DIV/0!"},{"$error":"#DIV/0!"},{"$error":"#DIV/0!"},{"$error":"#DIV/0!"},{"$error":"#DIV/0!"},{"$error":"#DIV/0!"},{"$error":"#DIV/0!"},{"$error":"#DIV/0!"},{"$error":"#DIV/0!"},{"$error":"#DIV/0!"},{"$error":"#DIV/0!"}]
[null,{"$f":"title286","v":"Income tax"},null,{"$f":"IF(D115>0,-D91,0)","v":{"$error":"#DIV/0!"}},{"$error":"#DIV/0!"},{"$error":"#DIV/0!"},{"$error":"#DIV/0!"},{"$error":"#DIV/0!"},{"$error":"#DIV/0!"},{"$error":"#DIV/0!"},{"$error":"#DIV/0!"},{"$error":"#DIV/0!"},{"$error":"#DIV/0!"},{"$error":"#DIV/0!"},{"$error":"#DIV/0!"},{"$error":"#DIV/0!"},{"$error":"#DIV/0!"},{"$error":"#DIV/0!"},{"$error":"#DIV/0!"},{"$error":"#DIV/0!"},{"$error":"#DIV/0!"},{"$error":"#DIV/0!"},{"$error":"#DIV/0!"}]
[null,{"$f":"title287","v":"Cash flow - after tax (USD)"},{"$f":"C103","v":0},{"$f":"D106+D116","v":{"$error":"#DIV/0!"}},{"$f":"E106+E116","v":{"$error":"#DIV/0!"}},{"$error":"#DIV/0!"},{"$error":"#DIV/0!"},{"$error":"#DIV/0!"},{"$error":"#DIV/0!"},{"$error":"#DIV/0!"},{"$error":"#DIV/0!"},{"$error":"#DIV/0!"},{"$error":"#DIV/0!"},{"$error":"#DIV/0!"},{"$error":"#DIV/0!"},{"$error":"#DIV/0!"},{"$error":"#DIV/0!"},{"$error":"#DIV/0!"},{"$error":"#DIV/0!"},{"$error":"#DIV/0!"},{"$error":"#DIV/0!"},{"$error":"#DIV/0!"},{"$f":"W106+W116","v":{"$error":"#DIV/0!"}}]
[]
[{"$f":"title288","v":"Cumulative value of Net Profit"}]
[null,{"$f":"title209","v":"Operating Year"},{"$f":"title230","v":"Appraisal"},1,2,3,4,5,6,7,8,9,10,11,12,13,14,15,16,17,18,19,20]
[null,{"$f":"title289","v":"Cumulative value of net profit - before tax"},{"$f":"C106","v":0},{"$f":"C121+(D106)","v":{"$error":"#DIV/0!"}},{"$error":"#DIV/0!"},{"$error":"#DIV/0!"},{"$error":"#DIV/0!"},{"$error":"#DIV/0!"},{"$error":"#DIV/0!"},{"$error":"#DIV/0!"},{"$error":"#DIV/0!"},{"$error":"#DIV/0!"},{"$error":"#DIV/0!"},{"$error":"#DIV/0!"},{"$error":"#DIV/0!"},{"$error":"#DIV/0!"},{"$error":"#DIV/0!"},{"$error":"#DIV/0!"},{"$error":"#DIV/0!"},{"$error":"#DIV/0!"},{"$error":"#DIV/0!"},{"$error":"#DIV/0!"},{"$error":"#DIV/0!"}]
[null,{"$f":"title290","v":"Cumulative value of net profit - after tax"},{"$f":"C117","v":0},{"$f":"C122+(D117)","v":{"$error":"#DIV/0!"}},{"$error":"#DIV/0!"},{"$error":"#DIV/0!"},{"$error":"#DIV/0!"},{"$error":"#DIV/0!"},{"$error":"#DIV/0!"},{"$error":"#DIV/0!"},{"$error":"#DIV/0!"},{"$error":"#DIV/0!"},{"$error":"#DIV/0!"},{"$error":"#DIV/0!"},{"$error":"#DIV/0!"},{"$error":"#DIV/0!"},{"$error":"#DIV/0!"},{"$error":"#DIV/0!"},{"$error":"#DIV/0!"},{"$error":"#DIV/0!"},{"$error":"#DIV/0!"},{"$error":"#DIV/0!"},{"$error":"#DIV/0!"}]
[]
[{"$f":"title291","v":"Financial analysis results"}]
[]
[null,{"$f":"title292","v":"Net present value (NPV) (USD) - before tax"},{"$f":"NPV(C76,D106:W106)+C106","v":{"$error":"#DIV/0!"}}]
[null,{"$f":"title293","v":"Internal rate of return (IRR) (%) - before tax"},{"$f":"IF(C126<0,title459,IF(TIR_cell=title519,IRR(C106:W106,0.001),MIRR(C106:W106,C81,C76)))","v":{"$error":"#DIV/0!"}}]
[null,{"$f":"title294","v":"Payback period (years)"},{"$f":"title298","v":"Please see Figure of the cumulative value of net profit - before tax"}]
[]
[]
[null,{"$f":"title295","v":"Net present value (NPV) (USD) - after tax"},{"$f":"NPV(C76,D117:W117)+C117","v":{"$error":"#DIV/0!"}}]
[null,{"$f":"title296","v":"Internal rate of return (IRR) (%) - after tax"},{"$f":"IF(C131<0,title459,MIRR(C117:W117,C81,0%))","v":{"$error":"#DIV/0!"}}]
[null,{"$f":"title294","v":"Payback period (years)"},{"$f":"title299","v":"Please see Figure of the cumulative value of net profit - after tax"}]
[null,{"$f":"title297","v":"Total Income tax payment of project lifetime"},{"$f":"SUM(D116:W116)","v":{"$error":"#DIV/0!"}}]

{"sheet":"FA4000_RURAL_RES2","index":33,"n_rows":134,"n_cols":23,"rows_kept":134,"cut":false,"hidden":true,"merged":[[1,1,1,13]]}
[]
[null,{"$f":"title302","v":"FINANCIAL ANALYSIS OF BIOMASS BRIQUETTING 4000 KG/HOUR"}]
[]
[{"$f":"title208","v":"Revenues of biomass briquetting system"}]
[null,{"$f":"title209","v":"Operating Year"},0,1,2,3,4,5,6,7,8,9,10,11,12,13,14,15,16,17,18,19,20]
[]
[null,{"$f":"title210","v":"Briquette production capacity (tons per year)"},{"$f":"COST_RES2!L29","v":0},{"$f":"C7","v":0},{"$f":"D7","v":0},0,0,0,0,0,0,0,0,0,0,0,0,0,0,0,0,0,0]
[null,null,null,null,null,null,null,null," "]
[null,{"$f":"title211","v":"Efficiency % of briquetting machine"},{"$f":"COST_RES2!G12","v":0},{"$f":"+C9","v":0},{"$f":"+D9","v":0},0,0,0,0,0,0,0,0,0,0,0,0,0,0,0,0,0,0]
[]
[null,{"$f":"title212","v":"Operating hours per year"},{"$f":"COST_RES2!M28","v":0},{"$f":"+C11","v":0},{"$f":"D11","v":0},0,0,0,0,0,0,0,0,0,0,0,0,0,0,0,0,0,0]
[null,{"$f":"title213","v":"Capacity utilization factor"},{"$f":"C11/8760","v":0},{"$f":"D11/8760","v":0},0,0,0,0,0,0,0,0,0,0,0,0,0,0,0,0,0,0,0]
[]
[null,{"$f":"title214","v":"Briquette production (tons per year)"},{"$f":"C7","v":0},{"$f":"D7","v":0},0,0,0,0,0,0,0,0,0,0,0,0,0,0,0,0,0,0,0]
[null,{"$f":"title215","v":"Total briquette sell to customers (tons per year)"},{"$f":"SUM(C14:C14)","v":0},{"$f":"SUM(D14:D14)","v":0},0,0,0,0,0,0,0,0,0,0,0,0,0,0,0,0,0,0,0]
[]
[null,{"$f":"title216","v":"Price of briquette (USD/kg)"},{"$f":"SUM(C18:C18)","v":0},{"$f":"SUM(D18:D18)","v":0},0,0,0,0,0,0,0,0,0,0,0,0,0,0,0,0,0,0,0]
[null,{"$f":"title217","v":"Market price of briquette pay by consumers (USD/kg)"},{"$f":"+'Energy Demand'!E20","v":0},{"$f":"C18*(1+D19)","v":0},0,0,0,0,0,0,0,0,0,0,0,0,0,0,0,0,0,0,0]
[null,{"$f":"title218","v":"Increasing rate of price of briquette (%)"},{"$f":"+'Data entry needs'!$AD$114","v":0},{"$f":"C19","v":0},{"$f":"D19","v":0},0,0,0,0,0,0,0,0,0,0,0,0,0,0,0,0,0,0]
[]
[null,{"$f":"title219","v":"Total income of briquette (USD per year)"},{"$f":"C15*C18*1000","v":0},{"$f":"D15*D18*1000","v":0},0,0,0,0,0,0,0,0,0,0,0,0,0,0,0,0,0,0,0]
[]
[null,{"$f":"title220","v":"Lifespan of civil work (years)"},{"$f":"COST_RES2!E61","v":10}]
[null,{"$f":"title221","v":"Lifespan of briquette system (years)"},{"$f":"COST_RES2!E60","v":10}]
[null,{"$f":"title222","v":"Project life time (years)"},20]
[]
[{"$f":"title223","v":"Capital and operating cost of biomass briquette system "}]
[]
[null,null,{"$f":"title230","v":"Appraisal"},{"$f":"title231","v":"Project lifetime"},{"$f":"title232","v":"Investment per year"}]
[null,{"$f":"title224","v":"Direct capital cost (USD)"}]
[null,{"$f":"title225","v":"Equipments"},{"$f":"D31*E31","v":0},{"$f":"$C$25","v":20},{"$f":"COST_RES2!L60/D31","v":0}]
[null,{"$f":"title226","v":"Building"},{"$f":"D32*E32","v":0},{"$f":"$C$25","v":20},{"$f":"COST_RES2!L61/D32","v":0}]
[null,{"$f":"title227","v":"Installation"},{"$f":"D33*E33","v":0},{"$f":"$C$25","v":20},{"$f":"COST_RES1!L62/D33","v":0}]
[null,{"$f":"title228","v":"Total capital cost (USD)"},{"$f":"SUM(C31:C33)","v":0},null,{"$f":"SUM(E31:E33)","v":0}]
[null,{"$f":"title229","v":"Capital cost (USD/kg of briquette)"},{"$f":"C34/(C14*1000*C25)","v":{"$error":"#DIV/0!"}}]
[]
[]
[null,{"$f":"title209","v":"Operating Year"},{"$f":"title230","v":"Appraisal"},1,2,3,4,5,6,7,8,9,10,11,12,13,14,15,16,17,18,19,20]
[null,{"$f":"title233","v":"Annual operating and maintenance cost "}]
[null,{"$f":"title234","v":"Sub-total material cost (USD)"},{"$f":"C41+C49+C51+C54","v":{"$error":"#DIV/0!"}},{"$f":"D41+D49+D51+D54","v":{"$error":"#DIV/0!"}},{"$error":"#DIV/0!"},{"$error":"#DIV/0!"},{"$error":"#DIV/0!"},{"$error":"#DIV/0!"},{"$error":"#DIV/0!"},{"$error":"#DIV/0!"},{"$error":"#DIV/0!"},{"$error":"#DIV/0!"},{"$error":"#DIV/0!"},{"$error":"#DIV/0!"},{"$error":"#DIV/0!"},{"$error":"#DIV/0!"},{"$error":"#DIV/0!"},{"$error":"#DIV/0!"},{"$error":"#DIV/0!"},{"$error":"#DIV/0!"},{"$error":"#DIV/0!"},{"$error":"#DIV/0!"},{"$error":"#DIV/0!"}]
[null,{"$f":"title235","v":"Biomass cost (USD/year)"},{"$f":"C42*C43","v":{"$error":"#DIV/0!"}},{"$f":"D42*D43","v":{"$error":"#DIV/0!"}},{"$error":"#DIV/0!"},{"$error":"#DIV/0!"},{"$error":"#DIV/0!"},{"$error":"#DIV/0!"},{"$error":"#DIV/0!"},{"$error":"#DIV/0!"},{"$error":"#DIV/0!"},{"$error":"#DIV/0!"},{"$error":"#DIV/0!"},{"$error":"#DIV/0!"},{"$error":"#DIV/0!"},{"$error":"#DIV/0!"},{"$error":"#DIV/0!"},{"$error":"#DIV/0!"},{"$error":"#DIV/0!"},{"$error":"#DIV/0!"},{"$error":"#DIV/0!"},{"$error":"#DIV/0!"},{"$error":"#DIV/0!"}]
[null,{"$f":"title236","v":"Biomass consumption (ton per year)"},{"$f":"C14/COST_RES2!$G$12","v":{"$error":"#DIV/0!"}},{"$f":"D14/COST_RES2!$G$12","v":{"$error":"#DIV/0!"}},{"$f":"E14/COST_RES2!$G$12","v":{"$error":"#DIV/0!"}},{"$f":"F14/COST_RES2!$G$12","v":{"$error":"#DIV/0!"}},{"$f":"G14/COST_RES2!$G$12","v":{"$error":"#DIV/0!"}},{"$f":"H14/COST_RES2!$G$12","v":{"$error":"#DIV/0!"}},{"$f":"I14/COST_RES2!$G$12","v":{"$error":"#DIV/0!"}},{"$f":"J14/COST_RES2!$G$12","v":{"$error":"#DIV/0!"}},{"$f":"K14/COST_RES2!$G$12","v":{"$error":"#DIV/0!"}},{"$f":"L14/COST_RES2!$G$12","v":{"$error":"#DIV/0!"}},{"$f":"M14/COST_RES2!$G$12","v":{"$error":"#DIV/0!"}},{"$f":"N14/COST_RES2!$G$12","v":{"$error":"#DIV/0!"}},{"$f":"O14/COST_RES2!$G$12","v":{"$error":"#DIV/0!"}},{"$f":"P14/COST_RES2!$G$12","v":{"$error":"#DIV/0!"}},{"$f":"Q14/COST_RES2!$G$12","v":{"$error":"#DIV/0!"}},{"$f":"R14/COST_RES2!$G$12","v":{"$error":"#DIV/0!"}},{"$f":"S14/COST_RES2!$G$12","v":{"$error":"#DIV/0!"}},{"$f":"T14/COST_RES2!$G$12","v":{"$error":"#DIV/0!"}},{"$f":"U14/COST_RES2!$G$12","v":{"$error":"#DIV/0!"}},{"$f":"V14/COST_RES2!$G$12","v":{"$error":"#DIV/0!"}},{"$f":"W14/COST_RES2!$G$12","v":{"$error":"#DIV/0!"}}]
[null,{"$f":"title237","v":"Biomass price (USD/ton)"},{"$f":"SUM(C44:C45)","v":0},{"$f":"SUM(D44:D45)","v":0},0,0,0,0,0,0,0,0,0,0,0,0,0,0,0,0,0,0,0]
[null,{"$f":"title238","v":"Biomass cost of collection (USD/ton)"},{"$f":"COST_RES2!E33","v":0},{"$f":"C44*(1+D74+D75)","v":0},{"$f":"D44*(1+E74+E75)","v":0},0,0,0,0,0,0,0,0,0,0,0,0,0,0,0,0,0,0]
[null,{"$f":"title239","v":"Biomass transportation cost (USD/ton)"},{"$f":"C46*C47","v":0},{"$f":"D46*D47","v":0},0,0,0,0,0,0,0,0,0,0,0,0,0,0,0,0,0,0,0]
[null,{"$f":"title240","v":"Biomass from farm to plant (USD/ton/km)"},{"$f":"COST_RES2!E48","v":0},{"$f":"C46*(1+D74+D75)","v":0},{"$f":"D46*(1+E74+E75)","v":0},0,0,0,0,0,0,0,0,0,0,0,0,0,0,0,0,0,0]
[null,{"$f":"title241","v":"Transportation distant (km)"},{"$f":"COST_RES2!L48","v":0},{"$f":"C47","v":0},{"$f":"D47","v":0},0,0,0,0,0,0,0,0,0,0,0,0,0,0,{"$f":"S47","v":0},{"$f":"T47","v":0},{"$f":"U47","v":0},{"$f":"V47","v":0}]
[]
[null,{"$f":"title246","v":"Water cost (USD/year)"},{"$f":"COST_RES2!M35","v":0},{"$f":"C49*(1+D74+D75)","v":0},{"$f":"D49*(1+E74+E75)","v":0},0,0,0,0,0,0,0,0,0,0,0,0,0,0,0,0,0,0]
[]
[null,{"$f":"title242","v":"Chemical cost (USD/year)"},{"$f":"C52*C53","v":0},{"$f":"D52*D53","v":0},0,0,0,0,0,0,0,0,0,0,0,0,0,0,0,0,0,0,0]
[null,{"$f":"title243","v":"Chemical consumption (tons per year)"},{"$f":"+COST_RES2!$L$34","v":0},{"$f":"+COST_RES2!$L$34","v":0},{"$f":"+COST_RES2!$L$34","v":0},{"$f":"+COST_RES2!$L$34","v":0},{"$f":"+COST_RES2!$L$34","v":0},{"$f":"+COST_RES2!$L$34","v":0},{"$f":"+COST_RES2!$L$34","v":0},{"$f":"+COST_RES2!$L$34","v":0},{"$f":"+COST_RES2!$L$34","v":0},{"$f":"+COST_RES2!$L$34","v":0},{"$f":"+COST_RES2!$L$34","v":0},{"$f":"+COST_RES2!$L$34","v":0},{"$f":"+COST_RES2!$L$34","v":0},{"$f":"+COST_RES2!$L$34","v":0},{"$f":"+COST_RES2!$L$34","v":0},{"$f":"+COST_RES2!$L$34","v":0},{"$f":"+COST_RES2!$L$34","v":0},{"$f":"+COST_RES2!$L$34","v":0},{"$f":"+COST_RES2!$L$34","v":0},{"$f":"+COST_RES2!$L$34","v":0},{"$f":"+COST_RES2!$L$34","v":0}]
[null,{"$f":"title244","v":"Chemical price (USD/ton)"},{"$f":"+'Data entry needs'!$E$20","v":0},{"$f":"+C53","v":0},{"$f":"+D53","v":0},0,0,0,0,0,0,0,0,0,0,0,0,0,0,0,0,0,0]
[null,{"$f":"title245","v":"Electricity cost (USD)"},{"$f":"COST_RES2!M36","v":0},{"$f":"C54*(1+D74+D75)","v":0},{"$f":"D54*(1+E74+E75)","v":0},0,0,0,0,0,0,0,0,0,0,0,0,0,0,0,0,0,0]
[]
[null,{"$f":"title247","v":"Sub-total operating cost (USD)"},{"$f":"C57+C59+C60","v":{"$error":"#DIV/0!"}},{"$f":"D57+D59+D60","v":{"$error":"#DIV/0!"}},{"$error":"#DIV/0!"},{"$error":"#DIV/0!"},{"$error":"#DIV/0!"},{"$error":"#DIV/0!"},{"$error":"#DIV/0!"},{"$error":"#DIV/0!"},{"$error":"#DIV/0!"},{"$error":"#DIV/0!"},{"$error":"#DIV/0!"},{"$error":"#DIV/0!"},{"$error":"#DIV/0!"},{"$error":"#DIV/0!"},{"$error":"#DIV/0!"},{"$error":"#DIV/0!"},{"$error":"#DIV/0!"},{"$error":"#DIV/0!"},{"$error":"#DIV/0!"},{"$error":"#DIV/0!"},{"$error":"#DIV/0!"}]
[null,{"$f":"title248","v":"Labour cost (USD)"},{"$f":"COST_RES2!M44","v":0},{"$f":"C57*(1+D58)","v":0},0,0,0,0,0,0,0,0,0,0,0,0,0,0,0,0,0,0,0]
[null,"Annual change in  labour cost (%)",null,{"$f":"COST_RES2!M12","v":0},{"$f":"D58","v":0},0,0,0,0,0,0,0,0,0,0,0,0,0,0,0,0,0,0]
[null,{"$f":"title249","v":"Annual change in labour cost (%)"},{"$f":"COST_RES2!M70","v":0},{"$f":"C59","v":0},{"$f":"D59","v":0},0,0,0,0,0,0,0,0,0,0,0,0,0,0,0,{"$f":"T59","v":0},0,0]
[null,{"$f":"title250","v":"General and administrative cost"},{"$f":"COST_RES2!M71","v":{"$error":"#DIV/0!"}},{"$f":"C60","v":{"$error":"#DIV/0!"}},{"$error":"#DIV/0!"},{"$error":"#DIV/0!"},{"$error":"#DIV/0!"},{"$error":"#DIV/0!"},{"$error":"#DIV/0!"},{"$error":"#DIV/0!"},{"$error":"#DIV/0!"},{"$error":"#DIV/0!"},{"$error":"#DIV/0!"},{"$error":"#DIV/0!"},{"$error":"#DIV/0!"},{"$error":"#DIV/0!"},{"$error":"#DIV/0!"},{"$error":"#DIV/0!"},{"$error":"#DIV/0!"},{"$error":"#DIV/0!"},{"$error":"#DIV/0!"},{"$error":"#DIV/0!"},{"$error":"#DIV/0!"}]
[null,{"$f":"title251","v":"Sub-total maintenance cost (USD)"},{"$f":"COST_RES2!$M$65","v":0},{"$f":"C61","v":0},0,0,0,0,0,0,0,0,0,0,0,0,0,0,0,0,0,0,0]
[]
[null,{"$f":"title252","v":"Sub-total of annual fixed costs"},{"$f":"E34","v":0},{"$f":"C63","v":0},{"$f":"D63","v":0},0,0,0,0,0,0,0,0,0,0,0,0,0,0,0,0,0,0]
[]
[null,{"$f":"title253","v":"Sub-total of storage capacity"},{"$f":"COST_RES2!M56","v":{"$error":"#DIV/0!"}},{"$f":"C65","v":{"$error":"#DIV/0!"}},{"$f":"D65","v":{"$error":"#DIV/0!"}},{"$error":"#DIV/0!"},{"$error":"#DIV/0!"},{"$error":"#DIV/0!"},{"$error":"#DIV/0!"},{"$error":"#DIV/0!"},{"$error":"#DIV/0!"},{"$error":"#DIV/0!"},{"$error":"#DIV/0!"},{"$error":"#DIV/0!"},{"$error":"#DIV/0!"},{"$error":"#DIV/0!"},{"$error":"#DIV/0!"},{"$error":"#DIV/0!"},{"$error":"#DIV/0!"},{"$error":"#DIV/0!"},{"$error":"#DIV/0!"},{"$error":"#DIV/0!"},{"$error":"#DIV/0!"}]
[]
[null,{"$f":"title254","v":"Sub-total of briquette transportation to market"},{"$f":"COST_RES2!M49","v":0},{"$f":"C67*(1+D74+D75)","v":0},{"$f":"D67*(1+E74+E75)","v":0},0,0,0,0,0,0,0,0,0,0,0,0,0,0,0,0,0,0]
[]
[null,{"$f":"title255","v":"Total operation and maintenance cost (USD)"},{"$f":"C40+C56+C61+C63+C65+C67","v":{"$error":"#DIV/0!"}},{"$f":"D40+D56+D61+D63+D65+D67","v":{"$error":"#DIV/0!"}},{"$error":"#DIV/0!"},{"$error":"#DIV/0!"},{"$error":"#DIV/0!"},{"$error":"#DIV/0!"},{"$error":"#DIV/0!"},{"$error":"#DIV/0!"},{"$error":"#DIV/0!"},{"$error":"#DIV/0!"},{"$error":"#DIV/0!"},{"$error":"#DIV/0!"},{"$error":"#DIV/0!"},{"$error":"#DIV/0!"},{"$error":"#DIV/0!"},{"$error":"#DIV/0!"},{"$error":"#DIV/0!"},{"$error":"#DIV/0!"},{"$error":"#DIV/0!"},{"$error":"#DIV/0!"},{"$error":"#DIV/0!"}]
[null,{"$f":"title256","v":"Operation and maintenance cost (USD/kg of briquette) without loan interest"},{"$f":"C69/(C14*1000)","v":{"$error":"#DIV/0!"}},{"$error":"#DIV/0!"},{"$error":"#DIV/0!"},{"$error":"#DIV/0!"},{"$error":"#DIV/0!"},{"$error":"#DIV/0!"},{"$error":"#DIV/0!"},{"$error":"#DIV/0!"},{"$error":"#DIV/0!"},{"$error":"#DIV/0!"},{"$error":"#DIV/0!"},{"$error":"#DIV/0!"},{"$error":"#DIV/0!"},{"$error":"#DIV/0!"},{"$error":"#DIV/0!"},{"$error":"#DIV/0!"},{"$error":"#DIV/0!"},{"$error":"#DIV/0!"},{"$error":"#DIV/0!"},{"$error":"#DIV/0!"},{"$error":"#DIV/0!"}]
[]
[{"$f":"title164","v":"Financial parameters"}]
[null,{"$f":"title209","v":"Operating Year"},{"$f":"title230","v":"Appraisal"},1,2,3,4,5,6,7,8,9,10,11,12,13,14,15,16,17,18,19,20]
[null,{"$f":"title257","v":"Annual change in raw material cost (%)"},null,0,{"$f":"D74","v":0},{"$f":"E74","v":0},0,0,0,0,0,0,0,0,0,0,0,0,0,0,0,{"$f":"U74","v":0},{"$f":"V74","v":0}]
[null,{"$f":"title258","v":"Inflation rate (%)"},null,{"$f":"COST_RES2!J12","v":0},{"$f":"D75","v":0},0,0,0,0,0,0,0,0,0,0,0,0,0,0,0,0,{"$f":"U75","v":0},{"$f":"V75","v":0}]
[null,{"$f":"title165&\" (%)\"","v":"Discount rate (%)"},{"$f":"COST_RES2!J9","v":0}]
[null,{"$f":"title166&\" (%)\"","v":"Loan ratio (%)"},{"$f":"COST_RES2!J10","v":0}]
[]
[null,{"$f":"title259","v":"Loan without policy"},{"$f":"title230","v":"Appraisal"},1,2,3,4,5,6,7,8,9,10,11,12,13,14,15,16,17,18,19,20]
[null,{"$f":"title260","v":"Loan amount (USD)"},{"$f":"C77*(C34)","v":0}]
[null,{"$f":"title167&\" (%)\"","v":"Loan interest rate (%)"},{"$f":"COST_RES2!J11","v":0}]
[null,{"$f":"title261","v":"Loan term (years)"},{"$f":"COST_RES2!M9","v":0}]
[null,{"$f":"title262","v":"Loan payment (USD/month)"},{"$f":"(PMT($C$81/12,(12*$C$82),$C$80))","v":{"$error":"#NUM!"}}]
[null,{"$f":"title263","v":"Loan payment (USD/year)"},null,{"$f":"IF(D73<=$C$82,$C$83*12,0)","v":0},{"$f":"IF(E73<$C$82,$C$83*12,IF(E73=$C$82,$C$83*12,0))","v":0},{"$f":"IF(F73<$C$82,$C$83*12,IF(F73=$C$82,$C$83*12,0))","v":0},0,0,0,0,0,0,0,0,0,0,0,0,0,0,0,0,0]
[null,{"$f":"title264","v":"Total loan payment (USD)"},{"$f":"SUM(D84:W84)","v":0}]
[null,{"$f":"title265","v":"Loan interest payment (USD)"},{"$f":"C85+C80","v":0},{"$f":"title266","v":"Average loan interest payment for project lifetime"},null,null,{"$f":"C86/C25","v":0},{"$f":"title267","v":"USD per year"}]
[]
[{"$f":"title268","v":"Income tax analysis"}]
[null,{"$f":"title209","v":"Operating Year"},{"$f":"title230","v":"Appraisal"},1,2,3,4,5,6,7,8,9,10,11,12,13,14,15,16,17,18,19,20]
[null,{"$f":"title269","v":"Effective income tax rate (%)"},{"$f":"+'Data entry needs'!$AD$115","v":0},{"$f":"C90","v":0},{"$f":"D90","v":0},0,0,0,0,0,0,0,0,0,0,0,0,0,0,0,0,0,0]
[null,{"$f":"title270","v":"Income tax (USD)"},null,{"$f":"IF(D115<0,0,D90*D115)","v":{"$error":"#DIV/0!"}},{"$error":"#DIV/0!"},{"$error":"#DIV/0!"},{"$error":"#DIV/0!"},{"$error":"#DIV/0!"},{"$error":"#DIV/0!"},{"$error":"#DIV/0!"},{"$error":"#DIV/0!"},{"$error":"#DIV/0!"},{"$error":"#DIV/0!"},{"$error":"#DIV/0!"},{"$error":"#DIV/0!"},{"$error":"#DIV/0!"},{"$error":"#DIV/0!"},{"$error":"#DIV/0!"},{"$error":"#DIV/0!"},{"$error":"#DIV/0!"},{"$error":"#DIV/0!"},{"$error":"#DIV/0!"},{"$error":"#DIV/0!"}]
[null,{"$f":"title271","v":"Total income tax payment (USD)"},{"$f":"SUM(D91:W91)","v":{"$error":"#DIV/0!"}},{"$f":"title458","v":"Average income tax payment "},null,{"$f":"C92/C25","v":{"$error":"#DIV/0!"}},{"$f":"title267","v":"USD per year"}]
[]
[{"$f":"title272","v":"Depreciation"}]
[null,{"$f":"title209","v":"Operating Year"},{"$f":"title230","v":"Appraisal"},1,2,3,4,5,6,7,8,9,10,11,12,13,14,15,16,17,18,19,20]
[null,{"$f":"title273","v":"Depreciation method"},{"$f":"title275","v":"Straight-line"}]
[null,{"$f":"title274","v":"Total depreciation (USD)"},null,{"$f":"COST_RES2!M64","v":0},{"$f":"D97","v":0},{"$f":"E97","v":0},0,0,0,0,0,0,0,0,0,0,0,0,0,0,0,0,0]
[]
[{"$f":"title276","v":"Base case project summary"}]
[{"$f":"title277","v":"Summary of this project - Before Tax"}]
[null,{"$f":"title209","v":"Operating Year"},{"$f":"title230","v":"Appraisal"},1,2,3,4,5,6,7,8,9,10,11,12,13,14,15,16,17,18,19,20]
[null,{"$f":"title278","v":"Total revenue (USD)"},null,{"$f":"D15*1000*D18","v":0},{"$f":"E15*1000*E18","v":0},0,0,0,0,0,0,0,0,0,0,0,0,0,0,0,0,0,0]
[null,{"$f":"title228","v":"Total capital cost (USD)"},{"$f":"-(C34-C80)","v":0}]
[null,{"$f":"title279","v":"Total operating and maintenance cost (USD)"},null,{"$f":"-D69+D63","v":{"$error":"#DIV/0!"}},{"$error":"#DIV/0!"},{"$error":"#DIV/0!"},{"$error":"#DIV/0!"},{"$error":"#DIV/0!"},{"$error":"#DIV/0!"},{"$error":"#DIV/0!"},{"$error":"#DIV/0!"},{"$error":"#DIV/0!"},{"$error":"#DIV/0!"},{"$error":"#DIV/0!"},{"$error":"#DIV/0!"},{"$error":"#DIV/0!"},{"$error":"#DIV/0!"},{"$error":"#DIV/0!"},{"$error":"#DIV/0!"},{"$error":"#DIV/0!"},{"$error":"#DIV/0!"},{"$error":"#DIV/0!"},{"$error":"#DIV/0!"}]
[null,{"$f":"title280","v":"Loan payment (USD)"},null,{"$f":"D84","v":0},{"$f":"E84","v":0},0,0,0,0,0,0,0,0,0,0,0,0,0,0,0,0,0,0]
[null,{"$f":"title281","v":"Cash flow - before tax (USD)"},{"$f":"SUM(C102:C105)","v":0},{"$error":"#DIV/0!"},{"$error":"#DIV/0!"},{"$error":"#DIV/0!"},{"$error":"#DIV/0!"},{"$error":"#DIV/0!"},{"$error":"#DIV/0!"},{"$error":"#DIV/0!"},{"$error":"#DIV/0!"},{"$error":"#DIV/0!"},{"$error":"#DIV/0!"},{"$error":"#DIV/0!"},{"$error":"#DIV/0!"},{"$error":"#DIV/0!"},{"$error":"#DIV/0!"},{"$error":"#DIV/0!"},{"$error":"#DIV/0!"},{"$error":"#DIV/0!"},{"$error":"#DIV/0!"},{"$error":"#DIV/0!"},{"$error":"#DIV/0!"}]
[null,{"$f":"title282","v":"Average revenue (USD)"}]
[]
[{"$f":"title283","v":"Summary of this project - After Tax"}]
[null,{"$f":"title209","v":"Operating Year"},{"$f":"title230","v":"Appraisal"},1,2,3,4,5,6,7,8,9,10,11,12,13,14,15,16,17,18,19,20]
[null,{"$f":"B102","v":"Total revenue (USD)"},{"$f":"C102","v":0},{"$f":"D102","v":0},0,0,0,0,0,0,0,0,0,0,0,0,0,0,0,0,0,0,0]
[null,{"$f":"title279","v":"Total operating and maintenance cost (USD)"},null,{"$f":"-D69+D63","v":{"$error":"#DIV/0!"}},{"$error":"#DIV/0!"},{"$error":"#DIV/0!"},{"$error":"#DIV/0!"},{"$error":"#DIV/0!"},{"$error":"#DIV/0!"},{"$error":"#DIV/0!"},{"$error":"#DIV/0!"},{"$error":"#DIV/0!"},{"$error":"#DIV/0!"},{"$error":"#DIV/0!"},{"$error":"#DIV/0!"},{"$error":"#DIV/0!"},{"$error":"#DIV/0!"},{"$error":"#DIV/0!"},{"$error":"#DIV/0!"},{"$error":"#DIV/0!"},{"$error":"#DIV/0!"},{"$error":"#DIV/0!"},{"$error":"#DIV/0!"}]
[null,{"$f":"title280","v":"Loan payment (USD)"},null,{"$f":"$G$86","v":0},{"$f":"$G$86","v":0},0,0,0,0,0,0,0,0,0,0,0,0,0,0,0,0,0,0]
[null,{"$f":"title284","v":"Depreciation of fixed costs (USD)"},null,{"$f":"-D63","v":0},{"$f":"-E63","v":0},0,0,0,0,0,0,0,0,0,0,0,0,0,0,0,0,0,0]
[null,{"$f":"title285","v":"Net profit - before tax (USD) for income tax calculation"},{"$f":"SUM(C111:C114)","v":0},{"$f":"SUM(D111:D114)","v":{"$error":"#DIV/0!"}},{"$f":"SUM(E111:E114)","v":{"$error":"#DIV/0!"}},{"$error":"#DIV/0!"},{"$error":"#DIV/0!"},{"$error":"#DIV/0!"},{"$error":"#DIV/0!"},{"$error":"#DIV/0!"},{"$error":"#DIV/0!"},{"$error":"#DIV/0!"},{"$error":"#DIV/0!"},{"$error":"#DIV/0!"},{"$error":"#DIV/0!"},{"$error":"#DIV/0!"},{"$error":"#DIV/0!"},{"$error":"#DIV/0!"},{"$error":"#DIV/0!"},{"$error":"#DIV/0!"},{"$error":"#DIV/0!"},{"$error":"#DIV/0!"},{"$error":"#DIV/0!"}]
[null,{"$f":"title286","v":"Income tax"},null,{"$f":"IF(D115>0,-D91,0)","v":{"$error":"#DIV/0!"}},{"$error":"#DIV/0!"},{"$error":"#DIV/0!"},{"$error":"#DIV/0!"},{"$error":"#DIV/0!"},{"$error":"#DIV/0!"},{"$error":"#DIV/0!"},{"$error":"#DIV/0!"},{"$error":"#DIV/0!"},{"$error":"#DIV/0!"},{"$error":"#DIV/0!"},{"$error":"#DIV/0!"},{"$error":"#DIV/0!"},{"$error":"#DIV/0!"},{"$error":"#DIV/0!"},{"$error":"#DIV/0!"},{"$error":"#DIV/0!"},{"$error":"#DIV/0!"},{"$error":"#DIV/0!"},{"$error":"#DIV/0!"}]
[null,{"$f":"title287","v":"Cash flow - after tax (USD)"},{"$f":"C103","v":0},{"$f":"D106+D116","v":{"$error":"#DIV/0!"}},{"$f":"E106+E116","v":{"$error":"#DIV/0!"}},{"$error":"#DIV/0!"},{"$error":"#DIV/0!"},{"$error":"#DIV/0!"},{"$error":"#DIV/0!"},{"$error":"#DIV/0!"},{"$error":"#DIV/0!"},{"$error":"#DIV/0!"},{"$error":"#DIV/0!"},{"$error":"#DIV/0!"},{"$error":"#DIV/0!"},{"$error":"#DIV/0!"},{"$error":"#DIV/0!"},{"$error":"#DIV/0!"},{"$error":"#DIV/0!"},{"$error":"#DIV/0!"},{"$error":"#DIV/0!"},{"$error":"#DIV/0!"},{"$f":"W106+W116","v":{"$error":"#DIV/0!"}}]
[]
[{"$f":"title288","v":"Cumulative value of Net Profit"}]
[null,{"$f":"title209","v":"Operating Year"},{"$f":"title230","v":"Appraisal"},1,2,3,4,5,6,7,8,9,10,11,12,13,14,15,16,17,18,19,20]
[null,{"$f":"title289","v":"Cumulative value of net profit - before tax"},{"$f":"C106","v":0},{"$f":"C121+(D106)","v":{"$error":"#DIV/0!"}},{"$error":"#DIV/0!"},{"$error":"#DIV/0!"},{"$error":"#DIV/0!"},{"$error":"#DIV/0!"},{"$error":"#DIV/0!"},{"$error":"#DIV/0!"},{"$error":"#DIV/0!"},{"$error":"#DIV/0!"},{"$error":"#DIV/0!"},{"$error":"#DIV/0!"},{"$error":"#DIV/0!"},{"$error":"#DIV/0!"},{"$error":"#DIV/0!"},{"$error":"#DIV/0!"},{"$error":"#DIV/0!"},{"$error":"#DIV/0!"},{"$error":"#DIV/0!"},{"$error":"#DIV/0!"},{"$error":"#DIV/0!"}]
[null,{"$f":"title290","v":"Cumulative value of net profit - after tax"},{"$f":"C117","v":0},{"$f":"C122+(D117)","v":{"$error":"#DIV/0!"}},{"$error":"#DIV/0!"},{"$error":"#DIV/0!"},{"$error":"#DIV/0!"},{"$error":"#DIV/0!"},{"$error":"#DIV/0!"},{"$error":"#DIV/0!"},{"$error":"#DIV/0!"},{"$error":"#DIV/0!"},{"$error":"#DIV/0!"},{"$error":"#DIV/0!"},{"$error":"#DIV/0!"},{"$error":"#DIV/0!"},{"$error":"#DIV/0!"},{"$error":"#DIV/0!"},{"$error":"#DIV/0!"},{"$error":"#DIV/0!"},{"$error":"#DIV/0!"},{"$error":"#DIV/0!"},{"$error":"#DIV/0!"}]
[]
[{"$f":"title291","v":"Financial analysis results"}]
[]
[null,{"$f":"title292","v":"Net present value (NPV) (USD) - before tax"},{"$f":"NPV(C76,D106:W106)+C106","v":{"$error":"#DIV/0!"}}]
[null,{"$f":"title293","v":"Internal rate of return (IRR) (%) - before tax"},{"$f":"IF(C126<0,title459,IF(TIR_cell=title519,IRR(C106:W106,0.001),MIRR(C106:W106,C81,C76)))","v":{"$error":"#DIV/0!"}}]
[null,{"$f":"title294","v":"Payback period (years)"},{"$f":"title298","v":"Please see Figure of the cumulative value of net profit - before tax"}]
[]
[]
[null,{"$f":"title295","v":"Net present value (NPV) (USD) - after tax"},{"$f":"NPV(C76,D117:W117)+C117","v":{"$error":"#DIV/0!"}}]
[null,{"$f":"title296","v":"Internal rate of return (IRR) (%) - after tax"},{"$f":"IF(C131<0,title459,MIRR(C117:W117,C81,0%))","v":{"$error":"#DIV/0!"}}]
[null,{"$f":"title294","v":"Payback period (years)"},{"$f":"title299","v":"Please see Figure of the cumulative value of net profit - after tax"}]
[null,{"$f":"title297","v":"Total Income tax payment of project lifetime"},{"$f":"SUM(D116:W116)","v":{"$error":"#DIV/0!"}}]

{"sheet":"FA4_URBAN_RES2","index":34,"n_rows":133,"n_cols":23,"rows_kept":133,"cut":false,"hidden":true,"merged":[[1,1,1,13]]}
[]
[null,{"$f":"title207","v":" FINANCIAL ANALYSIS OF BIOMASS BRIQUETTING 4 KG/HOUR"}]
[]
[{"$f":"title208","v":"Revenues of biomass briquetting system"}]
[null,{"$f":"title209","v":"Operating Year"},0,1,2,3,4,5,6,7,8,9,10,11,12,13,14,15,16,17,18,19,20]
[]
[null,{"$f":"title210","v":"Briquette production capacity (tons per year)"},{"$f":"COST_RES2!$F$29","v":0},{"$f":"C7","v":0},{"$f":"D7","v":0},0,0,0,0,0,0,0,0,0,0,0,0,0,0,0,0,0,0]
[]
[null,{"$f":"title211","v":"Efficiency % of briquetting machine"},{"$f":"COST_RES2!$G$12","v":0},{"$f":"+C9","v":0},{"$f":"+D9","v":0},0,0,0,0,0,0,0,0,0,0,0,0,0,0,0,0,0,0]
[]
[null,{"$f":"title212","v":"Operating hours per year"},{"$f":"COST_RES2!$G$28","v":0},{"$f":"+C11","v":0},{"$f":"D11","v":0},0,0,0,0,0,0,0,0,0,0,0,0,0,0,0,0,0,0]
[null,{"$f":"title213","v":"Capacity utilization factor"},{"$f":"C$11/8760","v":0},{"$f":"D$11/8760","v":0},{"$f":"E$11/8760","v":0},0,0,0,0,0,0,0,0,0,0,0,0,0,0,0,0,0,0]
[]
[null,{"$f":"title214","v":"Briquette production (tons per year)"},{"$f":"C$7","v":0},{"$f":"D$7","v":0},0,0,0,0,0,0,0,0,0,0,0,0,0,0,0,0,0,0,0]
[null,{"$f":"title215","v":"Total briquette sell to customers (tons per year)"},{"$f":"SUM(C14:C14)","v":0},{"$f":"SUM(D14:D14)","v":0},0,0,0,0,0,0,0,0,0,0,0,0,0,0,0,0,0,0,0]
[]
[null,{"$f":"title216","v":"Price of briquette (USD/kg)"},{"$f":"SUM(C18:C18)","v":0},0,0,0,0,0,0,0,0,0,0,0,0,0,0,0,0,0,0,0,0]
[null,{"$f":"title217","v":"Market price of briquette pay by consumers (USD/kg)"},{"$f":"+'Energy Demand'!G20","v":0},{"$f":"C18*(1+D19)","v":0},0,0,0,0,0,0,0,0,0,0,0,0,0,0,0,0,0,0,0]
[null,{"$f":"title218","v":"Increasing rate of price of briquette (%)"},{"$f":"+'Data entry needs'!$AD$114","v":0},{"$f":"C19","v":0},{"$f":"D19","v":0},0,0,0,0,0,0,0,0,0,0,0,0,0,0,0,0,0,0]
[]
[null,{"$f":"title219","v":"Total income of briquette (USD per year)"},{"$f":"C15*C18*1000","v":0},{"$f":"D15*D18*1000","v":0},0,0,0,0,0,0,0,0,0,0,0,0,0,0,0,0,0,0,0]
[]
[null,{"$f":"title220","v":"Lifespan of civil work (years)"},{"$f":"COST_RES2!$E$61","v":10}]
[null,{"$f":"title221","v":"Lifespan of briquette system (years)"},{"$f":"COST_RES2!$E$60","v":10}]
[null,{"$f":"title222","v":"Project life time (years)"},20]
[]
[{"$f":"title223","v":"Capital and operating cost of biomass briquette system "}]
[null,null,{"$f":"title230","v":"Appraisal"},{"$f":"title231","v":"Project lifetime"},{"$f":"title232","v":"Investment per year"}]
[null,{"$f":"title224","v":"Direct capital cost (USD)"}]
[null,{"$f":"title225","v":"Equipments"},{"$f":"D30*E30","v":0},{"$f":"$C$25","v":20},{"$f":"COST_RES4!F60/20","v":0}]
[null,{"$f":"title226","v":"Building"},{"$f":"D31*E31","v":0},{"$f":"$C$25","v":20},{"$f":"COST_RES2!F61/20","v":0}]
[null,{"$f":"title227","v":"Installation"},{"$f":"D32*E32","v":0},{"$f":"$C$25","v":20},{"$f":"COST_RES2!F62/20","v":0}]
[null,{"$f":"title228","v":"Total capital cost (USD)"},{"$f":"SUM(C30:C32)","v":0},null,{"$f":"SUM(E30:E32)","v":0}]
[null,{"$f":"title229","v":"Capital cost (USD/kg of briquette)"},{"$f":"C33/(C14*1000*C25)","v":{"$error":"#DIV/0!"}}]
[]
[]
[null,{"$f":"title209","v":"Operating Year"},{"$f":"title230","v":"Appraisal"},1,2,3,4,5,6,7,8,9,10,11,12,13,14,15,16,17,18,19,20]
[null,{"$f":"title233","v":"Annual operating and maintenance cost "}]
[null,{"$f":"title234","v":"Sub-total material cost (USD)"},{"$f":"C40+C48+C50+C53","v":{"$error":"#DIV/0!"}},{"$f":"D40+D48+D50+D53","v":{"$error":"#DIV/0!"}},{"$error":"#DIV/0!"},{"$error":"#DIV/0!"},{"$error":"#DIV/0!"},{"$error":"#DIV/0!"},{"$error":"#DIV/0!"},{"$error":"#DIV/0!"},{"$error":"#DIV/0!"},{"$error":"#DIV/0!"},{"$error":"#DIV/0!"},{"$error":"#DIV/0!"},{"$error":"#DIV/0!"},{"$error":"#DIV/0!"},{"$error":"#DIV/0!"},{"$error":"#DIV/0!"},{"$error":"#DIV/0!"},{"$error":"#DIV/0!"},{"$error":"#DIV/0!"},{"$error":"#DIV/0!"},{"$error":"#DIV/0!"}]
[null,{"$f":"title235","v":"Biomass cost (USD/year)"},{"$f":"C41*C42","v":{"$error":"#DIV/0!"}},{"$f":"D41*D42","v":{"$error":"#DIV/0!"}},{"$error":"#DIV/0!"},{"$error":"#DIV/0!"},{"$error":"#DIV/0!"},{"$error":"#DIV/0!"},{"$error":"#DIV/0!"},{"$error":"#DIV/0!"},{"$error":"#DIV/0!"},{"$error":"#DIV/0!"},{"$error":"#DIV/0!"},{"$error":"#DIV/0!"},{"$error":"#DIV/0!"},{"$error":"#DIV/0!"},{"$error":"#DIV/0!"},{"$error":"#DIV/0!"},{"$error":"#DIV/0!"},{"$error":"#DIV/0!"},{"$error":"#DIV/0!"},{"$error":"#DIV/0!"},{"$error":"#DIV/0!"}]
[null,{"$f":"title236","v":"Biomass consumption (ton per year)"},{"$f":"C14/COST_RES2!$G$12","v":{"$error":"#DIV/0!"}},{"$f":"D14/COST_RES2!$G$12","v":{"$error":"#DIV/0!"}},{"$f":"E14/COST_RES2!$G$12","v":{"$error":"#DIV/0!"}},{"$f":"F14/COST_RES2!$G$12","v":{"$error":"#DIV/0!"}},{"$f":"G14/COST_RES2!$G$12","v":{"$error":"#DIV/0!"}},{"$f":"H14/COST_RES2!$G$12","v":{"$error":"#DIV/0!"}},{"$f":"I14/COST_RES2!$G$12","v":{"$error":"#DIV/0!"}},{"$f":"J14/COST_RES2!$G$12","v":{"$error":"#DIV/0!"}},{"$f":"K14/COST_RES2!$G$12","v":{"$error":"#DIV/0!"}},{"$f":"L14/COST_RES2!$G$12","v":{"$error":"#DIV/0!"}},{"$f":"M14/COST_RES2!$G$12","v":{"$error":"#DIV/0!"}},{"$f":"N14/COST_RES2!$G$12","v":{"$error":"#DIV/0!"}},{"$f":"O14/COST_RES2!$G$12","v":{"$error":"#DIV/0!"}},{"$f":"P14/COST_RES2!$G$12","v":{"$error":"#DIV/0!"}},{"$f":"Q14/COST_RES2!$G$12","v":{"$error":"#DIV/0!"}},{"$f":"R14/COST_RES2!$G$12","v":{"$error":"#DIV/0!"}},{"$f":"S14/COST_RES2!$G$12","v":{"$error":"#DIV/0!"}},{"$f":"T14/COST_RES2!$G$12","v":{"$error":"#DIV/0!"}},{"$f":"U14/COST_RES2!$G$12","v":{"$error":"#DIV/0!"}},{"$f":"V14/COST_RES2!$G$12","v":{"$error":"#DIV/0!"}},{"$f":"W14/COST_RES2!$G$12","v":{"$error":"#DIV/0!"}}]
[null,{"$f":"title237","v":"Biomass price (USD/ton)"},{"$f":"SUM(C43:C44)","v":0},{"$f":"SUM(D43:D44)","v":0},0,0,0,0,0,0,0,0,0,0,0,0,0,0,0,0,0,0,0]
[null,{"$f":"title238","v":"Biomass cost of collection (USD/ton)"},{"$f":"COST_RES2!E33","v":0},{"$f":"C43*(1+D73+D74)","v":0},{"$f":"D43*(1+E73+E74)","v":0},0,0,0,0,0,0,0,0,0,0,0,0,0,0,0,0,0,0]
[null,{"$f":"title239","v":"Biomass transportation cost (USD/ton)"},{"$f":"C45*C46","v":0},{"$f":"D45*D46","v":0},0,0,0,0,0,0,0,0,0,0,0,0,0,0,0,0,0,0,0]
[null,{"$f":"title240","v":"Biomass from farm to plant (USD/ton/km)"},{"$f":"COST_RES2!E48","v":0},{"$f":"C45*(1+D73+D74)","v":0},{"$f":"D45*(1+E73+E74)","v":0},0,0,0,0,0,0,0,0,0,0,0,0,0,0,0,0,0,0]
[null,{"$f":"title241","v":"Transportation distant (km)"},{"$f":"COST_RES2!F48","v":0},{"$f":"C46","v":0},{"$f":"D46","v":0},0,0,0,0,0,0,0,0,0,0,0,0,0,0,0,0,0,0]
[]
[null,{"$f":"title246","v":"Water cost (USD/year)"},{"$f":"COST_RES2!G35","v":0},{"$f":"C48*(1+D73+D74)","v":0},{"$f":"D48*(1+E73+E74)","v":0},0,0,0,0,0,0,0,0,0,0,0,0,0,0,0,0,0,0]
[]
[null,{"$f":"title242","v":"Chemical cost (USD/year)"},{"$f":"C51*C52","v":0},{"$f":"D51*D52","v":0},0,0,0,0,0,0,0,0,0,0,0,0,0,0,0,0,0,0,0]
[null,{"$f":"title243","v":"Chemical consumption (tons per year)"},{"$f":"+COST_RES2!$F$34","v":0},{"$f":"+COST_RES2!$F$34","v":0},{"$f":"+COST_RES2!$F$34","v":0},{"$f":"+COST_RES2!$F$34","v":0},{"$f":"+COST_RES2!$F$34","v":0},{"$f":"+COST_RES2!$F$34","v":0},{"$f":"+COST_RES2!$F$34","v":0},{"$f":"+COST_RES2!$F$34","v":0},{"$f":"+COST_RES2!$F$34","v":0},{"$f":"+COST_RES2!$F$34","v":0},{"$f":"+COST_RES2!$F$34","v":0},{"$f":"+COST_RES2!$F$34","v":0},{"$f":"+COST_RES2!$F$34","v":0},{"$f":"+COST_RES2!$F$34","v":0},{"$f":"+COST_RES2!$F$34","v":0},{"$f":"+COST_RES2!$F$34","v":0},{"$f":"+COST_RES2!$F$34","v":0},{"$f":"+COST_RES2!$F$34","v":0},{"$f":"+COST_RES2!$F$34","v":0},{"$f":"+COST_RES2!$F$34","v":0},{"$f":"+COST_RES2!$F$34","v":0}]
[null,{"$f":"title244","v":"Chemical price (USD/ton)"},{"$f":"+'Data entry needs'!$E$20","v":0},{"$f":"C52","v":0},{"$f":"D52","v":0},0,0,0,0,0,0,0,0,0,0,0,0,0,0,0,0,0,0]
[null,{"$f":"title245","v":"Electricity cost (USD)"},{"$f":"COST_RES2!G36","v":0},{"$f":"C53*(1+D73+D74)","v":0},{"$f":"D53*(1+E73+E74)","v":0},0,0,0,0,0,0,0,0,0,0,0,0,0,0,0,0,0,0]
[]
[null,{"$f":"title247","v":"Sub-total operating cost (USD)"},{"$f":"C56+C58+C59","v":{"$error":"#DIV/0!"}},{"$f":"D56+D58+D59","v":{"$error":"#DIV/0!"}},{"$error":"#DIV/0!"},{"$error":"#DIV/0!"},{"$error":"#DIV/0!"},{"$error":"#DIV/0!"},{"$error":"#DIV/0!"},{"$error":"#DIV/0!"},{"$error":"#DIV/0!"},{"$error":"#DIV/0!"},{"$error":"#DIV/0!"},{"$error":"#DIV/0!"},{"$error":"#DIV/0!"},{"$error":"#DIV/0!"},{"$error":"#DIV/0!"},{"$error":"#DIV/0!"},{"$error":"#DIV/0!"},{"$error":"#DIV/0!"},{"$error":"#DIV/0!"},{"$error":"#DIV/0!"},{"$error":"#DIV/0!"}]
[null,{"$f":"title248","v":"Labour cost (USD)"},{"$f":"COST_RES2!G44","v":0},{"$f":"C56*(1+D57)","v":0},0,0,0,0,0,0,0,0,0,0,0,0,0,0,0,0,0,0,0]
[null,{"$f":"title249","v":"Annual change in labour cost (%)"},null,{"$f":"COST_RES2!M12","v":0},{"$f":"D57","v":0},0,0,0,0,0,0,0,0,0,0,0,0,0,0,0,0,0,0]
[null,{"$f":"title249","v":"Annual change in labour cost (%)"},{"$f":"COST_RES2!G70","v":0},{"$f":"C58","v":0},{"$f":"D58","v":0},0,0,0,0,0,0,0,0,0,0,0,0,0,0,0,{"$f":"T58","v":0},0,0]
[null,{"$f":"title250","v":"General and administrative cost"},{"$f":"COST_RES2!G71","v":{"$error":"#DIV/0!"}},{"$f":"C59","v":{"$error":"#DIV/0!"}},{"$error":"#DIV/0!"},{"$error":"#DIV/0!"},{"$error":"#DIV/0!"},{"$error":"#DIV/0!"},{"$error":"#DIV/0!"},{"$error":"#DIV/0!"},{"$error":"#DIV/0!"},{"$error":"#DIV/0!"},{"$error":"#DIV/0!"},{"$error":"#DIV/0!"},{"$error":"#DIV/0!"},{"$error":"#DIV/0!"},{"$error":"#DIV/0!"},{"$error":"#DIV/0!"},{"$error":"#DIV/0!"},{"$error":"#DIV/0!"},{"$error":"#DIV/0!"},{"$error":"#DIV/0!"},{"$error":"#DIV/0!"}]
[null,{"$f":"title251","v":"Sub-total maintenance cost (USD)"},{"$f":"COST_RES2!G65","v":0},{"$f":"C60","v":0},0,0,0,0,0,0,0,0,0,0,0,0,0,0,0,0,0,0,0]
[]
[null,{"$f":"title252","v":"Sub-total of annual fixed costs"},{"$f":"+E33","v":0},{"$f":"C62","v":0},{"$f":"D62","v":0},0,0,0,0,0,0,0,0,0,0,0,0,0,0,0,0,0,0]
[]
[null,{"$f":"title253","v":"Sub-total of storage capacity"},{"$f":"COST_RES2!G56","v":{"$error":"#DIV/0!"}},{"$f":"C64","v":{"$error":"#DIV/0!"}},{"$f":"D64","v":{"$error":"#DIV/0!"}},{"$error":"#DIV/0!"},{"$error":"#DIV/0!"},{"$error":"#DIV/0!"},{"$error":"#DIV/0!"},{"$error":"#DIV/0!"},{"$error":"#DIV/0!"},{"$error":"#DIV/0!"},{"$error":"#DIV/0!"},{"$error":"#DIV/0!"},{"$error":"#DIV/0!"},{"$error":"#DIV/0!"},{"$error":"#DIV/0!"},{"$error":"#DIV/0!"},{"$error":"#DIV/0!"},{"$error":"#DIV/0!"},{"$error":"#DIV/0!"},{"$error":"#DIV/0!"},{"$error":"#DIV/0!"}]
[]
[null,{"$f":"title254","v":"Sub-total of briquette transportation to market"},{"$f":"COST_RES2!G49","v":0},{"$f":"C66*(1+D73+D74)","v":0},{"$f":"D66*(1+E73+E74)","v":0},0,0,0,0,0,0,0,0,0,0,0,0,0,0,0,0,0,0]
[]
[null,{"$f":"title255","v":"Total operation and maintenance cost (USD)"},{"$f":"C39+C55+C60+C62+C64+C66","v":{"$error":"#DIV/0!"}},{"$f":"D39+D55+D60+D62+D64+D66","v":{"$error":"#DIV/0!"}},{"$error":"#DIV/0!"},{"$error":"#DIV/0!"},{"$error":"#DIV/0!"},{"$error":"#DIV/0!"},{"$error":"#DIV/0!"},{"$error":"#DIV/0!"},{"$error":"#DIV/0!"},{"$error":"#DIV/0!"},{"$error":"#DIV/0!"},{"$error":"#DIV/0!"},{"$error":"#DIV/0!"},{"$error":"#DIV/0!"},{"$error":"#DIV/0!"},{"$error":"#DIV/0!"},{"$error":"#DIV/0!"},{"$error":"#DIV/0!"},{"$error":"#DIV/0!"},{"$error":"#DIV/0!"},{"$error":"#DIV/0!"}]
[null,{"$f":"title256","v":"Operation and maintenance cost (USD/kg of briquette) without loan interest"},{"$f":"C68/(C14*1000)","v":{"$error":"#DIV/0!"}},{"$error":"#DIV/0!"},{"$error":"#DIV/0!"},{"$error":"#DIV/0!"},{"$error":"#DIV/0!"},{"$error":"#DIV/0!"},{"$error":"#DIV/0!"},{"$error":"#DIV/0!"},{"$error":"#DIV/0!"},{"$error":"#DIV/0!"},{"$error":"#DIV/0!"},{"$error":"#DIV/0!"},{"$error":"#DIV/0!"},{"$error":"#DIV/0!"},{"$error":"#DIV/0!"},{"$error":"#DIV/0!"},{"$error":"#DIV/0!"},{"$error":"#DIV/0!"},{"$error":"#DIV/0!"},{"$error":"#DIV/0!"},{"$error":"#DIV/0!"}]
[]
[{"$f":"title164","v":"Financial parameters"}]
[null,{"$f":"title209","v":"Operating Year"},{"$f":"title230","v":"Appraisal"},1,2,3,4,5,6,7,8,9,10,11,12,13,14,15,16,17,18,19,20]
[null,{"$f":"title257","v":"Annual change in raw material cost (%)"},null,0,{"$f":"D73","v":0},{"$f":"E73","v":0},0,0,0,0,0,0,0,0,0,0,0,0,0,0,0,{"$f":"U73","v":0},{"$f":"V73","v":0}]
[null,{"$f":"title258","v":"Inflation rate (%)"},null,{"$f":"COST_RES2!J12","v":0},{"$f":"D74","v":0},0,0,0,0,0,0,0,0,0,0,0,0,0,0,0,0,{"$f":"U74","v":0},{"$f":"V74","v":0}]
[null,{"$f":"title165&\" (%)\"","v":"Discount rate (%)"},{"$f":"COST_RES2!J9","v":0}]
[null,{"$f":"title166&\" (%)\"","v":"Loan ratio (%)"},{"$f":"COST_RES2!J10","v":0}]
[]
[null,{"$f":"title259","v":"Loan without policy"},{"$f":"title230","v":"Appraisal"},1,2,3,4,5,6,7,8,9,10,11,12,13,14,15,16,17,18,19,20]
[null,{"$f":"title260","v":"Loan amount (USD)"},{"$f":"C76*(C33)","v":0}]
[null,{"$f":"title167&\" (%)\"","v":"Loan interest rate (%)"},{"$f":"COST_RES2!J11","v":0}]
[null,{"$f":"title261","v":"Loan term (years)"},{"$f":"COST_RES2!M9","v":0}]
[null,{"$f":"title262","v":"Loan payment (USD/month)"},{"$f":"(PMT($C$80/12,(12*$C$81),$C$79))","v":{"$error":"#NUM!"}}]
[null,{"$f":"title263","v":"Loan payment (USD/year)"},null,{"$f":"IF(D72<=$C$81,$C$82*12,0)","v":0},{"$f":"IF(E72<$C$81,$C$82*12,IF(E72=$C$81,$C$82*12,0))","v":0},{"$f":"IF(F72<$C$81,$C$82*12,IF(F72=$C$81,$C$82*12,0))","v":0},0,0,0,0,0,0,0,0,0,0,0,0,0,0,0,0,0]
[null,{"$f":"title264","v":"Total loan payment (USD)"},{"$f":"SUM(D83:W83)","v":0}]
[null,{"$f":"title265","v":"Loan interest payment (USD)"},{"$f":"C84+C79","v":0},{"$f":"title266","v":"Average loan interest payment for project lifetime"},null,null,{"$f":"C85/C25","v":0},{"$f":"title267","v":"USD per year"}]
[]
[{"$f":"title268","v":"Income tax analysis"}]
[null,{"$f":"title209","v":"Operating Year"},{"$f":"title230","v":"Appraisal"},1,2,3,4,5,6,7,8,9,10,11,12,13,14,15,16,17,18,19,20]
[null,{"$f":"title269","v":"Effective income tax rate (%)"},{"$f":"+'Data entry needs'!$AD$115","v":0},{"$f":"C89","v":0},{"$f":"D89","v":0},0,0,0,0,0,0,0,0,0,0,0,0,0,0,0,0,0,0]
[null,{"$f":"title270","v":"Income tax (USD)"},null,{"$f":"IF(D114<0,0,D89*D114)","v":{"$error":"#DIV/0!"}},{"$error":"#DIV/0!"},{"$error":"#DIV/0!"},{"$error":"#DIV/0!"},{"$error":"#DIV/0!"},{"$error":"#DIV/0!"},{"$error":"#DIV/0!"},{"$error":"#DIV/0!"},{"$error":"#DIV/0!"},{"$error":"#DIV/0!"},{"$error":"#DIV/0!"},{"$error":"#DIV/0!"},{"$error":"#DIV/0!"},{"$error":"#DIV/0!"},{"$error":"#DIV/0!"},{"$error":"#DIV/0!"},{"$error":"#DIV/0!"},{"$error":"#DIV/0!"},{"$error":"#DIV/0!"},{"$error":"#DIV/0!"}]
[null,{"$f":"title271","v":"Total income tax payment (USD)"},{"$f":"SUM(D90:W90)","v":{"$error":"#DIV/0!"}},{"$f":"title458","v":"Average income tax payment "},null,{"$f":"C91/C25","v":{"$error":"#DIV/0!"}},{"$f":"title267","v":"USD per year"}]
[]
[{"$f":"title272","v":"Depreciation"}]
[null,{"$f":"title209","v":"Operating Year"},{"$f":"title230","v":"Appraisal"},1,2,3,4,5,6,7,8,9,10,11,12,13,14,15,16,17,18,19,20]
[null,{"$f":"title273","v":"Depreciation method"},{"$f":"title275","v":"Straight-line"}]
[null,{"$f":"title274","v":"Total depreciation (USD)"},null,{"$f":"COST_RES2!G64","v":0},{"$f":"D96","v":0},{"$f":"E96","v":0},0,0,0,0,0,0,0,0,0,0,0,0,0,0,0,0,0]
[]
[{"$f":"title276","v":"Base case project summary"}]
[{"$f":"title277","v":"Summary of this project - Before Tax"}]
[null,{"$f":"title209","v":"Operating Year"},{"$f":"title230","v":"Appraisal"},1,2,3,4,5,6,7,8,9,10,11,12,13,14,15,16,17,18,19,20]
[null,{"$f":"title278","v":"Total revenue (USD)"},null,{"$f":"D15*1000*D18","v":0},{"$f":"E15*1000*E18","v":0},0,0,0,0,0,0,0,0,0,0,0,0,0,0,0,0,0,0]
[null,{"$f":"title228","v":"Total capital cost (USD)"},{"$f":"-(C33-C79)","v":0}]
[null,{"$f":"title279","v":"Total operating and maintenance cost (USD)"},null,{"$f":"-D68+D62","v":{"$error":"#DIV/0!"}},{"$error":"#DIV/0!"},{"$error":"#DIV/0!"},{"$error":"#DIV/0!"},{"$error":"#DIV/0!"},{"$error":"#DIV/0!"},{"$error":"#DIV/0!"},{"$error":"#DIV/0!"},{"$error":"#DIV/0!"},{"$error":"#DIV/0!"},{"$error":"#DIV/0!"},{"$error":"#DIV/0!"},{"$error":"#DIV/0!"},{"$error":"#DIV/0!"},{"$error":"#DIV/0!"},{"$error":"#DIV/0!"},{"$error":"#DIV/0!"},{"$error":"#DIV/0!"},{"$error":"#DIV/0!"},{"$error":"#DIV/0!"}]
[null,{"$f":"title280","v":"Loan payment (USD)"},null,{"$f":"D83","v":0},{"$f":"E83","v":0},0,0,0,0,0,0,0,0,0,0,0,0,0,0,0,0,0,0]
[null,{"$f":"title281","v":"Cash flow - before tax (USD)"},{"$f":"SUM(C101:C104)","v":0},{"$error":"#DIV/0!"},{"$error":"#DIV/0!"},{"$error":"#DIV/0!"},{"$error":"#DIV/0!"},{"$error":"#DIV/0!"},{"$error":"#DIV/0!"},{"$error":"#DIV/0!"},{"$error":"#DIV/0!"},{"$error":"#DIV/0!"},{"$error":"#DIV/0!"},{"$error":"#DIV/0!"},{"$error":"#DIV/0!"},{"$error":"#DIV/0!"},{"$error":"#DIV/0!"},{"$error":"#DIV/0!"},{"$error":"#DIV/0!"},{"$error":"#DIV/0!"},{"$error":"#DIV/0!"},{"$error":"#DIV/0!"},{"$error":"#DIV/0!"}]
[null,{"$f":"title282","v":"Average revenue (USD)"}]
[]
[{"$f":"title283","v":"Summary of this project - After Tax"}]
[null,{"$f":"title209","v":"Operating Year"},{"$f":"title230","v":"Appraisal"},1,2,3,4,5,6,7,8,9,10,11,12,13,14,15,16,17,18,19,20]
[null,{"$f":"B101","v":"Total revenue (USD)"},{"$f":"C101","v":0},{"$f":"D101","v":0},{"$f":"E101","v":0},0,0,0,0,0,0,0,0,0,0,0,0,0,0,0,0,0,0]
[null,{"$f":"title279","v":"Total operating and maintenance cost (USD)"},null,{"$f":"-D68+D62","v":{"$error":"#DIV/0!"}},{"$error":"#DIV/0!"},{"$error":"#DIV/0!"},{"$error":"#DIV/0!"},{"$error":"#DIV/0!"},{"$error":"#DIV/0!"},{"$error":"#DIV/0!"},{"$error":"#DIV/0!"},{"$error":"#DIV/0!"},{"$error":"#DIV/0!"},{"$error":"#DIV/0!"},{"$error":"#DIV/0!"},{"$error":"#DIV/0!"},{"$error":"#DIV/0!"},{"$error":"#DIV/0!"},{"$error":"#DIV/0!"},{"$error":"#DIV/0!"},{"$error":"#DIV/0!"},{"$error":"#DIV/0!"},{"$error":"#DIV/0!"}]
[null,{"$f":"title280","v":"Loan payment (USD)"},null,{"$f":"$G$85","v":0},{"$f":"$G$85","v":0},0,0,0,0,0,0,0,0,0,0,0,0,0,0,0,0,0,0]
[null,{"$f":"title284","v":"Depreciation of fixed costs (USD)"},null,{"$f":"-D62","v":0},{"$f":"-E62","v":0},0,0,0,0,0,0,0,0,0,0,0,0,0,0,0,0,0,0]
[null,{"$f":"title285","v":"Net profit - before tax (USD) for income tax calculation"},{"$f":"SUM(C110:C113)","v":0},{"$f":"SUM(D110:D113)","v":{"$error":"#DIV/0!"}},{"$f":"SUM(E110:E113)","v":{"$error":"#DIV/0!"}},{"$error":"#DIV/0!"},{"$error":"#DIV/0!"},{"$error":"#DIV/0!"},{"$error":"#DIV/0!"},{"$error":"#DIV/0!"},{"$error":"#DIV/0!"},{"$error":"#DIV/0!"},{"$error":"#DIV/0!"},{"$error":"#DIV/0!"},{"$error":"#DIV/0!"},{"$error":"#DIV/0!"},{"$error":"#DIV/0!"},{"$error":"#DIV/0!"},{"$error":"#DIV/0!"},{"$error":"#DIV/0!"},{"$error":"#DIV/0!"},{"$error":"#DIV/0!"},{"$error":"#DIV/0!"}]
[null,{"$f":"title286","v":"Income tax"},null,{"$f":"IF(D114>0,-D90,0)","v":{"$error":"#DIV/0!"}},{"$error":"#DIV/0!"},{"$error":"#DIV/0!"},{"$error":"#DIV/0!"},{"$error":"#DIV/0!"},{"$error":"#DIV/0!"},{"$error":"#DIV/0!"},{"$error":"#DIV/0!"},{"$error":"#DIV/0!"},{"$error":"#DIV/0!"},{"$error":"#DIV/0!"},{"$error":"#DIV/0!"},{"$error":"#DIV/0!"},{"$error":"#DIV/0!"},{"$error":"#DIV/0!"},{"$error":"#DIV/0!"},{"$error":"#DIV/0!"},{"$error":"#DIV/0!"},{"$error":"#DIV/0!"},{"$error":"#DIV/0!"}]
[null,{"$f":"title287","v":"Cash flow - after tax (USD)"},{"$f":"C102","v":0},{"$f":"D105+D115","v":{"$error":"#DIV/0!"}},{"$f":"E105+E115","v":{"$error":"#DIV/0!"}},{"$error":"#DIV/0!"},{"$error":"#DIV/0!"},{"$error":"#DIV/0!"},{"$error":"#DIV/0!"},{"$error":"#DIV/0!"},{"$error":"#DIV/0!"},{"$error":"#DIV/0!"},{"$error":"#DIV/0!"},{"$error":"#DIV/0!"},{"$error":"#DIV/0!"},{"$error":"#DIV/0!"},{"$error":"#DIV/0!"},{"$error":"#DIV/0!"},{"$error":"#DIV/0!"},{"$error":"#DIV/0!"},{"$error":"#DIV/0!"},{"$error":"#DIV/0!"},{"$f":"W105+W115","v":{"$error":"#DIV/0!"}}]
[]
[{"$f":"title288","v":"Cumulative value of Net Profit"}]
[null,{"$f":"title209","v":"Operating Year"},{"$f":"title230","v":"Appraisal"},1,2,3,4,5,6,7,8,9,10,11,12,13,14,15,16,17,18,19,20]
[null,{"$f":"title289","v":"Cumulative value of net profit - before tax"},{"$f":"C105","v":0},{"$f":"C120+(D105)","v":{"$error":"#DIV/0!"}},{"$error":"#DIV/0!"},{"$error":"#DIV/0!"},{"$error":"#DIV/0!"},{"$error":"#DIV/0!"},{"$error":"#DIV/0!"},{"$error":"#DIV/0!"},{"$error":"#DIV/0!"},{"$error":"#DIV/0!"},{"$error":"#DIV/0!"},{"$error":"#DIV/0!"},{"$error":"#DIV/0!"},{"$error":"#DIV/0!"},{"$error":"#DIV/0!"},{"$error":"#DIV/0!"},{"$error":"#DIV/0!"},{"$error":"#DIV/0!"},{"$error":"#DIV/0!"},{"$error":"#DIV/0!"},{"$error":"#DIV/0!"}]
[null,{"$f":"title290","v":"Cumulative value of net profit - after tax"},{"$f":"C116","v":0},{"$f":"C121+(D116)","v":{"$error":"#DIV/0!"}},{"$error":"#DIV/0!"},{"$error":"#DIV/0!"},{"$error":"#DIV/0!"},{"$error":"#DIV/0!"},{"$error":"#DIV/0!"},{"$error":"#DIV/0!"},{"$error":"#DIV/0!"},{"$error":"#DIV/0!"},{"$error":"#DIV/0!"},{"$error":"#DIV/0!"},{"$error":"#DIV/0!"},{"$error":"#DIV/0!"},{"$error":"#DIV/0!"},{"$error":"#DIV/0!"},{"$error":"#DIV/0!"},{"$error":"#DIV/0!"},{"$error":"#DIV/0!"},{"$error":"#DIV/0!"},{"$error":"#DIV/0!"}]
[]
[{"$f":"title291","v":"Financial analysis results"}]
[]
[null,{"$f":"title292","v":"Net present value (NPV) (USD) - before tax"},{"$f":"NPV(C75,D105:W105)+C105","v":{"$error":"#DIV/0!"}}]
[null,{"$f":"title293","v":"Internal rate of return (IRR) (%) - before tax"},{"$f":"IF(C125<0,title459,IF(TIR_cell=title519,IRR(C105:W105,0.001),MIRR(C105:W105,C80,C75)))","v":{"$error":"#DIV/0!"}}]
[null,{"$f":"title294","v":"Payback period (years)"},{"$f":"title298","v":"Please see Figure of the cumulative value of net profit - before tax"}]
[]
[]
[null,{"$f":"title295","v":"Net present value (NPV) (USD) - after tax"},{"$f":"NPV(C75,D116:W116)+C116","v":{"$error":"#DIV/0!"}}]
[null,{"$f":"title296","v":"Internal rate of return (IRR) (%) - after tax"},{"$f":"IF(C130<0,title459,MIRR(C116:W116,$C$80,0%))","v":{"$error":"#DIV/0!"}}]
[null,{"$f":"title294","v":"Payback period (years)"},{"$f":"title299","v":"Please see Figure of the cumulative value of net profit - after tax"}]
[null,{"$f":"title297","v":"Total Income tax payment of project lifetime"},{"$f":"SUM(D115:W115)","v":{"$error":"#DIV/0!"}}]

{"sheet":"FA40_URBAN_RES2","index":35,"n_rows":133,"n_cols":23,"rows_kept":133,"cut":false,"hidden":true,"merged":[[1,1,1,13]]}
[]
[null,{"$f":"title300","v":"FINANCIAL ANALYSIS OF BIOMASS BRIQUETTING 40 KG/HOUR"}]
[]
[{"$f":"title208","v":"Revenues of biomass briquetting system"}]
[null,{"$f":"title209","v":"Operating Year"},0,1,2,3,4,5,6,7,8,9,10,11,12,13,14,15,16,17,18,19,20]
[]
[null,{"$f":"title210","v":"Briquette production capacity (tons per year)"},{"$f":"COST_RES2!$H$29","v":0},{"$f":"C7","v":0},{"$f":"D7","v":0},0,0,0,0,0,0,0,0,0,0,0,0,0,0,0,0,0,0]
[]
[null,{"$f":"title211","v":"Efficiency % of briquetting machine"},{"$f":"COST_RES2!$G$12","v":0},{"$f":"+C9","v":0},{"$f":"+D9","v":0},0,0,0,0,0,0,0,0,0,0,0,0,0,0,0,0,0,0]
[]
[null,{"$f":"title212","v":"Operating hours per year"},{"$f":"COST_RES2!I28","v":0},{"$f":"+C11","v":0},{"$f":"D11","v":0},0,0,0,0,0,0,0,0,0,0,0,0,0,0,0,0,0,0]
[null,{"$f":"title213","v":"Capacity utilization factor"},{"$f":"C11/8760","v":0},{"$f":"D11/8760","v":0},0,0,0,0,0,0,0,0,0,0,0,0,0,0,0,0,0,0,0]
[]
[null,{"$f":"title214","v":"Briquette production (tons per year)"},{"$f":"C7","v":0},{"$f":"D7","v":0},0,0,0,0,0,0,0,0,0,0,0,0,0,0,0,0,0,0,0]
[null,{"$f":"title215","v":"Total briquette sell to customers (tons per year)"},{"$f":"SUM(C14:C14)","v":0},{"$f":"SUM(D14:D14)","v":0},0,0,0,0,0,0,0,0,0,0,0,0,0,0,0,0,0,0,0]
[]
[null,{"$f":"title216","v":"Price of briquette (USD/kg)"},{"$f":"SUM(C18:C18)","v":0},0,0,0,0,0,0,0,0,0,0,0,0,0,0,0,0,0,0,0,0]
[null,{"$f":"title217","v":"Market price of briquette pay by consumers (USD/kg)"},{"$f":"+'Energy Demand'!G20","v":0},{"$f":"C18*(1+D19)","v":0},0,0,0,0,0,0,0,0,0,0,0,0,0,0,0,0,0,0,0]
[null,{"$f":"title218","v":"Increasing rate of price of briquette (%)"},{"$f":"+'Data entry needs'!$AD$114","v":0},{"$f":"C19","v":0},{"$f":"D19","v":0},0,0,0,0,0,0,0,0,0,0,0,0,0,0,0,0,0,0]
[]
[null,{"$f":"title219","v":"Total income of briquette (USD per year)"},{"$f":"C15*C18*1000","v":0},{"$f":"D15*D18*1000","v":0},0,0,0,0,0,0,0,0,0,0,0,0,0,0,0,0,0,0,0]
[]
[null,{"$f":"title220","v":"Lifespan of civil work (years)"},{"$f":"COST_RES2!E61","v":10}]
[null,{"$f":"title221","v":"Lifespan of briquette system (years)"},{"$f":"COST_RES2!E60","v":10}]
[null,{"$f":"title222","v":"Project life time (years)"},20]
[]
[{"$f":"title223","v":"Capital and operating cost of biomass briquette system "}]
[null,null,{"$f":"title230","v":"Appraisal"},{"$f":"title231","v":"Project lifetime"},{"$f":"title232","v":"Investment per year"}]
[null,{"$f":"title224","v":"Direct capital cost (USD)"}]
[null,{"$f":"title225","v":"Equipments"},{"$f":"D30*E30","v":0},{"$f":"$C$25","v":20},{"$f":"COST_RES1!H60/D30","v":0}]
[null,{"$f":"title226","v":"Building"},{"$f":"D31*E31","v":0},{"$f":"$C$25","v":20},{"$f":"COST_RES2!H61/D31","v":0}]
[null,{"$f":"title227","v":"Installation"},{"$f":"D32*E32","v":0},{"$f":"$C$25","v":20},{"$f":"COST_RES2!H62/D32","v":0}]
[null,{"$f":"title228","v":"Total capital cost (USD)"},{"$f":"SUM(C30:C32)","v":0},null,{"$f":"SUM(E30:E32)","v":0}]
[null,{"$f":"title229","v":"Capital cost (USD/kg of briquette)"},{"$f":"C33/(C14*1000*C25)","v":{"$error":"#DIV/0!"}}]
[]
[]
[null,{"$f":"title209","v":"Operating Year"},{"$f":"title230","v":"Appraisal"},1,2,3,4,5,6,7,8,9,10,11,12,13,14,15,16,17,18,19,20]
[null,{"$f":"title233","v":"Annual operating and maintenance cost "}]
[null,{"$f":"title234","v":"Sub-total material cost (USD)"},{"$f":"C40+C48+C50+C53","v":{"$error":"#DIV/0!"}},{"$f":"D40+D48+D50+D53","v":{"$error":"#DIV/0!"}},{"$error":"#DIV/0!"},{"$error":"#DIV/0!"},{"$error":"#DIV/0!"},{"$error":"#DIV/0!"},{"$error":"#DIV/0!"},{"$error":"#DIV/0!"},{"$error":"#DIV/0!"},{"$error":"#DIV/0!"},{"$error":"#DIV/0!"},{"$error":"#DIV/0!"},{"$error":"#DIV/0!"},{"$error":"#DIV/0!"},{"$error":"#DIV/0!"},{"$error":"#DIV/0!"},{"$error":"#DIV/0!"},{"$error":"#DIV/0!"},{"$error":"#DIV/0!"},{"$error":"#DIV/0!"},{"$error":"#DIV/0!"}]
[null,{"$f":"title235","v":"Biomass cost (USD/year)"},{"$f":"C41*C42","v":{"$error":"#DIV/0!"}},{"$f":"D41*D42","v":{"$error":"#DIV/0!"}},{"$error":"#DIV/0!"},{"$error":"#DIV/0!"},{"$error":"#DIV/0!"},{"$error":"#DIV/0!"},{"$error":"#DIV/0!"},{"$error":"#DIV/0!"},{"$error":"#DIV/0!"},{"$error":"#DIV/0!"},{"$error":"#DIV/0!"},{"$error":"#DIV/0!"},{"$error":"#DIV/0!"},{"$error":"#DIV/0!"},{"$error":"#DIV/0!"},{"$error":"#DIV/0!"},{"$error":"#DIV/0!"},{"$error":"#DIV/0!"},{"$error":"#DIV/0!"},{"$error":"#DIV/0!"},{"$error":"#DIV/0!"}]
[null,{"$f":"title236","v":"Biomass consumption (ton per year)"},{"$f":"C14/COST_RES2!$G$12","v":{"$error":"#DIV/0!"}},{"$f":"D14/COST_RES2!$G$12","v":{"$error":"#DIV/0!"}},{"$f":"E14/COST_RES2!$G$12","v":{"$error":"#DIV/0!"}},{"$f":"F14/COST_RES2!$G$12","v":{"$error":"#DIV/0!"}},{"$f":"G14/COST_RES2!$G$12","v":{"$error":"#DIV/0!"}},{"$f":"H14/COST_RES2!$G$12","v":{"$error":"#DIV/0!"}},{"$f":"I14/COST_RES2!$G$12","v":{"$error":"#DIV/0!"}},{"$f":"J14/COST_RES2!$G$12","v":{"$error":"#DIV/0!"}},{"$f":"K14/COST_RES2!$G$12","v":{"$error":"#DIV/0!"}},{"$f":"L14/COST_RES2!$G$12","v":{"$error":"#DIV/0!"}},{"$f":"M14/COST_RES2!$G$12","v":{"$error":"#DIV/0!"}},{"$f":"N14/COST_RES2!$G$12","v":{"$error":"#DIV/0!"}},{"$f":"O14/COST_RES2!$G$12","v":{"$error":"#DIV/0!"}},{"$f":"P14/COST_RES2!$G$12","v":{"$error":"#DIV/0!"}},{"$f":"Q14/COST_RES2!$G$12","v":{"$error":"#DIV/0!"}},{"$f":"R14/COST_RES2!$G$12","v":{"$error":"#DIV/0!"}},{"$f":"S14/COST_RES2!$G$12","v":{"$error":"#DIV/0!"}},{"$f":"T14/COST_RES2!$G$12","v":{"$error":"#DIV/0!"}},{"$f":"U14/COST_RES2!$G$12","v":{"$error":"#DIV/0!"}},{"$f":"V14/COST_RES2!$G$12","v":{"$error":"#DIV/0!"}},{"$f":"W14/COST_RES2!$G$12","v":{"$error":"#DIV/0!"}}]
[null,{"$f":"title237","v":"Biomass price (USD/ton)"},{"$f":"SUM(C43:C44)","v":0},{"$f":"SUM(D43:D44)","v":0},0,0,0,0,0,0,0,0,0,0,0,0,0,0,0,0,0,0,0]
[null,{"$f":"title238","v":"Biomass cost of collection (USD/ton)"},{"$f":"COST_RES2!E33","v":0},{"$f":"C43*(1+D73+D74)","v":0},{"$f":"D43*(1+E73+E74)","v":0},0,0,0,0,0,0,0,0,0,0,0,0,0,0,0,0,0,0]
[null,{"$f":"title239","v":"Biomass transportation cost (USD/ton)"},{"$f":"C45*C46","v":0},{"$f":"D45*D46","v":0},0,0,0,0,0,0,0,0,0,0,0,0,0,0,0,0,0,0,0]
[null,{"$f":"title240","v":"Biomass from farm to plant (USD/ton/km)"},{"$f":"COST_RES2!E48","v":0},{"$f":"C45*(1+D73+D74)","v":0},{"$f":"D45*(1+E73+E74)","v":0},0,0,0,0,0,0,0,0,0,0,0,0,0,0,0,0,0,0]
[null,{"$f":"title241","v":"Transportation distant (km)"},{"$f":"COST_RES2!H48","v":0},{"$f":"C46","v":0},{"$f":"D46","v":0},0,0,0,0,0,0,0,0,0,0,0,0,0,0,{"$f":"S46","v":0},{"$f":"T46","v":0},{"$f":"U46","v":0},{"$f":"V46","v":0}]
[]
[null,{"$f":"title246","v":"Water cost (USD/year)"},{"$f":"COST_RES2!I35","v":0},{"$f":"C48*(1+D73+D74)","v":0},{"$f":"D48*(1+E73+E74)","v":0},0,0,0,0,0,0,0,0,0,0,0,0,0,0,0,0,0,0]
[]
[null,{"$f":"title242","v":"Chemical cost (USD/year)"},{"$f":"C51*C52","v":0},{"$f":"D51*D52","v":0},0,0,0,0,0,0,0,0,0,0,0,0,0,0,0,0,0,0,0]
[null,{"$f":"title243","v":"Chemical consumption (tons per year)"},{"$f":"+COST_RES2!$H$34","v":0},{"$f":"+COST_RES2!$H$34","v":0},{"$f":"+COST_RES2!$H$34","v":0},{"$f":"+COST_RES2!$H$34","v":0},{"$f":"+COST_RES2!$H$34","v":0},{"$f":"+COST_RES2!$H$34","v":0},{"$f":"+COST_RES2!$H$34","v":0},{"$f":"+COST_RES2!$H$34","v":0},{"$f":"+COST_RES2!$H$34","v":0},{"$f":"+COST_RES2!$H$34","v":0},{"$f":"+COST_RES2!$H$34","v":0},{"$f":"+COST_RES2!$H$34","v":0},{"$f":"+COST_RES2!$H$34","v":0},{"$f":"+COST_RES2!$H$34","v":0},{"$f":"+COST_RES2!$H$34","v":0},{"$f":"+COST_RES2!$H$34","v":0},{"$f":"+COST_RES2!$H$34","v":0},{"$f":"+COST_RES2!$H$34","v":0},{"$f":"+COST_RES2!$H$34","v":0},{"$f":"+COST_RES2!$H$34","v":0},{"$f":"+COST_RES2!$H$34","v":0}]
[null,{"$f":"title244","v":"Chemical price (USD/ton)"},{"$f":"+'Data entry needs'!$E$20","v":0},{"$f":"C52","v":0},{"$f":"D52","v":0},0,0,0,0,0,0,0,0,0,0,0,0,0,0,0,0,0,0]
[null,{"$f":"title245","v":"Electricity cost (USD)"},{"$f":"COST_RES2!I36","v":0},{"$f":"C53*(1+D73+D74)","v":0},{"$f":"D53*(1+E73+E74)","v":0},0,0,0,0,0,0,0,0,0,0,0,0,0,0,0,0,0,0]
[]
[null,{"$f":"title247","v":"Sub-total operating cost (USD)"},{"$f":"C56+C58+C59","v":{"$error":"#DIV/0!"}},{"$f":"D56+D58+D59","v":{"$error":"#DIV/0!"}},{"$error":"#DIV/0!"},{"$error":"#DIV/0!"},{"$error":"#DIV/0!"},{"$error":"#DIV/0!"},{"$error":"#DIV/0!"},{"$error":"#DIV/0!"},{"$error":"#DIV/0!"},{"$error":"#DIV/0!"},{"$error":"#DIV/0!"},{"$error":"#DIV/0!"},{"$error":"#DIV/0!"},{"$error":"#DIV/0!"},{"$error":"#DIV/0!"},{"$error":"#DIV/0!"},{"$error":"#DIV/0!"},{"$error":"#DIV/0!"},{"$error":"#DIV/0!"},{"$error":"#DIV/0!"},{"$error":"#DIV/0!"}]
[null,{"$f":"title248","v":"Labour cost (USD)"},{"$f":"COST_RES2!I44","v":0},{"$f":"C56*(1+D57)","v":0},0,0,0,0,0,0,0,0,0,0,0,0,0,0,0,0,0,0,0]
[null,{"$f":"title249","v":"Annual change in labour cost (%)"},null,{"$f":"COST_RES2!M12","v":0},{"$f":"D57","v":0},0,0,0,0,0,0,0,0,0,0,0,0,0,0,0,0,0,0]
[null,{"$f":"title249","v":"Annual change in labour cost (%)"},{"$f":"COST_RES2!I70","v":0},{"$f":"C58","v":0},0,0,0,0,0,0,0,0,0,0,0,0,0,0,0,0,0,0,0]
[null,{"$f":"title250","v":"General and administrative cost"},{"$f":"COST_RES2!I71","v":{"$error":"#DIV/0!"}},{"$f":"C59","v":{"$error":"#DIV/0!"}},{"$error":"#DIV/0!"},{"$error":"#DIV/0!"},{"$error":"#DIV/0!"},{"$error":"#DIV/0!"},{"$error":"#DIV/0!"},{"$error":"#DIV/0!"},{"$error":"#DIV/0!"},{"$error":"#DIV/0!"},{"$error":"#DIV/0!"},{"$error":"#DIV/0!"},{"$error":"#DIV/0!"},{"$error":"#DIV/0!"},{"$error":"#DIV/0!"},{"$error":"#DIV/0!"},{"$error":"#DIV/0!"},{"$error":"#DIV/0!"},{"$error":"#DIV/0!"},{"$error":"#DIV/0!"},{"$error":"#DIV/0!"}]
[null,{"$f":"title251","v":"Sub-total maintenance cost (USD)"},{"$f":"COST_RES2!I65","v":0},{"$f":"C60","v":0},0,0,0,0,0,0,0,0,0,0,0,0,0,0,0,0,0,0,0]
[]
[null,{"$f":"title252","v":"Sub-total of annual fixed costs"},{"$f":"+E33","v":0},{"$f":"C62","v":0},{"$f":"D62","v":0},0,0,0,0,0,0,0,0,0,0,0,0,0,0,0,0,0,0]
[]
[null,{"$f":"title253","v":"Sub-total of storage capacity"},{"$f":"COST_RES2!I56","v":{"$error":"#DIV/0!"}},{"$f":"C64","v":{"$error":"#DIV/0!"}},{"$f":"D64","v":{"$error":"#DIV/0!"}},{"$error":"#DIV/0!"},{"$error":"#DIV/0!"},{"$error":"#DIV/0!"},{"$error":"#DIV/0!"},{"$error":"#DIV/0!"},{"$error":"#DIV/0!"},{"$error":"#DIV/0!"},{"$error":"#DIV/0!"},{"$error":"#DIV/0!"},{"$error":"#DIV/0!"},{"$error":"#DIV/0!"},{"$error":"#DIV/0!"},{"$error":"#DIV/0!"},{"$error":"#DIV/0!"},{"$error":"#DIV/0!"},{"$error":"#DIV/0!"},{"$error":"#DIV/0!"},{"$error":"#DIV/0!"}]
[]
[null,{"$f":"title254","v":"Sub-total of briquette transportation to market"},{"$f":"COST_RES2!I49","v":0},{"$f":"C66*(1+D73+D74)","v":0},{"$f":"D66*(1+E73+E74)","v":0},0,0,0,0,0,0,0,0,0,0,0,0,0,0,0,0,0,0]
[]
[null,{"$f":"title255","v":"Total operation and maintenance cost (USD)"},{"$f":"C39+C55+C60+C62+C64+C66","v":{"$error":"#DIV/0!"}},{"$f":"D39+D55+D60+D62+D64+D66","v":{"$error":"#DIV/0!"}},{"$error":"#DIV/0!"},{"$error":"#DIV/0!"},{"$error":"#DIV/0!"},{"$error":"#DIV/0!"},{"$error":"#DIV/0!"},{"$error":"#DIV/0!"},{"$error":"#DIV/0!"},{"$error":"#DIV/0!"},{"$error":"#DIV/0!"},{"$error":"#DIV/0!"},{"$error":"#DIV/0!"},{"$error":"#DIV/0!"},{"$error":"#DIV/0!"},{"$error":"#DIV/0!"},{"$error":"#DIV/0!"},{"$error":"#DIV/0!"},{"$error":"#DIV/0!"},{"$error":"#DIV/0!"},{"$error":"#DIV/0!"}]
[null,{"$f":"title256","v":"Operation and maintenance cost (USD/kg of briquette) without loan interest"},{"$f":"C68/(C14*1000)","v":{"$error":"#DIV/0!"}},{"$error":"#DIV/0!"},{"$error":"#DIV/0!"},{"$error":"#DIV/0!"},{"$error":"#DIV/0!"},{"$error":"#DIV/0!"},{"$error":"#DIV/0!"},{"$error":"#DIV/0!"},{"$error":"#DIV/0!"},{"$error":"#DIV/0!"},{"$error":"#DIV/0!"},{"$error":"#DIV/0!"},{"$error":"#DIV/0!"},{"$error":"#DIV/0!"},{"$error":"#DIV/0!"},{"$error":"#DIV/0!"},{"$error":"#DIV/0!"},{"$error":"#DIV/0!"},{"$error":"#DIV/0!"},{"$error":"#DIV/0!"},{"$error":"#DIV/0!"}]
[]
[{"$f":"title164","v":"Financial parameters"}]
[null,{"$f":"title209","v":"Operating Year"},{"$f":"title230","v":"Appraisal"},1,2,3,4,5,6,7,8,9,10,11,12,13,14,15,16,17,18,19,20]
[null,{"$f":"title257","v":"Annual change in raw material cost (%)"},null,0,{"$f":"D73","v":0},{"$f":"E73","v":0},0,0,0,0,0,0,0,0,0,0,0,0,0,0,0,{"$f":"U73","v":0},{"$f":"V73","v":0}]
[null,{"$f":"title258","v":"Inflation rate (%)"},null,{"$f":"COST_RES2!J12","v":0},{"$f":"D74","v":0},0,0,0,0,0,0,0,0,0,0,0,0,0,0,0,0,{"$f":"U74","v":0},{"$f":"V74","v":0}]
[null,{"$f":"title165&\" (%)\"","v":"Discount rate (%)"},{"$f":"COST_RES2!J9","v":0}]
[null,{"$f":"title166&\" (%)\"","v":"Loan ratio (%)"},{"$f":"COST_RES2!J10","v":0}]
[]
[null,{"$f":"title259","v":"Loan without policy"},{"$f":"title230","v":"Appraisal"},1,2,3,4,5,6,7,8,9,10,11,12,13,14,15,16,17,18,19,20]
[null,{"$f":"title260","v":"Loan amount (USD)"},{"$f":"C76*(C33)","v":0}]
[null,{"$f":"title167&\" (%)\"","v":"Loan interest rate (%)"},{"$f":"COST_RES2!J11","v":0}]
[null,{"$f":"title261","v":"Loan term (years)"},{"$f":"COST_RES2!M9","v":0}]
[null,{"$f":"title262","v":"Loan payment (USD/month)"},{"$f":"(PMT($C$80/12,(12*$C$81),$C$79))","v":{"$error":"#NUM!"}}]
[null,{"$f":"title263","v":"Loan payment (USD/year)"},null,{"$f":"IF(D72<=$C$81,$C$82*12,0)","v":0},{"$f":"IF(E72<$C$81,$C$82*12,IF(E72=$C$81,$C$82*12,0))","v":0},{"$f":"IF(F72<$C$81,$C$82*12,IF(F72=$C$81,$C$82*12,0))","v":0},0,0,0,0,0,0,0,0,0,0,0,0,0,0,0,0,0]
[null,{"$f":"title264","v":"Total loan payment (USD)"},{"$f":"SUM(D83:W83)","v":0}]
[null,{"$f":"title265","v":"Loan interest payment (USD)"},{"$f":"C84+C79","v":0},{"$f":"title266","v":"Average loan interest payment for project lifetime"},null,null,{"$f":"C85/C25","v":0},{"$f":"title267","v":"USD per year"}]
[]
[{"$f":"title268","v":"Income tax analysis"}]
[null,{"$f":"title209","v":"Operating Year"},{"$f":"title230","v":"Appraisal"},1,2,3,4,5,6,7,8,9,10,11,12,13,14,15,16,17,18,19,20]
[null,{"$f":"title269","v":"Effective income tax rate (%)"},{"$f":"+'Data entry needs'!$AD$115","v":0},{"$f":"C89","v":0},{"$f":"D89","v":0},0,0,0,0,0,0,0,0,0,0,0,0,0,0,0,0,0,0]
[null,{"$f":"title270","v":"Income tax (USD)"},null,{"$f":"IF(D114<0,0,D89*D114)","v":{"$error":"#DIV/0!"}},{"$error":"#DIV/0!"},{"$error":"#DIV/0!"},{"$error":"#DIV/0!"},{"$error":"#DIV/0!"},{"$error":"#DIV/0!"},{"$error":"#DIV/0!"},{"$error":"#DIV/0!"},{"$error":"#DIV/0!"},{"$error":"#DIV/0!"},{"$error":"#DIV/0!"},{"$error":"#DIV/0!"},{"$error":"#DIV/0!"},{"$error":"#DIV/0!"},{"$error":"#DIV/0!"},{"$error":"#DIV/0!"},{"$error":"#DIV/0!"},{"$error":"#DIV/0!"},{"$error":"#DIV/0!"},{"$error":"#DIV/0!"}]
[null,{"$f":"title271","v":"Total income tax payment (USD)"},{"$f":"SUM(D90:W90)","v":{"$error":"#DIV/0!"}},{"$f":"title458","v":"Average income tax payment "},null,{"$f":"C91/C25","v":{"$error":"#DIV/0!"}},{"$f":"title267","v":"USD per year"}]
[]
[{"$f":"title272","v":"Depreciation"}]
[null,{"$f":"title209","v":"Operating Year"},{"$f":"title230","v":"Appraisal"},1,2,3,4,5,6,7,8,9,10,11,12,13,14,15,16,17,18,19,20]
[null,{"$f":"title273","v":"Depreciation method"},{"$f":"title275","v":"Straight-line"}]
[null,{"$f":"title274","v":"Total depreciation (USD)"},null,{"$f":"COST_RES2!I64","v":0},{"$f":"D96","v":0},{"$f":"E96","v":0},0,0,0,0,0,0,0,0,0,0,0,0,0,0,0,0,0]
[]
[{"$f":"title276","v":"Base case project summary"}]
[{"$f":"title277","v":"Summary of this project - Before Tax"}]
[null,{"$f":"title209","v":"Operating Year"},{"$f":"title230","v":"Appraisal"},1,2,3,4,5,6,7,8,9,10,11,12,13,14,15,16,17,18,19,20]
[null,{"$f":"title278","v":"Total revenue (USD)"},null,{"$f":"D15*1000*D18","v":0},{"$f":"E15*1000*E18","v":0},0,0,0,0,0,0,0,0,0,0,0,0,0,0,0,0,0,0]
[null,{"$f":"title228","v":"Total capital cost (USD)"},{"$f":"-(C33-C79)","v":0}]
[null,{"$f":"title279","v":"Total operating and maintenance cost (USD)"},null,{"$f":"-D68+D62","v":{"$error":"#DIV/0!"}},{"$error":"#DIV/0!"},{"$error":"#DIV/0!"},{"$error":"#DIV/0!"},{"$error":"#DIV/0!"},{"$error":"#DIV/0!"},{"$error":"#DIV/0!"},{"$error":"#DIV/0!"},{"$error":"#DIV/0!"},{"$error":"#DIV/0!"},{"$error":"#DIV/0!"},{"$error":"#DIV/0!"},{"$error":"#DIV/0!"},{"$error":"#DIV/0!"},{"$error":"#DIV/0!"},{"$error":"#DIV/0!"},{"$error":"#DIV/0!"},{"$error":"#DIV/0!"},{"$error":"#DIV/0!"},{"$error":"#DIV/0!"}]
[null,{"$f":"title280","v":"Loan payment (USD)"},null,{"$f":"D83","v":0},{"$f":"E83","v":0},0,0,0,0,0,0,0,0,0,0,0,0,0,0,0,0,0,0]
[null,{"$f":"title281","v":"Cash flow - before tax (USD)"},{"$f":"SUM(C101:C104)","v":0},{"$error":"#DIV/0!"},{"$error":"#DIV/0!"},{"$error":"#DIV/0!"},{"$error":"#DIV/0!"},{"$error":"#DIV/0!"},{"$error":"#DIV/0!"},{"$error":"#DIV/0!"},{"$error":"#DIV/0!"},{"$error":"#DIV/0!"},{"$error":"#DIV/0!"},{"$error":"#DIV/0!"},{"$error":"#DIV/0!"},{"$error":"#DIV/0!"},{"$error":"#DIV/0!"},{"$error":"#DIV/0!"},{"$error":"#DIV/0!"},{"$error":"#DIV/0!"},{"$error":"#DIV/0!"},{"$error":"#DIV/0!"},{"$error":"#DIV/0!"}]
[null,{"$f":"title282","v":"Average revenue (USD)"}]
[]
[{"$f":"title283","v":"Summary of this project - After Tax"}]
[null,{"$f":"title209","v":"Operating Year"},{"$f":"title230","v":"Appraisal"},1,2,3,4,5,6,7,8,9,10,11,12,13,14,15,16,17,18,19,20]
[null,{"$f":"B101","v":"Total revenue (USD)"},{"$f":"C101","v":0},{"$f":"D101","v":0},0,0,0,0,0,0,0,0,0,0,0,0,0,0,0,0,0,0,0]
[null,{"$f":"title279","v":"Total operating and maintenance cost (USD)"},null,{"$f":"-D68+D62","v":{"$error":"#DIV/0!"}},{"$error":"#DIV/0!"},{"$error":"#DIV/0!"},{"$error":"#DIV/0!"},{"$error":"#DIV/0!"},{"$error":"#DIV/0!"},{"$error":"#DIV/0!"},{"$error":"#DIV/0!"},{"$error":"#DIV/0!"},{"$error":"#DIV/0!"},{"$error":"#DIV/0!"},{"$error":"#DIV/0!"},{"$error":"#DIV/0!"},{"$error":"#DIV/0!"},{"$error":"#DIV/0!"},{"$error":"#DIV/0!"},{"$error":"#DIV/0!"},{"$error":"#DIV/0!"},{"$error":"#DIV/0!"},{"$error":"#DIV/0!"}]
[null,{"$f":"title280","v":"Loan payment (USD)"},null,{"$f":"$G$85","v":0},{"$f":"$G$85","v":0},0,0,0,0,0,0,0,0,0,0,0,0,0,0,0,0,0,0]
[null,{"$f":"title284","v":"Depreciation of fixed costs (USD)"},null,{"$f":"-D62","v":0},{"$f":"-E62","v":0},0,0,0,0,0,0,0,0,0,0,0,0,0,0,0,0,0,0]
[null,{"$f":"title285","v":"Net profit - before tax (USD) for income tax calculation"},{"$f":"SUM(C110:C113)","v":0},{"$f":"SUM(D110:D113)","v":{"$error":"#DIV/0!"}},{"$f":"SUM(E110:E113)","v":{"$error":"#DIV/0!"}},{"$error":"#DIV/0!"},{"$error":"#DIV/0!"},{"$error":"#DIV/0!"},{"$error":"#DIV/0!"},{"$error":"#DIV/0!"},{"$error":"#DIV/0!"},{"$error":"#DIV/0!"},{"$error":"#DIV/0!"},{"$error":"#DIV/0!"},{"$error":"#DIV/0!"},{"$error":"#DIV/0!"},{"$error":"#DIV/0!"},{"$error":"#DIV/0!"},{"$error":"#DIV/0!"},{"$error":"#DIV/0!"},{"$error":"#DIV/0!"},{"$error":"#DIV/0!"},{"$error":"#DIV/0!"}]
[null,{"$f":"title286","v":"Income tax"},null,{"$f":"IF(D114>0,-D90,0)","v":{"$error":"#DIV/0!"}},{"$error":"#DIV/0!"},{"$error":"#DIV/0!"},{"$error":"#DIV/0!"},{"$error":"#DIV/0!"},{"$error":"#DIV/0!"},{"$error":"#DIV/0!"},{"$error":"#DIV/0!"},{"$error":"#DIV/0!"},{"$error":"#DIV/0!"},{"$error":"#DIV/0!"},{"$error":"#DIV/0!"},{"$error":"#DIV/0!"},{"$error":"#DIV/0!"},{"$error":"#DIV/0!"},{"$error":"#DIV/0!"},{"$error":"#DIV/0!"},{"$error":"#DIV/0!"},{"$error":"#DIV/0!"},{"$error":"#DIV/0!"}]
[null,{"$f":"title287","v":"Cash flow - after tax (USD)"},{"$f":"C102","v":0},{"$f":"D105+D115","v":{"$error":"#DIV/0!"}},{"$f":"E105+E115","v":{"$error":"#DIV/0!"}},{"$error":"#DIV/0!"},{"$error":"#DIV/0!"},{"$error":"#DIV/0!"},{"$error":"#DIV/0!"},{"$error":"#DIV/0!"},{"$error":"#DIV/0!"},{"$error":"#DIV/0!"},{"$error":"#DIV/0!"},{"$error":"#DIV/0!"},{"$error":"#DIV/0!"},{"$error":"#DIV/0!"},{"$error":"#DIV/0!"},{"$error":"#DIV/0!"},{"$error":"#DIV/0!"},{"$error":"#DIV/0!"},{"$error":"#DIV/0!"},{"$error":"#DIV/0!"},{"$f":"W105+W115","v":{"$error":"#DIV/0!"}}]
[]
[{"$f":"title288","v":"Cumulative value of Net Profit"}]
[null,{"$f":"title209","v":"Operating Year"},{"$f":"title230","v":"Appraisal"},1,2,3,4,5,6,7,8,9,10,11,12,13,14,15,16,17,18,19,20]
[null,{"$f":"title289","v":"Cumulative value of net profit - before tax"},{"$f":"C105","v":0},{"$f":"C120+(D105)","v":{"$error":"#DIV/0!"}},{"$error":"#DIV/0!"},{"$error":"#DIV/0!"},{"$error":"#DIV/0!"},{"$error":"#DIV/0!"},{"$error":"#DIV/0!"},{"$error":"#DIV/0!"},{"$error":"#DIV/0!"},{"$error":"#DIV/0!"},{"$error":"#DIV/0!"},{"$error":"#DIV/0!"},{"$error":"#DIV/0!"},{"$error":"#DIV/0!"},{"$error":"#DIV/0!"},{"$error":"#DIV/0!"},{"$error":"#DIV/0!"},{"$error":"#DIV/0!"},{"$error":"#DIV/0!"},{"$error":"#DIV/0!"},{"$error":"#DIV/0!"}]
[null,{"$f":"title290","v":"Cumulative value of net profit - after tax"},{"$f":"C116","v":0},{"$f":"C121+(D116)","v":{"$error":"#DIV/0!"}},{"$error":"#DIV/0!"},{"$error":"#DIV/0!"},{"$error":"#DIV/0!"},{"$error":"#DIV/0!"},{"$error":"#DIV/0!"},{"$error":"#DIV/0!"},{"$error":"#DIV/0!"},{"$error":"#DIV/0!"},{"$error":"#DIV/0!"},{"$error":"#DIV/0!"},{"$error":"#DIV/0!"},{"$error":"#DIV/0!"},{"$error":"#DIV/0!"},{"$error":"#DIV/0!"},{"$error":"#DIV/0!"},{"$error":"#DIV/0!"},{"$error":"#DIV/0!"},{"$error":"#DIV/0!"},{"$error":"#DIV/0!"}]
[]
[{"$f":"title291","v":"Financial analysis results"}]
[]
[null,{"$f":"title292","v":"Net present value (NPV) (USD) - before tax"},{"$f":"NPV(C75,D105:W105)+C105","v":{"$error":"#DIV/0!"}}]
[null,{"$f":"title293","v":"Internal rate of return (IRR) (%) - before tax"},{"$f":"IF(C125<0,title459,IF(TIR_cell=title519,IRR(C105:W105,0.001),MIRR(C105:W105,C80,C75)))","v":{"$error":"#DIV/0!"}}]
[null,{"$f":"title294","v":"Payback period (years)"},{"$f":"title298","v":"Please see Figure of the cumulative value of net profit - before tax"}]
[]
[]
[null,{"$f":"title295","v":"Net present value (NPV) (USD) - after tax"},{"$f":"NPV(C75,D116:W116)+C116","v":{"$error":"#DIV/0!"}}]
[null,{"$f":"title296","v":"Internal rate of return (IRR) (%) - after tax"},{"$f":"IF(C130<0,title459,MIRR(C116:W116,$C$80,0%))","v":{"$error":"#DIV/0!"}}]
[null,{"$f":"title294","v":"Payback period (years)"},{"$f":"title299","v":"Please see Figure of the cumulative value of net profit - after tax"}]
[null,{"$f":"title297","v":"Total Income tax payment of project lifetime"},{"$f":"SUM(D115:W115)","v":{"$error":"#DIV/0!"}}]

{"sheet":"FA400_URBAN_RES2","index":36,"n_rows":134,"n_cols":23,"rows_kept":134,"cut":false,"hidden":true,"merged":[[1,1,1,13]]}
[]
[null,{"$f":"title301","v":"FINANCIAL ANALYSIS OF BIOMASS BRIQUETTING 400 KG/HOUR"}]
[]
[{"$f":"title208","v":"Revenues of biomass briquetting system"}]
[null,{"$f":"title209","v":"Operating Year"},0,1,2,3,4,5,6,7,8,9,10,11,12,13,14,15,16,17,18,19,20]
[]
[null,{"$f":"title210","v":"Briquette production capacity (tons per year)"},{"$f":"COST_RES2!J29","v":0},{"$f":"C7","v":0},{"$f":"D7","v":0},0,0,0,0,0,0,0,0,0,0,0,0,0,0,0,0,0,0]
[]
[null,{"$f":"title211","v":"Efficiency % of briquetting machine"},{"$f":"COST_RES2!G12","v":0},{"$f":"+C9","v":0},{"$f":"+D9","v":0},0,0,0,0,0,0,0,0,0,0,0,0,0,0,0,0,0,0]
[]
[null,{"$f":"title212","v":"Operating hours per year"},{"$f":"COST_RES2!K28","v":0},{"$f":"+C11","v":0},{"$f":"D11","v":0},0,0,0,0,0,0,0,0,0,0,0,0,0,0,0,0,0,0]
[null,{"$f":"title213","v":"Capacity utilization factor"},{"$f":"C11/8760","v":0},{"$f":"D11/8760","v":0},0,0,0,0,0,0,0,0,0,0,0,0,0,0,0,0,0,0,0]
[]
[null,{"$f":"title214","v":"Briquette production (tons per year)"},{"$f":"C7","v":0},{"$f":"D7","v":0},0,0,0,0,0,0,0,0,0,0,0,0,0,0,0,0,0,0,0]
[null,{"$f":"title215","v":"Total briquette sell to customers (tons per year)"},{"$f":"SUM(C14:C14)","v":0},{"$f":"SUM(D14:D14)","v":0},0,0,0,0,0,0,0,0,0,0,0,0,0,0,0,0,0,0,0]
[]
[null,{"$f":"title216","v":"Price of briquette (USD/kg)"},{"$f":"SUM(C18:C18)","v":0},0,0,0,0,0,0,0,0,0,0,0,0,0,0,0,0,0,0,0,0]
[null,{"$f":"title217","v":"Market price of briquette pay by consumers (USD/kg)"},{"$f":"+'Energy Demand'!G20","v":0},{"$f":"C18*(1+D19)","v":0},0,0,0,0,0,0,0,0,0,0,0,0,0,0,0,0,0,0,0]
[null,{"$f":"title218","v":"Increasing rate of price of briquette (%)"},{"$f":"+'Data entry needs'!$AD$114","v":0},{"$f":"C19","v":0},{"$f":"D19","v":0},0,0,0,0,0,0,0,0,0,0,0,0,0,0,0,0,0,0]
[]
[null,{"$f":"title219","v":"Total income of briquette (USD per year)"},{"$f":"C15*C18*1000","v":0},{"$f":"D15*D18*1000","v":0},0,0,0,0,0,0,0,0,0,0,0,0,0,0,0,0,0,0,0]
[]
[null,{"$f":"title220","v":"Lifespan of civil work (years)"},{"$f":"COST_RES2!E61","v":10}]
[null,{"$f":"title221","v":"Lifespan of briquette system (years)"},{"$f":"COST_RES2!E60","v":10}]
[null,{"$f":"title222","v":"Project life time (years)"},20]
[]
[{"$f":"title223","v":"Capital and operating cost of biomass briquette system "}]
[]
[null,null,{"$f":"title230","v":"Appraisal"},{"$f":"title231","v":"Project lifetime"},{"$f":"title232","v":"Investment per year"}]
[null,{"$f":"title224","v":"Direct capital cost (USD)"}]
[null,{"$f":"title225","v":"Equipments"},{"$f":"D31*E31","v":0},{"$f":"$C$25","v":20},{"$f":"COST_RES2!J60/D31","v":0}]
[null,{"$f":"title226","v":"Building"},{"$f":"D32*E32","v":0},{"$f":"$C$25","v":20},{"$f":"COST_RES2!J61/D32","v":0}]
[null,{"$f":"title227","v":"Installation"},{"$f":"D33*E33","v":0},{"$f":"$C$25","v":20},{"$f":"COST_RES1!J62/D33","v":0}]
[null,{"$f":"title228","v":"Total capital cost (USD)"},{"$f":"SUM(C31:C33)","v":0},null,{"$f":"SUM(E31:E33)","v":0}]
[null,{"$f":"title229","v":"Capital cost (USD/kg of briquette)"},{"$f":"C34/(C14*1000*C25)","v":{"$error":"#DIV/0!"}}]
[]
[]
[null,{"$f":"title209","v":"Operating Year"},{"$f":"title230","v":"Appraisal"},1,2,3,4,5,6,7,8,9,10,11,12,13,14,15,16,17,18,19,20]
[null,{"$f":"title233","v":"Annual operating and maintenance cost "}]
[null,{"$f":"title234","v":"Sub-total material cost (USD)"},{"$f":"C41+C49+C51+C54","v":{"$error":"#DIV/0!"}},{"$f":"D41+D49+D51+D54","v":{"$error":"#DIV/0!"}},{"$error":"#DIV/0!"},{"$error":"#DIV/0!"},{"$error":"#DIV/0!"},{"$error":"#DIV/0!"},{"$error":"#DIV/0!"},{"$error":"#DIV/0!"},{"$error":"#DIV/0!"},{"$error":"#DIV/0!"},{"$error":"#DIV/0!"},{"$error":"#DIV/0!"},{"$error":"#DIV/0!"},{"$error":"#DIV/0!"},{"$error":"#DIV/0!"},{"$error":"#DIV/0!"},{"$error":"#DIV/0!"},{"$error":"#DIV/0!"},{"$error":"#DIV/0!"},{"$error":"#DIV/0!"},{"$error":"#DIV/0!"}]
[null,{"$f":"title235","v":"Biomass cost (USD/year)"},{"$f":"C42*C43","v":{"$error":"#DIV/0!"}},{"$f":"D42*D43","v":{"$error":"#DIV/0!"}},{"$error":"#DIV/0!"},{"$error":"#DIV/0!"},{"$error":"#DIV/0!"},{"$error":"#DIV/0!"},{"$error":"#DIV/0!"},{"$error":"#DIV/0!"},{"$error":"#DIV/0!"},{"$error":"#DIV/0!"},{"$error":"#DIV/0!"},{"$error":"#DIV/0!"},{"$error":"#DIV/0!"},{"$error":"#DIV/0!"},{"$error":"#DIV/0!"},{"$error":"#DIV/0!"},{"$error":"#DIV/0!"},{"$error":"#DIV/0!"},{"$error":"#DIV/0!"},{"$error":"#DIV/0!"},{"$error":"#DIV/0!"}]
[null,{"$f":"title236","v":"Biomass consumption (ton per year)"},{"$f":"C14/COST_RES2!$G$12","v":{"$error":"#DIV/0!"}},{"$f":"D14/COST_RES2!$G$12","v":{"$error":"#DIV/0!"}},{"$f":"E14/COST_RES2!$G$12","v":{"$error":"#DIV/0!"}},{"$f":"F14/COST_RES2!$G$12","v":{"$error":"#DIV/0!"}},{"$f":"G14/COST_RES2!$G$12","v":{"$error":"#DIV/0!"}},{"$f":"H14/COST_RES2!$G$12","v":{"$error":"#DIV/0!"}},{"$f":"I14/COST_RES2!$G$12","v":{"$error":"#DIV/0!"}},{"$f":"J14/COST_RES2!$G$12","v":{"$error":"#DIV/0!"}},{"$f":"K14/COST_RES2!$G$12","v":{"$error":"#DIV/0!"}},{"$f":"L14/COST_RES2!$G$12","v":{"$error":"#DIV/0!"}},{"$f":"M14/COST_RES2!$G$12","v":{"$error":"#DIV/0!"}},{"$f":"N14/COST_RES2!$G$12","v":{"$error":"#DIV/0!"}},{"$f":"O14/COST_RES2!$G$12","v":{"$error":"#DIV/0!"}},{"$f":"P14/COST_RES2!$G$12","v":{"$error":"#DIV/0!"}},{"$f":"Q14/COST_RES2!$G$12","v":{"$error":"#DIV/0!"}},{"$f":"R14/COST_RES2!$G$12","v":{"$error":"#DIV/0!"}},{"$f":"S14/COST_RES2!$G$12","v":{"$error":"#DIV/0!"}},{"$f":"T14/COST_RES2!$G$12","v":{"$error":"#DIV/0!"}},{"$f":"U14/COST_RES2!$G$12","v":{"$error":"#DIV/0!"}},{"$f":"V14/COST_RES2!$G$12","v":{"$error":"#DIV/0!"}},{"$f":"W14/COST_RES2!$G$12","v":{"$error":"#DIV/0!"}}]
[null,{"$f":"title237","v":"Biomass price (USD/ton)"},{"$f":"SUM(C44:C45)","v":0},{"$f":"SUM(D44:D45)","v":0},0,0,0,0,0,0,0,0,0,0,0,0,0,0,0,0,0,0,0]
[null,{"$f":"title238","v":"Biomass cost of collection (USD/ton)"},{"$f":"COST_RES2!E33","v":0},{"$f":"C44*(1+D74+D75)","v":0},{"$f":"D44*(1+E74+E75)","v":0},0,0,0,0,0,0,0,0,0,0,0,0,0,0,0,0,0,0]
[null,{"$f":"title239","v":"Biomass transportation cost (USD/ton)"},{"$f":"C46*C47","v":0},{"$f":"D46*D47","v":0},0,0,0,0,0,0,0,0,0,0,0,0,0,0,0,0,0,0,0]
[null,{"$f":"title240","v":"Biomass from farm to plant (USD/ton/km)"},{"$f":"COST_RES2!E48","v":0},{"$f":"C46*(1+D74+D75)","v":0},{"$f":"D46*(1+E74+E75)","v":0},0,0,0,0,0,0,0,0,0,0,0,0,0,0,0,0,0,0]
[null,{"$f":"title241","v":"Transportation distant (km)"},{"$f":"COST_RES2!J48","v":0},{"$f":"C47","v":0},{"$f":"D47","v":0},0,0,0,0,0,0,0,0,0,0,0,0,0,0,{"$f":"S47","v":0},{"$f":"T47","v":0},{"$f":"U47","v":0},{"$f":"V47","v":0}]
[]
[null,{"$f":"title246","v":"Water cost (USD/year)"},{"$f":"COST_RES2!K35","v":0},{"$f":"C49*(1+D74+D75)","v":0},{"$f":"D49*(1+E74+E75)","v":0},0,0,0,0,0,0,0,0,0,0,0,0,0,0,0,0,0,0]
[]
[null,{"$f":"title242","v":"Chemical cost (USD/year)"},{"$f":"C52*C53","v":0},{"$f":"D52*D53","v":0},0,0,0,0,0,0,0,0,0,0,0,0,0,0,0,0,0,0,0]
[null,{"$f":"title243","v":"Chemical consumption (tons per year)"},{"$f":"+COST_RES2!$J$34","v":0},{"$f":"+COST_RES2!$J$34","v":0},{"$f":"+COST_RES2!$J$34","v":0},{"$f":"+COST_RES2!$J$34","v":0},{"$f":"+COST_RES2!$J$34","v":0},{"$f":"+COST_RES2!$J$34","v":0},{"$f":"+COST_RES2!$J$34","v":0},{"$f":"+COST_RES2!$J$34","v":0},{"$f":"+COST_RES2!$J$34","v":0},{"$f":"+COST_RES2!$J$34","v":0},{"$f":"+COST_RES2!$J$34","v":0},{"$f":"+COST_RES2!$J$34","v":0},{"$f":"+COST_RES2!$J$34","v":0},{"$f":"+COST_RES2!$J$34","v":0},{"$f":"+COST_RES2!$J$34","v":0},{"$f":"+COST_RES2!$J$34","v":0},{"$f":"+COST_RES2!$J$34","v":0},{"$f":"+COST_RES2!$J$34","v":0},{"$f":"+COST_RES2!$J$34","v":0},{"$f":"+COST_RES2!$J$34","v":0},{"$f":"+COST_RES2!$J$34","v":0}]
[null,{"$f":"title244","v":"Chemical price (USD/ton)"},{"$f":"+'Data entry needs'!$E$20","v":0},{"$f":"C53","v":0},{"$f":"D53","v":0},0,0,0,0,0,0,0,0,0,0,0,0,0,0,0,0,0,0]
[null,{"$f":"title245","v":"Electricity cost (USD)"},{"$f":"COST_RES2!K36","v":0},{"$f":"C54*(1+D74+D75)","v":0},{"$f":"D54*(1+E74+E75)","v":0},0,0,0,0,0,0,0,0,0,0,0,0,0,0,0,0,0,0]
[]
[null,{"$f":"title247","v":"Sub-total operating cost (USD)"},{"$f":"C57+C59+C60","v":{"$error":"#DIV/0!"}},{"$f":"D57+D59+D60","v":{"$error":"#DIV/0!"}},{"$error":"#DIV/0!"},{"$error":"#DIV/0!"},{"$error":"#DIV/0!"},{"$error":"#DIV/0!"},{"$error":"#DIV/0!"},{"$error":"#DIV/0!"},{"$error":"#DIV/0!"},{"$error":"#DIV/0!"},{"$error":"#DIV/0!"},{"$error":"#DIV/0!"},{"$error":"#DIV/0!"},{"$error":"#DIV/0!"},{"$error":"#DIV/0!"},{"$error":"#DIV/0!"},{"$error":"#DIV/0!"},{"$error":"#DIV/0!"},{"$error":"#DIV/0!"},{"$error":"#DIV/0!"},{"$error":"#DIV/0!"}]
[null,{"$f":"title248","v":"Labour cost (USD)"},{"$f":"COST_RES2!K44","v":0},{"$f":"C57*(1+D58)","v":0},0,0,0,0,0,0,0,0,0,0,0,0,0,0,0,0,0,0,0]
[null,"Annual change in  labour cost (%)",null,{"$f":"COST_RES2!M12","v":0},{"$f":"D58","v":0},0,0,0,0,0,0,0,0,0,0,0,0,0,0,0,{"$f":"T58","v":0},0,0]
[null,{"$f":"title249","v":"Annual change in labour cost (%)"},{"$f":"COST_RES2!K70","v":0},{"$f":"C59","v":0},0,0,0,0,0,0,0,0,0,0,0,0,0,0,0,0,0,0,0]
[null,{"$f":"title250","v":"General and administrative cost"},{"$f":"COST_RES2!K71","v":{"$error":"#DIV/0!"}},{"$f":"C60","v":{"$error":"#DIV/0!"}},{"$error":"#DIV/0!"},{"$error":"#DIV/0!"},{"$error":"#DIV/0!"},{"$error":"#DIV/0!"},{"$error":"#DIV/0!"},{"$error":"#DIV/0!"},{"$error":"#DIV/0!"},{"$error":"#DIV/0!"},{"$error":"#DIV/0!"},{"$error":"#DIV/0!"},{"$error":"#DIV/0!"},{"$error":"#DIV/0!"},{"$error":"#DIV/0!"},{"$error":"#DIV/0!"},{"$error":"#DIV/0!"},{"$error":"#DIV/0!"},{"$error":"#DIV/0!"},{"$error":"#DIV/0!"},{"$error":"#DIV/0!"}]
[null,{"$f":"title251","v":"Sub-total maintenance cost (USD)"},{"$f":"COST_RES2!$K$65","v":0},{"$f":"C61","v":0},0,0,0,0,0,0,0,0,0,0,0,0,0,0,0,0,0,0,0]
[]
[null,{"$f":"title252","v":"Sub-total of annual fixed costs"},{"$f":"+E34","v":0},{"$f":"C63","v":0},{"$f":"D63","v":0},0,0,0,0,0,0,0,0,0,0,0,0,0,0,0,0,0,0]
[]
[null,{"$f":"title253","v":"Sub-total of storage capacity"},{"$f":"COST_RES2!K56","v":{"$error":"#DIV/0!"}},{"$f":"C65","v":{"$error":"#DIV/0!"}},{"$f":"D65","v":{"$error":"#DIV/0!"}},{"$error":"#DIV/0!"},{"$error":"#DIV/0!"},{"$error":"#DIV/0!"},{"$error":"#DIV/0!"},{"$error":"#DIV/0!"},{"$error":"#DIV/0!"},{"$error":"#DIV/0!"},{"$error":"#DIV/0!"},{"$error":"#DIV/0!"},{"$error":"#DIV/0!"},{"$error":"#DIV/0!"},{"$error":"#DIV/0!"},{"$error":"#DIV/0!"},{"$error":"#DIV/0!"},{"$error":"#DIV/0!"},{"$error":"#DIV/0!"},{"$error":"#DIV/0!"},{"$error":"#DIV/0!"}]
[]
[null,{"$f":"title254","v":"Sub-total of briquette transportation to market"},{"$f":"COST_RES2!K49","v":0},{"$f":"C67*(1+D74+D75)","v":0},{"$f":"D67*(1+E74+E75)","v":0},0,0,0,0,0,0,0,0,0,0,0,0,0,0,0,0,0,0]
[]
[null,{"$f":"title255","v":"Total operation and maintenance cost (USD)"},{"$f":"C40+C56+C61+C63+C65+C67","v":{"$error":"#DIV/0!"}},{"$f":"D40+D56+D61+D63+D65+D67","v":{"$error":"#DIV/0!"}},{"$error":"#DIV/0!"},{"$error":"#DIV/0!"},{"$error":"#DIV/0!"},{"$error":"#DIV/0!"},{"$error":"#DIV/0!"},{"$error":"#DIV/0!"},{"$error":"#DIV/0!"},{"$error":"#DIV/0!"},{"$error":"#DIV/0!"},{"$error":"#DIV/0!"},{"$error":"#DIV/0!"},{"$error":"#DIV/0!"},{"$error":"#DIV/0!"},{"$error":"#DIV/0!"},{"$error":"#DIV/0!"},{"$error":"#DIV/0!"},{"$error":"#DIV/0!"},{"$error":"#DIV/0!"},{"$error":"#DIV/0!"}]
[null,{"$f":"title256","v":"Operation and maintenance cost (USD/kg of briquette) without loan interest"},{"$f":"C69/(C14*1000)","v":{"$error":"#DIV/0!"}},{"$error":"#DIV/0!"},{"$error":"#DIV/0!"},{"$error":"#DIV/0!"},{"$error":"#DIV/0!"},{"$error":"#DIV/0!"},{"$error":"#DIV/0!"},{"$error":"#DIV/0!"},{"$error":"#DIV/0!"},{"$error":"#DIV/0!"},{"$error":"#DIV/0!"},{"$error":"#DIV/0!"},{"$error":"#DIV/0!"},{"$error":"#DIV/0!"},{"$error":"#DIV/0!"},{"$error":"#DIV/0!"},{"$error":"#DIV/0!"},{"$error":"#DIV/0!"},{"$error":"#DIV/0!"},{"$error":"#DIV/0!"},{"$error":"#DIV/0!"}]
[]
[{"$f":"title164","v":"Financial parameters"}]
[null,{"$f":"title209","v":"Operating Year"},{"$f":"title230","v":"Appraisal"},1,2,3,4,5,6,7,8,9,10,11,12,13,14,15,16,17,18,19,20]
[null,{"$f":"title257","v":"Annual change in raw material cost (%)"},null,0,{"$f":"D74","v":0},{"$f":"E74","v":0},0,0,0,0,0,0,0,0,0,0,0,0,0,0,0,{"$f":"U74","v":0},{"$f":"V74","v":0}]
[null,{"$f":"title258","v":"Inflation rate (%)"},null,{"$f":"COST_RES2!J12","v":0},{"$f":"D75","v":0},0,0,0,0,0,0,0,0,0,0,0,0,0,0,0,0,{"$f":"U75","v":0},{"$f":"V75","v":0}]
[null,{"$f":"title165&\" (%)\"","v":"Discount rate (%)"},{"$f":"COST_RES2!J9","v":0}]
[null,{"$f":"title166&\" (%)\"","v":"Loan ratio (%)"},{"$f":"COST_RES2!J10","v":0}]
[]
[null,{"$f":"title259","v":"Loan without policy"},{"$f":"title230","v":"Appraisal"},1,2,3,4,5,6,7,8,9,10,11,12,13,14,15,16,17,18,19,20]
[null,{"$f":"title260","v":"Loan amount (USD)"},{"$f":"C77*(C34)","v":0}]
[null,{"$f":"title167&\" (%)\"","v":"Loan interest rate (%)"},{"$f":"COST_RES2!J11","v":0}]
[null,{"$f":"title261","v":"Loan term (years)"},{"$f":"COST_RES2!M9","v":0}]
[null,{"$f":"title262","v":"Loan payment (USD/month)"},{"$f":"(PMT($C$81/12,(12*$C$82),$C$80))","v":{"$error":"#NUM!"}}]
[null,{"$f":"title263","v":"Loan payment (USD/year)"},null,{"$f":"IF(D73<=$C$82,$C$83*12,0)","v":0},{"$f":"IF(E73<$C$82,$C$83*12,IF(E73=$C$82,$C$83*12,0))","v":0},{"$f":"IF(F73<$C$82,$C$83*12,IF(F73=$C$82,$C$83*12,0))","v":0},0,0,0,0,0,0,0,0,0,0,0,0,0,0,0,0,0]
[null,{"$f":"title264","v":"Total loan payment (USD)"},{"$f":"SUM(D84:W84)","v":0}]
[null,{"$f":"title265","v":"Loan interest payment (USD)"},{"$f":"C85+C80","v":0},{"$f":"title266","v":"Average loan interest payment for project lifetime"},null,null,{"$f":"C86/C25","v":0},{"$f":"title267","v":"USD per year"}]
[]
[{"$f":"title268","v":"Income tax analysis"}]
[null,{"$f":"title209","v":"Operating Year"},{"$f":"title230","v":"Appraisal"},1,2,3,4,5,6,7,8,9,10,11,12,13,14,15,16,17,18,19,20]
[null,{"$f":"title269","v":"Effective income tax rate (%)"},{"$f":"+'Data entry needs'!$AD$115","v":0},{"$f":"C90","v":0},{"$f":"D90","v":0},0,0,0,0,0,0,0,0,0,0,0,0,0,0,0,0,0,0]
[null,{"$f":"title270","v":"Income tax (USD)"},null,{"$f":"IF(D115<0,0,D90*D115)","v":{"$error":"#DIV/0!"}},{"$error":"#DIV/0!"},{"$error":"#DIV/0!"},{"$error":"#DIV/0!"},{"$error":"#DIV/0!"},{"$error":"#DIV/0!"},{"$error":"#DIV/0!"},{"$error":"#DIV/0!"},{"$error":"#DIV/0!"},{"$error":"#DIV/0!"},{"$error":"#DIV/0!"},{"$error":"#DIV/0!"},{"$error":"#DIV/0!"},{"$error":"#DIV/0!"},{"$error":"#DIV/0!"},{"$error":"#DIV/0!"},{"$error":"#DIV/0!"},{"$error":"#DIV/0!"},{"$error":"#DIV/0!"},{"$error":"#DIV/0!"}]
[null,{"$f":"title271","v":"Total income tax payment (USD)"},{"$f":"SUM(D91:W91)","v":{"$error":"#DIV/0!"}},{"$f":"title458","v":"Average income tax payment "},null,{"$f":"C92/C25","v":{"$error":"#DIV/0!"}},{"$f":"title267","v":"USD per year"}]
[]
[{"$f":"title272","v":"Depreciation"}]
[null,{"$f":"title209","v":"Operating Year"},{"$f":"title230","v":"Appraisal"},1,2,3,4,5,6,7,8,9,10,11,12,13,14,15,16,17,18,19,20]
[null,{"$f":"title273","v":"Depreciation method"},{"$f":"title275","v":"Straight-line"}]
[null,{"$f":"title274","v":"Total depreciation (USD)"},null,{"$f":"COST_RES2!K64","v":0},{"$f":"D97","v":0},{"$f":"E97","v":0},0,0,0,0,0,0,0,0,0,0,0,0,0,0,0,0,0]
[]
[{"$f":"title276","v":"Base case project summary"}]
[{"$f":"title277","v":"Summary of this project - Before Tax"}]
[null,{"$f":"title209","v":"Operating Year"},{"$f":"title230","v":"Appraisal"},1,2,3,4,5,6,7,8,9,10,11,12,13,14,15,16,17,18,19,20]
[null,{"$f":"title278","v":"Total revenue (USD)"},null,{"$f":"D15*1000*D18","v":0},{"$f":"E15*1000*E18","v":0},0,0,0,0,0,0,0,0,0,0,0,0,0,0,0,0,0,0]
[null,{"$f":"title228","v":"Total capital cost (USD)"},{"$f":"-(C34-C80)","v":0}]
[null,{"$f":"title279","v":"Total operating and maintenance cost (USD)"},null,{"$f":"-D69+D63","v":{"$error":"#DIV/0!"}},{"$error":"#DIV/0!"},{"$error":"#DIV/0!"},{"$error":"#DIV/0!"},{"$error":"#DIV/0!"},{"$error":"#DIV/0!"},{"$error":"#DIV/0!"},{"$error":"#DIV/0!"},{"$error":"#DIV/0!"},{"$error":"#DIV/0!"},{"$error":"#DIV/0!"},{"$error":"#DIV/0!"},{"$error":"#DIV/0!"},{"$error":"#DIV/0!"},{"$error":"#DIV/0!"},{"$error":"#DIV/0!"},{"$error":"#DIV/0!"},{"$error":"#DIV/0!"},{"$error":"#DIV/0!"},{"$error":"#DIV/0!"}]
[null,{"$f":"title280","v":"Loan payment (USD)"},null,{"$f":"D84","v":0},{"$f":"E84","v":0},0,0,0,0,0,0,0,0,0,0,0,0,0,0,0,0,0,0]
[null,{"$f":"title281","v":"Cash flow - before tax (USD)"},{"$f":"SUM(C102:C105)","v":0},{"$error":"#DIV/0!"},{"$error":"#DIV/0!"},{"$error":"#DIV/0!"},{"$error":"#DIV/0!"},{"$error":"#DIV/0!"},{"$error":"#DIV/0!"},{"$error":"#DIV/0!"},{"$error":"#DIV/0!"},{"$error":"#DIV/0!"},{"$error":"#DIV/0!"},{"$error":"#DIV/0!"},{"$error":"#DIV/0!"},{"$error":"#DIV/0!"},{"$error":"#DIV/0!"},{"$error":"#DIV/0!"},{"$error":"#DIV/0!"},{"$error":"#DIV/0!"},{"$error":"#DIV/0!"},{"$error":"#DIV/0!"},{"$error":"#DIV/0!"}]
[null,{"$f":"title282","v":"Average revenue (USD)"}]
[]
[{"$f":"title283","v":"Summary of this project - After Tax"}]
[null,{"$f":"title209","v":"Operating Year"},{"$f":"title230","v":"Appraisal"},1,2,3,4,5,6,7,8,9,10,11,12,13,14,15,16,17,18,19,20]
[null,{"$f":"B102","v":"Total revenue (USD)"},{"$f":"C102","v":0},{"$f":"D102","v":0},0,0,0,0,0,0,0,0,0,0,0,0,0,0,0,0,0,0,0]
[null,{"$f":"title279","v":"Total operating and maintenance cost (USD)"},null,{"$f":"-D69+D63","v":{"$error":"#DIV/0!"}},{"$error":"#DIV/0!"},{"$error":"#DIV/0!"},{"$error":"#DIV/0!"},{"$error":"#DIV/0!"},{"$error":"#DIV/0!"},{"$error":"#DIV/0!"},{"$error":"#DIV/0!"},{"$error":"#DIV/0!"},{"$error":"#DIV/0!"},{"$error":"#DIV/0!"},{"$error":"#DIV/0!"},{"$error":"#DIV/0!"},{"$error":"#DIV/0!"},{"$error":"#DIV/0!"},{"$error":"#DIV/0!"},{"$error":"#DIV/0!"},{"$error":"#DIV/0!"},{"$error":"#DIV/0!"},{"$error":"#DIV/0!"}]
[null,{"$f":"title280","v":"Loan payment (USD)"},null,{"$f":"$G$86","v":0},{"$f":"$G$86","v":0},0,0,0,0,0,0,0,0,0,0,0,0,0,0,0,0,0,0]
[null,{"$f":"title284","v":"Depreciation of fixed costs (USD)"},null,{"$f":"-D63","v":0},{"$f":"-E63","v":0},0,0,0,0,0,0,0,0,0,0,0,0,0,0,0,0,0,0]
[null,{"$f":"title285","v":"Net profit - before tax (USD) for income tax calculation"},{"$f":"SUM(C111:C114)","v":0},{"$f":"SUM(D111:D114)","v":{"$error":"#DIV/0!"}},{"$f":"SUM(E111:E114)","v":{"$error":"#DIV/0!"}},{"$error":"#DIV/0!"},{"$error":"#DIV/0!"},{"$error":"#DIV/0!"},{"$error":"#DIV/0!"},{"$error":"#DIV/0!"},{"$error":"#DIV/0!"},{"$error":"#DIV/0!"},{"$error":"#DIV/0!"},{"$error":"#DIV/0!"},{"$error":"#DIV/0!"},{"$error":"#DIV/0!"},{"$error":"#DIV/0!"},{"$error":"#DIV/0!"},{"$error":"#DIV/0!"},{"$error":"#DIV/0!"},{"$error":"#DIV/0!"},{"$error":"#DIV/0!"},{"$error":"#DIV/0!"}]
[null,{"$f":"title286","v":"Income tax"},null,{"$f":"IF(D115>0,-D91,0)","v":{"$error":"#DIV/0!"}},{"$error":"#DIV/0!"},{"$error":"#DIV/0!"},{"$error":"#DIV/0!"},{"$error":"#DIV/0!"},{"$error":"#DIV/0!"},{"$error":"#DIV/0!"},{"$error":"#DIV/0!"},{"$error":"#DIV/0!"},{"$error":"#DIV/0!"},{"$error":"#DIV/0!"},{"$error":"#DIV/0!"},{"$error":"#DIV/0!"},{"$error":"#DIV/0!"},{"$error":"#DIV/0!"},{"$error":"#DIV/0!"},{"$error":"#DIV/0!"},{"$error":"#DIV/0!"},{"$error":"#DIV/0!"},{"$error":"#DIV/0!"}]
[null,{"$f":"title287","v":"Cash flow - after tax (USD)"},{"$f":"C103","v":0},{"$f":"D106+D116","v":{"$error":"#DIV/0!"}},{"$f":"E106+E116","v":{"$error":"#DIV/0!"}},{"$error":"#DIV/0!"},{"$error":"#DIV/0!"},{"$error":"#DIV/0!"},{"$error":"#DIV/0!"},{"$error":"#DIV/0!"},{"$error":"#DIV/0!"},{"$error":"#DIV/0!"},{"$error":"#DIV/0!"},{"$error":"#DIV/0!"},{"$error":"#DIV/0!"},{"$error":"#DIV/0!"},{"$error":"#DIV/0!"},{"$error":"#DIV/0!"},{"$error":"#DIV/0!"},{"$error":"#DIV/0!"},{"$error":"#DIV/0!"},{"$error":"#DIV/0!"},{"$f":"W106+W116","v":{"$error":"#DIV/0!"}}]
[]
[{"$f":"title288","v":"Cumulative value of Net Profit"}]
[null,{"$f":"title209","v":"Operating Year"},{"$f":"title230","v":"Appraisal"},1,2,3,4,5,6,7,8,9,10,11,12,13,14,15,16,17,18,19,20]
[null,{"$f":"title289","v":"Cumulative value of net profit - before tax"},{"$f":"C106","v":0},{"$f":"C121+(D106)","v":{"$error":"#DIV/0!"}},{"$error":"#DIV/0!"},{"$error":"#DIV/0!"},{"$error":"#DIV/0!"},{"$error":"#DIV/0!"},{"$error":"#DIV/0!"},{"$error":"#DIV/0!"},{"$error":"#DIV/0!"},{"$error":"#DIV/0!"},{"$error":"#DIV/0!"},{"$error":"#DIV/0!"},{"$error":"#DIV/0!"},{"$error":"#DIV/0!"},{"$error":"#DIV/0!"},{"$error":"#DIV/0!"},{"$error":"#DIV/0!"},{"$error":"#DIV/0!"},{"$error":"#DIV/0!"},{"$error":"#DIV/0!"},{"$error":"#DIV/0!"}]
[null,{"$f":"title290","v":"Cumulative value of net profit - after tax"},{"$f":"C117","v":0},{"$f":"C122+(D117)","v":{"$error":"#DIV/0!"}},{"$error":"#DIV/0!"},{"$error":"#DIV/0!"},{"$error":"#DIV/0!"},{"$error":"#DIV/0!"},{"$error":"#DIV/0!"},{"$error":"#DIV/0!"},{"$error":"#DIV/0!"},{"$error":"#DIV/0!"},{"$error":"#DIV/0!"},{"$error":"#DIV/0!"},{"$error":"#DIV/0!"},{"$error":"#DIV/0!"},{"$error":"#DIV/0!"},{"$error":"#DIV/0!"},{"$error":"#DIV/0!"},{"$error":"#DIV/0!"},{"$error":"#DIV/0!"},{"$error":"#DIV/0!"},{"$error":"#DIV/0!"}]
[]
[{"$f":"title291","v":"Financial analysis results"}]
[]
[null,{"$f":"title292","v":"Net present value (NPV) (USD) - before tax"},{"$f":"NPV(C76,D106:W106)+C106","v":{"$error":"#DIV/0!"}}]
[null,{"$f":"title293","v":"Internal rate of return (IRR) (%) - before tax"},{"$f":"IF(C126<0,title459,IF(TIR_cell=title519,IRR(C106:W106,0.001),MIRR(C106:W106,C81,C76)))","v":{"$error":"#DIV/0!"}}]
[null,{"$f":"title294","v":"Payback period (years)"},{"$f":"title298","v":"Please see Figure of the cumulative value of net profit - before tax"}]
[]
[]
[null,{"$f":"title295","v":"Net present value (NPV) (USD) - after tax"},{"$f":"NPV(C76,D117:W117)+C117","v":{"$error":"#DIV/0!"}}]
[null,{"$f":"title296","v":"Internal rate of return (IRR) (%) - after tax"},{"$f":"IF(C131<0,title459,MIRR(C117:W117,C81,0%))","v":{"$error":"#DIV/0!"}}]
[null,{"$f":"title294","v":"Payback period (years)"},{"$f":"title299","v":"Please see Figure of the cumulative value of net profit - after tax"}]
[null,{"$f":"title297","v":"Total Income tax payment of project lifetime"},{"$f":"SUM(D116:W116)","v":{"$error":"#DIV/0!"}}]

{"sheet":"FA4000_URBAN_RES2","index":37,"n_rows":134,"n_cols":23,"rows_kept":134,"cut":false,"hidden":true,"merged":[[1,1,1,13]]}
[]
[null,{"$f":"title302","v":"FINANCIAL ANALYSIS OF BIOMASS BRIQUETTING 4000 KG/HOUR"}]
[]
[{"$f":"title208","v":"Revenues of biomass briquetting system"}]
[null,{"$f":"title209","v":"Operating Year"},0,1,2,3,4,5,6,7,8,9,10,11,12,13,14,15,16,17,18,19,20]
[]
[null,{"$f":"title210","v":"Briquette production capacity (tons per year)"},{"$f":"COST_RES2!L29","v":0},{"$f":"C7","v":0},{"$f":"D7","v":0},0,0,0,0,0,0,0,0,0,0,0,0,0,0,0,0,0,0]
[null,null,null,null,null,null,null,null," "]
[null,{"$f":"title211","v":"Efficiency % of briquetting machine"},{"$f":"COST_RES2!G12","v":0},{"$f":"+C9","v":0},{"$f":"+D9","v":0},0,0,0,0,0,0,0,0,0,0,0,0,0,0,0,0,0,0]
[]
[null,{"$f":"title212","v":"Operating hours per year"},{"$f":"COST_RES2!M28","v":0},{"$f":"+C11","v":0},{"$f":"D11","v":0},0,0,0,0,0,0,0,0,0,0,0,0,0,0,0,0,0,0]
[null,{"$f":"title213","v":"Capacity utilization factor"},{"$f":"C11/8760","v":0},{"$f":"D11/8760","v":0},0,0,0,0,0,0,0,0,0,0,0,0,0,0,0,0,0,0,0]
[]
[null,{"$f":"title214","v":"Briquette production (tons per year)"},{"$f":"C7","v":0},{"$f":"D7","v":0},0,0,0,0,0,0,0,0,0,0,0,0,0,0,0,0,0,0,0]
[null,{"$f":"title215","v":"Total briquette sell to customers (tons per year)"},{"$f":"SUM(C14:C14)","v":0},{"$f":"SUM(D14:D14)","v":0},0,0,0,0,0,0,0,0,0,0,0,0,0,0,0,0,0,0,0]
[]
[null,{"$f":"title216","v":"Price of briquette (USD/kg)"},{"$f":"SUM(C18:C18)","v":0},0,0,0,0,0,0,0,0,0,0,0,0,0,0,0,0,0,0,0,0]
[null,{"$f":"title217","v":"Market price of briquette pay by consumers (USD/kg)"},{"$f":"+'Energy Demand'!G20","v":0},{"$f":"C18*(1+D19)","v":0},0,0,0,0,0,0,0,0,0,0,0,0,0,0,0,0,0,0,0]
[null,{"$f":"title218","v":"Increasing rate of price of briquette (%)"},{"$f":"+'Data entry needs'!$AD$114","v":0},{"$f":"C19","v":0},{"$f":"D19","v":0},0,0,0,0,0,0,0,0,0,0,0,0,0,0,0,0,0,0]
[]
[null,{"$f":"title219","v":"Total income of briquette (USD per year)"},{"$f":"C15*C18*1000","v":0},{"$f":"D15*D18*1000","v":0},0,0,0,0,0,0,0,0,0,0,0,0,0,0,0,0,0,0,0]
[]
[null,{"$f":"title220","v":"Lifespan of civil work (years)"},{"$f":"COST_RES2!E61","v":10}]
[null,{"$f":"title221","v":"Lifespan of briquette system (years)"},{"$f":"COST_RES2!E60","v":10}]
[null,{"$f":"title222","v":"Project life time (years)"},20]
[]
[{"$f":"title223","v":"Capital and operating cost of biomass briquette system "}]
[]
[null,null,{"$f":"title230","v":"Appraisal"},{"$f":"title231","v":"Project lifetime"},{"$f":"title232","v":"Investment per year"}]
[null,{"$f":"title224","v":"Direct capital cost (USD)"}]
[null,{"$f":"title225","v":"Equipments"},{"$f":"D31*E31","v":0},{"$f":"$C$25","v":20},{"$f":"COST_RES2!L60/D31","v":0}]
[null,{"$f":"title226","v":"Building"},{"$f":"D32*E32","v":0},{"$f":"$C$25","v":20},{"$f":"COST_RES2!L61/D32","v":0}]
[null,{"$f":"title227","v":"Installation"},{"$f":"D33*E33","v":0},{"$f":"$C$25","v":20},{"$f":"COST_RES1!L62/D33","v":0}]
[null,{"$f":"title228","v":"Total capital cost (USD)"},{"$f":"SUM(C31:C33)","v":0},null,{"$f":"SUM(E31:E33)","v":0}]
[null,{"$f":"title229","v":"Capital cost (USD/kg of briquette)"},{"$f":"C34/(C14*1000*C25)","v":{"$error":"#DIV/0!"}}]
[]
[]
[null,{"$f":"title209","v":"Operating Year"},{"$f":"title230","v":"Appraisal"},1,2,3,4,5,6,7,8,9,10,11,12,13,14,15,16,17,18,19,20]
[null,{"$f":"title233","v":"Annual operating and maintenance cost "}]
[null,{"$f":"title234","v":"Sub-total material cost (USD)"},{"$f":"C41+C49+C51+C54","v":{"$error":"#DIV/0!"}},{"$f":"D41+D49+D51+D54","v":{"$error":"#DIV/0!"}},{"$error":"#DIV/0!"},{"$error":"#DIV/0!"},{"$error":"#DIV/0!"},{"$error":"#DIV/0!"},{"$error":"#DIV/0!"},{"$error":"#DIV/0!"},{"$error":"#DIV/0!"},{"$error":"#DIV/0!"},{"$error":"#DIV/0!"},{"$error":"#DIV/0!"},{"$error":"#DIV/0!"},{"$error":"#DIV/0!"},{"$error":"#DIV/0!"},{"$error":"#DIV/0!"},{"$error":"#DIV/0!"},{"$error":"#DIV/0!"},{"$error":"#DIV/0!"},{"$error":"#DIV/0!"},{"$error":"#DIV/0!"}]
[null,{"$f":"title235","v":"Biomass cost (USD/year)"},{"$f":"C42*C43","v":{"$error":"#DIV/0!"}},{"$f":"D42*D43","v":{"$error":"#DIV/0!"}},{"$error":"#DIV/0!"},{"$error":"#DIV/0!"},{"$error":"#DIV/0!"},{"$error":"#DIV/0!"},{"$error":"#DIV/0!"},{"$error":"#DIV/0!"},{"$error":"#DIV/0!"},{"$error":"#DIV/0!"},{"$error":"#DIV/0!"},{"$error":"#DIV/0!"},{"$error":"#DIV/0!"},{"$error":"#DIV/0!"},{"$error":"#DIV/0!"},{"$error":"#DIV/0!"},{"$error":"#DIV/0!"},{"$error":"#DIV/0!"},{"$error":"#DIV/0!"},{"$error":"#DIV/0!"},{"$error":"#DIV/0!"}]
[null,{"$f":"title236","v":"Biomass consumption (ton per year)"},{"$f":"C14/COST_RES2!$G$12","v":{"$error":"#DIV/0!"}},{"$f":"D14/COST_RES2!$G$12","v":{"$error":"#DIV/0!"}},{"$f":"E14/COST_RES2!$G$12","v":{"$error":"#DIV/0!"}},{"$f":"F14/COST_RES2!$G$12","v":{"$error":"#DIV/0!"}},{"$f":"G14/COST_RES2!$G$12","v":{"$error":"#DIV/0!"}},{"$f":"H14/COST_RES2!$G$12","v":{"$error":"#DIV/0!"}},{"$f":"I14/COST_RES2!$G$12","v":{"$error":"#DIV/0!"}},{"$f":"J14/COST_RES2!$G$12","v":{"$error":"#DIV/0!"}},{"$f":"K14/COST_RES2!$G$12","v":{"$error":"#DIV/0!"}},{"$f":"L14/COST_RES2!$G$12","v":{"$error":"#DIV/0!"}},{"$f":"M14/COST_RES2!$G$12","v":{"$error":"#DIV/0!"}},{"$f":"N14/COST_RES2!$G$12","v":{"$error":"#DIV/0!"}},{"$f":"O14/COST_RES2!$G$12","v":{"$error":"#DIV/0!"}},{"$f":"P14/COST_RES2!$G$12","v":{"$error":"#DIV/0!"}},{"$f":"Q14/COST_RES2!$G$12","v":{"$error":"#DIV/0!"}},{"$f":"R14/COST_RES2!$G$12","v":{"$error":"#DIV/0!"}},{"$f":"S14/COST_RES2!$G$12","v":{"$error":"#DIV/0!"}},{"$f":"T14/COST_RES2!$G$12","v":{"$error":"#DIV/0!"}},{"$f":"U14/COST_RES2!$G$12","v":{"$error":"#DIV/0!"}},{"$f":"V14/COST_RES2!$G$12","v":{"$error":"#DIV/0!"}},{"$f":"W14/COST_RES2!$G$12","v":{"$error":"#DIV/0!"}}]
[null,{"$f":"title237","v":"Biomass price (USD/ton)"},{"$f":"SUM(C44:C45)","v":0},{"$f":"SUM(D44:D45)","v":0},0,0,0,0,0,0,0,0,0,0,0,0,0,0,0,0,0,0,0]
[null,{"$f":"title238","v":"Biomass cost of collection (USD/ton)"},{"$f":"COST_RES2!E33","v":0},{"$f":"C44*(1+D74+D75)","v":0},{"$f":"D44*(1+E74+E75)","v":0},0,0,0,0,0,0,0,0,0,0,0,0,0,0,0,0,0,0]
[null,{"$f":"title239","v":"Biomass transportation cost (USD/ton)"},{"$f":"C46*C47","v":0},{"$f":"D46*D47","v":0},0,0,0,0,0,0,0,0,0,0,0,0,0,0,0,0,0,0,0]
[null,{"$f":"title240","v":"Biomass from farm to plant (USD/ton/km)"},{"$f":"COST_RES2!E48","v":0},{"$f":"C46*(1+D74+D75)","v":0},{"$f":"D46*(1+E74+E75)","v":0},0,0,0,0,0,0,0,0,0,0,0,0,0,0,0,0,0,0]
[null,{"$f":"title241","v":"Transportation distant (km)"},{"$f":"COST_RES2!L48","v":0},{"$f":"C47","v":0},{"$f":"D47","v":0},0,0,0,0,0,0,0,0,0,0,0,0,0,0,{"$f":"S47","v":0},{"$f":"T47","v":0},{"$f":"U47","v":0},{"$f":"V47","v":0}]
[]
[null,{"$f":"title246","v":"Water cost (USD/year)"},{"$f":"COST_RES2!M35","v":0},{"$f":"C49*(1+D74+D75)","v":0},{"$f":"D49*(1+E74+E75)","v":0},0,0,0,0,0,0,0,0,0,0,0,0,0,0,0,0,0,0]
[]
[null,{"$f":"title242","v":"Chemical cost (USD/year)"},{"$f":"C52*C53","v":0},{"$f":"D52*D53","v":0},0,0,0,0,0,0,0,0,0,0,0,0,0,0,0,0,0,0,0]
[null,{"$f":"title243","v":"Chemical consumption (tons per year)"},{"$f":"+COST_RES2!$L$34","v":0},{"$f":"+COST_RES2!$L$34","v":0},{"$f":"+COST_RES2!$L$34","v":0},{"$f":"+COST_RES2!$L$34","v":0},{"$f":"+COST_RES2!$L$34","v":0},{"$f":"+COST_RES2!$L$34","v":0},{"$f":"+COST_RES2!$L$34","v":0},{"$f":"+COST_RES2!$L$34","v":0},{"$f":"+COST_RES2!$L$34","v":0},{"$f":"+COST_RES2!$L$34","v":0},{"$f":"+COST_RES2!$L$34","v":0},{"$f":"+COST_RES2!$L$34","v":0},{"$f":"+COST_RES2!$L$34","v":0},{"$f":"+COST_RES2!$L$34","v":0},{"$f":"+COST_RES2!$L$34","v":0},{"$f":"+COST_RES2!$L$34","v":0},{"$f":"+COST_RES2!$L$34","v":0},{"$f":"+COST_RES2!$L$34","v":0},{"$f":"+COST_RES2!$L$34","v":0},{"$f":"+COST_RES2!$L$34","v":0},{"$f":"+COST_RES2!$L$34","v":0}]
[null,{"$f":"title244","v":"Chemical price (USD/ton)"},{"$f":"+'Data entry needs'!$E$20","v":0},{"$f":"+C53","v":0},{"$f":"+D53","v":0},0,0,0,0,0,0,0,0,0,0,0,0,0,0,0,0,0,0]
[null,{"$f":"title245","v":"Electricity cost (USD)"},{"$f":"COST_RES2!M36","v":0},{"$f":"C54*(1+D74+D75)","v":0},{"$f":"D54*(1+E74+E75)","v":0},0,0,0,0,0,0,0,0,0,0,0,0,0,0,0,0,0,0]
[]
[null,{"$f":"title247","v":"Sub-total operating cost (USD)"},{"$f":"C57+C59+C60","v":{"$error":"#DIV/0!"}},{"$f":"D57+D59+D60","v":{"$error":"#DIV/0!"}},{"$error":"#DIV/0!"},{"$error":"#DIV/0!"},{"$error":"#DIV/0!"},{"$error":"#DIV/0!"},{"$error":"#DIV/0!"},{"$error":"#DIV/0!"},{"$error":"#DIV/0!"},{"$error":"#DIV/0!"},{"$error":"#DIV/0!"},{"$error":"#DIV/0!"},{"$error":"#DIV/0!"},{"$error":"#DIV/0!"},{"$error":"#DIV/0!"},{"$error":"#DIV/0!"},{"$error":"#DIV/0!"},{"$error":"#DIV/0!"},{"$error":"#DIV/0!"},{"$error":"#DIV/0!"},{"$error":"#DIV/0!"}]
[null,{"$f":"title248","v":"Labour cost (USD)"},{"$f":"COST_RES2!M44","v":0},{"$f":"C57*(1+D58)","v":0},0,0,0,0,0,0,0,0,0,0,0,0,0,0,0,0,0,0,0]
[null,"Annual change in  labour cost (%)",null,{"$f":"COST_RES2!M12","v":0},{"$f":"D58","v":0},0,0,0,0,0,0,0,0,0,0,0,0,0,0,0,0,0,0]
[null,{"$f":"title249","v":"Annual change in labour cost (%)"},{"$f":"COST_RES2!M70","v":0},{"$f":"C59","v":0},0,0,0,0,0,0,0,0,0,0,0,0,0,0,0,0,0,0,0]
[null,{"$f":"title250","v":"General and administrative cost"},{"$f":"COST_RES2!M71","v":{"$error":"#DIV/0!"}},{"$f":"C60","v":{"$error":"#DIV/0!"}},{"$error":"#DIV/0!"},{"$error":"#DIV/0!"},{"$error":"#DIV/0!"},{"$error":"#DIV/0!"},{"$error":"#DIV/0!"},{"$error":"#DIV/0!"},{"$error":"#DIV/0!"},{"$error":"#DIV/0!"},{"$error":"#DIV/0!"},{"$error":"#DIV/0!"},{"$error":"#DIV/0!"},{"$error":"#DIV/0!"},{"$error":"#DIV/0!"},{"$error":"#DIV/0!"},{"$error":"#DIV/0!"},{"$error":"#DIV/0!"},{"$error":"#DIV/0!"},{"$error":"#DIV/0!"},{"$error":"#DIV/0!"}]
[null,{"$f":"title251","v":"Sub-total maintenance cost (USD)"},{"$f":"COST_RES2!$M$65","v":0},{"$f":"C61","v":0},0,0,0,0,0,0,0,0,0,0,0,0,0,0,0,0,0,0,0]
[]
[null,{"$f":"title252","v":"Sub-total of annual fixed costs"},{"$f":"E34","v":0},{"$f":"C63","v":0},{"$f":"D63","v":0},0,0,0,0,0,0,0,0,0,0,0,0,0,0,0,0,0,0]
[]
[null,{"$f":"title253","v":"Sub-total of storage capacity"},{"$f":"COST_RES2!M56","v":{"$error":"#DIV/0!"}},{"$f":"C65","v":{"$error":"#DIV/0!"}},{"$f":"D65","v":{"$error":"#DIV/0!"}},{"$error":"#DIV/0!"},{"$error":"#DIV/0!"},{"$error":"#DIV/0!"},{"$error":"#DIV/0!"},{"$error":"#DIV/0!"},{"$error":"#DIV/0!"},{"$error":"#DIV/0!"},{"$error":"#DIV/0!"},{"$error":"#DIV/0!"},{"$error":"#DIV/0!"},{"$error":"#DIV/0!"},{"$error":"#DIV/0!"},{"$error":"#DIV/0!"},{"$error":"#DIV/0!"},{"$error":"#DIV/0!"},{"$error":"#DIV/0!"},{"$error":"#DIV/0!"},{"$error":"#DIV/0!"}]
[]
[null,{"$f":"title254","v":"Sub-total of briquette transportation to market"},{"$f":"COST_RES2!M49","v":0},{"$f":"C67*(1+D74+D75)","v":0},{"$f":"D67*(1+E74+E75)","v":0},0,0,0,0,0,0,0,0,0,0,0,0,0,0,0,0,0,0]
[]
[null,{"$f":"title255","v":"Total operation and maintenance cost (USD)"},{"$f":"C40+C56+C61+C63+C65+C67","v":{"$error":"#DIV/0!"}},{"$f":"D40+D56+D61+D63+D65+D67","v":{"$error":"#DIV/0!"}},{"$error":"#DIV/0!"},{"$error":"#DIV/0!"},{"$error":"#DIV/0!"},{"$error":"#DIV/0!"},{"$error":"#DIV/0!"},{"$error":"#DIV/0!"},{"$error":"#DIV/0!"},{"$error":"#DIV/0!"},{"$error":"#DIV/0!"},{"$error":"#DIV/0!"},{"$error":"#DIV/0!"},{"$error":"#DIV/0!"},{"$error":"#DIV/0!"},{"$error":"#DIV/0!"},{"$error":"#DIV/0!"},{"$error":"#DIV/0!"},{"$error":"#DIV/0!"},{"$error":"#DIV/0!"},{"$error":"#DIV/0!"}]
[null,{"$f":"title256","v":"Operation and maintenance cost (USD/kg of briquette) without loan interest"},{"$f":"C69/(C14*1000)","v":{"$error":"#DIV/0!"}},{"$error":"#DIV/0!"},{"$error":"#DIV/0!"},{"$error":"#DIV/0!"},{"$error":"#DIV/0!"},{"$error":"#DIV/0!"},{"$error":"#DIV/0!"},{"$error":"#DIV/0!"},{"$error":"#DIV/0!"},{"$error":"#DIV/0!"},{"$error":"#DIV/0!"},{"$error":"#DIV/0!"},{"$error":"#DIV/0!"},{"$error":"#DIV/0!"},{"$error":"#DIV/0!"},{"$error":"#DIV/0!"},{"$error":"#DIV/0!"},{"$error":"#DIV/0!"},{"$error":"#DIV/0!"},{"$error":"#DIV/0!"},{"$error":"#DIV/0!"}]
[]
[{"$f":"title164","v":"Financial parameters"}]
[null,{"$f":"title209","v":"Operating Year"},{"$f":"title230","v":"Appraisal"},1,2,3,4,5,6,7,8,9,10,11,12,13,14,15,16,17,18,19,20]
[null,{"$f":"title257","v":"Annual change in raw material cost (%)"},null,0,{"$f":"D74","v":0},{"$f":"E74","v":0},0,0,0,0,0,0,0,0,0,0,0,0,0,0,0,{"$f":"U74","v":0},{"$f":"V74","v":0}]
[null,{"$f":"title258","v":"Inflation rate (%)"},null,{"$f":"COST_RES2!J12","v":0},{"$f":"D75","v":0},0,0,0,0,0,0,0,0,0,0,0,0,0,0,0,0,{"$f":"U75","v":0},{"$f":"V75","v":0}]
[null,{"$f":"title165&\" (%)\"","v":"Discount rate (%)"},{"$f":"COST_RES2!J9","v":0}]
[null,{"$f":"title166&\" (%)\"","v":"Loan ratio (%)"},{"$f":"COST_RES2!J10","v":0}]
[]
[null,{"$f":"title259","v":"Loan without policy"},{"$f":"title230","v":"Appraisal"},1,2,3,4,5,6,7,8,9,10,11,12,13,14,15,16,17,18,19,20]
[null,{"$f":"title260","v":"Loan amount (USD)"},{"$f":"C77*(C34)","v":0}]
[null,{"$f":"title167&\" (%)\"","v":"Loan interest rate (%)"},{"$f":"COST_RES2!J11","v":0}]
[null,{"$f":"title261","v":"Loan term (years)"},{"$f":"COST_RES2!M9","v":0}]
[null,{"$f":"title262","v":"Loan payment (USD/month)"},{"$f":"(PMT($C$81/12,(12*$C$82),$C$80))","v":{"$error":"#NUM!"}}]
[null,{"$f":"title263","v":"Loan payment (USD/year)"},null,{"$f":"IF(D73<=$C$82,$C$83*12,0)","v":0},{"$f":"IF(E73<$C$82,$C$83*12,IF(E73=$C$82,$C$83*12,0))","v":0},{"$f":"IF(F73<$C$82,$C$83*12,IF(F73=$C$82,$C$83*12,0))","v":0},0,0,0,0,0,0,0,0,0,0,0,0,0,0,0,0,0]
[null,{"$f":"title264","v":"Total loan payment (USD)"},{"$f":"SUM(D84:W84)","v":0}]
[null,{"$f":"title265","v":"Loan interest payment (USD)"},{"$f":"C85+C80","v":0},{"$f":"title266","v":"Average loan interest payment for project lifetime"},null,null,{"$f":"C86/C25","v":0},{"$f":"title267","v":"USD per year"}]
[]
[{"$f":"title268","v":"Income tax analysis"}]
[null,{"$f":"title209","v":"Operating Year"},{"$f":"title230","v":"Appraisal"},1,2,3,4,5,6,7,8,9,10,11,12,13,14,15,16,17,18,19,20]
[null,{"$f":"title269","v":"Effective income tax rate (%)"},{"$f":"+'Data entry needs'!$AD$115","v":0},{"$f":"C90","v":0},{"$f":"D90","v":0},0,0,0,0,0,0,0,0,0,0,0,0,0,0,0,0,0,0]
[null,{"$f":"title270","v":"Income tax (USD)"},null,{"$f":"IF(D115<0,0,D90*D115)","v":{"$error":"#DIV/0!"}},{"$error":"#DIV/0!"},{"$error":"#DIV/0!"},{"$error":"#DIV/0!"},{"$error":"#DIV/0!"},{"$error":"#DIV/0!"},{"$error":"#DIV/0!"},{"$error":"#DIV/0!"},{"$error":"#DIV/0!"},{"$error":"#DIV/0!"},{"$error":"#DIV/0!"},{"$error":"#DIV/0!"},{"$error":"#DIV/0!"},{"$error":"#DIV/0!"},{"$error":"#DIV/0!"},{"$error":"#DIV/0!"},{"$error":"#DIV/0!"},{"$error":"#DIV/0!"},{"$error":"#DIV/0!"},{"$error":"#DIV/0!"}]
[null,{"$f":"title271","v":"Total income tax payment (USD)"},{"$f":"SUM(D91:W91)","v":{"$error":"#DIV/0!"}},{"$f":"title458","v":"Average income tax payment "},null,{"$f":"C92/C25","v":{"$error":"#DIV/0!"}},{"$f":"title267","v":"USD per year"}]
[]
[{"$f":"title272","v":"Depreciation"}]
[null,{"$f":"title209","v":"Operating Year"},{"$f":"title230","v":"Appraisal"},1,2,3,4,5,6,7,8,9,10,11,12,13,14,15,16,17,18,19,20]
[null,{"$f":"title273","v":"Depreciation method"},{"$f":"title275","v":"Straight-line"}]
[null,{"$f":"title274","v":"Total depreciation (USD)"},null,{"$f":"COST_RES2!M64","v":0},{"$f":"D97","v":0},{"$f":"E97","v":0},0,0,0,0,0,0,0,0,0,0,0,0,0,0,0,0,0]
[]
[{"$f":"title276","v":"Base case project summary"}]
[{"$f":"title277","v":"Summary of this project - Before Tax"}]
[null,{"$f":"title209","v":"Operating Year"},{"$f":"title230","v":"Appraisal"},1,2,3,4,5,6,7,8,9,10,11,12,13,14,15,16,17,18,19,20]
[null,{"$f":"title278","v":"Total revenue (USD)"},null,{"$f":"D15*1000*D18","v":0},{"$f":"E15*1000*E18","v":0},0,0,0,0,0,0,0,0,0,0,0,0,0,0,0,0,0,0]
[null,{"$f":"title228","v":"Total capital cost (USD)"},{"$f":"-(C34-C80)","v":0}]
[null,{"$f":"title279","v":"Total operating and maintenance cost (USD)"},null,{"$f":"-D69+D63","v":{"$error":"#DIV/0!"}},{"$error":"#DIV/0!"},{"$error":"#DIV/0!"},{"$error":"#DIV/0!"},{"$error":"#DIV/0!"},{"$error":"#DIV/0!"},{"$error":"#DIV/0!"},{"$error":"#DIV/0!"},{"$error":"#DIV/0!"},{"$error":"#DIV/0!"},{"$error":"#DIV/0!"},{"$error":"#DIV/0!"},{"$error":"#DIV/0!"},{"$error":"#DIV/0!"},{"$error":"#DIV/0!"},{"$error":"#DIV/0!"},{"$error":"#DIV/0!"},{"$error":"#DIV/0!"},{"$error":"#DIV/0!"},{"$error":"#DIV/0!"}]
[null,{"$f":"title280","v":"Loan payment (USD)"},null,{"$f":"D84","v":0},{"$f":"E84","v":0},0,0,0,0,0,0,0,0,0,0,0,0,0,0,0,0,0,0]
[null,{"$f":"title281","v":"Cash flow - before tax (USD)"},{"$f":"SUM(C102:C105)","v":0},{"$error":"#DIV/0!"},{"$error":"#DIV/0!"},{"$error":"#DIV/0!"},{"$error":"#DIV/0!"},{"$error":"#DIV/0!"},{"$error":"#DIV/0!"},{"$error":"#DIV/0!"},{"$error":"#DIV/0!"},{"$error":"#DIV/0!"},{"$error":"#DIV/0!"},{"$error":"#DIV/0!"},{"$error":"#DIV/0!"},{"$error":"#DIV/0!"},{"$error":"#DIV/0!"},{"$error":"#DIV/0!"},{"$error":"#DIV/0!"},{"$error":"#DIV/0!"},{"$error":"#DIV/0!"},{"$error":"#DIV/0!"},{"$error":"#DIV/0!"}]
[null,{"$f":"title282","v":"Average revenue (USD)"}]
[]
[{"$f":"title283","v":"Summary of this project - After Tax"}]
[null,{"$f":"title209","v":"Operating Year"},{"$f":"title230","v":"Appraisal"},1,2,3,4,5,6,7,8,9,10,11,12,13,14,15,16,17,18,19,20]
[null,{"$f":"B102","v":"Total revenue (USD)"},{"$f":"C102","v":0},{"$f":"D102","v":0},0,0,0,0,0,0,0,0,0,0,0,0,0,0,0,0,0,0,0]
[null,{"$f":"title279","v":"Total operating and maintenance cost (USD)"},null,{"$f":"-D69+D63","v":{"$error":"#DIV/0!"}},{"$error":"#DIV/0!"},{"$error":"#DIV/0!"},{"$error":"#DIV/0!"},{"$error":"#DIV/0!"},{"$error":"#DIV/0!"},{"$error":"#DIV/0!"},{"$error":"#DIV/0!"},{"$error":"#DIV/0!"},{"$error":"#DIV/0!"},{"$error":"#DIV/0!"},{"$error":"#DIV/0!"},{"$error":"#DIV/0!"},{"$error":"#DIV/0!"},{"$error":"#DIV/0!"},{"$error":"#DIV/0!"},{"$error":"#DIV/0!"},{"$error":"#DIV/0!"},{"$error":"#DIV/0!"},{"$error":"#DIV/0!"}]
[null,{"$f":"title280","v":"Loan payment (USD)"},null,{"$f":"$G$86","v":0},{"$f":"$G$86","v":0},0,0,0,0,0,0,0,0,0,0,0,0,0,0,0,0,0,0]
[null,{"$f":"title284","v":"Depreciation of fixed costs (USD)"},null,{"$f":"-D63","v":0},{"$f":"-E63","v":0},0,0,0,0,0,0,0,0,0,0,0,0,0,0,0,0,0,0]
[null,{"$f":"title285","v":"Net profit - before tax (USD) for income tax calculation"},{"$f":"SUM(C111:C114)","v":0},{"$f":"SUM(D111:D114)","v":{"$error":"#DIV/0!"}},{"$f":"SUM(E111:E114)","v":{"$error":"#DIV/0!"}},{"$error":"#DIV/0!"},{"$error":"#DIV/0!"},{"$error":"#DIV/0!"},{"$error":"#DIV/0!"},{"$error":"#DIV/0!"},{"$error":"#DIV/0!"},{"$error":"#DIV/0!"},{"$error":"#DIV/0!"},{"$error":"#DIV/0!"},{"$error":"#DIV/0!"},{"$error":"#DIV/0!"},{"$error":"#DIV/0!"},{"$error":"#DIV/0!"},{"$error":"#DIV/0!"},{"$error":"#DIV/0!"},{"$error":"#DIV/0!"},{"$error":"#DIV/0!"},{"$error":"#DIV/0!"}]
[null,{"$f":"title286","v":"Income tax"},null,{"$f":"IF(D115>0,-D91,0)","v":{"$error":"#DIV/0!"}},{"$error":"#DIV/0!"},{"$error":"#DIV/0!"},{"$error":"#DIV/0!"},{"$error":"#DIV/0!"},{"$error":"#DIV/0!"},{"$error":"#DIV/0!"},{"$error":"#DIV/0!"},{"$error":"#DIV/0!"},{"$error":"#DIV/0!"},{"$error":"#DIV/0!"},{"$error":"#DIV/0!"},{"$error":"#DIV/0!"},{"$error":"#DIV/0!"},{"$error":"#DIV/0!"},{"$error":"#DIV/0!"},{"$error":"#DIV/0!"},{"$error":"#DIV/0!"},{"$error":"#DIV/0!"},{"$error":"#DIV/0!"}]
[null,{"$f":"title287","v":"Cash flow - after tax (USD)"},{"$f":"C103","v":0},{"$f":"D106+D116","v":{"$error":"#DIV/0!"}},{"$f":"E106+E116","v":{"$error":"#DIV/0!"}},{"$error":"#DIV/0!"},{"$error":"#DIV/0!"},{"$error":"#DIV/0!"},{"$error":"#DIV/0!"},{"$error":"#DIV/0!"},{"$error":"#DIV/0!"},{"$error":"#DIV/0!"},{"$error":"#DIV/0!"},{"$error":"#DIV/0!"},{"$error":"#DIV/0!"},{"$error":"#DIV/0!"},{"$error":"#DIV/0!"},{"$error":"#DIV/0!"},{"$error":"#DIV/0!"},{"$error":"#DIV/0!"},{"$error":"#DIV/0!"},{"$error":"#DIV/0!"},{"$f":"W106+W116","v":{"$error":"#DIV/0!"}}]
[]
[{"$f":"title288","v":"Cumulative value of Net Profit"}]
[null,{"$f":"title209","v":"Operating Year"},{"$f":"title230","v":"Appraisal"},1,2,3,4,5,6,7,8,9,10,11,12,13,14,15,16,17,18,19,20]
[null,{"$f":"title289","v":"Cumulative value of net profit - before tax"},{"$f":"C106","v":0},{"$f":"C121+(D106)","v":{"$error":"#DIV/0!"}},{"$error":"#DIV/0!"},{"$error":"#DIV/0!"},{"$error":"#DIV/0!"},{"$error":"#DIV/0!"},{"$error":"#DIV/0!"},{"$error":"#DIV/0!"},{"$error":"#DIV/0!"},{"$error":"#DIV/0!"},{"$error":"#DIV/0!"},{"$error":"#DIV/0!"},{"$error":"#DIV/0!"},{"$error":"#DIV/0!"},{"$error":"#DIV/0!"},{"$error":"#DIV/0!"},{"$error":"#DIV/0!"},{"$error":"#DIV/0!"},{"$error":"#DIV/0!"},{"$error":"#DIV/0!"},{"$error":"#DIV/0!"}]
[null,{"$f":"title290","v":"Cumulative value of net profit - after tax"},{"$f":"C117","v":0},{"$f":"C122+(D117)","v":{"$error":"#DIV/0!"}},{"$error":"#DIV/0!"},{"$error":"#DIV/0!"},{"$error":"#DIV/0!"},{"$error":"#DIV/0!"},{"$error":"#DIV/0!"},{"$error":"#DIV/0!"},{"$error":"#DIV/0!"},{"$error":"#DIV/0!"},{"$error":"#DIV/0!"},{"$error":"#DIV/0!"},{"$error":"#DIV/0!"},{"$error":"#DIV/0!"},{"$error":"#DIV/0!"},{"$error":"#DIV/0!"},{"$error":"#DIV/0!"},{"$error":"#DIV/0!"},{"$error":"#DIV/0!"},{"$error":"#DIV/0!"},{"$error":"#DIV/0!"}]
[]
[{"$f":"title291","v":"Financial analysis results"}]
[]
[null,{"$f":"title292","v":"Net present value (NPV) (USD) - before tax"},{"$f":"NPV(C76,D106:W106)+C106","v":{"$error":"#DIV/0!"}}]
[null,{"$f":"title293","v":"Internal rate of return (IRR) (%) - before tax"},{"$f":"IF(C126<0,title459,IF(TIR_cell=title519,IRR(C106:W106,0.001),MIRR(C106:W106,C81,C76)))","v":{"$error":"#DIV/0!"}}]
[null,{"$f":"title294","v":"Payback period (years)"},{"$f":"title298","v":"Please see Figure of the cumulative value of net profit - before tax"}]
[]
[]
[null,{"$f":"title295","v":"Net present value (NPV) (USD) - after tax"},{"$f":"NPV(C76,D117:W117)+C117","v":{"$error":"#DIV/0!"}}]
[null,{"$f":"title296","v":"Internal rate of return (IRR) (%) - after tax"},{"$f":"IF(C131<0,title459,MIRR(C117:W117,C81,0%))","v":{"$error":"#DIV/0!"}}]
[null,{"$f":"title294","v":"Payback period (years)"},{"$f":"title299","v":"Please see Figure of the cumulative value of net profit - after tax"}]
[null,{"$f":"title297","v":"Total Income tax payment of project lifetime"},{"$f":"SUM(D116:W116)","v":{"$error":"#DIV/0!"}}]

{"sheet":"FA4_RURAL_RES3","index":38,"n_rows":133,"n_cols":23,"rows_kept":133,"cut":false,"hidden":true,"merged":[[1,1,1,13]]}
[]
[null,{"$f":"title207","v":" FINANCIAL ANALYSIS OF BIOMASS BRIQUETTING 4 KG/HOUR"}]
[]
[{"$f":"title208","v":"Revenues of biomass briquetting system"}]
[null,{"$f":"title209","v":"Operating Year"},0,1,2,3,4,5,6,7,8,9,10,11,12,13,14,15,16,17,18,19,20]
[]
[null,{"$f":"title210","v":"Briquette production capacity (tons per year)"},{"$f":"COST_RES3!$F$29","v":0},{"$f":"C7","v":0},{"$f":"D7","v":0},0,0,0,0,0,0,0,0,0,0,0,0,0,0,0,0,0,0]
[]
[null,{"$f":"title211","v":"Efficiency % of briquetting machine"},{"$f":"COST_RES3!$G$12","v":0},{"$f":"+C9","v":0},{"$f":"+D9","v":0},0,0,0,0,0,0,0,0,0,0,0,0,0,0,0,0,0,0]
[]
[null,{"$f":"title212","v":"Operating hours per year"},{"$f":"COST_RES3!$G$28","v":0},{"$f":"+C11","v":0},{"$f":"D11","v":0},0,0,0,0,0,0,0,0,0,0,0,0,0,0,0,0,0,0]
[null,{"$f":"title213","v":"Capacity utilization factor"},{"$f":"C$11/8760","v":0},{"$f":"D$11/8760","v":0},{"$f":"E$11/8760","v":0},0,0,0,0,0,0,0,0,0,0,0,0,0,0,0,0,0,0]
[]
[null,{"$f":"title214","v":"Briquette production (tons per year)"},{"$f":"C$7","v":0},{"$f":"D$7","v":0},0,0,0,0,0,0,0,0,0,0,0,0,0,0,0,0,0,0,0]
[null,{"$f":"title215","v":"Total briquette sell to customers (tons per year)"},{"$f":"SUM(C14:C14)","v":0},{"$f":"SUM(D14:D14)","v":0},0,0,0,0,0,0,0,0,0,0,0,0,0,0,0,0,0,0,0]
[]
[null,{"$f":"title216","v":"Price of briquette (USD/kg)"},{"$f":"SUM(C18:C18)","v":0},0,0,0,0,0,0,0,0,0,0,0,0,0,0,0,0,0,0,0,0]
[null,{"$f":"title217","v":"Market price of briquette pay by consumers (USD/kg)"},{"$f":"+'Energy Demand'!E20","v":0},{"$f":"C18*(1+D19)","v":0},0,0,0,0,0,0,0,0,0,0,0,0,0,0,0,0,0,0,0]
[null,{"$f":"title218","v":"Increasing rate of price of briquette (%)"},{"$f":"+'Data entry needs'!$AD$114","v":0},{"$f":"C19","v":0},{"$f":"D19","v":0},0,0,0,0,0,0,0,0,0,0,0,0,0,0,0,0,0,0]
[]
[null,{"$f":"title219","v":"Total income of briquette (USD per year)"},{"$f":"C15*C18*1000","v":0},{"$f":"D15*D18*1000","v":0},0,0,0,0,0,0,0,0,0,0,0,0,0,0,0,0,0,0,0]
[]
[null,{"$f":"title220","v":"Lifespan of civil work (years)"},{"$f":"COST_RES3!$E$61","v":10}]
[null,{"$f":"title221","v":"Lifespan of briquette system (years)"},{"$f":"COST_RES3!$E$60","v":10}]
[null,{"$f":"title222","v":"Project life time (years)"},20]
[]
[{"$f":"title223","v":"Capital and operating cost of biomass briquette system "}]
[null,null,{"$f":"title230","v":"Appraisal"},{"$f":"title231","v":"Project lifetime"},{"$f":"title232","v":"Investment per year"}]
[null,{"$f":"title224","v":"Direct capital cost (USD)"}]
[null,{"$f":"title225","v":"Equipments"},{"$f":"D30*E30","v":0},{"$f":"$C$25","v":20},{"$f":"COST_RES3!F60/20","v":0}]
[null,{"$f":"title226","v":"Building"},{"$f":"D31*E31","v":0},{"$f":"$C$25","v":20},{"$f":"COST_RES3!F61/20","v":0}]
[null,{"$f":"title227","v":"Installation"},{"$f":"D32*E32","v":0},{"$f":"$C$25","v":20},{"$f":"COST_RES3!F62/20","v":0}]
[null,{"$f":"title228","v":"Total capital cost (USD)"},{"$f":"SUM(C30:C32)","v":0},null,{"$f":"SUM(E30:E32)","v":0}]
[null,{"$f":"title229","v":"Capital cost (USD/kg of briquette)"},{"$f":"C33/(C14*1000*C25)","v":{"$error":"#DIV/0!"}}]
[]
[]
[null,{"$f":"title209","v":"Operating Year"},{"$f":"title230","v":"Appraisal"},1,2,3,4,5,6,7,8,9,10,11,12,13,14,15,16,17,18,19,20]
[null,{"$f":"title233","v":"Annual operating and maintenance cost "}]
[null,{"$f":"title234","v":"Sub-total material cost (USD)"},{"$f":"C40+C48+C50+C53","v":{"$error":"#DIV/0!"}},{"$f":"D40+D48+D50+D53","v":{"$error":"#DIV/0!"}},{"$error":"#DIV/0!"},{"$error":"#DIV/0!"},{"$error":"#DIV/0!"},{"$error":"#DIV/0!"},{"$error":"#DIV/0!"},{"$error":"#DIV/0!"},{"$error":"#DIV/0!"},{"$error":"#DIV/0!"},{"$error":"#DIV/0!"},{"$error":"#DIV/0!"},{"$error":"#DIV/0!"},{"$error":"#DIV/0!"},{"$error":"#DIV/0!"},{"$error":"#DIV/0!"},{"$error":"#DIV/0!"},{"$error":"#DIV/0!"},{"$error":"#DIV/0!"},{"$error":"#DIV/0!"},{"$error":"#DIV/0!"}]
[null,{"$f":"title235","v":"Biomass cost (USD/year)"},{"$f":"C41*C42","v":{"$error":"#DIV/0!"}},{"$f":"D41*D42","v":{"$error":"#DIV/0!"}},{"$error":"#DIV/0!"},{"$error":"#DIV/0!"},{"$error":"#DIV/0!"},{"$error":"#DIV/0!"},{"$error":"#DIV/0!"},{"$error":"#DIV/0!"},{"$error":"#DIV/0!"},{"$error":"#DIV/0!"},{"$error":"#DIV/0!"},{"$error":"#DIV/0!"},{"$error":"#DIV/0!"},{"$error":"#DIV/0!"},{"$error":"#DIV/0!"},{"$error":"#DIV/0!"},{"$error":"#DIV/0!"},{"$error":"#DIV/0!"},{"$error":"#DIV/0!"},{"$error":"#DIV/0!"},{"$error":"#DIV/0!"}]
[null,{"$f":"title236","v":"Biomass consumption (ton per year)"},{"$f":"C14/COST_RES3!$G$12","v":{"$error":"#DIV/0!"}},{"$f":"D14/COST_RES3!$G$12","v":{"$error":"#DIV/0!"}},{"$f":"E14/COST_RES3!$G$12","v":{"$error":"#DIV/0!"}},{"$f":"F14/COST_RES3!$G$12","v":{"$error":"#DIV/0!"}},{"$f":"G14/COST_RES3!$G$12","v":{"$error":"#DIV/0!"}},{"$f":"H14/COST_RES3!$G$12","v":{"$error":"#DIV/0!"}},{"$f":"I14/COST_RES3!$G$12","v":{"$error":"#DIV/0!"}},{"$f":"J14/COST_RES3!$G$12","v":{"$error":"#DIV/0!"}},{"$f":"K14/COST_RES3!$G$12","v":{"$error":"#DIV/0!"}},{"$f":"L14/COST_RES3!$G$12","v":{"$error":"#DIV/0!"}},{"$f":"M14/COST_RES3!$G$12","v":{"$error":"#DIV/0!"}},{"$f":"N14/COST_RES3!$G$12","v":{"$error":"#DIV/0!"}},{"$f":"O14/COST_RES3!$G$12","v":{"$error":"#DIV/0!"}},{"$f":"P14/COST_RES3!$G$12","v":{"$error":"#DIV/0!"}},{"$f":"Q14/COST_RES3!$G$12","v":{"$error":"#DIV/0!"}},{"$f":"R14/COST_RES3!$G$12","v":{"$error":"#DIV/0!"}},{"$f":"S14/COST_RES3!$G$12","v":{"$error":"#DIV/0!"}},{"$f":"T14/COST_RES3!$G$12","v":{"$error":"#DIV/0!"}},{"$f":"U14/COST_RES3!$G$12","v":{"$error":"#DIV/0!"}},{"$f":"V14/COST_RES3!$G$12","v":{"$error":"#DIV/0!"}},{"$f":"W14/COST_RES3!$G$12","v":{"$error":"#DIV/0!"}}]
[null,{"$f":"title237","v":"Biomass price (USD/ton)"},{"$f":"SUM(C43:C44)","v":0},{"$f":"SUM(D43:D44)","v":0},0,0,0,0,0,0,0,0,0,0,0,0,0,0,0,0,0,0,0]
[null,{"$f":"title238","v":"Biomass cost of collection (USD/ton)"},{"$f":"COST_RES3!E33","v":0},{"$f":"C43*(1+D73+D74)","v":0},{"$f":"D43*(1+E73+E74)","v":0},0,0,0,0,0,0,0,0,0,0,0,0,0,0,0,0,0,0]
[null,{"$f":"title239","v":"Biomass transportation cost (USD/ton)"},{"$f":"C45*C46","v":0},{"$f":"D45*D46","v":0},0,0,0,0,0,0,0,0,0,0,0,0,0,0,0,0,0,0,0]
[null,{"$f":"title240","v":"Biomass from farm to plant (USD/ton/km)"},{"$f":"COST_RES3!E48","v":0},{"$f":"C45*(1+D73+D74)","v":0},{"$f":"D45*(1+E73+E74)","v":0},0,0,0,0,0,0,0,0,0,0,0,0,0,0,0,0,0,0]
[null,{"$f":"title241","v":"Transportation distant (km)"},{"$f":"COST_RES3!F48","v":0},{"$f":"C46","v":0},{"$f":"D46","v":0},0,0,0,0,0,0,0,0,0,0,0,0,0,0,0,0,0,0]
[]
[null,{"$f":"title246","v":"Water cost (USD/year)"},{"$f":"COST_RES3!G35","v":0},{"$f":"C48*(1+D73+D74)","v":0},{"$f":"D48*(1+E73+E74)","v":0},0,0,0,0,0,0,0,0,0,0,0,0,0,0,0,0,0,0]
[]
[null,{"$f":"title242","v":"Chemical cost (USD/year)"},{"$f":"C51*C52","v":0},{"$f":"D51*D52","v":0},0,0,0,0,0,0,0,0,0,0,0,0,0,0,0,0,0,0,0]
[null,{"$f":"title243","v":"Chemical consumption (tons per year)"},{"$f":"+COST_RES3!$F$34","v":0},{"$f":"+COST_RES3!$F$34","v":0},{"$f":"+COST_RES3!$F$34","v":0},{"$f":"+COST_RES3!$F$34","v":0},{"$f":"+COST_RES3!$F$34","v":0},{"$f":"+COST_RES3!$F$34","v":0},{"$f":"+COST_RES3!$F$34","v":0},{"$f":"+COST_RES3!$F$34","v":0},{"$f":"+COST_RES3!$F$34","v":0},{"$f":"+COST_RES3!$F$34","v":0},{"$f":"+COST_RES3!$F$34","v":0},{"$f":"+COST_RES3!$F$34","v":0},{"$f":"+COST_RES3!$F$34","v":0},{"$f":"+COST_RES3!$F$34","v":0},{"$f":"+COST_RES3!$F$34","v":0},{"$f":"+COST_RES3!$F$34","v":0},{"$f":"+COST_RES3!$F$34","v":0},{"$f":"+COST_RES3!$F$34","v":0},{"$f":"+COST_RES3!$F$34","v":0},{"$f":"+COST_RES3!$F$34","v":0},{"$f":"+COST_RES3!$F$34","v":0}]
[null,{"$f":"title244","v":"Chemical price (USD/ton)"},{"$f":"+'Data entry needs'!$F$20","v":0},{"$f":"C52","v":0},{"$f":"D52","v":0},0,0,0,0,0,0,0,0,0,0,0,0,0,0,0,0,0,0]
[null,{"$f":"title245","v":"Electricity cost (USD)"},{"$f":"COST_RES3!G36","v":0},{"$f":"C53*(1+D73+D74)","v":0},{"$f":"D53*(1+E73+E74)","v":0},0,0,0,0,0,0,0,0,0,0,0,0,0,0,0,0,0,0]
[]
[null,{"$f":"title247","v":"Sub-total operating cost (USD)"},{"$f":"C56+C58+C59","v":{"$error":"#DIV/0!"}},{"$f":"D56+D58+D59","v":{"$error":"#DIV/0!"}},{"$error":"#DIV/0!"},{"$error":"#DIV/0!"},{"$error":"#DIV/0!"},{"$error":"#DIV/0!"},{"$error":"#DIV/0!"},{"$error":"#DIV/0!"},{"$error":"#DIV/0!"},{"$error":"#DIV/0!"},{"$error":"#DIV/0!"},{"$error":"#DIV/0!"},{"$error":"#DIV/0!"},{"$error":"#DIV/0!"},{"$error":"#DIV/0!"},{"$error":"#DIV/0!"},{"$error":"#DIV/0!"},{"$error":"#DIV/0!"},{"$error":"#DIV/0!"},{"$error":"#DIV/0!"},{"$error":"#DIV/0!"}]
[null,{"$f":"title248","v":"Labour cost (USD)"},{"$f":"COST_RES3!G44","v":0},{"$f":"C56*(1+D57)","v":0},0,0,0,0,0,0,0,0,0,0,0,0,0,0,0,0,0,0,0]
[null,{"$f":"title249","v":"Annual change in labour cost (%)"},null,{"$f":"COST_RES3!M12","v":0},{"$f":"D57","v":0},0,0,0,0,0,0,0,0,0,0,0,0,0,0,0,0,0,0]
[null,{"$f":"title249","v":"Annual change in labour cost (%)"},{"$f":"COST_RES3!G70","v":0},{"$f":"C58","v":0},{"$f":"D58","v":0},0,0,0,0,0,0,0,0,0,0,0,0,0,0,0,{"$f":"T58","v":0},0,0]
[null,{"$f":"title250","v":"General and administrative cost"},{"$f":"COST_RES3!G71","v":{"$error":"#DIV/0!"}},{"$f":"C59","v":{"$error":"#DIV/0!"}},{"$error":"#DIV/0!"},{"$error":"#DIV/0!"},{"$error":"#DIV/0!"},{"$error":"#DIV/0!"},{"$error":"#DIV/0!"},{"$error":"#DIV/0!"},{"$error":"#DIV/0!"},{"$error":"#DIV/0!"},{"$error":"#DIV/0!"},{"$error":"#DIV/0!"},{"$error":"#DIV/0!"},{"$error":"#DIV/0!"},{"$error":"#DIV/0!"},{"$error":"#DIV/0!"},{"$error":"#DIV/0!"},{"$error":"#DIV/0!"},{"$error":"#DIV/0!"},{"$error":"#DIV/0!"},{"$error":"#DIV/0!"}]
[null,{"$f":"title251","v":"Sub-total maintenance cost (USD)"},{"$f":"COST_RES3!G65","v":0},{"$f":"C60","v":0},0,0,0,0,0,0,0,0,0,0,0,0,0,0,0,0,0,0,0]
[]
[null,{"$f":"title252","v":"Sub-total of annual fixed costs"},{"$f":"+E33","v":0},{"$f":"C62","v":0},{"$f":"D62","v":0},0,0,0,0,0,0,0,0,0,0,0,0,0,0,0,0,0,0]
[]
[null,{"$f":"title253","v":"Sub-total of storage capacity"},{"$f":"COST_RES3!G56","v":{"$error":"#DIV/0!"}},{"$f":"C64","v":{"$error":"#DIV/0!"}},{"$f":"D64","v":{"$error":"#DIV/0!"}},{"$error":"#DIV/0!"},{"$error":"#DIV/0!"},{"$error":"#DIV/0!"},{"$error":"#DIV/0!"},{"$error":"#DIV/0!"},{"$error":"#DIV/0!"},{"$error":"#DIV/0!"},{"$error":"#DIV/0!"},{"$error":"#DIV/0!"},{"$error":"#DIV/0!"},{"$error":"#DIV/0!"},{"$error":"#DIV/0!"},{"$error":"#DIV/0!"},{"$error":"#DIV/0!"},{"$error":"#DIV/0!"},{"$error":"#DIV/0!"},{"$error":"#DIV/0!"},{"$error":"#DIV/0!"}]
[]
[null,{"$f":"title254","v":"Sub-total of briquette transportation to market"},{"$f":"COST_RES3!G49","v":0},{"$f":"C66*(1+D73+D74)","v":0},{"$f":"D66*(1+E73+E74)","v":0},0,0,0,0,0,0,0,0,0,0,0,0,0,0,0,0,0,0]
[]
[null,{"$f":"title255","v":"Total operation and maintenance cost (USD)"},{"$f":"C39+C55+C60+C62+C64+C66","v":{"$error":"#DIV/0!"}},{"$f":"D39+D55+D60+D62+D64+D66","v":{"$error":"#DIV/0!"}},{"$error":"#DIV/0!"},{"$error":"#DIV/0!"},{"$error":"#DIV/0!"},{"$error":"#DIV/0!"},{"$error":"#DIV/0!"},{"$error":"#DIV/0!"},{"$error":"#DIV/0!"},{"$error":"#DIV/0!"},{"$error":"#DIV/0!"},{"$error":"#DIV/0!"},{"$error":"#DIV/0!"},{"$error":"#DIV/0!"},{"$error":"#DIV/0!"},{"$error":"#DIV/0!"},{"$error":"#DIV/0!"},{"$error":"#DIV/0!"},{"$error":"#DIV/0!"},{"$error":"#DIV/0!"},{"$error":"#DIV/0!"}]
[null,{"$f":"title256","v":"Operation and maintenance cost (USD/kg of briquette) without loan interest"},{"$f":"C68/(C14*1000)","v":{"$error":"#DIV/0!"}},{"$error":"#DIV/0!"},{"$error":"#DIV/0!"},{"$error":"#DIV/0!"},{"$error":"#DIV/0!"},{"$error":"#DIV/0!"},{"$error":"#DIV/0!"},{"$error":"#DIV/0!"},{"$error":"#DIV/0!"},{"$error":"#DIV/0!"},{"$error":"#DIV/0!"},{"$error":"#DIV/0!"},{"$error":"#DIV/0!"},{"$error":"#DIV/0!"},{"$error":"#DIV/0!"},{"$error":"#DIV/0!"},{"$error":"#DIV/0!"},{"$error":"#DIV/0!"},{"$error":"#DIV/0!"},{"$error":"#DIV/0!"},{"$error":"#DIV/0!"}]
[]
[{"$f":"title164","v":"Financial parameters"}]
[null,{"$f":"title209","v":"Operating Year"},{"$f":"title230","v":"Appraisal"},1,2,3,4,5,6,7,8,9,10,11,12,13,14,15,16,17,18,19,20]
[null,{"$f":"title257","v":"Annual change in raw material cost (%)"},null,0,{"$f":"D73","v":0},{"$f":"E73","v":0},0,0,0,0,0,0,0,0,0,0,0,0,0,0,0,{"$f":"U73","v":0},{"$f":"V73","v":0}]
[null,{"$f":"title258","v":"Inflation rate (%)"},null,{"$f":"COST_RES3!J12","v":0},{"$f":"D74","v":0},0,0,0,0,0,0,0,0,0,0,0,0,0,0,0,0,{"$f":"U74","v":0},{"$f":"V74","v":0}]
[null,{"$f":"title165&\" (%)\"","v":"Discount rate (%)"},{"$f":"COST_RES3!J9","v":0}]
[null,{"$f":"title166&\" (%)\"","v":"Loan ratio (%)"},{"$f":"COST_RES3!J10","v":0}]
[]
[null,{"$f":"title259","v":"Loan without policy"},{"$f":"title230","v":"Appraisal"},1,2,3,4,5,6,7,8,9,10,11,12,13,14,15,16,17,18,19,20]
[null,{"$f":"title260","v":"Loan amount (USD)"},{"$f":"C76*(C33)","v":0}]
[null,{"$f":"title167&\" (%)\"","v":"Loan interest rate (%)"},{"$f":"COST_RES3!J11","v":0}]
[null,{"$f":"title261","v":"Loan term (years)"},{"$f":"COST_RES3!M9","v":0}]
[null,{"$f":"title262","v":"Loan payment (USD/month)"},{"$f":"(PMT($C$80/12,(12*$C$81),$C$79))","v":{"$error":"#NUM!"}}]
[null,{"$f":"title263","v":"Loan payment (USD/year)"},null,{"$f":"IF(D72<=$C$81,$C$82*12,0)","v":0},{"$f":"IF(E72<$C$81,$C$82*12,IF(E72=$C$81,$C$82*12,0))","v":0},{"$f":"IF(F72<$C$81,$C$82*12,IF(F72=$C$81,$C$82*12,0))","v":0},0,0,0,0,0,0,0,0,0,0,0,0,0,0,0,0,0]
[null,{"$f":"title264","v":"Total loan payment (USD)"},{"$f":"SUM(D83:W83)","v":0}]
[null,{"$f":"title265","v":"Loan interest payment (USD)"},{"$f":"C84+C79","v":0},{"$f":"title266","v":"Average loan interest payment for project lifetime"},null,null,{"$f":"C85/C25","v":0},{"$f":"title267","v":"USD per year"}]
[]
[{"$f":"title268","v":"Income tax analysis"}]
[null,{"$f":"title209","v":"Operating Year"},{"$f":"title230","v":"Appraisal"},1,2,3,4,5,6,7,8,9,10,11,12,13,14,15,16,17,18,19,20]
[null,{"$f":"title269","v":"Effective income tax rate (%)"},{"$f":"+'Data entry needs'!$AD$115","v":0},{"$f":"C89","v":0},{"$f":"D89","v":0},0,0,0,0,0,0,0,0,0,0,0,0,0,0,0,0,0,0]
[null,{"$f":"title270","v":"Income tax (USD)"},null,{"$f":"IF(D114<0,0,D89*D114)","v":{"$error":"#DIV/0!"}},{"$error":"#DIV/0!"},{"$error":"#DIV/0!"},{"$error":"#DIV/0!"},{"$error":"#DIV/0!"},{"$error":"#DIV/0!"},{"$error":"#DIV/0!"},{"$error":"#DIV/0!"},{"$error":"#DIV/0!"},{"$error":"#DIV/0!"},{"$error":"#DIV/0!"},{"$error":"#DIV/0!"},{"$error":"#DIV/0!"},{"$error":"#DIV/0!"},{"$error":"#DIV/0!"},{"$error":"#DIV/0!"},{"$error":"#DIV/0!"},{"$error":"#DIV/0!"},{"$error":"#DIV/0!"},{"$error":"#DIV/0!"}]
[null,{"$f":"title271","v":"Total income tax payment (USD)"},{"$f":"SUM(D90:W90)","v":{"$error":"#DIV/0!"}},{"$f":"title458","v":"Average income tax payment "},null,{"$f":"C91/C25","v":{"$error":"#DIV/0!"}},{"$f":"title267","v":"USD per year"}]
[]
[{"$f":"title272","v":"Depreciation"}]
[null,{"$f":"title209","v":"Operating Year"},{"$f":"title230","v":"Appraisal"},1,2,3,4,5,6,7,8,9,10,11,12,13,14,15,16,17,18,19,20]
[null,{"$f":"title273","v":"Depreciation method"},{"$f":"title275","v":"Straight-line"}]
[null,{"$f":"title274","v":"Total depreciation (USD)"},null,{"$f":"COST_RES3!G64","v":0},{"$f":"D96","v":0},{"$f":"E96","v":0},0,0,0,0,0,0,0,0,0,0,0,0,0,0,0,0,0]
[]
[{"$f":"title276","v":"Base case project summary"}]
[{"$f":"title277","v":"Summary of this project - Before Tax"}]
[null,{"$f":"title209","v":"Operating Year"},{"$f":"title230","v":"Appraisal"},1,2,3,4,5,6,7,8,9,10,11,12,13,14,15,16,17,18,19,20]
[null,{"$f":"title278","v":"Total revenue (USD)"},null,{"$f":"D15*1000*D18","v":0},{"$f":"E15*1000*E18","v":0},0,0,0,0,0,0,0,0,0,0,0,0,0,0,0,0,0,0]
[null,{"$f":"title228","v":"Total capital cost (USD)"},{"$f":"-(C33-C79)","v":0}]
[null,{"$f":"title279","v":"Total operating and maintenance cost (USD)"},null,{"$f":"-D68+D62","v":{"$error":"#DIV/0!"}},{"$error":"#DIV/0!"},{"$error":"#DIV/0!"},{"$error":"#DIV/0!"},{"$error":"#DIV/0!"},{"$error":"#DIV/0!"},{"$error":"#DIV/0!"},{"$error":"#DIV/0!"},{"$error":"#DIV/0!"},{"$error":"#DIV/0!"},{"$error":"#DIV/0!"},{"$error":"#DIV/0!"},{"$error":"#DIV/0!"},{"$error":"#DIV/0!"},{"$error":"#DIV/0!"},{"$error":"#DIV/0!"},{"$error":"#DIV/0!"},{"$error":"#DIV/0!"},{"$error":"#DIV/0!"},{"$error":"#DIV/0!"}]
[null,{"$f":"title280","v":"Loan payment (USD)"},null,{"$f":"D83","v":0},{"$f":"E83","v":0},0,0,0,0,0,0,0,0,0,0,0,0,0,0,0,0,0,0]
[null,{"$f":"title281","v":"Cash flow - before tax (USD)"},{"$f":"SUM(C101:C104)","v":0},{"$error":"#DIV/0!"},{"$error":"#DIV/0!"},{"$error":"#DIV/0!"},{"$error":"#DIV/0!"},{"$error":"#DIV/0!"},{"$error":"#DIV/0!"},{"$error":"#DIV/0!"},{"$error":"#DIV/0!"},{"$error":"#DIV/0!"},{"$error":"#DIV/0!"},{"$error":"#DIV/0!"},{"$error":"#DIV/0!"},{"$error":"#DIV/0!"},{"$error":"#DIV/0!"},{"$error":"#DIV/0!"},{"$error":"#DIV/0!"},{"$error":"#DIV/0!"},{"$error":"#DIV/0!"},{"$error":"#DIV/0!"},{"$error":"#DIV/0!"}]
[null,{"$f":"title282","v":"Average revenue (USD)"}]
[]
[{"$f":"title283","v":"Summary of this project - After Tax"}]
[null,{"$f":"title209","v":"Operating Year"},{"$f":"title230","v":"Appraisal"},1,2,3,4,5,6,7,8,9,10,11,12,13,14,15,16,17,18,19,20]
[null,{"$f":"B101","v":"Total revenue (USD)"},{"$f":"C101","v":0},{"$f":"D101","v":0},{"$f":"E101","v":0},0,0,0,0,0,0,0,0,0,0,0,0,0,0,0,0,0,0]
[null,{"$f":"title279","v":"Total operating and maintenance cost (USD)"},null,{"$f":"-D68+D62","v":{"$error":"#DIV/0!"}},{"$error":"#DIV/0!"},{"$error":"#DIV/0!"},{"$error":"#DIV/0!"},{"$error":"#DIV/0!"},{"$error":"#DIV/0!"},{"$error":"#DIV/0!"},{"$error":"#DIV/0!"},{"$error":"#DIV/0!"},{"$error":"#DIV/0!"},{"$error":"#DIV/0!"},{"$error":"#DIV/0!"},{"$error":"#DIV/0!"},{"$error":"#DIV/0!"},{"$error":"#DIV/0!"},{"$error":"#DIV/0!"},{"$error":"#DIV/0!"},{"$error":"#DIV/0!"},{"$error":"#DIV/0!"},{"$error":"#DIV/0!"}]
[null,{"$f":"title280","v":"Loan payment (USD)"},null,{"$f":"$G$85","v":0},{"$f":"$G$85","v":0},0,0,0,0,0,0,0,0,0,0,0,0,0,0,0,0,0,0]
[null,{"$f":"title284","v":"Depreciation of fixed costs (USD)"},null,{"$f":"-D62","v":0},{"$f":"-E62","v":0},0,0,0,0,0,0,0,0,0,0,0,0,0,0,0,0,0,0]
[null,{"$f":"title285","v":"Net profit - before tax (USD) for income tax calculation"},{"$f":"SUM(C110:C113)","v":0},{"$f":"SUM(D110:D113)","v":{"$error":"#DIV/0!"}},{"$f":"SUM(E110:E113)","v":{"$error":"#DIV/0!"}},{"$error":"#DIV/0!"},{"$error":"#DIV/0!"},{"$error":"#DIV/0!"},{"$error":"#DIV/0!"},{"$error":"#DIV/0!"},{"$error":"#DIV/0!"},{"$error":"#DIV/0!"},{"$error":"#DIV/0!"},{"$error":"#DIV/0!"},{"$error":"#DIV/0!"},{"$error":"#DIV/0!"},{"$error":"#DIV/0!"},{"$error":"#DIV/0!"},{"$error":"#DIV/0!"},{"$error":"#DIV/0!"},{"$error":"#DIV/0!"},{"$error":"#DIV/0!"},{"$error":"#DIV/0!"}]
[null,{"$f":"title286","v":"Income tax"},null,{"$f":"IF(D114>0,-D90,0)","v":{"$error":"#DIV/0!"}},{"$error":"#DIV/0!"},{"$error":"#DIV/0!"},{"$error":"#DIV/0!"},{"$error":"#DIV/0!"},{"$error":"#DIV/0!"},{"$error":"#DIV/0!"},{"$error":"#DIV/0!"},{"$error":"#DIV/0!"},{"$error":"#DIV/0!"},{"$error":"#DIV/0!"},{"$error":"#DIV/0!"},{"$error":"#DIV/0!"},{"$error":"#DIV/0!"},{"$error":"#DIV/0!"},{"$error":"#DIV/0!"},{"$error":"#DIV/0!"},{"$error":"#DIV/0!"},{"$error":"#DIV/0!"},{"$error":"#DIV/0!"}]
[null,{"$f":"title287","v":"Cash flow - after tax (USD)"},{"$f":"C102","v":0},{"$f":"D105+D115","v":{"$error":"#DIV/0!"}},{"$f":"E105+E115","v":{"$error":"#DIV/0!"}},{"$error":"#DIV/0!"},{"$error":"#DIV/0!"},{"$error":"#DIV/0!"},{"$error":"#DIV/0!"},{"$error":"#DIV/0!"},{"$error":"#DIV/0!"},{"$error":"#DIV/0!"},{"$error":"#DIV/0!"},{"$error":"#DIV/0!"},{"$error":"#DIV/0!"},{"$error":"#DIV/0!"},{"$error":"#DIV/0!"},{"$error":"#DIV/0!"},{"$error":"#DIV/0!"},{"$error":"#DIV/0!"},{"$error":"#DIV/0!"},{"$error":"#DIV/0!"},{"$f":"W105+W115","v":{"$error":"#DIV/0!"}}]
[]
[{"$f":"title288","v":"Cumulative value of Net Profit"}]
[null,{"$f":"title209","v":"Operating Year"},{"$f":"title230","v":"Appraisal"},1,2,3,4,5,6,7,8,9,10,11,12,13,14,15,16,17,18,19,20]
[null,{"$f":"title289","v":"Cumulative value of net profit - before tax"},{"$f":"C105","v":0},{"$f":"C120+(D105)","v":{"$error":"#DIV/0!"}},{"$error":"#DIV/0!"},{"$error":"#DIV/0!"},{"$error":"#DIV/0!"},{"$error":"#DIV/0!"},{"$error":"#DIV/0!"},{"$error":"#DIV/0!"},{"$error":"#DIV/0!"},{"$error":"#DIV/0!"},{"$error":"#DIV/0!"},{"$error":"#DIV/0!"},{"$error":"#DIV/0!"},{"$error":"#DIV/0!"},{"$error":"#DIV/0!"},{"$error":"#DIV/0!"},{"$error":"#DIV/0!"},{"$error":"#DIV/0!"},{"$error":"#DIV/0!"},{"$error":"#DIV/0!"},{"$error":"#DIV/0!"}]
[null,{"$f":"title290","v":"Cumulative value of net profit - after tax"},{"$f":"C116","v":0},{"$f":"C121+(D116)","v":{"$error":"#DIV/0!"}},{"$error":"#DIV/0!"},{"$error":"#DIV/0!"},{"$error":"#DIV/0!"},{"$error":"#DIV/0!"},{"$error":"#DIV/0!"},{"$error":"#DIV/0!"},{"$error":"#DIV/0!"},{"$error":"#DIV/0!"},{"$error":"#DIV/0!"},{"$error":"#DIV/0!"},{"$error":"#DIV/0!"},{"$error":"#DIV/0!"},{"$error":"#DIV/0!"},{"$error":"#DIV/0!"},{"$error":"#DIV/0!"},{"$error":"#DIV/0!"},{"$error":"#DIV/0!"},{"$error":"#DIV/0!"},{"$error":"#DIV/0!"}]
[]
[{"$f":"title291","v":"Financial analysis results"}]
[]
[null,{"$f":"title292","v":"Net present value (NPV) (USD) - before tax"},{"$f":"NPV(C75,D105:W105)+C105","v":{"$error":"#DIV/0!"}}]
[null,{"$f":"title293","v":"Internal rate of return (IRR) (%) - before tax"},{"$f":"IF(C125<0,title459,IF(TIR_cell=title519,IRR(C105:W105,0.001),MIRR(C105:W105,C80,C75)))","v":{"$error":"#DIV/0!"}}]
[null,{"$f":"title294","v":"Payback period (years)"},{"$f":"title298","v":"Please see Figure of the cumulative value of net profit - before tax"}]
[]
[]
[null,{"$f":"title295","v":"Net present value (NPV) (USD) - after tax"},{"$f":"NPV(C75,D116:W116)+C116","v":{"$error":"#DIV/0!"}}]
[null,{"$f":"title296","v":"Internal rate of return (IRR) (%) - after tax"},{"$f":"IF(C130<0,title459,MIRR(C116:W116,$C$80,0%))","v":{"$error":"#DIV/0!"}}]
[null,{"$f":"title294","v":"Payback period (years)"},{"$f":"title299","v":"Please see Figure of the cumulative value of net profit - after tax"}]
[null,{"$f":"title297","v":"Total Income tax payment of project lifetime"},{"$f":"SUM(D115:W115)","v":{"$error":"#DIV/0!"}}]

{"sheet":"FA40_RURAL_RES3","index":39,"n_rows":133,"n_cols":23,"rows_kept":133,"cut":false,"hidden":true,"merged":[[1,1,1,13]]}
[]
[null,{"$f":"title300","v":"FINANCIAL ANALYSIS OF BIOMASS BRIQUETTING 40 KG/HOUR"}]
[]
[{"$f":"title208","v":"Revenues of biomass briquetting system"}]
[null,{"$f":"title209","v":"Operating Year"},0,1,2,3,4,5,6,7,8,9,10,11,12,13,14,15,16,17,18,19,20]
[]
[null,{"$f":"title210","v":"Briquette production capacity (tons per year)"},{"$f":"COST_RES3!$H$29","v":0},{"$f":"C7","v":0},{"$f":"D7","v":0},0,0,0,0,0,0,0,0,0,0,0,0,0,0,0,0,0,0]
[]
[null,{"$f":"title211","v":"Efficiency % of briquetting machine"},{"$f":"COST_RES3!$G$12","v":0},{"$f":"+C9","v":0},{"$f":"+D9","v":0},0,0,0,0,0,0,0,0,0,0,0,0,0,0,0,0,0,0]
[]
[null,{"$f":"title212","v":"Operating hours per year"},{"$f":"COST_RES3!I28","v":0},{"$f":"+C11","v":0},{"$f":"D11","v":0},0,0,0,0,0,0,0,0,0,0,0,0,0,0,0,0,0,0]
[null,{"$f":"title213","v":"Capacity utilization factor"},{"$f":"C11/8760","v":0},{"$f":"D11/8760","v":0},0,0,0,0,0,0,0,0,0,0,0,0,0,0,0,0,0,0,0]
[]
[null,{"$f":"title214","v":"Briquette production (tons per year)"},{"$f":"C7","v":0},{"$f":"D7","v":0},0,0,0,0,0,0,0,0,0,0,0,0,0,0,0,0,0,0,0]
[null,{"$f":"title215","v":"Total briquette sell to customers (tons per year)"},{"$f":"SUM(C14:C14)","v":0},{"$f":"SUM(D14:D14)","v":0},0,0,0,0,0,0,0,0,0,0,0,0,0,0,0,0,0,0,0]
[]
[null,{"$f":"title216","v":"Price of briquette (USD/kg)"},{"$f":"SUM(C18:C18)","v":0},{"$f":"SUM(D18:D18)","v":0},0,0,0,0,0,0,0,0,0,0,0,0,0,0,0,0,0,0,0]
[null,{"$f":"title217","v":"Market price of briquette pay by consumers (USD/kg)"},{"$f":"+'Energy Demand'!E20","v":0},{"$f":"C18*(1+D19)","v":0},0,0,0,0,0,0,0,0,0,0,0,0,0,0,0,0,0,0,0]
[null,{"$f":"title218","v":"Increasing rate of price of briquette (%)"},{"$f":"+'Data entry needs'!$AD$114","v":0},{"$f":"C19","v":0},{"$f":"D19","v":0},0,0,0,0,0,0,0,0,0,0,0,0,0,0,0,0,0,0]
[]
[null,{"$f":"title219","v":"Total income of briquette (USD per year)"},{"$f":"C15*C18*1000","v":0},{"$f":"D15*D18*1000","v":0},0,0,0,0,0,0,0,0,0,0,0,0,0,0,0,0,0,0,0]
[]
[null,{"$f":"title220","v":"Lifespan of civil work (years)"},{"$f":"COST_RES3!E61","v":10}]
[null,{"$f":"title221","v":"Lifespan of briquette system (years)"},{"$f":"COST_RES3!E60","v":10}]
[null,{"$f":"title222","v":"Project life time (years)"},20]
[]
[{"$f":"title223","v":"Capital and operating cost of biomass briquette system "}]
[null,null,{"$f":"title230","v":"Appraisal"},{"$f":"title231","v":"Project lifetime"},{"$f":"title232","v":"Investment per year"}]
[null,{"$f":"title224","v":"Direct capital cost (USD)"}]
[null,{"$f":"title225","v":"Equipments"},{"$f":"D30*E30","v":0},{"$f":"$C$25","v":20},{"$f":"COST_RES3!H60/D30","v":0}]
[null,{"$f":"title226","v":"Building"},{"$f":"D31*E31","v":0},{"$f":"$C$25","v":20},{"$f":"COST_RES3!H61/D31","v":0}]
[null,{"$f":"title227","v":"Installation"},{"$f":"D32*E32","v":0},{"$f":"$C$25","v":20},{"$f":"COST_RES3!H62/D32","v":0}]
[null,{"$f":"title228","v":"Total capital cost (USD)"},{"$f":"SUM(C30:C32)","v":0},null,{"$f":"SUM(E30:E32)","v":0}]
[null,{"$f":"title229","v":"Capital cost (USD/kg of briquette)"},{"$f":"C33/(C14*1000*C25)","v":{"$error":"#DIV/0!"}}]
[]
[]
[null,{"$f":"title209","v":"Operating Year"},{"$f":"title230","v":"Appraisal"},1,2,3,4,5,6,7,8,9,10,11,12,13,14,15,16,17,18,19,20]
[null,{"$f":"title233","v":"Annual operating and maintenance cost "}]
[null,{"$f":"title234","v":"Sub-total material cost (USD)"},{"$f":"C40+C48+C50+C53","v":{"$error":"#DIV/0!"}},{"$f":"D40+D48+D50+D53","v":{"$error":"#DIV/0!"}},{"$error":"#DIV/0!"},{"$error":"#DIV/0!"},{"$error":"#DIV/0!"},{"$error":"#DIV/0!"},{"$error":"#DIV/0!"},{"$error":"#DIV/0!"},{"$error":"#DIV/0!"},{"$error":"#DIV/0!"},{"$error":"#DIV/0!"},{"$error":"#DIV/0!"},{"$error":"#DIV/0!"},{"$error":"#DIV/0!"},{"$error":"#DIV/0!"},{"$error":"#DIV/0!"},{"$error":"#DIV/0!"},{"$error":"#DIV/0!"},{"$error":"#DIV/0!"},{"$error":"#DIV/0!"},{"$error":"#DIV/0!"}]
[null,{"$f":"title235","v":"Biomass cost (USD/year)"},{"$f":"C41*C42","v":{"$error":"#DIV/0!"}},{"$f":"D41*D42","v":{"$error":"#DIV/0!"}},{"$error":"#DIV/0!"},{"$error":"#DIV/0!"},{"$error":"#DIV/0!"},{"$error":"#DIV/0!"},{"$error":"#DIV/0!"},{"$error":"#DIV/0!"},{"$error":"#DIV/0!"},{"$error":"#DIV/0!"},{"$error":"#DIV/0!"},{"$error":"#DIV/0!"},{"$error":"#DIV/0!"},{"$error":"#DIV/0!"},{"$error":"#DIV/0!"},{"$error":"#DIV/0!"},{"$error":"#DIV/0!"},{"$error":"#DIV/0!"},{"$error":"#DIV/0!"},{"$error":"#DIV/0!"},{"$error":"#DIV/0!"}]
[null,{"$f":"title236","v":"Biomass consumption (ton per year)"},{"$f":"C14/COST_RES3!$G$12","v":{"$error":"#DIV/0!"}},{"$f":"D14/COST_RES3!$G$12","v":{"$error":"#DIV/0!"}},{"$f":"E14/COST_RES3!$G$12","v":{"$error":"#DIV/0!"}},{"$f":"F14/COST_RES3!$G$12","v":{"$error":"#DIV/0!"}},{"$f":"G14/COST_RES3!$G$12","v":{"$error":"#DIV/0!"}},{"$f":"H14/COST_RES3!$G$12","v":{"$error":"#DIV/0!"}},{"$f":"I14/COST_RES3!$G$12","v":{"$error":"#DIV/0!"}},{"$f":"J14/COST_RES3!$G$12","v":{"$error":"#DIV/0!"}},{"$f":"K14/COST_RES3!$G$12","v":{"$error":"#DIV/0!"}},{"$f":"L14/COST_RES3!$G$12","v":{"$error":"#DIV/0!"}},{"$f":"M14/COST_RES3!$G$12","v":{"$error":"#DIV/0!"}},{"$f":"N14/COST_RES3!$G$12","v":{"$error":"#DIV/0!"}},{"$f":"O14/COST_RES3!$G$12","v":{"$error":"#DIV/0!"}},{"$f":"P14/COST_RES3!$G$12","v":{"$error":"#DIV/0!"}},{"$f":"Q14/COST_RES3!$G$12","v":{"$error":"#DIV/0!"}},{"$f":"R14/COST_RES3!$G$12","v":{"$error":"#DIV/0!"}},{"$f":"S14/COST_RES3!$G$12","v":{"$error":"#DIV/0!"}},{"$f":"T14/COST_RES3!$G$12","v":{"$error":"#DIV/0!"}},{"$f":"U14/COST_RES3!$G$12","v":{"$error":"#DIV/0!"}},{"$f":"V14/COST_RES3!$G$12","v":{"$error":"#DIV/0!"}},{"$f":"W14/COST_RES3!$G$12","v":{"$error":"#DIV/0!"}}]
[null,{"$f":"title237","v":"Biomass price (USD/ton)"},{"$f":"SUM(C43:C44)","v":0},{"$f":"SUM(D43:D44)","v":0},0,0,0,0,0,0,0,0,0,0,0,0,0,0,0,0,0,0,0]
[null,{"$f":"title238","v":"Biomass cost of collection (USD/ton)"},{"$f":"COST_RES3!E33","v":0},{"$f":"C43*(1+D73+D74)","v":0},{"$f":"D43*(1+E73+E74)","v":0},0,0,0,0,0,0,0,0,0,0,0,0,0,0,0,0,0,0]
[null,{"$f":"title239","v":"Biomass transportation cost (USD/ton)"},{"$f":"C45*C46","v":0},{"$f":"D45*D46","v":0},0,0,0,0,0,0,0,0,0,0,0,0,0,0,0,0,0,0,0]
[null,{"$f":"title240","v":"Biomass from farm to plant (USD/ton/km)"},{"$f":"COST_RES3!E48","v":0},{"$f":"C45*(1+D73+D74)","v":0},{"$f":"D45*(1+E73+E74)","v":0},0,0,0,0,0,0,0,0,0,0,0,0,0,0,0,0,0,0]
[null,{"$f":"title241","v":"Transportation distant (km)"},{"$f":"COST_RES3!H48","v":0},{"$f":"C46","v":0},{"$f":"D46","v":0},0,0,0,0,0,0,0,0,0,0,0,0,0,0,{"$f":"S46","v":0},{"$f":"T46","v":0},{"$f":"U46","v":0},{"$f":"V46","v":0}]
[]
[null,{"$f":"title246","v":"Water cost (USD/year)"},{"$f":"COST_RES3!I35","v":0},{"$f":"C48*(1+D73+D74)","v":0},{"$f":"D48*(1+E73+E74)","v":0},0,0,0,0,0,0,0,0,0,0,0,0,0,0,0,0,0,0]
[]
[null,{"$f":"title242","v":"Chemical cost (USD/year)"},{"$f":"C51*C52","v":0},{"$f":"D51*D52","v":0},0,0,0,0,0,0,0,0,0,0,0,0,0,0,0,0,0,0,0]
[null,{"$f":"title243","v":"Chemical consumption (tons per year)"},{"$f":"+COST_RES3!$H$34","v":0},{"$f":"+COST_RES3!$H$34","v":0},{"$f":"+COST_RES3!$H$34","v":0},{"$f":"+COST_RES3!$H$34","v":0},{"$f":"+COST_RES3!$H$34","v":0},{"$f":"+COST_RES3!$H$34","v":0},{"$f":"+COST_RES3!$H$34","v":0},{"$f":"+COST_RES3!$H$34","v":0},{"$f":"+COST_RES3!$H$34","v":0},{"$f":"+COST_RES3!$H$34","v":0},{"$f":"+COST_RES3!$H$34","v":0},{"$f":"+COST_RES3!$H$34","v":0},{"$f":"+COST_RES3!$H$34","v":0},{"$f":"+COST_RES3!$H$34","v":0},{"$f":"+COST_RES3!$H$34","v":0},{"$f":"+COST_RES3!$H$34","v":0},{"$f":"+COST_RES3!$H$34","v":0},{"$f":"+COST_RES3!$H$34","v":0},{"$f":"+COST_RES3!$H$34","v":0},{"$f":"+COST_RES3!$H$34","v":0},{"$f":"+COST_RES3!$H$34","v":0}]
[null,{"$f":"title244","v":"Chemical price (USD/ton)"},{"$f":"+'Data entry needs'!$F$20","v":0},{"$f":"C52","v":0},{"$f":"D52","v":0},0,0,0,0,0,0,0,0,0,0,0,0,0,0,0,0,0,0]
[null,{"$f":"title245","v":"Electricity cost (USD)"},{"$f":"COST_RES3!I36","v":0},{"$f":"C53*(1+D73+D74)","v":0},{"$f":"D53*(1+E73+E74)","v":0},0,0,0,0,0,0,0,0,0,0,0,0,0,0,0,0,0,0]
[]
[null,{"$f":"title247","v":"Sub-total operating cost (USD)"},{"$f":"C56+C58+C59","v":{"$error":"#DIV/0!"}},{"$f":"D56+D58+D59","v":{"$error":"#DIV/0!"}},{"$error":"#DIV/0!"},{"$error":"#DIV/0!"},{"$error":"#DIV/0!"},{"$error":"#DIV/0!"},{"$error":"#DIV/0!"},{"$error":"#DIV/0!"},{"$error":"#DIV/0!"},{"$error":"#DIV/0!"},{"$error":"#DIV/0!"},{"$error":"#DIV/0!"},{"$error":"#DIV/0!"},{"$error":"#DIV/0!"},{"$error":"#DIV/0!"},{"$error":"#DIV/0!"},{"$error":"#DIV/0!"},{"$error":"#DIV/0!"},{"$error":"#DIV/0!"},{"$error":"#DIV/0!"},{"$error":"#DIV/0!"}]
[null,{"$f":"title248","v":"Labour cost (USD)"},{"$f":"COST_RES3!I44","v":0},{"$f":"C56*(1+D57)","v":0},0,0,0,0,0,0,0,0,0,0,0,0,0,0,0,0,0,0,0]
[null,{"$f":"title249","v":"Annual change in labour cost (%)"},null,{"$f":"COST_RES3!M12","v":0},{"$f":"D57","v":0},{"$f":"E57","v":0},0,0,0,0,0,0,0,0,0,0,0,0,0,0,0,{"$f":"U57","v":0},0]
[null,{"$f":"title249","v":"Annual change in labour cost (%)"},{"$f":"COST_RES3!I70","v":0},{"$f":"C58","v":0},{"$f":"D58","v":0},0,0,0,0,0,0,0,0,0,0,0,0,0,0,0,0,0,0]
[null,{"$f":"title250","v":"General and administrative cost"},{"$f":"COST_RES3!I71","v":{"$error":"#DIV/0!"}},{"$f":"C59","v":{"$error":"#DIV/0!"}},{"$error":"#DIV/0!"},{"$error":"#DIV/0!"},{"$error":"#DIV/0!"},{"$error":"#DIV/0!"},{"$error":"#DIV/0!"},{"$error":"#DIV/0!"},{"$error":"#DIV/0!"},{"$error":"#DIV/0!"},{"$error":"#DIV/0!"},{"$error":"#DIV/0!"},{"$error":"#DIV/0!"},{"$error":"#DIV/0!"},{"$error":"#DIV/0!"},{"$error":"#DIV/0!"},{"$error":"#DIV/0!"},{"$error":"#DIV/0!"},{"$error":"#DIV/0!"},{"$error":"#DIV/0!"},{"$error":"#DIV/0!"}]
[null,{"$f":"title251","v":"Sub-total maintenance cost (USD)"},{"$f":"COST_RES3!I65","v":0},{"$f":"C60","v":0},0,0,0,0,0,0,0,0,0,0,0,0,0,0,0,0,0,0,0]
[]
[null,{"$f":"title252","v":"Sub-total of annual fixed costs"},{"$f":"+E33","v":0},{"$f":"C62","v":0},{"$f":"D62","v":0},0,0,0,0,0,0,0,0,0,0,0,0,0,0,0,0,0,0]
[]
[null,{"$f":"title253","v":"Sub-total of storage capacity"},{"$f":"COST_RES3!I56","v":{"$error":"#DIV/0!"}},{"$f":"C64","v":{"$error":"#DIV/0!"}},{"$f":"D64","v":{"$error":"#DIV/0!"}},{"$error":"#DIV/0!"},{"$error":"#DIV/0!"},{"$error":"#DIV/0!"},{"$error":"#DIV/0!"},{"$error":"#DIV/0!"},{"$error":"#DIV/0!"},{"$error":"#DIV/0!"},{"$error":"#DIV/0!"},{"$error":"#DIV/0!"},{"$error":"#DIV/0!"},{"$error":"#DIV/0!"},{"$error":"#DIV/0!"},{"$error":"#DIV/0!"},{"$error":"#DIV/0!"},{"$error":"#DIV/0!"},{"$error":"#DIV/0!"},{"$error":"#DIV/0!"},{"$error":"#DIV/0!"}]
[]
[null,{"$f":"title254","v":"Sub-total of briquette transportation to market"},{"$f":"COST_RES3!I49","v":0},{"$f":"C66*(1+D73+D74)","v":0},{"$f":"D66*(1+E73+E74)","v":0},0,0,0,0,0,0,0,0,0,0,0,0,0,0,0,0,0,0]
[]
[null,{"$f":"title255","v":"Total operation and maintenance cost (USD)"},{"$f":"C39+C55+C60+C62+C64+C66","v":{"$error":"#DIV/0!"}},{"$f":"D39+D55+D60+D62+D64+D66","v":{"$error":"#DIV/0!"}},{"$error":"#DIV/0!"},{"$error":"#DIV/0!"},{"$error":"#DIV/0!"},{"$error":"#DIV/0!"},{"$error":"#DIV/0!"},{"$error":"#DIV/0!"},{"$error":"#DIV/0!"},{"$error":"#DIV/0!"},{"$error":"#DIV/0!"},{"$error":"#DIV/0!"},{"$error":"#DIV/0!"},{"$error":"#DIV/0!"},{"$error":"#DIV/0!"},{"$error":"#DIV/0!"},{"$error":"#DIV/0!"},{"$error":"#DIV/0!"},{"$error":"#DIV/0!"},{"$error":"#DIV/0!"},{"$error":"#DIV/0!"}]
[null,{"$f":"title256","v":"Operation and maintenance cost (USD/kg of briquette) without loan interest"},{"$f":"C68/(C14*1000)","v":{"$error":"#DIV/0!"}},{"$error":"#DIV/0!"},{"$error":"#DIV/0!"},{"$error":"#DIV/0!"},{"$error":"#DIV/0!"},{"$error":"#DIV/0!"},{"$error":"#DIV/0!"},{"$error":"#DIV/0!"},{"$error":"#DIV/0!"},{"$error":"#DIV/0!"},{"$error":"#DIV/0!"},{"$error":"#DIV/0!"},{"$error":"#DIV/0!"},{"$error":"#DIV/0!"},{"$error":"#DIV/0!"},{"$error":"#DIV/0!"},{"$error":"#DIV/0!"},{"$error":"#DIV/0!"},{"$error":"#DIV/0!"},{"$error":"#DIV/0!"},{"$error":"#DIV/0!"}]
[]
[{"$f":"title164","v":"Financial parameters"}]
[null,{"$f":"title209","v":"Operating Year"},{"$f":"title230","v":"Appraisal"},1,2,3,4,5,6,7,8,9,10,11,12,13,14,15,16,17,18,19,20]
[null,{"$f":"title257","v":"Annual change in raw material cost (%)"},null,0,{"$f":"D73","v":0},{"$f":"E73","v":0},0,0,0,0,0,0,0,0,0,0,0,0,0,0,0,{"$f":"U73","v":0},{"$f":"V73","v":0}]
[null,{"$f":"title258","v":"Inflation rate (%)"},null,{"$f":"COST_RES3!J12","v":0},{"$f":"D74","v":0},0,0,0,0,0,0,0,0,0,0,0,0,0,0,0,0,{"$f":"U74","v":0},{"$f":"V74","v":0}]
[null,{"$f":"title165&\" (%)\"","v":"Discount rate (%)"},{"$f":"COST_RES3!J9","v":0}]
[null,{"$f":"title166&\" (%)\"","v":"Loan ratio (%)"},{"$f":"COST_RES3!J10","v":0}]
[]
[null,{"$f":"title259","v":"Loan without policy"},{"$f":"title230","v":"Appraisal"},1,2,3,4,5,6,7,8,9,10,11,12,13,14,15,16,17,18,19,20]
[null,{"$f":"title260","v":"Loan amount (USD)"},{"$f":"C76*(C33)","v":0}]
[null,{"$f":"title167&\" (%)\"","v":"Loan interest rate (%)"},{"$f":"COST_RES3!J11","v":0}]
[null,{"$f":"title261","v":"Loan term (years)"},{"$f":"COST_RES3!M9","v":0}]
[null,{"$f":"title262","v":"Loan payment (USD/month)"},{"$f":"(PMT($C$80/12,(12*$C$81),$C$79))","v":{"$error":"#NUM!"}}]
[null,{"$f":"title263","v":"Loan payment (USD/year)"},null,{"$f":"IF(D72<=$C$81,$C$82*12,0)","v":0},{"$f":"IF(E72<$C$81,$C$82*12,IF(E72=$C$81,$C$82*12,0))","v":0},{"$f":"IF(F72<$C$81,$C$82*12,IF(F72=$C$81,$C$82*12,0))","v":0},0,0,0,0,0,0,0,0,0,0,0,0,0,0,0,0,0]
[null,{"$f":"title264","v":"Total loan payment (USD)"},{"$f":"SUM(D83:W83)","v":0}]
[null,{"$f":"title265","v":"Loan interest payment (USD)"},{"$f":"C84+C79","v":0},{"$f":"title266","v":"Average loan interest payment for project lifetime"},null,null,{"$f":"C85/C25","v":0},{"$f":"title267","v":"USD per year"}]
[]
[{"$f":"title268","v":"Income tax analysis"}]
[null,{"$f":"title209","v":"Operating Year"},{"$f":"title230","v":"Appraisal"},1,2,3,4,5,6,7,8,9,10,11,12,13,14,15,16,17,18,19,20]
[null,{"$f":"title269","v":"Effective income tax rate (%)"},{"$f":"+'Data entry needs'!$AD$115","v":0},{"$f":"C89","v":0},{"$f":"D89","v":0},0,0,0,0,0,0,0,0,0,0,0,0,0,0,0,0,0,0]
[null,{"$f":"title270","v":"Income tax (USD)"},null,{"$f":"IF(D114<0,0,D89*D114)","v":{"$error":"#DIV/0!"}},{"$error":"#DIV/0!"},{"$error":"#DIV/0!"},{"$error":"#DIV/0!"},{"$error":"#DIV/0!"},{"$error":"#DIV/0!"},{"$error":"#DIV/0!"},{"$error":"#DIV/0!"},{"$error":"#DIV/0!"},{"$error":"#DIV/0!"},{"$error":"#DIV/0!"},{"$error":"#DIV/0!"},{"$error":"#DIV/0!"},{"$error":"#DIV/0!"},{"$error":"#DIV/0!"},{"$error":"#DIV/0!"},{"$error":"#DIV/0!"},{"$error":"#DIV/0!"},{"$error":"#DIV/0!"},{"$error":"#DIV/0!"}]
[null,{"$f":"title271","v":"Total income tax payment (USD)"},{"$f":"SUM(D90:W90)","v":{"$error":"#DIV/0!"}},{"$f":"title458","v":"Average income tax payment "},null,{"$f":"C91/C25","v":{"$error":"#DIV/0!"}},{"$f":"title267","v":"USD per year"}]
[]
[{"$f":"title272","v":"Depreciation"}]
[null,{"$f":"title209","v":"Operating Year"},{"$f":"title230","v":"Appraisal"},1,2,3,4,5,6,7,8,9,10,11,12,13,14,15,16,17,18,19,20]
[null,{"$f":"title273","v":"Depreciation method"},{"$f":"title275","v":"Straight-line"}]
[null,{"$f":"title274","v":"Total depreciation (USD)"},null,{"$f":"COST_RES3!I64","v":0},{"$f":"D96","v":0},{"$f":"E96","v":0},0,0,0,0,0,0,0,0,0,0,0,0,0,0,0,0,0]
[]
[{"$f":"title276","v":"Base case project summary"}]
[{"$f":"title277","v":"Summary of this project - Before Tax"}]
[null,{"$f":"title209","v":"Operating Year"},{"$f":"title230","v":"Appraisal"},1,2,3,4,5,6,7,8,9,10,11,12,13,14,15,16,17,18,19,20]
[null,{"$f":"title278","v":"Total revenue (USD)"},null,{"$f":"D15*1000*D18","v":0},{"$f":"E15*1000*E18","v":0},0,0,0,0,0,0,0,0,0,0,0,0,0,0,0,0,0,0]
[null,{"$f":"title228","v":"Total capital cost (USD)"},{"$f":"-(C33-C79)","v":0}]
[null,{"$f":"title279","v":"Total operating and maintenance cost (USD)"},null,{"$f":"-D68+D62","v":{"$error":"#DIV/0!"}},{"$error":"#DIV/0!"},{"$error":"#DIV/0!"},{"$error":"#DIV/0!"},{"$error":"#DIV/0!"},{"$error":"#DIV/0!"},{"$error":"#DIV/0!"},{"$error":"#DIV/0!"},{"$error":"#DIV/0!"},{"$error":"#DIV/0!"},{"$error":"#DIV/0!"},{"$error":"#DIV/0!"},{"$error":"#DIV/0!"},{"$error":"#DIV/0!"},{"$error":"#DIV/0!"},{"$error":"#DIV/0!"},{"$error":"#DIV/0!"},{"$error":"#DIV/0!"},{"$error":"#DIV/0!"},{"$error":"#DIV/0!"}]
[null,{"$f":"title280","v":"Loan payment (USD)"},null,{"$f":"D83","v":0},{"$f":"E83","v":0},0,0,0,0,0,0,0,0,0,0,0,0,0,0,0,0,0,0]
[null,{"$f":"title281","v":"Cash flow - before tax (USD)"},{"$f":"SUM(C101:C104)","v":0},{"$error":"#DIV/0!"},{"$error":"#DIV/0!"},{"$error":"#DIV/0!"},{"$error":"#DIV/0!"},{"$error":"#DIV/0!"},{"$error":"#DIV/0!"},{"$error":"#DIV/0!"},{"$error":"#DIV/0!"},{"$error":"#DIV/0!"},{"$error":"#DIV/0!"},{"$error":"#DIV/0!"},{"$error":"#DIV/0!"},{"$error":"#DIV/0!"},{"$error":"#DIV/0!"},{"$error":"#DIV/0!"},{"$error":"#DIV/0!"},{"$error":"#DIV/0!"},{"$error":"#DIV/0!"},{"$error":"#DIV/0!"},{"$error":"#DIV/0!"}]
[null,{"$f":"title282","v":"Average revenue (USD)"}]
[]
[{"$f":"title283","v":"Summary of this project - After Tax"}]
[null,{"$f":"title209","v":"Operating Year"},{"$f":"title230","v":"Appraisal"},1,2,3,4,5,6,7,8,9,10,11,12,13,14,15,16,17,18,19,20]
[null,{"$f":"B101","v":"Total revenue (USD)"},{"$f":"C101","v":0},{"$f":"D101","v":0},0,0,0,0,0,0,0,0,0,0,0,0,0,0,0,0,0,0,0]
[null,{"$f":"title279","v":"Total operating and maintenance cost (USD)"},null,{"$f":"-D68+D62","v":{"$error":"#DIV/0!"}},{"$error":"#DIV/0!"},{"$error":"#DIV/0!"},{"$error":"#DIV/0!"},{"$error":"#DIV/0!"},{"$error":"#DIV/0!"},{"$error":"#DIV/0!"},{"$error":"#DIV/0!"},{"$error":"#DIV/0!"},{"$error":"#DIV/0!"},{"$error":"#DIV/0!"},{"$error":"#DIV/0!"},{"$error":"#DIV/0!"},{"$error":"#DIV/0!"},{"$error":"#DIV/0!"},{"$error":"#DIV/0!"},{"$error":"#DIV/0!"},{"$error":"#DIV/0!"},{"$error":"#DIV/0!"},{"$error":"#DIV/0!"}]
[null,{"$f":"title280","v":"Loan payment (USD)"},null,{"$f":"$G$85","v":0},{"$f":"$G$85","v":0},0,0,0,0,0,0,0,0,0,0,0,0,0,0,0,0,0,0]
[null,{"$f":"title284","v":"Depreciation of fixed costs (USD)"},null,{"$f":"-D62","v":0},{"$f":"-E62","v":0},0,0,0,0,0,0,0,0,0,0,0,0,0,0,0,0,0,0]
[null,{"$f":"title285","v":"Net profit - before tax (USD) for income tax calculation"},{"$f":"SUM(C110:C113)","v":0},{"$f":"SUM(D110:D113)","v":{"$error":"#DIV/0!"}},{"$f":"SUM(E110:E113)","v":{"$error":"#DIV/0!"}},{"$error":"#DIV/0!"},{"$error":"#DIV/0!"},{"$error":"#DIV/0!"},{"$error":"#DIV/0!"},{"$error":"#DIV/0!"},{"$error":"#DIV/0!"},{"$error":"#DIV/0!"},{"$error":"#DIV/0!"},{"$error":"#DIV/0!"},{"$error":"#DIV/0!"},{"$error":"#DIV/0!"},{"$error":"#DIV/0!"},{"$error":"#DIV/0!"},{"$error":"#DIV/0!"},{"$error":"#DIV/0!"},{"$error":"#DIV/0!"},{"$error":"#DIV/0!"},{"$error":"#DIV/0!"}]
[null,{"$f":"title286","v":"Income tax"},null,{"$f":"IF(D114>0,-D90,0)","v":{"$error":"#DIV/0!"}},{"$error":"#DIV/0!"},{"$error":"#DIV/0!"},{"$error":"#DIV/0!"},{"$error":"#DIV/0!"},{"$error":"#DIV/0!"},{"$error":"#DIV/0!"},{"$error":"#DIV/0!"},{"$error":"#DIV/0!"},{"$error":"#DIV/0!"},{"$error":"#DIV/0!"},{"$error":"#DIV/0!"},{"$error":"#DIV/0!"},{"$error":"#DIV/0!"},{"$error":"#DIV/0!"},{"$error":"#DIV/0!"},{"$error":"#DIV/0!"},{"$error":"#DIV/0!"},{"$error":"#DIV/0!"},{"$error":"#DIV/0!"}]
[null,{"$f":"title287","v":"Cash flow - after tax (USD)"},{"$f":"C102","v":0},{"$f":"D105+D115","v":{"$error":"#DIV/0!"}},{"$f":"E105+E115","v":{"$error":"#DIV/0!"}},{"$error":"#DIV/0!"},{"$error":"#DIV/0!"},{"$error":"#DIV/0!"},{"$error":"#DIV/0!"},{"$error":"#DIV/0!"},{"$error":"#DIV/0!"},{"$error":"#DIV/0!"},{"$error":"#DIV/0!"},{"$error":"#DIV/0!"},{"$error":"#DIV/0!"},{"$error":"#DIV/0!"},{"$error":"#DIV/0!"},{"$error":"#DIV/0!"},{"$error":"#DIV/0!"},{"$error":"#DIV/0!"},{"$error":"#DIV/0!"},{"$error":"#DIV/0!"},{"$f":"W105+W115","v":{"$error":"#DIV/0!"}}]
[]
[{"$f":"title288","v":"Cumulative value of Net Profit"}]
[null,{"$f":"title209","v":"Operating Year"},{"$f":"title230","v":"Appraisal"},1,2,3,4,5,6,7,8,9,10,11,12,13,14,15,16,17,18,19,20]
[null,{"$f":"title289","v":"Cumulative value of net profit - before tax"},{"$f":"C105","v":0},{"$f":"C120+(D105)","v":{"$error":"#DIV/0!"}},{"$error":"#DIV/0!"},{"$error":"#DIV/0!"},{"$error":"#DIV/0!"},{"$error":"#DIV/0!"},{"$error":"#DIV/0!"},{"$error":"#DIV/0!"},{"$error":"#DIV/0!"},{"$error":"#DIV/0!"},{"$error":"#DIV/0!"},{"$error":"#DIV/0!"},{"$error":"#DIV/0!"},{"$error":"#DIV/0!"},{"$error":"#DIV/0!"},{"$error":"#DIV/0!"},{"$error":"#DIV/0!"},{"$error":"#DIV/0!"},{"$error":"#DIV/0!"},{"$error":"#DIV/0!"},{"$error":"#DIV/0!"}]
[null,{"$f":"title290","v":"Cumulative value of net profit - after tax"},{"$f":"C116","v":0},{"$f":"C121+(D116)","v":{"$error":"#DIV/0!"}},{"$error":"#DIV/0!"},{"$error":"#DIV/0!"},{"$error":"#DIV/0!"},{"$error":"#DIV/0!"},{"$error":"#DIV/0!"},{"$error":"#DIV/0!"},{"$error":"#DIV/0!"},{"$error":"#DIV/0!"},{"$error":"#DIV/0!"},{"$error":"#DIV/0!"},{"$error":"#DIV/0!"},{"$error":"#DIV/0!"},{"$error":"#DIV/0!"},{"$error":"#DIV/0!"},{"$error":"#DIV/0!"},{"$error":"#DIV/0!"},{"$error":"#DIV/0!"},{"$error":"#DIV/0!"},{"$error":"#DIV/0!"}]
[]
[{"$f":"title291","v":"Financial analysis results"}]
[]
[null,{"$f":"title292","v":"Net present value (NPV) (USD) - before tax"},{"$f":"NPV(C75,D105:W105)+C105","v":{"$error":"#DIV/0!"}}]
[null,{"$f":"title293","v":"Internal rate of return (IRR) (%) - before tax"},{"$f":"IF(C125<0,title459,IF(TIR_cell=title519,IRR(C105:W105,0.001),MIRR(C105:W105,C80,C75)))","v":{"$error":"#DIV/0!"}}]
[null,{"$f":"title294","v":"Payback period (years)"},{"$f":"title298","v":"Please see Figure of the cumulative value of net profit - before tax"}]
[]
[]
[null,{"$f":"title295","v":"Net present value (NPV) (USD) - after tax"},{"$f":"NPV(C75,D116:W116)+C116","v":{"$error":"#DIV/0!"}}]
[null,{"$f":"title296","v":"Internal rate of return (IRR) (%) - after tax"},{"$f":"IF(C130<0,title459,MIRR(C116:W116,$C$80,0%))","v":{"$error":"#DIV/0!"}}]
[null,{"$f":"title294","v":"Payback period (years)"},{"$f":"title299","v":"Please see Figure of the cumulative value of net profit - after tax"}]
[null,{"$f":"title297","v":"Total Income tax payment of project lifetime"},{"$f":"SUM(D115:W115)","v":{"$error":"#DIV/0!"}}]

{"sheet":"FA400_RURAL_RES3","index":40,"n_rows":134,"n_cols":23,"rows_kept":134,"cut":false,"hidden":true,"merged":[[1,1,1,13]]}
[]
[null,{"$f":"title301","v":"FINANCIAL ANALYSIS OF BIOMASS BRIQUETTING 400 KG/HOUR"}]
[]
[{"$f":"title208","v":"Revenues of biomass briquetting system"}]
[null,{"$f":"title209","v":"Operating Year"},0,1,2,3,4,5,6,7,8,9,10,11,12,13,14,15,16,17,18,19,20]
[]
[null,{"$f":"title210","v":"Briquette production capacity (tons per year)"},{"$f":"COST_RES3!J29","v":0},{"$f":"C7","v":0},{"$f":"D7","v":0},0,0,0,0,0,0,0,0,0,0,0,0,0,0,0,0,0,0]
[]
[null,{"$f":"title211","v":"Efficiency % of briquetting machine"},{"$f":"COST_RES3!G12","v":0},{"$f":"+C9","v":0},{"$f":"+D9","v":0},0,0,0,0,0,0,0,0,0,0,0,0,0,0,0,0,0,0]
[]
[null,{"$f":"title212","v":"Operating hours per year"},{"$f":"COST_RES3!K28","v":0},{"$f":"+C11","v":0},{"$f":"D11","v":0},0,0,0,0,0,0,0,0,0,0,0,0,0,0,0,0,0,0]
[null,{"$f":"title213","v":"Capacity utilization factor"},{"$f":"C11/8760","v":0},{"$f":"D11/8760","v":0},0,0,0,0,0,0,0,0,0,0,0,0,0,0,0,0,0,0,0]
[]
[null,{"$f":"title214","v":"Briquette production (tons per year)"},{"$f":"C7","v":0},{"$f":"D7","v":0},0,0,0,0,0,0,0,0,0,0,0,0,0,0,0,0,0,0,0]
[null,{"$f":"title215","v":"Total briquette sell to customers (tons per year)"},{"$f":"SUM(C14:C14)","v":0},{"$f":"SUM(D14:D14)","v":0},0,0,0,0,0,0,0,0,0,0,0,0,0,0,0,0,0,0,0]
[]
[null,{"$f":"title216","v":"Price of briquette (USD/kg)"},{"$f":"SUM(C18:C18)","v":0},{"$f":"SUM(D18:D18)","v":0},0,0,0,0,0,0,0,0,0,0,0,0,0,0,0,0,0,0,0]
[null,{"$f":"title217","v":"Market price of briquette pay by consumers (USD/kg)"},{"$f":"+'Energy Demand'!E20","v":0},{"$f":"C18*(1+D19)","v":0},0,0,0,0,0,0,0,0,0,0,0,0,0,0,0,0,0,0,0]
[null,{"$f":"title218","v":"Increasing rate of price of briquette (%)"},{"$f":"+'Data entry needs'!$AD$114","v":0},{"$f":"C19","v":0},{"$f":"D19","v":0},0,0,0,0,0,0,0,0,0,0,0,0,0,0,0,0,0,0]
[]
[null,{"$f":"title219","v":"Total income of briquette (USD per year)"},{"$f":"C15*C18*1000","v":0},{"$f":"D15*D18*1000","v":0},0,0,0,0,0,0,0,0,0,0,0,0,0,0,0,0,0,0,0]
[]
[null,{"$f":"title220","v":"Lifespan of civil work (years)"},{"$f":"COST_RES3!E61","v":10}]
[null,{"$f":"title221","v":"Lifespan of briquette system (years)"},{"$f":"COST_RES3!E60","v":10}]
[null,{"$f":"title222","v":"Project life time (years)"},20]
[]
[{"$f":"title223","v":"Capital and operating cost of biomass briquette system "}]
[]
[null,null,{"$f":"title230","v":"Appraisal"},{"$f":"title231","v":"Project lifetime"},{"$f":"title232","v":"Investment per year"}]
[null,{"$f":"title224","v":"Direct capital cost (USD)"}]
[null,{"$f":"title225","v":"Equipments"},{"$f":"D31*E31","v":0},{"$f":"$C$25","v":20},{"$f":"COST_RES3!J60/D31","v":0}]
[null,{"$f":"title226","v":"Building"},{"$f":"D32*E32","v":0},{"$f":"$C$25","v":20},{"$f":"COST_RES3!J61/D32","v":0}]
[null,{"$f":"title227","v":"Installation"},{"$f":"D33*E33","v":0},{"$f":"$C$25","v":20},{"$f":"COST_RES3!J62/D33","v":0}]
[null,{"$f":"title228","v":"Total capital cost (USD)"},{"$f":"SUM(C31:C33)","v":0},null,{"$f":"SUM(E31:E33)","v":0}]
[null,{"$f":"title229","v":"Capital cost (USD/kg of briquette)"},{"$f":"C34/(C14*1000*C25)","v":{"$error":"#DIV/0!"}}]
[]
[]
[null,{"$f":"title209","v":"Operating Year"},{"$f":"title230","v":"Appraisal"},1,2,3,4,5,6,7,8,9,10,11,12,13,14,15,16,17,18,19,20]
[null,{"$f":"title233","v":"Annual operating and maintenance cost "}]
[null,{"$f":"title234","v":"Sub-total material cost (USD)"},{"$f":"C41+C49+C51+C54","v":{"$error":"#DIV/0!"}},{"$f":"D41+D49+D51+D54","v":{"$error":"#DIV/0!"}},{"$error":"#DIV/0!"},{"$error":"#DIV/0!"},{"$error":"#DIV/0!"},{"$error":"#DIV/0!"},{"$error":"#DIV/0!"},{"$error":"#DIV/0!"},{"$error":"#DIV/0!"},{"$error":"#DIV/0!"},{"$error":"#DIV/0!"},{"$error":"#DIV/0!"},{"$error":"#DIV/0!"},{"$error":"#DIV/0!"},{"$error":"#DIV/0!"},{"$error":"#DIV/0!"},{"$error":"#DIV/0!"},{"$error":"#DIV/0!"},{"$error":"#DIV/0!"},{"$error":"#DIV/0!"},{"$error":"#DIV/0!"}]
[null,{"$f":"title235","v":"Biomass cost (USD/year)"},{"$f":"C42*C43","v":{"$error":"#DIV/0!"}},{"$f":"D42*D43","v":{"$error":"#DIV/0!"}},{"$error":"#DIV/0!"},{"$error":"#DIV/0!"},{"$error":"#DIV/0!"},{"$error":"#DIV/0!"},{"$error":"#DIV/0!"},{"$error":"#DIV/0!"},{"$error":"#DIV/0!"},{"$error":"#DIV/0!"},{"$error":"#DIV/0!"},{"$error":"#DIV/0!"},{"$error":"#DIV/0!"},{"$error":"#DIV/0!"},{"$error":"#DIV/0!"},{"$error":"#DIV/0!"},{"$error":"#DIV/0!"},{"$error":"#DIV/0!"},{"$error":"#DIV/0!"},{"$error":"#DIV/0!"},{"$error":"#DIV/0!"}]
[null,{"$f":"title236","v":"Biomass consumption (ton per year)"},{"$f":"C14/COST_RES3!$G$12","v":{"$error":"#DIV/0!"}},{"$f":"D14/COST_RES3!$G$12","v":{"$error":"#DIV/0!"}},{"$f":"E14/COST_RES3!$G$12","v":{"$error":"#DIV/0!"}},{"$f":"F14/COST_RES3!$G$12","v":{"$error":"#DIV/0!"}},{"$f":"G14/COST_RES3!$G$12","v":{"$error":"#DIV/0!"}},{"$f":"H14/COST_RES3!$G$12","v":{"$error":"#DIV/0!"}},{"$f":"I14/COST_RES3!$G$12","v":{"$error":"#DIV/0!"}},{"$f":"J14/COST_RES3!$G$12","v":{"$error":"#DIV/0!"}},{"$f":"K14/COST_RES3!$G$12","v":{"$error":"#DIV/0!"}},{"$f":"L14/COST_RES3!$G$12","v":{"$error":"#DIV/0!"}},{"$f":"M14/COST_RES3!$G$12","v":{"$error":"#DIV/0!"}},{"$f":"N14/COST_RES3!$G$12","v":{"$error":"#DIV/0!"}},{"$f":"O14/COST_RES3!$G$12","v":{"$error":"#DIV/0!"}},{"$f":"P14/COST_RES3!$G$12","v":{"$error":"#DIV/0!"}},{"$f":"Q14/COST_RES3!$G$12","v":{"$error":"#DIV/0!"}},{"$f":"R14/COST_RES3!$G$12","v":{"$error":"#DIV/0!"}},{"$f":"S14/COST_RES3!$G$12","v":{"$error":"#DIV/0!"}},{"$f":"T14/COST_RES3!$G$12","v":{"$error":"#DIV/0!"}},{"$f":"U14/COST_RES3!$G$12","v":{"$error":"#DIV/0!"}},{"$f":"V14/COST_RES3!$G$12","v":{"$error":"#DIV/0!"}},{"$f":"W14/COST_RES3!$G$12","v":{"$error":"#DIV/0!"}}]
[null,{"$f":"title237","v":"Biomass price (USD/ton)"},{"$f":"SUM(C44:C45)","v":0},{"$f":"SUM(D44:D45)","v":0},0,0,0,0,0,0,0,0,0,0,0,0,0,0,0,0,0,0,0]
[null,{"$f":"title238","v":"Biomass cost of collection (USD/ton)"},{"$f":"COST_RES3!E33","v":0},{"$f":"C44*(1+D74+D75)","v":0},{"$f":"D44*(1+E74+E75)","v":0},0,0,0,0,0,0,0,0,0,0,0,0,0,0,0,0,0,0]
[null,{"$f":"title239","v":"Biomass transportation cost (USD/ton)"},{"$f":"C46*C47","v":0},{"$f":"D46*D47","v":0},0,0,0,0,0,0,0,0,0,0,0,0,0,0,0,0,0,0,0]
[null,{"$f":"title240","v":"Biomass from farm to plant (USD/ton/km)"},{"$f":"COST_RES3!E48","v":0},{"$f":"C46*(1+D74+D75)","v":0},{"$f":"D46*(1+E74+E75)","v":0},0,0,0,0,0,0,0,0,0,0,0,0,0,0,0,0,0,0]
[null,{"$f":"title241","v":"Transportation distant (km)"},{"$f":"COST_RES3!J48","v":0},{"$f":"C47","v":0},{"$f":"D47","v":0},0,0,0,0,0,0,0,0,0,0,0,0,0,0,{"$f":"S47","v":0},{"$f":"T47","v":0},{"$f":"U47","v":0},{"$f":"V47","v":0}]
[]
[null,{"$f":"title246","v":"Water cost (USD/year)"},{"$f":"COST_RES3!K35","v":0},{"$f":"C49*(1+D74+D75)","v":0},{"$f":"D49*(1+E74+E75)","v":0},0,0,0,0,0,0,0,0,0,0,0,0,0,0,0,0,0,0]
[]
[null,{"$f":"title242","v":"Chemical cost (USD/year)"},{"$f":"C52*C53","v":0},{"$f":"D52*D53","v":0},0,0,0,0,0,0,0,0,0,0,0,0,0,0,0,0,0,0,0]
[null,{"$f":"title243","v":"Chemical consumption (tons per year)"},{"$f":"+COST_RES3!$J$34","v":0},{"$f":"+COST_RES3!$J$34","v":0},{"$f":"+COST_RES3!$J$34","v":0},{"$f":"+COST_RES3!$J$34","v":0},{"$f":"+COST_RES3!$J$34","v":0},{"$f":"+COST_RES3!$J$34","v":0},{"$f":"+COST_RES3!$J$34","v":0},{"$f":"+COST_RES3!$J$34","v":0},{"$f":"+COST_RES3!$J$34","v":0},{"$f":"+COST_RES3!$J$34","v":0},{"$f":"+COST_RES3!$J$34","v":0},{"$f":"+COST_RES3!$J$34","v":0},{"$f":"+COST_RES3!$J$34","v":0},{"$f":"+COST_RES3!$J$34","v":0},{"$f":"+COST_RES3!$J$34","v":0},{"$f":"+COST_RES3!$J$34","v":0},{"$f":"+COST_RES3!$J$34","v":0},{"$f":"+COST_RES3!$J$34","v":0},{"$f":"+COST_RES3!$J$34","v":0},{"$f":"+COST_RES3!$J$34","v":0},{"$f":"+COST_RES3!$J$34","v":0}]
[null,{"$f":"title244","v":"Chemical price (USD/ton)"},{"$f":"+'Data entry needs'!$F$20","v":0},{"$f":"C53","v":0},{"$f":"D53","v":0},0,0,0,0,0,0,0,0,0,0,0,0,0,0,0,0,0,0]
[null,{"$f":"title245","v":"Electricity cost (USD)"},{"$f":"COST_RES3!K36","v":0},{"$f":"C54*(1+D74+D75)","v":0},{"$f":"D54*(1+E74+E75)","v":0},0,0,0,0,0,0,0,0,0,0,0,0,0,0,0,0,0,0]
[]
[null,{"$f":"title247","v":"Sub-total operating cost (USD)"},{"$f":"C57+C59+C60","v":{"$error":"#DIV/0!"}},{"$f":"D57+D59+D60","v":{"$error":"#DIV/0!"}},{"$error":"#DIV/0!"},{"$error":"#DIV/0!"},{"$error":"#DIV/0!"},{"$error":"#DIV/0!"},{"$error":"#DIV/0!"},{"$error":"#DIV/0!"},{"$error":"#DIV/0!"},{"$error":"#DIV/0!"},{"$error":"#DIV/0!"},{"$error":"#DIV/0!"},{"$error":"#DIV/0!"},{"$error":"#DIV/0!"},{"$error":"#DIV/0!"},{"$error":"#DIV/0!"},{"$error":"#DIV/0!"},{"$error":"#DIV/0!"},{"$error":"#DIV/0!"},{"$error":"#DIV/0!"},{"$error":"#DIV/0!"}]
[null,{"$f":"title248","v":"Labour cost (USD)"},{"$f":"COST_RES3!K44","v":0},{"$f":"C57*(1+D58)","v":0},0,0,0,0,0,0,0,0,0,0,0,0,0,0,0,0,0,0,0]
[null,"Annual change in  labour cost (%)",null,{"$f":"COST_RES3!M12","v":0},{"$f":"D58","v":0},0,0,0,0,0,0,0,0,0,0,0,0,0,0,0,{"$f":"T58","v":0},0,0]
[null,{"$f":"title249","v":"Annual change in labour cost (%)"},{"$f":"COST_RES3!K70","v":0},{"$f":"C59","v":0},0,0,0,0,0,0,0,0,0,0,0,0,0,0,0,0,0,0,0]
[null,{"$f":"title250","v":"General and administrative cost"},{"$f":"COST_RES3!K71","v":{"$error":"#DIV/0!"}},{"$f":"C60","v":{"$error":"#DIV/0!"}},{"$error":"#DIV/0!"},{"$error":"#DIV/0!"},{"$error":"#DIV/0!"},{"$error":"#DIV/0!"},{"$error":"#DIV/0!"},{"$error":"#DIV/0!"},{"$error":"#DIV/0!"},{"$error":"#DIV/0!"},{"$error":"#DIV/0!"},{"$error":"#DIV/0!"},{"$error":"#DIV/0!"},{"$error":"#DIV/0!"},{"$error":"#DIV/0!"},{"$error":"#DIV/0!"},{"$error":"#DIV/0!"},{"$error":"#DIV/0!"},{"$error":"#DIV/0!"},{"$error":"#DIV/0!"},{"$error":"#DIV/0!"}]
[null,{"$f":"title251","v":"Sub-total maintenance cost (USD)"},{"$f":"COST_RES3!$K$65","v":0},{"$f":"C61","v":0},0,0,0,0,0,0,0,0,0,0,0,0,0,0,0,0,0,0,0]
[]
[null,{"$f":"title252","v":"Sub-total of annual fixed costs"},{"$f":"E34","v":0},{"$f":"C63","v":0},{"$f":"D63","v":0},0,0,0,0,0,0,0,0,0,0,0,0,0,0,0,0,0,0]
[]
[null,{"$f":"title253","v":"Sub-total of storage capacity"},{"$f":"COST_RES3!K56","v":{"$error":"#DIV/0!"}},{"$f":"C65","v":{"$error":"#DIV/0!"}},{"$f":"D65","v":{"$error":"#DIV/0!"}},{"$error":"#DIV/0!"},{"$error":"#DIV/0!"},{"$error":"#DIV/0!"},{"$error":"#DIV/0!"},{"$error":"#DIV/0!"},{"$error":"#DIV/0!"},{"$error":"#DIV/0!"},{"$error":"#DIV/0!"},{"$error":"#DIV/0!"},{"$error":"#DIV/0!"},{"$error":"#DIV/0!"},{"$error":"#DIV/0!"},{"$error":"#DIV/0!"},{"$error":"#DIV/0!"},{"$error":"#DIV/0!"},{"$error":"#DIV/0!"},{"$error":"#DIV/0!"},{"$error":"#DIV/0!"}]
[]
[null,{"$f":"title254","v":"Sub-total of briquette transportation to market"},{"$f":"COST_RES3!K49","v":0},{"$f":"C67*(1+D74+D75)","v":0},{"$f":"D67*(1+E74+E75)","v":0},0,0,0,0,0,0,0,0,0,0,0,0,0,0,0,0,0,0]
[]
[null,{"$f":"title255","v":"Total operation and maintenance cost (USD)"},{"$f":"C40+C56+C61+C63+C65+C67","v":{"$error":"#DIV/0!"}},{"$f":"D40+D56+D61+D63+D65+D67","v":{"$error":"#DIV/0!"}},{"$error":"#DIV/0!"},{"$error":"#DIV/0!"},{"$error":"#DIV/0!"},{"$error":"#DIV/0!"},{"$error":"#DIV/0!"},{"$error":"#DIV/0!"},{"$error":"#DIV/0!"},{"$error":"#DIV/0!"},{"$error":"#DIV/0!"},{"$error":"#DIV/0!"},{"$error":"#DIV/0!"},{"$error":"#DIV/0!"},{"$error":"#DIV/0!"},{"$error":"#DIV/0!"},{"$error":"#DIV/0!"},{"$error":"#DIV/0!"},{"$error":"#DIV/0!"},{"$error":"#DIV/0!"},{"$error":"#DIV/0!"}]
[null,{"$f":"title256","v":"Operation and maintenance cost (USD/kg of briquette) without loan interest"},{"$f":"C69/(C14*1000)","v":{"$error":"#DIV/0!"}},{"$error":"#DIV/0!"},{"$error":"#DIV/0!"},{"$error":"#DIV/0!"},{"$error":"#DIV/0!"},{"$error":"#DIV/0!"},{"$error":"#DIV/0!"},{"$error":"#DIV/0!"},{"$error":"#DIV/0!"},{"$error":"#DIV/0!"},{"$error":"#DIV/0!"},{"$error":"#DIV/0!"},{"$error":"#DIV/0!"},{"$error":"#DIV/0!"},{"$error":"#DIV/0!"},{"$error":"#DIV/0!"},{"$error":"#DIV/0!"},{"$error":"#DIV/0!"},{"$error":"#DIV/0!"},{"$error":"#DIV/0!"},{"$error":"#DIV/0!"}]
[]
[{"$f":"title164","v":"Financial parameters"}]
[null,{"$f":"title209","v":"Operating Year"},{"$f":"title230","v":"Appraisal"},1,2,3,4,5,6,7,8,9,10,11,12,13,14,15,16,17,18,19,20]
[null,{"$f":"title257","v":"Annual change in raw material cost (%)"},null,0,{"$f":"D74","v":0},{"$f":"E74","v":0},0,0,0,0,0,0,0,0,0,0,0,0,0,0,0,{"$f":"U74","v":0},{"$f":"V74","v":0}]
[null,{"$f":"title258","v":"Inflation rate (%)"},null,{"$f":"COST_RES3!J12","v":0},{"$f":"D75","v":0},0,0,0,0,0,0,0,0,0,0,0,0,0,0,0,0,{"$f":"U75","v":0},{"$f":"V75","v":0}]
[null,{"$f":"title165&\" (%)\"","v":"Discount rate (%)"},{"$f":"COST_RES3!J9","v":0}]
[null,{"$f":"title166&\" (%)\"","v":"Loan ratio (%)"},{"$f":"COST_RES3!J10","v":0}]
[]
[null,{"$f":"title259","v":"Loan without policy"},{"$f":"title230","v":"Appraisal"},1,2,3,4,5,6,7,8,9,10,11,12,13,14,15,16,17,18,19,20]
[null,{"$f":"title260","v":"Loan amount (USD)"},{"$f":"C77*(C34)","v":0}]
[null,{"$f":"title167&\" (%)\"","v":"Loan interest rate (%)"},{"$f":"COST_RES3!J11","v":0}]
[null,{"$f":"title261","v":"Loan term (years)"},{"$f":"COST_RES3!M9","v":0}]
[null,{"$f":"title262","v":"Loan payment (USD/month)"},{"$f":"(PMT($C$81/12,(12*$C$82),$C$80))","v":{"$error":"#NUM!"}}]
[null,{"$f":"title263","v":"Loan payment (USD/year)"},null,{"$f":"IF(D73<=$C$82,$C$83*12,0)","v":0},{"$f":"IF(E73<$C$82,$C$83*12,IF(E73=$C$82,$C$83*12,0))","v":0},{"$f":"IF(F73<$C$82,$C$83*12,IF(F73=$C$82,$C$83*12,0))","v":0},0,0,0,0,0,0,0,0,0,0,0,0,0,0,0,0,0]
[null,{"$f":"title264","v":"Total loan payment (USD)"},{"$f":"SUM(D84:W84)","v":0}]
[null,{"$f":"title265","v":"Loan interest payment (USD)"},{"$f":"C85+C80","v":0},{"$f":"title266","v":"Average loan interest payment for project lifetime"},null,null,{"$f":"C86/C25","v":0},{"$f":"title267","v":"USD per year"}]
[]
[{"$f":"title268","v":"Income tax analysis"}]
[null,{"$f":"title209","v":"Operating Year"},{"$f":"title230","v":"Appraisal"},1,2,3,4,5,6,7,8,9,10,11,12,13,14,15,16,17,18,19,20]
[null,{"$f":"title269","v":"Effective income tax rate (%)"},{"$f":"+'Data entry needs'!$AD$115","v":0},{"$f":"C90","v":0},{"$f":"D90","v":0},0,0,0,0,0,0,0,0,0,0,0,0,0,0,0,0,0,0]
[null,{"$f":"title270","v":"Income tax (USD)"},null,{"$f":"IF(D115<0,0,D90*D115)","v":{"$error":"#DIV/0!"}},{"$error":"#DIV/0!"},{"$error":"#DIV/0!"},{"$error":"#DIV/0!"},{"$error":"#DIV/0!"},{"$error":"#DIV/0!"},{"$error":"#DIV/0!"},{"$error":"#DIV/0!"},{"$error":"#DIV/0!"},{"$error":"#DIV/0!"},{"$error":"#DIV/0!"},{"$error":"#DIV/0!"},{"$error":"#DIV/0!"},{"$error":"#DIV/0!"},{"$error":"#DIV/0!"},{"$error":"#DIV/0!"},{"$error":"#DIV/0!"},{"$error":"#DIV/0!"},{"$error":"#DIV/0!"},{"$error":"#DIV/0!"}]
[null,{"$f":"title271","v":"Total income tax payment (USD)"},{"$f":"SUM(D91:W91)","v":{"$error":"#DIV/0!"}},{"$f":"title458","v":"Average income tax payment "},null,{"$f":"C92/C25","v":{"$error":"#DIV/0!"}},{"$f":"title267","v":"USD per year"}]
[]
[{"$f":"title272","v":"Depreciation"}]
[null,{"$f":"title209","v":"Operating Year"},{"$f":"title230","v":"Appraisal"},1,2,3,4,5,6,7,8,9,10,11,12,13,14,15,16,17,18,19,20]
[null,{"$f":"title273","v":"Depreciation method"},{"$f":"title275","v":"Straight-line"}]
[null,{"$f":"title274","v":"Total depreciation (USD)"},null,{"$f":"COST_RES3!K64","v":0},{"$f":"D97","v":0},{"$f":"E97","v":0},0,0,0,0,0,0,0,0,0,0,0,0,0,0,0,0,0]
[]
[{"$f":"title276","v":"Base case project summary"}]
[{"$f":"title277","v":"Summary of this project - Before Tax"}]
[null,{"$f":"title209","v":"Operating Year"},{"$f":"title230","v":"Appraisal"},1,2,3,4,5,6,7,8,9,10,11,12,13,14,15,16,17,18,19,20]
[null,{"$f":"title278","v":"Total revenue (USD)"},null,{"$f":"D15*1000*D18","v":0},{"$f":"E15*1000*E18","v":0},0,0,0,0,0,0,0,0,0,0,0,0,0,0,0,0,0,0]
[null,{"$f":"title228","v":"Total capital cost (USD)"},{"$f":"-(C34-C80)","v":0}]
[null,{"$f":"title279","v":"Total operating and maintenance cost (USD)"},null,{"$f":"-D69+D63","v":{"$error":"#DIV/0!"}},{"$error":"#DIV/0!"},{"$error":"#DIV/0!"},{"$error":"#DIV/0!"},{"$error":"#DIV/0!"},{"$error":"#DIV/0!"},{"$error":"#DIV/0!"},{"$error":"#DIV/0!"},{"$error":"#DIV/0!"},{"$error":"#DIV/0!"},{"$error":"#DIV/0!"},{"$error":"#DIV/0!"},{"$error":"#DIV/0!"},{"$error":"#DIV/0!"},{"$error":"#DIV/0!"},{"$error":"#DIV/0!"},{"$error":"#DIV/0!"},{"$error":"#DIV/0!"},{"$error":"#DIV/0!"},{"$error":"#DIV/0!"}]
[null,{"$f":"title280","v":"Loan payment (USD)"},null,{"$f":"D84","v":0},{"$f":"E84","v":0},0,0,0,0,0,0,0,0,0,0,0,0,0,0,0,0,0,0]
[null,{"$f":"title281","v":"Cash flow - before tax (USD)"},{"$f":"SUM(C102:C105)","v":0},{"$error":"#DIV/0!"},{"$error":"#DIV/0!"},{"$error":"#DIV/0!"},{"$error":"#DIV/0!"},{"$error":"#DIV/0!"},{"$error":"#DIV/0!"},{"$error":"#DIV/0!"},{"$error":"#DIV/0!"},{"$error":"#DIV/0!"},{"$error":"#DIV/0!"},{"$error":"#DIV/0!"},{"$error":"#DIV/0!"},{"$error":"#DIV/0!"},{"$error":"#DIV/0!"},{"$error":"#DIV/0!"},{"$error":"#DIV/0!"},{"$error":"#DIV/0!"},{"$error":"#DIV/0!"},{"$error":"#DIV/0!"},{"$error":"#DIV/0!"}]
[null,{"$f":"title282","v":"Average revenue (USD)"}]
[]
[{"$f":"title283","v":"Summary of this project - After Tax"}]
[null,{"$f":"title209","v":"Operating Year"},{"$f":"title230","v":"Appraisal"},1,2,3,4,5,6,7,8,9,10,11,12,13,14,15,16,17,18,19,20]
[null,{"$f":"B102","v":"Total revenue (USD)"},{"$f":"C102","v":0},{"$f":"D102","v":0},0,0,0,0,0,0,0,0,0,0,0,0,0,0,0,0,0,0,0]
[null,{"$f":"title279","v":"Total operating and maintenance cost (USD)"},null,{"$f":"-D69+D63","v":{"$error":"#DIV/0!"}},{"$error":"#DIV/0!"},{"$error":"#DIV/0!"},{"$error":"#DIV/0!"},{"$error":"#DIV/0!"},{"$error":"#DIV/0!"},{"$error":"#DIV/0!"},{"$error":"#DIV/0!"},{"$error":"#DIV/0!"},{"$error":"#DIV/0!"},{"$error":"#DIV/0!"},{"$error":"#DIV/0!"},{"$error":"#DIV/0!"},{"$error":"#DIV/0!"},{"$error":"#DIV/0!"},{"$error":"#DIV/0!"},{"$error":"#DIV/0!"},{"$error":"#DIV/0!"},{"$error":"#DIV/0!"},{"$error":"#DIV/0!"}]
[null,{"$f":"title280","v":"Loan payment (USD)"},null,{"$f":"$G$86","v":0},{"$f":"$G$86","v":0},0,0,0,0,0,0,0,0,0,0,0,0,0,0,0,0,0,0]
[null,{"$f":"title284","v":"Depreciation of fixed costs (USD)"},null,{"$f":"-D63","v":0},{"$f":"-E63","v":0},0,0,0,0,0,0,0,0,0,0,0,0,0,0,0,0,0,0]
[null,{"$f":"title285","v":"Net profit - before tax (USD) for income tax calculation"},{"$f":"SUM(C111:C114)","v":0},{"$f":"SUM(D111:D114)","v":{"$error":"#DIV/0!"}},{"$f":"SUM(E111:E114)","v":{"$error":"#DIV/0!"}},{"$error":"#DIV/0!"},{"$error":"#DIV/0!"},{"$error":"#DIV/0!"},{"$error":"#DIV/0!"},{"$error":"#DIV/0!"},{"$error":"#DIV/0!"},{"$error":"#DIV/0!"},{"$error":"#DIV/0!"},{"$error":"#DIV/0!"},{"$error":"#DIV/0!"},{"$error":"#DIV/0!"},{"$error":"#DIV/0!"},{"$error":"#DIV/0!"},{"$error":"#DIV/0!"},{"$error":"#DIV/0!"},{"$error":"#DIV/0!"},{"$error":"#DIV/0!"},{"$error":"#DIV/0!"}]
[null,{"$f":"title286","v":"Income tax"},null,{"$f":"IF(D115>0,-D91,0)","v":{"$error":"#DIV/0!"}},{"$error":"#DIV/0!"},{"$error":"#DIV/0!"},{"$error":"#DIV/0!"},{"$error":"#DIV/0!"},{"$error":"#DIV/0!"},{"$error":"#DIV/0!"},{"$error":"#DIV/0!"},{"$error":"#DIV/0!"},{"$error":"#DIV/0!"},{"$error":"#DIV/0!"},{"$error":"#DIV/0!"},{"$error":"#DIV/0!"},{"$error":"#DIV/0!"},{"$error":"#DIV/0!"},{"$error":"#DIV/0!"},{"$error":"#DIV/0!"},{"$error":"#DIV/0!"},{"$error":"#DIV/0!"},{"$error":"#DIV/0!"}]
[null,{"$f":"title287","v":"Cash flow - after tax (USD)"},{"$f":"C103","v":0},{"$f":"D106+D116","v":{"$error":"#DIV/0!"}},{"$f":"E106+E116","v":{"$error":"#DIV/0!"}},{"$error":"#DIV/0!"},{"$error":"#DIV/0!"},{"$error":"#DIV/0!"},{"$error":"#DIV/0!"},{"$error":"#DIV/0!"},{"$error":"#DIV/0!"},{"$error":"#DIV/0!"},{"$error":"#DIV/0!"},{"$error":"#DIV/0!"},{"$error":"#DIV/0!"},{"$error":"#DIV/0!"},{"$error":"#DIV/0!"},{"$error":"#DIV/0!"},{"$error":"#DIV/0!"},{"$error":"#DIV/0!"},{"$error":"#DIV/0!"},{"$error":"#DIV/0!"},{"$f":"W106+W116","v":{"$error":"#DIV/0!"}}]
[]
[{"$f":"title288","v":"Cumulative value of Net Profit"}]
[null,{"$f":"title209","v":"Operating Year"},{"$f":"title230","v":"Appraisal"},1,2,3,4,5,6,7,8,9,10,11,12,13,14,15,16,17,18,19,20]
[null,{"$f":"title289","v":"Cumulative value of net profit - before tax"},{"$f":"C106","v":0},{"$f":"C121+(D106)","v":{"$error":"#DIV/0!"}},{"$error":"#DIV/0!"},{"$error":"#DIV/0!"},{"$error":"#DIV/0!"},{"$error":"#DIV/0!"},{"$error":"#DIV/0!"},{"$error":"#DIV/0!"},{"$error":"#DIV/0!"},{"$error":"#DIV/0!"},{"$error":"#DIV/0!"},{"$error":"#DIV/0!"},{"$error":"#DIV/0!"},{"$error":"#DIV/0!"},{"$error":"#DIV/0!"},{"$error":"#DIV/0!"},{"$error":"#DIV/0!"},{"$error":"#DIV/0!"},{"$error":"#DIV/0!"},{"$error":"#DIV/0!"},{"$error":"#DIV/0!"}]
[null,{"$f":"title290","v":"Cumulative value of net profit - after tax"},{"$f":"C117","v":0},{"$f":"C122+(D117)","v":{"$error":"#DIV/0!"}},{"$error":"#DIV/0!"},{"$error":"#DIV/0!"},{"$error":"#DIV/0!"},{"$error":"#DIV/0!"},{"$error":"#DIV/0!"},{"$error":"#DIV/0!"},{"$error":"#DIV/0!"},{"$error":"#DIV/0!"},{"$error":"#DIV/0!"},{"$error":"#DIV/0!"},{"$error":"#DIV/0!"},{"$error":"#DIV/0!"},{"$error":"#DIV/0!"},{"$error":"#DIV/0!"},{"$error":"#DIV/0!"},{"$error":"#DIV/0!"},{"$error":"#DIV/0!"},{"$error":"#DIV/0!"},{"$error":"#DIV/0!"}]
[]
[{"$f":"title291","v":"Financial analysis results"}]
[]
[null,{"$f":"title292","v":"Net present value (NPV) (USD) - before tax"},{"$f":"NPV(C76,D106:W106)+C106","v":{"$error":"#DIV/0!"}}]
[null,{"$f":"title293","v":"Internal rate of return (IRR) (%) - before tax"},{"$f":"IF(C126<0,title459,IF(TIR_cell=title519,IRR(C106:W106,0.001),MIRR(C106:W106,C81,C76)))","v":{"$error":"#DIV/0!"}}]
[null,{"$f":"title294","v":"Payback period (years)"},{"$f":"title298","v":"Please see Figure of the cumulative value of net profit - before tax"}]
[]
[]
[null,{"$f":"title295","v":"Net present value (NPV) (USD) - after tax"},{"$f":"NPV(C76,D117:W117)+C117","v":{"$error":"#DIV/0!"}}]
[null,{"$f":"title296","v":"Internal rate of return (IRR) (%) - after tax"},{"$f":"IF(C131<0,title459,MIRR(C117:W117,C81,0%))","v":{"$error":"#DIV/0!"}}]
[null,{"$f":"title294","v":"Payback period (years)"},{"$f":"title299","v":"Please see Figure of the cumulative value of net profit - after tax"}]
[null,{"$f":"title297","v":"Total Income tax payment of project lifetime"},{"$f":"SUM(D116:W116)","v":{"$error":"#DIV/0!"}}]

{"sheet":"FA4000_RURAL_RES3","index":41,"n_rows":134,"n_cols":23,"rows_kept":134,"cut":false,"hidden":true,"merged":[[1,1,1,13]]}
[]
[null,{"$f":"title302","v":"FINANCIAL ANALYSIS OF BIOMASS BRIQUETTING 4000 KG/HOUR"}]
[]
[{"$f":"title208","v":"Revenues of biomass briquetting system"}]
[null,{"$f":"title209","v":"Operating Year"},0,1,2,3,4,5,6,7,8,9,10,11,12,13,14,15,16,17,18,19,20]
[]
[null,{"$f":"title210","v":"Briquette production capacity (tons per year)"},{"$f":"COST_RES3!L29","v":0},{"$f":"C7","v":0},{"$f":"D7","v":0},0,0,0,0,0,0,0,0,0,0,0,0,0,0,0,0,0,0]
[null,null,null,null,null,null,null,null," "]
[null,{"$f":"title211","v":"Efficiency % of briquetting machine"},{"$f":"COST_RES3!G12","v":0},{"$f":"+C9","v":0},{"$f":"+D9","v":0},0,0,0,0,0,0,0,0,0,0,0,0,0,0,0,0,0,0]
[]
[null,{"$f":"title212","v":"Operating hours per year"},{"$f":"COST_RES3!M28","v":0},{"$f":"+C11","v":0},{"$f":"D11","v":0},0,0,0,0,0,0,0,0,0,0,0,0,0,0,0,0,0,0]
[null,{"$f":"title213","v":"Capacity utilization factor"},{"$f":"C11/8760","v":0},{"$f":"D11/8760","v":0},0,0,0,0,0,0,0,0,0,0,0,0,0,0,0,0,0,0,0]
[]
[null,{"$f":"title214","v":"Briquette production (tons per year)"},{"$f":"C7","v":0},{"$f":"D7","v":0},0,0,0,0,0,0,0,0,0,0,0,0,0,0,0,0,0,0,0]
[null,{"$f":"title215","v":"Total briquette sell to customers (tons per year)"},{"$f":"SUM(C14:C14)","v":0},{"$f":"SUM(D14:D14)","v":0},0,0,0,0,0,0,0,0,0,0,0,0,0,0,0,0,0,0,0]
[]
[null,{"$f":"title216","v":"Price of briquette (USD/kg)"},{"$f":"SUM(C18:C18)","v":0},{"$f":"SUM(D18:D18)","v":0},0,0,0,0,0,0,0,0,0,0,0,0,0,0,0,0,0,0,0]
[null,{"$f":"title217","v":"Market price of briquette pay by consumers (USD/kg)"},{"$f":"+'Energy Demand'!E20","v":0},{"$f":"C18*(1+D19)","v":0},0,0,0,0,0,0,0,0,0,0,0,0,0,0,0,0,0,0,0]
[null,{"$f":"title218","v":"Increasing rate of price of briquette (%)"},{"$f":"+'Data entry needs'!$AD$114","v":0},{"$f":"C19","v":0},{"$f":"D19","v":0},0,0,0,0,0,0,0,0,0,0,0,0,0,0,0,0,0,0]
[]
[null,{"$f":"title219","v":"Total income of briquette (USD per year)"},{"$f":"C15*C18*1000","v":0},{"$f":"D15*D18*1000","v":0},0,0,0,0,0,0,0,0,0,0,0,0,0,0,0,0,0,0,0]
[]
[null,{"$f":"title220","v":"Lifespan of civil work (years)"},{"$f":"COST_RES3!E61","v":10}]
[null,{"$f":"title221","v":"Lifespan of briquette system (years)"},{"$f":"COST_RES3!E60","v":10}]
[null,{"$f":"title222","v":"Project life time (years)"},20]
[]
[{"$f":"title223","v":"Capital and operating cost of biomass briquette system "}]
[]
[null,null,{"$f":"title230","v":"Appraisal"},{"$f":"title231","v":"Project lifetime"},{"$f":"title232","v":"Investment per year"}]
[null,{"$f":"title224","v":"Direct capital cost (USD)"}]
[null,{"$f":"title225","v":"Equipments"},{"$f":"D31*E31","v":0},{"$f":"$C$25","v":20},{"$f":"COST_RES3!L60/D31","v":0}]
[null,{"$f":"title226","v":"Building"},{"$f":"D32*E32","v":0},{"$f":"$C$25","v":20},{"$f":"COST_RES3!L61/D32","v":0}]
[null,{"$f":"title227","v":"Installation"},{"$f":"D33*E33","v":0},{"$f":"$C$25","v":20},{"$f":"COST_RES3!L62/D33","v":0}]
[null,{"$f":"title228","v":"Total capital cost (USD)"},{"$f":"SUM(C31:C33)","v":0},null,{"$f":"SUM(E31:E33)","v":0}]
[null,{"$f":"title229","v":"Capital cost (USD/kg of briquette)"},{"$f":"C34/(C14*1000*C25)","v":{"$error":"#DIV/0!"}}]
[]
[]
[null,{"$f":"title209","v":"Operating Year"},{"$f":"title230","v":"Appraisal"},1,2,3,4,5,6,7,8,9,10,11,12,13,14,15,16,17,18,19,20]
[null,{"$f":"title233","v":"Annual operating and maintenance cost "}]
[null,{"$f":"title234","v":"Sub-total material cost (USD)"},{"$f":"C41+C49+C51+C54","v":{"$error":"#DIV/0!"}},{"$f":"D41+D49+D51+D54","v":{"$error":"#DIV/0!"}},{"$error":"#DIV/0!"},{"$error":"#DIV/0!"},{"$error":"#DIV/0!"},{"$error":"#DIV/0!"},{"$error":"#DIV/0!"},{"$error":"#DIV/0!"},{"$error":"#DIV/0!"},{"$error":"#DIV/0!"},{"$error":"#DIV/0!"},{"$error":"#DIV/0!"},{"$error":"#DIV/0!"},{"$error":"#DIV/0!"},{"$error":"#DIV/0!"},{"$error":"#DIV/0!"},{"$error":"#DIV/0!"},{"$error":"#DIV/0!"},{"$error":"#DIV/0!"},{"$error":"#DIV/0!"},{"$error":"#DIV/0!"}]
[null,{"$f":"title235","v":"Biomass cost (USD/year)"},{"$f":"C42*C43","v":{"$error":"#DIV/0!"}},{"$f":"D42*D43","v":{"$error":"#DIV/0!"}},{"$error":"#DIV/0!"},{"$error":"#DIV/0!"},{"$error":"#DIV/0!"},{"$error":"#DIV/0!"},{"$error":"#DIV/0!"},{"$error":"#DIV/0!"},{"$error":"#DIV/0!"},{"$error":"#DIV/0!"},{"$error":"#DIV/0!"},{"$error":"#DIV/0!"},{"$error":"#DIV/0!"},{"$error":"#DIV/0!"},{"$error":"#DIV/0!"},{"$error":"#DIV/0!"},{"$error":"#DIV/0!"},{"$error":"#DIV/0!"},{"$error":"#DIV/0!"},{"$error":"#DIV/0!"},{"$error":"#DIV/0!"}]
[null,{"$f":"title236","v":"Biomass consumption (ton per year)"},{"$f":"C14/COST_RES3!$G$12","v":{"$error":"#DIV/0!"}},{"$f":"D14/COST_RES3!$G$12","v":{"$error":"#DIV/0!"}},{"$f":"E14/COST_RES3!$G$12","v":{"$error":"#DIV/0!"}},{"$f":"F14/COST_RES3!$G$12","v":{"$error":"#DIV/0!"}},{"$f":"G14/COST_RES3!$G$12","v":{"$error":"#DIV/0!"}},{"$f":"H14/COST_RES3!$G$12","v":{"$error":"#DIV/0!"}},{"$f":"I14/COST_RES3!$G$12","v":{"$error":"#DIV/0!"}},{"$f":"J14/COST_RES3!$G$12","v":{"$error":"#DIV/0!"}},{"$f":"K14/COST_RES3!$G$12","v":{"$error":"#DIV/0!"}},{"$f":"L14/COST_RES3!$G$12","v":{"$error":"#DIV/0!"}},{"$f":"M14/COST_RES3!$G$12","v":{"$error":"#DIV/0!"}},{"$f":"N14/COST_RES3!$G$12","v":{"$error":"#DIV/0!"}},{"$f":"O14/COST_RES3!$G$12","v":{"$error":"#DIV/0!"}},{"$f":"P14/COST_RES3!$G$12","v":{"$error":"#DIV/0!"}},{"$f":"Q14/COST_RES3!$G$12","v":{"$error":"#DIV/0!"}},{"$f":"R14/COST_RES3!$G$12","v":{"$error":"#DIV/0!"}},{"$f":"S14/COST_RES3!$G$12","v":{"$error":"#DIV/0!"}},{"$f":"T14/COST_RES3!$G$12","v":{"$error":"#DIV/0!"}},{"$f":"U14/COST_RES3!$G$12","v":{"$error":"#DIV/0!"}},{"$f":"V14/COST_RES3!$G$12","v":{"$error":"#DIV/0!"}},{"$f":"W14/COST_RES3!$G$12","v":{"$error":"#DIV/0!"}}]
[null,{"$f":"title237","v":"Biomass price (USD/ton)"},{"$f":"SUM(C44:C45)","v":0},{"$f":"SUM(D44:D45)","v":0},0,0,0,0,0,0,0,0,0,0,0,0,0,0,0,0,0,0,0]
[null,{"$f":"title238","v":"Biomass cost of collection (USD/ton)"},{"$f":"COST_RES3!E33","v":0},{"$f":"C44*(1+D74+D75)","v":0},{"$f":"D44*(1+E74+E75)","v":0},0,0,0,0,0,0,0,0,0,0,0,0,0,0,0,0,0,0]
[null,{"$f":"title239","v":"Biomass transportation cost (USD/ton)"},{"$f":"C46*C47","v":0},{"$f":"D46*D47","v":0},0,0,0,0,0,0,0,0,0,0,0,0,0,0,0,0,0,0,0]
[null,{"$f":"title240","v":"Biomass from farm to plant (USD/ton/km)"},{"$f":"COST_RES3!E48","v":0},{"$f":"C46*(1+D74+D75)","v":0},{"$f":"D46*(1+E74+E75)","v":0},0,0,0,0,0,0,0,0,0,0,0,0,0,0,0,0,0,0]
[null,{"$f":"title241","v":"Transportation distant (km)"},{"$f":"COST_RES3!L48","v":0},{"$f":"C47","v":0},{"$f":"D47","v":0},0,0,0,0,0,0,0,0,0,0,0,0,0,0,{"$f":"S47","v":0},{"$f":"T47","v":0},{"$f":"U47","v":0},{"$f":"V47","v":0}]
[]
[null,{"$f":"title246","v":"Water cost (USD/year)"},{"$f":"COST_RES3!M35","v":0},{"$f":"C49*(1+D74+D75)","v":0},{"$f":"D49*(1+E74+E75)","v":0},0,0,0,0,0,0,0,0,0,0,0,0,0,0,0,0,0,0]
[]
[null,{"$f":"title242","v":"Chemical cost (USD/year)"},{"$f":"C52*C53","v":0},{"$f":"D52*D53","v":0},0,0,0,0,0,0,0,0,0,0,0,0,0,0,0,0,0,0,0]
[null,{"$f":"title243","v":"Chemical consumption (tons per year)"},{"$f":"+COST_RES3!$L$34","v":0},{"$f":"+COST_RES3!$L$34","v":0},{"$f":"+COST_RES3!$L$34","v":0},{"$f":"+COST_RES3!$L$34","v":0},{"$f":"+COST_RES3!$L$34","v":0},{"$f":"+COST_RES3!$L$34","v":0},{"$f":"+COST_RES3!$L$34","v":0},{"$f":"+COST_RES3!$L$34","v":0},{"$f":"+COST_RES3!$L$34","v":0},{"$f":"+COST_RES3!$L$34","v":0},{"$f":"+COST_RES3!$L$34","v":0},{"$f":"+COST_RES3!$L$34","v":0},{"$f":"+COST_RES3!$L$34","v":0},{"$f":"+COST_RES3!$L$34","v":0},{"$f":"+COST_RES3!$L$34","v":0},{"$f":"+COST_RES3!$L$34","v":0},{"$f":"+COST_RES3!$L$34","v":0},{"$f":"+COST_RES3!$L$34","v":0},{"$f":"+COST_RES3!$L$34","v":0},{"$f":"+COST_RES3!$L$34","v":0},{"$f":"+COST_RES3!$L$34","v":0}]
[null,{"$f":"title244","v":"Chemical price (USD/ton)"},{"$f":"+'Data entry needs'!$F$20","v":0},{"$f":"+C53","v":0},{"$f":"+D53","v":0},0,0,0,0,0,0,0,0,0,0,0,0,0,0,0,0,0,0]
[null,{"$f":"title245","v":"Electricity cost (USD)"},{"$f":"COST_RES3!M36","v":0},{"$f":"C54*(1+D74+D75)","v":0},{"$f":"D54*(1+E74+E75)","v":0},0,0,0,0,0,0,0,0,0,0,0,0,0,0,0,0,0,0]
[]
[null,{"$f":"title247","v":"Sub-total operating cost (USD)"},{"$f":"C57+C59+C60","v":{"$error":"#DIV/0!"}},{"$f":"D57+D59+D60","v":{"$error":"#DIV/0!"}},{"$error":"#DIV/0!"},{"$error":"#DIV/0!"},{"$error":"#DIV/0!"},{"$error":"#DIV/0!"},{"$error":"#DIV/0!"},{"$error":"#DIV/0!"},{"$error":"#DIV/0!"},{"$error":"#DIV/0!"},{"$error":"#DIV/0!"},{"$error":"#DIV/0!"},{"$error":"#DIV/0!"},{"$error":"#DIV/0!"},{"$error":"#DIV/0!"},{"$error":"#DIV/0!"},{"$error":"#DIV/0!"},{"$error":"#DIV/0!"},{"$error":"#DIV/0!"},{"$error":"#DIV/0!"},{"$error":"#DIV/0!"}]
[null,{"$f":"title248","v":"Labour cost (USD)"},{"$f":"COST_RES3!M44","v":0},{"$f":"C57*(1+D58)","v":0},0,0,0,0,0,0,0,0,0,0,0,0,0,0,0,0,0,0,0]
[null,"Annual change in  labour cost (%)",null,{"$f":"COST_RES3!M12","v":0},{"$f":"D58","v":0},{"$f":"E58","v":0},0,0,0,0,0,0,0,0,0,0,0,0,0,0,0,{"$f":"U58","v":0},0]
[null,{"$f":"title249","v":"Annual change in labour cost (%)"},{"$f":"COST_RES3!M70","v":0},{"$f":"C59","v":0},{"$f":"D59","v":0},0,0,0,0,0,0,0,0,0,0,0,0,0,0,0,0,0,0]
[null,{"$f":"title250","v":"General and administrative cost"},{"$f":"COST_RES3!M71","v":{"$error":"#DIV/0!"}},{"$f":"C60","v":{"$error":"#DIV/0!"}},{"$error":"#DIV/0!"},{"$error":"#DIV/0!"},{"$error":"#DIV/0!"},{"$error":"#DIV/0!"},{"$error":"#DIV/0!"},{"$error":"#DIV/0!"},{"$error":"#DIV/0!"},{"$error":"#DIV/0!"},{"$error":"#DIV/0!"},{"$error":"#DIV/0!"},{"$error":"#DIV/0!"},{"$error":"#DIV/0!"},{"$error":"#DIV/0!"},{"$error":"#DIV/0!"},{"$error":"#DIV/0!"},{"$error":"#DIV/0!"},{"$error":"#DIV/0!"},{"$error":"#DIV/0!"},{"$error":"#DIV/0!"}]
[null,{"$f":"title251","v":"Sub-total maintenance cost (USD)"},{"$f":"COST_RES3!$M$65","v":0},{"$f":"C61","v":0},0,0,0,0,0,0,0,0,0,0,0,0,0,0,0,0,0,0,0]
[]
[null,{"$f":"title252","v":"Sub-total of annual fixed costs"},{"$f":"E34","v":0},{"$f":"C63","v":0},{"$f":"D63","v":0},0,0,0,0,0,0,0,0,0,0,0,0,0,0,0,0,0,0]
[]
[null,{"$f":"title253","v":"Sub-total of storage capacity"},{"$f":"COST_RES3!M56","v":{"$error":"#DIV/0!"}},{"$f":"C65","v":{"$error":"#DIV/0!"}},{"$f":"D65","v":{"$error":"#DIV/0!"}},{"$error":"#DIV/0!"},{"$error":"#DIV/0!"},{"$error":"#DIV/0!"},{"$error":"#DIV/0!"},{"$error":"#DIV/0!"},{"$error":"#DIV/0!"},{"$error":"#DIV/0!"},{"$error":"#DIV/0!"},{"$error":"#DIV/0!"},{"$error":"#DIV/0!"},{"$error":"#DIV/0!"},{"$error":"#DIV/0!"},{"$error":"#DIV/0!"},{"$error":"#DIV/0!"},{"$error":"#DIV/0!"},{"$error":"#DIV/0!"},{"$error":"#DIV/0!"},{"$error":"#DIV/0!"}]
[]
[null,{"$f":"title254","v":"Sub-total of briquette transportation to market"},{"$f":"COST_RES3!M49","v":0},{"$f":"C67*(1+D74+D75)","v":0},{"$f":"D67*(1+E74+E75)","v":0},0,0,0,0,0,0,0,0,0,0,0,0,0,0,0,0,0,0]
[]
[null,{"$f":"title255","v":"Total operation and maintenance cost (USD)"},{"$f":"C40+C56+C61+C63+C65+C67","v":{"$error":"#DIV/0!"}},{"$f":"D40+D56+D61+D63+D65+D67","v":{"$error":"#DIV/0!"}},{"$error":"#DIV/0!"},{"$error":"#DIV/0!"},{"$error":"#DIV/0!"},{"$error":"#DIV/0!"},{"$error":"#DIV/0!"},{"$error":"#DIV/0!"},{"$error":"#DIV/0!"},{"$error":"#DIV/0!"},{"$error":"#DIV/0!"},{"$error":"#DIV/0!"},{"$error":"#DIV/0!"},{"$error":"#DIV/0!"},{"$error":"#DIV/0!"},{"$error":"#DIV/0!"},{"$error":"#DIV/0!"},{"$error":"#DIV/0!"},{"$error":"#DIV/0!"},{"$error":"#DIV/0!"},{"$error":"#DIV/0!"}]
[null,{"$f":"title256","v":"Operation and maintenance cost (USD/kg of briquette) without loan interest"},{"$f":"C69/(C14*1000)","v":{"$error":"#DIV/0!"}},{"$error":"#DIV/0!"},{"$error":"#DIV/0!"},{"$error":"#DIV/0!"},{"$error":"#DIV/0!"},{"$error":"#DIV/0!"},{"$error":"#DIV/0!"},{"$error":"#DIV/0!"},{"$error":"#DIV/0!"},{"$error":"#DIV/0!"},{"$error":"#DIV/0!"},{"$error":"#DIV/0!"},{"$error":"#DIV/0!"},{"$error":"#DIV/0!"},{"$error":"#DIV/0!"},{"$error":"#DIV/0!"},{"$error":"#DIV/0!"},{"$error":"#DIV/0!"},{"$error":"#DIV/0!"},{"$error":"#DIV/0!"},{"$error":"#DIV/0!"}]
[]
[{"$f":"title164","v":"Financial parameters"}]
[null,{"$f":"title209","v":"Operating Year"},{"$f":"title230","v":"Appraisal"},1,2,3,4,5,6,7,8,9,10,11,12,13,14,15,16,17,18,19,20]
[null,{"$f":"title257","v":"Annual change in raw material cost (%)"},null,0,{"$f":"D74","v":0},{"$f":"E74","v":0},0,0,0,0,0,0,0,0,0,0,0,0,0,0,0,{"$f":"U74","v":0},{"$f":"V74","v":0}]
[null,{"$f":"title258","v":"Inflation rate (%)"},null,{"$f":"COST_RES3!J12","v":0},{"$f":"D75","v":0},0,0,0,0,0,0,0,0,0,0,0,0,0,0,0,0,{"$f":"U75","v":0},{"$f":"V75","v":0}]
[null,{"$f":"title165&\" (%)\"","v":"Discount rate (%)"},{"$f":"COST_RES3!J9","v":0}]
[null,{"$f":"title166&\" (%)\"","v":"Loan ratio (%)"},{"$f":"COST_RES3!J10","v":0}]
[]
[null,{"$f":"title259","v":"Loan without policy"},{"$f":"title230","v":"Appraisal"},1,2,3,4,5,6,7,8,9,10,11,12,13,14,15,16,17,18,19,20]
[null,{"$f":"title260","v":"Loan amount (USD)"},{"$f":"C77*(C34)","v":0}]
[null,{"$f":"title167&\" (%)\"","v":"Loan interest rate (%)"},{"$f":"COST_RES3!J11","v":0}]
[null,{"$f":"title261","v":"Loan term (years)"},{"$f":"COST_RES3!M9","v":0}]
[null,{"$f":"title262","v":"Loan payment (USD/month)"},{"$f":"(PMT($C$81/12,(12*$C$82),$C$80))","v":{"$error":"#NUM!"}}]
[null,{"$f":"title263","v":"Loan payment (USD/year)"},null,{"$f":"IF(D73<=$C$82,$C$83*12,0)","v":0},{"$f":"IF(E73<$C$82,$C$83*12,IF(E73=$C$82,$C$83*12,0))","v":0},{"$f":"IF(F73<$C$82,$C$83*12,IF(F73=$C$82,$C$83*12,0))","v":0},0,0,0,0,0,0,0,0,0,0,0,0,0,0,0,0,0]
[null,{"$f":"title264","v":"Total loan payment (USD)"},{"$f":"SUM(D84:W84)","v":0}]
[null,{"$f":"title265","v":"Loan interest payment (USD)"},{"$f":"C85+C80","v":0},{"$f":"title266","v":"Average loan interest payment for project lifetime"},null,null,{"$f":"C86/C25","v":0},{"$f":"title267","v":"USD per year"}]
[]
[{"$f":"title268","v":"Income tax analysis"}]
[null,{"$f":"title209","v":"Operating Year"},{"$f":"title230","v":"Appraisal"},1,2,3,4,5,6,7,8,9,10,11,12,13,14,15,16,17,18,19,20]
[null,{"$f":"title269","v":"Effective income tax rate (%)"},{"$f":"+'Data entry needs'!$AD$115","v":0},{"$f":"C90","v":0},{"$f":"D90","v":0},0,0,0,0,0,0,0,0,0,0,0,0,0,0,0,0,0,0]
[null,{"$f":"title270","v":"Income tax (USD)"},null,{"$f":"IF(D115<0,0,D90*D115)","v":{"$error":"#DIV/0!"}},{"$error":"#DIV/0!"},{"$error":"#DIV/0!"},{"$error":"#DIV/0!"},{"$error":"#DIV/0!"},{"$error":"#DIV/0!"},{"$error":"#DIV/0!"},{"$error":"#DIV/0!"},{"$error":"#DIV/0!"},{"$error":"#DIV/0!"},{"$error":"#DIV/0!"},{"$error":"#DIV/0!"},{"$error":"#DIV/0!"},{"$error":"#DIV/0!"},{"$error":"#DIV/0!"},{"$error":"#DIV/0!"},{"$error":"#DIV/0!"},{"$error":"#DIV/0!"},{"$error":"#DIV/0!"},{"$error":"#DIV/0!"}]
[null,{"$f":"title271","v":"Total income tax payment (USD)"},{"$f":"SUM(D91:W91)","v":{"$error":"#DIV/0!"}},{"$f":"title458","v":"Average income tax payment "},null,{"$f":"C92/C25","v":{"$error":"#DIV/0!"}},{"$f":"title267","v":"USD per year"}]
[]
[{"$f":"title272","v":"Depreciation"}]
[null,{"$f":"title209","v":"Operating Year"},{"$f":"title230","v":"Appraisal"},1,2,3,4,5,6,7,8,9,10,11,12,13,14,15,16,17,18,19,20]
[null,{"$f":"title273","v":"Depreciation method"},{"$f":"title275","v":"Straight-line"}]
[null,{"$f":"title274","v":"Total depreciation (USD)"},null,{"$f":"COST_RES3!M64","v":0},{"$f":"D97","v":0},{"$f":"E97","v":0},0,0,0,0,0,0,0,0,0,0,0,0,0,0,0,0,0]
[]
[{"$f":"title276","v":"Base case project summary"}]
[{"$f":"title277","v":"Summary of this project - Before Tax"}]
[null,{"$f":"title209","v":"Operating Year"},{"$f":"title230","v":"Appraisal"},1,2,3,4,5,6,7,8,9,10,11,12,13,14,15,16,17,18,19,20]
[null,{"$f":"title278","v":"Total revenue (USD)"},null,{"$f":"D15*1000*D18","v":0},{"$f":"E15*1000*E18","v":0},0,0,0,0,0,0,0,0,0,0,0,0,0,0,0,0,0,0]
[null,{"$f":"title228","v":"Total capital cost (USD)"},{"$f":"-(C34-C80)","v":0}]
[null,{"$f":"title279","v":"Total operating and maintenance cost (USD)"},null,{"$f":"-D69+D63","v":{"$error":"#DIV/0!"}},{"$error":"#DIV/0!"},{"$error":"#DIV/0!"},{"$error":"#DIV/0!"},{"$error":"#DIV/0!"},{"$error":"#DIV/0!"},{"$error":"#DIV/0!"},{"$error":"#DIV/0!"},{"$error":"#DIV/0!"},{"$error":"#DIV/0!"},{"$error":"#DIV/0!"},{"$error":"#DIV/0!"},{"$error":"#DIV/0!"},{"$error":"#DIV/0!"},{"$error":"#DIV/0!"},{"$error":"#DIV/0!"},{"$error":"#DIV/0!"},{"$error":"#DIV/0!"},{"$error":"#DIV/0!"},{"$error":"#DIV/0!"}]
[null,{"$f":"title280","v":"Loan payment (USD)"},null,{"$f":"D84","v":0},{"$f":"E84","v":0},0,0,0,0,0,0,0,0,0,0,0,0,0,0,0,0,0,0]
[null,{"$f":"title281","v":"Cash flow - before tax (USD)"},{"$f":"SUM(C102:C105)","v":0},{"$error":"#DIV/0!"},{"$error":"#DIV/0!"},{"$error":"#DIV/0!"},{"$error":"#DIV/0!"},{"$error":"#DIV/0!"},{"$error":"#DIV/0!"},{"$error":"#DIV/0!"},{"$error":"#DIV/0!"},{"$error":"#DIV/0!"},{"$error":"#DIV/0!"},{"$error":"#DIV/0!"},{"$error":"#DIV/0!"},{"$error":"#DIV/0!"},{"$error":"#DIV/0!"},{"$error":"#DIV/0!"},{"$error":"#DIV/0!"},{"$error":"#DIV/0!"},{"$error":"#DIV/0!"},{"$error":"#DIV/0!"},{"$error":"#DIV/0!"}]
[null,{"$f":"title282","v":"Average revenue (USD)"}]
[]
[{"$f":"title283","v":"Summary of this project - After Tax"}]
[null,{"$f":"title209","v":"Operating Year"},{"$f":"title230","v":"Appraisal"},1,2,3,4,5,6,7,8,9,10,11,12,13,14,15,16,17,18,19,20]
[null,{"$f":"B102","v":"Total revenue (USD)"},{"$f":"C102","v":0},{"$f":"D102","v":0},0,0,0,0,0,0,0,0,0,0,0,0,0,0,0,0,0,0,0]
[null,{"$f":"title279","v":"Total operating and maintenance cost (USD)"},null,{"$f":"-D69+D63","v":{"$error":"#DIV/0!"}},{"$error":"#DIV/0!"},{"$error":"#DIV/0!"},{"$error":"#DIV/0!"},{"$error":"#DIV/0!"},{"$error":"#DIV/0!"},{"$error":"#DIV/0!"},{"$error":"#DIV/0!"},{"$error":"#DIV/0!"},{"$error":"#DIV/0!"},{"$error":"#DIV/0!"},{"$error":"#DIV/0!"},{"$error":"#DIV/0!"},{"$error":"#DIV/0!"},{"$error":"#DIV/0!"},{"$error":"#DIV/0!"},{"$error":"#DIV/0!"},{"$error":"#DIV/0!"},{"$error":"#DIV/0!"},{"$error":"#DIV/0!"}]
[null,{"$f":"title280","v":"Loan payment (USD)"},null,{"$f":"$G$86","v":0},{"$f":"$G$86","v":0},0,0,0,0,0,0,0,0,0,0,0,0,0,0,0,0,0,0]
[null,{"$f":"title284","v":"Depreciation of fixed costs (USD)"},null,{"$f":"-D63","v":0},{"$f":"-E63","v":0},0,0,0,0,0,0,0,0,0,0,0,0,0,0,0,0,0,0]
[null,{"$f":"title285","v":"Net profit - before tax (USD) for income tax calculation"},{"$f":"SUM(C111:C114)","v":0},{"$f":"SUM(D111:D114)","v":{"$error":"#DIV/0!"}},{"$f":"SUM(E111:E114)","v":{"$error":"#DIV/0!"}},{"$error":"#DIV/0!"},{"$error":"#DIV/0!"},{"$error":"#DIV/0!"},{"$error":"#DIV/0!"},{"$error":"#DIV/0!"},{"$error":"#DIV/0!"},{"$error":"#DIV/0!"},{"$error":"#DIV/0!"},{"$error":"#DIV/0!"},{"$error":"#DIV/0!"},{"$error":"#DIV/0!"},{"$error":"#DIV/0!"},{"$error":"#DIV/0!"},{"$error":"#DIV/0!"},{"$error":"#DIV/0!"},{"$error":"#DIV/0!"},{"$error":"#DIV/0!"},{"$error":"#DIV/0!"}]
[null,{"$f":"title286","v":"Income tax"},null,{"$f":"IF(D115>0,-D91,0)","v":{"$error":"#DIV/0!"}},{"$error":"#DIV/0!"},{"$error":"#DIV/0!"},{"$error":"#DIV/0!"},{"$error":"#DIV/0!"},{"$error":"#DIV/0!"},{"$error":"#DIV/0!"},{"$error":"#DIV/0!"},{"$error":"#DIV/0!"},{"$error":"#DIV/0!"},{"$error":"#DIV/0!"},{"$error":"#DIV/0!"},{"$error":"#DIV/0!"},{"$error":"#DIV/0!"},{"$error":"#DIV/0!"},{"$error":"#DIV/0!"},{"$error":"#DIV/0!"},{"$error":"#DIV/0!"},{"$error":"#DIV/0!"},{"$error":"#DIV/0!"}]
[null,{"$f":"title287","v":"Cash flow - after tax (USD)"},{"$f":"C103","v":0},{"$f":"D106+D116","v":{"$error":"#DIV/0!"}},{"$f":"E106+E116","v":{"$error":"#DIV/0!"}},{"$error":"#DIV/0!"},{"$error":"#DIV/0!"},{"$error":"#DIV/0!"},{"$error":"#DIV/0!"},{"$error":"#DIV/0!"},{"$error":"#DIV/0!"},{"$error":"#DIV/0!"},{"$error":"#DIV/0!"},{"$error":"#DIV/0!"},{"$error":"#DIV/0!"},{"$error":"#DIV/0!"},{"$error":"#DIV/0!"},{"$error":"#DIV/0!"},{"$error":"#DIV/0!"},{"$error":"#DIV/0!"},{"$error":"#DIV/0!"},{"$error":"#DIV/0!"},{"$f":"W106+W116","v":{"$error":"#DIV/0!"}}]
[]
[{"$f":"title288","v":"Cumulative value of Net Profit"}]
[null,{"$f":"title209","v":"Operating Year"},{"$f":"title230","v":"Appraisal"},1,2,3,4,5,6,7,8,9,10,11,12,13,14,15,16,17,18,19,20]
[null,{"$f":"title289","v":"Cumulative value of net profit - before tax"},{"$f":"C106","v":0},{"$f":"C121+(D106)","v":{"$error":"#DIV/0!"}},{"$error":"#DIV/0!"},{"$error":"#DIV/0!"},{"$error":"#DIV/0!"},{"$error":"#DIV/0!"},{"$error":"#DIV/0!"},{"$error":"#DIV/0!"},{"$error":"#DIV/0!"},{"$error":"#DIV/0!"},{"$error":"#DIV/0!"},{"$error":"#DIV/0!"},{"$error":"#DIV/0!"},{"$error":"#DIV/0!"},{"$error":"#DIV/0!"},{"$error":"#DIV/0!"},{"$error":"#DIV/0!"},{"$error":"#DIV/0!"},{"$error":"#DIV/0!"},{"$error":"#DIV/0!"},{"$error":"#DIV/0!"}]
[null,{"$f":"title290","v":"Cumulative value of net profit - after tax"},{"$f":"C117","v":0},{"$f":"C122+(D117)","v":{"$error":"#DIV/0!"}},{"$error":"#DIV/0!"},{"$error":"#DIV/0!"},{"$error":"#DIV/0!"},{"$error":"#DIV/0!"},{"$error":"#DIV/0!"},{"$error":"#DIV/0!"},{"$error":"#DIV/0!"},{"$error":"#DIV/0!"},{"$error":"#DIV/0!"},{"$error":"#DIV/0!"},{"$error":"#DIV/0!"},{"$error":"#DIV/0!"},{"$error":"#DIV/0!"},{"$error":"#DIV/0!"},{"$error":"#DIV/0!"},{"$error":"#DIV/0!"},{"$error":"#DIV/0!"},{"$error":"#DIV/0!"},{"$error":"#DIV/0!"}]
[]
[{"$f":"title291","v":"Financial analysis results"}]
[]
[null,{"$f":"title292","v":"Net present value (NPV) (USD) - before tax"},{"$f":"NPV(C76,D106:W106)+C106","v":{"$error":"#DIV/0!"}}]
[null,{"$f":"title293","v":"Internal rate of return (IRR) (%) - before tax"},{"$f":"IF(C126<0,title459,IF(TIR_cell=title519,IRR(C106:W106,0.001),MIRR(C106:W106,C81,C76)))","v":{"$error":"#DIV/0!"}}]
[null,{"$f":"title294","v":"Payback period (years)"},{"$f":"title298","v":"Please see Figure of the cumulative value of net profit - before tax"}]
[]
[]
[null,{"$f":"title295","v":"Net present value (NPV) (USD) - after tax"},{"$f":"NPV(C76,D117:W117)+C117","v":{"$error":"#DIV/0!"}}]
[null,{"$f":"title296","v":"Internal rate of return (IRR) (%) - after tax"},{"$f":"IF(C131<0,title459,MIRR(C117:W117,C81,0%))","v":{"$error":"#DIV/0!"}}]
[null,{"$f":"title294","v":"Payback period (years)"},{"$f":"title299","v":"Please see Figure of the cumulative value of net profit - after tax"}]
[null,{"$f":"title297","v":"Total Income tax payment of project lifetime"},{"$f":"SUM(D116:W116)","v":{"$error":"#DIV/0!"}}]

{"sheet":"FA4_URBAN_RES3","index":42,"n_rows":133,"n_cols":23,"rows_kept":133,"cut":false,"hidden":true,"merged":[[1,1,1,13]]}
[]
[null,{"$f":"title207","v":" FINANCIAL ANALYSIS OF BIOMASS BRIQUETTING 4 KG/HOUR"}]
[]
[{"$f":"title208","v":"Revenues of biomass briquetting system"}]
[null,{"$f":"title209","v":"Operating Year"},0,1,2,3,4,5,6,7,8,9,10,11,12,13,14,15,16,17,18,19,20]
[]
[null,{"$f":"title210","v":"Briquette production capacity (tons per year)"},{"$f":"COST_RES3!$F$29","v":0},{"$f":"C7","v":0},{"$f":"D7","v":0},0,0,0,0,0,0,0,0,0,0,0,0,0,0,0,0,0,0]
[]
[null,{"$f":"title211","v":"Efficiency % of briquetting machine"},{"$f":"COST_RES3!$G$12","v":0},{"$f":"+C9","v":0},{"$f":"+D9","v":0},0,0,0,0,0,0,0,0,0,0,0,0,0,0,0,0,0,0]
[]
[null,{"$f":"title212","v":"Operating hours per year"},{"$f":"COST_RES3!$G$28","v":0},{"$f":"+C11","v":0},{"$f":"D11","v":0},0,0,0,0,0,0,0,0,0,0,0,0,0,0,0,0,0,0]
[null,{"$f":"title213","v":"Capacity utilization factor"},{"$f":"C$11/8760","v":0},{"$f":"D$11/8760","v":0},{"$f":"E$11/8760","v":0},0,0,0,0,0,0,0,0,0,0,0,0,0,0,0,0,0,0]
[]
[null,{"$f":"title214","v":"Briquette production (tons per year)"},{"$f":"C$7","v":0},{"$f":"D$7","v":0},0,0,0,0,0,0,0,0,0,0,0,0,0,0,0,0,0,0,0]
[null,{"$f":"title215","v":"Total briquette sell to customers (tons per year)"},{"$f":"SUM(C14:C14)","v":0},{"$f":"SUM(D14:D14)","v":0},0,0,0,0,0,0,0,0,0,0,0,0,0,0,0,0,0,0,0]
[]
[null,{"$f":"title216","v":"Price of briquette (USD/kg)"},{"$f":"SUM(C18:C18)","v":0},0,0,0,0,0,0,0,0,0,0,0,0,0,0,0,0,0,0,0,0]
[null,{"$f":"title217","v":"Market price of briquette pay by consumers (USD/kg)"},{"$f":"+'Energy Demand'!G20","v":0},{"$f":"C18*(1+D19)","v":0},0,0,0,0,0,0,0,0,0,0,0,0,0,0,0,0,0,0,0]
[null,{"$f":"title218","v":"Increasing rate of price of briquette (%)"},{"$f":"+'Data entry needs'!$AD$114","v":0},{"$f":"C19","v":0},{"$f":"D19","v":0},0,0,0,0,0,0,0,0,0,0,0,0,0,0,0,0,0,0]
[]
[null,{"$f":"title219","v":"Total income of briquette (USD per year)"},{"$f":"C15*C18*1000","v":0},{"$f":"D15*D18*1000","v":0},0,0,0,0,0,0,0,0,0,0,0,0,0,0,0,0,0,0,0]
[]
[null,{"$f":"title220","v":"Lifespan of civil work (years)"},{"$f":"COST_RES3!$E$61","v":10}]
[null,{"$f":"title221","v":"Lifespan of briquette system (years)"},{"$f":"COST_RES3!$E$60","v":10}]
[null,{"$f":"title222","v":"Project life time (years)"},20]
[]
[{"$f":"title223","v":"Capital and operating cost of biomass briquette system "}]
[null,null,{"$f":"title230","v":"Appraisal"},{"$f":"title231","v":"Project lifetime"},{"$f":"title232","v":"Investment per year"}]
[null,{"$f":"title224","v":"Direct capital cost (USD)"}]
[null,{"$f":"title225","v":"Equipments"},{"$f":"D30*E30","v":0},{"$f":"$C$25","v":20},{"$f":"COST_RES3!F60/20","v":0}]
[null,{"$f":"title226","v":"Building"},{"$f":"D31*E31","v":0},{"$f":"$C$25","v":20},{"$f":"COST_RES3!F61/20","v":0}]
[null,{"$f":"title227","v":"Installation"},{"$f":"D32*E32","v":0},{"$f":"$C$25","v":20},{"$f":"COST_RES3!F62/20","v":0}]
[null,{"$f":"title228","v":"Total capital cost (USD)"},{"$f":"SUM(C30:C32)","v":0},null,{"$f":"SUM(E30:E32)","v":0}]
[null,{"$f":"title229","v":"Capital cost (USD/kg of briquette)"},{"$f":"C33/(C14*1000*C25)","v":{"$error":"#DIV/0!"}}]
[]
[]
[null,{"$f":"title209","v":"Operating Year"},{"$f":"title230","v":"Appraisal"},1,2,3,4,5,6,7,8,9,10,11,12,13,14,15,16,17,18,19,20]
[null,{"$f":"title233","v":"Annual operating and maintenance cost "}]
[null,{"$f":"title234","v":"Sub-total material cost (USD)"},{"$f":"C40+C48+C50+C53","v":{"$error":"#DIV/0!"}},{"$f":"D40+D48+D50+D53","v":{"$error":"#DIV/0!"}},{"$error":"#DIV/0!"},{"$error":"#DIV/0!"},{"$error":"#DIV/0!"},{"$error":"#DIV/0!"},{"$error":"#DIV/0!"},{"$error":"#DIV/0!"},{"$error":"#DIV/0!"},{"$error":"#DIV/0!"},{"$error":"#DIV/0!"},{"$error":"#DIV/0!"},{"$error":"#DIV/0!"},{"$error":"#DIV/0!"},{"$error":"#DIV/0!"},{"$error":"#DIV/0!"},{"$error":"#DIV/0!"},{"$error":"#DIV/0!"},{"$error":"#DIV/0!"},{"$error":"#DIV/0!"},{"$error":"#DIV/0!"}]
[null,{"$f":"title235","v":"Biomass cost (USD/year)"},{"$f":"C41*C42","v":{"$error":"#DIV/0!"}},{"$f":"D41*D42","v":{"$error":"#DIV/0!"}},{"$error":"#DIV/0!"},{"$error":"#DIV/0!"},{"$error":"#DIV/0!"},{"$error":"#DIV/0!"},{"$error":"#DIV/0!"},{"$error":"#DIV/0!"},{"$error":"#DIV/0!"},{"$error":"#DIV/0!"},{"$error":"#DIV/0!"},{"$error":"#DIV/0!"},{"$error":"#DIV/0!"},{"$error":"#DIV/0!"},{"$error":"#DIV/0!"},{"$error":"#DIV/0!"},{"$error":"#DIV/0!"},{"$error":"#DIV/0!"},{"$error":"#DIV/0!"},{"$error":"#DIV/0!"},{"$error":"#DIV/0!"}]
[null,{"$f":"title236","v":"Biomass consumption (ton per year)"},{"$f":"C14/COST_RES3!$G$12","v":{"$error":"#DIV/0!"}},{"$f":"D14/COST_RES3!$G$12","v":{"$error":"#DIV/0!"}},{"$f":"E14/COST_RES3!$G$12","v":{"$error":"#DIV/0!"}},{"$f":"F14/COST_RES3!$G$12","v":{"$error":"#DIV/0!"}},{"$f":"G14/COST_RES3!$G$12","v":{"$error":"#DIV/0!"}},{"$f":"H14/COST_RES3!$G$12","v":{"$error":"#DIV/0!"}},{"$f":"I14/COST_RES3!$G$12","v":{"$error":"#DIV/0!"}},{"$f":"J14/COST_RES3!$G$12","v":{"$error":"#DIV/0!"}},{"$f":"K14/COST_RES3!$G$12","v":{"$error":"#DIV/0!"}},{"$f":"L14/COST_RES3!$G$12","v":{"$error":"#DIV/0!"}},{"$f":"M14/COST_RES3!$G$12","v":{"$error":"#DIV/0!"}},{"$f":"N14/COST_RES3!$G$12","v":{"$error":"#DIV/0!"}},{"$f":"O14/COST_RES3!$G$12","v":{"$error":"#DIV/0!"}},{"$f":"P14/COST_RES3!$G$12","v":{"$error":"#DIV/0!"}},{"$f":"Q14/COST_RES3!$G$12","v":{"$error":"#DIV/0!"}},{"$f":"R14/COST_RES3!$G$12","v":{"$error":"#DIV/0!"}},{"$f":"S14/COST_RES3!$G$12","v":{"$error":"#DIV/0!"}},{"$f":"T14/COST_RES3!$G$12","v":{"$error":"#DIV/0!"}},{"$f":"U14/COST_RES3!$G$12","v":{"$error":"#DIV/0!"}},{"$f":"V14/COST_RES3!$G$12","v":{"$error":"#DIV/0!"}},{"$f":"W14/COST_RES3!$G$12","v":{"$error":"#DIV/0!"}}]
[null,{"$f":"title237","v":"Biomass price (USD/ton)"},{"$f":"SUM(C43:C44)","v":0},{"$f":"SUM(D43:D44)","v":0},0,0,0,0,0,0,0,0,0,0,0,0,0,0,0,0,0,0,0]
[null,{"$f":"title238","v":"Biomass cost of collection (USD/ton)"},{"$f":"COST_RES3!E33","v":0},{"$f":"C43*(1+D73+D74)","v":0},{"$f":"D43*(1+E73+E74)","v":0},0,0,0,0,0,0,0,0,0,0,0,0,0,0,0,0,0,0]
[null,{"$f":"title239","v":"Biomass transportation cost (USD/ton)"},{"$f":"C45*C46","v":0},{"$f":"D45*D46","v":0},0,0,0,0,0,0,0,0,0,0,0,0,0,0,0,0,0,0,0]
[null,{"$f":"title240","v":"Biomass from farm to plant (USD/ton/km)"},{"$f":"COST_RES3!E48","v":0},{"$f":"C45*(1+D73+D74)","v":0},{"$f":"D45*(1+E73+E74)","v":0},0,0,0,0,0,0,0,0,0,0,0,0,0,0,0,0,0,0]
[null,{"$f":"title241","v":"Transportation distant (km)"},{"$f":"COST_RES3!F48","v":0},{"$f":"C46","v":0},{"$f":"D46","v":0},0,0,0,0,0,0,0,0,0,0,0,0,0,0,0,0,0,0]
[]
[null,{"$f":"title246","v":"Water cost (USD/year)"},{"$f":"COST_RES3!G35","v":0},{"$f":"C48*(1+D73+D74)","v":0},{"$f":"D48*(1+E73+E74)","v":0},0,0,0,0,0,0,0,0,0,0,0,0,0,0,0,0,0,0]
[]
[null,{"$f":"title242","v":"Chemical cost (USD/year)"},{"$f":"C51*C52","v":0},{"$f":"D51*D52","v":0},0,0,0,0,0,0,0,0,0,0,0,0,0,0,0,0,0,0,0]
[null,{"$f":"title243","v":"Chemical consumption (tons per year)"},{"$f":"+COST_RES3!$F$34","v":0},{"$f":"+COST_RES3!$F$34","v":0},{"$f":"+COST_RES3!$F$34","v":0},{"$f":"+COST_RES3!$F$34","v":0},{"$f":"+COST_RES3!$F$34","v":0},{"$f":"+COST_RES3!$F$34","v":0},{"$f":"+COST_RES3!$F$34","v":0},{"$f":"+COST_RES3!$F$34","v":0},{"$f":"+COST_RES3!$F$34","v":0},{"$f":"+COST_RES3!$F$34","v":0},{"$f":"+COST_RES3!$F$34","v":0},{"$f":"+COST_RES3!$F$34","v":0},{"$f":"+COST_RES3!$F$34","v":0},{"$f":"+COST_RES3!$F$34","v":0},{"$f":"+COST_RES3!$F$34","v":0},{"$f":"+COST_RES3!$F$34","v":0},{"$f":"+COST_RES3!$F$34","v":0},{"$f":"+COST_RES3!$F$34","v":0},{"$f":"+COST_RES3!$F$34","v":0},{"$f":"+COST_RES3!$F$34","v":0},{"$f":"+COST_RES3!$F$34","v":0}]
[null,{"$f":"title244","v":"Chemical price (USD/ton)"},{"$f":"+'Data entry needs'!$F$20","v":0},{"$f":"C52","v":0},{"$f":"D52","v":0},0,0,0,0,0,0,0,0,0,0,0,0,0,0,0,0,0,0]
[null,{"$f":"title245","v":"Electricity cost (USD)"},{"$f":"COST_RES3!G36","v":0},{"$f":"C53*(1+D73+D74)","v":0},{"$f":"D53*(1+E73+E74)","v":0},0,0,0,0,0,0,0,0,0,0,0,0,0,0,0,0,0,0]
[]
[null,{"$f":"title247","v":"Sub-total operating cost (USD)"},{"$f":"C56+C58+C59","v":{"$error":"#DIV/0!"}},{"$f":"D56+D58+D59","v":{"$error":"#DIV/0!"}},{"$error":"#DIV/0!"},{"$error":"#DIV/0!"},{"$error":"#DIV/0!"},{"$error":"#DIV/0!"},{"$error":"#DIV/0!"},{"$error":"#DIV/0!"},{"$error":"#DIV/0!"},{"$error":"#DIV/0!"},{"$error":"#DIV/0!"},{"$error":"#DIV/0!"},{"$error":"#DIV/0!"},{"$error":"#DIV/0!"},{"$error":"#DIV/0!"},{"$error":"#DIV/0!"},{"$error":"#DIV/0!"},{"$error":"#DIV/0!"},{"$error":"#DIV/0!"},{"$error":"#DIV/0!"},{"$error":"#DIV/0!"}]
[null,{"$f":"title248","v":"Labour cost (USD)"},{"$f":"COST_RES3!G44","v":0},{"$f":"C56*(1+D57)","v":0},0,0,0,0,0,0,0,0,0,0,0,0,0,0,0,0,0,0,0]
[null,{"$f":"title249","v":"Annual change in labour cost (%)"},null,{"$f":"COST_RES3!M12","v":0},{"$f":"D57","v":0},{"$f":"E57","v":0},0,0,0,0,0,0,0,0,0,0,0,0,0,0,0,{"$f":"U57","v":0},0]
[null,{"$f":"title249","v":"Annual change in labour cost (%)"},{"$f":"COST_RES3!G70","v":0},{"$f":"C58","v":0},{"$f":"D58","v":0},0,0,0,0,0,0,0,0,0,0,0,0,0,0,0,0,0,0]
[null,{"$f":"title250","v":"General and administrative cost"},{"$f":"COST_RES3!G71","v":{"$error":"#DIV/0!"}},{"$f":"C59","v":{"$error":"#DIV/0!"}},{"$error":"#DIV/0!"},{"$error":"#DIV/0!"},{"$error":"#DIV/0!"},{"$error":"#DIV/0!"},{"$error":"#DIV/0!"},{"$error":"#DIV/0!"},{"$error":"#DIV/0!"},{"$error":"#DIV/0!"},{"$error":"#DIV/0!"},{"$error":"#DIV/0!"},{"$error":"#DIV/0!"},{"$error":"#DIV/0!"},{"$error":"#DIV/0!"},{"$error":"#DIV/0!"},{"$error":"#DIV/0!"},{"$error":"#DIV/0!"},{"$error":"#DIV/0!"},{"$error":"#DIV/0!"},{"$error":"#DIV/0!"}]
[null,{"$f":"title251","v":"Sub-total maintenance cost (USD)"},{"$f":"COST_RES3!G65","v":0},{"$f":"C60","v":0},0,0,0,0,0,0,0,0,0,0,0,0,0,0,0,0,0,0,0]
[]
[null,{"$f":"title252","v":"Sub-total of annual fixed costs"},{"$f":"+E33","v":0},{"$f":"C62","v":0},{"$f":"D62","v":0},0,0,0,0,0,0,0,0,0,0,0,0,0,0,0,0,0,0]
[]
[null,{"$f":"title253","v":"Sub-total of storage capacity"},{"$f":"COST_RES3!G56","v":{"$error":"#DIV/0!"}},{"$f":"C64","v":{"$error":"#DIV/0!"}},{"$f":"D64","v":{"$error":"#DIV/0!"}},{"$error":"#DIV/0!"},{"$error":"#DIV/0!"},{"$error":"#DIV/0!"},{"$error":"#DIV/0!"},{"$error":"#DIV/0!"},{"$error":"#DIV/0!"},{"$error":"#DIV/0!"},{"$error":"#DIV/0!"},{"$error":"#DIV/0!"},{"$error":"#DIV/0!"},{"$error":"#DIV/0!"},{"$error":"#DIV/0!"},{"$error":"#DIV/0!"},{"$error":"#DIV/0!"},{"$error":"#DIV/0!"},{"$error":"#DIV/0!"},{"$error":"#DIV/0!"},{"$error":"#DIV/0!"}]
[]
[null,{"$f":"title254","v":"Sub-total of briquette transportation to market"},{"$f":"COST_RES3!G49","v":0},{"$f":"C66*(1+D73+D74)","v":0},{"$f":"D66*(1+E73+E74)","v":0},0,0,0,0,0,0,0,0,0,0,0,0,0,0,0,0,0,0]
[]
[null,{"$f":"title255","v":"Total operation and maintenance cost (USD)"},{"$f":"C39+C55+C60+C62+C64+C66","v":{"$error":"#DIV/0!"}},{"$f":"D39+D55+D60+D62+D64+D66","v":{"$error":"#DIV/0!"}},{"$error":"#DIV/0!"},{"$error":"#DIV/0!"},{"$error":"#DIV/0!"},{"$error":"#DIV/0!"},{"$error":"#DIV/0!"},{"$error":"#DIV/0!"},{"$error":"#DIV/0!"},{"$error":"#DIV/0!"},{"$error":"#DIV/0!"},{"$error":"#DIV/0!"},{"$error":"#DIV/0!"},{"$error":"#DIV/0!"},{"$error":"#DIV/0!"},{"$error":"#DIV/0!"},{"$error":"#DIV/0!"},{"$error":"#DIV/0!"},{"$error":"#DIV/0!"},{"$error":"#DIV/0!"},{"$error":"#DIV/0!"}]
[null,{"$f":"title256","v":"Operation and maintenance cost (USD/kg of briquette) without loan interest"},{"$f":"C68/(C14*1000)","v":{"$error":"#DIV/0!"}},{"$error":"#DIV/0!"},{"$error":"#DIV/0!"},{"$error":"#DIV/0!"},{"$error":"#DIV/0!"},{"$error":"#DIV/0!"},{"$error":"#DIV/0!"},{"$error":"#DIV/0!"},{"$error":"#DIV/0!"},{"$error":"#DIV/0!"},{"$error":"#DIV/0!"},{"$error":"#DIV/0!"},{"$error":"#DIV/0!"},{"$error":"#DIV/0!"},{"$error":"#DIV/0!"},{"$error":"#DIV/0!"},{"$error":"#DIV/0!"},{"$error":"#DIV/0!"},{"$error":"#DIV/0!"},{"$error":"#DIV/0!"},{"$error":"#DIV/0!"}]
[]
[{"$f":"title164","v":"Financial parameters"}]
[null,{"$f":"title209","v":"Operating Year"},{"$f":"title230","v":"Appraisal"},1,2,3,4,5,6,7,8,9,10,11,12,13,14,15,16,17,18,19,20]
[null,{"$f":"title257","v":"Annual change in raw material cost (%)"},null,0,{"$f":"D73","v":0},{"$f":"E73","v":0},0,0,0,0,0,0,0,0,0,0,0,0,0,0,0,{"$f":"U73","v":0},{"$f":"V73","v":0}]
[null,{"$f":"title258","v":"Inflation rate (%)"},null,{"$f":"COST_RES3!J12","v":0},{"$f":"D74","v":0},0,0,0,0,0,0,0,0,0,0,0,0,0,0,0,0,{"$f":"U74","v":0},{"$f":"V74","v":0}]
[null,{"$f":"title165&\" (%)\"","v":"Discount rate (%)"},{"$f":"COST_RES3!J9","v":0}]
[null,{"$f":"title166&\" (%)\"","v":"Loan ratio (%)"},{"$f":"COST_RES3!J10","v":0}]
[]
[null,{"$f":"title259","v":"Loan without policy"},{"$f":"title230","v":"Appraisal"},1,2,3,4,5,6,7,8,9,10,11,12,13,14,15,16,17,18,19,20]
[null,{"$f":"title260","v":"Loan amount (USD)"},{"$f":"C76*(C33)","v":0}]
[null,{"$f":"title167&\" (%)\"","v":"Loan interest rate (%)"},{"$f":"COST_RES3!J11","v":0}]
[null,{"$f":"title261","v":"Loan term (years)"},{"$f":"COST_RES3!M9","v":0}]
[null,{"$f":"title262","v":"Loan payment (USD/month)"},{"$f":"(PMT($C$80/12,(12*$C$81),$C$79))","v":{"$error":"#NUM!"}}]
[null,{"$f":"title263","v":"Loan payment (USD/year)"},null,{"$f":"IF(D72<=$C$81,$C$82*12,0)","v":0},{"$f":"IF(E72<$C$81,$C$82*12,IF(E72=$C$81,$C$82*12,0))","v":0},{"$f":"IF(F72<$C$81,$C$82*12,IF(F72=$C$81,$C$82*12,0))","v":0},0,0,0,0,0,0,0,0,0,0,0,0,0,0,0,0,0]
[null,{"$f":"title264","v":"Total loan payment (USD)"},{"$f":"SUM(D83:W83)","v":0}]
[null,{"$f":"title265","v":"Loan interest payment (USD)"},{"$f":"C84+C79","v":0},{"$f":"title266","v":"Average loan interest payment for project lifetime"},null,null,{"$f":"C85/C25","v":0},{"$f":"title267","v":"USD per year"}]
[]
[{"$f":"title268","v":"Income tax analysis"}]
[null,{"$f":"title209","v":"Operating Year"},{"$f":"title230","v":"Appraisal"},1,2,3,4,5,6,7,8,9,10,11,12,13,14,15,16,17,18,19,20]
[null,{"$f":"title269","v":"Effective income tax rate (%)"},{"$f":"+'Data entry needs'!$AD$115","v":0},{"$f":"C89","v":0},{"$f":"D89","v":0},0,0,0,0,0,0,0,0,0,0,0,0,0,0,0,0,0,0]
[null,{"$f":"title270","v":"Income tax (USD)"},null,{"$f":"IF(D114<0,0,D89*D114)","v":{"$error":"#DIV/0!"}},{"$error":"#DIV/0!"},{"$error":"#DIV/0!"},{"$error":"#DIV/0!"},{"$error":"#DIV/0!"},{"$error":"#DIV/0!"},{"$error":"#DIV/0!"},{"$error":"#DIV/0!"},{"$error":"#DIV/0!"},{"$error":"#DIV/0!"},{"$error":"#DIV/0!"},{"$error":"#DIV/0!"},{"$error":"#DIV/0!"},{"$error":"#DIV/0!"},{"$error":"#DIV/0!"},{"$error":"#DIV/0!"},{"$error":"#DIV/0!"},{"$error":"#DIV/0!"},{"$error":"#DIV/0!"},{"$error":"#DIV/0!"}]
[null,{"$f":"title271","v":"Total income tax payment (USD)"},{"$f":"SUM(D90:W90)","v":{"$error":"#DIV/0!"}},{"$f":"title458","v":"Average income tax payment "},null,{"$f":"C91/C25","v":{"$error":"#DIV/0!"}},{"$f":"title267","v":"USD per year"}]
[]
[{"$f":"title272","v":"Depreciation"}]
[null,{"$f":"title209","v":"Operating Year"},{"$f":"title230","v":"Appraisal"},1,2,3,4,5,6,7,8,9,10,11,12,13,14,15,16,17,18,19,20]
[null,{"$f":"title273","v":"Depreciation method"},{"$f":"title275","v":"Straight-line"}]
[null,{"$f":"title274","v":"Total depreciation (USD)"},null,{"$f":"COST_RES3!G64","v":0},{"$f":"D96","v":0},{"$f":"E96","v":0},0,0,0,0,0,0,0,0,0,0,0,0,0,0,0,0,0]
[]
[{"$f":"title276","v":"Base case project summary"}]
[{"$f":"title277","v":"Summary of this project - Before Tax"}]
[null,{"$f":"title209","v":"Operating Year"},{"$f":"title230","v":"Appraisal"},1,2,3,4,5,6,7,8,9,10,11,12,13,14,15,16,17,18,19,20]
[null,{"$f":"title278","v":"Total revenue (USD)"},null,{"$f":"D15*1000*D18","v":0},{"$f":"E15*1000*E18","v":0},0,0,0,0,0,0,0,0,0,0,0,0,0,0,0,0,0,0]
[null,{"$f":"title228","v":"Total capital cost (USD)"},{"$f":"-(C33-C79)","v":0}]
[null,{"$f":"title279","v":"Total operating and maintenance cost (USD)"},null,{"$f":"-D68+D62","v":{"$error":"#DIV/0!"}},{"$error":"#DIV/0!"},{"$error":"#DIV/0!"},{"$error":"#DIV/0!"},{"$error":"#DIV/0!"},{"$error":"#DIV/0!"},{"$error":"#DIV/0!"},{"$error":"#DIV/0!"},{"$error":"#DIV/0!"},{"$error":"#DIV/0!"},{"$error":"#DIV/0!"},{"$error":"#DIV/0!"},{"$error":"#DIV/0!"},{"$error":"#DIV/0!"},{"$error":"#DIV/0!"},{"$error":"#DIV/0!"},{"$error":"#DIV/0!"},{"$error":"#DIV/0!"},{"$error":"#DIV/0!"},{"$error":"#DIV/0!"}]
[null,{"$f":"title280","v":"Loan payment (USD)"},null,{"$f":"D83","v":0},{"$f":"E83","v":0},0,0,0,0,0,0,0,0,0,0,0,0,0,0,0,0,0,0]
[null,{"$f":"title281","v":"Cash flow - before tax (USD)"},{"$f":"SUM(C101:C104)","v":0},{"$error":"#DIV/0!"},{"$error":"#DIV/0!"},{"$error":"#DIV/0!"},{"$error":"#DIV/0!"},{"$error":"#DIV/0!"},{"$error":"#DIV/0!"},{"$error":"#DIV/0!"},{"$error":"#DIV/0!"},{"$error":"#DIV/0!"},{"$error":"#DIV/0!"},{"$error":"#DIV/0!"},{"$error":"#DIV/0!"},{"$error":"#DIV/0!"},{"$error":"#DIV/0!"},{"$error":"#DIV/0!"},{"$error":"#DIV/0!"},{"$error":"#DIV/0!"},{"$error":"#DIV/0!"},{"$error":"#DIV/0!"},{"$error":"#DIV/0!"}]
[null,{"$f":"title282","v":"Average revenue (USD)"}]
[]
[{"$f":"title283","v":"Summary of this project - After Tax"}]
[null,{"$f":"title209","v":"Operating Year"},{"$f":"title230","v":"Appraisal"},1,2,3,4,5,6,7,8,9,10,11,12,13,14,15,16,17,18,19,20]
[null,{"$f":"B101","v":"Total revenue (USD)"},{"$f":"C101","v":0},{"$f":"D101","v":0},{"$f":"E101","v":0},0,0,0,0,0,0,0,0,0,0,0,0,0,0,0,0,0,0]
[null,{"$f":"title279","v":"Total operating and maintenance cost (USD)"},null,{"$f":"-D68+D62","v":{"$error":"#DIV/0!"}},{"$error":"#DIV/0!"},{"$error":"#DIV/0!"},{"$error":"#DIV/0!"},{"$error":"#DIV/0!"},{"$error":"#DIV/0!"},{"$error":"#DIV/0!"},{"$error":"#DIV/0!"},{"$error":"#DIV/0!"},{"$error":"#DIV/0!"},{"$error":"#DIV/0!"},{"$error":"#DIV/0!"},{"$error":"#DIV/0!"},{"$error":"#DIV/0!"},{"$error":"#DIV/0!"},{"$error":"#DIV/0!"},{"$error":"#DIV/0!"},{"$error":"#DIV/0!"},{"$error":"#DIV/0!"},{"$error":"#DIV/0!"}]
[null,{"$f":"title280","v":"Loan payment (USD)"},null,{"$f":"$G$85","v":0},{"$f":"$G$85","v":0},0,0,0,0,0,0,0,0,0,0,0,0,0,0,0,0,0,0]
[null,{"$f":"title284","v":"Depreciation of fixed costs (USD)"},null,{"$f":"-D62","v":0},{"$f":"-E62","v":0},0,0,0,0,0,0,0,0,0,0,0,0,0,0,0,0,0,0]
[null,{"$f":"title285","v":"Net profit - before tax (USD) for income tax calculation"},{"$f":"SUM(C110:C113)","v":0},{"$f":"SUM(D110:D113)","v":{"$error":"#DIV/0!"}},{"$f":"SUM(E110:E113)","v":{"$error":"#DIV/0!"}},{"$error":"#DIV/0!"},{"$error":"#DIV/0!"},{"$error":"#DIV/0!"},{"$error":"#DIV/0!"},{"$error":"#DIV/0!"},{"$error":"#DIV/0!"},{"$error":"#DIV/0!"},{"$error":"#DIV/0!"},{"$error":"#DIV/0!"},{"$error":"#DIV/0!"},{"$error":"#DIV/0!"},{"$error":"#DIV/0!"},{"$error":"#DIV/0!"},{"$error":"#DIV/0!"},{"$error":"#DIV/0!"},{"$error":"#DIV/0!"},{"$error":"#DIV/0!"},{"$error":"#DIV/0!"}]
[null,{"$f":"title286","v":"Income tax"},null,{"$f":"IF(D114>0,-D90,0)","v":{"$error":"#DIV/0!"}},{"$error":"#DIV/0!"},{"$error":"#DIV/0!"},{"$error":"#DIV/0!"},{"$error":"#DIV/0!"},{"$error":"#DIV/0!"},{"$error":"#DIV/0!"},{"$error":"#DIV/0!"},{"$error":"#DIV/0!"},{"$error":"#DIV/0!"},{"$error":"#DIV/0!"},{"$error":"#DIV/0!"},{"$error":"#DIV/0!"},{"$error":"#DIV/0!"},{"$error":"#DIV/0!"},{"$error":"#DIV/0!"},{"$error":"#DIV/0!"},{"$error":"#DIV/0!"},{"$error":"#DIV/0!"},{"$error":"#DIV/0!"}]
[null,{"$f":"title287","v":"Cash flow - after tax (USD)"},{"$f":"C102","v":0},{"$f":"D105+D115","v":{"$error":"#DIV/0!"}},{"$f":"E105+E115","v":{"$error":"#DIV/0!"}},{"$error":"#DIV/0!"},{"$error":"#DIV/0!"},{"$error":"#DIV/0!"},{"$error":"#DIV/0!"},{"$error":"#DIV/0!"},{"$error":"#DIV/0!"},{"$error":"#DIV/0!"},{"$error":"#DIV/0!"},{"$error":"#DIV/0!"},{"$error":"#DIV/0!"},{"$error":"#DIV/0!"},{"$error":"#DIV/0!"},{"$error":"#DIV/0!"},{"$error":"#DIV/0!"},{"$error":"#DIV/0!"},{"$error":"#DIV/0!"},{"$error":"#DIV/0!"},{"$f":"W105+W115","v":{"$error":"#DIV/0!"}}]
[]
[{"$f":"title288","v":"Cumulative value of Net Profit"}]
[null,{"$f":"title209","v":"Operating Year"},{"$f":"title230","v":"Appraisal"},1,2,3,4,5,6,7,8,9,10,11,12,13,14,15,16,17,18,19,20]
[null,{"$f":"title289","v":"Cumulative value of net profit - before tax"},{"$f":"C105","v":0},{"$f":"C120+(D105)","v":{"$error":"#DIV/0!"}},{"$error":"#DIV/0!"},{"$error":"#DIV/0!"},{"$error":"#DIV/0!"},{"$error":"#DIV/0!"},{"$error":"#DIV/0!"},{"$error":"#DIV/0!"},{"$error":"#DIV/0!"},{"$error":"#DIV/0!"},{"$error":"#DIV/0!"},{"$error":"#DIV/0!"},{"$error":"#DIV/0!"},{"$error":"#DIV/0!"},{"$error":"#DIV/0!"},{"$error":"#DIV/0!"},{"$error":"#DIV/0!"},{"$error":"#DIV/0!"},{"$error":"#DIV/0!"},{"$error":"#DIV/0!"},{"$error":"#DIV/0!"}]
[null,{"$f":"title290","v":"Cumulative value of net profit - after tax"},{"$f":"C116","v":0},{"$f":"C121+(D116)","v":{"$error":"#DIV/0!"}},{"$error":"#DIV/0!"},{"$error":"#DIV/0!"},{"$error":"#DIV/0!"},{"$error":"#DIV/0!"},{"$error":"#DIV/0!"},{"$error":"#DIV/0!"},{"$error":"#DIV/0!"},{"$error":"#DIV/0!"},{"$error":"#DIV/0!"},{"$error":"#DIV/0!"},{"$error":"#DIV/0!"},{"$error":"#DIV/0!"},{"$error":"#DIV/0!"},{"$error":"#DIV/0!"},{"$error":"#DIV/0!"},{"$error":"#DIV/0!"},{"$error":"#DIV/0!"},{"$error":"#DIV/0!"},{"$error":"#DIV/0!"}]
[]
[{"$f":"title291","v":"Financial analysis results"}]
[]
[null,{"$f":"title292","v":"Net present value (NPV) (USD) - before tax"},{"$f":"NPV(C75,D105:W105)+C105","v":{"$error":"#DIV/0!"}}]
[null,{"$f":"title293","v":"Internal rate of return (IRR) (%) - before tax"},{"$f":"IF(C125<0,title459,IF(TIR_cell=title519,IRR(C105:W105,0.001),MIRR(C105:W105,C80,C75)))","v":{"$error":"#DIV/0!"}}]
[null,{"$f":"title294","v":"Payback period (years)"},{"$f":"title298","v":"Please see Figure of the cumulative value of net profit - before tax"}]
[]
[]
[null,{"$f":"title295","v":"Net present value (NPV) (USD) - after tax"},{"$f":"NPV(C75,D116:W116)+C116","v":{"$error":"#DIV/0!"}}]
[null,{"$f":"title296","v":"Internal rate of return (IRR) (%) - after tax"},{"$f":"IF(C130<0,title459,MIRR(C116:W116,$C$80,0%))","v":{"$error":"#DIV/0!"}}]
[null,{"$f":"title294","v":"Payback period (years)"},{"$f":"title299","v":"Please see Figure of the cumulative value of net profit - after tax"}]
[null,{"$f":"title297","v":"Total Income tax payment of project lifetime"},{"$f":"SUM(D115:W115)","v":{"$error":"#DIV/0!"}}]

{"sheet":"FA40_URBAN_RES3","index":43,"n_rows":133,"n_cols":23,"rows_kept":133,"cut":false,"hidden":true,"merged":[[1,1,1,13]]}
[]
[null,{"$f":"title300","v":"FINANCIAL ANALYSIS OF BIOMASS BRIQUETTING 40 KG/HOUR"}]
[]
[{"$f":"title208","v":"Revenues of biomass briquetting system"}]
[null,{"$f":"title209","v":"Operating Year"},0,1,2,3,4,5,6,7,8,9,10,11,12,13,14,15,16,17,18,19,20]
[]
[null,{"$f":"title210","v":"Briquette production capacity (tons per year)"},{"$f":"COST_RES3!$H$29","v":0},{"$f":"C7","v":0},{"$f":"D7","v":0},0,0,0,0,0,0,0,0,0,0,0,0,0,0,0,0,0,0]
[]
[null,{"$f":"title211","v":"Efficiency % of briquetting machine"},{"$f":"COST_RES3!$G$12","v":0},{"$f":"+C9","v":0},{"$f":"+D9","v":0},0,0,0,0,0,0,0,0,0,0,0,0,0,0,0,0,0,0]
[]
[null,{"$f":"title212","v":"Operating hours per year"},{"$f":"COST_RES3!I28","v":0},{"$f":"+C11","v":0},{"$f":"D11","v":0},0,0,0,0,0,0,0,0,0,0,0,0,0,0,0,0,0,0]
[null,{"$f":"title213","v":"Capacity utilization factor"},{"$f":"C11/8760","v":0},{"$f":"D11/8760","v":0},0,0,0,0,0,0,0,0,0,0,0,0,0,0,0,0,0,0,0]
[]
[null,{"$f":"title214","v":"Briquette production (tons per year)"},{"$f":"C7","v":0},{"$f":"D7","v":0},0,0,0,0,0,0,0,0,0,0,0,0,0,0,0,0,0,0,0]
[null,{"$f":"title215","v":"Total briquette sell to customers (tons per year)"},{"$f":"SUM(C14:C14)","v":0},{"$f":"SUM(D14:D14)","v":0},0,0,0,0,0,0,0,0,0,0,0,0,0,0,0,0,0,0,0]
[]
[null,{"$f":"title216","v":"Price of briquette (USD/kg)"},{"$f":"SUM(C18:C18)","v":0},0,0,0,0,0,0,0,0,0,0,0,0,0,0,0,0,0,0,0,0]
[null,{"$f":"title217","v":"Market price of briquette pay by consumers (USD/kg)"},{"$f":"+'Energy Demand'!G20","v":0},{"$f":"C18*(1+D19)","v":0},0,0,0,0,0,0,0,0,0,0,0,0,0,0,0,0,0,0,0]
[null,{"$f":"title218","v":"Increasing rate of price of briquette (%)"},{"$f":"+'Data entry needs'!$AD$114","v":0},{"$f":"C19","v":0},{"$f":"D19","v":0},0,0,0,0,0,0,0,0,0,0,0,0,0,0,0,0,0,0]
[]
[null,{"$f":"title219","v":"Total income of briquette (USD per year)"},{"$f":"C15*C18*1000","v":0},{"$f":"D15*D18*1000","v":0},0,0,0,0,0,0,0,0,0,0,0,0,0,0,0,0,0,0,0]
[]
[null,{"$f":"title220","v":"Lifespan of civil work (years)"},{"$f":"COST_RES3!E61","v":10}]
[null,{"$f":"title221","v":"Lifespan of briquette system (years)"},{"$f":"COST_RES3!E60","v":10}]
[null,{"$f":"title222","v":"Project life time (years)"},20]
[]
[{"$f":"title223","v":"Capital and operating cost of biomass briquette system "}]
[null,null,{"$f":"title230","v":"Appraisal"},{"$f":"title231","v":"Project lifetime"},{"$f":"title232","v":"Investment per year"}]
[null,{"$f":"title224","v":"Direct capital cost (USD)"}]
[null,{"$f":"title225","v":"Equipments"},{"$f":"D30*E30","v":0},{"$f":"$C$25","v":20},{"$f":"COST_RES3!H60/D30","v":0}]
[null,{"$f":"title226","v":"Building"},{"$f":"D31*E31","v":0},{"$f":"$C$25","v":20},{"$f":"COST_RES3!H61/D31","v":0}]
[null,{"$f":"title227","v":"Installation"},{"$f":"D32*E32","v":0},{"$f":"$C$25","v":20},{"$f":"COST_RES3!H62/D32","v":0}]
[null,{"$f":"title228","v":"Total capital cost (USD)"},{"$f":"SUM(C30:C32)","v":0},null,{"$f":"SUM(E30:E32)","v":0}]
[null,{"$f":"title229","v":"Capital cost (USD/kg of briquette)"},{"$f":"C33/(C14*1000*C25)","v":{"$error":"#DIV/0!"}}]
[]
[]
[null,{"$f":"title209","v":"Operating Year"},{"$f":"title230","v":"Appraisal"},1,2,3,4,5,6,7,8,9,10,11,12,13,14,15,16,17,18,19,20]
[null,{"$f":"title233","v":"Annual operating and maintenance cost "}]
[null,{"$f":"title234","v":"Sub-total material cost (USD)"},{"$f":"C40+C48+C50+C53","v":{"$error":"#DIV/0!"}},{"$f":"D40+D48+D50+D53","v":{"$error":"#DIV/0!"}},{"$error":"#DIV/0!"},{"$error":"#DIV/0!"},{"$error":"#DIV/0!"},{"$error":"#DIV/0!"},{"$error":"#DIV/0!"},{"$error":"#DIV/0!"},{"$error":"#DIV/0!"},{"$error":"#DIV/0!"},{"$error":"#DIV/0!"},{"$error":"#DIV/0!"},{"$error":"#DIV/0!"},{"$error":"#DIV/0!"},{"$error":"#DIV/0!"},{"$error":"#DIV/0!"},{"$error":"#DIV/0!"},{"$error":"#DIV/0!"},{"$error":"#DIV/0!"},{"$error":"#DIV/0!"},{"$error":"#DIV/0!"}]
[null,{"$f":"title235","v":"Biomass cost (USD/year)"},{"$f":"C41*C42","v":{"$error":"#DIV/0!"}},{"$f":"D41*D42","v":{"$error":"#DIV/0!"}},{"$error":"#DIV/0!"},{"$error":"#DIV/0!"},{"$error":"#DIV/0!"},{"$error":"#DIV/0!"},{"$error":"#DIV/0!"},{"$error":"#DIV/0!"},{"$error":"#DIV/0!"},{"$error":"#DIV/0!"},{"$error":"#DIV/0!"},{"$error":"#DIV/0!"},{"$error":"#DIV/0!"},{"$error":"#DIV/0!"},{"$error":"#DIV/0!"},{"$error":"#DIV/0!"},{"$error":"#DIV/0!"},{"$error":"#DIV/0!"},{"$error":"#DIV/0!"},{"$error":"#DIV/0!"},{"$error":"#DIV/0!"}]
[null,{"$f":"title236","v":"Biomass consumption (ton per year)"},{"$f":"C14/COST_RES3!$G$12","v":{"$error":"#DIV/0!"}},{"$f":"D14/COST_RES3!$G$12","v":{"$error":"#DIV/0!"}},{"$f":"E14/COST_RES3!$G$12","v":{"$error":"#DIV/0!"}},{"$f":"F14/COST_RES3!$G$12","v":{"$error":"#DIV/0!"}},{"$f":"G14/COST_RES3!$G$12","v":{"$error":"#DIV/0!"}},{"$f":"H14/COST_RES3!$G$12","v":{"$error":"#DIV/0!"}},{"$f":"I14/COST_RES3!$G$12","v":{"$error":"#DIV/0!"}},{"$f":"J14/COST_RES3!$G$12","v":{"$error":"#DIV/0!"}},{"$f":"K14/COST_RES3!$G$12","v":{"$error":"#DIV/0!"}},{"$f":"L14/COST_RES3!$G$12","v":{"$error":"#DIV/0!"}},{"$f":"M14/COST_RES3!$G$12","v":{"$error":"#DIV/0!"}},{"$f":"N14/COST_RES3!$G$12","v":{"$error":"#DIV/0!"}},{"$f":"O14/COST_RES3!$G$12","v":{"$error":"#DIV/0!"}},{"$f":"P14/COST_RES3!$G$12","v":{"$error":"#DIV/0!"}},{"$f":"Q14/COST_RES3!$G$12","v":{"$error":"#DIV/0!"}},{"$f":"R14/COST_RES3!$G$12","v":{"$error":"#DIV/0!"}},{"$f":"S14/COST_RES3!$G$12","v":{"$error":"#DIV/0!"}},{"$f":"T14/COST_RES3!$G$12","v":{"$error":"#DIV/0!"}},{"$f":"U14/COST_RES3!$G$12","v":{"$error":"#DIV/0!"}},{"$f":"V14/COST_RES3!$G$12","v":{"$error":"#DIV/0!"}},{"$f":"W14/COST_RES3!$G$12","v":{"$error":"#DIV/0!"}}]
[null,{"$f":"title237","v":"Biomass price (USD/ton)"},{"$f":"SUM(C43:C44)","v":0},{"$f":"SUM(D43:D44)","v":0},0,0,0,0,0,0,0,0,0,0,0,0,0,0,0,0,0,0,0]
[null,{"$f":"title238","v":"Biomass cost of collection (USD/ton)"},{"$f":"COST_RES3!E33","v":0},{"$f":"C43*(1+D73+D74)","v":0},{"$f":"D43*(1+E73+E74)","v":0},0,0,0,0,0,0,0,0,0,0,0,0,0,0,0,0,0,0]
[null,{"$f":"title239","v":"Biomass transportation cost (USD/ton)"},{"$f":"C45*C46","v":0},{"$f":"D45*D46","v":0},0,0,0,0,0,0,0,0,0,0,0,0,0,0,0,0,0,0,0]
[null,{"$f":"title240","v":"Biomass from farm to plant (USD/ton/km)"},{"$f":"COST_RES3!E48","v":0},{"$f":"C45*(1+D73+D74)","v":0},{"$f":"D45*(1+E73+E74)","v":0},0,0,0,0,0,0,0,0,0,0,0,0,0,0,0,0,0,0]
[null,{"$f":"title241","v":"Transportation distant (km)"},{"$f":"COST_RES3!H48","v":0},{"$f":"C46","v":0},{"$f":"D46","v":0},0,0,0,0,0,0,0,0,0,0,0,0,0,0,{"$f":"S46","v":0},{"$f":"T46","v":0},{"$f":"U46","v":0},{"$f":"V46","v":0}]
[]
[null,{"$f":"title246","v":"Water cost (USD/year)"},{"$f":"COST_RES3!I35","v":0},{"$f":"C48*(1+D73+D74)","v":0},{"$f":"D48*(1+E73+E74)","v":0},0,0,0,0,0,0,0,0,0,0,0,0,0,0,0,0,0,0]
[]
[null,{"$f":"title242","v":"Chemical cost (USD/year)"},{"$f":"C51*C52","v":0},{"$f":"D51*D52","v":0},0,0,0,0,0,0,0,0,0,0,0,0,0,0,0,0,0,0,0]
[null,{"$f":"title243","v":"Chemical consumption (tons per year)"},{"$f":"+COST_RES3!$H$34","v":0},{"$f":"+COST_RES3!$H$34","v":0},{"$f":"+COST_RES3!$H$34","v":0},{"$f":"+COST_RES3!$H$34","v":0},{"$f":"+COST_RES3!$H$34","v":0},{"$f":"+COST_RES3!$H$34","v":0},{"$f":"+COST_RES3!$H$34","v":0},{"$f":"+COST_RES3!$H$34","v":0},{"$f":"+COST_RES3!$H$34","v":0},{"$f":"+COST_RES3!$H$34","v":0},{"$f":"+COST_RES3!$H$34","v":0},{"$f":"+COST_RES3!$H$34","v":0},{"$f":"+COST_RES3!$H$34","v":0},{"$f":"+COST_RES3!$H$34","v":0},{"$f":"+COST_RES3!$H$34","v":0},{"$f":"+COST_RES3!$H$34","v":0},{"$f":"+COST_RES3!$H$34","v":0},{"$f":"+COST_RES3!$H$34","v":0},{"$f":"+COST_RES3!$H$34","v":0},{"$f":"+COST_RES3!$H$34","v":0},{"$f":"+COST_RES3!$H$34","v":0}]
[null,{"$f":"title244","v":"Chemical price (USD/ton)"},{"$f":"+'Data entry needs'!$F$20","v":0},{"$f":"C52","v":0},{"$f":"D52","v":0},0,0,0,0,0,0,0,0,0,0,0,0,0,0,0,0,0,0]
[null,{"$f":"title245","v":"Electricity cost (USD)"},{"$f":"COST_RES3!I36","v":0},{"$f":"C53*(1+D73+D74)","v":0},{"$f":"D53*(1+E73+E74)","v":0},0,0,0,0,0,0,0,0,0,0,0,0,0,0,0,0,0,0]
[]
[null,{"$f":"title247","v":"Sub-total operating cost (USD)"},{"$f":"C56+C58+C59","v":{"$error":"#DIV/0!"}},{"$f":"D56+D58+D59","v":{"$error":"#DIV/0!"}},{"$error":"#DIV/0!"},{"$error":"#DIV/0!"},{"$error":"#DIV/0!"},{"$error":"#DIV/0!"},{"$error":"#DIV/0!"},{"$error":"#DIV/0!"},{"$error":"#DIV/0!"},{"$error":"#DIV/0!"},{"$error":"#DIV/0!"},{"$error":"#DIV/0!"},{"$error":"#DIV/0!"},{"$error":"#DIV/0!"},{"$error":"#DIV/0!"},{"$error":"#DIV/0!"},{"$error":"#DIV/0!"},{"$error":"#DIV/0!"},{"$error":"#DIV/0!"},{"$error":"#DIV/0!"},{"$error":"#DIV/0!"}]
[null,{"$f":"title248","v":"Labour cost (USD)"},{"$f":"COST_RES3!I44","v":0},{"$f":"C56*(1+D57)","v":0},0,0,0,0,0,0,0,0,0,0,0,0,0,0,0,0,0,0,0]
[null,{"$f":"title249","v":"Annual change in labour cost (%)"},null,{"$f":"COST_RES3!M12","v":0},{"$f":"D57","v":0},0,0,0,0,0,0,0,0,0,0,0,0,0,0,0,{"$f":"T57","v":0},0,0]
[null,{"$f":"title249","v":"Annual change in labour cost (%)"},{"$f":"COST_RES3!I70","v":0},{"$f":"C58","v":0},0,0,0,0,0,0,0,0,0,0,0,0,0,0,0,0,0,0,0]
[null,{"$f":"title250","v":"General and administrative cost"},{"$f":"COST_RES3!I71","v":{"$error":"#DIV/0!"}},{"$f":"C59","v":{"$error":"#DIV/0!"}},{"$error":"#DIV/0!"},{"$error":"#DIV/0!"},{"$error":"#DIV/0!"},{"$error":"#DIV/0!"},{"$error":"#DIV/0!"},{"$error":"#DIV/0!"},{"$error":"#DIV/0!"},{"$error":"#DIV/0!"},{"$error":"#DIV/0!"},{"$error":"#DIV/0!"},{"$error":"#DIV/0!"},{"$error":"#DIV/0!"},{"$error":"#DIV/0!"},{"$error":"#DIV/0!"},{"$error":"#DIV/0!"},{"$error":"#DIV/0!"},{"$error":"#DIV/0!"},{"$error":"#DIV/0!"},{"$error":"#DIV/0!"}]
[null,{"$f":"title251","v":"Sub-total maintenance cost (USD)"},{"$f":"COST_RES3!I65","v":0},{"$f":"C60","v":0},0,0,0,0,0,0,0,0,0,0,0,0,0,0,0,0,0,0,0]
[]
[null,{"$f":"title252","v":"Sub-total of annual fixed costs"},{"$f":"+E33","v":0},{"$f":"C62","v":0},{"$f":"D62","v":0},0,0,0,0,0,0,0,0,0,0,0,0,0,0,0,0,0,0]
[]
[null,{"$f":"title253","v":"Sub-total of storage capacity"},{"$f":"COST_RES3!I56","v":{"$error":"#DIV/0!"}},{"$f":"C64","v":{"$error":"#DIV/0!"}},{"$f":"D64","v":{"$error":"#DIV/0!"}},{"$error":"#DIV/0!"},{"$error":"#DIV/0!"},{"$error":"#DIV/0!"},{"$error":"#DIV/0!"},{"$error":"#DIV/0!"},{"$error":"#DIV/0!"},{"$error":"#DIV/0!"},{"$error":"#DIV/0!"},{"$error":"#DIV/0!"},{"$error":"#DIV/0!"},{"$error":"#DIV/0!"},{"$error":"#DIV/0!"},{"$error":"#DIV/0!"},{"$error":"#DIV/0!"},{"$error":"#DIV/0!"},{"$error":"#DIV/0!"},{"$error":"#DIV/0!"},{"$error":"#DIV/0!"}]
[]
[null,{"$f":"title254","v":"Sub-total of briquette transportation to market"},{"$f":"COST_RES3!I49","v":0},{"$f":"C66*(1+D73+D74)","v":0},{"$f":"D66*(1+E73+E74)","v":0},0,0,0,0,0,0,0,0,0,0,0,0,0,0,0,0,0,0]
[]
[null,{"$f":"title255","v":"Total operation and maintenance cost (USD)"},{"$f":"C39+C55+C60+C62+C64+C66","v":{"$error":"#DIV/0!"}},{"$f":"D39+D55+D60+D62+D64+D66","v":{"$error":"#DIV/0!"}},{"$error":"#DIV/0!"},{"$error":"#DIV/0!"},{"$error":"#DIV/0!"},{"$error":"#DIV/0!"},{"$error":"#DIV/0!"},{"$error":"#DIV/0!"},{"$error":"#DIV/0!"},{"$error":"#DIV/0!"},{"$error":"#DIV/0!"},{"$error":"#DIV/0!"},{"$error":"#DIV/0!"},{"$error":"#DIV/0!"},{"$error":"#DIV/0!"},{"$error":"#DIV/0!"},{"$error":"#DIV/0!"},{"$error":"#DIV/0!"},{"$error":"#DIV/0!"},{"$error":"#DIV/0!"},{"$error":"#DIV/0!"}]
[null,{"$f":"title256","v":"Operation and maintenance cost (USD/kg of briquette) without loan interest"},{"$f":"C68/(C14*1000)","v":{"$error":"#DIV/0!"}},{"$error":"#DIV/0!"},{"$error":"#DIV/0!"},{"$error":"#DIV/0!"},{"$error":"#DIV/0!"},{"$error":"#DIV/0!"},{"$error":"#DIV/0!"},{"$error":"#DIV/0!"},{"$error":"#DIV/0!"},{"$error":"#DIV/0!"},{"$error":"#DIV/0!"},{"$error":"#DIV/0!"},{"$error":"#DIV/0!"},{"$error":"#DIV/0!"},{"$error":"#DIV/0!"},{"$error":"#DIV/0!"},{"$error":"#DIV/0!"},{"$error":"#DIV/0!"},{"$error":"#DIV/0!"},{"$error":"#DIV/0!"},{"$error":"#DIV/0!"}]
[]
[{"$f":"title164","v":"Financial parameters"}]
[null,{"$f":"title209","v":"Operating Year"},{"$f":"title230","v":"Appraisal"},1,2,3,4,5,6,7,8,9,10,11,12,13,14,15,16,17,18,19,20]
[null,{"$f":"title257","v":"Annual change in raw material cost (%)"},null,0,{"$f":"D73","v":0},{"$f":"E73","v":0},0,0,0,0,0,0,0,0,0,0,0,0,0,0,0,{"$f":"U73","v":0},{"$f":"V73","v":0}]
[null,{"$f":"title258","v":"Inflation rate (%)"},null,{"$f":"COST_RES3!J12","v":0},{"$f":"D74","v":0},0,0,0,0,0,0,0,0,0,0,0,0,0,0,0,0,{"$f":"U74","v":0},{"$f":"V74","v":0}]
[null,{"$f":"title165&\" (%)\"","v":"Discount rate (%)"},{"$f":"COST_RES3!J9","v":0}]
[null,{"$f":"title166&\" (%)\"","v":"Loan ratio (%)"},{"$f":"COST_RES3!J10","v":0}]
[]
[null,{"$f":"title259","v":"Loan without policy"},{"$f":"title230","v":"Appraisal"},1,2,3,4,5,6,7,8,9,10,11,12,13,14,15,16,17,18,19,20]
[null,{"$f":"title260","v":"Loan amount (USD)"},{"$f":"C76*(C33)","v":0}]
[null,{"$f":"title167&\" (%)\"","v":"Loan interest rate (%)"},{"$f":"COST_RES3!J11","v":0}]
[null,{"$f":"title261","v":"Loan term (years)"},{"$f":"COST_RES3!M9","v":0}]
[null,{"$f":"title262","v":"Loan payment (USD/month)"},{"$f":"(PMT($C$80/12,(12*$C$81),$C$79))","v":{"$error":"#NUM!"}}]
[null,{"$f":"title263","v":"Loan payment (USD/year)"},null,{"$f":"IF(D72<=$C$81,$C$82*12,0)","v":0},{"$f":"IF(E72<$C$81,$C$82*12,IF(E72=$C$81,$C$82*12,0))","v":0},{"$f":"IF(F72<$C$81,$C$82*12,IF(F72=$C$81,$C$82*12,0))","v":0},0,0,0,0,0,0,0,0,0,0,0,0,0,0,0,0,0]
[null,{"$f":"title264","v":"Total loan payment (USD)"},{"$f":"SUM(D83:W83)","v":0}]
[null,{"$f":"title265","v":"Loan interest payment (USD)"},{"$f":"C84+C79","v":0},{"$f":"title266","v":"Average loan interest payment for project lifetime"},null,null,{"$f":"C85/C25","v":0},{"$f":"title267","v":"USD per year"}]
[]
[{"$f":"title268","v":"Income tax analysis"}]
[null,{"$f":"title209","v":"Operating Year"},{"$f":"title230","v":"Appraisal"},1,2,3,4,5,6,7,8,9,10,11,12,13,14,15,16,17,18,19,20]
[null,{"$f":"title269","v":"Effective income tax rate (%)"},{"$f":"+'Data entry needs'!$AD$115","v":0},{"$f":"C89","v":0},{"$f":"D89","v":0},0,0,0,0,0,0,0,0,0,0,0,0,0,0,0,0,0,0]
[null,{"$f":"title270","v":"Income tax (USD)"},null,{"$f":"IF(D114<0,0,D89*D114)","v":{"$error":"#DIV/0!"}},{"$error":"#DIV/0!"},{"$error":"#DIV/0!"},{"$error":"#DIV/0!"},{"$error":"#DIV/0!"},{"$error":"#DIV/0!"},{"$error":"#DIV/0!"},{"$error":"#DIV/0!"},{"$error":"#DIV/0!"},{"$error":"#DIV/0!"},{"$error":"#DIV/0!"},{"$error":"#DIV/0!"},{"$error":"#DIV/0!"},{"$error":"#DIV/0!"},{"$error":"#DIV/0!"},{"$error":"#DIV/0!"},{"$error":"#DIV/0!"},{"$error":"#DIV/0!"},{"$error":"#DIV/0!"},{"$error":"#DIV/0!"}]
[null,{"$f":"title271","v":"Total income tax payment (USD)"},{"$f":"SUM(D90:W90)","v":{"$error":"#DIV/0!"}},{"$f":"title458","v":"Average income tax payment "},null,{"$f":"C91/C25","v":{"$error":"#DIV/0!"}},{"$f":"title267","v":"USD per year"}]
[]
[{"$f":"title272","v":"Depreciation"}]
[null,{"$f":"title209","v":"Operating Year"},{"$f":"title230","v":"Appraisal"},1,2,3,4,5,6,7,8,9,10,11,12,13,14,15,16,17,18,19,20]
[null,{"$f":"title273","v":"Depreciation method"},{"$f":"title275","v":"Straight-line"}]
[null,{"$f":"title274","v":"Total depreciation (USD)"},null,{"$f":"COST_RES3!I64","v":0},{"$f":"D96","v":0},{"$f":"E96","v":0},0,0,0,0,0,0,0,0,0,0,0,0,0,0,0,0,0]
[]
[{"$f":"title276","v":"Base case project summary"}]
[{"$f":"title277","v":"Summary of this project - Before Tax"}]
[null,{"$f":"title209","v":"Operating Year"},{"$f":"title230","v":"Appraisal"},1,2,3,4,5,6,7,8,9,10,11,12,13,14,15,16,17,18,19,20]
[null,{"$f":"title278","v":"Total revenue (USD)"},null,{"$f":"D15*1000*D18","v":0},{"$f":"E15*1000*E18","v":0},0,0,0,0,0,0,0,0,0,0,0,0,0,0,0,0,0,0]
[null,{"$f":"title228","v":"Total capital cost (USD)"},{"$f":"-(C33-C79)","v":0}]
[null,{"$f":"title279","v":"Total operating and maintenance cost (USD)"},null,{"$f":"-D68+D62","v":{"$error":"#DIV/0!"}},{"$error":"#DIV/0!"},{"$error":"#DIV/0!"},{"$error":"#DIV/0!"},{"$error":"#DIV/0!"},{"$error":"#DIV/0!"},{"$error":"#DIV/0!"},{"$error":"#DIV/0!"},{"$error":"#DIV/0!"},{"$error":"#DIV/0!"},{"$error":"#DIV/0!"},{"$error":"#DIV/0!"},{"$error":"#DIV/0!"},{"$error":"#DIV/0!"},{"$error":"#DIV/0!"},{"$error":"#DIV/0!"},{"$error":"#DIV/0!"},{"$error":"#DIV/0!"},{"$error":"#DIV/0!"},{"$error":"#DIV/0!"}]
[null,{"$f":"title280","v":"Loan payment (USD)"},null,{"$f":"D83","v":0},{"$f":"E83","v":0},0,0,0,0,0,0,0,0,0,0,0,0,0,0,0,0,0,0]
[null,{"$f":"title281","v":"Cash flow - before tax (USD)"},{"$f":"SUM(C101:C104)","v":0},{"$error":"#DIV/0!"},{"$error":"#DIV/0!"},{"$error":"#DIV/0!"},{"$error":"#DIV/0!"},{"$error":"#DIV/0!"},{"$error":"#DIV/0!"},{"$error":"#DIV/0!"},{"$error":"#DIV/0!"},{"$error":"#DIV/0!"},{"$error":"#DIV/0!"},{"$error":"#DIV/0!"},{"$error":"#DIV/0!"},{"$error":"#DIV/0!"},{"$error":"#DIV/0!"},{"$error":"#DIV/0!"},{"$error":"#DIV/0!"},{"$error":"#DIV/0!"},{"$error":"#DIV/0!"},{"$error":"#DIV/0!"},{"$error":"#DIV/0!"}]
[null,{"$f":"title282","v":"Average revenue (USD)"}]
[]
[{"$f":"title283","v":"Summary of this project - After Tax"}]
[null,{"$f":"title209","v":"Operating Year"},{"$f":"title230","v":"Appraisal"},1,2,3,4,5,6,7,8,9,10,11,12,13,14,15,16,17,18,19,20]
[null,{"$f":"B101","v":"Total revenue (USD)"},{"$f":"C101","v":0},{"$f":"D101","v":0},0,0,0,0,0,0,0,0,0,0,0,0,0,0,0,0,0,0,0]
[null,{"$f":"title279","v":"Total operating and maintenance cost (USD)"},null,{"$f":"-D68+D62","v":{"$error":"#DIV/0!"}},{"$error":"#DIV/0!"},{"$error":"#DIV/0!"},{"$error":"#DIV/0!"},{"$error":"#DIV/0!"},{"$error":"#DIV/0!"},{"$error":"#DIV/0!"},{"$error":"#DIV/0!"},{"$error":"#DIV/0!"},{"$error":"#DIV/0!"},{"$error":"#DIV/0!"},{"$error":"#DIV/0!"},{"$error":"#DIV/0!"},{"$error":"#DIV/0!"},{"$error":"#DIV/0!"},{"$error":"#DIV/0!"},{"$error":"#DIV/0!"},{"$error":"#DIV/0!"},{"$error":"#DIV/0!"},{"$error":"#DIV/0!"}]
[null,{"$f":"title280","v":"Loan payment (USD)"},null,{"$f":"$G$85","v":0},{"$f":"$G$85","v":0},0,0,0,0,0,0,0,0,0,0,0,0,0,0,0,0,0,0]
[null,{"$f":"title284","v":"Depreciation of fixed costs (USD)"},null,{"$f":"-D62","v":0},{"$f":"-E62","v":0},0,0,0,0,0,0,0,0,0,0,0,0,0,0,0,0,0,0]
[null,{"$f":"title285","v":"Net profit - before tax (USD) for income tax calculation"},{"$f":"SUM(C110:C113)","v":0},{"$f":"SUM(D110:D113)","v":{"$error":"#DIV/0!"}},{"$f":"SUM(E110:E113)","v":{"$error":"#DIV/0!"}},{"$error":"#DIV/0!"},{"$error":"#DIV/0!"},{"$error":"#DIV/0!"},{"$error":"#DIV/0!"},{"$error":"#DIV/0!"},{"$error":"#DIV/0!"},{"$error":"#DIV/0!"},{"$error":"#DIV/0!"},{"$error":"#DIV/0!"},{"$error":"#DIV/0!"},{"$error":"#DIV/0!"},{"$error":"#DIV/0!"},{"$error":"#DIV/0!"},{"$error":"#DIV/0!"},{"$error":"#DIV/0!"},{"$error":"#DIV/0!"},{"$error":"#DIV/0!"},{"$error":"#DIV/0!"}]
[null,{"$f":"title286","v":"Income tax"},null,{"$f":"IF(D114>0,-D90,0)","v":{"$error":"#DIV/0!"}},{"$error":"#DIV/0!"},{"$error":"#DIV/0!"},{"$error":"#DIV/0!"},{"$error":"#DIV/0!"},{"$error":"#DIV/0!"},{"$error":"#DIV/0!"},{"$error":"#DIV/0!"},{"$error":"#DIV/0!"},{"$error":"#DIV/0!"},{"$error":"#DIV/0!"},{"$error":"#DIV/0!"},{"$error":"#DIV/0!"},{"$error":"#DIV/0!"},{"$error":"#DIV/0!"},{"$error":"#DIV/0!"},{"$error":"#DIV/0!"},{"$error":"#DIV/0!"},{"$error":"#DIV/0!"},{"$error":"#DIV/0!"}]
[null,{"$f":"title287","v":"Cash flow - after tax (USD)"},{"$f":"C102","v":0},{"$f":"D105+D115","v":{"$error":"#DIV/0!"}},{"$f":"E105+E115","v":{"$error":"#DIV/0!"}},{"$error":"#DIV/0!"},{"$error":"#DIV/0!"},{"$error":"#DIV/0!"},{"$error":"#DIV/0!"},{"$error":"#DIV/0!"},{"$error":"#DIV/0!"},{"$error":"#DIV/0!"},{"$error":"#DIV/0!"},{"$error":"#DIV/0!"},{"$error":"#DIV/0!"},{"$error":"#DIV/0!"},{"$error":"#DIV/0!"},{"$error":"#DIV/0!"},{"$error":"#DIV/0!"},{"$error":"#DIV/0!"},{"$error":"#DIV/0!"},{"$error":"#DIV/0!"},{"$f":"W105+W115","v":{"$error":"#DIV/0!"}}]
[]
[{"$f":"title288","v":"Cumulative value of Net Profit"}]
[null,{"$f":"title209","v":"Operating Year"},{"$f":"title230","v":"Appraisal"},1,2,3,4,5,6,7,8,9,10,11,12,13,14,15,16,17,18,19,20]
[null,{"$f":"title289","v":"Cumulative value of net profit - before tax"},{"$f":"C105","v":0},{"$f":"C120+(D105)","v":{"$error":"#DIV/0!"}},{"$error":"#DIV/0!"},{"$error":"#DIV/0!"},{"$error":"#DIV/0!"},{"$error":"#DIV/0!"},{"$error":"#DIV/0!"},{"$error":"#DIV/0!"},{"$error":"#DIV/0!"},{"$error":"#DIV/0!"},{"$error":"#DIV/0!"},{"$error":"#DIV/0!"},{"$error":"#DIV/0!"},{"$error":"#DIV/0!"},{"$error":"#DIV/0!"},{"$error":"#DIV/0!"},{"$error":"#DIV/0!"},{"$error":"#DIV/0!"},{"$error":"#DIV/0!"},{"$error":"#DIV/0!"},{"$error":"#DIV/0!"}]
[null,{"$f":"title290","v":"Cumulative value of net profit - after tax"},{"$f":"C116","v":0},{"$f":"C121+(D116)","v":{"$error":"#DIV/0!"}},{"$error":"#DIV/0!"},{"$error":"#DIV/0!"},{"$error":"#DIV/0!"},{"$error":"#DIV/0!"},{"$error":"#DIV/0!"},{"$error":"#DIV/0!"},{"$error":"#DIV/0!"},{"$error":"#DIV/0!"},{"$error":"#DIV/0!"},{"$error":"#DIV/0!"},{"$error":"#DIV/0!"},{"$error":"#DIV/0!"},{"$error":"#DIV/0!"},{"$error":"#DIV/0!"},{"$error":"#DIV/0!"},{"$error":"#DIV/0!"},{"$error":"#DIV/0!"},{"$error":"#DIV/0!"},{"$error":"#DIV/0!"}]
[]
[{"$f":"title291","v":"Financial analysis results"}]
[]
[null,{"$f":"title292","v":"Net present value (NPV) (USD) - before tax"},{"$f":"NPV(C75,D105:W105)+C105","v":{"$error":"#DIV/0!"}}]
[null,{"$f":"title293","v":"Internal rate of return (IRR) (%) - before tax"},{"$f":"IF(C125<0,title459,IF(TIR_cell=title519,IRR(C105:W105,0.001),MIRR(C105:W105,C80,C75)))","v":{"$error":"#DIV/0!"}}]
[null,{"$f":"title294","v":"Payback period (years)"},{"$f":"title298","v":"Please see Figure of the cumulative value of net profit - before tax"}]
[]
[]
[null,{"$f":"title295","v":"Net present value (NPV) (USD) - after tax"},{"$f":"NPV(C75,D116:W116)+C116","v":{"$error":"#DIV/0!"}}]
[null,{"$f":"title296","v":"Internal rate of return (IRR) (%) - after tax"},{"$f":"IF(C130<0,title459,MIRR(C116:W116,$C$80,0%))","v":{"$error":"#DIV/0!"}}]
[null,{"$f":"title294","v":"Payback period (years)"},{"$f":"title299","v":"Please see Figure of the cumulative value of net profit - after tax"}]
[null,{"$f":"title297","v":"Total Income tax payment of project lifetime"},{"$f":"SUM(D115:W115)","v":{"$error":"#DIV/0!"}}]

{"sheet":"FA400_URBAN_RES3","index":44,"n_rows":134,"n_cols":23,"rows_kept":134,"cut":false,"hidden":true,"merged":[[1,1,1,13]]}
[]
[null,{"$f":"title301","v":"FINANCIAL ANALYSIS OF BIOMASS BRIQUETTING 400 KG/HOUR"}]
[]
[{"$f":"title208","v":"Revenues of biomass briquetting system"}]
[null,{"$f":"title209","v":"Operating Year"},0,1,2,3,4,5,6,7,8,9,10,11,12,13,14,15,16,17,18,19,20]
[]
[null,{"$f":"title210","v":"Briquette production capacity (tons per year)"},{"$f":"COST_RES3!J29","v":0},{"$f":"C7","v":0},{"$f":"D7","v":0},0,0,0,0,0,0,0,0,0,0,0,0,0,0,0,0,0,0]
[]
[null,{"$f":"title211","v":"Efficiency % of briquetting machine"},{"$f":"COST_RES3!G12","v":0},{"$f":"+C9","v":0},{"$f":"+D9","v":0},0,0,0,0,0,0,0,0,0,0,0,0,0,0,0,0,0,0]
[]
[null,{"$f":"title212","v":"Operating hours per year"},{"$f":"COST_RES3!K28","v":0},{"$f":"+C11","v":0},{"$f":"D11","v":0},0,0,0,0,0,0,0,0,0,0,0,0,0,0,0,0,0,0]
[null,{"$f":"title213","v":"Capacity utilization factor"},{"$f":"C11/8760","v":0},{"$f":"D11/8760","v":0},0,0,0,0,0,0,0,0,0,0,0,0,0,0,0,0,0,0,0]
[]
[null,{"$f":"title214","v":"Briquette production (tons per year)"},{"$f":"C7","v":0},{"$f":"D7","v":0},0,0,0,0,0,0,0,0,0,0,0,0,0,0,0,0,0,0,0]
[null,{"$f":"title215","v":"Total briquette sell to customers (tons per year)"},{"$f":"SUM(C14:C14)","v":0},{"$f":"SUM(D14:D14)","v":0},0,0,0,0,0,0,0,0,0,0,0,0,0,0,0,0,0,0,0]
[]
[null,{"$f":"title216","v":"Price of briquette (USD/kg)"},{"$f":"SUM(C18:C18)","v":0},0,0,0,0,0,0,0,0,0,0,0,0,0,0,0,0,0,0,0,0]
[null,{"$f":"title217","v":"Market price of briquette pay by consumers (USD/kg)"},{"$f":"+'Energy Demand'!G20","v":0},{"$f":"C18*(1+D19)","v":0},0,0,0,0,0,0,0,0,0,0,0,0,0,0,0,0,0,0,0]
[null,{"$f":"title218","v":"Increasing rate of price of briquette (%)"},{"$f":"+'Data entry needs'!$AD$114","v":0},{"$f":"C19","v":0},{"$f":"D19","v":0},0,0,0,0,0,0,0,0,0,0,0,0,0,0,0,0,0,0]
[]
[null,{"$f":"title219","v":"Total income of briquette (USD per year)"},{"$f":"C15*C18*1000","v":0},{"$f":"D15*D18*1000","v":0},0,0,0,0,0,0,0,0,0,0,0,0,0,0,0,0,0,0,0]
[]
[null,{"$f":"title220","v":"Lifespan of civil work (years)"},{"$f":"COST_RES3!E61","v":10}]
[null,{"$f":"title221","v":"Lifespan of briquette system (years)"},{"$f":"COST_RES3!E60","v":10}]
[null,{"$f":"title222","v":"Project life time (years)"},20]
[]
[{"$f":"title223","v":"Capital and operating cost of biomass briquette system "}]
[]
[null,null,{"$f":"title230","v":"Appraisal"},{"$f":"title231","v":"Project lifetime"},{"$f":"title232","v":"Investment per year"}]
[null,{"$f":"title224","v":"Direct capital cost (USD)"}]
[null,{"$f":"title225","v":"Equipments"},{"$f":"D31*E31","v":0},{"$f":"$C$25","v":20},{"$f":"COST_RES3!J60/D31","v":0}]
[null,{"$f":"title226","v":"Building"},{"$f":"D32*E32","v":0},{"$f":"$C$25","v":20},{"$f":"COST_RES3!J61/D32","v":0}]
[null,{"$f":"title227","v":"Installation"},{"$f":"D33*E33","v":0},{"$f":"$C$25","v":20},{"$f":"COST_RES3!J62/D33","v":0}]
[null,{"$f":"title228","v":"Total capital cost (USD)"},{"$f":"SUM(C31:C33)","v":0},null,{"$f":"SUM(E31:E33)","v":0}]
[null,{"$f":"title229","v":"Capital cost (USD/kg of briquette)"},{"$f":"C34/(C14*1000*C25)","v":{"$error":"#DIV/0!"}}]
[]
[]
[null,{"$f":"title209","v":"Operating Year"},{"$f":"title230","v":"Appraisal"},1,2,3,4,5,6,7,8,9,10,11,12,13,14,15,16,17,18,19,20]
[null,{"$f":"title233","v":"Annual operating and maintenance cost "}]
[null,{"$f":"title234","v":"Sub-total material cost (USD)"},{"$f":"C41+C49+C51+C54","v":{"$error":"#DIV/0!"}},{"$f":"D41+D49+D51+D54","v":{"$error":"#DIV/0!"}},{"$error":"#DIV/0!"},{"$error":"#DIV/0!"},{"$error":"#DIV/0!"},{"$error":"#DIV/0!"},{"$error":"#DIV/0!"},{"$error":"#DIV/0!"},{"$error":"#DIV/0!"},{"$error":"#DIV/0!"},{"$error":"#DIV/0!"},{"$error":"#DIV/0!"},{"$error":"#DIV/0!"},{"$error":"#DIV/0!"},{"$error":"#DIV/0!"},{"$error":"#DIV/0!"},{"$error":"#DIV/0!"},{"$error":"#DIV/0!"},{"$error":"#DIV/0!"},{"$error":"#DIV/0!"},{"$error":"#DIV/0!"}]
[null,{"$f":"title235","v":"Biomass cost (USD/year)"},{"$f":"C42*C43","v":{"$error":"#DIV/0!"}},{"$f":"D42*D43","v":{"$error":"#DIV/0!"}},{"$error":"#DIV/0!"},{"$error":"#DIV/0!"},{"$error":"#DIV/0!"},{"$error":"#DIV/0!"},{"$error":"#DIV/0!"},{"$error":"#DIV/0!"},{"$error":"#DIV/0!"},{"$error":"#DIV/0!"},{"$error":"#DIV/0!"},{"$error":"#DIV/0!"},{"$error":"#DIV/0!"},{"$error":"#DIV/0!"},{"$error":"#DIV/0!"},{"$error":"#DIV/0!"},{"$error":"#DIV/0!"},{"$error":"#DIV/0!"},{"$error":"#DIV/0!"},{"$error":"#DIV/0!"},{"$error":"#DIV/0!"}]
[null,{"$f":"title236","v":"Biomass consumption (ton per year)"},{"$f":"C14/COST_RES3!$G$12","v":{"$error":"#DIV/0!"}},{"$f":"D14/COST_RES3!$G$12","v":{"$error":"#DIV/0!"}},{"$f":"E14/COST_RES3!$G$12","v":{"$error":"#DIV/0!"}},{"$f":"F14/COST_RES3!$G$12","v":{"$error":"#DIV/0!"}},{"$f":"G14/COST_RES3!$G$12","v":{"$error":"#DIV/0!"}},{"$f":"H14/COST_RES3!$G$12","v":{"$error":"#DIV/0!"}},{"$f":"I14/COST_RES3!$G$12","v":{"$error":"#DIV/0!"}},{"$f":"J14/COST_RES3!$G$12","v":{"$error":"#DIV/0!"}},{"$f":"K14/COST_RES3!$G$12","v":{"$error":"#DIV/0!"}},{"$f":"L14/COST_RES3!$G$12","v":{"$error":"#DIV/0!"}},{"$f":"M14/COST_RES3!$G$12","v":{"$error":"#DIV/0!"}},{"$f":"N14/COST_RES3!$G$12","v":{"$error":"#DIV/0!"}},{"$f":"O14/COST_RES3!$G$12","v":{"$error":"#DIV/0!"}},{"$f":"P14/COST_RES3!$G$12","v":{"$error":"#DIV/0!"}},{"$f":"Q14/COST_RES3!$G$12","v":{"$error":"#DIV/0!"}},{"$f":"R14/COST_RES3!$G$12","v":{"$error":"#DIV/0!"}},{"$f":"S14/COST_RES3!$G$12","v":{"$error":"#DIV/0!"}},{"$f":"T14/COST_RES3!$G$12","v":{"$error":"#DIV/0!"}},{"$f":"U14/COST_RES3!$G$12","v":{"$error":"#DIV/0!"}},{"$f":"V14/COST_RES3!$G$12","v":{"$error":"#DIV/0!"}},{"$f":"W14/COST_RES3!$G$12","v":{"$error":"#DIV/0!"}}]
[null,{"$f":"title237","v":"Biomass price (USD/ton)"},{"$f":"SUM(C44:C45)","v":0},{"$f":"SUM(D44:D45)","v":0},0,0,0,0,0,0,0,0,0,0,0,0,0,0,0,0,0,0,0]
[null,{"$f":"title238","v":"Biomass cost of collection (USD/ton)"},{"$f":"COST_RES3!E33","v":0},{"$f":"C44*(1+D74+D75)","v":0},{"$f":"D44*(1+E74+E75)","v":0},0,0,0,0,0,0,0,0,0,0,0,0,0,0,0,0,0,0]
[null,{"$f":"title239","v":"Biomass transportation cost (USD/ton)"},{"$f":"C46*C47","v":0},{"$f":"D46*D47","v":0},0,0,0,0,0,0,0,0,0,0,0,0,0,0,0,0,0,0,0]
[null,{"$f":"title240","v":"Biomass from farm to plant (USD/ton/km)"},{"$f":"COST_RES3!E48","v":0},{"$f":"C46*(1+D74+D75)","v":0},{"$f":"D46*(1+E74+E75)","v":0},0,0,0,0,0,0,0,0,0,0,0,0,0,0,0,0,0,0]
[null,{"$f":"title241","v":"Transportation distant (km)"},{"$f":"COST_RES3!J48","v":0},{"$f":"C47","v":0},{"$f":"D47","v":0},0,0,0,0,0,0,0,0,0,0,0,0,0,0,{"$f":"S47","v":0},{"$f":"T47","v":0},{"$f":"U47","v":0},{"$f":"V47","v":0}]
[]
[null,{"$f":"title246","v":"Water cost (USD/year)"},{"$f":"COST_RES3!K35","v":0},{"$f":"C49*(1+D74+D75)","v":0},{"$f":"D49*(1+E74+E75)","v":0},0,0,0,0,0,0,0,0,0,0,0,0,0,0,0,0,0,0]
[]
[null,{"$f":"title242","v":"Chemical cost (USD/year)"},{"$f":"C52*C53","v":0},{"$f":"D52*D53","v":0},0,0,0,0,0,0,0,0,0,0,0,0,0,0,0,0,0,0,0]
[null,{"$f":"title243","v":"Chemical consumption (tons per year)"},{"$f":"+COST_RES3!$J$34","v":0},{"$f":"+COST_RES3!$J$34","v":0},{"$f":"+COST_RES3!$J$34","v":0},{"$f":"+COST_RES3!$J$34","v":0},{"$f":"+COST_RES3!$J$34","v":0},{"$f":"+COST_RES3!$J$34","v":0},{"$f":"+COST_RES3!$J$34","v":0},{"$f":"+COST_RES3!$J$34","v":0},{"$f":"+COST_RES3!$J$34","v":0},{"$f":"+COST_RES3!$J$34","v":0},{"$f":"+COST_RES3!$J$34","v":0},{"$f":"+COST_RES3!$J$34","v":0},{"$f":"+COST_RES3!$J$34","v":0},{"$f":"+COST_RES3!$J$34","v":0},{"$f":"+COST_RES3!$J$34","v":0},{"$f":"+COST_RES3!$J$34","v":0},{"$f":"+COST_RES3!$J$34","v":0},{"$f":"+COST_RES3!$J$34","v":0},{"$f":"+COST_RES3!$J$34","v":0},{"$f":"+COST_RES3!$J$34","v":0},{"$f":"+COST_RES3!$J$34","v":0}]
[null,{"$f":"title244","v":"Chemical price (USD/ton)"},{"$f":"+'Data entry needs'!$F$20","v":0},{"$f":"C53","v":0},{"$f":"D53","v":0},0,0,0,0,0,0,0,0,0,0,0,0,0,0,0,0,0,0]
[null,{"$f":"title245","v":"Electricity cost (USD)"},{"$f":"COST_RES3!K36","v":0},{"$f":"C54*(1+D74+D75)","v":0},{"$f":"D54*(1+E74+E75)","v":0},0,0,0,0,0,0,0,0,0,0,0,0,0,0,0,0,0,0]
[]
[null,{"$f":"title247","v":"Sub-total operating cost (USD)"},{"$f":"C57+C59+C60","v":{"$error":"#DIV/0!"}},{"$f":"D57+D59+D60","v":{"$error":"#DIV/0!"}},{"$error":"#DIV/0!"},{"$error":"#DIV/0!"},{"$error":"#DIV/0!"},{"$error":"#DIV/0!"},{"$error":"#DIV/0!"},{"$error":"#DIV/0!"},{"$error":"#DIV/0!"},{"$error":"#DIV/0!"},{"$error":"#DIV/0!"},{"$error":"#DIV/0!"},{"$error":"#DIV/0!"},{"$error":"#DIV/0!"},{"$error":"#DIV/0!"},{"$error":"#DIV/0!"},{"$error":"#DIV/0!"},{"$error":"#DIV/0!"},{"$error":"#DIV/0!"},{"$error":"#DIV/0!"},{"$error":"#DIV/0!"}]
[null,{"$f":"title248","v":"Labour cost (USD)"},{"$f":"COST_RES3!K44","v":0},{"$f":"C57*(1+D58)","v":0},0,0,0,0,0,0,0,0,0,0,0,0,0,0,0,0,0,0,0]
[null,"Annual change in  labour cost (%)",null,{"$f":"COST_RES3!M12","v":0},{"$f":"D58","v":0},0,0,0,0,0,0,0,0,0,0,0,0,0,0,0,{"$f":"T58","v":0},0,0]
[null,{"$f":"title249","v":"Annual change in labour cost (%)"},{"$f":"COST_RES3!K70","v":0},{"$f":"C59","v":0},0,0,0,0,0,0,0,0,0,0,0,0,0,0,0,0,0,0,0]
[null,{"$f":"title250","v":"General and administrative cost"},{"$f":"COST_RES3!K71","v":{"$error":"#DIV/0!"}},{"$f":"C60","v":{"$error":"#DIV/0!"}},{"$error":"#DIV/0!"},{"$error":"#DIV/0!"},{"$error":"#DIV/0!"},{"$error":"#DIV/0!"},{"$error":"#DIV/0!"},{"$error":"#DIV/0!"},{"$error":"#DIV/0!"},{"$error":"#DIV/0!"},{"$error":"#DIV/0!"},{"$error":"#DIV/0!"},{"$error":"#DIV/0!"},{"$error":"#DIV/0!"},{"$error":"#DIV/0!"},{"$error":"#DIV/0!"},{"$error":"#DIV/0!"},{"$error":"#DIV/0!"},{"$error":"#DIV/0!"},{"$error":"#DIV/0!"},{"$error":"#DIV/0!"}]
[null,{"$f":"title251","v":"Sub-total maintenance cost (USD)"},{"$f":"COST_RES3!$K$65","v":0},{"$f":"C61","v":0},0,0,0,0,0,0,0,0,0,0,0,0,0,0,0,0,0,0,0]
[]
[null,{"$f":"title252","v":"Sub-total of annual fixed costs"},{"$f":"E34","v":0},{"$f":"C63","v":0},{"$f":"D63","v":0},0,0,0,0,0,0,0,0,0,0,0,0,0,0,0,0,0,0]
[]
[null,{"$f":"title253","v":"Sub-total of storage capacity"},{"$f":"COST_RES3!K56","v":{"$error":"#DIV/0!"}},{"$f":"C65","v":{"$error":"#DIV/0!"}},{"$f":"D65","v":{"$error":"#DIV/0!"}},{"$error":"#DIV/0!"},{"$error":"#DIV/0!"},{"$error":"#DIV/0!"},{"$error":"#DIV/0!"},{"$error":"#DIV/0!"},{"$error":"#DIV/0!"},{"$error":"#DIV/0!"},{"$error":"#DIV/0!"},{"$error":"#DIV/0!"},{"$error":"#DIV/0!"},{"$error":"#DIV/0!"},{"$error":"#DIV/0!"},{"$error":"#DIV/0!"},{"$error":"#DIV/0!"},{"$error":"#DIV/0!"},{"$error":"#DIV/0!"},{"$error":"#DIV/0!"},{"$error":"#DIV/0!"}]
[]
[null,{"$f":"title254","v":"Sub-total of briquette transportation to market"},{"$f":"COST_RES3!K49","v":0},{"$f":"C67*(1+D74+D75)","v":0},{"$f":"D67*(1+E74+E75)","v":0},0,0,0,0,0,0,0,0,0,0,0,0,0,0,0,0,0,0]
[]
[null,{"$f":"title255","v":"Total operation and maintenance cost (USD)"},{"$f":"C40+C56+C61+C63+C65+C67","v":{"$error":"#DIV/0!"}},{"$f":"D40+D56+D61+D63+D65+D67","v":{"$error":"#DIV/0!"}},{"$error":"#DIV/0!"},{"$error":"#DIV/0!"},{"$error":"#DIV/0!"},{"$error":"#DIV/0!"},{"$error":"#DIV/0!"},{"$error":"#DIV/0!"},{"$error":"#DIV/0!"},{"$error":"#DIV/0!"},{"$error":"#DIV/0!"},{"$error":"#DIV/0!"},{"$error":"#DIV/0!"},{"$error":"#DIV/0!"},{"$error":"#DIV/0!"},{"$error":"#DIV/0!"},{"$error":"#DIV/0!"},{"$error":"#DIV/0!"},{"$error":"#DIV/0!"},{"$error":"#DIV/0!"},{"$error":"#DIV/0!"}]
[null,{"$f":"title256","v":"Operation and maintenance cost (USD/kg of briquette) without loan interest"},{"$f":"C69/(C14*1000)","v":{"$error":"#DIV/0!"}},{"$error":"#DIV/0!"},{"$error":"#DIV/0!"},{"$error":"#DIV/0!"},{"$error":"#DIV/0!"},{"$error":"#DIV/0!"},{"$error":"#DIV/0!"},{"$error":"#DIV/0!"},{"$error":"#DIV/0!"},{"$error":"#DIV/0!"},{"$error":"#DIV/0!"},{"$error":"#DIV/0!"},{"$error":"#DIV/0!"},{"$error":"#DIV/0!"},{"$error":"#DIV/0!"},{"$error":"#DIV/0!"},{"$error":"#DIV/0!"},{"$error":"#DIV/0!"},{"$error":"#DIV/0!"},{"$error":"#DIV/0!"},{"$error":"#DIV/0!"}]
[]
[{"$f":"title164","v":"Financial parameters"}]
[null,{"$f":"title209","v":"Operating Year"},{"$f":"title230","v":"Appraisal"},1,2,3,4,5,6,7,8,9,10,11,12,13,14,15,16,17,18,19,20]
[null,{"$f":"title257","v":"Annual change in raw material cost (%)"},null,0,{"$f":"D74","v":0},{"$f":"E74","v":0},0,0,0,0,0,0,0,0,0,0,0,0,0,0,0,{"$f":"U74","v":0},{"$f":"V74","v":0}]
[null,{"$f":"title258","v":"Inflation rate (%)"},null,{"$f":"COST_RES3!J12","v":0},{"$f":"D75","v":0},0,0,0,0,0,0,0,0,0,0,0,0,0,0,0,0,{"$f":"U75","v":0},{"$f":"V75","v":0}]
[null,{"$f":"title165&\" (%)\"","v":"Discount rate (%)"},{"$f":"COST_RES3!J9","v":0}]
[null,{"$f":"title166&\" (%)\"","v":"Loan ratio (%)"},{"$f":"COST_RES3!J10","v":0}]
[]
[null,{"$f":"title259","v":"Loan without policy"},{"$f":"title230","v":"Appraisal"},1,2,3,4,5,6,7,8,9,10,11,12,13,14,15,16,17,18,19,20]
[null,{"$f":"title260","v":"Loan amount (USD)"},{"$f":"C77*(C34)","v":0}]
[null,{"$f":"title167&\" (%)\"","v":"Loan interest rate (%)"},{"$f":"COST_RES3!J11","v":0}]
[null,{"$f":"title261","v":"Loan term (years)"},{"$f":"COST_RES3!M9","v":0}]
[null,{"$f":"title262","v":"Loan payment (USD/month)"},{"$f":"(PMT($C$81/12,(12*$C$82),$C$80))","v":{"$error":"#NUM!"}}]
[null,{"$f":"title263","v":"Loan payment (USD/year)"},null,{"$f":"IF(D73<=$C$82,$C$83*12,0)","v":0},{"$f":"IF(E73<$C$82,$C$83*12,IF(E73=$C$82,$C$83*12,0))","v":0},{"$f":"IF(F73<$C$82,$C$83*12,IF(F73=$C$82,$C$83*12,0))","v":0},0,0,0,0,0,0,0,0,0,0,0,0,0,0,0,0,0]
[null,{"$f":"title264","v":"Total loan payment (USD)"},{"$f":"SUM(D84:W84)","v":0}]
[null,{"$f":"title265","v":"Loan interest payment (USD)"},{"$f":"C85+C80","v":0},{"$f":"title266","v":"Average loan interest payment for project lifetime"},null,null,{"$f":"C86/C25","v":0},{"$f":"title267","v":"USD per year"}]
[]
[{"$f":"title268","v":"Income tax analysis"}]
[null,{"$f":"title209","v":"Operating Year"},{"$f":"title230","v":"Appraisal"},1,2,3,4,5,6,7,8,9,10,11,12,13,14,15,16,17,18,19,20]
[null,{"$f":"title269","v":"Effective income tax rate (%)"},{"$f":"+'Data entry needs'!$AD$115","v":0},{"$f":"C90","v":0},{"$f":"D90","v":0},0,0,0,0,0,0,0,0,0,0,0,0,0,0,0,0,0,0]
[null,{"$f":"title270","v":"Income tax (USD)"},null,{"$f":"IF(D115<0,0,D90*D115)","v":{"$error":"#DIV/0!"}},{"$error":"#DIV/0!"},{"$error":"#DIV/0!"},{"$error":"#DIV/0!"},{"$error":"#DIV/0!"},{"$error":"#DIV/0!"},{"$error":"#DIV/0!"},{"$error":"#DIV/0!"},{"$error":"#DIV/0!"},{"$error":"#DIV/0!"},{"$error":"#DIV/0!"},{"$error":"#DIV/0!"},{"$error":"#DIV/0!"},{"$error":"#DIV/0!"},{"$error":"#DIV/0!"},{"$error":"#DIV/0!"},{"$error":"#DIV/0!"},{"$error":"#DIV/0!"},{"$error":"#DIV/0!"},{"$error":"#DIV/0!"}]
[null,{"$f":"title271","v":"Total income tax payment (USD)"},{"$f":"SUM(D91:W91)","v":{"$error":"#DIV/0!"}},{"$f":"title458","v":"Average income tax payment "},null,{"$f":"C92/C25","v":{"$error":"#DIV/0!"}},{"$f":"title267","v":"USD per year"}]
[]
[{"$f":"title272","v":"Depreciation"}]
[null,{"$f":"title209","v":"Operating Year"},{"$f":"title230","v":"Appraisal"},1,2,3,4,5,6,7,8,9,10,11,12,13,14,15,16,17,18,19,20]
[null,{"$f":"title273","v":"Depreciation method"},{"$f":"title275","v":"Straight-line"}]
[null,{"$f":"title274","v":"Total depreciation (USD)"},null,{"$f":"COST_RES3!K64","v":0},{"$f":"D97","v":0},{"$f":"E97","v":0},0,0,0,0,0,0,0,0,0,0,0,0,0,0,0,0,0]
[]
[{"$f":"title276","v":"Base case project summary"}]
[{"$f":"title277","v":"Summary of this project - Before Tax"}]
[null,{"$f":"title209","v":"Operating Year"},{"$f":"title230","v":"Appraisal"},1,2,3,4,5,6,7,8,9,10,11,12,13,14,15,16,17,18,19,20]
[null,{"$f":"title278","v":"Total revenue (USD)"},null,{"$f":"D15*1000*D18","v":0},{"$f":"E15*1000*E18","v":0},0,0,0,0,0,0,0,0,0,0,0,0,0,0,0,0,0,0]
[null,{"$f":"title228","v":"Total capital cost (USD)"},{"$f":"-(C34-C80)","v":0}]
[null,{"$f":"title279","v":"Total operating and maintenance cost (USD)"},null,{"$f":"-D69+D63","v":{"$error":"#DIV/0!"}},{"$error":"#DIV/0!"},{"$error":"#DIV/0!"},{"$error":"#DIV/0!"},{"$error":"#DIV/0!"},{"$error":"#DIV/0!"},{"$error":"#DIV/0!"},{"$error":"#DIV/0!"},{"$error":"#DIV/0!"},{"$error":"#DIV/0!"},{"$error":"#DIV/0!"},{"$error":"#DIV/0!"},{"$error":"#DIV/0!"},{"$error":"#DIV/0!"},{"$error":"#DIV/0!"},{"$error":"#DIV/0!"},{"$error":"#DIV/0!"},{"$error":"#DIV/0!"},{"$error":"#DIV/0!"},{"$error":"#DIV/0!"}]
[null,{"$f":"title280","v":"Loan payment (USD)"},null,{"$f":"D84","v":0},{"$f":"E84","v":0},0,0,0,0,0,0,0,0,0,0,0,0,0,0,0,0,0,0]
[null,{"$f":"title281","v":"Cash flow - before tax (USD)"},{"$f":"SUM(C102:C105)","v":0},{"$error":"#DIV/0!"},{"$error":"#DIV/0!"},{"$error":"#DIV/0!"},{"$error":"#DIV/0!"},{"$error":"#DIV/0!"},{"$error":"#DIV/0!"},{"$error":"#DIV/0!"},{"$error":"#DIV/0!"},{"$error":"#DIV/0!"},{"$error":"#DIV/0!"},{"$error":"#DIV/0!"},{"$error":"#DIV/0!"},{"$error":"#DIV/0!"},{"$error":"#DIV/0!"},{"$error":"#DIV/0!"},{"$error":"#DIV/0!"},{"$error":"#DIV/0!"},{"$error":"#DIV/0!"},{"$error":"#DIV/0!"},{"$error":"#DIV/0!"}]
[null,{"$f":"title282","v":"Average revenue (USD)"}]
[]
[{"$f":"title283","v":"Summary of this project - After Tax"}]
[null,{"$f":"title209","v":"Operating Year"},{"$f":"title230","v":"Appraisal"},1,2,3,4,5,6,7,8,9,10,11,12,13,14,15,16,17,18,19,20]
[null,{"$f":"B102","v":"Total revenue (USD)"},{"$f":"C102","v":0},{"$f":"D102","v":0},0,0,0,0,0,0,0,0,0,0,0,0,0,0,0,0,0,0,0]
[null,{"$f":"title279","v":"Total operating and maintenance cost (USD)"},null,{"$f":"-D69+D63","v":{"$error":"#DIV/0!"}},{"$error":"#DIV/0!"},{"$error":"#DIV/0!"},{"$error":"#DIV/0!"},{"$error":"#DIV/0!"},{"$error":"#DIV/0!"},{"$error":"#DIV/0!"},{"$error":"#DIV/0!"},{"$error":"#DIV/0!"},{"$error":"#DIV/0!"},{"$error":"#DIV/0!"},{"$error":"#DIV/0!"},{"$error":"#DIV/0!"},{"$error":"#DIV/0!"},{"$error":"#DIV/0!"},{"$error":"#DIV/0!"},{"$error":"#DIV/0!"},{"$error":"#DIV/0!"},{"$error":"#DIV/0!"},{"$error":"#DIV/0!"}]
[null,{"$f":"title280","v":"Loan payment (USD)"},null,{"$f":"$G$86","v":0},{"$f":"$G$86","v":0},0,0,0,0,0,0,0,0,0,0,0,0,0,0,0,0,0,0]
[null,{"$f":"title284","v":"Depreciation of fixed costs (USD)"},null,{"$f":"-D63","v":0},{"$f":"-E63","v":0},0,0,0,0,0,0,0,0,0,0,0,0,0,0,0,0,0,0]
[null,{"$f":"title285","v":"Net profit - before tax (USD) for income tax calculation"},{"$f":"SUM(C111:C114)","v":0},{"$f":"SUM(D111:D114)","v":{"$error":"#DIV/0!"}},{"$f":"SUM(E111:E114)","v":{"$error":"#DIV/0!"}},{"$error":"#DIV/0!"},{"$error":"#DIV/0!"},{"$error":"#DIV/0!"},{"$error":"#DIV/0!"},{"$error":"#DIV/0!"},{"$error":"#DIV/0!"},{"$error":"#DIV/0!"},{"$error":"#DIV/0!"},{"$error":"#DIV/0!"},{"$error":"#DIV/0!"},{"$error":"#DIV/0!"},{"$error":"#DIV/0!"},{"$error":"#DIV/0!"},{"$error":"#DIV/0!"},{"$error":"#DIV/0!"},{"$error":"#DIV/0!"},{"$error":"#DIV/0!"},{"$error":"#DIV/0!"}]
[null,{"$f":"title286","v":"Income tax"},null,{"$f":"IF(D115>0,-D91,0)","v":{"$error":"#DIV/0!"}},{"$error":"#DIV/0!"},{"$error":"#DIV/0!"},{"$error":"#DIV/0!"},{"$error":"#DIV/0!"},{"$error":"#DIV/0!"},{"$error":"#DIV/0!"},{"$error":"#DIV/0!"},{"$error":"#DIV/0!"},{"$error":"#DIV/0!"},{"$error":"#DIV/0!"},{"$error":"#DIV/0!"},{"$error":"#DIV/0!"},{"$error":"#DIV/0!"},{"$error":"#DIV/0!"},{"$error":"#DIV/0!"},{"$error":"#DIV/0!"},{"$error":"#DIV/0!"},{"$error":"#DIV/0!"},{"$error":"#DIV/0!"}]
[null,{"$f":"title287","v":"Cash flow - after tax (USD)"},{"$f":"C103","v":0},{"$f":"D106+D116","v":{"$error":"#DIV/0!"}},{"$f":"E106+E116","v":{"$error":"#DIV/0!"}},{"$error":"#DIV/0!"},{"$error":"#DIV/0!"},{"$error":"#DIV/0!"},{"$error":"#DIV/0!"},{"$error":"#DIV/0!"},{"$error":"#DIV/0!"},{"$error":"#DIV/0!"},{"$error":"#DIV/0!"},{"$error":"#DIV/0!"},{"$error":"#DIV/0!"},{"$error":"#DIV/0!"},{"$error":"#DIV/0!"},{"$error":"#DIV/0!"},{"$error":"#DIV/0!"},{"$error":"#DIV/0!"},{"$error":"#DIV/0!"},{"$error":"#DIV/0!"},{"$f":"W106+W116","v":{"$error":"#DIV/0!"}}]
[]
[{"$f":"title288","v":"Cumulative value of Net Profit"}]
[null,{"$f":"title209","v":"Operating Year"},{"$f":"title230","v":"Appraisal"},1,2,3,4,5,6,7,8,9,10,11,12,13,14,15,16,17,18,19,20]
[null,{"$f":"title289","v":"Cumulative value of net profit - before tax"},{"$f":"C106","v":0},{"$f":"C121+(D106)","v":{"$error":"#DIV/0!"}},{"$error":"#DIV/0!"},{"$error":"#DIV/0!"},{"$error":"#DIV/0!"},{"$error":"#DIV/0!"},{"$error":"#DIV/0!"},{"$error":"#DIV/0!"},{"$error":"#DIV/0!"},{"$error":"#DIV/0!"},{"$error":"#DIV/0!"},{"$error":"#DIV/0!"},{"$error":"#DIV/0!"},{"$error":"#DIV/0!"},{"$error":"#DIV/0!"},{"$error":"#DIV/0!"},{"$error":"#DIV/0!"},{"$error":"#DIV/0!"},{"$error":"#DIV/0!"},{"$error":"#DIV/0!"},{"$error":"#DIV/0!"}]
[null,{"$f":"title290","v":"Cumulative value of net profit - after tax"},{"$f":"C117","v":0},{"$f":"C122+(D117)","v":{"$error":"#DIV/0!"}},{"$error":"#DIV/0!"},{"$error":"#DIV/0!"},{"$error":"#DIV/0!"},{"$error":"#DIV/0!"},{"$error":"#DIV/0!"},{"$error":"#DIV/0!"},{"$error":"#DIV/0!"},{"$error":"#DIV/0!"},{"$error":"#DIV/0!"},{"$error":"#DIV/0!"},{"$error":"#DIV/0!"},{"$error":"#DIV/0!"},{"$error":"#DIV/0!"},{"$error":"#DIV/0!"},{"$error":"#DIV/0!"},{"$error":"#DIV/0!"},{"$error":"#DIV/0!"},{"$error":"#DIV/0!"},{"$error":"#DIV/0!"}]
[]
[{"$f":"title291","v":"Financial analysis results"}]
[]
[null,{"$f":"title292","v":"Net present value (NPV) (USD) - before tax"},{"$f":"NPV(C76,D106:W106)+C106","v":{"$error":"#DIV/0!"}}]
[null,{"$f":"title293","v":"Internal rate of return (IRR) (%) - before tax"},{"$f":"IF(C126<0,title459,IF(TIR_cell=title519,IRR(C106:W106,0.001),MIRR(C106:W106,C81,C76)))","v":{"$error":"#DIV/0!"}}]
[null,{"$f":"title294","v":"Payback period (years)"},{"$f":"title298","v":"Please see Figure of the cumulative value of net profit - before tax"}]
[]
[]
[null,{"$f":"title295","v":"Net present value (NPV) (USD) - after tax"},{"$f":"NPV(C76,D117:W117)+C117","v":{"$error":"#DIV/0!"}}]
[null,{"$f":"title296","v":"Internal rate of return (IRR) (%) - after tax"},{"$f":"IF(C131<0,title459,MIRR(C117:W117,C81,0%))","v":{"$error":"#DIV/0!"}}]
[null,{"$f":"title294","v":"Payback period (years)"},{"$f":"title299","v":"Please see Figure of the cumulative value of net profit - after tax"}]
[null,{"$f":"title297","v":"Total Income tax payment of project lifetime"},{"$f":"SUM(D116:W116)","v":{"$error":"#DIV/0!"}}]

{"sheet":"FA4000_URBAN_RES3","index":45,"n_rows":134,"n_cols":23,"rows_kept":134,"cut":false,"hidden":true,"merged":[[1,1,1,13]]}
[]
[null,{"$f":"title302","v":"FINANCIAL ANALYSIS OF BIOMASS BRIQUETTING 4000 KG/HOUR"}]
[]
[{"$f":"title208","v":"Revenues of biomass briquetting system"}]
[null,{"$f":"title209","v":"Operating Year"},0,1,2,3,4,5,6,7,8,9,10,11,12,13,14,15,16,17,18,19,20]
[]
[null,{"$f":"title210","v":"Briquette production capacity (tons per year)"},{"$f":"COST_RES3!L29","v":0},{"$f":"C7","v":0},{"$f":"D7","v":0},0,0,0,0,0,0,0,0,0,0,0,0,0,0,0,0,0,0]
[null,null,null,null,null,null,null,null," "]
[null,{"$f":"title211","v":"Efficiency % of briquetting machine"},{"$f":"COST_RES3!G12","v":0},{"$f":"+C9","v":0},{"$f":"+D9","v":0},0,0,0,0,0,0,0,0,0,0,0,0,0,0,0,0,0,0]
[]
[null,{"$f":"title212","v":"Operating hours per year"},{"$f":"COST_RES3!M28","v":0},{"$f":"+C11","v":0},{"$f":"D11","v":0},0,0,0,0,0,0,0,0,0,0,0,0,0,0,0,0,0,0]
[null,{"$f":"title213","v":"Capacity utilization factor"},{"$f":"C11/8760","v":0},{"$f":"D11/8760","v":0},0,0,0,0,0,0,0,0,0,0,0,0,0,0,0,0,0,0,0]
[]
[null,{"$f":"title214","v":"Briquette production (tons per year)"},{"$f":"C7","v":0},{"$f":"D7","v":0},0,0,0,0,0,0,0,0,0,0,0,0,0,0,0,0,0,0,0]
[null,{"$f":"title215","v":"Total briquette sell to customers (tons per year)"},{"$f":"SUM(C14:C14)","v":0},{"$f":"SUM(D14:D14)","v":0},0,0,0,0,0,0,0,0,0,0,0,0,0,0,0,0,0,0,0]
[]
[null,{"$f":"title216","v":"Price of briquette (USD/kg)"},{"$f":"SUM(C18:C18)","v":0},0,0,0,0,0,0,0,0,0,0,0,0,0,0,0,0,0,0,0,0]
[null,{"$f":"title217","v":"Market price of briquette pay by consumers (USD/kg)"},{"$f":"+'Energy Demand'!G20","v":0},{"$f":"C18*(1+D19)","v":0},0,0,0,0,0,0,0,0,0,0,0,0,0,0,0,0,0,0,0]
[null,{"$f":"title218","v":"Increasing rate of price of briquette (%)"},{"$f":"+'Data entry needs'!$AD$114","v":0},{"$f":"C19","v":0},{"$f":"D19","v":0},0,0,0,0,0,0,0,0,0,0,0,0,0,0,0,0,0,0]
[]
[null,{"$f":"title219","v":"Total income of briquette (USD per year)"},{"$f":"C15*C18*1000","v":0},{"$f":"D15*D18*1000","v":0},0,0,0,0,0,0,0,0,0,0,0,0,0,0,0,0,0,0,0]
[]
[null,{"$f":"title220","v":"Lifespan of civil work (years)"},{"$f":"COST_RES3!E61","v":10}]
[null,{"$f":"title221","v":"Lifespan of briquette system (years)"},{"$f":"COST_RES3!E60","v":10}]
[null,{"$f":"title222","v":"Project life time (years)"},20]
[]
[{"$f":"title223","v":"Capital and operating cost of biomass briquette system "}]
[]
[null,null,{"$f":"title230","v":"Appraisal"},{"$f":"title231","v":"Project lifetime"},{"$f":"title232","v":"Investment per year"}]
[null,{"$f":"title224","v":"Direct capital cost (USD)"}]
[null,{"$f":"title225","v":"Equipments"},{"$f":"D31*E31","v":0},{"$f":"$C$25","v":20},{"$f":"COST_RES3!L60/D31","v":0}]
[null,{"$f":"title226","v":"Building"},{"$f":"D32*E32","v":0},{"$f":"$C$25","v":20},{"$f":"COST_RES3!L61/D32","v":0}]
[null,{"$f":"title227","v":"Installation"},{"$f":"D33*E33","v":0},{"$f":"$C$25","v":20},{"$f":"COST_RES3!L62/D33","v":0}]
[null,{"$f":"title228","v":"Total capital cost (USD)"},{"$f":"SUM(C31:C33)","v":0},null,{"$f":"SUM(E31:E33)","v":0}]
[null,{"$f":"title229","v":"Capital cost (USD/kg of briquette)"},{"$f":"C34/(C14*1000*C25)","v":{"$error":"#DIV/0!"}}]
[]
[]
[null,{"$f":"title209","v":"Operating Year"},{"$f":"title230","v":"Appraisal"},1,2,3,4,5,6,7,8,9,10,11,12,13,14,15,16,17,18,19,20]
[null,{"$f":"title233","v":"Annual operating and maintenance cost "}]
[null,{"$f":"title234","v":"Sub-total material cost (USD)"},{"$f":"C41+C49+C51+C54","v":{"$error":"#DIV/0!"}},{"$f":"D41+D49+D51+D54","v":{"$error":"#DIV/0!"}},{"$error":"#DIV/0!"},{"$error":"#DIV/0!"},{"$error":"#DIV/0!"},{"$error":"#DIV/0!"},{"$error":"#DIV/0!"},{"$error":"#DIV/0!"},{"$error":"#DIV/0!"},{"$error":"#DIV/0!"},{"$error":"#DIV/0!"},{"$error":"#DIV/0!"},{"$error":"#DIV/0!"},{"$error":"#DIV/0!"},{"$error":"#DIV/0!"},{"$error":"#DIV/0!"},{"$error":"#DIV/0!"},{"$error":"#DIV/0!"},{"$error":"#DIV/0!"},{"$error":"#DIV/0!"},{"$error":"#DIV/0!"}]
[null,{"$f":"title235","v":"Biomass cost (USD/year)"},{"$f":"C42*C43","v":{"$error":"#DIV/0!"}},{"$f":"D42*D43","v":{"$error":"#DIV/0!"}},{"$error":"#DIV/0!"},{"$error":"#DIV/0!"},{"$error":"#DIV/0!"},{"$error":"#DIV/0!"},{"$error":"#DIV/0!"},{"$error":"#DIV/0!"},{"$error":"#DIV/0!"},{"$error":"#DIV/0!"},{"$error":"#DIV/0!"},{"$error":"#DIV/0!"},{"$error":"#DIV/0!"},{"$error":"#DIV/0!"},{"$error":"#DIV/0!"},{"$error":"#DIV/0!"},{"$error":"#DIV/0!"},{"$error":"#DIV/0!"},{"$error":"#DIV/0!"},{"$error":"#DIV/0!"},{"$error":"#DIV/0!"}]
[null,{"$f":"title236","v":"Biomass consumption (ton per year)"},{"$f":"C14/COST_RES3!$G$12","v":{"$error":"#DIV/0!"}},{"$f":"D14/COST_RES3!$G$12","v":{"$error":"#DIV/0!"}},{"$f":"E14/COST_RES3!$G$12","v":{"$error":"#DIV/0!"}},{"$f":"F14/COST_RES3!$G$12","v":{"$error":"#DIV/0!"}},{"$f":"G14/COST_RES3!$G$12","v":{"$error":"#DIV/0!"}},{"$f":"H14/COST_RES3!$G$12","v":{"$error":"#DIV/0!"}},{"$f":"I14/COST_RES3!$G$12","v":{"$error":"#DIV/0!"}},{"$f":"J14/COST_RES3!$G$12","v":{"$error":"#DIV/0!"}},{"$f":"K14/COST_RES3!$G$12","v":{"$error":"#DIV/0!"}},{"$f":"L14/COST_RES3!$G$12","v":{"$error":"#DIV/0!"}},{"$f":"M14/COST_RES3!$G$12","v":{"$error":"#DIV/0!"}},{"$f":"N14/COST_RES3!$G$12","v":{"$error":"#DIV/0!"}},{"$f":"O14/COST_RES3!$G$12","v":{"$error":"#DIV/0!"}},{"$f":"P14/COST_RES3!$G$12","v":{"$error":"#DIV/0!"}},{"$f":"Q14/COST_RES3!$G$12","v":{"$error":"#DIV/0!"}},{"$f":"R14/COST_RES3!$G$12","v":{"$error":"#DIV/0!"}},{"$f":"S14/COST_RES3!$G$12","v":{"$error":"#DIV/0!"}},{"$f":"T14/COST_RES3!$G$12","v":{"$error":"#DIV/0!"}},{"$f":"U14/COST_RES3!$G$12","v":{"$error":"#DIV/0!"}},{"$f":"V14/COST_RES3!$G$12","v":{"$error":"#DIV/0!"}},{"$f":"W14/COST_RES3!$G$12","v":{"$error":"#DIV/0!"}}]
[null,{"$f":"title237","v":"Biomass price (USD/ton)"},{"$f":"SUM(C44:C45)","v":0},{"$f":"SUM(D44:D45)","v":0},0,0,0,0,0,0,0,0,0,0,0,0,0,0,0,0,0,0,0]
[null,{"$f":"title238","v":"Biomass cost of collection (USD/ton)"},{"$f":"COST_RES3!E33","v":0},{"$f":"C44*(1+D74+D75)","v":0},{"$f":"D44*(1+E74+E75)","v":0},0,0,0,0,0,0,0,0,0,0,0,0,0,0,0,0,0,0]
[null,{"$f":"title239","v":"Biomass transportation cost (USD/ton)"},{"$f":"C46*C47","v":0},{"$f":"D46*D47","v":0},0,0,0,0,0,0,0,0,0,0,0,0,0,0,0,0,0,0,0]
[null,{"$f":"title240","v":"Biomass from farm to plant (USD/ton/km)"},{"$f":"COST_RES3!E48","v":0},{"$f":"C46*(1+D74+D75)","v":0},{"$f":"D46*(1+E74+E75)","v":0},0,0,0,0,0,0,0,0,0,0,0,0,0,0,0,0,0,0]
[null,{"$f":"title241","v":"Transportation distant (km)"},{"$f":"COST_RES3!L48","v":0},{"$f":"C47","v":0},{"$f":"D47","v":0},0,0,0,0,0,0,0,0,0,0,0,0,0,0,{"$f":"S47","v":0},{"$f":"T47","v":0},{"$f":"U47","v":0},{"$f":"V47","v":0}]
[]
[null,{"$f":"title246","v":"Water cost (USD/year)"},{"$f":"COST_RES3!M35","v":0},{"$f":"C49*(1+D74+D75)","v":0},{"$f":"D49*(1+E74+E75)","v":0},0,0,0,0,0,0,0,0,0,0,0,0,0,0,0,0,0,0]
[]
[null,{"$f":"title242","v":"Chemical cost (USD/year)"},{"$f":"C52*C53","v":0},{"$f":"D52*D53","v":0},0,0,0,0,0,0,0,0,0,0,0,0,0,0,0,0,0,0,0]
[null,{"$f":"title243","v":"Chemical consumption (tons per year)"},{"$f":"+COST_RES3!$L$34","v":0},{"$f":"+COST_RES3!$L$34","v":0},{"$f":"+COST_RES3!$L$34","v":0},{"$f":"+COST_RES3!$L$34","v":0},{"$f":"+COST_RES3!$L$34","v":0},{"$f":"+COST_RES3!$L$34","v":0},{"$f":"+COST_RES3!$L$34","v":0},{"$f":"+COST_RES3!$L$34","v":0},{"$f":"+COST_RES3!$L$34","v":0},{"$f":"+COST_RES3!$L$34","v":0},{"$f":"+COST_RES3!$L$34","v":0},{"$f":"+COST_RES3!$L$34","v":0},{"$f":"+COST_RES3!$L$34","v":0},{"$f":"+COST_RES3!$L$34","v":0},{"$f":"+COST_RES3!$L$34","v":0},{"$f":"+COST_RES3!$L$34","v":0},{"$f":"+COST_RES3!$L$34","v":0},{"$f":"+COST_RES3!$L$34","v":0},{"$f":"+COST_RES3!$L$34","v":0},{"$f":"+COST_RES3!$L$34","v":0},{"$f":"+COST_RES3!$L$34","v":0}]
[null,{"$f":"title244","v":"Chemical price (USD/ton)"},{"$f":"+'Data entry needs'!$F$20","v":0},{"$f":"+C53","v":0},{"$f":"+D53","v":0},0,0,0,0,0,0,0,0,0,0,0,0,0,0,0,0,0,0]
[null,{"$f":"title245","v":"Electricity cost (USD)"},{"$f":"COST_RES3!M36","v":0},{"$f":"C54*(1+D74+D75)","v":0},{"$f":"D54*(1+E74+E75)","v":0},0,0,0,0,0,0,0,0,0,0,0,0,0,0,0,0,0,0]
[]
[null,{"$f":"title247","v":"Sub-total operating cost (USD)"},{"$f":"C57+C59+C60","v":{"$error":"#DIV/0!"}},{"$f":"D57+D59+D60","v":{"$error":"#DIV/0!"}},{"$error":"#DIV/0!"},{"$error":"#DIV/0!"},{"$error":"#DIV/0!"},{"$error":"#DIV/0!"},{"$error":"#DIV/0!"},{"$error":"#DIV/0!"},{"$error":"#DIV/0!"},{"$error":"#DIV/0!"},{"$error":"#DIV/0!"},{"$error":"#DIV/0!"},{"$error":"#DIV/0!"},{"$error":"#DIV/0!"},{"$error":"#DIV/0!"},{"$error":"#DIV/0!"},{"$error":"#DIV/0!"},{"$error":"#DIV/0!"},{"$error":"#DIV/0!"},{"$error":"#DIV/0!"},{"$error":"#DIV/0!"}]
[null,{"$f":"title248","v":"Labour cost (USD)"},{"$f":"COST_RES3!M44","v":0},{"$f":"C57*(1+D58)","v":0},0,0,0,0,0,0,0,0,0,0,0,0,0,0,0,0,0,0,0]
[null,"Annual change in  labour cost (%)",null,{"$f":"COST_RES3!M12","v":0},{"$f":"D58","v":0},0,0,0,0,0,0,0,0,0,0,0,0,0,0,0,{"$f":"T58","v":0},0,0]
[null,{"$f":"title249","v":"Annual change in labour cost (%)"},{"$f":"COST_RES3!M70","v":0},{"$f":"C59","v":0},0,0,0,0,0,0,0,0,0,0,0,0,0,0,0,0,0,0,0]
[null,{"$f":"title250","v":"General and administrative cost"},{"$f":"COST_RES3!M71","v":{"$error":"#DIV/0!"}},{"$f":"C60","v":{"$error":"#DIV/0!"}},{"$error":"#DIV/0!"},{"$error":"#DIV/0!"},{"$error":"#DIV/0!"},{"$error":"#DIV/0!"},{"$error":"#DIV/0!"},{"$error":"#DIV/0!"},{"$error":"#DIV/0!"},{"$error":"#DIV/0!"},{"$error":"#DIV/0!"},{"$error":"#DIV/0!"},{"$error":"#DIV/0!"},{"$error":"#DIV/0!"},{"$error":"#DIV/0!"},{"$error":"#DIV/0!"},{"$error":"#DIV/0!"},{"$error":"#DIV/0!"},{"$error":"#DIV/0!"},{"$error":"#DIV/0!"},{"$error":"#DIV/0!"}]
[null,{"$f":"title251","v":"Sub-total maintenance cost (USD)"},{"$f":"COST_RES3!$M$65","v":0},{"$f":"C61","v":0},0,0,0,0,0,0,0,0,0,0,0,0,0,0,0,0,0,0,0]
[]
[null,{"$f":"title252","v":"Sub-total of annual fixed costs"},{"$f":"E34","v":0},{"$f":"C63","v":0},{"$f":"D63","v":0},0,0,0,0,0,0,0,0,0,0,0,0,0,0,0,0,0,0]
[]
[null,{"$f":"title253","v":"Sub-total of storage capacity"},{"$f":"COST_RES3!M56","v":{"$error":"#DIV/0!"}},{"$f":"C65","v":{"$error":"#DIV/0!"}},{"$f":"D65","v":{"$error":"#DIV/0!"}},{"$error":"#DIV/0!"},{"$error":"#DIV/0!"},{"$error":"#DIV/0!"},{"$error":"#DIV/0!"},{"$error":"#DIV/0!"},{"$error":"#DIV/0!"},{"$error":"#DIV/0!"},{"$error":"#DIV/0!"},{"$error":"#DIV/0!"},{"$error":"#DIV/0!"},{"$error":"#DIV/0!"},{"$error":"#DIV/0!"},{"$error":"#DIV/0!"},{"$error":"#DIV/0!"},{"$error":"#DIV/0!"},{"$error":"#DIV/0!"},{"$error":"#DIV/0!"},{"$error":"#DIV/0!"}]
[]
[null,{"$f":"title254","v":"Sub-total of briquette transportation to market"},{"$f":"COST_RES3!M49","v":0},{"$f":"C67*(1+D74+D75)","v":0},{"$f":"D67*(1+E74+E75)","v":0},0,0,0,0,0,0,0,0,0,0,0,0,0,0,0,0,0,0]
[]
[null,{"$f":"title255","v":"Total operation and maintenance cost (USD)"},{"$f":"C40+C56+C61+C63+C65+C67","v":{"$error":"#DIV/0!"}},{"$f":"D40+D56+D61+D63+D65+D67","v":{"$error":"#DIV/0!"}},{"$error":"#DIV/0!"},{"$error":"#DIV/0!"},{"$error":"#DIV/0!"},{"$error":"#DIV/0!"},{"$error":"#DIV/0!"},{"$error":"#DIV/0!"},{"$error":"#DIV/0!"},{"$error":"#DIV/0!"},{"$error":"#DIV/0!"},{"$error":"#DIV/0!"},{"$error":"#DIV/0!"},{"$error":"#DIV/0!"},{"$error":"#DIV/0!"},{"$error":"#DIV/0!"},{"$error":"#DIV/0!"},{"$error":"#DIV/0!"},{"$error":"#DIV/0!"},{"$error":"#DIV/0!"},{"$error":"#DIV/0!"}]
[null,{"$f":"title256","v":"Operation and maintenance cost (USD/kg of briquette) without loan interest"},{"$f":"C69/(C14*1000)","v":{"$error":"#DIV/0!"}},{"$error":"#DIV/0!"},{"$error":"#DIV/0!"},{"$error":"#DIV/0!"},{"$error":"#DIV/0!"},{"$error":"#DIV/0!"},{"$error":"#DIV/0!"},{"$error":"#DIV/0!"},{"$error":"#DIV/0!"},{"$error":"#DIV/0!"},{"$error":"#DIV/0!"},{"$error":"#DIV/0!"},{"$error":"#DIV/0!"},{"$error":"#DIV/0!"},{"$error":"#DIV/0!"},{"$error":"#DIV/0!"},{"$error":"#DIV/0!"},{"$error":"#DIV/0!"},{"$error":"#DIV/0!"},{"$error":"#DIV/0!"},{"$error":"#DIV/0!"}]
[]
[{"$f":"title164","v":"Financial parameters"}]
[null,{"$f":"title209","v":"Operating Year"},{"$f":"title230","v":"Appraisal"},1,2,3,4,5,6,7,8,9,10,11,12,13,14,15,16,17,18,19,20]
[null,{"$f":"title257","v":"Annual change in raw material cost (%)"},null,0,{"$f":"D74","v":0},{"$f":"E74","v":0},0,0,0,0,0,0,0,0,0,0,0,0,0,0,0,{"$f":"U74","v":0},{"$f":"V74","v":0}]
[null,{"$f":"title258","v":"Inflation rate (%)"},null,{"$f":"COST_RES3!J12","v":0},{"$f":"D75","v":0},0,0,0,0,0,0,0,0,0,0,0,0,0,0,0,0,{"$f":"U75","v":0},{"$f":"V75","v":0}]
[null,{"$f":"title165&\" (%)\"","v":"Discount rate (%)"},{"$f":"COST_RES3!J9","v":0}]
[null,{"$f":"title166&\" (%)\"","v":"Loan ratio (%)"},{"$f":"COST_RES3!J10","v":0}]
[]
[null,{"$f":"title259","v":"Loan without policy"},{"$f":"title230","v":"Appraisal"},1,2,3,4,5,6,7,8,9,10,11,12,13,14,15,16,17,18,19,20]
[null,{"$f":"title260","v":"Loan amount (USD)"},{"$f":"C77*(C34)","v":0}]
[null,{"$f":"title167&\" (%)\"","v":"Loan interest rate (%)"},{"$f":"COST_RES3!J11","v":0}]
[null,{"$f":"title261","v":"Loan term (years)"},{"$f":"COST_RES3!M9","v":0}]
[null,{"$f":"title262","v":"Loan payment (USD/month)"},{"$f":"(PMT($C$81/12,(12*$C$82),$C$80))","v":{"$error":"#NUM!"}}]
[null,{"$f":"title263","v":"Loan payment (USD/year)"},null,{"$f":"IF(D73<=$C$82,$C$83*12,0)","v":0},{"$f":"IF(E73<$C$82,$C$83*12,IF(E73=$C$82,$C$83*12,0))","v":0},{"$f":"IF(F73<$C$82,$C$83*12,IF(F73=$C$82,$C$83*12,0))","v":0},0,0,0,0,0,0,0,0,0,0,0,0,0,0,0,0,0]
[null,{"$f":"title264","v":"Total loan payment (USD)"},{"$f":"SUM(D84:W84)","v":0}]
[null,{"$f":"title265","v":"Loan interest payment (USD)"},{"$f":"C85+C80","v":0},{"$f":"title266","v":"Average loan interest payment for project lifetime"},null,null,{"$f":"C86/C25","v":0},{"$f":"title267","v":"USD per year"}]
[]
[{"$f":"title268","v":"Income tax analysis"}]
[null,{"$f":"title209","v":"Operating Year"},{"$f":"title230","v":"Appraisal"},1,2,3,4,5,6,7,8,9,10,11,12,13,14,15,16,17,18,19,20]
[null,{"$f":"title269","v":"Effective income tax rate (%)"},{"$f":"+'Data entry needs'!$AD$115","v":0},{"$f":"C90","v":0},{"$f":"D90","v":0},0,0,0,0,0,0,0,0,0,0,0,0,0,0,0,0,0,0]
[null,{"$f":"title270","v":"Income tax (USD)"},null,{"$f":"IF(D115<0,0,D90*D115)","v":{"$error":"#DIV/0!"}},{"$error":"#DIV/0!"},{"$error":"#DIV/0!"},{"$error":"#DIV/0!"},{"$error":"#DIV/0!"},{"$error":"#DIV/0!"},{"$error":"#DIV/0!"},{"$error":"#DIV/0!"},{"$error":"#DIV/0!"},{"$error":"#DIV/0!"},{"$error":"#DIV/0!"},{"$error":"#DIV/0!"},{"$error":"#DIV/0!"},{"$error":"#DIV/0!"},{"$error":"#DIV/0!"},{"$error":"#DIV/0!"},{"$error":"#DIV/0!"},{"$error":"#DIV/0!"},{"$error":"#DIV/0!"},{"$error":"#DIV/0!"}]
[null,{"$f":"title271","v":"Total income tax payment (USD)"},{"$f":"SUM(D91:W91)","v":{"$error":"#DIV/0!"}},{"$f":"title458","v":"Average income tax payment "},null,{"$f":"C92/C25","v":{"$error":"#DIV/0!"}},{"$f":"title267","v":"USD per year"}]
[]
[{"$f":"title272","v":"Depreciation"}]
[null,{"$f":"title209","v":"Operating Year"},{"$f":"title230","v":"Appraisal"},1,2,3,4,5,6,7,8,9,10,11,12,13,14,15,16,17,18,19,20]
[null,{"$f":"title273","v":"Depreciation method"},{"$f":"title275","v":"Straight-line"}]
[null,{"$f":"title274","v":"Total depreciation (USD)"},null,{"$f":"COST_RES3!M64","v":0},{"$f":"D97","v":0},{"$f":"E97","v":0},0,0,0,0,0,0,0,0,0,0,0,0,0,0,0,0,0]
[]
[{"$f":"title276","v":"Base case project summary"}]
[{"$f":"title277","v":"Summary of this project - Before Tax"}]
[null,{"$f":"title209","v":"Operating Year"},{"$f":"title230","v":"Appraisal"},1,2,3,4,5,6,7,8,9,10,11,12,13,14,15,16,17,18,19,20]
[null,{"$f":"title278","v":"Total revenue (USD)"},null,{"$f":"D15*1000*D18","v":0},{"$f":"E15*1000*E18","v":0},0,0,0,0,0,0,0,0,0,0,0,0,0,0,0,0,0,0]
[null,{"$f":"title228","v":"Total capital cost (USD)"},{"$f":"-(C34-C80)","v":0}]
[null,{"$f":"title279","v":"Total operating and maintenance cost (USD)"},null,{"$f":"-D69+D63","v":{"$error":"#DIV/0!"}},{"$error":"#DIV/0!"},{"$error":"#DIV/0!"},{"$error":"#DIV/0!"},{"$error":"#DIV/0!"},{"$error":"#DIV/0!"},{"$error":"#DIV/0!"},{"$error":"#DIV/0!"},{"$error":"#DIV/0!"},{"$error":"#DIV/0!"},{"$error":"#DIV/0!"},{"$error":"#DIV/0!"},{"$error":"#DIV/0!"},{"$error":"#DIV/0!"},{"$error":"#DIV/0!"},{"$error":"#DIV/0!"},{"$error":"#DIV/0!"},{"$error":"#DIV/0!"},{"$error":"#DIV/0!"},{"$error":"#DIV/0!"}]
[null,{"$f":"title280","v":"Loan payment (USD)"},null,{"$f":"D84","v":0},{"$f":"E84","v":0},0,0,0,0,0,0,0,0,0,0,0,0,0,0,0,0,0,0]
[null,{"$f":"title281","v":"Cash flow - before tax (USD)"},{"$f":"SUM(C102:C105)","v":0},{"$error":"#DIV/0!"},{"$error":"#DIV/0!"},{"$error":"#DIV/0!"},{"$error":"#DIV/0!"},{"$error":"#DIV/0!"},{"$error":"#DIV/0!"},{"$error":"#DIV/0!"},{"$error":"#DIV/0!"},{"$error":"#DIV/0!"},{"$error":"#DIV/0!"},{"$error":"#DIV/0!"},{"$error":"#DIV/0!"},{"$error":"#DIV/0!"},{"$error":"#DIV/0!"},{"$error":"#DIV/0!"},{"$error":"#DIV/0!"},{"$error":"#DIV/0!"},{"$error":"#DIV/0!"},{"$error":"#DIV/0!"},{"$error":"#DIV/0!"}]
[null,{"$f":"title282","v":"Average revenue (USD)"}]
[]
[{"$f":"title283","v":"Summary of this project - After Tax"}]
[null,{"$f":"title209","v":"Operating Year"},{"$f":"title230","v":"Appraisal"},1,2,3,4,5,6,7,8,9,10,11,12,13,14,15,16,17,18,19,20]
[null,{"$f":"B102","v":"Total revenue (USD)"},{"$f":"C102","v":0},{"$f":"D102","v":0},0,0,0,0,0,0,0,0,0,0,0,0,0,0,0,0,0,0,0]
[null,{"$f":"title279","v":"Total operating and maintenance cost (USD)"},null,{"$f":"-D69+D63","v":{"$error":"#DIV/0!"}},{"$error":"#DIV/0!"},{"$error":"#DIV/0!"},{"$error":"#DIV/0!"},{"$error":"#DIV/0!"},{"$error":"#DIV/0!"},{"$error":"#DIV/0!"},{"$error":"#DIV/0!"},{"$error":"#DIV/0!"},{"$error":"#DIV/0!"},{"$error":"#DIV/0!"},{"$error":"#DIV/0!"},{"$error":"#DIV/0!"},{"$error":"#DIV/0!"},{"$error":"#DIV/0!"},{"$error":"#DIV/0!"},{"$error":"#DIV/0!"},{"$error":"#DIV/0!"},{"$error":"#DIV/0!"},{"$error":"#DIV/0!"}]
[null,{"$f":"title280","v":"Loan payment (USD)"},null,{"$f":"$G$86","v":0},{"$f":"$G$86","v":0},0,0,0,0,0,0,0,0,0,0,0,0,0,0,0,0,0,0]
[null,{"$f":"title284","v":"Depreciation of fixed costs (USD)"},null,{"$f":"-D63","v":0},{"$f":"-E63","v":0},0,0,0,0,0,0,0,0,0,0,0,0,0,0,0,0,0,0]
[null,{"$f":"title285","v":"Net profit - before tax (USD) for income tax calculation"},{"$f":"SUM(C111:C114)","v":0},{"$f":"SUM(D111:D114)","v":{"$error":"#DIV/0!"}},{"$f":"SUM(E111:E114)","v":{"$error":"#DIV/0!"}},{"$error":"#DIV/0!"},{"$error":"#DIV/0!"},{"$error":"#DIV/0!"},{"$error":"#DIV/0!"},{"$error":"#DIV/0!"},{"$error":"#DIV/0!"},{"$error":"#DIV/0!"},{"$error":"#DIV/0!"},{"$error":"#DIV/0!"},{"$error":"#DIV/0!"},{"$error":"#DIV/0!"},{"$error":"#DIV/0!"},{"$error":"#DIV/0!"},{"$error":"#DIV/0!"},{"$error":"#DIV/0!"},{"$error":"#DIV/0!"},{"$error":"#DIV/0!"},{"$error":"#DIV/0!"}]
[null,{"$f":"title286","v":"Income tax"},null,{"$f":"IF(D115>0,-D91,0)","v":{"$error":"#DIV/0!"}},{"$error":"#DIV/0!"},{"$error":"#DIV/0!"},{"$error":"#DIV/0!"},{"$error":"#DIV/0!"},{"$error":"#DIV/0!"},{"$error":"#DIV/0!"},{"$error":"#DIV/0!"},{"$error":"#DIV/0!"},{"$error":"#DIV/0!"},{"$error":"#DIV/0!"},{"$error":"#DIV/0!"},{"$error":"#DIV/0!"},{"$error":"#DIV/0!"},{"$error":"#DIV/0!"},{"$error":"#DIV/0!"},{"$error":"#DIV/0!"},{"$error":"#DIV/0!"},{"$error":"#DIV/0!"},{"$error":"#DIV/0!"}]
[null,{"$f":"title287","v":"Cash flow - after tax (USD)"},{"$f":"C103","v":0},{"$f":"D106+D116","v":{"$error":"#DIV/0!"}},{"$f":"E106+E116","v":{"$error":"#DIV/0!"}},{"$error":"#DIV/0!"},{"$error":"#DIV/0!"},{"$error":"#DIV/0!"},{"$error":"#DIV/0!"},{"$error":"#DIV/0!"},{"$error":"#DIV/0!"},{"$error":"#DIV/0!"},{"$error":"#DIV/0!"},{"$error":"#DIV/0!"},{"$error":"#DIV/0!"},{"$error":"#DIV/0!"},{"$error":"#DIV/0!"},{"$error":"#DIV/0!"},{"$error":"#DIV/0!"},{"$error":"#DIV/0!"},{"$error":"#DIV/0!"},{"$error":"#DIV/0!"},{"$f":"W106+W116","v":{"$error":"#DIV/0!"}}]
[]
[{"$f":"title288","v":"Cumulative value of Net Profit"}]
[null,{"$f":"title209","v":"Operating Year"},{"$f":"title230","v":"Appraisal"},1,2,3,4,5,6,7,8,9,10,11,12,13,14,15,16,17,18,19,20]
[null,{"$f":"title289","v":"Cumulative value of net profit - before tax"},{"$f":"C106","v":0},{"$f":"C121+(D106)","v":{"$error":"#DIV/0!"}},{"$error":"#DIV/0!"},{"$error":"#DIV/0!"},{"$error":"#DIV/0!"},{"$error":"#DIV/0!"},{"$error":"#DIV/0!"},{"$error":"#DIV/0!"},{"$error":"#DIV/0!"},{"$error":"#DIV/0!"},{"$error":"#DIV/0!"},{"$error":"#DIV/0!"},{"$error":"#DIV/0!"},{"$error":"#DIV/0!"},{"$error":"#DIV/0!"},{"$error":"#DIV/0!"},{"$error":"#DIV/0!"},{"$error":"#DIV/0!"},{"$error":"#DIV/0!"},{"$error":"#DIV/0!"},{"$error":"#DIV/0!"}]
[null,{"$f":"title290","v":"Cumulative value of net profit - after tax"},{"$f":"C117","v":0},{"$f":"C122+(D117)","v":{"$error":"#DIV/0!"}},{"$error":"#DIV/0!"},{"$error":"#DIV/0!"},{"$error":"#DIV/0!"},{"$error":"#DIV/0!"},{"$error":"#DIV/0!"},{"$error":"#DIV/0!"},{"$error":"#DIV/0!"},{"$error":"#DIV/0!"},{"$error":"#DIV/0!"},{"$error":"#DIV/0!"},{"$error":"#DIV/0!"},{"$error":"#DIV/0!"},{"$error":"#DIV/0!"},{"$error":"#DIV/0!"},{"$error":"#DIV/0!"},{"$error":"#DIV/0!"},{"$error":"#DIV/0!"},{"$error":"#DIV/0!"},{"$error":"#DIV/0!"}]
[]
[{"$f":"title291","v":"Financial analysis results"}]
[]
[null,{"$f":"title292","v":"Net present value (NPV) (USD) - before tax"},{"$f":"NPV(C76,D106:W106)+C106","v":{"$error":"#DIV/0!"}}]
[null,{"$f":"title293","v":"Internal rate of return (IRR) (%) - before tax"},{"$f":"IF(C126<0,title459,IF(TIR_cell=title519,IRR(C106:W106,0.001),MIRR(C106:W106,C81,C76)))","v":{"$error":"#DIV/0!"}}]
[null,{"$f":"title294","v":"Payback period (years)"},{"$f":"title298","v":"Please see Figure of the cumulative value of net profit - before tax"}]
[]
[]
[null,{"$f":"title295","v":"Net present value (NPV) (USD) - after tax"},{"$f":"NPV(C76,D117:W117)+C117","v":{"$error":"#DIV/0!"}}]
[null,{"$f":"title296","v":"Internal rate of return (IRR) (%) - after tax"},{"$f":"IF(C131<0,title459,MIRR(C117:W117,C81,0%))","v":{"$error":"#DIV/0!"}}]
[null,{"$f":"title294","v":"Payback period (years)"},{"$f":"title299","v":"Please see Figure of the cumulative value of net profit - after tax"}]
[null,{"$f":"title297","v":"Total Income tax payment of project lifetime"},{"$f":"SUM(D116:W116)","v":{"$error":"#DIV/0!"}}]

{"sheet":"FA4_RURAL_RES4","index":46,"n_rows":133,"n_cols":23,"rows_kept":133,"cut":false,"hidden":true,"merged":[[1,1,1,13]]}
[]
[null,{"$f":"title207","v":" FINANCIAL ANALYSIS OF BIOMASS BRIQUETTING 4 KG/HOUR"}]
[]
[{"$f":"title208","v":"Revenues of biomass briquetting system"}]
[null,{"$f":"title209","v":"Operating Year"},0,1,2,3,4,5,6,7,8,9,10,11,12,13,14,15,16,17,18,19,20]
[]
[null,{"$f":"title210","v":"Briquette production capacity (tons per year)"},{"$f":"COST_RES4!$F$29","v":0},{"$f":"C7","v":0},{"$f":"D7","v":0},0,0,0,0,0,0,0,0,0,0,0,0,0,0,0,0,0,0]
[]
[null,{"$f":"title211","v":"Efficiency % of briquetting machine"},{"$f":"COST_RES4!$G$12","v":0},{"$f":"C9","v":0},{"$f":"D9","v":0},0,0,0,0,0,0,0,0,0,0,0,0,0,0,0,0,0,0]
[]
[null,{"$f":"title212","v":"Operating hours per year"},{"$f":"COST_RES4!$G$28","v":0},{"$f":"+C11","v":0},{"$f":"D11","v":0},0,0,0,0,0,0,0,0,0,0,0,0,0,0,0,0,0,0]
[null,{"$f":"title213","v":"Capacity utilization factor"},{"$f":"C$11/8760","v":0},{"$f":"D$11/8760","v":0},{"$f":"E$11/8760","v":0},0,0,0,0,0,0,0,0,0,0,0,0,0,0,0,0,0,0]
[]
[null,{"$f":"title214","v":"Briquette production (tons per year)"},{"$f":"C$7","v":0},{"$f":"D$7","v":0},0,0,0,0,0,0,0,0,0,0,0,0,0,0,0,0,0,0,0]
[null,{"$f":"title215","v":"Total briquette sell to customers (tons per year)"},{"$f":"SUM(C14:C14)","v":0},{"$f":"SUM(D14:D14)","v":0},0,0,0,0,0,0,0,0,0,0,0,0,0,0,0,0,0,0,0]
[]
[null,{"$f":"title216","v":"Price of briquette (USD/kg)"},{"$f":"SUM(C18:C18)","v":0},0,0,0,0,0,0,0,0,0,0,0,0,0,0,0,0,0,0,0,0]
[null,{"$f":"title217","v":"Market price of briquette pay by consumers (USD/kg)"},{"$f":"+'Energy Demand'!E20","v":0},{"$f":"C18*(1+D19)","v":0},0,0,0,0,0,0,0,0,0,0,0,0,0,0,0,0,0,0,0]
[null,{"$f":"title218","v":"Increasing rate of price of briquette (%)"},{"$f":"+'Data entry needs'!$AD$114","v":0},{"$f":"C19","v":0},{"$f":"D19","v":0},0,0,0,0,0,0,0,0,0,0,0,0,0,0,0,0,0,0]
[]
[null,{"$f":"title219","v":"Total income of briquette (USD per year)"},{"$f":"C15*C18*1000","v":0},{"$f":"D15*D18*1000","v":0},0,0,0,0,0,0,0,0,0,0,0,0,0,0,0,0,0,0,0]
[]
[null,{"$f":"title220","v":"Lifespan of civil work (years)"},{"$f":"COST_RES4!$E$61","v":10}]
[null,{"$f":"title221","v":"Lifespan of briquette system (years)"},{"$f":"COST_RES4!$E$60","v":10}]
[null,{"$f":"title222","v":"Project life time (years)"},20]
[]
[{"$f":"title223","v":"Capital and operating cost of biomass briquette system "}]
[null,null,{"$f":"title230","v":"Appraisal"},{"$f":"title231","v":"Project lifetime"},{"$f":"title232","v":"Investment per year"}]
[null,{"$f":"title224","v":"Direct capital cost (USD)"}]
[null,{"$f":"title225","v":"Equipments"},{"$f":"D30*E30","v":0},{"$f":"$C$25","v":20},{"$f":"COST_RES4!F60/20","v":0}]
[null,{"$f":"title226","v":"Building"},{"$f":"D31*E31","v":0},{"$f":"$C$25","v":20},{"$f":"COST_RES4!F61/20","v":0}]
[null,{"$f":"title227","v":"Installation"},{"$f":"D32*E32","v":0},{"$f":"$C$25","v":20},{"$f":"COST_RES4!F62/20","v":0}]
[null,{"$f":"title228","v":"Total capital cost (USD)"},{"$f":"SUM(C30:C32)","v":0},null,{"$f":"SUM(E30:E32)","v":0}]
[null,{"$f":"title229","v":"Capital cost (USD/kg of briquette)"},{"$f":"C33/(C14*1000*C25)","v":{"$error":"#DIV/0!"}},null,{"$f":"SUM(E31:E33)","v":0}]
[]
[]
[null,{"$f":"title209","v":"Operating Year"},{"$f":"title230","v":"Appraisal"},1,2,3,4,5,6,7,8,9,10,11,12,13,14,15,16,17,18,19,20]
[null,{"$f":"title233","v":"Annual operating and maintenance cost "}]
[null,{"$f":"title234","v":"Sub-total material cost (USD)"},{"$f":"C40+C48+C50+C53","v":{"$error":"#DIV/0!"}},{"$f":"D40+D48+D50+D53","v":{"$error":"#DIV/0!"}},{"$error":"#DIV/0!"},{"$error":"#DIV/0!"},{"$error":"#DIV/0!"},{"$error":"#DIV/0!"},{"$error":"#DIV/0!"},{"$error":"#DIV/0!"},{"$error":"#DIV/0!"},{"$error":"#DIV/0!"},{"$error":"#DIV/0!"},{"$error":"#DIV/0!"},{"$error":"#DIV/0!"},{"$error":"#DIV/0!"},{"$error":"#DIV/0!"},{"$error":"#DIV/0!"},{"$error":"#DIV/0!"},{"$error":"#DIV/0!"},{"$error":"#DIV/0!"},{"$error":"#DIV/0!"},{"$error":"#DIV/0!"}]
[null,{"$f":"title235","v":"Biomass cost (USD/year)"},{"$f":"C41*C42","v":{"$error":"#DIV/0!"}},{"$f":"D41*D42","v":{"$error":"#DIV/0!"}},{"$error":"#DIV/0!"},{"$error":"#DIV/0!"},{"$error":"#DIV/0!"},{"$error":"#DIV/0!"},{"$error":"#DIV/0!"},{"$error":"#DIV/0!"},{"$error":"#DIV/0!"},{"$error":"#DIV/0!"},{"$error":"#DIV/0!"},{"$error":"#DIV/0!"},{"$error":"#DIV/0!"},{"$error":"#DIV/0!"},{"$error":"#DIV/0!"},{"$error":"#DIV/0!"},{"$error":"#DIV/0!"},{"$error":"#DIV/0!"},{"$error":"#DIV/0!"},{"$error":"#DIV/0!"},{"$error":"#DIV/0!"}]
[null,{"$f":"title236","v":"Biomass consumption (ton per year)"},{"$f":"C14/COST_RES4!$G$12","v":{"$error":"#DIV/0!"}},{"$f":"D14/COST_RES4!$G$12","v":{"$error":"#DIV/0!"}},{"$f":"E14/COST_RES4!$G$12","v":{"$error":"#DIV/0!"}},{"$f":"F14/COST_RES4!$G$12","v":{"$error":"#DIV/0!"}},{"$f":"G14/COST_RES4!$G$12","v":{"$error":"#DIV/0!"}},{"$f":"H14/COST_RES4!$G$12","v":{"$error":"#DIV/0!"}},{"$f":"I14/COST_RES4!$G$12","v":{"$error":"#DIV/0!"}},{"$f":"J14/COST_RES4!$G$12","v":{"$error":"#DIV/0!"}},{"$f":"K14/COST_RES4!$G$12","v":{"$error":"#DIV/0!"}},{"$f":"L14/COST_RES4!$G$12","v":{"$error":"#DIV/0!"}},{"$f":"M14/COST_RES4!$G$12","v":{"$error":"#DIV/0!"}},{"$f":"N14/COST_RES4!$G$12","v":{"$error":"#DIV/0!"}},{"$f":"O14/COST_RES4!$G$12","v":{"$error":"#DIV/0!"}},{"$f":"P14/COST_RES4!$G$12","v":{"$error":"#DIV/0!"}},{"$f":"Q14/COST_RES4!$G$12","v":{"$error":"#DIV/0!"}},{"$f":"R14/COST_RES4!$G$12","v":{"$error":"#DIV/0!"}},{"$f":"S14/COST_RES4!$G$12","v":{"$error":"#DIV/0!"}},{"$f":"T14/COST_RES4!$G$12","v":{"$error":"#DIV/0!"}},{"$f":"U14/COST_RES4!$G$12","v":{"$error":"#DIV/0!"}},{"$f":"V14/COST_RES4!$G$12","v":{"$error":"#DIV/0!"}},{"$f":"W14/COST_RES4!$G$12","v":{"$error":"#DIV/0!"}}]
[null,{"$f":"title237","v":"Biomass price (USD/ton)"},{"$f":"SUM(C43:C44)","v":0},{"$f":"SUM(D43:D44)","v":0},0,0,0,0,0,0,0,0,0,0,0,0,0,0,0,0,0,0,0]
[null,{"$f":"title238","v":"Biomass cost of collection (USD/ton)"},{"$f":"COST_RES4!E33","v":0},{"$f":"C43*(1+D73+D74)","v":0},{"$f":"D43*(1+E73+E74)","v":0},0,0,0,0,0,0,0,0,0,0,0,0,0,0,0,0,0,0]
[null,{"$f":"title239","v":"Biomass transportation cost (USD/ton)"},{"$f":"C45*C46","v":0},{"$f":"D45*D46","v":0},0,0,0,0,0,0,0,0,0,0,0,0,0,0,0,0,0,0,0]
[null,{"$f":"title240","v":"Biomass from farm to plant (USD/ton/km)"},{"$f":"COST_RES4!E48","v":0},{"$f":"C45*(1+D73+D74)","v":0},{"$f":"D45*(1+E73+E74)","v":0},0,0,0,0,0,0,0,0,0,0,0,0,0,0,0,0,0,0]
[null,{"$f":"title241","v":"Transportation distant (km)"},{"$f":"COST_RES4!F48","v":0},{"$f":"C46","v":0},{"$f":"D46","v":0},0,0,0,0,0,0,0,0,0,0,0,0,0,0,0,0,0,0]
[]
[null,{"$f":"title246","v":"Water cost (USD/year)"},{"$f":"COST_RES4!G35","v":0},{"$f":"C48*(1+D73+D74)","v":0},{"$f":"D48*(1+E73+E74)","v":0},0,0,0,0,0,0,0,0,0,0,0,0,0,0,0,0,0,0]
[]
[null,{"$f":"title242","v":"Chemical cost (USD/year)"},{"$f":"C51*C52","v":0},{"$f":"D51*D52","v":0},0,0,0,0,0,0,0,0,0,0,0,0,0,0,0,0,0,0,0]
[null,{"$f":"title243","v":"Chemical consumption (tons per year)"},{"$f":"+COST_RES4!$F$34","v":0},{"$f":"+COST_RES4!$F$34","v":0},{"$f":"+COST_RES4!$F$34","v":0},{"$f":"+COST_RES4!$F$34","v":0},{"$f":"+COST_RES4!$F$34","v":0},{"$f":"+COST_RES4!$F$34","v":0},{"$f":"+COST_RES4!$F$34","v":0},{"$f":"+COST_RES4!$F$34","v":0},{"$f":"+COST_RES4!$F$34","v":0},{"$f":"+COST_RES4!$F$34","v":0},{"$f":"+COST_RES4!$F$34","v":0},{"$f":"+COST_RES4!$F$34","v":0},{"$f":"+COST_RES4!$F$34","v":0},{"$f":"+COST_RES4!$F$34","v":0},{"$f":"+COST_RES4!$F$34","v":0},{"$f":"+COST_RES4!$F$34","v":0},{"$f":"+COST_RES4!$F$34","v":0},{"$f":"+COST_RES4!$F$34","v":0},{"$f":"+COST_RES4!$F$34","v":0},{"$f":"+COST_RES4!$F$34","v":0},{"$f":"+COST_RES4!$F$34","v":0}]
[null,{"$f":"title244","v":"Chemical price (USD/ton)"},{"$f":"+'Data entry needs'!$G$20","v":0},{"$f":"C52","v":0},{"$f":"D52","v":0},0,0,0,0,0,0,0,0,0,0,0,0,0,0,0,0,0,0]
[null,{"$f":"title245","v":"Electricity cost (USD)"},{"$f":"COST_RES4!G36","v":0},{"$f":"C53*(1+D73+D74)","v":0},{"$f":"D53*(1+E73+E74)","v":0},0,0,0,0,0,0,0,0,0,0,0,0,0,0,0,0,0,0]
[]
[null,{"$f":"title247","v":"Sub-total operating cost (USD)"},{"$f":"C56+C58+C59","v":{"$error":"#DIV/0!"}},{"$f":"D56+D58+D59","v":{"$error":"#DIV/0!"}},{"$error":"#DIV/0!"},{"$error":"#DIV/0!"},{"$error":"#DIV/0!"},{"$error":"#DIV/0!"},{"$error":"#DIV/0!"},{"$error":"#DIV/0!"},{"$error":"#DIV/0!"},{"$error":"#DIV/0!"},{"$error":"#DIV/0!"},{"$error":"#DIV/0!"},{"$error":"#DIV/0!"},{"$error":"#DIV/0!"},{"$error":"#DIV/0!"},{"$error":"#DIV/0!"},{"$error":"#DIV/0!"},{"$error":"#DIV/0!"},{"$error":"#DIV/0!"},{"$error":"#DIV/0!"},{"$error":"#DIV/0!"}]
[null,{"$f":"title248","v":"Labour cost (USD)"},{"$f":"COST_RES4!G44","v":0},{"$f":"C56*(1+D57)","v":0},0,0,0,0,0,0,0,0,0,0,0,0,0,0,0,0,0,0,0]
[null,{"$f":"title249","v":"Annual change in labour cost (%)"},null,{"$f":"COST_RES4!M12","v":0},{"$f":"D57","v":0},{"$f":"E57","v":0},0,0,0,0,0,0,0,0,0,0,0,0,0,0,0,{"$f":"U57","v":0},0]
[null,{"$f":"title249","v":"Annual change in labour cost (%)"},{"$f":"COST_RES4!G70","v":0},{"$f":"C58","v":0},{"$f":"D58","v":0},0,0,0,0,0,0,0,0,0,0,0,0,0,0,0,0,0,0]
[null,{"$f":"title250","v":"General and administrative cost"},{"$f":"COST_RES4!G71","v":{"$error":"#DIV/0!"}},{"$f":"C59","v":{"$error":"#DIV/0!"}},{"$error":"#DIV/0!"},{"$error":"#DIV/0!"},{"$error":"#DIV/0!"},{"$error":"#DIV/0!"},{"$error":"#DIV/0!"},{"$error":"#DIV/0!"},{"$error":"#DIV/0!"},{"$error":"#DIV/0!"},{"$error":"#DIV/0!"},{"$error":"#DIV/0!"},{"$error":"#DIV/0!"},{"$error":"#DIV/0!"},{"$error":"#DIV/0!"},{"$error":"#DIV/0!"},{"$error":"#DIV/0!"},{"$error":"#DIV/0!"},{"$error":"#DIV/0!"},{"$error":"#DIV/0!"},{"$error":"#DIV/0!"}]
[null,{"$f":"title251","v":"Sub-total maintenance cost (USD)"},{"$f":"COST_RES4!G65","v":0},{"$f":"C60","v":0},0,0,0,0,0,0,0,0,0,0,0,0,0,0,0,0,0,0,0]
[]
[null,{"$f":"title252","v":"Sub-total of annual fixed costs"},{"$f":"+E33","v":0},{"$f":"C62","v":0},{"$f":"D62","v":0},0,0,0,0,0,0,0,0,0,0,0,0,0,0,0,0,0,0]
[]
[null,{"$f":"title253","v":"Sub-total of storage capacity"},{"$f":"COST_RES4!G56","v":{"$error":"#DIV/0!"}},{"$f":"C64","v":{"$error":"#DIV/0!"}},{"$f":"D64","v":{"$error":"#DIV/0!"}},{"$error":"#DIV/0!"},{"$error":"#DIV/0!"},{"$error":"#DIV/0!"},{"$error":"#DIV/0!"},{"$error":"#DIV/0!"},{"$error":"#DIV/0!"},{"$error":"#DIV/0!"},{"$error":"#DIV/0!"},{"$error":"#DIV/0!"},{"$error":"#DIV/0!"},{"$error":"#DIV/0!"},{"$error":"#DIV/0!"},{"$error":"#DIV/0!"},{"$error":"#DIV/0!"},{"$error":"#DIV/0!"},{"$error":"#DIV/0!"},{"$error":"#DIV/0!"},{"$error":"#DIV/0!"}]
[]
[null,{"$f":"title254","v":"Sub-total of briquette transportation to market"},{"$f":"COST_RES4!G49","v":0},{"$f":"C66*(1+D73+D74)","v":0},{"$f":"D66*(1+E73+E74)","v":0},0,0,0,0,0,0,0,0,0,0,0,0,0,0,0,0,0,0]
[]
[null,{"$f":"title255","v":"Total operation and maintenance cost (USD)"},{"$f":"C39+C55+C60+C62+C64+C66","v":{"$error":"#DIV/0!"}},{"$f":"D39+D55+D60+D62+D64+D66","v":{"$error":"#DIV/0!"}},{"$error":"#DIV/0!"},{"$error":"#DIV/0!"},{"$error":"#DIV/0!"},{"$error":"#DIV/0!"},{"$error":"#DIV/0!"},{"$error":"#DIV/0!"},{"$error":"#DIV/0!"},{"$error":"#DIV/0!"},{"$error":"#DIV/0!"},{"$error":"#DIV/0!"},{"$error":"#DIV/0!"},{"$error":"#DIV/0!"},{"$error":"#DIV/0!"},{"$error":"#DIV/0!"},{"$error":"#DIV/0!"},{"$error":"#DIV/0!"},{"$error":"#DIV/0!"},{"$error":"#DIV/0!"},{"$error":"#DIV/0!"}]
[null,{"$f":"title256","v":"Operation and maintenance cost (USD/kg of briquette) without loan interest"},{"$f":"C68/(C14*1000)","v":{"$error":"#DIV/0!"}},{"$error":"#DIV/0!"},{"$error":"#DIV/0!"},{"$error":"#DIV/0!"},{"$error":"#DIV/0!"},{"$error":"#DIV/0!"},{"$error":"#DIV/0!"},{"$error":"#DIV/0!"},{"$error":"#DIV/0!"},{"$error":"#DIV/0!"},{"$error":"#DIV/0!"},{"$error":"#DIV/0!"},{"$error":"#DIV/0!"},{"$error":"#DIV/0!"},{"$error":"#DIV/0!"},{"$error":"#DIV/0!"},{"$error":"#DIV/0!"},{"$error":"#DIV/0!"},{"$error":"#DIV/0!"},{"$error":"#DIV/0!"},{"$error":"#DIV/0!"}]
[]
[{"$f":"title164","v":"Financial parameters"}]
[null,{"$f":"title209","v":"Operating Year"},{"$f":"title230","v":"Appraisal"},1,2,3,4,5,6,7,8,9,10,11,12,13,14,15,16,17,18,19,20]
[null,{"$f":"title257","v":"Annual change in raw material cost (%)"},null,0,{"$f":"D73","v":0},{"$f":"E73","v":0},0,0,0,0,0,0,0,0,0,0,0,0,0,0,0,{"$f":"U73","v":0},{"$f":"V73","v":0}]
[null,{"$f":"title258","v":"Inflation rate (%)"},null,{"$f":"COST_RES4!J12","v":0},{"$f":"D74","v":0},0,0,0,0,0,0,0,0,0,0,0,0,0,0,0,0,{"$f":"U74","v":0},{"$f":"V74","v":0}]
[null,{"$f":"title165&\" (%)\"","v":"Discount rate (%)"},{"$f":"COST_RES4!J9","v":0}]
[null,{"$f":"title166&\" (%)\"","v":"Loan ratio (%)"},{"$f":"COST_RES4!J10","v":0}]
[]
[null,{"$f":"title259","v":"Loan without policy"},{"$f":"title230","v":"Appraisal"},1,2,3,4,5,6,7,8,9,10,11,12,13,14,15,16,17,18,19,20]
[null,{"$f":"title260","v":"Loan amount (USD)"},{"$f":"C76*(C33)","v":0}]
[null,{"$f":"title167&\" (%)\"","v":"Loan interest rate (%)"},{"$f":"COST_RES4!J11","v":0}]
[null,{"$f":"title261","v":"Loan term (years)"},{"$f":"COST_RES4!M9","v":0}]
[null,{"$f":"title262","v":"Loan payment (USD/month)"},{"$f":"(PMT($C$80/12,(12*$C$81),$C$79))","v":{"$error":"#NUM!"}}]
[null,{"$f":"title263","v":"Loan payment (USD/year)"},null,{"$f":"IF(D72<=$C$81,$C$82*12,0)","v":0},{"$f":"IF(E72<$C$81,$C$82*12,IF(E72=$C$81,$C$82*12,0))","v":0},{"$f":"IF(F72<$C$81,$C$82*12,IF(F72=$C$81,$C$82*12,0))","v":0},0,0,0,0,0,0,0,0,0,0,0,0,0,0,0,0,0]
[null,{"$f":"title264","v":"Total loan payment (USD)"},{"$f":"SUM(D83:W83)","v":0}]
[null,{"$f":"title265","v":"Loan interest payment (USD)"},{"$f":"C84+C79","v":0},{"$f":"title266","v":"Average loan interest payment for project lifetime"},null,null,{"$f":"C85/C25","v":0},{"$f":"title267","v":"USD per year"}]
[]
[{"$f":"title268","v":"Income tax analysis"}]
[null,{"$f":"title209","v":"Operating Year"},{"$f":"title230","v":"Appraisal"},1,2,3,4,5,6,7,8,9,10,11,12,13,14,15,16,17,18,19,20]
[null,{"$f":"title269","v":"Effective income tax rate (%)"},{"$f":"+'Data entry needs'!$AD$115","v":0},{"$f":"C89","v":0},{"$f":"D89","v":0},0,0,0,0,0,0,0,0,0,0,0,0,0,0,0,0,0,0]
[null,{"$f":"title270","v":"Income tax (USD)"},null,{"$f":"IF(D114<0,0,D89*D114)","v":{"$error":"#DIV/0!"}},{"$error":"#DIV/0!"},{"$error":"#DIV/0!"},{"$error":"#DIV/0!"},{"$error":"#DIV/0!"},{"$error":"#DIV/0!"},{"$error":"#DIV/0!"},{"$error":"#DIV/0!"},{"$error":"#DIV/0!"},{"$error":"#DIV/0!"},{"$error":"#DIV/0!"},{"$error":"#DIV/0!"},{"$error":"#DIV/0!"},{"$error":"#DIV/0!"},{"$error":"#DIV/0!"},{"$error":"#DIV/0!"},{"$error":"#DIV/0!"},{"$error":"#DIV/0!"},{"$error":"#DIV/0!"},{"$error":"#DIV/0!"}]
[null,{"$f":"title271","v":"Total income tax payment (USD)"},{"$f":"SUM(D90:W90)","v":{"$error":"#DIV/0!"}},{"$f":"title458","v":"Average income tax payment "},null,{"$f":"C91/C25","v":{"$error":"#DIV/0!"}},{"$f":"title267","v":"USD per year"}]
[]
[{"$f":"title272","v":"Depreciation"}]
[null,{"$f":"title209","v":"Operating Year"},{"$f":"title230","v":"Appraisal"},1,2,3,4,5,6,7,8,9,10,11,12,13,14,15,16,17,18,19,20]
[null,{"$f":"title273","v":"Depreciation method"},{"$f":"title275","v":"Straight-line"}]
[null,{"$f":"title274","v":"Total depreciation (USD)"},null,{"$f":"COST_RES4!G64","v":0},{"$f":"D96","v":0},{"$f":"E96","v":0},0,0,0,0,0,0,0,0,0,0,0,0,0,0,0,0,0]
[]
[{"$f":"title276","v":"Base case project summary"}]
[{"$f":"title277","v":"Summary of this project - Before Tax"}]
[null,{"$f":"title209","v":"Operating Year"},{"$f":"title230","v":"Appraisal"},1,2,3,4,5,6,7,8,9,10,11,12,13,14,15,16,17,18,19,20]
[null,{"$f":"title278","v":"Total revenue (USD)"},null,{"$f":"D15*1000*D18","v":0},{"$f":"E15*1000*E18","v":0},0,0,0,0,0,0,0,0,0,0,0,0,0,0,0,0,0,0]
[null,{"$f":"title228","v":"Total capital cost (USD)"},{"$f":"-(C33-C79)","v":0}]
[null,{"$f":"title279","v":"Total operating and maintenance cost (USD)"},null,{"$f":"-D68+D62","v":{"$error":"#DIV/0!"}},{"$error":"#DIV/0!"},{"$error":"#DIV/0!"},{"$error":"#DIV/0!"},{"$error":"#DIV/0!"},{"$error":"#DIV/0!"},{"$error":"#DIV/0!"},{"$error":"#DIV/0!"},{"$error":"#DIV/0!"},{"$error":"#DIV/0!"},{"$error":"#DIV/0!"},{"$error":"#DIV/0!"},{"$error":"#DIV/0!"},{"$error":"#DIV/0!"},{"$error":"#DIV/0!"},{"$error":"#DIV/0!"},{"$error":"#DIV/0!"},{"$error":"#DIV/0!"},{"$error":"#DIV/0!"},{"$error":"#DIV/0!"}]
[null,{"$f":"title280","v":"Loan payment (USD)"},null,{"$f":"D83","v":0},{"$f":"E83","v":0},0,0,0,0,0,0,0,0,0,0,0,0,0,0,0,0,0,0]
[null,{"$f":"title281","v":"Cash flow - before tax (USD)"},{"$f":"SUM(C101:C104)","v":0},{"$error":"#DIV/0!"},{"$error":"#DIV/0!"},{"$error":"#DIV/0!"},{"$error":"#DIV/0!"},{"$error":"#DIV/0!"},{"$error":"#DIV/0!"},{"$error":"#DIV/0!"},{"$error":"#DIV/0!"},{"$error":"#DIV/0!"},{"$error":"#DIV/0!"},{"$error":"#DIV/0!"},{"$error":"#DIV/0!"},{"$error":"#DIV/0!"},{"$error":"#DIV/0!"},{"$error":"#DIV/0!"},{"$error":"#DIV/0!"},{"$error":"#DIV/0!"},{"$error":"#DIV/0!"},{"$error":"#DIV/0!"},{"$error":"#DIV/0!"}]
[null,{"$f":"title282","v":"Average revenue (USD)"}]
[]
[{"$f":"title283","v":"Summary of this project - After Tax"}]
[null,{"$f":"title209","v":"Operating Year"},{"$f":"title230","v":"Appraisal"},1,2,3,4,5,6,7,8,9,10,11,12,13,14,15,16,17,18,19,20]
[null,{"$f":"B101","v":"Total revenue (USD)"},{"$f":"C101","v":0},{"$f":"D101","v":0},{"$f":"E101","v":0},0,0,0,0,0,0,0,0,0,0,0,0,0,0,0,0,0,0]
[null,{"$f":"title279","v":"Total operating and maintenance cost (USD)"},null,{"$f":"-D68+D62","v":{"$error":"#DIV/0!"}},{"$error":"#DIV/0!"},{"$error":"#DIV/0!"},{"$error":"#DIV/0!"},{"$error":"#DIV/0!"},{"$error":"#DIV/0!"},{"$error":"#DIV/0!"},{"$error":"#DIV/0!"},{"$error":"#DIV/0!"},{"$error":"#DIV/0!"},{"$error":"#DIV/0!"},{"$error":"#DIV/0!"},{"$error":"#DIV/0!"},{"$error":"#DIV/0!"},{"$error":"#DIV/0!"},{"$error":"#DIV/0!"},{"$error":"#DIV/0!"},{"$error":"#DIV/0!"},{"$error":"#DIV/0!"},{"$error":"#DIV/0!"}]
[null,{"$f":"title280","v":"Loan payment (USD)"},null,{"$f":"$G$85","v":0},{"$f":"$G$85","v":0},0,0,0,0,0,0,0,0,0,0,0,0,0,0,0,0,0,0]
[null,{"$f":"title284","v":"Depreciation of fixed costs (USD)"},null,{"$f":"-D62","v":0},{"$f":"-E62","v":0},0,0,0,0,0,0,0,0,0,0,0,0,0,0,0,0,0,0]
[null,{"$f":"title285","v":"Net profit - before tax (USD) for income tax calculation"},{"$f":"SUM(C110:C113)","v":0},{"$f":"SUM(D110:D113)","v":{"$error":"#DIV/0!"}},{"$f":"SUM(E110:E113)","v":{"$error":"#DIV/0!"}},{"$error":"#DIV/0!"},{"$error":"#DIV/0!"},{"$error":"#DIV/0!"},{"$error":"#DIV/0!"},{"$error":"#DIV/0!"},{"$error":"#DIV/0!"},{"$error":"#DIV/0!"},{"$error":"#DIV/0!"},{"$error":"#DIV/0!"},{"$error":"#DIV/0!"},{"$error":"#DIV/0!"},{"$error":"#DIV/0!"},{"$error":"#DIV/0!"},{"$error":"#DIV/0!"},{"$error":"#DIV/0!"},{"$error":"#DIV/0!"},{"$error":"#DIV/0!"},{"$error":"#DIV/0!"}]
[null,{"$f":"title286","v":"Income tax"},null,{"$f":"IF(D114>0,-D90,0)","v":{"$error":"#DIV/0!"}},{"$error":"#DIV/0!"},{"$error":"#DIV/0!"},{"$error":"#DIV/0!"},{"$error":"#DIV/0!"},{"$error":"#DIV/0!"},{"$error":"#DIV/0!"},{"$error":"#DIV/0!"},{"$error":"#DIV/0!"},{"$error":"#DIV/0!"},{"$error":"#DIV/0!"},{"$error":"#DIV/0!"},{"$error":"#DIV/0!"},{"$error":"#DIV/0!"},{"$error":"#DIV/0!"},{"$error":"#DIV/0!"},{"$error":"#DIV/0!"},{"$error":"#DIV/0!"},{"$error":"#DIV/0!"},{"$error":"#DIV/0!"}]
[null,{"$f":"title287","v":"Cash flow - after tax (USD)"},{"$f":"C102","v":0},{"$f":"D105+D115","v":{"$error":"#DIV/0!"}},{"$f":"E105+E115","v":{"$error":"#DIV/0!"}},{"$error":"#DIV/0!"},{"$error":"#DIV/0!"},{"$error":"#DIV/0!"},{"$error":"#DIV/0!"},{"$error":"#DIV/0!"},{"$error":"#DIV/0!"},{"$error":"#DIV/0!"},{"$error":"#DIV/0!"},{"$error":"#DIV/0!"},{"$error":"#DIV/0!"},{"$error":"#DIV/0!"},{"$error":"#DIV/0!"},{"$error":"#DIV/0!"},{"$error":"#DIV/0!"},{"$error":"#DIV/0!"},{"$error":"#DIV/0!"},{"$error":"#DIV/0!"},{"$f":"W105+W115","v":{"$error":"#DIV/0!"}}]
[]
[{"$f":"title288","v":"Cumulative value of Net Profit"}]
[null,{"$f":"title209","v":"Operating Year"},{"$f":"title230","v":"Appraisal"},1,2,3,4,5,6,7,8,9,10,11,12,13,14,15,16,17,18,19,20]
[null,{"$f":"title289","v":"Cumulative value of net profit - before tax"},{"$f":"C105","v":0},{"$f":"C120+(D105)","v":{"$error":"#DIV/0!"}},{"$error":"#DIV/0!"},{"$error":"#DIV/0!"},{"$error":"#DIV/0!"},{"$error":"#DIV/0!"},{"$error":"#DIV/0!"},{"$error":"#DIV/0!"},{"$error":"#DIV/0!"},{"$error":"#DIV/0!"},{"$error":"#DIV/0!"},{"$error":"#DIV/0!"},{"$error":"#DIV/0!"},{"$error":"#DIV/0!"},{"$error":"#DIV/0!"},{"$error":"#DIV/0!"},{"$error":"#DIV/0!"},{"$error":"#DIV/0!"},{"$error":"#DIV/0!"},{"$error":"#DIV/0!"},{"$error":"#DIV/0!"}]
[null,{"$f":"title290","v":"Cumulative value of net profit - after tax"},{"$f":"C116","v":0},{"$f":"C121+(D116)","v":{"$error":"#DIV/0!"}},{"$error":"#DIV/0!"},{"$error":"#DIV/0!"},{"$error":"#DIV/0!"},{"$error":"#DIV/0!"},{"$error":"#DIV/0!"},{"$error":"#DIV/0!"},{"$error":"#DIV/0!"},{"$error":"#DIV/0!"},{"$error":"#DIV/0!"},{"$error":"#DIV/0!"},{"$error":"#DIV/0!"},{"$error":"#DIV/0!"},{"$error":"#DIV/0!"},{"$error":"#DIV/0!"},{"$error":"#DIV/0!"},{"$error":"#DIV/0!"},{"$error":"#DIV/0!"},{"$error":"#DIV/0!"},{"$error":"#DIV/0!"}]
[]
[{"$f":"title291","v":"Financial analysis results"}]
[]
[null,{"$f":"title292","v":"Net present value (NPV) (USD) - before tax"},{"$f":"NPV(C75,D105:W105)+C105","v":{"$error":"#DIV/0!"}}]
[null,{"$f":"title293","v":"Internal rate of return (IRR) (%) - before tax"},{"$f":"IF(C125<0,title459,IF(TIR_cell=title519,IRR(C105:W105,0.001),MIRR(C105:W105,C80,C75)))","v":{"$error":"#DIV/0!"}}]
[null,{"$f":"title294","v":"Payback period (years)"},{"$f":"title298","v":"Please see Figure of the cumulative value of net profit - before tax"}]
[]
[]
[null,{"$f":"title295","v":"Net present value (NPV) (USD) - after tax"},{"$f":"NPV(C75,D116:W116)+C116","v":{"$error":"#DIV/0!"}}]
[null,{"$f":"title296","v":"Internal rate of return (IRR) (%) - after tax"},{"$f":"IF(C130<0,title459,MIRR(C116:W116,$C$80,0%))","v":{"$error":"#DIV/0!"}}]
[null,{"$f":"title294","v":"Payback period (years)"},{"$f":"title299","v":"Please see Figure of the cumulative value of net profit - after tax"}]
[null,{"$f":"title297","v":"Total Income tax payment of project lifetime"},{"$f":"SUM(D115:W115)","v":{"$error":"#DIV/0!"}}]

{"sheet":"FA40_RURAL_RES4","index":47,"n_rows":133,"n_cols":23,"rows_kept":133,"cut":false,"hidden":true,"merged":[[1,1,1,13]]}
[]
[null,{"$f":"title300","v":"FINANCIAL ANALYSIS OF BIOMASS BRIQUETTING 40 KG/HOUR"}]
[]
[{"$f":"title208","v":"Revenues of biomass briquetting system"}]
[null,{"$f":"title209","v":"Operating Year"},0,1,2,3,4,5,6,7,8,9,10,11,12,13,14,15,16,17,18,19,20]
[]
[null,{"$f":"title210","v":"Briquette production capacity (tons per year)"},{"$f":"COST_RES4!$H$29","v":0},{"$f":"C7","v":0},{"$f":"D7","v":0},0,0,0,0,0,0,0,0,0,0,0,0,0,0,0,0,0,0]
[]
[null,{"$f":"title211","v":"Efficiency % of briquetting machine"},{"$f":"COST_RES4!$G$12","v":0},0.95,0.95,0.95,0.95,0.95,0.95,0.95,0.95,0.95,0.95,0.95,0.95,0.95,0.95,0.95,0.95,0.95,0.95,0.95,0.95]
[null,null,null,null,null,null,{"$f":"+'Data entry needs'!$G$21","v":0}]
[null,{"$f":"title212","v":"Operating hours per year"},{"$f":"COST_RES4!I28","v":0},{"$f":"+C11","v":0},{"$f":"+D11","v":0},0,0,0,0,0,0,0,0,0,0,0,0,0,0,0,0,0,0]
[null,{"$f":"title213","v":"Capacity utilization factor"},{"$f":"C11/8760","v":0},{"$f":"D11/8760","v":0},{"$f":"E11/8760","v":0},0,0,0,0,0,0,0,0,0,0,0,0,0,0,0,0,0,0]
[]
[null,{"$f":"title214","v":"Briquette production (tons per year)"},{"$f":"C7","v":0},{"$f":"D7","v":0},0,0,0,0,0,0,0,0,0,0,0,0,0,0,0,0,0,0,0]
[null,{"$f":"title215","v":"Total briquette sell to customers (tons per year)"},{"$f":"SUM(C14:C14)","v":0},{"$f":"SUM(D14:D14)","v":0},0,0,0,0,0,0,0,0,0,0,0,0,0,0,0,0,0,0,0]
[]
[null,{"$f":"title216","v":"Price of briquette (USD/kg)"},{"$f":"SUM(C18:C18)","v":0},{"$f":"SUM(D18:D18)","v":0},0,0,0,0,0,0,0,0,0,0,0,0,0,0,0,0,0,0,0]
[null,{"$f":"title217","v":"Market price of briquette pay by consumers (USD/kg)"},{"$f":"+'Energy Demand'!E20","v":0},{"$f":"C18*(1+D19)","v":0},0,0,0,0,0,0,0,0,0,0,0,0,0,0,0,0,0,0,0]
[null,{"$f":"title218","v":"Increasing rate of price of briquette (%)"},{"$f":"+'Data entry needs'!$AD$114","v":0},{"$f":"C19","v":0},{"$f":"D19","v":0},0,0,0,0,0,0,0,0,0,0,0,0,0,0,0,0,0,0]
[]
[null,{"$f":"title219","v":"Total income of briquette (USD per year)"},{"$f":"C15*C18*1000","v":0},{"$f":"D15*D18*1000","v":0},0,0,0,0,0,0,0,0,0,0,0,0,0,0,0,0,0,0,0]
[]
[null,{"$f":"title220","v":"Lifespan of civil work (years)"},{"$f":"COST_RES4!E61","v":10}]
[null,{"$f":"title221","v":"Lifespan of briquette system (years)"},{"$f":"COST_RES4!E60","v":10}]
[null,{"$f":"title222","v":"Project life time (years)"},20]
[]
[{"$f":"title223","v":"Capital and operating cost of biomass briquette system "}]
[null,null,{"$f":"title230","v":"Appraisal"},{"$f":"title231","v":"Project lifetime"},{"$f":"title232","v":"Investment per year"}]
[null,{"$f":"title224","v":"Direct capital cost (USD)"}]
[null,{"$f":"title225","v":"Equipments"},{"$f":"D30*E30","v":0},{"$f":"$C$25","v":20},{"$f":"COST_RES4!H60/D30","v":0}]
[null,{"$f":"title226","v":"Building"},{"$f":"D31*E31","v":0},{"$f":"$C$25","v":20},{"$f":"COST_RES4!H61/D31","v":0}]
[null,{"$f":"title227","v":"Installation"},{"$f":"D32*E32","v":0},{"$f":"$C$25","v":20},{"$f":"COST_RES4!H62/D32","v":0}]
[null,{"$f":"title228","v":"Total capital cost (USD)"},{"$f":"SUM(C30:C32)","v":0},null,{"$f":"SUM(E30:E32)","v":0}]
[null,{"$f":"title229","v":"Capital cost (USD/kg of briquette)"},{"$f":"C33/(C14*1000*C25)","v":{"$error":"#DIV/0!"}},null,{"$f":"SUM(E31:E33)","v":0}]
[]
[]
[null,{"$f":"title209","v":"Operating Year"},{"$f":"title230","v":"Appraisal"},1,2,3,4,5,6,7,8,9,10,11,12,13,14,15,16,17,18,19,20]
[null,{"$f":"title233","v":"Annual operating and maintenance cost "}]
[null,{"$f":"title234","v":"Sub-total material cost (USD)"},{"$f":"C40+C48+C50+C53","v":{"$error":"#DIV/0!"}},{"$f":"D40+D48+D50+D53","v":{"$error":"#DIV/0!"}},{"$error":"#DIV/0!"},{"$error":"#DIV/0!"},{"$error":"#DIV/0!"},{"$error":"#DIV/0!"},{"$error":"#DIV/0!"},{"$error":"#DIV/0!"},{"$error":"#DIV/0!"},{"$error":"#DIV/0!"},{"$error":"#DIV/0!"},{"$error":"#DIV/0!"},{"$error":"#DIV/0!"},{"$error":"#DIV/0!"},{"$error":"#DIV/0!"},{"$error":"#DIV/0!"},{"$error":"#DIV/0!"},{"$error":"#DIV/0!"},{"$error":"#DIV/0!"},{"$error":"#DIV/0!"},{"$error":"#DIV/0!"}]
[null,{"$f":"title235","v":"Biomass cost (USD/year)"},{"$f":"C41*C42","v":{"$error":"#DIV/0!"}},{"$f":"D41*D42","v":{"$error":"#DIV/0!"}},{"$error":"#DIV/0!"},{"$error":"#DIV/0!"},{"$error":"#DIV/0!"},{"$error":"#DIV/0!"},{"$error":"#DIV/0!"},{"$error":"#DIV/0!"},{"$error":"#DIV/0!"},{"$error":"#DIV/0!"},{"$error":"#DIV/0!"},{"$error":"#DIV/0!"},{"$error":"#DIV/0!"},{"$error":"#DIV/0!"},{"$error":"#DIV/0!"},{"$error":"#DIV/0!"},{"$error":"#DIV/0!"},{"$error":"#DIV/0!"},{"$error":"#DIV/0!"},{"$error":"#DIV/0!"},{"$error":"#DIV/0!"}]
[null,{"$f":"title236","v":"Biomass consumption (ton per year)"},{"$f":"C14/COST_RES4!$G$12","v":{"$error":"#DIV/0!"}},{"$f":"D14/COST_RES4!$G$12","v":{"$error":"#DIV/0!"}},{"$f":"E14/COST_RES4!$G$12","v":{"$error":"#DIV/0!"}},{"$f":"F14/COST_RES4!$G$12","v":{"$error":"#DIV/0!"}},{"$f":"G14/COST_RES4!$G$12","v":{"$error":"#DIV/0!"}},{"$f":"H14/COST_RES4!$G$12","v":{"$error":"#DIV/0!"}},{"$f":"I14/COST_RES4!$G$12","v":{"$error":"#DIV/0!"}},{"$f":"J14/COST_RES4!$G$12","v":{"$error":"#DIV/0!"}},{"$f":"K14/COST_RES4!$G$12","v":{"$error":"#DIV/0!"}},{"$f":"L14/COST_RES4!$G$12","v":{"$error":"#DIV/0!"}},{"$f":"M14/COST_RES4!$G$12","v":{"$error":"#DIV/0!"}},{"$f":"N14/COST_RES4!$G$12","v":{"$error":"#DIV/0!"}},{"$f":"O14/COST_RES4!$G$12","v":{"$error":"#DIV/0!"}},{"$f":"P14/COST_RES4!$G$12","v":{"$error":"#DIV/0!"}},{"$f":"Q14/COST_RES4!$G$12","v":{"$error":"#DIV/0!"}},{"$f":"R14/COST_RES4!$G$12","v":{"$error":"#DIV/0!"}},{"$f":"S14/COST_RES4!$G$12","v":{"$error":"#DIV/0!"}},{"$f":"T14/COST_RES4!$G$12","v":{"$error":"#DIV/0!"}},{"$f":"U14/COST_RES4!$G$12","v":{"$error":"#DIV/0!"}},{"$f":"V14/COST_RES4!$G$12","v":{"$error":"#DIV/0!"}},{"$f":"W14/COST_RES4!$G$12","v":{"$error":"#DIV/0!"}}]
[null,{"$f":"title237","v":"Biomass price (USD/ton)"},{"$f":"SUM(C43:C44)","v":0},{"$f":"SUM(D43:D44)","v":0},0,0,0,0,0,0,0,0,0,0,0,0,0,0,0,0,0,0,0]
[null,{"$f":"title238","v":"Biomass cost of collection (USD/ton)"},{"$f":"COST_RES4!E33","v":0},{"$f":"C43*(1+D73+D74)","v":0},{"$f":"D43*(1+E73+E74)","v":0},0,0,0,0,0,0,0,0,0,0,0,0,0,0,0,0,0,0]
[null,{"$f":"title239","v":"Biomass transportation cost (USD/ton)"},{"$f":"C45*C46","v":0},{"$f":"D45*D46","v":0},0,0,0,0,0,0,0,0,0,0,0,0,0,0,0,0,0,0,0]
[null,{"$f":"title240","v":"Biomass from farm to plant (USD/ton/km)"},{"$f":"COST_RES4!E48","v":0},{"$f":"C45*(1+D73+D74)","v":0},{"$f":"D45*(1+E73+E74)","v":0},0,0,0,0,0,0,0,0,0,0,0,0,0,0,0,0,0,0]
[null,{"$f":"title241","v":"Transportation distant (km)"},{"$f":"COST_RES4!H48","v":0},{"$f":"C46","v":0},{"$f":"D46","v":0},0,0,0,0,0,0,0,0,0,0,0,0,0,0,{"$f":"S46","v":0},{"$f":"T46","v":0},{"$f":"U46","v":0},{"$f":"V46","v":0}]
[]
[null,{"$f":"title246","v":"Water cost (USD/year)"},{"$f":"COST_RES4!I35","v":0},{"$f":"C48*(1+D73+D74)","v":0},{"$f":"D48*(1+E73+E74)","v":0},0,0,0,0,0,0,0,0,0,0,0,0,0,0,0,0,0,0]
[]
[null,{"$f":"title242","v":"Chemical cost (USD/year)"},{"$f":"C51*C52","v":0},{"$f":"D51*D52","v":0},0,0,0,0,0,0,0,0,0,0,0,0,0,0,0,0,0,0,0]
[null,{"$f":"title243","v":"Chemical consumption (tons per year)"},{"$f":"+COST_RES4!$H$34","v":0},{"$f":"+COST_RES4!$H$34","v":0},{"$f":"+COST_RES4!$H$34","v":0},{"$f":"+COST_RES4!$H$34","v":0},{"$f":"+COST_RES4!$H$34","v":0},{"$f":"+COST_RES4!$H$34","v":0},{"$f":"+COST_RES4!$H$34","v":0},{"$f":"+COST_RES4!$H$34","v":0},{"$f":"+COST_RES4!$H$34","v":0},{"$f":"+COST_RES4!$H$34","v":0},{"$f":"+COST_RES4!$H$34","v":0},{"$f":"+COST_RES4!$H$34","v":0},{"$f":"+COST_RES4!$H$34","v":0},{"$f":"+COST_RES4!$H$34","v":0},{"$f":"+COST_RES4!$H$34","v":0},{"$f":"+COST_RES4!$H$34","v":0},{"$f":"+COST_RES4!$H$34","v":0},{"$f":"+COST_RES4!$H$34","v":0},{"$f":"+COST_RES4!$H$34","v":0},{"$f":"+COST_RES4!$H$34","v":0},{"$f":"+COST_RES4!$H$34","v":0}]
[null,{"$f":"title244","v":"Chemical price (USD/ton)"},{"$f":"+'Data entry needs'!$G$20","v":0},{"$f":"C52","v":0},{"$f":"D52","v":0},0,0,0,0,0,0,0,0,0,0,0,0,0,0,0,0,0,0]
[null,{"$f":"title245","v":"Electricity cost (USD)"},{"$f":"COST_RES4!I36","v":0},{"$f":"C53*(1+D73+D74)","v":0},{"$f":"D53*(1+E73+E74)","v":0},0,0,0,0,0,0,0,0,0,0,0,0,0,0,0,0,0,0]
[]
[null,{"$f":"title247","v":"Sub-total operating cost (USD)"},{"$f":"C56+C58+C59","v":{"$error":"#DIV/0!"}},{"$f":"D56+D58+D59","v":{"$error":"#DIV/0!"}},{"$error":"#DIV/0!"},{"$error":"#DIV/0!"},{"$error":"#DIV/0!"},{"$error":"#DIV/0!"},{"$error":"#DIV/0!"},{"$error":"#DIV/0!"},{"$error":"#DIV/0!"},{"$error":"#DIV/0!"},{"$error":"#DIV/0!"},{"$error":"#DIV/0!"},{"$error":"#DIV/0!"},{"$error":"#DIV/0!"},{"$error":"#DIV/0!"},{"$error":"#DIV/0!"},{"$error":"#DIV/0!"},{"$error":"#DIV/0!"},{"$error":"#DIV/0!"},{"$error":"#DIV/0!"},{"$error":"#DIV/0!"}]
[null,{"$f":"title248","v":"Labour cost (USD)"},{"$f":"COST_RES4!I44","v":0},{"$f":"C56*(1+D57)","v":0},0,0,0,0,0,0,0,0,0,0,0,0,0,0,0,0,0,0,0]
[null,{"$f":"title249","v":"Annual change in labour cost (%)"},null,{"$f":"COST_RES4!M12","v":0},{"$f":"D57","v":0},{"$f":"E57","v":0},0,0,0,0,0,0,0,0,0,0,0,0,0,0,0,{"$f":"U57","v":0},0]
[null,{"$f":"title249","v":"Annual change in labour cost (%)"},{"$f":"COST_RES4!I70","v":0},{"$f":"C58","v":0},{"$f":"D58","v":0},0,0,0,0,0,0,0,0,0,0,0,0,0,0,0,0,0,0]
[null,{"$f":"title250","v":"General and administrative cost"},{"$f":"COST_RES4!I71","v":{"$error":"#DIV/0!"}},{"$f":"C59","v":{"$error":"#DIV/0!"}},{"$error":"#DIV/0!"},{"$error":"#DIV/0!"},{"$error":"#DIV/0!"},{"$error":"#DIV/0!"},{"$error":"#DIV/0!"},{"$error":"#DIV/0!"},{"$error":"#DIV/0!"},{"$error":"#DIV/0!"},{"$error":"#DIV/0!"},{"$error":"#DIV/0!"},{"$error":"#DIV/0!"},{"$error":"#DIV/0!"},{"$error":"#DIV/0!"},{"$error":"#DIV/0!"},{"$error":"#DIV/0!"},{"$error":"#DIV/0!"},{"$error":"#DIV/0!"},{"$error":"#DIV/0!"},{"$error":"#DIV/0!"}]
[null,{"$f":"title251","v":"Sub-total maintenance cost (USD)"},{"$f":"COST_RES4!I65","v":0},{"$f":"C60","v":0},0,0,0,0,0,0,0,0,0,0,0,0,0,0,0,0,0,0,0]
[]
[null,{"$f":"title252","v":"Sub-total of annual fixed costs"},{"$f":"+E33","v":0},{"$f":"C62","v":0},{"$f":"D62","v":0},0,0,0,0,0,0,0,0,0,0,0,0,0,0,0,0,0,0]
[]
[null,{"$f":"title253","v":"Sub-total of storage capacity"},{"$f":"COST_RES4!I56","v":{"$error":"#DIV/0!"}},{"$f":"C64","v":{"$error":"#DIV/0!"}},{"$f":"D64","v":{"$error":"#DIV/0!"}},{"$error":"#DIV/0!"},{"$error":"#DIV/0!"},{"$error":"#DIV/0!"},{"$error":"#DIV/0!"},{"$error":"#DIV/0!"},{"$error":"#DIV/0!"},{"$error":"#DIV/0!"},{"$error":"#DIV/0!"},{"$error":"#DIV/0!"},{"$error":"#DIV/0!"},{"$error":"#DIV/0!"},{"$error":"#DIV/0!"},{"$error":"#DIV/0!"},{"$error":"#DIV/0!"},{"$error":"#DIV/0!"},{"$error":"#DIV/0!"},{"$error":"#DIV/0!"},{"$error":"#DIV/0!"}]
[]
[null,{"$f":"title254","v":"Sub-total of briquette transportation to market"},{"$f":"COST_RES4!I49","v":0},{"$f":"C66*(1+D73+D74)","v":0},{"$f":"D66*(1+E73+E74)","v":0},0,0,0,0,0,0,0,0,0,0,0,0,0,0,0,0,0,0]
[]
[null,{"$f":"title255","v":"Total operation and maintenance cost (USD)"},{"$f":"C39+C55+C60+C62+C64+C66","v":{"$error":"#DIV/0!"}},{"$f":"D39+D55+D60+D62+D64+D66","v":{"$error":"#DIV/0!"}},{"$error":"#DIV/0!"},{"$error":"#DIV/0!"},{"$error":"#DIV/0!"},{"$error":"#DIV/0!"},{"$error":"#DIV/0!"},{"$error":"#DIV/0!"},{"$error":"#DIV/0!"},{"$error":"#DIV/0!"},{"$error":"#DIV/0!"},{"$error":"#DIV/0!"},{"$error":"#DIV/0!"},{"$error":"#DIV/0!"},{"$error":"#DIV/0!"},{"$error":"#DIV/0!"},{"$error":"#DIV/0!"},{"$error":"#DIV/0!"},{"$error":"#DIV/0!"},{"$error":"#DIV/0!"},{"$error":"#DIV/0!"}]
[null,{"$f":"title256","v":"Operation and maintenance cost (USD/kg of briquette) without loan interest"},{"$f":"C68/(C14*1000)","v":{"$error":"#DIV/0!"}},{"$error":"#DIV/0!"},{"$error":"#DIV/0!"},{"$error":"#DIV/0!"},{"$error":"#DIV/0!"},{"$error":"#DIV/0!"},{"$error":"#DIV/0!"},{"$error":"#DIV/0!"},{"$error":"#DIV/0!"},{"$error":"#DIV/0!"},{"$error":"#DIV/0!"},{"$error":"#DIV/0!"},{"$error":"#DIV/0!"},{"$error":"#DIV/0!"},{"$error":"#DIV/0!"},{"$error":"#DIV/0!"},{"$error":"#DIV/0!"},{"$error":"#DIV/0!"},{"$error":"#DIV/0!"},{"$error":"#DIV/0!"},{"$error":"#DIV/0!"}]
[]
[{"$f":"title164","v":"Financial parameters"}]
[null,{"$f":"title209","v":"Operating Year"},{"$f":"title230","v":"Appraisal"},1,2,3,4,5,6,7,8,9,10,11,12,13,14,15,16,17,18,19,20]
[null,{"$f":"title257","v":"Annual change in raw material cost (%)"},null,0,{"$f":"D73","v":0},{"$f":"E73","v":0},0,0,0,0,0,0,0,0,0,0,0,0,0,0,0,{"$f":"U73","v":0},{"$f":"V73","v":0}]
[null,{"$f":"title258","v":"Inflation rate (%)"},null,{"$f":"COST_RES4!J12","v":0},{"$f":"D74","v":0},0,0,0,0,0,0,0,0,0,0,0,0,0,0,0,0,{"$f":"U74","v":0},{"$f":"V74","v":0}]
[null,{"$f":"title165&\" (%)\"","v":"Discount rate (%)"},{"$f":"COST_RES4!J9","v":0}]
[null,{"$f":"title166&\" (%)\"","v":"Loan ratio (%)"},{"$f":"COST_RES4!J10","v":0}]
[]
[null,{"$f":"title259","v":"Loan without policy"},{"$f":"title230","v":"Appraisal"},1,2,3,4,5,6,7,8,9,10,11,12,13,14,15,16,17,18,19,20]
[null,{"$f":"title260","v":"Loan amount (USD)"},{"$f":"C76*(C33)","v":0}]
[null,{"$f":"title167&\" (%)\"","v":"Loan interest rate (%)"},{"$f":"COST_RES4!J11","v":0}]
[null,{"$f":"title261","v":"Loan term (years)"},{"$f":"COST_RES4!M9","v":0}]
[null,{"$f":"title262","v":"Loan payment (USD/month)"},{"$f":"(PMT($C$80/12,(12*$C$81),$C$79))","v":{"$error":"#NUM!"}}]
[null,{"$f":"title263","v":"Loan payment (USD/year)"},null,{"$f":"IF(D72<=$C$81,$C$82*12,0)","v":0},{"$f":"IF(E72<$C$81,$C$82*12,IF(E72=$C$81,$C$82*12,0))","v":0},{"$f":"IF(F72<$C$81,$C$82*12,IF(F72=$C$81,$C$82*12,0))","v":0},0,0,0,0,0,0,0,0,0,0,0,0,0,0,0,0,0]
[null,{"$f":"title264","v":"Total loan payment (USD)"},{"$f":"SUM(D83:W83)","v":0}]
[null,{"$f":"title265","v":"Loan interest payment (USD)"},{"$f":"C84+C79","v":0},{"$f":"title266","v":"Average loan interest payment for project lifetime"},null,null,{"$f":"C85/C25","v":0},{"$f":"title267","v":"USD per year"}]
[]
[{"$f":"title268","v":"Income tax analysis"}]
[null,{"$f":"title209","v":"Operating Year"},{"$f":"title230","v":"Appraisal"},1,2,3,4,5,6,7,8,9,10,11,12,13,14,15,16,17,18,19,20]
[null,{"$f":"title269","v":"Effective income tax rate (%)"},{"$f":"+'Data entry needs'!$AD$115","v":0},{"$f":"C89","v":0},{"$f":"D89","v":0},0,0,0,0,0,0,0,0,0,0,0,0,0,0,0,0,0,0]
[null,{"$f":"title270","v":"Income tax (USD)"},null,{"$f":"IF(D114<0,0,D89*D114)","v":{"$error":"#DIV/0!"}},{"$error":"#DIV/0!"},{"$error":"#DIV/0!"},{"$error":"#DIV/0!"},{"$error":"#DIV/0!"},{"$error":"#DIV/0!"},{"$error":"#DIV/0!"},{"$error":"#DIV/0!"},{"$error":"#DIV/0!"},{"$error":"#DIV/0!"},{"$error":"#DIV/0!"},{"$error":"#DIV/0!"},{"$error":"#DIV/0!"},{"$error":"#DIV/0!"},{"$error":"#DIV/0!"},{"$error":"#DIV/0!"},{"$error":"#DIV/0!"},{"$error":"#DIV/0!"},{"$error":"#DIV/0!"},{"$error":"#DIV/0!"}]
[null,{"$f":"title271","v":"Total income tax payment (USD)"},{"$f":"SUM(D90:W90)","v":{"$error":"#DIV/0!"}},{"$f":"title458","v":"Average income tax payment "},null,{"$f":"C91/C25","v":{"$error":"#DIV/0!"}},{"$f":"title267","v":"USD per year"}]
[]
[{"$f":"title272","v":"Depreciation"}]
[null,{"$f":"title209","v":"Operating Year"},{"$f":"title230","v":"Appraisal"},1,2,3,4,5,6,7,8,9,10,11,12,13,14,15,16,17,18,19,20]
[null,{"$f":"title273","v":"Depreciation method"},{"$f":"title275","v":"Straight-line"}]
[null,{"$f":"title274","v":"Total depreciation (USD)"},null,{"$f":"COST_RES4!I64","v":0},{"$f":"D96","v":0},{"$f":"E96","v":0},0,0,0,0,0,0,0,0,0,0,0,0,0,0,0,0,0]
[]
[{"$f":"title276","v":"Base case project summary"}]
[{"$f":"title277","v":"Summary of this project - Before Tax"}]
[null,{"$f":"title209","v":"Operating Year"},{"$f":"title230","v":"Appraisal"},1,2,3,4,5,6,7,8,9,10,11,12,13,14,15,16,17,18,19,20]
[null,{"$f":"title278","v":"Total revenue (USD)"},null,{"$f":"D15*1000*D18","v":0},{"$f":"E15*1000*E18","v":0},0,0,0,0,0,0,0,0,0,0,0,0,0,0,0,0,0,0]
[null,{"$f":"title228","v":"Total capital cost (USD)"},{"$f":"-(C33-C79)","v":0}]
[null,{"$f":"title279","v":"Total operating and maintenance cost (USD)"},null,{"$f":"-D68+D62","v":{"$error":"#DIV/0!"}},{"$error":"#DIV/0!"},{"$error":"#DIV/0!"},{"$error":"#DIV/0!"},{"$error":"#DIV/0!"},{"$error":"#DIV/0!"},{"$error":"#DIV/0!"},{"$error":"#DIV/0!"},{"$error":"#DIV/0!"},{"$error":"#DIV/0!"},{"$error":"#DIV/0!"},{"$error":"#DIV/0!"},{"$error":"#DIV/0!"},{"$error":"#DIV/0!"},{"$error":"#DIV/0!"},{"$error":"#DIV/0!"},{"$error":"#DIV/0!"},{"$error":"#DIV/0!"},{"$error":"#DIV/0!"},{"$error":"#DIV/0!"}]
[null,{"$f":"title280","v":"Loan payment (USD)"},null,{"$f":"D83","v":0},{"$f":"E83","v":0},0,0,0,0,0,0,0,0,0,0,0,0,0,0,0,0,0,0]
[null,{"$f":"title281","v":"Cash flow - before tax (USD)"},{"$f":"SUM(C101:C104)","v":0},{"$error":"#DIV/0!"},{"$error":"#DIV/0!"},{"$error":"#DIV/0!"},{"$error":"#DIV/0!"},{"$error":"#DIV/0!"},{"$error":"#DIV/0!"},{"$error":"#DIV/0!"},{"$error":"#DIV/0!"},{"$error":"#DIV/0!"},{"$error":"#DIV/0!"},{"$error":"#DIV/0!"},{"$error":"#DIV/0!"},{"$error":"#DIV/0!"},{"$error":"#DIV/0!"},{"$error":"#DIV/0!"},{"$error":"#DIV/0!"},{"$error":"#DIV/0!"},{"$error":"#DIV/0!"},{"$error":"#DIV/0!"},{"$error":"#DIV/0!"}]
[null,{"$f":"title282","v":"Average revenue (USD)"}]
[]
[{"$f":"title283","v":"Summary of this project - After Tax"}]
[null,{"$f":"title209","v":"Operating Year"},{"$f":"title230","v":"Appraisal"},1,2,3,4,5,6,7,8,9,10,11,12,13,14,15,16,17,18,19,20]
[null,{"$f":"B101","v":"Total revenue (USD)"},{"$f":"C101","v":0},{"$f":"D101","v":0},0,0,0,0,0,0,0,0,0,0,0,0,0,0,0,0,0,0,0]
[null,{"$f":"title279","v":"Total operating and maintenance cost (USD)"},null,{"$f":"-D68+D62","v":{"$error":"#DIV/0!"}},{"$error":"#DIV/0!"},{"$error":"#DIV/0!"},{"$error":"#DIV/0!"},{"$error":"#DIV/0!"},{"$error":"#DIV/0!"},{"$error":"#DIV/0!"},{"$error":"#DIV/0!"},{"$error":"#DIV/0!"},{"$error":"#DIV/0!"},{"$error":"#DIV/0!"},{"$error":"#DIV/0!"},{"$error":"#DIV/0!"},{"$error":"#DIV/0!"},{"$error":"#DIV/0!"},{"$error":"#DIV/0!"},{"$error":"#DIV/0!"},{"$error":"#DIV/0!"},{"$error":"#DIV/0!"},{"$error":"#DIV/0!"}]
[null,{"$f":"title280","v":"Loan payment (USD)"},null,{"$f":"$G$85","v":0},{"$f":"$G$85","v":0},0,0,0,0,0,0,0,0,0,0,0,0,0,0,0,0,0,0]
[null,{"$f":"title284","v":"Depreciation of fixed costs (USD)"},null,{"$f":"-D62","v":0},{"$f":"-E62","v":0},0,0,0,0,0,0,0,0,0,0,0,0,0,0,0,0,0,0]
[null,{"$f":"title285","v":"Net profit - before tax (USD) for income tax calculation"},{"$f":"SUM(C110:C113)","v":0},{"$f":"SUM(D110:D113)","v":{"$error":"#DIV/0!"}},{"$f":"SUM(E110:E113)","v":{"$error":"#DIV/0!"}},{"$error":"#DIV/0!"},{"$error":"#DIV/0!"},{"$error":"#DIV/0!"},{"$error":"#DIV/0!"},{"$error":"#DIV/0!"},{"$error":"#DIV/0!"},{"$error":"#DIV/0!"},{"$error":"#DIV/0!"},{"$error":"#DIV/0!"},{"$error":"#DIV/0!"},{"$error":"#DIV/0!"},{"$error":"#DIV/0!"},{"$error":"#DIV/0!"},{"$error":"#DIV/0!"},{"$error":"#DIV/0!"},{"$error":"#DIV/0!"},{"$error":"#DIV/0!"},{"$error":"#DIV/0!"}]
[null,{"$f":"title286","v":"Income tax"},null,{"$f":"IF(D114>0,-D90,0)","v":{"$error":"#DIV/0!"}},{"$error":"#DIV/0!"},{"$error":"#DIV/0!"},{"$error":"#DIV/0!"},{"$error":"#DIV/0!"},{"$error":"#DIV/0!"},{"$error":"#DIV/0!"},{"$error":"#DIV/0!"},{"$error":"#DIV/0!"},{"$error":"#DIV/0!"},{"$error":"#DIV/0!"},{"$error":"#DIV/0!"},{"$error":"#DIV/0!"},{"$error":"#DIV/0!"},{"$error":"#DIV/0!"},{"$error":"#DIV/0!"},{"$error":"#DIV/0!"},{"$error":"#DIV/0!"},{"$error":"#DIV/0!"},{"$error":"#DIV/0!"}]
[null,{"$f":"title287","v":"Cash flow - after tax (USD)"},{"$f":"C102","v":0},{"$f":"D105+D115","v":{"$error":"#DIV/0!"}},{"$f":"E105+E115","v":{"$error":"#DIV/0!"}},{"$error":"#DIV/0!"},{"$error":"#DIV/0!"},{"$error":"#DIV/0!"},{"$error":"#DIV/0!"},{"$error":"#DIV/0!"},{"$error":"#DIV/0!"},{"$error":"#DIV/0!"},{"$error":"#DIV/0!"},{"$error":"#DIV/0!"},{"$error":"#DIV/0!"},{"$error":"#DIV/0!"},{"$error":"#DIV/0!"},{"$error":"#DIV/0!"},{"$error":"#DIV/0!"},{"$error":"#DIV/0!"},{"$error":"#DIV/0!"},{"$error":"#DIV/0!"},{"$f":"W105+W115","v":{"$error":"#DIV/0!"}}]
[]
[{"$f":"title288","v":"Cumulative value of Net Profit"}]
[null,{"$f":"title209","v":"Operating Year"},{"$f":"title230","v":"Appraisal"},1,2,3,4,5,6,7,8,9,10,11,12,13,14,15,16,17,18,19,20]
[null,{"$f":"title289","v":"Cumulative value of net profit - before tax"},{"$f":"C105","v":0},{"$f":"C120+(D105)","v":{"$error":"#DIV/0!"}},{"$error":"#DIV/0!"},{"$error":"#DIV/0!"},{"$error":"#DIV/0!"},{"$error":"#DIV/0!"},{"$error":"#DIV/0!"},{"$error":"#DIV/0!"},{"$error":"#DIV/0!"},{"$error":"#DIV/0!"},{"$error":"#DIV/0!"},{"$error":"#DIV/0!"},{"$error":"#DIV/0!"},{"$error":"#DIV/0!"},{"$error":"#DIV/0!"},{"$error":"#DIV/0!"},{"$error":"#DIV/0!"},{"$error":"#DIV/0!"},{"$error":"#DIV/0!"},{"$error":"#DIV/0!"},{"$error":"#DIV/0!"}]
[null,{"$f":"title290","v":"Cumulative value of net profit - after tax"},{"$f":"C116","v":0},{"$f":"C121+(D116)","v":{"$error":"#DIV/0!"}},{"$error":"#DIV/0!"},{"$error":"#DIV/0!"},{"$error":"#DIV/0!"},{"$error":"#DIV/0!"},{"$error":"#DIV/0!"},{"$error":"#DIV/0!"},{"$error":"#DIV/0!"},{"$error":"#DIV/0!"},{"$error":"#DIV/0!"},{"$error":"#DIV/0!"},{"$error":"#DIV/0!"},{"$error":"#DIV/0!"},{"$error":"#DIV/0!"},{"$error":"#DIV/0!"},{"$error":"#DIV/0!"},{"$error":"#DIV/0!"},{"$error":"#DIV/0!"},{"$error":"#DIV/0!"},{"$error":"#DIV/0!"}]
[]
[{"$f":"title291","v":"Financial analysis results"}]
[]
[null,{"$f":"title292","v":"Net present value (NPV) (USD) - before tax"},{"$f":"NPV(C75,D105:W105)+C105","v":{"$error":"#DIV/0!"}}]
[null,{"$f":"title293","v":"Internal rate of return (IRR) (%) - before tax"},{"$f":"IF(C125<0,title459,IF(TIR_cell=title519,IRR(C105:W105,0.001),MIRR(C105:W105,C80,C75)))","v":{"$error":"#DIV/0!"}}]
[null,{"$f":"title294","v":"Payback period (years)"},{"$f":"title298","v":"Please see Figure of the cumulative value of net profit - before tax"}]
[]
[]
[null,{"$f":"title295","v":"Net present value (NPV) (USD) - after tax"},{"$f":"NPV(C75,D116:W116)+C116","v":{"$error":"#DIV/0!"}}]
[null,{"$f":"title296","v":"Internal rate of return (IRR) (%) - after tax"},{"$f":"IF(C130<0,title459,MIRR(C116:W116,$C$80,0%))","v":{"$error":"#DIV/0!"}}]
[null,{"$f":"title294","v":"Payback period (years)"},{"$f":"title299","v":"Please see Figure of the cumulative value of net profit - after tax"}]
[null,{"$f":"title297","v":"Total Income tax payment of project lifetime"},{"$f":"SUM(D115:W115)","v":{"$error":"#DIV/0!"}}]

{"sheet":"FA400_RURAL_RES4","index":48,"n_rows":134,"n_cols":23,"rows_kept":134,"cut":false,"hidden":true,"merged":[[1,1,1,13]]}
[]
[null,{"$f":"title301","v":"FINANCIAL ANALYSIS OF BIOMASS BRIQUETTING 400 KG/HOUR"}]
[]
[{"$f":"title208","v":"Revenues of biomass briquetting system"}]
[null,{"$f":"title209","v":"Operating Year"},0,1,2,3,4,5,6,7,8,9,10,11,12,13,14,15,16,17,18,19,20]
[]
[null,{"$f":"title210","v":"Briquette production capacity (tons per year)"},{"$f":"COST_RES4!J29","v":0},{"$f":"C7","v":0},{"$f":"D7","v":0},0,0,0,0,0,0,0,0,0,0,0,0,0,0,0,0,0,0]
[]
[null,{"$f":"title211","v":"Efficiency % of briquetting machine"},{"$f":"COST_RES4!G12","v":0},{"$f":"+C9","v":0},{"$f":"+D9","v":0},0,0,0,0,0,0,0,0,0,0,0,0,0,0,0,0,0,0]
[]
[null,{"$f":"title212","v":"Operating hours per year"},{"$f":"COST_RES4!K28","v":0},{"$f":"+C11","v":0},{"$f":"+D11","v":0},0,0,0,0,0,0,0,0,0,0,0,0,0,0,0,0,0,0]
[null,{"$f":"title213","v":"Capacity utilization factor"},{"$f":"C11/8760","v":0},{"$f":"D11/8760","v":0},{"$f":"E11/8760","v":0},0,0,0,0,0,0,0,0,0,0,0,0,0,0,0,0,0,0]
[]
[null,{"$f":"title214","v":"Briquette production (tons per year)"},{"$f":"C7","v":0},{"$f":"D7","v":0},0,0,0,0,0,0,0,0,0,0,0,0,0,0,0,0,0,0,0]
[null,{"$f":"title215","v":"Total briquette sell to customers (tons per year)"},{"$f":"SUM(C14:C14)","v":0},{"$f":"SUM(D14:D14)","v":0},0,0,0,0,0,0,0,0,0,0,0,0,0,0,0,0,0,0,0]
[]
[null,{"$f":"title216","v":"Price of briquette (USD/kg)"},{"$f":"SUM(C18:C18)","v":0},{"$f":"SUM(D18:D18)","v":0},0,0,0,0,0,0,0,0,0,0,0,0,0,0,0,0,0,0,0]
[null,{"$f":"title217","v":"Market price of briquette pay by consumers (USD/kg)"},{"$f":"+'Energy Demand'!E20","v":0},{"$f":"C18*(1+D19)","v":0},0,0,0,0,0,0,0,0,0,0,0,0,0,0,0,0,0,0,0]
[null,{"$f":"title218","v":"Increasing rate of price of briquette (%)"},{"$f":"+'Data entry needs'!$AD$114","v":0},{"$f":"C19","v":0},{"$f":"D19","v":0},0,0,0,0,0,0,0,0,0,0,0,0,0,0,0,0,0,0]
[]
[null,{"$f":"title219","v":"Total income of briquette (USD per year)"},{"$f":"C15*C18*1000","v":0},{"$f":"D15*D18*1000","v":0},0,0,0,0,0,0,0,0,0,0,0,0,0,0,0,0,0,0,0]
[]
[null,{"$f":"title220","v":"Lifespan of civil work (years)"},{"$f":"COST_RES4!E61","v":10}]
[null,{"$f":"title221","v":"Lifespan of briquette system (years)"},{"$f":"COST_RES4!E60","v":10}]
[null,{"$f":"title222","v":"Project life time (years)"},20]
[]
[{"$f":"title223","v":"Capital and operating cost of biomass briquette system "}]
[]
[null,null,{"$f":"title230","v":"Appraisal"},{"$f":"title231","v":"Project lifetime"},{"$f":"title232","v":"Investment per year"}]
[null,{"$f":"title224","v":"Direct capital cost (USD)"}]
[null,{"$f":"title225","v":"Equipments"},{"$f":"D31*E31","v":0},{"$f":"$C$25","v":20},{"$f":"COST_RES4!J60/D31","v":0}]
[null,{"$f":"title226","v":"Building"},{"$f":"D32*E32","v":0},{"$f":"$C$25","v":20},{"$f":"COST_RES4!J61/D32","v":0}]
[null,{"$f":"title227","v":"Installation"},{"$f":"D33*E33","v":0},{"$f":"$C$25","v":20},{"$f":"COST_RES4!J62/D33","v":0}]
[null,{"$f":"title228","v":"Total capital cost (USD)"},{"$f":"SUM(C31:C33)","v":0},null,{"$f":"SUM(E31:E33)","v":0}]
[null,{"$f":"title229","v":"Capital cost (USD/kg of briquette)"},{"$f":"C34/(C14*1000*C25)","v":{"$error":"#DIV/0!"}}]
[]
[]
[null,{"$f":"title209","v":"Operating Year"},{"$f":"title230","v":"Appraisal"},1,2,3,4,5,6,7,8,9,10,11,12,13,14,15,16,17,18,19,20]
[null,{"$f":"title233","v":"Annual operating and maintenance cost "}]
[null,{"$f":"title234","v":"Sub-total material cost (USD)"},{"$f":"C41+C49+C51+C54","v":{"$error":"#DIV/0!"}},{"$f":"D41+D49+D51+D54","v":{"$error":"#DIV/0!"}},{"$error":"#DIV/0!"},{"$error":"#DIV/0!"},{"$error":"#DIV/0!"},{"$error":"#DIV/0!"},{"$error":"#DIV/0!"},{"$error":"#DIV/0!"},{"$error":"#DIV/0!"},{"$error":"#DIV/0!"},{"$error":"#DIV/0!"},{"$error":"#DIV/0!"},{"$error":"#DIV/0!"},{"$error":"#DIV/0!"},{"$error":"#DIV/0!"},{"$error":"#DIV/0!"},{"$error":"#DIV/0!"},{"$error":"#DIV/0!"},{"$error":"#DIV/0!"},{"$error":"#DIV/0!"},{"$error":"#DIV/0!"}]
[null,{"$f":"title235","v":"Biomass cost (USD/year)"},{"$f":"C42*C43","v":{"$error":"#DIV/0!"}},{"$f":"D42*D43","v":{"$error":"#DIV/0!"}},{"$error":"#DIV/0!"},{"$error":"#DIV/0!"},{"$error":"#DIV/0!"},{"$error":"#DIV/0!"},{"$error":"#DIV/0!"},{"$error":"#DIV/0!"},{"$error":"#DIV/0!"},{"$error":"#DIV/0!"},{"$error":"#DIV/0!"},{"$error":"#DIV/0!"},{"$error":"#DIV/0!"},{"$error":"#DIV/0!"},{"$error":"#DIV/0!"},{"$error":"#DIV/0!"},{"$error":"#DIV/0!"},{"$error":"#DIV/0!"},{"$error":"#DIV/0!"},{"$error":"#DIV/0!"},{"$error":"#DIV/0!"}]
[null,{"$f":"title236","v":"Biomass consumption (ton per year)"},{"$f":"C14/COST_RES4!$G$12","v":{"$error":"#DIV/0!"}},{"$f":"D14/COST_RES4!$G$12","v":{"$error":"#DIV/0!"}},{"$f":"E14/COST_RES4!$G$12","v":{"$error":"#DIV/0!"}},{"$f":"F14/COST_RES4!$G$12","v":{"$error":"#DIV/0!"}},{"$f":"G14/COST_RES4!$G$12","v":{"$error":"#DIV/0!"}},{"$f":"H14/COST_RES4!$G$12","v":{"$error":"#DIV/0!"}},{"$f":"I14/COST_RES4!$G$12","v":{"$error":"#DIV/0!"}},{"$f":"J14/COST_RES4!$G$12","v":{"$error":"#DIV/0!"}},{"$f":"K14/COST_RES4!$G$12","v":{"$error":"#DIV/0!"}},{"$f":"L14/COST_RES4!$G$12","v":{"$error":"#DIV/0!"}},{"$f":"M14/COST_RES4!$G$12","v":{"$error":"#DIV/0!"}},{"$f":"N14/COST_RES4!$G$12","v":{"$error":"#DIV/0!"}},{"$f":"O14/COST_RES4!$G$12","v":{"$error":"#DIV/0!"}},{"$f":"P14/COST_RES4!$G$12","v":{"$error":"#DIV/0!"}},{"$f":"Q14/COST_RES4!$G$12","v":{"$error":"#DIV/0!"}},{"$f":"R14/COST_RES4!$G$12","v":{"$error":"#DIV/0!"}},{"$f":"S14/COST_RES4!$G$12","v":{"$error":"#DIV/0!"}},{"$f":"T14/COST_RES4!$G$12","v":{"$error":"#DIV/0!"}},{"$f":"U14/COST_RES4!$G$12","v":{"$error":"#DIV/0!"}},{"$f":"V14/COST_RES4!$G$12","v":{"$error":"#DIV/0!"}},{"$f":"W14/COST_RES4!$G$12","v":{"$error":"#DIV/0!"}}]
[null,{"$f":"title237","v":"Biomass price (USD/ton)"},{"$f":"SUM(C44:C45)","v":0},{"$f":"SUM(D44:D45)","v":0},0,0,0,0,0,0,0,0,0,0,0,0,0,0,0,0,0,0,0]
[null,{"$f":"title238","v":"Biomass cost of collection (USD/ton)"},{"$f":"COST_RES4!E33","v":0},{"$f":"C44*(1+D74+D75)","v":0},{"$f":"D44*(1+E74+E75)","v":0},0,0,0,0,0,0,0,0,0,0,0,0,0,0,0,0,0,0]
[null,{"$f":"title239","v":"Biomass transportation cost (USD/ton)"},{"$f":"C46*C47","v":0},{"$f":"D46*D47","v":0},0,0,0,0,0,0,0,0,0,0,0,0,0,0,0,0,0,0,0]
[null,{"$f":"title240","v":"Biomass from farm to plant (USD/ton/km)"},{"$f":"COST_RES4!E48","v":0},{"$f":"C46*(1+D74+D75)","v":0},{"$f":"D46*(1+E74+E75)","v":0},0,0,0,0,0,0,0,0,0,0,0,0,0,0,0,0,0,0]
[null,{"$f":"title241","v":"Transportation distant (km)"},{"$f":"COST_RES4!J48","v":0},{"$f":"C47","v":0},{"$f":"D47","v":0},0,0,0,0,0,0,0,0,0,0,0,0,0,0,{"$f":"S47","v":0},{"$f":"T47","v":0},{"$f":"U47","v":0},{"$f":"V47","v":0}]
[]
[null,{"$f":"title246","v":"Water cost (USD/year)"},{"$f":"COST_RES4!K35","v":0},{"$f":"C49*(1+D74+D75)","v":0},{"$f":"D49*(1+E74+E75)","v":0},0,0,0,0,0,0,0,0,0,0,0,0,0,0,0,0,0,0]
[]
[null,{"$f":"title242","v":"Chemical cost (USD/year)"},{"$f":"C52*C53","v":0},{"$f":"D52*D53","v":0},0,0,0,0,0,0,0,0,0,0,0,0,0,0,0,0,0,0,0]
[null,{"$f":"title243","v":"Chemical consumption (tons per year)"},{"$f":"+COST_RES4!$J$34","v":0},{"$f":"+COST_RES4!$J$34","v":0},{"$f":"+COST_RES4!$J$34","v":0},{"$f":"+COST_RES4!$J$34","v":0},{"$f":"+COST_RES4!$J$34","v":0},{"$f":"+COST_RES4!$J$34","v":0},{"$f":"+COST_RES4!$J$34","v":0},{"$f":"+COST_RES4!$J$34","v":0},{"$f":"+COST_RES4!$J$34","v":0},{"$f":"+COST_RES4!$J$34","v":0},{"$f":"+COST_RES4!$J$34","v":0},{"$f":"+COST_RES4!$J$34","v":0},{"$f":"+COST_RES4!$J$34","v":0},{"$f":"+COST_RES4!$J$34","v":0},{"$f":"+COST_RES4!$J$34","v":0},{"$f":"+COST_RES4!$J$34","v":0},{"$f":"+COST_RES4!$J$34","v":0},{"$f":"+COST_RES4!$J$34","v":0},{"$f":"+COST_RES4!$J$34","v":0},{"$f":"+COST_RES4!$J$34","v":0},{"$f":"+COST_RES4!$J$34","v":0}]
[null,{"$f":"title244","v":"Chemical price (USD/ton)"},{"$f":"+'Data entry needs'!$G$20","v":0},{"$f":"C53","v":0},{"$f":"D53","v":0},0,0,0,0,0,0,0,0,0,0,0,0,0,0,0,0,0,0]
[null,{"$f":"title245","v":"Electricity cost (USD)"},{"$f":"COST_RES4!K36","v":0},{"$f":"C54*(1+D74+D75)","v":0},{"$f":"D54*(1+E74+E75)","v":0},0,0,0,0,0,0,0,0,0,0,0,0,0,0,0,0,0,0]
[]
[null,{"$f":"title247","v":"Sub-total operating cost (USD)"},{"$f":"C57+C59+C60","v":{"$error":"#DIV/0!"}},{"$f":"D57+D59+D60","v":{"$error":"#DIV/0!"}},{"$error":"#DIV/0!"},{"$error":"#DIV/0!"},{"$error":"#DIV/0!"},{"$error":"#DIV/0!"},{"$error":"#DIV/0!"},{"$error":"#DIV/0!"},{"$error":"#DIV/0!"},{"$error":"#DIV/0!"},{"$error":"#DIV/0!"},{"$error":"#DIV/0!"},{"$error":"#DIV/0!"},{"$error":"#DIV/0!"},{"$error":"#DIV/0!"},{"$error":"#DIV/0!"},{"$error":"#DIV/0!"},{"$error":"#DIV/0!"},{"$error":"#DIV/0!"},{"$error":"#DIV/0!"},{"$error":"#DIV/0!"}]
[null,{"$f":"title248","v":"Labour cost (USD)"},{"$f":"COST_RES4!K44","v":0},{"$f":"C57*(1+D58)","v":0},0,0,0,0,0,0,0,0,0,0,0,0,0,0,0,0,0,0,0]
[null,"Annual change in  labour cost (%)",null,{"$f":"COST_RES4!M12","v":0},{"$f":"D58","v":0},0,0,0,0,0,0,0,0,0,0,0,0,0,0,0,{"$f":"T58","v":0},0,0]
[null,{"$f":"title249","v":"Annual change in labour cost (%)"},{"$f":"COST_RES4!K70","v":0},{"$f":"C59","v":0},0,0,0,0,0,0,0,0,0,0,0,0,0,0,0,0,0,0,0]
[null,{"$f":"title250","v":"General and administrative cost"},{"$f":"COST_RES4!K71","v":{"$error":"#DIV/0!"}},{"$f":"C60","v":{"$error":"#DIV/0!"}},{"$error":"#DIV/0!"},{"$error":"#DIV/0!"},{"$error":"#DIV/0!"},{"$error":"#DIV/0!"},{"$error":"#DIV/0!"},{"$error":"#DIV/0!"},{"$error":"#DIV/0!"},{"$error":"#DIV/0!"},{"$error":"#DIV/0!"},{"$error":"#DIV/0!"},{"$error":"#DIV/0!"},{"$error":"#DIV/0!"},{"$error":"#DIV/0!"},{"$error":"#DIV/0!"},{"$error":"#DIV/0!"},{"$error":"#DIV/0!"},{"$error":"#DIV/0!"},{"$error":"#DIV/0!"},{"$error":"#DIV/0!"}]
[null,{"$f":"title251","v":"Sub-total maintenance cost (USD)"},{"$f":"COST_RES4!K65","v":0},{"$f":"C61","v":0},0,0,0,0,0,0,0,0,0,0,0,0,0,0,0,0,0,0,0]
[]
[null,{"$f":"title252","v":"Sub-total of annual fixed costs"},{"$f":"E34","v":0},{"$f":"C63","v":0},{"$f":"D63","v":0},0,0,0,0,0,0,0,0,0,0,0,0,0,0,0,0,0,0]
[]
[null,{"$f":"title253","v":"Sub-total of storage capacity"},{"$f":"COST_RES4!K56","v":{"$error":"#DIV/0!"}},{"$f":"C65","v":{"$error":"#DIV/0!"}},{"$f":"D65","v":{"$error":"#DIV/0!"}},{"$error":"#DIV/0!"},{"$error":"#DIV/0!"},{"$error":"#DIV/0!"},{"$error":"#DIV/0!"},{"$error":"#DIV/0!"},{"$error":"#DIV/0!"},{"$error":"#DIV/0!"},{"$error":"#DIV/0!"},{"$error":"#DIV/0!"},{"$error":"#DIV/0!"},{"$error":"#DIV/0!"},{"$error":"#DIV/0!"},{"$error":"#DIV/0!"},{"$error":"#DIV/0!"},{"$error":"#DIV/0!"},{"$error":"#DIV/0!"},{"$error":"#DIV/0!"},{"$error":"#DIV/0!"}]
[]
[null,{"$f":"title254","v":"Sub-total of briquette transportation to market"},{"$f":"COST_RES4!K49","v":0},{"$f":"C67*(1+D74+D75)","v":0},{"$f":"D67*(1+E74+E75)","v":0},0,0,0,0,0,0,0,0,0,0,0,0,0,0,0,0,0,0]
[]
[null,{"$f":"title255","v":"Total operation and maintenance cost (USD)"},{"$f":"C40+C56+C61+C63+C65+C67","v":{"$error":"#DIV/0!"}},{"$f":"D40+D56+D61+D63+D65+D67","v":{"$error":"#DIV/0!"}},{"$error":"#DIV/0!"},{"$error":"#DIV/0!"},{"$error":"#DIV/0!"},{"$error":"#DIV/0!"},{"$error":"#DIV/0!"},{"$error":"#DIV/0!"},{"$error":"#DIV/0!"},{"$error":"#DIV/0!"},{"$error":"#DIV/0!"},{"$error":"#DIV/0!"},{"$error":"#DIV/0!"},{"$error":"#DIV/0!"},{"$error":"#DIV/0!"},{"$error":"#DIV/0!"},{"$error":"#DIV/0!"},{"$error":"#DIV/0!"},{"$error":"#DIV/0!"},{"$error":"#DIV/0!"},{"$error":"#DIV/0!"}]
[null,{"$f":"title256","v":"Operation and maintenance cost (USD/kg of briquette) without loan interest"},{"$f":"C69/(C14*1000)","v":{"$error":"#DIV/0!"}},{"$error":"#DIV/0!"},{"$error":"#DIV/0!"},{"$error":"#DIV/0!"},{"$error":"#DIV/0!"},{"$error":"#DIV/0!"},{"$error":"#DIV/0!"},{"$error":"#DIV/0!"},{"$error":"#DIV/0!"},{"$error":"#DIV/0!"},{"$error":"#DIV/0!"},{"$error":"#DIV/0!"},{"$error":"#DIV/0!"},{"$error":"#DIV/0!"},{"$error":"#DIV/0!"},{"$error":"#DIV/0!"},{"$error":"#DIV/0!"},{"$error":"#DIV/0!"},{"$error":"#DIV/0!"},{"$error":"#DIV/0!"},{"$error":"#DIV/0!"}]
[]
[{"$f":"title164","v":"Financial parameters"}]
[null,{"$f":"title209","v":"Operating Year"},{"$f":"title230","v":"Appraisal"},1,2,3,4,5,6,7,8,9,10,11,12,13,14,15,16,17,18,19,20]
[null,{"$f":"title257","v":"Annual change in raw material cost (%)"},null,0,{"$f":"D74","v":0},{"$f":"E74","v":0},0,0,0,0,0,0,0,0,0,0,0,0,0,0,0,{"$f":"U74","v":0},{"$f":"V74","v":0}]
[null,{"$f":"title258","v":"Inflation rate (%)"},null,{"$f":"COST_RES4!J12","v":0},{"$f":"D75","v":0},0,0,0,0,0,0,0,0,0,0,0,0,0,0,0,0,{"$f":"U75","v":0},{"$f":"V75","v":0}]
[null,{"$f":"title165&\" (%)\"","v":"Discount rate (%)"},{"$f":"COST_RES4!J9","v":0}]
[null,{"$f":"title166&\" (%)\"","v":"Loan ratio (%)"},{"$f":"COST_RES4!J10","v":0}]
[]
[null,{"$f":"title259","v":"Loan without policy"},{"$f":"title230","v":"Appraisal"},1,2,3,4,5,6,7,8,9,10,11,12,13,14,15,16,17,18,19,20]
[null,{"$f":"title260","v":"Loan amount (USD)"},{"$f":"C77*(C34)","v":0}]
[null,{"$f":"title167&\" (%)\"","v":"Loan interest rate (%)"},{"$f":"COST_RES4!J11","v":0}]
[null,{"$f":"title261","v":"Loan term (years)"},{"$f":"COST_RES4!M9","v":0}]
[null,{"$f":"title262","v":"Loan payment (USD/month)"},{"$f":"(PMT($C$81/12,(12*$C$82),$C$80))","v":{"$error":"#NUM!"}}]
[null,{"$f":"title263","v":"Loan payment (USD/year)"},null,{"$f":"IF(D73<=$C$82,$C$83*12,0)","v":0},{"$f":"IF(E73<$C$82,$C$83*12,IF(E73=$C$82,$C$83*12,0))","v":0},{"$f":"IF(F73<$C$82,$C$83*12,IF(F73=$C$82,$C$83*12,0))","v":0},0,0,0,0,0,0,0,0,0,0,0,0,0,0,0,0,0]
[null,{"$f":"title264","v":"Total loan payment (USD)"},{"$f":"SUM(D84:W84)","v":0}]
[null,{"$f":"title265","v":"Loan interest payment (USD)"},{"$f":"C85+C80","v":0},{"$f":"title266","v":"Average loan interest payment for project lifetime"},null,null,{"$f":"C86/C25","v":0},{"$f":"title267","v":"USD per year"}]
[]
[{"$f":"title268","v":"Income tax analysis"}]
[null,{"$f":"title209","v":"Operating Year"},{"$f":"title230","v":"Appraisal"},1,2,3,4,5,6,7,8,9,10,11,12,13,14,15,16,17,18,19,20]
[null,{"$f":"title269","v":"Effective income tax rate (%)"},{"$f":"+'Data entry needs'!$AD$115","v":0},{"$f":"C90","v":0},{"$f":"D90","v":0},0,0,0,0,0,0,0,0,0,0,0,0,0,0,0,0,0,0]
[null,{"$f":"title270","v":"Income tax (USD)"},null,{"$f":"IF(D115<0,0,D90*D115)","v":{"$error":"#DIV/0!"}},{"$error":"#DIV/0!"},{"$error":"#DIV/0!"},{"$error":"#DIV/0!"},{"$error":"#DIV/0!"},{"$error":"#DIV/0!"},{"$error":"#DIV/0!"},{"$error":"#DIV/0!"},{"$error":"#DIV/0!"},{"$error":"#DIV/0!"},{"$error":"#DIV/0!"},{"$error":"#DIV/0!"},{"$error":"#DIV/0!"},{"$error":"#DIV/0!"},{"$error":"#DIV/0!"},{"$error":"#DIV/0!"},{"$error":"#DIV/0!"},{"$error":"#DIV/0!"},{"$error":"#DIV/0!"},{"$error":"#DIV/0!"}]
[null,{"$f":"title271","v":"Total income tax payment (USD)"},{"$f":"SUM(D91:W91)","v":{"$error":"#DIV/0!"}},{"$f":"title458","v":"Average income tax payment "},null,{"$f":"C92/C25","v":{"$error":"#DIV/0!"}},{"$f":"title267","v":"USD per year"}]
[]
[{"$f":"title272","v":"Depreciation"}]
[null,{"$f":"title209","v":"Operating Year"},{"$f":"title230","v":"Appraisal"},1,2,3,4,5,6,7,8,9,10,11,12,13,14,15,16,17,18,19,20]
[null,{"$f":"title273","v":"Depreciation method"},{"$f":"title275","v":"Straight-line"}]
[null,{"$f":"title274","v":"Total depreciation (USD)"},null,{"$f":"COST_RES4!K64","v":0},{"$f":"D97","v":0},{"$f":"E97","v":0},0,0,0,0,0,0,0,0,0,0,0,0,0,0,0,0,0]
[]
[{"$f":"title276","v":"Base case project summary"}]
[{"$f":"title277","v":"Summary of this project - Before Tax"}]
[null,{"$f":"title209","v":"Operating Year"},{"$f":"title230","v":"Appraisal"},1,2,3,4,5,6,7,8,9,10,11,12,13,14,15,16,17,18,19,20]
[null,{"$f":"title278","v":"Total revenue (USD)"},null,{"$f":"D15*1000*D18","v":0},{"$f":"E15*1000*E18","v":0},0,0,0,0,0,0,0,0,0,0,0,0,0,0,0,0,0,0]
[null,{"$f":"title228","v":"Total capital cost (USD)"},{"$f":"-(C34-C80)","v":0}]
[null,{"$f":"title279","v":"Total operating and maintenance cost (USD)"},null,{"$f":"-D69+D63","v":{"$error":"#DIV/0!"}},{"$error":"#DIV/0!"},{"$error":"#DIV/0!"},{"$error":"#DIV/0!"},{"$error":"#DIV/0!"},{"$error":"#DIV/0!"},{"$error":"#DIV/0!"},{"$error":"#DIV/0!"},{"$error":"#DIV/0!"},{"$error":"#DIV/0!"},{"$error":"#DIV/0!"},{"$error":"#DIV/0!"},{"$error":"#DIV/0!"},{"$error":"#DIV/0!"},{"$error":"#DIV/0!"},{"$error":"#DIV/0!"},{"$error":"#DIV/0!"},{"$error":"#DIV/0!"},{"$error":"#DIV/0!"},{"$error":"#DIV/0!"}]
[null,{"$f":"title280","v":"Loan payment (USD)"},null,{"$f":"D84","v":0},{"$f":"E84","v":0},0,0,0,0,0,0,0,0,0,0,0,0,0,0,0,0,0,0]
[null,{"$f":"title281","v":"Cash flow - before tax (USD)"},{"$f":"SUM(C102:C105)","v":0},{"$error":"#DIV/0!"},{"$error":"#DIV/0!"},{"$error":"#DIV/0!"},{"$error":"#DIV/0!"},{"$error":"#DIV/0!"},{"$error":"#DIV/0!"},{"$error":"#DIV/0!"},{"$error":"#DIV/0!"},{"$error":"#DIV/0!"},{"$error":"#DIV/0!"},{"$error":"#DIV/0!"},{"$error":"#DIV/0!"},{"$error":"#DIV/0!"},{"$error":"#DIV/0!"},{"$error":"#DIV/0!"},{"$error":"#DIV/0!"},{"$error":"#DIV/0!"},{"$error":"#DIV/0!"},{"$error":"#DIV/0!"},{"$error":"#DIV/0!"}]
[null,{"$f":"title282","v":"Average revenue (USD)"}]
[]
[{"$f":"title283","v":"Summary of this project - After Tax"}]
[null,{"$f":"title209","v":"Operating Year"},{"$f":"title230","v":"Appraisal"},1,2,3,4,5,6,7,8,9,10,11,12,13,14,15,16,17,18,19,20]
[null,{"$f":"B102","v":"Total revenue (USD)"},{"$f":"C102","v":0},{"$f":"D102","v":0},0,0,0,0,0,0,0,0,0,0,0,0,0,0,0,0,0,0,0]
[null,{"$f":"title279","v":"Total operating and maintenance cost (USD)"},null,{"$f":"-D69+D63","v":{"$error":"#DIV/0!"}},{"$error":"#DIV/0!"},{"$error":"#DIV/0!"},{"$error":"#DIV/0!"},{"$error":"#DIV/0!"},{"$error":"#DIV/0!"},{"$error":"#DIV/0!"},{"$error":"#DIV/0!"},{"$error":"#DIV/0!"},{"$error":"#DIV/0!"},{"$error":"#DIV/0!"},{"$error":"#DIV/0!"},{"$error":"#DIV/0!"},{"$error":"#DIV/0!"},{"$error":"#DIV/0!"},{"$error":"#DIV/0!"},{"$error":"#DIV/0!"},{"$error":"#DIV/0!"},{"$error":"#DIV/0!"},{"$error":"#DIV/0!"}]
[null,{"$f":"title280","v":"Loan payment (USD)"},null,{"$f":"$G$86","v":0},{"$f":"$G$86","v":0},0,0,0,0,0,0,0,0,0,0,0,0,0,0,0,0,0,0]
[null,{"$f":"title284","v":"Depreciation of fixed costs (USD)"},null,{"$f":"-D63","v":0},{"$f":"-E63","v":0},0,0,0,0,0,0,0,0,0,0,0,0,0,0,0,0,0,0]
[null,{"$f":"title285","v":"Net profit - before tax (USD) for income tax calculation"},{"$f":"SUM(C111:C114)","v":0},{"$f":"SUM(D111:D114)","v":{"$error":"#DIV/0!"}},{"$f":"SUM(E111:E114)","v":{"$error":"#DIV/0!"}},{"$error":"#DIV/0!"},{"$error":"#DIV/0!"},{"$error":"#DIV/0!"},{"$error":"#DIV/0!"},{"$error":"#DIV/0!"},{"$error":"#DIV/0!"},{"$error":"#DIV/0!"},{"$error":"#DIV/0!"},{"$error":"#DIV/0!"},{"$error":"#DIV/0!"},{"$error":"#DIV/0!"},{"$error":"#DIV/0!"},{"$error":"#DIV/0!"},{"$error":"#DIV/0!"},{"$error":"#DIV/0!"},{"$error":"#DIV/0!"},{"$error":"#DIV/0!"},{"$error":"#DIV/0!"}]
[null,{"$f":"title286","v":"Income tax"},null,{"$f":"IF(D115>0,-D91,0)","v":{"$error":"#DIV/0!"}},{"$error":"#DIV/0!"},{"$error":"#DIV/0!"},{"$error":"#DIV/0!"},{"$error":"#DIV/0!"},{"$error":"#DIV/0!"},{"$error":"#DIV/0!"},{"$error":"#DIV/0!"},{"$error":"#DIV/0!"},{"$error":"#DIV/0!"},{"$error":"#DIV/0!"},{"$error":"#DIV/0!"},{"$error":"#DIV/0!"},{"$error":"#DIV/0!"},{"$error":"#DIV/0!"},{"$error":"#DIV/0!"},{"$error":"#DIV/0!"},{"$error":"#DIV/0!"},{"$error":"#DIV/0!"},{"$error":"#DIV/0!"}]
[null,{"$f":"title287","v":"Cash flow - after tax (USD)"},{"$f":"C103","v":0},{"$f":"D106+D116","v":{"$error":"#DIV/0!"}},{"$f":"E106+E116","v":{"$error":"#DIV/0!"}},{"$error":"#DIV/0!"},{"$error":"#DIV/0!"},{"$error":"#DIV/0!"},{"$error":"#DIV/0!"},{"$error":"#DIV/0!"},{"$error":"#DIV/0!"},{"$error":"#DIV/0!"},{"$error":"#DIV/0!"},{"$error":"#DIV/0!"},{"$error":"#DIV/0!"},{"$error":"#DIV/0!"},{"$error":"#DIV/0!"},{"$error":"#DIV/0!"},{"$error":"#DIV/0!"},{"$error":"#DIV/0!"},{"$error":"#DIV/0!"},{"$error":"#DIV/0!"},{"$f":"W106+W116","v":{"$error":"#DIV/0!"}}]
[]
[{"$f":"title288","v":"Cumulative value of Net Profit"}]
[null,{"$f":"title209","v":"Operating Year"},{"$f":"title230","v":"Appraisal"},1,2,3,4,5,6,7,8,9,10,11,12,13,14,15,16,17,18,19,20]
[null,{"$f":"title289","v":"Cumulative value of net profit - before tax"},{"$f":"C106","v":0},{"$f":"C121+(D106)","v":{"$error":"#DIV/0!"}},{"$error":"#DIV/0!"},{"$error":"#DIV/0!"},{"$error":"#DIV/0!"},{"$error":"#DIV/0!"},{"$error":"#DIV/0!"},{"$error":"#DIV/0!"},{"$error":"#DIV/0!"},{"$error":"#DIV/0!"},{"$error":"#DIV/0!"},{"$error":"#DIV/0!"},{"$error":"#DIV/0!"},{"$error":"#DIV/0!"},{"$error":"#DIV/0!"},{"$error":"#DIV/0!"},{"$error":"#DIV/0!"},{"$error":"#DIV/0!"},{"$error":"#DIV/0!"},{"$error":"#DIV/0!"},{"$error":"#DIV/0!"}]
[null,{"$f":"title290","v":"Cumulative value of net profit - after tax"},{"$f":"C117","v":0},{"$f":"C122+(D117)","v":{"$error":"#DIV/0!"}},{"$error":"#DIV/0!"},{"$error":"#DIV/0!"},{"$error":"#DIV/0!"},{"$error":"#DIV/0!"},{"$error":"#DIV/0!"},{"$error":"#DIV/0!"},{"$error":"#DIV/0!"},{"$error":"#DIV/0!"},{"$error":"#DIV/0!"},{"$error":"#DIV/0!"},{"$error":"#DIV/0!"},{"$error":"#DIV/0!"},{"$error":"#DIV/0!"},{"$error":"#DIV/0!"},{"$error":"#DIV/0!"},{"$error":"#DIV/0!"},{"$error":"#DIV/0!"},{"$error":"#DIV/0!"},{"$error":"#DIV/0!"}]
[]
[{"$f":"title291","v":"Financial analysis results"}]
[]
[null,{"$f":"title292","v":"Net present value (NPV) (USD) - before tax"},{"$f":"NPV(C76,D106:W106)+C106","v":{"$error":"#DIV/0!"}}]
[null,{"$f":"title293","v":"Internal rate of return (IRR) (%) - before tax"},{"$f":"IF(C126<0,title459,IF(TIR_cell=title519,IRR(C106:W106,0.001),MIRR(C106:W106,C81,C76)))","v":{"$error":"#DIV/0!"}}]
[null,{"$f":"title294","v":"Payback period (years)"},{"$f":"title298","v":"Please see Figure of the cumulative value of net profit - before tax"}]
[]
[]
[null,{"$f":"title295","v":"Net present value (NPV) (USD) - after tax"},{"$f":"NPV(C76,D117:W117)+C117","v":{"$error":"#DIV/0!"}}]
[null,{"$f":"title296","v":"Internal rate of return (IRR) (%) - after tax"},{"$f":"IF(C131<0,title459,MIRR(C117:W117,C81,0%))","v":{"$error":"#DIV/0!"}}]
[null,{"$f":"title294","v":"Payback period (years)"},{"$f":"title299","v":"Please see Figure of the cumulative value of net profit - after tax"}]
[null,{"$f":"title297","v":"Total Income tax payment of project lifetime"},{"$f":"SUM(D116:W116)","v":{"$error":"#DIV/0!"}}]

{"sheet":"FA4000_RURAL_RES4","index":49,"n_rows":134,"n_cols":23,"rows_kept":134,"cut":false,"hidden":true,"merged":[[1,1,1,13]]}
[]
[null,{"$f":"title302","v":"FINANCIAL ANALYSIS OF BIOMASS BRIQUETTING 4000 KG/HOUR"}]
[]
[{"$f":"title208","v":"Revenues of biomass briquetting system"}]
[null,{"$f":"title209","v":"Operating Year"},0,1,2,3,4,5,6,7,8,9,10,11,12,13,14,15,16,17,18,19,20]
[]
[null,{"$f":"title210","v":"Briquette production capacity (tons per year)"},{"$f":"COST_RES4!L29","v":0},{"$f":"C7","v":0},{"$f":"D7","v":0},0,0,0,0,0,0,0,0,0,0,0,0,0,0,0,0,0,0]
[null,null,null,null,null,null,null,null," "]
[null,{"$f":"title211","v":"Efficiency % of briquetting machine"},{"$f":"COST_RES4!G12","v":0},{"$f":"+C9","v":0},{"$f":"+D9","v":0},0,0,0,0,0,0,0,0,0,0,0,0,0,0,0,0,0,0]
[]
[null,{"$f":"title212","v":"Operating hours per year"},{"$f":"COST_RES4!M28","v":0},{"$f":"+C11","v":0},{"$f":"+D11","v":0},0,0,0,0,0,0,0,0,0,0,0,0,0,0,0,0,0,0]
[null,{"$f":"title213","v":"Capacity utilization factor"},{"$f":"C11/8760","v":0},{"$f":"D11/8760","v":0},{"$f":"E11/8760","v":0},0,0,0,0,0,0,0,0,0,0,0,0,0,0,0,0,0,0]
[]
[null,{"$f":"title214","v":"Briquette production (tons per year)"},{"$f":"C7","v":0},{"$f":"D7","v":0},0,0,0,0,0,0,0,0,0,0,0,0,0,0,0,0,0,0,0]
[null,{"$f":"title215","v":"Total briquette sell to customers (tons per year)"},{"$f":"SUM(C14:C14)","v":0},{"$f":"SUM(D14:D14)","v":0},0,0,0,0,0,0,0,0,0,0,0,0,0,0,0,0,0,0,0]
[]
[null,{"$f":"title216","v":"Price of briquette (USD/kg)"},{"$f":"SUM(C18:C18)","v":0},{"$f":"SUM(D18:D18)","v":0},0,0,0,0,0,0,0,0,0,0,0,0,0,0,0,0,0,0,0]
[null,{"$f":"title217","v":"Market price of briquette pay by consumers (USD/kg)"},{"$f":"+'Energy Demand'!E20","v":0},{"$f":"C18*(1+D19)","v":0},0,0,0,0,0,0,0,0,0,0,0,0,0,0,0,0,0,0,0]
[null,{"$f":"title218","v":"Increasing rate of price of briquette (%)"},{"$f":"+'Data entry needs'!$AD$114","v":0},{"$f":"C19","v":0},{"$f":"D19","v":0},0,0,0,0,0,0,0,0,0,0,0,0,0,0,0,0,0,0]
[]
[null,{"$f":"title219","v":"Total income of briquette (USD per year)"},{"$f":"C15*C18*1000","v":0},{"$f":"D15*D18*1000","v":0},0,0,0,0,0,0,0,0,0,0,0,0,0,0,0,0,0,0,0]
[]
[null,{"$f":"title220","v":"Lifespan of civil work (years)"},{"$f":"COST_RES4!E61","v":10}]
[null,{"$f":"title221","v":"Lifespan of briquette system (years)"},{"$f":"COST_RES4!E60","v":10}]
[null,{"$f":"title222","v":"Project life time (years)"},20]
[]
[{"$f":"title223","v":"Capital and operating cost of biomass briquette system "}]
[]
[null,null,{"$f":"title230","v":"Appraisal"},{"$f":"title231","v":"Project lifetime"},{"$f":"title232","v":"Investment per year"}]
[null,{"$f":"title224","v":"Direct capital cost (USD)"}]
[null,{"$f":"title225","v":"Equipments"},{"$f":"D31*E31","v":0},{"$f":"$C$25","v":20},{"$f":"COST_RES4!L60/D31","v":0}]
[null,{"$f":"title226","v":"Building"},{"$f":"D32*E32","v":0},{"$f":"$C$25","v":20},{"$f":"COST_RES4!L61/D32","v":0}]
[null,{"$f":"title227","v":"Installation"},{"$f":"D33*E33","v":0},{"$f":"$C$25","v":20},{"$f":"COST_RES4!L62/D33","v":0}]
[null,{"$f":"title228","v":"Total capital cost (USD)"},{"$f":"SUM(C31:C33)","v":0},null,{"$f":"SUM(E31:E33)","v":0}]
[null,{"$f":"title229","v":"Capital cost (USD/kg of briquette)"},{"$f":"C34/(C14*1000*C25)","v":{"$error":"#DIV/0!"}}]
[]
[]
[null,{"$f":"title209","v":"Operating Year"},{"$f":"title230","v":"Appraisal"},1,2,3,4,5,6,7,8,9,10,11,12,13,14,15,16,17,18,19,20]
[null,{"$f":"title233","v":"Annual operating and maintenance cost "}]
[null,{"$f":"title234","v":"Sub-total material cost (USD)"},{"$f":"C41+C49+C51+C54","v":{"$error":"#DIV/0!"}},{"$f":"D41+D49+D51+D54","v":{"$error":"#DIV/0!"}},{"$error":"#DIV/0!"},{"$error":"#DIV/0!"},{"$error":"#DIV/0!"},{"$error":"#DIV/0!"},{"$error":"#DIV/0!"},{"$error":"#DIV/0!"},{"$error":"#DIV/0!"},{"$error":"#DIV/0!"},{"$error":"#DIV/0!"},{"$error":"#DIV/0!"},{"$error":"#DIV/0!"},{"$error":"#DIV/0!"},{"$error":"#DIV/0!"},{"$error":"#DIV/0!"},{"$error":"#DIV/0!"},{"$error":"#DIV/0!"},{"$error":"#DIV/0!"},{"$error":"#DIV/0!"},{"$error":"#DIV/0!"}]
[null,{"$f":"title235","v":"Biomass cost (USD/year)"},{"$f":"C42*C43","v":{"$error":"#DIV/0!"}},{"$f":"D42*D43","v":{"$error":"#DIV/0!"}},{"$error":"#DIV/0!"},{"$error":"#DIV/0!"},{"$error":"#DIV/0!"},{"$error":"#DIV/0!"},{"$error":"#DIV/0!"},{"$error":"#DIV/0!"},{"$error":"#DIV/0!"},{"$error":"#DIV/0!"},{"$error":"#DIV/0!"},{"$error":"#DIV/0!"},{"$error":"#DIV/0!"},{"$error":"#DIV/0!"},{"$error":"#DIV/0!"},{"$error":"#DIV/0!"},{"$error":"#DIV/0!"},{"$error":"#DIV/0!"},{"$error":"#DIV/0!"},{"$error":"#DIV/0!"},{"$error":"#DIV/0!"}]
[null,{"$f":"title236","v":"Biomass consumption (ton per year)"},{"$f":"C14/COST_RES4!$G$12","v":{"$error":"#DIV/0!"}},{"$f":"D14/COST_RES4!$G$12","v":{"$error":"#DIV/0!"}},{"$f":"E14/COST_RES4!$G$12","v":{"$error":"#DIV/0!"}},{"$f":"F14/COST_RES4!$G$12","v":{"$error":"#DIV/0!"}},{"$f":"G14/COST_RES4!$G$12","v":{"$error":"#DIV/0!"}},{"$f":"H14/COST_RES4!$G$12","v":{"$error":"#DIV/0!"}},{"$f":"I14/COST_RES4!$G$12","v":{"$error":"#DIV/0!"}},{"$f":"J14/COST_RES4!$G$12","v":{"$error":"#DIV/0!"}},{"$f":"K14/COST_RES4!$G$12","v":{"$error":"#DIV/0!"}},{"$f":"L14/COST_RES4!$G$12","v":{"$error":"#DIV/0!"}},{"$f":"M14/COST_RES4!$G$12","v":{"$error":"#DIV/0!"}},{"$f":"N14/COST_RES4!$G$12","v":{"$error":"#DIV/0!"}},{"$f":"O14/COST_RES4!$G$12","v":{"$error":"#DIV/0!"}},{"$f":"P14/COST_RES4!$G$12","v":{"$error":"#DIV/0!"}},{"$f":"Q14/COST_RES4!$G$12","v":{"$error":"#DIV/0!"}},{"$f":"R14/COST_RES4!$G$12","v":{"$error":"#DIV/0!"}},{"$f":"S14/COST_RES4!$G$12","v":{"$error":"#DIV/0!"}},{"$f":"T14/COST_RES4!$G$12","v":{"$error":"#DIV/0!"}},{"$f":"U14/COST_RES4!$G$12","v":{"$error":"#DIV/0!"}},{"$f":"V14/COST_RES4!$G$12","v":{"$error":"#DIV/0!"}},{"$f":"W14/COST_RES4!$G$12","v":{"$error":"#DIV/0!"}}]
[null,{"$f":"title237","v":"Biomass price (USD/ton)"},{"$f":"SUM(C44:C45)","v":0},{"$f":"SUM(D44:D45)","v":0},0,0,0,0,0,0,0,0,0,0,0,0,0,0,0,0,0,0,0]
[null,{"$f":"title238","v":"Biomass cost of collection (USD/ton)"},{"$f":"COST_RES4!E33","v":0},{"$f":"C44*(1+D74+D75)","v":0},{"$f":"D44*(1+E74+E75)","v":0},0,0,0,0,0,0,0,0,0,0,0,0,0,0,0,0,0,0]
[null,{"$f":"title239","v":"Biomass transportation cost (USD/ton)"},{"$f":"C46*C47","v":0},{"$f":"D46*D47","v":0},0,0,0,0,0,0,0,0,0,0,0,0,0,0,0,0,0,0,0]
[null,{"$f":"title240","v":"Biomass from farm to plant (USD/ton/km)"},{"$f":"COST_RES4!E48","v":0},{"$f":"C46*(1+D74+D75)","v":0},{"$f":"D46*(1+E74+E75)","v":0},0,0,0,0,0,0,0,0,0,0,0,0,0,0,0,0,0,0]
[null,{"$f":"title241","v":"Transportation distant (km)"},{"$f":"COST_RES4!L48","v":0},{"$f":"C47","v":0},{"$f":"D47","v":0},0,0,0,0,0,0,0,0,0,0,0,0,0,0,{"$f":"S47","v":0},{"$f":"T47","v":0},{"$f":"U47","v":0},{"$f":"V47","v":0}]
[]
[null,{"$f":"title246","v":"Water cost (USD/year)"},{"$f":"COST_RES4!M35","v":0},{"$f":"C49*(1+D74+D75)","v":0},{"$f":"D49*(1+E74+E75)","v":0},0,0,0,0,0,0,0,0,0,0,0,0,0,0,0,0,0,0]
[]
[null,{"$f":"title242","v":"Chemical cost (USD/year)"},{"$f":"C52*C53","v":0},{"$f":"D52*D53","v":0},0,0,0,0,0,0,0,0,0,0,0,0,0,0,0,0,0,0,0]
[null,{"$f":"title243","v":"Chemical consumption (tons per year)"},{"$f":"+COST_RES4!$L$34","v":0},{"$f":"+COST_RES4!$L$34","v":0},{"$f":"+COST_RES4!$L$34","v":0},{"$f":"+COST_RES4!$L$34","v":0},{"$f":"+COST_RES4!$L$34","v":0},{"$f":"+COST_RES4!$L$34","v":0},{"$f":"+COST_RES4!$L$34","v":0},{"$f":"+COST_RES4!$L$34","v":0},{"$f":"+COST_RES4!$L$34","v":0},{"$f":"+COST_RES4!$L$34","v":0},{"$f":"+COST_RES4!$L$34","v":0},{"$f":"+COST_RES4!$L$34","v":0},{"$f":"+COST_RES4!$L$34","v":0},{"$f":"+COST_RES4!$L$34","v":0},{"$f":"+COST_RES4!$L$34","v":0},{"$f":"+COST_RES4!$L$34","v":0},{"$f":"+COST_RES4!$L$34","v":0},{"$f":"+COST_RES4!$L$34","v":0},{"$f":"+COST_RES4!$L$34","v":0},{"$f":"+COST_RES4!$L$34","v":0},{"$f":"+COST_RES4!$L$34","v":0}]
[null,{"$f":"title244","v":"Chemical price (USD/ton)"},{"$f":"+'Data entry needs'!$G$20","v":0},{"$f":"+C53","v":0},{"$f":"+D53","v":0},0,0,0,0,0,0,0,0,0,0,0,0,0,0,0,0,0,0]
[null,{"$f":"title245","v":"Electricity cost (USD)"},{"$f":"COST_RES4!M36","v":0},{"$f":"C54*(1+D74+D75)","v":0},{"$f":"D54*(1+E74+E75)","v":0},0,0,0,0,0,0,0,0,0,0,0,0,0,0,0,0,0,0]
[]
[null,{"$f":"title247","v":"Sub-total operating cost (USD)"},{"$f":"C57+C59+C60","v":{"$error":"#DIV/0!"}},{"$f":"D57+D59+D60","v":{"$error":"#DIV/0!"}},{"$error":"#DIV/0!"},{"$error":"#DIV/0!"},{"$error":"#DIV/0!"},{"$error":"#DIV/0!"},{"$error":"#DIV/0!"},{"$error":"#DIV/0!"},{"$error":"#DIV/0!"},{"$error":"#DIV/0!"},{"$error":"#DIV/0!"},{"$error":"#DIV/0!"},{"$error":"#DIV/0!"},{"$error":"#DIV/0!"},{"$error":"#DIV/0!"},{"$error":"#DIV/0!"},{"$error":"#DIV/0!"},{"$error":"#DIV/0!"},{"$error":"#DIV/0!"},{"$error":"#DIV/0!"},{"$error":"#DIV/0!"}]
[null,{"$f":"title248","v":"Labour cost (USD)"},{"$f":"COST_RES4!M44","v":0},{"$f":"C57*(1+D58)","v":0},0,0,0,0,0,0,0,0,0,0,0,0,0,0,0,0,0,0,0]
[null,"Annual change in  labour cost (%)",null,{"$f":"COST_RES4!M12","v":0},{"$f":"D58","v":0},{"$f":"E58","v":0},0,0,0,0,0,0,0,0,0,0,0,0,0,0,0,{"$f":"U58","v":0},0]
[null,{"$f":"title249","v":"Annual change in labour cost (%)"},{"$f":"COST_RES4!M70","v":0},{"$f":"C59","v":0},{"$f":"D59","v":0},0,0,0,0,0,0,0,0,0,0,0,0,0,0,0,0,0,0]
[null,{"$f":"title250","v":"General and administrative cost"},{"$f":"COST_RES4!M71","v":{"$error":"#DIV/0!"}},{"$f":"C60","v":{"$error":"#DIV/0!"}},{"$error":"#DIV/0!"},{"$error":"#DIV/0!"},{"$error":"#DIV/0!"},{"$error":"#DIV/0!"},{"$error":"#DIV/0!"},{"$error":"#DIV/0!"},{"$error":"#DIV/0!"},{"$error":"#DIV/0!"},{"$error":"#DIV/0!"},{"$error":"#DIV/0!"},{"$error":"#DIV/0!"},{"$error":"#DIV/0!"},{"$error":"#DIV/0!"},{"$error":"#DIV/0!"},{"$error":"#DIV/0!"},{"$error":"#DIV/0!"},{"$error":"#DIV/0!"},{"$error":"#DIV/0!"},{"$error":"#DIV/0!"}]
[null,{"$f":"title251","v":"Sub-total maintenance cost (USD)"},{"$f":"COST_RES4!M65","v":0},{"$f":"C61","v":0},0,0,0,0,0,0,0,0,0,0,0,0,0,0,0,0,0,0,0]
[]
[null,{"$f":"title252","v":"Sub-total of annual fixed costs"},{"$f":"E34","v":0},{"$f":"C63","v":0},{"$f":"D63","v":0},0,0,0,0,0,0,0,0,0,0,0,0,0,0,0,0,0,0]
[]
[null,{"$f":"title253","v":"Sub-total of storage capacity"},{"$f":"COST_RES4!M56","v":{"$error":"#DIV/0!"}},{"$f":"C65","v":{"$error":"#DIV/0!"}},{"$f":"D65","v":{"$error":"#DIV/0!"}},{"$error":"#DIV/0!"},{"$error":"#DIV/0!"},{"$error":"#DIV/0!"},{"$error":"#DIV/0!"},{"$error":"#DIV/0!"},{"$error":"#DIV/0!"},{"$error":"#DIV/0!"},{"$error":"#DIV/0!"},{"$error":"#DIV/0!"},{"$error":"#DIV/0!"},{"$error":"#DIV/0!"},{"$error":"#DIV/0!"},{"$error":"#DIV/0!"},{"$error":"#DIV/0!"},{"$error":"#DIV/0!"},{"$error":"#DIV/0!"},{"$error":"#DIV/0!"},{"$error":"#DIV/0!"}]
[]
[null,{"$f":"title254","v":"Sub-total of briquette transportation to market"},{"$f":"COST_RES4!M49","v":0},{"$f":"C67*(1+D74+D75)","v":0},{"$f":"D67*(1+E74+E75)","v":0},0,0,0,0,0,0,0,0,0,0,0,0,0,0,0,0,0,0]
[]
[null,{"$f":"title255","v":"Total operation and maintenance cost (USD)"},{"$f":"C40+C56+C61+C63+C65+C67","v":{"$error":"#DIV/0!"}},{"$f":"D40+D56+D61+D63+D65+D67","v":{"$error":"#DIV/0!"}},{"$error":"#DIV/0!"},{"$error":"#DIV/0!"},{"$error":"#DIV/0!"},{"$error":"#DIV/0!"},{"$error":"#DIV/0!"},{"$error":"#DIV/0!"},{"$error":"#DIV/0!"},{"$error":"#DIV/0!"},{"$error":"#DIV/0!"},{"$error":"#DIV/0!"},{"$error":"#DIV/0!"},{"$error":"#DIV/0!"},{"$error":"#DIV/0!"},{"$error":"#DIV/0!"},{"$error":"#DIV/0!"},{"$error":"#DIV/0!"},{"$error":"#DIV/0!"},{"$error":"#DIV/0!"},{"$error":"#DIV/0!"}]
[null,{"$f":"title256","v":"Operation and maintenance cost (USD/kg of briquette) without loan interest"},{"$f":"C69/(C14*1000)","v":{"$error":"#DIV/0!"}},{"$error":"#DIV/0!"},{"$error":"#DIV/0!"},{"$error":"#DIV/0!"},{"$error":"#DIV/0!"},{"$error":"#DIV/0!"},{"$error":"#DIV/0!"},{"$error":"#DIV/0!"},{"$error":"#DIV/0!"},{"$error":"#DIV/0!"},{"$error":"#DIV/0!"},{"$error":"#DIV/0!"},{"$error":"#DIV/0!"},{"$error":"#DIV/0!"},{"$error":"#DIV/0!"},{"$error":"#DIV/0!"},{"$error":"#DIV/0!"},{"$error":"#DIV/0!"},{"$error":"#DIV/0!"},{"$error":"#DIV/0!"},{"$error":"#DIV/0!"}]
[]
[{"$f":"title164","v":"Financial parameters"}]
[null,{"$f":"title209","v":"Operating Year"},{"$f":"title230","v":"Appraisal"},1,2,3,4,5,6,7,8,9,10,11,12,13,14,15,16,17,18,19,20]
[null,{"$f":"title257","v":"Annual change in raw material cost (%)"},null,0,{"$f":"D74","v":0},{"$f":"E74","v":0},0,0,0,0,0,0,0,0,0,0,0,0,0,0,0,{"$f":"U74","v":0},{"$f":"V74","v":0}]
[null,{"$f":"title258","v":"Inflation rate (%)"},null,{"$f":"COST_RES4!J12","v":0},{"$f":"D75","v":0},0,0,0,0,0,0,0,0,0,0,0,0,0,0,0,0,{"$f":"U75","v":0},{"$f":"V75","v":0}]
[null,{"$f":"title165&\" (%)\"","v":"Discount rate (%)"},{"$f":"COST_RES4!J9","v":0}]
[null,{"$f":"title166&\" (%)\"","v":"Loan ratio (%)"},{"$f":"COST_RES4!J10","v":0}]
[]
[null,{"$f":"title259","v":"Loan without policy"},{"$f":"title230","v":"Appraisal"},1,2,3,4,5,6,7,8,9,10,11,12,13,14,15,16,17,18,19,20]
[null,{"$f":"title260","v":"Loan amount (USD)"},{"$f":"C77*(C34)","v":0}]
[null,{"$f":"title167&\" (%)\"","v":"Loan interest rate (%)"},{"$f":"COST_RES4!J11","v":0}]
[null,{"$f":"title261","v":"Loan term (years)"},{"$f":"COST_RES4!M9","v":0}]
[null,{"$f":"title262","v":"Loan payment (USD/month)"},{"$f":"(PMT($C$81/12,(12*$C$82),$C$80))","v":{"$error":"#NUM!"}}]
[null,{"$f":"title263","v":"Loan payment (USD/year)"},null,{"$f":"IF(D73<=$C$82,$C$83*12,0)","v":0},{"$f":"IF(E73<$C$82,$C$83*12,IF(E73=$C$82,$C$83*12,0))","v":0},{"$f":"IF(F73<$C$82,$C$83*12,IF(F73=$C$82,$C$83*12,0))","v":0},0,0,0,0,0,0,0,0,0,0,0,0,0,0,0,0,0]
[null,{"$f":"title264","v":"Total loan payment (USD)"},{"$f":"SUM(D84:W84)","v":0}]
[null,{"$f":"title265","v":"Loan interest payment (USD)"},{"$f":"C85+C80","v":0},{"$f":"title266","v":"Average loan interest payment for project lifetime"},null,null,{"$f":"C86/C25","v":0},{"$f":"title267","v":"USD per year"}]
[]
[{"$f":"title268","v":"Income tax analysis"}]
[null,{"$f":"title209","v":"Operating Year"},{"$f":"title230","v":"Appraisal"},1,2,3,4,5,6,7,8,9,10,11,12,13,14,15,16,17,18,19,20]
[null,{"$f":"title269","v":"Effective income tax rate (%)"},{"$f":"+'Data entry needs'!$AD$115","v":0},{"$f":"C90","v":0},{"$f":"D90","v":0},0,0,0,0,0,0,0,0,0,0,0,0,0,0,0,0,0,0]
[null,{"$f":"title270","v":"Income tax (USD)"},null,{"$f":"IF(D115<0,0,D90*D115)","v":{"$error":"#DIV/0!"}},{"$error":"#DIV/0!"},{"$error":"#DIV/0!"},{"$error":"#DIV/0!"},{"$error":"#DIV/0!"},{"$error":"#DIV/0!"},{"$error":"#DIV/0!"},{"$error":"#DIV/0!"},{"$error":"#DIV/0!"},{"$error":"#DIV/0!"},{"$error":"#DIV/0!"},{"$error":"#DIV/0!"},{"$error":"#DIV/0!"},{"$error":"#DIV/0!"},{"$error":"#DIV/0!"},{"$error":"#DIV/0!"},{"$error":"#DIV/0!"},{"$error":"#DIV/0!"},{"$error":"#DIV/0!"},{"$error":"#DIV/0!"}]
[null,{"$f":"title271","v":"Total income tax payment (USD)"},{"$f":"SUM(D91:W91)","v":{"$error":"#DIV/0!"}},{"$f":"title458","v":"Average income tax payment "},null,{"$f":"C92/C25","v":{"$error":"#DIV/0!"}},{"$f":"title267","v":"USD per year"}]
[]
[{"$f":"title272","v":"Depreciation"}]
[null,{"$f":"title209","v":"Operating Year"},{"$f":"title230","v":"Appraisal"},1,2,3,4,5,6,7,8,9,10,11,12,13,14,15,16,17,18,19,20]
[null,{"$f":"title273","v":"Depreciation method"},{"$f":"title275","v":"Straight-line"}]
[null,{"$f":"title274","v":"Total depreciation (USD)"},null,{"$f":"COST_RES4!M64","v":0},{"$f":"D97","v":0},{"$f":"E97","v":0},0,0,0,0,0,0,0,0,0,0,0,0,0,0,0,0,0]
[]
[{"$f":"title276","v":"Base case project summary"}]
[{"$f":"title277","v":"Summary of this project - Before Tax"}]
[null,{"$f":"title209","v":"Operating Year"},{"$f":"title230","v":"Appraisal"},1,2,3,4,5,6,7,8,9,10,11,12,13,14,15,16,17,18,19,20]
[null,{"$f":"title278","v":"Total revenue (USD)"},null,{"$f":"D15*1000*D18","v":0},{"$f":"E15*1000*E18","v":0},0,0,0,0,0,0,0,0,0,0,0,0,0,0,0,0,0,0]
[null,{"$f":"title228","v":"Total capital cost (USD)"},{"$f":"-(C34-C80)","v":0}]
[null,{"$f":"title279","v":"Total operating and maintenance cost (USD)"},null,{"$f":"-D69+D63","v":{"$error":"#DIV/0!"}},{"$error":"#DIV/0!"},{"$error":"#DIV/0!"},{"$error":"#DIV/0!"},{"$error":"#DIV/0!"},{"$error":"#DIV/0!"},{"$error":"#DIV/0!"},{"$error":"#DIV/0!"},{"$error":"#DIV/0!"},{"$error":"#DIV/0!"},{"$error":"#DIV/0!"},{"$error":"#DIV/0!"},{"$error":"#DIV/0!"},{"$error":"#DIV/0!"},{"$error":"#DIV/0!"},{"$error":"#DIV/0!"},{"$error":"#DIV/0!"},{"$error":"#DIV/0!"},{"$error":"#DIV/0!"},{"$error":"#DIV/0!"}]
[null,{"$f":"title280","v":"Loan payment (USD)"},null,{"$f":"D84","v":0},{"$f":"E84","v":0},0,0,0,0,0,0,0,0,0,0,0,0,0,0,0,0,0,0]
[null,{"$f":"title281","v":"Cash flow - before tax (USD)"},{"$f":"SUM(C102:C105)","v":0},{"$error":"#DIV/0!"},{"$error":"#DIV/0!"},{"$error":"#DIV/0!"},{"$error":"#DIV/0!"},{"$error":"#DIV/0!"},{"$error":"#DIV/0!"},{"$error":"#DIV/0!"},{"$error":"#DIV/0!"},{"$error":"#DIV/0!"},{"$error":"#DIV/0!"},{"$error":"#DIV/0!"},{"$error":"#DIV/0!"},{"$error":"#DIV/0!"},{"$error":"#DIV/0!"},{"$error":"#DIV/0!"},{"$error":"#DIV/0!"},{"$error":"#DIV/0!"},{"$error":"#DIV/0!"},{"$error":"#DIV/0!"},{"$error":"#DIV/0!"}]
[null,{"$f":"title282","v":"Average revenue (USD)"}]
[]
[{"$f":"title283","v":"Summary of this project - After Tax"}]
[null,{"$f":"title209","v":"Operating Year"},{"$f":"title230","v":"Appraisal"},1,2,3,4,5,6,7,8,9,10,11,12,13,14,15,16,17,18,19,20]
[null,{"$f":"B102","v":"Total revenue (USD)"},{"$f":"C102","v":0},{"$f":"D102","v":0},0,0,0,0,0,0,0,0,0,0,0,0,0,0,0,0,0,0,0]
[null,{"$f":"title279","v":"Total operating and maintenance cost (USD)"},null,{"$f":"-D69+D63","v":{"$error":"#DIV/0!"}},{"$error":"#DIV/0!"},{"$error":"#DIV/0!"},{"$error":"#DIV/0!"},{"$error":"#DIV/0!"},{"$error":"#DIV/0!"},{"$error":"#DIV/0!"},{"$error":"#DIV/0!"},{"$error":"#DIV/0!"},{"$error":"#DIV/0!"},{"$error":"#DIV/0!"},{"$error":"#DIV/0!"},{"$error":"#DIV/0!"},{"$error":"#DIV/0!"},{"$error":"#DIV/0!"},{"$error":"#DIV/0!"},{"$error":"#DIV/0!"},{"$error":"#DIV/0!"},{"$error":"#DIV/0!"},{"$error":"#DIV/0!"}]
[null,{"$f":"title280","v":"Loan payment (USD)"},null,{"$f":"$G$86","v":0},{"$f":"$G$86","v":0},0,0,0,0,0,0,0,0,0,0,0,0,0,0,0,0,0,0]
[null,{"$f":"title284","v":"Depreciation of fixed costs (USD)"},null,{"$f":"-D63","v":0},{"$f":"-E63","v":0},0,0,0,0,0,0,0,0,0,0,0,0,0,0,0,0,0,0]
[null,{"$f":"title285","v":"Net profit - before tax (USD) for income tax calculation"},{"$f":"SUM(C111:C114)","v":0},{"$f":"SUM(D111:D114)","v":{"$error":"#DIV/0!"}},{"$f":"SUM(E111:E114)","v":{"$error":"#DIV/0!"}},{"$error":"#DIV/0!"},{"$error":"#DIV/0!"},{"$error":"#DIV/0!"},{"$error":"#DIV/0!"},{"$error":"#DIV/0!"},{"$error":"#DIV/0!"},{"$error":"#DIV/0!"},{"$error":"#DIV/0!"},{"$error":"#DIV/0!"},{"$error":"#DIV/0!"},{"$error":"#DIV/0!"},{"$error":"#DIV/0!"},{"$error":"#DIV/0!"},{"$error":"#DIV/0!"},{"$error":"#DIV/0!"},{"$error":"#DIV/0!"},{"$error":"#DIV/0!"},{"$error":"#DIV/0!"}]
[null,{"$f":"title286","v":"Income tax"},null,{"$f":"IF(D115>0,-D91,0)","v":{"$error":"#DIV/0!"}},{"$error":"#DIV/0!"},{"$error":"#DIV/0!"},{"$error":"#DIV/0!"},{"$error":"#DIV/0!"},{"$error":"#DIV/0!"},{"$error":"#DIV/0!"},{"$error":"#DIV/0!"},{"$error":"#DIV/0!"},{"$error":"#DIV/0!"},{"$error":"#DIV/0!"},{"$error":"#DIV/0!"},{"$error":"#DIV/0!"},{"$error":"#DIV/0!"},{"$error":"#DIV/0!"},{"$error":"#DIV/0!"},{"$error":"#DIV/0!"},{"$error":"#DIV/0!"},{"$error":"#DIV/0!"},{"$error":"#DIV/0!"}]
[null,{"$f":"title287","v":"Cash flow - after tax (USD)"},{"$f":"C103","v":0},{"$f":"D106+D116","v":{"$error":"#DIV/0!"}},{"$f":"E106+E116","v":{"$error":"#DIV/0!"}},{"$error":"#DIV/0!"},{"$error":"#DIV/0!"},{"$error":"#DIV/0!"},{"$error":"#DIV/0!"},{"$error":"#DIV/0!"},{"$error":"#DIV/0!"},{"$error":"#DIV/0!"},{"$error":"#DIV/0!"},{"$error":"#DIV/0!"},{"$error":"#DIV/0!"},{"$error":"#DIV/0!"},{"$error":"#DIV/0!"},{"$error":"#DIV/0!"},{"$error":"#DIV/0!"},{"$error":"#DIV/0!"},{"$error":"#DIV/0!"},{"$error":"#DIV/0!"},{"$f":"W106+W116","v":{"$error":"#DIV/0!"}}]
[]
[{"$f":"title288","v":"Cumulative value of Net Profit"}]
[null,{"$f":"title209","v":"Operating Year"},{"$f":"title230","v":"Appraisal"},1,2,3,4,5,6,7,8,9,10,11,12,13,14,15,16,17,18,19,20]
[null,{"$f":"title289","v":"Cumulative value of net profit - before tax"},{"$f":"C106","v":0},{"$f":"C121+(D106)","v":{"$error":"#DIV/0!"}},{"$error":"#DIV/0!"},{"$error":"#DIV/0!"},{"$error":"#DIV/0!"},{"$error":"#DIV/0!"},{"$error":"#DIV/0!"},{"$error":"#DIV/0!"},{"$error":"#DIV/0!"},{"$error":"#DIV/0!"},{"$error":"#DIV/0!"},{"$error":"#DIV/0!"},{"$error":"#DIV/0!"},{"$error":"#DIV/0!"},{"$error":"#DIV/0!"},{"$error":"#DIV/0!"},{"$error":"#DIV/0!"},{"$error":"#DIV/0!"},{"$error":"#DIV/0!"},{"$error":"#DIV/0!"},{"$error":"#DIV/0!"}]
[null,{"$f":"title290","v":"Cumulative value of net profit - after tax"},{"$f":"C117","v":0},{"$f":"C122+(D117)","v":{"$error":"#DIV/0!"}},{"$error":"#DIV/0!"},{"$error":"#DIV/0!"},{"$error":"#DIV/0!"},{"$error":"#DIV/0!"},{"$error":"#DIV/0!"},{"$error":"#DIV/0!"},{"$error":"#DIV/0!"},{"$error":"#DIV/0!"},{"$error":"#DIV/0!"},{"$error":"#DIV/0!"},{"$error":"#DIV/0!"},{"$error":"#DIV/0!"},{"$error":"#DIV/0!"},{"$error":"#DIV/0!"},{"$error":"#DIV/0!"},{"$error":"#DIV/0!"},{"$error":"#DIV/0!"},{"$error":"#DIV/0!"},{"$error":"#DIV/0!"}]
[]
[{"$f":"title291","v":"Financial analysis results"}]
[]
[null,{"$f":"title292","v":"Net present value (NPV) (USD) - before tax"},{"$f":"NPV(C76,D106:W106)+C106","v":{"$error":"#DIV/0!"}}]
[null,{"$f":"title293","v":"Internal rate of return (IRR) (%) - before tax"},{"$f":"IF(C126<0,title459,IF(TIR_cell=title519,IRR(C106:W106,0.001),MIRR(C106:W106,C81,C76)))","v":{"$error":"#DIV/0!"}}]
[null,{"$f":"title294","v":"Payback period (years)"},{"$f":"title298","v":"Please see Figure of the cumulative value of net profit - before tax"}]
[]
[]
[null,{"$f":"title295","v":"Net present value (NPV) (USD) - after tax"},{"$f":"NPV(C76,D117:W117)+C117","v":{"$error":"#DIV/0!"}}]
[null,{"$f":"title296","v":"Internal rate of return (IRR) (%) - after tax"},{"$f":"IF(C131<0,title459,MIRR(C117:W117,C81,0%))","v":{"$error":"#DIV/0!"}}]
[null,{"$f":"title294","v":"Payback period (years)"},{"$f":"title299","v":"Please see Figure of the cumulative value of net profit - after tax"}]
[null,{"$f":"title297","v":"Total Income tax payment of project lifetime"},{"$f":"SUM(D116:W116)","v":{"$error":"#DIV/0!"}}]

{"sheet":"FA4_URBAN_RES4","index":50,"n_rows":133,"n_cols":23,"rows_kept":133,"cut":false,"hidden":true,"merged":[[1,1,1,13]]}
[]
[null,{"$f":"title207","v":" FINANCIAL ANALYSIS OF BIOMASS BRIQUETTING 4 KG/HOUR"}]
[]
[{"$f":"title208","v":"Revenues of biomass briquetting system"}]
[null,{"$f":"title209","v":"Operating Year"},0,1,2,3,4,5,6,7,8,9,10,11,12,13,14,15,16,17,18,19,20]
[]
[null,{"$f":"title210","v":"Briquette production capacity (tons per year)"},{"$f":"COST_RES4!$F$29","v":0},{"$f":"C7","v":0},{"$f":"D7","v":0},0,0,0,0,0,0,0,0,0,0,0,0,0,0,0,0,0,0]
[]
[null,{"$f":"title211","v":"Efficiency % of briquetting machine"},{"$f":"COST_RES4!$G$12","v":0},{"$f":"+C9","v":0},{"$f":"+D9","v":0},0,0,0,0,0,0,0,0,0,0,0,0,0,0,0,0,0,0]
[]
[null,{"$f":"title212","v":"Operating hours per year"},{"$f":"COST_RES4!$G$28","v":0},{"$f":"+C11","v":0},{"$f":"+D11","v":0},0,0,0,0,0,0,0,0,0,0,0,0,0,0,0,0,0,0]
[null,{"$f":"title213","v":"Capacity utilization factor"},{"$f":"C$11/8760","v":0},{"$f":"D$11/8760","v":0},{"$f":"E$11/8760","v":0},0,0,0,0,0,0,0,0,0,0,0,0,0,0,0,0,0,0]
[]
[null,{"$f":"title214","v":"Briquette production (tons per year)"},{"$f":"C$7","v":0},{"$f":"D$7","v":0},0,0,0,0,0,0,0,0,0,0,0,0,0,0,0,0,0,0,0]
[null,{"$f":"title215","v":"Total briquette sell to customers (tons per year)"},{"$f":"SUM(C14:C14)","v":0},{"$f":"SUM(D14:D14)","v":0},0,0,0,0,0,0,0,0,0,0,0,0,0,0,0,0,0,0,0]
[]
[null,{"$f":"title216","v":"Price of briquette (USD/kg)"},{"$f":"SUM(C18:C18)","v":0},0,0,0,0,0,0,0,0,0,0,0,0,0,0,0,0,0,0,0,0]
[null,{"$f":"title217","v":"Market price of briquette pay by consumers (USD/kg)"},{"$f":"+'Energy Demand'!G20","v":0},{"$f":"C18*(1+D19)","v":0},0,0,0,0,0,0,0,0,0,0,0,0,0,0,0,0,0,0,0]
[null,{"$f":"title218","v":"Increasing rate of price of briquette (%)"},{"$f":"+'Data entry needs'!$AD$114","v":0},{"$f":"C19","v":0},{"$f":"D19","v":0},0,0,0,0,0,0,0,0,0,0,0,0,0,0,0,0,0,0]
[]
[null,{"$f":"title219","v":"Total income of briquette (USD per year)"},{"$f":"C15*C18*1000","v":0},{"$f":"D15*D18*1000","v":0},0,0,0,0,0,0,0,0,0,0,0,0,0,0,0,0,0,0,0]
[]
[null,{"$f":"title220","v":"Lifespan of civil work (years)"},{"$f":"COST_RES4!$E$61","v":10}]
[null,{"$f":"title221","v":"Lifespan of briquette system (years)"},{"$f":"COST_RES4!$E$60","v":10}]
[null,{"$f":"title222","v":"Project life time (years)"},20]
[]
[{"$f":"title223","v":"Capital and operating cost of biomass briquette system "}]
[null,null,{"$f":"title230","v":"Appraisal"},{"$f":"title231","v":"Project lifetime"},{"$f":"title232","v":"Investment per year"}]
[null,{"$f":"title224","v":"Direct capital cost (USD)"}]
[null,{"$f":"title225","v":"Equipments"},{"$f":"D30*E30","v":0},{"$f":"$C$25","v":20},{"$f":"COST_RES4!F60/20","v":0}]
[null,{"$f":"title226","v":"Building"},{"$f":"D31*E31","v":0},{"$f":"$C$25","v":20},{"$f":"COST_RES4!F61/20","v":0}]
[null,{"$f":"title227","v":"Installation"},{"$f":"D32*E32","v":0},{"$f":"$C$25","v":20},{"$f":"COST_RES4!F62/20","v":0}]
[null,{"$f":"title228","v":"Total capital cost (USD)"},{"$f":"SUM(C30:C32)","v":0},null,{"$f":"SUM(E30:E32)","v":0}]
[null,{"$f":"title229","v":"Capital cost (USD/kg of briquette)"},{"$f":"C33/(C14*1000*C25)","v":{"$error":"#DIV/0!"}},null,{"$f":"SUM(E31:E33)","v":0}]
[]
[]
[null,{"$f":"title209","v":"Operating Year"},{"$f":"title230","v":"Appraisal"},1,2,3,4,5,6,7,8,9,10,11,12,13,14,15,16,17,18,19,20]
[null,{"$f":"title233","v":"Annual operating and maintenance cost "}]
[null,{"$f":"title234","v":"Sub-total material cost (USD)"},{"$f":"C40+C48+C50+C53","v":{"$error":"#DIV/0!"}},{"$f":"D40+D48+D50+D53","v":{"$error":"#DIV/0!"}},{"$error":"#DIV/0!"},{"$error":"#DIV/0!"},{"$error":"#DIV/0!"},{"$error":"#DIV/0!"},{"$error":"#DIV/0!"},{"$error":"#DIV/0!"},{"$error":"#DIV/0!"},{"$error":"#DIV/0!"},{"$error":"#DIV/0!"},{"$error":"#DIV/0!"},{"$error":"#DIV/0!"},{"$error":"#DIV/0!"},{"$error":"#DIV/0!"},{"$error":"#DIV/0!"},{"$error":"#DIV/0!"},{"$error":"#DIV/0!"},{"$error":"#DIV/0!"},{"$error":"#DIV/0!"},{"$error":"#DIV/0!"}]
[null,{"$f":"title235","v":"Biomass cost (USD/year)"},{"$f":"C41*C42","v":{"$error":"#DIV/0!"}},{"$f":"D41*D42","v":{"$error":"#DIV/0!"}},{"$error":"#DIV/0!"},{"$error":"#DIV/0!"},{"$error":"#DIV/0!"},{"$error":"#DIV/0!"},{"$error":"#DIV/0!"},{"$error":"#DIV/0!"},{"$error":"#DIV/0!"},{"$error":"#DIV/0!"},{"$error":"#DIV/0!"},{"$error":"#DIV/0!"},{"$error":"#DIV/0!"},{"$error":"#DIV/0!"},{"$error":"#DIV/0!"},{"$error":"#DIV/0!"},{"$error":"#DIV/0!"},{"$error":"#DIV/0!"},{"$error":"#DIV/0!"},{"$error":"#DIV/0!"},{"$error":"#DIV/0!"}]
[null,{"$f":"title236","v":"Biomass consumption (ton per year)"},{"$f":"C14/COST_RES4!$G$12","v":{"$error":"#DIV/0!"}},{"$f":"D14/COST_RES4!$G$12","v":{"$error":"#DIV/0!"}},{"$f":"E14/COST_RES4!$G$12","v":{"$error":"#DIV/0!"}},{"$f":"F14/COST_RES4!$G$12","v":{"$error":"#DIV/0!"}},{"$f":"G14/COST_RES4!$G$12","v":{"$error":"#DIV/0!"}},{"$f":"H14/COST_RES4!$G$12","v":{"$error":"#DIV/0!"}},{"$f":"I14/COST_RES4!$G$12","v":{"$error":"#DIV/0!"}},{"$f":"J14/COST_RES4!$G$12","v":{"$error":"#DIV/0!"}},{"$f":"K14/COST_RES4!$G$12","v":{"$error":"#DIV/0!"}},{"$f":"L14/COST_RES4!$G$12","v":{"$error":"#DIV/0!"}},{"$f":"M14/COST_RES4!$G$12","v":{"$error":"#DIV/0!"}},{"$f":"N14/COST_RES4!$G$12","v":{"$error":"#DIV/0!"}},{"$f":"O14/COST_RES4!$G$12","v":{"$error":"#DIV/0!"}},{"$f":"P14/COST_RES4!$G$12","v":{"$error":"#DIV/0!"}},{"$f":"Q14/COST_RES4!$G$12","v":{"$error":"#DIV/0!"}},{"$f":"R14/COST_RES4!$G$12","v":{"$error":"#DIV/0!"}},{"$f":"S14/COST_RES4!$G$12","v":{"$error":"#DIV/0!"}},{"$f":"T14/COST_RES4!$G$12","v":{"$error":"#DIV/0!"}},{"$f":"U14/COST_RES4!$G$12","v":{"$error":"#DIV/0!"}},{"$f":"V14/COST_RES4!$G$12","v":{"$error":"#DIV/0!"}},{"$f":"W14/COST_RES4!$G$12","v":{"$error":"#DIV/0!"}}]
[null,{"$f":"title237","v":"Biomass price (USD/ton)"},{"$f":"SUM(C43:C44)","v":0},{"$f":"SUM(D43:D44)","v":0},0,0,0,0,0,0,0,0,0,0,0,0,0,0,0,0,0,0,0]
[null,{"$f":"title238","v":"Biomass cost of collection (USD/ton)"},{"$f":"COST_RES4!E33","v":0},{"$f":"C43*(1+D73+D74)","v":0},{"$f":"D43*(1+E73+E74)","v":0},0,0,0,0,0,0,0,0,0,0,0,0,0,0,0,0,0,0]
[null,{"$f":"title239","v":"Biomass transportation cost (USD/ton)"},{"$f":"C45*C46","v":0},{"$f":"D45*D46","v":0},0,0,0,0,0,0,0,0,0,0,0,0,0,0,0,0,0,0,0]
[null,{"$f":"title240","v":"Biomass from farm to plant (USD/ton/km)"},{"$f":"COST_RES4!E48","v":0},{"$f":"C45*(1+D73+D74)","v":0},{"$f":"D45*(1+E73+E74)","v":0},0,0,0,0,0,0,0,0,0,0,0,0,0,0,0,0,0,0]
[null,{"$f":"title241","v":"Transportation distant (km)"},{"$f":"COST_RES4!F48","v":0},{"$f":"C46","v":0},{"$f":"D46","v":0},0,0,0,0,0,0,0,0,0,0,0,0,0,0,0,0,0,0]
[]
[null,{"$f":"title246","v":"Water cost (USD/year)"},{"$f":"COST_RES4!G35","v":0},{"$f":"C48*(1+D73+D74)","v":0},{"$f":"D48*(1+E73+E74)","v":0},0,0,0,0,0,0,0,0,0,0,0,0,0,0,0,0,0,0]
[]
[null,{"$f":"title242","v":"Chemical cost (USD/year)"},{"$f":"C51*C52","v":0},{"$f":"D51*D52","v":0},0,0,0,0,0,0,0,0,0,0,0,0,0,0,0,0,0,0,0]
[null,{"$f":"title243","v":"Chemical consumption (tons per year)"},{"$f":"+COST_RES4!$F$34","v":0},{"$f":"+COST_RES4!$F$34","v":0},{"$f":"+COST_RES4!$F$34","v":0},{"$f":"+COST_RES4!$F$34","v":0},{"$f":"+COST_RES4!$F$34","v":0},{"$f":"+COST_RES4!$F$34","v":0},{"$f":"+COST_RES4!$F$34","v":0},{"$f":"+COST_RES4!$F$34","v":0},{"$f":"+COST_RES4!$F$34","v":0},{"$f":"+COST_RES4!$F$34","v":0},{"$f":"+COST_RES4!$F$34","v":0},{"$f":"+COST_RES4!$F$34","v":0},{"$f":"+COST_RES4!$F$34","v":0},{"$f":"+COST_RES4!$F$34","v":0},{"$f":"+COST_RES4!$F$34","v":0},{"$f":"+COST_RES4!$F$34","v":0},{"$f":"+COST_RES4!$F$34","v":0},{"$f":"+COST_RES4!$F$34","v":0},{"$f":"+COST_RES4!$F$34","v":0},{"$f":"+COST_RES4!$F$34","v":0},{"$f":"+COST_RES4!$F$34","v":0}]
[null,{"$f":"title244","v":"Chemical price (USD/ton)"},{"$f":"+'Data entry needs'!$G$20","v":0},{"$f":"C52","v":0},{"$f":"D52","v":0},0,0,0,0,0,0,0,0,0,0,0,0,0,0,0,0,0,0]
[null,{"$f":"title245","v":"Electricity cost (USD)"},{"$f":"COST_RES4!G36","v":0},{"$f":"C53*(1+D73+D74)","v":0},{"$f":"D53*(1+E73+E74)","v":0},0,0,0,0,0,0,0,0,0,0,0,0,0,0,0,0,0,0]
[]
[null,{"$f":"title247","v":"Sub-total operating cost (USD)"},{"$f":"C56+C58+C59","v":{"$error":"#DIV/0!"}},{"$f":"D56+D58+D59","v":{"$error":"#DIV/0!"}},{"$error":"#DIV/0!"},{"$error":"#DIV/0!"},{"$error":"#DIV/0!"},{"$error":"#DIV/0!"},{"$error":"#DIV/0!"},{"$error":"#DIV/0!"},{"$error":"#DIV/0!"},{"$error":"#DIV/0!"},{"$error":"#DIV/0!"},{"$error":"#DIV/0!"},{"$error":"#DIV/0!"},{"$error":"#DIV/0!"},{"$error":"#DIV/0!"},{"$error":"#DIV/0!"},{"$error":"#DIV/0!"},{"$error":"#DIV/0!"},{"$error":"#DIV/0!"},{"$error":"#DIV/0!"},{"$error":"#DIV/0!"}]
[null,{"$f":"title248","v":"Labour cost (USD)"},{"$f":"COST_RES4!G44","v":0},{"$f":"C56*(1+D57)","v":0},0,0,0,0,0,0,0,0,0,0,0,0,0,0,0,0,0,0,0]
[null,{"$f":"title249","v":"Annual change in labour cost (%)"},null,{"$f":"COST_RES4!M12","v":0},{"$f":"D57","v":0},{"$f":"E57","v":0},0,0,0,0,0,0,0,0,0,0,0,0,0,0,0,{"$f":"U57","v":0},0]
[null,{"$f":"title249","v":"Annual change in labour cost (%)"},{"$f":"COST_RES4!G70","v":0},{"$f":"C58","v":0},{"$f":"D58","v":0},0,0,0,0,0,0,0,0,0,0,0,0,0,0,0,0,0,0]
[null,{"$f":"title250","v":"General and administrative cost"},{"$f":"COST_RES4!G71","v":{"$error":"#DIV/0!"}},{"$f":"C59","v":{"$error":"#DIV/0!"}},{"$error":"#DIV/0!"},{"$error":"#DIV/0!"},{"$error":"#DIV/0!"},{"$error":"#DIV/0!"},{"$error":"#DIV/0!"},{"$error":"#DIV/0!"},{"$error":"#DIV/0!"},{"$error":"#DIV/0!"},{"$error":"#DIV/0!"},{"$error":"#DIV/0!"},{"$error":"#DIV/0!"},{"$error":"#DIV/0!"},{"$error":"#DIV/0!"},{"$error":"#DIV/0!"},{"$error":"#DIV/0!"},{"$error":"#DIV/0!"},{"$error":"#DIV/0!"},{"$error":"#DIV/0!"},{"$error":"#DIV/0!"}]
[null,{"$f":"title251","v":"Sub-total maintenance cost (USD)"},{"$f":"COST_RES4!G65","v":0},{"$f":"C60","v":0},0,0,0,0,0,0,0,0,0,0,0,0,0,0,0,0,0,0,0]
[]
[null,{"$f":"title252","v":"Sub-total of annual fixed costs"},{"$f":"+E33","v":0},{"$f":"C62","v":0},{"$f":"D62","v":0},0,0,0,0,0,0,0,0,0,0,0,0,0,0,0,0,0,0]
[]
[null,{"$f":"title253","v":"Sub-total of storage capacity"},{"$f":"COST_RES4!G56","v":{"$error":"#DIV/0!"}},{"$f":"C64","v":{"$error":"#DIV/0!"}},{"$f":"D64","v":{"$error":"#DIV/0!"}},{"$error":"#DIV/0!"},{"$error":"#DIV/0!"},{"$error":"#DIV/0!"},{"$error":"#DIV/0!"},{"$error":"#DIV/0!"},{"$error":"#DIV/0!"},{"$error":"#DIV/0!"},{"$error":"#DIV/0!"},{"$error":"#DIV/0!"},{"$error":"#DIV/0!"},{"$error":"#DIV/0!"},{"$error":"#DIV/0!"},{"$error":"#DIV/0!"},{"$error":"#DIV/0!"},{"$error":"#DIV/0!"},{"$error":"#DIV/0!"},{"$error":"#DIV/0!"},{"$error":"#DIV/0!"}]
[]
[null,{"$f":"title254","v":"Sub-total of briquette transportation to market"},{"$f":"COST_RES4!G49","v":0},{"$f":"C66*(1+D73+D74)","v":0},{"$f":"D66*(1+E73+E74)","v":0},0,0,0,0,0,0,0,0,0,0,0,0,0,0,0,0,0,0]
[]
[null,{"$f":"title255","v":"Total operation and maintenance cost (USD)"},{"$f":"C39+C55+C60+C62+C64+C66","v":{"$error":"#DIV/0!"}},{"$f":"D39+D55+D60+D62+D64+D66","v":{"$error":"#DIV/0!"}},{"$error":"#DIV/0!"},{"$error":"#DIV/0!"},{"$error":"#DIV/0!"},{"$error":"#DIV/0!"},{"$error":"#DIV/0!"},{"$error":"#DIV/0!"},{"$error":"#DIV/0!"},{"$error":"#DIV/0!"},{"$error":"#DIV/0!"},{"$error":"#DIV/0!"},{"$error":"#DIV/0!"},{"$error":"#DIV/0!"},{"$error":"#DIV/0!"},{"$error":"#DIV/0!"},{"$error":"#DIV/0!"},{"$error":"#DIV/0!"},{"$error":"#DIV/0!"},{"$error":"#DIV/0!"},{"$error":"#DIV/0!"}]
[null,{"$f":"title256","v":"Operation and maintenance cost (USD/kg of briquette) without loan interest"},{"$f":"C68/(C14*1000)","v":{"$error":"#DIV/0!"}},{"$error":"#DIV/0!"},{"$error":"#DIV/0!"},{"$error":"#DIV/0!"},{"$error":"#DIV/0!"},{"$error":"#DIV/0!"},{"$error":"#DIV/0!"},{"$error":"#DIV/0!"},{"$error":"#DIV/0!"},{"$error":"#DIV/0!"},{"$error":"#DIV/0!"},{"$error":"#DIV/0!"},{"$error":"#DIV/0!"},{"$error":"#DIV/0!"},{"$error":"#DIV/0!"},{"$error":"#DIV/0!"},{"$error":"#DIV/0!"},{"$error":"#DIV/0!"},{"$error":"#DIV/0!"},{"$error":"#DIV/0!"},{"$error":"#DIV/0!"}]
[]
[{"$f":"title164","v":"Financial parameters"}]
[null,{"$f":"title209","v":"Operating Year"},{"$f":"title230","v":"Appraisal"},1,2,3,4,5,6,7,8,9,10,11,12,13,14,15,16,17,18,19,20]
[null,{"$f":"title257","v":"Annual change in raw material cost (%)"},null,0,{"$f":"D73","v":0},{"$f":"E73","v":0},0,0,0,0,0,0,0,0,0,0,0,0,0,0,0,{"$f":"U73","v":0},{"$f":"V73","v":0}]
[null,{"$f":"title258","v":"Inflation rate (%)"},null,{"$f":"COST_RES4!J12","v":0},{"$f":"D74","v":0},0,0,0,0,0,0,0,0,0,0,0,0,0,0,0,0,{"$f":"U74","v":0},{"$f":"V74","v":0}]
[null,{"$f":"title165&\" (%)\"","v":"Discount rate (%)"},{"$f":"COST_RES4!J9","v":0}]
[null,{"$f":"title166&\" (%)\"","v":"Loan ratio (%)"},{"$f":"COST_RES4!J10","v":0}]
[]
[null,{"$f":"title259","v":"Loan without policy"},{"$f":"title230","v":"Appraisal"},1,2,3,4,5,6,7,8,9,10,11,12,13,14,15,16,17,18,19,20]
[null,{"$f":"title260","v":"Loan amount (USD)"},{"$f":"C76*(C33)","v":0}]
[null,{"$f":"title167&\" (%)\"","v":"Loan interest rate (%)"},{"$f":"COST_RES4!J11","v":0}]
[null,{"$f":"title261","v":"Loan term (years)"},{"$f":"COST_RES4!M9","v":0}]
[null,{"$f":"title262","v":"Loan payment (USD/month)"},{"$f":"(PMT($C$80/12,(12*$C$81),$C$79))","v":{"$error":"#NUM!"}}]
[null,{"$f":"title263","v":"Loan payment (USD/year)"},null,{"$f":"IF(D72<=$C$81,$C$82*12,0)","v":0},{"$f":"IF(E72<$C$81,$C$82*12,IF(E72=$C$81,$C$82*12,0))","v":0},{"$f":"IF(F72<$C$81,$C$82*12,IF(F72=$C$81,$C$82*12,0))","v":0},0,0,0,0,0,0,0,0,0,0,0,0,0,0,0,0,0]
[null,{"$f":"title264","v":"Total loan payment (USD)"},{"$f":"SUM(D83:W83)","v":0}]
[null,{"$f":"title265","v":"Loan interest payment (USD)"},{"$f":"C84+C79","v":0},{"$f":"title266","v":"Average loan interest payment for project lifetime"},null,null,{"$f":"C85/C25","v":0},{"$f":"title267","v":"USD per year"}]
[]
[{"$f":"title268","v":"Income tax analysis"}]
[null,{"$f":"title209","v":"Operating Year"},{"$f":"title230","v":"Appraisal"},1,2,3,4,5,6,7,8,9,10,11,12,13,14,15,16,17,18,19,20]
[null,{"$f":"title269","v":"Effective income tax rate (%)"},{"$f":"+'Data entry needs'!$AD$115","v":0},{"$f":"C89","v":0},{"$f":"D89","v":0},0,0,0,0,0,0,0,0,0,0,0,0,0,0,0,0,0,0]
[null,{"$f":"title270","v":"Income tax (USD)"},null,{"$f":"IF(D114<0,0,D89*D114)","v":{"$error":"#DIV/0!"}},{"$error":"#DIV/0!"},{"$error":"#DIV/0!"},{"$error":"#DIV/0!"},{"$error":"#DIV/0!"},{"$error":"#DIV/0!"},{"$error":"#DIV/0!"},{"$error":"#DIV/0!"},{"$error":"#DIV/0!"},{"$error":"#DIV/0!"},{"$error":"#DIV/0!"},{"$error":"#DIV/0!"},{"$error":"#DIV/0!"},{"$error":"#DIV/0!"},{"$error":"#DIV/0!"},{"$error":"#DIV/0!"},{"$error":"#DIV/0!"},{"$error":"#DIV/0!"},{"$error":"#DIV/0!"},{"$error":"#DIV/0!"}]
[null,{"$f":"title271","v":"Total income tax payment (USD)"},{"$f":"SUM(D90:W90)","v":{"$error":"#DIV/0!"}},{"$f":"title458","v":"Average income tax payment "},null,{"$f":"C91/C25","v":{"$error":"#DIV/0!"}},{"$f":"title267","v":"USD per year"}]
[]
[{"$f":"title272","v":"Depreciation"}]
[null,{"$f":"title209","v":"Operating Year"},{"$f":"title230","v":"Appraisal"},1,2,3,4,5,6,7,8,9,10,11,12,13,14,15,16,17,18,19,20]
[null,{"$f":"title273","v":"Depreciation method"},{"$f":"title275","v":"Straight-line"}]
[null,{"$f":"title274","v":"Total depreciation (USD)"},null,{"$f":"COST_RES4!G64","v":0},{"$f":"D96","v":0},{"$f":"E96","v":0},0,0,0,0,0,0,0,0,0,0,0,0,0,0,0,0,0]
[]
[{"$f":"title276","v":"Base case project summary"}]
[{"$f":"title277","v":"Summary of this project - Before Tax"}]
[null,{"$f":"title209","v":"Operating Year"},{"$f":"title230","v":"Appraisal"},1,2,3,4,5,6,7,8,9,10,11,12,13,14,15,16,17,18,19,20]
[null,{"$f":"title278","v":"Total revenue (USD)"},null,{"$f":"D15*1000*D18","v":0},{"$f":"E15*1000*E18","v":0},0,0,0,0,0,0,0,0,0,0,0,0,0,0,0,0,0,0]
[null,{"$f":"title228","v":"Total capital cost (USD)"},{"$f":"-(C33-C79)","v":0}]
[null,{"$f":"title279","v":"Total operating and maintenance cost (USD)"},null,{"$f":"-D68+D62","v":{"$error":"#DIV/0!"}},{"$error":"#DIV/0!"},{"$error":"#DIV/0!"},{"$error":"#DIV/0!"},{"$error":"#DIV/0!"},{"$error":"#DIV/0!"},{"$error":"#DIV/0!"},{"$error":"#DIV/0!"},{"$error":"#DIV/0!"},{"$error":"#DIV/0!"},{"$error":"#DIV/0!"},{"$error":"#DIV/0!"},{"$error":"#DIV/0!"},{"$error":"#DIV/0!"},{"$error":"#DIV/0!"},{"$error":"#DIV/0!"},{"$error":"#DIV/0!"},{"$error":"#DIV/0!"},{"$error":"#DIV/0!"},{"$error":"#DIV/0!"}]
[null,{"$f":"title280","v":"Loan payment (USD)"},null,{"$f":"D83","v":0},{"$f":"E83","v":0},0,0,0,0,0,0,0,0,0,0,0,0,0,0,0,0,0,0]
[null,{"$f":"title281","v":"Cash flow - before tax (USD)"},{"$f":"SUM(C101:C104)","v":0},{"$error":"#DIV/0!"},{"$error":"#DIV/0!"},{"$error":"#DIV/0!"},{"$error":"#DIV/0!"},{"$error":"#DIV/0!"},{"$error":"#DIV/0!"},{"$error":"#DIV/0!"},{"$error":"#DIV/0!"},{"$error":"#DIV/0!"},{"$error":"#DIV/0!"},{"$error":"#DIV/0!"},{"$error":"#DIV/0!"},{"$error":"#DIV/0!"},{"$error":"#DIV/0!"},{"$error":"#DIV/0!"},{"$error":"#DIV/0!"},{"$error":"#DIV/0!"},{"$error":"#DIV/0!"},{"$error":"#DIV/0!"},{"$error":"#DIV/0!"}]
[null,{"$f":"title282","v":"Average revenue (USD)"}]
[]
[{"$f":"title283","v":"Summary of this project - After Tax"}]
[null,{"$f":"title209","v":"Operating Year"},{"$f":"title230","v":"Appraisal"},1,2,3,4,5,6,7,8,9,10,11,12,13,14,15,16,17,18,19,20]
[null,{"$f":"B101","v":"Total revenue (USD)"},{"$f":"C101","v":0},{"$f":"D101","v":0},{"$f":"E101","v":0},0,0,0,0,0,0,0,0,0,0,0,0,0,0,0,0,0,0]
[null,{"$f":"title279","v":"Total operating and maintenance cost (USD)"},null,{"$f":"-D68+D62","v":{"$error":"#DIV/0!"}},{"$error":"#DIV/0!"},{"$error":"#DIV/0!"},{"$error":"#DIV/0!"},{"$error":"#DIV/0!"},{"$error":"#DIV/0!"},{"$error":"#DIV/0!"},{"$error":"#DIV/0!"},{"$error":"#DIV/0!"},{"$error":"#DIV/0!"},{"$error":"#DIV/0!"},{"$error":"#DIV/0!"},{"$error":"#DIV/0!"},{"$error":"#DIV/0!"},{"$error":"#DIV/0!"},{"$error":"#DIV/0!"},{"$error":"#DIV/0!"},{"$error":"#DIV/0!"},{"$error":"#DIV/0!"},{"$error":"#DIV/0!"}]
[null,{"$f":"title280","v":"Loan payment (USD)"},null,{"$f":"$G$85","v":0},{"$f":"$G$85","v":0},0,0,0,0,0,0,0,0,0,0,0,0,0,0,0,0,0,0]
[null,{"$f":"title284","v":"Depreciation of fixed costs (USD)"},null,{"$f":"-D62","v":0},{"$f":"-E62","v":0},0,0,0,0,0,0,0,0,0,0,0,0,0,0,0,0,0,0]
[null,{"$f":"title285","v":"Net profit - before tax (USD) for income tax calculation"},{"$f":"SUM(C110:C113)","v":0},{"$f":"SUM(D110:D113)","v":{"$error":"#DIV/0!"}},{"$f":"SUM(E110:E113)","v":{"$error":"#DIV/0!"}},{"$error":"#DIV/0!"},{"$error":"#DIV/0!"},{"$error":"#DIV/0!"},{"$error":"#DIV/0!"},{"$error":"#DIV/0!"},{"$error":"#DIV/0!"},{"$error":"#DIV/0!"},{"$error":"#DIV/0!"},{"$error":"#DIV/0!"},{"$error":"#DIV/0!"},{"$error":"#DIV/0!"},{"$error":"#DIV/0!"},{"$error":"#DIV/0!"},{"$error":"#DIV/0!"},{"$error":"#DIV/0!"},{"$error":"#DIV/0!"},{"$error":"#DIV/0!"},{"$error":"#DIV/0!"}]
[null,{"$f":"title286","v":"Income tax"},null,{"$f":"IF(D114>0,-D90,0)","v":{"$error":"#DIV/0!"}},{"$error":"#DIV/0!"},{"$error":"#DIV/0!"},{"$error":"#DIV/0!"},{"$error":"#DIV/0!"},{"$error":"#DIV/0!"},{"$error":"#DIV/0!"},{"$error":"#DIV/0!"},{"$error":"#DIV/0!"},{"$error":"#DIV/0!"},{"$error":"#DIV/0!"},{"$error":"#DIV/0!"},{"$error":"#DIV/0!"},{"$error":"#DIV/0!"},{"$error":"#DIV/0!"},{"$error":"#DIV/0!"},{"$error":"#DIV/0!"},{"$error":"#DIV/0!"},{"$error":"#DIV/0!"},{"$error":"#DIV/0!"}]
[null,{"$f":"title287","v":"Cash flow - after tax (USD)"},{"$f":"C102","v":0},{"$f":"D105+D115","v":{"$error":"#DIV/0!"}},{"$f":"E105+E115","v":{"$error":"#DIV/0!"}},{"$error":"#DIV/0!"},{"$error":"#DIV/0!"},{"$error":"#DIV/0!"},{"$error":"#DIV/0!"},{"$error":"#DIV/0!"},{"$error":"#DIV/0!"},{"$error":"#DIV/0!"},{"$error":"#DIV/0!"},{"$error":"#DIV/0!"},{"$error":"#DIV/0!"},{"$error":"#DIV/0!"},{"$error":"#DIV/0!"},{"$error":"#DIV/0!"},{"$error":"#DIV/0!"},{"$error":"#DIV/0!"},{"$error":"#DIV/0!"},{"$error":"#DIV/0!"},{"$f":"W105+W115","v":{"$error":"#DIV/0!"}}]
[]
[{"$f":"title288","v":"Cumulative value of Net Profit"}]
[null,{"$f":"title209","v":"Operating Year"},{"$f":"title230","v":"Appraisal"},1,2,3,4,5,6,7,8,9,10,11,12,13,14,15,16,17,18,19,20]
[null,{"$f":"title289","v":"Cumulative value of net profit - before tax"},{"$f":"C105","v":0},{"$f":"C120+(D105)","v":{"$error":"#DIV/0!"}},{"$error":"#DIV/0!"},{"$error":"#DIV/0!"},{"$error":"#DIV/0!"},{"$error":"#DIV/0!"},{"$error":"#DIV/0!"},{"$error":"#DIV/0!"},{"$error":"#DIV/0!"},{"$error":"#DIV/0!"},{"$error":"#DIV/0!"},{"$error":"#DIV/0!"},{"$error":"#DIV/0!"},{"$error":"#DIV/0!"},{"$error":"#DIV/0!"},{"$error":"#DIV/0!"},{"$error":"#DIV/0!"},{"$error":"#DIV/0!"},{"$error":"#DIV/0!"},{"$error":"#DIV/0!"},{"$error":"#DIV/0!"}]
[null,{"$f":"title290","v":"Cumulative value of net profit - after tax"},{"$f":"C116","v":0},{"$f":"C121+(D116)","v":{"$error":"#DIV/0!"}},{"$error":"#DIV/0!"},{"$error":"#DIV/0!"},{"$error":"#DIV/0!"},{"$error":"#DIV/0!"},{"$error":"#DIV/0!"},{"$error":"#DIV/0!"},{"$error":"#DIV/0!"},{"$error":"#DIV/0!"},{"$error":"#DIV/0!"},{"$error":"#DIV/0!"},{"$error":"#DIV/0!"},{"$error":"#DIV/0!"},{"$error":"#DIV/0!"},{"$error":"#DIV/0!"},{"$error":"#DIV/0!"},{"$error":"#DIV/0!"},{"$error":"#DIV/0!"},{"$error":"#DIV/0!"},{"$error":"#DIV/0!"}]
[]
[{"$f":"title291","v":"Financial analysis results"}]
[]
[null,{"$f":"title292","v":"Net present value (NPV) (USD) - before tax"},{"$f":"NPV(C75,D105:W105)+C105","v":{"$error":"#DIV/0!"}}]
[null,{"$f":"title293","v":"Internal rate of return (IRR) (%) - before tax"},{"$f":"IF(C125<0,title459,IF(TIR_cell=title519,IRR(C105:W105,0.001),MIRR(C105:W105,C80,C75)))","v":{"$error":"#DIV/0!"}}]
[null,{"$f":"title294","v":"Payback period (years)"},{"$f":"title298","v":"Please see Figure of the cumulative value of net profit - before tax"}]
[]
[]
[null,{"$f":"title295","v":"Net present value (NPV) (USD) - after tax"},{"$f":"NPV(C75,D116:W116)+C116","v":{"$error":"#DIV/0!"}}]
[null,{"$f":"title296","v":"Internal rate of return (IRR) (%) - after tax"},{"$f":"IF(C130<0,title459,MIRR(C116:W116,$C$80,0%))","v":{"$error":"#DIV/0!"}}]
[null,{"$f":"title294","v":"Payback period (years)"},{"$f":"title299","v":"Please see Figure of the cumulative value of net profit - after tax"}]
[null,{"$f":"title297","v":"Total Income tax payment of project lifetime"},{"$f":"SUM(D115:W115)","v":{"$error":"#DIV/0!"}}]

{"sheet":"FA40_URBAN_RES4","index":51,"n_rows":133,"n_cols":23,"rows_kept":133,"cut":false,"hidden":true,"merged":[[1,1,1,13]]}
[]
[null,{"$f":"title300","v":"FINANCIAL ANALYSIS OF BIOMASS BRIQUETTING 40 KG/HOUR"}]
[]
[{"$f":"title208","v":"Revenues of biomass briquetting system"}]
[null,{"$f":"title209","v":"Operating Year"},0,1,2,3,4,5,6,7,8,9,10,11,12,13,14,15,16,17,18,19,20]
[]
[null,{"$f":"title210","v":"Briquette production capacity (tons per year)"},{"$f":"COST_RES4!$H$29","v":0},{"$f":"C7","v":0},{"$f":"D7","v":0},0,0,0,0,0,0,0,0,0,0,0,0,0,0,0,0,0,0]
[]
[null,{"$f":"title211","v":"Efficiency % of briquetting machine"},{"$f":"COST_RES4!$G$12","v":0},0.95,0.95,0.95,0.95,0.95,0.95,0.95,0.95,0.95,0.95,0.95,0.95,0.95,0.95,0.95,0.95,0.95,0.95,0.95,0.95]
[]
[null,{"$f":"title212","v":"Operating hours per year"},{"$f":"COST_RES4!I28","v":0},{"$f":"+C11","v":0},{"$f":"+D11","v":0},0,0,0,0,0,0,0,0,0,0,0,0,0,0,0,0,0,0]
[null,{"$f":"title213","v":"Capacity utilization factor"},{"$f":"C11/8760","v":0},{"$f":"D11/8760","v":0},{"$f":"E11/8760","v":0},0,0,0,0,0,0,0,0,0,0,0,0,0,0,0,0,0,0]
[]
[null,{"$f":"title214","v":"Briquette production (tons per year)"},{"$f":"C7","v":0},{"$f":"D7","v":0},0,0,0,0,0,0,0,0,0,0,0,0,0,0,0,0,0,0,0]
[null,{"$f":"title215","v":"Total briquette sell to customers (tons per year)"},{"$f":"SUM(C14:C14)","v":0},{"$f":"SUM(D14:D14)","v":0},0,0,0,0,0,0,0,0,0,0,0,0,0,0,0,0,0,0,0]
[]
[null,{"$f":"title216","v":"Price of briquette (USD/kg)"},{"$f":"SUM(C18:C18)","v":0},0,0,0,0,0,0,0,0,0,0,0,0,0,0,0,0,0,0,0,0]
[null,{"$f":"title217","v":"Market price of briquette pay by consumers (USD/kg)"},{"$f":"+'Energy Demand'!G20","v":0},{"$f":"C18*(1+D19)","v":0},0,0,0,0,0,0,0,0,0,0,0,0,0,0,0,0,0,0,0]
[null,{"$f":"title218","v":"Increasing rate of price of briquette (%)"},{"$f":"+'Data entry needs'!$AD$114","v":0},{"$f":"C19","v":0},{"$f":"D19","v":0},0,0,0,0,0,0,0,0,0,0,0,0,0,0,0,0,0,0]
[]
[null,{"$f":"title219","v":"Total income of briquette (USD per year)"},{"$f":"C15*C18*1000","v":0},{"$f":"D15*D18*1000","v":0},0,0,0,0,0,0,0,0,0,0,0,0,0,0,0,0,0,0,0]
[]
[null,{"$f":"title220","v":"Lifespan of civil work (years)"},{"$f":"COST_RES4!E61","v":10}]
[null,{"$f":"title221","v":"Lifespan of briquette system (years)"},{"$f":"COST_RES4!E60","v":10}]
[null,{"$f":"title222","v":"Project life time (years)"},20]
[]
[{"$f":"title223","v":"Capital and operating cost of biomass briquette system "}]
[null,null,{"$f":"title230","v":"Appraisal"},{"$f":"title231","v":"Project lifetime"},{"$f":"title232","v":"Investment per year"}]
[null,{"$f":"title224","v":"Direct capital cost (USD)"}]
[null,{"$f":"title225","v":"Equipments"},{"$f":"D30*E30","v":0},{"$f":"$C$25","v":20},{"$f":"COST_RES4!H60/D30","v":0}]
[null,{"$f":"title226","v":"Building"},{"$f":"D31*E31","v":0},{"$f":"$C$25","v":20},{"$f":"COST_RES4!H61/D31","v":0}]
[null,{"$f":"title227","v":"Installation"},{"$f":"D32*E32","v":0},{"$f":"$C$25","v":20},{"$f":"COST_RES4!H62/D32","v":0}]
[null,{"$f":"title228","v":"Total capital cost (USD)"},{"$f":"SUM(C30:C32)","v":0},null,{"$f":"SUM(E30:E32)","v":0}]
[null,{"$f":"title229","v":"Capital cost (USD/kg of briquette)"},{"$f":"C33/(C14*1000*C25)","v":{"$error":"#DIV/0!"}},null,{"$f":"SUM(E31:E33)","v":0}]
[]
[]
[null,{"$f":"title209","v":"Operating Year"},{"$f":"title230","v":"Appraisal"},1,2,3,4,5,6,7,8,9,10,11,12,13,14,15,16,17,18,19,20]
[null,{"$f":"title233","v":"Annual operating and maintenance cost "}]
[null,{"$f":"title234","v":"Sub-total material cost (USD)"},{"$f":"C40+C48+C50+C53","v":{"$error":"#DIV/0!"}},{"$f":"D40+D48+D50+D53","v":{"$error":"#DIV/0!"}},{"$error":"#DIV/0!"},{"$error":"#DIV/0!"},{"$error":"#DIV/0!"},{"$error":"#DIV/0!"},{"$error":"#DIV/0!"},{"$error":"#DIV/0!"},{"$error":"#DIV/0!"},{"$error":"#DIV/0!"},{"$error":"#DIV/0!"},{"$error":"#DIV/0!"},{"$error":"#DIV/0!"},{"$error":"#DIV/0!"},{"$error":"#DIV/0!"},{"$error":"#DIV/0!"},{"$error":"#DIV/0!"},{"$error":"#DIV/0!"},{"$error":"#DIV/0!"},{"$error":"#DIV/0!"},{"$error":"#DIV/0!"}]
[null,{"$f":"title235","v":"Biomass cost (USD/year)"},{"$f":"C41*C42","v":{"$error":"#DIV/0!"}},{"$f":"D41*D42","v":{"$error":"#DIV/0!"}},{"$error":"#DIV/0!"},{"$error":"#DIV/0!"},{"$error":"#DIV/0!"},{"$error":"#DIV/0!"},{"$error":"#DIV/0!"},{"$error":"#DIV/0!"},{"$error":"#DIV/0!"},{"$error":"#DIV/0!"},{"$error":"#DIV/0!"},{"$error":"#DIV/0!"},{"$error":"#DIV/0!"},{"$error":"#DIV/0!"},{"$error":"#DIV/0!"},{"$error":"#DIV/0!"},{"$error":"#DIV/0!"},{"$error":"#DIV/0!"},{"$error":"#DIV/0!"},{"$error":"#DIV/0!"},{"$error":"#DIV/0!"}]
[null,{"$f":"title236","v":"Biomass consumption (ton per year)"},{"$f":"C14/COST_RES4!$G$12","v":{"$error":"#DIV/0!"}},{"$f":"D14/COST_RES4!$G$12","v":{"$error":"#DIV/0!"}},{"$f":"E14/COST_RES4!$G$12","v":{"$error":"#DIV/0!"}},{"$f":"F14/COST_RES4!$G$12","v":{"$error":"#DIV/0!"}},{"$f":"G14/COST_RES4!$G$12","v":{"$error":"#DIV/0!"}},{"$f":"H14/COST_RES4!$G$12","v":{"$error":"#DIV/0!"}},{"$f":"I14/COST_RES4!$G$12","v":{"$error":"#DIV/0!"}},{"$f":"J14/COST_RES4!$G$12","v":{"$error":"#DIV/0!"}},{"$f":"K14/COST_RES4!$G$12","v":{"$error":"#DIV/0!"}},{"$f":"L14/COST_RES4!$G$12","v":{"$error":"#DIV/0!"}},{"$f":"M14/COST_RES4!$G$12","v":{"$error":"#DIV/0!"}},{"$f":"N14/COST_RES4!$G$12","v":{"$error":"#DIV/0!"}},{"$f":"O14/COST_RES4!$G$12","v":{"$error":"#DIV/0!"}},{"$f":"P14/COST_RES4!$G$12","v":{"$error":"#DIV/0!"}},{"$f":"Q14/COST_RES4!$G$12","v":{"$error":"#DIV/0!"}},{"$f":"R14/COST_RES4!$G$12","v":{"$error":"#DIV/0!"}},{"$f":"S14/COST_RES4!$G$12","v":{"$error":"#DIV/0!"}},{"$f":"T14/COST_RES4!$G$12","v":{"$error":"#DIV/0!"}},{"$f":"U14/COST_RES4!$G$12","v":{"$error":"#DIV/0!"}},{"$f":"V14/COST_RES4!$G$12","v":{"$error":"#DIV/0!"}},{"$f":"W14/COST_RES4!$G$12","v":{"$error":"#DIV/0!"}}]
[null,{"$f":"title237","v":"Biomass price (USD/ton)"},{"$f":"SUM(C43:C44)","v":0},{"$f":"SUM(D43:D44)","v":0},0,0,0,0,0,0,0,0,0,0,0,0,0,0,0,0,0,0,0]
[null,{"$f":"title238","v":"Biomass cost of collection (USD/ton)"},{"$f":"COST_RES4!E33","v":0},{"$f":"C43*(1+D73+D74)","v":0},{"$f":"D43*(1+E73+E74)","v":0},0,0,0,0,0,0,0,0,0,0,0,0,0,0,0,0,0,0]
[null,{"$f":"title239","v":"Biomass transportation cost (USD/ton)"},{"$f":"C45*C46","v":0},{"$f":"D45*D46","v":0},0,0,0,0,0,0,0,0,0,0,0,0,0,0,0,0,0,0,0]
[null,{"$f":"title240","v":"Biomass from farm to plant (USD/ton/km)"},{"$f":"COST_RES4!E48","v":0},{"$f":"C45*(1+D73+D74)","v":0},{"$f":"D45*(1+E73+E74)","v":0},0,0,0,0,0,0,0,0,0,0,0,0,0,0,0,0,0,0]
[null,{"$f":"title241","v":"Transportation distant (km)"},{"$f":"COST_RES4!H48","v":0},{"$f":"C46","v":0},{"$f":"D46","v":0},0,0,0,0,0,0,0,0,0,0,0,0,0,0,{"$f":"S46","v":0},{"$f":"T46","v":0},{"$f":"U46","v":0},{"$f":"V46","v":0}]
[]
[null,{"$f":"title246","v":"Water cost (USD/year)"},{"$f":"COST_RES4!I35","v":0},{"$f":"C48*(1+D73+D74)","v":0},{"$f":"D48*(1+E73+E74)","v":0},0,0,0,0,0,0,0,0,0,0,0,0,0,0,0,0,0,0]
[]
[null,{"$f":"title242","v":"Chemical cost (USD/year)"},{"$f":"C51*C52","v":0},{"$f":"D51*D52","v":0},0,0,0,0,0,0,0,0,0,0,0,0,0,0,0,0,0,0,0]
[null,{"$f":"title243","v":"Chemical consumption (tons per year)"},{"$f":"+COST_RES4!$H$34","v":0},{"$f":"+COST_RES4!$H$34","v":0},{"$f":"+COST_RES4!$H$34","v":0},{"$f":"+COST_RES4!$H$34","v":0},{"$f":"+COST_RES4!$H$34","v":0},{"$f":"+COST_RES4!$H$34","v":0},{"$f":"+COST_RES4!$H$34","v":0},{"$f":"+COST_RES4!$H$34","v":0},{"$f":"+COST_RES4!$H$34","v":0},{"$f":"+COST_RES4!$H$34","v":0},{"$f":"+COST_RES4!$H$34","v":0},{"$f":"+COST_RES4!$H$34","v":0},{"$f":"+COST_RES4!$H$34","v":0},{"$f":"+COST_RES4!$H$34","v":0},{"$f":"+COST_RES4!$H$34","v":0},{"$f":"+COST_RES4!$H$34","v":0},{"$f":"+COST_RES4!$H$34","v":0},{"$f":"+COST_RES4!$H$34","v":0},{"$f":"+COST_RES4!$H$34","v":0},{"$f":"+COST_RES4!$H$34","v":0},{"$f":"+COST_RES4!$H$34","v":0}]
[null,{"$f":"title244","v":"Chemical price (USD/ton)"},{"$f":"+'Data entry needs'!$F$20","v":0},{"$f":"C52","v":0},{"$f":"D52","v":0},0,0,0,0,0,0,0,0,0,0,0,0,0,0,0,0,0,0]
[null,{"$f":"title245","v":"Electricity cost (USD)"},{"$f":"COST_RES4!I36","v":0},{"$f":"C53*(1+D73+D74)","v":0},{"$f":"D53*(1+E73+E74)","v":0},0,0,0,0,0,0,0,0,0,0,0,0,0,0,0,0,0,0]
[]
[null,{"$f":"title247","v":"Sub-total operating cost (USD)"},{"$f":"C56+C58+C59","v":{"$error":"#DIV/0!"}},{"$f":"D56+D58+D59","v":{"$error":"#DIV/0!"}},{"$error":"#DIV/0!"},{"$error":"#DIV/0!"},{"$error":"#DIV/0!"},{"$error":"#DIV/0!"},{"$error":"#DIV/0!"},{"$error":"#DIV/0!"},{"$error":"#DIV/0!"},{"$error":"#DIV/0!"},{"$error":"#DIV/0!"},{"$error":"#DIV/0!"},{"$error":"#DIV/0!"},{"$error":"#DIV/0!"},{"$error":"#DIV/0!"},{"$error":"#DIV/0!"},{"$error":"#DIV/0!"},{"$error":"#DIV/0!"},{"$error":"#DIV/0!"},{"$error":"#DIV/0!"},{"$error":"#DIV/0!"}]
[null,{"$f":"title248","v":"Labour cost (USD)"},{"$f":"COST_RES4!I44","v":0},{"$f":"C56*(1+D57)","v":0},0,0,0,0,0,0,0,0,0,0,0,0,0,0,0,0,0,0,0]
[null,{"$f":"title249","v":"Annual change in labour cost (%)"},null,{"$f":"COST_RES4!M12","v":0},{"$f":"D57","v":0},0,0,0,0,0,0,0,0,0,0,0,0,0,0,0,{"$f":"T57","v":0},0,0]
[null,{"$f":"title249","v":"Annual change in labour cost (%)"},{"$f":"COST_RES4!I70","v":0},{"$f":"C58","v":0},0,0,0,0,0,0,0,0,0,0,0,0,0,0,0,0,0,0,0]
[null,{"$f":"title250","v":"General and administrative cost"},{"$f":"COST_RES4!I71","v":{"$error":"#DIV/0!"}},{"$f":"C59","v":{"$error":"#DIV/0!"}},{"$error":"#DIV/0!"},{"$error":"#DIV/0!"},{"$error":"#DIV/0!"},{"$error":"#DIV/0!"},{"$error":"#DIV/0!"},{"$error":"#DIV/0!"},{"$error":"#DIV/0!"},{"$error":"#DIV/0!"},{"$error":"#DIV/0!"},{"$error":"#DIV/0!"},{"$error":"#DIV/0!"},{"$error":"#DIV/0!"},{"$error":"#DIV/0!"},{"$error":"#DIV/0!"},{"$error":"#DIV/0!"},{"$error":"#DIV/0!"},{"$error":"#DIV/0!"},{"$error":"#DIV/0!"},{"$error":"#DIV/0!"}]
[null,{"$f":"title251","v":"Sub-total maintenance cost (USD)"},{"$f":"COST_RES4!I65","v":0},{"$f":"C60","v":0},0,0,0,0,0,0,0,0,0,0,0,0,0,0,0,0,0,0,0]
[]
[null,{"$f":"title252","v":"Sub-total of annual fixed costs"},{"$f":"+E33","v":0},{"$f":"C62","v":0},{"$f":"D62","v":0},0,0,0,0,0,0,0,0,0,0,0,0,0,0,0,0,0,0]
[]
[null,{"$f":"title253","v":"Sub-total of storage capacity"},{"$f":"COST_RES4!I56","v":{"$error":"#DIV/0!"}},{"$f":"C64","v":{"$error":"#DIV/0!"}},{"$f":"D64","v":{"$error":"#DIV/0!"}},{"$error":"#DIV/0!"},{"$error":"#DIV/0!"},{"$error":"#DIV/0!"},{"$error":"#DIV/0!"},{"$error":"#DIV/0!"},{"$error":"#DIV/0!"},{"$error":"#DIV/0!"},{"$error":"#DIV/0!"},{"$error":"#DIV/0!"},{"$error":"#DIV/0!"},{"$error":"#DIV/0!"},{"$error":"#DIV/0!"},{"$error":"#DIV/0!"},{"$error":"#DIV/0!"},{"$error":"#DIV/0!"},{"$error":"#DIV/0!"},{"$error":"#DIV/0!"},{"$error":"#DIV/0!"}]
[]
[null,{"$f":"title254","v":"Sub-total of briquette transportation to market"},{"$f":"COST_RES4!I49","v":0},{"$f":"C66*(1+D73+D74)","v":0},{"$f":"D66*(1+E73+E74)","v":0},0,0,0,0,0,0,0,0,0,0,0,0,0,0,0,0,0,0]
[]
[null,{"$f":"title255","v":"Total operation and maintenance cost (USD)"},{"$f":"C39+C55+C60+C62+C64+C66","v":{"$error":"#DIV/0!"}},{"$f":"D39+D55+D60+D62+D64+D66","v":{"$error":"#DIV/0!"}},{"$error":"#DIV/0!"},{"$error":"#DIV/0!"},{"$error":"#DIV/0!"},{"$error":"#DIV/0!"},{"$error":"#DIV/0!"},{"$error":"#DIV/0!"},{"$error":"#DIV/0!"},{"$error":"#DIV/0!"},{"$error":"#DIV/0!"},{"$error":"#DIV/0!"},{"$error":"#DIV/0!"},{"$error":"#DIV/0!"},{"$error":"#DIV/0!"},{"$error":"#DIV/0!"},{"$error":"#DIV/0!"},{"$error":"#DIV/0!"},{"$error":"#DIV/0!"},{"$error":"#DIV/0!"},{"$error":"#DIV/0!"}]
[null,{"$f":"title256","v":"Operation and maintenance cost (USD/kg of briquette) without loan interest"},{"$f":"C68/(C14*1000)","v":{"$error":"#DIV/0!"}},{"$error":"#DIV/0!"},{"$error":"#DIV/0!"},{"$error":"#DIV/0!"},{"$error":"#DIV/0!"},{"$error":"#DIV/0!"},{"$error":"#DIV/0!"},{"$error":"#DIV/0!"},{"$error":"#DIV/0!"},{"$error":"#DIV/0!"},{"$error":"#DIV/0!"},{"$error":"#DIV/0!"},{"$error":"#DIV/0!"},{"$error":"#DIV/0!"},{"$error":"#DIV/0!"},{"$error":"#DIV/0!"},{"$error":"#DIV/0!"},{"$error":"#DIV/0!"},{"$error":"#DIV/0!"},{"$error":"#DIV/0!"},{"$error":"#DIV/0!"}]
[]
[{"$f":"title164","v":"Financial parameters"}]
[null,{"$f":"title209","v":"Operating Year"},{"$f":"title230","v":"Appraisal"},1,2,3,4,5,6,7,8,9,10,11,12,13,14,15,16,17,18,19,20]
[null,{"$f":"title257","v":"Annual change in raw material cost (%)"},null,0,{"$f":"D73","v":0},{"$f":"E73","v":0},0,0,0,0,0,0,0,0,0,0,0,0,0,0,0,{"$f":"U73","v":0},{"$f":"V73","v":0}]
[null,{"$f":"title258","v":"Inflation rate (%)"},null,{"$f":"COST_RES4!J12","v":0},{"$f":"D74","v":0},0,0,0,0,0,0,0,0,0,0,0,0,0,0,0,0,{"$f":"U74","v":0},{"$f":"V74","v":0}]
[null,{"$f":"title165&\" (%)\"","v":"Discount rate (%)"},{"$f":"COST_RES4!J9","v":0}]
[null,{"$f":"title166&\" (%)\"","v":"Loan ratio (%)"},{"$f":"COST_RES4!J10","v":0}]
[]
[null,{"$f":"title259","v":"Loan without policy"},{"$f":"title230","v":"Appraisal"},1,2,3,4,5,6,7,8,9,10,11,12,13,14,15,16,17,18,19,20]
[null,{"$f":"title260","v":"Loan amount (USD)"},{"$f":"C76*(C33)","v":0}]
[null,{"$f":"title167&\" (%)\"","v":"Loan interest rate (%)"},{"$f":"COST_RES4!J11","v":0}]
[null,{"$f":"title261","v":"Loan term (years)"},{"$f":"COST_RES4!M9","v":0}]
[null,{"$f":"title262","v":"Loan payment (USD/month)"},{"$f":"(PMT($C$80/12,(12*$C$81),$C$79))","v":{"$error":"#NUM!"}}]
[null,{"$f":"title263","v":"Loan payment (USD/year)"},null,{"$f":"IF(D72<=$C$81,$C$82*12,0)","v":0},{"$f":"IF(E72<$C$81,$C$82*12,IF(E72=$C$81,$C$82*12,0))","v":0},{"$f":"IF(F72<$C$81,$C$82*12,IF(F72=$C$81,$C$82*12,0))","v":0},0,0,0,0,0,0,0,0,0,0,0,0,0,0,0,0,0]
[null,{"$f":"title264","v":"Total loan payment (USD)"},{"$f":"SUM(D83:W83)","v":0}]
[null,{"$f":"title265","v":"Loan interest payment (USD)"},{"$f":"C84+C79","v":0},{"$f":"title266","v":"Average loan interest payment for project lifetime"},null,null,{"$f":"C85/C25","v":0},{"$f":"title267","v":"USD per year"}]
[]
[{"$f":"title268","v":"Income tax analysis"}]
[null,{"$f":"title209","v":"Operating Year"},{"$f":"title230","v":"Appraisal"},1,2,3,4,5,6,7,8,9,10,11,12,13,14,15,16,17,18,19,20]
[null,{"$f":"title269","v":"Effective income tax rate (%)"},{"$f":"+'Data entry needs'!$AD$115","v":0},{"$f":"C89","v":0},{"$f":"D89","v":0},0,0,0,0,0,0,0,0,0,0,0,0,0,0,0,0,0,0]
[null,{"$f":"title270","v":"Income tax (USD)"},null,{"$f":"IF(D114<0,0,D89*D114)","v":{"$error":"#DIV/0!"}},{"$error":"#DIV/0!"},{"$error":"#DIV/0!"},{"$error":"#DIV/0!"},{"$error":"#DIV/0!"},{"$error":"#DIV/0!"},{"$error":"#DIV/0!"},{"$error":"#DIV/0!"},{"$error":"#DIV/0!"},{"$error":"#DIV/0!"},{"$error":"#DIV/0!"},{"$error":"#DIV/0!"},{"$error":"#DIV/0!"},{"$error":"#DIV/0!"},{"$error":"#DIV/0!"},{"$error":"#DIV/0!"},{"$error":"#DIV/0!"},{"$error":"#DIV/0!"},{"$error":"#DIV/0!"},{"$error":"#DIV/0!"}]
[null,{"$f":"title271","v":"Total income tax payment (USD)"},{"$f":"SUM(D90:W90)","v":{"$error":"#DIV/0!"}},{"$f":"title458","v":"Average income tax payment "},null,{"$f":"C91/C25","v":{"$error":"#DIV/0!"}},{"$f":"title267","v":"USD per year"}]
[]
[{"$f":"title272","v":"Depreciation"}]
[null,{"$f":"title209","v":"Operating Year"},{"$f":"title230","v":"Appraisal"},1,2,3,4,5,6,7,8,9,10,11,12,13,14,15,16,17,18,19,20]
[null,{"$f":"title273","v":"Depreciation method"},{"$f":"title275","v":"Straight-line"}]
[null,{"$f":"title274","v":"Total depreciation (USD)"},null,{"$f":"COST_RES4!I64","v":0},{"$f":"D96","v":0},{"$f":"E96","v":0},0,0,0,0,0,0,0,0,0,0,0,0,0,0,0,0,0]
[]
[{"$f":"title276","v":"Base case project summary"}]
[{"$f":"title277","v":"Summary of this project - Before Tax"}]
[null,{"$f":"title209","v":"Operating Year"},{"$f":"title230","v":"Appraisal"},1,2,3,4,5,6,7,8,9,10,11,12,13,14,15,16,17,18,19,20]
[null,{"$f":"title278","v":"Total revenue (USD)"},null,{"$f":"D15*1000*D18","v":0},{"$f":"E15*1000*E18","v":0},0,0,0,0,0,0,0,0,0,0,0,0,0,0,0,0,0,0]
[null,{"$f":"title228","v":"Total capital cost (USD)"},{"$f":"-(C33-C79)","v":0}]
[null,{"$f":"title279","v":"Total operating and maintenance cost (USD)"},null,{"$f":"-D68+D62","v":{"$error":"#DIV/0!"}},{"$error":"#DIV/0!"},{"$error":"#DIV/0!"},{"$error":"#DIV/0!"},{"$error":"#DIV/0!"},{"$error":"#DIV/0!"},{"$error":"#DIV/0!"},{"$error":"#DIV/0!"},{"$error":"#DIV/0!"},{"$error":"#DIV/0!"},{"$error":"#DIV/0!"},{"$error":"#DIV/0!"},{"$error":"#DIV/0!"},{"$error":"#DIV/0!"},{"$error":"#DIV/0!"},{"$error":"#DIV/0!"},{"$error":"#DIV/0!"},{"$error":"#DIV/0!"},{"$error":"#DIV/0!"},{"$error":"#DIV/0!"}]
[null,{"$f":"title280","v":"Loan payment (USD)"},null,{"$f":"D83","v":0},{"$f":"E83","v":0},0,0,0,0,0,0,0,0,0,0,0,0,0,0,0,0,0,0]
[null,{"$f":"title281","v":"Cash flow - before tax (USD)"},{"$f":"SUM(C101:C104)","v":0},{"$error":"#DIV/0!"},{"$error":"#DIV/0!"},{"$error":"#DIV/0!"},{"$error":"#DIV/0!"},{"$error":"#DIV/0!"},{"$error":"#DIV/0!"},{"$error":"#DIV/0!"},{"$error":"#DIV/0!"},{"$error":"#DIV/0!"},{"$error":"#DIV/0!"},{"$error":"#DIV/0!"},{"$error":"#DIV/0!"},{"$error":"#DIV/0!"},{"$error":"#DIV/0!"},{"$error":"#DIV/0!"},{"$error":"#DIV/0!"},{"$error":"#DIV/0!"},{"$error":"#DIV/0!"},{"$error":"#DIV/0!"},{"$error":"#DIV/0!"}]
[null,{"$f":"title282","v":"Average revenue (USD)"}]
[]
[{"$f":"title283","v":"Summary of this project - After Tax"}]
[null,{"$f":"title209","v":"Operating Year"},{"$f":"title230","v":"Appraisal"},1,2,3,4,5,6,7,8,9,10,11,12,13,14,15,16,17,18,19,20]
[null,{"$f":"B101","v":"Total revenue (USD)"},{"$f":"C101","v":0},{"$f":"D101","v":0},0,0,0,0,0,0,0,0,0,0,0,0,0,0,0,0,0,0,0]
[null,{"$f":"title279","v":"Total operating and maintenance cost (USD)"},null,{"$f":"-D68+D62","v":{"$error":"#DIV/0!"}},{"$error":"#DIV/0!"},{"$error":"#DIV/0!"},{"$error":"#DIV/0!"},{"$error":"#DIV/0!"},{"$error":"#DIV/0!"},{"$error":"#DIV/0!"},{"$error":"#DIV/0!"},{"$error":"#DIV/0!"},{"$error":"#DIV/0!"},{"$error":"#DIV/0!"},{"$error":"#DIV/0!"},{"$error":"#DIV/0!"},{"$error":"#DIV/0!"},{"$error":"#DIV/0!"},{"$error":"#DIV/0!"},{"$error":"#DIV/0!"},{"$error":"#DIV/0!"},{"$error":"#DIV/0!"},{"$error":"#DIV/0!"}]
[null,{"$f":"title280","v":"Loan payment (USD)"},null,{"$f":"$G$85","v":0},{"$f":"$G$85","v":0},0,0,0,0,0,0,0,0,0,0,0,0,0,0,0,0,0,0]
[null,{"$f":"title284","v":"Depreciation of fixed costs (USD)"},null,{"$f":"-D62","v":0},{"$f":"-E62","v":0},0,0,0,0,0,0,0,0,0,0,0,0,0,0,0,0,0,0]
[null,{"$f":"title285","v":"Net profit - before tax (USD) for income tax calculation"},{"$f":"SUM(C110:C113)","v":0},{"$f":"SUM(D110:D113)","v":{"$error":"#DIV/0!"}},{"$f":"SUM(E110:E113)","v":{"$error":"#DIV/0!"}},{"$error":"#DIV/0!"},{"$error":"#DIV/0!"},{"$error":"#DIV/0!"},{"$error":"#DIV/0!"},{"$error":"#DIV/0!"},{"$error":"#DIV/0!"},{"$error":"#DIV/0!"},{"$error":"#DIV/0!"},{"$error":"#DIV/0!"},{"$error":"#DIV/0!"},{"$error":"#DIV/0!"},{"$error":"#DIV/0!"},{"$error":"#DIV/0!"},{"$error":"#DIV/0!"},{"$error":"#DIV/0!"},{"$error":"#DIV/0!"},{"$error":"#DIV/0!"},{"$error":"#DIV/0!"}]
[null,{"$f":"title286","v":"Income tax"},null,{"$f":"IF(D114>0,-D90,0)","v":{"$error":"#DIV/0!"}},{"$error":"#DIV/0!"},{"$error":"#DIV/0!"},{"$error":"#DIV/0!"},{"$error":"#DIV/0!"},{"$error":"#DIV/0!"},{"$error":"#DIV/0!"},{"$error":"#DIV/0!"},{"$error":"#DIV/0!"},{"$error":"#DIV/0!"},{"$error":"#DIV/0!"},{"$error":"#DIV/0!"},{"$error":"#DIV/0!"},{"$error":"#DIV/0!"},{"$error":"#DIV/0!"},{"$error":"#DIV/0!"},{"$error":"#DIV/0!"},{"$error":"#DIV/0!"},{"$error":"#DIV/0!"},{"$error":"#DIV/0!"}]
[null,{"$f":"title287","v":"Cash flow - after tax (USD)"},{"$f":"C102","v":0},{"$f":"D105+D115","v":{"$error":"#DIV/0!"}},{"$f":"E105+E115","v":{"$error":"#DIV/0!"}},{"$error":"#DIV/0!"},{"$error":"#DIV/0!"},{"$error":"#DIV/0!"},{"$error":"#DIV/0!"},{"$error":"#DIV/0!"},{"$error":"#DIV/0!"},{"$error":"#DIV/0!"},{"$error":"#DIV/0!"},{"$error":"#DIV/0!"},{"$error":"#DIV/0!"},{"$error":"#DIV/0!"},{"$error":"#DIV/0!"},{"$error":"#DIV/0!"},{"$error":"#DIV/0!"},{"$error":"#DIV/0!"},{"$error":"#DIV/0!"},{"$error":"#DIV/0!"},{"$f":"W105+W115","v":{"$error":"#DIV/0!"}}]
[]
[{"$f":"title288","v":"Cumulative value of Net Profit"}]
[null,{"$f":"title209","v":"Operating Year"},{"$f":"title230","v":"Appraisal"},1,2,3,4,5,6,7,8,9,10,11,12,13,14,15,16,17,18,19,20]
[null,{"$f":"title289","v":"Cumulative value of net profit - before tax"},{"$f":"C105","v":0},{"$f":"C120+(D105)","v":{"$error":"#DIV/0!"}},{"$error":"#DIV/0!"},{"$error":"#DIV/0!"},{"$error":"#DIV/0!"},{"$error":"#DIV/0!"},{"$error":"#DIV/0!"},{"$error":"#DIV/0!"},{"$error":"#DIV/0!"},{"$error":"#DIV/0!"},{"$error":"#DIV/0!"},{"$error":"#DIV/0!"},{"$error":"#DIV/0!"},{"$error":"#DIV/0!"},{"$error":"#DIV/0!"},{"$error":"#DIV/0!"},{"$error":"#DIV/0!"},{"$error":"#DIV/0!"},{"$error":"#DIV/0!"},{"$error":"#DIV/0!"},{"$error":"#DIV/0!"}]
[null,{"$f":"title290","v":"Cumulative value of net profit - after tax"},{"$f":"C116","v":0},{"$f":"C121+(D116)","v":{"$error":"#DIV/0!"}},{"$error":"#DIV/0!"},{"$error":"#DIV/0!"},{"$error":"#DIV/0!"},{"$error":"#DIV/0!"},{"$error":"#DIV/0!"},{"$error":"#DIV/0!"},{"$error":"#DIV/0!"},{"$error":"#DIV/0!"},{"$error":"#DIV/0!"},{"$error":"#DIV/0!"},{"$error":"#DIV/0!"},{"$error":"#DIV/0!"},{"$error":"#DIV/0!"},{"$error":"#DIV/0!"},{"$error":"#DIV/0!"},{"$error":"#DIV/0!"},{"$error":"#DIV/0!"},{"$error":"#DIV/0!"},{"$error":"#DIV/0!"}]
[]
[{"$f":"title291","v":"Financial analysis results"}]
[]
[null,{"$f":"title292","v":"Net present value (NPV) (USD) - before tax"},{"$f":"NPV(C75,D105:W105)+C105","v":{"$error":"#DIV/0!"}}]
[null,{"$f":"title293","v":"Internal rate of return (IRR) (%) - before tax"},{"$f":"IF(C125<0,title459,IF(TIR_cell=title519,IRR(C105:W105,0.001),MIRR(C105:W105,C80,C75)))","v":{"$error":"#DIV/0!"}}]
[null,{"$f":"title294","v":"Payback period (years)"},{"$f":"title298","v":"Please see Figure of the cumulative value of net profit - before tax"}]
[]
[]
[null,{"$f":"title295","v":"Net present value (NPV) (USD) - after tax"},{"$f":"NPV(C75,D116:W116)+C116","v":{"$error":"#DIV/0!"}}]
[null,{"$f":"title296","v":"Internal rate of return (IRR) (%) - after tax"},{"$f":"IF(C130<0,title459,MIRR(C116:W116,$C$80,0%))","v":{"$error":"#DIV/0!"}}]
[null,{"$f":"title294","v":"Payback period (years)"},{"$f":"title299","v":"Please see Figure of the cumulative value of net profit - after tax"}]
[null,{"$f":"title297","v":"Total Income tax payment of project lifetime"},{"$f":"SUM(D115:W115)","v":{"$error":"#DIV/0!"}}]

{"sheet":"FA400_URBAN_RES4","index":52,"n_rows":134,"n_cols":23,"rows_kept":134,"cut":false,"hidden":true,"merged":[[1,1,1,13]]}
[]
[null,{"$f":"title301","v":"FINANCIAL ANALYSIS OF BIOMASS BRIQUETTING 400 KG/HOUR"}]
[]
[{"$f":"title208","v":"Revenues of biomass briquetting system"}]
[null,{"$f":"title209","v":"Operating Year"},0,1,2,3,4,5,6,7,8,9,10,11,12,13,14,15,16,17,18,19,20]
[]
[null,{"$f":"title210","v":"Briquette production capacity (tons per year)"},{"$f":"COST_RES4!J29","v":0},{"$f":"C7","v":0},{"$f":"D7","v":0},0,0,0,0,0,0,0,0,0,0,0,0,0,0,0,0,0,0]
[]
[null,{"$f":"title211","v":"Efficiency % of briquetting machine"},{"$f":"COST_RES4!G12","v":0},{"$f":"+C9","v":0},{"$f":"+D9","v":0},0,0,0,0,0,0,0,0,0,0,0,0,0,0,0,0,0,0]
[]
[null,{"$f":"title212","v":"Operating hours per year"},{"$f":"COST_RES4!K28","v":0},{"$f":"+C11","v":0},{"$f":"+D11","v":0},0,0,0,0,0,0,0,0,0,0,0,0,0,0,0,0,0,0]
[null,{"$f":"title213","v":"Capacity utilization factor"},{"$f":"C11/8760","v":0},{"$f":"D11/8760","v":0},{"$f":"E11/8760","v":0},0,0,0,0,0,0,0,0,0,0,0,0,0,0,0,0,0,0]
[]
[null,{"$f":"title214","v":"Briquette production (tons per year)"},{"$f":"C7","v":0},{"$f":"D7","v":0},0,0,0,0,0,0,0,0,0,0,0,0,0,0,0,0,0,0,0]
[null,{"$f":"title215","v":"Total briquette sell to customers (tons per year)"},{"$f":"SUM(C14:C14)","v":0},{"$f":"SUM(D14:D14)","v":0},0,0,0,0,0,0,0,0,0,0,0,0,0,0,0,0,0,0,0]
[]
[null,{"$f":"title216","v":"Price of briquette (USD/kg)"},{"$f":"SUM(C18:C18)","v":0},0,0,0,0,0,0,0,0,0,0,0,0,0,0,0,0,0,0,0,0]
[null,{"$f":"title217","v":"Market price of briquette pay by consumers (USD/kg)"},{"$f":"+'Energy Demand'!G20","v":0},{"$f":"C18*(1+D19)","v":0},0,0,0,0,0,0,0,0,0,0,0,0,0,0,0,0,0,0,0]
[null,{"$f":"title218","v":"Increasing rate of price of briquette (%)"},{"$f":"+'Data entry needs'!$AD$114","v":0},{"$f":"C19","v":0},{"$f":"D19","v":0},0,0,0,0,0,0,0,0,0,0,0,0,0,0,0,0,0,0]
[]
[null,{"$f":"title219","v":"Total income of briquette (USD per year)"},{"$f":"C15*C18*1000","v":0},{"$f":"D15*D18*1000","v":0},0,0,0,0,0,0,0,0,0,0,0,0,0,0,0,0,0,0,0]
[]
[null,{"$f":"title220","v":"Lifespan of civil work (years)"},{"$f":"COST_RES4!E61","v":10}]
[null,{"$f":"title221","v":"Lifespan of briquette system (years)"},{"$f":"COST_RES4!E60","v":10}]
[null,{"$f":"title222","v":"Project life time (years)"},20]
[]
[{"$f":"title223","v":"Capital and operating cost of biomass briquette system "}]
[]
[null,null,{"$f":"title230","v":"Appraisal"},{"$f":"title231","v":"Project lifetime"},{"$f":"title232","v":"Investment per year"}]
[null,{"$f":"title224","v":"Direct capital cost (USD)"}]
[null,{"$f":"title225","v":"Equipments"},{"$f":"D31*E31","v":0},{"$f":"$C$25","v":20},{"$f":"COST_RES4!J60/D31","v":0}]
[null,{"$f":"title226","v":"Building"},{"$f":"D32*E32","v":0},{"$f":"$C$25","v":20},{"$f":"COST_RES4!J61/D32","v":0}]
[null,{"$f":"title227","v":"Installation"},{"$f":"D33*E33","v":0},{"$f":"$C$25","v":20},{"$f":"COST_RES4!J62/D33","v":0}]
[null,{"$f":"title228","v":"Total capital cost (USD)"},{"$f":"SUM(C31:C33)","v":0},null,{"$f":"SUM(E31:E33)","v":0}]
[null,{"$f":"title229","v":"Capital cost (USD/kg of briquette)"},{"$f":"C34/(C14*1000*C25)","v":{"$error":"#DIV/0!"}}]
[]
[]
[null,{"$f":"title209","v":"Operating Year"},{"$f":"title230","v":"Appraisal"},1,2,3,4,5,6,7,8,9,10,11,12,13,14,15,16,17,18,19,20]
[null,{"$f":"title233","v":"Annual operating and maintenance cost "}]
[null,{"$f":"title234","v":"Sub-total material cost (USD)"},{"$f":"C41+C49+C51+C54","v":{"$error":"#DIV/0!"}},{"$f":"D41+D49+D51+D54","v":{"$error":"#DIV/0!"}},{"$error":"#DIV/0!"},{"$error":"#DIV/0!"},{"$error":"#DIV/0!"},{"$error":"#DIV/0!"},{"$error":"#DIV/0!"},{"$error":"#DIV/0!"},{"$error":"#DIV/0!"},{"$error":"#DIV/0!"},{"$error":"#DIV/0!"},{"$error":"#DIV/0!"},{"$error":"#DIV/0!"},{"$error":"#DIV/0!"},{"$error":"#DIV/0!"},{"$error":"#DIV/0!"},{"$error":"#DIV/0!"},{"$error":"#DIV/0!"},{"$error":"#DIV/0!"},{"$error":"#DIV/0!"},{"$error":"#DIV/0!"}]
[null,{"$f":"title235","v":"Biomass cost (USD/year)"},{"$f":"C42*C43","v":{"$error":"#DIV/0!"}},{"$f":"D42*D43","v":{"$error":"#DIV/0!"}},{"$error":"#DIV/0!"},{"$error":"#DIV/0!"},{"$error":"#DIV/0!"},{"$error":"#DIV/0!"},{"$error":"#DIV/0!"},{"$error":"#DIV/0!"},{"$error":"#DIV/0!"},{"$error":"#DIV/0!"},{"$error":"#DIV/0!"},{"$error":"#DIV/0!"},{"$error":"#DIV/0!"},{"$error":"#DIV/0!"},{"$error":"#DIV/0!"},{"$error":"#DIV/0!"},{"$error":"#DIV/0!"},{"$error":"#DIV/0!"},{"$error":"#DIV/0!"},{"$error":"#DIV/0!"},{"$error":"#DIV/0!"}]
[null,{"$f":"title236","v":"Biomass consumption (ton per year)"},{"$f":"C14/COST_RES4!$G$12","v":{"$error":"#DIV/0!"}},{"$f":"D14/COST_RES4!$G$12","v":{"$error":"#DIV/0!"}},{"$f":"E14/COST_RES4!$G$12","v":{"$error":"#DIV/0!"}},{"$f":"F14/COST_RES4!$G$12","v":{"$error":"#DIV/0!"}},{"$f":"G14/COST_RES4!$G$12","v":{"$error":"#DIV/0!"}},{"$f":"H14/COST_RES4!$G$12","v":{"$error":"#DIV/0!"}},{"$f":"I14/COST_RES4!$G$12","v":{"$error":"#DIV/0!"}},{"$f":"J14/COST_RES4!$G$12","v":{"$error":"#DIV/0!"}},{"$f":"K14/COST_RES4!$G$12","v":{"$error":"#DIV/0!"}},{"$f":"L14/COST_RES4!$G$12","v":{"$error":"#DIV/0!"}},{"$f":"M14/COST_RES4!$G$12","v":{"$error":"#DIV/0!"}},{"$f":"N14/COST_RES4!$G$12","v":{"$error":"#DIV/0!"}},{"$f":"O14/COST_RES4!$G$12","v":{"$error":"#DIV/0!"}},{"$f":"P14/COST_RES4!$G$12","v":{"$error":"#DIV/0!"}},{"$f":"Q14/COST_RES4!$G$12","v":{"$error":"#DIV/0!"}},{"$f":"R14/COST_RES4!$G$12","v":{"$error":"#DIV/0!"}},{"$f":"S14/COST_RES4!$G$12","v":{"$error":"#DIV/0!"}},{"$f":"T14/COST_RES4!$G$12","v":{"$error":"#DIV/0!"}},{"$f":"U14/COST_RES4!$G$12","v":{"$error":"#DIV/0!"}},{"$f":"V14/COST_RES4!$G$12","v":{"$error":"#DIV/0!"}},{"$f":"W14/COST_RES4!$G$12","v":{"$error":"#DIV/0!"}}]
[null,{"$f":"title237","v":"Biomass price (USD/ton)"},{"$f":"SUM(C44:C45)","v":0},{"$f":"SUM(D44:D45)","v":0},0,0,0,0,0,0,0,0,0,0,0,0,0,0,0,0,0,0,0]
[null,{"$f":"title238","v":"Biomass cost of collection (USD/ton)"},{"$f":"COST_RES4!E33","v":0},{"$f":"C44*(1+D74+D75)","v":0},{"$f":"D44*(1+E74+E75)","v":0},0,0,0,0,0,0,0,0,0,0,0,0,0,0,0,0,0,0]
[null,{"$f":"title239","v":"Biomass transportation cost (USD/ton)"},{"$f":"C46*C47","v":0},{"$f":"D46*D47","v":0},0,0,0,0,0,0,0,0,0,0,0,0,0,0,0,0,0,0,0]
[null,{"$f":"title240","v":"Biomass from farm to plant (USD/ton/km)"},{"$f":"COST_RES4!E48","v":0},{"$f":"C46*(1+D74+D75)","v":0},{"$f":"D46*(1+E74+E75)","v":0},0,0,0,0,0,0,0,0,0,0,0,0,0,0,0,0,0,0]
[null,{"$f":"title241","v":"Transportation distant (km)"},{"$f":"COST_RES4!J48","v":0},{"$f":"C47","v":0},{"$f":"D47","v":0},0,0,0,0,0,0,0,0,0,0,0,0,0,0,{"$f":"S47","v":0},{"$f":"T47","v":0},{"$f":"U47","v":0},{"$f":"V47","v":0}]
[]
[null,{"$f":"title246","v":"Water cost (USD/year)"},{"$f":"COST_RES4!K35","v":0},{"$f":"C49*(1+D74+D75)","v":0},{"$f":"D49*(1+E74+E75)","v":0},0,0,0,0,0,0,0,0,0,0,0,0,0,0,0,0,0,0]
[]
[null,{"$f":"title242","v":"Chemical cost (USD/year)"},{"$f":"C52*C53","v":0},{"$f":"D52*D53","v":0},0,0,0,0,0,0,0,0,0,0,0,0,0,0,0,0,0,0,0]
[null,{"$f":"title243","v":"Chemical consumption (tons per year)"},{"$f":"+COST_RES4!$J$34","v":0},{"$f":"+COST_RES4!$J$34","v":0},{"$f":"+COST_RES4!$J$34","v":0},{"$f":"+COST_RES4!$J$34","v":0},{"$f":"+COST_RES4!$J$34","v":0},{"$f":"+COST_RES4!$J$34","v":0},{"$f":"+COST_RES4!$J$34","v":0},{"$f":"+COST_RES4!$J$34","v":0},{"$f":"+COST_RES4!$J$34","v":0},{"$f":"+COST_RES4!$J$34","v":0},{"$f":"+COST_RES4!$J$34","v":0},{"$f":"+COST_RES4!$J$34","v":0},{"$f":"+COST_RES4!$J$34","v":0},{"$f":"+COST_RES4!$J$34","v":0},{"$f":"+COST_RES4!$J$34","v":0},{"$f":"+COST_RES4!$J$34","v":0},{"$f":"+COST_RES4!$J$34","v":0},{"$f":"+COST_RES4!$J$34","v":0},{"$f":"+COST_RES4!$J$34","v":0},{"$f":"+COST_RES4!$J$34","v":0},{"$f":"+COST_RES4!$J$34","v":0}]
[null,{"$f":"title244","v":"Chemical price (USD/ton)"},{"$f":"+'Data entry needs'!$G$20","v":0},{"$f":"C53","v":0},{"$f":"D53","v":0},0,0,0,0,0,0,0,0,0,0,0,0,0,0,0,0,0,0]
[null,{"$f":"title245","v":"Electricity cost (USD)"},{"$f":"COST_RES4!K36","v":0},{"$f":"C54*(1+D74+D75)","v":0},{"$f":"D54*(1+E74+E75)","v":0},0,0,0,0,0,0,0,0,0,0,0,0,0,0,0,0,0,0]
[]
[null,{"$f":"title247","v":"Sub-total operating cost (USD)"},{"$f":"C57+C59+C60","v":{"$error":"#DIV/0!"}},{"$f":"D57+D59+D60","v":{"$error":"#DIV/0!"}},{"$error":"#DIV/0!"},{"$error":"#DIV/0!"},{"$error":"#DIV/0!"},{"$error":"#DIV/0!"},{"$error":"#DIV/0!"},{"$error":"#DIV/0!"},{"$error":"#DIV/0!"},{"$error":"#DIV/0!"},{"$error":"#DIV/0!"},{"$error":"#DIV/0!"},{"$error":"#DIV/0!"},{"$error":"#DIV/0!"},{"$error":"#DIV/0!"},{"$error":"#DIV/0!"},{"$error":"#DIV/0!"},{"$error":"#DIV/0!"},{"$error":"#DIV/0!"},{"$error":"#DIV/0!"},{"$error":"#DIV/0!"}]
[null,{"$f":"title248","v":"Labour cost (USD)"},{"$f":"COST_RES4!K44","v":0},{"$f":"C57*(1+D58)","v":0},0,0,0,0,0,0,0,0,0,0,0,0,0,0,0,0,0,0,0]
[null,"Annual change in  labour cost (%)",null,{"$f":"COST_RES4!M12","v":0},{"$f":"D58","v":0},0,0,0,0,0,0,0,0,0,0,0,0,0,0,0,{"$f":"T58","v":0},0,0]
[null,{"$f":"title249","v":"Annual change in labour cost (%)"},{"$f":"COST_RES4!K70","v":0},{"$f":"C59","v":0},0,0,0,0,0,0,0,0,0,0,0,0,0,0,0,0,0,0,0]
[null,{"$f":"title250","v":"General and administrative cost"},{"$f":"COST_RES4!K71","v":{"$error":"#DIV/0!"}},{"$f":"C60","v":{"$error":"#DIV/0!"}},{"$error":"#DIV/0!"},{"$error":"#DIV/0!"},{"$error":"#DIV/0!"},{"$error":"#DIV/0!"},{"$error":"#DIV/0!"},{"$error":"#DIV/0!"},{"$error":"#DIV/0!"},{"$error":"#DIV/0!"},{"$error":"#DIV/0!"},{"$error":"#DIV/0!"},{"$error":"#DIV/0!"},{"$error":"#DIV/0!"},{"$error":"#DIV/0!"},{"$error":"#DIV/0!"},{"$error":"#DIV/0!"},{"$error":"#DIV/0!"},{"$error":"#DIV/0!"},{"$error":"#DIV/0!"},{"$error":"#DIV/0!"}]
[null,{"$f":"title251","v":"Sub-total maintenance cost (USD)"},{"$f":"COST_RES4!K65","v":0},{"$f":"C61","v":0},0,0,0,0,0,0,0,0,0,0,0,0,0,0,0,0,0,0,0]
[]
[null,{"$f":"title252","v":"Sub-total of annual fixed costs"},{"$f":"E34","v":0},{"$f":"C63","v":0},{"$f":"D63","v":0},0,0,0,0,0,0,0,0,0,0,0,0,0,0,0,0,0,0]
[]
[null,{"$f":"title253","v":"Sub-total of storage capacity"},{"$f":"COST_RES4!K56","v":{"$error":"#DIV/0!"}},{"$f":"C65","v":{"$error":"#DIV/0!"}},{"$f":"D65","v":{"$error":"#DIV/0!"}},{"$error":"#DIV/0!"},{"$error":"#DIV/0!"},{"$error":"#DIV/0!"},{"$error":"#DIV/0!"},{"$error":"#DIV/0!"},{"$error":"#DIV/0!"},{"$error":"#DIV/0!"},{"$error":"#DIV/0!"},{"$error":"#DIV/0!"},{"$error":"#DIV/0!"},{"$error":"#DIV/0!"},{"$error":"#DIV/0!"},{"$error":"#DIV/0!"},{"$error":"#DIV/0!"},{"$error":"#DIV/0!"},{"$error":"#DIV/0!"},{"$error":"#DIV/0!"},{"$error":"#DIV/0!"}]
[]
[null,{"$f":"title254","v":"Sub-total of briquette transportation to market"},{"$f":"COST_RES4!K49","v":0},{"$f":"C67*(1+D74+D75)","v":0},{"$f":"D67*(1+E74+E75)","v":0},0,0,0,0,0,0,0,0,0,0,0,0,0,0,0,0,0,0]
[]
[null,{"$f":"title255","v":"Total operation and maintenance cost (USD)"},{"$f":"C40+C56+C61+C63+C65+C67","v":{"$error":"#DIV/0!"}},{"$f":"D40+D56+D61+D63+D65+D67","v":{"$error":"#DIV/0!"}},{"$error":"#DIV/0!"},{"$error":"#DIV/0!"},{"$error":"#DIV/0!"},{"$error":"#DIV/0!"},{"$error":"#DIV/0!"},{"$error":"#DIV/0!"},{"$error":"#DIV/0!"},{"$error":"#DIV/0!"},{"$error":"#DIV/0!"},{"$error":"#DIV/0!"},{"$error":"#DIV/0!"},{"$error":"#DIV/0!"},{"$error":"#DIV/0!"},{"$error":"#DIV/0!"},{"$error":"#DIV/0!"},{"$error":"#DIV/0!"},{"$error":"#DIV/0!"},{"$error":"#DIV/0!"},{"$error":"#DIV/0!"}]
[null,{"$f":"title256","v":"Operation and maintenance cost (USD/kg of briquette) without loan interest"},{"$f":"C69/(C14*1000)","v":{"$error":"#DIV/0!"}},{"$error":"#DIV/0!"},{"$error":"#DIV/0!"},{"$error":"#DIV/0!"},{"$error":"#DIV/0!"},{"$error":"#DIV/0!"},{"$error":"#DIV/0!"},{"$error":"#DIV/0!"},{"$error":"#DIV/0!"},{"$error":"#DIV/0!"},{"$error":"#DIV/0!"},{"$error":"#DIV/0!"},{"$error":"#DIV/0!"},{"$error":"#DIV/0!"},{"$error":"#DIV/0!"},{"$error":"#DIV/0!"},{"$error":"#DIV/0!"},{"$error":"#DIV/0!"},{"$error":"#DIV/0!"},{"$error":"#DIV/0!"},{"$error":"#DIV/0!"}]
[]
[{"$f":"title164","v":"Financial parameters"}]
[null,{"$f":"title209","v":"Operating Year"},{"$f":"title230","v":"Appraisal"},1,2,3,4,5,6,7,8,9,10,11,12,13,14,15,16,17,18,19,20]
[null,{"$f":"title257","v":"Annual change in raw material cost (%)"},null,0,{"$f":"D74","v":0},{"$f":"E74","v":0},0,0,0,0,0,0,0,0,0,0,0,0,0,0,0,{"$f":"U74","v":0},{"$f":"V74","v":0}]
[null,{"$f":"title258","v":"Inflation rate (%)"},null,{"$f":"COST_RES4!J12","v":0},{"$f":"D75","v":0},0,0,0,0,0,0,0,0,0,0,0,0,0,0,0,0,{"$f":"U75","v":0},{"$f":"V75","v":0}]
[null,{"$f":"title165&\" (%)\"","v":"Discount rate (%)"},{"$f":"COST_RES4!J9","v":0}]
[null,{"$f":"title166&\" (%)\"","v":"Loan ratio (%)"},{"$f":"COST_RES4!J10","v":0}]
[]
[null,{"$f":"title259","v":"Loan without policy"},{"$f":"title230","v":"Appraisal"},1,2,3,4,5,6,7,8,9,10,11,12,13,14,15,16,17,18,19,20]
[null,{"$f":"title260","v":"Loan amount (USD)"},{"$f":"C77*(C34)","v":0}]
[null,{"$f":"title167&\" (%)\"","v":"Loan interest rate (%)"},{"$f":"COST_RES4!J11","v":0}]
[null,{"$f":"title261","v":"Loan term (years)"},{"$f":"COST_RES4!M9","v":0}]
[null,{"$f":"title262","v":"Loan payment (USD/month)"},{"$f":"(PMT($C$81/12,(12*$C$82),$C$80))","v":{"$error":"#NUM!"}}]
[null,{"$f":"title263","v":"Loan payment (USD/year)"},null,{"$f":"IF(D73<=$C$82,$C$83*12,0)","v":0},{"$f":"IF(E73<$C$82,$C$83*12,IF(E73=$C$82,$C$83*12,0))","v":0},{"$f":"IF(F73<$C$82,$C$83*12,IF(F73=$C$82,$C$83*12,0))","v":0},0,0,0,0,0,0,0,0,0,0,0,0,0,0,0,0,0]
[null,{"$f":"title264","v":"Total loan payment (USD)"},{"$f":"SUM(D84:W84)","v":0}]
[null,{"$f":"title265","v":"Loan interest payment (USD)"},{"$f":"C85+C80","v":0},{"$f":"title266","v":"Average loan interest payment for project lifetime"},null,null,{"$f":"C86/C25","v":0},{"$f":"title267","v":"USD per year"}]
[]
[{"$f":"title268","v":"Income tax analysis"}]
[null,{"$f":"title209","v":"Operating Year"},{"$f":"title230","v":"Appraisal"},1,2,3,4,5,6,7,8,9,10,11,12,13,14,15,16,17,18,19,20]
[null,{"$f":"title269","v":"Effective income tax rate (%)"},{"$f":"+'Data entry needs'!$AD$115","v":0},{"$f":"C90","v":0},{"$f":"D90","v":0},0,0,0,0,0,0,0,0,0,0,0,0,0,0,0,0,0,0]
[null,{"$f":"title270","v":"Income tax (USD)"},null,{"$f":"IF(D115<0,0,D90*D115)","v":{"$error":"#DIV/0!"}},{"$error":"#DIV/0!"},{"$error":"#DIV/0!"},{"$error":"#DIV/0!"},{"$error":"#DIV/0!"},{"$error":"#DIV/0!"},{"$error":"#DIV/0!"},{"$error":"#DIV/0!"},{"$error":"#DIV/0!"},{"$error":"#DIV/0!"},{"$error":"#DIV/0!"},{"$error":"#DIV/0!"},{"$error":"#DIV/0!"},{"$error":"#DIV/0!"},{"$error":"#DIV/0!"},{"$error":"#DIV/0!"},{"$error":"#DIV/0!"},{"$error":"#DIV/0!"},{"$error":"#DIV/0!"},{"$error":"#DIV/0!"}]
[null,{"$f":"title271","v":"Total income tax payment (USD)"},{"$f":"SUM(D91:W91)","v":{"$error":"#DIV/0!"}},{"$f":"title458","v":"Average income tax payment "},null,{"$f":"C92/C25","v":{"$error":"#DIV/0!"}},{"$f":"title267","v":"USD per year"}]
[]
[{"$f":"title272","v":"Depreciation"}]
[null,{"$f":"title209","v":"Operating Year"},{"$f":"title230","v":"Appraisal"},1,2,3,4,5,6,7,8,9,10,11,12,13,14,15,16,17,18,19,20]
[null,{"$f":"title273","v":"Depreciation method"},{"$f":"title275","v":"Straight-line"}]
[null,{"$f":"title274","v":"Total depreciation (USD)"},null,{"$f":"COST_RES4!K64","v":0},{"$f":"D97","v":0},{"$f":"E97","v":0},0,0,0,0,0,0,0,0,0,0,0,0,0,0,0,0,0]
[]
[{"$f":"title276","v":"Base case project summary"}]
[{"$f":"title277","v":"Summary of this project - Before Tax"}]
[null,{"$f":"title209","v":"Operating Year"},{"$f":"title230","v":"Appraisal"},1,2,3,4,5,6,7,8,9,10,11,12,13,14,15,16,17,18,19,20]
[null,{"$f":"title278","v":"Total revenue (USD)"},null,{"$f":"D15*1000*D18","v":0},{"$f":"E15*1000*E18","v":0},0,0,0,0,0,0,0,0,0,0,0,0,0,0,0,0,0,0]
[null,{"$f":"title228","v":"Total capital cost (USD)"},{"$f":"-(C34-C80)","v":0}]
[null,{"$f":"title279","v":"Total operating and maintenance cost (USD)"},null,{"$f":"-D69+D63","v":{"$error":"#DIV/0!"}},{"$error":"#DIV/0!"},{"$error":"#DIV/0!"},{"$error":"#DIV/0!"},{"$error":"#DIV/0!"},{"$error":"#DIV/0!"},{"$error":"#DIV/0!"},{"$error":"#DIV/0!"},{"$error":"#DIV/0!"},{"$error":"#DIV/0!"},{"$error":"#DIV/0!"},{"$error":"#DIV/0!"},{"$error":"#DIV/0!"},{"$error":"#DIV/0!"},{"$error":"#DIV/0!"},{"$error":"#DIV/0!"},{"$error":"#DIV/0!"},{"$error":"#DIV/0!"},{"$error":"#DIV/0!"},{"$error":"#DIV/0!"}]
[null,{"$f":"title280","v":"Loan payment (USD)"},null,{"$f":"D84","v":0},{"$f":"E84","v":0},0,0,0,0,0,0,0,0,0,0,0,0,0,0,0,0,0,0]
[null,{"$f":"title281","v":"Cash flow - before tax (USD)"},{"$f":"SUM(C102:C105)","v":0},{"$error":"#DIV/0!"},{"$error":"#DIV/0!"},{"$error":"#DIV/0!"},{"$error":"#DIV/0!"},{"$error":"#DIV/0!"},{"$error":"#DIV/0!"},{"$error":"#DIV/0!"},{"$error":"#DIV/0!"},{"$error":"#DIV/0!"},{"$error":"#DIV/0!"},{"$error":"#DIV/0!"},{"$error":"#DIV/0!"},{"$error":"#DIV/0!"},{"$error":"#DIV/0!"},{"$error":"#DIV/0!"},{"$error":"#DIV/0!"},{"$error":"#DIV/0!"},{"$error":"#DIV/0!"},{"$error":"#DIV/0!"},{"$error":"#DIV/0!"}]
[null,{"$f":"title282","v":"Average revenue (USD)"}]
[]
[{"$f":"title283","v":"Summary of this project - After Tax"}]
[null,{"$f":"title209","v":"Operating Year"},{"$f":"title230","v":"Appraisal"},1,2,3,4,5,6,7,8,9,10,11,12,13,14,15,16,17,18,19,20]
[null,{"$f":"B102","v":"Total revenue (USD)"},{"$f":"C102","v":0},{"$f":"D102","v":0},0,0,0,0,0,0,0,0,0,0,0,0,0,0,0,0,0,0,0]
[null,{"$f":"title279","v":"Total operating and maintenance cost (USD)"},null,{"$f":"-D69+D63","v":{"$error":"#DIV/0!"}},{"$error":"#DIV/0!"},{"$error":"#DIV/0!"},{"$error":"#DIV/0!"},{"$error":"#DIV/0!"},{"$error":"#DIV/0!"},{"$error":"#DIV/0!"},{"$error":"#DIV/0!"},{"$error":"#DIV/0!"},{"$error":"#DIV/0!"},{"$error":"#DIV/0!"},{"$error":"#DIV/0!"},{"$error":"#DIV/0!"},{"$error":"#DIV/0!"},{"$error":"#DIV/0!"},{"$error":"#DIV/0!"},{"$error":"#DIV/0!"},{"$error":"#DIV/0!"},{"$error":"#DIV/0!"},{"$error":"#DIV/0!"}]
[null,{"$f":"title280","v":"Loan payment (USD)"},null,{"$f":"$G$86","v":0},{"$f":"$G$86","v":0},0,0,0,0,0,0,0,0,0,0,0,0,0,0,0,0,0,0]
[null,{"$f":"title284","v":"Depreciation of fixed costs (USD)"},null,{"$f":"-D63","v":0},{"$f":"-E63","v":0},0,0,0,0,0,0,0,0,0,0,0,0,0,0,0,0,0,0]
[null,{"$f":"title285","v":"Net profit - before tax (USD) for income tax calculation"},{"$f":"SUM(C111:C114)","v":0},{"$f":"SUM(D111:D114)","v":{"$error":"#DIV/0!"}},{"$f":"SUM(E111:E114)","v":{"$error":"#DIV/0!"}},{"$error":"#DIV/0!"},{"$error":"#DIV/0!"},{"$error":"#DIV/0!"},{"$error":"#DIV/0!"},{"$error":"#DIV/0!"},{"$error":"#DIV/0!"},{"$error":"#DIV/0!"},{"$error":"#DIV/0!"},{"$error":"#DIV/0!"},{"$error":"#DIV/0!"},{"$error":"#DIV/0!"},{"$error":"#DIV/0!"},{"$error":"#DIV/0!"},{"$error":"#DIV/0!"},{"$error":"#DIV/0!"},{"$error":"#DIV/0!"},{"$error":"#DIV/0!"},{"$error":"#DIV/0!"}]
[null,{"$f":"title286","v":"Income tax"},null,{"$f":"IF(D115>0,-D91,0)","v":{"$error":"#DIV/0!"}},{"$error":"#DIV/0!"},{"$error":"#DIV/0!"},{"$error":"#DIV/0!"},{"$error":"#DIV/0!"},{"$error":"#DIV/0!"},{"$error":"#DIV/0!"},{"$error":"#DIV/0!"},{"$error":"#DIV/0!"},{"$error":"#DIV/0!"},{"$error":"#DIV/0!"},{"$error":"#DIV/0!"},{"$error":"#DIV/0!"},{"$error":"#DIV/0!"},{"$error":"#DIV/0!"},{"$error":"#DIV/0!"},{"$error":"#DIV/0!"},{"$error":"#DIV/0!"},{"$error":"#DIV/0!"},{"$error":"#DIV/0!"}]
[null,{"$f":"title287","v":"Cash flow - after tax (USD)"},{"$f":"C103","v":0},{"$f":"D106+D116","v":{"$error":"#DIV/0!"}},{"$f":"E106+E116","v":{"$error":"#DIV/0!"}},{"$error":"#DIV/0!"},{"$error":"#DIV/0!"},{"$error":"#DIV/0!"},{"$error":"#DIV/0!"},{"$error":"#DIV/0!"},{"$error":"#DIV/0!"},{"$error":"#DIV/0!"},{"$error":"#DIV/0!"},{"$error":"#DIV/0!"},{"$error":"#DIV/0!"},{"$error":"#DIV/0!"},{"$error":"#DIV/0!"},{"$error":"#DIV/0!"},{"$error":"#DIV/0!"},{"$error":"#DIV/0!"},{"$error":"#DIV/0!"},{"$error":"#DIV/0!"},{"$f":"W106+W116","v":{"$error":"#DIV/0!"}}]
[]
[{"$f":"title288","v":"Cumulative value of Net Profit"}]
[null,{"$f":"title209","v":"Operating Year"},{"$f":"title230","v":"Appraisal"},1,2,3,4,5,6,7,8,9,10,11,12,13,14,15,16,17,18,19,20]
[null,{"$f":"title289","v":"Cumulative value of net profit - before tax"},{"$f":"C106","v":0},{"$f":"C121+(D106)","v":{"$error":"#DIV/0!"}},{"$error":"#DIV/0!"},{"$error":"#DIV/0!"},{"$error":"#DIV/0!"},{"$error":"#DIV/0!"},{"$error":"#DIV/0!"},{"$error":"#DIV/0!"},{"$error":"#DIV/0!"},{"$error":"#DIV/0!"},{"$error":"#DIV/0!"},{"$error":"#DIV/0!"},{"$error":"#DIV/0!"},{"$error":"#DIV/0!"},{"$error":"#DIV/0!"},{"$error":"#DIV/0!"},{"$error":"#DIV/0!"},{"$error":"#DIV/0!"},{"$error":"#DIV/0!"},{"$error":"#DIV/0!"},{"$error":"#DIV/0!"}]
[null,{"$f":"title290","v":"Cumulative value of net profit - after tax"},{"$f":"C117","v":0},{"$f":"C122+(D117)","v":{"$error":"#DIV/0!"}},{"$error":"#DIV/0!"},{"$error":"#DIV/0!"},{"$error":"#DIV/0!"},{"$error":"#DIV/0!"},{"$error":"#DIV/0!"},{"$error":"#DIV/0!"},{"$error":"#DIV/0!"},{"$error":"#DIV/0!"},{"$error":"#DIV/0!"},{"$error":"#DIV/0!"},{"$error":"#DIV/0!"},{"$error":"#DIV/0!"},{"$error":"#DIV/0!"},{"$error":"#DIV/0!"},{"$error":"#DIV/0!"},{"$error":"#DIV/0!"},{"$error":"#DIV/0!"},{"$error":"#DIV/0!"},{"$error":"#DIV/0!"}]
[]
[{"$f":"title291","v":"Financial analysis results"}]
[]
[null,{"$f":"title292","v":"Net present value (NPV) (USD) - before tax"},{"$f":"NPV(C76,D106:W106)+C106","v":{"$error":"#DIV/0!"}}]
[null,{"$f":"title293","v":"Internal rate of return (IRR) (%) - before tax"},{"$f":"IF(C126<0,title459,IF(TIR_cell=title519,IRR(C106:W106,0.001),MIRR(C106:W106,C81,C76)))","v":{"$error":"#DIV/0!"}}]
[null,{"$f":"title294","v":"Payback period (years)"},{"$f":"title298","v":"Please see Figure of the cumulative value of net profit - before tax"}]
[]
[]
[null,{"$f":"title295","v":"Net present value (NPV) (USD) - after tax"},{"$f":"NPV(C76,D117:W117)+C117","v":{"$error":"#DIV/0!"}}]
[null,{"$f":"title296","v":"Internal rate of return (IRR) (%) - after tax"},{"$f":"IF(C131<0,title459,MIRR(C117:W117,C81,0%))","v":{"$error":"#DIV/0!"}}]
[null,{"$f":"title294","v":"Payback period (years)"},{"$f":"title299","v":"Please see Figure of the cumulative value of net profit - after tax"}]
[null,{"$f":"title297","v":"Total Income tax payment of project lifetime"},{"$f":"SUM(D116:W116)","v":{"$error":"#DIV/0!"}}]

{"sheet":"FA4000_URBAN_RES4","index":53,"n_rows":134,"n_cols":23,"rows_kept":134,"cut":false,"hidden":true,"merged":[[1,1,1,13]]}
[]
[null,{"$f":"title302","v":"FINANCIAL ANALYSIS OF BIOMASS BRIQUETTING 4000 KG/HOUR"}]
[]
[{"$f":"title208","v":"Revenues of biomass briquetting system"}]
[null,{"$f":"title209","v":"Operating Year"},0,1,2,3,4,5,6,7,8,9,10,11,12,13,14,15,16,17,18,19,20]
[]
[null,{"$f":"title210","v":"Briquette production capacity (tons per year)"},{"$f":"COST_RES4!L29","v":0},{"$f":"C7","v":0},{"$f":"D7","v":0},0,0,0,0,0,0,0,0,0,0,0,0,0,0,0,0,0,0]
[null,null,null,null,null,null,null,null," "]
[null,{"$f":"title211","v":"Efficiency % of briquetting machine"},{"$f":"COST_RES4!G12","v":0},{"$f":"+C9","v":0},{"$f":"+D9","v":0},0,0,0,0,0,0,0,0,0,0,0,0,0,0,0,0,0,0]
[]
[null,{"$f":"title212","v":"Operating hours per year"},{"$f":"COST_RES4!M28","v":0},{"$f":"+C11","v":0},{"$f":"+D11","v":0},0,0,0,0,0,0,0,0,0,0,0,0,0,0,0,0,0,0]
[null,{"$f":"title213","v":"Capacity utilization factor"},{"$f":"C11/8760","v":0},{"$f":"D11/8760","v":0},{"$f":"E11/8760","v":0},0,0,0,0,0,0,0,0,0,0,0,0,0,0,0,0,0,0]
[]
[null,{"$f":"title214","v":"Briquette production (tons per year)"},{"$f":"C7","v":0},{"$f":"D7","v":0},0,0,0,0,0,0,0,0,0,0,0,0,0,0,0,0,0,0,0]
[null,{"$f":"title215","v":"Total briquette sell to customers (tons per year)"},{"$f":"SUM(C14:C14)","v":0},{"$f":"SUM(D14:D14)","v":0},0,0,0,0,0,0,0,0,0,0,0,0,0,0,0,0,0,0,0]
[]
[null,{"$f":"title216","v":"Price of briquette (USD/kg)"},{"$f":"SUM(C18:C18)","v":0},0,0,0,0,0,0,0,0,0,0,0,0,0,0,0,0,0,0,0,0]
[null,{"$f":"title217","v":"Market price of briquette pay by consumers (USD/kg)"},{"$f":"+'Energy Demand'!G20","v":0},{"$f":"C18*(1+D19)","v":0},0,0,0,0,0,0,0,0,0,0,0,0,0,0,0,0,0,0,0]
[null,{"$f":"title218","v":"Increasing rate of price of briquette (%)"},{"$f":"+'Data entry needs'!$AD$114","v":0},{"$f":"C19","v":0},{"$f":"D19","v":0},0,0,0,0,0,0,0,0,0,0,0,0,0,0,0,0,0,0]
[]
[null,{"$f":"title219","v":"Total income of briquette (USD per year)"},{"$f":"C15*C18*1000","v":0},{"$f":"D15*D18*1000","v":0},0,0,0,0,0,0,0,0,0,0,0,0,0,0,0,0,0,0,0]
[]
[null,{"$f":"title220","v":"Lifespan of civil work (years)"},{"$f":"COST_RES4!E61","v":10}]
[null,{"$f":"title221","v":"Lifespan of briquette system (years)"},{"$f":"COST_RES4!E60","v":10}]
[null,{"$f":"title222","v":"Project life time (years)"},20]
[]
[{"$f":"title223","v":"Capital and operating cost of biomass briquette system "}]
[]
[null,null,{"$f":"title230","v":"Appraisal"},{"$f":"title231","v":"Project lifetime"},{"$f":"title232","v":"Investment per year"}]
[null,{"$f":"title224","v":"Direct capital cost (USD)"}]
[null,{"$f":"title225","v":"Equipments"},{"$f":"D31*E31","v":0},{"$f":"$C$25","v":20},{"$f":"COST_RES4!L60/D31","v":0}]
[null,{"$f":"title226","v":"Building"},{"$f":"D32*E32","v":0},{"$f":"$C$25","v":20},{"$f":"COST_RES4!L61/D32","v":0}]
[null,{"$f":"title227","v":"Installation"},{"$f":"D33*E33","v":0},{"$f":"$C$25","v":20},{"$f":"COST_RES4!L62/D33","v":0}]
[null,{"$f":"title228","v":"Total capital cost (USD)"},{"$f":"SUM(C31:C33)","v":0},null,{"$f":"SUM(E31:E33)","v":0}]
[null,{"$f":"title229","v":"Capital cost (USD/kg of briquette)"},{"$f":"C34/(C14*1000*C25)","v":{"$error":"#DIV/0!"}}]
[]
[]
[null,{"$f":"title209","v":"Operating Year"},{"$f":"title230","v":"Appraisal"},1,2,3,4,5,6,7,8,9,10,11,12,13,14,15,16,17,18,19,20]
[null,{"$f":"title233","v":"Annual operating and maintenance cost "}]
[null,{"$f":"title234","v":"Sub-total material cost (USD)"},{"$f":"C41+C49+C51+C54","v":{"$error":"#DIV/0!"}},{"$f":"D41+D49+D51+D54","v":{"$error":"#DIV/0!"}},{"$error":"#DIV/0!"},{"$error":"#DIV/0!"},{"$error":"#DIV/0!"},{"$error":"#DIV/0!"},{"$error":"#DIV/0!"},{"$error":"#DIV/0!"},{"$error":"#DIV/0!"},{"$error":"#DIV/0!"},{"$error":"#DIV/0!"},{"$error":"#DIV/0!"},{"$error":"#DIV/0!"},{"$error":"#DIV/0!"},{"$error":"#DIV/0!"},{"$error":"#DIV/0!"},{"$error":"#DIV/0!"},{"$error":"#DIV/0!"},{"$error":"#DIV/0!"},{"$error":"#DIV/0!"},{"$error":"#DIV/0!"}]
[null,{"$f":"title235","v":"Biomass cost (USD/year)"},{"$f":"C42*C43","v":{"$error":"#DIV/0!"}},{"$f":"D42*D43","v":{"$error":"#DIV/0!"}},{"$error":"#DIV/0!"},{"$error":"#DIV/0!"},{"$error":"#DIV/0!"},{"$error":"#DIV/0!"},{"$error":"#DIV/0!"},{"$error":"#DIV/0!"},{"$error":"#DIV/0!"},{"$error":"#DIV/0!"},{"$error":"#DIV/0!"},{"$error":"#DIV/0!"},{"$error":"#DIV/0!"},{"$error":"#DIV/0!"},{"$error":"#DIV/0!"},{"$error":"#DIV/0!"},{"$error":"#DIV/0!"},{"$error":"#DIV/0!"},{"$error":"#DIV/0!"},{"$error":"#DIV/0!"},{"$error":"#DIV/0!"}]
[null,{"$f":"title236","v":"Biomass consumption (ton per year)"},{"$f":"C14/COST_RES4!$G$12","v":{"$error":"#DIV/0!"}},{"$f":"D14/COST_RES4!$G$12","v":{"$error":"#DIV/0!"}},{"$f":"E14/COST_RES4!$G$12","v":{"$error":"#DIV/0!"}},{"$f":"F14/COST_RES4!$G$12","v":{"$error":"#DIV/0!"}},{"$f":"G14/COST_RES4!$G$12","v":{"$error":"#DIV/0!"}},{"$f":"H14/COST_RES4!$G$12","v":{"$error":"#DIV/0!"}},{"$f":"I14/COST_RES4!$G$12","v":{"$error":"#DIV/0!"}},{"$f":"J14/COST_RES4!$G$12","v":{"$error":"#DIV/0!"}},{"$f":"K14/COST_RES4!$G$12","v":{"$error":"#DIV/0!"}},{"$f":"L14/COST_RES4!$G$12","v":{"$error":"#DIV/0!"}},{"$f":"M14/COST_RES4!$G$12","v":{"$error":"#DIV/0!"}},{"$f":"N14/COST_RES4!$G$12","v":{"$error":"#DIV/0!"}},{"$f":"O14/COST_RES4!$G$12","v":{"$error":"#DIV/0!"}},{"$f":"P14/COST_RES4!$G$12","v":{"$error":"#DIV/0!"}},{"$f":"Q14/COST_RES4!$G$12","v":{"$error":"#DIV/0!"}},{"$f":"R14/COST_RES4!$G$12","v":{"$error":"#DIV/0!"}},{"$f":"S14/COST_RES4!$G$12","v":{"$error":"#DIV/0!"}},{"$f":"T14/COST_RES4!$G$12","v":{"$error":"#DIV/0!"}},{"$f":"U14/COST_RES4!$G$12","v":{"$error":"#DIV/0!"}},{"$f":"V14/COST_RES4!$G$12","v":{"$error":"#DIV/0!"}},{"$f":"W14/COST_RES4!$G$12","v":{"$error":"#DIV/0!"}}]
[null,{"$f":"title237","v":"Biomass price (USD/ton)"},{"$f":"SUM(C44:C45)","v":0},{"$f":"SUM(D44:D45)","v":0},0,0,0,0,0,0,0,0,0,0,0,0,0,0,0,0,0,0,0]
[null,{"$f":"title238","v":"Biomass cost of collection (USD/ton)"},{"$f":"COST_RES4!E33","v":0},{"$f":"C44*(1+D74+D75)","v":0},{"$f":"D44*(1+E74+E75)","v":0},0,0,0,0,0,0,0,0,0,0,0,0,0,0,0,0,0,0]
[null,{"$f":"title239","v":"Biomass transportation cost (USD/ton)"},{"$f":"C46*C47","v":0},{"$f":"D46*D47","v":0},0,0,0,0,0,0,0,0,0,0,0,0,0,0,0,0,0,0,0]
[null,{"$f":"title240","v":"Biomass from farm to plant (USD/ton/km)"},{"$f":"COST_RES4!E48","v":0},{"$f":"C46*(1+D74+D75)","v":0},{"$f":"D46*(1+E74+E75)","v":0},0,0,0,0,0,0,0,0,0,0,0,0,0,0,0,0,0,0]
[null,{"$f":"title241","v":"Transportation distant (km)"},{"$f":"COST_RES4!L48","v":0},{"$f":"C47","v":0},{"$f":"D47","v":0},0,0,0,0,0,0,0,0,0,0,0,0,0,0,{"$f":"S47","v":0},{"$f":"T47","v":0},{"$f":"U47","v":0},{"$f":"V47","v":0}]
[]
[null,{"$f":"title246","v":"Water cost (USD/year)"},{"$f":"COST_RES4!M35","v":0},{"$f":"C49*(1+D74+D75)","v":0},{"$f":"D49*(1+E74+E75)","v":0},0,0,0,0,0,0,0,0,0,0,0,0,0,0,0,0,0,0]
[]
[null,{"$f":"title242","v":"Chemical cost (USD/year)"},{"$f":"C52*C53","v":0},{"$f":"D52*D53","v":0},0,0,0,0,0,0,0,0,0,0,0,0,0,0,0,0,0,0,0]
[null,{"$f":"title243","v":"Chemical consumption (tons per year)"},{"$f":"+COST_RES4!$L$34","v":0},{"$f":"+COST_RES4!$L$34","v":0},{"$f":"+COST_RES4!$L$34","v":0},{"$f":"+COST_RES4!$L$34","v":0},{"$f":"+COST_RES4!$L$34","v":0},{"$f":"+COST_RES4!$L$34","v":0},{"$f":"+COST_RES4!$L$34","v":0},{"$f":"+COST_RES4!$L$34","v":0},{"$f":"+COST_RES4!$L$34","v":0},{"$f":"+COST_RES4!$L$34","v":0},{"$f":"+COST_RES4!$L$34","v":0},{"$f":"+COST_RES4!$L$34","v":0},{"$f":"+COST_RES4!$L$34","v":0},{"$f":"+COST_RES4!$L$34","v":0},{"$f":"+COST_RES4!$L$34","v":0},{"$f":"+COST_RES4!$L$34","v":0},{"$f":"+COST_RES4!$L$34","v":0},{"$f":"+COST_RES4!$L$34","v":0},{"$f":"+COST_RES4!$L$34","v":0},{"$f":"+COST_RES4!$L$34","v":0},{"$f":"+COST_RES4!$L$34","v":0}]
[null,{"$f":"title244","v":"Chemical price (USD/ton)"},{"$f":"+'Data entry needs'!$G$20","v":0},{"$f":"+C53","v":0},{"$f":"+D53","v":0},0,0,0,0,0,0,0,0,0,0,0,0,0,0,0,0,0,0]
[null,{"$f":"title245","v":"Electricity cost (USD)"},{"$f":"COST_RES4!M36","v":0},{"$f":"C54*(1+D74+D75)","v":0},{"$f":"D54*(1+E74+E75)","v":0},0,0,0,0,0,0,0,0,0,0,0,0,0,0,0,0,0,0]
[]
[null,{"$f":"title247","v":"Sub-total operating cost (USD)"},{"$f":"C57+C59+C60","v":{"$error":"#DIV/0!"}},{"$f":"D57+D59+D60","v":{"$error":"#DIV/0!"}},{"$error":"#DIV/0!"},{"$error":"#DIV/0!"},{"$error":"#DIV/0!"},{"$error":"#DIV/0!"},{"$error":"#DIV/0!"},{"$error":"#DIV/0!"},{"$error":"#DIV/0!"},{"$error":"#DIV/0!"},{"$error":"#DIV/0!"},{"$error":"#DIV/0!"},{"$error":"#DIV/0!"},{"$error":"#DIV/0!"},{"$error":"#DIV/0!"},{"$error":"#DIV/0!"},{"$error":"#DIV/0!"},{"$error":"#DIV/0!"},{"$error":"#DIV/0!"},{"$error":"#DIV/0!"},{"$error":"#DIV/0!"}]
[null,{"$f":"title248","v":"Labour cost (USD)"},{"$f":"COST_RES4!M44","v":0},{"$f":"C57*(1+D58)","v":0},0,0,0,0,0,0,0,0,0,0,0,0,0,0,0,0,0,0,0]
[null,"Annual change in  labour cost (%)",null,{"$f":"COST_RES4!M12","v":0},{"$f":"D58","v":0},0,0,0,0,0,0,0,0,0,0,0,0,0,0,0,{"$f":"T58","v":0},0,0]
[null,{"$f":"title249","v":"Annual change in labour cost (%)"},{"$f":"COST_RES4!M70","v":0},{"$f":"C59","v":0},0,0,0,0,0,0,0,0,0,0,0,0,0,0,0,0,0,0,0]
[null,{"$f":"title250","v":"General and administrative cost"},{"$f":"COST_RES4!M71","v":{"$error":"#DIV/0!"}},{"$f":"C60","v":{"$error":"#DIV/0!"}},{"$error":"#DIV/0!"},{"$error":"#DIV/0!"},{"$error":"#DIV/0!"},{"$error":"#DIV/0!"},{"$error":"#DIV/0!"},{"$error":"#DIV/0!"},{"$error":"#DIV/0!"},{"$error":"#DIV/0!"},{"$error":"#DIV/0!"},{"$error":"#DIV/0!"},{"$error":"#DIV/0!"},{"$error":"#DIV/0!"},{"$error":"#DIV/0!"},{"$error":"#DIV/0!"},{"$error":"#DIV/0!"},{"$error":"#DIV/0!"},{"$error":"#DIV/0!"},{"$error":"#DIV/0!"},{"$error":"#DIV/0!"}]
[null,{"$f":"title251","v":"Sub-total maintenance cost (USD)"},{"$f":"COST_RES4!M65","v":0},{"$f":"C61","v":0},0,0,0,0,0,0,0,0,0,0,0,0,0,0,0,0,0,0,0]
[]
[null,{"$f":"title252","v":"Sub-total of annual fixed costs"},{"$f":"E34","v":0},{"$f":"C63","v":0},{"$f":"D63","v":0},0,0,0,0,0,0,0,0,0,0,0,0,0,0,0,0,0,0]
[]
[null,{"$f":"title253","v":"Sub-total of storage capacity"},{"$f":"COST_RES4!M56","v":{"$error":"#DIV/0!"}},{"$f":"C65","v":{"$error":"#DIV/0!"}},{"$f":"D65","v":{"$error":"#DIV/0!"}},{"$error":"#DIV/0!"},{"$error":"#DIV/0!"},{"$error":"#DIV/0!"},{"$error":"#DIV/0!"},{"$error":"#DIV/0!"},{"$error":"#DIV/0!"},{"$error":"#DIV/0!"},{"$error":"#DIV/0!"},{"$error":"#DIV/0!"},{"$error":"#DIV/0!"},{"$error":"#DIV/0!"},{"$error":"#DIV/0!"},{"$error":"#DIV/0!"},{"$error":"#DIV/0!"},{"$error":"#DIV/0!"},{"$error":"#DIV/0!"},{"$error":"#DIV/0!"},{"$error":"#DIV/0!"}]
[]
[null,{"$f":"title254","v":"Sub-total of briquette transportation to market"},{"$f":"COST_RES4!M49","v":0},{"$f":"C67*(1+D74+D75)","v":0},{"$f":"D67*(1+E74+E75)","v":0},0,0,0,0,0,0,0,0,0,0,0,0,0,0,0,0,0,0]
[]
[null,{"$f":"title255","v":"Total operation and maintenance cost (USD)"},{"$f":"C40+C56+C61+C63+C65+C67","v":{"$error":"#DIV/0!"}},{"$f":"D40+D56+D61+D63+D65+D67","v":{"$error":"#DIV/0!"}},{"$error":"#DIV/0!"},{"$error":"#DIV/0!"},{"$error":"#DIV/0!"},{"$error":"#DIV/0!"},{"$error":"#DIV/0!"},{"$error":"#DIV/0!"},{"$error":"#DIV/0!"},{"$error":"#DIV/0!"},{"$error":"#DIV/0!"},{"$error":"#DIV/0!"},{"$error":"#DIV/0!"},{"$error":"#DIV/0!"},{"$error":"#DIV/0!"},{"$error":"#DIV/0!"},{"$error":"#DIV/0!"},{"$error":"#DIV/0!"},{"$error":"#DIV/0!"},{"$error":"#DIV/0!"},{"$error":"#DIV/0!"}]
[null,{"$f":"title256","v":"Operation and maintenance cost (USD/kg of briquette) without loan interest"},{"$f":"C69/(C14*1000)","v":{"$error":"#DIV/0!"}},{"$error":"#DIV/0!"},{"$error":"#DIV/0!"},{"$error":"#DIV/0!"},{"$error":"#DIV/0!"},{"$error":"#DIV/0!"},{"$error":"#DIV/0!"},{"$error":"#DIV/0!"},{"$error":"#DIV/0!"},{"$error":"#DIV/0!"},{"$error":"#DIV/0!"},{"$error":"#DIV/0!"},{"$error":"#DIV/0!"},{"$error":"#DIV/0!"},{"$error":"#DIV/0!"},{"$error":"#DIV/0!"},{"$error":"#DIV/0!"},{"$error":"#DIV/0!"},{"$error":"#DIV/0!"},{"$error":"#DIV/0!"},{"$error":"#DIV/0!"}]
[]
[{"$f":"title164","v":"Financial parameters"}]
[null,{"$f":"title209","v":"Operating Year"},{"$f":"title230","v":"Appraisal"},1,2,3,4,5,6,7,8,9,10,11,12,13,14,15,16,17,18,19,20]
[null,{"$f":"title257","v":"Annual change in raw material cost (%)"},null,0,{"$f":"D74","v":0},{"$f":"E74","v":0},0,0,0,0,0,0,0,0,0,0,0,0,0,0,0,{"$f":"U74","v":0},{"$f":"V74","v":0}]
[null,{"$f":"title258","v":"Inflation rate (%)"},null,{"$f":"COST_RES4!J12","v":0},{"$f":"D75","v":0},0,0,0,0,0,0,0,0,0,0,0,0,0,0,0,0,{"$f":"U75","v":0},{"$f":"V75","v":0}]
[null,{"$f":"title165&\" (%)\"","v":"Discount rate (%)"},{"$f":"COST_RES4!J9","v":0}]
[null,{"$f":"title166&\" (%)\"","v":"Loan ratio (%)"},{"$f":"COST_RES4!J10","v":0}]
[]
[null,{"$f":"title259","v":"Loan without policy"},{"$f":"title230","v":"Appraisal"},1,2,3,4,5,6,7,8,9,10,11,12,13,14,15,16,17,18,19,20]
[null,{"$f":"title260","v":"Loan amount (USD)"},{"$f":"C77*(C34)","v":0}]
[null,{"$f":"title167&\" (%)\"","v":"Loan interest rate (%)"},{"$f":"COST_RES4!J11","v":0}]
[null,{"$f":"title261","v":"Loan term (years)"},{"$f":"COST_RES4!M9","v":0}]
[null,{"$f":"title262","v":"Loan payment (USD/month)"},{"$f":"(PMT($C$81/12,(12*$C$82),$C$80))","v":{"$error":"#NUM!"}}]
[null,{"$f":"title263","v":"Loan payment (USD/year)"},null,{"$f":"IF(D73<=$C$82,$C$83*12,0)","v":0},{"$f":"IF(E73<$C$82,$C$83*12,IF(E73=$C$82,$C$83*12,0))","v":0},{"$f":"IF(F73<$C$82,$C$83*12,IF(F73=$C$82,$C$83*12,0))","v":0},0,0,0,0,0,0,0,0,0,0,0,0,0,0,0,0,0]
[null,{"$f":"title264","v":"Total loan payment (USD)"},{"$f":"SUM(D84:W84)","v":0}]
[null,{"$f":"title265","v":"Loan interest payment (USD)"},{"$f":"C85+C80","v":0},{"$f":"title266","v":"Average loan interest payment for project lifetime"},null,null,{"$f":"C86/C25","v":0},{"$f":"title267","v":"USD per year"}]
[]
[{"$f":"title268","v":"Income tax analysis"}]
[null,{"$f":"title209","v":"Operating Year"},{"$f":"title230","v":"Appraisal"},1,2,3,4,5,6,7,8,9,10,11,12,13,14,15,16,17,18,19,20]
[null,{"$f":"title269","v":"Effective income tax rate (%)"},{"$f":"+'Data entry needs'!$AD$115","v":0},{"$f":"C90","v":0},{"$f":"D90","v":0},0,0,0,0,0,0,0,0,0,0,0,0,0,0,0,0,0,0]
[null,{"$f":"title270","v":"Income tax (USD)"},null,{"$f":"IF(D115<0,0,D90*D115)","v":{"$error":"#DIV/0!"}},{"$error":"#DIV/0!"},{"$error":"#DIV/0!"},{"$error":"#DIV/0!"},{"$error":"#DIV/0!"},{"$error":"#DIV/0!"},{"$error":"#DIV/0!"},{"$error":"#DIV/0!"},{"$error":"#DIV/0!"},{"$error":"#DIV/0!"},{"$error":"#DIV/0!"},{"$error":"#DIV/0!"},{"$error":"#DIV/0!"},{"$error":"#DIV/0!"},{"$error":"#DIV/0!"},{"$error":"#DIV/0!"},{"$error":"#DIV/0!"},{"$error":"#DIV/0!"},{"$error":"#DIV/0!"},{"$error":"#DIV/0!"}]
[null,{"$f":"title271","v":"Total income tax payment (USD)"},{"$f":"SUM(D91:W91)","v":{"$error":"#DIV/0!"}},{"$f":"title458","v":"Average income tax payment "},null,{"$f":"C92/C25","v":{"$error":"#DIV/0!"}},{"$f":"title267","v":"USD per year"}]
[]
[{"$f":"title272","v":"Depreciation"}]
[null,{"$f":"title209","v":"Operating Year"},{"$f":"title230","v":"Appraisal"},1,2,3,4,5,6,7,8,9,10,11,12,13,14,15,16,17,18,19,20]
[null,{"$f":"title273","v":"Depreciation method"},{"$f":"title275","v":"Straight-line"}]
[null,{"$f":"title274","v":"Total depreciation (USD)"},null,{"$f":"COST_RES4!M64","v":0},{"$f":"D97","v":0},{"$f":"E97","v":0},0,0,0,0,0,0,0,0,0,0,0,0,0,0,0,0,0]
[]
[{"$f":"title276","v":"Base case project summary"}]
[{"$f":"title277","v":"Summary of this project - Before Tax"}]
[null,{"$f":"title209","v":"Operating Year"},{"$f":"title230","v":"Appraisal"},1,2,3,4,5,6,7,8,9,10,11,12,13,14,15,16,17,18,19,20]
[null,{"$f":"title278","v":"Total revenue (USD)"},null,{"$f":"D15*1000*D18","v":0},{"$f":"E15*1000*E18","v":0},0,0,0,0,0,0,0,0,0,0,0,0,0,0,0,0,0,0]
[null,{"$f":"title228","v":"Total capital cost (USD)"},{"$f":"-(C34-C80)","v":0}]
[null,{"$f":"title279","v":"Total operating and maintenance cost (USD)"},null,{"$f":"-D69+D63","v":{"$error":"#DIV/0!"}},{"$error":"#DIV/0!"},{"$error":"#DIV/0!"},{"$error":"#DIV/0!"},{"$error":"#DIV/0!"},{"$error":"#DIV/0!"},{"$error":"#DIV/0!"},{"$error":"#DIV/0!"},{"$error":"#DIV/0!"},{"$error":"#DIV/0!"},{"$error":"#DIV/0!"},{"$error":"#DIV/0!"},{"$error":"#DIV/0!"},{"$error":"#DIV/0!"},{"$error":"#DIV/0!"},{"$error":"#DIV/0!"},{"$error":"#DIV/0!"},{"$error":"#DIV/0!"},{"$error":"#DIV/0!"},{"$error":"#DIV/0!"}]
[null,{"$f":"title280","v":"Loan payment (USD)"},null,{"$f":"D84","v":0},{"$f":"E84","v":0},0,0,0,0,0,0,0,0,0,0,0,0,0,0,0,0,0,0]
[null,{"$f":"title281","v":"Cash flow - before tax (USD)"},{"$f":"SUM(C102:C105)","v":0},{"$error":"#DIV/0!"},{"$error":"#DIV/0!"},{"$error":"#DIV/0!"},{"$error":"#DIV/0!"},{"$error":"#DIV/0!"},{"$error":"#DIV/0!"},{"$error":"#DIV/0!"},{"$error":"#DIV/0!"},{"$error":"#DIV/0!"},{"$error":"#DIV/0!"},{"$error":"#DIV/0!"},{"$error":"#DIV/0!"},{"$error":"#DIV/0!"},{"$error":"#DIV/0!"},{"$error":"#DIV/0!"},{"$error":"#DIV/0!"},{"$error":"#DIV/0!"},{"$error":"#DIV/0!"},{"$error":"#DIV/0!"},{"$error":"#DIV/0!"}]
[null,{"$f":"title282","v":"Average revenue (USD)"}]
[]
[{"$f":"title283","v":"Summary of this project - After Tax"}]
[null,{"$f":"title209","v":"Operating Year"},{"$f":"title230","v":"Appraisal"},1,2,3,4,5,6,7,8,9,10,11,12,13,14,15,16,17,18,19,20]
[null,{"$f":"B102","v":"Total revenue (USD)"},{"$f":"C102","v":0},{"$f":"D102","v":0},0,0,0,0,0,0,0,0,0,0,0,0,0,0,0,0,0,0,0]
[null,{"$f":"title279","v":"Total operating and maintenance cost (USD)"},null,{"$f":"-D69+D63","v":{"$error":"#DIV/0!"}},{"$error":"#DIV/0!"},{"$error":"#DIV/0!"},{"$error":"#DIV/0!"},{"$error":"#DIV/0!"},{"$error":"#DIV/0!"},{"$error":"#DIV/0!"},{"$error":"#DIV/0!"},{"$error":"#DIV/0!"},{"$error":"#DIV/0!"},{"$error":"#DIV/0!"},{"$error":"#DIV/0!"},{"$error":"#DIV/0!"},{"$error":"#DIV/0!"},{"$error":"#DIV/0!"},{"$error":"#DIV/0!"},{"$error":"#DIV/0!"},{"$error":"#DIV/0!"},{"$error":"#DIV/0!"},{"$error":"#DIV/0!"}]
[null,{"$f":"title280","v":"Loan payment (USD)"},null,{"$f":"$G$86","v":0},{"$f":"$G$86","v":0},0,0,0,0,0,0,0,0,0,0,0,0,0,0,0,0,0,0]
[null,{"$f":"title284","v":"Depreciation of fixed costs (USD)"},null,{"$f":"-D63","v":0},{"$f":"-E63","v":0},0,0,0,0,0,0,0,0,0,0,0,0,0,0,0,0,0,0]
[null,{"$f":"title285","v":"Net profit - before tax (USD) for income tax calculation"},{"$f":"SUM(C111:C114)","v":0},{"$f":"SUM(D111:D114)","v":{"$error":"#DIV/0!"}},{"$f":"SUM(E111:E114)","v":{"$error":"#DIV/0!"}},{"$error":"#DIV/0!"},{"$error":"#DIV/0!"},{"$error":"#DIV/0!"},{"$error":"#DIV/0!"},{"$error":"#DIV/0!"},{"$error":"#DIV/0!"},{"$error":"#DIV/0!"},{"$error":"#DIV/0!"},{"$error":"#DIV/0!"},{"$error":"#DIV/0!"},{"$error":"#DIV/0!"},{"$error":"#DIV/0!"},{"$error":"#DIV/0!"},{"$error":"#DIV/0!"},{"$error":"#DIV/0!"},{"$error":"#DIV/0!"},{"$error":"#DIV/0!"},{"$error":"#DIV/0!"}]
[null,{"$f":"title286","v":"Income tax"},null,{"$f":"IF(D115>0,-D91,0)","v":{"$error":"#DIV/0!"}},{"$error":"#DIV/0!"},{"$error":"#DIV/0!"},{"$error":"#DIV/0!"},{"$error":"#DIV/0!"},{"$error":"#DIV/0!"},{"$error":"#DIV/0!"},{"$error":"#DIV/0!"},{"$error":"#DIV/0!"},{"$error":"#DIV/0!"},{"$error":"#DIV/0!"},{"$error":"#DIV/0!"},{"$error":"#DIV/0!"},{"$error":"#DIV/0!"},{"$error":"#DIV/0!"},{"$error":"#DIV/0!"},{"$error":"#DIV/0!"},{"$error":"#DIV/0!"},{"$error":"#DIV/0!"},{"$error":"#DIV/0!"}]
[null,{"$f":"title287","v":"Cash flow - after tax (USD)"},{"$f":"C103","v":0},{"$f":"D106+D116","v":{"$error":"#DIV/0!"}},{"$f":"E106+E116","v":{"$error":"#DIV/0!"}},{"$error":"#DIV/0!"},{"$error":"#DIV/0!"},{"$error":"#DIV/0!"},{"$error":"#DIV/0!"},{"$error":"#DIV/0!"},{"$error":"#DIV/0!"},{"$error":"#DIV/0!"},{"$error":"#DIV/0!"},{"$error":"#DIV/0!"},{"$error":"#DIV/0!"},{"$error":"#DIV/0!"},{"$error":"#DIV/0!"},{"$error":"#DIV/0!"},{"$error":"#DIV/0!"},{"$error":"#DIV/0!"},{"$error":"#DIV/0!"},{"$error":"#DIV/0!"},{"$f":"W106+W116","v":{"$error":"#DIV/0!"}}]
[]
[{"$f":"title288","v":"Cumulative value of Net Profit"}]
[null,{"$f":"title209","v":"Operating Year"},{"$f":"title230","v":"Appraisal"},1,2,3,4,5,6,7,8,9,10,11,12,13,14,15,16,17,18,19,20]
[null,{"$f":"title289","v":"Cumulative value of net profit - before tax"},{"$f":"C106","v":0},{"$f":"C121+(D106)","v":{"$error":"#DIV/0!"}},{"$error":"#DIV/0!"},{"$error":"#DIV/0!"},{"$error":"#DIV/0!"},{"$error":"#DIV/0!"},{"$error":"#DIV/0!"},{"$error":"#DIV/0!"},{"$error":"#DIV/0!"},{"$error":"#DIV/0!"},{"$error":"#DIV/0!"},{"$error":"#DIV/0!"},{"$error":"#DIV/0!"},{"$error":"#DIV/0!"},{"$error":"#DIV/0!"},{"$error":"#DIV/0!"},{"$error":"#DIV/0!"},{"$error":"#DIV/0!"},{"$error":"#DIV/0!"},{"$error":"#DIV/0!"},{"$error":"#DIV/0!"}]
[null,{"$f":"title290","v":"Cumulative value of net profit - after tax"},{"$f":"C117","v":0},{"$f":"C122+(D117)","v":{"$error":"#DIV/0!"}},{"$error":"#DIV/0!"},{"$error":"#DIV/0!"},{"$error":"#DIV/0!"},{"$error":"#DIV/0!"},{"$error":"#DIV/0!"},{"$error":"#DIV/0!"},{"$error":"#DIV/0!"},{"$error":"#DIV/0!"},{"$error":"#DIV/0!"},{"$error":"#DIV/0!"},{"$error":"#DIV/0!"},{"$error":"#DIV/0!"},{"$error":"#DIV/0!"},{"$error":"#DIV/0!"},{"$error":"#DIV/0!"},{"$error":"#DIV/0!"},{"$error":"#DIV/0!"},{"$error":"#DIV/0!"},{"$error":"#DIV/0!"}]
[]
[{"$f":"title291","v":"Financial analysis results"}]
[]
[null,{"$f":"title292","v":"Net present value (NPV) (USD) - before tax"},{"$f":"NPV(C76,D106:W106)+C106","v":{"$error":"#DIV/0!"}}]
[null,{"$f":"title293","v":"Internal rate of return (IRR) (%) - before tax"},{"$f":"IF(C126<0,title459,IF(TIR_cell=title519,IRR(C106:W106,0.001),MIRR(C106:W106,C81,C76)))","v":{"$error":"#DIV/0!"}}]
[null,{"$f":"title294","v":"Payback period (years)"},{"$f":"title298","v":"Please see Figure of the cumulative value of net profit - before tax"}]
[]
[]
[null,{"$f":"title295","v":"Net present value (NPV) (USD) - after tax"},{"$f":"NPV(C76,D117:W117)+C117","v":{"$error":"#DIV/0!"}}]
[null,{"$f":"title296","v":"Internal rate of return (IRR) (%) - after tax"},{"$f":"IF(C131<0,title459,MIRR(C117:W117,C81,0%))","v":{"$error":"#DIV/0!"}}]
[null,{"$f":"title294","v":"Payback period (years)"},{"$f":"title299","v":"Please see Figure of the cumulative value of net profit - after tax"}]
[null,{"$f":"title297","v":"Total Income tax payment of project lifetime"},{"$f":"SUM(D116:W116)","v":{"$error":"#DIV/0!"}}]

{"sheet":"Summary of results-by feedstock","index":54,"n_rows":234,"n_cols":29,"rows_kept":234,"cut":false,"hidden":false,"merged":[[63,2,63,6],[128,24,128,27],[2,3,2,18],[34,15,34,17],[35,6,35,13],[36,6,36,13],[37,6,37,13],[38,6,38,13],[58,15,59,18],[9,2,9,7],[34,2,34,3],[34,6,34,11],[5,7,5,11],[47,15,47,17]]}
[null,null,null,null,null,null,null,null,null,null,null,null,null,null,0.1]
[]
[null,null,null,{"$f":"UPPER(title392&$X$125)","v":"SUMMARY OF RESULTS FOR BRIQUETTE PRODUCTION FROM  SOYBEAN STRAW"}]
[]
[]
[null,null,null,{"$f":"title393","v":"Select a feedstock to see the summary results"},null,null,null,"coconut shell"]
[]
[null,null,null,{"$f":"title394","v":"Production Cost and Investment Results"}]
[]
[null,null,{"$f":"title395","v":"Production Cost of Briquettes + Transport (USD/kg of briquettes)"},null,null,null,null,null,null,null,null,{"$f":"title396","v":"Share of Production Cost (%)"},null,null,null,{"$f":"title364&\" (USD)\"","v":"Total investment (USD)"}]
[]
[null,null,null,{"$f":"title397","v":"     Compare to market price rural"},{"$f":"+IF($V196,Y164,\"\")","v":0},null,{"$f":"title398","v":"     Compare to market price urban"},null,{"$f":"+IF($V197,Y165,\"\")","v":0}]
[]
[]
[]
[]
[]
[]
[]
[]
[]
[]
[]
[]
[]
[]
[]
[]
[]
[]
[]
[]
[null,null,null,{"$f":"title399","v":"Operating Results"}]
[]
[null,null,{"$f":"title400","v":"Feedstock Consumption"},null,null,null,{"$f":"title401","v":"Number of Potential Plants and Area Required"},null,null,null,null,null,null,null,null,{"$f":"title402","v":"Households Potentially Supplied per plant"}]
[null,null,null,null,null,null,{"$f":"+(IF($Y$135<1,title403,title404&ROUND($Y$135,0)))","v":{"$error":"#DIV/0!"}}]
[null,null,null,null,null,null,{"$f":"+(IF($Z$135<1,title405,title406&ROUND($Z$135,0)))","v":{"$error":"#DIV/0!"}}]
[null,null,null,null,null,null,{"$f":"+(IF($AA$135<1,title407,title408&ROUND($AA$135,0)))","v":{"$error":"#DIV/0!"}}]
[null,null,null,null,null,null,{"$f":"+(IF($AB$135<1,title409,title410&ROUND($AB$135,0)))","v":{"$error":"#DIV/0!"}}]
[]
[]
[]
[]
[]
[]
[]
[]
[null,null,null,null,null,null,null,null,null,null,null,null,null,null,null,{"$f":"title411","v":"Potential Job Creation"}]
[]
[]
[]
[]
[]
[]
[]
[]
[]
[]
[null,null,null,null,null,null,null,null,null,null,null,null,null,null,null,{"$f":"+IF(X215=0,title456,IF(X215>0,title457))","v":{"$error":"#DIV/0!"}}]
[]
[]
[null,null,null,{"$f":"title291","v":"Financial analysis results"}]
[]
[null,null,{"$f":"title412","v":"Net Present Value (rural and urban market prices) USD (1000)"},null,null,null,null,null,null,null,null,{"$f":"title413","v":"Internal Rate of Return (%)"},null,null,null,"MIRR"]
[]
[null,null,null,null,null,null,null,null,null,null,null,null,null,null,null,null,null,null,null,null,null,{"$f":"title519","v":"IRR"}]
[null,null,null,null,null,null,null,null,null,null,null,null,null,null,null,null,null,null,null,null,null,{"$f":"title520","v":"MIRR"}]
[]
[]
[]
[]
[]
[]
[]
[]
[]
[]
[]
[]
[]
[]
[]
[]
[]
[]
[]
[]
[]
[]
[]
[]
[]
[]
[]
[]
[]
[]
[]
[]
[]
[]
[]
[]
[]
[]
[]
[]
[]
[]
[]
[]
[]
[]
[null,null,null,null,null,null,null,null,null,null,null,null,null,null,null,null,null,null,null,null,null,null,null,"coconut husk",3]
[]
[]
[null,null,null,null,null,null,null,null,null,null,null,null,null,null,null,null,null,null,null,null,null,null,null,null,null,null,{"$f":"+LOOKUP(X114,V120:W123)","v":4}]
[]
[null,null,null,null,null,null,null,null,null,null,null,null,null,null,null,null,null,null,null,null,null,"Residue","Pos."]
[null,null,null,null,null,null,null,null,null,null,null,null,null,null,null,null,null,{"$f":"entry1","v":"Please Select"},null,null,"1. ",{"$f":"U120&\" \"&'Data entry needs'!$D$10&\" \"&'Data entry needs'!$D$11","v":"1.  Please Select Please Select"},1,{"$f":"+'Data entry needs'!$D$10&'Data entry needs'!$D$11","v":"Please SelectPlease Select"},{"$f":"+'Data entry needs'!$D$10&\" \"&'Data entry needs'!$D$11","v":"Please Select Please Select"},{"$f":"entry1","v":"Please Select"},{"$f":"VLOOKUP($W$126,W120:Z123,3)","v":"Please Select Please Select"},{"$f":"IF(OR($AA$120=title516&\" \",$AA$120=title517&\" \"),TRUE,FALSE)","v":false}]
[null,null,null,null,null,null,null,null,null,null,null,null,null,null,null,null,null,{"$f":"entry2","v":"Please Select"},null,null,"2.",{"$f":"U122&\" \"&'Data entry needs'!$E$10&\" \"&'Data entry needs'!$E$11","v":"3. Please Select Please Select"},2,{"$f":"+'Data entry needs'!$E$10&'Data entry needs'!$E$11","v":"Please SelectPlease Select"},{"$f":"+'Data entry needs'!$E$10&\" \"&'Data entry needs'!$E$11","v":"Please Select Please Select"},{"$f":"entry2","v":"Please Select"}]
[null,null,null,null,null,null,null,null,null,null,null,null,null,null,null,null,null,{"$f":"entry3","v":"Please Select"},null,null,"3.",{"$f":"U122&\" \"&'Data entry needs'!$F$10&\" \"&'Data entry needs'!$F$11","v":"3. Please Select Please Select"},3,{"$f":"+'Data entry needs'!$F$10&'Data entry needs'!$F$11","v":"Please SelectPlease Select"},{"$f":"+'Data entry needs'!$F$10&\" \"&'Data entry needs'!$F$11","v":"Please Select Please Select"},{"$f":"entry3","v":"Please Select"}]
[null,null,null,null,null,null,null,null,null,null,null,null,null,null,null,null,null,{"$f":"entry4","v":"Please Select"},null,null,"4.",{"$f":"U123&\" \"&'Data entry needs'!$G$10&\" \"&'Data entry needs'!$G$11","v":"4. Please Select Please Select"},4,{"$f":"+'Data entry needs'!$G$10&'Data entry needs'!$G$11","v":"Please SelectPlease Select"},{"$f":"+'Data entry needs'!$G$10&\" \"&'Data entry needs'!$G$11","v":"Please Select Please Select"},{"$f":"entry4","v":"Please Select"}]
[]
[null,null,null,null,null,null,null,null,null,null,null,null,null,null,null,null,null,null,null,null,null,"Selection","No.",{"$f":"RIGHT(X126,LEN(X126)-3)","v":" soybean straw"}]
[null,null,null,null,null,null,null,null,null,null,null,null,null,null,null,null,null,null,null,null,null,{"$f":"+VLOOKUP($W$126,$W$120:$Y$123,2,FALSE)","v":"Please SelectPlease Select"},1,"1.  soybean straw","Biomass residueratio",{"$f":"+VLOOKUP(V126,dummy_database!$N$4:$R$30,5,FALSE)","v":{"$error":"#N/A"}}]
[null,null,null,null,null,null,null,null,null,null,null,null,null,null,null,null,null,null,null,null,null,null,null,null,"F","H","J","L"]
[null,null,null,null,null,null,null,null,null,null,null,null,null,null,null,null,null,null,null,null,null,null,"Biomass Briquetting Project Summary",null,"G","I","K","M"]
[null,null,null,null,null,null,null,null,null,null,null,null,null,null,null,null,null,null,null,null,null,null," Production cost",{"$f":"title96","v":"Unit"},"ts of  briquette production per year"]
[null,null,null,null,null,null,null,null,null,null,null,null,null,null,null,null,null,null,null,null,null,null,null,null,{"$f":"COST_RES1!$F$29","v":0},{"$f":"COST_RES1!$H$29","v":0},{"$f":"COST_RES1!$J$29","v":0},{"$f":"COST_RES1!$L$29","v":0}]
[null,null,null,null,null,null,null,null,null,null,null,null,null,null,null,null,null,null,null,null,null,null,"Biomass type",null,{"$f":"+$X$126","v":"1.  soybean straw"},{"$f":"+$X$126","v":"1.  soybean straw"},{"$f":"+$X$126","v":"1.  soybean straw"},{"$f":"+$X$126","v":"1.  soybean straw"}]
[null,null,null,null,null,null,null,null,null,null,null,null,null,null,null,null,null,null,null,null,null,null,{"$f":"title426","v":"Biomass required (t/year)"},{"$f":"title83","v":"t/year"},{"$f":"INDIRECT(\"COST_RES\"&$W$126&\"!F33\")","v":{"$error":"#DIV/0!"}},{"$f":"INDIRECT(\"COST_RES\"&$W$126&\"!h33\")","v":{"$error":"#DIV/0!"}},{"$f":"INDIRECT(\"COST_RES\"&$W$126&\"!j33\")","v":{"$error":"#DIV/0!"}},{"$f":"INDIRECT(\"COST_RES\"&$W$126&\"!l33\")","v":{"$error":"#DIV/0!"}}]
[null,null,null,null,null,null,null,null,null,null,null,null,null,null,null,null,null,null,null,null,null,null,{"$f":"title427","v":"Biomass available (t/year)"},{"$f":"title83","v":"t/year"},{"$f":"+INDIRECT(\"COST_RES\"&$W$126&\"!$D$9\")","v":0},{"$f":"+Y133","v":0},{"$f":"+Z133","v":0},{"$f":"+AA133","v":0}]
[null,null,null,null,null,null,null,null,null,null,null,null,null,null,null,null,null,null,null,null,null,null,null,null,{"$f":"+Y132/Y133","v":{"$error":"#DIV/0!"}},{"$f":"+Z132/Z133","v":{"$error":"#DIV/0!"}},{"$f":"+AA132/AA133","v":{"$error":"#DIV/0!"}},{"$f":"+AB132/AB133","v":{"$error":"#DIV/0!"}}]
[null,null,null,null,null,null,null,null,null,null,null,null,null,null,null,null,null,null,null,null,null,null,{"$f":"title429","v":"Plants potentially supported"},null,{"$f":"ROUNDDOWN(Y133/Y132,0)","v":{"$error":"#DIV/0!"}},{"$f":"ROUNDDOWN(Z133/Z132,0)","v":{"$error":"#DIV/0!"}},{"$f":"ROUNDDOWN(AA133/AA132,0)","v":{"$error":"#DIV/0!"}},{"$f":"ROUNDDOWN(AB133/AB132,0)","v":{"$error":"#DIV/0!"}}]
[null,null,null,null,null,null,null,null,null,null,null,null,null,null,null,null,null,null,null,null,null,null,{"$f":"title424","v":"Area Required (Ha)"},"Ha",{"$f":"IFERROR(Y132/(INDIRECT(\"COST_RES\"&$W$126&\"!d10\")),0)","v":0},{"$f":"IFERROR(Z132/(INDIRECT(\"COST_RES\"&$W$126&\"!d10\")),0)","v":0},{"$f":"IFERROR(AA132/(INDIRECT(\"COST_RES\"&$W$126&\"!d10\")),0)","v":0},{"$f":"IFERROR(AB132/(INDIRECT(\"COST_RES\"&$W$126&\"!d10\")),0)","v":0}]
[]
[]
[null,null,null,null,null,null,null,null,null,null,null,null,null,null,null,null,null,null,null,null,null,null,{"$f":"title428","v":"Annual basis"}]
[null,null,null,null,null,null,null,null,null,null,null,null,null,null,null,null,null,null,null,null,null,null,"Production cost of briquette "]
[null,null,null,null,null,null,null,null,null,null,null,null,null,null,null,null,null,null,null,null,null,null,{"$f":"title431","v":"Raw materials"},{"$f":"title84","v":"USD/year"},{"$f":"INDIRECT(\"COST_RES\"&$W$126&\"!\"&Y$127&37)","v":{"$error":"#DIV/0!"}},{"$f":"INDIRECT(\"COST_RES\"&$W$126&\"!\"&Z$127&37)","v":{"$error":"#DIV/0!"}},{"$f":"INDIRECT(\"COST_RES\"&$W$126&\"!\"&AA$127&37)","v":{"$error":"#DIV/0!"}},{"$f":"INDIRECT(\"COST_RES\"&$W$126&\"!\"&AB$127&37)","v":{"$error":"#DIV/0!"}}]
[null,null,null,null,null,null,null,null,null,null,null,null,null,null,null,null,null,null,null,null,null,null,{"$f":"title359","v":"Labour and miscellaneous costs"},"USD/year",{"$f":"INDIRECT(\"COST_RES\"&$W$126&\"!\"&Y$127&44)","v":0},{"$f":"INDIRECT(\"COST_RES\"&$W$126&\"!\"&Z$127&44)","v":0},{"$f":"INDIRECT(\"COST_RES\"&$W$126&\"!\"&AA$127&44)","v":0},{"$f":"INDIRECT(\"COST_RES\"&$W$126&\"!\"&AB$127&44)","v":0}]
[null,null,null,null,null,null,null,null,null,null,null,null,null,null,null,null,null,null,null,null,null,null,{"$f":"title432","v":"Transport and storage"},"USD/year",{"$f":"INDIRECT(\"COST_RES\"&$W$126&\"!\"&Y$127&50)+INDIRECT(\"COST_RES\"&$W$126&\"!\"&Y$127&56)","v":{"$error":"#DIV/0!"}},{"$f":"INDIRECT(\"COST_RES\"&$W$126&\"!\"&Z$127&50)+INDIRECT(\"COST_RES\"&$W$126&\"!\"&Z$127&56)","v":{"$error":"#DIV/0!"}},{"$f":"INDIRECT(\"COST_RES\"&$W$126&\"!\"&AA$127&50)+INDIRECT(\"COST_RES\"&$W$126&\"!\"&AA$127&56)","v":{"$error":"#DIV/0!"}},{"$f":"INDIRECT(\"COST_RES\"&$W$126&\"!\"&AB$127&50)+INDIRECT(\"COST_RES\"&$W$126&\"!\"&AB$127&56)","v":{"$error":"#DIV/0!"}}]
[null,null,null,null,null,null,null,null,null,null,null,null,null,null,null,null,null,null,null,null,null,null,{"$f":"title272","v":"Depreciation"},"USD/year",{"$f":"INDIRECT(\"COST_RES\"&$W$126&\"!\"&Y$128&64)*(1+'Data entry needs'!$D$48)","v":0},{"$f":"INDIRECT(\"COST_RES\"&$W$126&\"!\"&Z$128&64)*(1+'Data entry needs'!$D$48)","v":0},{"$f":"INDIRECT(\"COST_RES\"&$W$126&\"!\"&AA$128&64)*(1+'Data entry needs'!$D$48)","v":0},{"$f":"INDIRECT(\"COST_RES\"&$W$126&\"!\"&AB$128&64)*(1+'Data entry needs'!$D$48)","v":0}]
[null,null,null,null,null,null,null,null,null,null,null,null,null,null,null,null,null,null,null,null,null,null,{"$f":"title159","v":"Other costs"},"USD/year",{"$f":"INDIRECT(\"COST_RES\"&$W$126&\"!\"&Y$127&73)","v":{"$error":"#DIV/0!"}},{"$f":"INDIRECT(\"COST_RES\"&$W$126&\"!\"&Z$127&73)","v":{"$error":"#DIV/0!"}},{"$f":"INDIRECT(\"COST_RES\"&$W$126&\"!\"&AA$127&73)","v":0},{"$f":"INDIRECT(\"COST_RES\"&$W$126&\"!\"&AB$127&73)","v":0}]
[null,null,null,null,null,null,null,null,null,null,null,null,null,null,null,null,null,null,null,null,null,null,{"$f":"title433","v":"Total annualized production cost"},"USD/year",{"$f":"SUM(Y141:Y145)","v":{"$error":"#DIV/0!"}},{"$f":"SUM(Z141:Z145)","v":{"$error":"#DIV/0!"}},{"$f":"SUM(AA141:AA145)","v":{"$error":"#DIV/0!"}},{"$f":"SUM(AB141:AB145)","v":{"$error":"#DIV/0!"}}]
[null,null,null,null,null,null,null,null,null,null,null,null,null,null,null,null,null,null,null,null,null,null,{"$f":"title434","v":"kg product basis"}]
[null,null,null,null,null,null,null,null,null,null,null,null,null,null,null,null,null,null,null,null,null,null,{"$f":"title435","v":"Total production cost-limsup"},{"$f":"title443","v":"USD/kg of briquettes"},{"$f":"+Y146*($O$1+1)/(Y$130*1000)","v":{"$error":"#DIV/0!"}},{"$f":"+Z146*($O$1+1)/(Z$130*1000)","v":{"$error":"#DIV/0!"}},{"$f":"+AA146*($O$1+1)/(AA$130*1000)","v":{"$error":"#DIV/0!"}},{"$f":"+AB146*($O$1+1)/(AB$130*1000)","v":{"$error":"#DIV/0!"}}]
[null,null,null,null,null,null,null,null,null,null,null,null,null,null,null,null,null,null,null,null,null,null,{"$f":"title436","v":"Total production cost-liminf"},{"$f":"title443","v":"USD/kg of briquettes"},{"$f":"+Y146*(1-$O$1)/(Y$130*1000)","v":{"$error":"#DIV/0!"}},{"$f":"+Z146*(1-$O$1)/(Z$130*1000)","v":{"$error":"#DIV/0!"}},{"$f":"+AA146*(1-$O$1)/(AA$130*1000)","v":{"$error":"#DIV/0!"}},{"$f":"+AB146*(1-$O$1)/(AB$130*1000)","v":{"$error":"#DIV/0!"}}]
[null,null,null,null,null,null,null,null,null,null,null,null,null,null,null,null,null,null,null,null,null,null,{"$f":"title272","v":"Depreciation"},{"$f":"title84","v":"USD/year"},{"$f":"INDIRECT(\"COST_RES\"&$W$126&\"!g64\")","v":0},{"$f":"INDIRECT(\"COST_RES\"&$W$126&\"!i64\")","v":0},{"$f":"INDIRECT(\"COST_RES\"&$W$126&\"!k64\")","v":0},{"$f":"INDIRECT(\"COST_RES\"&$W$126&\"!m64\")","v":0}]
[null,null,null,null,null,null,null,null,null,null,null,null,null,null,null,null,null,null,null,null,null,null,{"$f":"title437&20&title438","v":"Total investment - 20 years"},"USD",{"$f":"INDIRECT(\"COST_RES\"&$W$126&\"!F63\")","v":0},{"$f":"INDIRECT(\"COST_RES\"&$W$126&\"!H63\")","v":0},{"$f":"INDIRECT(\"COST_RES\"&$W$126&\"!J63\")","v":0},{"$f":"INDIRECT(\"COST_RES\"&$W$126&\"!L63\")","v":0}]
[]
[null,null,null,null,null,null,null,null,null,null,null,null,null,null,null,null,null,null,null,null,null,null,{"$f":"title439","v":"Potential briquette consumption per household"}]
[null,null,null,null,null,null,null,null,null,null,null,null,null,null,null,null,null,null,null,null,null,null,{"$f":"title77","v":"Rural Households"},{"$f":"title440","v":"t/year/houseshold"},{"$f":"+'Energy Demand'!$H$17","v":0}]
[null,null,null,null,null,null,null,null,null,null,null,null,null,null,null,null,null,null,null,null,null,null,{"$f":"title86","v":" Urban Households"},{"$f":"title440","v":"t/year/houseshold"},{"$f":"+'Energy Demand'!$M$17","v":0}]
[]
[null,null,null,null,null,null,null,null,null,null,null,null,null,null,null,null,null,null,null,null,null,null,{"$f":"title444","v":"Number of household that can be supplied"}]
[null,null,null,null,null,null,null,null,null,null,null,null,null,null,null,null,null,null,null,null,null,null,{"$f":"title77","v":"Rural Households"},{"$f":"title441","v":"Households"},{"$f":"+Y132/$Y$154","v":{"$error":"#DIV/0!"}},{"$f":"+Z132/$Y$154","v":{"$error":"#DIV/0!"}},{"$f":"+AA132/$Y$154","v":{"$error":"#DIV/0!"}},{"$f":"+AB132/$Y$154","v":{"$error":"#DIV/0!"}}]
[null,null,null,null,null,null,null,null,null,null,null,null,null,null,null,null,null,null,null,null,null,null,{"$f":"title86","v":" Urban Households"},{"$f":"title441","v":"Households"},{"$f":"+Y132/$Y$155","v":{"$error":"#DIV/0!"}},{"$f":"+Z132/$Y$155","v":{"$error":"#DIV/0!"}},{"$f":"+AA132/$Y$155","v":{"$error":"#DIV/0!"}},{"$f":"+AB132/$Y$155","v":{"$error":"#DIV/0!"}}]
[]
[null,null,null,null,null,null,null,null,null,null,null,null,null,null,null,null,null,null,null,null,null,null,{"$f":"title422","v":"Total job creation by this project"},{"$f":"title442","v":"No. of employees"},{"$f":"SUM(Y162:Y163)","v":{"$error":"#DIV/0!"}},{"$f":"SUM(Z162:Z163)","v":{"$error":"#DIV/0!"}},{"$f":"SUM(AA162:AA163)","v":{"$error":"#DIV/0!"}},{"$f":"SUM(AB162:AB163)","v":{"$error":"#DIV/0!"}}]
[null,null,null,null,null,null,null,null,null,null,null,null,null,null,null,null,null,null,null,null,null,null,{"$f":"title445","v":"Biomass collection"},{"$f":"title442","v":"No. of employees"},{"$f":"ROUNDUP(IF('Data entry needs'!$C$17,0,INDIRECT(\"PRICE_RES\"&$W$126&\"!D20\"))*Y136/('Data entry needs'!$D$32*INDIRECT(\"STORAGE_RES\"&$W$126&\"!D37\")),0)","v":{"$error":"#DIV/0!"}},{"$f":"ROUNDUP(IF('Data entry needs'!$C$17,0,INDIRECT(\"PRICE_RES\"&$W$126&\"!D20\"))*Z136/('Data entry needs'!$D$32*INDIRECT(\"STORAGE_RES\"&$W$126&\"!D37\")),0)","v":{"$error":"#DIV/0!"}},{"$f":"ROUNDUP(IF('Data entry needs'!$C$17,0,INDIRECT(\"PRICE_RES\"&$W$126&\"!D20\"))*AA136/('Data entry needs'!$D$32*INDIRECT(\"STORAGE_RES\"&$W$126&\"!D37\")),0)","v":{"$error":"#DIV/0!"}},{"$f":"ROUNDUP(IF('Data entry needs'!$C$17,0,INDIRECT(\"PRICE_RES\"&$W$126&\"!D20\"))*AB136/('Data entry needs'!$D$32*INDIRECT(\"STORAGE_RES\"&$W$126&\"!D37\")),0)","v":{"$error":"#DIV/0!"}}]
[null,null,null,null,null,null,null,null,null,null,null,null,null,null,null,null,null,null,null,null,null,null,"Briquetting processes",{"$f":"title442","v":"No. of employees"},{"$f":"INDIRECT(\"COST_RES\"&$W$126&\"!F41\")+INDIRECT(\"COST_RES\"&$W$126&\"!F42\")","v":1},{"$f":"INDIRECT(\"COST_RES\"&$W$126&\"!h41\")+INDIRECT(\"COST_RES\"&$W$126&\"!h42\")","v":0},{"$f":"INDIRECT(\"COST_RES\"&$W$126&\"!j41\")+INDIRECT(\"COST_RES\"&$W$126&\"!j42\")","v":0},{"$f":"INDIRECT(\"COST_RES\"&$W$126&\"!l41\")+INDIRECT(\"COST_RES\"&$W$126&\"!l42\")","v":0}]
[null,null,null,null,null,null,null,null,null,null,null,null,null,null,null,null,null,null,null,null,null,null,{"$f":"title447","v":"Market price rural (USD/kg)"},{"$f":"title443","v":"USD/kg of briquettes"},{"$f":"+'Energy Demand'!$E$20","v":0}]
[null,null,null,null,null,null,null,null,null,null,null,null,null,null,null,null,null,null,null,null,null,null,{"$f":"title448","v":"Market price urban (USD/kg)"},{"$f":"title443","v":"USD/kg of briquettes"},{"$f":"+'Energy Demand'!$G$20","v":0}]
[null,null,null,null,null,null,null,null,null,null,null,null,null,null,null,null,null,null,null,null,null,null,{"$f":"title449","v":"Briquette revenue market rural"},{"$f":"title84","v":"USD/year"},{"$f":"+'Energy Demand'!H33","v":0},{"$f":"+'Energy Demand'!J33","v":0},{"$f":"+'Energy Demand'!M33","v":0},{"$f":"+'Energy Demand'!O33","v":0}]
[null,null,null,null,null,null,null,null,null,null,null,null,null,null,null,null,null,null,null,null,null,null,{"$f":"title450","v":"Briquette revenue market urban"},{"$f":"title84","v":"USD/year"},{"$f":"+'Energy Demand'!H38","v":0},{"$f":"+'Energy Demand'!J38","v":0},{"$f":"+'Energy Demand'!M38","v":0},{"$f":"+'Energy Demand'!O38","v":0}]
[null,null,null,null,null,null,null,null,null,null,null,null,null,null,null,null,null,null,null,null,null,null,{"$f":"title451","v":"Total production cost"},{"$f":"title84","v":"USD/year"},{"$f":"+Y146","v":{"$error":"#DIV/0!"}},{"$f":"+Z146","v":{"$error":"#DIV/0!"}},{"$f":"+AA146","v":{"$error":"#DIV/0!"}},{"$f":"+AB146","v":{"$error":"#DIV/0!"}}]
[]
[]
[null,null,null,null,null,null,null,null,null,null,null,null,null,null,null,null,null,null,null,null,null,null,{"$f":"title452","v":"SIZE 1"},{"$f":"4&\" kg/h\"","v":"4 kg/h"}]
[null,null,null,null,null,null,null,null,null,null,null,null,null,null,null,null,null,null,null,null,null,null,{"$f":"title453","v":"SIZE 2"},{"$f":"40&\" kg/h\"","v":"40 kg/h"}]
[null,null,null,null,null,null,null,null,null,null,null,null,null,null,null,null,null,null,null,null,null,null,{"$f":"title454","v":"SIZE 3"},{"$f":"400&\" kg/h\"","v":"400 kg/h"}]
[null,null,null,null,null,null,null,null,null,null,null,null,null,null,null,null,null,null,null,null,null,null,{"$f":"title455","v":"SIZE 4"},{"$f":"4000&\" kg/h\"","v":"4000 kg/h"}]
[]
[]
[null,null,null,null,null,null,null,null,null,null,null,null,null,null,null,null,null,null,null,null,null,null,null,{"$f":"+$X$171","v":"4 kg/h"}]
[]
[null,null,null,null,null,null,null,null,null,null,null,null,null,null,null,null,null,null,null,null,null,"Chart 1",null,{"$f":"+$X$171","v":"4 kg/h"},{"$f":"+$X$172","v":"40 kg/h"},{"$f":"+$X$173","v":"400 kg/h"},{"$f":"+$X$174","v":"4000 kg/h"}]
[null,null,null,null,null,null,null,null,null,null,null,null,null,null,null,null,null,null,null,null,null,true,{"$f":"+IF($V180,W133,\"\")","v":"Biomass available (t/year)"},{"$f":"+IF($V180,Y133,\"\")","v":0},{"$f":"+IF($V180,Z133,\"\")","v":0},{"$f":"+IF($V180,AA133,\"\")","v":0},{"$f":"+IF($V180,AB133,\"\")","v":0}]
[null,null,null,null,null,null,null,null,null,null,null,null,null,null,null,null,null,null,null,null,null,true,{"$f":"+IF($V181,W132,\"\")","v":"Biomass required (t/year)"},{"$f":"+IF($V181,Y132,\"\")","v":{"$error":"#DIV/0!"}},{"$f":"+IF($V181,Z132,\"\")","v":{"$error":"#DIV/0!"}},{"$f":"+IF($V181,AA132,\"\")","v":{"$error":"#DIV/0!"}},{"$f":"+IF($V181,AB132,\"\")","v":{"$error":"#DIV/0!"}}]
[null,null,null,null,null,null,null,null,null,null,null,null,null,null,null,null,null,null,null,null,null,"Chart 2",null,{"$f":"+$X$171","v":"4 kg/h"},{"$f":"+$X$172","v":"40 kg/h"},{"$f":"+$X$173","v":"400 kg/h"},{"$f":"+$X$174","v":"4000 kg/h"}]
[null,null,null,null,null,null,null,null,null,null,null,null,null,null,null,null,null,null,null,null,null,true,{"$f":"IF(OR(X126=title188&\" \",X126=title189&\" \"),\"\",IF(V183,W136,\"\"))","v":"Area Required (Ha)"},{"$f":"+IF($V183,Y136,\"\")","v":0},{"$f":"+IF($V183,Z136,\"\")","v":0},{"$f":"+IF($V183,AA136,\"\")","v":0},{"$f":"+IF($V183,AB136,\"\")","v":0}]
[null,null,null,null,null,null,null,null,null,null,null,null,null,null,null,null,null,null,null,null,null,true,{"$f":"+IF(V184,W135,\"\")","v":"Plants potentially supported"},{"$f":"X180/X181","v":{"$error":"#DIV/0!"}},{"$f":"Y180/Y181","v":{"$error":"#DIV/0!"}},{"$f":"Z180/Z181","v":{"$error":"#DIV/0!"}},{"$f":"AA180/AA181","v":{"$error":"#DIV/0!"}}]
[]
[null,null,null,null,null,null,null,null,null,null,null,null,null,null,null,null,null,null,null,null,null,"Chart 3",null,{"$f":"+$X$171","v":"4 kg/h"},{"$f":"+$X$172","v":"40 kg/h"},{"$f":"+$X$173","v":"400 kg/h"},{"$f":"+$X$174","v":"4000 kg/h"}]
[null,null,null,null,null,null,null,null,null,null,null,null,null,null,null,null,null,null,null,null,null,true,{"$f":"+IF($V187,$W141,\"\")","v":"Raw materials"},{"$f":"+IF($V187,Y$141,\"\")/Y$146","v":{"$error":"#DIV/0!"}},{"$f":"+IF($V187,Z$141,\"\")/Z$146","v":{"$error":"#DIV/0!"}},{"$f":"+IF($V187,AA$141,\"\")/AA$146","v":{"$error":"#DIV/0!"}},{"$f":"+IF($V187,AB$141,\"\")/AB$146","v":{"$error":"#DIV/0!"}}]
[null,null,null,null,null,null,null,null,null,null,null,null,null,null,null,null,null,null,null,null,null,true,{"$f":"+IF($V188,$W142,\"\")","v":"Labour and miscellaneous costs"},{"$f":"+IF($V188,Y$142,\"\")/Y$146","v":{"$error":"#DIV/0!"}},{"$f":"+IF($V188,Z$142,\"\")/Z$146","v":{"$error":"#DIV/0!"}},{"$f":"+IF($V188,AA$142,\"\")/AA$146","v":{"$error":"#DIV/0!"}},{"$f":"+IF($V188,AB$142,\"\")/AB$146","v":{"$error":"#DIV/0!"}}]
[null,null,null,null,null,null,null,null,null,null,null,null,null,null,null,null,null,null,null,null,null,true,{"$f":"+IF($V189,$W143,\"\")","v":"Transport and storage"},{"$f":"+IF($V189,Y$143,\"\")/Y$146","v":{"$error":"#DIV/0!"}},{"$f":"+IF($V189,Z$143,\"\")/Z$146","v":{"$error":"#DIV/0!"}},{"$f":"+IF($V189,AA$143,\"\")/AA$146","v":{"$error":"#DIV/0!"}},{"$f":"+IF($V189,AB$143,\"\")/AB$146","v":{"$error":"#DIV/0!"}}]
[null,null,null,null,null,null,null,null,null,null,null,null,null,null,null,null,null,null,null,null,null,true,{"$f":"+IF($V190,$W144&\" and \"&$W145,\"\")","v":"Depreciation and Other costs"},{"$f":"+IF($V190,Y$144+Y$145,\"\")/Y$146","v":{"$error":"#DIV/0!"}},{"$f":"+IF($V190,Z$144+Z$145,\"\")/Z$146","v":{"$error":"#DIV/0!"}},{"$f":"+IF($V190,AA$144+AA$145,\"\")/AA$146","v":{"$error":"#DIV/0!"}},{"$f":"+IF($V190,AB$144+AB$145,\"\")/AB$146","v":{"$error":"#DIV/0!"}}]
[]
[]
[]
[null,null,null,null,null,null,null,null,null,null,null,null,null,null,null,null,null,null,null,null,null,{"$f":"IF(V193=TRUE,FALSE,TRUE)","v":true},{"$f":"+IF($V194,W148,\"\")","v":"Total production cost-limsup"},{"$f":"+IF($V194,Y148,\"\")","v":{"$error":"#DIV/0!"}},{"$error":"#DIV/0!"},{"$error":"#DIV/0!"},{"$error":"#DIV/0!"}]
[null,null,null,null,null,null,null,null,null,null,null,null,null,null,null,null,null,null,null,null,null,{"$f":"+IF($O$1>0,TRUE,FALSE)","v":true},{"$f":"+IF($V195,W149,\"\")","v":"Total production cost-liminf"},{"$error":"#DIV/0!"},{"$error":"#DIV/0!"},{"$error":"#DIV/0!"},{"$error":"#DIV/0!"}]
[null,null,null,null,null,null,null,null,null,null,null,null,null,null,null,null,null,null,null,null,null,true,{"$f":"+IF($V196,W164,\"\")","v":"Market price rural (USD/kg)"},{"$f":"+IF($V196,$Y$164,\"\")","v":0},0,0,0,0,0]
[null,null,null,null,null,null,null,null,null,null,null,null,null,null,null,null,null,null,null,null,null,true,{"$f":"+IF($V197,W165,\"\")","v":"Market price urban (USD/kg)"},{"$f":"+IF($V197,$Y$165,\"\")","v":0},0,0,0,0,0]
[null,null,null,null,null,null,null,null,null,null,null,null,null,null,null,null,null,null,null,null,null,"Chart 4",null,{"$f":"+$X$171","v":"4 kg/h"},{"$f":"+$X$172","v":"40 kg/h"},{"$f":"+$X$173","v":"400 kg/h"},{"$f":"+$X$174","v":"4000 kg/h"}]
[null,null,null,null,null,null,null,null,null,null,null,null,null,null,null,null,null,null,null,null,null,true,{"$f":"+IF($V199,W150,\"\")&\"( \"&X150&\")\"","v":"Depreciation( USD/year)"},{"$f":"+IF($V199,Y150,\"\")","v":0},0,0,0]
[null,null,null,null,null,null,null,null,null,null,null,null,null,null,null,null,null,null,null,null,null,true,{"$f":"+IF($V200,W151,\"\")&\"(\"&X151&\")\"","v":"Total investment - 20 years(USD)"},0,0,0,0]
[]
[null,null,null,null,null,null,null,null,null,null,null,null,null,null,null,null,null,null,null,null,null,"Chart 5",null,{"$f":"+$X$171","v":"4 kg/h"},{"$f":"+$X$172","v":"40 kg/h"},{"$f":"+$X$173","v":"400 kg/h"},{"$f":"+$X$174","v":"4000 kg/h"}]
[null,null,null,null,null,null,null,null,null,null,null,null,null,null,null,null,null,null,null,null,null,true,{"$f":"title414","v":"Rural"},{"$f":"+IF($V203,Y158,\"\")","v":{"$error":"#DIV/0!"}},{"$error":"#DIV/0!"},{"$error":"#DIV/0!"},{"$error":"#DIV/0!"}]
[null,null,null,null,null,null,null,null,null,null,null,null,null,null,null,null,null,null,null,null,null,true,{"$f":"title415","v":"Urban"},{"$error":"#DIV/0!"},{"$error":"#DIV/0!"},{"$error":"#DIV/0!"},{"$error":"#DIV/0!"}]
[null,null,null,null,null,null,null,null,null,null,null,null,null,null,null,null,null,null,null,null,null,true,{"$f":"title411","v":"Potential Job Creation"},{"$f":"+IF($V205,Y161,\"\")","v":{"$error":"#DIV/0!"}},{"$f":"+IF($V205,Z161,\"\")","v":{"$error":"#DIV/0!"}},{"$f":"+IF($V205,AA161,\"\")","v":{"$error":"#DIV/0!"}},{"$f":"+IF($V205,AB161,\"\")","v":{"$error":"#DIV/0!"}}]
[]
[null,null,null,null,null,null,null,null,null,null,null,null,null,null,null,null,null,null,null,null,null,"Chart 6",null,{"$f":"+$X$171","v":"4 kg/h"},{"$f":"+$X$172","v":"40 kg/h"},{"$f":"+$X$173","v":"400 kg/h"},{"$f":"+$X$174","v":"4000 kg/h"}]
[null,null,null,null,null,null,null,null,null,null,null,null,null,null,null,null,null,null,null,null,null,true,{"$f":"title416","v":"Net Present Value (NPV) - rural"},{"$f":"INDIRECT(\"FA4_RURAL_RES\"&$W$126&\"!C125\")","v":{"$error":"#DIV/0!"}},{"$f":"INDIRECT(\"FA40_RURAL_RES\"&$W$126&\"!C125\")","v":{"$error":"#DIV/0!"}},{"$f":"INDIRECT(\"FA400_RURAL_RES\"&$W$126&\"!C126\")","v":{"$error":"#DIV/0!"}},{"$f":"INDIRECT(\"FA4000_RURAL_RES\"&$W$126&\"!C126\")","v":{"$error":"#DIV/0!"}}]
[null,null,null,null,null,null,null,null,null,null,null,null,null,null,null,null,null,null,null,null,null,false,{"$f":"title417","v":"Net Present Value (NPV) - urban"},{"$f":"INDIRECT(\"FA4_URBAN_RES\"&$W$126&\"!C125\")","v":{"$error":"#DIV/0!"}},{"$f":"INDIRECT(\"FA40_URBAN_RES\"&$W$126&\"!C125\")","v":{"$error":"#DIV/0!"}},{"$f":"INDIRECT(\"FA400_URBAN_RES\"&$W$126&\"!C126\")","v":{"$error":"#DIV/0!"}},{"$f":"INDIRECT(\"FA4000_URBAN_RES\"&$W$126&\"!C126\")","v":{"$error":"#DIV/0!"}}]
[null,null,null,null,null,null,null,null,null,null,null,null,null,null,null,null,null,null,null,null,null,true,{"$f":"title418","v":"Internal Rate of Return (IRR) - rural"},{"$f":"INDIRECT(\"FA4_RURAL_RES\"&$W$126&\"!C126\")","v":{"$error":"#DIV/0!"}},{"$f":"INDIRECT(\"FA40_RURAL_RES\"&$W$126&\"!C126\")","v":{"$error":"#DIV/0!"}},{"$f":"INDIRECT(\"FA400_RURAL_RES\"&$W$126&\"!C127\")","v":{"$error":"#DIV/0!"}},{"$f":"INDIRECT(\"FA4000_RURAL_RES\"&$W$126&\"!C127\")","v":{"$error":"#DIV/0!"}}]
[null,null,null,null,null,null,null,null,null,null,null,null,null,null,null,null,null,null,null,null,null,false,{"$f":"title419","v":"Internal Rate of Return (IRR) - urban"},{"$f":"INDIRECT(\"FA4_URBAN_RES\"&$W$126&\"!C126\")","v":{"$error":"#DIV/0!"}},{"$f":"INDIRECT(\"FA40_URBAN_RES\"&$W$126&\"!C126\")","v":{"$error":"#DIV/0!"}},{"$f":"INDIRECT(\"FA400_URBAN_RES\"&$W$126&\"!C127\")","v":{"$error":"#DIV/0!"}},{"$f":"INDIRECT(\"FA4000_URBAN_RES\"&$W$126&\"!C127\")","v":{"$error":"#DIV/0!"}}]
[]
[null,null,null,null,null,null,null,null,null,null,null,null,null,null,null,null,null,null,null,null,null,"Chart 7"]
[null,null,null,null,null,null,null,null,null,null,null,null,null,null,null,null,null,null,null,null,null,null,null,{"$f":"+$X$171","v":"4 kg/h"},{"$f":"+$X$172","v":"40 kg/h"},{"$f":"+$X$173","v":"400 kg/h"},{"$f":"+$X$174","v":"4000 kg/h"}]
[null,null,null,null,null,null,null,null,null,null,null,null,null,null,null,null,null,null,null,null,null,null,{"$f":"title420","v":"Collection"},{"$f":"+Y162","v":{"$error":"#DIV/0!"}},{"$error":"#DIV/0!"},{"$error":"#DIV/0!"},{"$error":"#DIV/0!"}]
[null,null,null,null,null,null,null,null,null,null,null,null,null,null,null,null,null,null,null,null,null,null,{"$f":"title421","v":"Processing"},1,0,0,0]
[null,null,null,null,null,null,null,null,null,null,null,null,null,null,null,null,null,null,null,null,null,null,{"$f":"title422","v":"Total job creation by this project"},{"$f":"SUM(X215:X216)","v":{"$error":"#DIV/0!"}},{"$f":"SUM(Y215:Y216)","v":{"$error":"#DIV/0!"}},{"$f":"SUM(Z215:Z216)","v":{"$error":"#DIV/0!"}},{"$f":"SUM(AA215:AA216)","v":{"$error":"#DIV/0!"}}]
[]
[]
[]
[]
[null,null,null,null,null,null,null,null,null,null,null,null,null,null,null,null,null,null,null,null,null,"Chart 7"]
[null,null,null,null,null,null,null,null,null,null,null,null,null,null,null,null,null,null,null,null,null,"Ratio (kg briquette/kg fuel)","rural (kg fuel/day/hh)","urban (kg fuel/day/hh)"]
[null,null,null,null,null,null,null,null,null,null,null,null,null,null,null,null,null,null,null,null,null,{"$f":"1/'Energy Demand'!W51","v":1.2857142857142858},{"$f":"+'Energy Demand'!E10","v":0},{"$f":"+'Energy Demand'!J12","v":0}]
[null,null,null,null,null,null,null,null,null,null,null,null,null,null,null,null,null,null,null,null,null,{"$f":"1/'Energy Demand'!W52","v":1.8367346938775513},{"$f":"+'Energy Demand'!E12","v":0},{"$f":"+'Energy Demand'!J13","v":0}]
[null,null,null,null,null,null,null,null,null,null,null,null,null,null,null,null,null,null,null,null,null,{"$f":"1/'Energy Demand'!W53","v":0.26901669758812624},{"$f":"+'Energy Demand'!E13","v":0},{"$f":"+'Energy Demand'!J15","v":0}]
[null,null,null,null,null,null,null,null,null,null,null,null,null,null,null,null,null,null,null,null,null,{"$f":"1/'Energy Demand'!W54","v":1.7857142857142858},{"$f":"+'Energy Demand'!E15","v":0},{"$f":"+'Energy Demand'!J16","v":0}]
[null,null,null,null,null,null,null,null,null,null,null,null,null,null,null,null,null,null,null,null,null,null,null,{"$f":"+$X$171","v":"4 kg/h"},{"$f":"+$X$172","v":"40 kg/h"},{"$f":"+$X$173","v":"400 kg/h"},{"$f":"+$X$174","v":"4000 kg/h"}]
[null,null,null,null,null,null,null,null,null,null,null,null,null,null,null,null,null,null,null,null,null,null,"Briquette equivalent demand - rural",{"$f":"+SUMPRODUCT(($V$224:$V$227*$W$224:$W$227))*365/1000","v":0},{"$f":"+SUMPRODUCT(($V$224:$V$227*$W$224:$W$227))*365/1000","v":0},{"$f":"+SUMPRODUCT(($V$224:$V$227*$W$224:$W$227))*365/1000","v":0},{"$f":"+SUMPRODUCT(($V$224:$V$227*$W$224:$W$227))*365/1000","v":0}]
[null,null,null,null,null,null,null,null,null,null,null,null,null,null,null,null,null,null,null,null,null,null,"Briquette equivalent demand - urban",{"$f":"+SUMPRODUCT(($V$224:$V$227*$X$224:$X$227))*365/1000","v":0},{"$f":"+SUMPRODUCT(($V$224:$V$227*$X$224:$X$227))*365/1000","v":0},{"$f":"+SUMPRODUCT(($V$224:$V$227*$X$224:$X$227))*365/1000","v":0},{"$f":"+SUMPRODUCT(($V$224:$V$227*$X$224:$X$227))*365/1000","v":0}]
[null,null,null,null,null,null,null,null,null,null,null,null,null,null,null,null,null,null,null,null,null,null,"Briquette annual production",{"$f":"+Y130","v":0},{"$f":"+Z130","v":0},{"$f":"+AA130","v":0},{"$f":"+AB130","v":0}]
[]
[]
[null,null,null,null,null,null,null,null,null,null,null,null,null,null,null,null,null,null,null,null,null,{"$f":"title415","v":"Urban"}]

{"sheet":"Summary of results-fs1 print","index":55,"n_rows":234,"n_cols":29,"rows_kept":234,"cut":false,"hidden":true,"merged":[[2,3,2,18],[9,2,9,7],[34,2,34,3],[34,6,34,11],[34,15,34,17],[128,24,128,27],[35,6,35,13],[36,6,36,13],[37,6,37,13],[38,6,38,13],[58,15,59,18],[63,2,63,6],[47,15,47,17]]}
[null,null,null,null,null,null,null,null,null,null,null,null,null,null,0.1]
[]
[null,null,null,{"$f":"UPPER(title392&$V$126)","v":"SUMMARY OF RESULTS FOR BRIQUETTE PRODUCTION FROM PLEASE SELECT PLEASE SELECT"}]
[]
[]
[]
[]
[null,null,null,{"$f":"title394","v":"Production Cost and Investment Results"}]
[]
[null,null,{"$f":"title460","v":"Total Production Cost of Briquettes + Transport (USD/kg of briquettes)"},null,null,null,null,null,null,null,null,{"$f":"title396","v":"Share of Production Cost (%)"},null,null,null,{"$f":"title364&\" (USD)\"","v":"Total investment (USD)"}]
[]
[null,null,null,{"$f":"title397","v":"     Compare to market price rural"},{"$f":"+IF($V196,Y164,\"\")","v":0},null,{"$f":"title398","v":"     Compare to market price urban"},null,{"$f":"+IF($V197,Y165,\"\")","v":0}]
[]
[]
[]
[]
[]
[]
[]
[]
[]
[]
[]
[]
[]
[]
[]
[]
[]
[]
[]
[]
[null,null,null,{"$f":"title399","v":"Operating Results"}]
[]
[null,null,{"$f":"title400","v":"Feedstock Consumption"},null,null,null,{"$f":"title401","v":"Number of Potential Plants and Area Required"},null,null,null,null,null,null,null,null,{"$f":"title402","v":"Households Potentially Supplied per plant"}]
[null,null,null,null,null,null,{"$f":"+(IF($Y$135<1,title403,title404&ROUND($Y$135,0)))","v":{"$error":"#DIV/0!"}}]
[null,null,null,null,null,null,{"$f":"+(IF($Z$135<1,title405,title406&ROUND($Z$135,0)))","v":{"$error":"#DIV/0!"}}]
[null,null,null,null,null,null,{"$f":"+(IF($AA$135<1,title407,title408&ROUND($AA$135,0)))","v":{"$error":"#DIV/0!"}}]
[null,null,null,null,null,null,{"$f":"+(IF($AB$135<1,title409,title410&ROUND($AB$135,0)))","v":{"$error":"#DIV/0!"}}]
[]
[]
[]
[]
[]
[]
[]
[]
[null,null,null,null,null,null,null,null,null,null,null,null,null,null,null,{"$f":"title411","v":"Potential Job Creation"}]
[]
[]
[]
[]
[]
[]
[]
[]
[]
[]
[null,null,null,null,null,null,null,null,null,null,null,null,null,null,null,{"$f":"+IF(X215=0,title456,IF(X215>0,title457))","v":{"$error":"#DIV/0!"}}]
[]
[]
[null,null,null,{"$f":"title291","v":"Financial analysis results"}]
[]
[null,null,{"$f":"title412","v":"Net Present Value (rural and urban market prices) USD (1000)"},null,null,null,null,null,null,null,null,{"$f":"title413","v":"Internal Rate of Return (%)"}]
[]
[]
[]
[]
[]
[]
[]
[]
[]
[]
[]
[]
[]
[]
[]
[]
[]
[]
[]
[]
[]
[]
[]
[]
[]
[]
[]
[]
[]
[]
[]
[]
[]
[]
[]
[]
[]
[]
[]
[]
[]
[]
[]
[]
[]
[]
[]
[]
[]
[]
[]
[]
[]
[]
[null,null,null,null,null,null,null,null,null,null,null,null,null,null,null,null,null,null,null,null,null,"Residue","Pos."]
[null,null,null,null,null,null,null,null,null,null,null,null,null,null,null,null,null,null,null,null,null,{"$f":"+'Data entry needs'!$D$10&\" \"&'Data entry needs'!$D$11","v":"Please Select Please Select"},1,{"$f":"+'Data entry needs'!$D$10&'Data entry needs'!$D$11","v":"Please SelectPlease Select"},{"$f":"+'Data entry needs'!$D$10&\" \"&'Data entry needs'!$D$11","v":"Please Select Please Select"}]
[null,null,null,null,null,null,null,null,null,null,null,null,null,null,null,null,null,null,null,null,null,{"$f":"+'Data entry needs'!$E$10&\" \"&'Data entry needs'!$E$11","v":"Please Select Please Select"},2,{"$f":"+'Data entry needs'!$E$10&'Data entry needs'!$E$11","v":"Please SelectPlease Select"},{"$f":"+'Data entry needs'!$E$10&\" \"&'Data entry needs'!$E$11","v":"Please Select Please Select"}]
[null,null,null,null,null,null,null,null,null,null,null,null,null,null,null,null,null,null,null,null,null,{"$f":"+'Data entry needs'!$F$10&\" \"&'Data entry needs'!$F$11","v":"Please Select Please Select"},3,{"$f":"+'Data entry needs'!$F$10&'Data entry needs'!$F$11","v":"Please SelectPlease Select"},{"$f":"+'Data entry needs'!$F$10&\" \"&'Data entry needs'!$F$11","v":"Please Select Please Select"}]
[null,null,null,null,null,null,null,null,null,null,null,null,null,null,null,null,null,null,null,null,null,{"$f":"+'Data entry needs'!$G$10&\" \"&'Data entry needs'!$G$11","v":"Please Select Please Select"},4,{"$f":"+'Data entry needs'!$G$10&'Data entry needs'!$G$11","v":"Please SelectPlease Select"},{"$f":"+'Data entry needs'!$G$10&\" \"&'Data entry needs'!$G$11","v":"Please Select Please Select"}]
[]
[null,null,null,null,null,null,null,null,null,null,null,null,null,null,null,null,null,null,null,null,null,"Selection","No."]
[null,null,null,null,null,null,null,null,null,null,null,null,null,null,null,null,null,null,null,null,null,{"$f":"+VLOOKUP($W$126,$W$120:$Y$123,3,FALSE)","v":"Please Select Please Select"},1,{"$f":"VLOOKUP($V$126,$V$120:$X$123,3,FALSE)","v":"Please SelectPlease Select"},"Biomass residueratio",{"$f":"+VLOOKUP(X126,dummy_database!$N$4:$R$30,5,FALSE)","v":{"$error":"#N/A"}}]
[null,null,null,null,null,null,null,null,null,null,null,null,null,null,null,null,null,null,null,null,null,null,null,null,"F","H","J","L"]
[null,null,null,null,null,null,null,null,null,null,null,null,null,null,null,null,null,null,null,null,null,null,"Biomass Briquetting Project Summary",null,"G","I","K","M"]
[null,null,null,null,null,null,null,null,null,null,null,null,null,null,null,null,null,null,null,null,null,null," Production Cost",{"$f":"title96","v":"Unit"},"ts of  briquette production per year"]
[null,null,null,null,null,null,null,null,null,null,null,null,null,null,null,null,null,null,null,null,null,null,null,null,{"$f":"COST_RES1!$F$29","v":0},{"$f":"COST_RES1!$H$29","v":0},{"$f":"COST_RES1!$J$29","v":0},{"$f":"COST_RES1!$L$29","v":0}]
[null,null,null,null,null,null,null,null,null,null,null,null,null,null,null,null,null,null,null,null,null,null,"Biomass type",null,{"$f":"+$H$6","v":0},{"$f":"+$H$6","v":0},{"$f":"+$H$6","v":0},{"$f":"+$H$6","v":0}]
[null,null,null,null,null,null,null,null,null,null,null,null,null,null,null,null,null,null,null,null,null,null,{"$f":"title426","v":"Biomass required (t/year)"},{"$f":"title83","v":"t/year"},{"$f":"INDIRECT(\"COST_RES\"&$W$126&\"!F33\")","v":{"$error":"#DIV/0!"}},{"$f":"INDIRECT(\"COST_RES\"&$W$126&\"!h33\")","v":{"$error":"#DIV/0!"}},{"$f":"INDIRECT(\"COST_RES\"&$W$126&\"!j33\")","v":{"$error":"#DIV/0!"}},{"$f":"INDIRECT(\"COST_RES\"&$W$126&\"!l33\")","v":{"$error":"#DIV/0!"}}]
[null,null,null,null,null,null,null,null,null,null,null,null,null,null,null,null,null,null,null,null,null,null,{"$f":"title427","v":"Biomass available (t/year)"},{"$f":"title83","v":"t/year"},{"$f":"+INDIRECT(\"COST_RES\"&$W$126&\"!$D$9\")","v":0},{"$f":"+Y133","v":0},{"$f":"+Z133","v":0},{"$f":"+AA133","v":0}]
[null,null,null,null,null,null,null,null,null,null,null,null,null,null,null,null,null,null,null,null,null,null,null,null,{"$f":"+Y132/Y133","v":{"$error":"#DIV/0!"}},{"$f":"+Z132/Z133","v":{"$error":"#DIV/0!"}},{"$f":"+AA132/AA133","v":{"$error":"#DIV/0!"}},{"$f":"+AB132/AB133","v":{"$error":"#DIV/0!"}}]
[null,null,null,null,null,null,null,null,null,null,null,null,null,null,null,null,null,null,null,null,null,null,{"$f":"title429","v":"Plants potentially supported"},null,{"$f":"+Y133/Y132","v":{"$error":"#DIV/0!"}},{"$f":"+Z133/Z132","v":{"$error":"#DIV/0!"}},{"$f":"+AA133/AA132","v":{"$error":"#DIV/0!"}},{"$f":"+AB133/AB132","v":{"$error":"#DIV/0!"}}]
[null,null,null,null,null,null,null,null,null,null,null,null,null,null,null,null,null,null,null,null,null,null,{"$f":"title430","v":"Area required"},"Ha",{"$f":"Y132/(INDIRECT(\"COST_RES\"&$W$126&\"!d10\")*$Z$126)","v":{"$error":"#DIV/0!"}},{"$f":"Z132/(INDIRECT(\"COST_RES\"&$W$126&\"!d10\")*$Z$126)","v":{"$error":"#DIV/0!"}},{"$f":"AA132/(INDIRECT(\"COST_RES\"&$W$126&\"!d10\")*$Z$126)","v":{"$error":"#DIV/0!"}},{"$f":"AB132/(INDIRECT(\"COST_RES\"&$W$126&\"!d10\")*$Z$126)","v":{"$error":"#DIV/0!"}}]
[]
[]
[null,null,null,null,null,null,null,null,null,null,null,null,null,null,null,null,null,null,null,null,null,null,{"$f":"title428","v":"Annual basis"}]
[null,null,null,null,null,null,null,null,null,null,null,null,null,null,null,null,null,null,null,null,null,null,"Production cost of briquette "]
[null,null,null,null,null,null,null,null,null,null,null,null,null,null,null,null,null,null,null,null,null,null,{"$f":"title431","v":"Raw materials"},{"$f":"title84","v":"USD/year"},{"$f":"INDIRECT(\"COST_RES\"&$W$126&\"!\"&Y$127&37)","v":{"$error":"#DIV/0!"}},{"$f":"INDIRECT(\"COST_RES\"&$W$126&\"!\"&Z$127&37)","v":{"$error":"#DIV/0!"}},{"$f":"INDIRECT(\"COST_RES\"&$W$126&\"!\"&AA$127&37)","v":{"$error":"#DIV/0!"}},{"$f":"INDIRECT(\"COST_RES\"&$W$126&\"!\"&AB$127&37)","v":{"$error":"#DIV/0!"}}]
[null,null,null,null,null,null,null,null,null,null,null,null,null,null,null,null,null,null,null,null,null,null,{"$f":"title359","v":"Labour and miscellaneous costs"},"USD/year",{"$f":"INDIRECT(\"COST_RES\"&$W$126&\"!\"&Y$127&44)","v":0},{"$f":"INDIRECT(\"COST_RES\"&$W$126&\"!\"&Z$127&44)","v":0},{"$f":"INDIRECT(\"COST_RES\"&$W$126&\"!\"&AA$127&44)","v":0},{"$f":"INDIRECT(\"COST_RES\"&$W$126&\"!\"&AB$127&44)","v":0}]
[null,null,null,null,null,null,null,null,null,null,null,null,null,null,null,null,null,null,null,null,null,null,{"$f":"title432","v":"Transport and storage"},"USD/year",{"$f":"INDIRECT(\"COST_RES\"&$W$126&\"!\"&Y$127&50)+INDIRECT(\"COST_RES\"&$W$126&\"!\"&Y$127&56)","v":{"$error":"#DIV/0!"}},{"$f":"INDIRECT(\"COST_RES\"&$W$126&\"!\"&Z$127&50)+INDIRECT(\"COST_RES\"&$W$126&\"!\"&Z$127&56)","v":{"$error":"#DIV/0!"}},{"$f":"INDIRECT(\"COST_RES\"&$W$126&\"!\"&AA$127&50)+INDIRECT(\"COST_RES\"&$W$126&\"!\"&AA$127&56)","v":{"$error":"#DIV/0!"}},{"$f":"INDIRECT(\"COST_RES\"&$W$126&\"!\"&AB$127&50)+INDIRECT(\"COST_RES\"&$W$126&\"!\"&AB$127&56)","v":{"$error":"#DIV/0!"}}]
[null,null,null,null,null,null,null,null,null,null,null,null,null,null,null,null,null,null,null,null,null,null,{"$f":"title272","v":"Depreciation"},"USD/year",{"$f":"INDIRECT(\"COST_RES\"&$W$126&\"!\"&Y$128&64)*(1+'Data entry needs'!$D$48)","v":0},{"$f":"INDIRECT(\"COST_RES\"&$W$126&\"!\"&Z$128&64)*(1+'Data entry needs'!$D$48)","v":0},{"$f":"INDIRECT(\"COST_RES\"&$W$126&\"!\"&AA$128&64)*(1+'Data entry needs'!$D$48)","v":0},{"$f":"INDIRECT(\"COST_RES\"&$W$126&\"!\"&AB$128&64)*(1+'Data entry needs'!$D$48)","v":0}]
[null,null,null,null,null,null,null,null,null,null,null,null,null,null,null,null,null,null,null,null,null,null,{"$f":"title159","v":"Other costs"},"USD/year",{"$f":"INDIRECT(\"COST_RES\"&$W$126&\"!\"&Y$127&73)","v":{"$error":"#DIV/0!"}},{"$f":"INDIRECT(\"COST_RES\"&$W$126&\"!\"&Z$127&73)","v":{"$error":"#DIV/0!"}},{"$f":"INDIRECT(\"COST_RES\"&$W$126&\"!\"&AA$127&73)","v":0},{"$f":"INDIRECT(\"COST_RES\"&$W$126&\"!\"&AB$127&73)","v":0}]
[null,null,null,null,null,null,null,null,null,null,null,null,null,null,null,null,null,null,null,null,null,null,{"$f":"title433","v":"Total annualized production cost"},"USD/year",{"$f":"SUM(Y141:Y145)","v":{"$error":"#DIV/0!"}},{"$f":"SUM(Z141:Z145)","v":{"$error":"#DIV/0!"}},{"$f":"SUM(AA141:AA145)","v":{"$error":"#DIV/0!"}},{"$f":"SUM(AB141:AB145)","v":{"$error":"#DIV/0!"}}]
[null,null,null,null,null,null,null,null,null,null,null,null,null,null,null,null,null,null,null,null,null,null,{"$f":"title434","v":"kg product basis"}]
[null,null,null,null,null,null,null,null,null,null,null,null,null,null,null,null,null,null,null,null,null,null,{"$f":"title435","v":"Total production cost-limsup"},{"$f":"title443","v":"USD/kg of briquettes"},{"$f":"+Y146*($O$1+1)/(Y$130*1000)","v":{"$error":"#DIV/0!"}},{"$f":"+Z146*($O$1+1)/(Z$130*1000)","v":{"$error":"#DIV/0!"}},{"$f":"+AA146*($O$1+1)/(AA$130*1000)","v":{"$error":"#DIV/0!"}},{"$f":"+AB146*($O$1+1)/(AB$130*1000)","v":{"$error":"#DIV/0!"}}]
[null,null,null,null,null,null,null,null,null,null,null,null,null,null,null,null,null,null,null,null,null,null,{"$f":"title436","v":"Total production cost-liminf"},{"$f":"title443","v":"USD/kg of briquettes"},{"$f":"+Y146*(1-$O$1)/(Y$130*1000)","v":{"$error":"#DIV/0!"}},{"$f":"+Z146*(1-$O$1)/(Z$130*1000)","v":{"$error":"#DIV/0!"}},{"$f":"+AA146*(1-$O$1)/(AA$130*1000)","v":{"$error":"#DIV/0!"}},{"$f":"+AB146*(1-$O$1)/(AB$130*1000)","v":{"$error":"#DIV/0!"}}]
[null,null,null,null,null,null,null,null,null,null,null,null,null,null,null,null,null,null,null,null,null,null,{"$f":"title272","v":"Depreciation"},{"$f":"title84","v":"USD/year"},{"$f":"INDIRECT(\"COST_RES\"&$W$126&\"!g64\")","v":0},{"$f":"INDIRECT(\"COST_RES\"&$W$126&\"!i64\")","v":0},{"$f":"INDIRECT(\"COST_RES\"&$W$126&\"!k64\")","v":0},{"$f":"INDIRECT(\"COST_RES\"&$W$126&\"!m64\")","v":0}]
[null,null,null,null,null,null,null,null,null,null,null,null,null,null,null,null,null,null,null,null,null,null,{"$f":"title437&20&title438","v":"Total investment - 20 years"},"USD",{"$f":"INDIRECT(\"COST_RES\"&$W$126&\"!F63\")","v":0},{"$f":"INDIRECT(\"COST_RES\"&$W$126&\"!H63\")","v":0},{"$f":"INDIRECT(\"COST_RES\"&$W$126&\"!J63\")","v":0},{"$f":"INDIRECT(\"COST_RES\"&$W$126&\"!L63\")","v":0}]
[]
[null,null,null,null,null,null,null,null,null,null,null,null,null,null,null,null,null,null,null,null,null,null,{"$f":"title439","v":"Potential briquette consumption per household"}]
[null,null,null,null,null,null,null,null,null,null,null,null,null,null,null,null,null,null,null,null,null,null,{"$f":"title77","v":"Rural Households"},{"$f":"title440","v":"t/year/houseshold"},{"$f":"+'Energy Demand'!$H$17","v":0}]
[null,null,null,null,null,null,null,null,null,null,null,null,null,null,null,null,null,null,null,null,null,null,{"$f":"title86","v":" Urban Households"},{"$f":"title440","v":"t/year/houseshold"},{"$f":"+'Energy Demand'!$M$17","v":0}]
[]
[null,null,null,null,null,null,null,null,null,null,null,null,null,null,null,null,null,null,null,null,null,null,{"$f":"title444","v":"Number of household that can be supplied"}]
[null,null,null,null,null,null,null,null,null,null,null,null,null,null,null,null,null,null,null,null,null,null,{"$f":"title77","v":"Rural Households"},{"$f":"title441","v":"Households"},{"$f":"+Y132/$Y$154","v":{"$error":"#DIV/0!"}},{"$f":"+Z132/$Y$154","v":{"$error":"#DIV/0!"}},{"$f":"+AA132/$Y$154","v":{"$error":"#DIV/0!"}},{"$f":"+AB132/$Y$154","v":{"$error":"#DIV/0!"}}]
[null,null,null,null,null,null,null,null,null,null,null,null,null,null,null,null,null,null,null,null,null,null,{"$f":"title86","v":" Urban Households"},{"$f":"title441","v":"Households"},{"$f":"+Y132/$Y$155","v":{"$error":"#DIV/0!"}},{"$f":"+Z132/$Y$155","v":{"$error":"#DIV/0!"}},{"$f":"+AA132/$Y$155","v":{"$error":"#DIV/0!"}},{"$f":"+AB132/$Y$155","v":{"$error":"#DIV/0!"}}]
[]
[null,null,null,null,null,null,null,null,null,null,null,null,null,null,null,null,null,null,null,null,null,null,{"$f":"title422","v":"Total job creation by this project"},{"$f":"title442","v":"No. of employees"},{"$f":"SUM(Y162:Y163)","v":{"$error":"#DIV/0!"}},{"$f":"SUM(Z162:Z163)","v":{"$error":"#DIV/0!"}},{"$f":"SUM(AA162:AA163)","v":{"$error":"#DIV/0!"}},{"$f":"SUM(AB162:AB163)","v":{"$error":"#DIV/0!"}}]
[null,null,null,null,null,null,null,null,null,null,null,null,null,null,null,null,null,null,null,null,null,null,{"$f":"title445","v":"Biomass collection"},{"$f":"title442","v":"No. of employees"},{"$f":"ROUNDUP(IF('Data entry needs'!$C$17,0,INDIRECT(\"PRICE_RES\"&$W$126&\"!D20\"))*Y136/('Data entry needs'!$D$32*INDIRECT(\"STORAGE_RES\"&$W$126&\"!D37\")),0)","v":{"$error":"#DIV/0!"}},{"$f":"ROUNDUP(IF('Data entry needs'!$C$17,0,INDIRECT(\"PRICE_RES\"&$W$126&\"!D20\"))*Z136/('Data entry needs'!$D$32*INDIRECT(\"STORAGE_RES\"&$W$126&\"!D37\")),0)","v":{"$error":"#DIV/0!"}},{"$f":"ROUNDUP(IF('Data entry needs'!$C$17,0,INDIRECT(\"PRICE_RES\"&$W$126&\"!D20\"))*AA136/('Data entry needs'!$D$32*INDIRECT(\"STORAGE_RES\"&$W$126&\"!D37\")),0)","v":{"$error":"#DIV/0!"}},{"$f":"ROUNDUP(IF('Data entry needs'!$C$17,0,INDIRECT(\"PRICE_RES\"&$W$126&\"!D20\"))*AB136/('Data entry needs'!$D$32*INDIRECT(\"STORAGE_RES\"&$W$126&\"!D37\")),0)","v":{"$error":"#DIV/0!"}}]
[null,null,null,null,null,null,null,null,null,null,null,null,null,null,null,null,null,null,null,null,null,null,"Briquetting processes",{"$f":"title442","v":"No. of employees"},{"$f":"INDIRECT(\"COST_RES\"&$W$126&\"!F41\")+INDIRECT(\"COST_RES\"&$W$126&\"!F42\")","v":1},{"$f":"INDIRECT(\"COST_RES\"&$W$126&\"!h41\")+INDIRECT(\"COST_RES\"&$W$126&\"!h42\")","v":0},{"$f":"INDIRECT(\"COST_RES\"&$W$126&\"!j41\")+INDIRECT(\"COST_RES\"&$W$126&\"!j42\")","v":0},{"$f":"INDIRECT(\"COST_RES\"&$W$126&\"!l41\")+INDIRECT(\"COST_RES\"&$W$126&\"!l42\")","v":0}]
[null,null,null,null,null,null,null,null,null,null,null,null,null,null,null,null,null,null,null,null,null,null,{"$f":"title447","v":"Market price rural (USD/kg)"},{"$f":"title443","v":"USD/kg of briquettes"},{"$f":"+'Energy Demand'!$E$20","v":0}]
[null,null,null,null,null,null,null,null,null,null,null,null,null,null,null,null,null,null,null,null,null,null,{"$f":"title448","v":"Market price urban (USD/kg)"},{"$f":"title443","v":"USD/kg of briquettes"},{"$f":"+'Energy Demand'!$G$20","v":0}]
[null,null,null,null,null,null,null,null,null,null,null,null,null,null,null,null,null,null,null,null,null,null,{"$f":"title449","v":"Briquette revenue market rural"},{"$f":"title84","v":"USD/year"},{"$f":"+'Energy Demand'!H33","v":0},{"$f":"+'Energy Demand'!J33","v":0},{"$f":"+'Energy Demand'!M33","v":0},{"$f":"+'Energy Demand'!O33","v":0}]
[null,null,null,null,null,null,null,null,null,null,null,null,null,null,null,null,null,null,null,null,null,null,{"$f":"title450","v":"Briquette revenue market urban"},{"$f":"title84","v":"USD/year"},{"$f":"+'Energy Demand'!H38","v":0},{"$f":"+'Energy Demand'!J38","v":0},{"$f":"+'Energy Demand'!M38","v":0},{"$f":"+'Energy Demand'!O38","v":0}]
[null,null,null,null,null,null,null,null,null,null,null,null,null,null,null,null,null,null,null,null,null,null,{"$f":"title451","v":"Total production cost"},{"$f":"title84","v":"USD/year"},{"$f":"+Y146","v":{"$error":"#DIV/0!"}},{"$f":"+Z146","v":{"$error":"#DIV/0!"}},{"$f":"+AA146","v":{"$error":"#DIV/0!"}},{"$f":"+AB146","v":{"$error":"#DIV/0!"}}]
[]
[]
[null,null,null,null,null,null,null,null,null,null,null,null,null,null,null,null,null,null,null,null,null,null,{"$f":"title452","v":"SIZE 1"},{"$f":"4&\" kg/h\"","v":"4 kg/h"}]
[null,null,null,null,null,null,null,null,null,null,null,null,null,null,null,null,null,null,null,null,null,null,{"$f":"title453","v":"SIZE 2"},{"$f":"40&\" kg/h\"","v":"40 kg/h"}]
[null,null,null,null,null,null,null,null,null,null,null,null,null,null,null,null,null,null,null,null,null,null,{"$f":"title454","v":"SIZE 3"},{"$f":"400&\" kg/h\"","v":"400 kg/h"}]
[null,null,null,null,null,null,null,null,null,null,null,null,null,null,null,null,null,null,null,null,null,null,{"$f":"title455","v":"SIZE 4"},{"$f":"3000&\" kg/h\"","v":"3000 kg/h"}]
[]
[]
[null,null,null,null,null,null,null,null,null,null,null,null,null,null,null,null,null,null,null,null,null,null,null,{"$f":"+$X$171","v":"4 kg/h"}]
[]
[null,null,null,null,null,null,null,null,null,null,null,null,null,null,null,null,null,null,null,null,null,"Chart 1",null,{"$f":"+$X$171","v":"4 kg/h"},{"$f":"+$X$172","v":"40 kg/h"},{"$f":"+$X$173","v":"400 kg/h"},{"$f":"+$X$174","v":"3000 kg/h"}]
[null,null,null,null,null,null,null,null,null,null,null,null,null,null,null,null,null,null,null,null,null,true,{"$f":"+IF($V180,W133,\"\")","v":"Biomass available (t/year)"},{"$f":"+IF($V180,Y133,\"\")","v":0},{"$f":"+IF($V180,Z133,\"\")","v":0},{"$f":"+IF($V180,AA133,\"\")","v":0},{"$f":"+IF($V180,AB133,\"\")","v":0}]
[null,null,null,null,null,null,null,null,null,null,null,null,null,null,null,null,null,null,null,null,null,true,{"$f":"+IF($V181,W132,\"\")","v":"Biomass required (t/year)"},{"$f":"+IF($V181,Y132,\"\")","v":{"$error":"#DIV/0!"}},{"$f":"+IF($V181,Z132,\"\")","v":{"$error":"#DIV/0!"}},{"$f":"+IF($V181,AA132,\"\")","v":{"$error":"#DIV/0!"}},{"$f":"+IF($V181,AB132,\"\")","v":{"$error":"#DIV/0!"}}]
[null,null,null,null,null,null,null,null,null,null,null,null,null,null,null,null,null,null,null,null,null,"Chart 2",null,{"$f":"+$X$171","v":"4 kg/h"},{"$f":"+$X$172","v":"40 kg/h"},{"$f":"+$X$173","v":"400 kg/h"},{"$f":"+$X$174","v":"3000 kg/h"}]
[null,null,null,null,null,null,null,null,null,null,null,null,null,null,null,null,null,null,null,null,null,true,{"$f":"+IF(V183,W136,\"\")","v":"Area required"},{"$f":"+IF($V183,Y136,\"\")","v":{"$error":"#DIV/0!"}},{"$f":"+IF($V183,Z136,\"\")","v":{"$error":"#DIV/0!"}},{"$f":"+IF($V183,AA136,\"\")","v":{"$error":"#DIV/0!"}},{"$f":"+IF($V183,AB136,\"\")","v":{"$error":"#DIV/0!"}}]
[null,null,null,null,null,null,null,null,null,null,null,null,null,null,null,null,null,null,null,null,null,true,{"$f":"+IF(V184,W135,\"\")","v":"Plants potentially supported"},{"$f":"X180/X181","v":{"$error":"#DIV/0!"}},{"$f":"Y180/Y181","v":{"$error":"#DIV/0!"}},{"$f":"Z180/Z181","v":{"$error":"#DIV/0!"}},{"$f":"AA180/AA181","v":{"$error":"#DIV/0!"}}]
[]
[null,null,null,null,null,null,null,null,null,null,null,null,null,null,null,null,null,null,null,null,null,"Chart 3",null,{"$f":"+$X$171","v":"4 kg/h"},{"$f":"+$X$172","v":"40 kg/h"},{"$f":"+$X$173","v":"400 kg/h"},{"$f":"+$X$174","v":"3000 kg/h"}]
[null,null,null,null,null,null,null,null,null,null,null,null,null,null,null,null,null,null,null,null,null,true,{"$f":"+IF($V187,$W141,\"\")","v":"Raw materials"},{"$f":"+IF($V187,Y$141,\"\")/Y$146","v":{"$error":"#DIV/0!"}},{"$f":"+IF($V187,Z$141,\"\")/Z$146","v":{"$error":"#DIV/0!"}},{"$f":"+IF($V187,AA$141,\"\")/AA$146","v":{"$error":"#DIV/0!"}},{"$f":"+IF($V187,AB$141,\"\")/AB$146","v":{"$error":"#DIV/0!"}}]
[null,null,null,null,null,null,null,null,null,null,null,null,null,null,null,null,null,null,null,null,null,true,{"$f":"+IF($V188,$W142,\"\")","v":"Labour and miscellaneous costs"},{"$f":"+IF($V188,Y$142,\"\")/Y$146","v":{"$error":"#DIV/0!"}},{"$f":"+IF($V188,Z$142,\"\")/Z$146","v":{"$error":"#DIV/0!"}},{"$f":"+IF($V188,AA$142,\"\")/AA$146","v":{"$error":"#DIV/0!"}},{"$f":"+IF($V188,AB$142,\"\")/AB$146","v":{"$error":"#DIV/0!"}}]
[null,null,null,null,null,null,null,null,null,null,null,null,null,null,null,null,null,null,null,null,null,true,{"$f":"+IF($V189,$W143,\"\")","v":"Transport and storage"},{"$f":"+IF($V189,Y$143,\"\")/Y$146","v":{"$error":"#DIV/0!"}},{"$f":"+IF($V189,Z$143,\"\")/Z$146","v":{"$error":"#DIV/0!"}},{"$f":"+IF($V189,AA$143,\"\")/AA$146","v":{"$error":"#DIV/0!"}},{"$f":"+IF($V189,AB$143,\"\")/AB$146","v":{"$error":"#DIV/0!"}}]
[null,null,null,null,null,null,null,null,null,null,null,null,null,null,null,null,null,null,null,null,null,true,{"$f":"+IF($V190,$W144&\" and \"&$W145,\"\")","v":"Depreciation and Other costs"},{"$f":"+IF($V190,Y$144+Y$145,\"\")/Y$146","v":{"$error":"#DIV/0!"}},{"$f":"+IF($V190,Z$144+Z$145,\"\")/Z$146","v":{"$error":"#DIV/0!"}},{"$f":"+IF($V190,AA$144+AA$145,\"\")/AA$146","v":{"$error":"#DIV/0!"}},{"$f":"+IF($V190,AB$144+AB$145,\"\")/AB$146","v":{"$error":"#DIV/0!"}}]
[]
[]
[]
[null,null,null,null,null,null,null,null,null,null,null,null,null,null,null,null,null,null,null,null,null,{"$f":"IF(V193=TRUE,FALSE,TRUE)","v":true},{"$f":"+IF($V194,W148,\"\")","v":"Total production cost-limsup"},{"$f":"+IF($V194,Y148,\"\")","v":{"$error":"#DIV/0!"}},{"$error":"#DIV/0!"},{"$error":"#DIV/0!"},{"$error":"#DIV/0!"}]
[null,null,null,null,null,null,null,null,null,null,null,null,null,null,null,null,null,null,null,null,null,{"$f":"+IF($O$1>0,TRUE,FALSE)","v":true},{"$f":"+IF($V195,W149,\"\")","v":"Total production cost-liminf"},{"$error":"#DIV/0!"},{"$error":"#DIV/0!"},{"$error":"#DIV/0!"},{"$error":"#DIV/0!"}]
[null,null,null,null,null,null,null,null,null,null,null,null,null,null,null,null,null,null,null,null,null,true,{"$f":"+IF($V196,W164,\"\")","v":"Market price rural (USD/kg)"},{"$f":"+IF($V196,$Y$164,\"\")","v":0},0,0,0,0,0]
[null,null,null,null,null,null,null,null,null,null,null,null,null,null,null,null,null,null,null,null,null,true,{"$f":"+IF($V197,W165,\"\")","v":"Market price urban (USD/kg)"},{"$f":"+IF($V197,$Y$165,\"\")","v":0},0,0,0,0,0]
[null,null,null,null,null,null,null,null,null,null,null,null,null,null,null,null,null,null,null,null,null,"Chart 4",null,{"$f":"+$X$171","v":"4 kg/h"},{"$f":"+$X$172","v":"40 kg/h"},{"$f":"+$X$173","v":"400 kg/h"},{"$f":"+$X$174","v":"3000 kg/h"}]
[null,null,null,null,null,null,null,null,null,null,null,null,null,null,null,null,null,null,null,null,null,true,{"$f":"+IF($V199,W150,\"\")&\"( \"&X150&\")\"","v":"Depreciation( USD/year)"},{"$f":"+IF($V199,Y150,\"\")","v":0},0,0,0]
[null,null,null,null,null,null,null,null,null,null,null,null,null,null,null,null,null,null,null,null,null,true,{"$f":"+IF($V200,W151,\"\")&\"(\"&X151&\")\"","v":"Total investment - 20 years(USD)"},0,0,0,0]
[]
[null,null,null,null,null,null,null,null,null,null,null,null,null,null,null,null,null,null,null,null,null,"Chart 5",null,{"$f":"+$X$171","v":"4 kg/h"},{"$f":"+$X$172","v":"40 kg/h"},{"$f":"+$X$173","v":"400 kg/h"},{"$f":"+$X$174","v":"3000 kg/h"}]
[null,null,null,null,null,null,null,null,null,null,null,null,null,null,null,null,null,null,null,null,null,true,{"$f":"title414","v":"Rural"},{"$f":"+IF($V203,Y158,\"\")","v":{"$error":"#DIV/0!"}},{"$error":"#DIV/0!"},{"$error":"#DIV/0!"},{"$error":"#DIV/0!"}]
[null,null,null,null,null,null,null,null,null,null,null,null,null,null,null,null,null,null,null,null,null,true,{"$f":"title415","v":"Urban"},{"$error":"#DIV/0!"},{"$error":"#DIV/0!"},{"$error":"#DIV/0!"},{"$error":"#DIV/0!"}]
[null,null,null,null,null,null,null,null,null,null,null,null,null,null,null,null,null,null,null,null,null,true,{"$f":"title411","v":"Potential Job Creation"},{"$f":"+IF($V205,Y161,\"\")","v":{"$error":"#DIV/0!"}},{"$f":"+IF($V205,Z161,\"\")","v":{"$error":"#DIV/0!"}},{"$f":"+IF($V205,AA161,\"\")","v":{"$error":"#DIV/0!"}},{"$f":"+IF($V205,AB161,\"\")","v":{"$error":"#DIV/0!"}}]
[]
[null,null,null,null,null,null,null,null,null,null,null,null,null,null,null,null,null,null,null,null,null,"Chart 6",null,{"$f":"+$X$171","v":"4 kg/h"},{"$f":"+$X$172","v":"40 kg/h"},{"$f":"+$X$173","v":"400 kg/h"},{"$f":"+$X$174","v":"3000 kg/h"}]
[null,null,null,null,null,null,null,null,null,null,null,null,null,null,null,null,null,null,null,null,null,true,{"$f":"title416","v":"Net Present Value (NPV) - rural"},{"$f":"INDIRECT(\"FA4_RURAL_RES\"&$W$126&\"!C125\")","v":{"$error":"#DIV/0!"}},{"$f":"INDIRECT(\"FA40_RURAL_RES\"&$W$126&\"!C125\")","v":{"$error":"#DIV/0!"}},{"$f":"INDIRECT(\"FA400_RURAL_RES\"&$W$126&\"!C126\")","v":{"$error":"#DIV/0!"}},{"$f":"INDIRECT(\"FA3000_RURAL_RES\"&$W$126&\"!C126\")","v":{"$error":"#REF!"}}]
[null,null,null,null,null,null,null,null,null,null,null,null,null,null,null,null,null,null,null,null,null,false,{"$f":"title417","v":"Net Present Value (NPV) - urban"},{"$f":"INDIRECT(\"FA4_URBAN_RES\"&$W$126&\"!C125\")","v":{"$error":"#DIV/0!"}},{"$f":"INDIRECT(\"FA40_URBAN_RES\"&$W$126&\"!C125\")","v":{"$error":"#DIV/0!"}},{"$f":"INDIRECT(\"FA400_URBAN_RES\"&$W$126&\"!C126\")","v":{"$error":"#DIV/0!"}},{"$f":"INDIRECT(\"FA3000_URBAN_RES\"&$W$126&\"!C126\")","v":{"$error":"#REF!"}}]
[null,null,null,null,null,null,null,null,null,null,null,null,null,null,null,null,null,null,null,null,null,true,{"$f":"title418","v":"Internal Rate of Return (IRR) - rural"},{"$f":"INDIRECT(\"FA4_RURAL_RES\"&$W$126&\"!C126\")","v":{"$error":"#DIV/0!"}},{"$f":"INDIRECT(\"FA40_RURAL_RES\"&$W$126&\"!C126\")","v":{"$error":"#DIV/0!"}},{"$f":"INDIRECT(\"FA400_RURAL_RES\"&$W$126&\"!C127\")","v":{"$error":"#DIV/0!"}},{"$f":"INDIRECT(\"FA3000_RURAL_RES\"&$W$126&\"!C127\")","v":{"$error":"#REF!"}}]
[null,null,null,null,null,null,null,null,null,null,null,null,null,null,null,null,null,null,null,null,null,false,{"$f":"title419","v":"Internal Rate of Return (IRR) - urban"},{"$f":"INDIRECT(\"FA4_URBAN_RES\"&$W$126&\"!C126\")","v":{"$error":"#DIV/0!"}},{"$f":"INDIRECT(\"FA40_URBAN_RES\"&$W$126&\"!C126\")","v":{"$error":"#DIV/0!"}},{"$f":"INDIRECT(\"FA400_URBAN_RES\"&$W$126&\"!C127\")","v":{"$error":"#DIV/0!"}},{"$f":"INDIRECT(\"FA3000_URBAN_RES\"&$W$126&\"!C127\")","v":{"$error":"#REF!"}}]
[]
[null,null,null,null,null,null,null,null,null,null,null,null,null,null,null,null,null,null,null,null,null,"Chart 7"]
[null,null,null,null,null,null,null,null,null,null,null,null,null,null,null,null,null,null,null,null,null,null,null,{"$f":"+$X$171","v":"4 kg/h"},{"$f":"+$X$172","v":"40 kg/h"},{"$f":"+$X$173","v":"400 kg/h"},{"$f":"+$X$174","v":"3000 kg/h"}]
[null,null,null,null,null,null,null,null,null,null,null,null,null,null,null,null,null,null,null,null,null,null,{"$f":"title420","v":"Collection"},{"$f":"+Y162","v":{"$error":"#DIV/0!"}},{"$error":"#DIV/0!"},{"$error":"#DIV/0!"},{"$error":"#DIV/0!"}]
[null,null,null,null,null,null,null,null,null,null,null,null,null,null,null,null,null,null,null,null,null,null,{"$f":"title421","v":"Processing"},1,0,0,0]
[null,null,null,null,null,null,null,null,null,null,null,null,null,null,null,null,null,null,null,null,null,null,{"$f":"title422","v":"Total job creation by this project"},{"$f":"SUM(X215:X216)","v":{"$error":"#DIV/0!"}},{"$f":"SUM(Y215:Y216)","v":{"$error":"#DIV/0!"}},{"$f":"SUM(Z215:Z216)","v":{"$error":"#DIV/0!"}},{"$f":"SUM(AA215:AA216)","v":{"$error":"#DIV/0!"}}]
[]
[]
[]
[]
[null,null,null,null,null,null,null,null,null,null,null,null,null,null,null,null,null,null,null,null,null,"Chart 7"]
[null,null,null,null,null,null,null,null,null,null,null,null,null,null,null,null,null,null,null,null,null,"Ratio (kg briquette/kg fuel)","rural (kg fuel/day/hh)","urban (kg fuel/day/hh)"]
[null,null,null,null,null,null,null,null,null,null,null,null,null,null,null,null,null,null,null,null,null,{"$f":"1/'Energy Demand'!W51","v":1.2857142857142858},{"$f":"+'Energy Demand'!E10","v":0},{"$f":"+'Energy Demand'!J12","v":0}]
[null,null,null,null,null,null,null,null,null,null,null,null,null,null,null,null,null,null,null,null,null,{"$f":"1/'Energy Demand'!W52","v":1.8367346938775513},{"$f":"+'Energy Demand'!E12","v":0},{"$f":"+'Energy Demand'!J13","v":0}]
[null,null,null,null,null,null,null,null,null,null,null,null,null,null,null,null,null,null,null,null,null,{"$f":"1/'Energy Demand'!W53","v":0.26901669758812624},{"$f":"+'Energy Demand'!E13","v":0},{"$f":"+'Energy Demand'!J15","v":0}]
[null,null,null,null,null,null,null,null,null,null,null,null,null,null,null,null,null,null,null,null,null,{"$f":"1/'Energy Demand'!W54","v":1.7857142857142858},{"$f":"+'Energy Demand'!E15","v":0},{"$f":"+'Energy Demand'!J16","v":0}]
[null,null,null,null,null,null,null,null,null,null,null,null,null,null,null,null,null,null,null,null,null,null,null,{"$f":"+$X$171","v":"4 kg/h"},{"$f":"+$X$172","v":"40 kg/h"},{"$f":"+$X$173","v":"400 kg/h"},{"$f":"+$X$174","v":"3000 kg/h"}]
[null,null,null,null,null,null,null,null,null,null,null,null,null,null,null,null,null,null,null,null,null,null,"Briquette equivalent demand - rural",{"$f":"+SUMPRODUCT(($V$224:$V$227*$W$224:$W$227))*365/1000","v":0},{"$f":"+SUMPRODUCT(($V$224:$V$227*$W$224:$W$227))*365/1000","v":0},{"$f":"+SUMPRODUCT(($V$224:$V$227*$W$224:$W$227))*365/1000","v":0},{"$f":"+SUMPRODUCT(($V$224:$V$227*$W$224:$W$227))*365/1000","v":0}]
[null,null,null,null,null,null,null,null,null,null,null,null,null,null,null,null,null,null,null,null,null,null,"Briquette equivalent demand - urban",{"$f":"+SUMPRODUCT(($V$224:$V$227*$X$224:$X$227))*365/1000","v":0},{"$f":"+SUMPRODUCT(($V$224:$V$227*$X$224:$X$227))*365/1000","v":0},{"$f":"+SUMPRODUCT(($V$224:$V$227*$X$224:$X$227))*365/1000","v":0},{"$f":"+SUMPRODUCT(($V$224:$V$227*$X$224:$X$227))*365/1000","v":0}]
[null,null,null,null,null,null,null,null,null,null,null,null,null,null,null,null,null,null,null,null,null,null,"Briquette annual production",{"$f":"+Y130","v":0},{"$f":"+Z130","v":0},{"$f":"+AA130","v":0},{"$f":"+AB130","v":0}]
[]
[]
[null,null,null,null,null,null,null,null,null,null,null,null,null,null,null,null,null,null,null,null,null,{"$f":"title415","v":"Urban"}]

{"sheet":"Summary of results-fs2 print","index":56,"n_rows":234,"n_cols":29,"rows_kept":234,"cut":false,"hidden":true,"merged":[[2,3,2,18],[9,2,9,7],[34,2,34,3],[34,6,34,11],[34,15,34,17],[128,24,128,27],[35,6,35,13],[36,6,36,13],[37,6,37,13],[38,6,38,13],[58,15,59,18],[63,2,63,6]]}
[null,null,null,null,null,null,null,null,null,null,null,null,null,null,0.1]
[]
[null,null,null,{"$f":"UPPER(title392&$V$126)","v":"SUMMARY OF RESULTS FOR BRIQUETTE PRODUCTION FROM PLEASE SELECT PLEASE SELECT"}]
[]
[]
[]
[]
[null,null,null,{"$f":"title394","v":"Production Cost and Investment Results"}]
[]
[null,null,{"$f":"title460","v":"Total Production Cost of Briquettes + Transport (USD/kg of briquettes)"},null,null,null,null,null,null,null,null,{"$f":"title396","v":"Share of Production Cost (%)"},null,null,null,{"$f":"title364&\" (USD)\"","v":"Total investment (USD)"}]
[]
[null,null,null,{"$f":"title397","v":"     Compare to market price rural"},{"$f":"+IF($V196,Y164,\"\")","v":0},null,{"$f":"title398","v":"     Compare to market price urban"},null,{"$f":"+IF($V197,Y165,\"\")","v":0}]
[]
[]
[]
[]
[]
[]
[]
[]
[]
[]
[]
[]
[]
[]
[]
[]
[]
[]
[]
[]
[null,null,null,{"$f":"title399","v":"Operating Results"}]
[]
[null,null,{"$f":"title400","v":"Feedstock Consumption"},null,null,null,{"$f":"title401","v":"Number of Potential Plants and Area Required"},null,null,null,null,null,null,null,null,{"$f":"title402","v":"Households Potentially Supplied per plant"}]
[null,null,null,null,null,null,{"$f":"+(IF($Y$135<1,title403,title404&ROUND($Y$135,0)))","v":{"$error":"#DIV/0!"}}]
[null,null,null,null,null,null,{"$f":"+(IF($Z$135<1,title405,title406&ROUND($Z$135,0)))","v":{"$error":"#DIV/0!"}}]
[null,null,null,null,null,null,{"$f":"+(IF($AA$135<1,title407,title408&ROUND($AA$135,0)))","v":{"$error":"#DIV/0!"}}]
[null,null,null,null,null,null,{"$f":"+(IF($AB$135<1,title409,title410&ROUND($AB$135,0)))","v":{"$error":"#DIV/0!"}}]
[]
[]
[]
[]
[]
[]
[]
[]
[null,null,null,null,null,null,null,null,null,null,null,null,null,null,null,{"$f":"title411","v":"Potential Job Creation"}]
[]
[]
[]
[]
[]
[]
[]
[]
[]
[]
[null,null,null,null,null,null,null,null,null,null,null,null,null,null,null,{"$f":"+IF(X215=0,title456,IF(X215>0,title457))","v":{"$error":"#DIV/0!"}}]
[]
[]
[null,null,null,{"$f":"title291","v":"Financial analysis results"}]
[]
[null,null,{"$f":"title412","v":"Net Present Value (rural and urban market prices) USD (1000)"},null,null,null,null,null,null,null,null,{"$f":"title413","v":"Internal Rate of Return (%)"}]
[]
[]
[]
[]
[]
[]
[]
[]
[]
[]
[]
[]
[]
[]
[]
[]
[]
[]
[]
[]
[]
[]
[]
[]
[]
[]
[]
[]
[]
[]
[]
[]
[]
[]
[]
[]
[]
[]
[]
[]
[]
[]
[]
[]
[]
[]
[]
[]
[]
[]
[]
[]
[]
[]
[null,null,null,null,null,null,null,null,null,null,null,null,null,null,null,null,null,null,null,null,null,"Residue","Pos."]
[null,null,null,null,null,null,null,null,null,null,null,null,null,null,null,null,null,null,null,null,null,{"$f":"+'Data entry needs'!$D$10&\" \"&'Data entry needs'!$D$11","v":"Please Select Please Select"},1,{"$f":"+'Data entry needs'!$D$10&'Data entry needs'!$D$11","v":"Please SelectPlease Select"},{"$f":"+'Data entry needs'!$D$10&\" \"&'Data entry needs'!$D$11","v":"Please Select Please Select"}]
[null,null,null,null,null,null,null,null,null,null,null,null,null,null,null,null,null,null,null,null,null,{"$f":"+'Data entry needs'!$E$10&\" \"&'Data entry needs'!$E$11","v":"Please Select Please Select"},2,{"$f":"+'Data entry needs'!$E$10&'Data entry needs'!$E$11","v":"Please SelectPlease Select"},{"$f":"+'Data entry needs'!$E$10&\" \"&'Data entry needs'!$E$11","v":"Please Select Please Select"}]
[null,null,null,null,null,null,null,null,null,null,null,null,null,null,null,null,null,null,null,null,null,{"$f":"+'Data entry needs'!$F$10&\" \"&'Data entry needs'!$F$11","v":"Please Select Please Select"},3,{"$f":"+'Data entry needs'!$F$10&'Data entry needs'!$F$11","v":"Please SelectPlease Select"},{"$f":"+'Data entry needs'!$F$10&\" \"&'Data entry needs'!$F$11","v":"Please Select Please Select"}]
[null,null,null,null,null,null,null,null,null,null,null,null,null,null,null,null,null,null,null,null,null,{"$f":"+'Data entry needs'!$G$10&\" \"&'Data entry needs'!$G$11","v":"Please Select Please Select"},4,{"$f":"+'Data entry needs'!$G$10&'Data entry needs'!$G$11","v":"Please SelectPlease Select"},{"$f":"+'Data entry needs'!$G$10&\" \"&'Data entry needs'!$G$11","v":"Please Select Please Select"}]
[]
[null,null,null,null,null,null,null,null,null,null,null,null,null,null,null,null,null,null,null,null,null,"Selection","No."]
[null,null,null,null,null,null,null,null,null,null,null,null,null,null,null,null,null,null,null,null,null,{"$f":"+VLOOKUP($W$126,$W$120:$Y$123,3,FALSE)","v":"Please Select Please Select"},2,{"$f":"VLOOKUP($V$126,$V$120:$X$123,3,FALSE)","v":"Please SelectPlease Select"},"Biomass residueratio",{"$f":"+VLOOKUP(X126,dummy_database!$N$4:$R$30,5,FALSE)","v":{"$error":"#N/A"}}]
[null,null,null,null,null,null,null,null,null,null,null,null,null,null,null,null,null,null,null,null,null,null,null,null,"F","H","J","L"]
[null,null,null,null,null,null,null,null,null,null,null,null,null,null,null,null,null,null,null,null,null,null,"Biomass Briquetting Project Summary",null,"G","I","K","M"]
[null,null,null,null,null,null,null,null,null,null,null,null,null,null,null,null,null,null,null,null,null,null," Production cost",{"$f":"title96","v":"Unit"},"ts of  briquette production per year"]
[null,null,null,null,null,null,null,null,null,null,null,null,null,null,null,null,null,null,null,null,null,null,null,null,{"$f":"COST_RES1!$F$29","v":0},{"$f":"COST_RES1!$H$29","v":0},{"$f":"COST_RES1!$J$29","v":0},{"$f":"COST_RES1!$L$29","v":0}]
[null,null,null,null,null,null,null,null,null,null,null,null,null,null,null,null,null,null,null,null,null,null,"Biomass type",null,{"$f":"+$H$6","v":0},{"$f":"+$H$6","v":0},{"$f":"+$H$6","v":0},{"$f":"+$H$6","v":0}]
[null,null,null,null,null,null,null,null,null,null,null,null,null,null,null,null,null,null,null,null,null,null,{"$f":"title426","v":"Biomass required (t/year)"},{"$f":"title83","v":"t/year"},{"$f":"INDIRECT(\"COST_RES\"&$W$126&\"!F33\")","v":{"$error":"#DIV/0!"}},{"$f":"INDIRECT(\"COST_RES\"&$W$126&\"!h33\")","v":{"$error":"#DIV/0!"}},{"$f":"INDIRECT(\"COST_RES\"&$W$126&\"!j33\")","v":{"$error":"#DIV/0!"}},{"$f":"INDIRECT(\"COST_RES\"&$W$126&\"!l33\")","v":{"$error":"#DIV/0!"}}]
[null,null,null,null,null,null,null,null,null,null,null,null,null,null,null,null,null,null,null,null,null,null,{"$f":"title427","v":"Biomass available (t/year)"},{"$f":"title83","v":"t/year"},{"$f":"+INDIRECT(\"COST_RES\"&$W$126&\"!$D$9\")","v":0},{"$f":"+Y133","v":0},{"$f":"+Z133","v":0},{"$f":"+AA133","v":0}]
[null,null,null,null,null,null,null,null,null,null,null,null,null,null,null,null,null,null,null,null,null,null,null,null,{"$f":"+Y132/Y133","v":{"$error":"#DIV/0!"}},{"$f":"+Z132/Z133","v":{"$error":"#DIV/0!"}},{"$f":"+AA132/AA133","v":{"$error":"#DIV/0!"}},{"$f":"+AB132/AB133","v":{"$error":"#DIV/0!"}}]
[null,null,null,null,null,null,null,null,null,null,null,null,null,null,null,null,null,null,null,null,null,null,{"$f":"title429","v":"Plants potentially supported"},null,{"$f":"+Y133/Y132","v":{"$error":"#DIV/0!"}},{"$f":"+Z133/Z132","v":{"$error":"#DIV/0!"}},{"$f":"+AA133/AA132","v":{"$error":"#DIV/0!"}},{"$f":"+AB133/AB132","v":{"$error":"#DIV/0!"}}]
[null,null,null,null,null,null,null,null,null,null,null,null,null,null,null,null,null,null,null,null,null,null,{"$f":"title430","v":"Area required"},"ha",{"$f":"Y132/(INDIRECT(\"COST_RES\"&$W$126&\"!d10\")*$Z$126)","v":{"$error":"#DIV/0!"}},{"$f":"Z132/(INDIRECT(\"COST_RES\"&$W$126&\"!d10\")*$Z$126)","v":{"$error":"#DIV/0!"}},{"$f":"AA132/(INDIRECT(\"COST_RES\"&$W$126&\"!d10\")*$Z$126)","v":{"$error":"#DIV/0!"}},{"$f":"AB132/(INDIRECT(\"COST_RES\"&$W$126&\"!d10\")*$Z$126)","v":{"$error":"#DIV/0!"}}]
[]
[]
[null,null,null,null,null,null,null,null,null,null,null,null,null,null,null,null,null,null,null,null,null,null,{"$f":"title428","v":"Annual basis"}]
[null,null,null,null,null,null,null,null,null,null,null,null,null,null,null,null,null,null,null,null,null,null,"Production cost of briquette "]
[null,null,null,null,null,null,null,null,null,null,null,null,null,null,null,null,null,null,null,null,null,null,{"$f":"title431","v":"Raw materials"},{"$f":"title84","v":"USD/year"},{"$f":"INDIRECT(\"COST_RES\"&$W$126&\"!\"&Y$127&37)","v":{"$error":"#DIV/0!"}},{"$f":"INDIRECT(\"COST_RES\"&$W$126&\"!\"&Z$127&37)","v":{"$error":"#DIV/0!"}},{"$f":"INDIRECT(\"COST_RES\"&$W$126&\"!\"&AA$127&37)","v":{"$error":"#DIV/0!"}},{"$f":"INDIRECT(\"COST_RES\"&$W$126&\"!\"&AB$127&37)","v":{"$error":"#DIV/0!"}}]
[null,null,null,null,null,null,null,null,null,null,null,null,null,null,null,null,null,null,null,null,null,null,{"$f":"title359","v":"Labour and miscellaneous costs"},"USD/year",{"$f":"INDIRECT(\"COST_RES\"&$W$126&\"!\"&Y$127&44)","v":0},{"$f":"INDIRECT(\"COST_RES\"&$W$126&\"!\"&Z$127&44)","v":0},{"$f":"INDIRECT(\"COST_RES\"&$W$126&\"!\"&AA$127&44)","v":0},{"$f":"INDIRECT(\"COST_RES\"&$W$126&\"!\"&AB$127&44)","v":0}]
[null,null,null,null,null,null,null,null,null,null,null,null,null,null,null,null,null,null,null,null,null,null,{"$f":"title432","v":"Transport and storage"},"USD/year",{"$f":"INDIRECT(\"COST_RES\"&$W$126&\"!\"&Y$127&50)+INDIRECT(\"COST_RES\"&$W$126&\"!\"&Y$127&56)","v":{"$error":"#DIV/0!"}},{"$f":"INDIRECT(\"COST_RES\"&$W$126&\"!\"&Z$127&50)+INDIRECT(\"COST_RES\"&$W$126&\"!\"&Z$127&56)","v":{"$error":"#DIV/0!"}},{"$f":"INDIRECT(\"COST_RES\"&$W$126&\"!\"&AA$127&50)+INDIRECT(\"COST_RES\"&$W$126&\"!\"&AA$127&56)","v":{"$error":"#DIV/0!"}},{"$f":"INDIRECT(\"COST_RES\"&$W$126&\"!\"&AB$127&50)+INDIRECT(\"COST_RES\"&$W$126&\"!\"&AB$127&56)","v":{"$error":"#DIV/0!"}}]
[null,null,null,null,null,null,null,null,null,null,null,null,null,null,null,null,null,null,null,null,null,null,{"$f":"title272","v":"Depreciation"},"USD/year",{"$f":"INDIRECT(\"COST_RES\"&$W$126&\"!\"&Y$128&64)*(1+'Data entry needs'!$D$48)","v":0},{"$f":"INDIRECT(\"COST_RES\"&$W$126&\"!\"&Z$128&64)*(1+'Data entry needs'!$D$48)","v":0},{"$f":"INDIRECT(\"COST_RES\"&$W$126&\"!\"&AA$128&64)*(1+'Data entry needs'!$D$48)","v":0},{"$f":"INDIRECT(\"COST_RES\"&$W$126&\"!\"&AB$128&64)*(1+'Data entry needs'!$D$48)","v":0}]
[null,null,null,null,null,null,null,null,null,null,null,null,null,null,null,null,null,null,null,null,null,null,{"$f":"title159","v":"Other costs"},"USD/year",{"$f":"INDIRECT(\"COST_RES\"&$W$126&\"!\"&Y$127&73)","v":{"$error":"#DIV/0!"}},{"$f":"INDIRECT(\"COST_RES\"&$W$126&\"!\"&Z$127&73)","v":{"$error":"#DIV/0!"}},{"$f":"INDIRECT(\"COST_RES\"&$W$126&\"!\"&AA$127&73)","v":{"$error":"#DIV/0!"}},{"$f":"INDIRECT(\"COST_RES\"&$W$126&\"!\"&AB$127&73)","v":{"$error":"#DIV/0!"}}]
[null,null,null,null,null,null,null,null,null,null,null,null,null,null,null,null,null,null,null,null,null,null,{"$f":"title433","v":"Total annualized production cost"},"USD/year",{"$f":"SUM(Y141:Y145)","v":{"$error":"#DIV/0!"}},{"$f":"SUM(Z141:Z145)","v":{"$error":"#DIV/0!"}},{"$f":"SUM(AA141:AA145)","v":{"$error":"#DIV/0!"}},{"$f":"SUM(AB141:AB145)","v":{"$error":"#DIV/0!"}}]
[null,null,null,null,null,null,null,null,null,null,null,null,null,null,null,null,null,null,null,null,null,null,{"$f":"title434","v":"kg product basis"}]
[null,null,null,null,null,null,null,null,null,null,null,null,null,null,null,null,null,null,null,null,null,null,{"$f":"title435","v":"Total production cost-limsup"},{"$f":"title443","v":"USD/kg of briquettes"},{"$f":"+Y146*($O$1+1)/(Y$130*1000)","v":{"$error":"#DIV/0!"}},{"$f":"+Z146*($O$1+1)/(Z$130*1000)","v":{"$error":"#DIV/0!"}},{"$f":"+AA146*($O$1+1)/(AA$130*1000)","v":{"$error":"#DIV/0!"}},{"$f":"+AB146*($O$1+1)/(AB$130*1000)","v":{"$error":"#DIV/0!"}}]
[null,null,null,null,null,null,null,null,null,null,null,null,null,null,null,null,null,null,null,null,null,null,{"$f":"title436","v":"Total production cost-liminf"},{"$f":"title443","v":"USD/kg of briquettes"},{"$f":"+Y146*(1-$O$1)/(Y$130*1000)","v":{"$error":"#DIV/0!"}},{"$f":"+Z146*(1-$O$1)/(Z$130*1000)","v":{"$error":"#DIV/0!"}},{"$f":"+AA146*(1-$O$1)/(AA$130*1000)","v":{"$error":"#DIV/0!"}},{"$f":"+AB146*(1-$O$1)/(AB$130*1000)","v":{"$error":"#DIV/0!"}}]
[null,null,null,null,null,null,null,null,null,null,null,null,null,null,null,null,null,null,null,null,null,null,{"$f":"title272","v":"Depreciation"},{"$f":"title84","v":"USD/year"},{"$f":"INDIRECT(\"COST_RES\"&$W$126&\"!g64\")","v":0},{"$f":"INDIRECT(\"COST_RES\"&$W$126&\"!i64\")","v":0},{"$f":"INDIRECT(\"COST_RES\"&$W$126&\"!k64\")","v":0},{"$f":"INDIRECT(\"COST_RES\"&$W$126&\"!m64\")","v":0}]
[null,null,null,null,null,null,null,null,null,null,null,null,null,null,null,null,null,null,null,null,null,null,{"$f":"title437&20&title438","v":"Total investment - 20 years"},"USD",{"$f":"INDIRECT(\"COST_RES\"&$W$126&\"!F63\")","v":0},{"$f":"INDIRECT(\"COST_RES\"&$W$126&\"!H63\")","v":0},{"$f":"INDIRECT(\"COST_RES\"&$W$126&\"!J63\")","v":0},{"$f":"INDIRECT(\"COST_RES\"&$W$126&\"!L63\")","v":0}]
[]
[null,null,null,null,null,null,null,null,null,null,null,null,null,null,null,null,null,null,null,null,null,null,{"$f":"title439","v":"Potential briquette consumption per household"}]
[null,null,null,null,null,null,null,null,null,null,null,null,null,null,null,null,null,null,null,null,null,null,{"$f":"title77","v":"Rural Households"},{"$f":"title440","v":"t/year/houseshold"},{"$f":"+'Energy Demand'!$H$17","v":0}]
[null,null,null,null,null,null,null,null,null,null,null,null,null,null,null,null,null,null,null,null,null,null,{"$f":"title86","v":" Urban Households"},{"$f":"title440","v":"t/year/houseshold"},{"$f":"+'Energy Demand'!$M$17","v":0}]
[]
[null,null,null,null,null,null,null,null,null,null,null,null,null,null,null,null,null,null,null,null,null,null,{"$f":"title444","v":"Number of household that can be supplied"}]
[null,null,null,null,null,null,null,null,null,null,null,null,null,null,null,null,null,null,null,null,null,null,{"$f":"title77","v":"Rural Households"},{"$f":"title441","v":"Households"},{"$f":"+Y132/$Y$154","v":{"$error":"#DIV/0!"}},{"$f":"+Z132/$Y$154","v":{"$error":"#DIV/0!"}},{"$f":"+AA132/$Y$154","v":{"$error":"#DIV/0!"}},{"$f":"+AB132/$Y$154","v":{"$error":"#DIV/0!"}}]
[null,null,null,null,null,null,null,null,null,null,null,null,null,null,null,null,null,null,null,null,null,null,{"$f":"title86","v":" Urban Households"},{"$f":"title441","v":"Households"},{"$f":"+Y132/$Y$155","v":{"$error":"#DIV/0!"}},{"$f":"+Z132/$Y$155","v":{"$error":"#DIV/0!"}},{"$f":"+AA132/$Y$155","v":{"$error":"#DIV/0!"}},{"$f":"+AB132/$Y$155","v":{"$error":"#DIV/0!"}}]
[]
[null,null,null,null,null,null,null,null,null,null,null,null,null,null,null,null,null,null,null,null,null,null,{"$f":"title422","v":"Total job creation by this project"},{"$f":"title442","v":"No. of employees"},{"$f":"SUM(Y162:Y163)","v":{"$error":"#DIV/0!"}},{"$f":"SUM(Z162:Z163)","v":{"$error":"#DIV/0!"}},{"$f":"SUM(AA162:AA163)","v":{"$error":"#DIV/0!"}},{"$f":"SUM(AB162:AB163)","v":{"$error":"#DIV/0!"}}]
[null,null,null,null,null,null,null,null,null,null,null,null,null,null,null,null,null,null,null,null,null,null,{"$f":"title445","v":"Biomass collection"},{"$f":"title442","v":"No. of employees"},{"$f":"ROUNDUP(IF('Data entry needs'!$C$17,0,INDIRECT(\"PRICE_RES\"&$W$126&\"!D20\"))*Y136/('Data entry needs'!$D$32*INDIRECT(\"STORAGE_RES\"&$W$126&\"!D37\")),0)","v":{"$error":"#DIV/0!"}},{"$f":"ROUNDUP(IF('Data entry needs'!$C$17,0,INDIRECT(\"PRICE_RES\"&$W$126&\"!D20\"))*Z136/('Data entry needs'!$D$32*INDIRECT(\"STORAGE_RES\"&$W$126&\"!D37\")),0)","v":{"$error":"#DIV/0!"}},{"$f":"ROUNDUP(IF('Data entry needs'!$C$17,0,INDIRECT(\"PRICE_RES\"&$W$126&\"!D20\"))*AA136/('Data entry needs'!$D$32*INDIRECT(\"STORAGE_RES\"&$W$126&\"!D37\")),0)","v":{"$error":"#DIV/0!"}},{"$f":"ROUNDUP(IF('Data entry needs'!$C$17,0,INDIRECT(\"PRICE_RES\"&$W$126&\"!D20\"))*AB136/('Data entry needs'!$D$32*INDIRECT(\"STORAGE_RES\"&$W$126&\"!D37\")),0)","v":{"$error":"#DIV/0!"}}]
[null,null,null,null,null,null,null,null,null,null,null,null,null,null,null,null,null,null,null,null,null,null,"Briquetting processes",{"$f":"title442","v":"No. of employees"},{"$f":"INDIRECT(\"COST_RES\"&$W$126&\"!F41\")+INDIRECT(\"COST_RES\"&$W$126&\"!F42\")","v":1},{"$f":"INDIRECT(\"COST_RES\"&$W$126&\"!h41\")+INDIRECT(\"COST_RES\"&$W$126&\"!h42\")","v":0},{"$f":"INDIRECT(\"COST_RES\"&$W$126&\"!j41\")+INDIRECT(\"COST_RES\"&$W$126&\"!j42\")","v":0},{"$f":"INDIRECT(\"COST_RES\"&$W$126&\"!l41\")+INDIRECT(\"COST_RES\"&$W$126&\"!l42\")","v":0}]
[null,null,null,null,null,null,null,null,null,null,null,null,null,null,null,null,null,null,null,null,null,null,{"$f":"title447","v":"Market price rural (USD/kg)"},{"$f":"title443","v":"USD/kg of briquettes"},{"$f":"+'Energy Demand'!$E$20","v":0}]
[null,null,null,null,null,null,null,null,null,null,null,null,null,null,null,null,null,null,null,null,null,null,{"$f":"title448","v":"Market price urban (USD/kg)"},{"$f":"title443","v":"USD/kg of briquettes"},{"$f":"+'Energy Demand'!$G$20","v":0}]
[null,null,null,null,null,null,null,null,null,null,null,null,null,null,null,null,null,null,null,null,null,null,{"$f":"title449","v":"Briquette revenue market rural"},{"$f":"title84","v":"USD/year"},{"$f":"+'Energy Demand'!H33","v":0},{"$f":"+'Energy Demand'!J33","v":0},{"$f":"+'Energy Demand'!M33","v":0},{"$f":"+'Energy Demand'!O33","v":0}]
[null,null,null,null,null,null,null,null,null,null,null,null,null,null,null,null,null,null,null,null,null,null,{"$f":"title450","v":"Briquette revenue market urban"},{"$f":"title84","v":"USD/year"},{"$f":"+'Energy Demand'!H38","v":0},{"$f":"+'Energy Demand'!J38","v":0},{"$f":"+'Energy Demand'!M38","v":0},{"$f":"+'Energy Demand'!O38","v":0}]
[null,null,null,null,null,null,null,null,null,null,null,null,null,null,null,null,null,null,null,null,null,null,{"$f":"title451","v":"Total production cost"},{"$f":"title84","v":"USD/year"},{"$f":"+Y146","v":{"$error":"#DIV/0!"}},{"$f":"+Z146","v":{"$error":"#DIV/0!"}},{"$f":"+AA146","v":{"$error":"#DIV/0!"}},{"$f":"+AB146","v":{"$error":"#DIV/0!"}}]
[]
[]
[null,null,null,null,null,null,null,null,null,null,null,null,null,null,null,null,null,null,null,null,null,null,{"$f":"title452","v":"SIZE 1"},{"$f":"4&\" kg/h\"","v":"4 kg/h"}]
[null,null,null,null,null,null,null,null,null,null,null,null,null,null,null,null,null,null,null,null,null,null,{"$f":"title453","v":"SIZE 2"},{"$f":"40&\" kg/h\"","v":"40 kg/h"}]
[null,null,null,null,null,null,null,null,null,null,null,null,null,null,null,null,null,null,null,null,null,null,{"$f":"title454","v":"SIZE 3"},{"$f":"400&\" kg/h\"","v":"400 kg/h"}]
[null,null,null,null,null,null,null,null,null,null,null,null,null,null,null,null,null,null,null,null,null,null,{"$f":"title455","v":"SIZE 4"},{"$f":"3000&\" kg/h\"","v":"3000 kg/h"}]
[]
[]
[null,null,null,null,null,null,null,null,null,null,null,null,null,null,null,null,null,null,null,null,null,null,null,{"$f":"+$X$171","v":"4 kg/h"}]
[]
[null,null,null,null,null,null,null,null,null,null,null,null,null,null,null,null,null,null,null,null,null,"Chart 1",null,{"$f":"+$X$171","v":"4 kg/h"},{"$f":"+$X$172","v":"40 kg/h"},{"$f":"+$X$173","v":"400 kg/h"},{"$f":"+$X$174","v":"3000 kg/h"}]
[null,null,null,null,null,null,null,null,null,null,null,null,null,null,null,null,null,null,null,null,null,true,{"$f":"+IF($V180,W133,\"\")","v":"Biomass available (t/year)"},{"$f":"+IF($V180,Y133,\"\")","v":0},{"$f":"+IF($V180,Z133,\"\")","v":0},{"$f":"+IF($V180,AA133,\"\")","v":0},{"$f":"+IF($V180,AB133,\"\")","v":0}]
[null,null,null,null,null,null,null,null,null,null,null,null,null,null,null,null,null,null,null,null,null,true,{"$f":"+IF($V181,W132,\"\")","v":"Biomass required (t/year)"},{"$f":"+IF($V181,Y132,\"\")","v":{"$error":"#DIV/0!"}},{"$f":"+IF($V181,Z132,\"\")","v":{"$error":"#DIV/0!"}},{"$f":"+IF($V181,AA132,\"\")","v":{"$error":"#DIV/0!"}},{"$f":"+IF($V181,AB132,\"\")","v":{"$error":"#DIV/0!"}}]
[null,null,null,null,null,null,null,null,null,null,null,null,null,null,null,null,null,null,null,null,null,"Chart 2",null,{"$f":"+$X$171","v":"4 kg/h"},{"$f":"+$X$172","v":"40 kg/h"},{"$f":"+$X$173","v":"400 kg/h"},{"$f":"+$X$174","v":"3000 kg/h"}]
[null,null,null,null,null,null,null,null,null,null,null,null,null,null,null,null,null,null,null,null,null,true,{"$f":"+IF(V183,W136,\"\")","v":"Area required"},{"$f":"+IF($V183,Y136,\"\")","v":{"$error":"#DIV/0!"}},{"$f":"+IF($V183,Z136,\"\")","v":{"$error":"#DIV/0!"}},{"$f":"+IF($V183,AA136,\"\")","v":{"$error":"#DIV/0!"}},{"$f":"+IF($V183,AB136,\"\")","v":{"$error":"#DIV/0!"}}]
[null,null,null,null,null,null,null,null,null,null,null,null,null,null,null,null,null,null,null,null,null,true,{"$f":"+IF(V184,W135,\"\")","v":"Plants potentially supported"},{"$f":"X180/X181","v":{"$error":"#DIV/0!"}},{"$f":"Y180/Y181","v":{"$error":"#DIV/0!"}},{"$f":"Z180/Z181","v":{"$error":"#DIV/0!"}},{"$f":"AA180/AA181","v":{"$error":"#DIV/0!"}}]
[]
[null,null,null,null,null,null,null,null,null,null,null,null,null,null,null,null,null,null,null,null,null,"Chart 3",null,{"$f":"+$X$171","v":"4 kg/h"},{"$f":"+$X$172","v":"40 kg/h"},{"$f":"+$X$173","v":"400 kg/h"},{"$f":"+$X$174","v":"3000 kg/h"}]
[null,null,null,null,null,null,null,null,null,null,null,null,null,null,null,null,null,null,null,null,null,true,{"$f":"+IF($V187,$W141,\"\")","v":"Raw materials"},{"$f":"+IF($V187,Y$141,\"\")/Y$146","v":{"$error":"#DIV/0!"}},{"$f":"+IF($V187,Z$141,\"\")/Z$146","v":{"$error":"#DIV/0!"}},{"$f":"+IF($V187,AA$141,\"\")/AA$146","v":{"$error":"#DIV/0!"}},{"$f":"+IF($V187,AB$141,\"\")/AB$146","v":{"$error":"#DIV/0!"}}]
[null,null,null,null,null,null,null,null,null,null,null,null,null,null,null,null,null,null,null,null,null,true,{"$f":"+IF($V188,$W142,\"\")","v":"Labour and miscellaneous costs"},{"$f":"+IF($V188,Y$142,\"\")/Y$146","v":{"$error":"#DIV/0!"}},{"$f":"+IF($V188,Z$142,\"\")/Z$146","v":{"$error":"#DIV/0!"}},{"$f":"+IF($V188,AA$142,\"\")/AA$146","v":{"$error":"#DIV/0!"}},{"$f":"+IF($V188,AB$142,\"\")/AB$146","v":{"$error":"#DIV/0!"}}]
[null,null,null,null,null,null,null,null,null,null,null,null,null,null,null,null,null,null,null,null,null,true,{"$f":"+IF($V189,$W143,\"\")","v":"Transport and storage"},{"$f":"+IF($V189,Y$143,\"\")/Y$146","v":{"$error":"#DIV/0!"}},{"$f":"+IF($V189,Z$143,\"\")/Z$146","v":{"$error":"#DIV/0!"}},{"$f":"+IF($V189,AA$143,\"\")/AA$146","v":{"$error":"#DIV/0!"}},{"$f":"+IF($V189,AB$143,\"\")/AB$146","v":{"$error":"#DIV/0!"}}]
[null,null,null,null,null,null,null,null,null,null,null,null,null,null,null,null,null,null,null,null,null,true,{"$f":"+IF($V190,$W144&\" and \"&$W145,\"\")","v":"Depreciation and Other costs"},{"$f":"+IF($V190,Y$144+Y$145,\"\")/Y$146","v":{"$error":"#DIV/0!"}},{"$f":"+IF($V190,Z$144+Z$145,\"\")/Z$146","v":{"$error":"#DIV/0!"}},{"$f":"+IF($V190,AA$144+AA$145,\"\")/AA$146","v":{"$error":"#DIV/0!"}},{"$f":"+IF($V190,AB$144+AB$145,\"\")/AB$146","v":{"$error":"#DIV/0!"}}]
[]
[]
[]
[null,null,null,null,null,null,null,null,null,null,null,null,null,null,null,null,null,null,null,null,null,{"$f":"IF(V193=TRUE,FALSE,TRUE)","v":true},{"$f":"+IF($V194,W148,\"\")","v":"Total production cost-limsup"},{"$f":"+IF($V194,Y148,\"\")","v":{"$error":"#DIV/0!"}},{"$error":"#DIV/0!"},{"$error":"#DIV/0!"},{"$error":"#DIV/0!"}]
[null,null,null,null,null,null,null,null,null,null,null,null,null,null,null,null,null,null,null,null,null,{"$f":"+IF($O$1>0,TRUE,FALSE)","v":true},{"$f":"+IF($V195,W149,\"\")","v":"Total production cost-liminf"},{"$error":"#DIV/0!"},{"$error":"#DIV/0!"},{"$error":"#DIV/0!"},{"$error":"#DIV/0!"}]
[null,null,null,null,null,null,null,null,null,null,null,null,null,null,null,null,null,null,null,null,null,true,{"$f":"+IF($V196,W164,\"\")","v":"Market price rural (USD/kg)"},{"$f":"+IF($V196,$Y$164,\"\")","v":0},0,0,0,0,0]
[null,null,null,null,null,null,null,null,null,null,null,null,null,null,null,null,null,null,null,null,null,true,{"$f":"+IF($V197,W165,\"\")","v":"Market price urban (USD/kg)"},{"$f":"+IF($V197,$Y$165,\"\")","v":0},0,0,0,0,0]
[null,null,null,null,null,null,null,null,null,null,null,null,null,null,null,null,null,null,null,null,null,"Chart 4",null,{"$f":"+$X$171","v":"4 kg/h"},{"$f":"+$X$172","v":"40 kg/h"},{"$f":"+$X$173","v":"400 kg/h"},{"$f":"+$X$174","v":"3000 kg/h"}]
[null,null,null,null,null,null,null,null,null,null,null,null,null,null,null,null,null,null,null,null,null,true,{"$f":"+IF($V199,W150,\"\")&\"( \"&X150&\")\"","v":"Depreciation( USD/year)"},{"$f":"+IF($V199,Y150,\"\")","v":0},0,0,0]
[null,null,null,null,null,null,null,null,null,null,null,null,null,null,null,null,null,null,null,null,null,true,{"$f":"+IF($V200,W151,\"\")&\"(\"&X151&\")\"","v":"Total investment - 20 years(USD)"},0,0,0,0]
[]
[null,null,null,null,null,null,null,null,null,null,null,null,null,null,null,null,null,null,null,null,null,"Chart 5",null,{"$f":"+$X$171","v":"4 kg/h"},{"$f":"+$X$172","v":"40 kg/h"},{"$f":"+$X$173","v":"400 kg/h"},{"$f":"+$X$174","v":"3000 kg/h"}]
[null,null,null,null,null,null,null,null,null,null,null,null,null,null,null,null,null,null,null,null,null,true,{"$f":"title414","v":"Rural"},{"$f":"+IF($V203,Y158,\"\")","v":{"$error":"#DIV/0!"}},{"$error":"#DIV/0!"},{"$error":"#DIV/0!"},{"$error":"#DIV/0!"}]
[null,null,null,null,null,null,null,null,null,null,null,null,null,null,null,null,null,null,null,null,null,true,{"$f":"title415","v":"Urban"},{"$error":"#DIV/0!"},{"$error":"#DIV/0!"},{"$error":"#DIV/0!"},{"$error":"#DIV/0!"}]
[null,null,null,null,null,null,null,null,null,null,null,null,null,null,null,null,null,null,null,null,null,true,{"$f":"title411","v":"Potential Job Creation"},{"$f":"+IF($V205,Y161,\"\")","v":{"$error":"#DIV/0!"}},{"$f":"+IF($V205,Z161,\"\")","v":{"$error":"#DIV/0!"}},{"$f":"+IF($V205,AA161,\"\")","v":{"$error":"#DIV/0!"}},{"$f":"+IF($V205,AB161,\"\")","v":{"$error":"#DIV/0!"}}]
[]
[null,null,null,null,null,null,null,null,null,null,null,null,null,null,null,null,null,null,null,null,null,"Chart 6",null,{"$f":"+$X$171","v":"4 kg/h"},{"$f":"+$X$172","v":"40 kg/h"},{"$f":"+$X$173","v":"400 kg/h"},{"$f":"+$X$174","v":"3000 kg/h"}]
[null,null,null,null,null,null,null,null,null,null,null,null,null,null,null,null,null,null,null,null,null,true,{"$f":"title416","v":"Net Present Value (NPV) - rural"},{"$f":"INDIRECT(\"FA4_RURAL_RES\"&$W$126&\"!C125\")","v":{"$error":"#DIV/0!"}},{"$f":"INDIRECT(\"FA40_RURAL_RES\"&$W$126&\"!C125\")","v":{"$error":"#DIV/0!"}},{"$f":"INDIRECT(\"FA400_RURAL_RES\"&$W$126&\"!C126\")","v":{"$error":"#DIV/0!"}},{"$f":"INDIRECT(\"FA3000_RURAL_RES\"&$W$126&\"!C126\")","v":{"$error":"#REF!"}}]
[null,null,null,null,null,null,null,null,null,null,null,null,null,null,null,null,null,null,null,null,null,false,{"$f":"title417","v":"Net Present Value (NPV) - urban"},{"$f":"INDIRECT(\"FA4_URBAN_RES\"&$W$126&\"!C125\")","v":{"$error":"#DIV/0!"}},{"$f":"INDIRECT(\"FA40_URBAN_RES\"&$W$126&\"!C125\")","v":{"$error":"#DIV/0!"}},{"$f":"INDIRECT(\"FA400_URBAN_RES\"&$W$126&\"!C126\")","v":{"$error":"#DIV/0!"}},{"$f":"INDIRECT(\"FA3000_URBAN_RES\"&$W$126&\"!C126\")","v":{"$error":"#REF!"}}]
[null,null,null,null,null,null,null,null,null,null,null,null,null,null,null,null,null,null,null,null,null,true,{"$f":"title418","v":"Internal Rate of Return (IRR) - rural"},{"$f":"INDIRECT(\"FA4_RURAL_RES\"&$W$126&\"!C126\")","v":{"$error":"#DIV/0!"}},{"$f":"INDIRECT(\"FA40_RURAL_RES\"&$W$126&\"!C126\")","v":{"$error":"#DIV/0!"}},{"$f":"INDIRECT(\"FA400_RURAL_RES\"&$W$126&\"!C127\")","v":{"$error":"#DIV/0!"}},{"$f":"INDIRECT(\"FA3000_RURAL_RES\"&$W$126&\"!C127\")","v":{"$error":"#REF!"}}]
[null,null,null,null,null,null,null,null,null,null,null,null,null,null,null,null,null,null,null,null,null,false,{"$f":"title419","v":"Internal Rate of Return (IRR) - urban"},{"$f":"INDIRECT(\"FA4_URBAN_RES\"&$W$126&\"!C126\")","v":{"$error":"#DIV/0!"}},{"$f":"INDIRECT(\"FA40_URBAN_RES\"&$W$126&\"!C126\")","v":{"$error":"#DIV/0!"}},{"$f":"INDIRECT(\"FA400_URBAN_RES\"&$W$126&\"!C127\")","v":{"$error":"#DIV/0!"}},{"$f":"INDIRECT(\"FA3000_URBAN_RES\"&$W$126&\"!C127\")","v":{"$error":"#REF!"}}]
[]
[null,null,null,null,null,null,null,null,null,null,null,null,null,null,null,null,null,null,null,null,null,"Chart 7"]
[null,null,null,null,null,null,null,null,null,null,null,null,null,null,null,null,null,null,null,null,null,null,null,{"$f":"+$X$171","v":"4 kg/h"},{"$f":"+$X$172","v":"40 kg/h"},{"$f":"+$X$173","v":"400 kg/h"},{"$f":"+$X$174","v":"3000 kg/h"}]
[null,null,null,null,null,null,null,null,null,null,null,null,null,null,null,null,null,null,null,null,null,null,{"$f":"title420","v":"Collection"},{"$f":"+Y162","v":{"$error":"#DIV/0!"}},{"$error":"#DIV/0!"},{"$error":"#DIV/0!"},{"$error":"#DIV/0!"}]
[null,null,null,null,null,null,null,null,null,null,null,null,null,null,null,null,null,null,null,null,null,null,{"$f":"title421","v":"Processing"},1,0,0,0]
[null,null,null,null,null,null,null,null,null,null,null,null,null,null,null,null,null,null,null,null,null,null,{"$f":"title422","v":"Total job creation by this project"},{"$f":"SUM(X215:X216)","v":{"$error":"#DIV/0!"}},{"$f":"SUM(Y215:Y216)","v":{"$error":"#DIV/0!"}},{"$f":"SUM(Z215:Z216)","v":{"$error":"#DIV/0!"}},{"$f":"SUM(AA215:AA216)","v":{"$error":"#DIV/0!"}}]
[]
[]
[]
[]
[null,null,null,null,null,null,null,null,null,null,null,null,null,null,null,null,null,null,null,null,null,"Chart 7"]
[null,null,null,null,null,null,null,null,null,null,null,null,null,null,null,null,null,null,null,null,null,"Ratio (kg briquettes/kg fuel)","rural (kg fuel/day/hh)","urban (kg fuel/day/hh)"]
[null,null,null,null,null,null,null,null,null,null,null,null,null,null,null,null,null,null,null,null,null,{"$f":"1/'Energy Demand'!W51","v":1.2857142857142858},{"$f":"+'Energy Demand'!E10","v":0},{"$f":"+'Energy Demand'!J12","v":0}]
[null,null,null,null,null,null,null,null,null,null,null,null,null,null,null,null,null,null,null,null,null,{"$f":"1/'Energy Demand'!W52","v":1.8367346938775513},{"$f":"+'Energy Demand'!E12","v":0},{"$f":"+'Energy Demand'!J13","v":0}]
[null,null,null,null,null,null,null,null,null,null,null,null,null,null,null,null,null,null,null,null,null,{"$f":"1/'Energy Demand'!W53","v":0.26901669758812624},{"$f":"+'Energy Demand'!E13","v":0},{"$f":"+'Energy Demand'!J15","v":0}]
[null,null,null,null,null,null,null,null,null,null,null,null,null,null,null,null,null,null,null,null,null,{"$f":"1/'Energy Demand'!W54","v":1.7857142857142858},{"$f":"+'Energy Demand'!E15","v":0},{"$f":"+'Energy Demand'!J16","v":0}]
[null,null,null,null,null,null,null,null,null,null,null,null,null,null,null,null,null,null,null,null,null,null,null,{"$f":"+$X$171","v":"4 kg/h"},{"$f":"+$X$172","v":"40 kg/h"},{"$f":"+$X$173","v":"400 kg/h"},{"$f":"+$X$174","v":"3000 kg/h"}]
[null,null,null,null,null,null,null,null,null,null,null,null,null,null,null,null,null,null,null,null,null,null,"Briquette equivalent demand - rural",{"$f":"+SUMPRODUCT(($V$224:$V$227*$W$224:$W$227))*365/1000","v":0},{"$f":"+SUMPRODUCT(($V$224:$V$227*$W$224:$W$227))*365/1000","v":0},{"$f":"+SUMPRODUCT(($V$224:$V$227*$W$224:$W$227))*365/1000","v":0},{"$f":"+SUMPRODUCT(($V$224:$V$227*$W$224:$W$227))*365/1000","v":0}]
[null,null,null,null,null,null,null,null,null,null,null,null,null,null,null,null,null,null,null,null,null,null,"Briquette equivalent demand - urban",{"$f":"+SUMPRODUCT(($V$224:$V$227*$X$224:$X$227))*365/1000","v":0},{"$f":"+SUMPRODUCT(($V$224:$V$227*$X$224:$X$227))*365/1000","v":0},{"$f":"+SUMPRODUCT(($V$224:$V$227*$X$224:$X$227))*365/1000","v":0},{"$f":"+SUMPRODUCT(($V$224:$V$227*$X$224:$X$227))*365/1000","v":0}]
[null,null,null,null,null,null,null,null,null,null,null,null,null,null,null,null,null,null,null,null,null,null,"Briquette annual production",{"$f":"+Y130","v":0},{"$f":"+Z130","v":0},{"$f":"+AA130","v":0},{"$f":"+AB130","v":0}]
[]
[]
[null,null,null,null,null,null,null,null,null,null,null,null,null,null,null,null,null,null,null,null,null,{"$f":"title415","v":"Urban"}]

{"sheet":"Summary of results-fs3 print","index":57,"n_rows":234,"n_cols":29,"rows_kept":234,"cut":false,"hidden":true,"merged":[[2,3,2,18],[9,2,9,7],[34,2,34,3],[34,6,34,11],[34,15,34,17],[128,24,128,27],[35,6,35,13],[36,6,36,13],[37,6,37,13],[38,6,38,13],[58,15,59,18],[63,2,63,6]]}
[null,null,null,null,null,null,null,null,null,null,null,null,null,null,0.1]
[]
[null,null,null,{"$f":"UPPER(\"SUMMARY OF RESULTS FOR \"&\"BRIQUETTE PRODUCTION FROM \"&$V$126)","v":"SUMMARY OF RESULTS FOR BRIQUETTE PRODUCTION FROM PLEASE SELECT PLEASE SELECT"}]
[]
[]
[]
[]
[null,null,null,{"$f":"title394","v":"Production Cost and Investment Results"}]
[]
[null,null,{"$f":"title460","v":"Total Production Cost of Briquettes + Transport (USD/kg of briquettes)"},null,null,null,null,null,null,null,null,{"$f":"title396","v":"Share of Production Cost (%)"},null,null,null,{"$f":"title364&\" (USD)\"","v":"Total investment (USD)"}]
[]
[null,null,null,{"$f":"title397","v":"     Compare to market price rural"},{"$f":"+IF($V196,Y164,\"\")","v":0},null,{"$f":"title398","v":"     Compare to market price urban"},null,{"$f":"+IF($V197,Y165,\"\")","v":0}]
[]
[]
[]
[]
[]
[]
[]
[]
[]
[]
[]
[]
[]
[]
[]
[]
[]
[]
[]
[]
[null,null,null,{"$f":"title399","v":"Operating Results"}]
[]
[null,null,{"$f":"title400","v":"Feedstock Consumption"},null,null,null,{"$f":"title401","v":"Number of Potential Plants and Area Required"},null,null,null,null,null,null,null,null,{"$f":"title402","v":"Households Potentially Supplied per plant"}]
[null,null,null,null,null,null,{"$f":"+(IF($Y$135<1,title403,title404&ROUND($Y$135,0)))","v":{"$error":"#DIV/0!"}}]
[null,null,null,null,null,null,{"$f":"+(IF($Z$135<1,title405,title406&ROUND($Z$135,0)))","v":{"$error":"#DIV/0!"}}]
[null,null,null,null,null,null,{"$f":"+(IF($AA$135<1,title407,title408&ROUND($AA$135,0)))","v":{"$error":"#DIV/0!"}}]
[null,null,null,null,null,null,{"$f":"+(IF($AB$135<1,title409,title410&ROUND($AB$135,0)))","v":{"$error":"#DIV/0!"}}]
[]
[]
[]
[]
[]
[]
[]
[]
[null,null,null,null,null,null,null,null,null,null,null,null,null,null,null,{"$f":"title411","v":"Potential Job Creation"}]
[]
[]
[]
[]
[]
[]
[]
[]
[]
[]
[null,null,null,null,null,null,null,null,null,null,null,null,null,null,null,{"$f":"+IF(X215=0,title456,IF(X215>0,title457))","v":{"$error":"#DIV/0!"}}]
[]
[]
[null,null,null,{"$f":"title291","v":"Financial analysis results"}]
[]
[null,null,{"$f":"title412","v":"Net Present Value (rural and urban market prices) USD (1000)"},null,null,null,null,null,null,null,null,{"$f":"title413","v":"Internal Rate of Return (%)"}]
[]
[]
[]
[]
[]
[]
[]
[]
[]
[]
[]
[]
[]
[]
[]
[]
[]
[]
[]
[]
[]
[]
[]
[]
[]
[]
[]
[]
[]
[]
[]
[]
[]
[]
[]
[]
[]
[]
[]
[]
[]
[]
[]
[]
[]
[]
[]
[]
[]
[]
[]
[]
[]
[]
[null,null,null,null,null,null,null,null,null,null,null,null,null,null,null,null,null,null,null,null,null,"Residue","Pos."]
[null,null,null,null,null,null,null,null,null,null,null,null,null,null,null,null,null,null,null,null,null,{"$f":"+'Data entry needs'!$D$10&\" \"&'Data entry needs'!$D$11","v":"Please Select Please Select"},1,{"$f":"+'Data entry needs'!$D$10&'Data entry needs'!$D$11","v":"Please SelectPlease Select"},{"$f":"+'Data entry needs'!$D$10&\" \"&'Data entry needs'!$D$11","v":"Please Select Please Select"}]
[null,null,null,null,null,null,null,null,null,null,null,null,null,null,null,null,null,null,null,null,null,{"$f":"+'Data entry needs'!$E$10&\" \"&'Data entry needs'!$E$11","v":"Please Select Please Select"},2,{"$f":"+'Data entry needs'!$E$10&'Data entry needs'!$E$11","v":"Please SelectPlease Select"},{"$f":"+'Data entry needs'!$E$10&\" \"&'Data entry needs'!$E$11","v":"Please Select Please Select"}]
[null,null,null,null,null,null,null,null,null,null,null,null,null,null,null,null,null,null,null,null,null,{"$f":"+'Data entry needs'!$F$10&\" \"&'Data entry needs'!$F$11","v":"Please Select Please Select"},3,{"$f":"+'Data entry needs'!$F$10&'Data entry needs'!$F$11","v":"Please SelectPlease Select"},{"$f":"+'Data entry needs'!$F$10&\" \"&'Data entry needs'!$F$11","v":"Please Select Please Select"}]
[null,null,null,null,null,null,null,null,null,null,null,null,null,null,null,null,null,null,null,null,null,{"$f":"+'Data entry needs'!$G$10&\" \"&'Data entry needs'!$G$11","v":"Please Select Please Select"},4,{"$f":"+'Data entry needs'!$G$10&'Data entry needs'!$G$11","v":"Please SelectPlease Select"},{"$f":"+'Data entry needs'!$G$10&\" \"&'Data entry needs'!$G$11","v":"Please Select Please Select"}]
[]
[null,null,null,null,null,null,null,null,null,null,null,null,null,null,null,null,null,null,null,null,null,"Selection","No."]
[null,null,null,null,null,null,null,null,null,null,null,null,null,null,null,null,null,null,null,null,null,{"$f":"+VLOOKUP($W$126,$W$120:$Y$123,3,FALSE)","v":"Please Select Please Select"},3,{"$f":"VLOOKUP($V$126,$V$120:$X$123,3,FALSE)","v":"Please SelectPlease Select"},"Biomass residueratio",{"$f":"+VLOOKUP(X126,dummy_database!$N$4:$R$30,5,FALSE)","v":{"$error":"#N/A"}}]
[null,null,null,null,null,null,null,null,null,null,null,null,null,null,null,null,null,null,null,null,null,null,null,null,"F","H","J","L"]
[null,null,null,null,null,null,null,null,null,null,null,null,null,null,null,null,null,null,null,null,null,null,"Biomass Briquetting Project Summary",null,"G","I","K","M"]
[null,null,null,null,null,null,null,null,null,null,null,null,null,null,null,null,null,null,null,null,null,null," Production cost",{"$f":"title96","v":"Unit"},"ts of  briquette production per year"]
[null,null,null,null,null,null,null,null,null,null,null,null,null,null,null,null,null,null,null,null,null,null,null,null,{"$f":"COST_RES1!$F$29","v":0},{"$f":"COST_RES1!$H$29","v":0},{"$f":"COST_RES1!$J$29","v":0},{"$f":"COST_RES1!$L$29","v":0}]
[null,null,null,null,null,null,null,null,null,null,null,null,null,null,null,null,null,null,null,null,null,null,"Biomass type",null,{"$f":"+$H$6","v":0},{"$f":"+$H$6","v":0},{"$f":"+$H$6","v":0},{"$f":"+$H$6","v":0}]
[null,null,null,null,null,null,null,null,null,null,null,null,null,null,null,null,null,null,null,null,null,null,{"$f":"title426","v":"Biomass required (t/year)"},{"$f":"title83","v":"t/year"},{"$f":"INDIRECT(\"COST_RES\"&$W$126&\"!F33\")","v":{"$error":"#DIV/0!"}},{"$f":"INDIRECT(\"COST_RES\"&$W$126&\"!h33\")","v":{"$error":"#DIV/0!"}},{"$f":"INDIRECT(\"COST_RES\"&$W$126&\"!j33\")","v":{"$error":"#DIV/0!"}},{"$f":"INDIRECT(\"COST_RES\"&$W$126&\"!l33\")","v":{"$error":"#DIV/0!"}}]
[null,null,null,null,null,null,null,null,null,null,null,null,null,null,null,null,null,null,null,null,null,null,{"$f":"title427","v":"Biomass available (t/year)"},{"$f":"title83","v":"t/year"},{"$f":"+INDIRECT(\"COST_RES\"&$W$126&\"!$D$9\")","v":0},{"$f":"+Y133","v":0},{"$f":"+Z133","v":0},{"$f":"+AA133","v":0}]
[null,null,null,null,null,null,null,null,null,null,null,null,null,null,null,null,null,null,null,null,null,null,null,null,{"$f":"+Y132/Y133","v":{"$error":"#DIV/0!"}},{"$f":"+Z132/Z133","v":{"$error":"#DIV/0!"}},{"$f":"+AA132/AA133","v":{"$error":"#DIV/0!"}},{"$f":"+AB132/AB133","v":{"$error":"#DIV/0!"}}]
[null,null,null,null,null,null,null,null,null,null,null,null,null,null,null,null,null,null,null,null,null,null,{"$f":"title429","v":"Plants potentially supported"},null,{"$f":"+Y133/Y132","v":{"$error":"#DIV/0!"}},{"$f":"+Z133/Z132","v":{"$error":"#DIV/0!"}},{"$f":"+AA133/AA132","v":{"$error":"#DIV/0!"}},{"$f":"+AB133/AB132","v":{"$error":"#DIV/0!"}}]
[null,null,null,null,null,null,null,null,null,null,null,null,null,null,null,null,null,null,null,null,null,null,{"$f":"title430","v":"Area required"},"ha",{"$f":"Y132/(INDIRECT(\"COST_RES\"&$W$126&\"!d10\")*$Z$126)","v":{"$error":"#DIV/0!"}},{"$f":"Z132/(INDIRECT(\"COST_RES\"&$W$126&\"!d10\")*$Z$126)","v":{"$error":"#DIV/0!"}},{"$f":"AA132/(INDIRECT(\"COST_RES\"&$W$126&\"!d10\")*$Z$126)","v":{"$error":"#DIV/0!"}},{"$f":"AB132/(INDIRECT(\"COST_RES\"&$W$126&\"!d10\")*$Z$126)","v":{"$error":"#DIV/0!"}}]
[]
[]
[null,null,null,null,null,null,null,null,null,null,null,null,null,null,null,null,null,null,null,null,null,null,{"$f":"title428","v":"Annual basis"}]
[null,null,null,null,null,null,null,null,null,null,null,null,null,null,null,null,null,null,null,null,null,null,"Production cost of briquette "]
[null,null,null,null,null,null,null,null,null,null,null,null,null,null,null,null,null,null,null,null,null,null,{"$f":"title431","v":"Raw materials"},{"$f":"title84","v":"USD/year"},{"$f":"INDIRECT(\"COST_RES\"&$W$126&\"!\"&Y$127&37)","v":{"$error":"#DIV/0!"}},{"$f":"INDIRECT(\"COST_RES\"&$W$126&\"!\"&Z$127&37)","v":{"$error":"#DIV/0!"}},{"$f":"INDIRECT(\"COST_RES\"&$W$126&\"!\"&AA$127&37)","v":{"$error":"#DIV/0!"}},{"$f":"INDIRECT(\"COST_RES\"&$W$126&\"!\"&AB$127&37)","v":{"$error":"#DIV/0!"}}]
[null,null,null,null,null,null,null,null,null,null,null,null,null,null,null,null,null,null,null,null,null,null,{"$f":"title359","v":"Labour and miscellaneous costs"},"USD/year",{"$f":"INDIRECT(\"COST_RES\"&$W$126&\"!\"&Y$127&44)","v":0},{"$f":"INDIRECT(\"COST_RES\"&$W$126&\"!\"&Z$127&44)","v":0},{"$f":"INDIRECT(\"COST_RES\"&$W$126&\"!\"&AA$127&44)","v":0},{"$f":"INDIRECT(\"COST_RES\"&$W$126&\"!\"&AB$127&44)","v":0}]
[null,null,null,null,null,null,null,null,null,null,null,null,null,null,null,null,null,null,null,null,null,null,{"$f":"title432","v":"Transport and storage"},"USD/year",{"$f":"INDIRECT(\"COST_RES\"&$W$126&\"!\"&Y$127&50)+INDIRECT(\"COST_RES\"&$W$126&\"!\"&Y$127&56)","v":{"$error":"#DIV/0!"}},{"$f":"INDIRECT(\"COST_RES\"&$W$126&\"!\"&Z$127&50)+INDIRECT(\"COST_RES\"&$W$126&\"!\"&Z$127&56)","v":{"$error":"#DIV/0!"}},{"$f":"INDIRECT(\"COST_RES\"&$W$126&\"!\"&AA$127&50)+INDIRECT(\"COST_RES\"&$W$126&\"!\"&AA$127&56)","v":{"$error":"#DIV/0!"}},{"$f":"INDIRECT(\"COST_RES\"&$W$126&\"!\"&AB$127&50)+INDIRECT(\"COST_RES\"&$W$126&\"!\"&AB$127&56)","v":{"$error":"#DIV/0!"}}]
[null,null,null,null,null,null,null,null,null,null,null,null,null,null,null,null,null,null,null,null,null,null,{"$f":"title272","v":"Depreciation"},"USD/year",{"$f":"INDIRECT(\"COST_RES\"&$W$126&\"!\"&Y$128&64)*(1+'Data entry needs'!$D$48)","v":0},{"$f":"INDIRECT(\"COST_RES\"&$W$126&\"!\"&Z$128&64)*(1+'Data entry needs'!$D$48)","v":0},{"$f":"INDIRECT(\"COST_RES\"&$W$126&\"!\"&AA$128&64)*(1+'Data entry needs'!$D$48)","v":0},{"$f":"INDIRECT(\"COST_RES\"&$W$126&\"!\"&AB$128&64)*(1+'Data entry needs'!$D$48)","v":0}]
[null,null,null,null,null,null,null,null,null,null,null,null,null,null,null,null,null,null,null,null,null,null,{"$f":"title159","v":"Other costs"},"USD/year",{"$f":"INDIRECT(\"COST_RES\"&$W$126&\"!\"&Y$127&73)","v":{"$error":"#DIV/0!"}},{"$f":"INDIRECT(\"COST_RES\"&$W$126&\"!\"&Z$127&73)","v":{"$error":"#DIV/0!"}},{"$f":"INDIRECT(\"COST_RES\"&$W$126&\"!\"&AA$127&73)","v":{"$error":"#DIV/0!"}},{"$f":"INDIRECT(\"COST_RES\"&$W$126&\"!\"&AB$127&73)","v":{"$error":"#DIV/0!"}}]
[null,null,null,null,null,null,null,null,null,null,null,null,null,null,null,null,null,null,null,null,null,null,{"$f":"title433","v":"Total annualized production cost"},"USD/year",{"$f":"SUM(Y141:Y145)","v":{"$error":"#DIV/0!"}},{"$f":"SUM(Z141:Z145)","v":{"$error":"#DIV/0!"}},{"$f":"SUM(AA141:AA145)","v":{"$error":"#DIV/0!"}},{"$f":"SUM(AB141:AB145)","v":{"$error":"#DIV/0!"}}]
[null,null,null,null,null,null,null,null,null,null,null,null,null,null,null,null,null,null,null,null,null,null,{"$f":"title434","v":"kg product basis"}]
[null,null,null,null,null,null,null,null,null,null,null,null,null,null,null,null,null,null,null,null,null,null,{"$f":"title435","v":"Total production cost-limsup"},{"$f":"title443","v":"USD/kg of briquettes"},{"$f":"+Y146*($O$1+1)/(Y$130*1000)","v":{"$error":"#DIV/0!"}},{"$f":"+Z146*($O$1+1)/(Z$130*1000)","v":{"$error":"#DIV/0!"}},{"$f":"+AA146*($O$1+1)/(AA$130*1000)","v":{"$error":"#DIV/0!"}},{"$f":"+AB146*($O$1+1)/(AB$130*1000)","v":{"$error":"#DIV/0!"}}]
[null,null,null,null,null,null,null,null,null,null,null,null,null,null,null,null,null,null,null,null,null,null,{"$f":"title436","v":"Total production cost-liminf"},{"$f":"title443","v":"USD/kg of briquettes"},{"$f":"+Y146*(1-$O$1)/(Y$130*1000)","v":{"$error":"#DIV/0!"}},{"$f":"+Z146*(1-$O$1)/(Z$130*1000)","v":{"$error":"#DIV/0!"}},{"$f":"+AA146*(1-$O$1)/(AA$130*1000)","v":{"$error":"#DIV/0!"}},{"$f":"+AB146*(1-$O$1)/(AB$130*1000)","v":{"$error":"#DIV/0!"}}]
[null,null,null,null,null,null,null,null,null,null,null,null,null,null,null,null,null,null,null,null,null,null,{"$f":"title272","v":"Depreciation"},{"$f":"title84","v":"USD/year"},{"$f":"INDIRECT(\"COST_RES\"&$W$126&\"!g64\")","v":0},{"$f":"INDIRECT(\"COST_RES\"&$W$126&\"!i64\")","v":0},{"$f":"INDIRECT(\"COST_RES\"&$W$126&\"!k64\")","v":0},{"$f":"INDIRECT(\"COST_RES\"&$W$126&\"!m64\")","v":0}]
[null,null,null,null,null,null,null,null,null,null,null,null,null,null,null,null,null,null,null,null,null,null,{"$f":"title437&20&title438","v":"Total investment - 20 years"},"USD",{"$f":"INDIRECT(\"COST_RES\"&$W$126&\"!F63\")","v":0},{"$f":"INDIRECT(\"COST_RES\"&$W$126&\"!H63\")","v":0},{"$f":"INDIRECT(\"COST_RES\"&$W$126&\"!J63\")","v":0},{"$f":"INDIRECT(\"COST_RES\"&$W$126&\"!L63\")","v":0}]
[]
[null,null,null,null,null,null,null,null,null,null,null,null,null,null,null,null,null,null,null,null,null,null,{"$f":"title439","v":"Potential briquette consumption per household"}]
[null,null,null,null,null,null,null,null,null,null,null,null,null,null,null,null,null,null,null,null,null,null,{"$f":"title77","v":"Rural Households"},{"$f":"title440","v":"t/year/houseshold"},{"$f":"+'Energy Demand'!$H$17","v":0}]
[null,null,null,null,null,null,null,null,null,null,null,null,null,null,null,null,null,null,null,null,null,null,{"$f":"title86","v":" Urban Households"},{"$f":"title440","v":"t/year/houseshold"},{"$f":"+'Energy Demand'!$M$17","v":0}]
[]
[null,null,null,null,null,null,null,null,null,null,null,null,null,null,null,null,null,null,null,null,null,null,{"$f":"title444","v":"Number of household that can be supplied"}]
[null,null,null,null,null,null,null,null,null,null,null,null,null,null,null,null,null,null,null,null,null,null,{"$f":"title77","v":"Rural Households"},{"$f":"title441","v":"Households"},{"$f":"+Y132/$Y$154","v":{"$error":"#DIV/0!"}},{"$f":"+Z132/$Y$154","v":{"$error":"#DIV/0!"}},{"$f":"+AA132/$Y$154","v":{"$error":"#DIV/0!"}},{"$f":"+AB132/$Y$154","v":{"$error":"#DIV/0!"}}]
[null,null,null,null,null,null,null,null,null,null,null,null,null,null,null,null,null,null,null,null,null,null,{"$f":"title86","v":" Urban Households"},{"$f":"title441","v":"Households"},{"$f":"+Y132/$Y$155","v":{"$error":"#DIV/0!"}},{"$f":"+Z132/$Y$155","v":{"$error":"#DIV/0!"}},{"$f":"+AA132/$Y$155","v":{"$error":"#DIV/0!"}},{"$f":"+AB132/$Y$155","v":{"$error":"#DIV/0!"}}]
[]
[null,null,null,null,null,null,null,null,null,null,null,null,null,null,null,null,null,null,null,null,null,null,{"$f":"title422","v":"Total job creation by this project"},{"$f":"title442","v":"No. of employees"},{"$f":"SUM(Y162:Y163)","v":{"$error":"#DIV/0!"}},{"$f":"SUM(Z162:Z163)","v":{"$error":"#DIV/0!"}},{"$f":"SUM(AA162:AA163)","v":{"$error":"#DIV/0!"}},{"$f":"SUM(AB162:AB163)","v":{"$error":"#DIV/0!"}}]
[null,null,null,null,null,null,null,null,null,null,null,null,null,null,null,null,null,null,null,null,null,null,{"$f":"title445","v":"Biomass collection"},{"$f":"title442","v":"No. of employees"},{"$f":"ROUNDUP(IF('Data entry needs'!$C$17,0,INDIRECT(\"PRICE_RES\"&$W$126&\"!D20\"))*Y136/('Data entry needs'!$D$32*INDIRECT(\"STORAGE_RES\"&$W$126&\"!D37\")),0)","v":{"$error":"#DIV/0!"}},{"$f":"ROUNDUP(IF('Data entry needs'!$C$17,0,INDIRECT(\"PRICE_RES\"&$W$126&\"!D20\"))*Z136/('Data entry needs'!$D$32*INDIRECT(\"STORAGE_RES\"&$W$126&\"!D37\")),0)","v":{"$error":"#DIV/0!"}},{"$f":"ROUNDUP(IF('Data entry needs'!$C$17,0,INDIRECT(\"PRICE_RES\"&$W$126&\"!D20\"))*AA136/('Data entry needs'!$D$32*INDIRECT(\"STORAGE_RES\"&$W$126&\"!D37\")),0)","v":{"$error":"#DIV/0!"}},{"$f":"ROUNDUP(IF('Data entry needs'!$C$17,0,INDIRECT(\"PRICE_RES\"&$W$126&\"!D20\"))*AB136/('Data entry needs'!$D$32*INDIRECT(\"STORAGE_RES\"&$W$126&\"!D37\")),0)","v":{"$error":"#DIV/0!"}}]
[null,null,null,null,null,null,null,null,null,null,null,null,null,null,null,null,null,null,null,null,null,null,"Briquetting processes",{"$f":"title442","v":"No. of employees"},{"$f":"INDIRECT(\"COST_RES\"&$W$126&\"!F41\")+INDIRECT(\"COST_RES\"&$W$126&\"!F42\")","v":1},{"$f":"INDIRECT(\"COST_RES\"&$W$126&\"!h41\")+INDIRECT(\"COST_RES\"&$W$126&\"!h42\")","v":0},{"$f":"INDIRECT(\"COST_RES\"&$W$126&\"!j41\")+INDIRECT(\"COST_RES\"&$W$126&\"!j42\")","v":0},{"$f":"INDIRECT(\"COST_RES\"&$W$126&\"!l41\")+INDIRECT(\"COST_RES\"&$W$126&\"!l42\")","v":0}]
[null,null,null,null,null,null,null,null,null,null,null,null,null,null,null,null,null,null,null,null,null,null,{"$f":"title447","v":"Market price rural (USD/kg)"},{"$f":"title443","v":"USD/kg of briquettes"},{"$f":"+'Energy Demand'!$E$20","v":0}]
[null,null,null,null,null,null,null,null,null,null,null,null,null,null,null,null,null,null,null,null,null,null,{"$f":"title448","v":"Market price urban (USD/kg)"},{"$f":"title443","v":"USD/kg of briquettes"},{"$f":"+'Energy Demand'!$G$20","v":0}]
[null,null,null,null,null,null,null,null,null,null,null,null,null,null,null,null,null,null,null,null,null,null,{"$f":"title449","v":"Briquette revenue market rural"},{"$f":"title84","v":"USD/year"},{"$f":"+'Energy Demand'!H33","v":0},{"$f":"+'Energy Demand'!J33","v":0},{"$f":"+'Energy Demand'!M33","v":0},{"$f":"+'Energy Demand'!O33","v":0}]
[null,null,null,null,null,null,null,null,null,null,null,null,null,null,null,null,null,null,null,null,null,null,{"$f":"title450","v":"Briquette revenue market urban"},{"$f":"title84","v":"USD/year"},{"$f":"+'Energy Demand'!H38","v":0},{"$f":"+'Energy Demand'!J38","v":0},{"$f":"+'Energy Demand'!M38","v":0},{"$f":"+'Energy Demand'!O38","v":0}]
[null,null,null,null,null,null,null,null,null,null,null,null,null,null,null,null,null,null,null,null,null,null,{"$f":"title451","v":"Total production cost"},{"$f":"title84","v":"USD/year"},{"$f":"+Y146","v":{"$error":"#DIV/0!"}},{"$f":"+Z146","v":{"$error":"#DIV/0!"}},{"$f":"+AA146","v":{"$error":"#DIV/0!"}},{"$f":"+AB146","v":{"$error":"#DIV/0!"}}]
[]
[]
[null,null,null,null,null,null,null,null,null,null,null,null,null,null,null,null,null,null,null,null,null,null,{"$f":"title452","v":"SIZE 1"},{"$f":"4&\" kg/h\"","v":"4 kg/h"}]
[null,null,null,null,null,null,null,null,null,null,null,null,null,null,null,null,null,null,null,null,null,null,{"$f":"title453","v":"SIZE 2"},{"$f":"40&\" kg/h\"","v":"40 kg/h"}]
[null,null,null,null,null,null,null,null,null,null,null,null,null,null,null,null,null,null,null,null,null,null,{"$f":"title454","v":"SIZE 3"},{"$f":"400&\" kg/h\"","v":"400 kg/h"}]
[null,null,null,null,null,null,null,null,null,null,null,null,null,null,null,null,null,null,null,null,null,null,{"$f":"title455","v":"SIZE 4"},{"$f":"3000&\" kg/h\"","v":"3000 kg/h"}]
[]
[]
[null,null,null,null,null,null,null,null,null,null,null,null,null,null,null,null,null,null,null,null,null,null,null,{"$f":"+$X$171","v":"4 kg/h"}]
[]
[null,null,null,null,null,null,null,null,null,null,null,null,null,null,null,null,null,null,null,null,null,"Chart 1",null,{"$f":"+$X$171","v":"4 kg/h"},{"$f":"+$X$172","v":"40 kg/h"},{"$f":"+$X$173","v":"400 kg/h"},{"$f":"+$X$174","v":"3000 kg/h"}]
[null,null,null,null,null,null,null,null,null,null,null,null,null,null,null,null,null,null,null,null,null,true,{"$f":"+IF($V180,W133,\"\")","v":"Biomass available (t/year)"},{"$f":"+IF($V180,Y133,\"\")","v":0},{"$f":"+IF($V180,Z133,\"\")","v":0},{"$f":"+IF($V180,AA133,\"\")","v":0},{"$f":"+IF($V180,AB133,\"\")","v":0}]
[null,null,null,null,null,null,null,null,null,null,null,null,null,null,null,null,null,null,null,null,null,true,{"$f":"+IF($V181,W132,\"\")","v":"Biomass required (t/year)"},{"$f":"+IF($V181,Y132,\"\")","v":{"$error":"#DIV/0!"}},{"$f":"+IF($V181,Z132,\"\")","v":{"$error":"#DIV/0!"}},{"$f":"+IF($V181,AA132,\"\")","v":{"$error":"#DIV/0!"}},{"$f":"+IF($V181,AB132,\"\")","v":{"$error":"#DIV/0!"}}]
[null,null,null,null,null,null,null,null,null,null,null,null,null,null,null,null,null,null,null,null,null,"Chart 2",null,{"$f":"+$X$171","v":"4 kg/h"},{"$f":"+$X$172","v":"40 kg/h"},{"$f":"+$X$173","v":"400 kg/h"},{"$f":"+$X$174","v":"3000 kg/h"}]
[null,null,null,null,null,null,null,null,null,null,null,null,null,null,null,null,null,null,null,null,null,true,{"$f":"+IF(V183,W136,\"\")","v":"Area required"},{"$f":"+IF($V183,Y136,\"\")","v":{"$error":"#DIV/0!"}},{"$f":"+IF($V183,Z136,\"\")","v":{"$error":"#DIV/0!"}},{"$f":"+IF($V183,AA136,\"\")","v":{"$error":"#DIV/0!"}},{"$f":"+IF($V183,AB136,\"\")","v":{"$error":"#DIV/0!"}}]
[null,null,null,null,null,null,null,null,null,null,null,null,null,null,null,null,null,null,null,null,null,true,{"$f":"+IF(V184,W135,\"\")","v":"Plants potentially supported"},{"$f":"X180/X181","v":{"$error":"#DIV/0!"}},{"$f":"Y180/Y181","v":{"$error":"#DIV/0!"}},{"$f":"Z180/Z181","v":{"$error":"#DIV/0!"}},{"$f":"AA180/AA181","v":{"$error":"#DIV/0!"}}]
[]
[null,null,null,null,null,null,null,null,null,null,null,null,null,null,null,null,null,null,null,null,null,"Chart 3",null,{"$f":"+$X$171","v":"4 kg/h"},{"$f":"+$X$172","v":"40 kg/h"},{"$f":"+$X$173","v":"400 kg/h"},{"$f":"+$X$174","v":"3000 kg/h"}]
[null,null,null,null,null,null,null,null,null,null,null,null,null,null,null,null,null,null,null,null,null,true,{"$f":"+IF($V187,$W141,\"\")","v":"Raw materials"},{"$f":"+IF($V187,Y$141,\"\")/Y$146","v":{"$error":"#DIV/0!"}},{"$f":"+IF($V187,Z$141,\"\")/Z$146","v":{"$error":"#DIV/0!"}},{"$f":"+IF($V187,AA$141,\"\")/AA$146","v":{"$error":"#DIV/0!"}},{"$f":"+IF($V187,AB$141,\"\")/AB$146","v":{"$error":"#DIV/0!"}}]
[null,null,null,null,null,null,null,null,null,null,null,null,null,null,null,null,null,null,null,null,null,true,{"$f":"+IF($V188,$W142,\"\")","v":"Labour and miscellaneous costs"},{"$f":"+IF($V188,Y$142,\"\")/Y$146","v":{"$error":"#DIV/0!"}},{"$f":"+IF($V188,Z$142,\"\")/Z$146","v":{"$error":"#DIV/0!"}},{"$f":"+IF($V188,AA$142,\"\")/AA$146","v":{"$error":"#DIV/0!"}},{"$f":"+IF($V188,AB$142,\"\")/AB$146","v":{"$error":"#DIV/0!"}}]
[null,null,null,null,null,null,null,null,null,null,null,null,null,null,null,null,null,null,null,null,null,true,{"$f":"+IF($V189,$W143,\"\")","v":"Transport and storage"},{"$f":"+IF($V189,Y$143,\"\")/Y$146","v":{"$error":"#DIV/0!"}},{"$f":"+IF($V189,Z$143,\"\")/Z$146","v":{"$error":"#DIV/0!"}},{"$f":"+IF($V189,AA$143,\"\")/AA$146","v":{"$error":"#DIV/0!"}},{"$f":"+IF($V189,AB$143,\"\")/AB$146","v":{"$error":"#DIV/0!"}}]
[null,null,null,null,null,null,null,null,null,null,null,null,null,null,null,null,null,null,null,null,null,true,{"$f":"+IF($V190,$W144&\" and \"&$W145,\"\")","v":"Depreciation and Other costs"},{"$f":"+IF($V190,Y$144+Y$145,\"\")/Y$146","v":{"$error":"#DIV/0!"}},{"$f":"+IF($V190,Z$144+Z$145,\"\")/Z$146","v":{"$error":"#DIV/0!"}},{"$f":"+IF($V190,AA$144+AA$145,\"\")/AA$146","v":{"$error":"#DIV/0!"}},{"$f":"+IF($V190,AB$144+AB$145,\"\")/AB$146","v":{"$error":"#DIV/0!"}}]
[]
[]
[]
[null,null,null,null,null,null,null,null,null,null,null,null,null,null,null,null,null,null,null,null,null,{"$f":"IF(V193=TRUE,FALSE,TRUE)","v":true},{"$f":"+IF($V194,W148,\"\")","v":"Total production cost-limsup"},{"$f":"+IF($V194,Y148,\"\")","v":{"$error":"#DIV/0!"}},{"$error":"#DIV/0!"},{"$error":"#DIV/0!"},{"$error":"#DIV/0!"}]
[null,null,null,null,null,null,null,null,null,null,null,null,null,null,null,null,null,null,null,null,null,{"$f":"+IF($O$1>0,TRUE,FALSE)","v":true},{"$f":"+IF($V195,W149,\"\")","v":"Total production cost-liminf"},{"$error":"#DIV/0!"},{"$error":"#DIV/0!"},{"$error":"#DIV/0!"},{"$error":"#DIV/0!"}]
[null,null,null,null,null,null,null,null,null,null,null,null,null,null,null,null,null,null,null,null,null,true,{"$f":"+IF($V196,W164,\"\")","v":"Market price rural (USD/kg)"},{"$f":"+IF($V196,$Y$164,\"\")","v":0},0,0,0,0,0]
[null,null,null,null,null,null,null,null,null,null,null,null,null,null,null,null,null,null,null,null,null,true,{"$f":"+IF($V197,W165,\"\")","v":"Market price urban (USD/kg)"},{"$f":"+IF($V197,$Y$165,\"\")","v":0},0,0,0,0,0]
[null,null,null,null,null,null,null,null,null,null,null,null,null,null,null,null,null,null,null,null,null,"Chart 4",null,{"$f":"+$X$171","v":"4 kg/h"},{"$f":"+$X$172","v":"40 kg/h"},{"$f":"+$X$173","v":"400 kg/h"},{"$f":"+$X$174","v":"3000 kg/h"}]
[null,null,null,null,null,null,null,null,null,null,null,null,null,null,null,null,null,null,null,null,null,true,{"$f":"+IF($V199,W150,\"\")&\"( \"&X150&\")\"","v":"Depreciation( USD/year)"},{"$f":"+IF($V199,Y150,\"\")","v":0},0,0,0]
[null,null,null,null,null,null,null,null,null,null,null,null,null,null,null,null,null,null,null,null,null,true,{"$f":"+IF($V200,W151,\"\")&\"(\"&X151&\")\"","v":"Total investment - 20 years(USD)"},0,0,0,0]
[]
[null,null,null,null,null,null,null,null,null,null,null,null,null,null,null,null,null,null,null,null,null,"Chart 5",null,{"$f":"+$X$171","v":"4 kg/h"},{"$f":"+$X$172","v":"40 kg/h"},{"$f":"+$X$173","v":"400 kg/h"},{"$f":"+$X$174","v":"3000 kg/h"}]
[null,null,null,null,null,null,null,null,null,null,null,null,null,null,null,null,null,null,null,null,null,true,{"$f":"title414","v":"Rural"},{"$f":"+IF($V203,Y158,\"\")","v":{"$error":"#DIV/0!"}},{"$error":"#DIV/0!"},{"$error":"#DIV/0!"},{"$error":"#DIV/0!"}]
[null,null,null,null,null,null,null,null,null,null,null,null,null,null,null,null,null,null,null,null,null,true,{"$f":"title415","v":"Urban"},{"$error":"#DIV/0!"},{"$error":"#DIV/0!"},{"$error":"#DIV/0!"},{"$error":"#DIV/0!"}]
[null,null,null,null,null,null,null,null,null,null,null,null,null,null,null,null,null,null,null,null,null,true,{"$f":"title411","v":"Potential Job Creation"},{"$f":"+IF($V205,Y161,\"\")","v":{"$error":"#DIV/0!"}},{"$f":"+IF($V205,Z161,\"\")","v":{"$error":"#DIV/0!"}},{"$f":"+IF($V205,AA161,\"\")","v":{"$error":"#DIV/0!"}},{"$f":"+IF($V205,AB161,\"\")","v":{"$error":"#DIV/0!"}}]
[]
[null,null,null,null,null,null,null,null,null,null,null,null,null,null,null,null,null,null,null,null,null,"Chart 6",null,{"$f":"+$X$171","v":"4 kg/h"},{"$f":"+$X$172","v":"40 kg/h"},{"$f":"+$X$173","v":"400 kg/h"},{"$f":"+$X$174","v":"3000 kg/h"}]
[null,null,null,null,null,null,null,null,null,null,null,null,null,null,null,null,null,null,null,null,null,true,{"$f":"title416","v":"Net Present Value (NPV) - rural"},{"$f":"INDIRECT(\"FA4_RURAL_RES\"&$W$126&\"!C125\")","v":{"$error":"#DIV/0!"}},{"$f":"INDIRECT(\"FA40_RURAL_RES\"&$W$126&\"!C125\")","v":{"$error":"#DIV/0!"}},{"$f":"INDIRECT(\"FA400_RURAL_RES\"&$W$126&\"!C126\")","v":{"$error":"#DIV/0!"}},{"$f":"INDIRECT(\"FA3000_RURAL_RES\"&$W$126&\"!C126\")","v":{"$error":"#REF!"}}]
[null,null,null,null,null,null,null,null,null,null,null,null,null,null,null,null,null,null,null,null,null,false,{"$f":"title417","v":"Net Present Value (NPV) - urban"},{"$f":"INDIRECT(\"FA4_URBAN_RES\"&$W$126&\"!C125\")","v":{"$error":"#DIV/0!"}},{"$f":"INDIRECT(\"FA40_URBAN_RES\"&$W$126&\"!C125\")","v":{"$error":"#DIV/0!"}},{"$f":"INDIRECT(\"FA400_URBAN_RES\"&$W$126&\"!C126\")","v":{"$error":"#DIV/0!"}},{"$f":"INDIRECT(\"FA3000_URBAN_RES\"&$W$126&\"!C126\")","v":{"$error":"#REF!"}}]
[null,null,null,null,null,null,null,null,null,null,null,null,null,null,null,null,null,null,null,null,null,true,{"$f":"title418","v":"Internal Rate of Return (IRR) - rural"},{"$f":"INDIRECT(\"FA4_RURAL_RES\"&$W$126&\"!C126\")","v":{"$error":"#DIV/0!"}},{"$f":"INDIRECT(\"FA40_RURAL_RES\"&$W$126&\"!C126\")","v":{"$error":"#DIV/0!"}},{"$f":"INDIRECT(\"FA400_RURAL_RES\"&$W$126&\"!C127\")","v":{"$error":"#DIV/0!"}},{"$f":"INDIRECT(\"FA3000_RURAL_RES\"&$W$126&\"!C127\")","v":{"$error":"#REF!"}}]
[null,null,null,null,null,null,null,null,null,null,null,null,null,null,null,null,null,null,null,null,null,false,{"$f":"title419","v":"Internal Rate of Return (IRR) - urban"},{"$f":"INDIRECT(\"FA4_URBAN_RES\"&$W$126&\"!C126\")","v":{"$error":"#DIV/0!"}},{"$f":"INDIRECT(\"FA40_URBAN_RES\"&$W$126&\"!C126\")","v":{"$error":"#DIV/0!"}},{"$f":"INDIRECT(\"FA400_URBAN_RES\"&$W$126&\"!C127\")","v":{"$error":"#DIV/0!"}},{"$f":"INDIRECT(\"FA3000_URBAN_RES\"&$W$126&\"!C127\")","v":{"$error":"#REF!"}}]
[]
[null,null,null,null,null,null,null,null,null,null,null,null,null,null,null,null,null,null,null,null,null,"Chart 7"]
[null,null,null,null,null,null,null,null,null,null,null,null,null,null,null,null,null,null,null,null,null,null,null,{"$f":"+$X$171","v":"4 kg/h"},{"$f":"+$X$172","v":"40 kg/h"},{"$f":"+$X$173","v":"400 kg/h"},{"$f":"+$X$174","v":"3000 kg/h"}]
[null,null,null,null,null,null,null,null,null,null,null,null,null,null,null,null,null,null,null,null,null,null,{"$f":"title420","v":"Collection"},{"$f":"+Y162","v":{"$error":"#DIV/0!"}},{"$error":"#DIV/0!"},{"$error":"#DIV/0!"},{"$error":"#DIV/0!"}]
[null,null,null,null,null,null,null,null,null,null,null,null,null,null,null,null,null,null,null,null,null,null,{"$f":"title421","v":"Processing"},1,0,0,0]
[null,null,null,null,null,null,null,null,null,null,null,null,null,null,null,null,null,null,null,null,null,null,{"$f":"title422","v":"Total job creation by this project"},{"$f":"SUM(X215:X216)","v":{"$error":"#DIV/0!"}},{"$f":"SUM(Y215:Y216)","v":{"$error":"#DIV/0!"}},{"$f":"SUM(Z215:Z216)","v":{"$error":"#DIV/0!"}},{"$f":"SUM(AA215:AA216)","v":{"$error":"#DIV/0!"}}]
[]
[]
[]
[]
[null,null,null,null,null,null,null,null,null,null,null,null,null,null,null,null,null,null,null,null,null,"Chart 7"]
[null,null,null,null,null,null,null,null,null,null,null,null,null,null,null,null,null,null,null,null,null,"Ratio (kg briquette/kg fuel)","rural (kg fuel/day/hh)","urban (kg fuel/day/hh)"]
[null,null,null,null,null,null,null,null,null,null,null,null,null,null,null,null,null,null,null,null,null,{"$f":"1/'Energy Demand'!W51","v":1.2857142857142858},{"$f":"+'Energy Demand'!E10","v":0},{"$f":"+'Energy Demand'!J12","v":0}]
[null,null,null,null,null,null,null,null,null,null,null,null,null,null,null,null,null,null,null,null,null,{"$f":"1/'Energy Demand'!W52","v":1.8367346938775513},{"$f":"+'Energy Demand'!E12","v":0},{"$f":"+'Energy Demand'!J13","v":0}]
[null,null,null,null,null,null,null,null,null,null,null,null,null,null,null,null,null,null,null,null,null,{"$f":"1/'Energy Demand'!W53","v":0.26901669758812624},{"$f":"+'Energy Demand'!E13","v":0},{"$f":"+'Energy Demand'!J15","v":0}]
[null,null,null,null,null,null,null,null,null,null,null,null,null,null,null,null,null,null,null,null,null,{"$f":"1/'Energy Demand'!W54","v":1.7857142857142858},{"$f":"+'Energy Demand'!E15","v":0},{"$f":"+'Energy Demand'!J16","v":0}]
[null,null,null,null,null,null,null,null,null,null,null,null,null,null,null,null,null,null,null,null,null,null,null,{"$f":"+$X$171","v":"4 kg/h"},{"$f":"+$X$172","v":"40 kg/h"},{"$f":"+$X$173","v":"400 kg/h"},{"$f":"+$X$174","v":"3000 kg/h"}]
[null,null,null,null,null,null,null,null,null,null,null,null,null,null,null,null,null,null,null,null,null,null,"Briquette equivalent demand-rural",{"$f":"+SUMPRODUCT(($V$224:$V$227*$W$224:$W$227))*365/1000","v":0},{"$f":"+SUMPRODUCT(($V$224:$V$227*$W$224:$W$227))*365/1000","v":0},{"$f":"+SUMPRODUCT(($V$224:$V$227*$W$224:$W$227))*365/1000","v":0},{"$f":"+SUMPRODUCT(($V$224:$V$227*$W$224:$W$227))*365/1000","v":0}]
[null,null,null,null,null,null,null,null,null,null,null,null,null,null,null,null,null,null,null,null,null,null,"Briquette equivalent demand-Urban",{"$f":"+SUMPRODUCT(($V$224:$V$227*$X$224:$X$227))*365/1000","v":0},{"$f":"+SUMPRODUCT(($V$224:$V$227*$X$224:$X$227))*365/1000","v":0},{"$f":"+SUMPRODUCT(($V$224:$V$227*$X$224:$X$227))*365/1000","v":0},{"$f":"+SUMPRODUCT(($V$224:$V$227*$X$224:$X$227))*365/1000","v":0}]
[null,null,null,null,null,null,null,null,null,null,null,null,null,null,null,null,null,null,null,null,null,null,"Briquette annual Production",{"$f":"+Y130","v":0},{"$f":"+Z130","v":0},{"$f":"+AA130","v":0},{"$f":"+AB130","v":0}]
[]
[]
[null,null,null,null,null,null,null,null,null,null,null,null,null,null,null,null,null,null,null,null,null,{"$f":"title415","v":"Urban"}]

{"sheet":"Summary of results-fs4 print","index":58,"n_rows":234,"n_cols":29,"rows_kept":234,"cut":false,"hidden":true,"merged":[[2,3,2,18],[9,2,9,7],[34,2,34,3],[34,6,34,11],[34,15,34,17],[128,24,128,27],[35,6,35,13],[36,6,36,13],[37,6,37,13],[38,6,38,13],[58,15,59,18],[63,2,63,6]]}
[null,null,null,null,null,null,null,null,null,null,null,null,null,null,0.1]
[]
[null,null,null,{"$f":"UPPER(title392&$V$126)","v":"SUMMARY OF RESULTS FOR BRIQUETTE PRODUCTION FROM PLEASE SELECT PLEASE SELECT"}]
[]
[]
[]
[]
[null,null,null,{"$f":"title394","v":"Production Cost and Investment Results"}]
[]
[null,null,{"$f":"title460","v":"Total Production Cost of Briquettes + Transport (USD/kg of briquettes)"},null,null,null,null,null,null,null,null,{"$f":"title396","v":"Share of Production Cost (%)"},null,null,null,{"$f":"title364&\" (USD)\"","v":"Total investment (USD)"}]
[]
[null,null,null,{"$f":"title397","v":"     Compare to market price rural"},{"$f":"+IF($V196,Y164,\"\")","v":0},null,{"$f":"title398","v":"     Compare to market price urban"},null,{"$f":"+IF($V197,Y165,\"\")","v":0}]
[]
[]
[]
[]
[]
[]
[]
[]
[]
[]
[]
[]
[]
[]
[]
[]
[]
[]
[]
[]
[null,null,null,{"$f":"title399","v":"Operating Results"}]
[]
[null,null,{"$f":"title400","v":"Feedstock Consumption"},null,null,null,{"$f":"title401","v":"Number of Potential Plants and Area Required"},null,null,null,null,null,null,null,null,{"$f":"title402","v":"Households Potentially Supplied per plant"}]
[null,null,null,null,null,null,{"$f":"+(IF($Y$135<1,title403,title404&ROUND($Y$135,0)))","v":{"$error":"#DIV/0!"}}]
[null,null,null,null,null,null,{"$f":"+(IF($Z$135<1,title405,title406&ROUND($Z$135,0)))","v":{"$error":"#DIV/0!"}}]
[null,null,null,null,null,null,{"$f":"+(IF($AA$135<1,title407,title408&ROUND($AA$135,0)))","v":{"$error":"#DIV/0!"}}]
[null,null,null,null,null,null,{"$f":"+(IF($AB$135<1,title409,title410&ROUND($AB$135,0)))","v":{"$error":"#DIV/0!"}}]
[]
[]
[]
[]
[]
[]
[]
[]
[null,null,null,null,null,null,null,null,null,null,null,null,null,null,null,{"$f":"title411","v":"Potential Job Creation"}]
[]
[]
[]
[]
[]
[]
[]
[]
[]
[]
[null,null,null,null,null,null,null,null,null,null,null,null,null,null,null,{"$f":"+IF(X215=0,title456,IF(X215>0,title457))","v":{"$error":"#DIV/0!"}}]
[]
[]
[null,null,null,{"$f":"title291","v":"Financial analysis results"}]
[]
[null,null,{"$f":"title412","v":"Net Present Value (rural and urban market prices) USD (1000)"},null,null,null,null,null,null,null,null,{"$f":"title413","v":"Internal Rate of Return (%)"}]
[]
[]
[]
[]
[]
[]
[]
[]
[]
[]
[]
[]
[]
[]
[]
[]
[]
[]
[]
[]
[]
[]
[]
[]
[]
[]
[]
[]
[]
[]
[]
[]
[]
[]
[]
[]
[]
[]
[]
[]
[]
[]
[]
[]
[]
[]
[]
[]
[]
[]
[]
[]
[]
[]
[null,null,null,null,null,null,null,null,null,null,null,null,null,null,null,null,null,null,null,null,null,"Residue","Pos."]
[null,null,null,null,null,null,null,null,null,null,null,null,null,null,null,null,null,null,null,null,null,{"$f":"+'Data entry needs'!$D$10&\" \"&'Data entry needs'!$D$11","v":"Please Select Please Select"},1,{"$f":"+'Data entry needs'!$D$10&'Data entry needs'!$D$11","v":"Please SelectPlease Select"},{"$f":"+'Data entry needs'!$D$10&\" \"&'Data entry needs'!$D$11","v":"Please Select Please Select"}]
[null,null,null,null,null,null,null,null,null,null,null,null,null,null,null,null,null,null,null,null,null,{"$f":"+'Data entry needs'!$E$10&\" \"&'Data entry needs'!$E$11","v":"Please Select Please Select"},2,{"$f":"+'Data entry needs'!$E$10&'Data entry needs'!$E$11","v":"Please SelectPlease Select"},{"$f":"+'Data entry needs'!$E$10&\" \"&'Data entry needs'!$E$11","v":"Please Select Please Select"}]
[null,null,null,null,null,null,null,null,null,null,null,null,null,null,null,null,null,null,null,null,null,{"$f":"+'Data entry needs'!$F$10&\" \"&'Data entry needs'!$F$11","v":"Please Select Please Select"},3,{"$f":"+'Data entry needs'!$F$10&'Data entry needs'!$F$11","v":"Please SelectPlease Select"},{"$f":"+'Data entry needs'!$F$10&\" \"&'Data entry needs'!$F$11","v":"Please Select Please Select"}]
[null,null,null,null,null,null,null,null,null,null,null,null,null,null,null,null,null,null,null,null,null,{"$f":"+'Data entry needs'!$G$10&\" \"&'Data entry needs'!$G$11","v":"Please Select Please Select"},4,{"$f":"+'Data entry needs'!$G$10&'Data entry needs'!$G$11","v":"Please SelectPlease Select"},{"$f":"+'Data entry needs'!$G$10&\" \"&'Data entry needs'!$G$11","v":"Please Select Please Select"}]
[]
[null,null,null,null,null,null,null,null,null,null,null,null,null,null,null,null,null,null,null,null,null,"Selection","No."]
[null,null,null,null,null,null,null,null,null,null,null,null,null,null,null,null,null,null,null,null,null,{"$f":"+VLOOKUP($W$126,$W$120:$Y$123,3,FALSE)","v":"Please Select Please Select"},4,{"$f":"VLOOKUP($V$126,$V$120:$X$123,3,FALSE)","v":"Please SelectPlease Select"},"Biomass residueratio",{"$f":"+VLOOKUP(X126,dummy_database!$N$4:$R$30,5,FALSE)","v":{"$error":"#N/A"}}]
[null,null,null,null,null,null,null,null,null,null,null,null,null,null,null,null,null,null,null,null,null,null,null,null,"F","H","J","L"]
[null,null,null,null,null,null,null,null,null,null,null,null,null,null,null,null,null,null,null,null,null,null,"Biomass Briquetting Project Summary",null,"G","I","K","M"]
[null,null,null,null,null,null,null,null,null,null,null,null,null,null,null,null,null,null,null,null,null,null," Production cost",{"$f":"title96","v":"Unit"},"ts of  briquette production per year"]
[null,null,null,null,null,null,null,null,null,null,null,null,null,null,null,null,null,null,null,null,null,null,null,null,{"$f":"COST_RES1!$F$29","v":0},{"$f":"COST_RES1!$H$29","v":0},{"$f":"COST_RES1!$J$29","v":0},{"$f":"COST_RES1!$L$29","v":0}]
[null,null,null,null,null,null,null,null,null,null,null,null,null,null,null,null,null,null,null,null,null,null,"Biomass type",null,{"$f":"+$H$6","v":0},{"$f":"+$H$6","v":0},{"$f":"+$H$6","v":0},{"$f":"+$H$6","v":0}]
[null,null,null,null,null,null,null,null,null,null,null,null,null,null,null,null,null,null,null,null,null,null,{"$f":"title426","v":"Biomass required (t/year)"},{"$f":"title83","v":"t/year"},{"$f":"INDIRECT(\"COST_RES\"&$W$126&\"!F33\")","v":{"$error":"#DIV/0!"}},{"$f":"INDIRECT(\"COST_RES\"&$W$126&\"!h33\")","v":{"$error":"#DIV/0!"}},{"$f":"INDIRECT(\"COST_RES\"&$W$126&\"!j33\")","v":{"$error":"#DIV/0!"}},{"$f":"INDIRECT(\"COST_RES\"&$W$126&\"!l33\")","v":{"$error":"#DIV/0!"}}]
[null,null,null,null,null,null,null,null,null,null,null,null,null,null,null,null,null,null,null,null,null,null,{"$f":"title427","v":"Biomass available (t/year)"},{"$f":"title83","v":"t/year"},{"$f":"+INDIRECT(\"COST_RES\"&$W$126&\"!$D$9\")","v":0},{"$f":"+Y133","v":0},{"$f":"+Z133","v":0},{"$f":"+AA133","v":0}]
[null,null,null,null,null,null,null,null,null,null,null,null,null,null,null,null,null,null,null,null,null,null,null,null,{"$f":"+Y132/Y133","v":{"$error":"#DIV/0!"}},{"$f":"+Z132/Z133","v":{"$error":"#DIV/0!"}},{"$f":"+AA132/AA133","v":{"$error":"#DIV/0!"}},{"$f":"+AB132/AB133","v":{"$error":"#DIV/0!"}}]
[null,null,null,null,null,null,null,null,null,null,null,null,null,null,null,null,null,null,null,null,null,null,{"$f":"title429","v":"Plants potentially supported"},null,{"$f":"+Y133/Y132","v":{"$error":"#DIV/0!"}},{"$f":"+Z133/Z132","v":{"$error":"#DIV/0!"}},{"$f":"+AA133/AA132","v":{"$error":"#DIV/0!"}},{"$f":"+AB133/AB132","v":{"$error":"#DIV/0!"}}]
[null,null,null,null,null,null,null,null,null,null,null,null,null,null,null,null,null,null,null,null,null,null,{"$f":"title430","v":"Area required"},"ha",{"$f":"Y132/(INDIRECT(\"COST_RES\"&$W$126&\"!d10\")*$Z$126)","v":{"$error":"#DIV/0!"}},{"$f":"Z132/(INDIRECT(\"COST_RES\"&$W$126&\"!d10\")*$Z$126)","v":{"$error":"#DIV/0!"}},{"$f":"AA132/(INDIRECT(\"COST_RES\"&$W$126&\"!d10\")*$Z$126)","v":{"$error":"#DIV/0!"}},{"$f":"AB132/(INDIRECT(\"COST_RES\"&$W$126&\"!d10\")*$Z$126)","v":{"$error":"#DIV/0!"}}]
[]
[]
[null,null,null,null,null,null,null,null,null,null,null,null,null,null,null,null,null,null,null,null,null,null,{"$f":"title428","v":"Annual basis"}]
[null,null,null,null,null,null,null,null,null,null,null,null,null,null,null,null,null,null,null,null,null,null,"Production cost of briquette "]
[null,null,null,null,null,null,null,null,null,null,null,null,null,null,null,null,null,null,null,null,null,null,{"$f":"title431","v":"Raw materials"},{"$f":"title84","v":"USD/year"},{"$f":"INDIRECT(\"COST_RES\"&$W$126&\"!\"&Y$127&37)","v":{"$error":"#DIV/0!"}},{"$f":"INDIRECT(\"COST_RES\"&$W$126&\"!\"&Z$127&37)","v":{"$error":"#DIV/0!"}},{"$f":"INDIRECT(\"COST_RES\"&$W$126&\"!\"&AA$127&37)","v":{"$error":"#DIV/0!"}},{"$f":"INDIRECT(\"COST_RES\"&$W$126&\"!\"&AB$127&37)","v":{"$error":"#DIV/0!"}}]
[null,null,null,null,null,null,null,null,null,null,null,null,null,null,null,null,null,null,null,null,null,null,{"$f":"title359","v":"Labour and miscellaneous costs"},"USD/year",{"$f":"INDIRECT(\"COST_RES\"&$W$126&\"!\"&Y$127&44)","v":0},{"$f":"INDIRECT(\"COST_RES\"&$W$126&\"!\"&Z$127&44)","v":0},{"$f":"INDIRECT(\"COST_RES\"&$W$126&\"!\"&AA$127&44)","v":0},{"$f":"INDIRECT(\"COST_RES\"&$W$126&\"!\"&AB$127&44)","v":0}]
[null,null,null,null,null,null,null,null,null,null,null,null,null,null,null,null,null,null,null,null,null,null,{"$f":"title432","v":"Transport and storage"},"USD/year",{"$f":"INDIRECT(\"COST_RES\"&$W$126&\"!\"&Y$127&50)+INDIRECT(\"COST_RES\"&$W$126&\"!\"&Y$127&56)","v":{"$error":"#DIV/0!"}},{"$f":"INDIRECT(\"COST_RES\"&$W$126&\"!\"&Z$127&50)+INDIRECT(\"COST_RES\"&$W$126&\"!\"&Z$127&56)","v":{"$error":"#DIV/0!"}},{"$f":"INDIRECT(\"COST_RES\"&$W$126&\"!\"&AA$127&50)+INDIRECT(\"COST_RES\"&$W$126&\"!\"&AA$127&56)","v":{"$error":"#DIV/0!"}},{"$f":"INDIRECT(\"COST_RES\"&$W$126&\"!\"&AB$127&50)+INDIRECT(\"COST_RES\"&$W$126&\"!\"&AB$127&56)","v":{"$error":"#DIV/0!"}}]
[null,null,null,null,null,null,null,null,null,null,null,null,null,null,null,null,null,null,null,null,null,null,{"$f":"title272","v":"Depreciation"},"USD/year",{"$f":"INDIRECT(\"COST_RES\"&$W$126&\"!\"&Y$128&64)*(1+'Data entry needs'!$D$48)","v":0},{"$f":"INDIRECT(\"COST_RES\"&$W$126&\"!\"&Z$128&64)*(1+'Data entry needs'!$D$48)","v":0},{"$f":"INDIRECT(\"COST_RES\"&$W$126&\"!\"&AA$128&64)*(1+'Data entry needs'!$D$48)","v":0},{"$f":"INDIRECT(\"COST_RES\"&$W$126&\"!\"&AB$128&64)*(1+'Data entry needs'!$D$48)","v":0}]
[null,null,null,null,null,null,null,null,null,null,null,null,null,null,null,null,null,null,null,null,null,null,{"$f":"title159","v":"Other costs"},"USD/year",{"$f":"INDIRECT(\"COST_RES\"&$W$126&\"!\"&Y$127&73)","v":{"$error":"#DIV/0!"}},{"$f":"INDIRECT(\"COST_RES\"&$W$126&\"!\"&Z$127&73)","v":{"$error":"#DIV/0!"}},{"$f":"INDIRECT(\"COST_RES\"&$W$126&\"!\"&AA$127&73)","v":{"$error":"#DIV/0!"}},{"$f":"INDIRECT(\"COST_RES\"&$W$126&\"!\"&AB$127&73)","v":{"$error":"#DIV/0!"}}]
[null,null,null,null,null,null,null,null,null,null,null,null,null,null,null,null,null,null,null,null,null,null,{"$f":"title433","v":"Total annualized production cost"},"USD/year",{"$f":"SUM(Y141:Y145)","v":{"$error":"#DIV/0!"}},{"$f":"SUM(Z141:Z145)","v":{"$error":"#DIV/0!"}},{"$f":"SUM(AA141:AA145)","v":{"$error":"#DIV/0!"}},{"$f":"SUM(AB141:AB145)","v":{"$error":"#DIV/0!"}}]
[null,null,null,null,null,null,null,null,null,null,null,null,null,null,null,null,null,null,null,null,null,null,{"$f":"title434","v":"kg product basis"}]
[null,null,null,null,null,null,null,null,null,null,null,null,null,null,null,null,null,null,null,null,null,null,{"$f":"title435","v":"Total production cost-limsup"},{"$f":"title443","v":"USD/kg of briquettes"},{"$f":"+Y146*($O$1+1)/(Y$130*1000)","v":{"$error":"#DIV/0!"}},{"$f":"+Z146*($O$1+1)/(Z$130*1000)","v":{"$error":"#DIV/0!"}},{"$f":"+AA146*($O$1+1)/(AA$130*1000)","v":{"$error":"#DIV/0!"}},{"$f":"+AB146*($O$1+1)/(AB$130*1000)","v":{"$error":"#DIV/0!"}}]
[null,null,null,null,null,null,null,null,null,null,null,null,null,null,null,null,null,null,null,null,null,null,{"$f":"title436","v":"Total production cost-liminf"},{"$f":"title443","v":"USD/kg of briquettes"},{"$f":"+Y146*(1-$O$1)/(Y$130*1000)","v":{"$error":"#DIV/0!"}},{"$f":"+Z146*(1-$O$1)/(Z$130*1000)","v":{"$error":"#DIV/0!"}},{"$f":"+AA146*(1-$O$1)/(AA$130*1000)","v":{"$error":"#DIV/0!"}},{"$f":"+AB146*(1-$O$1)/(AB$130*1000)","v":{"$error":"#DIV/0!"}}]
[null,null,null,null,null,null,null,null,null,null,null,null,null,null,null,null,null,null,null,null,null,null,{"$f":"title272","v":"Depreciation"},{"$f":"title84","v":"USD/year"},{"$f":"INDIRECT(\"COST_RES\"&$W$126&\"!g64\")","v":0},{"$f":"INDIRECT(\"COST_RES\"&$W$126&\"!i64\")","v":0},{"$f":"INDIRECT(\"COST_RES\"&$W$126&\"!k64\")","v":0},{"$f":"INDIRECT(\"COST_RES\"&$W$126&\"!m64\")","v":0}]
[null,null,null,null,null,null,null,null,null,null,null,null,null,null,null,null,null,null,null,null,null,null,{"$f":"title437&20&title438","v":"Total investment - 20 years"},"USD",{"$f":"INDIRECT(\"COST_RES\"&$W$126&\"!F63\")","v":0},{"$f":"INDIRECT(\"COST_RES\"&$W$126&\"!H63\")","v":0},{"$f":"INDIRECT(\"COST_RES\"&$W$126&\"!J63\")","v":0},{"$f":"INDIRECT(\"COST_RES\"&$W$126&\"!L63\")","v":0}]
[]
[null,null,null,null,null,null,null,null,null,null,null,null,null,null,null,null,null,null,null,null,null,null,{"$f":"title439","v":"Potential briquette consumption per household"}]
[null,null,null,null,null,null,null,null,null,null,null,null,null,null,null,null,null,null,null,null,null,null,{"$f":"title77","v":"Rural Households"},{"$f":"title440","v":"t/year/houseshold"},{"$f":"+'Energy Demand'!$H$17","v":0}]
[null,null,null,null,null,null,null,null,null,null,null,null,null,null,null,null,null,null,null,null,null,null,{"$f":"title86","v":" Urban Households"},{"$f":"title440","v":"t/year/houseshold"},{"$f":"+'Energy Demand'!$M$17","v":0}]
[]
[null,null,null,null,null,null,null,null,null,null,null,null,null,null,null,null,null,null,null,null,null,null,{"$f":"title444","v":"Number of household that can be supplied"}]
[null,null,null,null,null,null,null,null,null,null,null,null,null,null,null,null,null,null,null,null,null,null,{"$f":"title77","v":"Rural Households"},{"$f":"title441","v":"Households"},{"$f":"+Y132/$Y$154","v":{"$error":"#DIV/0!"}},{"$f":"+Z132/$Y$154","v":{"$error":"#DIV/0!"}},{"$f":"+AA132/$Y$154","v":{"$error":"#DIV/0!"}},{"$f":"+AB132/$Y$154","v":{"$error":"#DIV/0!"}}]
[null,null,null,null,null,null,null,null,null,null,null,null,null,null,null,null,null,null,null,null,null,null,{"$f":"title86","v":" Urban Households"},{"$f":"title441","v":"Households"},{"$f":"+Y132/$Y$155","v":{"$error":"#DIV/0!"}},{"$f":"+Z132/$Y$155","v":{"$error":"#DIV/0!"}},{"$f":"+AA132/$Y$155","v":{"$error":"#DIV/0!"}},{"$f":"+AB132/$Y$155","v":{"$error":"#DIV/0!"}}]
[]
[null,null,null,null,null,null,null,null,null,null,null,null,null,null,null,null,null,null,null,null,null,null,{"$f":"title422","v":"Total job creation by this project"},{"$f":"title442","v":"No. of employees"},{"$f":"SUM(Y162:Y163)","v":{"$error":"#DIV/0!"}},{"$f":"SUM(Z162:Z163)","v":{"$error":"#DIV/0!"}},{"$f":"SUM(AA162:AA163)","v":{"$error":"#DIV/0!"}},{"$f":"SUM(AB162:AB163)","v":{"$error":"#DIV/0!"}}]
[null,null,null,null,null,null,null,null,null,null,null,null,null,null,null,null,null,null,null,null,null,null,{"$f":"title445","v":"Biomass collection"},{"$f":"title442","v":"No. of employees"},{"$f":"ROUNDUP(IF('Data entry needs'!$C$17,0,INDIRECT(\"PRICE_RES\"&$W$126&\"!D20\"))*Y136/('Data entry needs'!$D$32*INDIRECT(\"STORAGE_RES\"&$W$126&\"!D37\")),0)","v":{"$error":"#DIV/0!"}},{"$f":"ROUNDUP(IF('Data entry needs'!$C$17,0,INDIRECT(\"PRICE_RES\"&$W$126&\"!D20\"))*Z136/('Data entry needs'!$D$32*INDIRECT(\"STORAGE_RES\"&$W$126&\"!D37\")),0)","v":{"$error":"#DIV/0!"}},{"$f":"ROUNDUP(IF('Data entry needs'!$C$17,0,INDIRECT(\"PRICE_RES\"&$W$126&\"!D20\"))*AA136/('Data entry needs'!$D$32*INDIRECT(\"STORAGE_RES\"&$W$126&\"!D37\")),0)","v":{"$error":"#DIV/0!"}},{"$f":"ROUNDUP(IF('Data entry needs'!$C$17,0,INDIRECT(\"PRICE_RES\"&$W$126&\"!D20\"))*AB136/('Data entry needs'!$D$32*INDIRECT(\"STORAGE_RES\"&$W$126&\"!D37\")),0)","v":{"$error":"#DIV/0!"}}]
[null,null,null,null,null,null,null,null,null,null,null,null,null,null,null,null,null,null,null,null,null,null,"Briquetting processes",{"$f":"title442","v":"No. of employees"},{"$f":"INDIRECT(\"COST_RES\"&$W$126&\"!F41\")+INDIRECT(\"COST_RES\"&$W$126&\"!F42\")","v":1},{"$f":"INDIRECT(\"COST_RES\"&$W$126&\"!h41\")+INDIRECT(\"COST_RES\"&$W$126&\"!h42\")","v":0},{"$f":"INDIRECT(\"COST_RES\"&$W$126&\"!j41\")+INDIRECT(\"COST_RES\"&$W$126&\"!j42\")","v":0},{"$f":"INDIRECT(\"COST_RES\"&$W$126&\"!l41\")+INDIRECT(\"COST_RES\"&$W$126&\"!l42\")","v":0}]
[null,null,null,null,null,null,null,null,null,null,null,null,null,null,null,null,null,null,null,null,null,null,{"$f":"title447","v":"Market price rural (USD/kg)"},{"$f":"title443","v":"USD/kg of briquettes"},{"$f":"+'Energy Demand'!$E$20","v":0}]
[null,null,null,null,null,null,null,null,null,null,null,null,null,null,null,null,null,null,null,null,null,null,{"$f":"title448","v":"Market price urban (USD/kg)"},{"$f":"title443","v":"USD/kg of briquettes"},{"$f":"+'Energy Demand'!$G$20","v":0}]
[null,null,null,null,null,null,null,null,null,null,null,null,null,null,null,null,null,null,null,null,null,null,{"$f":"title449","v":"Briquette revenue market rural"},{"$f":"title84","v":"USD/year"},{"$f":"+'Energy Demand'!H33","v":0},{"$f":"+'Energy Demand'!J33","v":0},{"$f":"+'Energy Demand'!M33","v":0},{"$f":"+'Energy Demand'!O33","v":0}]
[null,null,null,null,null,null,null,null,null,null,null,null,null,null,null,null,null,null,null,null,null,null,{"$f":"title450","v":"Briquette revenue market urban"},{"$f":"title84","v":"USD/year"},{"$f":"+'Energy Demand'!H38","v":0},{"$f":"+'Energy Demand'!J38","v":0},{"$f":"+'Energy Demand'!M38","v":0},{"$f":"+'Energy Demand'!O38","v":0}]
[null,null,null,null,null,null,null,null,null,null,null,null,null,null,null,null,null,null,null,null,null,null,{"$f":"title451","v":"Total production cost"},{"$f":"title84","v":"USD/year"},{"$f":"+Y146","v":{"$error":"#DIV/0!"}},{"$f":"+Z146","v":{"$error":"#DIV/0!"}},{"$f":"+AA146","v":{"$error":"#DIV/0!"}},{"$f":"+AB146","v":{"$error":"#DIV/0!"}}]
[]
[]
[null,null,null,null,null,null,null,null,null,null,null,null,null,null,null,null,null,null,null,null,null,null,{"$f":"title452","v":"SIZE 1"},{"$f":"4&\" kg/h\"","v":"4 kg/h"}]
[null,null,null,null,null,null,null,null,null,null,null,null,null,null,null,null,null,null,null,null,null,null,{"$f":"title453","v":"SIZE 2"},{"$f":"40&\" kg/h\"","v":"40 kg/h"}]
[null,null,null,null,null,null,null,null,null,null,null,null,null,null,null,null,null,null,null,null,null,null,{"$f":"title454","v":"SIZE 3"},{"$f":"400&\" kg/h\"","v":"400 kg/h"}]
[null,null,null,null,null,null,null,null,null,null,null,null,null,null,null,null,null,null,null,null,null,null,{"$f":"title455","v":"SIZE 4"},{"$f":"3000&\" kg/h\"","v":"3000 kg/h"}]
[]
[]
[null,null,null,null,null,null,null,null,null,null,null,null,null,null,null,null,null,null,null,null,null,null,null,{"$f":"+$X$171","v":"4 kg/h"}]
[]
[null,null,null,null,null,null,null,null,null,null,null,null,null,null,null,null,null,null,null,null,null,"Chart 1",null,{"$f":"+$X$171","v":"4 kg/h"},{"$f":"+$X$172","v":"40 kg/h"},{"$f":"+$X$173","v":"400 kg/h"},{"$f":"+$X$174","v":"3000 kg/h"}]
[null,null,null,null,null,null,null,null,null,null,null,null,null,null,null,null,null,null,null,null,null,true,{"$f":"+IF($V180,W133,\"\")","v":"Biomass available (t/year)"},{"$f":"+IF($V180,Y133,\"\")","v":0},{"$f":"+IF($V180,Z133,\"\")","v":0},{"$f":"+IF($V180,AA133,\"\")","v":0},{"$f":"+IF($V180,AB133,\"\")","v":0}]
[null,null,null,null,null,null,null,null,null,null,null,null,null,null,null,null,null,null,null,null,null,true,{"$f":"+IF($V181,W132,\"\")","v":"Biomass required (t/year)"},{"$f":"+IF($V181,Y132,\"\")","v":{"$error":"#DIV/0!"}},{"$f":"+IF($V181,Z132,\"\")","v":{"$error":"#DIV/0!"}},{"$f":"+IF($V181,AA132,\"\")","v":{"$error":"#DIV/0!"}},{"$f":"+IF($V181,AB132,\"\")","v":{"$error":"#DIV/0!"}}]
[null,null,null,null,null,null,null,null,null,null,null,null,null,null,null,null,null,null,null,null,null,"Chart 2",null,{"$f":"+$X$171","v":"4 kg/h"},{"$f":"+$X$172","v":"40 kg/h"},{"$f":"+$X$173","v":"400 kg/h"},{"$f":"+$X$174","v":"3000 kg/h"}]
[null,null,null,null,null,null,null,null,null,null,null,null,null,null,null,null,null,null,null,null,null,true,{"$f":"+IF(V183,W136,\"\")","v":"Area required"},{"$f":"+IF($V183,Y136,\"\")","v":{"$error":"#DIV/0!"}},{"$f":"+IF($V183,Z136,\"\")","v":{"$error":"#DIV/0!"}},{"$f":"+IF($V183,AA136,\"\")","v":{"$error":"#DIV/0!"}},{"$f":"+IF($V183,AB136,\"\")","v":{"$error":"#DIV/0!"}}]
[null,null,null,null,null,null,null,null,null,null,null,null,null,null,null,null,null,null,null,null,null,true,{"$f":"+IF(V184,W135,\"\")","v":"Plants potentially supported"},{"$f":"X180/X181","v":{"$error":"#DIV/0!"}},{"$f":"Y180/Y181","v":{"$error":"#DIV/0!"}},{"$f":"Z180/Z181","v":{"$error":"#DIV/0!"}},{"$f":"AA180/AA181","v":{"$error":"#DIV/0!"}}]
[]
[null,null,null,null,null,null,null,null,null,null,null,null,null,null,null,null,null,null,null,null,null,"Chart 3",null,{"$f":"+$X$171","v":"4 kg/h"},{"$f":"+$X$172","v":"40 kg/h"},{"$f":"+$X$173","v":"400 kg/h"},{"$f":"+$X$174","v":"3000 kg/h"}]
[null,null,null,null,null,null,null,null,null,null,null,null,null,null,null,null,null,null,null,null,null,true,{"$f":"+IF($V187,$W141,\"\")","v":"Raw materials"},{"$f":"+IF($V187,Y$141,\"\")/Y$146","v":{"$error":"#DIV/0!"}},{"$f":"+IF($V187,Z$141,\"\")/Z$146","v":{"$error":"#DIV/0!"}},{"$f":"+IF($V187,AA$141,\"\")/AA$146","v":{"$error":"#DIV/0!"}},{"$f":"+IF($V187,AB$141,\"\")/AB$146","v":{"$error":"#DIV/0!"}}]
[null,null,null,null,null,null,null,null,null,null,null,null,null,null,null,null,null,null,null,null,null,true,{"$f":"+IF($V188,$W142,\"\")","v":"Labour and miscellaneous costs"},{"$f":"+IF($V188,Y$142,\"\")/Y$146","v":{"$error":"#DIV/0!"}},{"$f":"+IF($V188,Z$142,\"\")/Z$146","v":{"$error":"#DIV/0!"}},{"$f":"+IF($V188,AA$142,\"\")/AA$146","v":{"$error":"#DIV/0!"}},{"$f":"+IF($V188,AB$142,\"\")/AB$146","v":{"$error":"#DIV/0!"}}]
[null,null,null,null,null,null,null,null,null,null,null,null,null,null,null,null,null,null,null,null,null,true,{"$f":"+IF($V189,$W143,\"\")","v":"Transport and storage"},{"$f":"+IF($V189,Y$143,\"\")/Y$146","v":{"$error":"#DIV/0!"}},{"$f":"+IF($V189,Z$143,\"\")/Z$146","v":{"$error":"#DIV/0!"}},{"$f":"+IF($V189,AA$143,\"\")/AA$146","v":{"$error":"#DIV/0!"}},{"$f":"+IF($V189,AB$143,\"\")/AB$146","v":{"$error":"#DIV/0!"}}]
[null,null,null,null,null,null,null,null,null,null,null,null,null,null,null,null,null,null,null,null,null,true,{"$f":"+IF($V190,$W144&\" and \"&$W145,\"\")","v":"Depreciation and Other costs"},{"$f":"+IF($V190,Y$144+Y$145,\"\")/Y$146","v":{"$error":"#DIV/0!"}},{"$f":"+IF($V190,Z$144+Z$145,\"\")/Z$146","v":{"$error":"#DIV/0!"}},{"$f":"+IF($V190,AA$144+AA$145,\"\")/AA$146","v":{"$error":"#DIV/0!"}},{"$f":"+IF($V190,AB$144+AB$145,\"\")/AB$146","v":{"$error":"#DIV/0!"}}]
[]
[]
[]
[null,null,null,null,null,null,null,null,null,null,null,null,null,null,null,null,null,null,null,null,null,{"$f":"IF(V193=TRUE,FALSE,TRUE)","v":true},{"$f":"+IF($V194,W148,\"\")","v":"Total production cost-limsup"},{"$f":"+IF($V194,Y148,\"\")","v":{"$error":"#DIV/0!"}},{"$error":"#DIV/0!"},{"$error":"#DIV/0!"},{"$error":"#DIV/0!"}]
[null,null,null,null,null,null,null,null,null,null,null,null,null,null,null,null,null,null,null,null,null,{"$f":"+IF($O$1>0,TRUE,FALSE)","v":true},{"$f":"+IF($V195,W149,\"\")","v":"Total production cost-liminf"},{"$error":"#DIV/0!"},{"$error":"#DIV/0!"},{"$error":"#DIV/0!"},{"$error":"#DIV/0!"}]
[null,null,null,null,null,null,null,null,null,null,null,null,null,null,null,null,null,null,null,null,null,true,{"$f":"+IF($V196,W164,\"\")","v":"Market price rural (USD/kg)"},{"$f":"+IF($V196,$Y$164,\"\")","v":0},0,0,0,0,0]
[null,null,null,null,null,null,null,null,null,null,null,null,null,null,null,null,null,null,null,null,null,true,{"$f":"+IF($V197,W165,\"\")","v":"Market price urban (USD/kg)"},{"$f":"+IF($V197,$Y$165,\"\")","v":0},0,0,0,0,0]
[null,null,null,null,null,null,null,null,null,null,null,null,null,null,null,null,null,null,null,null,null,"Chart 4",null,{"$f":"+$X$171","v":"4 kg/h"},{"$f":"+$X$172","v":"40 kg/h"},{"$f":"+$X$173","v":"400 kg/h"},{"$f":"+$X$174","v":"3000 kg/h"}]
[null,null,null,null,null,null,null,null,null,null,null,null,null,null,null,null,null,null,null,null,null,true,{"$f":"+IF($V199,W150,\"\")&\"( \"&X150&\")\"","v":"Depreciation( USD/year)"},{"$f":"+IF($V199,Y150,\"\")","v":0},0,0,0]
[null,null,null,null,null,null,null,null,null,null,null,null,null,null,null,null,null,null,null,null,null,true,{"$f":"+IF($V200,W151,\"\")&\"(\"&X151&\")\"","v":"Total investment - 20 years(USD)"},0,0,0,0]
[]
[null,null,null,null,null,null,null,null,null,null,null,null,null,null,null,null,null,null,null,null,null,"Chart 5",null,{"$f":"+$X$171","v":"4 kg/h"},{"$f":"+$X$172","v":"40 kg/h"},{"$f":"+$X$173","v":"400 kg/h"},{"$f":"+$X$174","v":"3000 kg/h"}]
[null,null,null,null,null,null,null,null,null,null,null,null,null,null,null,null,null,null,null,null,null,true,{"$f":"title414","v":"Rural"},{"$f":"+IF($V203,Y158,\"\")","v":{"$error":"#DIV/0!"}},{"$error":"#DIV/0!"},{"$error":"#DIV/0!"},{"$error":"#DIV/0!"}]
[null,null,null,null,null,null,null,null,null,null,null,null,null,null,null,null,null,null,null,null,null,true,{"$f":"title415","v":"Urban"},{"$error":"#DIV/0!"},{"$error":"#DIV/0!"},{"$error":"#DIV/0!"},{"$error":"#DIV/0!"}]
[null,null,null,null,null,null,null,null,null,null,null,null,null,null,null,null,null,null,null,null,null,true,{"$f":"title411","v":"Potential Job Creation"},{"$f":"+IF($V205,Y161,\"\")","v":{"$error":"#DIV/0!"}},{"$f":"+IF($V205,Z161,\"\")","v":{"$error":"#DIV/0!"}},{"$f":"+IF($V205,AA161,\"\")","v":{"$error":"#DIV/0!"}},{"$f":"+IF($V205,AB161,\"\")","v":{"$error":"#DIV/0!"}}]
[]
[null,null,null,null,null,null,null,null,null,null,null,null,null,null,null,null,null,null,null,null,null,"Chart 6",null,{"$f":"+$X$171","v":"4 kg/h"},{"$f":"+$X$172","v":"40 kg/h"},{"$f":"+$X$173","v":"400 kg/h"},{"$f":"+$X$174","v":"3000 kg/h"}]
[null,null,null,null,null,null,null,null,null,null,null,null,null,null,null,null,null,null,null,null,null,true,{"$f":"title416","v":"Net Present Value (NPV) - rural"},{"$f":"INDIRECT(\"FA4_RURAL_RES\"&$W$126&\"!C125\")","v":{"$error":"#DIV/0!"}},{"$f":"INDIRECT(\"FA40_RURAL_RES\"&$W$126&\"!C125\")","v":{"$error":"#DIV/0!"}},{"$f":"INDIRECT(\"FA400_RURAL_RES\"&$W$126&\"!C126\")","v":{"$error":"#DIV/0!"}},{"$f":"INDIRECT(\"FA3000_RURAL_RES\"&$W$126&\"!C126\")","v":{"$error":"#REF!"}}]
[null,null,null,null,null,null,null,null,null,null,null,null,null,null,null,null,null,null,null,null,null,false,{"$f":"title417","v":"Net Present Value (NPV) - urban"},{"$f":"INDIRECT(\"FA4_URBAN_RES\"&$W$126&\"!C125\")","v":{"$error":"#DIV/0!"}},{"$f":"INDIRECT(\"FA40_URBAN_RES\"&$W$126&\"!C125\")","v":{"$error":"#DIV/0!"}},{"$f":"INDIRECT(\"FA400_URBAN_RES\"&$W$126&\"!C126\")","v":{"$error":"#DIV/0!"}},{"$f":"INDIRECT(\"FA3000_URBAN_RES\"&$W$126&\"!C126\")","v":{"$error":"#REF!"}}]
[null,null,null,null,null,null,null,null,null,null,null,null,null,null,null,null,null,null,null,null,null,true,{"$f":"title418","v":"Internal Rate of Return (IRR) - rural"},{"$f":"INDIRECT(\"FA4_RURAL_RES\"&$W$126&\"!C126\")","v":{"$error":"#DIV/0!"}},{"$f":"INDIRECT(\"FA40_RURAL_RES\"&$W$126&\"!C126\")","v":{"$error":"#DIV/0!"}},{"$f":"INDIRECT(\"FA400_RURAL_RES\"&$W$126&\"!C127\")","v":{"$error":"#DIV/0!"}},{"$f":"INDIRECT(\"FA3000_RURAL_RES\"&$W$126&\"!C127\")","v":{"$error":"#REF!"}}]
[null,null,null,null,null,null,null,null,null,null,null,null,null,null,null,null,null,null,null,null,null,false,{"$f":"title419","v":"Internal Rate of Return (IRR) - urban"},{"$f":"INDIRECT(\"FA4_URBAN_RES\"&$W$126&\"!C126\")","v":{"$error":"#DIV/0!"}},{"$f":"INDIRECT(\"FA40_URBAN_RES\"&$W$126&\"!C126\")","v":{"$error":"#DIV/0!"}},{"$f":"INDIRECT(\"FA400_URBAN_RES\"&$W$126&\"!C127\")","v":{"$error":"#DIV/0!"}},{"$f":"INDIRECT(\"FA3000_URBAN_RES\"&$W$126&\"!C127\")","v":{"$error":"#REF!"}}]
[]
[null,null,null,null,null,null,null,null,null,null,null,null,null,null,null,null,null,null,null,null,null,"Chart 7"]
[null,null,null,null,null,null,null,null,null,null,null,null,null,null,null,null,null,null,null,null,null,null,null,{"$f":"+$X$171","v":"4 kg/h"},{"$f":"+$X$172","v":"40 kg/h"},{"$f":"+$X$173","v":"400 kg/h"},{"$f":"+$X$174","v":"3000 kg/h"}]
[null,null,null,null,null,null,null,null,null,null,null,null,null,null,null,null,null,null,null,null,null,null,{"$f":"title420","v":"Collection"},{"$f":"+Y162","v":{"$error":"#DIV/0!"}},{"$error":"#DIV/0!"},{"$error":"#DIV/0!"},{"$error":"#DIV/0!"}]
[null,null,null,null,null,null,null,null,null,null,null,null,null,null,null,null,null,null,null,null,null,null,{"$f":"title421","v":"Processing"},1,0,0,0]
[null,null,null,null,null,null,null,null,null,null,null,null,null,null,null,null,null,null,null,null,null,null,{"$f":"title422","v":"Total job creation by this project"},{"$f":"SUM(X215:X216)","v":{"$error":"#DIV/0!"}},{"$f":"SUM(Y215:Y216)","v":{"$error":"#DIV/0!"}},{"$f":"SUM(Z215:Z216)","v":{"$error":"#DIV/0!"}},{"$f":"SUM(AA215:AA216)","v":{"$error":"#DIV/0!"}}]
[]
[]
[]
[]
[null,null,null,null,null,null,null,null,null,null,null,null,null,null,null,null,null,null,null,null,null,"Chart 7"]
[null,null,null,null,null,null,null,null,null,null,null,null,null,null,null,null,null,null,null,null,null,"Ratio (kg briquette/kg fuel)","rural (kg fuel/day/hh)","urban (kg fuel/day/hh)"]
[null,null,null,null,null,null,null,null,null,null,null,null,null,null,null,null,null,null,null,null,null,{"$f":"1/'Energy Demand'!W51","v":1.2857142857142858},{"$f":"+'Energy Demand'!E10","v":0},{"$f":"+'Energy Demand'!J12","v":0}]
[null,null,null,null,null,null,null,null,null,null,null,null,null,null,null,null,null,null,null,null,null,{"$f":"1/'Energy Demand'!W52","v":1.8367346938775513},{"$f":"+'Energy Demand'!E12","v":0},{"$f":"+'Energy Demand'!J13","v":0}]
[null,null,null,null,null,null,null,null,null,null,null,null,null,null,null,null,null,null,null,null,null,{"$f":"1/'Energy Demand'!W53","v":0.26901669758812624},{"$f":"+'Energy Demand'!E13","v":0},{"$f":"+'Energy Demand'!J15","v":0}]
[null,null,null,null,null,null,null,null,null,null,null,null,null,null,null,null,null,null,null,null,null,{"$f":"1/'Energy Demand'!W54","v":1.7857142857142858},{"$f":"+'Energy Demand'!E15","v":0},{"$f":"+'Energy Demand'!J16","v":0}]
[null,null,null,null,null,null,null,null,null,null,null,null,null,null,null,null,null,null,null,null,null,null,null,{"$f":"+$X$171","v":"4 kg/h"},{"$f":"+$X$172","v":"40 kg/h"},{"$f":"+$X$173","v":"400 kg/h"},{"$f":"+$X$174","v":"3000 kg/h"}]
[null,null,null,null,null,null,null,null,null,null,null,null,null,null,null,null,null,null,null,null,null,null,"Briquette equivalent demand - rural",{"$f":"+SUMPRODUCT(($V$224:$V$227*$W$224:$W$227))*365/1000","v":0},{"$f":"+SUMPRODUCT(($V$224:$V$227*$W$224:$W$227))*365/1000","v":0},{"$f":"+SUMPRODUCT(($V$224:$V$227*$W$224:$W$227))*365/1000","v":0},{"$f":"+SUMPRODUCT(($V$224:$V$227*$W$224:$W$227))*365/1000","v":0}]
[null,null,null,null,null,null,null,null,null,null,null,null,null,null,null,null,null,null,null,null,null,null,"Briquette equivalent demand - urban",{"$f":"+SUMPRODUCT(($V$224:$V$227*$X$224:$X$227))*365/1000","v":0},{"$f":"+SUMPRODUCT(($V$224:$V$227*$X$224:$X$227))*365/1000","v":0},{"$f":"+SUMPRODUCT(($V$224:$V$227*$X$224:$X$227))*365/1000","v":0},{"$f":"+SUMPRODUCT(($V$224:$V$227*$X$224:$X$227))*365/1000","v":0}]
[null,null,null,null,null,null,null,null,null,null,null,null,null,null,null,null,null,null,null,null,null,null,"Briquette annual production",{"$f":"+Y130","v":0},{"$f":"+Z130","v":0},{"$f":"+AA130","v":0},{"$f":"+AB130","v":0}]
[]
[]
[null,null,null,null,null,null,null,null,null,null,null,null,null,null,null,null,null,null,null,null,null,{"$f":"title415","v":"Urban"}]

{"sheet":"Summary of results-comparative","index":59,"n_rows":248,"n_cols":40,"rows_kept":248,"cut":false,"hidden":false,"merged":[[74,12,74,13],[75,12,75,13],[76,12,76,13],[77,12,77,13],[51,2,51,4],[68,2,68,4],[2,2,2,16],[66,2,66,4],[10,2,10,4],[10,9,10,12],[32,2,32,4],[32,11,32,14],[57,12,57,13],[58,12,58,13],[59,12,59,13],[60,12,60,13],[10,14,10,15]]}
[null,null,null,null,null,null,null,null,null,0.2]
[]
[null,null,"SUMMARY OF RESULTS FOR BRIQUETTE PRODUCTION COMPARATIVE"]
[]
[null,null,{"$f":"title461","v":"Feedstock Selection"}]
[]
[null,null,{"$f":"+'Data entry needs'!$D$10&\" \"&'Data entry needs'!$D$11","v":"Please Select Please Select"},null,null,{"$f":"+'Data entry needs'!$E$10&\" \"&'Data entry needs'!$E$11","v":"Please Select Please Select"},null,null,{"$f":"+'Data entry needs'!$F$10&\" \"&'Data entry needs'!$F$11","v":"Please Select Please Select"},null,null,null,null,null,{"$f":"+'Data entry needs'!$G$10&\" \"&'Data entry needs'!$G$11","v":"Please Select Please Select"}]
[]
[null,null,{"$f":"title462","v":"Techno-economic Results"}]
[]
[null,null,{"$f":"title463","v":"Comparison of Production Costs (USD/kg briquettes)"},null,null,null,null,null,null,{"$f":"title464","v":"Annual Production Supported and Transformation Efficiency"},null,null,null,null,{"$f":"title423","v":"Potential Number of Plants"}]
[]
[null,null,null,{"$f":"title397","v":"     Compare to market price rural"},{"$f":"+IF($N$217,$P$217,\"\")","v":0},{"$f":"title398","v":"     Compare to market price urban"},{"$f":"+IF($N$218,$P$218,\"\")","v":0}]
[]
[]
[]
[]
[]
[]
[]
[]
[]
[]
[]
[]
[]
[]
[]
[]
[]
[null,null,{"$f":"title465","v":"Socio-economic Results"}]
[]
[null,null,{"$f":"title466","v":"Total Number of Jobs Created"},null,null,null,null,null,null,null,null,{"$f":"title467","v":"Total Number of Households Supplied"}]
[]
[]
[]
[]
[]
[]
[]
[]
[]
[]
[]
[]
[]
[]
[null,null,{"$f":"title291","v":"Financial analysis results"}]
[]
[null,null,{"$f":"title468","v":"Rural market price"}]
[]
[null,null,{"$f":"title469","v":"NPV - Rural market price (1000 USD)"}]
[]
[]
[]
[null,null,null,null,null,null,null,null,null,null,null,{"$f":"title470","v":"IRR - Rural market price"}]
[null,null,null,null,null,null,null,null,null,null,null,null,"4 kg/h",null,"40 kg/h","400 kg/h","4000 kg/h"]
[null,null,null,null,null,null,null,null,null,null,null,{"$f":"+IF(AND($R$168,$P182),V182,\"\")","v":"Please Select Please Select"},{"$error":"#DIV/0!"},null,{"$f":"+IF(AND($R$168,$P182),X182,\"\")","v":{"$error":"#DIV/0!"}},{"$error":"#DIV/0!"},{"$error":"#DIV/0!"}]
[null,null,null,null,null,null,null,null,null,null,null,"Please Select Please Select",{"$error":"#DIV/0!"},null,{"$error":"#DIV/0!"},{"$error":"#DIV/0!"},{"$error":"#DIV/0!"}]
[null,null,null,null,null,null,null,null,null,null,null,"Please Select Please Select",{"$error":"#DIV/0!"},null,{"$error":"#DIV/0!"},{"$error":"#DIV/0!"},{"$error":"#DIV/0!"}]
[null,null,null,null,null,null,null,null,null,null,null,"Please Select Please Select",{"$error":"#DIV/0!"},null,{"$error":"#DIV/0!"},{"$error":"#DIV/0!"},{"$error":"#DIV/0!"}]
[]
[]
[]
[]
[]
[null,null,{"$f":"title471","v":"Urban market price"}]
[]
[null,null,{"$f":"title472","v":"NPV - Urban market price (1000 USD)"}]
[]
[]
[]
[null,null,null,null,null,null,null,null,null,null,null,{"$f":"title473","v":"IRR - Urban market price"}]
[null,null,null,null,null,null,null,null,null,null,null,null,"4 kg/h",null,"40 kg/h","400 kg/h","4000 kg/h"]
[null,null,null,null,null,null,null,null,null,null,null,{"$f":"+IF(AND($T$168,$P188),V188,\"\")","v":"Please Select Please Select"},{"$error":"#DIV/0!"},null,{"$f":"+IF(AND($T$168,$P188),X188,\"\")","v":{"$error":"#DIV/0!"}},{"$error":"#DIV/0!"},{"$error":"#DIV/0!"}]
[null,null,null,null,null,null,null,null,null,null,null,"Please Select Please Select",{"$error":"#DIV/0!"},null,{"$error":"#DIV/0!"},{"$error":"#DIV/0!"},{"$error":"#DIV/0!"}]
[null,null,null,null,null,null,null,null,null,null,null,"Please Select Please Select",{"$error":"#DIV/0!"},null,{"$error":"#DIV/0!"},{"$error":"#DIV/0!"},{"$error":"#DIV/0!"}]
[null,null,null,null,null,null,null,null,null,null,null,"Please Select Please Select",{"$error":"#DIV/0!"},null,{"$error":"#DIV/0!"},{"$error":"#DIV/0!"},{"$error":"#DIV/0!"}]
[]
[]
[]
[]
[]
[]
[]
[]
[]
[]
[]
[]
[]
[]
[]
[]
[]
[]
[]
[]
[]
[]
[]
[]
[]
[]
[]
[]
[]
[]
[null,null,null,null,null,null,null,null,null,null,null,null,null,null,null,"Residue","Pos."]
[null,null,null,null,null,null,null,null,null,null,null,null,null,null,null,null,1,{"$f":"+'Data entry needs'!$D$10&'Data entry needs'!$D$11","v":"Please SelectPlease Select"},{"$f":"title452","v":"SIZE 1"},{"$f":"4&\" kg/h\"","v":"4 kg/h"},{"$f":"title439","v":"Potential briquette consumption per household"}]
[null,null,null,null,null,null,null,null,null,null,null,null,null,null,null,null,2,{"$f":"+'Data entry needs'!$E$10&'Data entry needs'!$E$11","v":"Please SelectPlease Select"},{"$f":"title453","v":"SIZE 2"},{"$f":"40&\" kg/h\"","v":"40 kg/h"},{"$f":"title77","v":"Rural Households"},{"$f":"title440","v":"t/year/houseshold"},{"$f":"+'Energy Demand'!$H$17","v":0}]
[null,null,null,null,null,null,null,null,null,null,null,null,null,null,null,null,3,{"$f":"+'Data entry needs'!$F$10&'Data entry needs'!$F$11","v":"Please SelectPlease Select"},{"$f":"title454","v":"SIZE 3"},{"$f":"400&\" kg/h\"","v":"400 kg/h"},{"$f":"title86","v":" Urban Households"},{"$f":"title440","v":"t/year/houseshold"},{"$f":"+'Energy Demand'!$M$17","v":0}]
[null,null,null,null,null,null,null,null,null,null,null,null,null,null,null,null,null,null,{"$f":"title455","v":"SIZE 4"},{"$f":"4000&\" kg/h\"","v":"4000 kg/h"}]
[null,null,null,null,null,null,null,null,null,null,null,null,null,null,null,null,4,{"$f":"+'Data entry needs'!$G$10&'Data entry needs'!$G$11","v":"Please SelectPlease Select"}]
[]
[]
[]
[null,null,null,null,null,null,null,null,null,null,null,null,null,null,null,null,"Selection","No.",null,null,null,null,"Selection","No.",null,null,null,null,"Selection","No.",null,null,null,null,"Selection","No."]
[null,null,null,null,null,null,null,null,null,null,null,null,null,null,null,null,{"$f":"+'Data entry needs'!$D$10&\" \"&'Data entry needs'!$D$11","v":"Please Select Please Select"},1,{"$f":"+'Data entry needs'!$D$10&'Data entry needs'!$D$11","v":"Please SelectPlease Select"},"Biomass residueratio",{"$f":"+VLOOKUP(S119,dummy_database!$N$4:$R$32,5,FALSE)","v":{"$error":"#N/A"}},null,{"$f":"+'Data entry needs'!$E$10&\" \"&'Data entry needs'!$E$11","v":"Please Select Please Select"},2,{"$f":"+'Data entry needs'!$E$10&'Data entry needs'!$E$11","v":"Please SelectPlease Select"},"Biomass residueratio",{"$f":"+VLOOKUP(Y119,dummy_database!$N$4:$R$30,5,FALSE)","v":{"$error":"#N/A"}},null,{"$f":"+'Data entry needs'!$F$10&\" \"&'Data entry needs'!$F$11","v":"Please Select Please Select"},3,{"$f":"+'Data entry needs'!$F$10&'Data entry needs'!$F$11","v":"Please SelectPlease Select"},"Biomass residueratio",{"$f":"+VLOOKUP(AE119,dummy_database!$N$4:$R$30,5,FALSE)","v":{"$error":"#N/A"}},null,{"$f":"+'Data entry needs'!$G$10&\" \"&'Data entry needs'!$G$11","v":"Please Select Please Select"},4,{"$f":"+'Data entry needs'!$G$10&'Data entry needs'!$G$11","v":"Please SelectPlease Select"},"Biomass residueratio",{"$f":"+VLOOKUP(AK119,dummy_database!$N$4:$R$30,5,FALSE)","v":{"$error":"#N/A"}}]
[]
[null,null,null,null,null,null,null,null,null,null,null,null,null,null,null,null,"Biomass Briquetting Project Summary",null,null,null,null,null,"Biomass Briquetting Project Summary",null,null,null,null,null,"Biomass Briquetting Project Summary",null,null,null,null,null,"Biomass Briquetting Project Summary"]
[null,null,null,null,null,null,null,null,null,null,null,null,null,null,null,null," Production Cost",{"$f":"title96","v":"Unit"},"ts of  briquette production per year",null,null,null," Production Cost",{"$f":"title96","v":"Unit"},"ts of  briquette production per year",null,null,null," Production Cost",{"$f":"title96","v":"Unit"},"ts of  briquette production per year",null,null,null," Production Cost",{"$f":"title96","v":"Unit"},"ts of  briquette production per year"]
[null,null,null,null,null,null,null,null,null,null,null,null,null,null,null,null,null,null,{"$f":"COST_RES1!$F$29","v":0},{"$f":"COST_RES1!$H$29","v":0},{"$f":"COST_RES1!$J$29","v":0},{"$f":"COST_RES1!$L$29","v":0},null,null,{"$f":"COST_RES1!$F$29","v":0},{"$f":"COST_RES1!$H$29","v":0},{"$f":"COST_RES1!$J$29","v":0},{"$f":"COST_RES1!$L$29","v":0},null,null,{"$f":"COST_RES1!$F$29","v":0},{"$f":"COST_RES1!$H$29","v":0},{"$f":"COST_RES1!$J$29","v":0},{"$f":"COST_RES1!$L$29","v":0},null,null,{"$f":"COST_RES1!$F$29","v":0},{"$f":"COST_RES1!$H$29","v":0},{"$f":"COST_RES1!$J$29","v":0},{"$f":"COST_RES1!$L$29","v":0}]
[]
[null,null,null,null,null,null,null,null,null,null,null,null,null,null,null,null,"Biomass required",{"$f":"title83","v":"t/year"},{"$f":"INDIRECT(\"COST_RES\"&$R$119&\"!F33\")","v":{"$error":"#DIV/0!"}},{"$f":"INDIRECT(\"COST_RES\"&$R$119&\"!h33\")","v":{"$error":"#DIV/0!"}},{"$f":"INDIRECT(\"COST_RES\"&$R$119&\"!j33\")","v":{"$error":"#DIV/0!"}},{"$f":"INDIRECT(\"COST_RES\"&$R$119&\"!l33\")","v":{"$error":"#DIV/0!"}},"Biomass required",{"$f":"title83","v":"t/year"},{"$f":"INDIRECT(\"COST_RES\"&$X$119&\"!F33\")","v":{"$error":"#DIV/0!"}},{"$f":"INDIRECT(\"COST_RES\"&$X$119&\"!h33\")","v":{"$error":"#DIV/0!"}},{"$f":"INDIRECT(\"COST_RES\"&$X$119&\"!j33\")","v":{"$error":"#DIV/0!"}},{"$f":"INDIRECT(\"COST_RES\"&$X$119&\"!l33\")","v":{"$error":"#DIV/0!"}},"Biomass required",{"$f":"title83","v":"t/year"},{"$f":"INDIRECT(\"COST_RES\"&$AD$119&\"!F33\")","v":{"$error":"#DIV/0!"}},{"$f":"INDIRECT(\"COST_RES\"&$AD$119&\"!h33\")","v":{"$error":"#DIV/0!"}},{"$f":"INDIRECT(\"COST_RES\"&$AD$119&\"!j33\")","v":{"$error":"#DIV/0!"}},{"$f":"INDIRECT(\"COST_RES\"&$AD$119&\"!l33\")","v":{"$error":"#DIV/0!"}},"Biomass required",{"$f":"title83","v":"t/year"},{"$f":"INDIRECT(\"COST_RES\"&$AJ$119&\"!F33\")","v":{"$error":"#DIV/0!"}},{"$f":"INDIRECT(\"COST_RES\"&$AJ$119&\"!h33\")","v":{"$error":"#DIV/0!"}},{"$f":"INDIRECT(\"COST_RES\"&$AJ$119&\"!j33\")","v":{"$error":"#DIV/0!"}},{"$f":"INDIRECT(\"COST_RES\"&$AJ$119&\"!l33\")","v":{"$error":"#DIV/0!"}}]
[null,null,null,null,null,null,null,null,null,null,null,null,null,null,null,null,"Biomass available",{"$f":"title83","v":"t/year"},{"$f":"+INDIRECT(\"COST_RES\"&$R$119&\"!$D$9\")","v":0},{"$f":"+S126","v":0},{"$f":"+T126","v":0},{"$f":"+U126","v":0},"Biomass available",{"$f":"title83","v":"t/year"},{"$f":"+INDIRECT(\"COST_RES\"&$X$119&\"!$D$9\")","v":0},{"$f":"+Y126","v":0},{"$f":"+Z126","v":0},{"$f":"+AA126","v":0},"Biomass available",{"$f":"title83","v":"t/year"},{"$f":"+INDIRECT(\"COST_RES\"&$AD$119&\"!$D$9\")","v":0},{"$f":"+AE126","v":0},{"$f":"+AF126","v":0},{"$f":"+AG126","v":0},"Biomass available",{"$f":"title83","v":"t/year"},{"$f":"+INDIRECT(\"COST_RES\"&$AJ$119&\"!$D$9\")","v":0},{"$f":"+AK126","v":0},{"$f":"+AL126","v":0},{"$f":"+AM126","v":0}]
[null,null,null,null,null,null,null,null,null,null,null,null,null,null,null,null,null,null,{"$f":"+S125/S126","v":{"$error":"#DIV/0!"}},{"$f":"+T125/T126","v":{"$error":"#DIV/0!"}},{"$f":"+U125/U126","v":{"$error":"#DIV/0!"}},{"$f":"+V125/V126","v":{"$error":"#DIV/0!"}},null,null,{"$f":"+Y125/Y126","v":{"$error":"#DIV/0!"}},{"$f":"+Z125/Z126","v":{"$error":"#DIV/0!"}},{"$f":"+AA125/AA126","v":{"$error":"#DIV/0!"}},{"$f":"+AB125/AB126","v":{"$error":"#DIV/0!"}},null,null,{"$f":"+AK125/AK126","v":{"$error":"#DIV/0!"}},{"$f":"+AF125/AF126","v":{"$error":"#DIV/0!"}},{"$f":"+AG125/AG126","v":{"$error":"#DIV/0!"}},{"$f":"+AH125/AH126","v":{"$error":"#DIV/0!"}},null,null,{"$f":"+AK125/AK126","v":{"$error":"#DIV/0!"}},{"$f":"+AL125/AL126","v":{"$error":"#DIV/0!"}},{"$f":"+AM125/AM126","v":{"$error":"#DIV/0!"}},{"$f":"+AN125/AN126","v":{"$error":"#DIV/0!"}}]
[null,null,null,null,null,null,null,null,null,null,null,null,null,null,null,null,{"$f":"title429","v":"Plants potentially supported"},null,{"$f":"ROUNDDOWN(S126/S125,0)","v":{"$error":"#DIV/0!"}},{"$f":"ROUNDDOWN(T126/T125,0)","v":{"$error":"#DIV/0!"}},{"$f":"ROUNDDOWN(U126/U125,0)","v":{"$error":"#DIV/0!"}},{"$f":"ROUNDDOWN(V126/V125,0)","v":{"$error":"#DIV/0!"}},{"$f":"title429","v":"Plants potentially supported"},null,{"$f":"ROUNDDOWN(Y126/Y125,0)","v":{"$error":"#DIV/0!"}},{"$f":"ROUNDDOWN(Z126/Z125,0)","v":{"$error":"#DIV/0!"}},{"$f":"ROUNDDOWN(AA126/AA125,0)","v":{"$error":"#DIV/0!"}},{"$f":"ROUNDDOWN(AB126/AB125,0)","v":{"$error":"#DIV/0!"}},{"$f":"title429","v":"Plants potentially supported"},null,{"$f":"ROUNDDOWN(AE126/AE125,0)","v":{"$error":"#DIV/0!"}},{"$f":"ROUNDDOWN(AF126/AF125,0)","v":{"$error":"#DIV/0!"}},{"$f":"ROUNDDOWN(AG126/AG125,0)","v":{"$error":"#DIV/0!"}},{"$f":"ROUNDDOWN(AH126/AH125,0)","v":{"$error":"#DIV/0!"}},{"$f":"title429","v":"Plants potentially supported"},null,{"$f":"ROUNDDOWN(AK126/AK125,0)","v":{"$error":"#DIV/0!"}},{"$f":"ROUNDDOWN(AL126/AL125,0)","v":{"$error":"#DIV/0!"}},{"$f":"ROUNDDOWN(AM126/AM125,0)","v":{"$error":"#DIV/0!"}},{"$f":"ROUNDDOWN(AN126/AN125,0)","v":{"$error":"#DIV/0!"}}]
[null,null,null,null,null,null,null,null,null,null,null,null,null,null,null,null,{"$f":"title430","v":"Area required"},"Ha",{"$f":"IFERROR(S125/(INDIRECT(\"COST_RES\"&$R$119&\"!d10\")*$U$119),0)","v":0},{"$f":"IFERROR(T125/(INDIRECT(\"COST_RES\"&$R$119&\"!d10\")*$U$119),0)","v":0},{"$f":"IFERROR(U125/(INDIRECT(\"COST_RES\"&$R$119&\"!d10\")*$U$119),0)","v":0},{"$f":"IFERROR(V125/(INDIRECT(\"COST_RES\"&$R$119&\"!d10\")*$U$119),0)","v":0},{"$f":"title430","v":"Area required"},"Ha",{"$f":"IFERROR(Y125/(INDIRECT(\"COST_RES\"&$X$119&\"!d10\")*$U$119),0)","v":0},{"$f":"IFERROR(Z125/(INDIRECT(\"COST_RES\"&$X$119&\"!d10\")*$U$119),0)","v":0},{"$f":"IFERROR(AA125/(INDIRECT(\"COST_RES\"&$X$119&\"!d10\")*$U$119),0)","v":0},{"$f":"IFERROR(AB125/(INDIRECT(\"COST_RES\"&$X$119&\"!d10\")*$U$119),0)","v":0},{"$f":"title430","v":"Area required"},"Ha",{"$f":"IFERROR(AE125/(INDIRECT(\"COST_RES\"&$AD$119&\"!d10\")*$U$119),0)","v":0},{"$f":"IFERROR(AF125/(INDIRECT(\"COST_RES\"&$AD$119&\"!d10\")*$U$119),0)","v":0},{"$f":"IFERROR(AG125/(INDIRECT(\"COST_RES\"&$AD$119&\"!d10\")*$U$119),0)","v":0},{"$f":"IFERROR(AH125/(INDIRECT(\"COST_RES\"&$AD$119&\"!d10\")*$U$119),0)","v":0},{"$f":"title430","v":"Area required"},"Ha",{"$f":"IFERROR(AK125/(INDIRECT(\"COST_RES\"&$AJ$119&\"!d10\")*$U$119),0)","v":0},{"$f":"IFERROR(AL125/(INDIRECT(\"COST_RES\"&$AJ$119&\"!d10\")*$U$119),0)","v":0},{"$f":"IFERROR(AM125/(INDIRECT(\"COST_RES\"&$AJ$119&\"!d10\")*$U$119),0)","v":0},{"$f":"IFERROR(AN125/(INDIRECT(\"COST_RES\"&$AJ$119&\"!d10\")*$U$119),0)","v":0}]
[]
[]
[null,null,null,null,null,null,null,null,null,null,null,null,null,null,null,null,{"$f":"title428","v":"Annual basis"},null,null,null,null,null,{"$f":"title428","v":"Annual basis"},null,null,null,null,null,{"$f":"title428","v":"Annual basis"},null,null,null,null,null,{"$f":"title428","v":"Annual basis"}]
[null,null,null,null,null,null,null,null,null,null,null,null,null,null,null,null,"Production Cost of briquette ",null,null,null,null,null,"Production Cost of briquette ",null,null,null,null,null,"Production Cost of briquette ",null,null,null,null,null,"Production Cost of briquette "]
[null,null,null,null,null,null,null,null,null,null,null,null,null,null,null,null,"Operating Costs",{"$f":"title84","v":"USD/year"},{"$f":"INDIRECT(\"COST_RES\"&$R$119&\"!F78\")","v":{"$error":"#DIV/0!"}},{"$f":"INDIRECT(\"COST_RES\"&$R$119&\"!H78\")","v":{"$error":"#DIV/0!"}},{"$f":"INDIRECT(\"COST_RES\"&$R$119&\"!J78\")","v":{"$error":"#DIV/0!"}},{"$f":"INDIRECT(\"COST_RES\"&$R$119&\"!L78\")","v":{"$error":"#DIV/0!"}},"Operating Costs",{"$f":"title84","v":"USD/year"},{"$f":"INDIRECT(\"COST_RES\"&$X$119&\"!F78\")","v":{"$error":"#DIV/0!"}},{"$f":"INDIRECT(\"COST_RES\"&$X$119&\"!H78\")","v":{"$error":"#DIV/0!"}},{"$f":"INDIRECT(\"COST_RES\"&$X$119&\"!J78\")","v":{"$error":"#DIV/0!"}},{"$f":"INDIRECT(\"COST_RES\"&$X$119&\"!L78\")","v":{"$error":"#DIV/0!"}},"Operating Costs",{"$f":"title84","v":"USD/year"},{"$f":"INDIRECT(\"COST_RES\"&$AD$119&\"!F78\")","v":{"$error":"#DIV/0!"}},{"$f":"INDIRECT(\"COST_RES\"&$AD$119&\"!H78\")","v":{"$error":"#DIV/0!"}},{"$f":"INDIRECT(\"COST_RES\"&$AD$119&\"!J78\")","v":{"$error":"#DIV/0!"}},{"$f":"INDIRECT(\"COST_RES\"&$AD$119&\"!L78\")","v":{"$error":"#DIV/0!"}},"Operating Costs",{"$f":"title84","v":"USD/year"},{"$f":"INDIRECT(\"COST_RES\"&$AJ$119&\"!F78\")","v":{"$error":"#DIV/0!"}},{"$f":"INDIRECT(\"COST_RES\"&$AJ$119&\"!H78\")","v":{"$error":"#DIV/0!"}},{"$f":"INDIRECT(\"COST_RES\"&$AJ$119&\"!J78\")","v":{"$error":"#DIV/0!"}},{"$f":"INDIRECT(\"COST_RES\"&$AJ$119&\"!L78\")","v":{"$error":"#DIV/0!"}}]
[null,null,null,null,null,null,null,null,null,null,null,null,null,null,null,null,"Fixed Costs",{"$f":"title84","v":"USD/year"},{"$f":"INDIRECT(\"COST_RES\"&$R$119&\"!F79\")","v":0},{"$f":"INDIRECT(\"COST_RES\"&$R$119&\"!H79\")","v":0},{"$f":"INDIRECT(\"COST_RES\"&$R$119&\"!J79\")","v":0},{"$f":"INDIRECT(\"COST_RES\"&$R$119&\"!L79\")","v":0},"Fixed Costs",{"$f":"title84","v":"USD/year"},{"$f":"INDIRECT(\"COST_RES\"&$X$119&\"!F79\")","v":0},{"$f":"INDIRECT(\"COST_RES\"&$X$119&\"!H79\")","v":0},{"$f":"INDIRECT(\"COST_RES\"&$X$119&\"!J79\")","v":0},{"$f":"INDIRECT(\"COST_RES\"&$X$119&\"!L79\")","v":0},"Fixed Costs",{"$f":"title84","v":"USD/year"},{"$f":"INDIRECT(\"COST_RES\"&$AD$119&\"!F79\")","v":0},{"$f":"INDIRECT(\"COST_RES\"&$AD$119&\"!H79\")","v":0},{"$f":"INDIRECT(\"COST_RES\"&$AD$119&\"!J79\")","v":0},{"$f":"INDIRECT(\"COST_RES\"&$AD$119&\"!L79\")","v":0},"Fixed Costs",{"$f":"title84","v":"USD/year"},{"$f":"INDIRECT(\"COST_RES\"&$AJ$119&\"!F79\")","v":0},{"$f":"INDIRECT(\"COST_RES\"&$AJ$119&\"!H79\")","v":0},{"$f":"INDIRECT(\"COST_RES\"&$AJ$119&\"!J79\")","v":0},{"$f":"INDIRECT(\"COST_RES\"&$AJ$119&\"!L79\")","v":0}]
[null,null,null,null,null,null,null,null,null,null,null,null,null,null,null,null,{"$f":"title159","v":"Other costs"},{"$f":"title84","v":"USD/year"},{"$f":"INDIRECT(\"COST_RES\"&$R$119&\"!F80\")","v":{"$error":"#DIV/0!"}},{"$f":"INDIRECT(\"COST_RES\"&$R$119&\"!H80\")","v":{"$error":"#DIV/0!"}},{"$f":"INDIRECT(\"COST_RES\"&$R$119&\"!J80\")","v":{"$error":"#DIV/0!"}},{"$f":"INDIRECT(\"COST_RES\"&$R$119&\"!L80\")","v":{"$error":"#DIV/0!"}},{"$f":"title159","v":"Other costs"},{"$f":"title84","v":"USD/year"},{"$f":"INDIRECT(\"COST_RES\"&$X$119&\"!F80\")","v":{"$error":"#DIV/0!"}},{"$f":"INDIRECT(\"COST_RES\"&$X$119&\"!H80\")","v":{"$error":"#DIV/0!"}},{"$f":"INDIRECT(\"COST_RES\"&$X$119&\"!J80\")","v":{"$error":"#DIV/0!"}},{"$f":"INDIRECT(\"COST_RES\"&$X$119&\"!L80\")","v":{"$error":"#DIV/0!"}},{"$f":"title159","v":"Other costs"},{"$f":"title84","v":"USD/year"},{"$f":"INDIRECT(\"COST_RES\"&$AD$119&\"!F80\")","v":{"$error":"#DIV/0!"}},{"$f":"INDIRECT(\"COST_RES\"&$AD$119&\"!H80\")","v":{"$error":"#DIV/0!"}},{"$f":"INDIRECT(\"COST_RES\"&$AD$119&\"!J80\")","v":{"$error":"#DIV/0!"}},{"$f":"INDIRECT(\"COST_RES\"&$AD$119&\"!L80\")","v":{"$error":"#DIV/0!"}},{"$f":"title159","v":"Other costs"},{"$f":"title84","v":"USD/year"},{"$f":"INDIRECT(\"COST_RES\"&$AJ$119&\"!F80\")","v":{"$error":"#DIV/0!"}},{"$f":"INDIRECT(\"COST_RES\"&$AJ$119&\"!H80\")","v":{"$error":"#DIV/0!"}},{"$f":"INDIRECT(\"COST_RES\"&$AJ$119&\"!J80\")","v":{"$error":"#DIV/0!"}},{"$f":"INDIRECT(\"COST_RES\"&$AJ$119&\"!L80\")","v":{"$error":"#DIV/0!"}}]
[null,null,null,null,null,null,null,null,null,null,null,null,null,null,null,null,{"$f":"title433","v":"Total annualized production cost"},{"$f":"title84","v":"USD/year"},{"$f":"SUM(S134:S136)","v":{"$error":"#DIV/0!"}},{"$f":"SUM(T134:T136)","v":{"$error":"#DIV/0!"}},{"$f":"SUM(U134:U136)","v":{"$error":"#DIV/0!"}},{"$f":"SUM(V134:V136)","v":{"$error":"#DIV/0!"}},{"$f":"title433","v":"Total annualized production cost"},{"$f":"title84","v":"USD/year"},{"$f":"SUM(Y134:Y136)","v":{"$error":"#DIV/0!"}},{"$f":"SUM(Z134:Z136)","v":{"$error":"#DIV/0!"}},{"$f":"SUM(AA134:AA136)","v":{"$error":"#DIV/0!"}},{"$f":"SUM(AB134:AB136)","v":{"$error":"#DIV/0!"}},{"$f":"title433","v":"Total annualized production cost"},{"$f":"title84","v":"USD/year"},{"$f":"SUM(AE134:AE136)","v":{"$error":"#DIV/0!"}},{"$f":"SUM(AF134:AF136)","v":{"$error":"#DIV/0!"}},{"$f":"SUM(AG134:AG136)","v":{"$error":"#DIV/0!"}},{"$f":"SUM(AH134:AH136)","v":{"$error":"#DIV/0!"}},{"$f":"title433","v":"Total annualized production cost"},{"$f":"title84","v":"USD/year"},{"$f":"SUM(AK134:AK136)","v":{"$error":"#DIV/0!"}},{"$f":"SUM(AL134:AL136)","v":{"$error":"#DIV/0!"}},{"$f":"SUM(AM134:AM136)","v":{"$error":"#DIV/0!"}},{"$f":"SUM(AN134:AN136)","v":{"$error":"#DIV/0!"}}]
[null,null,null,null,null,null,null,null,null,null,null,null,null,null,null,null,{"$f":"title434","v":"kg product basis"},null,null,null,null,null,{"$f":"title434","v":"kg product basis"},null,null,null,null,null,{"$f":"title434","v":"kg product basis"},null,null,null,null,null,{"$f":"title434","v":"kg product basis"}]
[null,null,null,null,null,null,null,null,null,null,null,null,null,null,null,null,"Operating Costs","USD/kg of Briquette",{"$f":"+S134/(S$123*1000)","v":{"$error":"#DIV/0!"}},{"$error":"#DIV/0!"},{"$error":"#DIV/0!"},{"$error":"#DIV/0!"},"Operating Costs","USD/kg of Briquette",{"$f":"+Y134/(Y$123*1000)","v":{"$error":"#DIV/0!"}},{"$error":"#DIV/0!"},{"$error":"#DIV/0!"},{"$error":"#DIV/0!"},"Operating Costs","USD/kg of Briquette",{"$f":"+AE134/(AE$123*1000)","v":{"$error":"#DIV/0!"}},{"$error":"#DIV/0!"},{"$error":"#DIV/0!"},{"$error":"#DIV/0!"},"Operating Costs","USD/kg of Briquette",{"$f":"+AK134/(AK$123*1000)","v":{"$error":"#DIV/0!"}},{"$error":"#DIV/0!"},{"$error":"#DIV/0!"},{"$error":"#DIV/0!"}]
[null,null,null,null,null,null,null,null,null,null,null,null,null,null,null,null,"Fixed Costs","USD/kg of Briquette",{"$error":"#DIV/0!"},{"$error":"#DIV/0!"},{"$error":"#DIV/0!"},{"$error":"#DIV/0!"},"Fixed Costs","USD/kg of Briquette",{"$error":"#DIV/0!"},{"$error":"#DIV/0!"},{"$error":"#DIV/0!"},{"$error":"#DIV/0!"},"Fixed Costs","USD/kg of Briquette",{"$error":"#DIV/0!"},{"$error":"#DIV/0!"},{"$error":"#DIV/0!"},{"$error":"#DIV/0!"},"Fixed Costs","USD/kg of Briquette",{"$error":"#DIV/0!"},{"$error":"#DIV/0!"},{"$error":"#DIV/0!"},{"$error":"#DIV/0!"}]
[null,null,null,null,null,null,null,null,null,null,null,null,null,null,null,null,{"$f":"title159","v":"Other costs"},"USD/kg of Briquette",{"$error":"#DIV/0!"},{"$error":"#DIV/0!"},{"$error":"#DIV/0!"},{"$error":"#DIV/0!"},{"$f":"title159","v":"Other costs"},"USD/kg of Briquette",{"$error":"#DIV/0!"},{"$error":"#DIV/0!"},{"$error":"#DIV/0!"},{"$error":"#DIV/0!"},{"$f":"title159","v":"Other costs"},"USD/kg of Briquette",{"$error":"#DIV/0!"},{"$error":"#DIV/0!"},{"$error":"#DIV/0!"},{"$error":"#DIV/0!"},{"$f":"title159","v":"Other costs"},"USD/kg of Briquette",{"$error":"#DIV/0!"},{"$error":"#DIV/0!"},{"$error":"#DIV/0!"},{"$error":"#DIV/0!"}]
[null,null,null,null,null,null,null,null,null,null,null,null,null,null,null,null,{"$f":"title451","v":"Total production cost"},"USD/kg of Briquette",{"$error":"#DIV/0!"},{"$error":"#DIV/0!"},{"$error":"#DIV/0!"},{"$error":"#DIV/0!"},{"$f":"title451","v":"Total production cost"},"USD/kg of Briquette",{"$error":"#DIV/0!"},{"$error":"#DIV/0!"},{"$error":"#DIV/0!"},{"$error":"#DIV/0!"},{"$f":"title451","v":"Total production cost"},"USD/kg of Briquette",{"$error":"#DIV/0!"},{"$error":"#DIV/0!"},{"$error":"#DIV/0!"},{"$error":"#DIV/0!"},{"$f":"title451","v":"Total production cost"},"USD/kg of Briquette",{"$error":"#DIV/0!"},{"$error":"#DIV/0!"},{"$error":"#DIV/0!"},{"$error":"#DIV/0!"}]
[]
[null,null,null,null,null,null,null,null,null,null,null,null,null,null,null,null,{"$f":"title476","v":"Net Present Value (NPV) - after tax - rural"},null,null,null,null,null,{"$f":"title476","v":"Net Present Value (NPV) - after tax - rural"},null,null,null,null,null,{"$f":"title476","v":"Net Present Value (NPV) - after tax - rural"},null,null,null,null,null,{"$f":"title476","v":"Net Present Value (NPV) - after tax - rural"}]
[null,null,null,null,null,null,null,null,null,null,null,null,null,null,null,null,{"$f":"title477","v":"Net Present Value (NPV) - after tax - urban"},null,null,null,null,null,{"$f":"title477","v":"Net Present Value (NPV) - after tax - urban"},null,null,null,null,null,{"$f":"title477","v":"Net Present Value (NPV) - after tax - urban"},null,null,null,null,null,{"$f":"title477","v":"Net Present Value (NPV) - after tax - urban"}]
[null,null,null,null,null,null,null,null,null,null,null,null,null,null,null,null,{"$f":"title478","v":"Internal Rate of Return (IRR) - after tax - rural"},null,null,null,null,null,{"$f":"title478","v":"Internal Rate of Return (IRR) - after tax - rural"},null,null,null,null,null,{"$f":"title478","v":"Internal Rate of Return (IRR) - after tax - rural"},null,null,null,null,null,{"$f":"title478","v":"Internal Rate of Return (IRR) - after tax - rural"}]
[null,null,null,null,null,null,null,null,null,null,null,null,null,null,null,null,{"$f":"title479","v":"Internal Rate of Return (IRR) - after tax-urban"},null,null,null,null,null,{"$f":"title479","v":"Internal Rate of Return (IRR) - after tax-urban"},null,null,null,null,null,{"$f":"title479","v":"Internal Rate of Return (IRR) - after tax-urban"},null,null,null,null,null,{"$f":"title479","v":"Internal Rate of Return (IRR) - after tax-urban"}]
[]
[null,null,null,null,null,null,null,null,null,null,null,null,null,null,null,null,{"$f":"title422","v":"Total job creation by this project"},{"$f":"title442","v":"No. of employees"},{"$f":"SUM(S150:S151)","v":1},{"$f":"SUM(T150:T151)","v":0},{"$f":"SUM(U150:U151)","v":0},{"$f":"SUM(V150:V151)","v":0},{"$f":"title422","v":"Total job creation by this project"},{"$f":"title442","v":"No. of employees"},{"$f":"SUM(Y150:Y151)","v":1},{"$f":"SUM(Z150:Z151)","v":0},{"$f":"SUM(AA150:AA151)","v":0},{"$f":"SUM(AB150:AB151)","v":0},{"$f":"title422","v":"Total job creation by this project"},{"$f":"title442","v":"No. of employees"},{"$f":"SUM(AE150:AE151)","v":1},{"$f":"SUM(AF150:AF151)","v":0},{"$f":"SUM(AG150:AG151)","v":0},{"$f":"SUM(AH150:AH151)","v":0},{"$f":"title422","v":"Total job creation by this project"},{"$f":"title442","v":"No. of employees"},{"$f":"SUM(AK150:AK151)","v":1},{"$f":"SUM(AL150:AL151)","v":0},{"$f":"SUM(AM150:AM151)","v":0},{"$f":"SUM(AN150:AN151)","v":0}]
[null,null,null,null,null,null,null,null,null,null,null,null,null,null,null,null,{"$f":"title445","v":"Biomass collection"},{"$f":"title442","v":"No. of employees"},{"$f":"IFERROR(ROUNDUP(IF('Data entry needs'!$C$17,0,INDIRECT(\"PRICE_RES\"&$R$119&\"!D20\"))*S129/('Data entry needs'!$D$32*INDIRECT(\"STORAGE_RES\"&$R$119&\"!D37\")),0),0)","v":0},{"$f":"IFERROR(ROUNDUP(IF('Data entry needs'!$C$17,0,INDIRECT(\"PRICE_RES\"&$R$119&\"!D20\"))*T129/('Data entry needs'!$D$32*INDIRECT(\"STORAGE_RES\"&$R$119&\"!D37\")),0),0)","v":0},{"$f":"IFERROR(ROUNDUP(IF('Data entry needs'!$C$17,0,INDIRECT(\"PRICE_RES\"&$R$119&\"!D20\"))*U129/('Data entry needs'!$D$32*INDIRECT(\"STORAGE_RES\"&$R$119&\"!D37\")),0),0)","v":0},{"$f":"IFERROR(ROUNDUP(IF('Data entry needs'!$C$17,0,INDIRECT(\"PRICE_RES\"&$R$119&\"!D20\"))*V129/('Data entry needs'!$D$32*INDIRECT(\"STORAGE_RES\"&$R$119&\"!D37\")),0),0)","v":0},{"$f":"title445","v":"Biomass collection"},{"$f":"title442","v":"No. of employees"},{"$f":"IFERROR(ROUNDUP(IF('Data entry needs'!$C$17,0,INDIRECT(\"PRICE_RES\"&$X$119&\"!D20\"))*Y129/('Data entry needs'!$D$32*INDIRECT(\"STORAGE_RES\"&$X$119&\"!D37\")),0),0)","v":0},{"$f":"IFERROR(ROUNDUP(IF('Data entry needs'!$C$17,0,INDIRECT(\"PRICE_RES\"&$X$119&\"!D20\"))*Z129/('Data entry needs'!$D$32*INDIRECT(\"STORAGE_RES\"&$X$119&\"!D37\")),0),0)","v":0},{"$f":"IFERROR(ROUNDUP(IF('Data entry needs'!$C$17,0,INDIRECT(\"PRICE_RES\"&$X$119&\"!D20\"))*AA129/('Data entry needs'!$D$32*INDIRECT(\"STORAGE_RES\"&$X$119&\"!D37\")),0),0)","v":0},{"$f":"IFERROR(ROUNDUP(IF('Data entry needs'!$C$17,0,INDIRECT(\"PRICE_RES\"&$X$119&\"!D20\"))*AB129/('Data entry needs'!$D$32*INDIRECT(\"STORAGE_RES\"&$X$119&\"!D37\")),0),0)","v":0},{"$f":"title445","v":"Biomass collection"},{"$f":"title442","v":"No. of employees"},{"$f":"IFERROR(ROUNDUP(IF('Data entry needs'!$C$17,0,INDIRECT(\"PRICE_RES\"&$AD$119&\"!D20\"))*AE129/('Data entry needs'!$D$32*INDIRECT(\"STORAGE_RES\"&$AD$119&\"!D37\")),0),0)","v":0},{"$f":"IFERROR(ROUNDUP(IF('Data entry needs'!$C$17,0,INDIRECT(\"PRICE_RES\"&$AD$119&\"!D20\"))*AF129/('Data entry needs'!$D$32*INDIRECT(\"STORAGE_RES\"&$AD$119&\"!D37\")),0),0)","v":0},{"$f":"IFERROR(ROUNDUP(IF('Data entry needs'!$C$17,0,INDIRECT(\"PRICE_RES\"&$AD$119&\"!D20\"))*AG129/('Data entry needs'!$D$32*INDIRECT(\"STORAGE_RES\"&$AD$119&\"!D37\")),0),0)","v":0},{"$f":"IFERROR(ROUNDUP(IF('Data entry needs'!$C$17,0,INDIRECT(\"PRICE_RES\"&$AD$119&\"!D20\"))*AH129/('Data entry needs'!$D$32*INDIRECT(\"STORAGE_RES\"&$AD$119&\"!D37\")),0),0)","v":0},{"$f":"title445","v":"Biomass collection"},{"$f":"title442","v":"No. of employees"},{"$f":"IFERROR(ROUNDUP(IF('Data entry needs'!$C$17,0,INDIRECT(\"PRICE_RES\"&$AJ$119&\"!D20\"))*AK129/('Data entry needs'!$D$32*INDIRECT(\"STORAGE_RES\"&$AJ$119&\"!D37\")),0),0)","v":0},{"$f":"IFERROR(ROUNDUP(IF('Data entry needs'!$C$17,0,INDIRECT(\"PRICE_RES\"&$AJ$119&\"!D20\"))*AL129/('Data entry needs'!$D$32*INDIRECT(\"STORAGE_RES\"&$AJ$119&\"!D37\")),0),0)","v":0},{"$f":"IFERROR(ROUNDUP(IF('Data entry needs'!$C$17,0,INDIRECT(\"PRICE_RES\"&$AJ$119&\"!D20\"))*AM129/('Data entry needs'!$D$32*INDIRECT(\"STORAGE_RES\"&$AJ$119&\"!D37\")),0),0)","v":0},{"$f":"IFERROR(ROUNDUP(IF('Data entry needs'!$C$17,0,INDIRECT(\"PRICE_RES\"&$AJ$119&\"!D20\"))*AN129/('Data entry needs'!$D$32*INDIRECT(\"STORAGE_RES\"&$AJ$119&\"!D37\")),0),0)","v":0}]
[null,null,null,null,null,null,null,null,null,null,null,null,null,null,null,null,"Briquetting processes",{"$f":"title442","v":"No. of employees"},{"$f":"INDIRECT(\"COST_RES\"&$R$119&\"!F41\")+INDIRECT(\"COST_RES\"&$R$119&\"!F42\")","v":1},{"$f":"INDIRECT(\"COST_RES\"&$R$119&\"!h41\")+INDIRECT(\"COST_RES\"&$R$119&\"!h42\")","v":0},{"$f":"INDIRECT(\"COST_RES\"&$R$119&\"!j41\")+INDIRECT(\"COST_RES\"&$R$119&\"!j42\")","v":0},{"$f":"INDIRECT(\"COST_RES\"&$R$119&\"!l41\")+INDIRECT(\"COST_RES\"&$R$119&\"!l42\")","v":0},"Briquetting processes",{"$f":"title442","v":"No. of employees"},{"$f":"INDIRECT(\"COST_RES\"&$R$119&\"!F41\")+INDIRECT(\"COST_RES\"&$R$119&\"!F42\")","v":1},{"$f":"INDIRECT(\"COST_RES\"&$R$119&\"!h41\")+INDIRECT(\"COST_RES\"&$R$119&\"!h42\")","v":0},{"$f":"INDIRECT(\"COST_RES\"&$R$119&\"!j41\")+INDIRECT(\"COST_RES\"&$R$119&\"!j42\")","v":0},{"$f":"INDIRECT(\"COST_RES\"&$R$119&\"!l41\")+INDIRECT(\"COST_RES\"&$R$119&\"!l42\")","v":0},"Briquetting processes",{"$f":"title442","v":"No. of employees"},{"$f":"INDIRECT(\"COST_RES\"&$R$119&\"!F41\")+INDIRECT(\"COST_RES\"&$R$119&\"!F42\")","v":1},{"$f":"INDIRECT(\"COST_RES\"&$R$119&\"!h41\")+INDIRECT(\"COST_RES\"&$R$119&\"!h42\")","v":0},{"$f":"INDIRECT(\"COST_RES\"&$R$119&\"!j41\")+INDIRECT(\"COST_RES\"&$R$119&\"!j42\")","v":0},{"$f":"INDIRECT(\"COST_RES\"&$R$119&\"!l41\")+INDIRECT(\"COST_RES\"&$R$119&\"!l42\")","v":0},"Briquetting processes",{"$f":"title442","v":"No. of employees"},{"$f":"INDIRECT(\"COST_RES\"&$R$119&\"!F41\")+INDIRECT(\"COST_RES\"&$R$119&\"!F42\")","v":1},{"$f":"INDIRECT(\"COST_RES\"&$R$119&\"!h41\")+INDIRECT(\"COST_RES\"&$R$119&\"!h42\")","v":0},{"$f":"INDIRECT(\"COST_RES\"&$R$119&\"!j41\")+INDIRECT(\"COST_RES\"&$R$119&\"!j42\")","v":0},{"$f":"INDIRECT(\"COST_RES\"&$R$119&\"!l41\")+INDIRECT(\"COST_RES\"&$R$119&\"!l42\")","v":0}]
[]
[]
[]
[null,null,null,null,null,null,null,null,null,null,null,null,null,null,null,"Definition1",true,true,true,true]
[null,null,null,null,null,null,null,null,null,null,null,null,null,null,null,null,null,null,null,null,null,"Data"]
[null,null,null,null,null,null,null,null,null,null,null,null,null,null,null,"Chart 1","Production Cost",{"$f":"4&\" kg/h\"","v":"4 kg/h"},{"$f":"40&\" kg/h\"","v":"40 kg/h"},{"$f":"400&\" kg/h\"","v":"400 kg/h"},{"$f":"4000&\" kg/h\"","v":"4000 kg/h"},"Production Cost",{"$f":"4&\" kg/h\"","v":"4 kg/h"},{"$f":"40&\" kg/h\"","v":"40 kg/h"},{"$f":"400&\" kg/h\"","v":"400 kg/h"},{"$f":"4000&\" kg/h\"","v":"4000 kg/h"}]
[null,null,null,null,null,null,null,null,null,null,null,null,null,null,null,{"$f":"+Q155","v":true},{"$f":"+IF($P158,V158,\"\")","v":"Please Select Please Select"},{"$error":"#DIV/0!"},{"$error":"#DIV/0!"},{"$error":"#DIV/0!"},{"$error":"#DIV/0!"},{"$f":"+'Data entry needs'!$D$10&\" \"&'Data entry needs'!$D$11","v":"Please Select Please Select"},{"$f":"+S$142","v":{"$error":"#DIV/0!"}},{"$f":"+T$142","v":{"$error":"#DIV/0!"}},{"$f":"+U$142","v":{"$error":"#DIV/0!"}},{"$f":"+V$142","v":{"$error":"#DIV/0!"}}]
[null,null,null,null,null,null,null,null,null,null,null,null,null,null,null,{"$f":"+R155","v":true},"Please Select Please Select",{"$error":"#DIV/0!"},{"$error":"#DIV/0!"},{"$error":"#DIV/0!"},{"$error":"#DIV/0!"},{"$f":"+'Data entry needs'!$E$10&\" \"&'Data entry needs'!$E$11","v":"Please Select Please Select"},{"$f":"+Y$142","v":{"$error":"#DIV/0!"}},{"$f":"+Z$142","v":{"$error":"#DIV/0!"}},{"$f":"+AA$142","v":{"$error":"#DIV/0!"}},{"$f":"+AB$142","v":{"$error":"#DIV/0!"}}]
[null,null,null,null,null,null,null,null,null,null,null,null,null,null,null,{"$f":"+S155","v":true},"Please Select Please Select",{"$error":"#DIV/0!"},{"$error":"#DIV/0!"},{"$error":"#DIV/0!"},{"$error":"#DIV/0!"},{"$f":"+'Data entry needs'!$F$10&\" \"&'Data entry needs'!$F$11","v":"Please Select Please Select"},{"$f":"+AE$142","v":{"$error":"#DIV/0!"}},{"$f":"+AF$142","v":{"$error":"#DIV/0!"}},{"$f":"+AG$142","v":{"$error":"#DIV/0!"}},{"$f":"+AH$142","v":{"$error":"#DIV/0!"}}]
[null,null,null,null,null,null,null,null,null,null,null,null,null,null,null,{"$f":"+T155","v":true},"Please Select Please Select",{"$error":"#DIV/0!"},{"$error":"#DIV/0!"},{"$error":"#DIV/0!"},{"$error":"#DIV/0!"},{"$f":"+'Data entry needs'!$G$10&\" \"&'Data entry needs'!$G$11","v":"Please Select Please Select"},{"$f":"+AK$142","v":{"$error":"#DIV/0!"}},{"$f":"+AL$142","v":{"$error":"#DIV/0!"}},{"$f":"+AM$142","v":{"$error":"#DIV/0!"}},{"$f":"+AN$142","v":{"$error":"#DIV/0!"}}]
[]
[null,null,null,null,null,null,null,null,null,null,null,null,null,null,null,"Chart 2",null,{"$f":"4&\" kg/h\"","v":"4 kg/h"},{"$f":"40&\" kg/h\"","v":"40 kg/h"},{"$f":"400&\" kg/h\"","v":"400 kg/h"},{"$f":"4000&\" kg/h\"","v":"4000 kg/h"},"Plants",{"$f":"4&\" kg/h\"","v":"4 kg/h"},{"$f":"40&\" kg/h\"","v":"40 kg/h"},{"$f":"400&\" kg/h\"","v":"400 kg/h"},{"$f":"4000&\" kg/h\"","v":"4000 kg/h"}]
[null,null,null,null,null,null,null,null,null,null,null,null,null,null,null,{"$f":"+P158","v":true},{"$f":"+IF($P164,V164,\"\")","v":"Please Select Please Select"},{"$f":"+IF($P164,W164,\"\")","v":{"$error":"#DIV/0!"}},{"$f":"+IF($P164,X164,\"\")","v":{"$error":"#DIV/0!"}},{"$error":"#DIV/0!"},{"$error":"#DIV/0!"},{"$f":"+'Data entry needs'!$D$10&\" \"&'Data entry needs'!$D$11","v":"Please Select Please Select"},{"$f":"+ROUND(S$126/S$125,0)","v":{"$error":"#DIV/0!"}},{"$f":"+ROUND(T$126/T$125,0)","v":{"$error":"#DIV/0!"}},{"$f":"+ROUND(U$126/U$125,0)","v":{"$error":"#DIV/0!"}},{"$f":"+ROUND(V$126/V$125,0)","v":{"$error":"#DIV/0!"}}]
[null,null,null,null,null,null,null,null,null,null,null,null,null,null,null,{"$f":"+P159","v":true},"Please Select Please Select",{"$error":"#DIV/0!"},{"$f":"+IF($P165,X165,\"\")","v":{"$error":"#DIV/0!"}},{"$error":"#DIV/0!"},{"$error":"#DIV/0!"},{"$f":"+'Data entry needs'!$E$10&\" \"&'Data entry needs'!$E$11","v":"Please Select Please Select"},{"$f":"ROUND(Y$126/Y$125,0)","v":{"$error":"#DIV/0!"}},{"$f":"ROUND(Z$126/Z$125,0)","v":{"$error":"#DIV/0!"}},{"$f":"ROUND(AA$126/AA$125,0)","v":{"$error":"#DIV/0!"}},{"$f":"ROUND(AB$126/AB$125,0)","v":{"$error":"#DIV/0!"}}]
[null,null,null,null,null,null,null,null,null,null,null,null,null,null,null,{"$f":"+P160","v":true},"Please Select Please Select",{"$error":"#DIV/0!"},{"$error":"#DIV/0!"},{"$error":"#DIV/0!"},{"$error":"#DIV/0!"},{"$f":"+'Data entry needs'!$F$10&\" \"&'Data entry needs'!$F$11","v":"Please Select Please Select"},{"$f":"ROUND(AE$126/AE$125,0)","v":{"$error":"#DIV/0!"}},{"$f":"ROUND(AF$126/AF$125,0)","v":{"$error":"#DIV/0!"}},{"$f":"ROUND(AG$126/AG$125,0)","v":{"$error":"#DIV/0!"}},{"$f":"ROUND(AH$126/AH$125,0)","v":{"$error":"#DIV/0!"}}]
[null,null,null,null,null,null,null,null,null,null,null,null,null,null,null,{"$f":"+P161","v":true},"Please Select Please Select",{"$error":"#DIV/0!"},{"$error":"#DIV/0!"},{"$error":"#DIV/0!"},{"$error":"#DIV/0!"},{"$f":"+'Data entry needs'!$G$10&\" \"&'Data entry needs'!$G$11","v":"Please Select Please Select"},{"$f":"ROUND(AK$126/AK$125,0)","v":{"$error":"#DIV/0!"}},{"$f":"ROUND(AL$126/AL$125,0)","v":{"$error":"#DIV/0!"}},{"$f":"ROUND(AM$126/AM$125,0)","v":{"$error":"#DIV/0!"}},{"$f":"ROUND(AN$126/AN$125,0)","v":{"$error":"#DIV/0!"}}]
[null,null,null,null,null,null,null,null,null,null,null,null,null,null,null,null,null,true,null,true]
[null,null,null,null,null,null,null,null,null,null,null,null,null,null,null,"Chart 3",null,{"$f":"4&\" kg/h\"","v":"4 kg/h"},{"$f":"40&\" kg/h\"","v":"40 kg/h"},{"$f":"400&\" kg/h\"","v":"400 kg/h"},{"$f":"4000&\" kg/h\"","v":"4000 kg/h"},"npv-rural",{"$f":"4&\" kg/h\"","v":"4 kg/h"},{"$f":"40&\" kg/h\"","v":"40 kg/h"},{"$f":"400&\" kg/h\"","v":"400 kg/h"},{"$f":"4000&\" kg/h\"","v":"4000 kg/h"}]
[null,null,null,null,null,null,null,null,null,null,null,null,null,null,null,{"$f":"+P164","v":true},{"$f":"+IF(AND($R$168,$P170),V170,\"\")","v":"Please Select Please Select"},{"$f":"+IF(AND($R$168,$P170),W170,0)","v":{"$error":"#DIV/0!"}},{"$error":"#DIV/0!"},{"$error":"#DIV/0!"},{"$error":"#DIV/0!"},{"$f":"+'Data entry needs'!$D$10&\" \"&'Data entry needs'!$D$11","v":"Please Select Please Select"},{"$f":"INDIRECT(\"fa4_RURAL_RES\"&$R$119&\"!C125\")","v":{"$error":"#DIV/0!"}},{"$f":"INDIRECT(\"fa40_RURAL_RES\"&$R$119&\"!C125\")","v":{"$error":"#DIV/0!"}},{"$f":"INDIRECT(\"fa400_RURAL_RES\"&$R$119&\"!C126\")","v":{"$error":"#DIV/0!"}},{"$f":"INDIRECT(\"fa4000_RURAL_RES\"&$R$119&\"!C126\")","v":{"$error":"#DIV/0!"}}]
[null,null,null,null,null,null,null,null,null,null,null,null,null,null,null,{"$f":"+P165","v":true},{"$f":"+IF(AND($R$168,$P171),V171,\"\")","v":"Please Select Please Select"},{"$error":"#DIV/0!"},{"$error":"#DIV/0!"},{"$error":"#DIV/0!"},{"$error":"#DIV/0!"},{"$f":"+'Data entry needs'!$E$10&\" \"&'Data entry needs'!$E$11","v":"Please Select Please Select"},{"$f":"INDIRECT(\"fa4_RURAL_RES\"&$X$119&\"!C125\")","v":{"$error":"#DIV/0!"}},{"$f":"INDIRECT(\"fa40_RURAL_RES\"&$X$119&\"!C125\")","v":{"$error":"#DIV/0!"}},{"$f":"INDIRECT(\"fa400_RURAL_RES\"&$X$119&\"!C126\")","v":{"$error":"#DIV/0!"}},{"$f":"INDIRECT(\"fa4000_RURAL_RES\"&$X$119&\"!C126\")","v":{"$error":"#DIV/0!"}}]
[null,null,null,null,null,null,null,null,null,null,null,null,null,null,null,{"$f":"+P166","v":true},{"$f":"+IF(AND($R$168,$P172),V172,\"\")","v":"Please Select Please Select"},{"$error":"#DIV/0!"},{"$error":"#DIV/0!"},{"$error":"#DIV/0!"},{"$error":"#DIV/0!"},{"$f":"+'Data entry needs'!$F$10&\" \"&'Data entry needs'!$F$11","v":"Please Select Please Select"},{"$f":"INDIRECT(\"fa4_RURAL_RES\"&$AD$119&\"!C125\")","v":{"$error":"#DIV/0!"}},{"$f":"INDIRECT(\"fa40_RURAL_RES\"&$AD$119&\"!C125\")","v":{"$error":"#DIV/0!"}},{"$f":"INDIRECT(\"fa400_RURAL_RES\"&$AD$119&\"!C126\")","v":{"$error":"#DIV/0!"}},{"$f":"INDIRECT(\"fa4000_RURAL_RES\"&$AD$119&\"!C126\")","v":{"$error":"#DIV/0!"}}]
[null,null,null,null,null,null,null,null,null,null,null,null,null,null,null,{"$f":"+P167","v":true},{"$f":"+IF(AND($R$168,$P173),V173,\"\")","v":"Please Select Please Select"},{"$error":"#DIV/0!"},{"$error":"#DIV/0!"},{"$error":"#DIV/0!"},{"$error":"#DIV/0!"},{"$f":"+'Data entry needs'!$G$10&\" \"&'Data entry needs'!$G$11","v":"Please Select Please Select"},{"$f":"INDIRECT(\"fa4_RURAL_RES\"&$AJ$119&\"!C125\")","v":{"$error":"#DIV/0!"}},{"$f":"INDIRECT(\"fa40_RURAL_RES\"&$AJ$119&\"!C125\")","v":{"$error":"#DIV/0!"}},{"$f":"INDIRECT(\"fa400_RURAL_RES\"&$AJ$119&\"!C126\")","v":{"$error":"#DIV/0!"}},{"$f":"INDIRECT(\"fa4000_RURAL_RES\"&$AJ$119&\"!C126\")","v":{"$error":"#DIV/0!"}}]
[]
[null,null,null,null,null,null,null,null,null,null,null,null,null,null,null,"Chart 4",null,{"$f":"4&\" kg/h\"","v":"4 kg/h"},{"$f":"40&\" kg/h\"","v":"40 kg/h"},{"$f":"400&\" kg/h\"","v":"400 kg/h"},{"$f":"4000&\" kg/h\"","v":"4000 kg/h"},"npv-URBAN",{"$f":"4&\" kg/h\"","v":"4 kg/h"},{"$f":"40&\" kg/h\"","v":"40 kg/h"},{"$f":"400&\" kg/h\"","v":"400 kg/h"},{"$f":"4000&\" kg/h\"","v":"4000 kg/h"}]
[null,null,null,null,null,null,null,null,null,null,null,null,null,null,null,{"$f":"+P170","v":true},{"$f":"+IF(AND($T$168,$P176),V176,\"\")","v":"Please Select Please Select"},{"$f":"+IF(AND($T$168,$P176),W176,0)","v":{"$error":"#DIV/0!"}},{"$error":"#DIV/0!"},{"$error":"#DIV/0!"},{"$error":"#DIV/0!"},{"$f":"+'Data entry needs'!$D$10&\" \"&'Data entry needs'!$D$11","v":"Please Select Please Select"},{"$f":"INDIRECT(\"fa4_URBAN_RES\"&$R$119&\"!C125\")","v":{"$error":"#DIV/0!"}},{"$f":"INDIRECT(\"fa40_URBAN_RES\"&$R$119&\"!C125\")","v":{"$error":"#DIV/0!"}},{"$f":"INDIRECT(\"fa400_URBAN_RES\"&$R$119&\"!C126\")","v":{"$error":"#DIV/0!"}},{"$f":"INDIRECT(\"fa4000_URBAN_RES\"&$R$119&\"!C126\")","v":{"$error":"#DIV/0!"}}]
[null,null,null,null,null,null,null,null,null,null,null,null,null,null,null,{"$f":"+P171","v":true},{"$f":"+IF(AND($T$168,$P177),V177,\"\")","v":"Please Select Please Select"},{"$error":"#DIV/0!"},{"$error":"#DIV/0!"},{"$error":"#DIV/0!"},{"$error":"#DIV/0!"},{"$f":"+'Data entry needs'!$E$10&\" \"&'Data entry needs'!$E$11","v":"Please Select Please Select"},{"$f":"INDIRECT(\"fa4_URBAN_RES\"&$X$119&\"!C125\")","v":{"$error":"#DIV/0!"}},{"$f":"INDIRECT(\"fa40_URBAN_RES\"&$X$119&\"!C125\")","v":{"$error":"#DIV/0!"}},{"$f":"INDIRECT(\"fa400_URBAN_RES\"&$X$119&\"!C126\")","v":{"$error":"#DIV/0!"}},{"$f":"INDIRECT(\"fa4000_URBAN_RES\"&$X$119&\"!C126\")","v":{"$error":"#DIV/0!"}}]
[null,null,null,null,null,null,null,null,null,null,null,null,null,null,null,{"$f":"+P172","v":true},{"$f":"+IF(AND($T$168,$P178),V178,\"\")","v":"Please Select Please Select"},{"$error":"#DIV/0!"},{"$error":"#DIV/0!"},{"$error":"#DIV/0!"},{"$error":"#DIV/0!"},{"$f":"+'Data entry needs'!$F$10&\" \"&'Data entry needs'!$F$11","v":"Please Select Please Select"},{"$f":"INDIRECT(\"fa4_URBAN_RES\"&$AD$119&\"!C125\")","v":{"$error":"#DIV/0!"}},{"$f":"INDIRECT(\"fa40_URBAN_RES\"&$AD$119&\"!C125\")","v":{"$error":"#DIV/0!"}},{"$f":"INDIRECT(\"fa400_URBAN_RES\"&$AD$119&\"!C126\")","v":{"$error":"#DIV/0!"}},{"$f":"INDIRECT(\"fa4000_URBAN_RES\"&$AD$119&\"!C126\")","v":{"$error":"#DIV/0!"}}]
[null,null,null,null,null,null,null,null,null,null,null,null,null,null,null,{"$f":"+P173","v":true},{"$f":"+IF(AND($T$168,$P179),V179,\"\")","v":"Please Select Please Select"},{"$error":"#DIV/0!"},{"$error":"#DIV/0!"},{"$error":"#DIV/0!"},{"$error":"#DIV/0!"},{"$f":"+'Data entry needs'!$G$10&\" \"&'Data entry needs'!$G$11","v":"Please Select Please Select"},{"$f":"INDIRECT(\"fa4_URBAN_RES\"&$AJ$119&\"!C125\")","v":{"$error":"#DIV/0!"}},{"$f":"INDIRECT(\"fa40_URBAN_RES\"&$AJ$119&\"!C125\")","v":{"$error":"#DIV/0!"}},{"$f":"INDIRECT(\"fa400_URBAN_RES\"&$AJ$119&\"!C126\")","v":{"$error":"#DIV/0!"}},{"$f":"INDIRECT(\"fa4000_URBAN_RES\"&$AJ$119&\"!C126\")","v":{"$error":"#DIV/0!"}}]
[]
[null,null,null,null,null,null,null,null,null,null,null,null,null,null,null,"Chart 5",null,null,null,null,null,"IRR-rural",{"$f":"4&\" kg/h\"","v":"4 kg/h"},{"$f":"40&\" kg/h\"","v":"40 kg/h"},{"$f":"400&\" kg/h\"","v":"400 kg/h"},{"$f":"4000&\" kg/h\"","v":"4000 kg/h"}]
[null,null,null,null,null,null,null,null,null,null,null,null,null,null,null,{"$f":"+P176","v":true},null,null,null,null,null,{"$f":"+'Data entry needs'!$D$10&\" \"&'Data entry needs'!$D$11","v":"Please Select Please Select"},{"$f":"INDIRECT(\"fa4_RURAL_RES\"&$R$119&\"!C126\")","v":{"$error":"#DIV/0!"}},{"$f":"INDIRECT(\"fa40_RURAL_RES\"&$R$119&\"!C126\")","v":{"$error":"#DIV/0!"}},{"$f":"INDIRECT(\"fa400_RURAL_RES\"&$R$119&\"!C127\")","v":{"$error":"#DIV/0!"}},{"$f":"INDIRECT(\"fa4000_RURAL_RES\"&$R$119&\"!C127\")","v":{"$error":"#DIV/0!"}}]
[null,null,null,null,null,null,null,null,null,null,null,null,null,null,null,{"$f":"+P177","v":true},null,null,null,null,null,{"$f":"+'Data entry needs'!$E$10&\" \"&'Data entry needs'!$E$11","v":"Please Select Please Select"},{"$f":"INDIRECT(\"fa4_RURAL_RES\"&$X$119&\"!C126\")","v":{"$error":"#DIV/0!"}},{"$f":"INDIRECT(\"fa40_RURAL_RES\"&$X$119&\"!C126\")","v":{"$error":"#DIV/0!"}},{"$f":"INDIRECT(\"fa400_RURAL_RES\"&$X$119&\"!C127\")","v":{"$error":"#DIV/0!"}},{"$f":"INDIRECT(\"fa4000_RURAL_RES\"&$X$119&\"!C127\")","v":{"$error":"#DIV/0!"}}]
[null,null,null,null,null,null,null,null,null,null,null,null,null,null,null,{"$f":"+P178","v":true},null,null,null,null,null,{"$f":"+'Data entry needs'!$F$10&\" \"&'Data entry needs'!$F$11","v":"Please Select Please Select"},{"$f":"INDIRECT(\"fa4_RURAL_RES\"&$AD$119&\"!C126\")","v":{"$error":"#DIV/0!"}},{"$f":"INDIRECT(\"fa40_RURAL_RES\"&$AD$119&\"!C126\")","v":{"$error":"#DIV/0!"}},{"$f":"INDIRECT(\"fa400_RURAL_RES\"&$AD$119&\"!C127\")","v":{"$error":"#DIV/0!"}},{"$f":"INDIRECT(\"fa4000_RURAL_RES\"&$AD$119&\"!C127\")","v":{"$error":"#DIV/0!"}}]
[null,null,null,null,null,null,null,null,null,null,null,null,null,null,null,{"$f":"+P179","v":true},null,null,null,null,null,{"$f":"+'Data entry needs'!$G$10&\" \"&'Data entry needs'!$G$11","v":"Please Select Please Select"},{"$f":"INDIRECT(\"fa4_RURAL_RES\"&$AJ$119&\"!C126\")","v":{"$error":"#DIV/0!"}},{"$f":"INDIRECT(\"fa40_RURAL_RES\"&$AJ$119&\"!C126\")","v":{"$error":"#DIV/0!"}},{"$f":"INDIRECT(\"fa400_RURAL_RES\"&$AJ$119&\"!C127\")","v":{"$error":"#DIV/0!"}},{"$f":"INDIRECT(\"fa4000_RURAL_RES\"&$AJ$119&\"!C127\")","v":{"$error":"#DIV/0!"}}]
[]
[null,null,null,null,null,null,null,null,null,null,null,null,null,null,null,"Chart 6",null,null,null,null,null,"IRR-URBAN",{"$f":"4&\" kg/h\"","v":"4 kg/h"},{"$f":"40&\" kg/h\"","v":"40 kg/h"},{"$f":"400&\" kg/h\"","v":"400 kg/h"},{"$f":"4000&\" kg/h\"","v":"4000 kg/h"}]
[null,null,null,null,null,null,null,null,null,null,null,null,null,null,null,{"$f":"+P182","v":true},null,null,null,null,null,{"$f":"+'Data entry needs'!$D$10&\" \"&'Data entry needs'!$D$11","v":"Please Select Please Select"},{"$f":"INDIRECT(\"fa4_URBAN_RES\"&$R$119&\"!C126\")","v":{"$error":"#DIV/0!"}},{"$f":"INDIRECT(\"fa40_URBAN_RES\"&$R$119&\"!C126\")","v":{"$error":"#DIV/0!"}},{"$f":"INDIRECT(\"fa400_URBAN_RES\"&$R$119&\"!C127\")","v":{"$error":"#DIV/0!"}},{"$f":"INDIRECT(\"fa4000_URBAN_RES\"&$R$119&\"!C127\")","v":{"$error":"#DIV/0!"}}]
[null,null,null,null,null,null,null,null,null,null,null,null,null,null,null,{"$f":"+P183","v":true},null,null,null,null,null,{"$f":"+'Data entry needs'!$E$10&\" \"&'Data entry needs'!$E$11","v":"Please Select Please Select"},{"$f":"INDIRECT(\"fa4_URBAN_RES\"&$X$119&\"!C126\")","v":{"$error":"#DIV/0!"}},{"$f":"INDIRECT(\"fa40_URBAN_RES\"&$X$119&\"!C126\")","v":{"$error":"#DIV/0!"}},{"$f":"INDIRECT(\"fa400_URBAN_RES\"&$X$119&\"!C127\")","v":{"$error":"#DIV/0!"}},{"$f":"INDIRECT(\"fa4000_URBAN_RES\"&$X$119&\"!C127\")","v":{"$error":"#DIV/0!"}}]
[null,null,null,null,null,null,null,null,null,null,null,null,null,null,null,{"$f":"+P184","v":true},null,null,null,null,null,{"$f":"+'Data entry needs'!$F$10&\" \"&'Data entry needs'!$F$11","v":"Please Select Please Select"},{"$f":"INDIRECT(\"fa4_URBAN_RES\"&$AD$119&\"!C126\")","v":{"$error":"#DIV/0!"}},{"$f":"INDIRECT(\"fa40_URBAN_RES\"&$AD$119&\"!C126\")","v":{"$error":"#DIV/0!"}},{"$f":"INDIRECT(\"fa400_URBAN_RES\"&$AD$119&\"!C127\")","v":{"$error":"#DIV/0!"}},{"$f":"INDIRECT(\"fa4000_URBAN_RES\"&$AD$119&\"!C127\")","v":{"$error":"#DIV/0!"}}]
[null,null,null,null,null,null,null,null,null,null,null,null,null,null,null,{"$f":"+P185","v":true},null,null,null,null,null,{"$f":"+'Data entry needs'!$G$10&\" \"&'Data entry needs'!$G$11","v":"Please Select Please Select"},{"$f":"INDIRECT(\"fa4_URBAN_RES\"&$AJ$119&\"!C126\")","v":{"$error":"#DIV/0!"}},{"$f":"INDIRECT(\"fa40_URBAN_RES\"&$AJ$119&\"!C126\")","v":{"$error":"#DIV/0!"}},{"$f":"INDIRECT(\"fa400_URBAN_RES\"&$AJ$119&\"!C127\")","v":{"$error":"#DIV/0!"}},{"$f":"INDIRECT(\"fa4000_URBAN_RES\"&$AJ$119&\"!C127\")","v":{"$error":"#DIV/0!"}}]
[]
[null,null,null,null,null,null,null,null,null,null,null,null,null,null,null,"Chart 7-jobs",null,{"$f":"4&\" kg/h\"","v":"4 kg/h"},{"$f":"40&\" kg/h\"","v":"40 kg/h"},{"$f":"400&\" kg/h\"","v":"400 kg/h"},{"$f":"4000&\" kg/h\"","v":"4000 kg/h"}]
[null,null,null,null,null,null,null,null,null,null,null,null,null,null,null,{"$f":"+P188","v":true},{"$f":"+IF($P194,V158,\"\")","v":"Please Select Please Select"},{"$f":"+IFERROR(IF($P194,S$149*R164,\"\"),\"\")","v":""},{"$f":"+IFERROR(IF($P194,T$149*S164,\"\"),\"\")","v":""},{"$f":"+IFERROR(IF($P194,U$149*T164,\"\"),\"\")","v":""},{"$f":"+IFERROR(IF($P194,V$149*U164,\"\"),\"\")","v":""},{"$f":"+MAX(R194:U197)*1.2","v":0}]
[null,null,null,null,null,null,null,null,null,null,null,null,null,null,null,{"$f":"+P189","v":true},{"$f":"+IF($P195,V159,\"\")","v":"Please Select Please Select"},{"$f":"+IFERROR(IF($P195,Y$149*R165,\"\"),\"\")","v":""},{"$f":"+IFERROR(IF($P195,Z$149*S165,\"\"),\"\")","v":""},{"$f":"+IFERROR(IF($P195,AA$149*T165,\"\"),\"\")","v":""},{"$f":"+IFERROR(IF($P195,AB$149*U165,\"\"),\"\")","v":""}]
[null,null,null,null,null,null,null,null,null,null,null,null,null,null,null,{"$f":"+P190","v":true},{"$f":"+IF($P196,V160,\"\")","v":"Please Select Please Select"},{"$f":"+IFERROR(IF($P196,AE$149*R166,\"\"),\"\")","v":""},{"$f":"+IFERROR(IF($P196,AF$149*S166,\"\"),\"\")","v":""},{"$f":"+IFERROR(IF($P196,AG$149*T166,\"\"),\"\")","v":""},{"$f":"+IFERROR(IF($P196,AH$149*U166,\"\"),\"\")","v":""}]
[null,null,null,null,null,null,null,null,null,null,null,null,null,null,null,{"$f":"+P191","v":true},{"$f":"+IF($P197,V161,\"\")","v":"Please Select Please Select"},{"$f":"+IFERROR(IF($P197,AK$149*R167,\"\"),\"\")","v":""},{"$f":"+IFERROR(IF($P197,AL$149*S167,\"\"),\"\")","v":""},{"$f":"+IFERROR(IF($P197,AM$149*T167,\"\"),\"\")","v":""},{"$f":"+IFERROR(IF($P197,AN$149*U167,\"\"),\"\")","v":""}]
[]
[]
[]
[null,null,null,null,null,null,null,null,null,null,null,null,null,null,null,"chart 8",null,{"$f":"4&\" kg/h\"","v":"4 kg/h"},{"$f":"40&\" kg/h\"","v":"40 kg/h"},{"$f":"400&\" kg/h\"","v":"400 kg/h"},{"$f":"4000&\" kg/h\"","v":"4000 kg/h"}]
[null,null,null,null,null,null,null,null,null,null,null,null,null,null,null,{"$f":"+$P$158","v":true},{"$f":"+IF($P202,$Q$158,\"\")","v":"Please Select Please Select"},{"$f":"+R$158*(1+$J$1)","v":{"$error":"#DIV/0!"}},{"$f":"+S$158*(1+$J$1)","v":{"$error":"#DIV/0!"}},{"$f":"+T$158*(1+$J$1)","v":{"$error":"#DIV/0!"}},{"$f":"+U$158*(1+$J$1)","v":{"$error":"#DIV/0!"}}]
[null,null,null,null,null,null,null,null,null,null,null,null,null,null,null,{"$f":"+$P$158","v":true},{"$f":"+IF($P203,$Q$158,\"\")","v":"Please Select Please Select"},{"$f":"+IF($J$1>0,R$158*(1-$J$1),0)","v":{"$error":"#DIV/0!"}},{"$f":"+IF($J$1>0,S$158*(1-$J$1),0)","v":{"$error":"#DIV/0!"}},{"$f":"+IF($J$1>0,T$158*(1-$J$1),0)","v":{"$error":"#DIV/0!"}},{"$f":"+IF($J$1>0,U$158*(1-$J$1),0)","v":{"$error":"#DIV/0!"}}]
[null,null,null,null,null,null,null,null,null,null,null,null,null,null,null,{"$f":"+$P$159","v":true},{"$f":"+IF($P204,$Q$159,\"\")","v":"Please Select Please Select"},{"$f":"+R$159*(1+$J$1)","v":{"$error":"#DIV/0!"}},{"$f":"+S$159*(1+$J$1)","v":{"$error":"#DIV/0!"}},{"$f":"+T$159*(1+$J$1)","v":{"$error":"#DIV/0!"}},{"$f":"+U$159*(1+$J$1)","v":{"$error":"#DIV/0!"}}]
[null,null,null,null,null,null,null,null,null,null,null,null,null,null,null,{"$f":"+$P$159","v":true},{"$f":"+IF($P205,$Q$159,\"\")","v":"Please Select Please Select"},{"$f":"+IF($J$1>0,R$159*(1-$J$1),0)","v":{"$error":"#DIV/0!"}},{"$f":"+IF($J$1>0,S$159*(1-$J$1),0)","v":{"$error":"#DIV/0!"}},{"$f":"+IF($J$1>0,T$159*(1-$J$1),0)","v":{"$error":"#DIV/0!"}},{"$f":"+IF($J$1>0,U$159*(1-$J$1),0)","v":{"$error":"#DIV/0!"}}]
[null,null,null,null,null,null,null,null,null,null,null,null,null,null,null,{"$f":"+$P$160","v":true},{"$f":"+IF($P206,$Q$160,\"\")","v":"Please Select Please Select"},{"$f":"+R$160*(1+$J$1)","v":{"$error":"#DIV/0!"}},{"$f":"+S$160*(1+$J$1)","v":{"$error":"#DIV/0!"}},{"$f":"+T$160*(1+$J$1)","v":{"$error":"#DIV/0!"}},{"$f":"+U$160*(1+$J$1)","v":{"$error":"#DIV/0!"}}]
[null,null,null,null,null,null,null,null,null,null,null,null,null,null,null,{"$f":"+$P$160","v":true},{"$f":"+IF($P207,$Q$160,\"\")","v":"Please Select Please Select"},{"$f":"+IF($J$1>0,R$160*(1-$J$1),0)","v":{"$error":"#DIV/0!"}},{"$f":"+IF($J$1>0,S$160*(1-$J$1),0)","v":{"$error":"#DIV/0!"}},{"$f":"+IF($J$1>0,T$160*(1-$J$1),0)","v":{"$error":"#DIV/0!"}},{"$f":"+IF($J$1>0,U$160*(1-$J$1),0)","v":{"$error":"#DIV/0!"}}]
[null,null,null,null,null,null,null,null,null,null,null,null,null,null,null,{"$f":"+$P$161","v":true},{"$f":"+IF($P208,$Q$161,\"\")","v":"Please Select Please Select"},{"$f":"+R$161*(1+$J$1)","v":{"$error":"#DIV/0!"}},{"$f":"+S$161*(1+$J$1)","v":{"$error":"#DIV/0!"}},{"$f":"+T$161*(1+$J$1)","v":{"$error":"#DIV/0!"}},{"$f":"+U$161*(1+$J$1)","v":{"$error":"#DIV/0!"}}]
[null,null,null,null,null,null,null,null,null,null,null,null,null,null,null,{"$f":"+$P$161","v":true},{"$f":"+IF($P209,$Q$161,\"\")","v":"Please Select Please Select"},{"$f":"+IF($J$1>0,R$161*(1-$J$1),0)","v":{"$error":"#DIV/0!"}},{"$f":"+IF($J$1>0,S$161*(1-$J$1),0)","v":{"$error":"#DIV/0!"}},{"$f":"+IF($J$1>0,T$161*(1-$J$1),0)","v":{"$error":"#DIV/0!"}},{"$f":"+IF($J$1>0,U$161*(1-$J$1),0)","v":{"$error":"#DIV/0!"}}]
[]
[]
[]
[null,null,null,null,null,null,null,null,null,null,null,null,null,null,null,{"$f":"+Q202","v":"Please Select Please Select"},null,null,null,{"$f":"+Q204","v":"Please Select Please Select"},null,null,null,{"$f":"+Q206","v":"Please Select Please Select"},null,null,null,{"$f":"+Q208","v":"Please Select Please Select"}]
[null,null,null,null,null,null,null,null,null,null,null,null,null,null,null,{"$f":"4&\" kg/h\"","v":"4 kg/h"},{"$f":"40&\" kg/h\"","v":"40 kg/h"},{"$f":"400&\" kg/h\"","v":"400 kg/h"},{"$f":"4000&\" kg/h\"","v":"4000 kg/h"},{"$f":"4&\" kg/h\"","v":"4 kg/h"},{"$f":"40&\" kg/h\"","v":"40 kg/h"},{"$f":"400&\" kg/h\"","v":"400 kg/h"},{"$f":"4000&\" kg/h\"","v":"4000 kg/h"},{"$f":"4&\" kg/h\"","v":"4 kg/h"},{"$f":"40&\" kg/h\"","v":"40 kg/h"},{"$f":"400&\" kg/h\"","v":"400 kg/h"},{"$f":"4000&\" kg/h\"","v":"4000 kg/h"},{"$f":"4&\" kg/h\"","v":"4 kg/h"},{"$f":"40&\" kg/h\"","v":"40 kg/h"},{"$f":"400&\" kg/h\"","v":"400 kg/h"},{"$f":"4000&\" kg/h\"","v":"4000 kg/h"}]
[null,null,null,null,null,null,null,null,null,null,null,null,null,null,null,{"$f":"+R$202","v":{"$error":"#DIV/0!"}},{"$f":"+S$202","v":{"$error":"#DIV/0!"}},{"$f":"+T$202","v":{"$error":"#DIV/0!"}},{"$f":"+U$202","v":{"$error":"#DIV/0!"}},{"$f":"+R$204","v":{"$error":"#DIV/0!"}},{"$f":"+S$204","v":{"$error":"#DIV/0!"}},{"$f":"+T$204","v":{"$error":"#DIV/0!"}},{"$f":"+U$204","v":{"$error":"#DIV/0!"}},{"$f":"+R$206","v":{"$error":"#DIV/0!"}},{"$f":"+S$206","v":{"$error":"#DIV/0!"}},{"$f":"+T$206","v":{"$error":"#DIV/0!"}},{"$f":"+U$206","v":{"$error":"#DIV/0!"}},{"$f":"+R$208","v":{"$error":"#DIV/0!"}},{"$f":"+S$208","v":{"$error":"#DIV/0!"}},{"$f":"+T$208","v":{"$error":"#DIV/0!"}},{"$f":"+U$208","v":{"$error":"#DIV/0!"}}]
[null,null,null,null,null,null,null,null,null,null,null,null,null,null,null,{"$f":"+R$203","v":{"$error":"#DIV/0!"}},{"$f":"+S$203","v":{"$error":"#DIV/0!"}},{"$f":"+T$203","v":{"$error":"#DIV/0!"}},{"$f":"+U$203","v":{"$error":"#DIV/0!"}},{"$f":"+R$205","v":{"$error":"#DIV/0!"}},{"$f":"+S$205","v":{"$error":"#DIV/0!"}},{"$f":"+T$205","v":{"$error":"#DIV/0!"}},{"$f":"+U$205","v":{"$error":"#DIV/0!"}},{"$f":"+R$207","v":{"$error":"#DIV/0!"}},{"$f":"+S$207","v":{"$error":"#DIV/0!"}},{"$f":"+T$207","v":{"$error":"#DIV/0!"}},{"$f":"+U$207","v":{"$error":"#DIV/0!"}},{"$f":"+R$209","v":{"$error":"#DIV/0!"}},{"$f":"+S$209","v":{"$error":"#DIV/0!"}},{"$f":"+T$209","v":{"$error":"#DIV/0!"}},{"$f":"+U$209","v":{"$error":"#DIV/0!"}}]
[null,null,null,null,null,null,null,null,null,null,null,null,null,true,{"$f":"+IF($N217,title447,\"\")","v":"Market price rural (USD/kg)"},{"$f":"+IF($N$217,'Energy Demand'!$E$20,\"\")","v":0},{"$f":"+IF($N$217,'Energy Demand'!$E$20,\"\")","v":0},{"$f":"+IF($N$217,'Energy Demand'!$E$20,\"\")","v":0},{"$f":"+IF($N$217,'Energy Demand'!$E$20,\"\")","v":0},{"$f":"+IF($N$217,'Energy Demand'!$E$20,\"\")","v":0},{"$f":"+IF($N$217,'Energy Demand'!$E$20,\"\")","v":0},{"$f":"+IF($N$217,'Energy Demand'!$E$20,\"\")","v":0},{"$f":"+IF($N$217,'Energy Demand'!$E$20,\"\")","v":0},{"$f":"+IF($N$217,'Energy Demand'!$E$20,\"\")","v":0},{"$f":"+IF($N$217,'Energy Demand'!$E$20,\"\")","v":0},{"$f":"+IF($N$217,'Energy Demand'!$E$20,\"\")","v":0},{"$f":"+IF($N$217,'Energy Demand'!$E$20,\"\")","v":0},{"$f":"+IF($N$217,'Energy Demand'!$E$20,\"\")","v":0},{"$f":"+IF($N$217,'Energy Demand'!$E$20,\"\")","v":0},{"$f":"+IF($N$217,'Energy Demand'!$E$20,\"\")","v":0},{"$f":"+IF($N$217,'Energy Demand'!$E$20,\"\")","v":0},{"$f":"+IF($N$217,'Energy Demand'!$E$20,\"\")","v":0},{"$f":"+IF($N$217,'Energy Demand'!$E$20,\"\")","v":0}]
[null,null,null,null,null,null,null,null,null,null,null,null,null,true,{"$f":"+IF($N218,title448,\"\")","v":"Market price urban (USD/kg)"},{"$f":"+IF($N$218,'Energy Demand'!$G$20,\"\")","v":0},{"$f":"+IF($N$218,'Energy Demand'!$G$20,\"\")","v":0},{"$f":"+IF($N$218,'Energy Demand'!$G$20,\"\")","v":0},{"$f":"+IF($N$218,'Energy Demand'!$G$20,\"\")","v":0},{"$f":"+IF($N$218,'Energy Demand'!$G$20,\"\")","v":0},{"$f":"+IF($N$218,'Energy Demand'!$G$20,\"\")","v":0},{"$f":"+IF($N$218,'Energy Demand'!$G$20,\"\")","v":0},{"$f":"+IF($N$218,'Energy Demand'!$G$20,\"\")","v":0},{"$f":"+IF($N$218,'Energy Demand'!$G$20,\"\")","v":0},{"$f":"+IF($N$218,'Energy Demand'!$G$20,\"\")","v":0},{"$f":"+IF($N$218,'Energy Demand'!$G$20,\"\")","v":0},{"$f":"+IF($N$218,'Energy Demand'!$G$20,\"\")","v":0},{"$f":"+IF($N$218,'Energy Demand'!$G$20,\"\")","v":0},{"$f":"+IF($N$218,'Energy Demand'!$G$20,\"\")","v":0},{"$f":"+IF($N$218,'Energy Demand'!$G$20,\"\")","v":0},{"$f":"+IF($N$218,'Energy Demand'!$G$20,\"\")","v":0},{"$f":"+IF($N$218,'Energy Demand'!$G$20,\"\")","v":0},{"$f":"+IF($N$218,'Energy Demand'!$G$20,\"\")","v":0}]
[null,null,null,null,null,null,null,null,null,null,null,null,null,null,null,{"$f":"+IFERROR(IF($P194,S$149*R164,\"\"),\"\")","v":""},{"$f":"+IFERROR(IF($P194,T$149*S164,\"\"),\"\")","v":""},{"$f":"+IFERROR(IF($P194,U$149*T164,\"\"),\"\")","v":""},{"$f":"+IFERROR(IF($P194,V$149*U164,\"\"),\"\")","v":""},{"$f":"+IFERROR(IF($P195,Y$149*R165,\"\"),\"\")","v":""},{"$f":"+IFERROR(IF($P195,Z$149*S165,\"\"),\"\")","v":""},{"$f":"+IFERROR(IF($P195,AA$149*T165,\"\"),\"\")","v":""},{"$f":"+IFERROR(IF($P195,AB$149*U165,\"\"),\"\")","v":""},{"$f":"+IFERROR(IF($P196,AE$149*R166,\"\"),\"\")","v":""},{"$f":"+IFERROR(IF($P196,AF$149*S166,\"\"),\"\")","v":""},{"$f":"+IFERROR(IF($P196,AG$149*T166,\"\"),\"\")","v":""},{"$f":"+IFERROR(IF($P196,AH$149*U166,\"\"),\"\")","v":""},{"$f":"+IFERROR(IF($P197,AK$149*R167,\"\"),\"\")","v":""},{"$f":"+IFERROR(IF($P197,AL$149*S167,\"\"),\"\")","v":""},{"$f":"+IFERROR(IF($P197,AM$149*T167,\"\"),\"\")","v":""},{"$f":"+IFERROR(IF($P197,AN$149*U167,\"\"),\"\")","v":""}]
[]
[null,null,null,null,null,null,null,null,null,null,null,null,null,null,null,"chart 9 "]
[null,null,null,null,null,null,null,null,null,null,null,null,null,null,null,null,"Annual Prodcution (t/year)","Transformation Efficiencty (%)",null,{"$f":"4&\" kg/h\"","v":"4 kg/h"},{"$f":"40&\" kg/h\"","v":"40 kg/h"},{"$f":"400&\" kg/h\"","v":"400 kg/h"},{"$f":"4000&\" kg/h\"","v":"4000 kg/h"}]
[null,null,null,null,null,null,null,null,null,null,null,null,null,null,null,{"$f":"4&\" kg/h\"","v":"4 kg/h"},{"$f":"COST_RES1!$F$29","v":0},{"$f":"COST_RES1!$G$12","v":0},"Rural HH",{"$f":"+ROUNDDOWN($Q223/$W$111,0)","v":{"$error":"#DIV/0!"}},{"$f":"+ROUNDDOWN($Q224/$W$111,0)","v":{"$error":"#DIV/0!"}},{"$f":"+ROUNDDOWN($Q225/$W$111,0)","v":{"$error":"#DIV/0!"}},{"$f":"+ROUNDDOWN($Q226/$W$111,0)","v":{"$error":"#DIV/0!"}}]
[null,null,null,null,null,null,null,null,null,null,null,null,null,null,null,{"$f":"40&\" kg/h\"","v":"40 kg/h"},{"$f":"COST_RES1!$H$29","v":0},{"$f":"COST_RES2!$G$12","v":0},"Urban HH",{"$f":"+ROUNDDOWN($Q223/$W$112,0)","v":{"$error":"#DIV/0!"}},{"$f":"+ROUNDDOWN($Q224/$W$112,0)","v":{"$error":"#DIV/0!"}},{"$f":"+ROUNDDOWN($Q225/$W$112,0)","v":{"$error":"#DIV/0!"}},{"$f":"+ROUNDDOWN($Q226/$W$112,0)","v":{"$error":"#DIV/0!"}}]
[null,null,null,null,null,null,null,null,null,null,null,null,null,null,null,{"$f":"400&\" kg/h\"","v":"400 kg/h"},{"$f":"COST_RES1!$J$29","v":0},{"$f":"COST_RES3!$G$12","v":0}]
[null,null,null,null,null,null,null,null,null,null,null,null,null,null,null,{"$f":"4000&\" kg/h\"","v":"4000 kg/h"},{"$f":"COST_RES1!$L$29","v":0},{"$f":"COST_RES4!$G$12","v":0}]
[]
[null,null,null,null,null,null,null,null,null,null,null,null,null,null,null,"CHART 10",null,null,{"$f":"4&\" kg/h\"","v":"4 kg/h"},{"$f":"40&\" kg/h\"","v":"40 kg/h"},{"$f":"400&\" kg/h\"","v":"400 kg/h"},{"$f":"4000&\" kg/h\"","v":"4000 kg/h"}]
[null,null,null,null,null,null,null,null,null,null,null,null,null,null,null,{"$f":"+$P$158","v":true},{"$f":"+IF($P229,$Q$158,\"\")","v":"Please Select Please Select"},{"$f":"title414","v":"Rural"},{"$f":"+IF($P229,T$223*R$164,\"\")","v":{"$error":"#DIV/0!"}},{"$f":"+IF($P229,U$223*S$164,\"\")","v":{"$error":"#DIV/0!"}},{"$f":"+IF($P229,V$223*T$164,\"\")","v":{"$error":"#DIV/0!"}},{"$f":"+IF($P229,W$223*U$164,\"\")","v":{"$error":"#DIV/0!"}},{"$f":"AVERAGE(S229:V229)","v":{"$error":"#DIV/0!"}}]
[null,null,null,null,null,null,null,null,null,null,null,null,null,null,null,{"$f":"+$P$158","v":true},null,{"$f":"title415","v":"Urban"},{"$f":"+IF($P230,T$224*R$164,\"\")","v":{"$error":"#DIV/0!"}},{"$f":"+IF($P230,U$224*S$164,\"\")","v":{"$error":"#DIV/0!"}},{"$f":"+IF($P230,V$224*T$164,\"\")","v":{"$error":"#DIV/0!"}},{"$f":"+IF($P230,W$224*U$164,\"\")","v":{"$error":"#DIV/0!"}},{"$f":"AVERAGE(S230:V230)","v":{"$error":"#DIV/0!"}}]
[null,null,null,null,null,null,null,null,null,null,null,null,null,null,null,{"$f":"+$P$159","v":true},{"$f":"+IF($P231,$Q$159,\"\")","v":"Please Select Please Select"},{"$f":"title414","v":"Rural"},{"$f":"+IF($P231,T$223*R$165,\"\")","v":{"$error":"#DIV/0!"}},{"$f":"+IF($P231,U$223*S$165,\"\")","v":{"$error":"#DIV/0!"}},{"$f":"+IF($P231,V$223*T$165,\"\")","v":{"$error":"#DIV/0!"}},{"$f":"+IF($P231,W$223*U$165,\"\")","v":{"$error":"#DIV/0!"}},{"$f":"AVERAGE(S231:V231)","v":{"$error":"#DIV/0!"}}]
[null,null,null,null,null,null,null,null,null,null,null,null,null,null,null,{"$f":"+$P$159","v":true},null,{"$f":"title415","v":"Urban"},{"$f":"+IF($P232,T$224*R$165,\"\")","v":{"$error":"#DIV/0!"}},{"$f":"+IF($P232,U$224*S$165,\"\")","v":{"$error":"#DIV/0!"}},{"$f":"+IF($P232,V$224*T$165,\"\")","v":{"$error":"#DIV/0!"}},{"$f":"+IF($P232,W$224*U$165,\"\")","v":{"$error":"#DIV/0!"}},{"$f":"AVERAGE(S232:V232)","v":{"$error":"#DIV/0!"}}]
[null,null,null,null,null,null,null,null,null,null,null,null,null,null,null,{"$f":"+$P$160","v":true},{"$f":"+IF($P233,$Q$160,\"\")","v":"Please Select Please Select"},{"$f":"title414","v":"Rural"},{"$f":"+IF($P233,T$223*R$166,\"\")","v":{"$error":"#DIV/0!"}},{"$f":"+IF($P233,U$223*S$166,\"\")","v":{"$error":"#DIV/0!"}},{"$f":"+IF($P233,V$223*T$166,\"\")","v":{"$error":"#DIV/0!"}},{"$f":"+IF($P233,W$223*U$166,\"\")","v":{"$error":"#DIV/0!"}},{"$error":"#DIV/0!"}]
[null,null,null,null,null,null,null,null,null,null,null,null,null,null,null,{"$f":"+$P$160","v":true},null,{"$f":"title415","v":"Urban"},{"$f":"+IF($P234,T$224*R$166,\"\")","v":{"$error":"#DIV/0!"}},{"$f":"+IF($P234,U$224*S$166,\"\")","v":{"$error":"#DIV/0!"}},{"$f":"+IF($P234,V$224*T$166,\"\")","v":{"$error":"#DIV/0!"}},{"$f":"+IF($P234,W$224*U$166,\"\")","v":{"$error":"#DIV/0!"}},{"$error":"#DIV/0!"}]
[null,null,null,null,null,null,null,null,null,null,null,null,null,null,null,{"$f":"+$P$161","v":true},{"$f":"+IF($P235,$Q$161,\"\")","v":"Please Select Please Select"},{"$f":"title414","v":"Rural"},{"$f":"+IF($P235,T$223*R$167,\"\")","v":{"$error":"#DIV/0!"}},{"$f":"+IF($P235,U$223*S$167,\"\")","v":{"$error":"#DIV/0!"}},{"$f":"+IF($P235,V$223*T$167,\"\")","v":{"$error":"#DIV/0!"}},{"$f":"+IF($P235,W$223*U$167,\"\")","v":{"$error":"#DIV/0!"}},{"$error":"#DIV/0!"}]
[null,null,null,null,null,null,null,null,null,null,null,null,null,null,null,{"$f":"+$P$161","v":true},null,{"$f":"title415","v":"Urban"},{"$f":"+IF($P236,T$224*R$167,\"\")","v":{"$error":"#DIV/0!"}},{"$f":"+IF($P236,U$224*S$167,\"\")","v":{"$error":"#DIV/0!"}},{"$f":"+IF($P236,V$224*T$167,\"\")","v":{"$error":"#DIV/0!"}},{"$f":"+IF($P236,W$224*U$167,\"\")","v":{"$error":"#DIV/0!"}},{"$error":"#DIV/0!"}]
[]
[null,null,null,null,null,null,null,null,null,null,null,null,null,null,null,"CHART 11",null,null,{"$f":"4&\" kg/h\"","v":"4 kg/h"},{"$f":"40&\" kg/h\"","v":"40 kg/h"},{"$f":"400&\" kg/h\"","v":"400 kg/h"},{"$f":"4000&\" kg/h\"","v":"4000 kg/h"}]
[null,null,null,null,null,null,null,null,null,null,null,null,null,null,null,{"$f":"+$P$158","v":true},{"$f":"+IF($P239,$Q$158,\"\")","v":"Please Select Please Select"},{"$f":"title414","v":"Rural"},{"$f":"+IF($P239,T$223*R$164,\"\")","v":{"$error":"#DIV/0!"}},{"$f":"+IF($P239,U$223*S$164,\"\")","v":{"$error":"#DIV/0!"}},{"$f":"+IF($P239,V$223*T$164,\"\")","v":{"$error":"#DIV/0!"}},{"$f":"+IF($P239,W$223*U$164,\"\")","v":{"$error":"#DIV/0!"}},{"$f":"+MAX(S239:V248)*1.2","v":{"$error":"#DIV/0!"}}]
[null,null,null,null,null,null,null,null,null,null,null,null,null,null,null,{"$f":"+$P$159","v":true},{"$f":"+IF($P240,$Q$159,\"\")","v":"Please Select Please Select"},{"$f":"title414","v":"Rural"},{"$f":"+IF($P240,T$223*R$165,\"\")","v":{"$error":"#DIV/0!"}},{"$f":"+IF($P240,U$223*S$165,\"\")","v":{"$error":"#DIV/0!"}},{"$f":"+IF($P240,V$223*T$165,\"\")","v":{"$error":"#DIV/0!"}},{"$f":"+IF($P240,W$223*U$165,\"\")","v":{"$error":"#DIV/0!"}}]
[null,null,null,null,null,null,null,null,null,null,null,null,null,null,null,{"$f":"+$P$160","v":true},{"$f":"+IF($P241,$Q$160,\"\")","v":"Please Select Please Select"},{"$f":"title414","v":"Rural"},{"$f":"+IF($P241,T$223*R$166,\"\")","v":{"$error":"#DIV/0!"}},{"$f":"+IF($P241,U$223*S$166,\"\")","v":{"$error":"#DIV/0!"}},{"$f":"+IF($P241,V$223*T$166,\"\")","v":{"$error":"#DIV/0!"}},{"$f":"+IF($P241,W$223*U$166,\"\")","v":{"$error":"#DIV/0!"}}]
[null,null,null,null,null,null,null,null,null,null,null,null,null,null,null,{"$f":"+$P$161","v":true},{"$f":"+IF($P242,$Q$161,\"\")","v":"Please Select Please Select"},{"$f":"title414","v":"Rural"},{"$f":"+IF($P242,T$223*R$167,\"\")","v":{"$error":"#DIV/0!"}},{"$f":"+IF($P242,U$223*S$167,\"\")","v":{"$error":"#DIV/0!"}},{"$f":"+IF($P242,V$223*T$167,\"\")","v":{"$error":"#DIV/0!"}},{"$f":"+IF($P242,W$223*U$167,\"\")","v":{"$error":"#DIV/0!"}}]
[]
[null,null,null,null,null,null,null,null,null,null,null,null,null,null,null,"CHART 12",null,null,{"$f":"4&\" kg/h\"","v":"4 kg/h"},{"$f":"40&\" kg/h\"","v":"40 kg/h"},{"$f":"400&\" kg/h\"","v":"400 kg/h"},{"$f":"4000&\" kg/h\"","v":"4000 kg/h"}]
[null,null,null,null,null,null,null,null,null,null,null,null,null,null,null,{"$f":"+$P$158","v":true},{"$f":"+IF($P245,$Q$158,\"\")","v":"Please Select Please Select"},{"$f":"title415","v":"Urban"},{"$f":"+IF($P245,T$224*R$164,\"\")","v":{"$error":"#DIV/0!"}},{"$f":"+IF($P245,U$224*S$164,\"\")","v":{"$error":"#DIV/0!"}},{"$f":"+IF($P245,V$224*T$164,\"\")","v":{"$error":"#DIV/0!"}},{"$f":"+IF($P245,W$224*U$164,\"\")","v":{"$error":"#DIV/0!"}}]
[null,null,null,null,null,null,null,null,null,null,null,null,null,null,null,{"$f":"+$P$159","v":true},{"$f":"+IF($P246,$Q$159,\"\")","v":"Please Select Please Select"},{"$f":"title415","v":"Urban"},{"$f":"+IF($P246,T$224*R$165,\"\")","v":{"$error":"#DIV/0!"}},{"$f":"+IF($P246,U$224*S$165,\"\")","v":{"$error":"#DIV/0!"}},{"$f":"+IF($P246,V$224*T$165,\"\")","v":{"$error":"#DIV/0!"}},{"$f":"+IF($P246,W$224*U$165,\"\")","v":{"$error":"#DIV/0!"}}]
[null,null,null,null,null,null,null,null,null,null,null,null,null,null,null,{"$f":"+$P$160","v":true},{"$f":"+IF($P247,$Q$160,\"\")","v":"Please Select Please Select"},{"$f":"title415","v":"Urban"},{"$f":"+IF($P247,T$224*R$166,\"\")","v":{"$error":"#DIV/0!"}},{"$f":"+IF($P247,U$224*S$166,\"\")","v":{"$error":"#DIV/0!"}},{"$f":"+IF($P247,V$224*T$166,\"\")","v":{"$error":"#DIV/0!"}},{"$f":"+IF($P247,W$224*U$166,\"\")","v":{"$error":"#DIV/0!"}}]
[null,null,null,null,null,null,null,null,null,null,null,null,null,null,null,{"$f":"+$P$161","v":true},{"$f":"+IF($P248,$Q$161,\"\")","v":"Please Select Please Select"},{"$f":"title415","v":"Urban"},{"$f":"+IF($P248,T$224*R$167,\"\")","v":{"$error":"#DIV/0!"}},{"$f":"+IF($P248,U$224*S$167,\"\")","v":{"$error":"#DIV/0!"}},{"$f":"+IF($P248,V$224*T$167,\"\")","v":{"$error":"#DIV/0!"}},{"$f":"+IF($P248,W$224*U$167,\"\")","v":{"$error":"#DIV/0!"}}]