{"text_format":"1","workbook":"xlsx","n_sheets":37,"sheets":["Start","Fo","Fo_FH","Fo_FHR","Fo_WPR","NR_R_Fo","FP_Budget","Selection","Growth characteristics","Planting and management costs","Sum_results","Translations","Selections","label","title","FRA2020table8","FRA2020table9","FRA2010table11","FRA2010table13","FRA2020table7","FAOSTAT_FHR","FAOSTAT_FH","FRA2020table3","Cash flow","Acacia mangium","Acacia senegal","Eucalyptus spp.","Pinus patula","Pinus radiata","Populus spp.","Salix spp.","Productive","DATABASES","FAOSTAT_WPR","Country","Conversion factors","definitions"],"not_rendered":{"charts":11,"images":117,"macros":1,"external_links":1,"defined_names":1030,"comments":0,"pivot_tables":0},"unopened":[],"bounds":{"document_bytes":16777216,"sheet_cells":100000,"rows_first":2000,"rows_last":500,"rows_between":2000,"halvings":0,"cell_chars":16384,"cell_head_chars":4096},"cells_cut":0,"cells_raw":0,"read":"whole","date_system":"1900"}

{"sheet":"Start","index":0,"n_rows":3,"n_cols":3,"rows_kept":3,"cut":false,"hidden":false,"merged":[[1,2,1,12],[6,2,6,3],[2,2,3,2]]}
[]
[null,null,{"$f":"title5","v":"NATURAL RESOURCES MODULE"}]
[null,null,"EN"]

{"sheet":"Fo","index":1,"n_rows":217,"n_cols":33,"rows_kept":217,"cut":false,"hidden":false,"merged":[[1,2,1,15],[6,2,6,5],[6,8,6,12]]}
[null,null,null,null,null,null,null,null,null,null,null,null,null,null,null,null,null,null,null,null,null,null,null,null,null,null,null,1,"Select a crop","Select a commodity","Select",null,"Select a country"]
[null,null,{"$f":"title20","v":"WOODFUEL AND WOOD RESIDUES COMPONENT"},null,null,null,null,null,null,null,null,null,null,null,null,null,null,null,null,null,null,null,null,null,null,null,null,2,"Barley","Abaca","the country",null,"Afghanistan"]
[null,null,null,null,null,null,null,null,null,null,null,null,null,null,null,null,null,null,null,null,null,null,null,null,null,null,null,3,"Cacao","Alcohol, Non-Food","Region:",null,"Albania"]
[null,null,null,{"$f":"title21&\":\"","v":"Country:"},null,"Select a country",null,null,null,null,null,null,null,null,null,null,null,null,null,null,null,null,null,null,null,null,null,4,"Cassava","Apples","Province:",null,"Algeria"]
[null,null,null,null,null,null,null,null,null,null,null,null,null,null,null,null,null,null,null,null,null,null,null,null,null,null,null,5,"Coconut","Bananas","District:",null,"Andorra"]
[null,null,null,null,null,null,null,null,null,null,null,null,null,null,null,null,null,null,null,null,null,null,null,null,null,null,null,7,"Coffee","Barley","Area:",null,"Angola"]
[null,null,{"$f":"title22&\":\"","v":"BEFS Rapid Appraisal for:"},{"$f":"title21&\":\"","v":"Country:"},{"$f":"title21&\":\"","v":"Country:"},{"$f":"title21&\":\"","v":"Country:"},"Select",null,null,null,null,null,null,null,null,null,null,null,null,null,null,null,null,null,null,null,null,8,"Cotton","Beans","Other:",null,"Anguilla"]
[null,null,null,null,null,null,null,null,null,null,null,null,null,null,null,null,null,null,null,null,null,null,null,null,null,null,null,9,"Groundnut","Beer",null,null,"Argentina"]
[null,null,null,null,null,null,null,null,null,null,null,null,null,null,null,null,null,null,null,null,null,null,null,null,null,null,null,null,null,null,null,null,"Armenia"]
[null,null,null,null,null,null,null,null,null,null,null,null,null,null,null,null,null,null,null,null,null,null,null,null,null,null,null,null,null,null,null,null,"Aruba"]
[null,null,null,null,null,null,null,null,null,null,null,null,null,null,null,null,null,null,null,null,null,null,null,null,null,null,null,null,null,null,null,null,"Australia"]
[null,null,null,null,null,null,null,null,null,null,null,null,null,null,null,null,null,null,null,null,null,null,null,null,null,null,null,null,null,null,null,null,"Austria"]
[null,null,null,null,null,null,null,null,null,null,null,null,null,null,null,null,null,null,null,null,null,null,null,null,null,null,null,null,null,null,null,null,"Azerbaijan"]
[null,null,null,null,null,null,null,null,null,null,null,null,null,null,null,null,null,null,null,null,null,null,null,null,null,null,null,null,null,null,null,null,"Bahamas"]
[null,null,null,null,null,null,null,null,null,null,null,null,null,null,null,null,null,null,null,null,null,null,null,null,null,null,null,null,null,null,null,null,"Bahrain"]
[null,null,null,null,null,null,null,null,null,null,null,null,null,null,null,null,null,null,null,null,null,null,null,null,null,null,null,null,null,null,null,null,"Bangladesh"]
[null,null,null,null,null,null,null,null,null,null,null,null,null,null,null,null,null,null,null,null,null,null,null,null,null,null,null,null,null,null,null,null,"Barbados"]
[null,null,null,null,null,null,null,null,null,null,null,null,null,null,null,null,null,null,null,null,null,null,null,null,null,null,null,null,null,null,null,null,"Belarus"]
[null,null,null,null,null,null,null,null,null,null,null,null,null,null,null,null,null,null,null,null,null,null,null,null,null,null,null,null,null,null,null,null,"Belgium-Luxembourg"]
[null,null,null,null,null,null,null,null,null,null,null,null,null,null,null,null,null,null,null,null,null,null,null,null,null,null,null,null,null,null,null,null,"Belgium"]
[null,null,null,null,null,null,null,null,null,null,null,null,null,null,null,null,null,null,null,null,null,null,null,null,null,null,null,null,null,null,null,null,"Belize"]
[null,null,null,null,null,null,null,null,null,null,null,null,null,null,null,null,null,null,null,null,null,null,null,null,null,null,null,null,null,null,null,null,"Benin"]
[null,null,null,null,null,null,null,null,null,null,null,null,null,null,null,null,null,null,null,null,null,null,null,null,null,null,null,null,null,null,null,null,"Bhutan"]
[null,null,null,null,null,null,null,null,null,null,null,null,null,null,null,null,null,null,null,null,null,null,null,null,null,null,null,null,null,null,null,null,"Bolivia (Plurinational State of)"]
[null,null,null,null,null,null,null,null,null,null,null,null,null,null,null,null,null,null,null,null,null,null,null,null,null,null,null,null,null,null,null,null,"Bosnia and Herzegovina"]
[null,null,null,null,null,null,null,null,null,null,null,null,null,null,null,null,null,null,null,null,null,null,null,null,null,null,null,null,null,null,null,null,"Botswana"]
[null,null,null,null,null,null,null,null,null,null,null,null,null,null,null,null,null,null,null,null,null,null,null,null,null,null,null,null,null,null,null,null,"Brazil"]
[null,null,null,null,null,null,null,null,null,null,null,null,null,null,null,null,null,null,null,null,null,null,null,null,null,null,null,null,null,null,null,null,"British Virgin Islands"]
[null,null,null,null,null,null,null,null,null,null,null,null,null,null,null,null,null,null,null,null,null,null,null,null,null,null,null,null,null,null,null,null,"Brunei Darussalam"]
[null,null,null,null,null,null,null,null,null,null,null,null,null,null,null,null,null,null,null,null,null,null,null,null,null,null,null,null,null,null,null,null,"Bulgaria"]
[null,null,null,null,null,null,null,null,null,null,null,null,null,null,null,null,null,null,null,null,null,null,null,null,null,null,null,null,null,null,null,null,"Burkina Faso"]
[null,null,null,null,null,null,null,null,null,null,null,null,null,null,null,null,null,null,null,null,null,null,null,null,null,null,null,null,null,null,null,null,"Burundi"]
[null,null,null,null,null,null,null,null,null,null,null,null,null,null,null,null,null,null,null,null,null,null,null,null,null,null,null,null,null,null,null,null,"Cape Verde"]
[null,null,null,null,null,null,null,null,null,null,null,null,null,null,null,null,null,null,null,null,null,null,null,null,null,null,null,null,null,null,null,null,"Cambodia"]
[null,null,null,null,null,null,null,null,null,null,null,null,null,null,null,null,null,null,null,null,null,null,null,null,null,null,null,null,null,null,null,null,"Cameroon"]
[null,null,null,null,null,null,null,null,null,null,null,null,null,null,null,null,null,null,null,null,null,null,null,null,null,null,null,null,null,null,null,null,"Canada"]
[null,null,null,null,null,null,null,null,null,null,null,null,null,null,null,null,null,null,null,null,null,null,null,null,null,null,null,null,null,null,null,null,"Central African Republic"]
[null,null,null,null,null,null,null,null,null,null,null,null,null,null,null,null,null,null,null,null,null,null,null,null,null,null,null,null,null,null,null,null,"Chad"]
[null,null,null,null,null,null,null,null,null,null,null,null,null,null,null,null,null,null,null,null,null,null,null,null,null,null,null,null,null,null,null,null,"Chile"]
[null,null,null,null,null,null,null,null,null,null,null,null,null,null,null,null,null,null,null,null,null,null,null,null,null,null,null,null,null,null,null,null,"China, Hong Kong SAR"]
[null,null,null,null,null,null,null,null,null,null,null,null,null,null,null,null,null,null,null,null,null,null,null,null,null,null,null,null,null,null,null,null,"China, Macao SAR"]
[null,null,null,null,null,null,null,null,null,null,null,null,null,null,null,null,null,null,null,null,null,null,null,null,null,null,null,null,null,null,null,null,"China, Taiwan Province of"]
[null,null,null,null,null,null,null,null,null,null,null,null,null,null,null,null,null,null,null,null,null,null,null,null,null,null,null,null,null,null,null,null,"China"]
[null,null,null,null,null,null,null,null,null,null,null,null,null,null,null,null,null,null,null,null,null,null,null,null,null,null,null,null,null,null,null,null,"Christmas Island"]
[null,null,null,null,null,null,null,null,null,null,null,null,null,null,null,null,null,null,null,null,null,null,null,null,null,null,null,null,null,null,null,null,"Colombia"]
[null,null,null,null,null,null,null,null,null,null,null,null,null,null,null,null,null,null,null,null,null,null,null,null,null,null,null,null,null,null,null,null,"Comoros"]
[null,null,null,null,null,null,null,null,null,null,null,null,null,null,null,null,null,null,null,null,null,null,null,null,null,null,null,null,null,null,null,null,"Congo"]
[null,null,null,null,null,null,null,null,null,null,null,null,null,null,null,null,null,null,null,null,null,null,null,null,null,null,null,null,null,null,null,null,"Cook Islands"]
[null,null,null,null,null,null,null,null,null,null,null,null,null,null,null,null,null,null,null,null,null,null,null,null,null,null,null,null,null,null,null,null,"Costa Rica"]
[null,null,null,null,null,null,null,null,null,null,null,null,null,null,null,null,null,null,null,null,null,null,null,null,null,null,null,null,null,null,null,null,"Croatia"]
[null,null,null,null,null,null,null,null,null,null,null,null,null,null,null,null,null,null,null,null,null,null,null,null,null,null,null,null,null,null,null,null,"Cuba"]
[null,null,null,null,null,null,null,null,null,null,null,null,null,null,null,null,null,null,null,null,null,null,null,null,null,null,null,null,null,null,null,null,"Cyprus"]
[null,null,null,null,null,null,null,null,null,null,null,null,null,null,null,null,null,null,null,null,null,null,null,null,null,null,null,null,null,null,null,null,"Czech Republic"]
[null,null,null,null,null,null,null,null,null,null,null,null,null,null,null,null,null,null,null,null,null,null,null,null,null,null,null,null,null,null,null,null,"Czechoslovakia"]
[null,null,null,null,null,null,null,null,null,null,null,null,null,null,null,null,null,null,null,null,null,null,null,null,null,null,null,null,null,null,null,null,"Côte d'Ivoire"]
[null,null,null,null,null,null,null,null,null,null,null,null,null,null,null,null,null,null,null,null,null,null,null,null,null,null,null,null,null,null,null,null,"Democratic People's Republic of Korea"]
[null,null,null,null,null,null,null,null,null,null,null,null,null,null,null,null,null,null,null,null,null,null,null,null,null,null,null,null,null,null,null,null,"Democratic Republic of the Congo"]
[null,null,null,null,null,null,null,null,null,null,null,null,null,null,null,null,null,null,null,null,null,null,null,null,null,null,null,null,null,null,null,null,"Denmark"]
[null,null,null,null,null,null,null,null,null,null,null,null,null,null,null,null,null,null,null,null,null,null,null,null,null,null,null,null,null,null,null,null,"Djibouti"]
[null,null,null,null,null,null,null,null,null,null,null,null,null,null,null,null,null,null,null,null,null,null,null,null,null,null,null,null,null,null,null,null,"Dominica"]
[null,null,null,null,null,null,null,null,null,null,null,null,null,null,null,null,null,null,null,null,null,null,null,null,null,null,null,null,null,null,null,null,"Dominican Republic"]
[null,null,null,null,null,null,null,null,null,null,null,null,null,null,null,null,null,null,null,null,null,null,null,null,null,null,null,null,null,null,null,null,"Ecuador"]
[null,null,null,null,null,null,null,null,null,null,null,null,null,null,null,null,null,null,null,null,null,null,null,null,null,null,null,null,null,null,null,null,"Egypt"]
[null,null,null,null,null,null,null,null,null,null,null,null,null,null,null,null,null,null,null,null,null,null,null,null,null,null,null,null,null,null,null,null,"El Salvador"]
[null,null,null,null,null,null,null,null,null,null,null,null,null,null,null,null,null,null,null,null,null,null,null,null,null,null,null,null,null,null,null,null,"Equatorial Guinea"]
[null,null,null,null,null,null,null,null,null,null,null,null,null,null,null,null,null,null,null,null,null,null,null,null,null,null,null,null,null,null,null,null,"Eritrea"]
[null,null,null,null,null,null,null,null,null,null,null,null,null,null,null,null,null,null,null,null,null,null,null,null,null,null,null,null,null,null,null,null,"Estonia"]
[null,null,null,null,null,null,null,null,null,null,null,null,null,null,null,null,null,null,null,null,null,null,null,null,null,null,null,null,null,null,null,null,"Ethiopia PDR"]
[null,null,null,null,null,null,null,null,null,null,null,null,null,null,null,null,null,null,null,null,null,null,null,null,null,null,null,null,null,null,null,null,"Ethiopia"]
[null,null,null,null,null,null,null,null,null,null,null,null,null,null,null,null,null,null,null,null,null,null,null,null,null,null,null,null,null,null,null,null,"Falkland Islands (Malvinas)"]
[null,null,null,null,null,null,null,null,null,null,null,null,null,null,null,null,null,null,null,null,null,null,null,null,null,null,null,null,null,null,null,null,"Faroe Islands"]
[null,null,null,null,null,null,null,null,null,null,null,null,null,null,null,null,null,null,null,null,null,null,null,null,null,null,null,null,null,null,null,null,"Fiji"]
[null,null,null,null,null,null,null,null,null,null,null,null,null,null,null,null,null,null,null,null,null,null,null,null,null,null,null,null,null,null,null,null,"Finland"]
[null,null,null,null,null,null,null,null,null,null,null,null,null,null,null,null,null,null,null,null,null,null,null,null,null,null,null,null,null,null,null,null,"France"]
[null,null,null,null,null,null,null,null,null,null,null,null,null,null,null,null,null,null,null,null,null,null,null,null,null,null,null,null,null,null,null,null,"French Guiana"]
[null,null,null,null,null,null,null,null,null,null,null,null,null,null,null,null,null,null,null,null,null,null,null,null,null,null,null,null,null,null,null,null,"French Polynesia"]
[null,null,null,null,null,null,null,null,null,null,null,null,null,null,null,null,null,null,null,null,null,null,null,null,null,null,null,null,null,null,null,null,"Gabon"]
[null,null,null,null,null,null,null,null,null,null,null,null,null,null,null,null,null,null,null,null,null,null,null,null,null,null,null,null,null,null,null,null,"Gambia"]
[null,null,null,null,null,null,null,null,null,null,null,null,null,null,null,null,null,null,null,null,null,null,null,null,null,null,null,null,null,null,null,null,"Georgia"]
[null,null,null,null,null,null,null,null,null,null,null,null,null,null,null,null,null,null,null,null,null,null,null,null,null,null,null,null,null,null,null,null,"Germany"]
[null,null,null,null,null,null,null,null,null,null,null,null,null,null,null,null,null,null,null,null,null,null,null,null,null,null,null,null,null,null,null,null,"Ghana"]
[null,null,null,null,null,null,null,null,null,null,null,null,null,null,null,null,null,null,null,null,null,null,null,null,null,null,null,null,null,null,null,null,"Gibraltar"]
[null,null,null,null,null,null,null,null,null,null,null,null,null,null,null,null,null,null,null,null,null,null,null,null,null,null,null,null,null,null,null,null,"Greece"]
[null,null,null,null,null,null,null,null,null,null,null,null,null,null,null,null,null,null,null,null,null,null,null,null,null,null,null,null,null,null,null,null,"Greenland"]
[null,null,null,null,null,null,null,null,null,null,null,null,null,null,null,null,null,null,null,null,null,null,null,null,null,null,null,null,null,null,null,null,"Guadeloupe"]
[null,null,null,null,null,null,null,null,null,null,null,null,null,null,null,null,null,null,null,null,null,null,null,null,null,null,null,null,null,null,null,null,"Guatemala"]
[null,null,null,null,null,null,null,null,null,null,null,null,null,null,null,null,null,null,null,null,null,null,null,null,null,null,null,null,null,null,null,null,"Guinea-Bissau"]
[null,null,null,null,null,null,null,null,null,null,null,null,null,null,null,null,null,null,null,null,null,null,null,null,null,null,null,null,null,null,null,null,"Guinea"]
[null,null,null,null,null,null,null,null,null,null,null,null,null,null,null,null,null,null,null,null,null,null,null,null,null,null,null,null,null,null,null,null,"Guyana"]
[null,null,null,null,null,null,null,null,null,null,null,null,null,null,null,null,null,null,null,null,null,null,null,null,null,null,null,null,null,null,null,null,"Haiti"]
[null,null,null,null,null,null,null,null,null,null,null,null,null,null,null,null,null,null,null,null,null,null,null,null,null,null,null,null,null,null,null,null,"Honduras"]
[null,null,null,null,null,null,null,null,null,null,null,null,null,null,null,null,null,null,null,null,null,null,null,null,null,null,null,null,null,null,null,null,"Hungary"]
[null,null,null,null,null,null,null,null,null,null,null,null,null,null,null,null,null,null,null,null,null,null,null,null,null,null,null,null,null,null,null,null,"Iceland"]
[null,null,null,null,null,null,null,null,null,null,null,null,null,null,null,null,null,null,null,null,null,null,null,null,null,null,null,null,null,null,null,null,"India"]
[null,null,null,null,null,null,null,null,null,null,null,null,null,null,null,null,null,null,null,null,null,null,null,null,null,null,null,null,null,null,null,null,"Indonesia"]
[null,null,null,null,null,null,null,null,null,null,null,null,null,null,null,null,null,null,null,null,null,null,null,null,null,null,null,null,null,null,null,null,"Iran (Islamic Republic of)"]
[null,null,null,null,null,null,null,null,null,null,null,null,null,null,null,null,null,null,null,null,null,null,null,null,null,null,null,null,null,null,null,null,"Iraq"]
[null,null,null,null,null,null,null,null,null,null,null,null,null,null,null,null,null,null,null,null,null,null,null,null,null,null,null,null,null,null,null,null,"Ireland"]
[null,null,null,null,null,null,null,null,null,null,null,null,null,null,null,null,null,null,null,null,null,null,null,null,null,null,null,null,null,null,null,null,"Israel"]
[null,null,null,null,null,null,null,null,null,null,null,null,null,null,null,null,null,null,null,null,null,null,null,null,null,null,null,null,null,null,null,null,"Italy"]
[null,null,null,null,null,null,null,null,null,null,null,null,null,null,null,null,null,null,null,null,null,null,null,null,null,null,null,null,null,null,null,null,"Jamaica"]
[null,null,null,null,null,null,null,null,null,null,null,null,null,null,null,null,null,null,null,null,null,null,null,null,null,null,null,null,null,null,null,null,"Japan"]
[null,null,null,null,null,null,null,null,null,null,null,null,null,null,null,null,null,null,null,null,null,null,null,null,null,null,null,null,null,null,null,null,"Jordan"]
[null,null,null,null,null,null,null,null,null,null,null,null,null,null,null,null,null,null,null,null,null,null,null,null,null,null,null,null,null,null,null,null,"Kazakhstan"]
[null,null,null,null,null,null,null,null,null,null,null,null,null,null,null,null,null,null,null,null,null,null,null,null,null,null,null,null,null,null,null,null,"Kenya"]
[null,null,null,null,null,null,null,null,null,null,null,null,null,null,null,null,null,null,null,null,null,null,null,null,null,null,null,null,null,null,null,null,"Kiribati"]
[null,null,null,null,null,null,null,null,null,null,null,null,null,null,null,null,null,null,null,null,null,null,null,null,null,null,null,null,null,null,null,null,"Kuwait"]
[null,null,null,null,null,null,null,null,null,null,null,null,null,null,null,null,null,null,null,null,null,null,null,null,null,null,null,null,null,null,null,null,"Kyrgyzstan"]
[null,null,null,null,null,null,null,null,null,null,null,null,null,null,null,null,null,null,null,null,null,null,null,null,null,null,null,null,null,null,null,null,"Lao People's Democratic Republic"]
[null,null,null,null,null,null,null,null,null,null,null,null,null,null,null,null,null,null,null,null,null,null,null,null,null,null,null,null,null,null,null,null,"Latvia"]
[null,null,null,null,null,null,null,null,null,null,null,null,null,null,null,null,null,null,null,null,null,null,null,null,null,null,null,null,null,null,null,null,"Lebanon"]
[null,null,null,null,null,null,null,null,null,null,null,null,null,null,null,null,null,null,null,null,null,null,null,null,null,null,null,null,null,null,null,null,"Lesotho"]
[null,null,null,null,null,null,null,null,null,null,null,null,null,null,null,null,null,null,null,null,null,null,null,null,null,null,null,null,null,null,null,null,"Liberia"]
[null,null,null,null,null,null,null,null,null,null,null,null,null,null,null,null,null,null,null,null,null,null,null,null,null,null,null,null,null,null,null,null,"Libya"]
[null,null,null,null,null,null,null,null,null,null,null,null,null,null,null,null,null,null,null,null,null,null,null,null,null,null,null,null,null,null,null,null,"Liechtenstein"]
[null,null,null,null,null,null,null,null,null,null,null,null,null,null,null,null,null,null,null,null,null,null,null,null,null,null,null,null,null,null,null,null,"Lithuania"]
[null,null,null,null,null,null,null,null,null,null,null,null,null,null,null,null,null,null,null,null,null,null,null,null,null,null,null,null,null,null,null,null,"Luxembourg"]
[null,null,null,null,null,null,null,null,null,null,null,null,null,null,null,null,null,null,null,null,null,null,null,null,null,null,null,null,null,null,null,null,"Madagascar"]
[null,null,null,null,null,null,null,null,null,null,null,null,null,null,null,null,null,null,null,null,null,null,null,null,null,null,null,null,null,null,null,null,"Malawi"]
[null,null,null,null,null,null,null,null,null,null,null,null,null,null,null,null,null,null,null,null,null,null,null,null,null,null,null,null,null,null,null,null,"Malaysia"]
[null,null,null,null,null,null,null,null,null,null,null,null,null,null,null,null,null,null,null,null,null,null,null,null,null,null,null,null,null,null,null,null,"Maldives"]
[null,null,null,null,null,null,null,null,null,null,null,null,null,null,null,null,null,null,null,null,null,null,null,null,null,null,null,null,null,null,null,null,"Mali"]
[null,null,null,null,null,null,null,null,null,null,null,null,null,null,null,null,null,null,null,null,null,null,null,null,null,null,null,null,null,null,null,null,"Malta"]
[null,null,null,null,null,null,null,null,null,null,null,null,null,null,null,null,null,null,null,null,null,null,null,null,null,null,null,null,null,null,null,null,"Martinique"]
[null,null,null,null,null,null,null,null,null,null,null,null,null,null,null,null,null,null,null,null,null,null,null,null,null,null,null,null,null,null,null,null,"Mauritania"]
[null,null,null,null,null,null,null,null,null,null,null,null,null,null,null,null,null,null,null,null,null,null,null,null,null,null,null,null,null,null,null,null,"Mauritius"]
[null,null,null,null,null,null,null,null,null,null,null,null,null,null,null,null,null,null,null,null,null,null,null,null,null,null,null,null,null,null,null,null,"Mayotte"]
[null,null,null,null,null,null,null,null,null,null,null,null,null,null,null,null,null,null,null,null,null,null,null,null,null,null,null,null,null,null,null,null,"Mexico"]
[null,null,null,null,null,null,null,null,null,null,null,null,null,null,null,null,null,null,null,null,null,null,null,null,null,null,null,null,null,null,null,null,"Micronesia (Federated States of)"]
[null,null,null,null,null,null,null,null,null,null,null,null,null,null,null,null,null,null,null,null,null,null,null,null,null,null,null,null,null,null,null,null,"Mongolia"]
[null,null,null,null,null,null,null,null,null,null,null,null,null,null,null,null,null,null,null,null,null,null,null,null,null,null,null,null,null,null,null,null,"Montenegro"]
[null,null,null,null,null,null,null,null,null,null,null,null,null,null,null,null,null,null,null,null,null,null,null,null,null,null,null,null,null,null,null,null,"Morocco"]
[null,null,null,null,null,null,null,null,null,null,null,null,null,null,null,null,null,null,null,null,null,null,null,null,null,null,null,null,null,null,null,null,"Mozambique"]
[null,null,null,null,null,null,null,null,null,null,null,null,null,null,null,null,null,null,null,null,null,null,null,null,null,null,null,null,null,null,null,null,"Myanmar"]
[null,null,null,null,null,null,null,null,null,null,null,null,null,null,null,null,null,null,null,null,null,null,null,null,null,null,null,null,null,null,null,null,"Namibia"]
[null,null,null,null,null,null,null,null,null,null,null,null,null,null,null,null,null,null,null,null,null,null,null,null,null,null,null,null,null,null,null,null,"Nepal"]
[null,null,null,null,null,null,null,null,null,null,null,null,null,null,null,null,null,null,null,null,null,null,null,null,null,null,null,null,null,null,null,null,"Netherlands Antilles"]
[null,null,null,null,null,null,null,null,null,null,null,null,null,null,null,null,null,null,null,null,null,null,null,null,null,null,null,null,null,null,null,null,"Netherlands"]
[null,null,null,null,null,null,null,null,null,null,null,null,null,null,null,null,null,null,null,null,null,null,null,null,null,null,null,null,null,null,null,null,"New Caledonia"]
[null,null,null,null,null,null,null,null,null,null,null,null,null,null,null,null,null,null,null,null,null,null,null,null,null,null,null,null,null,null,null,null,"New Zealand"]
[null,null,null,null,null,null,null,null,null,null,null,null,null,null,null,null,null,null,null,null,null,null,null,null,null,null,null,null,null,null,null,null,"Nicaragua"]
[null,null,null,null,null,null,null,null,null,null,null,null,null,null,null,null,null,null,null,null,null,null,null,null,null,null,null,null,null,null,null,null,"Niger"]
[null,null,null,null,null,null,null,null,null,null,null,null,null,null,null,null,null,null,null,null,null,null,null,null,null,null,null,null,null,null,null,null,"Nigeria"]
[null,null,null,null,null,null,null,null,null,null,null,null,null,null,null,null,null,null,null,null,null,null,null,null,null,null,null,null,null,null,null,null,"Niue"]
[null,null,null,null,null,null,null,null,null,null,null,null,null,null,null,null,null,null,null,null,null,null,null,null,null,null,null,null,null,null,null,null,"Norfolk Island"]
[null,null,null,null,null,null,null,null,null,null,null,null,null,null,null,null,null,null,null,null,null,null,null,null,null,null,null,null,null,null,null,null,"Norway"]
[null,null,null,null,null,null,null,null,null,null,null,null,null,null,null,null,null,null,null,null,null,null,null,null,null,null,null,null,null,null,null,null,"Oman"]
[null,null,null,null,null,null,null,null,null,null,null,null,null,null,null,null,null,null,null,null,null,null,null,null,null,null,null,null,null,null,null,null,"Pakistan"]
[null,null,null,null,null,null,null,null,null,null,null,null,null,null,null,null,null,null,null,null,null,null,null,null,null,null,null,null,null,null,null,null,"Panama"]
[null,null,null,null,null,null,null,null,null,null,null,null,null,null,null,null,null,null,null,null,null,null,null,null,null,null,null,null,null,null,null,null,"Papua New Guinea"]
[null,null,null,null,null,null,null,null,null,null,null,null,null,null,null,null,null,null,null,null,null,null,null,null,null,null,null,null,null,null,null,null,"Paraguay"]
[null,null,null,null,null,null,null,null,null,null,null,null,null,null,null,null,null,null,null,null,null,null,null,null,null,null,null,null,null,null,null,null,"Peru"]
[null,null,null,null,null,null,null,null,null,null,null,null,null,null,null,null,null,null,null,null,null,null,null,null,null,null,null,null,null,null,null,null,"Philippines"]
[null,null,null,null,null,null,null,null,null,null,null,null,null,null,null,null,null,null,null,null,null,null,null,null,null,null,null,null,null,null,null,null,"Poland"]
[null,null,null,null,null,null,null,null,null,null,null,null,null,null,null,null,null,null,null,null,null,null,null,null,null,null,null,null,null,null,null,null,"Portugal"]
[null,null,null,null,null,null,null,null,null,null,null,null,null,null,null,null,null,null,null,null,null,null,null,null,null,null,null,null,null,null,null,null,"Qatar"]
[null,null,null,null,null,null,null,null,null,null,null,null,null,null,null,null,null,null,null,null,null,null,null,null,null,null,null,null,null,null,null,null,"Republic of Korea"]
[null,null,null,null,null,null,null,null,null,null,null,null,null,null,null,null,null,null,null,null,null,null,null,null,null,null,null,null,null,null,null,null,"Republic of Moldova"]
[null,null,null,null,null,null,null,null,null,null,null,null,null,null,null,null,null,null,null,null,null,null,null,null,null,null,null,null,null,null,null,null,"Romania"]
[null,null,null,null,null,null,null,null,null,null,null,null,null,null,null,null,null,null,null,null,null,null,null,null,null,null,null,null,null,null,null,null,"Russian Federation"]
[null,null,null,null,null,null,null,null,null,null,null,null,null,null,null,null,null,null,null,null,null,null,null,null,null,null,null,null,null,null,null,null,"Rwanda"]
[null,null,null,null,null,null,null,null,null,null,null,null,null,null,null,null,null,null,null,null,null,null,null,null,null,null,null,null,null,null,null,null,"Réunion"]
[null,null,null,null,null,null,null,null,null,null,null,null,null,null,null,null,null,null,null,null,null,null,null,null,null,null,null,null,null,null,null,null,"Saint Lucia"]
[null,null,null,null,null,null,null,null,null,null,null,null,null,null,null,null,null,null,null,null,null,null,null,null,null,null,null,null,null,null,null,null,"Saint Pierre and Miquelon"]
[null,null,null,null,null,null,null,null,null,null,null,null,null,null,null,null,null,null,null,null,null,null,null,null,null,null,null,null,null,null,null,null,"Saint Vincent and the Grenadines"]
[null,null,null,null,null,null,null,null,null,null,null,null,null,null,null,null,null,null,null,null,null,null,null,null,null,null,null,null,null,null,null,null,"Samoa"]
[null,null,null,null,null,null,null,null,null,null,null,null,null,null,null,null,null,null,null,null,null,null,null,null,null,null,null,null,null,null,null,null,"Sao Tome and Principe"]
[null,null,null,null,null,null,null,null,null,null,null,null,null,null,null,null,null,null,null,null,null,null,null,null,null,null,null,null,null,null,null,null,"Saudi Arabia"]
[null,null,null,null,null,null,null,null,null,null,null,null,null,null,null,null,null,null,null,null,null,null,null,null,null,null,null,null,null,null,null,null,"Senegal"]
[null,null,null,null,null,null,null,null,null,null,null,null,null,null,null,null,null,null,null,null,null,null,null,null,null,null,null,null,null,null,null,null,"Serbia and Montenegro"]
[null,null,null,null,null,null,null,null,null,null,null,null,null,null,null,null,null,null,null,null,null,null,null,null,null,null,null,null,null,null,null,null,"Serbia"]
[null,null,null,null,null,null,null,null,null,null,null,null,null,null,null,null,null,null,null,null,null,null,null,null,null,null,null,null,null,null,null,null,"Seychelles"]
[null,null,null,null,null,null,null,null,null,null,null,null,null,null,null,null,null,null,null,null,null,null,null,null,null,null,null,null,null,null,null,null,"Sierra Leone"]
[null,null,null,null,null,null,null,null,null,null,null,null,null,null,null,null,null,null,null,null,null,null,null,null,null,null,null,null,null,null,null,null,"Singapore"]
[null,null,null,null,null,null,null,null,null,null,null,null,null,null,null,null,null,null,null,null,null,null,null,null,null,null,null,null,null,null,null,null,"Slovakia"]
[null,null,null,null,null,null,null,null,null,null,null,null,null,null,null,null,null,null,null,null,null,null,null,null,null,null,null,null,null,null,null,null,"Slovenia"]
[null,null,null,null,null,null,null,null,null,null,null,null,null,null,null,null,null,null,null,null,null,null,null,null,null,null,null,null,null,null,null,null,"Solomon Islands"]
[null,null,null,null,null,null,null,null,null,null,null,null,null,null,null,null,null,null,null,null,null,null,null,null,null,null,null,null,null,null,null,null,"Somalia"]
[null,null,null,null,null,null,null,null,null,null,null,null,null,null,null,null,null,null,null,null,null,null,null,null,null,null,null,null,null,null,null,null,"South Africa"]
[null,null,null,null,null,null,null,null,null,null,null,null,null,null,null,null,null,null,null,null,null,null,null,null,null,null,null,null,null,null,null,null,"South Sudan"]
[null,null,null,null,null,null,null,null,null,null,null,null,null,null,null,null,null,null,null,null,null,null,null,null,null,null,null,null,null,null,null,null,"Spain"]
[null,null,null,null,null,null,null,null,null,null,null,null,null,null,null,null,null,null,null,null,null,null,null,null,null,null,null,null,null,null,null,null,"Sri Lanka"]
[null,null,null,null,null,null,null,null,null,null,null,null,null,null,null,null,null,null,null,null,null,null,null,null,null,null,null,null,null,null,null,null,"Sudan (former)"]
[null,null,null,null,null,null,null,null,null,null,null,null,null,null,null,null,null,null,null,null,null,null,null,null,null,null,null,null,null,null,null,null,"Sudan"]
[null,null,null,null,null,null,null,null,null,null,null,null,null,null,null,null,null,null,null,null,null,null,null,null,null,null,null,null,null,null,null,null,"Suriname"]
[null,null,null,null,null,null,null,null,null,null,null,null,null,null,null,null,null,null,null,null,null,null,null,null,null,null,null,null,null,null,null,null,"Swaziland"]
[null,null,null,null,null,null,null,null,null,null,null,null,null,null,null,null,null,null,null,null,null,null,null,null,null,null,null,null,null,null,null,null,"Sweden"]
[null,null,null,null,null,null,null,null,null,null,null,null,null,null,null,null,null,null,null,null,null,null,null,null,null,null,null,null,null,null,null,null,"Switzerland"]
[null,null,null,null,null,null,null,null,null,null,null,null,null,null,null,null,null,null,null,null,null,null,null,null,null,null,null,null,null,null,null,null,"Syrian Arab Republic"]
[null,null,null,null,null,null,null,null,null,null,null,null,null,null,null,null,null,null,null,null,null,null,null,null,null,null,null,null,null,null,null,null,"Tajikistan"]
[null,null,null,null,null,null,null,null,null,null,null,null,null,null,null,null,null,null,null,null,null,null,null,null,null,null,null,null,null,null,null,null,"Thailand"]
[null,null,null,null,null,null,null,null,null,null,null,null,null,null,null,null,null,null,null,null,null,null,null,null,null,null,null,null,null,null,null,null,"The former Yugoslav Republic of Macedonia"]
[null,null,null,null,null,null,null,null,null,null,null,null,null,null,null,null,null,null,null,null,null,null,null,null,null,null,null,null,null,null,null,null,"Timor-Leste"]
[null,null,null,null,null,null,null,null,null,null,null,null,null,null,null,null,null,null,null,null,null,null,null,null,null,null,null,null,null,null,null,null,"Togo"]
[null,null,null,null,null,null,null,null,null,null,null,null,null,null,null,null,null,null,null,null,null,null,null,null,null,null,null,null,null,null,null,null,"Tonga"]
[null,null,null,null,null,null,null,null,null,null,null,null,null,null,null,null,null,null,null,null,null,null,null,null,null,null,null,null,null,null,null,null,"Trinidad and Tobago"]
[null,null,null,null,null,null,null,null,null,null,null,null,null,null,null,null,null,null,null,null,null,null,null,null,null,null,null,null,null,null,null,null,"Tunisia"]
[null,null,null,null,null,null,null,null,null,null,null,null,null,null,null,null,null,null,null,null,null,null,null,null,null,null,null,null,null,null,null,null,"Turkey"]
[null,null,null,null,null,null,null,null,null,null,null,null,null,null,null,null,null,null,null,null,null,null,null,null,null,null,null,null,null,null,null,null,"Turkmenistan"]
[null,null,null,null,null,null,null,null,null,null,null,null,null,null,null,null,null,null,null,null,null,null,null,null,null,null,null,null,null,null,null,null,"Turks and Caicos Islands"]
[null,null,null,null,null,null,null,null,null,null,null,null,null,null,null,null,null,null,null,null,null,null,null,null,null,null,null,null,null,null,null,null,"USSR"]
[null,null,null,null,null,null,null,null,null,null,null,null,null,null,null,null,null,null,null,null,null,null,null,null,null,null,null,null,null,null,null,null,"Uganda"]
[null,null,null,null,null,null,null,null,null,null,null,null,null,null,null,null,null,null,null,null,null,null,null,null,null,null,null,null,null,null,null,null,"Ukraine"]
[null,null,null,null,null,null,null,null,null,null,null,null,null,null,null,null,null,null,null,null,null,null,null,null,null,null,null,null,null,null,null,null,"United Arab Emirates"]
[null,null,null,null,null,null,null,null,null,null,null,null,null,null,null,null,null,null,null,null,null,null,null,null,null,null,null,null,null,null,null,null,"United Kingdom"]
[null,null,null,null,null,null,null,null,null,null,null,null,null,null,null,null,null,null,null,null,null,null,null,null,null,null,null,null,null,null,null,null,"United Republic of Tanzania"]
[null,null,null,null,null,null,null,null,null,null,null,null,null,null,null,null,null,null,null,null,null,null,null,null,null,null,null,null,null,null,null,null,"United States of America"]
[null,null,null,null,null,null,null,null,null,null,null,null,null,null,null,null,null,null,null,null,null,null,null,null,null,null,null,null,null,null,null,null,"Uruguay"]
[null,null,null,null,null,null,null,null,null,null,null,null,null,null,null,null,null,null,null,null,null,null,null,null,null,null,null,null,null,null,null,null,"Uzbekistan"]
[null,null,null,null,null,null,null,null,null,null,null,null,null,null,null,null,null,null,null,null,null,null,null,null,null,null,null,null,null,null,null,null,"Vanuatu"]
[null,null,null,null,null,null,null,null,null,null,null,null,null,null,null,null,null,null,null,null,null,null,null,null,null,null,null,null,null,null,null,null,"Venezuela (Bolivarian Republic of)"]
[null,null,null,null,null,null,null,null,null,null,null,null,null,null,null,null,null,null,null,null,null,null,null,null,null,null,null,null,null,null,null,null,"Viet Nam"]
[null,null,null,null,null,null,null,null,null,null,null,null,null,null,null,null,null,null,null,null,null,null,null,null,null,null,null,null,null,null,null,null,"Wallis and Futuna Islands"]
[null,null,null,null,null,null,null,null,null,null,null,null,null,null,null,null,null,null,null,null,null,null,null,null,null,null,null,null,null,null,null,null,"Yemen"]
[null,null,null,null,null,null,null,null,null,null,null,null,null,null,null,null,null,null,null,null,null,null,null,null,null,null,null,null,null,null,null,null,"Yugoslav SFR"]
[null,null,null,null,null,null,null,null,null,null,null,null,null,null,null,null,null,null,null,null,null,null,null,null,null,null,null,null,null,null,null,null,"Zambia"]
[null,null,null,null,null,null,null,null,null,null,null,null,null,null,null,null,null,null,null,null,null,null,null,null,null,null,null,null,null,null,null,null,"Zimbabwe"]

{"sheet":"Fo_FH","index":2,"n_rows":44,"n_cols":36,"rows_kept":44,"cut":false,"hidden":false,"merged":[[11,3,11,15],[1,2,1,16],[13,8,13,9],[13,10,13,11],[13,12,13,13],[6,2,6,4],[6,6,6,7],[6,13,6,14],[6,15,6,16],[13,14,13,15],[9,2,9,16],[40,3,40,15],[43,3,43,15],[42,3,42,15],[12,3,12,7],[12,8,12,15],[18,5,18,16],[21,2,21,4],[13,16,13,17],[23,2,23,4],[22,2,22,4]]}
[null,null,null,null,null,null,null,null,null,null,null,null,null,null,null,null,null,null,null,null,null,null,null,null,null,null,1,"Initial screening - warning text (FAOSTAT)"]
[null,null,{"$f":"title29","v":"ADDITIONAL FOREST HARVESTING"},null,null,null,null,null,null,null,null,null,null,null,null,null,null,null,null,null,null,null,null,null,null,null,2,"F-",{"$f":"title46","v":"In order to decrease pressure on existing forests, forest plantations may be established and measures to increase the efficiency of wood utilization implemented. Increased efficiency of wood processing and conversion to energy, (e.g. sawmills, charcoal production, cooking and heating use), may result in a lower demand for wood removals and this may contribute to a more sustainable forest management.\nIn order to identify drivers and “hotspots” of deforestation it is necessary to conduct a more detailed, spatially-explicit analysis. \n\nOne  possible methodology to conduct this type of assessment is the Woodfuel Integrated Supply/Demand Overview Mapping (WISDOM). This is a spatially-explicit methodology for highlighting and determining priority areas of intervention and supporting wood energy / bioenergy planning and policy formulation. \nA detailed description can be found here http://www.wisdomprojects.net/global/.\n\n\n"},null,null,null,null,null,null,{"$f":"title54","v":"Industrial roundwood"}]
[null,null,null,null,null,null,null,null,null,null,null,null,null,null,null,null,null,null,null,null,null,null,null,null,null,null,3,null,null,null,null,null,null,null,null,{"$f":"title55","v":"Woodfuel"}]
[null,null,null,{"$f":"title21&\":\"","v":"Country:"},{"$f":"+Fo!F4","v":"Select a country"},null,null,null,null,null,null,null,null,null,null,null,null,null,null,null,null,null,null,null,null,null,4,"F+",{"$f":"title47","v":"An increase of total forest area in the country due to reforestation and afforestation and/or natural expansion of forests may imply that there is a potential for additional forest harvesting for energy. Nevertheless at this level of analysis it is not possible to provide any further conclusions. Therefore it is necessary to conduct a more detailed, spatially-explicit analysis. \n\nPredominant forest types, designated functions of the forests in the area, and implemented and/or suitable management practices (e.g. based on the rotation period, increment and rate of annual fellings, etc.) should be considered when assessing the potential for additional forest harvesting for energy. Existing forest uses and other demands for forest products in the area should be taken into account as well. \n\nOne  possible methodology to conduct this type of assessment is the Woodfuel Integrated Supply/Demand Overview Mapping (WISDOM). This is a spatially-explicit methodology for highlighting and determining priority areas of intervention and supporting wood energy / bioenergy planning and policy formulation. \nA detailed description can be found here http://www.wisdomprojects.net/global/.\n\n"},null,null,null,null,null,null,{"$f":"title252","v":"Roundwood"}]
[null,null,null,null,null,null,null,null,null,null,null,null,null,null,null,null,null,null,null,null,null,null,null,null,null,null,5]
[null,null,null,null,null,null,null,null,null,null,null,null,null,null,null,null,null,null,null,null,null,null,null,null,null,null,6,"F0",{"$f":"title48","v":"At this level of analysis it is not possible to determine wheter there is a potential for additional forest harvesting for energy, therefore it is necessary to conduct a more detailed, spatially explicit analysis. \n\nOne possible methodology to conduct this type of assessment is the Woodfuel Integrated Supply/Demand Overview Mapping (WISDOM). This is a spatially-explicit methodology for highlighting and determining priority areas of intervention and supporting wood energy / bioenergy planning and policy formulation. \nA detailed description can be found here http://www.wisdomprojects.net/global/.\n\n"}]
[null,null,{"$f":"title22&\":\"","v":"BEFS Rapid Appraisal for:"},null,null,{"$f":"Fo!$G$7","v":"Select"},{"$f":"IF(Fo!$I$7=\"\",\"\",Fo!$I$7)","v":""},null,null,null,null,null,null,{"$f":"title30","v":"Enter data into white cells"},null,{"$f":"title31","v":"Grey cells are calculated"},null,null,null,null,null,null,null,null,null,null,7]
[null,null,null,null,null,null,null,null,null,null,null,null,null,null,null,null,null,null,null,null,null,null,null,null,null,null,8,{"$f":"+title49","v":"According to the Global Forest Resources assessment 2020 (FRA 2020) from 2000 to 2020 the total forest area in the country "}]
[null,null,null,null,null,null,null,null,null,null,null,null,null,null,null,null,null,null,null,null,null,null,null,null,null,null,9]
[null,null,{"$f":"title32","v":"Assessment based on default data"},null,null,null,null,null,null,null,null,null,null,null,null,null,null,null,null,null,null,null,null,null,null,null,10]
[null,null,null,null,null,null,null,null,null,null,null,null,null,null,null,null,null,null,null,null,null,null,null,null,null,null,11,null,{"$f":"title50","v":"increased by "},null,{"$f":"title53","v":" ha, i.e. by "},"%, ","increased "]
[null,null,null,{"$f":"title33","v":"Trends in extent of forest area 1990-2020 (FRA 2021)"},null,null,null,null,null,null,null,null,null,null,null,null,null,null,null,null,null,null,null,null,null,null,12,null,{"$f":"title51","v":"decreased by "},null,"%.","i.e. by ","decreased "]
[null,null,null,{"$f":"title34","v":"Forest area"},null,null,null,null,{"$f":"title35","v":"Change of forest area"},null,null,null,null,null,null,null,null,null,null,null,null,null,null,null,null,null,13,null,{"$f":"title52","v":"remained at "},null," ha,"," ha."]
[null,null,null,1990,2000,2010,2015,2020,"1990-2000","1990-2000","2000-2010","2000-2005","2010-2015",null,"2015-2020",null,"2000-2020",null,null,null,null,null,null,null,null,null,14,null,null,null," tons."]
[null,null,null,"1000 ha","1000 ha","1000 ha","1000 ha"," 1000 ha",{"$f":"title254","v":"Change\n(1000 ha)"},{"$f":"title253","v":"Annual change rate\n(%)"},{"$f":"title254","v":"Change\n(1000 ha)"},{"$f":"title253","v":"Annual change rate\n(%)"},{"$f":"title254","v":"Change\n(1000 ha)"},{"$f":"title253","v":"Annual change rate\n(%)"},{"$f":"title254","v":"Change\n(1000 ha)"},{"$f":"title253","v":"Annual change rate\n(%)"},"Change (1000 ha)","Annual change rate (%)",null,null,null,null,null,null,null,null,15]
[null,null,{"$f":"title37","v":"Total forest area"},{"$f":"IFERROR(VLOOKUP($E$4,FRA2020table3!$A$3:$E$251,MATCH(D$14,FRA2020table3!$A$3:$E$3,0),FALSE),\"-\")","v":"-"},{"$f":"IFERROR(VLOOKUP($E$4,FRA2020table3!$A$3:$E$251,MATCH(E$14,FRA2020table3!$A$3:$E$3,0),FALSE),\"-\")","v":"-"},{"$f":"IFERROR(VLOOKUP($E$4,FRA2020table3!$A$3:$E$251,MATCH(F$14,FRA2020table3!$A$3:$E$3,0),FALSE),\"-\")","v":"-"},{"$f":"IFERROR(VLOOKUP($E$4,FRA2020table3!$A$3:$E$251,MATCH(G$14,FRA2020table3!$A$3:$E$3,0),FALSE),\"-\")","v":"-"},{"$f":"IFERROR(VLOOKUP($E$4,FRA2020table3!$A$3:$F$251,MATCH(H$14,FRA2020table3!$A$3:$F$3,0),FALSE),\"-\")","v":"-"},{"$f":"IFERROR(E16-D16,\"-\")","v":"-"},{"$f":"IFERROR(POWER(E16/D16,1/(E14-D14))-1,\"-\")","v":"-"},{"$f":"IFERROR(F16-E16,\"-\")","v":"-"},{"$f":"IFERROR(POWER(F16/E16,1/(F14-E14))-1,\"-\")","v":"-"},{"$f":"IFERROR(G16-F16,\"-\")","v":"-"},{"$f":"IFERROR(POWER(G16/F16,1/(G14-F14))-1,\"-\")","v":"-"},{"$f":"IFERROR(H16-G16,\"-\")","v":"-"},{"$f":"IFERROR(POWER(H16/G16,1/(H14-G14))-1,\"-\")","v":"-"},{"$f":"IFERROR(H16-E16,\"-\")","v":"-"},{"$f":"IFERROR(POWER(H16/E16,1/(H14-E14))-1,\"-\")","v":"-"},null,null,null,null,null,null,null,null,16]
[null,null,null,null,null,null,null,null,null,null,null,null,null,null,null,null,null,null,null,null,null,null,null,null,null,null,17]
[null,null,null,null,null,null,null,null,null,null,null,null,null,null,null,null,null,null,null,null,null,null,null,null,null,null,18,"RESULTS"]
[null,null,null,null,null,{"$f":"title38","v":"Roundwood removal from forest (FAOSTAT)"},null,null,null,null,null,null,null,null,null,null,null,null,null,null,null,null,null,null,null,null,19,null,"Land use change table into text"]
[null,null,null,null,null,1990,2000,{"$f":"FAOSTAT_FH!G4","v":2010},{"$f":"H20+1","v":2011},{"$f":"I20+1","v":2012},2013,2014,2015,2016,2017,2018,2019,null,null,null,null,null,null,null,null,null,20,null,"FAOSTAT DATA"]
[null,null,null,null,null,"1000 m3","1000 m3","1000 m3","1000 m3","1000 m3","1000 m3","1000 m3","1000 m3","1000 m3","1000 m3","1000 m3","1000 m3",null,null,null,null,null,null,null,null,null,21,null,null,{"$f":"H14","v":2020},{"$f":"O14","v":"2015-2020"}]
[null,null,{"$f":"title248","v":"Industrial roundwood production"},null,null,{"$f":"IFERROR(F24-F23,\"-\")","v":"-"},"-","-","-","-","-","-","-","-","-","-","-"]
[null,null,{"$f":"title40","v":"Woodfuel production"},null,null,{"$f":"IFERROR(HLOOKUP(CONCATENATE(title42,F20),FAOSTAT_FH!$C$3:$DJ$213,MATCH($E$4,FAOSTAT_FH!$C$3:$C$213,0),FALSE)/1000,\"-\")","v":"-"},{"$f":"IFERROR(HLOOKUP(CONCATENATE(title42,G20),FAOSTAT_FH!$C$3:$DJ$213,MATCH($E$4,FAOSTAT_FH!$C$3:$C$213,0),FALSE)/1000,\"-\")","v":"-"},{"$f":"IFERROR(HLOOKUP(CONCATENATE(title42,H20),FAOSTAT_FH!$C$3:$DJ$213,MATCH($E$4,FAOSTAT_FH!$C$3:$C$213,0),FALSE)/1000,\"-\")","v":"-"},{"$f":"IFERROR(HLOOKUP(CONCATENATE(title42,I20),FAOSTAT_FH!$C$3:$DJ$213,MATCH($E$4,FAOSTAT_FH!$C$3:$C$213,0),FALSE)/1000,\"-\")","v":"-"},{"$f":"IFERROR(HLOOKUP(CONCATENATE(title42,J20),FAOSTAT_FH!$C$3:$DJ$213,MATCH($E$4,FAOSTAT_FH!$C$3:$C$213,0),FALSE)/1000,\"-\")","v":"-"},{"$f":"IFERROR(HLOOKUP(CONCATENATE(title42,K20),FAOSTAT_FH!$C$3:$DJ$213,MATCH($E$4,FAOSTAT_FH!$C$3:$C$213,0),FALSE)/1000,\"-\")","v":"-"},{"$f":"IFERROR(HLOOKUP(CONCATENATE(title42,L20),FAOSTAT_FH!$C$3:$DJ$213,MATCH($E$4,FAOSTAT_FH!$C$3:$C$213,0),FALSE)/1000,\"-\")","v":"-"},{"$f":"IFERROR(HLOOKUP(CONCATENATE(title42,M20),FAOSTAT_FH!$C$3:$DJ$213,MATCH($E$4,FAOSTAT_FH!$C$3:$C$213,0),FALSE)/1000,\"-\")","v":"-"},{"$f":"IFERROR(HLOOKUP(CONCATENATE(title42,N20),FAOSTAT_FH!$C$3:$DJ$213,MATCH($E$4,FAOSTAT_FH!$C$3:$C$213,0),FALSE)/1000,\"-\")","v":"-"},{"$f":"IFERROR(HLOOKUP(CONCATENATE(title42,O20),FAOSTAT_FH!$C$3:$DJ$213,MATCH($E$4,FAOSTAT_FH!$C$3:$C$213,0),FALSE)/1000,\"-\")","v":"-"},{"$f":"IFERROR(HLOOKUP(CONCATENATE(title42,P20),FAOSTAT_FH!$C$3:$DJ$213,MATCH($E$4,FAOSTAT_FH!$C$3:$C$213,0),FALSE)/1000,\"-\")","v":"-"},{"$f":"IFERROR(HLOOKUP(CONCATENATE(title42,Q20),FAOSTAT_FH!$C$3:$DJ$213,MATCH($E$4,FAOSTAT_FH!$C$3:$C$213,0),FALSE)/1000,\"-\")","v":"-"},null,null,null,null,null,null,null,null,null,23,null,"Total forests",{"$f":"IF(ABS($F$16)*1000>1000000,TEXT(ABS($F$16)*1000,\"0,000,000\"),TEXT(ABS($F$16)*1000,\"0,000\"))","v":{"$error":"#VALUE!"}},{"$f":"IF(ABS($Q16)*1000>1000000,TEXT(ABS($Q16)*1000,\"0,000,000\"),TEXT(ABS($Q16)*1000,\"0,000\"))","v":{"$error":"#VALUE!"}}]
[null,null,{"$f":"UPPER(\"Total \"&title39)","v":"TOTAL ROUNDWOOD PRODUCTION"},null,null,{"$f":"IFERROR(HLOOKUP(CONCATENATE(title41,F20),FAOSTAT_FH!$C$3:$AB$213,MATCH($E$4,FAOSTAT_FH!$C$3:$C$213,0),FALSE)/1000,\"-\")","v":"-"},{"$f":"IFERROR(HLOOKUP(CONCATENATE(title41,G20),FAOSTAT_FH!$C$3:$DJ$213,MATCH($E$4,FAOSTAT_FH!$C$3:$C$213,0),FALSE)/1000,\"-\")","v":"-"},{"$f":"IFERROR(HLOOKUP(CONCATENATE(title41,H20),FAOSTAT_FH!$C$3:$DJ$213,MATCH($E$4,FAOSTAT_FH!$C$3:$C$213,0),FALSE)/1000,\"-\")","v":"-"},{"$f":"IFERROR(HLOOKUP(CONCATENATE(title41,I20),FAOSTAT_FH!$C$3:$DJ$213,MATCH($E$4,FAOSTAT_FH!$C$3:$C$213,0),FALSE)/1000,\"-\")","v":"-"},{"$f":"IFERROR(HLOOKUP(CONCATENATE(title41,J20),FAOSTAT_FH!$C$3:$DJ$213,MATCH($E$4,FAOSTAT_FH!$C$3:$C$213,0),FALSE)/1000,\"-\")","v":"-"},{"$f":"IFERROR(HLOOKUP(CONCATENATE(title41,K20),FAOSTAT_FH!$C$3:$DJ$213,MATCH($E$4,FAOSTAT_FH!$C$3:$C$213,0),FALSE)/1000,\"-\")","v":"-"},{"$f":"IFERROR(HLOOKUP(CONCATENATE(title41,L20),FAOSTAT_FH!$C$3:$DJ$213,MATCH($E$4,FAOSTAT_FH!$C$3:$C$213,0),FALSE)/1000,\"-\")","v":"-"},{"$f":"IFERROR(HLOOKUP(CONCATENATE(title41,M20),FAOSTAT_FH!$C$3:$DJ$213,MATCH($E$4,FAOSTAT_FH!$C$3:$C$213,0),FALSE)/1000,\"-\")","v":"-"},{"$f":"IFERROR(HLOOKUP(CONCATENATE(title41,N20),FAOSTAT_FH!$C$3:$DJ$213,MATCH($E$4,FAOSTAT_FH!$C$3:$C$213,0),FALSE)/1000,\"-\")","v":"-"},{"$f":"IFERROR(HLOOKUP(CONCATENATE(title41,O20),FAOSTAT_FH!$C$3:$DJ$213,MATCH($E$4,FAOSTAT_FH!$C$3:$C$213,0),FALSE)/1000,\"-\")","v":"-"},{"$f":"IFERROR(HLOOKUP(CONCATENATE(title41,P20),FAOSTAT_FH!$C$3:$DJ$213,MATCH($E$4,FAOSTAT_FH!$C$3:$C$213,0),FALSE)/1000,\"-\")","v":"-"},{"$f":"IFERROR(HLOOKUP(CONCATENATE(title41,Q20),FAOSTAT_FH!$C$3:$DJ$213,MATCH($E$4,FAOSTAT_FH!$C$3:$C$213,0),FALSE)/1000,\"-\")","v":"-"},null,null,null,null,null,null,null,null,null,24]
[]
[]
[]
[]
[]
[]
[]
[]
[]
[]
[]
[]
[]
[null,null,null,null,null,null,null,null,null,null,null,null,null,null,null,null,null,null,null,null,null,null,null,null,null,null,null,null,null,{"$f":"title37&\" \"&IF($R$16<0,title255&\" (\",title256&\" (\")&$Q$14&\") = \"&ABS(ROUND($R$16*100,2))&\"%\"","v":{"$error":"#VALUE!"}}]
[]
[]
[null,null,null,{"$f":"title45","v":"Trends in forest cover, conclusion and recommendations "}]
[]
[null,null,null,{"$f":"IF(D44=\"\",\"\",IF(O16=0,CONCATENATE($AB$8,$AC$13,$AD$23,$AF$13),IF(O16>0,CONCATENATE($AB$8,$AC$11,$AE$23,$AE$11,ROUND(ABS(R16*100),2),$AE$12),IF(O16<0,CONCATENATE($AB$8,$AC$12,$AE$23,$AE$11,ROUND(ABS(R16*100),2),$AE$12),\"\"))))","v":""}]
[null,null,null,{"$f":"IF(R16=\"-\",\"\",IF(R16=0,$AC$6,IF(R16<0,$AC$2,IF(R16>0,$AC$4,\"\"))))","v":""}]

{"sheet":"Fo_FHR","index":3,"n_rows":113,"n_cols":35,"rows_kept":113,"cut":false,"hidden":false,"merged":[[6,11,6,13],[6,14,6,15],[48,7,48,8],[50,7,50,8],[65,27,65,30],[70,27,70,30],[70,31,70,34],[12,10,12,11],[17,7,17,8],[51,7,51,8],[35,7,35,8],[19,2,19,15],[24,3,25,3],[24,10,25,10],[24,11,25,11],[25,7,25,8],[20,2,20,5],[20,10,20,13],[22,10,22,11],[22,2,22,3],[24,2,25,2],[31,10,31,11],[36,7,36,8],[37,7,37,8],[1,2,1,15],[6,2,6,3],[10,10,10,13],[9,2,9,15],[30,10,30,11],[34,7,34,8],[45,7,45,8],[47,7,47,8],[56,7,56,8],[31,3,31,5],[30,3,30,5],[49,7,49,8],[10,2,10,5],[13,7,13,8],[14,7,14,8],[12,2,12,3],[42,2,42,5],[42,10,42,13],[44,2,44,3],[44,10,44,11],[31,7,31,8],[15,7,15,8],[16,7,16,8],[23,7,23,8],[33,7,33,8],[24,7,24,8],[58,7,58,8],[53,7,53,8],[28,2,28,15],[40,2,40,15],[74,7,74,8],[54,7,54,8],[52,7,52,8],[71,2,71,15],[57,7,57,8],[61,2,61,15],[65,7,65,8],[64,7,64,8],[64,3,64,5],[63,3,63,5],[63,10,63,11],[64,10,64,11],[70,7,70,8],[70,3,70,5],[70,10,70,11],[101,11,101,13],[102,11,102,13],[103,11,103,13],[98,8,98,13],[101,5,101,7],[102,5,102,7],[103,5,103,7],[99,8,100,10],[101,8,101,10],[102,8,102,10],[103,8,103,10],[99,5,100,7],[99,11,100,13],[98,2,98,3],[89,7,89,8],[59,7,59,8],[85,7,85,8],[69,7,69,8],[69,3,69,5],[69,10,69,11],[66,3,66,5],[66,10,66,11],[66,7,66,8],[68,7,68,8],[88,7,88,8],[87,7,87,8],[86,7,86,8],[84,7,84,8],[81,2,81,3],[81,10,81,11],[82,7,82,8],[77,2,77,15],[67,7,67,8],[67,3,67,5],[67,10,67,11],[84,2,84,5],[94,2,94,15],[84,10,84,13],[93,2,93,15],[73,10,73,11],[74,10,74,11],[73,3,73,5],[74,3,74,5],[90,7,90,8],[91,7,91,8],[79,2,79,5],[79,10,79,13]]}
[null,null,null,null,null,null,null,null,null,null,null,null,null,null,null,null,null,null,null,null,null,null,null,null,null,null,1]
[null,null,{"$f":"title103","v":"FOREST HARVESTING RESIDUES"},null,null,null,null,null,null,null,null,null,null,null,null,null,null,null,null,null,null,null,null,null,null,null,2]
[null,null,null,null,null,null,null,null,null,null,null,null,null,null,null,null,null,null,null,null,null,null,null,null,null,null,3]
[null,null,{"$f":"title21&\":\"","v":"Country:"},{"$f":"Fo!$F$4","v":"Select a country"},null,null,null,null,null,null,null,null,null,null,null,null,null,null,null,null,null,null,null,null,null,null,4]
[null,null,null,null,null,null,null,null,null,null,null,null,null,null,null,null,null,null,null,null,null,null,null,null,null,null,5]
[null,null,null,null,null,null,null,null,null,null,null,null,null,null,null,null,null,null,null,null,null,null,null,null,null,null,6]
[null,null,{"$f":"title22&\":\"","v":"BEFS Rapid Appraisal for:"},null,null,{"$f":"Fo!$G$7","v":"Select"},{"$f":"IF(Fo!$I$7=\"\",\"\",Fo!$I$7)","v":""},null,null,null,null,{"$f":"title30","v":"Enter data into white cells"},null,null,{"$f":"title31","v":"Grey cells are calculated"},null,null,null,null,null,null,null,null,null,null,null,7]
[null,null,null,null,null,null,null,null,null,null,null,null,null,null,null,null,null,null,null,null,null,null,null,null,null,null,8]
[null,null,null,null,null,null,null,null,null,null,null,null,null,null,null,null,null,null,null,null,null,null,null,null,null,null,9]
[null,null,{"$f":"title39","v":"Roundwood production"},null,null,null,null,null,null,null,null,null,null,null,null,null,null,null,null,null,null,null,null,null,null,null,10]
[null,null,{"$f":"title54","v":"Industrial roundwood"},null,null,null,null,null,null,null,{"$f":"title55","v":"Woodfuel"},null,null,null,null,null,null,null,null,null,null,null,null,null,null,null,11]
[null,null,null,null,null,null,null,null,null,null,null,null,null,null,null,null,null,null,null,null,null,null,null,null,null,null,12]
[null,null,"FAOSTAT ",null,null,{"$f":"title56","v":"USER DEFINED"},null,null,null,null,"FAOSTAT ",null,null,{"$f":"title56","v":"USER DEFINED"},null,null,null,null,null,null,null,null,null,null,null,null,13]
[null,null,{"$f":"title57","v":"Annual average 2011 - 2020"},2020,null,null,null,{"$f":"title58","v":"Year"},null,null,{"$f":"title57","v":"Annual average 2011 - 2020"},2020,null,null,null,null,null,null,null,null,null,null,null,null,null,null,14]
[null,null,{"$f":"\"1,000 \"&title72","v":"1,000 m3/year"},{"$f":"\"1,000 \"&title72","v":"1,000 m3/year"},null,{"$f":"\"1,000 \"&title72","v":"1,000 m3/year"},null,{"$f":"title59","v":"Unit"},null,null,{"$f":"\"1,000 \"&title72","v":"1,000 m3/year"},{"$f":"\"1,000 \"&title72","v":"1,000 m3/year"},null,{"$f":"\"1,000 \"&title72","v":"1,000 m3/year"},null,null,null,null,null,null,null,null,null,null,null,null,15]
[null,null,{"$f":"IFERROR(SUM(C17:C18),\"-\")","v":0},{"$f":"IFERROR(SUM(D17:D18),\"-\")","v":0},null,{"$f":"IFERROR(SUM(F17:F18),\"-\")","v":0},null,"Total",null,null,{"$f":"IFERROR(SUM(K17:K18),\"-\")","v":0},{"$f":"IFERROR(SUM(L17:L18),\"-\")","v":0},null,{"$f":"IFERROR(SUM(N17:N18),\"-\")","v":0},null,null,null,null,null,null,null,null,null,null,null,null,16]
[null,null,{"$f":"IFERROR(HLOOKUP(title63,FAOSTAT_FHR!$C$3:$AV$210,MATCH($D$4,FAOSTAT_FHR!$C$3:$C$210,0),FALSE)/1000,\"-\")","v":"-"},{"$f":"IFERROR(HLOOKUP(CONCATENATE(title64,$L$14),FAOSTAT_FHR!$C$3:$AV$210,MATCH($D$4,FAOSTAT_FHR!$C$3:$C$210,0),FALSE)/1000,\"-\")","v":"-"},null,null,null,{"$f":"title61","v":"coniferous"},null,null,{"$f":"IFERROR(HLOOKUP(title67,FAOSTAT_FHR!$C$3:$AV$210,MATCH($D$4,FAOSTAT_FHR!$C$3:$C$210,0),FALSE)/1000,\"-\")","v":"-"},{"$f":"IFERROR(HLOOKUP(CONCATENATE(title68,$L$14),FAOSTAT_FHR!$C$3:$AV$210,MATCH($D$4,FAOSTAT_FHR!$C$3:$C$210,0),FALSE)/1000,\"-\")","v":"-"},null,null,null,null,null,null,null,null,null,null,null,null,null,null,17]
[null,null,{"$f":"IFERROR(HLOOKUP(title65,FAOSTAT_FHR!$C$3:$AV$210,MATCH($D$4,FAOSTAT_FHR!$C$3:$C$210,0),FALSE)/1000,\"0\")","v":"0"},{"$f":"IFERROR(HLOOKUP(CONCATENATE(title66,$L$14),FAOSTAT_FHR!$C$3:$AV$210,MATCH($D$4,FAOSTAT_FHR!$C$3:$C$210,0),FALSE)/1000,\"-\")","v":"-"},null,null,null,{"$f":"title62","v":"non-coniferous"},null,null,{"$f":"IFERROR(HLOOKUP(title69,FAOSTAT_FHR!$C$3:$AV$210,MATCH($D$4,FAOSTAT_FHR!$C$3:$C$210,0),FALSE)/1000,\"-\")","v":"-"},{"$f":"IFERROR(HLOOKUP(CONCATENATE(title70,$L$14),FAOSTAT_FHR!$C$3:$AV$210,MATCH($D$4,FAOSTAT_FHR!$C$3:$C$210,0),FALSE)/1000,\"-\")","v":"-"},null,null,null,null,null,null,null,null,null,null,null,null,null,null,19]
[null,null,null,null,null,null,null,null,null,null,null,null,null,null,null,null,null,null,null,null,null,null,null,null,null,null,21]
[null,null,{"$f":"title71","v":"Rate of felling removal"},null,null,null,null,null,null,null,null,null,null,null,null,null,null,null,null,null,null,null,null,null,null,null,22]
[null,null,{"$f":"title54","v":"Industrial roundwood"},null,null,null,null,null,null,null,{"$f":"title55","v":"Woodfuel"},null,null,null,null,null,null,null,null,null,null,null,null,null,null,null,23]
[null,null,null,null,null,null,null,null,null,null,null,null,null,null,null,null,null,null,null,null,null,null,null,null,null,null,24]
[null,null,{"$f":"title74","v":"DEFAULT VALUE "},null,null,{"$f":"title56","v":"USER DEFINED"},null,null,null,null,{"$f":"title74","v":"DEFAULT VALUE "},null,null,{"$f":"title56","v":"USER DEFINED"},null,null,null,null,null,null,null,null,null,null,null,null,25]
[null,null,"%","%",null,"%",null,{"$f":"title59","v":"Unit"},null,null,"%","%",null,"%",null,null,null,null,null,null,null,null,null,null,null,null,26]
[null,null,0.6,0.6,null,null,null,{"$f":"title61","v":"coniferous"},null,null,0.85,0.85,null,null,null,null,null,null,null,null,null,null,null,null,null,null,27]
[null,null,null,null,null,null,null,{"$f":"title62","v":"non-coniferous"},null,null,null,null,null,null,null,null,null,null,null,null,null,null,null,null,null,null,28]
[null,null,null,null,null,null,null,null,null,null,null,null,null,null,null,null,null,null,null,null,null,null,null,null,null,null,29]
[null,null,null,null,null,null,null,null,null,null,null,null,null,null,null,null,null,null,null,null,null,null,null,null,null,null,39]
[null,null,null,null,null,null,null,null,null,null,null,null,null,null,null,null,null,null,null,null,null,null,null,null,null,null,40]
[null,null,null,null,null,null,null,null,null,null,null,null,null,null,null,null,null,null,null,null,null,null,null,null,null,null,41]
[null,null,null,{"$f":"title74","v":"DEFAULT VALUE "},null,null,null,null,null,null,{"$f":"title56","v":"USER DEFINED"},null,null,null,null,null,null,null,null,null,null,null,null,null,null,null,42]
[null,null,null,{"$f":"IF(AC34=\"TS\", title76,IF(AC34=\"B\",title77,title78))","v":"Temperate"},null,null,null,{"$f":"title79","v":"Dominant forest type"},null,null,null,null,null,null,null,null,null,null,null,null,null,null,null,null,null,null,43,"Forest type: ","Default"]
[null,null,null,null,null,null,null,null,null,null,null,null,null,null,null,null,null,null,null,null,null,null,null,null,null,null,44]
[null,null,null,{"$f":"PROPER(title61)","v":"Coniferous"},null,{"$f":"PROPER(title62)","v":"Non-Coniferous"},null,{"$f":"title80","v":"Tree composition after felling"},null,null,{"$f":"PROPER(title61)","v":"Coniferous"},{"$f":"PROPER(title62)","v":"Non-Coniferous"},null,null,null,null,null,null,null,null,null,null,null,null,null,null,45,null,{"$f":"VLOOKUP(D4,Country!B2:D230,3,FALSE)","v":0}]
[null,null,null,{"$f":"IFERROR(VLOOKUP(CONCATENATE($AC$34,\"_C\"),$AB$35:$AF$41,MATCH($H35,$AB$35:$AF$35,0),FALSE),\"-\")","v":"-"},null,{"$f":"IFERROR(VLOOKUP(CONCATENATE($AC$34,\"_NC\"),$AB$35:$AF$40,MATCH($H35,$AB$35:$AF$35,0),FALSE),\"-\")","v":"-"},null,{"$f":"title81","v":"Crown (% of tree)"},null,null,null,null,null,null,null,null,null,null,null,null,null,null,null,null,null,null,46,null,{"$f":"title83","v":"Stem+bark (% of tree)"},{"$f":"title84","v":"Bark (% of stem)"},{"$f":"title81","v":"Crown (% of tree)"},{"$f":"title82","v":"Foliage (% of crown)"}]
[null,null,null,{"$f":"IFERROR(VLOOKUP(CONCATENATE($AC$34,\"_C\"),$AB$35:$AF$41,MATCH($H36,$AB$35:$AF$35,0),FALSE),\"-\")","v":"-"},null,{"$f":"IFERROR(VLOOKUP(CONCATENATE($AC$34,\"_NC\"),$AB$35:$AF$40,MATCH($H36,$AB$35:$AF$35,0),FALSE),\"-\")","v":"-"},null,{"$f":"title82","v":"Foliage (% of crown)"},null,null,null,null,null,null,null,null,null,null,null,null,null,null,null,null,null,null,47,"B_C",0.58199999999999996,0.13,0.41799999999999998,0.39300000000000002]
[null,null,null,{"$f":"IFERROR(VLOOKUP(CONCATENATE($AC$34,\"_C\"),$AB$35:$AF$41,MATCH($H37,$AB$35:$AF$35,0),FALSE),\"-\")","v":"-"},null,{"$f":"IFERROR(VLOOKUP(CONCATENATE($AC$34,\"_NC\"),$AB$35:$AF$40,MATCH($H37,$AB$35:$AF$35,0),FALSE),\"-\")","v":"-"},null,{"$f":"title83","v":"Stem+bark (% of tree)"},null,null,null,null,null,null,null,null,null,null,null,null,null,null,null,null,null,null,48,"B_NC",0.746,0.12,0.254,0.16900000000000001]
[null,null,null,{"$f":"IFERROR(VLOOKUP(CONCATENATE($AC$34,\"_C\"),$AB$35:$AF$41,MATCH($H38,$AB$35:$AF$35,0),FALSE),\"-\")","v":"-"},null,{"$f":"IFERROR(VLOOKUP(CONCATENATE($AC$34,\"_NC\"),$AB$35:$AF$40,MATCH($H38,$AB$35:$AF$35,0),FALSE),\"-\")","v":"-"},null,{"$f":"title84","v":"Bark (% of stem)"},null,null,null,null,null,null,null,null,null,null,null,null,null,null,null,null,null,null,49,"T_C",0.73499999999999999,0.13,0.26500000000000001,0.33100000000000002]
[null,null,null,null,null,null,null,null,null,null,null,null,null,null,null,null,null,null,null,null,null,null,null,null,null,null,50,"T_NC",0.76300000000000001,0.12,0.23699999999999999,0.108]
[null,null,null,null,null,null,null,null,null,null,null,null,null,null,null,null,null,null,null,null,null,null,null,null,null,null,51,"TS_NC",0.79,0.12,0.21,0.31]
[null,null,{"$f":"title87","v":"Residues from forest harvesting"},null,null,null,null,null,null,null,null,null,null,null,null,null,null,null,null,null,null,null,null,null,null,null,52,"TS_C",0.79,0.12,0.21,0.31]
[null,null,null,null,null,null,null,null,null,null,null,null,null,null,null,null,null,null,null,null,null,null,null,null,null,null,53]
[null,null,{"$f":"title54","v":"Industrial roundwood"},null,null,null,null,null,null,null,{"$f":"title55","v":"Woodfuel"},null,null,null,null,null,null,null,null,null,null,null,null,null,null,null,54]
[null,null,null,null,null,null,null,null,null,null,null,null,null,null,null,null,null,null,null,null,null,null,null,null,null,null,55]
[null,null,"FAOSTAT ",null,null,{"$f":"title56","v":"USER DEFINED"},null,null,null,null,"FAOSTAT ",null,null,{"$f":"title56","v":"USER DEFINED"},null,null,null,null,null,null,null,null,null,null,null,null,56]
[null,null,{"$f":"title57","v":"Annual average 2011 - 2020"},2020,null,{"$f":"IF($F$14=\"\",\"\",$F$14)","v":""},null,{"$f":"title58","v":"Year"},null,null,{"$f":"title57","v":"Annual average 2011 - 2020"},2020,null,{"$f":"IF($N$14=\"\",\"\",$N$14)","v":""},null,null,null,null,null,null,null,null,null,null,null,null,57]
[null,null,{"$f":"\"1,000 \"&title72","v":"1,000 m3/year"},{"$f":"\"1,000 \"&title72","v":"1,000 m3/year"},null,{"$f":"\"1,000 \"&title72","v":"1,000 m3/year"},null,{"$f":"title59","v":"Unit"},null,null,{"$f":"\"1,000 \"&title72","v":"1,000 m3/year"},{"$f":"\"1,000 \"&title72","v":"1,000 m3/year"},null,{"$f":"\"1,000 \"&title72","v":"1,000 m3/year"},null,null,null,null,null,null,null,null,null,null,null,null,58]
[null,null,null,null,null,null,null,{"$f":"title88","v":"Branches and various cut-offs"},null,null,null,null,null,null,null,null,null,null,null,null,null,null,null,null,null,null,59]
[null,null,{"$f":"IFERROR(SUM(C50:C51),\"-\")","v":0},{"$f":"IFERROR(SUM(D50:D51),\"-\")","v":0},null,{"$f":"IFERROR(SUM(F50:F51),\"-\")","v":0},null,"total",null,null,{"$f":"IFERROR(SUM(K50:K51),\"-\")","v":0},{"$f":"IFERROR(SUM(L50:L51), \"-\")","v":0},null,{"$f":"IFERROR(SUM(N50:N51),\"-\")","v":0},null,null,null,null,null,null,null,null,null,null,null,null,60]
[null,null,{"$f":"IFERROR(AC74,\"-\")","v":"-"},{"$f":"IFERROR(AD74,\"-\")","v":"-"},null,{"$f":"IFERROR(AE74,\"-\")","v":"-"},null,{"$f":"title61","v":"coniferous"},null,null,{"$f":"IFERROR(AG74,\"-\")","v":"-"},{"$f":"IFERROR(AH74,\"-\")","v":"-"},null,{"$f":"IFERROR(AI74,\"-\")","v":"-"},null,null,null,null,null,null,null,null,null,null,null,null,61]
[null,null,{"$f":"IFERROR(AC75,\"-\")","v":"-"},{"$f":"IFERROR(AD75,\"-\")","v":"-"},null,{"$f":"IFERROR(AE75,\"-\")","v":"-"},null,{"$f":"title62","v":"non-coniferous"},null,null,{"$f":"IFERROR(AG75,\"-\")","v":"-"},{"$f":"IFERROR(AH75,\"-\")","v":"-"},null,{"$f":"IFERROR(AI75,\"-\")","v":"-"},null,null,null,null,null,null,null,null,null,null,null,null,62]
[null,null,null,null,null,null,null,{"$f":"title89","v":"Foliage"},null,null,null,null,null,null,null,null,null,null,null,null,null,null,null,null,null,null,63,null,{"$f":"title54","v":"Industrial roundwood"}]
[null,null,{"$f":"IFERROR(SUM(C54:C55),\"-\")","v":0},{"$f":"IFERROR(SUM(D54:D55),\"-\")","v":0},null,{"$f":"IFERROR(SUM(F54:F55),\"-\")","v":0},null,"total",null,null,{"$f":"SUM(K54:K55)","v":0},{"$f":"SUM(L54:L55)","v":0},null,{"$f":"SUM(N54:N55)","v":0},null,null,null,null,null,null,null,null,null,null,null,null,64,"crown+bark","FAOSTAT AV.","FAOSTAT 2012","User defined"]
[null,null,{"$f":"IFERROR(AC64,\"-\")","v":"-"},{"$f":"IFERROR(AD64,\"-\")","v":"-"},null,{"$f":"IFERROR(AE64,\"-\")","v":"-"},null,{"$f":"title61","v":"coniferous"},null,null,{"$f":"IFERROR(AG64,\"-\")","v":"-"},{"$f":"IFERROR(AH64,\"-\")","v":"-"},null,{"$f":"IFERROR(AI64,\"-\")","v":"-"},null,null,null,null,null,null,null,null,null,null,null,null,65,{"$f":"title61","v":"coniferous"},{"$f":"IF(F25=\"\",(1-$C$25)*$C$17/C25,(1-F25)*($C$17/C25))","v":{"$error":"#VALUE!"}},{"$f":"IF(F25=\"\",(1-$C$25)*$D$17/C25,(1-F25)*$D$17/F25)","v":{"$error":"#VALUE!"}},{"$f":"IF(F25=\"\",(1-$C$25)*$F$17/C25,(1-F25)*$F$17/F25)","v":0}]
[null,null,{"$f":"IFERROR(AC65,\"-\")","v":"-"},{"$f":"IFERROR(AD65,\"-\")","v":"-"},null,{"$f":"IFERROR(AE65,\"-\")","v":"-"},null,{"$f":"title62","v":"non-coniferous"},null,null,{"$f":"IFERROR(AG65,\"-\")","v":"-"},{"$f":"IFERROR(AH65,\"-\")","v":"-"},null,{"$f":"IFERROR(AI65,\"-\")","v":"-"},null,null,null,null,null,null,null,null,null,null,null,null,66,{"$f":"title62","v":"non-coniferous"},{"$f":"IF(F26=\"\",(1-$C$25)*$C$18/C25,(1-F26)*$C$18/F26)","v":0},{"$f":"IF(F26=\"\",(1-$C$25)*$D$18/C25,(1-F26)*$D$18/F26)","v":{"$error":"#VALUE!"}},{"$f":"IF(F26=\"\",(1-$C$25)*$F$18/C25,(1-F26)*$F$18/F26)","v":0}]
[null,null,null,null,null,null,null,null,null,null,null,null,null,null,null,null,null,null,null,null,null,null,null,null,null,null,67]
[null,null,null,null,null,null,null,{"$f":"title90","v":"Bark"},null,null,null,null,null,null,null,null,null,null,null,null,null,null,null,null,null,null,68]
[null,null,{"$f":"IFERROR(SUM(C59:C60),\"-\")","v":0},{"$f":"IFERROR(SUM(D59:D60),\"-\")","v":0},null,{"$f":"IFERROR(SUM(F59:F60),\"-\")","v":0},null,"total",null,null,null,null,null,null,null,null,null,null,null,null,null,null,null,null,null,null,69,null,{"$f":"title54","v":"Industrial roundwood"},null,null,null,{"$f":"title55","v":"Woodfuel"}]
[null,null,{"$f":"IFERROR(AC69,\"-\")","v":"-"},{"$f":"IFERROR(AD69,\"-\")","v":"-"},null,{"$f":"IFERROR(AE69,\"-\")","v":"-"},null,{"$f":"title61","v":"coniferous"},null,null,null,null,null,null,null,null,null,null,null,null,null,null,null,null,null,null,70,"crown","FAOSTAT AV.","FAOSTAT 2012","User defined","crown","FAOSTAT AV.","FAOSTAT 2012","User defined"]
[null,null,{"$f":"IFERROR(AC70,\"-\")","v":"-"},{"$f":"IFERROR(AD70,\"-\")","v":"-"},null,{"$f":"IFERROR(AE70,\"-\")","v":"-"},null,{"$f":"title62","v":"non-coniferous"},null,null,null,null,null,null,null,null,null,null,null,null,null,null,null,null,null,null,71,{"$f":"title61","v":"coniferous"},{"$f":"AC54-AC69","v":{"$error":"#VALUE!"}},{"$f":"AD54-AD69","v":{"$error":"#VALUE!"}},{"$f":"AE54-AE69","v":{"$error":"#VALUE!"}},{"$f":"title61","v":"coniferous"},{"$f":"IF(N25=\"\",(1-$K$25)*$K$17/K25,(1-N25)*$K$17/N25)","v":{"$error":"#VALUE!"}},{"$f":"IF($N$25=\"\",(1-$L$25)*$L$17/L25,(1-$N$25)*$L$17/N25)","v":{"$error":"#VALUE!"}},{"$f":"IF($N$25=\"\",(1-$L$25)*$N$17/L25,(1-$N$25)*$N$17/N25)","v":0}]
[null,null,null,null,null,null,null,null,null,null,null,null,null,null,null,null,null,null,null,null,null,null,null,null,null,null,72,{"$f":"title62","v":"non-coniferous"},{"$f":"+AC55-AC70","v":{"$error":"#VALUE!"}},{"$f":"+AD55-AD70","v":{"$error":"#VALUE!"}},{"$f":"+AE55-AE70","v":{"$error":"#VALUE!"}},{"$f":"title62","v":"non-coniferous"},{"$f":"IF(N26=\"\",(1-$K$25)*$K$18/K25,(1-N26)*$K$18/N26)","v":{"$error":"#VALUE!"}},{"$f":"IF(N26=\"\",(1-$L$25)*$L$18/L25,(1-N26)*$L$18/N26)","v":{"$error":"#VALUE!"}},{"$f":"IF(N26=\"\",(1-$L$25)*$N$18/L25,(1-N26)*$N$18/N26)","v":0}]
[null,null,{"$f":"title91","v":"Percentage that can be collected at a reasonable cost (%)"},null,null,null,null,null,null,null,null,null,null,null,null,null,null,null,null,null,null,null,null,null,null,null,73,null,"INDUSTRIAL ROUNDWOOD",null,null,null,"WOODFUEL"]
[null,null,null,null,null,null,null,null,null,null,null,null,null,null,null,null,null,null,null,null,null,null,null,null,null,null,74,{"$f":"title89","v":"Foliage"},"FAOSTAT AV.","FAOSTAT 2012","User defined",{"$f":"title89","v":"Foliage"},"FAOSTAT AV.","FAOSTAT 2012","User defined"]
[null,null,null,{"$f":"title74","v":"DEFAULT VALUE "},null,null,null,null,null,null,{"$f":"title56","v":"USER DEFINED"},null,null,null,null,null,null,null,null,null,null,null,null,null,null,null,75,{"$f":"title61","v":"coniferous"},{"$f":"IF($K$36=\"\",$D$36*AC60,$K$36*AC60)","v":{"$error":"#VALUE!"}},{"$f":"IF($K$36=\"\",$D$36*AD60,$K$36*AD60)","v":{"$error":"#VALUE!"}},{"$f":"IF($K$36=\"\",$D$36*AE60,$K$36*AE60)","v":{"$error":"#VALUE!"}},{"$f":"title61","v":"coniferous"},{"$f":"IF($K$36=\"\",$D$36*AG60,$K$36*AG60)","v":{"$error":"#VALUE!"}},{"$f":"IF($K$36=\"\",$D$36*AH60,$K$36*AH60)","v":{"$error":"#VALUE!"}},{"$f":"IF($K$36=\"\",$D$36*AI60,$K$36*AI60)","v":{"$error":"#VALUE!"}}]
[null,null,null,"%",null,null,null,{"$f":"title59","v":"Unit"},null,null,"%",null,null,null,null,null,null,null,null,null,null,null,null,null,null,null,76,{"$f":"title62","v":"non-coniferous"},{"$f":"IF($L$36=\"\",$F$36*AC61,$L$36*AC61)","v":{"$error":"#VALUE!"}},{"$f":"IF($L$36=\"\",$F$36*AD61,$L$36*AD61)","v":{"$error":"#VALUE!"}},{"$f":"IF($L$36=\"\",$F$36*AE61,$L$36*AE61)","v":{"$error":"#VALUE!"}},{"$f":"title62","v":"non-coniferous"},{"$f":"IF($L$36=\"\",$F$36*AG61,$L$36*AG61)","v":{"$error":"#VALUE!"}},{"$f":"IF($L$36=\"\",$F$36*AH61,$L$36*AH61)","v":{"$error":"#VALUE!"}},{"$f":"IF($L$36=\"\",$F$36*AI61,$L$36*AI61)","v":{"$error":"#VALUE!"}}]
[null,null,null,null,null,null,null,{"$f":"title88","v":"Branches and various cut-offs"},null,null,null,null,null,null,null,null,null,null,null,null,null,null,null,null,null,null,77,{"$f":"title54","v":"Industrial roundwood"},{"$f":"title54","v":"Industrial roundwood"},{"$f":"title54","v":"Industrial roundwood"},{"$f":"title54","v":"Industrial roundwood"}]
[null,null,null,0.5,null,null,null,{"$f":"title61","v":"coniferous"},null,null,null,null,null,null,null,null,null,null,null,null,null,null,null,null,null,null,78]
[null,null,null,0.6,null,null,null,{"$f":"title62","v":"non-coniferous"},null,null,null,null,null,null,null,null,null,null,null,null,null,null,null,null,null,null,79,{"$f":"title90","v":"Bark"},"FAOSTAT AV.","FAOSTAT 2012","User defined"]
[null,null,null,null,null,null,null,{"$f":"title90","v":"Bark"},null,null,null,null,null,null,null,null,null,null,null,null,null,null,null,null,null,null,80,{"$f":"title61","v":"coniferous"},{"$f":"IF($K$38=\"\",C17*$D$38,C17*$K$38)","v":{"$error":"#VALUE!"}},{"$f":"IF($K$38=\"\",D17*$D$38,D17*$K$38)","v":{"$error":"#VALUE!"}},{"$f":"IF($K$38=\"\",F17*$D$38,F17*$K$38)","v":{"$error":"#VALUE!"}}]
[null,null,null,0.5,null,null,null,{"$f":"title61","v":"coniferous"},null,null,null,null,null,null,null,null,null,null,null,null,null,null,null,null,null,null,81,{"$f":"title62","v":"non-coniferous"},{"$f":"IF($L$38=\"\",C18*$F$38,C18*$L$38)","v":{"$error":"#VALUE!"}},{"$f":"IF($L$38=\"\",D18*$F$38,D18*$L$38)","v":{"$error":"#VALUE!"}},{"$f":"IF($L$38=\"\",F18*$F$38,F18*$L$38)","v":{"$error":"#VALUE!"}}]
[null,null,null,0.5,null,null,null,{"$f":"title62","v":"non-coniferous"},null,null,null,null,null,null,null,null,null,null,null,null,null,null,null,null,null,null,82,{"$f":"title54","v":"Industrial roundwood"},{"$f":"title54","v":"Industrial roundwood"},{"$f":"title54","v":"Industrial roundwood"},{"$f":"title54","v":"Industrial roundwood"},"WOODFUEL"]
[null,null,{"$f":"title92","v":"Current use of harvesting residues - % of total collectible residues"},null,null,null,null,null,null,null,null,null,null,null,null,null,null,null,null,null,null,null,null,null,null,null,83]
[null,null,null,null,null,null,null,null,null,null,null,null,null,null,null,null,null,null,null,null,null,null,null,null,null,null,84,"branches and cut-offs","FAOSTAT AV.","FAOSTAT 2012","User defined","branches and cut-offs","FAOSTAT AV.","FAOSTAT 2012","User defined"]
[null,null,null,{"$f":"title54","v":"Industrial roundwood"},null,null,null,null,null,null,{"$f":"title55","v":"Woodfuel"},null,null,null,null,null,null,null,null,null,null,null,null,null,null,null,85,{"$f":"title61","v":"coniferous"},{"$f":"AC60-AC64","v":{"$error":"#VALUE!"}},{"$error":"#VALUE!"},{"$error":"#VALUE!"},{"$f":"title61","v":"coniferous"},{"$f":"AG60-AG64","v":{"$error":"#VALUE!"}},{"$error":"#VALUE!"},{"$error":"#VALUE!"}]
[null,null,null,null,null,null,null,{"$f":"title56","v":"USER DEFINED"},null,null,null,null,null,null,null,null,null,null,null,null,null,null,null,null,null,null,86,{"$f":"title62","v":"non-coniferous"},{"$error":"#VALUE!"},{"$error":"#VALUE!"},{"$error":"#VALUE!"},{"$f":"title62","v":"non-coniferous"},{"$error":"#VALUE!"},{"$error":"#VALUE!"},{"$error":"#VALUE!"}]
[null,null,null,null,null,null,null,null,null,null,null,null,null,null,null,null,null,null,null,null,null,null,null,null,null,null,87]
[null,null,null,null,null,null,null,null,null,null,null,null,null,null,null,null,null,null,null,null,null,null,null,null,null,null,88]
[null,null,{"$f":"title93","v":"Branches, various cut-offs and bark potentially available for bioenergy production"},null,null,null,null,null,null,null,null,null,null,null,null,null,null,null,null,null,null,null,null,null,null,null,89]
[null,null,null,null,null,null,null,null,null,null,null,null,null,null,null,null,null,null,null,null,null,null,null,null,null,null,90]
[null,null,{"$f":"title54","v":"Industrial roundwood"},null,null,null,null,null,null,null,{"$f":"title55","v":"Woodfuel"},null,null,null,null,null,null,null,null,null,null,null,null,null,null,null,91]
[null,null,null,null,null,null,null,null,null,null,null,null,null,null,null,null,null,null,null,null,null,null,null,null,null,null,92]
[null,null,"FAOSTAT ",null,null,{"$f":"title56","v":"USER DEFINED"},null,null,null,null,"FAOSTAT ",null,null,{"$f":"title56","v":"USER DEFINED"},null,null,null,null,null,null,null,null,null,null,null,null,93]
[null,null,{"$f":"title57","v":"Annual average 2011 - 2020"},2020,null,{"$f":"IF($F$14=\"\",\"\",$F$14)","v":""},null,{"$f":"title58","v":"Year"},null,null,{"$f":"title57","v":"Annual average 2011 - 2020"},2020,null,{"$f":"IF($N$14=\"\",\"\",$N$14)","v":""},null,null,null,null,null,null,null,null,null,null,null,null,94]
[null,null,{"$f":"\"1,000 \"&title72","v":"1,000 m3/year"},{"$f":"\"1,000 \"&title72","v":"1,000 m3/year"},null,{"$f":"\"1,000 \"&title72","v":"1,000 m3/year"},null,{"$f":"title59","v":"Unit"},null,null,{"$f":"\"1,000 \"&title72","v":"1,000 m3/year"},{"$f":"\"1,000 \"&title72","v":"1,000 m3/year"},null,{"$f":"\"1,000 \"&title72","v":"1,000 m3/year"},null,null,null,null,null,null,null,null,null,null,null,null,95]
[null,null,{"$f":"IF(D75=\"\",title94,\"\")","v":"Enter % of currently used residues"},null,null,null,null,{"$f":"title88","v":"Branches and various cut-offs"},null,null,{"$f":"IF(K75=\"\",title94,\"\")","v":"Enter % of currently used residues"},null,null,null,null,null,null,null,null,null,null,null,null,null,null,null,96]
[null,null,{"$f":"IFERROR(SUM(C87:C88),\"-\")","v":0},{"$f":"IFERROR(SUM(D87:D88),\"-\")","v":0},null,{"$f":"IFERROR(SUM(F87:F88),\"-\")","v":0},null,"total",null,null,{"$f":"IFERROR(SUM(K87:K88),\"-\")","v":0},{"$f":"IFERROR(SUM(L87:L88),\"-\")","v":0},null,{"$f":"IFERROR(SUM(N87:N88),\"-\")","v":0},null,null,null,null,null,null,null,null,null,null,null,null,97]
[null,null,{"$f":"IFERROR(IF(D75=\"\",\"-\",IF($K$67=\"\",C50*$D$67,C50*$K$67)*(100%-$D$75)),\"-\")","v":"-"},{"$f":"IFERROR(IF(D75=\"\",\"-\",IF($K$67=\"\",D50*$D$67,D50*$K$67)*(100%-$D$75)),\"-\")","v":"-"},null,{"$f":"IFERROR(IF(D75=\"\",\"-\",IF(K67=\"\",F50*$D$67,F50*$K$67)*(100%-$D$75)),\"-\")","v":"-"},null,{"$f":"title61","v":"coniferous"},null,null,{"$f":"IFERROR(IF(K75=\"\",\"-\",IF($K$67=\"\",K50*$D$67,K50*$K$67)*(100%-$K$75)),\"-\")","v":"-"},{"$f":"IFERROR(IF(K75=\"\",\"-\",IF($K$67=\"\",L50*$D$67,L50*$K$67)*(100%-$K$75)),\"-\")","v":"-"},null,{"$f":"IFERROR(IF(K75=\"\",\"-\",IF(K67=\"\",N50*$D$67,N50*$K$67)*(100%-$K$75)),\"-\")","v":"-"},null,null,null,null,null,null,null,null,null,null,null,null,98]
[null,null,{"$f":"IFERROR(IF(D75=\"\",\"-\",IF($K$68=\"\",C51*$D$68,C51*$K$68)*(100%-$D$75)),\"-\")","v":"-"},{"$f":"IFERROR(IF(D75=\"\",\"-\",IF($K$68=\"\",D51*$D$68,D51*$K$68)*(100%-$D$75)),\"-\")","v":"-"},null,{"$f":"IFERROR(IF(D75=\"\",\"-\",IF(K68=\"\",F51*$D$68,F51*$K$68)*(100%-$D$75)),\"-\")","v":"-"},null,{"$f":"title62","v":"non-coniferous"},null,null,{"$f":"IFERROR(IF(K75=\"\",\"-\",IF($K$68=\"\",K51*$D$68,K51*$K$68)*(100%-$K$75)),\"-\")","v":"-"},{"$f":"IFERROR(IF(K75=\"\",\"-\",IF($K$68=\"\",L51*$D$68,L51*$K$68)*(100%-$K$75)),\"-\")","v":"-"},null,{"$f":"IFERROR(IF(K75=\"\",\"-\",IF(K68=\"\",N51*$D$68,N51*$K$68)*(100%-$K$75)),\"-\")","v":"-"},null,null,null,null,null,null,null,null,null,null,null,null,99]
[null,null,null,null,null,null,null,{"$f":"title90","v":"Bark"},null,null,null,null,null,null,null,null,null,null,null,null,null,null,null,null,null,null,100]
[null,null,{"$f":"IFERROR(SUM(C91:C92),\"-\")","v":0},{"$f":"IFERROR(SUM(D91:D92),\"-\")","v":0},null,{"$f":"IFERROR(SUM(F91:F92),\"-\")","v":0},null,"total",null,null,null,null,null,null,null,null,null,null,null,null,null,null,null,null,null,null,101]
[null,null,{"$f":"IFERROR(IF(D75=\"\",\"-\",IF($K$70=\"\",C59*$D$70,C59*$K$70)*(100%-$D$75)),\"-\")","v":"-"},{"$f":"IFERROR(IF(D75=\"\",\"-\",IF($K$70=\"\",D59*$D$70,D59*$K$70)*(100%-$D$75)),\"-\")","v":"-"},null,{"$f":"IFERROR(IF(D75=\"\",\"-\",IF($K$70=\"\",F59*$D$70,F59*$K$70)*(100%-$D$75)),\"-\")","v":"-"},null,{"$f":"title61","v":"coniferous"},null,null,null,null,null,null,null,null,null,null,null,null,null,null,null,null,null,null,102]
[null,null,{"$f":"IFERROR(IF(D75=\"\",\"-\",IF($K$71=\"\",C60*$D$71,C60*$K$71)*(100%-$D$75)),\"-\")","v":"-"},{"$f":"IFERROR(IF(D75=\"\",\"-\",IF($K$71=\"\",D60*$D$71,D60*$K$71)*(100%-$D$75)),\"-\")","v":"-"},null,{"$f":"IFERROR(IF(D75=\"\",\"-\",IF($K$71=\"\",F60*$D$71,F60*$K$71)*(100%-$D$75)),\"-\")","v":"-"},null,{"$f":"title62","v":"non-coniferous"},null,null,null,null,null,null,null,null,null,null,null,null,null,null,null,null,null,null,103]
[null,null,null,null,null,null,null,null,null,null,null,null,null,null,null,null,null,null,null,null,null,null,null,null,null,null,104]
[null,null,{"$f":"title247","v":"Residues accessible and potentially available for bioenergy production"},null,null,null,null,null,null,null,null,null,null,null,null,null,null,null,null,null,null,null,null,null,null,null,105]
[null,null,{"$f":"title96","v":"Select source on Roundwood production data to calculate final results"},null,null,null,null,null,null,null,null,null,null,null,null,null,null,null,null,null,null,null,null,null,null,null,106]
[null,null,null,null,null,null,null,null,null,null,null,null,null,null,null,null,null,null,null,null,null,null,null,null,null,null,107]
[null,null,true,false,null,null,null,null,null,null,null,null,null,null,null,null,null,null,null,null,null,null,null,null,null,null,108]
[null,null,null,null,null,null,null,null,null,null,null,null,null,null,null,null,null,null,null,null,null,null,null,null,null,null,109]
[null,null,{"$f":"title97","v":"Wood density"},null,null,null,null,null,{"$f":"title98","v":"Available residues"},null,null,null,null,null,null,null,null,null,null,null,null,null,null,null,null,null,110]
[null,null,{"$f":"title74","v":"DEFAULT VALUE "},{"$f":"title56","v":"USER DEFINED"},null,{"$f":"title59","v":"Unit"},null,null,{"$f":"title72","v":"m3/year"},null,null,{"$f":"title99","v":"t/year"},null,null,null,null,null,null,null,null,null,null,null,null,null,null,111,"Forest type: ","Default",null,"User"]
[null,null,"t/m3","t/m3",null,null,null,null,null,null,null,null,null,null,null,null,null,null,null,null,null,null,null,null,null,null,112,null,{"$f":"AC34","v":0},null,{"$f":"AD33","v":0}]
[null,null,{"$f":"IF($AC$103=CONCATENATE(\"TS\",Region473),$AE$111,IF($AC$103=CONCATENATE(\"TS\",Region472),$AE$108,IF(AC103=CONCATENATE(\"TS\",Region476),$AE$109,AE106)))","v":0.37},null,null,{"$f":"title61","v":"coniferous"},null,null,{"$f":"IF(D97=TRUE,SUM(N91,N87,F87,F91),IF(C97=TRUE,SUM(C91,C87,K87,K91),SUM(D87,D91,L87,L91)))*1000","v":0},null,null,{"$f":"IF(D102=\"\",I102*C102,I102*D102)","v":0},null,null,null,null,null,null,null,null,null,null,null,null,null,null,113,"Continent",{"$f":"VLOOKUP(D4,Country!B2:D230,2,FALSE)","v":"IPCC"}]
[null,null,{"$f":"IF($AC$103=CONCATENATE(\"TS\",Region473),$AE$111,IF($AC$103=CONCATENATE(\"TS\",Region472),$AE$108,IF($AC$103=CONCATENATE(\"TS\",Region476),$AE$109,AE107)))","v":0.56000000000000005},null,null,{"$f":"title62","v":"non-coniferous"},null,null,{"$f":"IF(D97=TRUE,SUM(N92,N88,F88,F92),IF(C97=TRUE,SUM(C92,C88,K88,K92),SUM(D88,D92,L88,L92)))*1000","v":0},null,null,{"$f":"IF(D103=\"\",I103*C103,I103*D103)","v":0},null,null,null,null,null,null,null,null,null,null,null,null,null,null,114,null,{"$f":"CONCATENATE(AC101,$AC$102)","v":"0IPCC"},null,{"$f":"CONCATENATE(AE101,$AC$102)","v":"0IPCC"}]
[null,null,null,null,null,"TOTAL",null,null,{"$f":"SUM(I103,I102)","v":0},null,null,{"$f":"SUM(L102:N103)","v":0},null,null,null,null,null,null,null,null,null,null,null,null,null,null,115]
[null,null,null,null,null,null,null,null,null,null,null,null,null,null,null,null,null,null,null,null,null,null,null,null,null,null,116,"Forest type","from ","to","mean"]
[null,null,null,null,null,null,null,null,null,null,null,null,null,null,null,null,null,null,null,null,null,null,null,null,null,null,117,{"$f":"title61","v":"coniferous"},0.20899999999999999,0.54,{"$f":"ROUND(AVERAGE(AC106:AD106),2)","v":0.37}]
[null,null,null,null,null,null,null,null,null,null,null,null,null,null,null,null,null,null,null,null,null,null,null,null,null,null,118,"non-foniferous",0.32,0.8,{"$f":"ROUND(AVERAGE(AC107:AD107),2)","v":0.56000000000000005}]
[null,null,null,null,null,null,null,null,null,null,null,null,null,null,null,null,null,null,null,null,null,null,null,null,null,null,119,"TSAfrica",0.5,0.79,0.57999999999999996]
[null,null,null,null,null,null,null,null,null,null,null,null,null,null,null,null,null,null,null,null,null,null,null,null,null,null,120,"TSLatin America",0.5,0.69,0.6]
[]
[null,null,null,null,null,null,null,null,null,null,null,null,null,null,null,null,null,null,null,null,null,null,null,null,null,null,121,"TSAsia",0.56999999999999995,0.69,0.56999999999999995]
[null,null,null,null,null,null,null,null,null,null,null,null,null,null,null,null,null,null,null,null,null,null,null,null,null,null,122]
[null,null,null,null,null,null,null,null,null,null,null,null,null,null,null,null,null,null,null,null,null,null,null,null,null,null,123]

{"sheet":"Fo_WPR","index":4,"n_rows":63,"n_cols":17,"rows_kept":63,"cut":false,"hidden":false,"merged":[[43,3,43,4],[32,22,32,23],[54,2,54,10],[16,2,16,10],[12,7,12,8],[13,7,13,8],[14,7,14,8],[31,7,31,8],[18,3,18,4],[19,3,19,4],[20,3,20,4],[21,3,21,4],[23,7,23,8],[19,5,19,6],[20,5,20,6],[21,5,21,6],[50,4,50,5],[49,4,49,7],[23,3,23,4],[11,7,11,8],[12,5,12,6],[13,5,13,6],[14,5,14,6],[11,3,11,4],[23,5,23,6],[44,5,44,6],[45,3,45,4],[43,7,43,8],[44,7,44,8],[45,7,45,8],[45,5,45,6],[38,5,38,6],[39,5,39,6],[62,5,62,6],[62,7,62,8],[60,7,60,8],[61,7,61,8],[46,5,46,6],[47,5,47,6],[46,7,46,8],[47,7,47,8],[59,5,59,6],[60,5,60,6],[51,4,51,5],[52,4,52,5],[50,6,50,7],[51,6,51,7],[52,6,52,7],[61,5,61,6],[59,7,59,8],[59,3,59,4],[60,3,60,4],[61,3,61,4],[1,2,1,10],[6,7,6,8],[22,5,22,6],[20,7,20,8],[19,7,19,8],[18,7,18,8],[21,7,21,8],[22,7,22,8],[6,9,6,10],[9,2,9,10],[6,2,6,3],[22,3,22,4],[18,5,18,6],[41,2,41,10],[34,2,34,10],[26,2,26,10],[29,5,29,6],[31,5,31,6],[32,5,32,6],[28,7,28,8],[28,3,28,4],[29,7,29,8],[30,7,30,8],[32,7,32,8],[36,5,36,8],[37,5,37,6],[37,7,37,8],[38,7,38,8],[39,7,39,8],[28,5,28,6],[24,7,24,8],[24,5,24,6],[24,3,24,4],[25,7,25,8]]}
[]
[null,null,{"$f":"UPPER(title14)","v":"WOOD PROCESSING RESIDUES"}]
[]
[null,null,{"$f":"title21&\":\"","v":"Country:"},{"$f":"Fo!$F$4","v":"Select a country"}]
[]
[]
[null,null,{"$f":"title22&\":\"","v":"BEFS Rapid Appraisal for:"},null,{"$f":"Fo!$G$7","v":"Select"},{"$f":"IF(Fo!I7=\"\",\"\",Fo!I7)","v":""},null,{"$f":"title30","v":"Enter data into white cells"},null,{"$f":"title31","v":"Grey cells are calculated"}]
[]
[]
[null,null,{"$f":"title104","v":"Sawnwood production"},"Sawnwood production"]
[]
[null,null,null,"FAOSTAT ",null,null,null,{"$f":"title56","v":"USER DEFINED"}]
[null,null,null,{"$f":"title57","v":"Annual average 2011 - 2020"},2020,{"$f":"title58","v":"Year"}]
[null,null,null,{"$f":"\"1,000 \"&title72","v":"1,000 m3/year"},{"$f":"\"1,000 \"&title72","v":"1,000 m3/year"},{"$f":"title59","v":"Unit"},null,{"$f":"\"1,000 \"&title72","v":"1,000 m3/year"}]
[null,null,null,{"$f":"IFERROR(HLOOKUP(title105,FAOSTAT_WPR!$C$4:$Y$169,MATCH($D$4,FAOSTAT_WPR!$C$4:$C$169,0),FALSE)/1000,\"-\")","v":"-"},{"$f":"IFERROR(HLOOKUP(CONCATENATE(title106,$E$13),FAOSTAT_WPR!$C$4:$Y$169,MATCH($D$4,FAOSTAT_WPR!$C$4:$C$169,0),FALSE)/1000,\"-\")","v":"-"},{"$f":"title109&\" (total)\"","v":"sawnwood  (total)"}]
[]
[null,null,{"$f":"title107","v":"Average efficiency of sawmills"},null,null,null,null,null,null,null,null,null,null,null,"FAOSTAT",null,"User defined"]
[]
[null,null,null,{"$f":"title74","v":"DEFAULT VALUE "},null,null,null,{"$f":"title56","v":"USER DEFINED"},null,null,null,null,null,null,"Average",2012,{"$f":"H13","v":0}]
[null,null,null,"%",null,{"$f":"title108","v":"Sawnwood and residues"},null,"%",null,null,null,null,null,null,{"$f":"ROUND(IF($H$21=\"\",D15/$D$21,D15/$H$21),2)","v":{"$error":"#VALUE!"}},{"$f":"ROUND(IF($H$21=\"\",E15/$D$21,E15/$H$21),2)","v":{"$error":"#VALUE!"}},{"$f":"ROUND(IF($H$21=\"\",H15/$D$21,H15/$H$21),2)","v":0}]
[null,null,null,0.55000000000000004,null,{"$f":"title109","v":"sawnwood "}]
[null,null,null,0.11,null,{"$f":"title110","v":"sawdust"}]
[null,null,null,0.3,null,{"$f":"title111","v":"slabs and chips"}]
[null,null,null,0.04,null,{"$f":"title112","v":"shrinkage and other losses"}]
[null,null,null,{"$f":"SUM(D21:E24)","v":1},null,"Total",null,{"$f":"IF(SUM(H21:I24)>1,title119,SUM(H21:I24))","v":0}]
[]
[null,null,{"$f":"title113","v":"Residues from sawnwood production"}]
[]
[null,null,null,"FAOSTAT ",null,null,null,{"$f":"title56","v":"USER DEFINED"}]
[null,null,null,{"$f":"title57","v":"Annual average 2011 - 2020"},2020,{"$f":"title114","v":"Type of residues"},null,{"$f":"IF(H13=\"\",\"\",H13)","v":""}]
[null,null,null,{"$f":"\"1,000 \"&title72","v":"1,000 m3/year"},{"$f":"\"1,000 \"&title72","v":"1,000 m3/year"},null,null,{"$f":"\"1,000 \"&title72","v":"1,000 m3/year"}]
[null,null,null,{"$f":"IFERROR(ROUND(IF(H$22=\"\",D$22*O20,H$22*O20),2),\"-\")","v":"-"},{"$f":"IFERROR(ROUND(IF(H$22=\"\",D$22*P20,H$22*P20),2),\"-\")","v":"-"},{"$f":"title110","v":"sawdust"},null,{"$f":"ROUND(IF($H22=\"\",$D22*$Q$20,$H22*$Q$20),2)","v":0},{"$f":"ROUND(IF(#REF!=\"\",H$22*T20,#REF!*T20),2)","v":{"$error":"#REF!"}}]
[null,null,null,{"$f":"IFERROR(ROUND(IF($H23=\"\",$D23*$O$20,$H23*$O$20),2),\"-\")","v":"-"},{"$f":"IFERROR(ROUND(IF(H$23=\"\",D$23*$P$20,H$23*$P$20),2),\"-\")","v":"-"},{"$f":"title111","v":"slabs and chips"},null,{"$f":"ROUND(IF($H23=\"\",$D23*$Q$20,$H23*$Q$20),2)","v":0},{"$f":"ROUND(IF(#REF!=\"\",H$22*T21,#REF!*T21),2)","v":{"$error":"#REF!"}}]
[]
[null,null,{"$f":"title115","v":"Current use of harvesting residues - % of total residues generated"}]
[]
[null,null,null,null,null,{"$f":"title56","v":"USER DEFINED"}]
[null,null,null,null,null,{"$f":"title114","v":"Type of residues"},null,"%"]
[null,null,null,null,null,{"$f":"title110","v":"sawdust"}]
[null,null,null,null,null,{"$f":"title111","v":"slabs and chips"}]
[]
[null,null,{"$f":"title116","v":"Residues potentially available for bioenergy production"}]
[]
[null,null,null,"FAOSTAT ",null,null,null,{"$f":"title56","v":"USER DEFINED"}]
[null,null,null,{"$f":"title57","v":"Annual average 2011 - 2020"},2020,{"$f":"IF(OR(H39=\"\",H40=\"\"),title94,\"\")","v":"Enter % of currently used residues"},null,{"$f":"IF($H$13=\"\",\"\",$H$13)","v":""}]
[null,null,null,{"$f":"\"1,000 \"&title72","v":"1,000 m3/year"},null,{"$f":"title114","v":"Type of residues"},null,{"$f":"\"1,000 \"&title72","v":"1,000 m3/year"}]
[null,null,null,{"$f":"IFERROR(IF(H39=\"\",\"-\",(D32-(D32*$H$39))),\"-\")","v":"-"},{"$f":"IFERROR(IF(H39=\"\",\"-\",E32-(E32*$H$39)),\"-\")","v":"-"},{"$f":"title110","v":"sawdust"},null,{"$f":"H32-(H32*$H$39)","v":0},{"$f":"I32-(I32*$H$39)","v":{"$error":"#REF!"}}]
[null,null,null,{"$f":"IFERROR(IF(H40=\"\",\"-\",D33-(D33*$H$40)),\"-\")","v":"-"},{"$f":"IFERROR(IF(H40=\"\",\"-\",E33-(E33*$H$40)),\"-\")","v":"-"},{"$f":"title111","v":"slabs and chips"},null,{"$f":"H33-(H33*$H$40)","v":0},{"$f":"I33-(I33*$H$40)","v":{"$error":"#REF!"}}]
[]
[null,null,null,null,{"$f":"title117","v":"Average wood density"}]
[null,null,null,null,{"$f":"title74","v":"DEFAULT VALUE "},null,{"$f":"title56","v":"USER DEFINED"}]
[null,null,null,null,"t/m3",null,"t/m3"]
[null,null,null,null,0.5]
[]
[null,null,{"$f":"title96","v":"Select source on Roundwood production data to calculate final results"}]
[]
[null,null,43,false]
[]
[]
[null,null,null,{"$f":"title114","v":"Type of residues"},null,{"$f":"title72","v":"m3/year"},null,"t/year"]
[null,null,null,{"$f":"title110","v":"sawdust"},null,{"$f":"IFERROR(IF(D57=TRUE,H47,IF(C57=TRUE,D47,E47))*1000,\"-\")","v":"-"},null,{"$f":"IFERROR(IF($G$53=\"\",F61*$E$53,F61*$G$53),\"-\")","v":"-"}]
[null,null,null,{"$f":"title111","v":"slabs and chips"},null,{"$f":"IFERROR(IF($D$57=TRUE,H48,IF($C$57=TRUE,D48,E48))*1000,\"-\")","v":"-"},null,{"$f":"IFERROR(IF($G$53=\"\",F62*$E$53,F62*$G$53),\"-\")","v":"-"}]
[null,null,null,"Total",null,{"$f":"SUM(F61:G62)","v":0},null,{"$f":"SUM(H61:I62)","v":0}]

{"sheet":"NR_R_Fo","index":5,"n_rows":59,"n_cols":36,"rows_kept":59,"cut":false,"hidden":false,"merged":[[34,11,34,12],[35,11,35,12],[36,11,36,12],[44,11,44,14],[38,11,38,14],[40,11,40,12],[41,11,41,12],[42,11,42,12],[34,2,34,3],[40,2,40,3],[41,2,41,3],[42,2,42,3],[44,2,44,5],[35,2,35,3],[36,2,36,3],[38,2,38,5],[1,2,1,18],[6,2,6,3],[6,12,6,14],[6,15,6,18],[32,2,32,9],[26,9,26,11],[27,9,27,11],[28,9,28,11],[25,7,25,8],[32,11,32,18],[6,6,6,7],[30,2,30,18],[9,2,9,18],[46,11,46,12],[47,11,47,12],[48,11,48,12],[50,11,50,14],[48,2,48,3],[50,2,50,5],[47,2,47,3],[46,2,46,3],[54,2,54,3],[55,2,55,3],[56,2,56,3],[58,2,58,5],[52,2,52,9]]}
[null,null,null,null,null,null,null,null,null,null,null,null,null,null,null,null,null,null,null,null,null,null,null,null,null,null,1]
[null,null,{"$f":"title120","v":"WOODFUEL AND WOOD RESIDUES COMPONENT - RESULTS"},null,null,null,null,null,null,null,null,null,null,null,null,null,null,null,null,null,null,null,null,null,null,null,2]
[null,null,null,null,null,null,null,null,null,null,null,null,null,null,null,null,null,null,null,null,null,null,null,null,null,null,3]
[null,null,{"$f":"title21&\":\"","v":"Country:"},{"$f":"Fo!$F$4","v":"Select a country"},null,null,null,null,null,null,null,null,null,null,null,null,null,null,null,null,null,null,null,null,null,null,4]
[null,null,null,null,null,null,null,null,null,null,null,null,null,null,null,null,null,null,null,null,null,null,null,null,null,null,5]
[null,null,null,null,null,null,null,null,null,null,null,null,null,null,null,null,null,null,null,null,null,null,null,null,null,null,6]
[null,null,{"$f":"title22&\":\"","v":"BEFS Rapid Appraisal for:"},null,null,{"$f":"Fo!$G$7","v":"Select"},{"$f":"IF(Fo!$I$7=\"\",\"\",Fo!$I$7)","v":""},null,null,null,null,null,{"$f":"title30","v":"Enter data into white cells"},null,null,{"$f":"title31","v":"Grey cells are calculated"},null,null,null,null,null,null,null,null,null,null,7]
[null,null,null,null,null,null,null,null,null,null,null,null,null,null,null,null,null,null,null,null,null,null,null,null,null,null,8]
[null,null,null,null,null,null,null,null,null,null,null,null,null,null,null,null,null,null,null,null,null,null,null,null,null,null,9]
[null,null,{"$f":"title121","v":"Additional potential for energy production"},null,null,null,null,null,null,null,null,null,null,null,null,null,null,null,null,null,null,null,null,null,null,null,10]
[null,null,null,null,null,null,null,null,null,null,null,null,null,null,null,null,null,null,null,null,null,null,null,null,null,null,11]
[null,null,null,null,null,null,null,null,null,null,null,null,null,null,null,null,null,null,null,null,null,null,null,null,null,null,12]
[null,null,null,null,null,null,null,null,null,null,null,null,null,null,null,null,null,null,null,null,null,null,null,null,null,null,13]
[null,null,null,null,null,null,null,null,null,null,null,null,null,null,null,null,null,null,null,null,null,null,null,null,null,null,14]
[null,null,null,null,null,null,null,null,null,null,null,null,null,null,null,null,null,null,null,null,null,null,null,null,null,null,15]
[null,null,null,null,null,null,null,null,null,null,null,null,null,null,null,null,null,null,null,null,null,null,null,null,null,null,16]
[null,null,null,null,null,null,null,null,null,null,null,null,null,null,null,null,null,null,null,null,null,null,null,null,null,null,17]
[null,null,null,null,null,null,null,null,null,null,null,null,null,null,null,null,null,null,null,null,null,null,null,null,null,null,18]
[null,null,null,null,null,null,null,null,null,null,null,null,null,null,null,null,null,null,null,null,null,null,null,null,null,null,19]
[null,null,null,null,null,null,null,null,null,null,null,null,null,null,null,null,null,null,null,null,null,null,null,null,null,null,20]
[null,null,null,null,null,null,null,null,null,null,null,null,null,null,null,null,null,null,null,null,null,null,null,null,null,null,21]
[null,null,null,null,null,null,null,null,null,null,null,null,null,null,null,null,null,null,null,null,null,null,null,null,null,null,22]
[null,null,null,null,null,null,null,null,null,null,null,null,null,null,null,null,null,null,null,null,null,null,null,null,null,null,23,null,"Source",{"$f":"PROPER(title103)","v":"Forest Harvesting Residues"},{"$f":"title14","v":"Wood Processing Residues"}]
[null,null,null,null,null,null,null,null,null,null,null,null,null,null,null,null,null,null,null,null,null,null,null,null,null,null,24,null,{"$f":"title72","v":"m3/year"},{"$f":"H28","v":0},{"$f":"H29","v":0}]
[null,null,null,null,null,null,null,null,null,null,null,null,null,null,null,null,null,null,null,null,null,null,null,null,null,null,25,null,"t/year",{"$f":"M28","v":0},{"$f":"M29","v":0}]
[null,null,null,null,null,null,null,{"$f":"title72","v":"m3/year"},null,null,null,null,{"$f":"title123","v":"tons/year"},null,null,null,null,null,null,null,null,null,null,null,null,null,26]
[null,null,null,null,null,null,null,{"$f":"SUM(H28,H29)","v":0},null,"Total",null,null,{"$f":"SUM(M28,M29)","v":0},null,null,null,null,null,null,null,null,null,null,null,null,null,27]
[null,null,null,null,null,null,null,{"$f":"Fo_FHR!I104","v":0},null,{"$f":"PROPER(title103)","v":"Forest Harvesting Residues"},null,null,{"$f":"Fo_FHR!L104","v":0},null,null,null,null,null,null,null,null,null,null,null,null,null,28]
[null,null,null,null,null,null,null,{"$f":"IFERROR(Fo_WPR!F63,\"-\")","v":0},null,{"$f":"title14","v":"Wood Processing Residues"},null,null,{"$f":"IFERROR(Fo_WPR!H63,\"-\")","v":0},null,null,null,null,null,null,null,null,null,null,null,null,null,29]
[null,null,null,null,null,null,null,null,null,null,null,null,null,null,null,null,null,null,null,null,null,null,null,null,null,null,30,"m3",null,{"$f":"title128","v":"Charcoal"},{"$f":"title129","v":"Briquettes"},{"$f":"title130","v":"Pellets"},{"$f":"title132","v":"Combustion"},{"$f":"title133","v":"Gasification"},{"$f":"title134","v":"CHP (Combined heat and power)"},{"$f":"title139","v":"Ethanol"}]
[null,null,{"$f":"title249","v":"Define the allocation of wood residues for heating and cooking, rural electrification and transport"},null,null,null,null,null,null,null,null,null,null,null,null,null,null,null,null,null,null,null,null,null,null,null,31,null,{"$f":"PROPER(title103)","v":"Forest Harvesting Residues"},{"$f":"H36","v":0},{"$f":"H42","v":0},{"$f":"H48","v":0},{"$f":"Q36","v":0},{"$f":"Q42","v":0},{"$f":"Q48","v":0},{"$f":"H56","v":0}]
[null,null,null,null,null,null,null,null,null,null,null,null,null,null,null,null,null,null,null,null,null,null,null,null,null,null,32,null,{"$f":"title14","v":"Wood Processing Residues"},{"$f":"H37","v":0},{"$f":"H43","v":0},{"$f":"H49","v":0},{"$f":"Q37","v":0},{"$f":"Q43","v":0},{"$f":"Q49","v":0},{"$f":"H57","v":0}]
[null,null,{"$f":"title126","v":"Heating and Cooking"},null,null,null,null,null,null,null,null,{"$f":"title127","v":"Electricity and/or Heat"},null,null,null,null,null,null,null,null,null,null,null,null,null,null,33]
[null,null,null,null,null,null,null,null,null,null,null,null,null,null,null,null,null,null,null,null,null,null,null,null,null,null,34]
[null,null,{"$f":"title128","v":"Charcoal"},null,null,{"$f":"title135","v":"% of available"},null,{"$f":"title72","v":"m3/year"},null,{"$f":"title123","v":"tons/year"},null,{"$f":"title132","v":"Combustion"},null,null,{"$f":"title135","v":"% of available"},null,{"$f":"title72","v":"m3/year"},null,{"$f":"title123","v":"tons/year"},null,null,null,null,null,null,null,35]
[null,null,{"$f":"PROPER(title103)","v":"Forest Harvesting Residues"},null,null,null,null,{"$f":"IFERROR($F$36*H28,\"-\")","v":0},null,{"$f":"$F$36*M28","v":0},null,{"$f":"PROPER(title103)","v":"Forest Harvesting Residues"},null,null,null,null,{"$f":"$O36*$H$28","v":0},null,{"$f":"$O36*$M$28","v":0},null,null,null,null,null,null,null,36,"m3",null,{"$f":"title128","v":"Charcoal"},{"$f":"title129","v":"Briquettes"},{"$f":"title130","v":"Pellets"},{"$f":"title132","v":"Combustion"},{"$f":"title133","v":"Gasification"},"CHP",{"$f":"title139","v":"Ethanol"}]
[null,null,{"$f":"title14","v":"Wood Processing Residues"},null,null,null,null,{"$f":"$F$37*H29","v":0},null,{"$f":"$F$37*M29","v":0},null,{"$f":"title14","v":"Wood Processing Residues"},null,null,null,null,{"$f":"$O37*$H$29","v":0},null,{"$f":"$O37*$M$29","v":0},null,null,null,null,null,null,null,37,null,{"$f":"PROPER(title103)","v":"Forest Harvesting Residues"},{"$f":"J36","v":0},{"$f":"J42","v":0},{"$f":"J48","v":0},{"$f":"S36","v":0},{"$f":"S42","v":0},{"$f":"S48","v":0},{"$f":"J56","v":0}]
[null,null,null,null,null,null,null,null,null,null,null,null,null,null,null,null,null,null,null,null,null,null,null,null,null,null,38,null,{"$f":"title14","v":"Wood Processing Residues"},{"$f":"J37","v":0},{"$f":"J43","v":0},{"$f":"J49","v":0},{"$f":"S37","v":0},{"$f":"S43","v":0},{"$f":"S49","v":0},{"$f":"J57","v":0}]
[null,null,"Total",null,null,null,null,{"$f":"IF(OR(SUM(F36,F42,F48,O36,O42,O48,F56)>1,SUM(F37,F43,F49,O37,O43,O49,F57)>1),title119,SUM(H36:H37))","v":0},null,{"$f":"IF(H39=title119,\"-\",SUM(J36:J37))","v":0},null,"Total",null,null,null,null,{"$f":"IF(OR(SUM(F36,F42,F48,O36,O42,O48,F56)>1,SUM(F37,F43,F49,O37,O43,O49,F57)>1),title119,SUM(Q36:Q37))","v":0},null,{"$f":"IF(Q39=title119,\"-\",SUM(S36:S37))","v":0},null,null,null,null,null,null,null,39,null,null,null,null,null,{"$f":"S38","v":0}]
[null,null,null,null,null,null,null,null,null,null,null,null,null,null,null,null,null,null,null,null,null,null,null,null,null,null,40]
[null,null,{"$f":"title129","v":"Briquettes"},null,null,null,null,null,null,null,null,{"$f":"title133","v":"Gasification"}]
[null,null,{"$f":"PROPER(title103)","v":"Forest Harvesting Residues"},null,null,null,null,{"$f":"$F42*$H$28","v":0},null,{"$f":"$F42*$M$28","v":0},null,{"$f":"PROPER(title103)","v":"Forest Harvesting Residues"},null,null,null,null,{"$f":"$O42*$H$28","v":0},null,{"$f":"$O42*$M$28","v":0}]
[null,null,{"$f":"title14","v":"Wood Processing Residues"},null,null,null,null,{"$f":"$F43*$H$29","v":0},null,{"$f":"$F43*$M$29","v":0},null,{"$f":"title14","v":"Wood Processing Residues"},null,null,null,null,{"$f":"$O43*$H$29","v":0},null,{"$f":"$O43*$M$29","v":0}]
[]
[null,null,"Total",null,null,null,null,{"$f":"IF(OR(SUM(F36,F42,F48,O36,O42,O48,F56)>1,SUM(F37,F43,F49,O37,O43,O49,F57)>1),title119,SUM(H42:H43))","v":0},null,{"$f":"IF(H45=title119,\"-\",SUM(J42:J43))","v":0},null,"Total",null,null,null,null,{"$f":"IF(OR(SUM(F36,F42,F48,O36,O42,O48,F56)>1,SUM(F37,F43,F49,O37,O43,O49,F57)>1),title119,SUM(Q42:Q43))","v":0},null,{"$f":"IF(Q45=title119,\"-\",SUM(S42:S43))","v":0}]
[]
[null,null,{"$f":"title130","v":"Pellets"},null,null,null,null,null,null,null,null,{"$f":"title134","v":"CHP (Combined heat and power)"}]
[null,null,{"$f":"PROPER(title103)","v":"Forest Harvesting Residues"},null,null,null,null,{"$f":"$F48*$H$28","v":0},null,{"$f":"$F48*$M$28","v":0},null,{"$f":"PROPER(title103)","v":"Forest Harvesting Residues"},null,null,null,null,{"$f":"$O48*$H$28","v":0},null,{"$f":"$O48*$M$28","v":0}]
[null,null,{"$f":"title14","v":"Wood Processing Residues"},null,null,null,null,{"$f":"$F49*$H$29","v":0},null,{"$f":"$F49*$M$29","v":0},null,{"$f":"title14","v":"Wood Processing Residues"},null,null,null,null,{"$f":"$O49*$H$29","v":0},null,{"$f":"$O49*$M$29","v":0}]
[]
[null,null,"Total",null,null,null,null,{"$f":"IF(OR(SUM(F36,F42,F48,O36,O42,O48,F56)>1,SUM(F37,F43,F49,O37,O43,O49,F57)>1),title119,SUM(H48:H49))","v":0},null,{"$f":"IF(H51=title119,\"-\",SUM(J48:J49))","v":0},null,"Total",null,null,null,null,{"$f":"IF(OR(SUM(F36,F42,F48,O36,O42,O48,F56)>1,SUM(F37,F43,F49,O37,O43,O49,F57)>1),title119,SUM(Q48:Q49))","v":0},null,{"$f":"IF(Q51=title119,\"-\",SUM(S48:S49))","v":0}]
[]
[null,null,{"$f":"title136","v":"Transport"}]
[]
[null,null,{"$f":"title131","v":"Ethanol (second generation)"},null,null,{"$f":"title135","v":"% of available"},null,{"$f":"title72","v":"m3/year"},null,{"$f":"title123","v":"tons/year"}]
[null,null,{"$f":"PROPER(title103)","v":"Forest Harvesting Residues"},null,null,null,null,{"$f":"$F56*$H$28","v":0},null,{"$f":"$F56*$M$28","v":0}]
[null,null,{"$f":"title14","v":"Wood Processing Residues"},null,null,null,null,{"$f":"$F57*$H$29","v":0},null,{"$f":"$F57*$M$29","v":0}]
[]
[null,null,"Total",null,null,null,null,{"$f":"IF(OR(SUM(F36,F42,F48,O36,O42,O48,F56)>1,SUM(F37,F43,F49,O37,O43,O49,F57)>1),title119,SUM(H56:H57))","v":0},null,{"$f":"IF(H59=title119,\"-\",SUM(J56:J57))","v":0}]

{"sheet":"FP_Budget","index":6,"n_rows":22,"n_cols":18,"rows_kept":22,"cut":false,"hidden":false,"merged":[[20,2,20,3],[46,3,49,15]]}
[]
[null,null,null,null,null,null,null,null,null,null,null,null,null,null,null,null,1,"Management system"]
[null,null,null,null,null,null,null,null,null,null,null,null,null,null,null,null,2,"Select management system"]
[null,null,null,null,null,null,null,null,null,null,null,null,null,null,null,null,3,"Replanting"]
[null,null,null,null,null,null,null,null,null,null,null,null,null,null,null,null,4,"Short rotation coppice"]
[]
[null,null,null,null,null,null,null,null,null,null,null,null,null,null,null,null,6,{"$f":"title145","v":"Species"}]
[null,null,null,null,null,null,null,null,null,null,null,null,null,null,null,null,7,"Select species"]
[null,null,null,null,null,null,null,null,null,null,null,null,null,null,null,null,8,"Acacia mangium"]
[null,null,null,null,null,null,null,null,null,null,null,null,null,null,null,null,9,"Acacia senegal"]
[null,null,null,null,null,null,null,null,null,null,null,null,null,null,null,null,10,"Eucalyptus spp"]
[null,null,null,null,null,null,null,null,null,null,null,null,null,null,null,null,11,"Pinus patula"]
[null,null,null,null,null,null,null,null,null,null,null,null,null,null,null,null,12,"Pinus radiata"]
[null,null,null,null,null,null,null,null,null,null,null,null,null,null,null,null,13,"Populus alba"]
[null,null,null,null,null,null,null,null,null,null,null,null,null,null,null,null,14,"Populus deltoides"]
[]
[]
[]
[]
[null,null,{"$f":"IF(C19=\"User-defined\",\"Enter spicies name in the white cell:\",\"\")","v":""},null,{"$f":"IF(E19=\"User-defined\",\"Enter spicies namein the white cell:\",\"\")","v":""}]
[]
[null,null,"© FAO, 2014 "]

{"sheet":"Selection","index":7,"n_rows":16,"n_cols":34,"rows_kept":16,"cut":false,"hidden":false,"merged":[[14,5,14,6],[14,7,14,8],[15,5,15,6],[15,7,15,8],[2,2,2,11],[10,3,10,10],[12,5,12,6],[12,7,12,8],[13,5,13,6],[13,7,13,8]]}
[null,null,null,null,null,null,null,null,null,null,null,null,null,null,null,null,null,null,null,null,null,null,null,null,null,null,null,null,null,null,null,null,1]
[null,null,null,null,null,null,null,null,null,null,null,null,null,null,null,null,null,null,null,null,null,null,null,null,null,null,null,null,null,null,null,null,2]
[null,null,{"$f":"UPPER(title143)","v":"SELECTION OF TREE SPECIES \n\n"},null,null,null,null,null,null,null,null,null,null,null,null,null,null,null,null,null,null,null,null,null,null,null,null,null,null,null,null,null,3]
[null,null,null,null,null,null,null,null,null,null,null,null,null,null,null,null,null,null,null,null,null,null,null,null,null,null,null,null,null,null,null,null,4]
[null,null,null,{"$f":"title21&\":\"","v":"Country:"},{"$f":"Fo!F4","v":"Select a country"}]
[null,null,null,null,null,null,null,null,null,null,null,null,null,null,null,null,null,null,null,null,null,null,null,null,null,null,null,null,null,null,null,null,5]
[null,null,null,null,null,null,null,null,null,null,null,null,null,null,null,null,null,null,null,null,null,null,null,null,null,null,null,null,null,null,null,null,6,{"$f":"title145","v":"Species"}]
[null,null,null,null,null,null,null,null,null,null,null,null,null,null,null,null,null,null,null,null,null,null,null,null,null,null,null,null,null,null,null,null,7,{"$f":"title146","v":"Select species"}]
[null,null,null,null,null,null,null,null,null,null,null,null,null,null,null,null,null,null,null,null,null,null,null,null,null,null,null,null,null,null,null,null,8,"Acacia mangium"]
[null,null,null,null,null,null,null,null,null,null,null,null,null,null,null,null,null,null,null,null,null,null,null,null,null,null,null,null,null,null,null,null,9,"Acacia senegal"]
[null,null,null,{"$f":"title144","v":"Select two species (species 1 and species 2) from the dropdown lists below."},null,null,null,null,null,null,null,null,null,null,null,null,null,null,null,null,null,null,null,null,null,null,null,null,null,null,null,null,10,"Eucalyptus spp."]
[null,null,null,null,null,null,null,null,null,null,null,null,null,null,null,null,null,null,null,null,null,null,null,null,null,null,null,null,null,null,null,null,11,"Pinus patula"]
[null,null,null,null,null,{"$f":"title145&\" 1\"","v":"Species 1"},null,{"$f":"title145&\" 2\"","v":"Species 2"},null,null,null,null,null,null,null,null,null,null,null,null,null,null,null,null,null,null,null,null,null,null,null,null,12,"Pinus radiata"]
[null,null,null,null,null,"Select species",null,"Select species",null,null,null,null,null,null,null,null,null,null,null,null,null,null,null,null,null,null,null,null,null,null,null,null,13,"Populus spp."]
[null,null,null,null,null,{"$f":"IF(F14=title152,\"Enter species name in white cell below\",\"\")","v":""},null,{"$f":"IF(H14=title152,\"Enter species name in white cell below\",\"\")","v":""},null,null,null,null,null,null,null,null,null,null,null,null,null,null,null,null,null,null,null,null,null,null,null,null,14,"Salix spp."]
[null,null,null,null,null,null,null,null,null,null,null,null,null,null,null,null,null,null,null,null,null,null,null,null,null,null,null,null,null,null,null,null,15,{"$f":"title152","v":"User-defined"}]

{"sheet":"Growth characteristics","index":8,"n_rows":37,"n_cols":32,"rows_kept":37,"cut":false,"hidden":false,"merged":[[2,2,2,13],[16,3,16,11],[19,7,19,8],[19,11,19,12],[17,12,17,13],[17,9,17,11],[17,7,17,8]]}
[]
[]
[null,null,{"$f":"title150","v":"GROWTH CHARACTERISTICS AND PRODUCTION"}]
[]
[null,null,{"$f":"title21&\":\"","v":"Country:"},{"$f":"Selection!E5","v":"Select a country"}]
[]
[]
[]
[]
[]
[null,null,null,null,null,null,null,null,null,null,null,null,null,null,null,null,null,null,null,null,null,null,null,null,null,null,null,{"$f":"title165","v":"Rotation length"}]
[null,null,null,null,null,null,null,null,null,null,null,null,null,null,null,null,null,null,null,null,null,null,null,null,null,null,null,"MAI"]
[]
[null,null,null,null,null,null,null,null,null,null,null,null,null,null,null,null,null,null,null,null,null,null,null,null,null,null,null,"Stems"]
[null,null,null,null,null,null,null,null,null,null,null,null,null,null,null,null,null,null,null,null,null,null,null,null,null,null,null,"Branches"]
[null,null,null,null,null,null,null,null,null,null,null,null,null,null,null,null,null,null,null,null,null,null,null,null,null,null,null,{"$f":"title90","v":"Bark"}]
[null,null,null,null,null,null,null,null,null,null,null,null,null,null,null,null,null,null,null,null,null,null,null,null,null,null,null,"Leaves "]
[null,null,null,null,null,null,null,{"$f":"title153","v":"NOTE:"},null,{"$f":"title30","v":"Enter data into white cells"},null,null,{"$f":"title31","v":"Grey cells are calculated"}]
[null,null,null,null,null,null,null,null,null,null,null,null,null,null,null,null,null,null,null,null,null,null,null,null,null,null,{"$f":"title169","v":"Species 1"},{"$f":"title170","v":"Species 2"}]
[null,null,null,null,null,null,null,{"$f":"title154","v":"Species 1 selected:"},null,{"$f":"IF(Selection!$F$14=title152,Selection!$F$16,Selection!$F$14)","v":"Select species"},null,{"$f":"title155","v":"Species 2 selected:"},null,{"$f":"IF(Selection!$H$14=title152,Selection!$H$16,Selection!$H$14)","v":"Select species"},null,null,null,null,null,null,null,null,null,null,null,null,{"$f":"IF(Selection!$F$14=title152,TRUE,FALSE)","v":false},{"$f":"IF(Selection!$H$14=title152,TRUE,FALSE)","v":false}]
[]
[null,null,{"$f":"title156","v":"Growth data"},null,null,{"$f":"title59","v":"Unit"},null,{"$f":"title152","v":"User-defined"},null,{"$f":"PROPER(title74)","v":"Default Value "},null,{"$f":"title152","v":"User-defined"},null,{"$f":"PROPER(title74)","v":"Default Value "},null,null,null,null,null,null,null,null,null,null,null,null,null,null,null,"FR",null,"FR"]
[]
[null,null,{"$f":"title157","v":"Planting density"},null,null,{"$f":"title167","v":"trees/ha"},null,null,null,{"$f":"IFERROR(HLOOKUP(CONCATENATE($J$20,$AD$22),INDIRECT(\"'\"&$J$20&\"'!C4:F14\"),2,FALSE),\"\")","v":""},null,null,null,{"$f":"IFERROR(HLOOKUP(CONCATENATE($N$20,$AF$22),INDIRECT(\"'\"&$N$20&\"'!C4:F14\"),2,FALSE),\"\")","v":""}]
[null,null,{"$f":"title158","v":"Mean Annual Increment (average)"},null,null,{"$f":"title168","v":"m3/ha/year"},null,null,null,{"$f":"IFERROR(HLOOKUP(CONCATENATE($J$20,$AD$22),INDIRECT(\"'\"&$J$20&\"'!C4:F14\"),4,FALSE),\"\")","v":""},null,null,null,{"$f":"IFERROR(HLOOKUP(CONCATENATE(N20,$AF$22),INDIRECT(\"'\"&N20&\"'!C4:F14\"),4,FALSE),\"\")","v":""}]
[null,null,{"$f":"title159","v":"Rotation length (max 30 years)"},null,null,{"$f":"LOWER(title58)","v":"year"},null,null,null,{"$f":"IFERROR(HLOOKUP(CONCATENATE($J$20,$AD$22),INDIRECT(\"'\"&$J$20&\"'!C4:F14\"),3,FALSE),\"\")","v":""},null,null,null,{"$f":"IFERROR(HLOOKUP(CONCATENATE(N20,$AF$22),INDIRECT(\"'\"&N20&\"'!C4:F14\"),3,FALSE),\"\")","v":""}]
[]
[null,null,{"$f":"title160","v":"Production"},null,null,null,null,null,null,null,null,null,null,null,null,null,null,null,null,null,null,null,null,null,null,null,"Tree components",null,{"$f":"J20","v":"Select species"},{"$f":"N20","v":"Select species"}]
[null,null,{"$f":"title161","v":"Harvestable volume for bioenergy purposes "},null,null,"m3/ha",null,null,null,{"$f":"IFERROR((J25*J26+(J25*J26/AC29)*AC30),\"\")","v":""},null,null,null,{"$f":"IFERROR((N25*N26+(N25*N26/AD29)*AD30),\"\")","v":""},null,null,null,null,null,null,null,null,null,null,null,null,"Stems",null,{"$f":"HLOOKUP(CONCATENATE($AC$28,$AD$22),INDIRECT(\"'\"&$AC$28&\"'!C4:F12\"),5,FALSE)","v":{"$error":"#REF!"}},{"$f":"HLOOKUP(CONCATENATE(AD28,$AD$22),INDIRECT(\"'\"&AD28&\"'!C4:F12\"),5,FALSE)","v":{"$error":"#REF!"}}]
[null,null,{"$f":"title162","v":"Low heating value (energy content)"},null,null,"MJ/kg",null,null,null,{"$f":"IFERROR(HLOOKUP(CONCATENATE(J20,$AD$22),INDIRECT(\"'\"&J20&\"'!C4:F14\"),9,FALSE),\"\")","v":""},null,null,null,{"$f":"IFERROR(HLOOKUP(CONCATENATE(N20,$AF$22),INDIRECT(\"'\"&N20&\"'!C4:F14\"),9,FALSE),\"\")","v":""},null,null,null,null,null,null,null,null,null,null,null,null,"Branches",null,{"$f":"HLOOKUP(CONCATENATE($AC$28,$AD$22),INDIRECT(\"'\"&$AC$28&\"'!C4:F12\"),6,FALSE)","v":{"$error":"#REF!"}},{"$f":"HLOOKUP(CONCATENATE(AD28,$AD$22),INDIRECT(\"'\"&AD28&\"'!C4:F12\"),6,FALSE)","v":{"$error":"#REF!"}}]
[null,null,{"$f":"title163","v":"Moisture"},null,null,"%",null,null,null,{"$f":"IFERROR(HLOOKUP(CONCATENATE(J20,$AD$22),INDIRECT(\"'\"&J20&\"'!C4:F14\"),10,FALSE),\"\")","v":""},null,null,null,{"$f":"IFERROR(HLOOKUP(CONCATENATE(N20,$AF$22),INDIRECT(\"'\"&N20&\"'!C4:F14\"),10,FALSE),\"\")","v":""},null,null,null,null,null,null,null,null,null,null,null,null,{"$f":"title90","v":"Bark"},null,{"$f":"HLOOKUP(CONCATENATE($AC$28,$AD$22),INDIRECT(\"'\"&$AC$28&\"'!C4:F12\"),7,FALSE)","v":{"$error":"#REF!"}},{"$f":"HLOOKUP(CONCATENATE(AD28,$AD$22),INDIRECT(\"'\"&AD28&\"'!C4:F12\"),7,FALSE)","v":{"$error":"#REF!"}}]
[null,null,{"$f":"title97","v":"Wood density"},null,null,"kg/m3",null,null,null,{"$f":"IFERROR(HLOOKUP(CONCATENATE(J20,$AD$22),INDIRECT(\"'\"&J20&\"'!C4:F14\"),11,FALSE),\"\")","v":""},null,null,null,{"$f":"IFERROR(HLOOKUP(CONCATENATE(N20,$AF$22),INDIRECT(\"'\"&N20&\"'!C4:F14\"),11,FALSE),\"\")","v":""},null,null,null,null,null,null,null,null,null,null,null,null,"Leaves",null,{"$f":"HLOOKUP(CONCATENATE($AC$28,$AD$22),INDIRECT(\"'\"&$AC$28&\"'!C4:F12\"),8,FALSE)","v":{"$error":"#REF!"}},{"$f":"HLOOKUP(CONCATENATE(AD28,$AD$22),INDIRECT(\"'\"&AD28&\"'!C4:F12\"),8,FALSE)","v":{"$error":"#REF!"}}]
[]
[]
[null,null,{"$f":"title164","v":"Wood harvested price (stack)"},null,null,"USD/m3",null,{"$f":"title169&\":\"","v":"Species 1:"}]
[null,null,null,null,null,null,null,{"$f":"title170&\":\"","v":"Species 2:"},null,null,null,null,null,null,null,null,null,null,null,null,null,null,null,null,null,null,"USD/m3"]
[null,null,null,null,null,null,null,null,null,null,null,null,null,null,null,null,null,null,null,null,null,null,null,null,null,null,"USD/ton"]

{"sheet":"Planting and management costs","index":9,"n_rows":97,"n_cols":35,"rows_kept":97,"cut":false,"hidden":false,"merged":[[81,24,82,24],[82,5,83,5],[82,6,83,6],[79,8,79,11],[79,13,79,16],[81,8,81,9],[81,10,82,10],[81,11,82,11],[81,13,81,14],[81,15,82,15],[81,16,82,16],[46,5,47,5],[46,6,47,6],[63,3,63,4],[67,13,67,16],[69,8,69,9],[69,10,70,10],[69,11,70,11],[69,13,69,14],[69,15,70,15],[69,16,70,16],[67,8,67,11],[33,24,34,24],[43,8,43,11],[43,13,43,16],[45,8,45,9],[45,10,46,10],[45,11,46,11],[45,13,45,14],[45,15,46,15],[45,16,46,16],[45,24,46,24],[31,8,31,11],[31,13,31,16],[33,5,34,5],[33,6,34,6],[33,8,33,9],[33,10,34,10],[33,11,34,11],[33,13,33,14],[33,15,34,15],[33,16,34,16],[18,3,18,6],[20,14,20,15],[22,14,22,15],[24,3,24,10],[27,3,27,4],[27,5,27,8],[27,9,27,11],[19,4,19,6],[20,4,20,6],[21,4,21,6],[0,24,0,27],[1,2,1,17],[1,25,1,27],[14,11,15,11],[14,12,14,16],[15,12,15,16]]}
[null,null,null,null,null,null,null,null,null,null,null,null,null,null,null,null,null,null,null,null,null,null,null,null,"Macro-nutrients price calculator"]
[null,null,{"$f":"title184","v":"PLANTING AND MANAGEMENT COSTS"},null,null,null,null,null,null,null,null,null,null,null,null,null,null,null,null,null,null,null,null,null,null,"nutrients as % of product",null,null,null,"OUTPUT"]
[null,null,null,null,null,null,null,null,null,null,null,null,null,null,null,null,null,null,null,null,null,null,null,null,"Products (simple fertilizers)","N","P2O5","K2O",null,"Macro-nutrients price calculator"]
[null,null,null,{"$f":"title21&\":\"","v":"Country:"},{"$f":"Selection!E5","v":"Select a country"},null,null,null,null,null,null,null,null,null,null,null,null,null,null,null,null,null,null,null,"Ammonia",82.2,null,null,null,null,"N (USD/kg)","P (USD/kg)","K (USD/kg)"]
[null,null,null,null,null,null,null,null,null,null,null,null,null,null,null,null,null,null,null,null,null,null,null,null,"Urea",46,null,null,null,{"$f":"title176","v":"Nitrogen fertilizers"},{"$f":"IF(E20=\"Ammonia\",J20/822,IF(E20=\"Urea\",J20/460,IF(E20=\"Ammonium nitrate\",J20/335)))","v":false}]
[null,null,null,null,null,null,null,null,null,null,null,null,null,null,null,null,null,null,null,null,null,null,null,null,"Ammonium nitrate",33.5,null,null,null,{"$f":"title177","v":"Phosphate fertilizers"},{"$f":"IF(E21=\"Phosphate rock\",0,IF(E21=\"MAP\",J21/630,IF(E21=\"DAP\",J21/640,IF(E21=\"TSP\",0))))","v":false},{"$f":"IF(E21=\"Phosphate rock\",J21/309,IF(E21=\"MAP\",J21/630,IF(E21=\"DAP\",J21/640,IF(E21=\"TSP\",J21/460))))","v":false}]
[null,null,null,null,null,null,null,null,null,null,null,null,null,null,null,null,null,null,null,null,null,null,null,null,"Phosphate rock",null,30.9,null,null,"Potash fertilizers",null,null,{"$f":"IF(E22=\"Potassium chloride\",J22/600,IF(E22=\"Potassium sulphate\",J22/500))","v":false}]
[null,null,null,null,null,null,null,null,null,null,null,null,null,null,null,null,null,null,null,null,null,null,null,null,"MAP",11,52,null,null,{"$f":"title179","v":"NPK complex fertilizers"},{"$f":"IFERROR($J$23/(($E$23+$F$23+$G$23)*10),0)","v":0},{"$f":"IFERROR($J$23/(($E$23+$F$23+$G$23)*10),0)","v":0},{"$f":"IFERROR($J$23/(($E$23+$F$23+$G$23)*10),0)","v":0}]
[null,null,null,null,null,null,null,null,null,null,null,null,null,null,null,null,null,null,null,null,null,null,null,null,"DAP",18,46]
[null,null,null,null,null,null,null,null,null,null,null,null,null,null,null,null,null,null,null,null,null,null,null,null,"TSP",null,46,null,null,"Unit price",{"$f":"IF(AE5+AE6+AE7=0,AE8,AVERAGEIF(AE5:AE8,\">0\"))","v":0},{"$f":"IF(AF5+AF6+AF7=0,AF8,AVERAGEIF(AF5:AF8,\">0\"))","v":0},{"$f":"IF(AG5+AG6+AG7=0,AG8,AVERAGEIF(AG5:AG8,\">0\"))","v":0}]
[null,null,null,null,null,null,null,null,null,null,null,null,null,null,null,null,null,null,null,null,null,null,null,null,"Potassium chloride",null,null,60]
[null,null,null,null,null,null,null,null,null,null,null,null,null,null,null,null,null,null,null,null,null,null,null,null,"Potassium sulphate",null,null,50]
[]
[null,null,null,{"$f":"title171","v":"GENERAL DATA ENTRY"},null,null,null,null,{"$f":"title59","v":"Unit"},null,null,null,null,null,null,null,null,null,null,null,null,null,null,null,{"$f":"planting_sel237","v":"Select a fertilizer"}]
[null,null,null,{"$f":"title172","v":"Daily wage for agricultural labour "},null,null,null,null,{"$f":"title181","v":"USD/day"},null,null,{"$f":"title153","v":"NOTE:"},{"$f":"title30","v":"Enter data into white cells"},null,null,null,null,null,null,null,null,null,null,null,{"$f":"planting_sel238","v":"Ammonia"}]
[null,null,null,{"$f":"title173","v":"Cost per hour for machinery (average rental cost)"},null,null,null,null,{"$f":"title182","v":"USD/hour"},null,null,null,{"$f":"title31","v":"Grey cells are calculated"},null,null,null,null,null,null,null,null,null,null,null,{"$f":"planting_sel239","v":"Urea"}]
[null,null,null,{"$f":"title174","v":"Discount rate"},null,null,null,null,"%",null,null,null,null,null,null,null,null,null,null,null,null,null,null,null,{"$f":"planting_sel240","v":"Ammonium nitrate"}]
[null,null,null,null,null,null,null,null,null,null,null,null,null,null,null,null,null,null,null,null,null,null,null,null,{"$f":"planting_sel241","v":"Select a fertilizer"}]
[null,null,null,{"$f":"title175","v":"Fertilizers price"},null,null,null,null,{"$f":"title59","v":"Unit"},null,null,null,null,null,null,null,null,null,null,null,null,null,null,null,{"$f":"planting_sel242","v":"Phosphate rock"}]
[null,null,null,{"$f":"title176","v":"Nitrogen fertilizers"},"Select a fertilizer",null,null,null,"USD/t",null,null,null,null,null,null,null,null,null,null,null,null,null,null,null,{"$f":"planting_sel243","v":"MAP"}]
[null,null,null,{"$f":"title177","v":"Phosphate fertilizers"},"Select a fertilizer",null,null,null,"USD/t",null,null,null,null,null,{"$f":"IF(Selection!$F$14=title152,Selection!$F$16,Selection!$F$14)","v":"Select species"},null,null,null,null,null,null,null,null,null,{"$f":"planting_sel244","v":"DAP"}]
[null,null,null,{"$f":"title178","v":"Potassium fertilizers"},"Select a fertilizer",null,null,null,"USD/t",null,null,null,null,null,null,null,null,null,null,null,null,null,null,null,{"$f":"planting_sel245","v":"TSP"}]
[null,null,null,{"$f":"title179","v":"NPK complex fertilizers"},null,null,null,null,"USD/t",null,null,null,null,null,{"$f":"IF(Selection!$H$14=title152,Selection!$H$16,Selection!$H$14)","v":"Select species"},null,null,null,null,null,null,null,null,null,{"$f":"planting_sel246","v":"Select a fertilizer"}]
[null,null,null,{"$f":"title180","v":"Plot size"},null,null,null,null,"ha",1,null,null,null,null,null,null,null,null,null,null,null,null,null,null,{"$f":"planting_sel247","v":"Potassium chloride"}]
[null,null,null,null,null,null,null,null,null,null,null,null,null,null,null,null,null,null,null,null,null,null,null,null,{"$f":"planting_sel248","v":"Potassium sulphate"}]
[]
[]
[null,null,null,{"$f":"title154","v":"Species 1 selected:"},null,{"$f":"IF(Selection!$F$14=title152,Selection!$F$16,Selection!$F$14)","v":"Select species"},null,null,null,null,null,null,null,null,null,null,null,null,null,null,null,null,null,null,{"$f":"title169","v":"Species 1"},null,null,"FR"]
[null,null,null,null,null,null,null,null,null,null,null,null,null,null,null,null,null,null,null,null,null,null,null,null,{"$f":"IF(Selection!$F$14=title152,TRUE,FALSE)","v":false}]
[null,null,null,{"$f":"title165","v":"Rotation length"},{"$f":"title183","v":"years"}]
[null,null,null,{"$f":"title152&\":\"","v":"User-defined:"},{"$f":"'Growth characteristics'!H26","v":0}]
[null,null,null,{"$f":"title186&\":\"","v":"Default:"},{"$f":"'Growth characteristics'!J26","v":""},null,null,null,{"$f":"title152","v":"User-defined"},null,null,null,null,{"$f":"PROPER(title74)","v":"Default Value "},{"$f":"PROPER(title74)","v":"Default Value "},{"$f":"PROPER(title74)","v":"Default Value "},{"$f":"PROPER(title74)","v":"Default Value "}]
[]
[null,null,null,null,null,{"$f":"title59","v":"Unit"},{"$f":"title195","v":"Unit price (USD)"},null,{"$f":"title207","v":"Years within the Rotation Length"},null,{"$f":"title208","v":"Total quantity     per hectare"},{"$f":"title209","v":"Discounted total costs        (USD/ha)"},null,{"$f":"title207","v":"Years within the Rotation Length"},null,{"$f":"title208","v":"Total quantity     per hectare"},{"$f":"title209","v":"Discounted total costs        (USD/ha)"},null,null,null,null,null,null,null,"Current          total costs    (USD/ha)",null,{"$f":"title188","v":"Seedling"},"nitrogen","phosphorus","potassium ","other inputs"]
[null,null,null,{"$f":"title187","v":"Inputs"},null,null,null,null,{"$f":"title210","v":"from"},{"$f":"title211","v":"to"},null,null,null,{"$f":"title210","v":"from"},{"$f":"title211","v":"to"},null,null,null,null,null,null,null,null,null,null,null,{"$f":"J36-I36+1","v":1},{"$f":"J38-I38+1","v":1},{"$f":"J39-I39+1","v":1},{"$f":"J40-I40+1","v":1},{"$f":"J41-I41+1","v":1}]
[null,null,null,{"$f":"title188","v":"Seedling"},null,"pc.",null,null,null,null,{"$f":"'Growth characteristics'!H24","v":0},{"$f":"IFERROR('Cash flow'!V41,\"\")","v":0},null,{"$f":"IFERROR(HLOOKUP(CONCATENATE($AB$28,$D36),INDIRECT(\"'\"&$F$28&\"'!B17:Z54\"),36,FALSE),\"\")","v":""},{"$f":"IFERROR(HLOOKUP(CONCATENATE($AB$28,$D36),INDIRECT(\"'\"&$F$28&\"'!B17:Z54\"),37,FALSE),\"\")","v":""},{"$f":"IFERROR(HLOOKUP(CONCATENATE($AB$28,$D36),INDIRECT(\"'\"&$F$28&\"'!B17:Z54\"),35,FALSE),\"\")","v":""},{"$f":"IFERROR('Cash flow'!V84,\"\")","v":""},null,null,null,null,null,null,null,{"$f":"G36*K36","v":0}]
[null,null,null,{"$f":"title189","v":"Fertilizer Nutrients"}]
[null,null,null,{"$f":"title190","v":" - Nitrogen"},null,"kg",{"$f":"IFERROR($AE$10,\"\")","v":0},null,null,null,null,{"$f":"IFERROR('Cash flow'!W41,\"\")","v":0},null,{"$f":"IFERROR(HLOOKUP(CONCATENATE($AB$28,$D38),INDIRECT(\"'\"&$F$28&\"'!B17:Z54\"),36,FALSE),\"\")","v":""},{"$f":"IFERROR(HLOOKUP(CONCATENATE($AB$28,$D38),INDIRECT(\"'\"&$F$28&\"'!B17:Z54\"),37,FALSE),\"\")","v":""},{"$f":"IFERROR(HLOOKUP(CONCATENATE($AB$28,$D38),INDIRECT(\"'\"&$F$28&\"'!B17:Z54\"),35,FALSE),\"\")","v":""},{"$f":"IFERROR('Cash flow'!W84,\"\")","v":""},null,null,null,null,null,null,null,{"$f":"G38*K38","v":0}]
[null,null,null,{"$f":"title191","v":" - Phosphorus "},null,"kg",{"$f":"IFERROR($AF$10,\"\")","v":0},null,null,null,null,{"$f":"IFERROR('Cash flow'!X41,\"\")","v":0},null,{"$f":"IFERROR(HLOOKUP(CONCATENATE($AB$28,$D39),INDIRECT(\"'\"&$F$28&\"'!B17:Z54\"),36,FALSE),\"\")","v":""},{"$f":"IFERROR(HLOOKUP(CONCATENATE($AB$28,$D39),INDIRECT(\"'\"&$F$28&\"'!B17:Z54\"),37,FALSE),\"\")","v":""},{"$f":"IFERROR(HLOOKUP(CONCATENATE($AB$28,$D39),INDIRECT(\"'\"&$F$28&\"'!B17:Z54\"),35,FALSE),\"\")","v":""},{"$f":"IFERROR('Cash flow'!X84,\"\")","v":""},null,null,null,null,null,null,null,{"$f":"G39*K39","v":0}]
[null,null,null,{"$f":"title192","v":" - Potassium "},null,"kg",{"$f":"IFERROR($AG$10,\"\")","v":0},null,null,null,null,{"$f":"IFERROR('Cash flow'!Y41,\"\")","v":0},null,{"$f":"IFERROR(HLOOKUP(CONCATENATE($AB$28,$D40),INDIRECT(\"'\"&$F$28&\"'!B17:Z54\"),36,FALSE),\"\")","v":""},{"$f":"IFERROR(HLOOKUP(CONCATENATE($AB$28,$D40),INDIRECT(\"'\"&$F$28&\"'!B17:Z54\"),37,FALSE),\"\")","v":""},{"$f":"IFERROR(HLOOKUP(CONCATENATE($AB$28,$D40),INDIRECT(\"'\"&$F$28&\"'!B17:Z54\"),35,FALSE),\"\")","v":""},{"$f":"IFERROR('Cash flow'!Y84,\"\")","v":""},null,null,null,null,null,null,null,{"$f":"G40*K40","v":0}]
[null,null,null,{"$f":"title193","v":"Other inputs"},null,null,null,null,null,null,null,{"$f":"IFERROR('Cash flow'!Z41,\"\")","v":0},null,null,null,null,null,null,null,null,null,null,null,null,{"$f":"G41*K41","v":0}]
[null,null,null,{"$f":"title194","v":"Total input costs"},null,null,null,null,null,null,null,{"$f":"IFERROR(SUM(L36:L41),\"\")","v":0},null,null,null,null,{"$f":"SUM(Q36:Q41)","v":0},null,null,null,null,null,null,null,{"$f":"SUM(Y36:Y41)","v":0}]
[]
[null,null,null,null,null,null,null,null,{"$f":"title152","v":"User-defined"},null,null,null,null,{"$f":"PROPER(title74)","v":"Default Value "},{"$f":"PROPER(title74)","v":"Default Value "},{"$f":"PROPER(title74)","v":"Default Value "},{"$f":"PROPER(title74)","v":"Default Value "}]
[]
[null,null,null,null,null,null,null,null,{"$f":"title207","v":"Years within the Rotation Length"},null,{"$f":"title208","v":"Total quantity     per hectare"},{"$f":"title209","v":"Discounted total costs        (USD/ha)"},null,{"$f":"title207","v":"Years within the Rotation Length"},null,{"$f":"title208","v":"Total quantity     per hectare"},{"$f":"title209","v":"Discounted total costs        (USD/ha)"},null,null,null,null,null,null,null,"Current          total costs    (USD/ha)",null,"Land clearing and planting Machinery","Land clearing and planting Manual","Application of fertilizers Manual","Application of fertilizers Machinery","Application of other agrochemicals Manual","Application of other agrochemicals Machinery","Harvesting Manual","Harvesting Machinery","Other labour"]
[null,null,null,{"$f":"title198","v":"Labour"},null,{"$f":"title59","v":"Unit"},{"$f":"title195","v":"Unit price (USD)"},null,{"$f":"title210","v":"from"},{"$f":"title211","v":"to"},null,null,null,{"$f":"title210","v":"from"},{"$f":"title211","v":"to"},null,null,null,null,null,null,null,null,null,null,null,{"$f":"J49-I49+1","v":1},{"$f":"J50-I50+1","v":1},{"$f":"J52-I52+1","v":1},{"$f":"J53-I53+1","v":1},{"$f":"J55-I55+1","v":1},{"$f":"J56-I56+1","v":1},{"$f":"J58-I58+1","v":1},{"$f":"J59-I59+1","v":1},{"$f":"J60-I60+1","v":1}]
[null,null,null,{"$f":"title199","v":"Land clearing and planting"}]
[null,null,null,{"$f":"title200","v":" - Manual"},null,{"$f":"title196","v":"man-day"},{"$f":"$J$15","v":0},null,null,null,null,{"$f":"'Cash flow'!AA41","v":0},null,{"$f":"IFERROR(HLOOKUP(CONCATENATE($AB$28,$D$48,$D49),INDIRECT(\"'\"&$F$28&\"'!B17:Z54\"),36,FALSE),\"\")","v":""},{"$f":"IFERROR(HLOOKUP(CONCATENATE($AB$28,$D$48,$D49),INDIRECT(\"'\"&$F$28&\"'!B17:Z54\"),37,FALSE),\"\")","v":""},{"$f":"IFERROR(HLOOKUP(CONCATENATE($AB$28,$D$48,$D49),INDIRECT(\"'\"&$F$28&\"'!B17:Z54\"),35,FALSE),\"\")","v":""},{"$f":"IFERROR('Cash flow'!AA84,\"\")","v":""},null,null,null,null,null,null,null,{"$f":"G49*K49","v":0}]
[null,null,null,{"$f":"title201","v":" - Machinery"},null,{"$f":"title197","v":"hour"},{"$f":"$J$16","v":0},null,null,null,null,{"$f":"'Cash flow'!AB41","v":0},null,{"$f":"IFERROR(HLOOKUP(CONCATENATE($AB$28,$D$48,$D50),INDIRECT(\"'\"&$F$28&\"'!B17:Z54\"),36,FALSE),\"\")","v":""},{"$f":"IFERROR(HLOOKUP(CONCATENATE($AB$28,$D$48,$D50),INDIRECT(\"'\"&$F$28&\"'!B17:Z54\"),37,FALSE),\"\")","v":""},{"$f":"IFERROR(HLOOKUP(CONCATENATE($AB$28,$D$48,$D50),INDIRECT(\"'\"&$F$28&\"'!B17:Z54\"),35,FALSE),\"\")","v":""},{"$f":"IFERROR('Cash flow'!AB84,\"\")","v":""},null,null,null,null,null,null,null,{"$f":"G50*K50","v":0}]
[null,null,null,{"$f":"title202","v":"Application of fertilizers"}]
[null,null,null,{"$f":"title200","v":" - Manual"},null,{"$f":"title196","v":"man-day"},{"$f":"$J$15","v":0},null,null,null,null,{"$f":"'Cash flow'!AC41","v":0},null,{"$f":"IFERROR(HLOOKUP(CONCATENATE($AB$28,$D$51,$D52),INDIRECT(\"'\"&$F$28&\"'!B17:Z54\"),36,FALSE),\"\")","v":""},{"$f":"IFERROR(HLOOKUP(CONCATENATE($AB$28,$D$51,$D52),INDIRECT(\"'\"&$F$28&\"'!B17:Z54\"),37,FALSE),\"\")","v":""},{"$f":"IFERROR(HLOOKUP(CONCATENATE($AB$28,$D$51,$D52),INDIRECT(\"'\"&$F$28&\"'!B17:Z54\"),35,FALSE),\"\")","v":""},{"$f":"IFERROR('Cash flow'!AC84,\"\")","v":""},null,null,null,null,null,null,null,{"$f":"G52*K52","v":0}]
[null,null,null,{"$f":"title201","v":" - Machinery"},null,{"$f":"title197","v":"hour"},{"$f":"$J$16","v":0},null,null,null,null,{"$f":"'Cash flow'!AD41","v":0},null,{"$f":"IFERROR(HLOOKUP(CONCATENATE($AB$28,$D$51,$D53),INDIRECT(\"'\"&$F$28&\"'!B17:Z54\"),36,FALSE),\"\")","v":""},{"$f":"IFERROR(HLOOKUP(CONCATENATE($AB$28,$D$51,$D53),INDIRECT(\"'\"&$F$28&\"'!B17:Z54\"),37,FALSE),\"\")","v":""},{"$f":"IFERROR(HLOOKUP(CONCATENATE($AB$28,$D$51,$D53),INDIRECT(\"'\"&$F$28&\"'!B17:Z54\"),35,FALSE),\"\")","v":""},{"$f":"IFERROR('Cash flow'!AD84,\"\")","v":""},null,null,null,null,null,null,null,{"$f":"G53*K53","v":0}]
[null,null,null,{"$f":"title203","v":"Application of other agrochemicals"}]
[null,null,null,{"$f":"title200","v":" - Manual"},null,{"$f":"title196","v":"man-day"},{"$f":"$J$15","v":0},null,null,null,null,{"$f":"'Cash flow'!AE41","v":0},null,{"$f":"IFERROR(HLOOKUP(CONCATENATE($AB$28,$D$54,$D55),INDIRECT(\"'\"&$F$28&\"'!B17:Z54\"),36,FALSE),\"\")","v":""},{"$f":"IFERROR(HLOOKUP(CONCATENATE($AB$28,$D$54,$D55),INDIRECT(\"'\"&$F$28&\"'!B17:Z54\"),37,FALSE),\"\")","v":""},{"$f":"IFERROR(HLOOKUP(CONCATENATE($AB$28,$D$54,$D55),INDIRECT(\"'\"&$F$28&\"'!B17:Z54\"),35,FALSE),\"\")","v":""},{"$f":"IFERROR('Cash flow'!AE84,\"\")","v":""},null,null,null,null,null,null,null,{"$f":"G55*K55","v":0}]
[null,null,null,{"$f":"title201","v":" - Machinery"},null,{"$f":"title197","v":"hour"},{"$f":"$J$16","v":0},null,null,null,null,{"$f":"'Cash flow'!AF41","v":0},null,{"$f":"IFERROR(HLOOKUP(CONCATENATE($AB$28,$D$54,$D56),INDIRECT(\"'\"&$F$28&\"'!B17:Z54\"),36,FALSE),\"\")","v":""},{"$f":"IFERROR(HLOOKUP(CONCATENATE($AB$28,$D$54,$D56),INDIRECT(\"'\"&$F$28&\"'!B17:Z54\"),37,FALSE),\"\")","v":""},{"$f":"IFERROR(HLOOKUP(CONCATENATE($AB$28,$D$54,$D56),INDIRECT(\"'\"&$F$28&\"'!B17:Z54\"),35,FALSE),\"\")","v":""},{"$f":"IFERROR('Cash flow'!AF84,\"\")","v":""},null,null,null,null,null,null,null,{"$f":"G56*K56","v":0}]
[null,null,null,{"$f":"title204","v":"Harvesting"}]
[null,null,null,{"$f":"title200","v":" - Manual"},null,{"$f":"title196","v":"man-day"},{"$f":"$J$15","v":0},null,null,null,null,{"$f":"'Cash flow'!AG41","v":0},null,{"$f":"IFERROR(HLOOKUP(CONCATENATE($AB$28,$D$57,$D58),INDIRECT(\"'\"&$F$28&\"'!B17:Z54\"),36,FALSE),\"\")","v":""},{"$f":"IFERROR(HLOOKUP(CONCATENATE($AB$28,$D$57,$D58),INDIRECT(\"'\"&$F$28&\"'!B17:Z54\"),37,FALSE),\"\")","v":""},{"$f":"IFERROR(HLOOKUP(CONCATENATE($AB$28,$D$57,$D58),INDIRECT(\"'\"&$F$28&\"'!B17:Z54\"),35,FALSE),\"\")","v":""},{"$f":"IFERROR('Cash flow'!AG84,\"\")","v":""},null,null,null,null,null,null,null,{"$f":"G58*K58","v":0}]
[null,null,null,{"$f":"title201","v":" - Machinery"},null,{"$f":"title197","v":"hour"},{"$f":"$J$16","v":0},null,null,null,null,{"$f":"'Cash flow'!AH41","v":0},null,{"$f":"IFERROR(HLOOKUP(CONCATENATE($AB$28,$D$57,$D59),INDIRECT(\"'\"&$F$28&\"'!B17:Z54\"),36,FALSE),\"\")","v":""},{"$f":"IFERROR(HLOOKUP(CONCATENATE($AB$28,$D$57,$D59),INDIRECT(\"'\"&$F$28&\"'!B17:Z54\"),37,FALSE),\"\")","v":""},{"$f":"IFERROR(HLOOKUP(CONCATENATE($AB$28,$D$57,$D59),INDIRECT(\"'\"&$F$28&\"'!B17:Z54\"),35,FALSE),\"\")","v":""},{"$f":"IFERROR('Cash flow'!AH84,\"\")","v":""},null,null,null,null,null,null,null,{"$f":"G59*K59","v":0}]
[null,null,null,{"$f":"title205","v":"Other labour:"},null,null,null,null,null,null,null,{"$f":"'Cash flow'!AI41","v":0},null,null,null,null,null,null,null,null,null,null,null,null,{"$f":"G60*K60","v":0}]
[null,null,null,{"$f":"title206","v":"Total labour costs"},null,null,null,null,null,null,null,{"$f":"SUM(L49:L60)","v":0},null,null,null,null,{"$f":"SUM(Q49:Q60)","v":0},null,null,null,null,null,null,null,{"$f":"SUM(Y49:Y60)","v":0}]
[]
[]
[null,null,null,{"$f":"title155","v":"Species 2 selected:"},null,{"$f":"IF(Selection!$H$14=title152,Selection!$H$16,Selection!$H$14)","v":"Select species"},null,null,null,null,null,null,null,null,null,null,null,null,null,null,null,null,null,null,null,null,null,"FR"]
[]
[null,null,null,{"$f":"title165","v":"Rotation length"},{"$f":"title183","v":"years"},null,null,null,null,null,null,null,null,null,null,null,null,null,null,null,null,null,null,null,{"$f":"title170","v":"Species 2"}]
[null,null,null,"User-defined:",{"$f":"'Growth characteristics'!L26","v":0},null,null,null,null,null,null,null,null,null,null,null,null,null,null,null,null,null,null,null,{"$f":"IF(Selection!$H$14=title152,TRUE,FALSE)","v":false}]
[null,null,null,"Default:",{"$f":"'Growth characteristics'!N26","v":""},null,null,null,{"$f":"title152","v":"User-defined"},null,null,null,null,{"$f":"PROPER(title74)","v":"Default Value "},{"$f":"PROPER(title74)","v":"Default Value "},{"$f":"PROPER(title74)","v":"Default Value "},{"$f":"PROPER(title74)","v":"Default Value "}]
[]
[null,null,null,null,null,null,null,null,{"$f":"title207","v":"Years within the Rotation Length"},null,{"$f":"title208","v":"Total quantity     per hectare"},{"$f":"title209","v":"Discounted total costs        (USD/ha)"},null,{"$f":"title207","v":"Years within the Rotation Length"},null,{"$f":"title208","v":"Total quantity     per hectare"},{"$f":"title209","v":"Discounted total costs        (USD/ha)"},null,null,null,null,null,null,null,"Current          total costs    (USD/ha)",null,{"$f":"title188","v":"Seedling"},"nitrogen","phosphorus","potassium ","other inputs"]
[null,null,null,{"$f":"title187","v":"Inputs"},null,{"$f":"title59","v":"Unit"},{"$f":"title195","v":"Unit price (USD)"},null,{"$f":"title210","v":"from"},{"$f":"title211","v":"to"},null,null,null,{"$f":"title210","v":"from"},{"$f":"title211","v":"to"},null,null,null,null,null,null,null,null,null,null,null,{"$f":"J72-I72+1","v":1},{"$f":"J74-I74+1","v":1},{"$f":"J75-I75+1","v":1},{"$f":"J76-I76+1","v":1},{"$f":"J77-I77+1","v":1}]
[null,null,null,{"$f":"title188","v":"Seedling"},null,"pc.",null,null,null,null,{"$f":"'Growth characteristics'!L24","v":0},{"$f":"IFERROR('Cash flow'!V126,\"\")","v":0},null,{"$f":"IFERROR(HLOOKUP(CONCATENATE($AB$64,$D72),INDIRECT(\"'\"&$F$64&\"'!B17:Z54\"),36,FALSE),\"\")","v":""},{"$f":"IFERROR(HLOOKUP(CONCATENATE($AB$64,$D72),INDIRECT(\"'\"&$F$64&\"'!B17:Z54\"),37,FALSE),\"\")","v":""},{"$f":"IFERROR(HLOOKUP(CONCATENATE($AB$64,$D72),INDIRECT(\"'\"&$F$64&\"'!B17:Z54\"),35,FALSE),\"\")","v":""},{"$f":"IFERROR('Cash flow'!V169,\"\")","v":""},null,null,null,null,null,null,null,{"$f":"G72*K72","v":0}]
[null,null,null,{"$f":"title189","v":"Fertilizer Nutrients"}]
[null,null,null,{"$f":"title190","v":" - Nitrogen"},null,"kg",{"$f":"IFERROR($AE$10,\"\")","v":0},null,null,null,null,{"$f":"IFERROR('Cash flow'!W126,\"\")","v":0},null,{"$f":"IFERROR(HLOOKUP(CONCATENATE($AB$64,$D74),INDIRECT(\"'\"&$F$64&\"'!B17:Z54\"),36,FALSE),\"\")","v":""},{"$f":"IFERROR(HLOOKUP(CONCATENATE($AB$64,$D74),INDIRECT(\"'\"&$F$64&\"'!B17:Z54\"),37,FALSE),\"\")","v":""},{"$f":"IFERROR(HLOOKUP(CONCATENATE($AB$64,$D74),INDIRECT(\"'\"&$F$64&\"'!B17:Z54\"),35,FALSE),\"\")","v":""},{"$f":"IFERROR('Cash flow'!W169,\"\")","v":""},null,null,null,null,null,null,null,{"$f":"G74*K74","v":0}]
[null,null,null,{"$f":"title191","v":" - Phosphorus "},null,"kg",{"$f":"IFERROR($AF$10,\"\")","v":0},null,null,null,null,{"$f":"IFERROR('Cash flow'!X126,\"\")","v":0},null,{"$f":"IFERROR(HLOOKUP(CONCATENATE($AB$64,$D75),INDIRECT(\"'\"&$F$64&\"'!B17:Z54\"),36,FALSE),\"\")","v":""},{"$f":"IFERROR(HLOOKUP(CONCATENATE($AB$64,$D75),INDIRECT(\"'\"&$F$64&\"'!B17:Z54\"),37,FALSE),\"\")","v":""},{"$f":"IFERROR(HLOOKUP(CONCATENATE($AB$64,$D75),INDIRECT(\"'\"&$F$64&\"'!B17:Z54\"),35,FALSE),\"\")","v":""},{"$f":"IFERROR('Cash flow'!X169,\"\")","v":""},null,null,null,null,null,null,null,{"$f":"G75*K75","v":0}]
[null,null,null,{"$f":"title192","v":" - Potassium "},null,"kg",{"$f":"IFERROR($AG$10,\"\")","v":0},null,null,null,null,{"$f":"IFERROR('Cash flow'!Y126,\"\")","v":0},null,{"$f":"IFERROR(HLOOKUP(CONCATENATE($AB$64,$D76),INDIRECT(\"'\"&$F$64&\"'!B17:Z54\"),36,FALSE),\"\")","v":""},{"$f":"IFERROR(HLOOKUP(CONCATENATE($AB$64,$D76),INDIRECT(\"'\"&$F$64&\"'!B17:Z54\"),37,FALSE),\"\")","v":""},{"$f":"IFERROR(HLOOKUP(CONCATENATE($AB$64,$D76),INDIRECT(\"'\"&$F$64&\"'!B17:Z54\"),35,FALSE),\"\")","v":""},{"$f":"IFERROR('Cash flow'!Y169,\"\")","v":""},null,null,null,null,null,null,null,{"$f":"G76*K76","v":0}]
[null,null,null,{"$f":"title193","v":"Other inputs"},null,null,null,null,null,null,null,{"$f":"IFERROR('Cash flow'!Z126,\"\")","v":0},null,null,null,null,null,null,null,null,null,null,null,null,{"$f":"G77*K77","v":0}]
[null,null,null,{"$f":"title194","v":"Total input costs"},null,null,null,null,null,null,null,{"$f":"SUM(L72:L77)","v":0},null,null,null,null,{"$f":"SUM(Q72:Q77)","v":0},null,null,null,null,null,null,null,{"$f":"SUM(Y72:Y77)","v":0}]
[]
[null,null,null,null,null,null,null,null,{"$f":"title152","v":"User-defined"},null,null,null,null,{"$f":"PROPER(title74)","v":"Default Value "},{"$f":"PROPER(title74)","v":"Default Value "},{"$f":"PROPER(title74)","v":"Default Value "},{"$f":"PROPER(title74)","v":"Default Value "}]
[]
[null,null,null,null,null,null,null,null,{"$f":"title207","v":"Years within the Rotation Length"},null,{"$f":"title208","v":"Total quantity     per hectare"},{"$f":"title209","v":"Discounted total costs        (USD/ha)"},null,{"$f":"title207","v":"Years within the Rotation Length"},null,{"$f":"title208","v":"Total quantity     per hectare"},{"$f":"title209","v":"Discounted total costs        (USD/ha)"},null,null,null,null,null,null,null,"Current          total costs    (USD/ha)",null,"Land clearing and planting Machinery","Land clearing and planting Manual","Application of fertilizers Manual","Application of fertilizers Machinery","Application of other agrochemicals Manual","Application of other agrochemicals Machinery","Harvesting Manual","Harvesting Machinery","Other labour"]
[null,null,null,{"$f":"title198","v":"Labour"},null,{"$f":"title59","v":"Unit"},{"$f":"title195","v":"Unit price (USD)"},null,5,9,null,null,null,{"$f":"title210","v":"from"},{"$f":"title211","v":"to"},null,null,null,null,null,null,null,null,null,null,null,{"$f":"J85-I85+1","v":1},{"$f":"J86-I86+1","v":1},{"$f":"J88-I88+1","v":1},{"$f":"J89-I89+1","v":1},{"$f":"J91-I91+1","v":1},{"$f":"J92-I92+1","v":1},{"$f":"J94-I94+1","v":1},{"$f":"J95-I95+1","v":1},{"$f":"J96-I96+1","v":1}]
[null,null,null,{"$f":"title199","v":"Land clearing and planting"}]
[null,null,null,{"$f":"title200","v":" - Manual"},null,{"$f":"title196","v":"man-day"},{"$f":"$J$15","v":0},null,null,null,null,{"$f":"'Cash flow'!AA126","v":0},null,{"$f":"IFERROR(HLOOKUP(CONCATENATE($AB$64,$D$84,$D85),INDIRECT(\"'\"&$F$64&\"'!B17:Z54\"),36,FALSE),\"\")","v":""},{"$f":"IFERROR(HLOOKUP(CONCATENATE($AB$64,$D$84,$D85),INDIRECT(\"'\"&$F$64&\"'!B17:Z54\"),37,FALSE),\"\")","v":""},{"$f":"IFERROR(HLOOKUP(CONCATENATE($AB$64,$D$84,$D85),INDIRECT(\"'\"&$F$64&\"'!B17:Z54\"),35,FALSE),\"\")","v":""},{"$f":"IFERROR('Cash flow'!AA169,\"\")","v":""},null,null,null,null,null,null,null,{"$f":"G85*K85","v":0}]
[null,null,null,{"$f":"title201","v":" - Machinery"},null,{"$f":"title197","v":"hour"},{"$f":"$J$16","v":0},null,null,null,null,{"$f":"'Cash flow'!AB126","v":0},null,{"$f":"IFERROR(HLOOKUP(CONCATENATE($AB$64,$D$84,$D86),INDIRECT(\"'\"&$F$64&\"'!B17:Z54\"),36,FALSE),\"\")","v":""},{"$f":"IFERROR(HLOOKUP(CONCATENATE($AB$64,$D$84,$D86),INDIRECT(\"'\"&$F$64&\"'!B17:Z54\"),37,FALSE),\"\")","v":""},{"$f":"IFERROR(HLOOKUP(CONCATENATE($AB$64,$D$84,$D86),INDIRECT(\"'\"&$F$64&\"'!B17:Z54\"),35,FALSE),\"\")","v":""},{"$f":"IFERROR('Cash flow'!AB169,\"\")","v":""},null,null,null,null,null,null,null,{"$f":"G86*K86","v":0}]
[null,null,null,{"$f":"title202","v":"Application of fertilizers"}]
[null,null,null,{"$f":"title200","v":" - Manual"},null,{"$f":"title196","v":"man-day"},{"$f":"$J$15","v":0},null,null,null,null,{"$f":"'Cash flow'!AC126","v":0},null,{"$f":"IFERROR(HLOOKUP(CONCATENATE($AB$64,$D$87,$D88),INDIRECT(\"'\"&$F$64&\"'!B17:Z54\"),36,FALSE),\"\")","v":""},{"$f":"IFERROR(HLOOKUP(CONCATENATE($AB$64,$D$87,$D88),INDIRECT(\"'\"&$F$64&\"'!B17:Z54\"),37,FALSE),\"\")","v":""},{"$f":"IFERROR(HLOOKUP(CONCATENATE($AB$64,$D$87,$D88),INDIRECT(\"'\"&$F$64&\"'!B17:Z54\"),35,FALSE),\"\")","v":""},{"$f":"IFERROR('Cash flow'!AC169,\"\")","v":""},null,null,null,null,null,null,null,{"$f":"G88*K88","v":0}]
[null,null,null,{"$f":"title201","v":" - Machinery"},null,{"$f":"title197","v":"hour"},{"$f":"$J$16","v":0},null,null,null,null,{"$f":"'Cash flow'!AD126","v":0},null,{"$f":"IFERROR(HLOOKUP(CONCATENATE($AB$64,$D$87,$D89),INDIRECT(\"'\"&$F$64&\"'!B17:Z54\"),36,FALSE),\"\")","v":""},{"$f":"IFERROR(HLOOKUP(CONCATENATE($AB$64,$D$87,$D89),INDIRECT(\"'\"&$F$64&\"'!B17:Z54\"),37,FALSE),\"\")","v":""},{"$f":"IFERROR(HLOOKUP(CONCATENATE($AB$64,$D$87,$D89),INDIRECT(\"'\"&$F$64&\"'!B17:Z54\"),35,FALSE),\"\")","v":""},{"$f":"IFERROR('Cash flow'!AD169,\"\")","v":""},null,null,null,null,null,null,null,{"$f":"G89*K89","v":0}]
[null,null,null,{"$f":"title203","v":"Application of other agrochemicals"}]
[null,null,null,{"$f":"title200","v":" - Manual"},null,{"$f":"title196","v":"man-day"},{"$f":"$J$15","v":0},null,null,null,null,{"$f":"'Cash flow'!AE126","v":0},null,{"$f":"IFERROR(HLOOKUP(CONCATENATE($AB$64,$D$90,$D91),INDIRECT(\"'\"&$F$64&\"'!B17:Z54\"),36,FALSE),\"\")","v":""},{"$f":"IFERROR(HLOOKUP(CONCATENATE($AB$64,$D$90,$D91),INDIRECT(\"'\"&$F$64&\"'!B17:Z54\"),37,FALSE),\"\")","v":""},{"$f":"IFERROR(HLOOKUP(CONCATENATE($AB$64,$D$90,$D91),INDIRECT(\"'\"&$F$64&\"'!B17:Z54\"),35,FALSE),\"\")","v":""},{"$f":"IFERROR('Cash flow'!AE169,\"\")","v":""},null,null,null,null,null,null,null,{"$f":"G91*K91","v":0}]
[null,null,null,{"$f":"title201","v":" - Machinery"},null,{"$f":"title197","v":"hour"},{"$f":"$J$16","v":0},null,null,null,null,{"$f":"'Cash flow'!AF126","v":0},null,{"$f":"IFERROR(HLOOKUP(CONCATENATE($AB$64,$D$90,$D92),INDIRECT(\"'\"&$F$64&\"'!B17:Z54\"),36,FALSE),\"\")","v":""},{"$f":"IFERROR(HLOOKUP(CONCATENATE($AB$64,$D$90,$D92),INDIRECT(\"'\"&$F$64&\"'!B17:Z54\"),37,FALSE),\"\")","v":""},{"$f":"IFERROR(HLOOKUP(CONCATENATE($AB$64,$D$90,$D92),INDIRECT(\"'\"&$F$64&\"'!B17:Z54\"),35,FALSE),\"\")","v":""},{"$f":"IFERROR('Cash flow'!AF169,\"\")","v":""},null,null,null,null,null,null,null,{"$f":"G92*K92","v":0}]
[null,null,null,{"$f":"title204","v":"Harvesting"}]
[null,null,null,{"$f":"title200","v":" - Manual"},null,{"$f":"title196","v":"man-day"},{"$f":"$J$15","v":0},null,null,null,null,{"$f":"'Cash flow'!AG126","v":0},null,{"$f":"IFERROR(HLOOKUP(CONCATENATE($AB$64,$D$93,$D94),INDIRECT(\"'\"&$F$64&\"'!B17:Z54\"),36,FALSE),\"\")","v":""},{"$f":"IFERROR(HLOOKUP(CONCATENATE($AB$64,$D$93,$D94),INDIRECT(\"'\"&$F$64&\"'!B17:Z54\"),37,FALSE),\"\")","v":""},{"$f":"IFERROR(HLOOKUP(CONCATENATE($AB$64,$D$93,$D94),INDIRECT(\"'\"&$F$64&\"'!B17:Z54\"),35,FALSE),\"\")","v":""},{"$f":"IFERROR('Cash flow'!AG169,\"\")","v":""},null,null,null,null,null,null,null,{"$f":"G94*K94","v":0}]
[null,null,null,{"$f":"title201","v":" - Machinery"},null,{"$f":"title197","v":"hour"},{"$f":"$J$16","v":0},null,null,null,null,{"$f":"'Cash flow'!AH126","v":0},null,{"$f":"IFERROR(HLOOKUP(CONCATENATE($AB$64,$D$93,$D95),INDIRECT(\"'\"&$F$64&\"'!B17:Z54\"),36,FALSE),\"\")","v":""},{"$f":"IFERROR(HLOOKUP(CONCATENATE($AB$64,$D$93,$D95),INDIRECT(\"'\"&$F$64&\"'!B17:Z54\"),37,FALSE),\"\")","v":""},{"$f":"IFERROR(HLOOKUP(CONCATENATE($AB$64,$D$93,$D95),INDIRECT(\"'\"&$F$64&\"'!B17:Z54\"),35,FALSE),\"\")","v":""},{"$f":"IFERROR('Cash flow'!AH169,\"\")","v":""},null,null,null,null,null,null,null,{"$f":"G95*K95","v":0}]
[null,null,null,{"$f":"title205","v":"Other labour:"},null,null,null,null,null,null,null,{"$f":"'Cash flow'!AI126","v":0},null,null,null,null,null,null,null,null,null,null,null,null,{"$f":"G96*K96","v":0}]
[null,null,null,{"$f":"title206","v":"Total labour costs"},null,null,null,null,null,null,null,{"$f":"SUM(L85:L96)","v":0},null,null,null,null,{"$f":"SUM(Q85:Q96)","v":0},null,null,null,null,null,null,null,{"$f":"SUM(Y85:Y96)","v":0}]

{"sheet":"Sum_results","index":10,"n_rows":103,"n_cols":41,"rows_kept":103,"cut":false,"hidden":false,"merged":[[49,39,49,40],[50,26,50,27],[50,30,50,31],[49,35,49,36],[52,2,53,13],[47,2,47,3],[47,4,47,5],[47,7,47,8],[47,9,47,10],[47,11,47,12],[59,8,59,13],[81,8,81,13],[34,7,34,8],[34,11,34,12],[1,2,1,13],[3,2,4,2],[17,7,17,8],[17,11,17,12],[3,3,4,4],[41,2,41,3],[45,7,45,8],[45,9,45,10],[45,11,45,12],[46,7,46,8],[46,9,46,10],[46,11,46,12]]}
[]
[null,null,{"$f":"title212","v":"ANALYSIS OF WOODFUEL PLANTATION"}]
[]
[null,null,{"$f":"title21&\":\"","v":"Country:"},{"$f":"Selection!E5","v":"Select a country"}]
[]
[]
[]
[]
[]
[]
[]
[]
[]
[]
[]
[null,null,null,null,null,null,null,null,null,null,null,null,null,null,null,null,null,null,null,null,null,null,null,null,{"$f":"title169","v":"Species 1"},{"$f":"title170","v":"Species 2"}]
[]
[null,null,null,null,null,null,null,{"$f":"title154","v":"Species 1 selected:"},null,{"$f":"IF(Selection!$F$14=title152,Selection!$F$16,Selection!$F$14)","v":"Select species"},null,{"$f":"title155","v":"Species 2 selected:"},null,{"$f":"IF(Selection!$H$14=title152,Selection!$H$16,Selection!$H$14)","v":"Select species"},null,null,null,null,null,null,null,null,null,null,{"$f":"IF(Selection!$F$14=title152,TRUE,FALSE)","v":false},{"$f":"IF(Selection!$H$14=title152,TRUE,FALSE)","v":false}]
[]
[null,null,{"$f":"title214","v":"Data summary"},null,null,{"$f":"title59","v":"Unit"},null,{"$f":"title152","v":"User-defined"},null,{"$f":"PROPER(title74)","v":"Default Value "},null,{"$f":"title152","v":"User-defined"},null,{"$f":"PROPER(title74)","v":"Default Value "}]
[]
[null,null,{"$f":"title157","v":"Planting density"},null,null,{"$f":"title167","v":"trees/ha"},null,{"$f":"'Growth characteristics'!H24","v":0},null,{"$f":"'Growth characteristics'!J24","v":""},null,{"$f":"'Growth characteristics'!L24","v":0},null,{"$f":"'Growth characteristics'!N24","v":""}]
[null,null,{"$f":"title158","v":"Mean Annual Increment (average)"},null,null,{"$f":"title168","v":"m3/ha/year"},null,{"$f":"'Growth characteristics'!H25","v":0},null,{"$f":"'Growth characteristics'!J25","v":""},null,{"$f":"'Growth characteristics'!L25","v":0},null,{"$f":"'Growth characteristics'!N25","v":""}]
[null,null,{"$f":"title159","v":"Rotation length (max 30 years)"},null,null,{"$f":"LOWER(title58)","v":"year"},null,{"$f":"'Growth characteristics'!H26","v":0},null,{"$f":"'Growth characteristics'!J26","v":""},null,{"$f":"'Growth characteristics'!L26","v":0},null,{"$f":"'Growth characteristics'!N26","v":""},null,null,null,null,null,null,null,null,null,null,{"$f":"title233","v":" - User"},{"$f":"title234","v":" - Default "}]
[]
[null,null,{"$f":"title161","v":"Harvestable volume for bioenergy purposes "},null,null,"m3/ha",null,{"$f":"'Growth characteristics'!H29","v":0},null,{"$f":"'Growth characteristics'!J29","v":""},null,{"$f":"'Growth characteristics'!L29","v":0},null,{"$f":"'Growth characteristics'!N29","v":""},null,null,null,null,null,null,null,null,null,null,{"$f":"CONCATENATE(J18,Y24)","v":"Select species - User"},{"$f":"IF(Selection!$F$14=title152,\"\",CONCATENATE(J18,Z24))","v":"Select species - Default "},{"$f":"CONCATENATE(N18,Y24)","v":"Select species - User"},{"$f":"IF(Selection!$H$14=title152,\"\",CONCATENATE(N18,Z24))","v":"Select species - Default "}]
[null,null,{"$f":"title162","v":"Low heating value (energy content)"},null,null,"MJ/kg",null,{"$f":"'Growth characteristics'!H30","v":0},null,{"$f":"'Growth characteristics'!J30","v":""},null,{"$f":"'Growth characteristics'!L30","v":0},null,{"$f":"'Growth characteristics'!N30","v":""},null,null,null,null,null,null,null,null,null,null,{"$f":"H27*H26*H29*0.001","v":0},{"$f":"J27*J26*J29*0.001","v":{"$error":"#VALUE!"}},{"$f":"L27*L26*L29*0.001","v":0},{"$f":"N27*N26*N29*0.001","v":{"$error":"#VALUE!"}}]
[null,null,{"$f":"title163","v":"Moisture"},null,null,"%",null,{"$f":"'Growth characteristics'!H31","v":0},null,{"$f":"'Growth characteristics'!J31","v":""},null,{"$f":"'Growth characteristics'!L31","v":0},null,{"$f":"'Growth characteristics'!N31","v":""},null,null,null,null,null,null,null,null,null,null,{"$f":"H24","v":0},{"$f":"J24","v":""},{"$f":"L24","v":0},{"$f":"N24","v":""}]
[null,null,{"$f":"title97","v":"Wood density"},null,null,"kg/m3",null,{"$f":"'Growth characteristics'!H32","v":0},null,{"$f":"'Growth characteristics'!J32","v":""},null,{"$f":"'Growth characteristics'!L32","v":0},null,{"$f":"'Growth characteristics'!N32","v":""}]
[]
[null,null,{"$f":"title164","v":"Wood harvested price (stack)"},null,null,{"$f":"'Growth characteristics'!F35","v":"USD/m3"},null,{"$f":"'Growth characteristics'!J35","v":0},null,{"$f":"'Growth characteristics'!J35","v":0},null,{"$f":"'Growth characteristics'!J36","v":0},null,{"$f":"'Growth characteristics'!J36","v":0}]
[]
[]
[]
[null,null,null,null,null,null,null,{"$f":"title154","v":"Species 1 selected:"},null,{"$f":"IF(Selection!$F$14=title152,Selection!$F$16,Selection!$F$14)","v":"Select species"},null,{"$f":"title155","v":"Species 2 selected:"},null,{"$f":"IF(Selection!$H$14=title152,Selection!$H$16,Selection!$H$14)","v":"Select species"}]
[]
[null,null,{"$f":"title215","v":"Costs and revenues"},null,null,null,null,{"$f":"title152","v":"User-defined"},null,{"$f":"PROPER(title74)","v":"Default Value "},null,{"$f":"title152","v":"User-defined"},null,{"$f":"PROPER(title74)","v":"Default Value "}]
[]
[null,null,{"$f":"title216","v":"Total discounted revenues"},null,null,"USD/ha",null,{"$f":"IFERROR('Cash flow'!AK41,\"\")","v":0},null,{"$f":"IFERROR('Cash flow'!AK84,\"\")","v":0},null,{"$f":"IFERROR('Cash flow'!AK126,\"\")","v":0},null,{"$f":"IFERROR('Cash flow'!AK169,\"\")","v":0}]
[null,null,{"$f":"title217","v":"Total discounted costs"},null,null,"USD/ha",null,{"$f":"IFERROR('Cash flow'!AJ41,\"\")","v":0},null,{"$f":"IFERROR('Cash flow'!AJ84,\"\")","v":""},null,{"$f":"IFERROR('Cash flow'!AJ126,\"\")","v":0},null,{"$f":"IFERROR('Cash flow'!AJ169,\"\")","v":""}]
[]
[null,null,{"$f":"title218","v":"Indicators of profitability"},null,null,null,null,null,null,null,null,null,null,null,null,null,null,null,null,null,null,null,null,null,null,null,null,null,null,null,null,null,null,null,"RATE",{"$f":"title236","v":" - NPV (User)"},{"$f":"title237","v":" - NPV (Default)"},null,"RATE",{"$f":"title236","v":" - NPV (User)"},{"$f":"title237","v":" - NPV (Default)"}]
[]
[null,null,{"$f":"title219","v":"Net Present Value (NPV)"},null,null,"USD/ha",null,{"$f":"IFERROR('Cash flow'!AK43,\"\")","v":0},null,{"$f":"IFERROR('Cash flow'!AK86,\"\")","v":""},null,{"$f":"IFERROR('Cash flow'!AK128,\"\")","v":0},null,{"$f":"IFERROR('Cash flow'!AK171,\"\")","v":""},null,null,null,null,null,null,null,null,null,null,null,null,null,null,null,null,null,null,null,null,null,{"$f":"CONCATENATE(AJ42, AJ50)","v":" - NPV (User)SPECIES 1"}]
[null,null,{"$f":"title220","v":"Internal Rate of Return (IRR)"},null,null,"%",null,{"$f":"IFERROR('Cash flow'!AK44,\"\")","v":""},null,{"$f":"IFERROR('Cash flow'!AK87,\"\")","v":""},null,{"$f":"IFERROR('Cash flow'!AK129,\"\")","v":""},null,{"$f":"IFERROR('Cash flow'!AK172,\"\")","v":""}]
[]
[null,null,{"$f":"title221","v":"Energy content in the wood harvested:"}]
[]
[null,null,{"$f":"title222","v":"Energy content per hectare"},null,null,"GJ/ha",null,{"$f":"IFERROR(Y27,\"\")","v":0},null,{"$f":"IFERROR(Z27,\"\")","v":""},null,{"$f":"IFERROR(AA27,\"\")","v":0},null,{"$f":"IFERROR(AB27,\"\")","v":""}]
[null,null,null,null,null,null,null,null,null,null,null,null,null,null,null,null,null,null,null,null,null,null,null,null,null,null,null,null,null,null,null,null,null,null,null,{"$f":"UPPER(title169)","v":"SPECIES 1"},null,null,null,{"$f":"UPPER(title170)","v":"SPECIES 2"}]
[null,null,null,null,null,null,null,null,null,null,null,null,null,null,null,null,null,null,null,null,null,null,null,null,null,null,{"$f":"UPPER(title169)","v":"SPECIES 1"},null,null,null,{"$f":"UPPER(title170)","v":"SPECIES 2"},null,null,null,null,{"$f":"IF(Selection!F14=title152,Selection!F16,Selection!F14)","v":"Select species"},null,null,null,{"$f":"IF(Selection!H14=title152,Selection!H16,Selection!H14)","v":"Select species"}]
[null,null,null,null,null,null,null,null,null,null,null,null,null,null,null,null,null,null,null,null,null,null,null,null,null,"RATE",{"$f":"RIGHT(title236,LEN(title236)-3)","v":"NPV (User)"},{"$f":"IF(Selection!$F$14=title152,\"\",title235)","v":"NPV (Default)"},null,"RATE",{"$f":"RIGHT(title236,LEN(title236)-3)","v":"NPV (User)"},{"$f":"IF(Selection!$H$14=title152,\"\",title235)","v":"NPV (Default)"},null,null,"RATE",{"$f":"CONCATENATE(AJ51,AJ42)","v":"Select species - NPV (User)"},{"$f":"IF(Selection!$F$14=title152,\"\",CONCATENATE(AJ51,AK42))","v":"Select species - NPV (Default)"},null,"RATE",{"$f":"CONCATENATE(AN51,AN42)","v":"Select species - NPV (User)"},{"$f":"IF(Selection!$H$14=title152,\"\",CONCATENATE(AN51,AO42))","v":"Select species - NPV (Default)"}]
[null,null,null,null,null,null,null,null,null,null,null,null,null,null,null,null,null,null,null,null,null,null,null,null,null,0,{"$f":"NPV(Z53,'Cash flow'!$U$11:$U$40)+'Cash flow'!$U$10","v":0},{"$f":"IFERROR(NPV(Z53,'Cash flow'!$U$54:$U$83)+'Cash flow'!$U$53,\"\")","v":""},null,0,{"$f":"NPV(AD53,'Cash flow'!$U$96:$U$125)+'Cash flow'!$U$95","v":0},{"$f":"IFERROR(NPV(AD53,'Cash flow'!$U$139:$U$168)+'Cash flow'!$U$138,\"\")","v":""},{"$f":"+IF(AD53='Planting and management costs'!$J$17,MAX(Sum_results!$AB$53:$AB$93),\"\")","v":0},null,0,{"$f":"NPV(AI53,'Cash flow'!$U$11:$U$40)+'Cash flow'!$U$10","v":0},{"$f":"IFERROR(NPV(AI53,'Cash flow'!$U$54:$U$83)+'Cash flow'!$U$53,\"\")","v":""},null,0,{"$f":"NPV(AM53,'Cash flow'!$U$96:$U$125)+'Cash flow'!$U$95","v":0},{"$f":"IFERROR(NPV(AM53,'Cash flow'!$U$139:$U$168)+'Cash flow'!$U$138,\"\")","v":""}]
[null,null,null,null,null,null,null,null,null,null,null,null,null,null,null,null,null,null,null,null,null,null,null,null,null,0.01,{"$f":"NPV(Z54,'Cash flow'!$U$11:$U$40)+'Cash flow'!$U$10","v":0},{"$f":"IFERROR(NPV(Z54,'Cash flow'!$U$54:$U$83)+'Cash flow'!$U$53,\"\")","v":""},null,0.01,{"$f":"NPV(AD54,'Cash flow'!$U$96:$U$125)+'Cash flow'!$U$95","v":0},{"$f":"IFERROR(NPV(AD54,'Cash flow'!$U$139:$U$168)+'Cash flow'!$U$138,\"\")","v":""},{"$f":"+IF(AD54='Planting and management costs'!$J$17,MAX(Sum_results!$AB$53:$AB$93),\"\")","v":""},null,0.01,{"$f":"NPV(AI54,'Cash flow'!$U$11:$U$40)+'Cash flow'!$U$10","v":0},{"$f":"IFERROR(NPV(AI54,'Cash flow'!$U$54:$U$83)+'Cash flow'!$U$53,\"\")","v":""},null,0.01,{"$f":"NPV(AM54,'Cash flow'!$U$96:$U$125)+'Cash flow'!$U$95","v":0},{"$f":"IFERROR(NPV(AM54,'Cash flow'!$U$139:$U$168)+'Cash flow'!$U$138,\"\")","v":""}]
[null,null,null,null,null,null,null,null,null,null,null,null,null,null,null,null,null,null,null,null,null,null,null,null,null,0.02,{"$f":"NPV(Z55,'Cash flow'!$U$11:$U$40)+'Cash flow'!$U$10","v":0},{"$f":"IFERROR(NPV(Z55,'Cash flow'!$U$54:$U$83)+'Cash flow'!$U$53,\"\")","v":""},null,0.02,{"$f":"NPV(AD55,'Cash flow'!$U$96:$U$125)+'Cash flow'!$U$95","v":0},{"$f":"IFERROR(NPV(AD55,'Cash flow'!$U$139:$U$168)+'Cash flow'!$U$138,\"\")","v":""},{"$f":"+IF(AD55='Planting and management costs'!$J$17,MAX(Sum_results!$AB$53:$AB$93),\"\")","v":""},null,0.02,{"$f":"NPV(AI55,'Cash flow'!$U$11:$U$40)+'Cash flow'!$U$10","v":0},{"$f":"IFERROR(NPV(AI55,'Cash flow'!$U$54:$U$83)+'Cash flow'!$U$53,\"\")","v":""},null,0.02,{"$f":"NPV(AM55,'Cash flow'!$U$96:$U$125)+'Cash flow'!$U$95","v":0},{"$f":"IFERROR(NPV(AM55,'Cash flow'!$U$139:$U$168)+'Cash flow'!$U$138,\"\")","v":""}]
[null,null,null,null,null,null,null,null,null,null,null,null,null,null,null,null,null,null,null,null,null,null,null,null,null,0.03,{"$f":"NPV(Z56,'Cash flow'!$U$11:$U$40)+'Cash flow'!$U$10","v":0},{"$f":"IFERROR(NPV(Z56,'Cash flow'!$U$54:$U$83)+'Cash flow'!$U$53,\"\")","v":""},null,0.03,{"$f":"NPV(AD56,'Cash flow'!$U$96:$U$125)+'Cash flow'!$U$95","v":0},{"$f":"IFERROR(NPV(AD56,'Cash flow'!$U$139:$U$168)+'Cash flow'!$U$138,\"\")","v":""},{"$f":"+IF(AD56='Planting and management costs'!$J$17,MAX(Sum_results!$AB$53:$AB$93),\"\")","v":""},null,0.03,{"$f":"NPV(AI56,'Cash flow'!$U$11:$U$40)+'Cash flow'!$U$10","v":0},{"$f":"IFERROR(NPV(AI56,'Cash flow'!$U$54:$U$83)+'Cash flow'!$U$53,\"\")","v":""},null,0.03,{"$f":"NPV(AM56,'Cash flow'!$U$96:$U$125)+'Cash flow'!$U$95","v":0},{"$f":"IFERROR(NPV(AM56,'Cash flow'!$U$139:$U$168)+'Cash flow'!$U$138,\"\")","v":""}]
[null,null,null,null,null,null,null,null,null,null,null,null,null,null,null,null,null,null,null,null,null,null,null,null,null,0.04,{"$f":"NPV(Z57,'Cash flow'!$U$11:$U$40)+'Cash flow'!$U$10","v":0},{"$f":"IFERROR(NPV(Z57,'Cash flow'!$U$54:$U$83)+'Cash flow'!$U$53,\"\")","v":""},null,0.04,{"$f":"NPV(AD57,'Cash flow'!$U$96:$U$125)+'Cash flow'!$U$95","v":0},{"$f":"IFERROR(NPV(AD57,'Cash flow'!$U$139:$U$168)+'Cash flow'!$U$138,\"\")","v":""},{"$f":"+IF(AD57='Planting and management costs'!$J$17,MAX(Sum_results!$AB$53:$AB$93),\"\")","v":""},null,0.04,{"$f":"NPV(AI57,'Cash flow'!$U$11:$U$40)+'Cash flow'!$U$10","v":0},{"$f":"IFERROR(NPV(AI57,'Cash flow'!$U$54:$U$83)+'Cash flow'!$U$53,\"\")","v":""},null,0.04,{"$f":"NPV(AM57,'Cash flow'!$U$96:$U$125)+'Cash flow'!$U$95","v":0},{"$f":"IFERROR(NPV(AM57,'Cash flow'!$U$139:$U$168)+'Cash flow'!$U$138,\"\")","v":""}]
[null,null,null,null,null,null,null,null,null,null,null,null,null,null,null,null,null,null,null,null,null,null,null,null,null,0.05,{"$f":"NPV(Z58,'Cash flow'!$U$11:$U$40)+'Cash flow'!$U$10","v":0},{"$f":"IFERROR(NPV(Z58,'Cash flow'!$U$54:$U$83)+'Cash flow'!$U$53,\"\")","v":""},null,0.05,{"$f":"NPV(AD58,'Cash flow'!$U$96:$U$125)+'Cash flow'!$U$95","v":0},{"$f":"IFERROR(NPV(AD58,'Cash flow'!$U$139:$U$168)+'Cash flow'!$U$138,\"\")","v":""},{"$f":"+IF(AD58='Planting and management costs'!$J$17,MAX(Sum_results!$AB$53:$AB$93),\"\")","v":""},null,0.05,{"$f":"NPV(AI58,'Cash flow'!$U$11:$U$40)+'Cash flow'!$U$10","v":0},{"$f":"IFERROR(NPV(AI58,'Cash flow'!$U$54:$U$83)+'Cash flow'!$U$53,\"\")","v":""},null,0.05,{"$f":"NPV(AM58,'Cash flow'!$U$96:$U$125)+'Cash flow'!$U$95","v":0},{"$f":"IFERROR(NPV(AM58,'Cash flow'!$U$139:$U$168)+'Cash flow'!$U$138,\"\")","v":""}]
[null,null,{"$f":"title225","v":"Plantation NPV profile"},null,null,null,null,null,{"$f":"title226","v":"Comparison of NPV profile between the selected species"},null,null,null,null,null,null,null,null,null,null,null,null,null,null,null,null,0.06,{"$f":"NPV(Z59,'Cash flow'!$U$11:$U$40)+'Cash flow'!$U$10","v":0},{"$f":"IFERROR(NPV(Z59,'Cash flow'!$U$54:$U$83)+'Cash flow'!$U$53,\"\")","v":""},null,0.06,{"$f":"NPV(AD59,'Cash flow'!$U$96:$U$125)+'Cash flow'!$U$95","v":0},{"$f":"IFERROR(NPV(AD59,'Cash flow'!$U$139:$U$168)+'Cash flow'!$U$138,\"\")","v":""},{"$f":"+IF(AD59='Planting and management costs'!$J$17,MAX(Sum_results!$AB$53:$AB$93),\"\")","v":""},null,0.06,{"$f":"NPV(AI59,'Cash flow'!$U$11:$U$40)+'Cash flow'!$U$10","v":0},{"$f":"IFERROR(NPV(AI59,'Cash flow'!$U$54:$U$83)+'Cash flow'!$U$53,\"\")","v":""},null,0.06,{"$f":"NPV(AM59,'Cash flow'!$U$96:$U$125)+'Cash flow'!$U$95","v":0},{"$f":"IFERROR(NPV(AM59,'Cash flow'!$U$139:$U$168)+'Cash flow'!$U$138,\"\")","v":""}]
[null,null,{"$f":"title154","v":"Species 1 selected:"},null,{"$f":"IF(Selection!F14=title152,Selection!F16,Selection!F14)","v":"Select species"},null,null,null,{"$f":"title227","v":"based on default values"},null,null,null,null,null,null,null,null,null,null,null,null,null,null,null,null,7.0000000000000007E-2,{"$f":"NPV(Z60,'Cash flow'!$U$11:$U$40)+'Cash flow'!$U$10","v":0},{"$f":"IFERROR(NPV(Z60,'Cash flow'!$U$54:$U$83)+'Cash flow'!$U$53,\"\")","v":""},null,7.0000000000000007E-2,{"$f":"NPV(AD60,'Cash flow'!$U$96:$U$125)+'Cash flow'!$U$95","v":0},{"$f":"IFERROR(NPV(AD60,'Cash flow'!$U$139:$U$168)+'Cash flow'!$U$138,\"\")","v":""},{"$f":"+IF(AD60='Planting and management costs'!$J$17,MAX(Sum_results!$AB$53:$AB$93),\"\")","v":""},null,7.0000000000000007E-2,{"$f":"NPV(AI60,'Cash flow'!$U$11:$U$40)+'Cash flow'!$U$10","v":0},{"$f":"IFERROR(NPV(AI60,'Cash flow'!$U$54:$U$83)+'Cash flow'!$U$53,\"\")","v":""},null,7.0000000000000007E-2,{"$f":"NPV(AM60,'Cash flow'!$U$96:$U$125)+'Cash flow'!$U$95","v":0},{"$f":"IFERROR(NPV(AM60,'Cash flow'!$U$139:$U$168)+'Cash flow'!$U$138,\"\")","v":""}]
[null,null,null,null,null,null,null,null,null,null,null,null,null,null,null,null,null,null,null,null,null,null,null,null,null,0.08,{"$f":"NPV(Z61,'Cash flow'!$U$11:$U$40)+'Cash flow'!$U$10","v":0},{"$f":"IFERROR(NPV(Z61,'Cash flow'!$U$54:$U$83)+'Cash flow'!$U$53,\"\")","v":""},null,0.08,{"$f":"NPV(AD61,'Cash flow'!$U$96:$U$125)+'Cash flow'!$U$95","v":0},{"$f":"IFERROR(NPV(AD61,'Cash flow'!$U$139:$U$168)+'Cash flow'!$U$138,\"\")","v":""},{"$f":"+IF(AD61='Planting and management costs'!$J$17,MAX(Sum_results!$AB$53:$AB$93),\"\")","v":""},null,0.08,{"$f":"NPV(AI61,'Cash flow'!$U$11:$U$40)+'Cash flow'!$U$10","v":0},{"$f":"IFERROR(NPV(AI61,'Cash flow'!$U$54:$U$83)+'Cash flow'!$U$53,\"\")","v":""},null,0.08,{"$f":"NPV(AM61,'Cash flow'!$U$96:$U$125)+'Cash flow'!$U$95","v":0},{"$f":"IFERROR(NPV(AM61,'Cash flow'!$U$139:$U$168)+'Cash flow'!$U$138,\"\")","v":""}]
[null,null,null,null,null,null,null,null,null,null,null,null,null,null,null,null,null,null,null,null,null,null,null,null,null,0.09,{"$f":"NPV(Z62,'Cash flow'!$U$11:$U$40)+'Cash flow'!$U$10","v":0},{"$f":"IFERROR(NPV(Z62,'Cash flow'!$U$54:$U$83)+'Cash flow'!$U$53,\"\")","v":""},null,0.09,{"$f":"NPV(AD62,'Cash flow'!$U$96:$U$125)+'Cash flow'!$U$95","v":0},{"$f":"IFERROR(NPV(AD62,'Cash flow'!$U$139:$U$168)+'Cash flow'!$U$138,\"\")","v":""},{"$f":"+IF(AD62='Planting and management costs'!$J$17,MAX(Sum_results!$AB$53:$AB$93),\"\")","v":""},null,0.09,{"$f":"NPV(AI62,'Cash flow'!$U$11:$U$40)+'Cash flow'!$U$10","v":0},{"$f":"IFERROR(NPV(AI62,'Cash flow'!$U$54:$U$83)+'Cash flow'!$U$53,\"\")","v":""},null,0.09,{"$f":"NPV(AM62,'Cash flow'!$U$96:$U$125)+'Cash flow'!$U$95","v":0},{"$f":"IFERROR(NPV(AM62,'Cash flow'!$U$139:$U$168)+'Cash flow'!$U$138,\"\")","v":""}]
[null,null,null,null,null,null,null,null,null,null,null,null,null,null,null,null,null,null,null,null,null,null,null,null,null,0.1,{"$f":"NPV(Z63,'Cash flow'!$U$11:$U$40)+'Cash flow'!$U$10","v":0},{"$f":"IFERROR(NPV(Z63,'Cash flow'!$U$54:$U$83)+'Cash flow'!$U$53,\"\")","v":""},null,0.1,{"$f":"NPV(AD63,'Cash flow'!$U$96:$U$125)+'Cash flow'!$U$95","v":0},{"$f":"IFERROR(NPV(AD63,'Cash flow'!$U$139:$U$168)+'Cash flow'!$U$138,\"\")","v":""},{"$f":"+IF(AD63='Planting and management costs'!$J$17,MAX(Sum_results!$AB$53:$AB$93),\"\")","v":""},null,0.1,{"$f":"NPV(AI63,'Cash flow'!$U$11:$U$40)+'Cash flow'!$U$10","v":0},{"$f":"IFERROR(NPV(AI63,'Cash flow'!$U$54:$U$83)+'Cash flow'!$U$53,\"\")","v":""},null,0.1,{"$f":"NPV(AM63,'Cash flow'!$U$96:$U$125)+'Cash flow'!$U$95","v":0},{"$f":"IFERROR(NPV(AM63,'Cash flow'!$U$139:$U$168)+'Cash flow'!$U$138,\"\")","v":""}]
[null,null,null,null,null,null,null,null,null,null,null,null,null,null,null,null,null,null,null,null,null,null,null,null,null,0.11,{"$f":"NPV(Z64,'Cash flow'!$U$11:$U$40)+'Cash flow'!$U$10","v":0},{"$f":"IFERROR(NPV(Z64,'Cash flow'!$U$54:$U$83)+'Cash flow'!$U$53,\"\")","v":""},null,0.11,{"$f":"NPV(AD64,'Cash flow'!$U$96:$U$125)+'Cash flow'!$U$95","v":0},{"$f":"IFERROR(NPV(AD64,'Cash flow'!$U$139:$U$168)+'Cash flow'!$U$138,\"\")","v":""},{"$f":"+IF(AD64='Planting and management costs'!$J$17,MAX(Sum_results!$AB$53:$AB$93),\"\")","v":""},null,0.11,{"$f":"NPV(AI64,'Cash flow'!$U$11:$U$40)+'Cash flow'!$U$10","v":0},{"$f":"IFERROR(NPV(AI64,'Cash flow'!$U$54:$U$83)+'Cash flow'!$U$53,\"\")","v":""},null,0.11,{"$f":"NPV(AM64,'Cash flow'!$U$96:$U$125)+'Cash flow'!$U$95","v":0},{"$f":"IFERROR(NPV(AM64,'Cash flow'!$U$139:$U$168)+'Cash flow'!$U$138,\"\")","v":""}]
[null,null,null,null,null,null,null,null,null,null,null,null,null,null,null,null,null,null,null,null,null,null,null,null,null,0.12,{"$f":"NPV(Z65,'Cash flow'!$U$11:$U$40)+'Cash flow'!$U$10","v":0},{"$f":"IFERROR(NPV(Z65,'Cash flow'!$U$54:$U$83)+'Cash flow'!$U$53,\"\")","v":""},null,0.12,{"$f":"NPV(AD65,'Cash flow'!$U$96:$U$125)+'Cash flow'!$U$95","v":0},{"$f":"IFERROR(NPV(AD65,'Cash flow'!$U$139:$U$168)+'Cash flow'!$U$138,\"\")","v":""},null,null,0.12,{"$f":"NPV(AI65,'Cash flow'!$U$11:$U$40)+'Cash flow'!$U$10","v":0},{"$f":"IFERROR(NPV(AI65,'Cash flow'!$U$54:$U$83)+'Cash flow'!$U$53,\"\")","v":""},null,0.12,{"$f":"NPV(AM65,'Cash flow'!$U$96:$U$125)+'Cash flow'!$U$95","v":0},{"$f":"IFERROR(NPV(AM65,'Cash flow'!$U$139:$U$168)+'Cash flow'!$U$138,\"\")","v":""}]
[null,null,null,null,null,null,null,null,null,null,null,null,null,null,null,null,null,null,null,null,null,null,null,null,null,0.13,{"$f":"NPV(Z66,'Cash flow'!$U$11:$U$40)+'Cash flow'!$U$10","v":0},{"$f":"IFERROR(NPV(Z66,'Cash flow'!$U$54:$U$83)+'Cash flow'!$U$53,\"\")","v":""},null,0.13,{"$f":"NPV(AD66,'Cash flow'!$U$96:$U$125)+'Cash flow'!$U$95","v":0},{"$f":"IFERROR(NPV(AD66,'Cash flow'!$U$139:$U$168)+'Cash flow'!$U$138,\"\")","v":""},{"$f":"+IF(AD66='Planting and management costs'!$J$17,MAX(Sum_results!$AB$53:$AB$93),\"\")","v":""},null,0.13,{"$f":"NPV(AI66,'Cash flow'!$U$11:$U$40)+'Cash flow'!$U$10","v":0},{"$f":"IFERROR(NPV(AI66,'Cash flow'!$U$54:$U$83)+'Cash flow'!$U$53,\"\")","v":""},null,0.13,{"$f":"NPV(AM66,'Cash flow'!$U$96:$U$125)+'Cash flow'!$U$95","v":0},{"$f":"IFERROR(NPV(AM66,'Cash flow'!$U$139:$U$168)+'Cash flow'!$U$138,\"\")","v":""}]
[null,null,null,null,null,null,null,null,null,null,null,null,null,null,null,null,null,null,null,null,null,null,null,null,null,0.14000000000000001,{"$f":"NPV(Z67,'Cash flow'!$U$11:$U$40)+'Cash flow'!$U$10","v":0},{"$f":"IFERROR(NPV(Z67,'Cash flow'!$U$54:$U$83)+'Cash flow'!$U$53,\"\")","v":""},null,0.14000000000000001,{"$f":"NPV(AD67,'Cash flow'!$U$96:$U$125)+'Cash flow'!$U$95","v":0},{"$f":"IFERROR(NPV(AD67,'Cash flow'!$U$139:$U$168)+'Cash flow'!$U$138,\"\")","v":""},{"$f":"+IF(AD67='Planting and management costs'!$J$17,MAX(Sum_results!$AB$53:$AB$93),\"\")","v":""},null,0.14000000000000001,{"$f":"NPV(AI67,'Cash flow'!$U$11:$U$40)+'Cash flow'!$U$10","v":0},{"$f":"IFERROR(NPV(AI67,'Cash flow'!$U$54:$U$83)+'Cash flow'!$U$53,\"\")","v":""},null,0.14000000000000001,{"$f":"NPV(AM67,'Cash flow'!$U$96:$U$125)+'Cash flow'!$U$95","v":0},{"$f":"IFERROR(NPV(AM67,'Cash flow'!$U$139:$U$168)+'Cash flow'!$U$138,\"\")","v":""}]
[null,null,null,null,null,null,null,null,null,null,null,null,null,null,null,null,null,null,null,null,null,null,null,null,null,0.15,{"$f":"NPV(Z68,'Cash flow'!$U$11:$U$40)+'Cash flow'!$U$10","v":0},{"$f":"IFERROR(NPV(Z68,'Cash flow'!$U$54:$U$83)+'Cash flow'!$U$53,\"\")","v":""},null,0.15,{"$f":"NPV(AD68,'Cash flow'!$U$96:$U$125)+'Cash flow'!$U$95","v":0},{"$f":"IFERROR(NPV(AD68,'Cash flow'!$U$139:$U$168)+'Cash flow'!$U$138,\"\")","v":""},{"$f":"+IF(AD68='Planting and management costs'!$J$17,MAX(Sum_results!$AB$53:$AB$93),\"\")","v":""},null,0.15,{"$f":"NPV(AI68,'Cash flow'!$U$11:$U$40)+'Cash flow'!$U$10","v":0},{"$f":"IFERROR(NPV(AI68,'Cash flow'!$U$54:$U$83)+'Cash flow'!$U$53,\"\")","v":""},null,0.15,{"$f":"NPV(AM68,'Cash flow'!$U$96:$U$125)+'Cash flow'!$U$95","v":0},{"$f":"IFERROR(NPV(AM68,'Cash flow'!$U$139:$U$168)+'Cash flow'!$U$138,\"\")","v":""}]
[null,null,null,null,null,null,null,null,null,null,null,null,null,null,null,null,null,null,null,null,null,null,null,null,null,0.16,{"$f":"NPV(Z69,'Cash flow'!$U$11:$U$40)+'Cash flow'!$U$10","v":0},{"$f":"IFERROR(NPV(Z69,'Cash flow'!$U$54:$U$83)+'Cash flow'!$U$53,\"\")","v":""},null,0.16,{"$f":"NPV(AD69,'Cash flow'!$U$96:$U$125)+'Cash flow'!$U$95","v":0},{"$f":"IFERROR(NPV(AD69,'Cash flow'!$U$139:$U$168)+'Cash flow'!$U$138,\"\")","v":""},{"$f":"+IF(AD69='Planting and management costs'!$J$17,MAX(Sum_results!$AB$53:$AB$93),\"\")","v":""},null,0.16,{"$f":"NPV(AI69,'Cash flow'!$U$11:$U$40)+'Cash flow'!$U$10","v":0},{"$f":"IFERROR(NPV(AI69,'Cash flow'!$U$54:$U$83)+'Cash flow'!$U$53,\"\")","v":""},null,0.16,{"$f":"NPV(AM69,'Cash flow'!$U$96:$U$125)+'Cash flow'!$U$95","v":0},{"$f":"IFERROR(NPV(AM69,'Cash flow'!$U$139:$U$168)+'Cash flow'!$U$138,\"\")","v":""}]
[null,null,null,null,null,null,null,null,null,null,null,null,null,null,null,null,null,null,null,null,null,null,null,null,null,0.17,{"$f":"NPV(Z70,'Cash flow'!$U$11:$U$40)+'Cash flow'!$U$10","v":0},{"$f":"IFERROR(NPV(Z70,'Cash flow'!$U$54:$U$83)+'Cash flow'!$U$53,\"\")","v":""},null,0.17,{"$f":"NPV(AD70,'Cash flow'!$U$96:$U$125)+'Cash flow'!$U$95","v":0},{"$f":"IFERROR(NPV(AD70,'Cash flow'!$U$139:$U$168)+'Cash flow'!$U$138,\"\")","v":""},{"$f":"+IF(AD70='Planting and management costs'!$J$17,MAX(Sum_results!$AB$53:$AB$93),\"\")","v":""},null,0.17,{"$f":"NPV(AI70,'Cash flow'!$U$11:$U$40)+'Cash flow'!$U$10","v":0},{"$f":"IFERROR(NPV(AI70,'Cash flow'!$U$54:$U$83)+'Cash flow'!$U$53,\"\")","v":""},null,0.17,{"$f":"NPV(AM70,'Cash flow'!$U$96:$U$125)+'Cash flow'!$U$95","v":0},{"$f":"IFERROR(NPV(AM70,'Cash flow'!$U$139:$U$168)+'Cash flow'!$U$138,\"\")","v":""}]
[null,null,null,null,null,null,null,null,null,null,null,null,null,null,null,null,null,null,null,null,null,null,null,null,null,0.18,{"$f":"NPV(Z71,'Cash flow'!$U$11:$U$40)+'Cash flow'!$U$10","v":0},{"$f":"IFERROR(NPV(Z71,'Cash flow'!$U$54:$U$83)+'Cash flow'!$U$53,\"\")","v":""},null,0.18,{"$f":"NPV(AD71,'Cash flow'!$U$96:$U$125)+'Cash flow'!$U$95","v":0},{"$f":"IFERROR(NPV(AD71,'Cash flow'!$U$139:$U$168)+'Cash flow'!$U$138,\"\")","v":""},{"$f":"+IF(AD71='Planting and management costs'!$J$17,MAX(Sum_results!$AB$53:$AB$93),\"\")","v":""},null,0.18,{"$f":"NPV(AI71,'Cash flow'!$U$11:$U$40)+'Cash flow'!$U$10","v":0},{"$f":"IFERROR(NPV(AI71,'Cash flow'!$U$54:$U$83)+'Cash flow'!$U$53,\"\")","v":""},null,0.18,{"$f":"NPV(AM71,'Cash flow'!$U$96:$U$125)+'Cash flow'!$U$95","v":0},{"$f":"IFERROR(NPV(AM71,'Cash flow'!$U$139:$U$168)+'Cash flow'!$U$138,\"\")","v":""}]
[null,null,null,null,null,null,null,null,null,null,null,null,null,null,null,null,null,null,null,null,null,null,null,null,null,0.19,{"$f":"NPV(Z72,'Cash flow'!$U$11:$U$40)+'Cash flow'!$U$10","v":0},{"$f":"IFERROR(NPV(Z72,'Cash flow'!$U$54:$U$83)+'Cash flow'!$U$53,\"\")","v":""},null,0.19,{"$f":"NPV(AD72,'Cash flow'!$U$96:$U$125)+'Cash flow'!$U$95","v":0},{"$f":"IFERROR(NPV(AD72,'Cash flow'!$U$139:$U$168)+'Cash flow'!$U$138,\"\")","v":""},{"$f":"+IF(AD72='Planting and management costs'!$J$17,MAX(Sum_results!$AB$53:$AB$93),\"\")","v":""},null,0.19,{"$f":"NPV(AI72,'Cash flow'!$U$11:$U$40)+'Cash flow'!$U$10","v":0},{"$f":"IFERROR(NPV(AI72,'Cash flow'!$U$54:$U$83)+'Cash flow'!$U$53,\"\")","v":""},null,0.19,{"$f":"NPV(AM72,'Cash flow'!$U$96:$U$125)+'Cash flow'!$U$95","v":0},{"$f":"IFERROR(NPV(AM72,'Cash flow'!$U$139:$U$168)+'Cash flow'!$U$138,\"\")","v":""}]
[null,null,null,null,null,null,null,null,null,null,null,null,null,null,null,null,null,null,null,null,null,null,null,null,null,0.2,{"$f":"NPV(Z73,'Cash flow'!$U$11:$U$40)+'Cash flow'!$U$10","v":0},{"$f":"IFERROR(NPV(Z73,'Cash flow'!$U$54:$U$83)+'Cash flow'!$U$53,\"\")","v":""},null,0.2,{"$f":"NPV(AD73,'Cash flow'!$U$96:$U$125)+'Cash flow'!$U$95","v":0},{"$f":"IFERROR(NPV(AD73,'Cash flow'!$U$139:$U$168)+'Cash flow'!$U$138,\"\")","v":""},{"$f":"+IF(AD73='Planting and management costs'!$J$17,MAX(Sum_results!$AB$53:$AB$93),\"\")","v":""},null,0.2,{"$f":"NPV(AI73,'Cash flow'!$U$11:$U$40)+'Cash flow'!$U$10","v":0},{"$f":"IFERROR(NPV(AI73,'Cash flow'!$U$54:$U$83)+'Cash flow'!$U$53,\"\")","v":""},null,0.2,{"$f":"NPV(AM73,'Cash flow'!$U$96:$U$125)+'Cash flow'!$U$95","v":0},{"$f":"IFERROR(NPV(AM73,'Cash flow'!$U$139:$U$168)+'Cash flow'!$U$138,\"\")","v":""}]
[null,null,null,null,null,null,null,null,null,null,null,null,null,null,null,null,null,null,null,null,null,null,null,null,null,0.21,{"$f":"NPV(Z74,'Cash flow'!$U$11:$U$40)+'Cash flow'!$U$10","v":0},{"$f":"IFERROR(NPV(Z74,'Cash flow'!$U$54:$U$83)+'Cash flow'!$U$53,\"\")","v":""},null,0.21,{"$f":"NPV(AD74,'Cash flow'!$U$96:$U$125)+'Cash flow'!$U$95","v":0},{"$f":"IFERROR(NPV(AD74,'Cash flow'!$U$139:$U$168)+'Cash flow'!$U$138,\"\")","v":""},{"$f":"+IF(AD74='Planting and management costs'!$J$17,MAX(Sum_results!$AB$53:$AB$93),\"\")","v":""},null,0.21,{"$f":"NPV(AI74,'Cash flow'!$U$11:$U$40)+'Cash flow'!$U$10","v":0},{"$f":"IFERROR(NPV(AI74,'Cash flow'!$U$54:$U$83)+'Cash flow'!$U$53,\"\")","v":""},null,0.21,{"$f":"NPV(AM74,'Cash flow'!$U$96:$U$125)+'Cash flow'!$U$95","v":0},{"$f":"IFERROR(NPV(AM74,'Cash flow'!$U$139:$U$168)+'Cash flow'!$U$138,\"\")","v":""}]
[null,null,null,null,null,null,null,null,null,null,null,null,null,null,null,null,null,null,null,null,null,null,null,null,null,0.22,{"$f":"NPV(Z75,'Cash flow'!$U$11:$U$40)+'Cash flow'!$U$10","v":0},{"$f":"IFERROR(NPV(Z75,'Cash flow'!$U$54:$U$83)+'Cash flow'!$U$53,\"\")","v":""},null,0.22,{"$f":"NPV(AD75,'Cash flow'!$U$96:$U$125)+'Cash flow'!$U$95","v":0},{"$f":"IFERROR(NPV(AD75,'Cash flow'!$U$139:$U$168)+'Cash flow'!$U$138,\"\")","v":""},{"$f":"+IF(AD75='Planting and management costs'!$J$17,MAX(Sum_results!$AB$53:$AB$93),\"\")","v":""},null,0.22,{"$f":"NPV(AI75,'Cash flow'!$U$11:$U$40)+'Cash flow'!$U$10","v":0},{"$f":"IFERROR(NPV(AI75,'Cash flow'!$U$54:$U$83)+'Cash flow'!$U$53,\"\")","v":""},null,0.22,{"$f":"NPV(AM75,'Cash flow'!$U$96:$U$125)+'Cash flow'!$U$95","v":0},{"$f":"IFERROR(NPV(AM75,'Cash flow'!$U$139:$U$168)+'Cash flow'!$U$138,\"\")","v":""}]
[null,null,null,null,null,null,null,null,null,null,null,null,null,null,null,null,null,null,null,null,null,null,null,null,null,0.23,{"$f":"NPV(Z76,'Cash flow'!$U$11:$U$40)+'Cash flow'!$U$10","v":0},{"$f":"IFERROR(NPV(Z76,'Cash flow'!$U$54:$U$83)+'Cash flow'!$U$53,\"\")","v":""},null,0.23,{"$f":"NPV(AD76,'Cash flow'!$U$96:$U$125)+'Cash flow'!$U$95","v":0},{"$f":"IFERROR(NPV(AD76,'Cash flow'!$U$139:$U$168)+'Cash flow'!$U$138,\"\")","v":""},{"$f":"+IF(AD76='Planting and management costs'!$J$17,MAX(Sum_results!$AB$53:$AB$93),\"\")","v":""},null,0.23,{"$f":"NPV(AI76,'Cash flow'!$U$11:$U$40)+'Cash flow'!$U$10","v":0},{"$f":"IFERROR(NPV(AI76,'Cash flow'!$U$54:$U$83)+'Cash flow'!$U$53,\"\")","v":""},null,0.23,{"$f":"NPV(AM76,'Cash flow'!$U$96:$U$125)+'Cash flow'!$U$95","v":0},{"$f":"IFERROR(NPV(AM76,'Cash flow'!$U$139:$U$168)+'Cash flow'!$U$138,\"\")","v":""}]
[null,null,null,null,null,null,null,null,null,null,null,null,null,null,null,null,null,null,null,null,null,null,null,null,null,0.24,{"$f":"NPV(Z77,'Cash flow'!$U$11:$U$40)+'Cash flow'!$U$10","v":0},{"$f":"IFERROR(NPV(Z77,'Cash flow'!$U$54:$U$83)+'Cash flow'!$U$53,\"\")","v":""},null,0.24,{"$f":"NPV(AD77,'Cash flow'!$U$96:$U$125)+'Cash flow'!$U$95","v":0},{"$f":"IFERROR(NPV(AD77,'Cash flow'!$U$139:$U$168)+'Cash flow'!$U$138,\"\")","v":""},{"$f":"+IF(AD77='Planting and management costs'!$J$17,MAX(Sum_results!$AB$53:$AB$93),\"\")","v":""},null,0.24,{"$f":"NPV(AI77,'Cash flow'!$U$11:$U$40)+'Cash flow'!$U$10","v":0},{"$f":"IFERROR(NPV(AI77,'Cash flow'!$U$54:$U$83)+'Cash flow'!$U$53,\"\")","v":""},null,0.24,{"$f":"NPV(AM77,'Cash flow'!$U$96:$U$125)+'Cash flow'!$U$95","v":0},{"$f":"IFERROR(NPV(AM77,'Cash flow'!$U$139:$U$168)+'Cash flow'!$U$138,\"\")","v":""}]
[null,null,null,null,null,null,null,null,null,null,null,null,null,null,null,null,null,null,null,null,null,null,null,null,null,0.25,{"$f":"NPV(Z78,'Cash flow'!$U$11:$U$40)+'Cash flow'!$U$10","v":0},{"$f":"IFERROR(NPV(Z78,'Cash flow'!$U$54:$U$83)+'Cash flow'!$U$53,\"\")","v":""},null,0.25,{"$f":"NPV(AD78,'Cash flow'!$U$96:$U$125)+'Cash flow'!$U$95","v":0},{"$f":"IFERROR(NPV(AD78,'Cash flow'!$U$139:$U$168)+'Cash flow'!$U$138,\"\")","v":""},{"$f":"+IF(AD78='Planting and management costs'!$J$17,MAX(Sum_results!$AB$53:$AB$93),\"\")","v":""},null,0.25,{"$f":"NPV(AI78,'Cash flow'!$U$11:$U$40)+'Cash flow'!$U$10","v":0},{"$f":"IFERROR(NPV(AI78,'Cash flow'!$U$54:$U$83)+'Cash flow'!$U$53,\"\")","v":""},null,0.25,{"$f":"NPV(AM78,'Cash flow'!$U$96:$U$125)+'Cash flow'!$U$95","v":0},{"$f":"IFERROR(NPV(AM78,'Cash flow'!$U$139:$U$168)+'Cash flow'!$U$138,\"\")","v":""}]
[null,null,null,null,null,null,null,null,null,null,null,null,null,null,null,null,null,null,null,null,null,null,null,null,null,0.26,{"$f":"NPV(Z79,'Cash flow'!$U$11:$U$40)+'Cash flow'!$U$10","v":0},{"$f":"IFERROR(NPV(Z79,'Cash flow'!$U$54:$U$83)+'Cash flow'!$U$53,\"\")","v":""},null,0.26,{"$f":"NPV(AD79,'Cash flow'!$U$96:$U$125)+'Cash flow'!$U$95","v":0},{"$f":"IFERROR(NPV(AD79,'Cash flow'!$U$139:$U$168)+'Cash flow'!$U$138,\"\")","v":""},{"$f":"+IF(AD79='Planting and management costs'!$J$17,MAX(Sum_results!$AB$53:$AB$93),\"\")","v":""},null,0.26,{"$f":"NPV(AI79,'Cash flow'!$U$11:$U$40)+'Cash flow'!$U$10","v":0},{"$f":"IFERROR(NPV(AI79,'Cash flow'!$U$54:$U$83)+'Cash flow'!$U$53,\"\")","v":""},null,0.26,{"$f":"NPV(AM79,'Cash flow'!$U$96:$U$125)+'Cash flow'!$U$95","v":0},{"$f":"IFERROR(NPV(AM79,'Cash flow'!$U$139:$U$168)+'Cash flow'!$U$138,\"\")","v":""}]
[null,null,null,null,null,null,null,null,null,null,null,null,null,null,null,null,null,null,null,null,null,null,null,null,null,0.27,{"$f":"NPV(Z80,'Cash flow'!$U$11:$U$40)+'Cash flow'!$U$10","v":0},{"$f":"IFERROR(NPV(Z80,'Cash flow'!$U$54:$U$83)+'Cash flow'!$U$53,\"\")","v":""},null,0.27,{"$f":"NPV(AD80,'Cash flow'!$U$96:$U$125)+'Cash flow'!$U$95","v":0},{"$f":"IFERROR(NPV(AD80,'Cash flow'!$U$139:$U$168)+'Cash flow'!$U$138,\"\")","v":""},{"$f":"+IF(AD80='Planting and management costs'!$J$17,MAX(Sum_results!$AB$53:$AB$93),\"\")","v":""},null,0.27,{"$f":"NPV(AI80,'Cash flow'!$U$11:$U$40)+'Cash flow'!$U$10","v":0},{"$f":"IFERROR(NPV(AI80,'Cash flow'!$U$54:$U$83)+'Cash flow'!$U$53,\"\")","v":""},null,0.27,{"$f":"NPV(AM80,'Cash flow'!$U$96:$U$125)+'Cash flow'!$U$95","v":0},{"$f":"IFERROR(NPV(AM80,'Cash flow'!$U$139:$U$168)+'Cash flow'!$U$138,\"\")","v":""}]
[null,null,null,null,null,null,null,null,null,null,null,null,null,null,null,null,null,null,null,null,null,null,null,null,null,0.28000000000000003,{"$f":"NPV(Z81,'Cash flow'!$U$11:$U$40)+'Cash flow'!$U$10","v":0},{"$f":"IFERROR(NPV(Z81,'Cash flow'!$U$54:$U$83)+'Cash flow'!$U$53,\"\")","v":""},null,0.28000000000000003,{"$f":"NPV(AD81,'Cash flow'!$U$96:$U$125)+'Cash flow'!$U$95","v":0},{"$f":"IFERROR(NPV(AD81,'Cash flow'!$U$139:$U$168)+'Cash flow'!$U$138,\"\")","v":""},{"$f":"+IF(AD81='Planting and management costs'!$J$17,MAX(Sum_results!$AB$53:$AB$93),\"\")","v":""},null,0.28000000000000003,{"$f":"NPV(AI81,'Cash flow'!$U$11:$U$40)+'Cash flow'!$U$10","v":0},{"$f":"IFERROR(NPV(AI81,'Cash flow'!$U$54:$U$83)+'Cash flow'!$U$53,\"\")","v":""},null,0.28000000000000003,{"$f":"NPV(AM81,'Cash flow'!$U$96:$U$125)+'Cash flow'!$U$95","v":0},{"$f":"IFERROR(NPV(AM81,'Cash flow'!$U$139:$U$168)+'Cash flow'!$U$138,\"\")","v":""}]
[null,null,{"$f":"title155","v":"Species 2 selected:"},null,{"$f":"IF(Selection!$H$14=title152,Selection!$H$16,Selection!$H$14)","v":"Select species"},null,null,null,{"$f":"title228","v":"based on user-defined values"},null,null,null,null,null,null,null,null,null,null,null,null,null,null,null,null,0.28999999999999998,{"$f":"NPV(Z82,'Cash flow'!$U$11:$U$40)+'Cash flow'!$U$10","v":0},{"$f":"IFERROR(NPV(Z82,'Cash flow'!$U$54:$U$83)+'Cash flow'!$U$53,\"\")","v":""},null,0.28999999999999998,{"$f":"NPV(AD82,'Cash flow'!$U$96:$U$125)+'Cash flow'!$U$95","v":0},{"$f":"IFERROR(NPV(AD82,'Cash flow'!$U$139:$U$168)+'Cash flow'!$U$138,\"\")","v":""},{"$f":"+IF(AD82='Planting and management costs'!$J$17,MAX(Sum_results!$AB$53:$AB$93),\"\")","v":""},null,0.28999999999999998,{"$f":"NPV(AI82,'Cash flow'!$U$11:$U$40)+'Cash flow'!$U$10","v":0},{"$f":"IFERROR(NPV(AI82,'Cash flow'!$U$54:$U$83)+'Cash flow'!$U$53,\"\")","v":""},null,0.28999999999999998,{"$f":"NPV(AM82,'Cash flow'!$U$96:$U$125)+'Cash flow'!$U$95","v":0},{"$f":"IFERROR(NPV(AM82,'Cash flow'!$U$139:$U$168)+'Cash flow'!$U$138,\"\")","v":""}]
[null,null,null,null,null,null,null,null,null,null,null,null,null,null,null,null,null,null,null,null,null,null,null,null,null,0.3,{"$f":"NPV(Z83,'Cash flow'!$U$11:$U$40)+'Cash flow'!$U$10","v":0},{"$f":"IFERROR(NPV(Z83,'Cash flow'!$U$54:$U$83)+'Cash flow'!$U$53,\"\")","v":""},null,0.3,{"$f":"NPV(AD83,'Cash flow'!$U$96:$U$125)+'Cash flow'!$U$95","v":0},{"$f":"IFERROR(NPV(AD83,'Cash flow'!$U$139:$U$168)+'Cash flow'!$U$138,\"\")","v":""},{"$f":"+IF(AD83='Planting and management costs'!$J$17,MAX(Sum_results!$AB$53:$AB$93),\"\")","v":""},null,0.3,{"$f":"NPV(AI83,'Cash flow'!$U$11:$U$40)+'Cash flow'!$U$10","v":0},{"$f":"IFERROR(NPV(AI83,'Cash flow'!$U$54:$U$83)+'Cash flow'!$U$53,\"\")","v":""},null,0.3,{"$f":"NPV(AM83,'Cash flow'!$U$96:$U$125)+'Cash flow'!$U$95","v":0},{"$f":"IFERROR(NPV(AM83,'Cash flow'!$U$139:$U$168)+'Cash flow'!$U$138,\"\")","v":""}]
[null,null,null,null,null,null,null,null,null,null,null,null,null,null,null,null,null,null,null,null,null,null,null,null,null,0.31,{"$f":"NPV(Z84,'Cash flow'!$U$11:$U$40)+'Cash flow'!$U$10","v":0},{"$f":"IFERROR(NPV(Z84,'Cash flow'!$U$54:$U$83)+'Cash flow'!$U$53,\"\")","v":""},null,0.31,{"$f":"NPV(AD84,'Cash flow'!$U$96:$U$125)+'Cash flow'!$U$95","v":0},{"$f":"IFERROR(NPV(AD84,'Cash flow'!$U$139:$U$168)+'Cash flow'!$U$138,\"\")","v":""},{"$f":"+IF(AD84='Planting and management costs'!$J$17,MAX(Sum_results!$AB$53:$AB$93),\"\")","v":""},null,0.31,{"$f":"NPV(AI84,'Cash flow'!$U$11:$U$40)+'Cash flow'!$U$10","v":0},{"$f":"IFERROR(NPV(AI84,'Cash flow'!$U$54:$U$83)+'Cash flow'!$U$53,\"\")","v":""},null,0.31,{"$f":"NPV(AM84,'Cash flow'!$U$96:$U$125)+'Cash flow'!$U$95","v":0},{"$f":"IFERROR(NPV(AM84,'Cash flow'!$U$139:$U$168)+'Cash flow'!$U$138,\"\")","v":""}]
[null,null,null,null,null,null,null,null,null,null,null,null,null,null,null,null,null,null,null,null,null,null,null,null,null,0.32,{"$f":"NPV(Z85,'Cash flow'!$U$11:$U$40)+'Cash flow'!$U$10","v":0},{"$f":"IFERROR(NPV(Z85,'Cash flow'!$U$54:$U$83)+'Cash flow'!$U$53,\"\")","v":""},null,0.32,{"$f":"NPV(AD85,'Cash flow'!$U$96:$U$125)+'Cash flow'!$U$95","v":0},{"$f":"IFERROR(NPV(AD85,'Cash flow'!$U$139:$U$168)+'Cash flow'!$U$138,\"\")","v":""},{"$f":"+IF(AD85='Planting and management costs'!$J$17,MAX(Sum_results!$AB$53:$AB$93),\"\")","v":""},null,0.32,{"$f":"NPV(AI85,'Cash flow'!$U$11:$U$40)+'Cash flow'!$U$10","v":0},{"$f":"IFERROR(NPV(AI85,'Cash flow'!$U$54:$U$83)+'Cash flow'!$U$53,\"\")","v":""},null,0.32,{"$f":"NPV(AM85,'Cash flow'!$U$96:$U$125)+'Cash flow'!$U$95","v":0},{"$f":"IFERROR(NPV(AM85,'Cash flow'!$U$139:$U$168)+'Cash flow'!$U$138,\"\")","v":""}]
[null,null,null,null,null,null,null,null,null,null,null,null,null,null,null,null,null,null,null,null,null,null,null,null,null,0.33,{"$f":"NPV(Z86,'Cash flow'!$U$11:$U$40)+'Cash flow'!$U$10","v":0},{"$f":"IFERROR(NPV(Z86,'Cash flow'!$U$54:$U$83)+'Cash flow'!$U$53,\"\")","v":""},null,0.33,{"$f":"NPV(AD86,'Cash flow'!$U$96:$U$125)+'Cash flow'!$U$95","v":0},{"$f":"IFERROR(NPV(AD86,'Cash flow'!$U$139:$U$168)+'Cash flow'!$U$138,\"\")","v":""},{"$f":"+IF(AD86='Planting and management costs'!$J$17,MAX(Sum_results!$AB$53:$AB$93),\"\")","v":""},null,0.33,{"$f":"NPV(AI86,'Cash flow'!$U$11:$U$40)+'Cash flow'!$U$10","v":0},{"$f":"IFERROR(NPV(AI86,'Cash flow'!$U$54:$U$83)+'Cash flow'!$U$53,\"\")","v":""},null,0.33,{"$f":"NPV(AM86,'Cash flow'!$U$96:$U$125)+'Cash flow'!$U$95","v":0},{"$f":"IFERROR(NPV(AM86,'Cash flow'!$U$139:$U$168)+'Cash flow'!$U$138,\"\")","v":""}]
[null,null,null,null,null,null,null,null,null,null,null,null,null,null,null,null,null,null,null,null,null,null,null,null,null,0.34,{"$f":"NPV(Z87,'Cash flow'!$U$11:$U$40)+'Cash flow'!$U$10","v":0},{"$f":"IFERROR(NPV(Z87,'Cash flow'!$U$54:$U$83)+'Cash flow'!$U$53,\"\")","v":""},null,0.34,{"$f":"NPV(AD87,'Cash flow'!$U$96:$U$125)+'Cash flow'!$U$95","v":0},{"$f":"IFERROR(NPV(AD87,'Cash flow'!$U$139:$U$168)+'Cash flow'!$U$138,\"\")","v":""},{"$f":"+IF(AD87='Planting and management costs'!$J$17,MAX(Sum_results!$AB$53:$AB$93),\"\")","v":""},null,0.34,{"$f":"NPV(AI87,'Cash flow'!$U$11:$U$40)+'Cash flow'!$U$10","v":0},{"$f":"IFERROR(NPV(AI87,'Cash flow'!$U$54:$U$83)+'Cash flow'!$U$53,\"\")","v":""},null,0.34,{"$f":"NPV(AM87,'Cash flow'!$U$96:$U$125)+'Cash flow'!$U$95","v":0},{"$f":"IFERROR(NPV(AM87,'Cash flow'!$U$139:$U$168)+'Cash flow'!$U$138,\"\")","v":""}]
[null,null,null,null,null,null,null,null,null,null,null,null,null,null,null,null,null,null,null,null,null,null,null,null,null,0.35,{"$f":"NPV(Z88,'Cash flow'!$U$11:$U$40)+'Cash flow'!$U$10","v":0},{"$f":"IFERROR(NPV(Z88,'Cash flow'!$U$54:$U$83)+'Cash flow'!$U$53,\"\")","v":""},null,0.35,{"$f":"NPV(AD88,'Cash flow'!$U$96:$U$125)+'Cash flow'!$U$95","v":0},{"$f":"IFERROR(NPV(AD88,'Cash flow'!$U$139:$U$168)+'Cash flow'!$U$138,\"\")","v":""},{"$f":"+IF(AD88='Planting and management costs'!$J$17,MAX(Sum_results!$AB$53:$AB$93),\"\")","v":""},null,0.35,{"$f":"NPV(AI88,'Cash flow'!$U$11:$U$40)+'Cash flow'!$U$10","v":0},{"$f":"IFERROR(NPV(AI88,'Cash flow'!$U$54:$U$83)+'Cash flow'!$U$53,\"\")","v":""},null,0.35,{"$f":"NPV(AM88,'Cash flow'!$U$96:$U$125)+'Cash flow'!$U$95","v":0},{"$f":"IFERROR(NPV(AM88,'Cash flow'!$U$139:$U$168)+'Cash flow'!$U$138,\"\")","v":""}]
[null,null,null,null,null,null,null,null,null,null,null,null,null,null,null,null,null,null,null,null,null,null,null,null,null,0.36,{"$f":"NPV(Z89,'Cash flow'!$U$11:$U$40)+'Cash flow'!$U$10","v":0},{"$f":"IFERROR(NPV(Z89,'Cash flow'!$U$54:$U$83)+'Cash flow'!$U$53,\"\")","v":""},null,0.36,{"$f":"NPV(AD89,'Cash flow'!$U$96:$U$125)+'Cash flow'!$U$95","v":0},{"$f":"IFERROR(NPV(AD89,'Cash flow'!$U$139:$U$168)+'Cash flow'!$U$138,\"\")","v":""},{"$f":"+IF(AD89='Planting and management costs'!$J$17,MAX(Sum_results!$AB$53:$AB$93),\"\")","v":""},null,0.36,{"$f":"NPV(AI89,'Cash flow'!$U$11:$U$40)+'Cash flow'!$U$10","v":0},{"$f":"IFERROR(NPV(AI89,'Cash flow'!$U$54:$U$83)+'Cash flow'!$U$53,\"\")","v":""},null,0.36,{"$f":"NPV(AM89,'Cash flow'!$U$96:$U$125)+'Cash flow'!$U$95","v":0},{"$f":"IFERROR(NPV(AM89,'Cash flow'!$U$139:$U$168)+'Cash flow'!$U$138,\"\")","v":""}]
[null,null,null,null,null,null,null,null,null,null,null,null,null,null,null,null,null,null,null,null,null,null,null,null,null,0.37,{"$f":"NPV(Z90,'Cash flow'!$U$11:$U$40)+'Cash flow'!$U$10","v":0},{"$f":"IFERROR(NPV(Z90,'Cash flow'!$U$54:$U$83)+'Cash flow'!$U$53,\"\")","v":""},null,0.37,{"$f":"NPV(AD90,'Cash flow'!$U$96:$U$125)+'Cash flow'!$U$95","v":0},{"$f":"IFERROR(NPV(AD90,'Cash flow'!$U$139:$U$168)+'Cash flow'!$U$138,\"\")","v":""},{"$f":"+IF(AD90='Planting and management costs'!$J$17,MAX(Sum_results!$AB$53:$AB$93),\"\")","v":""},null,0.37,{"$f":"NPV(AI90,'Cash flow'!$U$11:$U$40)+'Cash flow'!$U$10","v":0},{"$f":"IFERROR(NPV(AI90,'Cash flow'!$U$54:$U$83)+'Cash flow'!$U$53,\"\")","v":""},null,0.37,{"$f":"NPV(AM90,'Cash flow'!$U$96:$U$125)+'Cash flow'!$U$95","v":0},{"$f":"IFERROR(NPV(AM90,'Cash flow'!$U$139:$U$168)+'Cash flow'!$U$138,\"\")","v":""}]
[null,null,null,null,null,null,null,null,null,null,null,null,null,null,null,null,null,null,null,null,null,null,null,null,null,0.38,{"$f":"NPV(Z91,'Cash flow'!$U$11:$U$40)+'Cash flow'!$U$10","v":0},{"$f":"IFERROR(NPV(Z91,'Cash flow'!$U$54:$U$83)+'Cash flow'!$U$53,\"\")","v":""},null,0.38,{"$f":"NPV(AD91,'Cash flow'!$U$96:$U$125)+'Cash flow'!$U$95","v":0},{"$f":"IFERROR(NPV(AD91,'Cash flow'!$U$139:$U$168)+'Cash flow'!$U$138,\"\")","v":""},{"$f":"+IF(AD91='Planting and management costs'!$J$17,MAX(Sum_results!$AB$53:$AB$93),\"\")","v":""},null,0.38,{"$f":"NPV(AI91,'Cash flow'!$U$11:$U$40)+'Cash flow'!$U$10","v":0},{"$f":"IFERROR(NPV(AI91,'Cash flow'!$U$54:$U$83)+'Cash flow'!$U$53,\"\")","v":""},null,0.38,{"$f":"NPV(AM91,'Cash flow'!$U$96:$U$125)+'Cash flow'!$U$95","v":0},{"$f":"IFERROR(NPV(AM91,'Cash flow'!$U$139:$U$168)+'Cash flow'!$U$138,\"\")","v":""}]
[null,null,null,null,null,null,null,null,null,null,null,null,null,null,null,null,null,null,null,null,null,null,null,null,null,0.39,{"$f":"NPV(Z92,'Cash flow'!$U$11:$U$40)+'Cash flow'!$U$10","v":0},{"$f":"IFERROR(NPV(Z92,'Cash flow'!$U$54:$U$83)+'Cash flow'!$U$53,\"\")","v":""},null,0.39,{"$f":"NPV(AD92,'Cash flow'!$U$96:$U$125)+'Cash flow'!$U$95","v":0},{"$f":"IFERROR(NPV(AD92,'Cash flow'!$U$139:$U$168)+'Cash flow'!$U$138,\"\")","v":""},{"$f":"+IF(AD92='Planting and management costs'!$J$17,MAX(Sum_results!$AB$53:$AB$93),\"\")","v":""},null,0.39,{"$f":"NPV(AI92,'Cash flow'!$U$11:$U$40)+'Cash flow'!$U$10","v":0},{"$f":"IFERROR(NPV(AI92,'Cash flow'!$U$54:$U$83)+'Cash flow'!$U$53,\"\")","v":""},null,0.39,{"$f":"NPV(AM92,'Cash flow'!$U$96:$U$125)+'Cash flow'!$U$95","v":0},{"$f":"IFERROR(NPV(AM92,'Cash flow'!$U$139:$U$168)+'Cash flow'!$U$138,\"\")","v":""}]
[null,null,null,null,null,null,null,null,null,null,null,null,null,null,null,null,null,null,null,null,null,null,null,null,null,0.4,{"$f":"NPV(Z93,'Cash flow'!$U$11:$U$40)+'Cash flow'!$U$10","v":0},{"$f":"IFERROR(NPV(Z93,'Cash flow'!$U$54:$U$83)+'Cash flow'!$U$53,\"\")","v":""},null,0.4,{"$f":"NPV(AD93,'Cash flow'!$U$96:$U$125)+'Cash flow'!$U$95","v":0},{"$f":"IFERROR(NPV(AD93,'Cash flow'!$U$139:$U$168)+'Cash flow'!$U$138,\"\")","v":""},{"$f":"+IF(AD93='Planting and management costs'!$J$17,MAX(Sum_results!$AB$53:$AB$93),\"\")","v":""},null,0.4,{"$f":"NPV(AI93,'Cash flow'!$U$11:$U$40)+'Cash flow'!$U$10","v":0},{"$f":"IFERROR(NPV(AI93,'Cash flow'!$U$54:$U$83)+'Cash flow'!$U$53,\"\")","v":""},null,0.4,{"$f":"NPV(AM93,'Cash flow'!$U$96:$U$125)+'Cash flow'!$U$95","v":0},{"$f":"IFERROR(NPV(AM93,'Cash flow'!$U$139:$U$168)+'Cash flow'!$U$138,\"\")","v":""}]
[null,null,null,null,null,null,null,null,null,null,null,null,null,null,null,null,null,null,null,null,null,null,null,null,null,0.41,{"$f":"NPV(Z94,'Cash flow'!$U$11:$U$40)+'Cash flow'!$U$10","v":0},{"$f":"IFERROR(NPV(Z94,'Cash flow'!$U$54:$U$83)+'Cash flow'!$U$53,\"\")","v":""},null,0.41,{"$f":"NPV(AD94,'Cash flow'!$U$96:$U$125)+'Cash flow'!$U$95","v":0},{"$f":"IFERROR(NPV(AD94,'Cash flow'!$U$139:$U$168)+'Cash flow'!$U$138,\"\")","v":""},{"$f":"+IF(AD94='Planting and management costs'!$J$17,MAX(Sum_results!$AB$53:$AB$93),\"\")","v":""},null,0.41,{"$f":"NPV(AI94,'Cash flow'!$U$11:$U$40)+'Cash flow'!$U$10","v":0},{"$f":"IFERROR(NPV(AI94,'Cash flow'!$U$54:$U$83)+'Cash flow'!$U$53,\"\")","v":""},null,0.41,{"$f":"NPV(AM94,'Cash flow'!$U$96:$U$125)+'Cash flow'!$U$95","v":0},{"$f":"IFERROR(NPV(AM94,'Cash flow'!$U$139:$U$168)+'Cash flow'!$U$138,\"\")","v":""}]
[null,null,null,null,null,null,null,null,null,null,null,null,null,null,null,null,null,null,null,null,null,null,null,null,null,0.42,{"$f":"NPV(Z95,'Cash flow'!$U$11:$U$40)+'Cash flow'!$U$10","v":0},{"$f":"IFERROR(NPV(Z95,'Cash flow'!$U$54:$U$83)+'Cash flow'!$U$53,\"\")","v":""},null,0.42,{"$f":"NPV(AD95,'Cash flow'!$U$96:$U$125)+'Cash flow'!$U$95","v":0},{"$f":"IFERROR(NPV(AD95,'Cash flow'!$U$139:$U$168)+'Cash flow'!$U$138,\"\")","v":""},{"$f":"+IF(AD95='Planting and management costs'!$J$17,MAX(Sum_results!$AB$53:$AB$93),\"\")","v":""},null,0.42,{"$f":"NPV(AI95,'Cash flow'!$U$11:$U$40)+'Cash flow'!$U$10","v":0},{"$f":"IFERROR(NPV(AI95,'Cash flow'!$U$54:$U$83)+'Cash flow'!$U$53,\"\")","v":""},null,0.42,{"$f":"NPV(AM95,'Cash flow'!$U$96:$U$125)+'Cash flow'!$U$95","v":0},{"$f":"IFERROR(NPV(AM95,'Cash flow'!$U$139:$U$168)+'Cash flow'!$U$138,\"\")","v":""}]
[null,null,null,null,null,null,null,null,null,null,null,null,null,null,null,null,null,null,null,null,null,null,null,null,null,0.43,{"$f":"NPV(Z96,'Cash flow'!$U$11:$U$40)+'Cash flow'!$U$10","v":0},{"$f":"IFERROR(NPV(Z96,'Cash flow'!$U$54:$U$83)+'Cash flow'!$U$53,\"\")","v":""},null,0.43,{"$f":"NPV(AD96,'Cash flow'!$U$96:$U$125)+'Cash flow'!$U$95","v":0},{"$f":"IFERROR(NPV(AD96,'Cash flow'!$U$139:$U$168)+'Cash flow'!$U$138,\"\")","v":""},{"$f":"+IF(AD96='Planting and management costs'!$J$17,MAX(Sum_results!$AB$53:$AB$93),\"\")","v":""},null,0.43,{"$f":"NPV(AI96,'Cash flow'!$U$11:$U$40)+'Cash flow'!$U$10","v":0},{"$f":"IFERROR(NPV(AI96,'Cash flow'!$U$54:$U$83)+'Cash flow'!$U$53,\"\")","v":""},null,0.43,{"$f":"NPV(AM96,'Cash flow'!$U$96:$U$125)+'Cash flow'!$U$95","v":0},{"$f":"IFERROR(NPV(AM96,'Cash flow'!$U$139:$U$168)+'Cash flow'!$U$138,\"\")","v":""}]
[null,null,null,null,null,null,null,null,null,null,null,null,null,null,null,null,null,null,null,null,null,null,null,null,null,0.44,{"$f":"NPV(Z97,'Cash flow'!$U$11:$U$40)+'Cash flow'!$U$10","v":0},{"$f":"IFERROR(NPV(Z97,'Cash flow'!$U$54:$U$83)+'Cash flow'!$U$53,\"\")","v":""},null,0.44,{"$f":"NPV(AD97,'Cash flow'!$U$96:$U$125)+'Cash flow'!$U$95","v":0},{"$f":"IFERROR(NPV(AD97,'Cash flow'!$U$139:$U$168)+'Cash flow'!$U$138,\"\")","v":""},{"$f":"+IF(AD97='Planting and management costs'!$J$17,MAX(Sum_results!$AB$53:$AB$93),\"\")","v":""},null,0.44,{"$f":"NPV(AI97,'Cash flow'!$U$11:$U$40)+'Cash flow'!$U$10","v":0},{"$f":"IFERROR(NPV(AI97,'Cash flow'!$U$54:$U$83)+'Cash flow'!$U$53,\"\")","v":""},null,0.44,{"$f":"NPV(AM97,'Cash flow'!$U$96:$U$125)+'Cash flow'!$U$95","v":0},{"$f":"IFERROR(NPV(AM97,'Cash flow'!$U$139:$U$168)+'Cash flow'!$U$138,\"\")","v":""}]
[null,null,null,null,null,null,null,null,null,null,null,null,null,null,null,null,null,null,null,null,null,null,null,null,null,0.45,{"$f":"NPV(Z98,'Cash flow'!$U$11:$U$40)+'Cash flow'!$U$10","v":0},{"$f":"IFERROR(NPV(Z98,'Cash flow'!$U$54:$U$83)+'Cash flow'!$U$53,\"\")","v":""},null,0.45,{"$f":"NPV(AD98,'Cash flow'!$U$96:$U$125)+'Cash flow'!$U$95","v":0},{"$f":"IFERROR(NPV(AD98,'Cash flow'!$U$139:$U$168)+'Cash flow'!$U$138,\"\")","v":""},{"$f":"+IF(AD98='Planting and management costs'!$J$17,MAX(Sum_results!$AB$53:$AB$93),\"\")","v":""},null,0.45,{"$f":"NPV(AI98,'Cash flow'!$U$11:$U$40)+'Cash flow'!$U$10","v":0},{"$f":"IFERROR(NPV(AI98,'Cash flow'!$U$54:$U$83)+'Cash flow'!$U$53,\"\")","v":""},null,0.45,{"$f":"NPV(AM98,'Cash flow'!$U$96:$U$125)+'Cash flow'!$U$95","v":0},{"$f":"IFERROR(NPV(AM98,'Cash flow'!$U$139:$U$168)+'Cash flow'!$U$138,\"\")","v":""}]
[null,null,null,null,null,null,null,null,null,null,null,null,null,null,null,null,null,null,null,null,null,null,null,null,null,0.46,{"$f":"NPV(Z99,'Cash flow'!$U$11:$U$40)+'Cash flow'!$U$10","v":0},{"$f":"IFERROR(NPV(Z99,'Cash flow'!$U$54:$U$83)+'Cash flow'!$U$53,\"\")","v":""},null,0.46,{"$f":"NPV(AD99,'Cash flow'!$U$96:$U$125)+'Cash flow'!$U$95","v":0},{"$f":"IFERROR(NPV(AD99,'Cash flow'!$U$139:$U$168)+'Cash flow'!$U$138,\"\")","v":""},{"$f":"+IF(AD99='Planting and management costs'!$J$17,MAX(Sum_results!$AB$53:$AB$93),\"\")","v":""},null,0.46,{"$f":"NPV(AI99,'Cash flow'!$U$11:$U$40)+'Cash flow'!$U$10","v":0},{"$f":"IFERROR(NPV(AI99,'Cash flow'!$U$54:$U$83)+'Cash flow'!$U$53,\"\")","v":""},null,0.46,{"$f":"NPV(AM99,'Cash flow'!$U$96:$U$125)+'Cash flow'!$U$95","v":0},{"$f":"IFERROR(NPV(AM99,'Cash flow'!$U$139:$U$168)+'Cash flow'!$U$138,\"\")","v":""}]
[null,null,null,null,null,null,null,null,null,null,null,null,null,null,null,null,null,null,null,null,null,null,null,null,null,0.47,{"$f":"NPV(Z100,'Cash flow'!$U$11:$U$40)+'Cash flow'!$U$10","v":0},{"$f":"IFERROR(NPV(Z100,'Cash flow'!$U$54:$U$83)+'Cash flow'!$U$53,\"\")","v":""},null,0.47,{"$f":"NPV(AD100,'Cash flow'!$U$96:$U$125)+'Cash flow'!$U$95","v":0},{"$f":"IFERROR(NPV(AD100,'Cash flow'!$U$139:$U$168)+'Cash flow'!$U$138,\"\")","v":""},{"$f":"+IF(AD100='Planting and management costs'!$J$17,MAX(Sum_results!$AB$53:$AB$93),\"\")","v":""},null,0.47,{"$f":"NPV(AI100,'Cash flow'!$U$11:$U$40)+'Cash flow'!$U$10","v":0},{"$f":"IFERROR(NPV(AI100,'Cash flow'!$U$54:$U$83)+'Cash flow'!$U$53,\"\")","v":""},null,0.47,{"$f":"NPV(AM100,'Cash flow'!$U$96:$U$125)+'Cash flow'!$U$95","v":0},{"$f":"IFERROR(NPV(AM100,'Cash flow'!$U$139:$U$168)+'Cash flow'!$U$138,\"\")","v":""}]
[null,null,null,null,null,null,null,null,null,null,null,null,null,null,null,null,null,null,null,null,null,null,null,null,null,0.48,{"$f":"NPV(Z101,'Cash flow'!$U$11:$U$40)+'Cash flow'!$U$10","v":0},{"$f":"IFERROR(NPV(Z101,'Cash flow'!$U$54:$U$83)+'Cash flow'!$U$53,\"\")","v":""},null,0.48,{"$f":"NPV(AD101,'Cash flow'!$U$96:$U$125)+'Cash flow'!$U$95","v":0},{"$f":"IFERROR(NPV(AD101,'Cash flow'!$U$139:$U$168)+'Cash flow'!$U$138,\"\")","v":""},{"$f":"+IF(AD101='Planting and management costs'!$J$17,MAX(Sum_results!$AB$53:$AB$93),\"\")","v":""},null,0.48,{"$f":"NPV(AI101,'Cash flow'!$U$11:$U$40)+'Cash flow'!$U$10","v":0},{"$f":"IFERROR(NPV(AI101,'Cash flow'!$U$54:$U$83)+'Cash flow'!$U$53,\"\")","v":""},null,0.48,{"$f":"NPV(AM101,'Cash flow'!$U$96:$U$125)+'Cash flow'!$U$95","v":0},{"$f":"IFERROR(NPV(AM101,'Cash flow'!$U$139:$U$168)+'Cash flow'!$U$138,\"\")","v":""}]
[null,null,null,null,null,null,null,null,null,null,null,null,null,null,null,null,null,null,null,null,null,null,null,null,null,0.49,{"$f":"NPV(Z102,'Cash flow'!$U$11:$U$40)+'Cash flow'!$U$10","v":0},{"$f":"IFERROR(NPV(Z102,'Cash flow'!$U$54:$U$83)+'Cash flow'!$U$53,\"\")","v":""},null,0.49,{"$f":"NPV(AD102,'Cash flow'!$U$96:$U$125)+'Cash flow'!$U$95","v":0},{"$f":"IFERROR(NPV(AD102,'Cash flow'!$U$139:$U$168)+'Cash flow'!$U$138,\"\")","v":""},{"$f":"+IF(AD102='Planting and management costs'!$J$17,MAX(Sum_results!$AB$53:$AB$93),\"\")","v":""},null,0.49,{"$f":"NPV(AI102,'Cash flow'!$U$11:$U$40)+'Cash flow'!$U$10","v":0},{"$f":"IFERROR(NPV(AI102,'Cash flow'!$U$54:$U$83)+'Cash flow'!$U$53,\"\")","v":""},null,0.49,{"$f":"NPV(AM102,'Cash flow'!$U$96:$U$125)+'Cash flow'!$U$95","v":0},{"$f":"IFERROR(NPV(AM102,'Cash flow'!$U$139:$U$168)+'Cash flow'!$U$138,\"\")","v":""}]
[null,null,null,null,null,null,null,null,null,null,null,null,null,null,null,null,null,null,null,null,null,null,null,null,null,0.5,{"$f":"NPV(Z103,'Cash flow'!$U$11:$U$40)+'Cash flow'!$U$10","v":0},{"$f":"IFERROR(NPV(Z103,'Cash flow'!$U$54:$U$83)+'Cash flow'!$U$53,\"\")","v":""},null,0.5,{"$f":"NPV(AD103,'Cash flow'!$U$96:$U$125)+'Cash flow'!$U$95","v":0},{"$f":"IFERROR(NPV(AD103,'Cash flow'!$U$139:$U$168)+'Cash flow'!$U$138,\"\")","v":""},{"$f":"+IF(AD103='Planting and management costs'!$J$17,MAX(Sum_results!$AB$53:$AB$93),\"\")","v":""},null,0.5,{"$f":"NPV(AI103,'Cash flow'!$U$11:$U$40)+'Cash flow'!$U$10","v":0},{"$f":"IFERROR(NPV(AI103,'Cash flow'!$U$54:$U$83)+'Cash flow'!$U$53,\"\")","v":""},null,0.5,{"$f":"NPV(AM103,'Cash flow'!$U$96:$U$125)+'Cash flow'!$U$95","v":0},{"$f":"IFERROR(NPV(AM103,'Cash flow'!$U$139:$U$168)+'Cash flow'!$U$138,\"\")","v":""}]

{"sheet":"Translations","index":11,"n_rows":487,"n_cols":20,"rows_kept":487,"cut":false,"hidden":true,"merged":[]}
[]
[null,"Selection",{"$f":"VLOOKUP(Start!C3,$A$3:$C$5,3,FALSE)","v":1}]
["EN","English",1]
["FR","French",2]
["ES","Spanish",3]
[]
["ID","English","French","Spanish","Typeof","Ref","Name"]
[1,1,2,3]
[2,"Angola","Angola","Angola","FRA_Country",{"$f":"HLOOKUP($C$2,$B$8:$D9,$A9,FALSE)","v":"Angola"},{"$f":"$E9&$A9","v":"FRA_Country2"}]
[3,"Botswana","Botswana","Botswana","FRA_Country",{"$f":"HLOOKUP($C$2,$B$8:$D10,$A10,FALSE)","v":"Botswana"},"FRA_Country3"]
[4,"Comoros","Comores","Comoras","FRA_Country",{"$f":"HLOOKUP($C$2,$B$8:$D11,$A11,FALSE)","v":"Comoros"},"FRA_Country4"]
[5,"Djibouti","Djibouti","Djibouti","FRA_Country",{"$f":"HLOOKUP($C$2,$B$8:$D12,$A12,FALSE)","v":"Djibouti"},"FRA_Country5"]
[6,"Eritrea","Érythrée","Eritrea","FRA_Country",{"$f":"HLOOKUP($C$2,$B$8:$D13,$A13,FALSE)","v":"Eritrea"},"FRA_Country6"]
[7,"Ethiopia","Éthiopie","Etiopía","FRA_Country",{"$f":"HLOOKUP($C$2,$B$8:$D14,$A14,FALSE)","v":"Ethiopia"},"FRA_Country7"]
[8,"Kenya","Kenya","Kenya","FRA_Country",{"$f":"HLOOKUP($C$2,$B$8:$D15,$A15,FALSE)","v":"Kenya"},"FRA_Country8"]
[9,"Lesotho","Lesotho","Lesotho","FRA_Country",{"$f":"HLOOKUP($C$2,$B$8:$D16,$A16,FALSE)","v":"Lesotho"},"FRA_Country9"]
[10,"Madagascar","Madagascar","Madagascar","FRA_Country",{"$f":"HLOOKUP($C$2,$B$8:$D17,$A17,FALSE)","v":"Madagascar"},"FRA_Country10"]
[11,"Malawi","Malawi","Malawi","FRA_Country",{"$f":"HLOOKUP($C$2,$B$8:$D18,$A18,FALSE)","v":"Malawi"},"FRA_Country11"]
[12,"Mauritius","Maurice","Mauricio","FRA_Country",{"$f":"HLOOKUP($C$2,$B$8:$D19,$A19,FALSE)","v":"Mauritius"},"FRA_Country12"]
[13,"Mayotte","Mayotte","Mayotte","FRA_Country",{"$f":"HLOOKUP($C$2,$B$8:$D20,$A20,FALSE)","v":"Mayotte"},"FRA_Country13"]
[14,"Mozambique","Mozambique","Mozambique","FRA_Country",{"$f":"HLOOKUP($C$2,$B$8:$D21,$A21,FALSE)","v":"Mozambique"},"FRA_Country14"]
[15,"Namibia","Namibie","Namibia","FRA_Country",{"$f":"HLOOKUP($C$2,$B$8:$D22,$A22,FALSE)","v":"Namibia"},"FRA_Country15"]
[16,"Réunion","Réunion","Réunion","FRA_Country",{"$f":"HLOOKUP($C$2,$B$8:$D23,$A23,FALSE)","v":"Réunion"},"FRA_Country16"]
[17,"Seychelles","Seychelles","Seychelles","FRA_Country",{"$f":"HLOOKUP($C$2,$B$8:$D24,$A24,FALSE)","v":"Seychelles"},"FRA_Country17"]
[18,"Somalia","Somalie","Somalia","FRA_Country",{"$f":"HLOOKUP($C$2,$B$8:$D25,$A25,FALSE)","v":"Somalia"},"FRA_Country18"]
[19,"South Africa","Afrique du Sud","Sudáfrica","FRA_Country",{"$f":"HLOOKUP($C$2,$B$8:$D26,$A26,FALSE)","v":"South Africa"},"FRA_Country19"]
[20,"Eswatini","Eswatini","Eswatini","FRA_Country",{"$f":"HLOOKUP($C$2,$B$8:$D27,$A27,FALSE)","v":"Eswatini"},"FRA_Country20"]
[21,"Uganda","Ouganda","Uganda","FRA_Country",{"$f":"HLOOKUP($C$2,$B$8:$D28,$A28,FALSE)","v":"Uganda"},"FRA_Country21"]
[22,"United Republic of Tanzania","République-Unie de Tanzanie","República Unida de Tanzanía","FRA_Country",{"$f":"HLOOKUP($C$2,$B$8:$D29,$A29,FALSE)","v":"United Republic of Tanzania"},"FRA_Country22"]
[23,"Zambia","Zambie","Zambia","FRA_Country",{"$f":"HLOOKUP($C$2,$B$8:$D30,$A30,FALSE)","v":"Zambia"},"FRA_Country23"]
[24,"Zimbabwe","Zimbabwe","Zimbabwe","FRA_Country",{"$f":"HLOOKUP($C$2,$B$8:$D31,$A31,FALSE)","v":"Zimbabwe"},"FRA_Country24"]
[25,"Eastern and Southern Africa","Eastern and Southern Africa","Eastern and Southern Africa","FRA_Country",{"$f":"HLOOKUP($C$2,$B$8:$D32,$A32,FALSE)","v":"Eastern and Southern Africa"},"FRA_Country25"]
[26,"Algeria","Algérie","Argelia","FRA_Country",{"$f":"HLOOKUP($C$2,$B$8:$D33,$A33,FALSE)","v":"Algeria"},"FRA_Country26"]
[27,"Egypt","Égypte","Egipto","FRA_Country",{"$f":"HLOOKUP($C$2,$B$8:$D34,$A34,FALSE)","v":"Egypt"},"FRA_Country27"]
[28,"Libya","Libye","Libia","FRA_Country",{"$f":"HLOOKUP($C$2,$B$8:$D35,$A35,FALSE)","v":"Libya"},"FRA_Country28"]
[29,"Mauritania","Mauritanie","Mauritania","FRA_Country",{"$f":"HLOOKUP($C$2,$B$8:$D36,$A36,FALSE)","v":"Mauritania"},"FRA_Country29"]
[30,"Morocco","Maroc","Marruecos","FRA_Country",{"$f":"HLOOKUP($C$2,$B$8:$D37,$A37,FALSE)","v":"Morocco"},"FRA_Country30"]
[31,"Sudan","Soudan","Sudan","FRA_Country",{"$f":"HLOOKUP($C$2,$B$8:$D38,$A38,FALSE)","v":"Sudan"},"FRA_Country31"]
[32,"Tunisia","Tunisie","Túnez","FRA_Country",{"$f":"HLOOKUP($C$2,$B$8:$D39,$A39,FALSE)","v":"Tunisia"},"FRA_Country32"]
[33,"Western Sahara","Western Sahara","Western Sahara","FRA_Country",{"$f":"HLOOKUP($C$2,$B$8:$D40,$A40,FALSE)","v":"Western Sahara"},"FRA_Country33"]
[34,"Northern Africa","Northern Africa","Northern Africa","FRA_Country",{"$f":"HLOOKUP($C$2,$B$8:$D41,$A41,FALSE)","v":"Northern Africa"},"FRA_Country34"]
[35,"Benin","Bénin","Benin","FRA_Country",{"$f":"HLOOKUP($C$2,$B$8:$D42,$A42,FALSE)","v":"Benin"},"FRA_Country35"]
[36,"Burkina Faso","Burkina Faso","Burkina Faso","FRA_Country",{"$f":"HLOOKUP($C$2,$B$8:$D43,$A43,FALSE)","v":"Burkina Faso"},"FRA_Country36"]
[37,"Burundi","Burundi","Burundi","FRA_Country",{"$f":"HLOOKUP($C$2,$B$8:$D44,$A44,FALSE)","v":"Burundi"},"FRA_Country37"]
[38,"Cameroon","Cameroun","Camerún","FRA_Country",{"$f":"HLOOKUP($C$2,$B$8:$D45,$A45,FALSE)","v":"Cameroon"},"FRA_Country38"]
[39,"Cabo Verde","Cabo Verde","Cabo Verde","FRA_Country",{"$f":"HLOOKUP($C$2,$B$8:$D46,$A46,FALSE)","v":"Cabo Verde"},"FRA_Country39"]
[40,"Central African Republic","République centrafricaine","República Centroafricana","FRA_Country",{"$f":"HLOOKUP($C$2,$B$8:$D47,$A47,FALSE)","v":"Central African Republic"},"FRA_Country40"]
[41,"Chad","Tchad","Chad","FRA_Country",{"$f":"HLOOKUP($C$2,$B$8:$D48,$A48,FALSE)","v":"Chad"},"FRA_Country41"]
[42,"Congo","Congo","Congo","FRA_Country",{"$f":"HLOOKUP($C$2,$B$8:$D49,$A49,FALSE)","v":"Congo"},"FRA_Country42"]
[43,"Côte d'Ivoire","Côte d'Ivoire","Côte d'Ivoire","FRA_Country",{"$f":"HLOOKUP($C$2,$B$8:$D50,$A50,FALSE)","v":"Côte d'Ivoire"},"FRA_Country43"]
[44,"Democratic Republic of the Congo","République démocratique du Congo","República Democrática del Congo","FRA_Country",{"$f":"HLOOKUP($C$2,$B$8:$D51,$A51,FALSE)","v":"Democratic Republic of the Congo"},"FRA_Country44"]
[45,"Equatorial Guinea","Guinée équatoriale","Guinea Ecuatorial","FRA_Country",{"$f":"HLOOKUP($C$2,$B$8:$D52,$A52,FALSE)","v":"Equatorial Guinea"},"FRA_Country45"]
[46,"Gabon","Gabon","Gabón","FRA_Country",{"$f":"HLOOKUP($C$2,$B$8:$D53,$A53,FALSE)","v":"Gabon"},"FRA_Country46"]
[47,"Gambia","Gambie","Gambia","FRA_Country",{"$f":"HLOOKUP($C$2,$B$8:$D54,$A54,FALSE)","v":"Gambia"},"FRA_Country47"]
[48,"Ghana","Ghana","Ghana","FRA_Country",{"$f":"HLOOKUP($C$2,$B$8:$D55,$A55,FALSE)","v":"Ghana"},"FRA_Country48"]
[49,"Guinea","Guinée","Guinea","FRA_Country",{"$f":"HLOOKUP($C$2,$B$8:$D56,$A56,FALSE)","v":"Guinea"},"FRA_Country49"]
[50,"Guinea-Bissau","Guinée-Bissau","Guinea-Bissau","FRA_Country",{"$f":"HLOOKUP($C$2,$B$8:$D57,$A57,FALSE)","v":"Guinea-Bissau"},"FRA_Country50"]
[51,"Liberia","Libéria","Liberia","FRA_Country",{"$f":"HLOOKUP($C$2,$B$8:$D58,$A58,FALSE)","v":"Liberia"},"FRA_Country51"]
[52,"Mali","Mali","Malí","FRA_Country",{"$f":"HLOOKUP($C$2,$B$8:$D59,$A59,FALSE)","v":"Mali"},"FRA_Country52"]
[53,"Niger","Niger","Níger","FRA_Country",{"$f":"HLOOKUP($C$2,$B$8:$D60,$A60,FALSE)","v":"Niger"},"FRA_Country53"]
[54,"Nigeria","Nigéria","Nigeria","FRA_Country",{"$f":"HLOOKUP($C$2,$B$8:$D61,$A61,FALSE)","v":"Nigeria"},"FRA_Country54"]
[55,"Rwanda","Rwanda","Rwanda","FRA_Country",{"$f":"HLOOKUP($C$2,$B$8:$D62,$A62,FALSE)","v":"Rwanda"},"FRA_Country55"]
[56,"Saint Helena","Saint Helena","Saint Helena","FRA_Country",{"$f":"HLOOKUP($C$2,$B$8:$D63,$A63,FALSE)","v":"Saint Helena"},"FRA_Country56"]
[57,"Sao Tome and Principe","Sao Tomé-et-Principe","Santo Tomé y Príncipe","FRA_Country",{"$f":"HLOOKUP($C$2,$B$8:$D64,$A64,FALSE)","v":"Sao Tome and Principe"},"FRA_Country57"]
[58,"Senegal","Sénégal","Senegal","FRA_Country",{"$f":"HLOOKUP($C$2,$B$8:$D65,$A65,FALSE)","v":"Senegal"},"FRA_Country58"]
[59,"Sierra Leone","Sierra Leone","Sierra Leona","FRA_Country",{"$f":"HLOOKUP($C$2,$B$8:$D66,$A66,FALSE)","v":"Sierra Leone"},"FRA_Country59"]
[60,"Togo","Togo","Togo","FRA_Country",{"$f":"HLOOKUP($C$2,$B$8:$D67,$A67,FALSE)","v":"Togo"},"FRA_Country60"]
[61,"Western and Central Africa","Western and Central Africa","Western and Central Africa","FRA_Country",{"$f":"HLOOKUP($C$2,$B$8:$D68,$A68,FALSE)","v":"Western and Central Africa"},"FRA_Country61"]
[62,"Africa","Africa","Africa","FRA_Country",{"$f":"HLOOKUP($C$2,$B$8:$D69,$A69,FALSE)","v":"Africa"},"FRA_Country62"]
[63,"China","Chine","China","FRA_Country",{"$f":"HLOOKUP($C$2,$B$8:$D70,$A70,FALSE)","v":"China"},"FRA_Country63"]
[64,"Democratic People's Republic of Korea","République populaire démocratique de Corée","República Popular Democrática de Corea","FRA_Country",{"$f":"HLOOKUP($C$2,$B$8:$D71,$A71,FALSE)","v":"Democratic People's Republic of Korea"},"FRA_Country64"]
[65,"Japan","Japon","Japón","FRA_Country",{"$f":"HLOOKUP($C$2,$B$8:$D72,$A72,FALSE)","v":"Japan"},"FRA_Country65"]
[66,"Mongolia","Mongolie","Mongolia","FRA_Country",{"$f":"HLOOKUP($C$2,$B$8:$D73,$A73,FALSE)","v":"Mongolia"},{"$f":"$E73&$A73","v":"FRA_Country66"}]
[67,"Republic of Korea","République de Corée","República de Corea","FRA_Country",{"$f":"HLOOKUP($C$2,$B$8:$D74,$A74,FALSE)","v":"Republic of Korea"},"FRA_Country67"]
[68,"East Asia","East Asia","East Asia","FRA_Country",{"$f":"HLOOKUP($C$2,$B$8:$D75,$A75,FALSE)","v":"East Asia"},"FRA_Country68"]
[69,"Bangladesh","Bangladesh","Bangladesh","FRA_Country",{"$f":"HLOOKUP($C$2,$B$8:$D76,$A76,FALSE)","v":"Bangladesh"},"FRA_Country69"]
[70,"Bhutan","Bhoutan","Bután","FRA_Country",{"$f":"HLOOKUP($C$2,$B$8:$D77,$A77,FALSE)","v":"Bhutan"},"FRA_Country70"]
[71,"Brunei Darussalam","Brunéi Darussalam","Brunei Darussalam","FRA_Country",{"$f":"HLOOKUP($C$2,$B$8:$D78,$A78,FALSE)","v":"Brunei Darussalam"},"FRA_Country71"]
[72,"Cambodia","Cambodge","Camboya","FRA_Country",{"$f":"HLOOKUP($C$2,$B$8:$D79,$A79,FALSE)","v":"Cambodia"},"FRA_Country72"]
[73,"India","Inde","India","FRA_Country",{"$f":"HLOOKUP($C$2,$B$8:$D80,$A80,FALSE)","v":"India"},"FRA_Country73"]
[74,"Indonesia","Indonésie","Indonesia","FRA_Country",{"$f":"HLOOKUP($C$2,$B$8:$D81,$A81,FALSE)","v":"Indonesia"},"FRA_Country74"]
[75,"Lao People's Democratic Republic","République démocratique populaire lao","República Democrática Popular Lao","FRA_Country",{"$f":"HLOOKUP($C$2,$B$8:$D82,$A82,FALSE)","v":"Lao People's Democratic Republic"},"FRA_Country75"]
[76,"Malaysia","Malaisie","Malasia","FRA_Country",{"$f":"HLOOKUP($C$2,$B$8:$D83,$A83,FALSE)","v":"Malaysia"},"FRA_Country76"]
[77,"Maldives","Maldives","Maldivas","FRA_Country",{"$f":"HLOOKUP($C$2,$B$8:$D84,$A84,FALSE)","v":"Maldives"},"FRA_Country77"]
[78,"Myanmar","Myanmar","Myanmar","FRA_Country",{"$f":"HLOOKUP($C$2,$B$8:$D85,$A85,FALSE)","v":"Myanmar"},"FRA_Country78"]
[79,"Nepal","Népal","Nepal","FRA_Country",{"$f":"HLOOKUP($C$2,$B$8:$D86,$A86,FALSE)","v":"Nepal"},"FRA_Country79"]
[80,"Pakistan","Pakistan","Pakistán","FRA_Country",{"$f":"HLOOKUP($C$2,$B$8:$D87,$A87,FALSE)","v":"Pakistan"},"FRA_Country80"]
[81,"Philippines","Philippines","Filipinas","FRA_Country",{"$f":"HLOOKUP($C$2,$B$8:$D88,$A88,FALSE)","v":"Philippines"},"FRA_Country81"]
[82,"Singapore","Singapour","Singapur","FRA_Country",{"$f":"HLOOKUP($C$2,$B$8:$D89,$A89,FALSE)","v":"Singapore"},"FRA_Country82"]
[83,"Sri Lanka","Sri Lanka","Sri Lanka","FRA_Country",{"$f":"HLOOKUP($C$2,$B$8:$D90,$A90,FALSE)","v":"Sri Lanka"},"FRA_Country83"]
[84,"Thailand","Thaïlande","Tailandia","FRA_Country",{"$f":"HLOOKUP($C$2,$B$8:$D91,$A91,FALSE)","v":"Thailand"},"FRA_Country84"]
[85,"Timor-Leste","Timor-Leste","Timor-Leste","FRA_Country",{"$f":"HLOOKUP($C$2,$B$8:$D92,$A92,FALSE)","v":"Timor-Leste"},"FRA_Country85"]
[86,"Viet Nam","Viet Nam","Viet Nam","FRA_Country",{"$f":"HLOOKUP($C$2,$B$8:$D93,$A93,FALSE)","v":"Viet Nam"},"FRA_Country86"]
[87,"South and South-east Asia","South and South-east Asia","South and South-east Asia","FRA_Country",{"$f":"HLOOKUP($C$2,$B$8:$D94,$A94,FALSE)","v":"South and South-east Asia"},"FRA_Country87"]
[88,"Afghanistan","Afghanistan","Afganistán","FRA_Country",{"$f":"HLOOKUP($C$2,$B$8:$D95,$A95,FALSE)","v":"Afghanistan"},"FRA_Country88"]
[89,"Armenia","Arménie","Armenia","FRA_Country",{"$f":"HLOOKUP($C$2,$B$8:$D96,$A96,FALSE)","v":"Armenia"},"FRA_Country89"]
[90,"Azerbaijan","Azerbaïdjan","Azerbaiyán","FRA_Country",{"$f":"HLOOKUP($C$2,$B$8:$D97,$A97,FALSE)","v":"Azerbaijan"},"FRA_Country90"]
[91,"Bahrain","Bahreïn","Bahrein","FRA_Country",{"$f":"HLOOKUP($C$2,$B$8:$D98,$A98,FALSE)","v":"Bahrain"},"FRA_Country91"]
[92,"Cyprus","Chypre","Chipre","FRA_Country",{"$f":"HLOOKUP($C$2,$B$8:$D99,$A99,FALSE)","v":"Cyprus"},"FRA_Country92"]
[93,"Georgia","Géorgie","Georgia","FRA_Country",{"$f":"HLOOKUP($C$2,$B$8:$D100,$A100,FALSE)","v":"Georgia"},"FRA_Country93"]
[94,"Iran (Islamic Republic of)","Iran (République islamique d')","Irán (República Islámica del)","FRA_Country",{"$f":"HLOOKUP($C$2,$B$8:$D101,$A101,FALSE)","v":"Iran (Islamic Republic of)"},"FRA_Country94"]
[95,"Iraq","Iraq","Iraq","FRA_Country",{"$f":"HLOOKUP($C$2,$B$8:$D102,$A102,FALSE)","v":"Iraq"},"FRA_Country95"]
[96,"Israel","Israël","Israel","FRA_Country",{"$f":"HLOOKUP($C$2,$B$8:$D103,$A103,FALSE)","v":"Israel"},"FRA_Country96"]
[97,"Jordan","Jordanie","Jordania","FRA_Country",{"$f":"HLOOKUP($C$2,$B$8:$D104,$A104,FALSE)","v":"Jordan"},"FRA_Country97"]
[98,"Kazakhstan","Kazakhstan","Kazajstán","FRA_Country",{"$f":"HLOOKUP($C$2,$B$8:$D105,$A105,FALSE)","v":"Kazakhstan"},"FRA_Country98"]
[99,"Kuwait","Koweït","Kuwait","FRA_Country",{"$f":"HLOOKUP($C$2,$B$8:$D106,$A106,FALSE)","v":"Kuwait"},"FRA_Country99"]
[100,"Kyrgyzstan","Kirghizistan","Kirguistán","FRA_Country",{"$f":"HLOOKUP($C$2,$B$8:$D107,$A107,FALSE)","v":"Kyrgyzstan"},"FRA_Country100"]
[101,"Lebanon","Liban","Líbano","FRA_Country",{"$f":"HLOOKUP($C$2,$B$8:$D108,$A108,FALSE)","v":"Lebanon"},"FRA_Country101"]
[102,"Occupied Palestinian Territory","Occupied Palestinian Territory"," Territorios Palestinos Ocupados","FRA_Country",{"$f":"HLOOKUP($C$2,$B$8:$D109,$A109,FALSE)","v":"Occupied Palestinian Territory"},"FRA_Country102"]
[103,"Oman","Oman","Omán","FRA_Country",{"$f":"HLOOKUP($C$2,$B$8:$D110,$A110,FALSE)","v":"Oman"},"FRA_Country103"]
[104,"Qatar","Qatar","Qatar","FRA_Country",{"$f":"HLOOKUP($C$2,$B$8:$D111,$A111,FALSE)","v":"Qatar"},"FRA_Country104"]
[105,"Saudi Arabia","Arabie saoudite","Arabia Saudita","FRA_Country",{"$f":"HLOOKUP($C$2,$B$8:$D112,$A112,FALSE)","v":"Saudi Arabia"},"FRA_Country105"]
[106,"Syrian Arab Republic","République arabe syrienne","República Árabe Siria","FRA_Country",{"$f":"HLOOKUP($C$2,$B$8:$D113,$A113,FALSE)","v":"Syrian Arab Republic"},"FRA_Country106"]
[107,"Tajikistan","Tadjikistan","Tayikistán","FRA_Country",{"$f":"HLOOKUP($C$2,$B$8:$D114,$A114,FALSE)","v":"Tajikistan"},"FRA_Country107"]
[108,"Turkey","Turquie","Turquía","FRA_Country",{"$f":"HLOOKUP($C$2,$B$8:$D115,$A115,FALSE)","v":"Turkey"},"FRA_Country108"]
[109,"Turkmenistan","Turkménistan","Turkmenistán","FRA_Country",{"$f":"HLOOKUP($C$2,$B$8:$D116,$A116,FALSE)","v":"Turkmenistan"},"FRA_Country109"]
[110,"United Arab Emirates","Émirats arabes unis","Emiratos Árabes Unidos","FRA_Country",{"$f":"HLOOKUP($C$2,$B$8:$D117,$A117,FALSE)","v":"United Arab Emirates"},"FRA_Country110"]
[111,"Uzbekistan","Ouzbékistan","Uzbekistán","FRA_Country",{"$f":"HLOOKUP($C$2,$B$8:$D118,$A118,FALSE)","v":"Uzbekistan"},"FRA_Country111"]
[112,"Yemen","Yémen","Yemen","FRA_Country",{"$f":"HLOOKUP($C$2,$B$8:$D119,$A119,FALSE)","v":"Yemen"},"FRA_Country112"]
[113,"Western and Central Asia","Western and Central Asia","Western and Central Asia","FRA_Country",{"$f":"HLOOKUP($C$2,$B$8:$D120,$A120,FALSE)","v":"Western and Central Asia"},"FRA_Country113"]
[114,"Asia","Asia","Asia","FRA_Country",{"$f":"HLOOKUP($C$2,$B$8:$D121,$A121,FALSE)","v":"Asia"},"FRA_Country114"]
[115,"Albania","Albanie","Albania","FRA_Country",{"$f":"HLOOKUP($C$2,$B$8:$D122,$A122,FALSE)","v":"Albania"},"FRA_Country115"]
[116,"Andorra","Andorre","Andorra","FRA_Country",{"$f":"HLOOKUP($C$2,$B$8:$D123,$A123,FALSE)","v":"Andorra"},"FRA_Country116"]
[117,"Austria","Autriche","Austria","FRA_Country",{"$f":"HLOOKUP($C$2,$B$8:$D124,$A124,FALSE)","v":"Austria"},"FRA_Country117"]
[118,"Belarus","Bélarus","Belarús","FRA_Country",{"$f":"HLOOKUP($C$2,$B$8:$D125,$A125,FALSE)","v":"Belarus"},"FRA_Country118"]
[119,"Belgium","Belgique","Bélgica","FRA_Country",{"$f":"HLOOKUP($C$2,$B$8:$D126,$A126,FALSE)","v":"Belgium"},"FRA_Country119"]
[120,"Bosnia and Herzegovina","Bosnie-Herzégovine","Bosnia y Herzegovina","FRA_Country",{"$f":"HLOOKUP($C$2,$B$8:$D127,$A127,FALSE)","v":"Bosnia and Herzegovina"},"FRA_Country120"]
[121,"Bulgaria","Bulgarie","Bulgaria","FRA_Country",{"$f":"HLOOKUP($C$2,$B$8:$D128,$A128,FALSE)","v":"Bulgaria"},"FRA_Country121"]
[122,"Croatia","Croatie","Croacia","FRA_Country",{"$f":"HLOOKUP($C$2,$B$8:$D129,$A129,FALSE)","v":"Croatia"},"FRA_Country122"]
[123,"Czech Republic","République tchèque","República Checa","FRA_Country",{"$f":"HLOOKUP($C$2,$B$8:$D130,$A130,FALSE)","v":"Czech Republic"},"FRA_Country123"]
[124,"Denmark","Danemark","Dinamarca","FRA_Country",{"$f":"HLOOKUP($C$2,$B$8:$D131,$A131,FALSE)","v":"Denmark"},"FRA_Country124"]
[125,"Estonia","Estonie","Estonia","FRA_Country",{"$f":"HLOOKUP($C$2,$B$8:$D132,$A132,FALSE)","v":"Estonia"},"FRA_Country125"]
[126,"Faroe Islands","Îles Féroé","Islas Feroe","FRA_Country",{"$f":"HLOOKUP($C$2,$B$8:$D133,$A133,FALSE)","v":"Faroe Islands"},"FRA_Country126"]
[127,"Finland","Finlande","Finlandia","FRA_Country",{"$f":"HLOOKUP($C$2,$B$8:$D134,$A134,FALSE)","v":"Finland"},"FRA_Country127"]
[128,"France","France","Francia","FRA_Country",{"$f":"HLOOKUP($C$2,$B$8:$D135,$A135,FALSE)","v":"France"},"FRA_Country128"]
[129,"Germany","Allemagne","Alemania","FRA_Country",{"$f":"HLOOKUP($C$2,$B$8:$D136,$A136,FALSE)","v":"Germany"},"FRA_Country129"]
[130,"Gibraltar","Gibraltar","Gibraltar","FRA_Country",{"$f":"HLOOKUP($C$2,$B$8:$D137,$A137,FALSE)","v":"Gibraltar"},{"$f":"$E137&$A137","v":"FRA_Country130"}]
[131,"Greece","Grèce","Grecia","FRA_Country",{"$f":"HLOOKUP($C$2,$B$8:$D138,$A138,FALSE)","v":"Greece"},"FRA_Country131"]
[132,"Guernsey","Guernsey","Guernsey","FRA_Country",{"$f":"HLOOKUP($C$2,$B$8:$D139,$A139,FALSE)","v":"Guernsey"},"FRA_Country132"]
[133,"Holy See","Holy See","Holy See","FRA_Country",{"$f":"HLOOKUP($C$2,$B$8:$D140,$A140,FALSE)","v":"Holy See"},"FRA_Country133"]
[134,"Hungary","Hongrie","Hungría","FRA_Country",{"$f":"HLOOKUP($C$2,$B$8:$D141,$A141,FALSE)","v":"Hungary"},"FRA_Country134"]
[135,"Iceland","Islande","Islandia","FRA_Country",{"$f":"HLOOKUP($C$2,$B$8:$D142,$A142,FALSE)","v":"Iceland"},"FRA_Country135"]
[136,"Ireland","Irlande","Irlanda","FRA_Country",{"$f":"HLOOKUP($C$2,$B$8:$D143,$A143,FALSE)","v":"Ireland"},"FRA_Country136"]
[137,"Isle of Man","l'île de Man","Isle de Man","FRA_Country",{"$f":"HLOOKUP($C$2,$B$8:$D144,$A144,FALSE)","v":"Isle of Man"},"FRA_Country137"]
[138,"Italy","Italie","Italia","FRA_Country",{"$f":"HLOOKUP($C$2,$B$8:$D145,$A145,FALSE)","v":"Italy"},"FRA_Country138"]
[139,"Jersey","Jersey","Jersey","FRA_Country",{"$f":"HLOOKUP($C$2,$B$8:$D146,$A146,FALSE)","v":"Jersey"},"FRA_Country139"]
[140,"Latvia","Lettonie","Letonia","FRA_Country",{"$f":"HLOOKUP($C$2,$B$8:$D147,$A147,FALSE)","v":"Latvia"},"FRA_Country140"]
[141,"Liechtenstein","Liechtenstein","Liechtenstein","FRA_Country",{"$f":"HLOOKUP($C$2,$B$8:$D148,$A148,FALSE)","v":"Liechtenstein"},"FRA_Country141"]
[142,"Lithuania","Lituanie","Lituania","FRA_Country",{"$f":"HLOOKUP($C$2,$B$8:$D149,$A149,FALSE)","v":"Lithuania"},"FRA_Country142"]
[143,"Luxembourg","Luxembourg","Luxembourg","FRA_Country",{"$f":"HLOOKUP($C$2,$B$8:$D150,$A150,FALSE)","v":"Luxembourg"},"FRA_Country143"]
[144,"Malta","Malte","Malta","FRA_Country",{"$f":"HLOOKUP($C$2,$B$8:$D151,$A151,FALSE)","v":"Malta"},"FRA_Country144"]
[145,"Monaco","Monaco","Mónaco","FRA_Country",{"$f":"HLOOKUP($C$2,$B$8:$D152,$A152,FALSE)","v":"Monaco"},"FRA_Country145"]
[146,"Montenegro","Monténégro","Montenegro","FRA_Country",{"$f":"HLOOKUP($C$2,$B$8:$D153,$A153,FALSE)","v":"Montenegro"},"FRA_Country146"]
[147,"Netherlands","Pays-Bas","Países Bajos","FRA_Country",{"$f":"HLOOKUP($C$2,$B$8:$D154,$A154,FALSE)","v":"Netherlands"},"FRA_Country147"]
[148,"Norway","Norvège","Noruega","FRA_Country",{"$f":"HLOOKUP($C$2,$B$8:$D155,$A155,FALSE)","v":"Norway"},"FRA_Country148"]
[149,"Poland","Pologne","Polonia","FRA_Country",{"$f":"HLOOKUP($C$2,$B$8:$D156,$A156,FALSE)","v":"Poland"},"FRA_Country149"]
[150,"Portugal","Portugal","Portugal","FRA_Country",{"$f":"HLOOKUP($C$2,$B$8:$D157,$A157,FALSE)","v":"Portugal"},"FRA_Country150"]
[151,"Republic of Moldova","République de Moldova","República de Moldova","FRA_Country",{"$f":"HLOOKUP($C$2,$B$8:$D158,$A158,FALSE)","v":"Republic of Moldova"},"FRA_Country151"]
[152,"Romania","Roumanie","Rumania","FRA_Country",{"$f":"HLOOKUP($C$2,$B$8:$D159,$A159,FALSE)","v":"Romania"},"FRA_Country152"]
[153,"Russian Federation","Fédération de Russie","Federación de Rusia","FRA_Country",{"$f":"HLOOKUP($C$2,$B$8:$D160,$A160,FALSE)","v":"Russian Federation"},"FRA_Country153"]
[154,"San Marino","Saint-Marin","San Marino","FRA_Country",{"$f":"HLOOKUP($C$2,$B$8:$D161,$A161,FALSE)","v":"San Marino"},"FRA_Country154"]
[155,"Serbia","Serbie","Serbia","FRA_Country",{"$f":"HLOOKUP($C$2,$B$8:$D162,$A162,FALSE)","v":"Serbia"},"FRA_Country155"]
[156,"Slovakia","Slovaquie","Eslovaquia","FRA_Country",{"$f":"HLOOKUP($C$2,$B$8:$D163,$A163,FALSE)","v":"Slovakia"},"FRA_Country156"]
[157,"Slovenia","Slovénie","Eslovenia","FRA_Country",{"$f":"HLOOKUP($C$2,$B$8:$D164,$A164,FALSE)","v":"Slovenia"},"FRA_Country157"]
[158,"Spain","Espagne","España","FRA_Country",{"$f":"HLOOKUP($C$2,$B$8:$D165,$A165,FALSE)","v":"Spain"},"FRA_Country158"]
[159,"Svalbard and Jan Mayen Islands","Svalbard and Jan Mayen Islands","Svalbard and Jan Mayen Islands","FRA_Country",{"$f":"HLOOKUP($C$2,$B$8:$D166,$A166,FALSE)","v":"Svalbard and Jan Mayen Islands"},"FRA_Country159"]
[160,"Sweden","Suède","Suecia","FRA_Country",{"$f":"HLOOKUP($C$2,$B$8:$D167,$A167,FALSE)","v":"Sweden"},"FRA_Country160"]
[161,"Switzerland","Suisse","Suiza","FRA_Country",{"$f":"HLOOKUP($C$2,$B$8:$D168,$A168,FALSE)","v":"Switzerland"},"FRA_Country161"]
[162,"North Macedonia","Macédoine du Nord","Macedonia del Norte","FRA_Country",{"$f":"HLOOKUP($C$2,$B$8:$D169,$A169,FALSE)","v":"North Macedonia"},"FRA_Country162"]
[163,"Ukraine","Ukraine","Ucrania","FRA_Country",{"$f":"HLOOKUP($C$2,$B$8:$D170,$A170,FALSE)","v":"Ukraine"},"FRA_Country163"]
[164,"United Kingdom","Royaume-Uni","Reino Unido","FRA_Country",{"$f":"HLOOKUP($C$2,$B$8:$D171,$A171,FALSE)","v":"United Kingdom"},"FRA_Country164"]
[165,"Europe","Europe","Europe","FRA_Country",{"$f":"HLOOKUP($C$2,$B$8:$D172,$A172,FALSE)","v":"Europe"},"FRA_Country165"]
[166,"Anguilla","Anguilla","Anguila","FRA_Country",{"$f":"HLOOKUP($C$2,$B$8:$D173,$A173,FALSE)","v":"Anguilla"},"FRA_Country166"]
[167,"Antigua and Barbuda","Antigua-et-Barbuda","Antigua y Barbuda","FRA_Country",{"$f":"HLOOKUP($C$2,$B$8:$D174,$A174,FALSE)","v":"Antigua and Barbuda"},"FRA_Country167"]
[168,"Aruba","Aruba","Aruba","FRA_Country",{"$f":"HLOOKUP($C$2,$B$8:$D175,$A175,FALSE)","v":"Aruba"},"FRA_Country168"]
[169,"Bahamas","Bahamas","Bahamas","FRA_Country",{"$f":"HLOOKUP($C$2,$B$8:$D176,$A176,FALSE)","v":"Bahamas"},"FRA_Country169"]
[170,"Barbados","Barbade","Barbados","FRA_Country",{"$f":"HLOOKUP($C$2,$B$8:$D177,$A177,FALSE)","v":"Barbados"},"FRA_Country170"]
[171,"Bermuda","Bermudes","Bermudas","FRA_Country",{"$f":"HLOOKUP($C$2,$B$8:$D178,$A178,FALSE)","v":"Bermuda"},"FRA_Country171"]
[172,"British Virgin Islands","Îles Vierges britanniques","Islas Vírgenes Británicas","FRA_Country",{"$f":"HLOOKUP($C$2,$B$8:$D179,$A179,FALSE)","v":"British Virgin Islands"},"FRA_Country172"]
[173,"Cayman Islands","Îles Caïmanes","Islas Caimán","FRA_Country",{"$f":"HLOOKUP($C$2,$B$8:$D180,$A180,FALSE)","v":"Cayman Islands"},"FRA_Country173"]
[174,"Cuba","Cuba","Cuba","FRA_Country",{"$f":"HLOOKUP($C$2,$B$8:$D181,$A181,FALSE)","v":"Cuba"},"FRA_Country174"]
[175,"Dominica","Dominique","Dominica","FRA_Country",{"$f":"HLOOKUP($C$2,$B$8:$D182,$A182,FALSE)","v":"Dominica"},"FRA_Country175"]
[176,"Dominican Republic","République dominicaine","República Dominicana","FRA_Country",{"$f":"HLOOKUP($C$2,$B$8:$D183,$A183,FALSE)","v":"Dominican Republic"},"FRA_Country176"]
[177,"Grenada","Grenade","Granada","FRA_Country",{"$f":"HLOOKUP($C$2,$B$8:$D184,$A184,FALSE)","v":"Grenada"},"FRA_Country177"]
[178,"Guadeloupe","Guadeloupe","Guadalupe","FRA_Country",{"$f":"HLOOKUP($C$2,$B$8:$D185,$A185,FALSE)","v":"Guadeloupe"},"FRA_Country178"]
[179,"Haiti","Haïti","Haití","FRA_Country",{"$f":"HLOOKUP($C$2,$B$8:$D186,$A186,FALSE)","v":"Haiti"},"FRA_Country179"]
[180,"Jamaica","Jamaïque","Jamaica","FRA_Country",{"$f":"HLOOKUP($C$2,$B$8:$D187,$A187,FALSE)","v":"Jamaica"},"FRA_Country180"]
[181,"Martinique","Martinique","Martinica","FRA_Country",{"$f":"HLOOKUP($C$2,$B$8:$D188,$A188,FALSE)","v":"Martinique"},"FRA_Country181"]
[182,"Montserrat","Montserrat","Montserrat","FRA_Country",{"$f":"HLOOKUP($C$2,$B$8:$D189,$A189,FALSE)","v":"Montserrat"},"FRA_Country182"]
[183,"Netherlands Antilles","Netherlands Antilles","Netherlands Antilles","FRA_Country",{"$f":"HLOOKUP($C$2,$B$8:$D190,$A190,FALSE)","v":"Netherlands Antilles"},"FRA_Country183"]
[184,"Puerto Rico","Porto Rico","Puerto Rico","FRA_Country",{"$f":"HLOOKUP($C$2,$B$8:$D191,$A191,FALSE)","v":"Puerto Rico"},"FRA_Country184"]
[185,"Saint Kitts and Nevis","Saint-Kitts-et-Nevis","Saint Kitts y Nevis","FRA_Country",{"$f":"HLOOKUP($C$2,$B$8:$D192,$A192,FALSE)","v":"Saint Kitts and Nevis"},"FRA_Country185"]
[186,"Saint Lucia","Sainte-Lucie","Santa Lucía","FRA_Country",{"$f":"HLOOKUP($C$2,$B$8:$D193,$A193,FALSE)","v":"Saint Lucia"},"FRA_Country186"]
[187,"Saint Martin (French part)","l'île de Saint-Martin (partie Française)","Isla de San Martín (parte Francesa)","FRA_Country",{"$f":"HLOOKUP($C$2,$B$8:$D194,$A194,FALSE)","v":"Saint Martin (French part)"},"FRA_Country187"]
[188,"Saint Vincent and the Grenadines","Saint-Vincent-et-les Grenadines","San Vicente y las Granadinas","FRA_Country",{"$f":"HLOOKUP($C$2,$B$8:$D195,$A195,FALSE)","v":"Saint Vincent and the Grenadines"},"FRA_Country188"]
[189,"Saint-Barthélemy","Saint-Barthélemy","Saint-Barthélemy","FRA_Country",{"$f":"HLOOKUP($C$2,$B$8:$D196,$A196,FALSE)","v":"Saint-Barthélemy"},"FRA_Country189"]
[190,"Trinidad and Tobago","Trinité-et-Tobago","Trinidad y Tabago","FRA_Country",{"$f":"HLOOKUP($C$2,$B$8:$D197,$A197,FALSE)","v":"Trinidad and Tobago"},"FRA_Country190"]
[191,"Turks and Caicos Islands","Îles Turques et Caïques","Islas Turcas y Caicos","FRA_Country",{"$f":"HLOOKUP($C$2,$B$8:$D198,$A198,FALSE)","v":"Turks and Caicos Islands"},"FRA_Country191"]
[192,"United States Virgin Islands","United States Virgin Islands","Las Islas Vírgenes de los Estados Unidos","FRA_Country",{"$f":"HLOOKUP($C$2,$B$8:$D199,$A199,FALSE)","v":"United States Virgin Islands"},"FRA_Country192"]
[193,"Caribbean","Caribbean","Caribbean","FRA_Country",{"$f":"HLOOKUP($C$2,$B$8:$D200,$A200,FALSE)","v":"Caribbean"},"FRA_Country193"]
[194,"Belize","Belize","Belice","FRA_Country",{"$f":"HLOOKUP($C$2,$B$8:$D201,$A201,FALSE)","v":"Belize"},{"$f":"$E201&$A201","v":"FRA_Country194"}]
[195,"Costa Rica","Costa Rica","Costa Rica","FRA_Country",{"$f":"HLOOKUP($C$2,$B$8:$D202,$A202,FALSE)","v":"Costa Rica"},"FRA_Country195"]
[196,"El Salvador","El Salvador","El Salvador","FRA_Country",{"$f":"HLOOKUP($C$2,$B$8:$D203,$A203,FALSE)","v":"El Salvador"},"FRA_Country196"]
[197,"Guatemala","Guatemala","Guatemala","FRA_Country",{"$f":"HLOOKUP($C$2,$B$8:$D204,$A204,FALSE)","v":"Guatemala"},"FRA_Country197"]
[198,"Honduras","Honduras","Honduras","FRA_Country",{"$f":"HLOOKUP($C$2,$B$8:$D205,$A205,FALSE)","v":"Honduras"},"FRA_Country198"]
[199,"Nicaragua","Nicaragua","Nicaragua","FRA_Country",{"$f":"HLOOKUP($C$2,$B$8:$D206,$A206,FALSE)","v":"Nicaragua"},"FRA_Country199"]
[200,"Panama","Panama","Panamá","FRA_Country",{"$f":"HLOOKUP($C$2,$B$8:$D207,$A207,FALSE)","v":"Panama"},"FRA_Country200"]
[201,"Central America","Central America","Central America","FRA_Country",{"$f":"HLOOKUP($C$2,$B$8:$D208,$A208,FALSE)","v":"Central America"},"FRA_Country201"]
[202,"Canada","Canada","Canadá","FRA_Country",{"$f":"HLOOKUP($C$2,$B$8:$D209,$A209,FALSE)","v":"Canada"},"FRA_Country202"]
[203,"Greenland","Groenland","Groenlandia","FRA_Country",{"$f":"HLOOKUP($C$2,$B$8:$D210,$A210,FALSE)","v":"Greenland"},"FRA_Country203"]
[204,"Mexico","Mexique","México","FRA_Country",{"$f":"HLOOKUP($C$2,$B$8:$D211,$A211,FALSE)","v":"Mexico"},"FRA_Country204"]
[205,"Saint Pierre and Miquelon","Saint-Pierre-et-Miquelon","Saint Pierre and Miquelon","FRA_Country",{"$f":"HLOOKUP($C$2,$B$8:$D212,$A212,FALSE)","v":"Saint Pierre and Miquelon"},"FRA_Country205"]
[206,"United States of America","États-Unis d'Amérique","Estados Unidos de América","FRA_Country",{"$f":"HLOOKUP($C$2,$B$8:$D213,$A213,FALSE)","v":"United States of America"},"FRA_Country206"]
[207,"North America","North America","North America","FRA_Country",{"$f":"HLOOKUP($C$2,$B$8:$D214,$A214,FALSE)","v":"North America"},"FRA_Country207"]
[208,"North and Central America","North and Central America","North and Central America","FRA_Country",{"$f":"HLOOKUP($C$2,$B$8:$D215,$A215,FALSE)","v":"North and Central America"},"FRA_Country208"]
[209,"American Samoa","Samoa américaines","Samoa Americana","FRA_Country",{"$f":"HLOOKUP($C$2,$B$8:$D216,$A216,FALSE)","v":"American Samoa"},"FRA_Country209"]
[210,"Australia","Australie","Australia","FRA_Country",{"$f":"HLOOKUP($C$2,$B$8:$D217,$A217,FALSE)","v":"Australia"},"FRA_Country210"]
[211,"Cook Islands","Îles Cook","Islas Cook","FRA_Country",{"$f":"HLOOKUP($C$2,$B$8:$D218,$A218,FALSE)","v":"Cook Islands"},"FRA_Country211"]
[212,"Fiji","Fidji","Fiji","FRA_Country",{"$f":"HLOOKUP($C$2,$B$8:$D219,$A219,FALSE)","v":"Fiji"},"FRA_Country212"]
[213,"French Polynesia","Polynésie française","Polinesia Francesa","FRA_Country",{"$f":"HLOOKUP($C$2,$B$8:$D220,$A220,FALSE)","v":"French Polynesia"},"FRA_Country213"]
[214,"Guam","Guam","Guam","FRA_Country",{"$f":"HLOOKUP($C$2,$B$8:$D221,$A221,FALSE)","v":"Guam"},"FRA_Country214"]
[215,"Kiribati","Kiribati","Kiribati","FRA_Country",{"$f":"HLOOKUP($C$2,$B$8:$D222,$A222,FALSE)","v":"Kiribati"},"FRA_Country215"]
[216,"Marshall Islands","Îles Marshall","Islas Marshall","FRA_Country",{"$f":"HLOOKUP($C$2,$B$8:$D223,$A223,FALSE)","v":"Marshall Islands"},"FRA_Country216"]
[217,"Micronesia (Federated States of)","Micronésie (États fédérés de)","Micronesia (Estados Federados de)","FRA_Country",{"$f":"HLOOKUP($C$2,$B$8:$D224,$A224,FALSE)","v":"Micronesia (Federated States of)"},"FRA_Country217"]
[218,"Nauru","Nauru","Nauru","FRA_Country",{"$f":"HLOOKUP($C$2,$B$8:$D225,$A225,FALSE)","v":"Nauru"},"FRA_Country218"]
[219,"New Caledonia","Nouvelle-Calédonie","Nueva Caledonia","FRA_Country",{"$f":"HLOOKUP($C$2,$B$8:$D226,$A226,FALSE)","v":"New Caledonia"},"FRA_Country219"]
[220,"New Zealand","Nouvelle-Zélande","Nueva Zelandia","FRA_Country",{"$f":"HLOOKUP($C$2,$B$8:$D227,$A227,FALSE)","v":"New Zealand"},"FRA_Country220"]
[221,"Niue","Nioué","Niue","FRA_Country",{"$f":"HLOOKUP($C$2,$B$8:$D228,$A228,FALSE)","v":"Niue"},"FRA_Country221"]
[222,"Norfolk Island","l'île Norfolk","Isla Norfolk","FRA_Country",{"$f":"HLOOKUP($C$2,$B$8:$D229,$A229,FALSE)","v":"Norfolk Island"},"FRA_Country222"]
[223,"Northern Mariana Islands","Îles Mariannes du Nord","Islas Marianas septentrionales","FRA_Country",{"$f":"HLOOKUP($C$2,$B$8:$D230,$A230,FALSE)","v":"Northern Mariana Islands"},"FRA_Country223"]
[224,"Palau","Palaos","Palau","FRA_Country",{"$f":"HLOOKUP($C$2,$B$8:$D231,$A231,FALSE)","v":"Palau"},"FRA_Country224"]
[225,"Papua New Guinea","Papouasie-Nouvelle-Guinée","Papua Nueva Guinea","FRA_Country",{"$f":"HLOOKUP($C$2,$B$8:$D232,$A232,FALSE)","v":"Papua New Guinea"},"FRA_Country225"]
[226,"Pitcairn","Pitcairn","Pitcairn","FRA_Country",{"$f":"HLOOKUP($C$2,$B$8:$D233,$A233,FALSE)","v":"Pitcairn"},"FRA_Country226"]
[227,"Samoa","Samoa","Samoa","FRA_Country",{"$f":"HLOOKUP($C$2,$B$8:$D234,$A234,FALSE)","v":"Samoa"},"FRA_Country227"]
[228,"Solomon Islands","Îles Salomon","Islas Salomón","FRA_Country",{"$f":"HLOOKUP($C$2,$B$8:$D235,$A235,FALSE)","v":"Solomon Islands"},"FRA_Country228"]
[229,"Tokelau","Tokelau","Tokelau","FRA_Country",{"$f":"HLOOKUP($C$2,$B$8:$D236,$A236,FALSE)","v":"Tokelau"},"FRA_Country229"]
[230,"Tonga","Tonga","Tonga","FRA_Country",{"$f":"HLOOKUP($C$2,$B$8:$D237,$A237,FALSE)","v":"Tonga"},"FRA_Country230"]
[231,"Tuvalu","Tuvalu","Tuvalu","FRA_Country",{"$f":"HLOOKUP($C$2,$B$8:$D238,$A238,FALSE)","v":"Tuvalu"},"FRA_Country231"]
[232,"Vanuatu","Vanuatu","Vanuatu","FRA_Country",{"$f":"HLOOKUP($C$2,$B$8:$D239,$A239,FALSE)","v":"Vanuatu"},"FRA_Country232"]
[233,"Wallis and Futuna Islands","Wallis-et-Futuna","Islas Wallis y Futuna","FRA_Country",{"$f":"HLOOKUP($C$2,$B$8:$D240,$A240,FALSE)","v":"Wallis and Futuna Islands"},"FRA_Country233"]
[234,"Oceania","Oceania","Oceania","FRA_Country",{"$f":"HLOOKUP($C$2,$B$8:$D241,$A241,FALSE)","v":"Oceania"},"FRA_Country234"]
[235,"Argentina","Argentine","Argentina","FRA_Country",{"$f":"HLOOKUP($C$2,$B$8:$D242,$A242,FALSE)","v":"Argentina"},"FRA_Country235"]
[236,"Bolivia (Plurinational State of)","Bolivie (État plurinational de)","Bolivia (Estado Plurinacional de)","FRA_Country",{"$f":"HLOOKUP($C$2,$B$8:$D243,$A243,FALSE)","v":"Bolivia (Plurinational State of)"},"FRA_Country236"]
[237,"Brazil","Brésil","Brasil","FRA_Country",{"$f":"HLOOKUP($C$2,$B$8:$D244,$A244,FALSE)","v":"Brazil"},"FRA_Country237"]
[238,"Chile","Chili","Chile","FRA_Country",{"$f":"HLOOKUP($C$2,$B$8:$D245,$A245,FALSE)","v":"Chile"},"FRA_Country238"]
[239,"Colombia","Colombie","Colombia","FRA_Country",{"$f":"HLOOKUP($C$2,$B$8:$D246,$A246,FALSE)","v":"Colombia"},"FRA_Country239"]
[240,"Ecuador","Équateur","Ecuador","FRA_Country",{"$f":"HLOOKUP($C$2,$B$8:$D247,$A247,FALSE)","v":"Ecuador"},"FRA_Country240"]
[241,"Falkland Islands (malvinas)","Îles Falkland","Falkland Islands (Malvinas)","FRA_Country",{"$f":"HLOOKUP($C$2,$B$8:$D248,$A248,FALSE)","v":"Falkland Islands (malvinas)"},"FRA_Country241"]
[242,"French Guiana","Guyane française","Guayana francesa","FRA_Country",{"$f":"HLOOKUP($C$2,$B$8:$D249,$A249,FALSE)","v":"French Guiana"},"FRA_Country242"]
[243,"Guyana","Guyana","Guyana","FRA_Country",{"$f":"HLOOKUP($C$2,$B$8:$D250,$A250,FALSE)","v":"Guyana"},"FRA_Country243"]
[244,"Paraguay","Paraguay","Paraguay","FRA_Country",{"$f":"HLOOKUP($C$2,$B$8:$D251,$A251,FALSE)","v":"Paraguay"},"FRA_Country244"]
[245,"Peru","Pérou","Perú","FRA_Country",{"$f":"HLOOKUP($C$2,$B$8:$D252,$A252,FALSE)","v":"Peru"},"FRA_Country245"]
[246,"Suriname","Suriname","Surinam","FRA_Country",{"$f":"HLOOKUP($C$2,$B$8:$D253,$A253,FALSE)","v":"Suriname"},"FRA_Country246"]
[247,"Uruguay","Uruguay","Uruguay","FRA_Country",{"$f":"HLOOKUP($C$2,$B$8:$D254,$A254,FALSE)","v":"Uruguay"},"FRA_Country247"]
[248,"Venezuela (Bolivarian Republic of)","Venezuela (République bolivarienne du)","Venezuela (República Bolivariana de)","FRA_Country",{"$f":"HLOOKUP($C$2,$B$8:$D255,$A255,FALSE)","v":"Venezuela (Bolivarian Republic of)"},"FRA_Country248"]
[249,"South America","South America","South America","FRA_Country",{"$f":"HLOOKUP($C$2,$B$8:$D256,$A256,FALSE)","v":"South America"},"FRA_Country249"]
[250,"World","World","World","FRA_Country",{"$f":"HLOOKUP($C$2,$B$8:$D257,$A257,FALSE)","v":"World"},"FRA_Country250",null,null,null,null,null,null,null,"FH_Name","FHCode","FHRName","FHRCode","WPRName","VPRCode"]
[251,"Afghanistan","Afghanistan","Afganistán","FAO_Country",{"$f":"HLOOKUP($C$2,$B$8:$D258,$A258,FALSE)","v":"Afghanistan"},"FAO_Country251",null,null,{"$f":"IF(K258=B258,0,1)","v":0},"Afghanistan",null,null,null,"Afghanistan",2,"Afghanistan",2,"Afghanistan",2]
[252,"Albania","Albanie","Albania","FAO_Country",{"$f":"HLOOKUP($C$2,$B$8:$D259,$A259,FALSE)","v":"Albania"},"FAO_Country252",null,null,0,"Albania",null,null,null,"Albania",3,"Albania",3,"Albania",3]
[253,"Algeria","Algérie","Argelia","FAO_Country",{"$f":"HLOOKUP($C$2,$B$8:$D260,$A260,FALSE)","v":"Algeria"},"FAO_Country253",null,null,0,"Algeria",null,null,null,"Algeria",4,"Algeria",4,"Algeria",4]
[254,"Andorra","Andorre","Andorra","FAO_Country",{"$f":"HLOOKUP($C$2,$B$8:$D261,$A261,FALSE)","v":"Andorra"},"FAO_Country254",null,null,0,"Andorra",null,null,null,"Andorra",6,"Andorra",6,"Angola",7]
[255,"Angola","Angola","Angola","FAO_Country",{"$f":"HLOOKUP($C$2,$B$8:$D262,$A262,FALSE)","v":"Angola"},"FAO_Country255",null,null,0,"Angola",null,null,null,"Angola",7,"Angola",7,"Argentina",9]
[256,"Anguilla","Anguilla","Anguila","FAO_Country",{"$f":"HLOOKUP($C$2,$B$8:$D263,$A263,FALSE)","v":"Anguilla"},"FAO_Country256",null,null,0,"Anguilla",null,null,null,"Anguilla",258,"Anguilla",258,"Armenia",1]
[257,"Argentina","Argentine","Argentina","FAO_Country",{"$f":"HLOOKUP($C$2,$B$8:$D264,$A264,FALSE)","v":"Argentina"},"FAO_Country257",null,null,0,"Argentina",null,null,null,"Argentina",9,"Argentina",9,"Australia",10]
[258,"Armenia","Arménie","Armenia","FAO_Country",{"$f":"HLOOKUP($C$2,$B$8:$D265,$A265,FALSE)","v":"Armenia"},{"$f":"$E265&$A265","v":"FAO_Country258"},null,null,0,"Armenia",null,null,null,"Armenia",1,"Armenia",1,"Austria",11]
[259,"Aruba","Aruba","Aruba","FAO_Country",{"$f":"HLOOKUP($C$2,$B$8:$D266,$A266,FALSE)","v":"Aruba"},"FAO_Country259",null,null,0,"Aruba",null,null,null,"Aruba",22,"Aruba",22,"Azerbaijan",52]
[260,"Australia","Australie","Australia","FAO_Country",{"$f":"HLOOKUP($C$2,$B$8:$D267,$A267,FALSE)","v":"Australia"},"FAO_Country260",null,null,0,"Australia",null,null,null,"Australia",10,"Australia",10,"Bahamas",12]
[261,"Austria","Autriche","Austria","FAO_Country",{"$f":"HLOOKUP($C$2,$B$8:$D268,$A268,FALSE)","v":"Austria"},"FAO_Country261",null,null,0,"Austria",null,null,null,"Austria",11,"Austria",11,"Bangladesh",16]
[262,"Azerbaijan","Azerbaïdjan","Azerbaiyán","FAO_Country",{"$f":"HLOOKUP($C$2,$B$8:$D269,$A269,FALSE)","v":"Azerbaijan"},"FAO_Country262",null,null,0,"Azerbaijan",null,null,null,"Azerbaijan",52,"Azerbaijan",52,"Belarus",57]
[263,"Bahamas","Bahamas","Bahamas","FAO_Country",{"$f":"HLOOKUP($C$2,$B$8:$D270,$A270,FALSE)","v":"Bahamas"},"FAO_Country263",null,null,0,"Bahamas",null,null,null,"Bahamas",12,"Bahamas",12,"Belgium",255]
[264,"Bahrain","Bahreïn","Bahrein","FAO_Country",{"$f":"HLOOKUP($C$2,$B$8:$D271,$A271,FALSE)","v":"Bahrain"},"FAO_Country264",null,null,0,"Bahrain",null,null,null,"Bahrain",13,"Bahrain",13,"Belize",23]
[265,"Bangladesh","Bangladesh","Bangladesh","FAO_Country",{"$f":"HLOOKUP($C$2,$B$8:$D272,$A272,FALSE)","v":"Bangladesh"},"FAO_Country265",null,null,0,"Bangladesh",null,null,null,"Bangladesh",16,"Bangladesh",16,"Benin",53]
[266,"Barbados","Barbade","Barbados","FAO_Country",{"$f":"HLOOKUP($C$2,$B$8:$D273,$A273,FALSE)","v":"Barbados"},"FAO_Country266",null,null,0,"Barbados",null,null,null,"Barbados",14,"Barbados",14,"Bhutan",18]
[267,"Belarus","Bélarus","Belarús","FAO_Country",{"$f":"HLOOKUP($C$2,$B$8:$D274,$A274,FALSE)","v":"Belarus"},"FAO_Country267",null,null,0,"Belarus",null,null,null,"Belarus",57,"Belarus",57,"Bolivia (Plurinational State of)",19]
[268,"Belgium-Luxembourg","Belgium-Luxembourg","Belgica-Luxemburgo","FAO_Country",{"$f":"HLOOKUP($C$2,$B$8:$D275,$A275,FALSE)","v":"Belgium-Luxembourg"},"FAO_Country268",null,null,null,null,null,null,null,"Belgium-Luxembourg",15,"Belgium",255,"Bosnia and Herzegovina",80]
[269,"Belgium","Belgique","Bélgica","FAO_Country",{"$f":"HLOOKUP($C$2,$B$8:$D276,$A276,FALSE)","v":"Belgium"},"FAO_Country269",null,null,{"$f":"IF(K276=B276,0,1)","v":0},"Belgium",null,null,null,"Belgium",255,"Belize",23,"Brazil",21]
[270,"Belize","Belize","Belice","FAO_Country",{"$f":"HLOOKUP($C$2,$B$8:$D277,$A277,FALSE)","v":"Belize"},"FAO_Country270",null,null,{"$f":"IF(K277=B277,0,1)","v":0},"Belize",null,null,null,"Belize",23,"Benin",53,"Brunei Darussalam",26]
[271,"Benin","Bénin","Benin","FAO_Country",{"$f":"HLOOKUP($C$2,$B$8:$D278,$A278,FALSE)","v":"Benin"},"FAO_Country271",null,null,0,"Benin",null,null,null,"Benin",53,"Bhutan",18,"Bulgaria",27]
[272,"Bhutan","Bhoutan","Bután","FAO_Country",{"$f":"HLOOKUP($C$2,$B$8:$D279,$A279,FALSE)","v":"Bhutan"},"FAO_Country272",null,null,0,"Bhutan",null,null,null,"Bhutan",18,"Bolivia (Plurinational State of)",19,"Burkina Faso",233]
[273,"Bolivia (Plurinational State of)","Bolivie (État plurinational de)","Bolivia (Estado Plurinacional de)","FAO_Country",{"$f":"HLOOKUP($C$2,$B$8:$D280,$A280,FALSE)","v":"Bolivia (Plurinational State of)"},"FAO_Country273",null,null,0,"Bolivia (Plurinational State of)",null,null,null,"Bolivia (Plurinational State of)",19,"Bosnia and Herzegovina",80,"Burundi",29]
[274,"Bosnia and Herzegovina","Bosnie-Herzégovine","Bosnia y Herzegovina","FAO_Country",{"$f":"HLOOKUP($C$2,$B$8:$D281,$A281,FALSE)","v":"Bosnia and Herzegovina"},"FAO_Country274",null,null,0,"Bosnia and Herzegovina",null,null,null,"Bosnia and Herzegovina",80,"Botswana",20,"Cambodia",115]
[275,"Botswana","Botswana","Botswana","FAO_Country",{"$f":"HLOOKUP($C$2,$B$8:$D282,$A282,FALSE)","v":"Botswana"},"FAO_Country275",null,null,0,"Botswana",null,null,null,"Botswana",20,"Brazil",21,"Cameroon",32]
[276,"Brazil","Brésil","Brasil","FAO_Country",{"$f":"HLOOKUP($C$2,$B$8:$D283,$A283,FALSE)","v":"Brazil"},"FAO_Country276",null,null,0,"Brazil",null,null,null,"Brazil",21,"British Virgin Islands",239,"Canada",33]
[277,"British Virgin Islands","Îles Vierges britanniques","Islas Vírgenes Británicas","FAO_Country",{"$f":"HLOOKUP($C$2,$B$8:$D284,$A284,FALSE)","v":"British Virgin Islands"},"FAO_Country277",null,null,0,"British Virgin Islands",null,null,null,"British Virgin Islands",239,"Brunei Darussalam",26,"Central African Republic",37]
[278,"Brunei Darussalam","Brunéi Darussalam","Brunei Darussalam","FAO_Country",{"$f":"HLOOKUP($C$2,$B$8:$D285,$A285,FALSE)","v":"Brunei Darussalam"},"FAO_Country278",null,null,0,"Brunei Darussalam",null,null,null,"Brunei Darussalam",26,"Bulgaria",27,"Chad",39]
[279,"Bulgaria","Bulgarie","Bulgaria","FAO_Country",{"$f":"HLOOKUP($C$2,$B$8:$D286,$A286,FALSE)","v":"Bulgaria"},"FAO_Country279",null,null,0,"Bulgaria",null,null,null,"Bulgaria",27,"Burkina Faso",233,"Chile",40]
[280,"Burkina Faso","Burkina Faso","Burkina Faso","FAO_Country",{"$f":"HLOOKUP($C$2,$B$8:$D287,$A287,FALSE)","v":"Burkina Faso"},"FAO_Country280",null,null,0,"Burkina Faso",null,null,null,"Burkina Faso",233,"Burundi",29,"China",351]
[281,"Burundi","Burundi","Burundi","FAO_Country",{"$f":"HLOOKUP($C$2,$B$8:$D288,$A288,FALSE)","v":"Burundi"},"FAO_Country281",null,null,0,"Burundi",null,null,null,"Burundi",29,"Cambodia",115,"Colombia",44]
[282,"Cabo Verde","Cabo Verde","Cabo Verde","FAO_Country",{"$f":"HLOOKUP($C$2,$B$8:$D289,$A289,FALSE)","v":"Cabo Verde"},"FAO_Country282",null,null,1,"Cambodia",null,null,null,"Cabo Verde",35,"Cameroon",32,"Congo",46]
[283,"Cambodia","Cambodge","Camboya","FAO_Country",{"$f":"HLOOKUP($C$2,$B$8:$D290,$A290,FALSE)","v":"Cambodia"},"FAO_Country283",null,null,1,"Cameroon",null,null,null,"Cambodia",115,"Canada",33,"Costa Rica",48]
[284,"Cameroon","Cameroun","Camerún","FAO_Country",{"$f":"HLOOKUP($C$2,$B$8:$D291,$A291,FALSE)","v":"Cameroon"},"FAO_Country284",null,null,1,"Canada",null,null,null,"Cameroon",32,"Cabo Verde",35,"Croatia",98]
[285,"Canada","Canada","Canadá","FAO_Country",{"$f":"HLOOKUP($C$2,$B$8:$D292,$A292,FALSE)","v":"Canada"},"FAO_Country285",null,null,1,"Cabo Verde",null,null,null,"Canada",33,"Central African Republic",37,"Cuba",49]
[286,"Central African Republic","République centrafricaine","República Centroafricana","FAO_Country",{"$f":"HLOOKUP($C$2,$B$8:$D293,$A293,FALSE)","v":"Central African Republic"},"FAO_Country286",null,null,0,"Central African Republic",null,null,null,"Central African Republic",37,"Chad",39,"Cyprus",50]
[287,"Chad","Tchad","Chad","FAO_Country",{"$f":"HLOOKUP($C$2,$B$8:$D294,$A294,FALSE)","v":"Chad"},"FAO_Country287",null,null,0,"Chad",null,null,null,"Chad",39,"Chile",40,"Czech Republic",167]
[288,"Chile","Chili","Chile","FAO_Country",{"$f":"HLOOKUP($C$2,$B$8:$D295,$A295,FALSE)","v":"Chile"},"FAO_Country288",null,null,0,"Chile",null,null,null,"Chile",40,"China",351,"Côte d'Ivoire",107]
[289,"China, Hong Kong SAR","China, Hong Kong","China, Hong Kong","FAO_Country",{"$f":"HLOOKUP($C$2,$B$8:$D296,$A296,FALSE)","v":"China, Hong Kong SAR"},"FAO_Country289",null,null,1,"China",null,null,null,"China, Hong Kong SAR",96,"Christmas Island",42,"Democratic People's Republic of Korea",116]
[290,"China, Macao SAR","China, Macao","China, Macao","FAO_Country",{"$f":"HLOOKUP($C$2,$B$8:$D297,$A297,FALSE)","v":"China, Macao SAR"},"FAO_Country290",null,null,1,"Christmas Island",null,null,null,"China, Macao SAR",128,"Colombia",44,"Democratic Republic of the Congo",250]
[291,"China, Taiwan Province of","China, Taiwan","China, Taiwan","FAO_Country",{"$f":"HLOOKUP($C$2,$B$8:$D298,$A298,FALSE)","v":"China, Taiwan Province of"},"FAO_Country291",null,null,1,"Colombia",null,null,null,"China, Taiwan Province of",214,"Comoros",45,"Denmark",54]
[292,"China","Chine","China","FAO_Country",{"$f":"HLOOKUP($C$2,$B$8:$D299,$A299,FALSE)","v":"China"},"FAO_Country292",null,null,1,"Comoros",null,null,null,"China",41,"Congo",46,"Dominica",55]
[293,"Christmas Island","Îles Christmas","Christmas Island","FAO_Country",{"$f":"HLOOKUP($C$2,$B$8:$D300,$A300,FALSE)","v":"Christmas Island"},"FAO_Country293",null,null,1,"Congo",null,null,null,"Christmas Island",42,"Cook Islands",47,"Dominican Republic",56]
[294,"Colombia","Colombie","Colombia","FAO_Country",{"$f":"HLOOKUP($C$2,$B$8:$D301,$A301,FALSE)","v":"Colombia"},"FAO_Country294",null,null,1,"Cook Islands",null,null,null,"Colombia",44,"Costa Rica",48,"Ecuador",58]
[295,"Comoros","Comores","Comoras","FAO_Country",{"$f":"HLOOKUP($C$2,$B$8:$D302,$A302,FALSE)","v":"Comoros"},"FAO_Country295",null,null,1,"Costa Rica",null,null,null,"Comoros",45,"Croatia",98,"Egypt",59]
[296,"Congo","Congo","Congo","FAO_Country",{"$f":"HLOOKUP($C$2,$B$8:$D303,$A303,FALSE)","v":"Congo"},"FAO_Country296",null,null,1,"Croatia",null,null,null,"Congo",46,"Cuba",49,"El Salvador",60]
[297,"Cook Islands","Îles Cook","Islas Cook","FAO_Country",{"$f":"HLOOKUP($C$2,$B$8:$D304,$A304,FALSE)","v":"Cook Islands"},"FAO_Country297",null,null,1,"Cuba",null,null,null,"Cook Islands",47,"Cyprus",50,"Equatorial Guinea",61]
[298,"Costa Rica","Costa Rica","Costa Rica","FAO_Country",{"$f":"HLOOKUP($C$2,$B$8:$D305,$A305,FALSE)","v":"Costa Rica"},"FAO_Country298",null,null,1,"Cyprus",null,null,null,"Costa Rica",48,"Czech Republic",167,"Estonia",63]
[299,"Croatia","Croatie","Croacia","FAO_Country",{"$f":"HLOOKUP($C$2,$B$8:$D306,$A306,FALSE)","v":"Croatia"},"FAO_Country299",null,null,1,"Czech Republic",null,null,null,"Croatia",98,"Côte d'Ivoire",107,"Ethiopia",238]
[300,"Cuba","Cuba","Cuba","FAO_Country",{"$f":"HLOOKUP($C$2,$B$8:$D307,$A307,FALSE)","v":"Cuba"},"FAO_Country300",null,null,1,"Côte d'Ivoire",null,null,null,"Cuba",49,"Democratic People's Republic of Korea",116,"Fiji",66]
[301,"Cyprus","Chypre","Chipre","FAO_Country",{"$f":"HLOOKUP($C$2,$B$8:$D308,$A308,FALSE)","v":"Cyprus"},"FAO_Country301",null,null,1,"Democratic People's Republic of Korea",null,null,null,"Cyprus",50,"Democratic Republic of the Congo",250,"Finland",67]
[302,"Czech Republic","République tchèque","República Checa","FAO_Country",{"$f":"HLOOKUP($C$2,$B$8:$D309,$A309,FALSE)","v":"Czech Republic"},"FAO_Country302",null,null,1,"Democratic Republic of the Congo",null,null,null,"Czech Republic",167,"Denmark",54,"France",68]
[303,"Czechoslovakia","Czechoslovakia","Czechoslovakia","FAO_Country",{"$f":"HLOOKUP($C$2,$B$8:$D310,$A310,FALSE)","v":"Czechoslovakia"},"FAO_Country303",null,null,1,"Denmark",null,null,null,"Czechoslovakia",51,"Djibouti",72,"French Guiana",69]
[304,"Côte d'Ivoire","Côte d'Ivoire","Côte d'Ivoire","FAO_Country",{"$f":"HLOOKUP($C$2,$B$8:$D311,$A311,FALSE)","v":"Côte d'Ivoire"},"FAO_Country304",null,null,1,"Djibouti",null,null,null,"Côte d'Ivoire",107,"Dominica",55,"Gabon",74]
[305,"Democratic People's Republic of Korea","République populaire démocratique de Corée","República Popular Democrática de Corea","FAO_Country",{"$f":"HLOOKUP($C$2,$B$8:$D312,$A312,FALSE)","v":"Democratic People's Republic of Korea"},"FAO_Country305",null,null,1,"Dominica",null,null,null,"Democratic People's Republic of Korea",116,"Dominican Republic",56,"Gambia",75]
[306,"Democratic Republic of the Congo","République démocratique du Congo","República Democrática del Congo","FAO_Country",{"$f":"HLOOKUP($C$2,$B$8:$D313,$A313,FALSE)","v":"Democratic Republic of the Congo"},"FAO_Country306",null,null,1,"Dominican Republic",null,null,null,"Democratic Republic of the Congo",250,"Ecuador",58,"Georgia",73]
[307,"Denmark","Danemark","Dinamarca","FAO_Country",{"$f":"HLOOKUP($C$2,$B$8:$D314,$A314,FALSE)","v":"Denmark"},"FAO_Country307",null,null,1,"Ecuador",null,null,null,"Denmark",54,"Egypt",59,"Germany",79]
[308,"Djibouti","Djibouti","Djibouti","FAO_Country",{"$f":"HLOOKUP($C$2,$B$8:$D315,$A315,FALSE)","v":"Djibouti"},"FAO_Country308",null,null,1,"Egypt",null,null,null,"Djibouti",72,"El Salvador",60,"Ghana",81]
[309,"Dominica","Dominique","Dominica","FAO_Country",{"$f":"HLOOKUP($C$2,$B$8:$D316,$A316,FALSE)","v":"Dominica"},"FAO_Country309",null,null,1,"El Salvador",null,null,null,"Dominica",55,"Equatorial Guinea",61,"Greece",84]
[310,"Dominican Republic","République dominicaine","República Dominicana","FAO_Country",{"$f":"HLOOKUP($C$2,$B$8:$D317,$A317,FALSE)","v":"Dominican Republic"},"FAO_Country310",null,null,1,"Equatorial Guinea",null,null,null,"Dominican Republic",56,"Eritrea",178,"Guadeloupe",87]
[311,"Ecuador","Équateur","Ecuador","FAO_Country",{"$f":"HLOOKUP($C$2,$B$8:$D318,$A318,FALSE)","v":"Ecuador"},"FAO_Country311",null,null,1,"Eritrea",null,null,null,"Ecuador",58,"Estonia",63,"Guatemala",89]
[312,"Egypt","Égypte","Egipto","FAO_Country",{"$f":"HLOOKUP($C$2,$B$8:$D319,$A319,FALSE)","v":"Egypt"},"FAO_Country312",null,null,1,"Estonia",null,null,null,"Egypt",59,"Ethiopia",238,"Guinea-Bissau",175]
[313,"El Salvador","El Salvador","El Salvador","FAO_Country",{"$f":"HLOOKUP($C$2,$B$8:$D320,$A320,FALSE)","v":"El Salvador"},"FAO_Country313",null,null,1,"Ethiopia",null,null,null,"El Salvador",60,"Falkland Islands (Malvinas)",65,"Guinea",90]
[314,"Equatorial Guinea","Guinée équatoriale","Guinea Ecuatorial","FAO_Country",{"$f":"HLOOKUP($C$2,$B$8:$D321,$A321,FALSE)","v":"Equatorial Guinea"},"FAO_Country314",null,null,1,"Falkland Islands (Malvinas)",null,null,null,"Equatorial Guinea",61,"Faroe Islands",64,"Guyana",91]
[315,"Eritrea","Érythrée","Eritrea","FAO_Country",{"$f":"HLOOKUP($C$2,$B$8:$D322,$A322,FALSE)","v":"Eritrea"},"FAO_Country315",null,null,1,"Faroe Islands",null,null,null,"Eritrea",178,"Fiji",66,"Haiti",93]
[316,"Estonia","Estonie","Estonia","FAO_Country",{"$f":"HLOOKUP($C$2,$B$8:$D323,$A323,FALSE)","v":"Estonia"},"FAO_Country316",null,null,1,"Fiji",null,null,null,"Estonia",63,"Finland",67,"Honduras",95]
[317,"Ethiopia PDR","République populaire démocratique de Éthiopie","Etiopía PDR","FAO_Country",{"$f":"HLOOKUP($C$2,$B$8:$D324,$A324,FALSE)","v":"Ethiopia PDR"},"FAO_Country317",null,null,1,"Finland",null,null,null,"Ethiopia PDR",62,"France",68,"Hungary",97]
[318,"Ethiopia","Éthiopie","Etiopía","FAO_Country",{"$f":"HLOOKUP($C$2,$B$8:$D325,$A325,FALSE)","v":"Ethiopia"},"FAO_Country318",null,null,1,"France",null,null,null,"Ethiopia",238,"French Guiana",69,"Iceland",99]
[319,"Falkland Islands (Malvinas)","Îles Falkland","Falkland Islands (Malvinas)","FAO_Country",{"$f":"HLOOKUP($C$2,$B$8:$D326,$A326,FALSE)","v":"Falkland Islands (Malvinas)"},"FAO_Country319",null,null,1,"French Guiana",null,null,null,"Falkland Islands (Malvinas)",65,"French Polynesia",70,"India",100]
[320,"Faroe Islands","Îles Féroé","Islas Feroe","FAO_Country",{"$f":"HLOOKUP($C$2,$B$8:$D327,$A327,FALSE)","v":"Faroe Islands"},"FAO_Country320",null,null,1,"French Polynesia",null,null,null,"Faroe Islands",64,"Gabon",74,"Indonesia",101]
[321,"Fiji","Fidji","Fiji","FAO_Country",{"$f":"HLOOKUP($C$2,$B$8:$D328,$A328,FALSE)","v":"Fiji"},"FAO_Country321",null,null,1,"Gabon",null,null,null,"Fiji",66,"Gambia",75,"Iran (Islamic Republic of)",102]
[322,"Finland","Finlande","Finlandia","FAO_Country",{"$f":"HLOOKUP($C$2,$B$8:$D329,$A329,FALSE)","v":"Finland"},{"$f":"$E329&$A329","v":"FAO_Country322"},null,null,1,"Gambia",null,null,null,"Finland",67,"Georgia",73,"Iraq",103]
[323,"France","France","Francia","FAO_Country",{"$f":"HLOOKUP($C$2,$B$8:$D330,$A330,FALSE)","v":"France"},"FAO_Country323",null,null,1,"Georgia",null,null,null,"France",68,"Germany",79,"Ireland",104]
[324,"French Guiana","Guyane française","Guayana francesa","FAO_Country",{"$f":"HLOOKUP($C$2,$B$8:$D331,$A331,FALSE)","v":"French Guiana"},"FAO_Country324",null,null,1,"Germany",null,null,null,"French Guiana",69,"Ghana",81,"Israel",105]
[325,"French Polynesia","Polynésie française","Polinesia Francesa","FAO_Country",{"$f":"HLOOKUP($C$2,$B$8:$D332,$A332,FALSE)","v":"French Polynesia"},"FAO_Country325",null,null,1,"Ghana",null,null,null,"French Polynesia",70,"Gibraltar",82,"Italy",106]
[326,"Gabon","Gabon","Gabón","FAO_Country",{"$f":"HLOOKUP($C$2,$B$8:$D333,$A333,FALSE)","v":"Gabon"},"FAO_Country326",null,null,1,"Gibraltar",null,null,null,"Gabon",74,"Greece",84,"Jamaica",109]
[327,"Gambia","Gambie","Gambia","FAO_Country",{"$f":"HLOOKUP($C$2,$B$8:$D334,$A334,FALSE)","v":"Gambia"},"FAO_Country327",null,null,1,"Greece",null,null,null,"Gambia",75,"Greenland",85,"Japan",110]
[328,"Georgia","Géorgie","Georgia","FAO_Country",{"$f":"HLOOKUP($C$2,$B$8:$D335,$A335,FALSE)","v":"Georgia"},"FAO_Country328",null,null,1,"Greenland",null,null,null,"Georgia",73,"Guadeloupe",87,"Kazakhstan",108]
[329,"Germany","Allemagne","Alemania","FAO_Country",{"$f":"HLOOKUP($C$2,$B$8:$D336,$A336,FALSE)","v":"Germany"},"FAO_Country329",null,null,1,"Guadeloupe",null,null,null,"Germany",79,"Guatemala",89,"Kenya",114]
[330,"Ghana","Ghana","Ghana","FAO_Country",{"$f":"HLOOKUP($C$2,$B$8:$D337,$A337,FALSE)","v":"Ghana"},"FAO_Country330",null,null,1,"Guatemala",null,null,null,"Ghana",81,"Guinea-Bissau",175,"Kyrgyzstan",113]
[331,"Gibraltar","Gibraltar","Gibraltar","FAO_Country",{"$f":"HLOOKUP($C$2,$B$8:$D338,$A338,FALSE)","v":"Gibraltar"},"FAO_Country331",null,null,1,"Guinea-Bissau",null,null,null,"Gibraltar",82,"Guinea",90,"Lao People s Democratic Republic",120]
[332,"Greece","Grèce","Grecia","FAO_Country",{"$f":"HLOOKUP($C$2,$B$8:$D339,$A339,FALSE)","v":"Greece"},"FAO_Country332",null,null,1,"Guinea",null,null,null,"Greece",84,"Guyana",91,"Latvia",119]
[333,"Greenland","Groenland","Groenlandia","FAO_Country",{"$f":"HLOOKUP($C$2,$B$8:$D340,$A340,FALSE)","v":"Greenland"},"FAO_Country333",null,null,1,"Guyana",null,null,null,"Greenland",85,"Haiti",93,"Lebanon",121]
[334,"Guadeloupe","Guadeloupe","Guadalupe","FAO_Country",{"$f":"HLOOKUP($C$2,$B$8:$D341,$A341,FALSE)","v":"Guadeloupe"},"FAO_Country334",null,null,{"$f":"IF(K341=B341,0,1)","v":1},"Haiti",null,null,null,"Guadeloupe",87,"Honduras",95,"Liberia",123]
[335,"Guatemala","Guatemala","Guatemala","FAO_Country",{"$f":"HLOOKUP($C$2,$B$8:$D342,$A342,FALSE)","v":"Guatemala"},"FAO_Country335",null,null,1,"Honduras",null,null,null,"Guatemala",89,"Hungary",97,"Libya",124]
[336,"Guinea-Bissau","Guinée-Bissau","Guinea-Bissau","FAO_Country",{"$f":"HLOOKUP($C$2,$B$8:$D343,$A343,FALSE)","v":"Guinea-Bissau"},"FAO_Country336",null,null,1,"Hungary",null,null,null,"Guinea-Bissau",175,"Iceland",99,"Liechtenstein",125]
[337,"Guinea","Guinée","Guinea","FAO_Country",{"$f":"HLOOKUP($C$2,$B$8:$D344,$A344,FALSE)","v":"Guinea"},"FAO_Country337",null,null,1,"Iceland",null,null,null,"Guinea",90,"India",100,"Lithuania",126]
[338,"Guyana","Guyana","Guyana","FAO_Country",{"$f":"HLOOKUP($C$2,$B$8:$D345,$A345,FALSE)","v":"Guyana"},"FAO_Country338",null,null,1,"India",null,null,null,"Guyana",91,"Indonesia",101,"Luxembourg",256]
[339,"Haiti","Haïti","Haití","FAO_Country",{"$f":"HLOOKUP($C$2,$B$8:$D346,$A346,FALSE)","v":"Haiti"},"FAO_Country339",null,null,1,"Indonesia",null,null,null,"Haiti",93,"Iran (Islamic Republic of)",102,"Madagascar",129]
[340,"Honduras","Honduras","Honduras","FAO_Country",{"$f":"HLOOKUP($C$2,$B$8:$D347,$A347,FALSE)","v":"Honduras"},"FAO_Country340",null,null,1,"Iran (Islamic Republic of)",null,null,null,"Honduras",95,"Iraq",103,"Malawi",130]
[341,"Hungary","Hongrie","Hungría","FAO_Country",{"$f":"HLOOKUP($C$2,$B$8:$D348,$A348,FALSE)","v":"Hungary"},"FAO_Country341",null,null,1,"Iraq",null,null,null,"Hungary",97,"Ireland",104,"Malaysia",131]
[342,"Iceland","Islande","Islandia","FAO_Country",{"$f":"HLOOKUP($C$2,$B$8:$D349,$A349,FALSE)","v":"Iceland"},"FAO_Country342",null,null,1,"Ireland",null,null,null,"Iceland",99,"Israel",105,"Mali",133]
[343,"India","Inde","India","FAO_Country",{"$f":"HLOOKUP($C$2,$B$8:$D350,$A350,FALSE)","v":"India"},"FAO_Country343",null,null,1,"Israel",null,null,null,"India",100,"Italy",106,"Malta",134]
[344,"Indonesia","Indonésie","Indonesia","FAO_Country",{"$f":"HLOOKUP($C$2,$B$8:$D351,$A351,FALSE)","v":"Indonesia"},"FAO_Country344",null,null,1,"Italy",null,null,null,"Indonesia",101,"Jamaica",109,"Martinique",135]
[345,"Iran (Islamic Republic of)","Iran (République islamique d')","Irán (República Islámica del)","FAO_Country",{"$f":"HLOOKUP($C$2,$B$8:$D352,$A352,FALSE)","v":"Iran (Islamic Republic of)"},"FAO_Country345",null,null,1,"Jamaica",null,null,null,"Iran (Islamic Republic of)",102,"Japan",110,"Mauritania",136]
[346,"Iraq","Iraq","Iraq","FAO_Country",{"$f":"HLOOKUP($C$2,$B$8:$D353,$A353,FALSE)","v":"Iraq"},"FAO_Country346",null,null,1,"Japan",null,null,null,"Iraq",103,"Jordan",112,"Mauritius",137]
[347,"Ireland","Irlande","Irlanda","FAO_Country",{"$f":"HLOOKUP($C$2,$B$8:$D354,$A354,FALSE)","v":"Ireland"},"FAO_Country347",null,null,1,"Jordan",null,null,null,"Ireland",104,"Kazakhstan",108,"Mexico",138]
[348,"Israel","Israël","Israel","FAO_Country",{"$f":"HLOOKUP($C$2,$B$8:$D355,$A355,FALSE)","v":"Israel"},"FAO_Country348",null,null,1,"Kazakhstan",null,null,null,"Israel",105,"Kenya",114,"Mongolia",141]
[349,"Italy","Italie","Italia","FAO_Country",{"$f":"HLOOKUP($C$2,$B$8:$D356,$A356,FALSE)","v":"Italy"},"FAO_Country349",null,null,1,"Kenya",null,null,null,"Italy",106,"Kiribati",83,"Montenegro",273]
[350,"Jamaica","Jamaïque","Jamaica","FAO_Country",{"$f":"HLOOKUP($C$2,$B$8:$D357,$A357,FALSE)","v":"Jamaica"},"FAO_Country350",null,null,1,"Kiribati",null,null,null,"Jamaica",109,"Kuwait",118,"Morocco",143]
[351,"Japan","Japon","Japón","FAO_Country",{"$f":"HLOOKUP($C$2,$B$8:$D358,$A358,FALSE)","v":"Japan"},"FAO_Country351",null,null,1,"Kuwait",null,null,null,"Japan",110,"Kyrgyzstan",113,"Mozambique",144]
[352,"Jordan","Jordanie","Jordania","FAO_Country",{"$f":"HLOOKUP($C$2,$B$8:$D359,$A359,FALSE)","v":"Jordan"},"FAO_Country352",null,null,1,"Kyrgyzstan",null,null,null,"Jordan",112,"Lao People's Democratic Republic",120,"Myanmar",28]
[353,"Kazakhstan","Kazakhstan","Kazajstán","FAO_Country",{"$f":"HLOOKUP($C$2,$B$8:$D360,$A360,FALSE)","v":"Kazakhstan"},"FAO_Country353",null,null,1,"Lao People's Democratic Republic",null,null,null,"Kazakhstan",108,"Latvia",119,"Nepal",149]
[354,"Kenya","Kenya","Kenya","FAO_Country",{"$f":"HLOOKUP($C$2,$B$8:$D361,$A361,FALSE)","v":"Kenya"},"FAO_Country354",null,null,1,"Latvia",null,null,null,"Kenya",114,"Lebanon",121,"Netherlands",150]
[355,"Kiribati","Kiribati","Kiribati","FAO_Country",{"$f":"HLOOKUP($C$2,$B$8:$D362,$A362,FALSE)","v":"Kiribati"},"FAO_Country355",null,null,1,"Lebanon",null,null,null,"Kiribati",83,"Lesotho",122,"New Caledonia",153]
[356,"Kuwait","Koweït","Kuwait","FAO_Country",{"$f":"HLOOKUP($C$2,$B$8:$D363,$A363,FALSE)","v":"Kuwait"},"FAO_Country356",null,null,1,"Lesotho",null,null,null,"Kuwait",118,"Liberia",123,"New Zealand",156]
[357,"Kyrgyzstan","Kirghizistan","Kirguistán","FAO_Country",{"$f":"HLOOKUP($C$2,$B$8:$D364,$A364,FALSE)","v":"Kyrgyzstan"},"FAO_Country357",null,null,1,"Liberia",null,null,null,"Kyrgyzstan",113,"Libya",124,"Nicaragua",157]
[358,"Lao People's Democratic Republic","République démocratique populaire lao","República Democrática Popular Lao","FAO_Country",{"$f":"HLOOKUP($C$2,$B$8:$D365,$A365,FALSE)","v":"Lao People's Democratic Republic"},"FAO_Country358",null,null,1,"Libya",null,null,null,"Lao People's Democratic Republic",120,"Liechtenstein",125,"Niger",158]
[359,"Latvia","Lettonie","Letonia","FAO_Country",{"$f":"HLOOKUP($C$2,$B$8:$D366,$A366,FALSE)","v":"Latvia"},"FAO_Country359",null,null,1,"Liechtenstein",null,null,null,"Latvia",119,"Lithuania",126,"Nigeria",159]
[360,"Lebanon","Liban","Líbano","FAO_Country",{"$f":"HLOOKUP($C$2,$B$8:$D367,$A367,FALSE)","v":"Lebanon"},"FAO_Country360",null,null,1,"Lithuania",null,null,null,"Lebanon",121,"Luxembourg",256,"Norway",162]
[361,"Lesotho","Lesotho","Lesotho","FAO_Country",{"$f":"HLOOKUP($C$2,$B$8:$D368,$A368,FALSE)","v":"Lesotho"},"FAO_Country361",null,null,1,"Luxembourg",null,null,null,"Lesotho",122,"Madagascar",129,"Pakistan",165]
[362,"Liberia","Libéria","Liberia","FAO_Country",{"$f":"HLOOKUP($C$2,$B$8:$D369,$A369,FALSE)","v":"Liberia"},"FAO_Country362",null,null,1,"Madagascar",null,null,null,"Liberia",123,"Malawi",130,"Panama",166]
[363,"Libya","Libye","Libia","FAO_Country",{"$f":"HLOOKUP($C$2,$B$8:$D370,$A370,FALSE)","v":"Libya"},"FAO_Country363",null,null,1,"Malawi",null,null,null,"Libya",124,"Malaysia",131,"Papua New Guinea",168]
[364,"Liechtenstein","Liechtenstein","Liechtenstein","FAO_Country",{"$f":"HLOOKUP($C$2,$B$8:$D371,$A371,FALSE)","v":"Liechtenstein"},"FAO_Country364",null,null,1,"Malaysia",null,null,null,"Liechtenstein",125,"Maldives",132,"Paraguay",169]
[365,"Lithuania","Lituanie","Lituania","FAO_Country",{"$f":"HLOOKUP($C$2,$B$8:$D372,$A372,FALSE)","v":"Lithuania"},"FAO_Country365",null,null,1,"Maldives",null,null,null,"Lithuania",126,"Mali",133,"Peru",170]
[366,"Luxembourg","Luxembourg","Luxemburgo","FAO_Country",{"$f":"HLOOKUP($C$2,$B$8:$D373,$A373,FALSE)","v":"Luxembourg"},"FAO_Country366",null,null,1,"Mali",null,null,null,"Luxembourg",256,"Malta",134,"Philippines",171]
[367,"Madagascar","Madagascar","Madagascar","FAO_Country",{"$f":"HLOOKUP($C$2,$B$8:$D374,$A374,FALSE)","v":"Madagascar"},"FAO_Country367",null,null,1,"Malta",null,null,null,"Madagascar",129,"Martinique",135,"Poland",173]
[368,"Malawi","Malawi","Malawi","FAO_Country",{"$f":"HLOOKUP($C$2,$B$8:$D375,$A375,FALSE)","v":"Malawi"},"FAO_Country368",null,null,1,"Martinique",null,null,null,"Malawi",130,"Mauritania",136,"Portugal",174]
[369,"Malaysia","Malaisie","Malasia","FAO_Country",{"$f":"HLOOKUP($C$2,$B$8:$D376,$A376,FALSE)","v":"Malaysia"},"FAO_Country369",null,null,1,"Mauritania",null,null,null,"Malaysia",131,"Mauritius",137,"Republic of Korea",117]
[370,"Maldives","Maldives","Maldivas","FAO_Country",{"$f":"HLOOKUP($C$2,$B$8:$D377,$A377,FALSE)","v":"Maldives"},"FAO_Country370",null,null,1,"Mauritius",null,null,null,"Maldives",132,"Mayotte",270,"Republic of Moldova",146]
[371,"Mali","Mali","Malí","FAO_Country",{"$f":"HLOOKUP($C$2,$B$8:$D378,$A378,FALSE)","v":"Mali"},"FAO_Country371",null,null,1,"Mayotte",null,null,null,"Mali",133,"Mexico",138,"Romania",183]
[372,"Malta","Malte","Malta","FAO_Country",{"$f":"HLOOKUP($C$2,$B$8:$D379,$A379,FALSE)","v":"Malta"},"FAO_Country372",null,null,1,"Mexico",null,null,null,"Malta",134,"Micronesia (Federated States of)",145,"Russian Federation",185]
[373,"Martinique","Martinique","Martinica","FAO_Country",{"$f":"HLOOKUP($C$2,$B$8:$D380,$A380,FALSE)","v":"Martinique"},"FAO_Country373",null,null,1,"Micronesia (Federated States of)",null,null,null,"Martinique",135,"Mongolia",141,"Rwanda",184]
[374,"Mauritania","Mauritanie","Mauritania","FAO_Country",{"$f":"HLOOKUP($C$2,$B$8:$D381,$A381,FALSE)","v":"Mauritania"},"FAO_Country374",null,null,1,"Mongolia",null,null,null,"Mauritania",136,"Montenegro",273,"Réunion",182]
[375,"Mauritius","Maurice","Mauricio","FAO_Country",{"$f":"HLOOKUP($C$2,$B$8:$D382,$A382,FALSE)","v":"Mauritius"},"FAO_Country375",null,null,1,"Montenegro",null,null,null,"Mauritius",137,"Morocco",143,"Samoa",244]
[376,"Mayotte","Mayotte","Mayotte","FAO_Country",{"$f":"HLOOKUP($C$2,$B$8:$D383,$A383,FALSE)","v":"Mayotte"},"FAO_Country376",null,null,1,"Morocco",null,null,null,"Mayotte",270,"Mozambique",144,"Sao Tome and Principe",193]
[377,"Mexico","Mexique","México","FAO_Country",{"$f":"HLOOKUP($C$2,$B$8:$D384,$A384,FALSE)","v":"Mexico"},"FAO_Country377",null,null,1,"Mozambique",null,null,null,"Mexico",138,"Myanmar",28,"Senegal",195]
[378,"Micronesia (Federated States of)","Micronésie (États fédérés de)","Micronesia (Estados Federados de)","FAO_Country",{"$f":"HLOOKUP($C$2,$B$8:$D385,$A385,FALSE)","v":"Micronesia (Federated States of)"},"FAO_Country378",null,null,1,"Myanmar",null,null,null,"Micronesia (Federated States of)",145,"Namibia",147,"Serbia and Montenegro",186]
[379,"Mongolia","Mongolie","Mongolia","FAO_Country",{"$f":"HLOOKUP($C$2,$B$8:$D386,$A386,FALSE)","v":"Mongolia"},"FAO_Country379",null,null,1,"Namibia",null,null,null,"Mongolia",141,"Nepal",149,"Serbia",272]
[380,"Montenegro","Monténégro","Montenegro","FAO_Country",{"$f":"HLOOKUP($C$2,$B$8:$D387,$A387,FALSE)","v":"Montenegro"},"FAO_Country380",null,null,1,"Nepal",null,null,null,"Montenegro",273,"Netherlands Antilles",151,"Seychelles",196]
[381,"Morocco","Maroc","Marruecos","FAO_Country",{"$f":"HLOOKUP($C$2,$B$8:$D388,$A388,FALSE)","v":"Morocco"},"FAO_Country381",null,null,1,"Netherlands Antilles",null,null,null,"Morocco",143,"Netherlands",150,"Sierra Leone",197]
[382,"Mozambique","Mozambique","Mozambique","FAO_Country",{"$f":"HLOOKUP($C$2,$B$8:$D389,$A389,FALSE)","v":"Mozambique"},"FAO_Country382",null,null,1,"Netherlands",null,null,null,"Mozambique",144,"New Caledonia",153,"Singapore",200]
[383,"Myanmar","Myanmar","Myanmar","FAO_Country",{"$f":"HLOOKUP($C$2,$B$8:$D390,$A390,FALSE)","v":"Myanmar"},"FAO_Country383",null,null,1,"New Caledonia",null,null,null,"Myanmar",28,"New Zealand",156,"Slovakia",199]
[384,"Namibia","Namibie","Namibia","FAO_Country",{"$f":"HLOOKUP($C$2,$B$8:$D391,$A391,FALSE)","v":"Namibia"},"FAO_Country384",null,null,1,"New Zealand",null,null,null,"Namibia",147,"Nicaragua",157,"Slovenia",198]
[385,"Nepal","Népal","Nepal","FAO_Country",{"$f":"HLOOKUP($C$2,$B$8:$D392,$A392,FALSE)","v":"Nepal"},"FAO_Country385",null,null,1,"Nicaragua",null,null,null,"Nepal",149,"Niger",158,"Solomon Islands",25]
[386,"Netherlands Antilles","Netherlands Antilles","Netherlands Antilles","FAO_Country",{"$f":"HLOOKUP($C$2,$B$8:$D393,$A393,FALSE)","v":"Netherlands Antilles"},{"$f":"$E393&$A393","v":"FAO_Country386"},null,null,1,"Niger",null,null,null,"Netherlands Antilles",151,"Nigeria",159,"Somalia",201]
[387,"Netherlands","Pays-Bas","Países Bajos","FAO_Country",{"$f":"HLOOKUP($C$2,$B$8:$D394,$A394,FALSE)","v":"Netherlands"},"FAO_Country387",null,null,1,"Nigeria",null,null,null,"Netherlands",150,"Niue",160,"South Africa",202]
[388,"New Caledonia","Nouvelle-Calédonie","Nueva Caledonia","FAO_Country",{"$f":"HLOOKUP($C$2,$B$8:$D395,$A395,FALSE)","v":"New Caledonia"},"FAO_Country388",null,null,1,"Niue",null,null,null,"New Caledonia",153,"Norfolk Island",161,"Spain",203]
[389,"New Zealand","Nouvelle-Zélande","Nueva Zelandia","FAO_Country",{"$f":"HLOOKUP($C$2,$B$8:$D396,$A396,FALSE)","v":"New Zealand"},"FAO_Country389",null,null,1,"Norfolk Island",null,null,null,"New Zealand",156,"Norway",162,"Sri Lanka",38]
[390,"Nicaragua","Nicaragua","Nicaragua","FAO_Country",{"$f":"HLOOKUP($C$2,$B$8:$D397,$A397,FALSE)","v":"Nicaragua"},"FAO_Country390",null,null,1,"Norway",null,null,null,"Nicaragua",157,"Oman",221,"Sudan (former)",206]
[391,"Niger","Niger","Níger","FAO_Country",{"$f":"HLOOKUP($C$2,$B$8:$D398,$A398,FALSE)","v":"Niger"},"FAO_Country391",null,null,1,"Oman",null,null,null,"Niger",158,"Pakistan",165,"Sudan",276]
[392,"Nigeria","Nigéria","Nigeria","FAO_Country",{"$f":"HLOOKUP($C$2,$B$8:$D399,$A399,FALSE)","v":"Nigeria"},"FAO_Country392",null,null,1,"Pakistan",null,null,null,"Nigeria",159,"Panama",166,"Suriname",207]
[393,"Niue","Nioué","Niue","FAO_Country",{"$f":"HLOOKUP($C$2,$B$8:$D400,$A400,FALSE)","v":"Niue"},"FAO_Country393",null,null,1,"Panama",null,null,null,"Niue",160,"Papua New Guinea",168,"Eswatini",209]
[394,"Norfolk Island","l'île Norfolk","Isla Norfolk","FAO_Country",{"$f":"HLOOKUP($C$2,$B$8:$D401,$A401,FALSE)","v":"Norfolk Island"},"FAO_Country394",null,null,1,"Papua New Guinea",null,null,null,"Norfolk Island",161,"Paraguay",169,"Sweden",210]
[395,"Norway","Norvège","Noruega","FAO_Country",{"$f":"HLOOKUP($C$2,$B$8:$D402,$A402,FALSE)","v":"Norway"},"FAO_Country395",null,null,1,"Paraguay",null,null,null,"Norway",162,"Peru",170,"Switzerland",211]
[396,"Oman","Oman","Omán","FAO_Country",{"$f":"HLOOKUP($C$2,$B$8:$D403,$A403,FALSE)","v":"Oman"},"FAO_Country396",null,null,1,"Peru",null,null,null,"Oman",221,"Philippines",171,"Syrian Arab Republic",212]
[397,"Pakistan","Pakistan","Pakistán","FAO_Country",{"$f":"HLOOKUP($C$2,$B$8:$D404,$A404,FALSE)","v":"Pakistan"},"FAO_Country397",null,null,1,"Philippines",null,null,null,"Pakistan",165,"Poland",173,"Tajikistan",208]
[398,"Panama","Panama","Panamá","FAO_Country",{"$f":"HLOOKUP($C$2,$B$8:$D405,$A405,FALSE)","v":"Panama"},"FAO_Country398",null,null,{"$f":"IF(K405=B405,0,1)","v":1},"Poland",null,null,null,"Panama",166,"Portugal",174,"Thailand",216]
[399,"Papua New Guinea","Papouasie-Nouvelle-Guinée","Papua Nueva Guinea","FAO_Country",{"$f":"HLOOKUP($C$2,$B$8:$D406,$A406,FALSE)","v":"Papua New Guinea"},"FAO_Country399",null,null,1,"Portugal",null,null,null,"Papua New Guinea",168,"Qatar",179,"North Macedonia",154]
[400,"Paraguay","Paraguay","Paraguay","FAO_Country",{"$f":"HLOOKUP($C$2,$B$8:$D407,$A407,FALSE)","v":"Paraguay"},"FAO_Country400",null,null,1,"Qatar",null,null,null,"Paraguay",169,"Republic of Korea",117,"Togo",217]
[401,"Peru","Pérou","Perú","FAO_Country",{"$f":"HLOOKUP($C$2,$B$8:$D408,$A408,FALSE)","v":"Peru"},"FAO_Country401",null,null,1,"Republic of Korea",null,null,null,"Peru",170,"Republic of Moldova",146,"Tonga",219]
[402,"Philippines","Philippines","Filipinas","FAO_Country",{"$f":"HLOOKUP($C$2,$B$8:$D409,$A409,FALSE)","v":"Philippines"},"FAO_Country402",null,null,1,"Republic of Moldova",null,null,null,"Philippines",171,"Romania",183,"Trinidad and Tobago",220]
[403,"Poland","Pologne","Polonia","FAO_Country",{"$f":"HLOOKUP($C$2,$B$8:$D410,$A410,FALSE)","v":"Poland"},"FAO_Country403",null,null,1,"Romania",null,null,null,"Poland",173,"Russian Federation",185,"Tunisia",222]
[404,"Portugal","Portugal","Portugal","FAO_Country",{"$f":"HLOOKUP($C$2,$B$8:$D411,$A411,FALSE)","v":"Portugal"},"FAO_Country404",null,null,1,"Russian Federation",null,null,null,"Portugal",174,"Rwanda",184,"Turkey",223]
[405,"Qatar","Qatar","Qatar","FAO_Country",{"$f":"HLOOKUP($C$2,$B$8:$D412,$A412,FALSE)","v":"Qatar"},"FAO_Country405",null,null,1,"Rwanda",null,null,null,"Qatar",179,"Réunion",182,"Uganda",226]
[406,"Republic of Korea","République de Corée","República de Corea","FAO_Country",{"$f":"HLOOKUP($C$2,$B$8:$D413,$A413,FALSE)","v":"Republic of Korea"},"FAO_Country406",null,null,1,"Réunion",null,null,null,"Republic of Korea",117,"Saint Lucia",189,"Ukraine",230]
[407,"Republic of Moldova","République de Moldova","República de Moldova","FAO_Country",{"$f":"HLOOKUP($C$2,$B$8:$D414,$A414,FALSE)","v":"Republic of Moldova"},"FAO_Country407",null,null,1,"Saint Lucia",null,null,null,"Republic of Moldova",146,"Saint Pierre and Miquelon",190,"United Kingdom",229]
[408,"Romania","Roumanie","Rumania","FAO_Country",{"$f":"HLOOKUP($C$2,$B$8:$D415,$A415,FALSE)","v":"Romania"},"FAO_Country408",null,null,1,"Saint Pierre and Miquelon",null,null,null,"Romania",183,"Saint Vincent and the Grenadines",191,"United Republic of Tanzania",215]
[409,"Russian Federation","Fédération de Russie","Federación de Rusia","FAO_Country",{"$f":"HLOOKUP($C$2,$B$8:$D416,$A416,FALSE)","v":"Russian Federation"},"FAO_Country409",null,null,1,"Saint Vincent and the Grenadines",null,null,null,"Russian Federation",185,"Samoa",244,"United States of America",231]
[410,"Rwanda","Rwanda","Rwanda","FAO_Country",{"$f":"HLOOKUP($C$2,$B$8:$D417,$A417,FALSE)","v":"Rwanda"},"FAO_Country410",null,null,1,"Samoa",null,null,null,"Rwanda",184,"Sao Tome and Principe",193,"Uruguay",234]
[411,"Réunion","Réunion","Reunión","FAO_Country",{"$f":"HLOOKUP($C$2,$B$8:$D418,$A418,FALSE)","v":"Réunion"},"FAO_Country411",null,null,1,"Sao Tome and Principe",null,null,null,"Réunion",182,"Saudi Arabia",194,"Uzbekistan",235]
[412,"Saint Lucia","Sainte-Lucie","Santa Lucía","FAO_Country",{"$f":"HLOOKUP($C$2,$B$8:$D419,$A419,FALSE)","v":"Saint Lucia"},"FAO_Country412",null,null,1,"Saudi Arabia",null,null,null,"Saint Lucia",189,"Senegal",195,"Vanuatu",155]
[413,"Saint Pierre and Miquelon","Saint-Pierre-et-Miquelon","Saint Pierre and Miquelon","FAO_Country",{"$f":"HLOOKUP($C$2,$B$8:$D420,$A420,FALSE)","v":"Saint Pierre and Miquelon"},"FAO_Country413",null,null,1,"Senegal",null,null,null,"Saint Pierre and Miquelon",190,"Serbia and Montenegro",186,"Venezuela (Bolivarian Republic of)",236]
[414,"Saint Vincent and the Grenadines","Saint-Vincent-et-les Grenadines","San Vicente y las Granadinas","FAO_Country",{"$f":"HLOOKUP($C$2,$B$8:$D421,$A421,FALSE)","v":"Saint Vincent and the Grenadines"},"FAO_Country414",null,null,1,"Serbia and Montenegro",null,null,null,"Saint Vincent and the Grenadines",191,"Serbia",272,"Viet Nam",237]
[415,"Samoa","Samoa","Samoa","FAO_Country",{"$f":"HLOOKUP($C$2,$B$8:$D422,$A422,FALSE)","v":"Samoa"},"FAO_Country415",null,null,1,"Serbia",null,null,null,"Samoa",244,"Seychelles",196,"Wallis and Futuna Islands",243]
[416,"Sao Tome and Principe","Sao Tomé-et-Principe","Santo Tomé y Príncipe","FAO_Country",{"$f":"HLOOKUP($C$2,$B$8:$D423,$A423,FALSE)","v":"Sao Tome and Principe"},"FAO_Country416",null,null,1,"Seychelles",null,null,null,"Sao Tome and Principe",193,"Sierra Leone",197,"Zambia",251]
[417,"Saudi Arabia","Arabie saoudite","Arabia Saudita","FAO_Country",{"$f":"HLOOKUP($C$2,$B$8:$D424,$A424,FALSE)","v":"Saudi Arabia"},"FAO_Country417",null,null,1,"Sierra Leone",null,null,null,"Saudi Arabia",194,"Singapore",200,"Zimbabwe",181]
[418,"Senegal","Sénégal","Senegal","FAO_Country",{"$f":"HLOOKUP($C$2,$B$8:$D425,$A425,FALSE)","v":"Senegal"},"FAO_Country418",null,null,1,"Singapore",null,null,null,"Senegal",195,"Slovakia",199]
[419,"Serbia and Montenegro","Serbia and Montenegro","Serbia y Montenegro","FAO_Country",{"$f":"HLOOKUP($C$2,$B$8:$D426,$A426,FALSE)","v":"Serbia and Montenegro"},"FAO_Country419",null,null,1,"Slovakia",null,null,null,"Serbia and Montenegro",186,"Slovenia",198]
[420,"Serbia","Serbie","Serbia","FAO_Country",{"$f":"HLOOKUP($C$2,$B$8:$D427,$A427,FALSE)","v":"Serbia"},"FAO_Country420",null,null,1,"Slovenia",null,null,null,"Serbia",272,"Solomon Islands",25]
[421,"Seychelles","Seychelles","Seychelles","FAO_Country",{"$f":"HLOOKUP($C$2,$B$8:$D428,$A428,FALSE)","v":"Seychelles"},"FAO_Country421",null,null,1,"Solomon Islands",null,null,null,"Seychelles",196,"Somalia",201]
[422,"Sierra Leone","Sierra Leone","Sierra Leona","FAO_Country",{"$f":"HLOOKUP($C$2,$B$8:$D429,$A429,FALSE)","v":"Sierra Leone"},"FAO_Country422",null,null,1,"Somalia",null,null,null,"Sierra Leone",197,"South Africa",202]
[423,"Singapore","Singapour","Singapur","FAO_Country",{"$f":"HLOOKUP($C$2,$B$8:$D430,$A430,FALSE)","v":"Singapore"},"FAO_Country423",null,null,1,"South Africa",null,null,null,"Singapore",200,"South Sudan",277]
[424,"Slovakia","Slovaquie","Eslovaquia","FAO_Country",{"$f":"HLOOKUP($C$2,$B$8:$D431,$A431,FALSE)","v":"Slovakia"},"FAO_Country424",null,null,1,"South Sudan",null,null,null,"Slovakia",199,"Spain",203]
[425,"Slovenia","Slovénie","Eslovenia","FAO_Country",{"$f":"HLOOKUP($C$2,$B$8:$D432,$A432,FALSE)","v":"Slovenia"},"FAO_Country425",null,null,1,"Spain",null,null,null,"Slovenia",198,"Sri Lanka",38]
[426,"Solomon Islands","Îles Salomon","Islas Salomón","FAO_Country",{"$f":"HLOOKUP($C$2,$B$8:$D433,$A433,FALSE)","v":"Solomon Islands"},"FAO_Country426",null,null,1,"Sri Lanka",null,null,null,"Solomon Islands",25,"Sudan (former)",206]
[427,"Somalia","Somalie","Somalia","FAO_Country",{"$f":"HLOOKUP($C$2,$B$8:$D434,$A434,FALSE)","v":"Somalia"},"FAO_Country427",null,null,1,"Sudan (former)",null,null,null,"Somalia",201,"Sudan",276]
[428,"South Africa","Afrique du Sud","Sudáfrica","FAO_Country",{"$f":"HLOOKUP($C$2,$B$8:$D435,$A435,FALSE)","v":"South Africa"},"FAO_Country428",null,null,1,"Sudan",null,null,null,"South Africa",202,"Suriname",207]
[429,"South Sudan","Sud du Soudan","Sudan del Sur","FAO_Country",{"$f":"HLOOKUP($C$2,$B$8:$D436,$A436,FALSE)","v":"South Sudan"},"FAO_Country429",null,null,1,"Suriname",null,null,null,"South Sudan",277,"Eswatini",209]
[430,"Spain","Espagne","España","FAO_Country",{"$f":"HLOOKUP($C$2,$B$8:$D437,$A437,FALSE)","v":"Spain"},"FAO_Country430",null,null,1,"Eswatini",null,null,null,"Spain",203,"Sweden",210]
[431,"Sri Lanka","Sri Lanka","Sri Lanka","FAO_Country",{"$f":"HLOOKUP($C$2,$B$8:$D438,$A438,FALSE)","v":"Sri Lanka"},"FAO_Country431",null,null,1,"Sweden",null,null,null,"Sri Lanka",38,"Switzerland",211]
[432,"Sudan (former)","Sudan","Sudan (former)","FAO_Country",{"$f":"HLOOKUP($C$2,$B$8:$D439,$A439,FALSE)","v":"Sudan (former)"},"FAO_Country432",null,null,1,"Switzerland",null,null,null,"Sudan (former)",206,"Syrian Arab Republic",212]
[433,"Sudan","Soudan","Sudan","FAO_Country",{"$f":"HLOOKUP($C$2,$B$8:$D440,$A440,FALSE)","v":"Sudan"},"FAO_Country433",null,null,1,"Syrian Arab Republic",null,null,null,"Sudan",276,"Tajikistan",208]
[434,"Suriname","Suriname","Surinam","FAO_Country",{"$f":"HLOOKUP($C$2,$B$8:$D441,$A441,FALSE)","v":"Suriname"},"FAO_Country434",null,null,1,"Tajikistan",null,null,null,"Suriname",207,"Thailand",216]
[435,"Eswatini","Eswatini","Eswatini","FAO_Country",{"$f":"HLOOKUP($C$2,$B$8:$D442,$A442,FALSE)","v":"Eswatini"},"FAO_Country435",null,null,1,"Thailand",null,null,null,"Eswatini",209,"North Macedonia",154]
[436,"Sweden","Suède","Suecia","FAO_Country",{"$f":"HLOOKUP($C$2,$B$8:$D443,$A443,FALSE)","v":"Sweden"},"FAO_Country436",null,null,1,"North Macedonia",null,null,null,"Sweden",210,"Timor-Leste",176]
[437,"Switzerland","Suisse","Suiza","FAO_Country",{"$f":"HLOOKUP($C$2,$B$8:$D444,$A444,FALSE)","v":"Switzerland"},"FAO_Country437",null,null,1,"Timor-Leste",null,null,null,"Switzerland",211,"Togo",217]
[438,"Syrian Arab Republic","République arabe syrienne","República Árabe Siria","FAO_Country",{"$f":"HLOOKUP($C$2,$B$8:$D445,$A445,FALSE)","v":"Syrian Arab Republic"},"FAO_Country438",null,null,1,"Togo",null,null,null,"Syrian Arab Republic",212,"Tonga",219]
[439,"Tajikistan","Tadjikistan","Tayikistán","FAO_Country",{"$f":"HLOOKUP($C$2,$B$8:$D446,$A446,FALSE)","v":"Tajikistan"},"FAO_Country439",null,null,1,"Tonga",null,null,null,"Tajikistan",208,"Trinidad and Tobago",220]
[440,"Thailand","Thaïlande","Tailandia","FAO_Country",{"$f":"HLOOKUP($C$2,$B$8:$D447,$A447,FALSE)","v":"Thailand"},"FAO_Country440",null,null,1,"Trinidad and Tobago",null,null,null,"Thailand",216,"Tunisia",222]
[441,"North Macedonia","Macédoine du Nord","Macedonia del Norte","FAO_Country",{"$f":"HLOOKUP($C$2,$B$8:$D448,$A448,FALSE)","v":"North Macedonia"},"FAO_Country441",null,null,1,"Tunisia",null,null,null,"North Macedonia",154,"Turkey",223]
[442,"Timor-Leste","Timor-Leste","Timor-Leste","FAO_Country",{"$f":"HLOOKUP($C$2,$B$8:$D449,$A449,FALSE)","v":"Timor-Leste"},"FAO_Country442",null,null,1,"Turkey",null,null,null,"Timor-Leste",176,"Turkmenistan",213]
[443,"Togo","Togo","Togo","FAO_Country",{"$f":"HLOOKUP($C$2,$B$8:$D450,$A450,FALSE)","v":"Togo"},"FAO_Country443",null,null,1,"Turkmenistan",null,null,null,"Togo",217,"Turks and Caicos Islands",224]
[444,"Tonga","Tonga","Tonga","FAO_Country",{"$f":"HLOOKUP($C$2,$B$8:$D451,$A451,FALSE)","v":"Tonga"},"FAO_Country444",null,null,1,"Turks and Caicos Islands",null,null,null,"Tonga",219,"Uganda",226]
[445,"Trinidad and Tobago","Trinité-et-Tobago","Trinidad y Tabago","FAO_Country",{"$f":"HLOOKUP($C$2,$B$8:$D452,$A452,FALSE)","v":"Trinidad and Tobago"},"FAO_Country445",null,null,1,"Uganda",null,null,null,"Trinidad and Tobago",220,"Ukraine",230]
[446,"Tunisia","Tunisie","Túnez","FAO_Country",{"$f":"HLOOKUP($C$2,$B$8:$D453,$A453,FALSE)","v":"Tunisia"},"FAO_Country446",null,null,1,"Ukraine",null,null,null,"Tunisia",222,"United Arab Emirates",225]
[447,"Turkey","Turquie","Turquía","FAO_Country",{"$f":"HLOOKUP($C$2,$B$8:$D454,$A454,FALSE)","v":"Turkey"},"FAO_Country447",null,null,1,"United Arab Emirates",null,null,null,"Turkey",223,"United Kingdom",229]
[448,"Turkmenistan","Turkménistan","Turkmenistán","FAO_Country",{"$f":"HLOOKUP($C$2,$B$8:$D455,$A455,FALSE)","v":"Turkmenistan"},"FAO_Country448",null,null,1,"United Kingdom",null,null,null,"Turkmenistan",213,"United Republic of Tanzania",215]
[449,"Turks and Caicos Islands","Îles Turques et Caïques","Islas Turcas y Caicos","FAO_Country",{"$f":"HLOOKUP($C$2,$B$8:$D456,$A456,FALSE)","v":"Turks and Caicos Islands"},"FAO_Country449",null,null,1,"United Republic of Tanzania",null,null,null,"Turks and Caicos Islands",224,"United States of America",231]
[450,"USSR","USSR","USSR","FAO_Country",{"$f":"HLOOKUP($C$2,$B$8:$D457,$A457,FALSE)","v":"USSR"},{"$f":"$E457&$A457","v":"FAO_Country450"},null,null,1,"United States of America",null,null,null,"USSR",228,"Uruguay",234]
[451,"Uganda","Ouganda","Uganda","FAO_Country",{"$f":"HLOOKUP($C$2,$B$8:$D458,$A458,FALSE)","v":"Uganda"},"FAO_Country451",null,null,1,"Uruguay",null,null,null,"Uganda",226,"Uzbekistan",235]
[452,"Ukraine","Ukraine","Ucrania","FAO_Country",{"$f":"HLOOKUP($C$2,$B$8:$D459,$A459,FALSE)","v":"Ukraine"},"FAO_Country452",null,null,1,"Uzbekistan",null,null,null,"Ukraine",230,"Vanuatu",155]
[453,"United Arab Emirates","Émirats arabes unis","Emiratos Árabes Unidos","FAO_Country",{"$f":"HLOOKUP($C$2,$B$8:$D460,$A460,FALSE)","v":"United Arab Emirates"},"FAO_Country453",null,null,1,"Vanuatu",null,null,null,"United Arab Emirates",225,"Venezuela (Bolivarian Republic of)",236]
[454,"United Kingdom","Royaume-Uni","Reino Unido","FAO_Country",{"$f":"HLOOKUP($C$2,$B$8:$D461,$A461,FALSE)","v":"United Kingdom"},"FAO_Country454",null,null,1,"Venezuela (Bolivarian Republic of)",null,null,null,"United Kingdom",229,"Viet Nam",237]
[455,"United Republic of Tanzania","République-Unie de Tanzanie","República Unida de Tanzanía","FAO_Country",{"$f":"HLOOKUP($C$2,$B$8:$D462,$A462,FALSE)","v":"United Republic of Tanzania"},"FAO_Country455",null,null,1,"Viet Nam",null,null,null,"United Republic of Tanzania",215,"Wallis and Futuna Islands",243]
[456,"United States of America","États-Unis d'Amérique","Estados Unidos de América","FAO_Country",{"$f":"HLOOKUP($C$2,$B$8:$D463,$A463,FALSE)","v":"United States of America"},"FAO_Country456",null,null,1,"Wallis and Futuna Islands",null,null,null,"United States of America",231,"Yemen",249]
[457,"Uruguay","Uruguay","Uruguay","FAO_Country",{"$f":"HLOOKUP($C$2,$B$8:$D464,$A464,FALSE)","v":"Uruguay"},"FAO_Country457",null,null,1,"Yemen",null,null,null,"Uruguay",234,"Zambia",251]
[458,"Uzbekistan","Ouzbékistan","Uzbekistán","FAO_Country",{"$f":"HLOOKUP($C$2,$B$8:$D465,$A465,FALSE)","v":"Uzbekistan"},"FAO_Country458",null,null,1,"Zambia",null,null,null,"Uzbekistan",235,"Zimbabwe",181]
[459,"Vanuatu","Vanuatu","Vanuatu","FAO_Country",{"$f":"HLOOKUP($C$2,$B$8:$D466,$A466,FALSE)","v":"Vanuatu"},"FAO_Country459",null,null,1,"Zimbabwe",null,null,null,"Vanuatu",155]
[460,"Venezuela (Bolivarian Republic of)","Venezuela (République bolivarienne du)","Venezuela (República Bolivariana de)","FAO_Country",{"$f":"HLOOKUP($C$2,$B$8:$D467,$A467,FALSE)","v":"Venezuela (Bolivarian Republic of)"},"FAO_Country460",null,null,null,null,null,null,null,"Venezuela (Bolivarian Republic of)",236]
[461,"Viet Nam","Viet Nam","Viet Nam","FAO_Country",{"$f":"HLOOKUP($C$2,$B$8:$D468,$A468,FALSE)","v":"Viet Nam"},"FAO_Country461",null,null,null,null,null,null,null,"Viet Nam",237]
[462,"Wallis and Futuna Islands","Wallis-et-Futuna","Islas Wallis y Futuna","FAO_Country",{"$f":"HLOOKUP($C$2,$B$8:$D469,$A469,FALSE)","v":"Wallis and Futuna Islands"},"FAO_Country462",null,null,null,null,null,null,null,"Wallis and Futuna Islands",243]
[463,"Yemen","Yémen","Yemen","FAO_Country",{"$f":"HLOOKUP($C$2,$B$8:$D470,$A470,FALSE)","v":"Yemen"},"FAO_Country463",null,null,null,null,null,null,null,"Yemen",249]
[464,"Yugoslav SFR","Yugoslav SFR","Yugoslav SFR","FAO_Country",{"$f":"HLOOKUP($C$2,$B$8:$D471,$A471,FALSE)","v":"Yugoslav SFR"},"FAO_Country464",null,null,null,null,null,null,null,"Yugoslav SFR",248]
[465,"Zambia","Zambie","Zambia","FAO_Country",{"$f":"HLOOKUP($C$2,$B$8:$D472,$A472,FALSE)","v":"Zambia"},"FAO_Country465",null,null,null,null,null,null,null,"Zambia",251]
[466,"Zimbabwe","Zimbabwe","Zimbabwe","FAO_Country",{"$f":"HLOOKUP($C$2,$B$8:$D473,$A473,FALSE)","v":"Zimbabwe"},"FAO_Country466",null,null,null,null,null,null,null,"Zimbabwe",181]
[467,"Faeroe Islands","Îles Féroé","Islas Feroe","Other_Country",{"$f":"HLOOKUP($C$2,$B$8:$D474,$A474,FALSE)","v":"Faeroe Islands"},"Other_Country467"]
[468,"Falkland Islands (Malvinas)","Îles Falkland","Islas Malvinas","Other_Country",{"$f":"HLOOKUP($C$2,$B$8:$D475,$A475,FALSE)","v":"Falkland Islands (Malvinas)"},"Other_Country468"]
[469,"Saint Helena, Ascension and Tristan da Cunha","Sainte-Hélène Ascension et Tristan de Cunha","Santa Elena Ascension y Tristan da Cunha","Other_Country",{"$f":"HLOOKUP($C$2,$B$8:$D476,$A476,FALSE)","v":"Saint Helena, Ascension and Tristan da Cunha"},"Other_Country469"]
[470,"South Sudan","Sud du Soudan","Sudan del Sur","Other_Country",{"$f":"HLOOKUP($C$2,$B$8:$D477,$A477,FALSE)","v":"South Sudan"},"Other_Country470"]
[471,"Sudan (former)","Sudan","Sudan","Other_Country",{"$f":"HLOOKUP($C$2,$B$8:$D478,$A478,FALSE)","v":"Sudan (former)"},"Other_Country471"]
[472,"Africa","Afrique","África","Region",{"$f":"HLOOKUP($C$2,$B$8:$D479,$A479,FALSE)","v":"Africa"},"Region472"]
[473,"Asia","Asie","Asia","Region",{"$f":"HLOOKUP($C$2,$B$8:$D480,$A480,FALSE)","v":"Asia"},"Region473"]
[474,"Eastern Europe","Europe de l’Est","Europa del Este","Region",{"$f":"HLOOKUP($C$2,$B$8:$D481,$A481,FALSE)","v":"Eastern Europe"},"Region474"]
[475,"Indian Subcontinent","Sous-continent Indien","Subcontinente de La India","Region",{"$f":"HLOOKUP($C$2,$B$8:$D482,$A482,FALSE)","v":"Indian Subcontinent"},"Region475"]
[476,"Latin America","Amérique Latine","América Latina","Region",{"$f":"HLOOKUP($C$2,$B$8:$D483,$A483,FALSE)","v":"Latin America"},"Region476"]
[477,"Middle East","Moyen Orient","Oriente Próximo","Region",{"$f":"HLOOKUP($C$2,$B$8:$D484,$A484,FALSE)","v":"Middle East"},"Region477"]
[478,"North America","Amérique du Nord","Norteamérica","Region",{"$f":"HLOOKUP($C$2,$B$8:$D485,$A485,FALSE)","v":"North America"},"Region478"]
[479,"Oceania","Océanie","Oceanía","Region",{"$f":"HLOOKUP($C$2,$B$8:$D486,$A486,FALSE)","v":"Oceania"},"Region479"]
[480,"Western Europe","Europe Occidentale","Europa Occidental","Region",{"$f":"HLOOKUP($C$2,$B$8:$D487,$A487,FALSE)","v":"Western Europe"},"Region480"]

{"sheet":"Selections","index":12,"n_rows":255,"n_cols":7,"rows_kept":255,"cut":false,"hidden":true,"merged":[[0,0,0,13]]}
["NOTE: This is ONLY for selections, i.e. Countries, administrative areas,…. NOT for translation"]
[null,"Selection",{"$f":"VLOOKUP(Start!C3,$A$3:$C$5,3,FALSE)","v":1}]
["EN","English",1]
["FR","French",2]
["ES","Spanish",3]
[]
["ID","English","French","Spanish","Typeof","Ref","Name"]
[1,1,2,3]
[2,"Select a country","Sélectionnez un pays","Seleccione un país","country_sel",{"$f":"HLOOKUP($C$2,$B$8:$D9,$A9,FALSE)","v":"Select a country"},{"$f":"$E9&$A9","v":"country_sel2"}]
[3,"Afghanistan","Afghanistan","Afganistán","country_sel",{"$f":"HLOOKUP($C$2,$B$8:$D10,$A10,FALSE)","v":"Afghanistan"},"country_sel3"]
[4,"Albania","Afrique du Sud","Albania","country_sel",{"$f":"HLOOKUP($C$2,$B$8:$D11,$A11,FALSE)","v":"Albania"},"country_sel4"]
[5,"Algeria","Albanie","Alemania","country_sel",{"$f":"HLOOKUP($C$2,$B$8:$D12,$A12,FALSE)","v":"Algeria"},"country_sel5"]
[6,"American Samoa","Algérie","Andorra","country_sel",{"$f":"HLOOKUP($C$2,$B$8:$D13,$A13,FALSE)","v":"American Samoa"},"country_sel6"]
[7,"Andorra","Allemagne","Angola","country_sel",{"$f":"HLOOKUP($C$2,$B$8:$D14,$A14,FALSE)","v":"Andorra"},"country_sel7"]
[8,"Angola","Andorre","Anguila","country_sel",{"$f":"HLOOKUP($C$2,$B$8:$D15,$A15,FALSE)","v":"Angola"},"country_sel8"]
[9,"Anguilla","Angola","Antigua y Barbuda","country_sel",{"$f":"HLOOKUP($C$2,$B$8:$D16,$A16,FALSE)","v":"Anguilla"},"country_sel9"]
[10,"Antigua and Barbuda","Anguilla","Arabia Saudita","country_sel",{"$f":"HLOOKUP($C$2,$B$8:$D17,$A17,FALSE)","v":"Antigua and Barbuda"},"country_sel10"]
[11,"Argentina","Antigua-et-Barbuda","Argelia","country_sel",{"$f":"HLOOKUP($C$2,$B$8:$D18,$A18,FALSE)","v":"Argentina"},"country_sel11"]
[12,"Armenia","Arabie saoudite","Argentina","country_sel",{"$f":"HLOOKUP($C$2,$B$8:$D19,$A19,FALSE)","v":"Armenia"},"country_sel12"]
[13,"Aruba","Argentine","Armenia","country_sel",{"$f":"HLOOKUP($C$2,$B$8:$D20,$A20,FALSE)","v":"Aruba"},"country_sel13"]
[14,"Australia","Arménie","Aruba","country_sel",{"$f":"HLOOKUP($C$2,$B$8:$D21,$A21,FALSE)","v":"Australia"},"country_sel14"]
[15,"Austria","Aruba","Australia","country_sel",{"$f":"HLOOKUP($C$2,$B$8:$D22,$A22,FALSE)","v":"Austria"},"country_sel15"]
[16,"Azerbaijan","Australie","Austria","country_sel",{"$f":"HLOOKUP($C$2,$B$8:$D23,$A23,FALSE)","v":"Azerbaijan"},"country_sel16"]
[17,"Bahamas","Autriche","Azerbaiyán","country_sel",{"$f":"HLOOKUP($C$2,$B$8:$D24,$A24,FALSE)","v":"Bahamas"},"country_sel17"]
[18,"Bahrain","Azerbaïdjan","Bahamas","country_sel",{"$f":"HLOOKUP($C$2,$B$8:$D25,$A25,FALSE)","v":"Bahrain"},"country_sel18"]
[19,"Bangladesh","Bahamas","Bahrein","country_sel",{"$f":"HLOOKUP($C$2,$B$8:$D26,$A26,FALSE)","v":"Bangladesh"},"country_sel19"]
[20,"Barbados","Bahreïn","Bangladesh","country_sel",{"$f":"HLOOKUP($C$2,$B$8:$D27,$A27,FALSE)","v":"Barbados"},"country_sel20"]
[21,"Belarus","Bangladesh","Barbados","country_sel",{"$f":"HLOOKUP($C$2,$B$8:$D28,$A28,FALSE)","v":"Belarus"},"country_sel21"]
[22,"Belgium","Barbade","Belarús","country_sel",{"$f":"HLOOKUP($C$2,$B$8:$D29,$A29,FALSE)","v":"Belgium"},"country_sel22"]
[23,"Belize","Bélarus","Bélgica","country_sel",{"$f":"HLOOKUP($C$2,$B$8:$D30,$A30,FALSE)","v":"Belize"},"country_sel23"]
[24,"Benin","Belgique","Belice","country_sel",{"$f":"HLOOKUP($C$2,$B$8:$D31,$A31,FALSE)","v":"Benin"},"country_sel24"]
[25,"Bermuda","Belize","Benin","country_sel",{"$f":"HLOOKUP($C$2,$B$8:$D32,$A32,FALSE)","v":"Bermuda"},"country_sel25"]
[26,"Bhutan","Bénin","Bermudas","country_sel",{"$f":"HLOOKUP($C$2,$B$8:$D33,$A33,FALSE)","v":"Bhutan"},"country_sel26"]
[27,"Bolivia (Plurinational State of)","Bermudes","Bolivia (Estado Plurinacional de)","country_sel",{"$f":"HLOOKUP($C$2,$B$8:$D34,$A34,FALSE)","v":"Bolivia (Plurinational State of)"},"country_sel27"]
[28,"Bosnia and Herzegovina","Bhoutan","Bosnia y Herzegovina","country_sel",{"$f":"HLOOKUP($C$2,$B$8:$D35,$A35,FALSE)","v":"Bosnia and Herzegovina"},"country_sel28"]
[29,"Botswana","Bolivie (État plurinational de)","Botswana","country_sel",{"$f":"HLOOKUP($C$2,$B$8:$D36,$A36,FALSE)","v":"Botswana"},"country_sel29"]
[30,"Brazil","Bosnie-Herzégovine","Brasil","country_sel",{"$f":"HLOOKUP($C$2,$B$8:$D37,$A37,FALSE)","v":"Brazil"},"country_sel30"]
[31,"British Virgin Islands","Botswana","Brunei Darussalam","country_sel",{"$f":"HLOOKUP($C$2,$B$8:$D38,$A38,FALSE)","v":"British Virgin Islands"},"country_sel31"]
[32,"Brunei Darussalam","Brésil","Bulgaria","country_sel",{"$f":"HLOOKUP($C$2,$B$8:$D39,$A39,FALSE)","v":"Brunei Darussalam"},"country_sel32"]
[33,"Bulgaria","Brunéi Darussalam","Burkina Faso","country_sel",{"$f":"HLOOKUP($C$2,$B$8:$D40,$A40,FALSE)","v":"Bulgaria"},"country_sel33"]
[34,"Burkina Faso","Bulgarie","Burundi","country_sel",{"$f":"HLOOKUP($C$2,$B$8:$D41,$A41,FALSE)","v":"Burkina Faso"},"country_sel34"]
[35,"Burundi","Burkina Faso","Bután","country_sel",{"$f":"HLOOKUP($C$2,$B$8:$D42,$A42,FALSE)","v":"Burundi"},"country_sel35"]
[36,"Cambodia","Burundi","Cabo Verde","country_sel",{"$f":"HLOOKUP($C$2,$B$8:$D43,$A43,FALSE)","v":"Cambodia"},"country_sel36"]
[37,"Cameroon","Cabo Verde","Camboya","country_sel",{"$f":"HLOOKUP($C$2,$B$8:$D44,$A44,FALSE)","v":"Cameroon"},"country_sel37"]
[38,"Canada","Cambodge","Camerún","country_sel",{"$f":"HLOOKUP($C$2,$B$8:$D45,$A45,FALSE)","v":"Canada"},"country_sel38"]
[39,"Cabo Verde","Cameroun","Canadá","country_sel",{"$f":"HLOOKUP($C$2,$B$8:$D46,$A46,FALSE)","v":"Cabo Verde"},"country_sel39"]
[40,"Cayman Islands","Canada","Chad","country_sel",{"$f":"HLOOKUP($C$2,$B$8:$D47,$A47,FALSE)","v":"Cayman Islands"},"country_sel40"]
[41,"Central African Republic","Chili","Chile","country_sel",{"$f":"HLOOKUP($C$2,$B$8:$D48,$A48,FALSE)","v":"Central African Republic"},"country_sel41"]
[42,"Chad","Chine","China","country_sel",{"$f":"HLOOKUP($C$2,$B$8:$D49,$A49,FALSE)","v":"Chad"},"country_sel42"]
[43,"Chile","Chypre","Chipre","country_sel",{"$f":"HLOOKUP($C$2,$B$8:$D50,$A50,FALSE)","v":"Chile"},"country_sel43"]
[44,"China","Colombie","Colombia","country_sel",{"$f":"HLOOKUP($C$2,$B$8:$D51,$A51,FALSE)","v":"China"},"country_sel44"]
[45,"Colombia","Comores","Comoras","country_sel",{"$f":"HLOOKUP($C$2,$B$8:$D52,$A52,FALSE)","v":"Colombia"},"country_sel45"]
[46,"Comoros","Congo","Congo","country_sel",{"$f":"HLOOKUP($C$2,$B$8:$D53,$A53,FALSE)","v":"Comoros"},"country_sel46"]
[47,"Congo","Costa Rica","Costa Rica","country_sel",{"$f":"HLOOKUP($C$2,$B$8:$D54,$A54,FALSE)","v":"Congo"},"country_sel47"]
[48,"Cook Islands","Côte d'Ivoire","Côte d'Ivoire","country_sel",{"$f":"HLOOKUP($C$2,$B$8:$D55,$A55,FALSE)","v":"Cook Islands"},"country_sel48"]
[49,"Costa Rica","Croatie","Croacia","country_sel",{"$f":"HLOOKUP($C$2,$B$8:$D56,$A56,FALSE)","v":"Costa Rica"},"country_sel49"]
[50,"Côte d'Ivoire","Cuba","Cuba","country_sel",{"$f":"HLOOKUP($C$2,$B$8:$D57,$A57,FALSE)","v":"Côte d'Ivoire"},"country_sel50"]
[51,"Croatia","Danemark","Dinamarca","country_sel",{"$f":"HLOOKUP($C$2,$B$8:$D58,$A58,FALSE)","v":"Croatia"},"country_sel51"]
[52,"Cuba","Djibouti","Djibouti","country_sel",{"$f":"HLOOKUP($C$2,$B$8:$D59,$A59,FALSE)","v":"Cuba"},"country_sel52"]
[53,"Cyprus","Dominique","Dominica","country_sel",{"$f":"HLOOKUP($C$2,$B$8:$D60,$A60,FALSE)","v":"Cyprus"},"country_sel53"]
[54,"Czech Republic","Égypte","Ecuador","country_sel",{"$f":"HLOOKUP($C$2,$B$8:$D61,$A61,FALSE)","v":"Czech Republic"},"country_sel54"]
[55,"Democratic People's Republic of Korea","El Salvador","Egipto","country_sel",{"$f":"HLOOKUP($C$2,$B$8:$D62,$A62,FALSE)","v":"Democratic People's Republic of Korea"},"country_sel55"]
[56,"Democratic Republic of the Congo","Émirats arabes unis","El Salvador","country_sel",{"$f":"HLOOKUP($C$2,$B$8:$D63,$A63,FALSE)","v":"Democratic Republic of the Congo"},"country_sel56"]
[57,"Denmark","Équateur","Emiratos Árabes Unidos","country_sel",{"$f":"HLOOKUP($C$2,$B$8:$D64,$A64,FALSE)","v":"Denmark"},"country_sel57"]
[58,"Djibouti","Érythrée","Eritrea","country_sel",{"$f":"HLOOKUP($C$2,$B$8:$D65,$A65,FALSE)","v":"Djibouti"},"country_sel58"]
[59,"Dominica","Espagne","Eslovaquia","country_sel",{"$f":"HLOOKUP($C$2,$B$8:$D66,$A66,FALSE)","v":"Dominica"},"country_sel59"]
[60,"Dominican Republic","Estonie","Eslovenia","country_sel",{"$f":"HLOOKUP($C$2,$B$8:$D67,$A67,FALSE)","v":"Dominican Republic"},"country_sel60"]
[61,"Ecuador","États-Unis d'Amérique","España","country_sel",{"$f":"HLOOKUP($C$2,$B$8:$D68,$A68,FALSE)","v":"Ecuador"},"country_sel61"]
[62,"Egypt","Éthiopie","Estados Unidos de América","country_sel",{"$f":"HLOOKUP($C$2,$B$8:$D69,$A69,FALSE)","v":"Egypt"},"country_sel62"]
[63,"El Salvador","Fédération de Russie","Estonia","country_sel",{"$f":"HLOOKUP($C$2,$B$8:$D70,$A70,FALSE)","v":"El Salvador"},"country_sel63"]
[64,"Equatorial Guinea","Fidji","Etiopía","country_sel",{"$f":"HLOOKUP($C$2,$B$8:$D71,$A71,FALSE)","v":"Equatorial Guinea"},"country_sel64"]
[65,"Eritrea","Finlande","Federación de Rusia","country_sel",{"$f":"HLOOKUP($C$2,$B$8:$D72,$A72,FALSE)","v":"Eritrea"},"country_sel65"]
[66,"Estonia","France","Fiji","country_sel",{"$f":"HLOOKUP($C$2,$B$8:$D73,$A73,FALSE)","v":"Estonia"},{"$f":"$E73&$A73","v":"country_sel66"}]
[67,"Ethiopia","Gabon","Filipinas","country_sel",{"$f":"HLOOKUP($C$2,$B$8:$D74,$A74,FALSE)","v":"Ethiopia"},"country_sel67"]
[68,"Faeroe Islands","Gambie","Finlandia","country_sel",{"$f":"HLOOKUP($C$2,$B$8:$D75,$A75,FALSE)","v":"Faeroe Islands"},"country_sel68"]
[69,"Falkland Islands (Malvinas)","Géorgie","Francia","country_sel",{"$f":"HLOOKUP($C$2,$B$8:$D76,$A76,FALSE)","v":"Falkland Islands (Malvinas)"},"country_sel69"]
[70,"Fiji","Ghana","Gabón","country_sel",{"$f":"HLOOKUP($C$2,$B$8:$D77,$A77,FALSE)","v":"Fiji"},"country_sel70"]
[71,"Finland","Gibraltar","Gambia","country_sel",{"$f":"HLOOKUP($C$2,$B$8:$D78,$A78,FALSE)","v":"Finland"},"country_sel71"]
[72,"France","Grèce","Georgia","country_sel",{"$f":"HLOOKUP($C$2,$B$8:$D79,$A79,FALSE)","v":"France"},"country_sel72"]
[73,"French Guiana","Grenade","Ghana","country_sel",{"$f":"HLOOKUP($C$2,$B$8:$D80,$A80,FALSE)","v":"French Guiana"},"country_sel73"]
[74,"French Polynesia","Groenland","Gibraltar","country_sel",{"$f":"HLOOKUP($C$2,$B$8:$D81,$A81,FALSE)","v":"French Polynesia"},"country_sel74"]
[75,"Gabon","Guadeloupe","Granada","country_sel",{"$f":"HLOOKUP($C$2,$B$8:$D82,$A82,FALSE)","v":"Gabon"},"country_sel75"]
[76,"Gambia","Guam","Grecia","country_sel",{"$f":"HLOOKUP($C$2,$B$8:$D83,$A83,FALSE)","v":"Gambia"},"country_sel76"]
[77,"Georgia","Guatemala","Groenlandia","country_sel",{"$f":"HLOOKUP($C$2,$B$8:$D84,$A84,FALSE)","v":"Georgia"},"country_sel77"]
[78,"Germany","Guinée","Guadalupe","country_sel",{"$f":"HLOOKUP($C$2,$B$8:$D85,$A85,FALSE)","v":"Germany"},"country_sel78"]
[79,"Ghana","Guinée équatoriale","Guam","country_sel",{"$f":"HLOOKUP($C$2,$B$8:$D86,$A86,FALSE)","v":"Ghana"},"country_sel79"]
[80,"Gibraltar","Guinée-Bissau","Guatemala","country_sel",{"$f":"HLOOKUP($C$2,$B$8:$D87,$A87,FALSE)","v":"Gibraltar"},"country_sel80"]
[81,"Greece","Guyana","Guayana francesa","country_sel",{"$f":"HLOOKUP($C$2,$B$8:$D88,$A88,FALSE)","v":"Greece"},"country_sel81"]
[82,"Greenland","Guyane française","Guinea","country_sel",{"$f":"HLOOKUP($C$2,$B$8:$D89,$A89,FALSE)","v":"Greenland"},"country_sel82"]
[83,"Grenada","Haïti","Guinea Ecuatorial","country_sel",{"$f":"HLOOKUP($C$2,$B$8:$D90,$A90,FALSE)","v":"Grenada"},"country_sel83"]
[84,"Guadeloupe","Honduras","Guinea-Bissau","country_sel",{"$f":"HLOOKUP($C$2,$B$8:$D91,$A91,FALSE)","v":"Guadeloupe"},"country_sel84"]
[85,"Guam","Hongrie","Guyana","country_sel",{"$f":"HLOOKUP($C$2,$B$8:$D92,$A92,FALSE)","v":"Guam"},"country_sel85"]
[86,"Guatemala","Îles Caïmanes","Haití","country_sel",{"$f":"HLOOKUP($C$2,$B$8:$D93,$A93,FALSE)","v":"Guatemala"},"country_sel86"]
[87,"Guinea","Îles Cook","Honduras","country_sel",{"$f":"HLOOKUP($C$2,$B$8:$D94,$A94,FALSE)","v":"Guinea"},"country_sel87"]
[88,"Guinea-Bissau","Îles Falkland","Hungría","country_sel",{"$f":"HLOOKUP($C$2,$B$8:$D95,$A95,FALSE)","v":"Guinea-Bissau"},"country_sel88"]
[89,"Guyana","Îles Féroé","India","country_sel",{"$f":"HLOOKUP($C$2,$B$8:$D96,$A96,FALSE)","v":"Guyana"},"country_sel89"]
[90,"Haiti","Îles Mariannes du Nord","Indonesia","country_sel",{"$f":"HLOOKUP($C$2,$B$8:$D97,$A97,FALSE)","v":"Haiti"},"country_sel90"]
[91,"Holy See","Îles Marshall","Irán (República Islámica del)","country_sel",{"$f":"HLOOKUP($C$2,$B$8:$D98,$A98,FALSE)","v":"Holy See"},"country_sel91"]
[92,"Honduras","Îles Salomon","Iraq","country_sel",{"$f":"HLOOKUP($C$2,$B$8:$D99,$A99,FALSE)","v":"Honduras"},"country_sel92"]
[93,"Hungary","Îles Turques et Caïques","Irlanda","country_sel",{"$f":"HLOOKUP($C$2,$B$8:$D100,$A100,FALSE)","v":"Hungary"},"country_sel93"]
[94,"Iceland","Îles Vierges américaines","Isla de Norfolk","country_sel",{"$f":"HLOOKUP($C$2,$B$8:$D101,$A101,FALSE)","v":"Iceland"},"country_sel94"]
[95,"India","Îles Vierges britanniques","Islandia","country_sel",{"$f":"HLOOKUP($C$2,$B$8:$D102,$A102,FALSE)","v":"India"},"country_sel95"]
[96,"Indonesia","Inde","Islas Caimán","country_sel",{"$f":"HLOOKUP($C$2,$B$8:$D103,$A103,FALSE)","v":"Indonesia"},"country_sel96"]
[97,"Iran (Islamic Republic of)","Indonésie","Islas Cook","country_sel",{"$f":"HLOOKUP($C$2,$B$8:$D104,$A104,FALSE)","v":"Iran (Islamic Republic of)"},"country_sel97"]
[98,"Iraq","Iran (République islamique d')","Islas Feroe","country_sel",{"$f":"HLOOKUP($C$2,$B$8:$D105,$A105,FALSE)","v":"Iraq"},"country_sel98"]
[99,"Ireland","Iraq","Islas Malvinas","country_sel",{"$f":"HLOOKUP($C$2,$B$8:$D106,$A106,FALSE)","v":"Ireland"},"country_sel99"]
[100,"Israel","Irlande","Islas Marianas septentrionales","country_sel",{"$f":"HLOOKUP($C$2,$B$8:$D107,$A107,FALSE)","v":"Israel"},"country_sel100"]
[101,"Italy","Islande","Islas Marshall","country_sel",{"$f":"HLOOKUP($C$2,$B$8:$D108,$A108,FALSE)","v":"Italy"},"country_sel101"]
[102,"Jamaica","Israël","Islas Salomón","country_sel",{"$f":"HLOOKUP($C$2,$B$8:$D109,$A109,FALSE)","v":"Jamaica"},"country_sel102"]
[103,"Japan","Italie","Islas Turcas y Caicos","country_sel",{"$f":"HLOOKUP($C$2,$B$8:$D110,$A110,FALSE)","v":"Japan"},"country_sel103"]
[104,"Jordan","Jamaïque","Islas Vírgenes (EE.UU.)","country_sel",{"$f":"HLOOKUP($C$2,$B$8:$D111,$A111,FALSE)","v":"Jordan"},"country_sel104"]
[105,"Kazakhstan","Japon","Islas Vírgenes Británicas","country_sel",{"$f":"HLOOKUP($C$2,$B$8:$D112,$A112,FALSE)","v":"Kazakhstan"},"country_sel105"]
[106,"Kenya","Jordanie","Islas Wallis y Futuna","country_sel",{"$f":"HLOOKUP($C$2,$B$8:$D113,$A113,FALSE)","v":"Kenya"},"country_sel106"]
[107,"Kiribati","Kazakhstan","Israel","country_sel",{"$f":"HLOOKUP($C$2,$B$8:$D114,$A114,FALSE)","v":"Kiribati"},"country_sel107"]
[108,"Kuwait","Kenya","Italia","country_sel",{"$f":"HLOOKUP($C$2,$B$8:$D115,$A115,FALSE)","v":"Kuwait"},"country_sel108"]
[109,"Kyrgyzstan","Kirghizistan","Jamaica","country_sel",{"$f":"HLOOKUP($C$2,$B$8:$D116,$A116,FALSE)","v":"Kyrgyzstan"},"country_sel109"]
[110,"Lao People's Democratic Republic","Kiribati","Japón","country_sel",{"$f":"HLOOKUP($C$2,$B$8:$D117,$A117,FALSE)","v":"Lao People's Democratic Republic"},"country_sel110"]
[111,"Latvia","Koweït","Jordania","country_sel",{"$f":"HLOOKUP($C$2,$B$8:$D118,$A118,FALSE)","v":"Latvia"},"country_sel111"]
[112,"Lebanon","Lesotho","Kazajstán","country_sel",{"$f":"HLOOKUP($C$2,$B$8:$D119,$A119,FALSE)","v":"Lebanon"},"country_sel112"]
[113,"Lesotho","Lettonie","Kenya","country_sel",{"$f":"HLOOKUP($C$2,$B$8:$D120,$A120,FALSE)","v":"Lesotho"},"country_sel113"]
[114,"Liberia","Macédoine du Nord","Kirguistán","country_sel",{"$f":"HLOOKUP($C$2,$B$8:$D121,$A121,FALSE)","v":"Liberia"},"country_sel114"]
[115,"Libya","Liban","Kiribati","country_sel",{"$f":"HLOOKUP($C$2,$B$8:$D122,$A122,FALSE)","v":"Libya"},"country_sel115"]
[116,"Liechtenstein","Libéria","Kuwait","country_sel",{"$f":"HLOOKUP($C$2,$B$8:$D123,$A123,FALSE)","v":"Liechtenstein"},"country_sel116"]
[117,"Lithuania","Libye","Macedonia del Norte","country_sel",{"$f":"HLOOKUP($C$2,$B$8:$D124,$A124,FALSE)","v":"Lithuania"},"country_sel117"]
[118,"Luxembourg","Liechtenstein","Lesotho","country_sel",{"$f":"HLOOKUP($C$2,$B$8:$D125,$A125,FALSE)","v":"Luxembourg"},"country_sel118"]
[119,"Madagascar","l'île Norfolk","Letonia","country_sel",{"$f":"HLOOKUP($C$2,$B$8:$D126,$A126,FALSE)","v":"Madagascar"},"country_sel119"]
[120,"Malawi","Lituanie","Líbano","country_sel",{"$f":"HLOOKUP($C$2,$B$8:$D127,$A127,FALSE)","v":"Malawi"},"country_sel120"]
[121,"Malaysia","Luxembourg","Liberia","country_sel",{"$f":"HLOOKUP($C$2,$B$8:$D128,$A128,FALSE)","v":"Malaysia"},"country_sel121"]
[122,"Maldives","Madagascar","Libia","country_sel",{"$f":"HLOOKUP($C$2,$B$8:$D129,$A129,FALSE)","v":"Maldives"},"country_sel122"]
[123,"Mali","Malaisie","Liechtenstein","country_sel",{"$f":"HLOOKUP($C$2,$B$8:$D130,$A130,FALSE)","v":"Mali"},"country_sel123"]
[124,"Malta","Malawi","Lituania","country_sel",{"$f":"HLOOKUP($C$2,$B$8:$D131,$A131,FALSE)","v":"Malta"},"country_sel124"]
[125,"Marshall Islands","Maldives","Luxemburgo","country_sel",{"$f":"HLOOKUP($C$2,$B$8:$D132,$A132,FALSE)","v":"Marshall Islands"},"country_sel125"]
[126,"Martinique","Mali","Madagascar","country_sel",{"$f":"HLOOKUP($C$2,$B$8:$D133,$A133,FALSE)","v":"Martinique"},"country_sel126"]
[127,"Mauritania","Malte","Malasia","country_sel",{"$f":"HLOOKUP($C$2,$B$8:$D134,$A134,FALSE)","v":"Mauritania"},"country_sel127"]
[128,"Mauritius","Maroc","Malawi","country_sel",{"$f":"HLOOKUP($C$2,$B$8:$D135,$A135,FALSE)","v":"Mauritius"},"country_sel128"]
[129,"Mayotte","Martinique","Maldivas","country_sel",{"$f":"HLOOKUP($C$2,$B$8:$D136,$A136,FALSE)","v":"Mayotte"},"country_sel129"]
[130,"Mexico","Maurice","Malí","country_sel",{"$f":"HLOOKUP($C$2,$B$8:$D137,$A137,FALSE)","v":"Mexico"},{"$f":"$E137&$A137","v":"country_sel130"}]
[131,"Micronesia (Federated States of)","Mauritanie","Malta","country_sel",{"$f":"HLOOKUP($C$2,$B$8:$D138,$A138,FALSE)","v":"Micronesia (Federated States of)"},"country_sel131"]
[132,"Monaco","Mayotte","Marruecos","country_sel",{"$f":"HLOOKUP($C$2,$B$8:$D139,$A139,FALSE)","v":"Monaco"},"country_sel132"]
[133,"Mongolia","Mexique","Martinica","country_sel",{"$f":"HLOOKUP($C$2,$B$8:$D140,$A140,FALSE)","v":"Mongolia"},"country_sel133"]
[134,"Montenegro","Micronésie (États fédérés de)","Mauricio","country_sel",{"$f":"HLOOKUP($C$2,$B$8:$D141,$A141,FALSE)","v":"Montenegro"},"country_sel134"]
[135,"Montserrat","Monaco","Mauritania","country_sel",{"$f":"HLOOKUP($C$2,$B$8:$D142,$A142,FALSE)","v":"Montserrat"},"country_sel135"]
[136,"Morocco","Mongolie","Mayotte","country_sel",{"$f":"HLOOKUP($C$2,$B$8:$D143,$A143,FALSE)","v":"Morocco"},"country_sel136"]
[137,"Mozambique","Monténégro","México","country_sel",{"$f":"HLOOKUP($C$2,$B$8:$D144,$A144,FALSE)","v":"Mozambique"},"country_sel137"]
[138,"Myanmar","Montserrat","Micronesia (Estados Federados de)","country_sel",{"$f":"HLOOKUP($C$2,$B$8:$D145,$A145,FALSE)","v":"Myanmar"},"country_sel138"]
[139,"Namibia","Mozambique","Mónaco","country_sel",{"$f":"HLOOKUP($C$2,$B$8:$D146,$A146,FALSE)","v":"Namibia"},"country_sel139"]
[140,"Nauru","Myanmar","Mongolia","country_sel",{"$f":"HLOOKUP($C$2,$B$8:$D147,$A147,FALSE)","v":"Nauru"},"country_sel140"]
[141,"Nepal","Namibie","Montenegro","country_sel",{"$f":"HLOOKUP($C$2,$B$8:$D148,$A148,FALSE)","v":"Nepal"},"country_sel141"]
[142,"Netherlands","Nauru","Montserrat","country_sel",{"$f":"HLOOKUP($C$2,$B$8:$D149,$A149,FALSE)","v":"Netherlands"},"country_sel142"]
[143,"New Caledonia","Népal","Mozambique","country_sel",{"$f":"HLOOKUP($C$2,$B$8:$D150,$A150,FALSE)","v":"New Caledonia"},"country_sel143"]
[144,"New Zealand","Nicaragua","Myanmar","country_sel",{"$f":"HLOOKUP($C$2,$B$8:$D151,$A151,FALSE)","v":"New Zealand"},"country_sel144"]
[145,"Nicaragua","Niger","Namibia","country_sel",{"$f":"HLOOKUP($C$2,$B$8:$D152,$A152,FALSE)","v":"Nicaragua"},"country_sel145"]
[146,"Niger","Nigéria","Nauru","country_sel",{"$f":"HLOOKUP($C$2,$B$8:$D153,$A153,FALSE)","v":"Niger"},"country_sel146"]
[147,"Nigeria","Nioué","Nepal","country_sel",{"$f":"HLOOKUP($C$2,$B$8:$D154,$A154,FALSE)","v":"Nigeria"},"country_sel147"]
[148,"Niue","Norvège","Nicaragua","country_sel",{"$f":"HLOOKUP($C$2,$B$8:$D155,$A155,FALSE)","v":"Niue"},"country_sel148"]
[149,"Norfolk Island","Nouvelle-Calédonie","Níger","country_sel",{"$f":"HLOOKUP($C$2,$B$8:$D156,$A156,FALSE)","v":"Norfolk Island"},"country_sel149"]
[150,"Northern Mariana Islands","Nouvelle-Zélande","Nigeria","country_sel",{"$f":"HLOOKUP($C$2,$B$8:$D157,$A157,FALSE)","v":"Northern Mariana Islands"},"country_sel150"]
[151,"Norway","Oman","Niue","country_sel",{"$f":"HLOOKUP($C$2,$B$8:$D158,$A158,FALSE)","v":"Norway"},"country_sel151"]
[152,"Occupied Palestinian Territory","Ouganda","Noruega","country_sel",{"$f":"HLOOKUP($C$2,$B$8:$D159,$A159,FALSE)","v":"Occupied Palestinian Territory"},"country_sel152"]
[153,"Oman","Ouzbékistan","Nueva Caledonia","country_sel",{"$f":"HLOOKUP($C$2,$B$8:$D160,$A160,FALSE)","v":"Oman"},"country_sel153"]
[154,"Pakistan","Pakistan","Nueva Zelandia","country_sel",{"$f":"HLOOKUP($C$2,$B$8:$D161,$A161,FALSE)","v":"Pakistan"},"country_sel154"]
[155,"Palau","Palaos","Omán","country_sel",{"$f":"HLOOKUP($C$2,$B$8:$D162,$A162,FALSE)","v":"Palau"},"country_sel155"]
[156,"Panama","Panama","Países Bajos","country_sel",{"$f":"HLOOKUP($C$2,$B$8:$D163,$A163,FALSE)","v":"Panama"},"country_sel156"]
[157,"Papua New Guinea","Papouasie-Nouvelle-Guinée","Pakistán","country_sel",{"$f":"HLOOKUP($C$2,$B$8:$D164,$A164,FALSE)","v":"Papua New Guinea"},"country_sel157"]
[158,"Paraguay","Paraguay","Palau","country_sel",{"$f":"HLOOKUP($C$2,$B$8:$D165,$A165,FALSE)","v":"Paraguay"},"country_sel158"]
[159,"Peru","Pays-Bas","Panamá","country_sel",{"$f":"HLOOKUP($C$2,$B$8:$D166,$A166,FALSE)","v":"Peru"},"country_sel159"]
[160,"Philippines","Pérou","Papua Nueva Guinea","country_sel",{"$f":"HLOOKUP($C$2,$B$8:$D167,$A167,FALSE)","v":"Philippines"},"country_sel160"]
[161,"Poland","Philippines","Paraguay","country_sel",{"$f":"HLOOKUP($C$2,$B$8:$D168,$A168,FALSE)","v":"Poland"},"country_sel161"]
[162,"Portugal","Pologne","Perú","country_sel",{"$f":"HLOOKUP($C$2,$B$8:$D169,$A169,FALSE)","v":"Portugal"},"country_sel162"]
[163,"Puerto Rico","Polynésie française","Polinesia Francesa","country_sel",{"$f":"HLOOKUP($C$2,$B$8:$D170,$A170,FALSE)","v":"Puerto Rico"},"country_sel163"]
[164,"Qatar","Porto Rico","Polonia","country_sel",{"$f":"HLOOKUP($C$2,$B$8:$D171,$A171,FALSE)","v":"Qatar"},"country_sel164"]
[165,"Réunion","Portugal","Portugal","country_sel",{"$f":"HLOOKUP($C$2,$B$8:$D172,$A172,FALSE)","v":"Réunion"},"country_sel165"]
[166,"Republic of Moldova","Qatar","Puerto Rico","country_sel",{"$f":"HLOOKUP($C$2,$B$8:$D173,$A173,FALSE)","v":"Republic of Moldova"},"country_sel166"]
[167,"Republic of Korea","République arabe syrienne","Qatar","country_sel",{"$f":"HLOOKUP($C$2,$B$8:$D174,$A174,FALSE)","v":"Republic of Korea"},"country_sel167"]
[168,"Romania","République centrafricaine","Reino Unido","country_sel",{"$f":"HLOOKUP($C$2,$B$8:$D175,$A175,FALSE)","v":"Romania"},"country_sel168"]
[169,"Russian Federation","République de Corée","República Árabe Siria","country_sel",{"$f":"HLOOKUP($C$2,$B$8:$D176,$A176,FALSE)","v":"Russian Federation"},"country_sel169"]
[170,"Rwanda","République de Moldova","República Centroafricana","country_sel",{"$f":"HLOOKUP($C$2,$B$8:$D177,$A177,FALSE)","v":"Rwanda"},"country_sel170"]
[171,"Saint Helena, Ascension and Tristan da Cunha","République démocratique du Congo","República Checa","country_sel",{"$f":"HLOOKUP($C$2,$B$8:$D178,$A178,FALSE)","v":"Saint Helena, Ascension and Tristan da Cunha"},"country_sel171"]
[172,"Saint Kitts and Nevis","République démocratique populaire lao","República de Corea","country_sel",{"$f":"HLOOKUP($C$2,$B$8:$D179,$A179,FALSE)","v":"Saint Kitts and Nevis"},"country_sel172"]
[173,"Saint Lucia","République dominicaine","República de Moldova","country_sel",{"$f":"HLOOKUP($C$2,$B$8:$D180,$A180,FALSE)","v":"Saint Lucia"},"country_sel173"]
[174,"Saint Pierre and Miquelon","République populaire démocratique de Corée","República Democrática del Congo","country_sel",{"$f":"HLOOKUP($C$2,$B$8:$D181,$A181,FALSE)","v":"Saint Pierre and Miquelon"},"country_sel174"]
[175,"Saint Vincent and the Grenadines","République tchèque","República Democrática Popular Lao","country_sel",{"$f":"HLOOKUP($C$2,$B$8:$D182,$A182,FALSE)","v":"Saint Vincent and the Grenadines"},"country_sel175"]
[176,"Samoa","République-Unie de Tanzanie","República Dominicana","country_sel",{"$f":"HLOOKUP($C$2,$B$8:$D183,$A183,FALSE)","v":"Samoa"},"country_sel176"]
[177,"San Marino","Réunion","República Popular Democrática de Corea","country_sel",{"$f":"HLOOKUP($C$2,$B$8:$D184,$A184,FALSE)","v":"San Marino"},"country_sel177"]
[178,"Sao Tome and Principe","Roumanie","República Unida de Tanzanía","country_sel",{"$f":"HLOOKUP($C$2,$B$8:$D185,$A185,FALSE)","v":"Sao Tome and Principe"},"country_sel178"]
[179,"Saudi Arabia","Royaume-Uni","Reunión","country_sel",{"$f":"HLOOKUP($C$2,$B$8:$D186,$A186,FALSE)","v":"Saudi Arabia"},"country_sel179"]
[180,"Senegal","Rwanda","Rumania","country_sel",{"$f":"HLOOKUP($C$2,$B$8:$D187,$A187,FALSE)","v":"Senegal"},"country_sel180"]
[181,"Serbia","Sahara occidental","Rwanda","country_sel",{"$f":"HLOOKUP($C$2,$B$8:$D188,$A188,FALSE)","v":"Serbia"},"country_sel181"]
[182,"Seychelles","Sainte-Hélène Ascension et Tristan de Cunha","Sáhara occidental","country_sel",{"$f":"HLOOKUP($C$2,$B$8:$D189,$A189,FALSE)","v":"Seychelles"},"country_sel182"]
[183,"Sierra Leone","Sainte-Lucie","Saint Kitts y Nevis","country_sel",{"$f":"HLOOKUP($C$2,$B$8:$D190,$A190,FALSE)","v":"Sierra Leone"},"country_sel183"]
[184,"Singapore","Saint-Kitts-et-Nevis","Saint-Pierre y Miquelon","country_sel",{"$f":"HLOOKUP($C$2,$B$8:$D191,$A191,FALSE)","v":"Singapore"},"country_sel184"]
[185,"Slovakia","Saint-Marin","Samoa","country_sel",{"$f":"HLOOKUP($C$2,$B$8:$D192,$A192,FALSE)","v":"Slovakia"},"country_sel185"]
[186,"Slovenia","Saint-Pierre-et-Miquelon","Samoa Americana","country_sel",{"$f":"HLOOKUP($C$2,$B$8:$D193,$A193,FALSE)","v":"Slovenia"},"country_sel186"]
[187,"Solomon Islands","Saint-Siège","San Marino","country_sel",{"$f":"HLOOKUP($C$2,$B$8:$D194,$A194,FALSE)","v":"Solomon Islands"},"country_sel187"]
[188,"Somalia","Saint-Vincent-et-les Grenadines","San Vicente y las Granadinas","country_sel",{"$f":"HLOOKUP($C$2,$B$8:$D195,$A195,FALSE)","v":"Somalia"},"country_sel188"]
[189,"South Africa","Samoa","Santa Elena Ascension y Tristan da Cunha","country_sel",{"$f":"HLOOKUP($C$2,$B$8:$D196,$A196,FALSE)","v":"South Africa"},"country_sel189"]
[190,"South Sudan","Samoa américaines","Santa Lucía","country_sel",{"$f":"HLOOKUP($C$2,$B$8:$D197,$A197,FALSE)","v":"South Sudan"},"country_sel190"]
[191,"Spain","Sao Tomé-et-Principe","Santa Sede","country_sel",{"$f":"HLOOKUP($C$2,$B$8:$D198,$A198,FALSE)","v":"Spain"},"country_sel191"]
[192,"Sri Lanka","Sénégal","Santo Tomé y Príncipe","country_sel",{"$f":"HLOOKUP($C$2,$B$8:$D199,$A199,FALSE)","v":"Sri Lanka"},"country_sel192"]
[193,"Sudan","Serbie","Senegal","country_sel",{"$f":"HLOOKUP($C$2,$B$8:$D200,$A200,FALSE)","v":"Sudan"},"country_sel193"]
[194,"Sudan (former)","Seychelles","Serbia","country_sel",{"$f":"HLOOKUP($C$2,$B$8:$D201,$A201,FALSE)","v":"Sudan (former)"},{"$f":"$E201&$A201","v":"country_sel194"}]
[195,"Suriname","Sierra Leone","Seychelles","country_sel",{"$f":"HLOOKUP($C$2,$B$8:$D202,$A202,FALSE)","v":"Suriname"},"country_sel195"]
[196,"Eswatini","Singapour","Sierra Leona","country_sel",{"$f":"HLOOKUP($C$2,$B$8:$D203,$A203,FALSE)","v":"Eswatini"},"country_sel196"]
[197,"Sweden","Slovaquie","Singapur","country_sel",{"$f":"HLOOKUP($C$2,$B$8:$D204,$A204,FALSE)","v":"Sweden"},"country_sel197"]
[198,"Switzerland","Slovénie","Somalia","country_sel",{"$f":"HLOOKUP($C$2,$B$8:$D205,$A205,FALSE)","v":"Switzerland"},"country_sel198"]
[199,"Syrian Arab Republic","Somalie","Sri Lanka","country_sel",{"$f":"HLOOKUP($C$2,$B$8:$D206,$A206,FALSE)","v":"Syrian Arab Republic"},"country_sel199"]
[200,"Tajikistan","Soudan","Sudáfrica","country_sel",{"$f":"HLOOKUP($C$2,$B$8:$D207,$A207,FALSE)","v":"Tajikistan"},"country_sel200"]
[201,"Thailand","Sri Lanka","Sudan","country_sel",{"$f":"HLOOKUP($C$2,$B$8:$D208,$A208,FALSE)","v":"Thailand"},"country_sel201"]
[202,"North Macedonia","Sud du Soudan","Sudán","country_sel",{"$f":"HLOOKUP($C$2,$B$8:$D209,$A209,FALSE)","v":"North Macedonia"},"country_sel202"]
[203,"Timor-Leste","Sudan","Sudan del Sur","country_sel",{"$f":"HLOOKUP($C$2,$B$8:$D210,$A210,FALSE)","v":"Timor-Leste"},"country_sel203"]
[204,"Togo","Suède","Suecia","country_sel",{"$f":"HLOOKUP($C$2,$B$8:$D211,$A211,FALSE)","v":"Togo"},"country_sel204"]
[205,"Tokelau","Suisse","Suiza","country_sel",{"$f":"HLOOKUP($C$2,$B$8:$D212,$A212,FALSE)","v":"Tokelau"},"country_sel205"]
[206,"Tonga","Suriname","Surinam","country_sel",{"$f":"HLOOKUP($C$2,$B$8:$D213,$A213,FALSE)","v":"Tonga"},"country_sel206"]
[207,"Trinidad and Tobago","Eswatini","Eswatini","country_sel",{"$f":"HLOOKUP($C$2,$B$8:$D214,$A214,FALSE)","v":"Trinidad and Tobago"},"country_sel207"]
[208,"Tunisia","Tadjikistan","Tailandia","country_sel",{"$f":"HLOOKUP($C$2,$B$8:$D215,$A215,FALSE)","v":"Tunisia"},"country_sel208"]
[209,"Turkey","Tchad","Tayikistán","country_sel",{"$f":"HLOOKUP($C$2,$B$8:$D216,$A216,FALSE)","v":"Turkey"},"country_sel209"]
[210,"Turkmenistan","Territoire palestinien occupé","Territorio Palestino Ocupado","country_sel",{"$f":"HLOOKUP($C$2,$B$8:$D217,$A217,FALSE)","v":"Turkmenistan"},"country_sel210"]
[211,"Turks and Caicos Islands","Thaïlande","Timor-Leste","country_sel",{"$f":"HLOOKUP($C$2,$B$8:$D218,$A218,FALSE)","v":"Turks and Caicos Islands"},"country_sel211"]
[212,"Tuvalu","Timor-Leste","Togo","country_sel",{"$f":"HLOOKUP($C$2,$B$8:$D219,$A219,FALSE)","v":"Tuvalu"},"country_sel212"]
[213,"Uganda","Togo","Tokelau","country_sel",{"$f":"HLOOKUP($C$2,$B$8:$D220,$A220,FALSE)","v":"Uganda"},"country_sel213"]
[214,"Ukraine","Tokélaou","Tonga","country_sel",{"$f":"HLOOKUP($C$2,$B$8:$D221,$A221,FALSE)","v":"Ukraine"},"country_sel214"]
[215,"United Arab Emirates","Tonga","Trinidad y Tabago","country_sel",{"$f":"HLOOKUP($C$2,$B$8:$D222,$A222,FALSE)","v":"United Arab Emirates"},"country_sel215"]
[216,"United Kingdom","Trinité-et-Tobago","Túnez","country_sel",{"$f":"HLOOKUP($C$2,$B$8:$D223,$A223,FALSE)","v":"United Kingdom"},"country_sel216"]
[217,"United Republic of Tanzania","Tunisie","Turkmenistán","country_sel",{"$f":"HLOOKUP($C$2,$B$8:$D224,$A224,FALSE)","v":"United Republic of Tanzania"},"country_sel217"]
[218,"United States of America","Turkménistan","Turquía","country_sel",{"$f":"HLOOKUP($C$2,$B$8:$D225,$A225,FALSE)","v":"United States of America"},"country_sel218"]
[219,"United States Virgin Islands","Turquie","Tuvalu","country_sel",{"$f":"HLOOKUP($C$2,$B$8:$D226,$A226,FALSE)","v":"United States Virgin Islands"},"country_sel219"]
[220,"Uruguay","Tuvalu","Ucrania","country_sel",{"$f":"HLOOKUP($C$2,$B$8:$D227,$A227,FALSE)","v":"Uruguay"},"country_sel220"]
[221,"Uzbekistan","Ukraine","Uganda","country_sel",{"$f":"HLOOKUP($C$2,$B$8:$D228,$A228,FALSE)","v":"Uzbekistan"},"country_sel221"]
[222,"Vanuatu","Uruguay","Uruguay","country_sel",{"$f":"HLOOKUP($C$2,$B$8:$D229,$A229,FALSE)","v":"Vanuatu"},"country_sel222"]
[223,"Venezuela (Bolivarian Republic of)","Vanuatu","Uzbekistán","country_sel",{"$f":"HLOOKUP($C$2,$B$8:$D230,$A230,FALSE)","v":"Venezuela (Bolivarian Republic of)"},"country_sel223"]
[224,"Viet Nam","Venezuela (République bolivarienne du)","Vanuatu","country_sel",{"$f":"HLOOKUP($C$2,$B$8:$D231,$A231,FALSE)","v":"Viet Nam"},"country_sel224"]
[225,"Wallis and Futuna Islands","Viet Nam","Venezuela (República Bolivariana de)","country_sel",{"$f":"HLOOKUP($C$2,$B$8:$D232,$A232,FALSE)","v":"Wallis and Futuna Islands"},"country_sel225"]
[226,"Western Sahara","Wallis-et-Futuna","Viet Nam","country_sel",{"$f":"HLOOKUP($C$2,$B$8:$D233,$A233,FALSE)","v":"Western Sahara"},"country_sel226"]
[227,"Yemen","Yémen","Yemen","country_sel",{"$f":"HLOOKUP($C$2,$B$8:$D234,$A234,FALSE)","v":"Yemen"},"country_sel227"]
[228,"Zambia","Zambie","Zambia","country_sel",{"$f":"HLOOKUP($C$2,$B$8:$D235,$A235,FALSE)","v":"Zambia"},"country_sel228"]
[229,"Zimbabwe","Zimbabwe","Zimbabwe","country_sel",{"$f":"HLOOKUP($C$2,$B$8:$D236,$A236,FALSE)","v":"Zimbabwe"},"country_sel229"]
[230,"Select","Sélectionnez","Seleccione","area_sel",{"$f":"HLOOKUP($C$2,$B$8:$D237,$A237,FALSE)","v":"Select"},"area_sel230"]
[231,"the country","Pay","el país","area_sel",{"$f":"HLOOKUP($C$2,$B$8:$D238,$A238,FALSE)","v":"the country"},"area_sel231"]
[232,"Region:","Région:","Región:","area_sel",{"$f":"HLOOKUP($C$2,$B$8:$D239,$A239,FALSE)","v":"Region:"},"area_sel232"]
[233,"Province:","Province:","Provincia:","area_sel",{"$f":"HLOOKUP($C$2,$B$8:$D240,$A240,FALSE)","v":"Province:"},"area_sel233"]
[234,"District:","District:","Distrito:","area_sel",{"$f":"HLOOKUP($C$2,$B$8:$D241,$A241,FALSE)","v":"District:"},"area_sel234"]
[235,"Area:","Area:","Area:","area_sel",{"$f":"HLOOKUP($C$2,$B$8:$D242,$A242,FALSE)","v":"Area:"},"area_sel235"]
[236,"Other:","Autres:","Otros:","area_sel",{"$f":"HLOOKUP($C$2,$B$8:$D243,$A243,FALSE)","v":"Other:"},"area_sel236"]
[237,"Select a fertilizer","Sélectionnez un engrais","Seleccionar un fertilizante","planting_sel",{"$f":"HLOOKUP($C$2,$B$8:$D244,$A244,FALSE)","v":"Select a fertilizer"},"planting_sel237"]
[238,"Ammonia","Ammoniac","amoníaco","planting_sel",{"$f":"HLOOKUP($C$2,$B$8:$D245,$A245,FALSE)","v":"Ammonia"},"planting_sel238"]
[239,"Urea","Urée","urea","planting_sel",{"$f":"HLOOKUP($C$2,$B$8:$D246,$A246,FALSE)","v":"Urea"},"planting_sel239"]
[240,"Ammonium nitrate","Nitrate d'ammonium","nitrato de amonio","planting_sel",{"$f":"HLOOKUP($C$2,$B$8:$D247,$A247,FALSE)","v":"Ammonium nitrate"},"planting_sel240"]
[241,"Select a fertilizer","Sélectionnez un engrais","Seleccionar un fertilizante","planting_sel",{"$f":"HLOOKUP($C$2,$B$8:$D248,$A248,FALSE)","v":"Select a fertilizer"},"planting_sel241"]
[242,"Phosphate rock","Phosphate naturel","fosfatos minerales","planting_sel",{"$f":"HLOOKUP($C$2,$B$8:$D249,$A249,FALSE)","v":"Phosphate rock"},"planting_sel242"]
[243,"MAP","MAP","MAP","planting_sel",{"$f":"HLOOKUP($C$2,$B$8:$D250,$A250,FALSE)","v":"MAP"},"planting_sel243"]
[244,"DAP","DAP","DAP","planting_sel",{"$f":"HLOOKUP($C$2,$B$8:$D251,$A251,FALSE)","v":"DAP"},"planting_sel244"]
[245,"TSP","TSP","TSP","planting_sel",{"$f":"HLOOKUP($C$2,$B$8:$D252,$A252,FALSE)","v":"TSP"},"planting_sel245"]
[246,"Select a fertilizer","Sélectionnez un engrais","Seleccionar un fertilizante","planting_sel",{"$f":"HLOOKUP($C$2,$B$8:$D253,$A253,FALSE)","v":"Select a fertilizer"},"planting_sel246"]
[247,"Potassium chloride","Chlorure de potassium","cloruro de potasio","planting_sel",{"$f":"HLOOKUP($C$2,$B$8:$D254,$A254,FALSE)","v":"Potassium chloride"},"planting_sel247"]
[248,"Potassium sulphate","Sulfate de potassium","sulfato de potasio","planting_sel",{"$f":"HLOOKUP($C$2,$B$8:$D255,$A255,FALSE)","v":"Potassium sulphate"},"planting_sel248"]

{"sheet":"label","index":13,"n_rows":35,"n_cols":7,"rows_kept":35,"cut":false,"hidden":true,"merged":[]}
[]
[null,"Selection",{"$f":"VLOOKUP(Start!C3,$A$3:$C$5,3,FALSE)","v":1}]
["EN","English",1]
["FR","French",2]
["ES","Spanish",3]
[]
["ID","English","French","Spanish","Typeof","Ref","Name"]
[1,1,2,3]
[2,"NEXT >>\nWoodfuel and Wood Residues Component","SUIVANT >>\nComposantes Combustibles Ligneux et Residus du Bois\n","SIGUIENTE >>\nComponente Madera Combustible y Residuos de Madera\n","label",{"$f":"HLOOKUP($C$2,$B$8:$D9,$A9,FALSE)","v":"NEXT >>\nWoodfuel and Wood Residues Component"},{"$f":"$E9&$A9","v":"label2"}]
[3,"NEXT >>\nForest Harvesting\n","SUIVANT >>\nExploitation forestière\n\n","SIGUIENTE >>\nAprovechamiento Forestal\n\n","label",{"$f":"HLOOKUP($C$2,$B$8:$D10,$A10,FALSE)","v":"NEXT >>\nForest Harvesting\n"},"label3"]
[4,"Clear data","Effacer les données","Borrar datos","label",{"$f":"HLOOKUP($C$2,$B$8:$D11,$A11,FALSE)","v":"Clear data"},"label4"]
[5,"Forest Harvesting \nTool","Exploitation Forestière","Herramienta Aprovechamiento Forestal","label",{"$f":"HLOOKUP($C$2,$B$8:$D12,$A12,FALSE)","v":"Forest Harvesting \nTool"},"label5"]
[6,"Wood Processing Residues  \nTool","Transformation des Résidus du Bois","Herramienta Residuos del Procesamiento de la Madera","label",{"$f":"HLOOKUP($C$2,$B$8:$D13,$A13,FALSE)","v":"Wood Processing Residues  \nTool"},"label6"]
[7,"Woodfuel Plantation Budget \nTool","Budget de la Plantation de Combustibles Ligneux ","Herramienta Presupuesto para Plantaciones de Madera como Combustible","label",{"$f":"HLOOKUP($C$2,$B$8:$D14,$A14,FALSE)","v":"Woodfuel Plantation Budget \nTool"},"label7"]
[8,"<< BACK \nWoodfuel and Wood Residues Component","<< RETOUR\nComposantes Combustibles Ligneux et Residus du Bois\n","<< VOLVER\nComponente Madera Combustible y Residuos de Madera\n","label",{"$f":"HLOOKUP($C$2,$B$8:$D15,$A15,FALSE)","v":"<< BACK \nWoodfuel and Wood Residues Component"},"label8"]
[9,"NEXT >>\nForest Harvesting Residues\n\n","SUIVANT >>\nRésidus d'Exploitation Forestière\n\n","SIGUIENTE >>\nResiduos del Aprovechamiento Forestal\n\n\n","label",{"$f":"HLOOKUP($C$2,$B$8:$D16,$A16,FALSE)","v":"NEXT >>\nForest Harvesting Residues\n\n"},"label9"]
[10,"NEXT >>>\nWoodfuel and Wood Residues Result","SUIVANT >>>\nRésultats de la Composante Combustibles Ligneux et Résidus du Bois\n\n","SIGUIENTE >>>\nResultados de Madera Combustible y Residuos de Madera\n\n","label",{"$f":"HLOOKUP($C$2,$B$8:$D17,$A17,FALSE)","v":"NEXT >>>\nWoodfuel and Wood Residues Result"},"label10"]
[11,"NEXT >>\nWood Processing Residues  \n","SUIVANT >>\nTransformation des Résidus du Bois","SIGUIENTE >>\nResiduos del Procesamiento de la Madera","label",{"$f":"HLOOKUP($C$2,$B$8:$D18,$A18,FALSE)","v":"NEXT >>\nWood Processing Residues  \n"},"label11"]
[12,"<< BACK \nForest Harvesting\n","<< RETOUR\nExploitation forestière\n\n","<< VOLVER\nAprovechamiento Forestal\n\n","label",{"$f":"HLOOKUP($C$2,$B$8:$D19,$A19,FALSE)","v":"<< BACK \nForest Harvesting\n"},"label12"]
[13,"<<< BACK \nWoodfuel and Wood Residues Component","<<< RETOUR\nComposantes Combustibles Ligneux et Residus du Bois\n","<<< VOLVER\nComponente Madera Combustible y Residuos de Madera\n","label",{"$f":"HLOOKUP($C$2,$B$8:$D20,$A20,FALSE)","v":"<<< BACK \nWoodfuel and Wood Residues Component"},"label13"]
[14,"<< BACK \nForest Harvesting Residues\n\n","<< RETOUR\nRésidus d'Exploitation Forestière\n\n","<< VOLVER\nResiduos del Aprovechamiento Forestal\n\n\n","label",{"$f":"HLOOKUP($C$2,$B$8:$D21,$A21,FALSE)","v":"<< BACK \nForest Harvesting Residues\n\n"},"label14"]
[15,"NEXT >>\nWoodfuel and Wood Residues Result","SUIVANT >>\nRésultats de la Composante Combustibles Ligneux et Résidus du Bois\n\n","SIGUIENTE >>\nResultados de Madera Combustible y Residuos de Madera\n\n","label",{"$f":"HLOOKUP($C$2,$B$8:$D22,$A22,FALSE)","v":"NEXT >>\nWoodfuel and Wood Residues Result"},"label15"]
[16,"NEXT >>\nWoodfuel Plantation Budget Tool\n","SUIVANT >>\nBudget de Plantation des Combustibles Ligneux\n\n\n","SIGUIENTE >>\nHerramienta Presupuesto para Plantaciones de Madera como Combustible\n\n\n","label",{"$f":"HLOOKUP($C$2,$B$8:$D23,$A23,FALSE)","v":"NEXT >>\nWoodfuel Plantation Budget Tool\n"},"label16"]
[17,"PRINT THE RESULTS","IMPRIMER LES RÉSULTATS ","IMPRIMIR LOS RESULTADOS","label",{"$f":"HLOOKUP($C$2,$B$8:$D24,$A24,FALSE)","v":"PRINT THE RESULTS"},"label17"]
[18,"<< BACK \nWood Processing Residues  \n","<< RETOUR\nTransformation des Résidus du Bois","<< VOLVER\nResiduos del Procesamiento de la Madera","label",{"$f":"HLOOKUP($C$2,$B$8:$D25,$A25,FALSE)","v":"<< BACK \nWood Processing Residues  \n"},"label18"]
[19,"NEXT >>\nSelection of Tree Species \n\n","SUIVANT >>\nSélection des espèces d'arbres\n\n\n\n","SIGUIENTE >>\nSelección de Especies Arbóreas  \n\n\n\n","label",{"$f":"HLOOKUP($C$2,$B$8:$D26,$A26,FALSE)","v":"NEXT >>\nSelection of Tree Species \n\n"},"label19"]
[20,"NEXT >>\nGrowth characteristics \n \n\n","SUIVANT >>\nCaractéristiques de la croissance\n\n\n\n\n","SIGUIENTE >>\nMateria Prima Cosechable\n\n\n\n\n","label",{"$f":"HLOOKUP($C$2,$B$8:$D27,$A27,FALSE)","v":"NEXT >>\nGrowth characteristics \n \n\n"},"label20"]
[21,"<< BACK \nSelection of Tree Species \n\n","<< RETOUR\nSélection des espèces d'arbres\n\n\n\n","<< VOLVER\nSelección de Especies Arbóreas  \n\n\n\n","label",{"$f":"HLOOKUP($C$2,$B$8:$D28,$A28,FALSE)","v":"<< BACK \nSelection of Tree Species \n\n"},"label21"]
[22,"NEXT >>\nPlanting and Management\n \n\n","SUIVANT >>\nPlantation et Gestion\n\n\n\n\n\n","SIGUIENTE >>\nPlantaciones y Manejo\n\n\n\n\n\n","label",{"$f":"HLOOKUP($C$2,$B$8:$D29,$A29,FALSE)","v":"NEXT >>\nPlanting and Management\n \n\n"},"label22"]
[23,"Go to","Aller à","Ir a","label",{"$f":"HLOOKUP($C$2,$B$8:$D30,$A30,FALSE)","v":"Go to"},"label23"]
[24,"<< BACK \nGrowth characteristics \n \n\n","<< RETOUR\nCaractéristiques de la croissance\n\n\n\n\n","<< VOLVER\nMateria Prima Cosechable\n\n\n\n\n","label",{"$f":"HLOOKUP($C$2,$B$8:$D31,$A31,FALSE)","v":"<< BACK \nGrowth characteristics \n \n\n"},"label24"]
[25,"NEXT >>\nCosts, Revenues and Other Results\n\n \n\n","SUIVANT >>\nCoûts, revenus et autres résultats\n\n\n\n\n\n\n","SIGUIENTE >>\nCostos, Ingresos y Otros Resultados\n\n\n\n\n\n\n","label",{"$f":"HLOOKUP($C$2,$B$8:$D32,$A32,FALSE)","v":"NEXT >>\nCosts, Revenues and Other Results\n\n \n\n"},"label25"]
[26,"<< BACK \nPlanting and Management\n \n\n","<< RETOUR\nPlantation et Gestion\n\n\n\n\n\n","<< VOLVER\nPlantaciones y Manejo\n\n\n\n\n\n","label",{"$f":"HLOOKUP($C$2,$B$8:$D33,$A33,FALSE)","v":"<< BACK \nPlanting and Management\n \n\n"},"label26"]
[27,"<<< BACK \nForestry component","<<< RETOUR\nComposantes du bois\n","<<< VOLVER\nComponente forestales\n","label",{"$f":"HLOOKUP($C$2,$B$8:$D34,$A34,FALSE)","v":"<<< BACK \nForestry component"},"label27"]
[28,"PRINT THE RESULTS","IMPRIMER LES RÉSULTATS ","IMPRIMIR LOS RESULTADOS","label",{"$f":"HLOOKUP($C$2,$B$8:$D35,$A35,FALSE)","v":"PRINT THE RESULTS"},"label28"]

{"sheet":"title","index":14,"n_rows":263,"n_cols":7,"rows_kept":263,"cut":false,"hidden":true,"merged":[]}
[]
[null,"Selection",{"$f":"VLOOKUP(Start!C3,$A$3:$C$5,3,FALSE)","v":1}]
["EN","English",1]
["FR","French",2]
["ES","Spanish",3]
[]
["ID","English","French","Spanish","Typeof","Ref","Name"]
[1,1,2,3]
[2,"The Natural Resources Module","Le Module Ressources Naturelles ","El Módulo de Recursos Naturales ","title",{"$f":"HLOOKUP($C$2,$B$8:$D9,$A9,FALSE)","v":"The Natural Resources Module"},{"$f":"$E9&$A9","v":"title2"}]
[3,"is a set of tools for the assessment of the availability of bioenergy feedstock originating from crops, agricultural residues and woodfuel and wood residues.  ","est un ensemble d'outils pour l'évaluation de la disponibilité des matières premières bioénergétiques provenant de cultures, des résidus agricoles et des résidus de combustibles ligneux bois de feu et du bois.","es un conjunto de herramientas para la evaluación de la disponibilidad de materia prima bioenergética a partir de cultivos, de residuos agropecuarios, de madera para combustible y residuos de la madera. ","title",{"$f":"HLOOKUP($C$2,$B$8:$D10,$A10,FALSE)","v":"is a set of tools for the assessment of the availability of bioenergy feedstock originating from crops, agricultural residues and woodfuel and wood residues.  "},"title3"]
[4,"The Crops Component is used for the assessment of potential for additional production of oilseed, sugar and starch crops, which can later serve as feedstock for straight vegetable oil (SVO), biodiesel and ethanol. It comprises the Crop Production and Crop Budget Tools.  \nThe Crop Production Tool also provides land suitability maps derived from the Global Agro-Ecological Zones (GAEZ) database for 10 crops and two input levels.  \n\n\nThe Agricultural Residues Component encompasses tools to assess the availability of crop residues and livestock residues that can serve as feedstock for solid biofuels (briquettes, pellets) and biogas, which can be used for heating and cooking, or can be converted into electricity.  \n\n\nThe Woodfuel and Wood Residues Component is used to assess the potential for additional fuelwood production. The assessment can be carried out with three tools: Forest Harvesting, Wood Processing Residues and Woodfuel Plantation Budget.  \n\n\nThe tools facilitate a country level assessment, but can also be used for analysis at subnational level. In the Crop Budget and Woodfuel Plantation Budget  Tools, which encompass techno-economic analysis of crop and woodfuel plantation production, the assessment is conducted on a per-hectare basis. ","La Composante Cultures est utilisée pour l'évaluation du potentiel de production supplémentaire de graines oléagineuses, de sucre et d'amidon des cultures, qui peuvent ensuite servir de matière première pour l'huile végétale brute (HVB), le biodiesel et l'éthanol. Il comprend l’Outil Production de Cultures et Budget des Cultures. \nL'Outil Production de Cultures fournit également des cartes provenant des bases de données des Zones Agro-Ecologiques (GAEZ) pour 10 cultures et deux niveaux d'intrant. \n\nLa Composante  Résidus Agricoles englobe des Outils pour évaluer la disponibilité des résidus de cultures et des résidus de l'élevage qui peuvent servir de matière première pour les biocarburants solides (briquettes, boulette) et le biogaz, qui peuvent être utilisés pour le chauffage et la cuisson, ou peuvent être convertis en électricité. \n\nLa Composante Combustibles Ligneux et Résidus du Bois est utilisé pour évaluer le potentiel de production de bois de feu supplémentaire. L'évaluation peut être réalisée avec trois Outils: Exploitation Forestière, Traitement de Résidus du Bois et Budget de Plantation de Combustibles Ligneux. \n\nLes outils facilitent une évaluation au niveau des pays, mais peuvent également être utilisés pour l'analyse au niveau infranational. Dans les Outils Budget des Cultures et Budget de Plantation de Combustibles Ligneux, qui englobent l'analyse techno-économique de la production de cultures et de plantation de combustibles ligneux, l'évaluation est effectuée sur une base par hectare. ","El Componente Cultivos se utiliza para la evaluación del potencial de la producción adicional de los cultivos de cereales, semillas oleaginosas, azúcar y almidón, que pueden ser utilizadas como materia prima para la obtención de Aceite Vegetal (SVO), Biodiesel y Etanol. Este  componente engloba las herramientas Producción de Cultivos y Presupuesto Agrícola. \nLa herramienta de Producción de Cultivos ofrece también mapas de aptitud de la tierra derivados de la base de datos de Zonas Agroecológicas Mundiales (GAEZ por sus siglas en inglés) para 10 cultivos y dos niveles de entrada. \n\nEl Componente Residuos Agropecuarios abarca las herramientas para evaluar la disponibilidad de residuos agrícolas y de residuos ganaderos que pueden ser utilizados como materia prima para obtener biocombustibles sólidos (briquetas, pellets) y biogás, los cuales pueden ser utilizados para la calefacción, la cocción de alimentos, el calentamiento de agua sanitaria  o para la generación de energía eléctrica.\n\nLas herramientas facilitan la evaluación a nivel nacional, pero también pueden ser utilizadas para el análisis a nivel sub-nacional. Las herramientas Presupuesto Agrícola y Presupuesto para Plantaciones de Madera como Combustible abarcan el análisis tecno-económico de los cultivos y de la producción plantaciones de madera combustible. La evaluación y se lleva a cabo con base a una hectárea. \n\n\nEl Componente Madera Combustible y Residuos de Madera se utiliza para evaluar el potencial de la producción de madera combustible adicional. La evaluación puede llevarse a cabo con tres herramientas: Aprovechamiento Forestal, Residuos del Procesamiento de Madera y Presupuesto para Plantaciones de Madera como Combustible.\n\n","title",{"$f":"HLOOKUP($C$2,$B$8:$D11,$A11,FALSE)","v":"The Crops Component is used for the assessment of potential for additional production of oilseed, sugar and starch crops, which can later serve as feedstock for straight vegetable oil (SVO), biodiesel and ethanol. It comprises the Crop Production and Crop Budget Tools.  \nThe Crop Production Tool also provides land suitability maps derived from the Global Agro-Ecological Zones (GAEZ) database for 10 crops and two input levels.  \n\n\nThe Agricultural Residues Component encompasses tools to assess the availability of crop residues and livestock residues that can serve as feedstock for solid biofuels (briquettes, pellets) and biogas, which can be used for heating and cooking, or can be converted into electricity.  \n\n\nThe Woodfuel and Wood Residues Component is used to assess the potential for additional fuelwood production. The assessment can be carried out with three tools: Forest Harvesting, Wood Processing Residues and Woodfuel Plantation Budget.  \n\n\nThe tools facilitate a country level assessment, but can also be used for analysis at subnational level. In the Crop Budget and Woodfuel Plantation Budget  Tools, which encompass techno-economic analysis of crop and woodfuel plantation production, the assessment is conducted on a per-hectare basis. "},"title4"]
[5,"NATURAL RESOURCES MODULE","MODULE RESSOURCES NATURALLES ","MÓDULO RECURSOS NATURALES ","title",{"$f":"HLOOKUP($C$2,$B$8:$D12,$A12,FALSE)","v":"NATURAL RESOURCES MODULE"},"title5"]
[6,"Crops","Cultures ","Cultivos ","title",{"$f":"HLOOKUP($C$2,$B$8:$D13,$A13,FALSE)","v":"Crops"},"title6"]
[7,"Agricultural Residues","Résidus Agricoles ","Residuos Agropecuarios ","title",{"$f":"HLOOKUP($C$2,$B$8:$D14,$A14,FALSE)","v":"Agricultural Residues"},"title7"]
[8,"Woodfuel and Wood Residues","Combustible Ligneux et Résidus du Bois\n","Madera Combustible y Residuos de Madera ","title",{"$f":"HLOOKUP($C$2,$B$8:$D15,$A15,FALSE)","v":"Woodfuel and Wood Residues"},"title8"]
[9,"Crop \nProduction","Production \ndes Cultures","Producción \nde Cultivos ","title",{"$f":"HLOOKUP($C$2,$B$8:$D16,$A16,FALSE)","v":"Crop \nProduction"},"title9"]
[10,"Crop \nBudget","Budget \ndes Cultures","Presupuesto \nAgrícola ","title",{"$f":"HLOOKUP($C$2,$B$8:$D17,$A17,FALSE)","v":"Crop \nBudget"},"title10"]
[11,"Crop \nResidues","Résidus \ndes Récoltes ","Residuos \nAgrícolas ","title",{"$f":"HLOOKUP($C$2,$B$8:$D18,$A18,FALSE)","v":"Crop \nResidues"},"title11"]
[12,"Livestock \nResidues","Résidus de \nl’Élevage ","Residuos \nGanaderos ","title",{"$f":"HLOOKUP($C$2,$B$8:$D19,$A19,FALSE)","v":"Livestock \nResidues"},"title12"]
[13,"Forest \nHarvesting","Exploitation \nForestière","Aprovechamiento Forestal ","title",{"$f":"HLOOKUP($C$2,$B$8:$D20,$A20,FALSE)","v":"Forest \nHarvesting"},"title13"]
[14,"Wood Processing Residues","Traitement de Résidus du Bois","Residuos del  Procesamiento de la Madera\n\n","title",{"$f":"HLOOKUP($C$2,$B$8:$D21,$A21,FALSE)","v":"Wood Processing Residues"},"title14"]
[15,"Woodfuel Plantation \nBudget","Budget de Plantation de  Combustible Ligneux","Presupuesto para  Plantaciones de Madera como Combustible\n\n","title",{"$f":"HLOOKUP($C$2,$B$8:$D22,$A22,FALSE)","v":"Woodfuel Plantation \nBudget"},"title15"]
[16,"NATURAL RESOURCES RESULTS","RÉSULTATS DES RESSOURCES NATURALLES ","RESULTADOS DE LOS RECURSOS NATURALES ","title",{"$f":"HLOOKUP($C$2,$B$8:$D23,$A23,FALSE)","v":"NATURAL RESOURCES RESULTS"},"title16"]
[17,"Techno-economic and Socio-economic Analyses","Analyses Techno-économiques et Socioé-conomiques\n","Análisis Tecno-económico y Socio-económico\n ","title",{"$f":"HLOOKUP($C$2,$B$8:$D24,$A24,FALSE)","v":"Techno-economic and Socio-economic Analyses"},"title17"]
[18,"Disclaimer ","Déni de responsabilité ","Descargo de Responsabilidad ","title",{"$f":"HLOOKUP($C$2,$B$8:$D25,$A25,FALSE)","v":"Disclaimer "},"title18"]
[19,"FAO declines all responsibility for errors or deficiencies in the database or software or in the documentation accompanying it, for program maintenance and upgrading as well as for any damage that may arise from them.  FAO also declines any responsibility for updating the data and assumes no responsibility for errors and omissions in the data provided. Users are, however, kindly asked to report any errors or deficiencies in this product to FAO.  The choices of calculation made in this tool are those of the author(s) and do not necessarily reflect the views and choices of the Food and Agriculture Organization of the United Nations. © FAO, 2014.","La FAO décline toute responsabilité quant aux erreurs ou défauts des textes du présent site et des bases de données y afférentes, ainsi que pour les dommages pouvant en résulter. La FAO décline également toute responsabilité quant à la mise à jour des données et se dégage de toute responsabilité quant aux erreurs ou omissions concernant les données fournies. Les utilisateurs sont toutefois invités à signaler toute erreur ou lacune de ce produit à la FAO. Les choix  des calculs faits  dans le présent outil sont celles du/des auteur(s) et ne reflètent pas nécessairement les choix et opinions de l’Organisation des Nations Unies pour l’alimentation et l’agriculture (FAO). © FAO, 2014.","La FAO declina cualquier responsabilidad por errores u otros defectos del banco de datos, programa o de la documentación que los acompaña, o por cualquier daño derivado de ellos, así como por el mantenimiento y el mejoramiento de los programas. La FAO declina asimismo cualquier responsabilidad por la actualización de los datos, o por errores u omisiones en los datos que se han proporcionado. Se pide no obstante a los usuarios que señalen eventuales errores o defectos de este producto a la FAO. La elección de los cálculos presente en esta herramienta son las del/de los autor(es) y no reflejan necesariamente  las opiniones y elecciones de la Organización de las Naciones Unidas para la Agricultura y la Alimentación.  © FAO, 2014.","title",{"$f":"HLOOKUP($C$2,$B$8:$D26,$A26,FALSE)","v":"FAO declines all responsibility for errors or deficiencies in the database or software or in the documentation accompanying it, for program maintenance and upgrading as well as for any damage that may arise from them.  FAO also declines any responsibility for updating the data and assumes no responsibility for errors and omissions in the data provided. Users are, however, kindly asked to report any errors or deficiencies in this product to FAO.  The choices of calculation made in this tool are those of the author(s) and do not necessarily reflect the views and choices of the Food and Agriculture Organization of the United Nations. © FAO, 2014."},"title19"]
[20,"WOODFUEL AND WOOD RESIDUES COMPONENT","COMPOSANTES COMBUSTIBLES LIGNEUX ET RESIDUS DU BOIS","COMPONENTE MADERA COMBUSTIBLE Y RESIDUOS DE MADERA","title",{"$f":"HLOOKUP($C$2,$B$8:$D27,$A27,FALSE)","v":"WOODFUEL AND WOOD RESIDUES COMPONENT"},"title20"]
[21,"Country","Pays","País","title",{"$f":"HLOOKUP($C$2,$B$8:$D28,$A28,FALSE)","v":"Country"},"title21"]
[22,"BEFS Rapid Appraisal for","Évaluation Rapide BEFS pour","BEFS Evaluación Rápida para","title",{"$f":"HLOOKUP($C$2,$B$8:$D29,$A29,FALSE)","v":"BEFS Rapid Appraisal for"},"title22"]
[23,"The Woodfuel and Wood Residues Component","La Composante Combustibles Ligneux et Résidus du Bois de Feu","El Componente Madera Combustible y Residuos de Madera","title",{"$f":"HLOOKUP($C$2,$B$8:$D30,$A30,FALSE)","v":"The Woodfuel and Wood Residues Component"},"title23"]
[24," is used to assess the availability of woody biomass for bioenergy production originating from:","est utilisée pour évaluer la disponibilité de la biomasse ligneuse pour la production de bioénergie provenant de: ","se utiliza para evaluar la disponibilidad de la biomasa de madera para la producción de bioenergía procedente del:","title",{"$f":"HLOOKUP($C$2,$B$8:$D31,$A31,FALSE)","v":" is used to assess the availability of woody biomass for bioenergy production originating from:"},"title24"]
[25,"forest harvesting, wood processing and woodfuel plantations.","l’exploitation forestière, la transformation du bois et les plantations des combustibles ligneux.","aprovechamiento forestal, procesamiento de la madera y plantaciones de madera combustible.","title",{"$f":"HLOOKUP($C$2,$B$8:$D32,$A32,FALSE)","v":"forest harvesting, wood processing and woodfuel plantations."},"title25"]
[26,"The component comprises three tools:","La composante comprend trois outils:","El componente comprende tres herramientas:","title",{"$f":"HLOOKUP($C$2,$B$8:$D33,$A33,FALSE)","v":"The component comprises three tools:"},"title26"]
[27,"Forest Harvesting, Wood Processing Residues and Woodfuel Plantation Budget.","l'Exploitation Forestière, la Transformation du Bois et le Budget de la Plantation de Combustibles Ligneux.  ","Aprovechamiento Forestal, Residuos del Procesamiento de la Madera y Presupuesto para Plantaciones de Madera como Combustible.","title",{"$f":"HLOOKUP($C$2,$B$8:$D34,$A34,FALSE)","v":"Forest Harvesting, Wood Processing Residues and Woodfuel Plantation Budget."},"title27"]
[28,"The Forest Harvesting Tool is used for the assessment of the theoretical potential for additional harvesting of natural and planted forests for energy purposes. It is also used for the assessment of theoretical production of forest harvesting residues and volume of unused residues. The analysis is based on FAOSTAT and FRA2015, if available, data from national or local statistics may be used instead.\n\nThe Wood Processing Residues Tool  is  used for the assessment of theoretical production of sawnwood processing residues and volume of unused residues.  \n\nThe Woodfuel Plantation Budget Tool is used to assess costs, revenues and profitability per hectare of dedicated bioenergy plantations. The analysis also assesses the energy content of the woodfuel harvested.","L'outil Exploitation Forestière est utilisé pour l'évaluation du potentiel théorique de récolte supplémentaire de forêts naturelles et plantées à des fins énergétiques. Il est également utilisé pour l'évaluation de la production théorique de résidus d'exploitation forestière et le volume des résidus non utilisés. L'analyse est basée sur FAOSTAT et FRA2015, le cas échéant,  par contre les données provenant des statistiques nationales ou locales peuvent être utilisées à la place.\n\nL'outil Transformation des Résidus du Bois est utilisé pour l'évaluation de la production théorique de résidus et le volume des résidus non utilisés dans la transformation du bois de sciage.\n\nL'outil Budget de la Plantation de Combustibles Ligneux est utilisé pour évaluer les coûts, les revenus et la rentabilité par hectare des plantations bioénergétiques. L'analyse évalue également la teneur en énergie du bois de feu récolté.\n\n","La Herramienta Aprovechamiento Forestal se utiliza para la evaluación del potencial teórico para el aprovechamiento adicional de los bosques naturales y las plantaciones con fines energéticos. También se utiliza para la evaluación de la producción teórico de los residuos del aprovechamiento forestal y el volumen de los residuos no utilizados. El análisis se basa en FAOSTAT y FRA2015 si están disponibles los datos de las estadísticas nacionales o locales, éstas pueden ser utilizados en su lugar. \n\nLa Herramienta Residuos del Procesamiento de la Madera se utiliza para la evaluación de la producción teórica de los residuos del procesamiento de la madera aserrada y el volumen de residuos no utilizados.  \n\nLa Herramienta Presupuesto para Plantaciones de Madera como Combustible se utiliza para evaluar los costos, los ingresos y la rentabilidad por hectárea de las plantaciones bioenergéticas. El análisis también evalúa el contenido energético de la madera como combustible cosechada. \n","title",{"$f":"HLOOKUP($C$2,$B$8:$D35,$A35,FALSE)","v":"The Forest Harvesting Tool is used for the assessment of the theoretical potential for additional harvesting of natural and planted forests for energy purposes. It is also used for the assessment of theoretical production of forest harvesting residues and volume of unused residues. The analysis is based on FAOSTAT and FRA2015, if available, data from national or local statistics may be used instead.\n\nThe Wood Processing Residues Tool  is  used for the assessment of theoretical production of sawnwood processing residues and volume of unused residues.  \n\nThe Woodfuel Plantation Budget Tool is used to assess costs, revenues and profitability per hectare of dedicated bioenergy plantations. The analysis also assesses the energy content of the woodfuel harvested."},"title28"]
[29,"ADDITIONAL FOREST HARVESTING","EXPLOITATION FORESTIERE SUPPLEMENTAIRE","APROVECHAMIENTO FORESTAL ADICIONAL","title",{"$f":"HLOOKUP($C$2,$B$8:$D36,$A36,FALSE)","v":"ADDITIONAL FOREST HARVESTING"},"title29"]
[30,"Enter data into white cells","Entrer les données dans les cellules blanches","Introduzca los datos en las celdas blancas","title",{"$f":"HLOOKUP($C$2,$B$8:$D37,$A37,FALSE)","v":"Enter data into white cells"},"title30"]
[31,"Grey cells are calculated","Les cellules grisées sont calculées","Las celdas grises son cálculos","title",{"$f":"HLOOKUP($C$2,$B$8:$D38,$A38,FALSE)","v":"Grey cells are calculated"},"title31"]
[32,"Assessment based on default data","Évaluation fondée sur des données par défaut","Evaluación basada en los datos por defecto","title",{"$f":"HLOOKUP($C$2,$B$8:$D39,$A39,FALSE)","v":"Assessment based on default data"},"title32"]
[33,"Trends in extent of forest area 1990-2020 (FRA 2021)","Tendances en termes de superficie forestière 1990-2020 (FRA 2021)","Tendencias en la extensión de la superficie forestal 1990-2020 (FRA 2021)","title",{"$f":"HLOOKUP($C$2,$B$8:$D40,$A40,FALSE)","v":"Trends in extent of forest area 1990-2020 (FRA 2021)"},"title33"]
[34,"Forest area","Superficie forestière","Área forestal","title",{"$f":"HLOOKUP($C$2,$B$8:$D41,$A41,FALSE)","v":"Forest area"},"title34"]
[35,"Change of forest area","Changement de la superficie forestière","Cambio del área forestal","title",{"$f":"HLOOKUP($C$2,$B$8:$D42,$A42,FALSE)","v":"Change of forest area"},"title35"]
[36,"ha/yr","ha/an","ha/año","title",{"$f":"HLOOKUP($C$2,$B$8:$D43,$A43,FALSE)","v":"ha/yr"},"title36"]
[37,"Total forest area","Superficie forestière totale","Área forestal total","title",{"$f":"HLOOKUP($C$2,$B$8:$D44,$A44,FALSE)","v":"Total forest area"},"title37"]
[38,"Roundwood removal from forest (FAOSTAT)","Bois rond extrait de la forêt (FAOSTAT)","Extracción de madera en rollo de los bosques (FAOSTAT)","title",{"$f":"HLOOKUP($C$2,$B$8:$D45,$A45,FALSE)","v":"Roundwood removal from forest (FAOSTAT)"},"title38"]
[39,"Roundwood production","Production de Bois Rond","Producción de madera en rollo","title",{"$f":"HLOOKUP($C$2,$B$8:$D46,$A46,FALSE)","v":"Roundwood production"},"title39"]
[40,"Woodfuel production","Production de Bois de Chauffage","Producción de madera combustible","title",{"$f":"HLOOKUP($C$2,$B$8:$D47,$A47,FALSE)","v":"Woodfuel production"},"title40"]
[41,"Roundwood + (Total)","Bois rond + (Total)","Madera en rollo + (Total)","title",{"$f":"HLOOKUP($C$2,$B$8:$D48,$A48,FALSE)","v":"Roundwood + (Total)"},"title41"]
[42,"Wood Fuel + (Total)","Bois énergie + (Total)","Madera combustible + (Total)","title",{"$f":"HLOOKUP($C$2,$B$8:$D49,$A49,FALSE)","v":"Wood Fuel + (Total)"},"title42"]
[43,"Forest area 2000 - 2020","Superficie Forestière 2000 - 2020","Área forestal 2000 - 2020","title",{"$f":"HLOOKUP($C$2,$B$8:$D50,$A50,FALSE)","v":"Forest area 2000 - 2020"},"title43"]
[44,"Roundwood and wood fuel production \n2000 - 2020","Production de Bois Ronds et Bois de Chauffage \n2000 - 2020","Producción de madera en rollo y madera combustible \n2000-2020","title",{"$f":"HLOOKUP($C$2,$B$8:$D51,$A51,FALSE)","v":"Roundwood and wood fuel production \n2000 - 2020"},"title44"]
[45,"Trends in forest cover, conclusion and recommendations ","Tendances de la couverture forestière, la conclusion et recommandations","Tendencias de la cobertura forestal, conclusiones y recomendaciones","title",{"$f":"HLOOKUP($C$2,$B$8:$D52,$A52,FALSE)","v":"Trends in forest cover, conclusion and recommendations "},"title45"]
[46,"In order to decrease pressure on existing forests, forest plantations may be established and measures to increase the efficiency of wood utilization implemented. Increased efficiency of wood processing and conversion to energy, (e.g. sawmills, charcoal production, cooking and heating use), may result in a lower demand for wood removals and this may contribute to a more sustainable forest management.\nIn order to identify drivers and “hotspots” of deforestation it is necessary to conduct a more detailed, spatially-explicit analysis. \n\nOne  possible methodology to conduct this type of assessment is the Woodfuel Integrated Supply/Demand Overview Mapping (WISDOM). This is a spatially-explicit methodology for highlighting and determining priority areas of intervention and supporting wood energy / bioenergy planning and policy formulation. \nA detailed description can be found here http://www.wisdomprojects.net/global/.\n\n\n","Afin de diminuer la pression sur les forêts existantes, les plantations forestières peuvent être établies et des mesures pour accroître l'efficacité de l'utilisation du bois peuvent être mise en œuvre. L’augmentation de l'efficacité de la transformation du bois et la conversion de l'énergie, (par exemple, les scieries, la production de charbon de bois, la cuisine et l'utilisation du chauffage), peut entraîner une baisse de la demande pour les extractions de bois, ce qui peut contribuer à une gestion plus durable des forêts. \nAfin d'identifier les conducteurs et les «points chauds» de la déforestation, il est nécessaire de procéder à une analyse plus détaillée et spatialement explicite.\n\nUne méthode possible pour procéder à ce type d'évaluation est le Woodfuel Integrated Supply/Demand Overview Mapping (WISDOM). Il s'agit d'une méthode spatialement explicite pour mettre en évidence et  déterminer les domaines prioritaires d'intervention et de soutien à la planification de l'énergie du bois / de la bioénergie et de la formulation de la politique. Une description détaillée peut être trouvée ici http://www.wisdomprojects.net/global/.\n\n\n","En orden de disminuir la presión sobre los bosques existentes, pueden ser establecidas medidas sobre las plantaciones forestales para aumentar la eficiencia de la utilización de la madera ya implementada. Un aumento de la eficiencia en el procesamiento de la madera y su conversión a energía, (por ejemplo, aserraderos, producción de carbón vegetal, uso para la cocinar y la calefacción), puede resultar en una menor demanda de las extracciones de madera y esto puede contribuir a una gestión forestal más sostenible. Con el fin de identificar a los conductores y los “puntos calientes” de la deforestación, es necesario llevar a cabo un análisis más detallado, espacialmente explícito.\n\nUna posible metodología para llevar a cabo este tipo de evaluación es la Cartografía Integrada de la Oferta y la Demanda de Combustibles Madereros (WISDOM). Esta es una metodología espacialmente explícita para destacar y determinar las áreas prioritarias de intervención y el apoyo a la planificación y formulación de políticas para la madera combustible y bioenergía.\nUna descripción detallada se puede encontrar aquí http://www.wisdomprojects.net/global/.\n\n\n","title",{"$f":"HLOOKUP($C$2,$B$8:$D53,$A53,FALSE)","v":"In order to decrease pressure on existing forests, forest plantations may be established and measures to increase the efficiency of wood utilization implemented. Increased efficiency of wood processing and conversion to energy, (e.g. sawmills, charcoal production, cooking and heating use), may result in a lower demand for wood removals and this may contribute to a more sustainable forest management.\nIn order to identify drivers and “hotspots” of deforestation it is necessary to conduct a more detailed, spatially-explicit analysis. \n\nOne  possible methodology to conduct this type of assessment is the Woodfuel Integrated Supply/Demand Overview Mapping (WISDOM). This is a spatially-explicit methodology for highlighting and determining priority areas of intervention and supporting wood energy / bioenergy planning and policy formulation. \nA detailed description can be found here http://www.wisdomprojects.net/global/.\n\n\n"},"title46"]
[47,"An increase of total forest area in the country due to reforestation and afforestation and/or natural expansion of forests may imply that there is a potential for additional forest harvesting for energy. Nevertheless at this level of analysis it is not possible to provide any further conclusions. Therefore it is necessary to conduct a more detailed, spatially-explicit analysis. \n\nPredominant forest types, designated functions of the forests in the area, and implemented and/or suitable management practices (e.g. based on the rotation period, increment and rate of annual fellings, etc.) should be considered when assessing the potential for additional forest harvesting for energy. Existing forest uses and other demands for forest products in the area should be taken into account as well. \n\nOne  possible methodology to conduct this type of assessment is the Woodfuel Integrated Supply/Demand Overview Mapping (WISDOM). This is a spatially-explicit methodology for highlighting and determining priority areas of intervention and supporting wood energy / bioenergy planning and policy formulation. \nA detailed description can be found here http://www.wisdomprojects.net/global/.\n\n","Une augmentation de la superficie totale de la forêt dans le pays en raison du reboisement et du boisement et / ou de l'expansion naturelle des forêts peut signifier qu'il existe un potentiel d'exploitation forestière supplémentaire pour l'énergie. Néanmoins, à ce niveau d'analyse, il n'est pas possible de fournir d'autres conclusions. Par conséquent, il est nécessaire de procéder à une analyse plus détaillée et spatialement explicite.\n\nLes types de forêts prédominante, les fonctions désignées des forêts de la région, et la mise en œuvre et / ou les pratiques de gestion appropriées (par exemple en fonction de la période de rotation, l'accroissement et le taux de coupes annuelles, etc) doivent être considérés lors de l'évaluation du potentiel de l'exploitation forestière supplémentaire pour l'énergie. Les utilisations existantes de la forêt et d'autres exigences pour les produits forestiers dans la région doivent être prises en compte. \n\nUne méthode possible pour procéder à ce type d'évaluation est le Woodfuel Integrated Supply/Demand Overview Mapping (WISDOM). Il s'agit d'une méthode spatialement explicite pour mettre en évidence et  déterminer les domaines prioritaires d'intervention et de soutien à la planification de l'énergie du bois / de la bioénergie et de la formulation de la politique. Une description détaillée peut être trouvée ici http://www.wisdomprojects.net/global/.\n","Un aumento del área forestal total en el país debido a la reforestación y forestación y/o la expansión natural de los bosques puede implicar que hay un potencial aprovechamiento forestal adicional para la energía. Sin embargo, a este nivel de análisis no es posible proporcionar conclusiones adicionales. Por lo tanto, es necesario realizar un análisis más detallado, espacialmente explícito.\n\nCon el fin de evaluar el potencial de aprovechamiento forestal adicional para obtener energía deben considerarse los tipos de bosque predominantes, las funciones designadas e implementadas de los bosques en el área y/o las prácticas de manejo adecuadas (por ejemplo, basadas en periodos de rotación, incremento y la tasa de tala anual, etc.). De igual manera, deben tenerse en cuenta los usos de los bosques existentes y otras demandas de productos forestales.\n\nUna posible metodología para llevar a cabo este tipo de evaluación es (Cartografía Integrada de la Oferta y la Demanda de Combustibles Madereros (WISDOM). Esta es una metodología espacialmente explícita para destacar y determinar las áreas prioritarias de intervención y el apoyo a la planificación y formulación de políticas para la madera combustible y bioenergía.\nUna descripción detallada se puede encontrar aquí http://www.wisdomprojects.net/global/.\n\n","title",{"$f":"HLOOKUP($C$2,$B$8:$D54,$A54,FALSE)","v":"An increase of total forest area in the country due to reforestation and afforestation and/or natural expansion of forests may imply that there is a potential for additional forest harvesting for energy. Nevertheless at this level of analysis it is not possible to provide any further conclusions. Therefore it is necessary to conduct a more detailed, spatially-explicit analysis. \n\nPredominant forest types, designated functions of the forests in the area, and implemented and/or suitable management practices (e.g. based on the rotation period, increment and rate of annual fellings, etc.) should be considered when assessing the potential for additional forest harvesting for energy. Existing forest uses and other demands for forest products in the area should be taken into account as well. \n\nOne  possible methodology to conduct this type of assessment is the Woodfuel Integrated Supply/Demand Overview Mapping (WISDOM). This is a spatially-explicit methodology for highlighting and determining priority areas of intervention and supporting wood energy / bioenergy planning and policy formulation. \nA detailed description can be found here http://www.wisdomprojects.net/global/.\n\n"},"title47"]
[48,"At this level of analysis it is not possible to determine wheter there is a potential for additional forest harvesting for energy, therefore it is necessary to conduct a more detailed, spatially explicit analysis. \n\nOne possible methodology to conduct this type of assessment is the Woodfuel Integrated Supply/Demand Overview Mapping (WISDOM). This is a spatially-explicit methodology for highlighting and determining priority areas of intervention and supporting wood energy / bioenergy planning and policy formulation. \nA detailed description can be found here http://www.wisdomprojects.net/global/.\n\n","A ce niveau d'analyse, il n'est pas possible de déterminer s’ il ya un potentiel d'exploitation forestière supplémentaire pour l'énergie, il est donc nécessaire de procéder à une analyse plus détaillée et spatialement explicite.\n\nUne méthode possible pour procéder à ce type d'évaluation est le Woodfuel Integrated Supply/Demand Overview Mapping (WISDOM). Il s'agit d'une méthode spatialement explicite pour mettre en évidence et  déterminer les domaines prioritaires d'intervention et de soutien à la planification de l'énergie du bois / de la bioénergie et de la formulation de la politique. Une description détaillée peut être trouvée ici http://www.wisdomprojects.net/global/.\n\n","En este nivel de análisis no es posible determinar si existe un potencial para el aprovechamiento forestal adicional para energía, por lo tanto, es necesario llevar a cabo un análisis más detallado, espacialmente explícito.\n\nUna posible metodología para llevar a cabo este tipo de evaluación es (Cartografía Integrada de la Oferta y la Demanda de Combustibles Madereros (WISDOM). Esta es una metodología espacialmente explícita para destacar y determinar las áreas prioritarias de intervención y el apoyo a la planificación y formulación de políticas para la madera combustible y bioenergía.\nUna descripción detallada se puede encontrar aquí http://www.wisdomprojects.net/global/.\n\n","title",{"$f":"HLOOKUP($C$2,$B$8:$D55,$A55,FALSE)","v":"At this level of analysis it is not possible to determine wheter there is a potential for additional forest harvesting for energy, therefore it is necessary to conduct a more detailed, spatially explicit analysis. \n\nOne possible methodology to conduct this type of assessment is the Woodfuel Integrated Supply/Demand Overview Mapping (WISDOM). This is a spatially-explicit methodology for highlighting and determining priority areas of intervention and supporting wood energy / bioenergy planning and policy formulation. \nA detailed description can be found here http://www.wisdomprojects.net/global/.\n\n"},"title48"]
[49,"According to the Global Forest Resources assessment 2020 (FRA 2020) from 2000 to 2020 the total forest area in the country ","Selon l'évaluation des ressources forestières mondiales 2020 (FRA 2020) de 2000 à 2020, la superficie forestière totale du pays ","De acuerdo con la Evaluación de los Recursos Forestales Mundiales 2020 (FRA 2020) desde el 2000 hasta el 2020 el área forestal total del país ","title",{"$f":"HLOOKUP($C$2,$B$8:$D56,$A56,FALSE)","v":"According to the Global Forest Resources assessment 2020 (FRA 2020) from 2000 to 2020 the total forest area in the country "},"title49"]
[50,"increased by ","augmenté de ","se incrementó en ","title",{"$f":"HLOOKUP($C$2,$B$8:$D57,$A57,FALSE)","v":"increased by "},"title50"]
[51,"decreased by ","diminué de  ","disminuyó en ","title",{"$f":"HLOOKUP($C$2,$B$8:$D58,$A58,FALSE)","v":"decreased by "},"title51"]
[52,"remained at ","restés à","se mantuvo en ","title",{"$f":"HLOOKUP($C$2,$B$8:$D59,$A59,FALSE)","v":"remained at "},"title52"]
[53," ha, i.e. by "," ha, i.e. by ","ha, es decir, por ","title",{"$f":"HLOOKUP($C$2,$B$8:$D60,$A60,FALSE)","v":" ha, i.e. by "},"title53"]
[54,"Industrial roundwood","Bois Rond Industriel","Madera en rollo industrial","title",{"$f":"HLOOKUP($C$2,$B$8:$D61,$A61,FALSE)","v":"Industrial roundwood"},"title54"]
[55,"Woodfuel","Combustibles Ligneux","Madera combustible","title",{"$f":"HLOOKUP($C$2,$B$8:$D62,$A62,FALSE)","v":"Woodfuel"},"title55"]
[56,"USER DEFINED","DEFINIE PAR L'UTILISATEUR","DEFINIDO POR EL USUARIO","title",{"$f":"HLOOKUP($C$2,$B$8:$D63,$A63,FALSE)","v":"USER DEFINED"},"title56"]
[57,"Annual average 2011 - 2020","Moyenne annuelle 2011 - 2020","Promedio anual 2011 - 2020","title",{"$f":"HLOOKUP($C$2,$B$8:$D64,$A64,FALSE)","v":"Annual average 2011 - 2020"},"title57"]
[58,"Year","Année","Año","title",{"$f":"HLOOKUP($C$2,$B$8:$D65,$A65,FALSE)","v":"Year"},"title58"]
[59,"Unit","Unité ","Unidad","title",{"$f":"HLOOKUP($C$2,$B$8:$D66,$A66,FALSE)","v":"Unit"},"title59"]
[60,"Total","Total","Total","title",{"$f":"HLOOKUP($C$2,$B$8:$D67,$A67,FALSE)","v":"Total"},"title60"]
[61,"coniferous","conifères","conífera","title",{"$f":"HLOOKUP($C$2,$B$8:$D68,$A68,FALSE)","v":"coniferous"},"title61"]
[62,"non-coniferous","non-conifères","no conífera","title",{"$f":"HLOOKUP($C$2,$B$8:$D69,$A69,FALSE)","v":"non-coniferous"},"title62"]
[63,"Industrial Roundwood(C) + (Total)avg","Bois rond industriel(C) + (Total)avg","Madera en rollo industrial(C) + (Total)avg","title",{"$f":"HLOOKUP($C$2,$B$8:$D70,$A70,FALSE)","v":"Industrial Roundwood(C) + (Total)avg"},"title63"]
[64,"Industrial Roundwood(C) + (Total)","Bois rond industriel(C) + (Total)","Madera en rollo industrial(C) + (Total)","title",{"$f":"HLOOKUP($C$2,$B$8:$D71,$A71,FALSE)","v":"Industrial Roundwood(C) + (Total)"},"title64"]
[65,"Industrial Roundwood(NC) + (Total)avg","Bois rond industriel(NC) + (Total)avg","Madera en rollo industrial(NC) + (Total)avg","title",{"$f":"HLOOKUP($C$2,$B$8:$D72,$A72,FALSE)","v":"Industrial Roundwood(NC) + (Total)avg"},"title65"]
[66,"Industrial Roundwood(NC) + (Total)","Bois rond industriel(NC) + (Total)","Madera en rollo industrial(NC) + (Total)","title",{"$f":"HLOOKUP($C$2,$B$8:$D73,$A73,FALSE)","v":"Industrial Roundwood(NC) + (Total)"},{"$f":"$E73&$A73","v":"title66"}]
[67,"Wood Fuel(C)avg","Bois énergie(C)avg","Madera combustibile(C)avg","title",{"$f":"HLOOKUP($C$2,$B$8:$D74,$A74,FALSE)","v":"Wood Fuel(C)avg"},"title67"]
[68,"Wood Fuel(C)","Bois énergie(C)","Madera combustibile(C)","title",{"$f":"HLOOKUP($C$2,$B$8:$D75,$A75,FALSE)","v":"Wood Fuel(C)"},"title68"]
[69,"Wood Fuel(NC)avg","Bois énergie(NC)avg","Madera combustible(NC)avg","title",{"$f":"HLOOKUP($C$2,$B$8:$D76,$A76,FALSE)","v":"Wood Fuel(NC)avg"},"title69"]
[70,"Wood Fuel(NC)","Bois énergie(NC)","Madera combustible(NC)","title",{"$f":"HLOOKUP($C$2,$B$8:$D77,$A77,FALSE)","v":"Wood Fuel(NC)"},"title70"]
[71,"Rate of felling removal","Vitesse d'élimination de l'abattage","Tasa de eliminación de la tala","title",{"$f":"HLOOKUP($C$2,$B$8:$D78,$A78,FALSE)","v":"Rate of felling removal"},"title71"]
[72,"m3/year","m3/an","m3/año","title",{"$f":"HLOOKUP($C$2,$B$8:$D79,$A79,FALSE)","v":"m3/year"},"title72"]
[73,"The input value must be between 0 and 100.","La valeur entrée doit être comprise entre 0 et 100. ","El valor de entrada debe estar entre 0 y 100.","title",{"$f":"HLOOKUP($C$2,$B$8:$D80,$A80,FALSE)","v":"The input value must be between 0 and 100."},"title73"]
[74,"DEFAULT VALUE ","VALEUR PAR DÉFAUT ","VALOR POR DEFECTO","title",{"$f":"HLOOKUP($C$2,$B$8:$D81,$A81,FALSE)","v":"DEFAULT VALUE "},"title74"]
[75,"Characterisation of predominant forest type in the country ","Caractérisation de type de forêt prédominant dans le pays","Caracterización del tipo de bosque predominante en el país","title",{"$f":"HLOOKUP($C$2,$B$8:$D82,$A82,FALSE)","v":"Characterisation of predominant forest type in the country "},"title75"]
[76,"Tropical-Subtropical","Tropical/Sous-tropical","Tropical-Subtropical","title",{"$f":"HLOOKUP($C$2,$B$8:$D83,$A83,FALSE)","v":"Tropical-Subtropical"},"title76"]
[77,"Boreal","Boréale","Boreal","title",{"$f":"HLOOKUP($C$2,$B$8:$D84,$A84,FALSE)","v":"Boreal"},"title77"]
[78,"Temperate","Tempéré","Templado","title",{"$f":"HLOOKUP($C$2,$B$8:$D85,$A85,FALSE)","v":"Temperate"},"title78"]
[79,"Dominant forest type","Type dominant de forêt","Tipo de bosque dominante","title",{"$f":"HLOOKUP($C$2,$B$8:$D86,$A86,FALSE)","v":"Dominant forest type"},"title79"]
[80,"Tree composition after felling","Composition de l'arbre après la coupe","Composición de los árboles después de la tala","title",{"$f":"HLOOKUP($C$2,$B$8:$D87,$A87,FALSE)","v":"Tree composition after felling"},"title80"]
[81,"Crown (% of tree)","Couronne (% de l'arbre)","Copa (% del árbol)","title",{"$f":"HLOOKUP($C$2,$B$8:$D88,$A88,FALSE)","v":"Crown (% of tree)"},"title81"]
[82,"Foliage (% of crown)","Feuillage (% de la couronne)","Follaje (% de la Copa)","title",{"$f":"HLOOKUP($C$2,$B$8:$D89,$A89,FALSE)","v":"Foliage (% of crown)"},"title82"]
[83,"Stem+bark (% of tree)","Tige + Écorce (% de l'arbre)","Tronco + corteza (% del árbol)","title",{"$f":"HLOOKUP($C$2,$B$8:$D90,$A90,FALSE)","v":"Stem+bark (% of tree)"},"title83"]
[84,"Bark (% of stem)","Écorce (% de la tige)","Corteza (% del fuste)","title",{"$f":"HLOOKUP($C$2,$B$8:$D91,$A91,FALSE)","v":"Bark (% of stem)"},"title84"]
[85,"The sum of \"Crown\" and \"Stem+Bark\" may not be higher than 100%.","La somme de \"Couronne\"et \"Tige+Écorce\" ne pourra pas être supérieure à 100%.","La suma de \"copa\" y \"Tronco + Corteza\" no puede ser superior al 100%.","title",{"$f":"HLOOKUP($C$2,$B$8:$D92,$A92,FALSE)","v":"The sum of \"Crown\" and \"Stem+Bark\" may not be higher than 100%."},"title85"]
[86,"Input Error","Erreur d'entrée","Error del ingreso","title",{"$f":"HLOOKUP($C$2,$B$8:$D93,$A93,FALSE)","v":"Input Error"},"title86"]
[87,"Residues from forest harvesting","Résidus de l'exploitation forestière","Residuos del aprovechamiento forestal","title",{"$f":"HLOOKUP($C$2,$B$8:$D94,$A94,FALSE)","v":"Residues from forest harvesting"},"title87"]
[88,"Branches and various cut-offs","Branches et différents seuils","Ramas y diversos cortes","title",{"$f":"HLOOKUP($C$2,$B$8:$D95,$A95,FALSE)","v":"Branches and various cut-offs"},"title88"]
[89,"Foliage","Foliage","Follaje","title",{"$f":"HLOOKUP($C$2,$B$8:$D96,$A96,FALSE)","v":"Foliage"},"title89"]
[90,"Bark","Écorce","Corteza","title",{"$f":"HLOOKUP($C$2,$B$8:$D97,$A97,FALSE)","v":"Bark"},"title90"]
[91,"Percentage that can be collected at a reasonable cost (%)","Pourcentage qui peut être collecté à un cout raisonnable (%)","Porcentaje que puede ser recolectado a un costo razonable (%)","title",{"$f":"HLOOKUP($C$2,$B$8:$D98,$A98,FALSE)","v":"Percentage that can be collected at a reasonable cost (%)"},"title91"]
[92,"Current use of harvesting residues - % of total collectible residues","Utilisation actuelle des résidus de l’exploitation forestières - % des résidus totaux générés","Uso actual de los residuos de cosecha - % total de residuos generados","title",{"$f":"HLOOKUP($C$2,$B$8:$D99,$A99,FALSE)","v":"Current use of harvesting residues - % of total collectible residues"},"title92"]
[93,"Branches, various cut-offs and bark potentially available for bioenergy production","Branches, divers seuils et écorces potentiellement disponibles pour la production de bioénergie","Ramas, diversos cortes y cortezas potencialmente disponibles para la producción de bioenergía","title",{"$f":"HLOOKUP($C$2,$B$8:$D100,$A100,FALSE)","v":"Branches, various cut-offs and bark potentially available for bioenergy production"},"title93"]
[94,"Enter % of currently used residues","Entrez % de résidus actuellement utilisés","Introduzca % de los residuos que se utilizan actualmente","title",{"$f":"HLOOKUP($C$2,$B$8:$D101,$A101,FALSE)","v":"Enter % of currently used residues"},"title94"]
[95,"Forest harvesting residues potentially available for bioenergy production","Résidus de l’exploitation forestières potentiellement disponibles pour la production de bioénergie","Residuos del aprovechamiento forestal potencialmente disponibles para la producción de bioenergía","title",{"$f":"HLOOKUP($C$2,$B$8:$D102,$A102,FALSE)","v":"Forest harvesting residues potentially available for bioenergy production"},"title95"]
[96,"Select source on Roundwood production data to calculate final results","Sélectionner l’origine des données de production de bois rond pour le calcul des résultats finaux ","Seleccione la fuente de datos de la producción de madera en rollo que se utilizara para el cálculo de los resultados finales","title",{"$f":"HLOOKUP($C$2,$B$8:$D103,$A103,FALSE)","v":"Select source on Roundwood production data to calculate final results"},"title96"]
[97,"Wood density","Densité du bois","Densidad de la madera","title",{"$f":"HLOOKUP($C$2,$B$8:$D104,$A104,FALSE)","v":"Wood density"},"title97"]
[98,"Available residues","Résidus disponibles","Residuos disponibles","title",{"$f":"HLOOKUP($C$2,$B$8:$D105,$A105,FALSE)","v":"Available residues"},"title98"]
[99,"t/year","t/an","t/año","title",{"$f":"HLOOKUP($C$2,$B$8:$D106,$A106,FALSE)","v":"t/year"},"title99"]
[100,"FAOSTAT - Annual average \n2006 - 2015","FAOSTAT - Moyenne annuelle \n2006 - 2015","FAOSTAT - Promedio anual\n2006 - 2015","title",{"$f":"HLOOKUP($C$2,$B$8:$D107,$A107,FALSE)","v":"FAOSTAT - Annual average \n2006 - 2015"},"title100"]
[101,"FAOSTAT\n2015","FAOSTAT\n2015","FAOSTAT\n2015","title",{"$f":"HLOOKUP($C$2,$B$8:$D108,$A108,FALSE)","v":"FAOSTAT\n2015"},"title101"]
[102,"USER DEFINED\nDATA","DONNÉES DÉFINIES \nPAR L’UTILISATEUR","DEFINIDO \nPOR EL USUARIO","title",{"$f":"HLOOKUP($C$2,$B$8:$D109,$A109,FALSE)","v":"USER DEFINED\nDATA"},"title102"]
[103,"FOREST HARVESTING RESIDUES","RÉSIDUS DE L'EXPLOITATION FORESTIÈRE","RESIDUOS DEL APROVECHAMIENTO FORESTAL","title",{"$f":"HLOOKUP($C$2,$B$8:$D110,$A110,FALSE)","v":"FOREST HARVESTING RESIDUES"},"title103"]
[104,"Sawnwood production","Production de sciages","Producción de madera aserrada","title",{"$f":"HLOOKUP($C$2,$B$8:$D111,$A111,FALSE)","v":"Sawnwood production"},"title104"]
[105,"Sawnwood + (Total)avg","Sciages + (Total)avg","Madera aserrada + (Total)avg","title",{"$f":"HLOOKUP($C$2,$B$8:$D112,$A112,FALSE)","v":"Sawnwood + (Total)avg"},"title105"]
[106,"Sawnwood + (Total)","Sciages + (Total)","Madera aserrada + (Total)","title",{"$f":"HLOOKUP($C$2,$B$8:$D113,$A113,FALSE)","v":"Sawnwood + (Total)"},"title106"]
[107,"Average efficiency of sawmills","Rendement moyen des scieries","Eficiencia promedio de los aserraderos","title",{"$f":"HLOOKUP($C$2,$B$8:$D114,$A114,FALSE)","v":"Average efficiency of sawmills"},"title107"]
[108,"Sawnwood and residues","Sciages et résidus","Madera aserrada y residuos","title",{"$f":"HLOOKUP($C$2,$B$8:$D115,$A115,FALSE)","v":"Sawnwood and residues"},"title108"]
[109,"sawnwood ","sciages ","madera aserrada","title",{"$f":"HLOOKUP($C$2,$B$8:$D116,$A116,FALSE)","v":"sawnwood "},"title109"]
[110,"sawdust","sciure","aserrín","title",{"$f":"HLOOKUP($C$2,$B$8:$D117,$A117,FALSE)","v":"sawdust"},"title110"]
[111,"slabs and chips","plaques et puces","costeros y astillas","title",{"$f":"HLOOKUP($C$2,$B$8:$D118,$A118,FALSE)","v":"slabs and chips"},"title111"]
[112,"shrinkage and other losses","rétrécissement et autres pertes","reducciones y otras pérdidas","title",{"$f":"HLOOKUP($C$2,$B$8:$D119,$A119,FALSE)","v":"shrinkage and other losses"},"title112"]
[113,"Residues from sawnwood production","Résidus de la production de sciages","Residuos de la producción de madera aserrada","title",{"$f":"HLOOKUP($C$2,$B$8:$D120,$A120,FALSE)","v":"Residues from sawnwood production"},"title113"]
[114,"Type of residues","Types de residus","Tipo de residuos","title",{"$f":"HLOOKUP($C$2,$B$8:$D121,$A121,FALSE)","v":"Type of residues"},"title114"]
[115,"Current use of harvesting residues - % of total residues generated","Utilisation actuelle des résidus de l’exploitation forestière -% du total des résidus générés","Uso actual de los residuos de cosecha - % total de residuos generados","title",{"$f":"HLOOKUP($C$2,$B$8:$D122,$A122,FALSE)","v":"Current use of harvesting residues - % of total residues generated"},"title115"]
[116,"Residues potentially available for bioenergy production","Résidus potentiellement disponibles pour la production de bioénergie","Residuos potencialmente disponibles para la producción de bioenergía","title",{"$f":"HLOOKUP($C$2,$B$8:$D123,$A123,FALSE)","v":"Residues potentially available for bioenergy production"},"title116"]
[117,"Average wood density","Densité moyenne du bois","Densidad promedio de la madera","title",{"$f":"HLOOKUP($C$2,$B$8:$D124,$A124,FALSE)","v":"Average wood density"},"title117"]
[118,"The sum of sawnwood and residues may not be higher than 100%. ","La somme de sciages et des résidus ne pourra être supérieure à 100%.","La suma de la madera aserrada y los residuos no puede ser mayor que 100%.","title",{"$f":"HLOOKUP($C$2,$B$8:$D125,$A125,FALSE)","v":"The sum of sawnwood and residues may not be higher than 100%. "},"title118"]
[119,"Revise input data","Il faut revoir les données insérées","Revise los valores de entrada","title",{"$f":"HLOOKUP($C$2,$B$8:$D126,$A126,FALSE)","v":"Revise input data"},"title119"]
[120,"WOODFUEL AND WOOD RESIDUES COMPONENT - RESULTS","RÉSULTATS - COMPOSANTE COMBUSTIBLES LIGNEUX ET RÉSIDUS DU BOIS","COMPONENTE MADERA COMBUSTIBLE Y RESIDUOS DE MADERA - RESULTADOS","title",{"$f":"HLOOKUP($C$2,$B$8:$D127,$A127,FALSE)","v":"WOODFUEL AND WOOD RESIDUES COMPONENT - RESULTS"},"title120"]
[121,"Additional potential for energy production","Potentiel supplémentaire pour une production d'énergie","Potencial adicional para la producción de energía","title",{"$f":"HLOOKUP($C$2,$B$8:$D128,$A128,FALSE)","v":"Additional potential for energy production"},"title121"]
[122,"Potential for energy production","Potentiel de la production de l'énergie","Potencial para la producción de energía","title",{"$f":"HLOOKUP($C$2,$B$8:$D129,$A129,FALSE)","v":"Potential for energy production"},"title122"]
[123,"tons/year","tonnes/an","tons/año","title",{"$f":"HLOOKUP($C$2,$B$8:$D130,$A130,FALSE)","v":"tons/year"},"title123"]
[124,"t/year","t/an","t/año","title",{"$f":"HLOOKUP($C$2,$B$8:$D131,$A131,FALSE)","v":"t/year"},"title124"]
[125,"Define the allocation of wood residues for heating and cooking and rural electrification","Définir la répartition des résidus de bois pour le chauffage, la cuisson  et l'électrification rurale","Definir la asignación de los residuos de la madera para la calefacción y la cocina y la electrificación rural","title",{"$f":"HLOOKUP($C$2,$B$8:$D132,$A132,FALSE)","v":"Define the allocation of wood residues for heating and cooking and rural electrification"},"title125"]
[126,"Heating and Cooking","Chauffage et Cuisson","Calefacción y Cocina","title",{"$f":"HLOOKUP($C$2,$B$8:$D133,$A133,FALSE)","v":"Heating and Cooking"},"title126"]
[127,"Electricity and/or Heat","Électricité et/ou Chauffage","Electricidad y/o Calefacción","title",{"$f":"HLOOKUP($C$2,$B$8:$D134,$A134,FALSE)","v":"Electricity and/or Heat"},"title127"]
[128,"Charcoal","Charbon de Bois","Carbón vegetal","title",{"$f":"HLOOKUP($C$2,$B$8:$D135,$A135,FALSE)","v":"Charcoal"},"title128"]
[129,"Briquettes","Briquettes","Briquetas","title",{"$f":"HLOOKUP($C$2,$B$8:$D136,$A136,FALSE)","v":"Briquettes"},"title129"]
[130,"Pellets","Granulés de Bois","Pellets","title",{"$f":"HLOOKUP($C$2,$B$8:$D137,$A137,FALSE)","v":"Pellets"},{"$f":"$E137&$A137","v":"title130"}]
[131,"Ethanol (second generation)","Éthanol (biocarburants de deuxième génération)","Etanol (biocombustible de segunda generación)","title",{"$f":"HLOOKUP($C$2,$B$8:$D138,$A138,FALSE)","v":"Ethanol (second generation)"},"title131"]
[132,"Combustion","Combustion","Combustion","title",{"$f":"HLOOKUP($C$2,$B$8:$D139,$A139,FALSE)","v":"Combustion"},"title132"]
[133,"Gasification","Gazéification","Gasificación","title",{"$f":"HLOOKUP($C$2,$B$8:$D140,$A140,FALSE)","v":"Gasification"},"title133"]
[134,"CHP (Combined heat and power)","Cogénération","Cogeneración","title",{"$f":"HLOOKUP($C$2,$B$8:$D141,$A141,FALSE)","v":"CHP (Combined heat and power)"},"title134"]
[135,"% of available","% disponible ","% disponible","title",{"$f":"HLOOKUP($C$2,$B$8:$D142,$A142,FALSE)","v":"% of available"},"title135"]
[136,"Transport","Transport","Transporte","title",{"$f":"HLOOKUP($C$2,$B$8:$D143,$A143,FALSE)","v":"Transport"},"title136"]
[137,"Allocation of wood (m3/year)","Allocation de bois (m3/an)","La Asignación de la Madera (m3/año)","title",{"$f":"HLOOKUP($C$2,$B$8:$D144,$A144,FALSE)","v":"Allocation of wood (m3/year)"},"title137"]
[138,"Allocation of wood (t/year)","Allocation de bois (t/an)","La Asignación de la Madera (t/año)","title",{"$f":"HLOOKUP($C$2,$B$8:$D145,$A145,FALSE)","v":"Allocation of wood (t/year)"},"title138"]
[139,"Ethanol","Éthanol","Etanol","title",{"$f":"HLOOKUP($C$2,$B$8:$D146,$A146,FALSE)","v":"Ethanol"},"title139"]
[140,"The sum of allocated forest harvesting residues  may not be higher than 100%.","La somme des résidus d'exploitation forestière attribués ne peut être supérieure à 100%.","La suma de los residuos del aprovechamiento forestal asignados no puede ser mayores al 100%.","title",{"$f":"HLOOKUP($C$2,$B$8:$D147,$A147,FALSE)","v":"The sum of allocated forest harvesting residues  may not be higher than 100%."},"title140"]
[141,"The sum of allocated wood processing residues  may not be higher than 100%.","La somme des résidus de la transformation du bois alloués peut pas être supérieur à 100%.","La suma de los residuos del procesamiento de la madera asignados no puede ser superiores al 100%.","title",{"$f":"HLOOKUP($C$2,$B$8:$D148,$A148,FALSE)","v":"The sum of allocated wood processing residues  may not be higher than 100%."},"title141"]
[142,"The aim of this tool is to assess the profitability, costs and revenues per hectare for the potential harvestable volume of biomass from dedicated bioenergy plantations. The tool also assesses the energy content in the wood harvested for the selected tree species. ","Le but de cet outil est d'évaluer la rentabilité, les coûts et les revenus par hectare pour le volume potentiellement exploitable de la biomasse  provenant des plantations bioénergétiques. L'outil évalue également la teneur en énergie dans le bois récolté pour les espèces d'arbres sélectionnées.","El objetivo de esta herramienta es evaluar la rentabilidad, los costos y los ingresos por hectárea para el potencial volumen cosechable de la biomasa en las plantaciones dedicadas a cultivos bioenergéticos. La herramienta también evalúa el contenido de energía de la madera extraída de las especies de árboles seleccionados. ","title",{"$f":"HLOOKUP($C$2,$B$8:$D149,$A149,FALSE)","v":"The aim of this tool is to assess the profitability, costs and revenues per hectare for the potential harvestable volume of biomass from dedicated bioenergy plantations. The tool also assesses the energy content in the wood harvested for the selected tree species. "},"title142"]
[143,"Selection of Tree Species \n\n","Sélection des espèces d'arbres\n\n\n\n","Selección de Especies Arbóreas  \n\n\n\n","title",{"$f":"HLOOKUP($C$2,$B$8:$D150,$A150,FALSE)","v":"Selection of Tree Species \n\n"},"title143"]
[144,"Select two species (species 1 and species 2) from the dropdown lists below.","Sélectionnez deux espèces dans les menus déroulants ci-dessous.","Las siguiente especies de árboles pueden ser analizadas:","title",{"$f":"HLOOKUP($C$2,$B$8:$D151,$A151,FALSE)","v":"Select two species (species 1 and species 2) from the dropdown lists below."},"title144"]
[145,"Species","Espèce","Especies","title",{"$f":"HLOOKUP($C$2,$B$8:$D152,$A152,FALSE)","v":"Species"},"title145"]
[146,"Select species","Sélectionner les espèces","Seleccionar especies","title",{"$f":"HLOOKUP($C$2,$B$8:$D153,$A153,FALSE)","v":"Select species"},"title146"]
[147,"The following tree species can be chosen: ","Les espèces d'arbres suivantes peuvent être choisies: ","Las siguiente especies de árboles pueden ser analizadas: ","title",{"$f":"HLOOKUP($C$2,$B$8:$D154,$A154,FALSE)","v":"The following tree species can be chosen: "},"title147"]
[148,"Acacia mangium, Acacia senegal, Eucalyptus spp., Pinus patula, Pinus radiata, Populus spp., Salix spp. ","Acacia mangium, Acacia senegal, Eucalyptus spp., Pinus patula, Pinus radiata, Populus spp., Salix spp. ","Acacia mangium, Acacia senegal, Eucalyptus spp., Pinus patula, Pinus radiata, Populus spp., Salix spp. ","title",{"$f":"HLOOKUP($C$2,$B$8:$D155,$A155,FALSE)","v":"Acacia mangium, Acacia senegal, Eucalyptus spp., Pinus patula, Pinus radiata, Populus spp., Salix spp. "},"title148"]
[149,"Moreover, the user can select \"User-defined\" species and then enter the species name and the related data.","En outre, l’utilisateur a la possibilité de choisir l’espèce d’arbre qu’il désire analyser grâce à l’option espèce d’arbre « définies par l’utilisateur » pour laquelle il doit indiquer le nom et les informations correspondants.","Sin embargo, el usuario puede seleccionar \"Definido por el Usuario\" para introducir una especie e ingresar el nombre de la especie y los datos seleccionados.","title",{"$f":"HLOOKUP($C$2,$B$8:$D156,$A156,FALSE)","v":"Moreover, the user can select \"User-defined\" species and then enter the species name and the related data."},"title149"]
[150,"GROWTH CHARACTERISTICS AND PRODUCTION","CARACTERISTIQUES DE CROISSANCE ET DE PRODUCTION ","CARACTERÍSTICAS DE CRECIMIENTO Y PRODUCCIÓN","title",{"$f":"HLOOKUP($C$2,$B$8:$D157,$A157,FALSE)","v":"GROWTH CHARACTERISTICS AND PRODUCTION"},"title150"]
[151,"This sheet includes growth and production data for the selected tree species over a certain rotation length.\nPlease note that some specific factors (e.g. site ecological conditions) are not considered in the default data. Thus, this data should be used as a general indication. \n(further information is available in the section \"Assumptions and Limitations\" of the User Manual)","Cette fiche comprend les données de croissance et de production pour les espèces d'arbres sélectionnées d’une certaine longueur de rotation.\nS'il vous plaît notez que certains facteurs spécifiques (par exemple, le site des conditions écologiques) ne sont pas pris en compte dans les données par défaut. Alors, ces données devraient être utilisées comme une indication générale (des informations complémentaires sont disponibles dans la section \"Hypothèses et Limites\" du manuel de l'utilisateur). ","Esta ficha incluye los datos de crecimiento y producción de las especies de los árboles seleccionados durante un cierto período de rotación.\nPor favor, tenga en cuenta que algunos de los factores específicos (por ejemplo, las condiciones ecológicas del lugar) no se consideran en los datos por defecto. Por lo tanto, estos datos se debe utilizar como una indicación general (para mas información lea la sección sobre \"Supuestos y Limitaciones\" del manual de usuario).","title",{"$f":"HLOOKUP($C$2,$B$8:$D158,$A158,FALSE)","v":"This sheet includes growth and production data for the selected tree species over a certain rotation length.\nPlease note that some specific factors (e.g. site ecological conditions) are not considered in the default data. Thus, this data should be used as a general indication. \n(further information is available in the section \"Assumptions and Limitations\" of the User Manual)"},{"$f":"$E158&$A158","v":"title151"}]
[152,"User-defined","Définies par l'utilisateur","Definido por el usuario","title",{"$f":"HLOOKUP($C$2,$B$8:$D159,$A159,FALSE)","v":"User-defined"},{"$f":"$E159&$A159","v":"title152"}]
[153,"NOTE:","NOTE:","NOTA:","title",{"$f":"HLOOKUP($C$2,$B$8:$D160,$A160,FALSE)","v":"NOTE:"},{"$f":"$E160&$A160","v":"title153"}]
[154,"Species 1 selected:","Espèce 1 sélectionnée:","Especies 1 seleccionado:","title",{"$f":"HLOOKUP($C$2,$B$8:$D161,$A161,FALSE)","v":"Species 1 selected:"},{"$f":"$E161&$A161","v":"title154"}]
[155,"Species 2 selected:","Espèce 2 sélectionnée:","Especies 2 seleccionado:","title",{"$f":"HLOOKUP($C$2,$B$8:$D162,$A162,FALSE)","v":"Species 2 selected:"},"title155"]
[156,"Growth data","Données de croissance","Datos de crecimiento","title",{"$f":"HLOOKUP($C$2,$B$8:$D163,$A163,FALSE)","v":"Growth data"},"title156"]
[157,"Planting density","Densité de la plantation","Densidad de plantación","title",{"$f":"HLOOKUP($C$2,$B$8:$D164,$A164,FALSE)","v":"Planting density"},"title157"]
[158,"Mean Annual Increment (average)","Accroissement Annuel Moyen (moyenne)","Incremento Medio Anual (promedio)","title",{"$f":"HLOOKUP($C$2,$B$8:$D165,$A165,FALSE)","v":"Mean Annual Increment (average)"},"title158"]
[159,"Rotation length (max 30 years)","Longueur de rotation (max 30 ans)","Duración de la rotación (máx 30 años)","title",{"$f":"HLOOKUP($C$2,$B$8:$D166,$A166,FALSE)","v":"Rotation length (max 30 years)"},"title159"]
[160,"Production","Production","Producción","title",{"$f":"HLOOKUP($C$2,$B$8:$D167,$A167,FALSE)","v":"Production"},"title160"]
[161,"Harvestable volume for bioenergy purposes ","Volume récoltable à des fins bioénergitiques","Volumen cosechable con fines bioenergéticos","title",{"$f":"HLOOKUP($C$2,$B$8:$D168,$A168,FALSE)","v":"Harvestable volume for bioenergy purposes "},"title161"]
[162,"Low heating value (energy content)","À faible pouvoir calorifique (contenu énergétique)","Poder Calorífico Inferior (contenido de energía)","title",{"$f":"HLOOKUP($C$2,$B$8:$D169,$A169,FALSE)","v":"Low heating value (energy content)"},"title162"]
[163,"Moisture","Humidité","Humedad","title",{"$f":"HLOOKUP($C$2,$B$8:$D170,$A170,FALSE)","v":"Moisture"},"title163"]
[164,"Wood harvested price (stack)","Prix d’une pile de bois récolté","Precio de madera cosechada (pila)","title",{"$f":"HLOOKUP($C$2,$B$8:$D171,$A171,FALSE)","v":"Wood harvested price (stack)"},"title164"]
[165,"Rotation length","Longueur de rotation","Duración de la rotación","title",{"$f":"HLOOKUP($C$2,$B$8:$D172,$A172,FALSE)","v":"Rotation length"},"title165"]
[166,"Mean Annual Increment","Accroissement Annuel Moyen","Incremento Medio Annual","title",{"$f":"HLOOKUP($C$2,$B$8:$D173,$A173,FALSE)","v":"Mean Annual Increment"},"title166"]
[167,"trees/ha","arbres/ha","árboles/ha","title",{"$f":"HLOOKUP($C$2,$B$8:$D174,$A174,FALSE)","v":"trees/ha"},"title167"]
[168,"m3/ha/year","m3/ha/an","m3/ha/año","title",{"$f":"HLOOKUP($C$2,$B$8:$D175,$A175,FALSE)","v":"m3/ha/year"},"title168"]
[169,"Species 1","Espèce 1","Especies 1","title",{"$f":"HLOOKUP($C$2,$B$8:$D176,$A176,FALSE)","v":"Species 1"},"title169"]
[170,"Species 2","Espèce 2","Especies 2","title",{"$f":"HLOOKUP($C$2,$B$8:$D177,$A177,FALSE)","v":"Species 2"},"title170"]
[171,"GENERAL DATA ENTRY","ENTRÉE DE DONNÉES GÉNÉRALES","DATOS GENERALES DE ENTRADA","title",{"$f":"HLOOKUP($C$2,$B$8:$D178,$A178,FALSE)","v":"GENERAL DATA ENTRY"},"title171"]
[172,"Daily wage for agricultural labour ","Salaire journalier pour le travail forestier","Salario diario de la mano de obra agrícola","title",{"$f":"HLOOKUP($C$2,$B$8:$D179,$A179,FALSE)","v":"Daily wage for agricultural labour "},"title172"]
[173,"Cost per hour for machinery (average rental cost)","Taux de location de machines (taux moyen des exploitations agric.)","Tasa de alquiler de maquinaria (tasa promedio)","title",{"$f":"HLOOKUP($C$2,$B$8:$D180,$A180,FALSE)","v":"Cost per hour for machinery (average rental cost)"},"title173"]
[174,"Discount rate","Taux d’actualisation","Tasa de descuento","title",{"$f":"HLOOKUP($C$2,$B$8:$D181,$A181,FALSE)","v":"Discount rate"},"title174"]
[175,"Fertilizers price","Prix d'engrais","Precio de fertilizante","title",{"$f":"HLOOKUP($C$2,$B$8:$D182,$A182,FALSE)","v":"Fertilizers price"},"title175"]
[176,"Nitrogen fertilizers","Engrais azotés","Fertilizantes nitrogenados","title",{"$f":"HLOOKUP($C$2,$B$8:$D183,$A183,FALSE)","v":"Nitrogen fertilizers"},"title176"]
[177,"Phosphate fertilizers","Engrais phosphatés","Fertilizantes de fosfato","title",{"$f":"HLOOKUP($C$2,$B$8:$D184,$A184,FALSE)","v":"Phosphate fertilizers"},"title177"]
[178,"Potassium fertilizers","Engrais potassiques","Fertilizantes potásicos","title",{"$f":"HLOOKUP($C$2,$B$8:$D185,$A185,FALSE)","v":"Potassium fertilizers"},"title178"]
[179,"NPK complex fertilizers","Engrais complexes NPK","Fertilizantes complejos de NPK","title",{"$f":"HLOOKUP($C$2,$B$8:$D186,$A186,FALSE)","v":"NPK complex fertilizers"},"title179"]
[180,"Plot size","Superficie du terrain","Tamaño del lote","title",{"$f":"HLOOKUP($C$2,$B$8:$D187,$A187,FALSE)","v":"Plot size"},"title180"]
[181,"USD/day","USD/jour","USD/dia","title",{"$f":"HLOOKUP($C$2,$B$8:$D188,$A188,FALSE)","v":"USD/day"},"title181"]
[182,"USD/hour","USD/heure","USD/hora","title",{"$f":"HLOOKUP($C$2,$B$8:$D189,$A189,FALSE)","v":"USD/hour"},"title182"]
[183,"years","ans","años","title",{"$f":"HLOOKUP($C$2,$B$8:$D190,$A190,FALSE)","v":"years"},"title183"]
[184,"PLANTING AND MANAGEMENT COSTS","COÛTS DES PLANTATIONS ET DE LA GESTION","COSTOS DE PLANTACIONES Y MANEJO","title",{"$f":"HLOOKUP($C$2,$B$8:$D191,$A191,FALSE)","v":"PLANTING AND MANAGEMENT COSTS"},"title184"]
[185,"This sheet includes data on the input and labour requirements for the establishment and management of the selected plantation.\n\nFirstly, under General Data Entry the user should enter data related to input prices and labour costs. The unit price (without subsidies) for each type of fertilizer (Nitrogen, Phosphate, Potassium and NPK complex fertilizers) should be entered.\n\nSecondly, based on the selected tree species, the user has to enter the unit price of seedlings. Furthermore, data on inputs and labour requirements per hectare  should be provided (see Step 4 of the User Manual). In case such data are not available, default values are provided.\n\nNote: The analysis does not account for inflation - all costs and incomes are in constant present day USD.\n\n ","Cette fiche contient des données sur les exigences d'intrant et de main d’œuvre pour la mise en place gestion de la plantation sélectionné. \n\nTout d'abord, dans L'entrée Générale de Données l'utilisateur doit entrer des données relatives aux prix des intrants et des coûts de main-d'œuvre. Le prix unitaire (sans les subventions) pour chaque type d'engrais (azote, phosphore, potassium et engrais complexes NPK) est inscrit. \n\nDeuxièmement, sur base des espèces d'arbres sélectionnées, l'utilisateur doit entrer le prix unitaire des semis. En outre, les données sur les entrées et les exigences en matière de main-d'œuvre par hectare doivent être fournis (voir l'étape 4 de l'utilisateur-manuel). Dans le cas où ces données ne sont pas disponibles, des valeurs par défaut sont fournies. \n\nRemarque: l'analyse ne tient pas compte de l'inflation - tous les coûts et les revenus sont en USD constant d’aujourd'hui.","Esta hoja incluye datos sobre los requerimientos de insumos y de mano de obra para el establecimiento y manejo de la plantación seleccionada.\n\nEn primer lugar, en los Datos de Entrada Generales, el usuario debe introducir los datos relativos a los precios de los insumos y los costos de mano de obra.  Debe introducirse el precio por unidad (sin subsidios) para cada tipo de fertilizante (nitrógeno, fósforo, potasio y fertilizantes NPK complejos).\n\nEn segundo lugar, sobre la base de las especies de árboles seleccionados, el usuario tiene que introducir el precio unitario de los plantines. Además, deben proporcionarse datos sobre los insumos y mano de obra requerida por hectárea (ver paso 4 del manual de usuario). En caso de que no se disponga de esos datos, se proporcionan valores por defecto. \n\nNota: el análisis no tiene en cuenta la inflación - todos los gastos y los ingresos están de acuerdo con el precio del USD actual. \n\n","title",{"$f":"HLOOKUP($C$2,$B$8:$D192,$A192,FALSE)","v":"This sheet includes data on the input and labour requirements for the establishment and management of the selected plantation.\n\nFirstly, under General Data Entry the user should enter data related to input prices and labour costs. The unit price (without subsidies) for each type of fertilizer (Nitrogen, Phosphate, Potassium and NPK complex fertilizers) should be entered.\n\nSecondly, based on the selected tree species, the user has to enter the unit price of seedlings. Furthermore, data on inputs and labour requirements per hectare  should be provided (see Step 4 of the User Manual). In case such data are not available, default values are provided.\n\nNote: The analysis does not account for inflation - all costs and incomes are in constant present day USD.\n\n "},"title185"]
[186,"Default","Défaut","Defecto","title",{"$f":"HLOOKUP($C$2,$B$8:$D193,$A193,FALSE)","v":"Default"},"title186"]
[187,"Inputs","Intrants","Insumos","title",{"$f":"HLOOKUP($C$2,$B$8:$D194,$A194,FALSE)","v":"Inputs"},"title187"]
[188,"Seedling","Semis","Plántulas","title",{"$f":"HLOOKUP($C$2,$B$8:$D195,$A195,FALSE)","v":"Seedling"},"title188"]
[189,"Fertilizer Nutrients","Nutriments des engrais","Nutrientes en Fertilizantes:","title",{"$f":"HLOOKUP($C$2,$B$8:$D196,$A196,FALSE)","v":"Fertilizer Nutrients"},"title189"]
[190," - Nitrogen"," - Azote"," - Nitrógeno","title",{"$f":"HLOOKUP($C$2,$B$8:$D197,$A197,FALSE)","v":" - Nitrogen"},"title190"]
[191," - Phosphorus "," - Phosphore "," - Fósforo ","title",{"$f":"HLOOKUP($C$2,$B$8:$D198,$A198,FALSE)","v":" - Phosphorus "},"title191"]
[192," - Potassium "," - Potassium "," - Potasio ","title",{"$f":"HLOOKUP($C$2,$B$8:$D199,$A199,FALSE)","v":" - Potassium "},"title192"]
[193,"Other inputs","Autres intrants:","Otros insumos:","title",{"$f":"HLOOKUP($C$2,$B$8:$D200,$A200,FALSE)","v":"Other inputs"},"title193"]
[194,"Total input costs","Total des coûts des intrants","Costos totales de insumos","title",{"$f":"HLOOKUP($C$2,$B$8:$D201,$A201,FALSE)","v":"Total input costs"},"title194"]
[195,"Unit price (USD)","Prix ​​unitaire (USD)","Precio Unitario (USD)","title",{"$f":"HLOOKUP($C$2,$B$8:$D202,$A202,FALSE)","v":"Unit price (USD)"},"title195"]
[196,"man-day","homme-jour","hombre-día","title",{"$f":"HLOOKUP($C$2,$B$8:$D203,$A203,FALSE)","v":"man-day"},"title196"]
[197,"hour","heure","hora","title",{"$f":"HLOOKUP($C$2,$B$8:$D204,$A204,FALSE)","v":"hour"},"title197"]
[198,"Labour","Main d'oeuvre","Trabajo","title",{"$f":"HLOOKUP($C$2,$B$8:$D205,$A205,FALSE)","v":"Labour"},"title198"]
[199,"Land clearing and planting","Défrichement et de plantation","Limpieza del terreno y siembra","title",{"$f":"HLOOKUP($C$2,$B$8:$D206,$A206,FALSE)","v":"Land clearing and planting"},"title199"]
[200," - Manual"," - Manuel"," - Manual","title",{"$f":"HLOOKUP($C$2,$B$8:$D207,$A207,FALSE)","v":" - Manual"},"title200"]
[201," - Machinery"," - Machines"," - Maquinaria","title",{"$f":"HLOOKUP($C$2,$B$8:$D208,$A208,FALSE)","v":" - Machinery"},"title201"]
[202,"Application of fertilizers","Application d'engrais","La aplicación de fertilizantes","title",{"$f":"HLOOKUP($C$2,$B$8:$D209,$A209,FALSE)","v":"Application of fertilizers"},"title202"]
[203,"Application of other agrochemicals","Application d'autres produits agrochimiques","Aplicación de otros productos agroquímicos","title",{"$f":"HLOOKUP($C$2,$B$8:$D210,$A210,FALSE)","v":"Application of other agrochemicals"},"title203"]
[204,"Harvesting","Récolte","Cosecha","title",{"$f":"HLOOKUP($C$2,$B$8:$D211,$A211,FALSE)","v":"Harvesting"},"title204"]
[205,"Other labour:","Autres main-d'œuvre:","Otros requerimientos:","title",{"$f":"HLOOKUP($C$2,$B$8:$D212,$A212,FALSE)","v":"Other labour:"},"title205"]
[206,"Total labour costs","Coûts totaux de la main-d'œuvre","Total costos de mano de obra","title",{"$f":"HLOOKUP($C$2,$B$8:$D213,$A213,FALSE)","v":"Total labour costs"},"title206"]
[207,"Years within the Rotation Length","La Durée de Rotation en Année","Duración de la rotación en años","title",{"$f":"HLOOKUP($C$2,$B$8:$D214,$A214,FALSE)","v":"Years within the Rotation Length"},"title207"]
[208,"Total quantity     per hectare","Quantité totale par hectare","Cantidad total     por hectárea","title",{"$f":"HLOOKUP($C$2,$B$8:$D215,$A215,FALSE)","v":"Total quantity     per hectare"},"title208"]
[209,"Discounted total costs        (USD/ha)","Coûts totaux actualisés        (USD/ha)","Costos totales descontados (USD/ha)","title",{"$f":"HLOOKUP($C$2,$B$8:$D216,$A216,FALSE)","v":"Discounted total costs        (USD/ha)"},"title209"]
[210,"from","à partir de","desde","title",{"$f":"HLOOKUP($C$2,$B$8:$D217,$A217,FALSE)","v":"from"},"title210"]
[211,"to","à","hasta","title",{"$f":"HLOOKUP($C$2,$B$8:$D218,$A218,FALSE)","v":"to"},"title211"]
[212,"ANALYSIS OF WOODFUEL PLANTATION","ANALYSE DES PLANTATIONS DE COMBUSTIBLES LIGNEUX","ANÁLISIS DE PLANTACIONES DE MADERA COMBUSTIBLE","title",{"$f":"HLOOKUP($C$2,$B$8:$D219,$A219,FALSE)","v":"ANALYSIS OF WOODFUEL PLANTATION"},"title212"]
[213,"The methodology used to assess costs and revenues is based on the procedure of discounting. This procedure allows costs and revenues occurring at different times in the future to be converted into a common present value. These present values are summed up to determine the Net Present Value (NPV) which is an indicator of the overall profitability of the investment. Moreover, as a second indicator, the Internal Rate of Return (IRR) is calculated.","La méthodologie utilisée pour évaluer les coûts et les revenus est basée sur la procédure d'actualisation. Cette procédure permet  aux coûts et recettes qui se produisent à des moments différents dans l'avenir à être convertis en une valeur actuelle commune. Ces valeurs actuelles sont additionnées pour déterminer la valeur actualisée nette (VAN) qui est un indicateur de la rentabilité globale de l'investissement. En outre, comme un second indicateur, le taux de rendement interne (TRI) est calculé.","La metodología utilizada para evaluar los costos e ingresos, se basa en el procedimiento de descuentos. Este procedimiento permite que los costos e ingresos que se producen en diferentes momentos en el tiempo, se conviertan en un valor presente común. Estos valores presentes se suman para determinar el Valor Presente Neto (VPN), el cual es un indicador de la rentabilidad global de la inversión. Por otra parte, como un segundo indicador, la Tasa Interna de Retorno (TIR) es calculada. ","title",{"$f":"HLOOKUP($C$2,$B$8:$D220,$A220,FALSE)","v":"The methodology used to assess costs and revenues is based on the procedure of discounting. This procedure allows costs and revenues occurring at different times in the future to be converted into a common present value. These present values are summed up to determine the Net Present Value (NPV) which is an indicator of the overall profitability of the investment. Moreover, as a second indicator, the Internal Rate of Return (IRR) is calculated."},"title213"]
[214,"Data summary","Résumé des données","Resumen de datos","title",{"$f":"HLOOKUP($C$2,$B$8:$D221,$A221,FALSE)","v":"Data summary"},"title214"]
[215,"Costs and revenues","Coûts et les revenus","Costos e ingresos","title",{"$f":"HLOOKUP($C$2,$B$8:$D222,$A222,FALSE)","v":"Costs and revenues"},"title215"]
[216,"Total discounted revenues","Total des revenus actualisés","Total de ingresos descontados","title",{"$f":"HLOOKUP($C$2,$B$8:$D223,$A223,FALSE)","v":"Total discounted revenues"},"title216"]
[217,"Total discounted costs","Total des coûts actualisés","Total de costos descontados","title",{"$f":"HLOOKUP($C$2,$B$8:$D224,$A224,FALSE)","v":"Total discounted costs"},"title217"]
[218,"Indicators of profitability","Indicateurs de rentabilité","Indicadores de rentabilidad","title",{"$f":"HLOOKUP($C$2,$B$8:$D225,$A225,FALSE)","v":"Indicators of profitability"},{"$f":"$E225&$A225","v":"title218"}]
[219,"Net Present Value (NPV)","Valeur Actuelle Nette (VAN)","Valor Presente Neto (VPN)","title",{"$f":"HLOOKUP($C$2,$B$8:$D226,$A226,FALSE)","v":"Net Present Value (NPV)"},"title219"]
[220,"Internal Rate of Return (IRR)","Taux de Rendement Interne (TRI)","Tasa Interna de Retorno (TIR)","title",{"$f":"HLOOKUP($C$2,$B$8:$D227,$A227,FALSE)","v":"Internal Rate of Return (IRR)"},"title220"]
[221,"Energy content in the wood harvested:","Teneur énergétique dans le bois récolté","Contenido energético de la madera cosechada:","title",{"$f":"HLOOKUP($C$2,$B$8:$D228,$A228,FALSE)","v":"Energy content in the wood harvested:"},"title221"]
[222,"Energy content per hectare","Teneur énergétique par hectare","Contenido energético por hectárea","title",{"$f":"HLOOKUP($C$2,$B$8:$D229,$A229,FALSE)","v":"Energy content per hectare"},"title222"]
[223,"Notes on the results of profitability between plantations:","Remarques sur les résultats de rentabilité entre les plantations:","Notas sobre los resultados de la rentabilidad entre las plantaciones:","title",{"$f":"HLOOKUP($C$2,$B$8:$D230,$A230,FALSE)","v":"Notes on the results of profitability between plantations:"},"title223"]
[224,"If the NPV is positive the investment may be considered profitable, while if the NPV is negative may be considerednot profitable. When comparing investment alternatives, the one with the highest NPV is usually regarded as the best in terms of profitability.\nUsing the IRR indicator, an investment is usually said to be profitable if it yields a rate of return greater than the discount rate. In comparing investment alternatives, the one with the highest IRR is normally regarded as the best in terms of profitability.\nThe NPV profile plots the net present value at different discount rate. From the NPV profile, we can see the relationship between NPV, the IRR and the discount rate used.           ","Si la VAN est positive, l'investissement peut être considéré comme rentable, tandis que si la VAN est négative peut être considéré comme non- rentable. Lorsque l'on compare les alternatives d'investissement, celle avec la VAN la plus élevée est généralement considéré comme la meilleure en termes de rentabilité. \nEn utilisant l'indicateur TRI, un investissement est généralement dit être rentable si il produit un taux de rendement supérieur au taux d'actualisation. En comparaison d'investissement alternative, celui avec le plus haut TRI est normalement considéré comme le meilleur en termes de rentabilité. \nLe profil de la VAN trace la valeur actuelle nette aux différent taux d'actualisation. Du profil de la VAN, nous pouvons voir la relation entre la VAN, le TRI et le taux d'actualisation utilisé.","Si el VPN es positivo, la inversión se puede considerar rentable, mientras que si el VPN es negativo se puede considerar no rentable. Cuando se comparan las alternativas de inversión, el que tiene el mayor VPN es generalmente considerado como el mejor en términos de rentabilidad. \nUtilizando el indicador TIR, una inversión por lo general se dice que es rentable si se produce una tasa de rendimiento superior a la tasa de descuento. En la comparación de las alternativas de inversión, el que tiene el más alto IRR es normalmente considerado como el mejor en términos de rentabilidad.\nEl perfil del VPN, grafica el Valor Presente Neto a una tasa diferente de descuento. A partir del perfil VPN, podemos ver la relación entre el VPN, la IRR y la tasa de descuento utilizada.","title",{"$f":"HLOOKUP($C$2,$B$8:$D231,$A231,FALSE)","v":"If the NPV is positive the investment may be considered profitable, while if the NPV is negative may be considerednot profitable. When comparing investment alternatives, the one with the highest NPV is usually regarded as the best in terms of profitability.\nUsing the IRR indicator, an investment is usually said to be profitable if it yields a rate of return greater than the discount rate. In comparing investment alternatives, the one with the highest IRR is normally regarded as the best in terms of profitability.\nThe NPV profile plots the net present value at different discount rate. From the NPV profile, we can see the relationship between NPV, the IRR and the discount rate used.           "},"title224"]
[225,"Plantation NPV profile","Profil VAN de plantation","Perfil del VPN de la Plantación","title",{"$f":"HLOOKUP($C$2,$B$8:$D232,$A232,FALSE)","v":"Plantation NPV profile"},"title225"]
[226,"Comparison of NPV profile between the selected species","Comparaison de profil de la VAN entre les espèces 1 et 2 sélectionnées","Comparación del perfil del VPN entre las especies seleccionadas","title",{"$f":"HLOOKUP($C$2,$B$8:$D233,$A233,FALSE)","v":"Comparison of NPV profile between the selected species"},"title226"]
[227,"based on default values","sur la base de valeurs par défaut","basado en los valores por defecto","title",{"$f":"HLOOKUP($C$2,$B$8:$D234,$A234,FALSE)","v":"based on default values"},"title227"]
[228,"based on user-defined values","sur la base de valeurs définies par l'utilisateur","basado en los valores definidos por el usuario","title",{"$f":"HLOOKUP($C$2,$B$8:$D235,$A235,FALSE)","v":"based on user-defined values"},"title228"]
[229,"NPV","VAN","VPN","title",{"$f":"HLOOKUP($C$2,$B$8:$D236,$A236,FALSE)","v":"NPV"},"title229"]
[230,"Energy content in the harvested fuelwood:","Le teneur énergétique en bois de feu récolté:","Contenido energético de la madera combustible recolectada:","title",{"$f":"HLOOKUP($C$2,$B$8:$D237,$A237,FALSE)","v":"Energy content in the harvested fuelwood:"},"title230"]
[231,"The chart below presents the energy content of the harvested fuelwood at the end of the rotation length, expressed in GJ/ha. It provides for a comparison among user-defined values and default values, for each tree species analysed.","Le tableau ci-dessous présente la teneur en énergie du bois de feu récoltées à la fin de la durée de rotation, exprimée en GJ/ha. Il prévoit une comparaison entre les valeurs définies par l'utilisateur et les valeurs par défaut, pour chaque espèce d'arbres analysé.","La tabla a continuación presenta el contenido de energía de la madera combustible cosechada al final de la duración de la rotación, expresado en GJ/ha. Esta proporciona una comparación entre los valores definidos por el usuario y los valores por defecto, para cada especie de árbol analizado.","title",{"$f":"HLOOKUP($C$2,$B$8:$D238,$A238,FALSE)","v":"The chart below presents the energy content of the harvested fuelwood at the end of the rotation length, expressed in GJ/ha. It provides for a comparison among user-defined values and default values, for each tree species analysed."},"title231"]
[232,"Energy content in the wood harvested","Teneur énergétique du bois récolté ","Contenido energético de la madera extraída","title",{"$f":"HLOOKUP($C$2,$B$8:$D239,$A239,FALSE)","v":"Energy content in the wood harvested"},"title232"]
[233," - User"," - Utilisateur"," - Usuario","title",{"$f":"HLOOKUP($C$2,$B$8:$D240,$A240,FALSE)","v":" - User"},"title233"]
[234," - Default "," - Valeur par défaut "," - Defecto ","title",{"$f":"HLOOKUP($C$2,$B$8:$D241,$A241,FALSE)","v":" - Default "},"title234"]
[235,"NPV (Default)","VAN (Valeur par défaut)","VPN (defecto)","title",{"$f":"HLOOKUP($C$2,$B$8:$D242,$A242,FALSE)","v":"NPV (Default)"},"title235"]
[236," - NPV (User)"," - VAN (Utilisateur)"," - VPN (usuario)","title",{"$f":"HLOOKUP($C$2,$B$8:$D243,$A243,FALSE)","v":" - NPV (User)"},"title236"]
[237," - NPV (Default)"," - VAN (Valeur par défaut)"," - VPN (defecto)","title",{"$f":"HLOOKUP($C$2,$B$8:$D244,$A244,FALSE)","v":" - NPV (Default)"},"title237"]
[238,"(man-days/ha)","(homme-jours/ha)","(hombre-días/ha)","title",{"$f":"HLOOKUP($C$2,$B$8:$D245,$A245,FALSE)","v":"(man-days/ha)"},"title238"]
[239,"(hours/ha)","(hours/ha)","(horas/ha)","title",{"$f":"HLOOKUP($C$2,$B$8:$D246,$A246,FALSE)","v":"(hours/ha)"},"title239"]
[240,"Woodfuel and Wood Residues Component","Composante Combustibles Ligneux et Résidus du Bois de Feu","Componente Madera Combustible y Residuos de Madera","title",{"$f":"HLOOKUP($C$2,$B$8:$D247,$A247,FALSE)","v":"Woodfuel and Wood Residues Component"},"title240"]
[241,"Forest Harvesting\n","Exploitation forestière\n\n","Aprovechamiento Forestal\n\n","title",{"$f":"HLOOKUP($C$2,$B$8:$D248,$A248,FALSE)","v":"Forest Harvesting\n"},"title241"]
[242,"FORESTRY RESULTS","RÉSULTATS DE LA FORESTERIE","RESULTADOS FORESTALES","title",{"$f":"HLOOKUP($C$2,$B$8:$D249,$A249,FALSE)","v":"FORESTRY RESULTS"},"title242"]
[243,"PLANTATION RESULTS","RÉSULTATS DES PLANTATION","RESULTADOS DE PLANTACIONES","title",{"$f":"HLOOKUP($C$2,$B$8:$D250,$A250,FALSE)","v":"PLANTATION RESULTS"},"title243"]
[244,"The input value must be between 0 and 100.\nThe sum of allocated forest harvesting residues  may not be higher than 100%.","La valeur entrée doit être comprise entre 0 et 100. \nLa somme des résidus d'exploitation forestière attribués ne peut être supérieure à 100%.","El valor de entrada debe estar entre 0 y 100.\nLa suma de los residuos del aprovechamiento forestal asignados no puede ser mayores al 100%.","title",{"$f":"HLOOKUP($C$2,$B$8:$D251,$A251,FALSE)","v":"The input value must be between 0 and 100.\nThe sum of allocated forest harvesting residues  may not be higher than 100%."},"title244"]
[245,"The input value must be between 0 and 100.\nThe sum of allocated wood processing residues  may not be higher than 100%.","La valeur entrée doit être comprise entre 0 et 100. \nLa somme des résidus de la transformation du bois alloués peut pas être supérieur à 100%.","El valor de entrada debe estar entre 0 y 100.\nLa suma de los residuos del procesamiento de la madera asignados no puede ser superiores al 100%.","title",{"$f":"HLOOKUP($C$2,$B$8:$D252,$A252,FALSE)","v":"The input value must be between 0 and 100.\nThe sum of allocated wood processing residues  may not be higher than 100%."},"title245"]
[246,"The input value must be between 0 and 100.\nThe sum of \"Crown\" and \"Stem+Bark\" may not be higher than 100%.","La valeur entrée doit être comprise entre 0 et 100. \nLa somme de \"Couronne\"et \"Tige+Écorce\" ne pourra pas être supérieure à 100%.","El valor de entrada debe estar entre 0 y 100.\nLa suma de \"copa\" y \"Tronco + Corteza\" no puede ser superior al 100%.","title",{"$f":"HLOOKUP($C$2,$B$8:$D253,$A253,FALSE)","v":"The input value must be between 0 and 100.\nThe sum of \"Crown\" and \"Stem+Bark\" may not be higher than 100%."},"title246"]
[247,"Residues accessible and potentially available for bioenergy production","Résidus accessibles et potentiellement disponibles pour la production de bioénergie ","Residuos accesibles y potencialmente disponibles para la producción de bioenergía","title",{"$f":"HLOOKUP($C$2,$B$8:$D254,$A254,FALSE)","v":"Residues accessible and potentially available for bioenergy production"},{"$f":"$E254&$A254","v":"title247"}]
[248,"Industrial roundwood production","Production industrielle de bois rond ","Producción de madera en rollo","title",{"$f":"HLOOKUP($C$2,$B$8:$D255,$A255,FALSE)","v":"Industrial roundwood production"},"title248"]
[249,"Define the allocation of wood residues for heating and cooking, rural electrification and transport","Définir la répartition des résidus de bois pour la chaleur et la cuisson, l’électrification rurale et le transport","Definir la distribución de residuos de madera entre los usos para calefacción y para cocinar, electrificación rural y transporte","title",{"$f":"HLOOKUP($C$2,$B$8:$D256,$A256,FALSE)","v":"Define the allocation of wood residues for heating and cooking, rural electrification and transport"},"title249"]
[250,"Allocation of wood residues (m3/year)","Répartition des résidus de bois (m3/an)","Distribución de los residuos de madera (m3/año)","title",{"$f":"HLOOKUP($C$2,$B$8:$D257,$A257,FALSE)","v":"Allocation of wood residues (m3/year)"},"title250"]
[251,"Allocation of wood residues (t/year)","Répartition des résidus de bois (t/an)","Distribución de los residuos de madera (t/año)","title",{"$f":"HLOOKUP($C$2,$B$8:$D258,$A258,FALSE)","v":"Allocation of wood residues (t/year)"},"title251"]
[252,"Roundwood","Bois rond","Madera en rollo","title",{"$f":"HLOOKUP($C$2,$B$8:$D259,$A259,FALSE)","v":"Roundwood"},"title252"]
[253,"Annual change rate\n(%)","Taux de variation annuelle\n(%)","Tasa de variación anual\n(%)","title",{"$f":"HLOOKUP($C$2,$B$8:$D260,$A260,FALSE)","v":"Annual change rate\n(%)"},"title253"]
[254,"Change\n(1000 ha)","Variation\n(1000 ha)","Variación\n(1000 ha)","title",{"$f":"HLOOKUP($C$2,$B$8:$D261,$A261,FALSE)","v":"Change\n(1000 ha)"},"title254"]
[255,"reduction","réduction","reducción","title",{"$f":"HLOOKUP($C$2,$B$8:$D262,$A262,FALSE)","v":"reduction"},"title255"]
[256,"increment","accroissement","incremento","title",{"$f":"HLOOKUP($C$2,$B$8:$D263,$A263,FALSE)","v":"increment"},"title256"]

{"sheet":"FRA2020table8","index":15,"n_rows":256,"n_cols":11,"rows_kept":256,"cut":false,"hidden":true,"merged":[]}
["8 Trends in extent of primary forest 1990-2020"]
["Country/area","Area of primary forest (1 000 ha)",null,null,null,"Annual change rate"]
[null,1990,2000,2010,2020,"1990-2000",null,"2000-2010",null,"2010-2020"]
[null,null,null,null,null,{"$f":"\"1000 \"&title36","v":"1000 ha/yr"},"%",{"$f":"\"1000 \"&title36","v":"1000 ha/yr"},"%",{"$f":"\"1000 \"&title36","v":"1000 ha/yr"},"%"]
[{"$f":"FRA_Country2","v":"Angola"},"","","",26743,"","","","","",""]
[{"$f":"FRA_Country3","v":"Botswana"},"","","","","","","","","",""]
[{"$f":"FRA_Country4","v":"Comoros"},"","","","","","","","","",""]
[{"$f":"FRA_Country5","v":"Djibouti"},0,0,0,0,0,"",0,"",0,""]
[{"$f":"FRA_Country6","v":"Eritrea"},0,0,0,0,0,"",0,"",0,""]
[{"$f":"FRA_Country7","v":"Ethiopia"},"","","","","","","","","",""]
[{"$f":"FRA_Country8","v":"Kenya"},"","","","","","","","","",""]
[{"$f":"FRA_Country9","v":"Lesotho"},"","","","","","","","","",""]
[{"$f":"FRA_Country10","v":"Madagascar"},3367,3179,3036,2950,-18.8,-5.7290717425793058E-3,-14.3,-4.5920065892136597E-3,-8.6,-2.8694441708628782E-3]
[{"$f":"FRA_Country11","v":"Malawi"},1727,1330,734,708,-39.700000000000003,-2.5782491601512358E-2,-59.6,-5.7710304456546124E-2,-2.6,-3.5999979055352238E-3]
[{"$f":"FRA_Country12","v":"Mauritius"},23.8,23.8,20.3,20.3,0,0,-0.35,-1.5780629683274872E-2,0,0]
[{"$f":"FRA_Country13","v":"Mayotte"},"",1.1200000000000001,"","","","","","","",""]
[{"$f":"FRA_Country14","v":"Mozambique"},"","","","","","","","","",""]
[{"$f":"FRA_Country15","v":"Namibia"},"","","","","","","","","",""]
[{"$f":"FRA_Country16","v":"Réunion"},53,53,53,53,0,0,0,0,0,0]
[{"$f":"FRA_Country17","v":"Seychelles"},"","","","","","","","","",""]
[{"$f":"FRA_Country18","v":"Somalia"},"","","","","","","","","",""]
[{"$f":"FRA_Country19","v":"South Africa"},500,497,497,428,-0.3,-6.016261829044911E-4,0,0,-6.9,-1.4835535834157976E-2]
[{"$f":"FRA_Country20","v":"Eswatini"},0.11,0.12,0.3,1.2,9.9999999999999959E-4,8.7391026304013408E-3,1.7999999999999999E-2,9.5958226385217227E-2,0.09,0.1486983549970351]
[{"$f":"FRA_Country21","v":"Uganda"},"","","","","","","","","",""]
[{"$f":"FRA_Country22","v":"United Republic of Tanzania"},28508,28508,28508,28508,0,0,0,0,0,0]
[{"$f":"FRA_Country23","v":"Zambia"},"","","","","","","","","",""]
[{"$f":"FRA_Country24","v":"Zimbabwe"},"","","","","","","","","",""]
[{"$f":"FRA_Country25","v":"Eastern and Southern Africa"}]
[{"$f":"FRA_Country26","v":"Algeria"},0,0,0,0,0,"",0,"",0,""]
[{"$f":"FRA_Country27","v":"Egypt"},"","","","","","","","","",""]
[{"$f":"FRA_Country28","v":"Libya"},"","","","","","","","","",""]
[{"$f":"FRA_Country29","v":"Mauritania"},0,0,0,0,0,"",0,"",0,""]
[{"$f":"FRA_Country30","v":"Morocco"},0,0,0,0,0,"",0,"",0,""]
[{"$f":"FRA_Country31","v":"Sudan"},1649.92,1527.83,1405.74,1283.6500000000001,-12.209000000000014,-7.6583615494887347E-3,-12.208999999999993,-8.2938718289613522E-3,-12.208999999999993,-9.0444776151725748E-3]
[{"$f":"FRA_Country32","v":"Tunisia"},0,0,0,0,0,"",0,"",0,""]
[{"$f":"FRA_Country33","v":"Western Sahara"},"","","","","","","","","",""]
[{"$f":"FRA_Country34","v":"Northern Africa"}]
[{"$f":"FRA_Country35","v":"Benin"},0,0,0,0,0,"",0,"",0,""]
[{"$f":"FRA_Country36","v":"Burkina Faso"},0,0,0,0,0,"",0,"",0,""]
[{"$f":"FRA_Country37","v":"Burundi"},92.08,64.78,64.78,64.78,-2.7299999999999995,-3.4554943065717936E-2,0,0,0,0]
[{"$f":"FRA_Country38","v":"Cameroon"},0,0,0,0,0,"",0,"",0,""]
[{"$f":"FRA_Country39","v":"Cabo Verde"},0,0,0,0,0,"",0,"",0,""]
[{"$f":"FRA_Country40","v":"Central African Republic"},3900,3135,2752,1988,-76.5,-2.1598085558832802E-2,-38.299999999999997,-1.2945600837569904E-2,-76.400000000000006,-3.1996795409507506E-2]
[{"$f":"FRA_Country41","v":"Chad"},"","","","","","","","","",""]
[{"$f":"FRA_Country42","v":"Congo"},"","","","","","","","","",""]
[{"$f":"FRA_Country43","v":"Côte d'Ivoire"},1406.68,1390.21,1345.86,1301.51,-1.6470000000000027,-1.1770570382828582E-3,-4.4350000000000138,-3.2369099686239133E-3,-4.4349999999999907,-3.3452008124326138E-3]
[{"$f":"FRA_Country44","v":"Democratic Republic of the Congo"},98813.86,94396.51,89979.29,82751.509999999995,-441.73500000000058,-4.5629356516744268E-3,-441.72200000000009,-4.7809914404781662E-3,-722.77799999999991,-8.3387650942366998E-3]
[{"$f":"FRA_Country45","v":"Equatorial Guinea"},"","","","","","","","","",""]
[{"$f":"FRA_Country46","v":"Gabon"},"","","","","","","","","",""]
[{"$f":"FRA_Country47","v":"Gambia"},13,13,13,13,0,0,0,0,0,0]
[{"$f":"FRA_Country48","v":"Ghana"},395,395,395,385,0,0,0,0,-1,-2.560958198423835E-3]
[{"$f":"FRA_Country49","v":"Guinea"},63,63,63,63,0,0,0,0,0,0]
[{"$f":"FRA_Country50","v":"Guinea-Bissau"},"","","","","","","","","",""]
[{"$f":"FRA_Country51","v":"Liberia"},"","","","","","","","","",""]
[{"$f":"FRA_Country52","v":"Mali"},0,0,0,0,0,"",0,"",0,""]
[{"$f":"FRA_Country53","v":"Niger"},220,220,220,220,0,0,0,0,0,0]
[{"$f":"FRA_Country54","v":"Nigeria"},"","","","","","","","","",""]
[{"$f":"FRA_Country55","v":"Rwanda"},"","","","","","","","","",""]
[{"$f":"FRA_Country56","v":"Saint Helena"},"","","","","","","","","",""]
[{"$f":"FRA_Country57","v":"Sao Tome and Principe"},28.41,28,28,28,-4.1000000000000016E-2,-1.4526125047193972E-3,0,0,0,0]
[{"$f":"FRA_Country58","v":"Senegal"},2306.59,2200.62,2100.62,2019.34,-10.597000000000026,-4.6920681510663753E-3,-10,-4.6398623853096677E-3,-8.1279999999999966,-3.9384054479403297E-3]
[{"$f":"FRA_Country59","v":"Sierra Leone"},224,157,113,57,-6.7,-3.4915893697254008E-2,-4.4000000000000004,-3.235093990490856E-2,-5.6,-6.614458539617396E-2]
[{"$f":"FRA_Country60","v":"Togo"},"","","","","","","","","",""]
[{"$f":"FRA_Country61","v":"Western and Central Africa"}]
[{"$f":"FRA_Country62","v":"Africa"}]
[{"$f":"FRA_Country63","v":"China"},11646,11453,11453.33,11453.33,-19.3,-1.6697113782628836E-3,3.2999999999992723E-2,2.8813037744601644E-6,0,0]
[{"$f":"FRA_Country64","v":"Democratic People's Republic of Korea"},"","","","","","","","","",""]
[{"$f":"FRA_Country65","v":"Japan"},3764,4054,4770,5346,29,7.4497953013221707E-3,71.599999999999994,1.6397208179866452E-2,57.6,1.1465461562712553E-2]
[{"$f":"FRA_Country66","v":"Mongolia"},0,0,0,0,0,"",0,"",0,""]
[{"$f":"FRA_Country67","v":"Republic of Korea"},"","","","","","","","","",""]
[{"$f":"FRA_Country68","v":"East Asia"}]
[{"$f":"FRA_Country69","v":"Bangladesh"},"","","","","","","","","",""]
[{"$f":"FRA_Country70","v":"Bhutan"},413,413,413,413,0,0,0,0,0,0]
[{"$f":"FRA_Country71","v":"Brunei Darussalam"},313,288,263,263,-2.5,-8.2897202328063857E-3,-2.5,-9.0395402535399239E-3,0,0]
[{"$f":"FRA_Country72","v":"Cambodia"},766,456,322,322,-31,-5.0546702185949921E-2,-13.4,-3.419577061182455E-2,0,0]
[{"$f":"FRA_Country73","v":"India"},15701,15701,15701,15701,0,0,0,0,0,0]
[{"$f":"FRA_Country74","v":"Indonesia"},59743,52728,45597,44740,-701.5,-1.2412857507882347E-2,-713.1,-1.4425412071258581E-2,-85.7,-1.8955979625157049E-3]
[{"$f":"FRA_Country75","v":"Lao People's Democratic Republic"},"","","","","","","","","",""]
[{"$f":"FRA_Country76","v":"Malaysia"},1086.1600000000001,1086.1600000000001,1086.1600000000001,1086.1600000000001,0,0,0,0,0,0]
[{"$f":"FRA_Country77","v":"Maldives"},"","","","","","","","","",""]
[{"$f":"FRA_Country78","v":"Myanmar"},3192,3192,3192,3192,0,0,0,0,0,0]
[{"$f":"FRA_Country79","v":"Nepal"},"",548,526,526,"","",-2.2000000000000002,-4.0890245005654746E-3,0,0]
[{"$f":"FRA_Country80","v":"Pakistan"},0,0,0,0,0,"",0,"",0,""]
[{"$f":"FRA_Country81","v":"Philippines"},861,861,861,861,0,0,0,0,0,0]
[{"$f":"FRA_Country82","v":"Singapore"},"","","","","","","","","",""]
[{"$f":"FRA_Country83","v":"Sri Lanka"},257,197,167,167,-6,-2.6236906692780004E-2,-3,-1.6385268504638062E-2,0,0]
[{"$f":"FRA_Country84","v":"Thailand"},"","","","","","","","","",""]
[{"$f":"FRA_Country85","v":"Timor-Leste"},"","","","","","","","","",""]
[{"$f":"FRA_Country86","v":"Viet Nam"},384,187,80,80,-19.7,-6.9425734458173349E-2,-10.7,-8.1403390663580044E-2,0,0]
[{"$f":"FRA_Country87","v":"South and South-east Asia"}]
[{"$f":"FRA_Country88","v":"Afghanistan"},"","","","","","","","","",""]
[{"$f":"FRA_Country89","v":"Armenia"},17,17,17,17,0,0,0,0,0,0]
[{"$f":"FRA_Country90","v":"Azerbaijan"},"","","","","","","","","",""]
[{"$f":"FRA_Country91","v":"Bahrain"},"","","","","","","","","",""]
[{"$f":"FRA_Country92","v":"Cyprus"},0,0,0,0,0,"",0,"",0,""]
[{"$f":"FRA_Country93","v":"Georgia"},500,500,500,500,0,0,0,0,0,0]
[{"$f":"FRA_Country94","v":"Iran (Islamic Republic of)"},200,200,200,200,0,0,0,0,0,0]
[{"$f":"FRA_Country95","v":"Iraq"},0,0,0,0,0,"",0,"",0,""]
[{"$f":"FRA_Country96","v":"Israel"},0,0,0,0,0,"",0,"",0,""]
[{"$f":"FRA_Country97","v":"Jordan"},0,0,0,0,0,"",0,"",0,""]
[{"$f":"FRA_Country98","v":"Kazakhstan"},31.8,31.8,30.5,66.900000000000006,0,0,-0.13000000000000006,-4.1652617507765832E-3,3.6400000000000006,8.1714441546401506E-2]
[{"$f":"FRA_Country99","v":"Kuwait"},"","","","","","","","","",""]
[{"$f":"FRA_Country100","v":"Kyrgyzstan"},420.7,437.2,455.2,487,1.65,3.8544860682487858E-3,1.8,4.0427626576158282E-3,3.180000000000001,6.7755750745883692E-3]
[{"$f":"FRA_Country101","v":"Lebanon"},"","","","","","","","","",""]
[{"$f":"FRA_Country102","v":"Occupied Palestinian Territory"},"","","","","","","","","",""]
[{"$f":"FRA_Country103","v":"Oman"},"","","","","","","","","",""]
[{"$f":"FRA_Country104","v":"Qatar"},0,0,0,0,0,"",0,"",0,""]
[{"$f":"FRA_Country105","v":"Saudi Arabia"},360,360,360,360,0,0,0,0,0,0]
[{"$f":"FRA_Country106","v":"Syrian Arab Republic"},0,0,0,0,0,"",0,"",0,""]
[{"$f":"FRA_Country107","v":"Tajikistan"},295,296,296,296,0.1,3.3846706547957517E-4,0,0,0,0]
[{"$f":"FRA_Country108","v":"Turkey"},0,0,0,0,0,"",0,"",0,""]
[{"$f":"FRA_Country109","v":"Turkmenistan"},104,104,104,104,0,0,0,0,0,0]
[{"$f":"FRA_Country110","v":"United Arab Emirates"},0,0,0,0,0,"",0,"",0,""]
[{"$f":"FRA_Country111","v":"Uzbekistan"},210.3,210.3,210.3,210.3,0,0,0,0,0,0]
[{"$f":"FRA_Country112","v":"Yemen"},0,0,0,0,0,"",0,"",0,""]
[{"$f":"FRA_Country113","v":"Western and Central Asia"}]
[{"$f":"FRA_Country114","v":"Asia"}]
[{"$f":"FRA_Country115","v":"Albania"},84.8,84.8,84.8,84.8,0,0,0,0,0,0]
[{"$f":"FRA_Country116","v":"Andorra"},0,0,0,0,0,"",0,"",0,""]
[{"$f":"FRA_Country117","v":"Austria"},63,63,63,63,0,0,0,0,0,0]
[{"$f":"FRA_Country118","v":"Belarus"},"",134.80000000000001,134.80000000000001,134.80000000000001,"","",0,0,0,0]
[{"$f":"FRA_Country119","v":"Belgium"},0,0,0,0,0,"",0,"",0,""]
[{"$f":"FRA_Country120","v":"Bosnia and Herzegovina"},"","","","","","","","","",""]
[{"$f":"FRA_Country121","v":"Bulgaria"},157,270,597,704,11.3,5.5714316815850262E-2,32.700000000000003,8.2582635298794171E-2,10.7,1.6622770311767177E-2]
[{"$f":"FRA_Country122","v":"Croatia"},6.73,6.73,6.73,6.73,0,0,0,0,0,0]
[{"$f":"FRA_Country123","v":"Czech Republic"},9.99,9.99,9.99,9.99,0,0,0,0,0,0]
[{"$f":"FRA_Country124","v":"Denmark"},"","",27.93,21.14,"","","","",-0.67899999999999994,-2.7469109468665986E-2]
[{"$f":"FRA_Country125","v":"Estonia"},39.6,56.7,59.16,52.09,1.7100000000000002,3.6546494653319828E-2,0.24599999999999939,4.2561746035447712E-3,-0.7069999999999993,-1.2646615486489488E-2]
[{"$f":"FRA_Country126","v":"Faroe Islands"},0,0,0,0,0,"",0,"",0,""]
[{"$f":"FRA_Country127","v":"Finland"},"","",234,203,"","","","",-3.1,-1.4111006753359634E-2]
[{"$f":"FRA_Country128","v":"France"},"","","","","","","","","",""]
[{"$f":"FRA_Country129","v":"Germany"},0,0,0,0,0,"",0,"",0,""]
[{"$f":"FRA_Country130","v":"Gibraltar"},0,0,0,0,0,"",0,"",0,""]
[{"$f":"FRA_Country131","v":"Greece"},"","","","","","","","","",""]
[{"$f":"FRA_Country132","v":"Guernsey"},0,0,0,0,0,"",0,"",0,""]
[{"$f":"FRA_Country133","v":"Holy See"},0,0,0,0,0,"",0,"",0,""]
[{"$f":"FRA_Country134","v":"Hungary"},0,0,0,0,0,"",0,"",0,""]
[{"$f":"FRA_Country135","v":"Iceland"},0,0,0,0,0,"",0,"",0,""]
[{"$f":"FRA_Country136","v":"Ireland"},0,0,0,0,0,"",0,"",0,""]
[{"$f":"FRA_Country137","v":"Isle of Man"},"","","","","","","","","",""]
[{"$f":"FRA_Country138","v":"Italy"},93,93,93,93,0,0,0,0,0,0]
[{"$f":"FRA_Country139","v":"Jersey"},0,0,0,0,0,"",0,"",0,""]
[{"$f":"FRA_Country140","v":"Latvia"},15.23,15.23,14.92,16.98,0,0,-3.1000000000000048E-2,-2.0543441537310692E-3,0.20600000000000004,1.301735622637179E-2]
[{"$f":"FRA_Country141","v":"Liechtenstein"},1.5,1.5,1.5,1.5,0,0,0,0,0,0]
[{"$f":"FRA_Country142","v":"Lithuania"},20,21,26,26.54,0.1,4.8909381985118294E-3,0.5,2.1587111875652099E-2,5.3999999999999916E-2,2.0577633833462894E-3]
[{"$f":"FRA_Country143","v":"Luxembourg"},0,0,0,0,0,"",0,"",0,""]
[{"$f":"FRA_Country144","v":"Malta"},0,0,0,0,0,"",0,"",0,""]
[{"$f":"FRA_Country145","v":"Monaco"},0,0,0,0,0,"",0,"",0,""]
[{"$f":"FRA_Country146","v":"Montenegro"},"","","",1.6,"","","","","",""]
[{"$f":"FRA_Country147","v":"Netherlands"},0,0,0,0,0,"",0,"",0,""]
[{"$f":"FRA_Country148","v":"Norway"},200,200,200,200,0,0,0,0,0,0]
[{"$f":"FRA_Country149","v":"Poland"},0,0,0,0,0,"",0,"",0,""]
[{"$f":"FRA_Country150","v":"Portugal"},22,22,22,"",0,0,0,0,"",""]
[{"$f":"FRA_Country151","v":"Republic of Moldova"},"","","","","","","","","",""]
[{"$f":"FRA_Country152","v":"Romania"},"",127.7,127.7,165.23,"","",0,0,3.7529999999999988,2.6100266864443222E-2]
[{"$f":"FRA_Country153","v":"Russian Federation"},305144.2,288500,271855.8,255211.5,-1664.4200000000012,-5.5932358653012493E-3,-1664.4200000000012,-5.9247100016227572E-3,-1664.4299999999989,-6.2980004808178558E-3]
[{"$f":"FRA_Country154","v":"San Marino"},0,0,0,0,0,"",0,"",0,""]
[{"$f":"FRA_Country155","v":"Serbia"},1,1,1,1,0,0,0,0,0,0]
[{"$f":"FRA_Country156","v":"Slovakia"},10.58,10.58,10.58,10.58,0,0,0,0,0,0]
[{"$f":"FRA_Country157","v":"Slovenia"},49,53,49,33.6,0.4,7.8780312098873928E-3,-0.4,-7.8164529495997614E-3,-1.5399999999999998,-3.7026535995106635E-2]
[{"$f":"FRA_Country158","v":"Spain"},"","","","","","","","","",""]
[{"$f":"FRA_Country159","v":"Svalbard and Jan Mayen Islands"},0,0,0,0,0,"",0,"",0,""]
[{"$f":"FRA_Country160","v":"Sweden"},"",2129,2365,2249,"","",23.6,1.0568014740870435E-2,-11.6,-5.0166094691299623E-3]
[{"$f":"FRA_Country161","v":"Switzerland"},42.86,42.86,42.86,42.86,0,0,0,0,0,0]
[{"$f":"FRA_Country162","v":"North Macedonia"}]
[{"$f":"FRA_Country163","v":"Ukraine"},59,59,59,59,0,0,0,0,0,0]
[{"$f":"FRA_Country164","v":"United Kingdom"},0,0,0,0,0,"",0,"",0,""]
[{"$f":"FRA_Country165","v":"Europe"}]
[{"$f":"FRA_Country166","v":"Anguilla"},0,0,0,0,0,"",0,"",0,""]
[{"$f":"FRA_Country167","v":"Antigua and Barbuda"},0,0,0,0,0,"",0,"",0,""]
[{"$f":"FRA_Country168","v":"Aruba"},"","","","","","","","","",""]
[{"$f":"FRA_Country169","v":"Bahamas"},0,0,0,0,0,"",0,"",0,""]
[{"$f":"FRA_Country170","v":"Barbados"},"","","","","","","","","",""]
[{"$f":"FRA_Country171","v":"Bermuda"},"","","","","","","","","",""]
[{"$f":"FRA_Country172","v":"British Virgin Islands"},"","","","","","","","","",""]
[{"$f":"FRA_Country173","v":"Cayman Islands"},"","","","","","","","","",""]
[{"$f":"FRA_Country174","v":"Cuba"},0,0,0,0,0,"",0,"",0,""]
[{"$f":"FRA_Country175","v":"Dominica"},28.42,27.57,26.72,26.3,-8.5000000000000145E-2,-3.0318842909528021E-3,-8.5000000000000145E-2,-3.1266893306550747E-3,-4.1999999999999815E-2,-1.5830865429082852E-3]
[{"$f":"FRA_Country176","v":"Dominican Republic"},"","","","","","","","","",""]
[{"$f":"FRA_Country177","v":"Grenada"},2.3199999999999998,2.3199999999999998,2.3199999999999998,2.3199999999999998,0,0,0,0,0,0]
[{"$f":"FRA_Country178","v":"Guadeloupe"},7.11,7.11,7.11,6.9,0,0,0,0,-2.0999999999999998E-2,-2.9935934577086654E-3]
[{"$f":"FRA_Country179","v":"Haiti"},"","","","","","","","","",""]
[{"$f":"FRA_Country180","v":"Jamaica"},88.67,87.75,85.36,82.96,-9.2000000000000165E-2,-1.0424313951011843E-3,-0.23900000000000005,-2.7576163068612214E-3,-0.24000000000000057,-2.8478414913056804E-3]
[{"$f":"FRA_Country181","v":"Martinique"},2.8,2.8,2.8,2.8,0,0,0,0,0,0]
[{"$f":"FRA_Country182","v":"Montserrat"},"","","","","","","","","",""]
[{"$f":"FRA_Country183","v":"Netherlands Antilles"}]
[{"$f":"FRA_Country184","v":"Puerto Rico"},0,0,0,0,0,"",0,"",0,""]
[{"$f":"FRA_Country185","v":"Saint Kitts and Nevis"},"","","","","","","","","",""]
[{"$f":"FRA_Country186","v":"Saint Lucia"},"","","","","","","","","",""]
[{"$f":"FRA_Country187","v":"Saint Martin (French part)"},0,0,0,0,0,"",0,"",0,""]
[{"$f":"FRA_Country188","v":"Saint Vincent and the Grenadines"},"","","","","","","","","",""]
[{"$f":"FRA_Country189","v":"Saint-Barthélemy"},0,0,0,0,0,"",0,"",0,""]
[{"$f":"FRA_Country190","v":"Trinidad and Tobago"},62.4,62.4,62.4,62.4,0,0,0,0,0,0]
[{"$f":"FRA_Country191","v":"Turks and Caicos Islands"},"","","","","","","","","",""]
[{"$f":"FRA_Country192","v":"United States Virgin Islands"},"","","","","","","","","",""]
[{"$f":"FRA_Country193","v":"Caribbean"}]
[{"$f":"FRA_Country194","v":"Belize"},"","","","","","","","","",""]
[{"$f":"FRA_Country195","v":"Costa Rica"},"","","","","","","","","",""]
[{"$f":"FRA_Country196","v":"El Salvador"},"","","","","","","","","",""]
[{"$f":"FRA_Country197","v":"Guatemala"},878.38,778.49,688.68,658.06,-9.988999999999999,-1.1999737538422983E-2,-8.9810000000000052,-1.2183119866291725E-2,-3.0620000000000003,-4.5377341653718428E-3]
[{"$f":"FRA_Country198","v":"Honduras"},"","","","","","","","","",""]
[{"$f":"FRA_Country199","v":"Nicaragua"},"","","","","","","","","",""]
[{"$f":"FRA_Country200","v":"Panama"},"","","","","","","","","",""]
[{"$f":"FRA_Country201","v":"Central America"}]
[{"$f":"FRA_Country202","v":"Canada"},205838.13,205559.78,205276.23,205130.73,-27.835000000000583,-1.3530997776856069E-4,-28.354999999998835,-1.3802610726254549E-4,-14.55,-7.0902719516152679E-5]
[{"$f":"FRA_Country203","v":"Greenland"},0,0,0,0,0,"",0,"",0,""]
[{"$f":"FRA_Country204","v":"Mexico"},39851.360000000001,34787.5,32543.07,32040.16,-506.38600000000008,-1.3497915581217601E-2,-224.44300000000004,-6.6471775319978388E-3,-50.290999999999983,-1.5562205127103157E-3]
[{"$f":"FRA_Country205","v":"Saint Pierre and Miquelon"},"","","","","","","","","",""]
[{"$f":"FRA_Country206","v":"United States of America"},70012,72305,75294,75300,229.3,3.2278610739873148E-3,298.89999999999998,4.0589319707498017E-3,0.6,7.9684767102516929E-6]
[{"$f":"FRA_Country207","v":"North America"}]
[{"$f":"FRA_Country208","v":"North and Central America"}]
[{"$f":"FRA_Country209","v":"American Samoa"},7.9,5.3,2.69,0.09,-0.26000000000000006,-3.9129460927404214E-2,-0.26100000000000001,-6.5568132479274621E-2,-0.26,-0.28805077280096414]
[{"$f":"FRA_Country210","v":"Australia"},"",4963,"","","","","","","",""]
[{"$f":"FRA_Country211","v":"Cook Islands"},0,0,0,0,0,"",0,"",0,""]
[{"$f":"FRA_Country212","v":"Fiji"},0,0,0,0,0,"",0,"",0,""]
[{"$f":"FRA_Country213","v":"French Polynesia"},40,40,40,40,0,0,0,0,0,0]
[{"$f":"FRA_Country214","v":"Guam"},"","","","","","","","","",""]
[{"$f":"FRA_Country215","v":"Kiribati"},"","","","","","","","","",""]
[{"$f":"FRA_Country216","v":"Marshall Islands"},5.76,5.76,5.76,5.76,0,0,0,0,0,0]
[{"$f":"FRA_Country217","v":"Micronesia (Federated States of)"},39.58,43.97,48.37,48.37,0.43900000000000006,1.0573876758314782E-2,0.43999999999999984,9.5828445777326188E-3,0,0]
[{"$f":"FRA_Country218","v":"Nauru"},0,0,0,0,0,"",0,"",0,""]
[{"$f":"FRA_Country219","v":"New Caledonia"},337.6,337.6,337.6,337.6,0,0,0,0,0,0]
[{"$f":"FRA_Country220","v":"New Zealand"},2103,2127,2152,1971,2.4,1.1354080379708531E-3,2.5,1.1691935826594335E-3,-18.100000000000001,-8.747180266232224E-3]
[{"$f":"FRA_Country221","v":"Niue"},5.4,5.4,5.4,5.4,0,0,0,0,0,0]
[{"$f":"FRA_Country222","v":"Norfolk Island"},"","","","","","","","","",""]
[{"$f":"FRA_Country223","v":"Northern Mariana Islands"},"","","","","","","","","",""]
[{"$f":"FRA_Country224","v":"Palau"},"","","","","","","","","",""]
[{"$f":"FRA_Country225","v":"Papua New Guinea"},"","","","","","","","","",""]
[{"$f":"FRA_Country226","v":"Pitcairn"},"","","","","","","","","",""]
[{"$f":"FRA_Country227","v":"Samoa"},"","","","","","","","","",""]
[{"$f":"FRA_Country228","v":"Solomon Islands"},"","","","","","","","","",""]
[{"$f":"FRA_Country229","v":"Tokelau"},0,0,0,0,0,"",0,"",0,""]
[{"$f":"FRA_Country230","v":"Tonga"},4,4,4,4,0,0,0,0,0,0]
[{"$f":"FRA_Country231","v":"Tuvalu"},0,0,0,0,0,"",0,"",0,""]
[{"$f":"FRA_Country232","v":"Vanuatu"},205,205,205,205,0,0,0,0,0,0]
[{"$f":"FRA_Country233","v":"Wallis and Futuna Islands"},"","","","","","","","","",""]
[{"$f":"FRA_Country234","v":"Oceania"}]
[{"$f":"FRA_Country235","v":"Argentina"},"","","","","","","","","",""]
[{"$f":"FRA_Country236","v":"Bolivia (Plurinational State of)"},"","","","","","","","","",""]
[{"$f":"FRA_Country237","v":"Brazil"},253129,239024,218200,216187,-1410.5,-5.7171221901580749E-3,-2082.4,-9.0737717911210103E-3,-201.3,-9.2640057692605637E-4]
[{"$f":"FRA_Country238","v":"Chile"},4626.79,4531.32,4801.51,5347.67,-9.5470000000000255,-2.0828314238520163E-3,27.019000000000052,5.8085208157843127E-3,54.615999999999985,1.0831288274983919E-2]
[{"$f":"FRA_Country239","v":"Colombia"},"","","","","","","","","",""]
[{"$f":"FRA_Country240","v":"Ecuador"},"","","","","","","","","",""]
[{"$f":"FRA_Country241","v":"Falkland Islands (malvinas)"},0,0,0,0,0,"",0,"",0,""]
[{"$f":"FRA_Country242","v":"French Guiana"},8021,7889,7694,7640,-13.2,-1.6579958309547171E-3,-19.5,-2.4997284407289877E-3,-5.4,-7.0407213997647489E-4]
[{"$f":"FRA_Country243","v":"Guyana"},9477,9477,9477,9477,0,0,0,0,0,0]
[{"$f":"FRA_Country244","v":"Paraguay"},"","","","","","","","","",""]
[{"$f":"FRA_Country245","v":"Peru"},"","","","","","","","","",""]
[{"$f":"FRA_Country246","v":"Suriname"},15015.79,14977.88,14936.87,14833.29,-3.7910000000001673,-2.5275485803977205E-4,-4.1009999999998401,-2.7414171373363327E-4,-10.357999999999993,-6.9562533229561296E-4]
[{"$f":"FRA_Country247","v":"Uruguay"},239,296,301,340,5.7,2.1619987291848775E-2,0.5,1.6764847744097366E-3,3.9,1.2258056890174451E-2]
[{"$f":"FRA_Country248","v":"Venezuela (Bolivarian Republic of)"},51600.01,48411.44,46515.78,44872.75,-318.85699999999997,-6.358271781670588E-3,-189.56600000000034,-3.986486737082795E-3,-164.30299999999988,-3.5896321696483602E-3]
[{"$f":"FRA_Country249","v":"South America"}]
[{"$f":"FRA_Country250","v":"World"}]
[]
["a    The figures for the Russian Federation are affected by a change to the forest classification system in 1995."]
["* A dispute exists between the governments of Argentina and the United Kingdom of Great Britain and Northern Ireland concerning sovereignty over the Falkland Islands (Malvinas)."]

{"sheet":"FRA2020table9","index":16,"n_rows":255,"n_cols":11,"rows_kept":255,"cut":false,"hidden":true,"merged":[[0,0,0,10]]}
["9 Trends in extent of planted forests 1990-2020"]
["Country/area","Area of planted forest (1 000 ha)",null,null,null,"Annual change rate"]
[null,1990,2000,2010,2020,"1990-2000",null,"2000-2010",null,"2010-2020"]
[null,null,null,null,null,{"$f":"\"1000 \"&title36","v":"1000 ha/yr"},"%",{"$f":"\"1000 \"&title36","v":"1000 ha/yr"},"%",{"$f":"\"1000 \"&title36","v":"1000 ha/yr"},"%"]
[{"$f":"FRA_Country2","v":"Angola"},961,942,874,807,-1.88,-1.9778253640839738E-3,-6.73,-7.3838103645018638E-3,-6.73,-7.9715655966471344E-3]
[{"$f":"FRA_Country3","v":"Botswana"},0,0,0,0,0,"",0,"",0,""]
[{"$f":"FRA_Country4","v":"Comoros"},4,2,1,0,-0.11,-3.6900865424130513E-2,-0.11,-5.9139089875394069E-2,-0.11,-0.16728804467990765]
[{"$f":"FRA_Country5","v":"Djibouti"},0,0,0,0,0,"",0,"",0.02,""]
[{"$f":"FRA_Country6","v":"Eritrea"},10,21,29,43,1.1000000000000001,7.7015440304363247E-2,0.75,3.1009237719209048E-2,1.49,4.2952397903518458E-2]
[{"$f":"FRA_Country7","v":"Ethiopia"},340,340,741,1203,0,0,40.11,8.1102256484390844E-2,46.26,4.9717822501362363E-2]
[{"$f":"FRA_Country8","v":"Kenya"},153,153,153,153,0,0,0,0,0,0]
[{"$f":"FRA_Country9","v":"Lesotho"},9,9,9,9,0,0,0,0,0,0]
[{"$f":"FRA_Country10","v":"Madagascar"},231,272,415,312,4.0999999999999996,1.647263770403784E-2,14.3,4.3152778746383236E-2,-10.3,-2.8124465106660557E-2]
[{"$f":"FRA_Country11","v":"Malawi"},139,118,97,76,-2.11,-1.6316271230354951E-2,-2.12,-1.9608956589694859E-2,-2.11,-2.4287088003913881E-2]
[{"$f":"FRA_Country12","v":"Mauritius"},17,18,18,18,0.09,4.8770672066658083E-3,-0.01,-3.3180365263174583E-4,-0.01,-5.5540269125298192E-4]
[{"$f":"FRA_Country13","v":"Mayotte"},0,0,0,1,0.01,5.8442410876291984E-2,0.02,4.3671099970169713E-2,0.01,1.8029787875240233E-2]
[{"$f":"FRA_Country14","v":"Mozambique"},38,38,55,74,0,0,1.66,3.698556123007557E-2,1.96,3.1170009014327205E-2]
[{"$f":"FRA_Country15","v":"Namibia"},0,0,0,0,0,"",0,"",0,""]
[{"$f":"FRA_Country16","v":"Réunion"},11,11,11,11,0,0,0,0,0,0]
[{"$f":"FRA_Country17","v":"Seychelles"},5,5,5,5,0,0,0,0,0,0]
[{"$f":"FRA_Country18","v":"Somalia"},3,3,3,3,0,0,0,0,0,0]
[{"$f":"FRA_Country19","v":"South Africa"},3144,3144,3144,3144,0,0,0,0,0,0]
[{"$f":"FRA_Country20","v":"Eswatini"},164,143,123,102,-2.06,-1.3366856697315299E-2,-2.06,-1.5425344032629851E-2,-2.06,-1.8246598120106206E-2]
[{"$f":"FRA_Country21","v":"Uganda"},170,268,367,465,9.84,4.6729709223658489E-2,9.84,3.1730853371946699E-2,9.84,2.4052069990190272E-2]
[{"$f":"FRA_Country22","v":"United Republic of Tanzania"},553,553,553,553,0,0,0,0,0,0]
[{"$f":"FRA_Country23","v":"Zambia"},57,55,54,52,-0.2,-3.5654369410516029E-3,-0.05,-9.6784072343913952E-4,-0.24,-4.4577445940054972E-3]
[{"$f":"FRA_Country24","v":"Zimbabwe"},154,120,108,108,-3.4,-2.4637503659634685E-2,-1.2,-1.0480741793785553E-2,0,0]
[{"$f":"FRA_Country25","v":"Eastern and Southern Africa"}]
[{"$f":"FRA_Country26","v":"Algeria"},333,345,498,510,1.2,3.5464665886870694E-3,15.3,3.738753370566994E-2,1.2,2.3839018555638081E-3]
[{"$f":"FRA_Country27","v":"Egypt"},44,59,66,45,1.54,3.0581117066122099E-2,0.64,1.0362807773307114E-2,-2.0699999999999998,-3.7091350454974137E-2]
[{"$f":"FRA_Country28","v":"Libya"},217,217,217,217,0,0,0,0,0,0]
[{"$f":"FRA_Country29","v":"Mauritania"},10,21,32,44,1.1200000000000001,7.7538872449191887E-2,1.1200000000000001,4.3178917458825072E-2,1.1100000000000001,2.9968780904783943E-2]
[{"$f":"FRA_Country30","v":"Morocco"},318,344,523,635,2.59,7.8511515552457389E-3,17.88,4.2712955825891852E-2,11.15,1.9510105175935655E-2]
[{"$f":"FRA_Country31","v":"Sudan"},120,125,127,130,0.5,4.0905429776572078E-3,0.2,1.5885953985441681E-3,0.3,2.3374640190714224E-3]
[{"$f":"FRA_Country32","v":"Tunisia"},153,177,198,214,2.4300000000000002,1.484552920262594E-2,2.0499999999999998,1.1017535935396117E-2,1.68,8.1696515019169524E-3]
[{"$f":"FRA_Country33","v":"Western Sahara"},0,0,0,0,0,"",0,"",0,""]
[{"$f":"FRA_Country34","v":"Northern Africa"}]
[{"$f":"FRA_Country35","v":"Benin"},13,16,20,23,0.3,2.098100681516013E-2,0.4,2.2565182563572872E-2,0.3,1.4074317838793204E-2]
[{"$f":"FRA_Country36","v":"Burkina Faso"},14,68,123,177,5.43,0.17173463362534069,5.44,6.0333263791495728E-2,5.44,3.7378874987435085E-2]
[{"$f":"FRA_Country37","v":"Burundi"},161,113,113,113,-4.84,-3.5035488115067959E-2,0,0,0,0]
[{"$f":"FRA_Country38","v":"Cameroon"},18,21,41,61,0.3,1.5454311837358459E-2,2,6.8946418850047486E-2,2,4.0446943777174615E-2]
[{"$f":"FRA_Country39","v":"Cabo Verde"},2,26,29,32,2.4300000000000002,0.31376959265003945,0.3,1.0963702944331022E-2,0.3,9.8795771745088246E-3]
[{"$f":"FRA_Country40","v":"Central African Republic"},2,2,2,2,0,0,0,0,0,0]
[{"$f":"FRA_Country41","v":"Chad"},11,14,18,20,0.3,2.4815140714989026E-2,0.39,2.5201936844406969E-2,0.21,1.1274816805754373E-2]
[{"$f":"FRA_Country42","v":"Congo"},60,60,60,60,0,0,0,0,0,0]
[{"$f":"FRA_Country43","v":"Côte d'Ivoire"},7,14,14,14,0.73,7.609333246506389E-2,0,0,0,0]
[{"$f":"FRA_Country44","v":"Democratic Republic of the Congo"},56,57,58,58,0.12,2.1414085454227738E-3,0.1,1.7498254389849421E-3,0,0]
[{"$f":"FRA_Country45","v":"Equatorial Guinea"},0,125,125,125,12.5,"",0,0,0,0]
[{"$f":"FRA_Country46","v":"Gabon"},30,30,30,30,0,0,0,0,0,0]
[{"$f":"FRA_Country47","v":"Gambia"},2,2,2,2,0,0,0,0,0,0]
[{"$f":"FRA_Country48","v":"Ghana"},50,50,220,297,0,0,17,0.15968841673020306,7.71,3.0509370982550577E-2]
[{"$f":"FRA_Country49","v":"Guinea"},40,45,52,57,0.5,1.1847940917808941E-2,0.7,1.4563147080239203E-2,0.5,9.2230273209474856E-3]
[{"$f":"FRA_Country50","v":"Guinea-Bissau"},0,0,1,1,0.02,5.8274284018819511E-2,0.03,6.734707057094047E-2,0.03,3.9903631989753441E-2]
[{"$f":"FRA_Country51","v":"Liberia"},1,10,18,27,0.86,0.2338113928198271,0.86,6.5030540978137541E-2,0.86,3.909592576926646E-2]
[{"$f":"FRA_Country52","v":"Mali"},5,55,530,568,5,0.27098161521014075,47.5,0.25427081789962891,3.8,6.9484705918967382E-3]
[{"$f":"FRA_Country53","v":"Niger"},48,73,98,123,2.5,4.2817143717485795E-2,2.5,2.988876756256964E-2,2.4500000000000002,2.2565182563572872E-2]
[{"$f":"FRA_Country54","v":"Nigeria"},265,249,233,216,-1.63,-6.3337312868803064E-3,-1.63,-6.7621820853877024E-3,-1.63,-7.2528316457952657E-3]
[{"$f":"FRA_Country55","v":"Rwanda"},113,127,138,150,1.35,1.1349369856891389E-2,1.1499999999999999,8.7464120956948221E-3,1.2,8.3657134178680703E-3]
[{"$f":"FRA_Country56","v":"Saint Helena"},0,0,0,0,0,"",0,"",0,""]
[{"$f":"FRA_Country57","v":"Sao Tome and Principe"},0,0,0,0,0,"",0,"",0,""]
[{"$f":"FRA_Country58","v":"Senegal"},32,32,32,32,0,0,0,0,0,0]
[{"$f":"FRA_Country59","v":"Sierra Leone"},7,8,15,21,0.12,1.6270500555317646E-2,0.67,6.3870549462329951E-2,0.67,3.8681969053018461E-2]
[{"$f":"FRA_Country60","v":"Togo"},21,34,47,61,1.33,5.1026930325522635E-2,1.33,3.3631554102539152E-2,1.34,2.5192023879633263E-2]
[{"$f":"FRA_Country61","v":"Western and Central Africa"}]
[{"$f":"FRA_Country62","v":"Africa"}]
[{"$f":"FRA_Country63","v":"China"},44152,54830,73324,84696,1067.83,2.1896717604888316E-2,1849.39,2.9491300634057138E-2,1137.22,1.4522632906181165E-2]
[{"$f":"FRA_Country64","v":"Democratic People's Republic of Korea"},1130,1055,1021,987,-7.48,-6.8225082985546859E-3,-3.47,-3.3380814221933841E-3,-3.32,-3.3008323192514899E-3]
[{"$f":"FRA_Country65","v":"Japan"},10287,10331,10292,10184,4.4000000000000004,4.2690326911665188E-4,-3.9,-3.7814742901243203E-4,-10.8,-1.0543471015371786E-3]
[{"$f":"FRA_Country66","v":"Mongolia"},4,9,10,8,0.46,7.4542277625230469E-2,0.11,1.1461312905435728E-2,-0.24,-2.7212299907906856E-2]
[{"$f":"FRA_Country67","v":"Republic of Korea"},1909,2072,2235,2263,16.309999999999999,8.2326720189427327E-3,16.309999999999999,7.6061607361839201E-3,2.79,1.239789082674525E-3]
[{"$f":"FRA_Country68","v":"East Asia"}]
[{"$f":"FRA_Country69","v":"Bangladesh"},75,75,72,158,0,0,-0.32,-4.3961874841852433E-3,8.61,8.1916986168485195E-2]
[{"$f":"FRA_Country70","v":"Bhutan"},19,20,20,21,0.02,1.1329230560557235E-3,0.02,1.0695560407989468E-3,0.11,5.2900000840678807E-3]
[{"$f":"FRA_Country71","v":"Brunei Darussalam"},1,1,4,5,0.06,6.9349447286714438E-2,0.24,0.10971194644671378,0.16,3.552641921370614E-2]
[{"$f":"FRA_Country72","v":"Cambodia"},67,100,155,604,3.26,4.0317353659265809E-2,5.46,4.4576820718978283E-2,44.94,0.14604126736137935]
[{"$f":"FRA_Country73","v":"India"},5715,9368,12779,13269,365.3,5.066209583253567E-2,341.07,3.1534945562856853E-2,49.03,3.7722518767944191E-3]
[{"$f":"FRA_Country74","v":"Indonesia"},145,3848,4187,4526,370.25,0.3875230035079229,33.85,8.4667952542796243E-3,33.92,7.8211464875763692E-3]
[{"$f":"FRA_Country75","v":"Lao People's Democratic Republic"},1606,1580,1596,1771,-2.6,-1.6308455723281767E-3,1.58,9.9239190682309797E-4,17.55,1.0488792430152438E-2]
[{"$f":"FRA_Country76","v":"Malaysia"},1935,1628,1309,1697,-30.72,-1.7139867603034653E-2,-31.86,-2.1550658819803559E-2,38.82,2.6314055304537121E-2]
[{"$f":"FRA_Country77","v":"Maldives"},0,0,0,0,0,"",0,"",0,""]
[{"$f":"FRA_Country78","v":"Myanmar"},31,31,305,427,0,6.5127489334848576E-5,27.45,0.25811987567017569,12.19,3.416014286878899E-2]
[{"$f":"FRA_Country79","v":"Nepal"},88,138,221,221,4.9800000000000004,4.5863877245793772E-2,8.2899999999999991,4.827835754373222E-2,0,0]
[{"$f":"FRA_Country80","v":"Pakistan"},254,254,254,254,0,0,0,0,0,0]
[{"$f":"FRA_Country81","v":"Philippines"},291,321,351,381,3,9.8629692392318002E-3,3,8.974057709011829E-3,3,8.2372800962260406E-3]
[{"$f":"FRA_Country82","v":"Singapore"},0,0,0,0,0,"",0,"",0,""]
[{"$f":"FRA_Country83","v":"Sri Lanka"},257,234,206,250,-2.2999999999999998,-9.3381295047347823E-3,-2.8,-1.2678181569253821E-2,4.4000000000000004,1.9558675767307854E-2]
[{"$f":"FRA_Country84","v":"Thailand"},1720,1987,3242,3537,26.7,1.4534784748393426E-2,125.5,5.0174610412060838E-2,29.5,8.746881039564558E-3]
[{"$f":"FRA_Country85","v":"Timor-Leste"},0,0,0,0,0,"",0,"",0,""]
[{"$f":"FRA_Country86","v":"Viet Nam"},745,1920,3083,4349,117.46,9.9270992845776007E-2,116.37,4.8529417397848551E-2,126.61,3.5003028524444479E-2]
[{"$f":"FRA_Country87","v":"South and South-east Asia"}]
[{"$f":"FRA_Country88","v":"Afghanistan"},0,0,0,0,0,"",0,"",0,""]
[{"$f":"FRA_Country89","v":"Armenia"},14,11,21,18,-0.31,-2.5173988436352213E-2,0.99,6.809073593232573E-2,-0.21,-1.0662710586433755E-2]
[{"$f":"FRA_Country90","v":"Azerbaijan"},293,306,289,306,1.32,4.4083872569540272E-3,-1.69,-5.6781344443810333E-3,1.65,5.5560012335527098E-3]
[{"$f":"FRA_Country91","v":"Bahrain"},0,0,1,1,0.02,5.3362623778337781E-2,0.02,3.4618314657968163E-2,0.02,3.017135486046052E-2]
[{"$f":"FRA_Country92","v":"Cyprus"},24,28,31,33,0.32,1.2501939810159346E-2,0.31,1.0815208324866932E-2,0.21,6.5177580850142025E-3]
[{"$f":"FRA_Country93","v":"Georgia"},54,60,72,72,0.6,1.0533666962526222E-2,1.21,1.8509814575719208E-2,0,0]
[{"$f":"FRA_Country94","v":"Iran (Islamic Republic of)"},516,516,941,1001,0,0,42.53,6.1993297248479795E-2,5.99,6.18924909526819E-3]
[{"$f":"FRA_Country95","v":"Iraq"},61,64,67,90,0.3,4.8933004550484327E-3,0.32,4.8901882829792687E-3,2.2799999999999998,2.9710916354049655E-2]
[{"$f":"FRA_Country96","v":"Israel"},66,88,88,85,2.2000000000000002,2.9186008964760646E-2,0,0,-0.3,-3.462547308060282E-3]
[{"$f":"FRA_Country97","v":"Jordan"},47,47,47,47,0,0,0,0,0,0]
[{"$f":"FRA_Country98","v":"Kazakhstan"},517,529,444,421,1.18,2.2515787763472961E-3,-8.43,-1.7225300049886982E-2,-2.37,-5.4601585076444747E-3]
[{"$f":"FRA_Country99","v":"Kuwait"},3,5,6,6,0.14000000000000001,3.464714655812795E-2,0.14000000000000001,2.568458338192392E-2,0,0]
[{"$f":"FRA_Country100","v":"Kyrgyzstan"},159,165,185,229,0.62,3.8484404243697146E-3,1.94,1.1173382016482103E-2,4.4000000000000004,2.1569033990927355E-2]
[{"$f":"FRA_Country101","v":"Lebanon"},1,1,0,0,-0.05,-6.1243616325155736E-2,-0.03,-5.362623915449638E-2,0,2.9029591363336493E-3]
[{"$f":"FRA_Country102","v":"Occupied Palestinian Territory"},"","","","","","","","","",""]
[{"$f":"FRA_Country103","v":"Oman"},1,1,1,0.5,0,0,0,0,-0.05,-6.696700846319259E-2]
[{"$f":"FRA_Country104","v":"Qatar"},0,0,0,0,0,"",0,"",0,""]
[{"$f":"FRA_Country105","v":"Saudi Arabia"},0,0,0,0,0,"",0,"",0,""]
[{"$f":"FRA_Country106","v":"Syrian Arab Republic"},148.80000000000001,172.8,196.4,211.4,2.4,1.5065531432257417E-2,2.3599999999999994,1.2884148486616231E-2,1.5,7.3870181451340944E-3]
[{"$f":"FRA_Country107","v":"Tajikistan"},112.61,113.16,113.16,117.41,5.4999999999999716E-2,4.8734118459092812E-4,0,0,0.42499999999999999,3.6937387213855644E-3]
[{"$f":"FRA_Country108","v":"Turkey"},545.98,555.70000000000005,622.01,717.34,0.97200000000000275,1.7661813891551859E-3,6.6309999999999949,1.1336535918788915E-2,9.5330000000000048,1.4361525497487815E-2]
[{"$f":"FRA_Country109","v":"Turkmenistan"},0,0,0,0,0,"",0,"",0,""]
[{"$f":"FRA_Country110","v":"United Arab Emirates"},"","","","","","","","","",""]
[{"$f":"FRA_Country111","v":"Uzbekistan"},1193.1099999999999,1545.04,1852.27,2266.6799999999998,35.193000000000005,2.618561907079231E-2,30.723000000000003,1.8301671235107397E-2,41.440999999999988,2.0395634642175642E-2]
[{"$f":"FRA_Country112","v":"Yemen"},0,0,0,0,0,"",0,"",0,""]
[{"$f":"FRA_Country113","v":"Western and Central Asia"}]
[{"$f":"FRA_Country114","v":"Asia"}]
[{"$f":"FRA_Country115","v":"Albania"},"","",70.39,"","","","","","",""]
[{"$f":"FRA_Country116","v":"Andorra"},0,0,0,0,0,"",0,"",0,""]
[{"$f":"FRA_Country117","v":"Austria"},1739.4,1683.7,1679.3,1671.5,-5.5700000000000047,-3.2493567257682043E-3,-0.44000000000000911,-2.6163704333681537E-4,-0.77999999999999547,-4.6545294723321362E-4]
[{"$f":"FRA_Country118","v":"Belarus"},1203.57,1860.6,2146.2800000000002,2212,65.703000000000003,4.4523382017639834E-2,28.56800000000003,1.4386209086313606E-2,6.5719999999999796,3.0206502636216381E-3]
[{"$f":"FRA_Country119","v":"Belgium"},446.3,407.9,406.37,438.2,-3.8400000000000034,-8.9565812369837294E-3,-0.15299999999999728,-3.7572656525131087E-4,3.1829999999999985,7.5696412231338606E-3]
[{"$f":"FRA_Country120","v":"Bosnia and Herzegovina"},"","","","","","","","","",""]
[{"$f":"FRA_Country121","v":"Bulgaria"},1032,933,817,777,-9.9,-1.0034192688767485E-2,-11.6,-1.3188865154189822E-2,-4,-5.007295935813616E-3]
[{"$f":"FRA_Country122","v":"Croatia"},92.31,81.599999999999994,74.84,68.59,-1.0710000000000008,-1.2256590159649527E-2,-0.67599999999999905,-8.6103924554008504E-3,-0.625,-8.6826610658420345E-3]
[{"$f":"FRA_Country123","v":"Czech Republic"},2598.35,2590.0500000000002,2569.64,2539.4299999999998,-0.82999999999997276,-3.1989358761497222E-4,-2.041000000000031,-7.9082406070440925E-4,-3.0210000000000035,-1.181917472328875E-3]
[{"$f":"FRA_Country124","v":"Denmark"},"","",446.96,412.04,"","","","",-3.491999999999996,-8.1018688205154454E-3]
[{"$f":"FRA_Country125","v":"Estonia"},195.17,198.09,206.68,215.74,0.29200000000000159,1.4861531558358898E-3,0.85900000000000032,4.2540459277229381E-3,0.90600000000000025,4.2994437542109853E-3]
[{"$f":"FRA_Country126","v":"Faroe Islands"},0.08,0.08,0.08,0.08,0,0,0,0,0,0]
[{"$f":"FRA_Country127","v":"Finland"},4390.38,5144.54,6908.37,7368.08,75.415999999999983,1.5978327206605414E-2,176.38299999999998,2.9918606377001389E-2,45.971000000000004,6.4631402033425989E-3]
[{"$f":"FRA_Country128","v":"France"},1528,1586,2073,2434,5.8,3.7324917093275456E-3,48.7,2.713992809146526E-2,36.1,1.6183472590202141E-2]
[{"$f":"FRA_Country129","v":"Germany"},5650,5677,5704.5,5709.5,2.7,4.7685156059906753E-4,2.75,4.8335806645050106E-4,0.5,8.7615548545860733E-5]
[{"$f":"FRA_Country130","v":"Gibraltar"},0,0,0,0,0,"",0,"",0,""]
[{"$f":"FRA_Country131","v":"Greece"},117.76,128.53,138.9,138.9,1.0769999999999995,8.7897736904487545E-3,1.0370000000000004,7.7893714943666481E-3,0,0]
[{"$f":"FRA_Country132","v":"Guernsey"},0.1,0.1,0.22,0.22,0,0,1.2E-2,8.2037389818342854E-2,0,0]
[{"$f":"FRA_Country133","v":"Holy See"},0,0,0,0,0,"",0,"",0,""]
[{"$f":"FRA_Country134","v":"Hungary"},"","",793.79,788.78,"","","","",-0.50099999999999911,-6.3294906722999311E-4]
[{"$f":"FRA_Country135","v":"Iceland"},6.56,18.89,33.299999999999997,39.56,1.2330000000000001,0.11155974854730766,1.4409999999999996,5.833029366757847E-2,0.62600000000000056,1.7375336050964973E-2]
[{"$f":"FRA_Country136","v":"Ireland"},380.39,548.91999999999996,639.58000000000004,674.22,16.852999999999998,3.735641350086838E-2,9.0660000000000078,1.540332688378343E-2,3.4639999999999986,5.288410156936596E-3]
[{"$f":"FRA_Country137","v":"Isle of Man"},"","","","","","","","","",""]
[{"$f":"FRA_Country138","v":"Italy"},528.75,595.51,634.26,644.99,6.6759999999999993,1.1961215059177688E-2,3.875,6.3239908977543724E-3,1.0730000000000017,1.6789927116431791E-3]
[{"$f":"FRA_Country139","v":"Jersey"},"","","","","","","","","",""]
[{"$f":"FRA_Country140","v":"Latvia"},314.39999999999998,322.10000000000002,407.66,465.44,0.77000000000000457,2.422529171607346E-3,8.5560000000000009,2.3836804930871702E-2,5.7779999999999969,1.3343206651997841E-2]
[{"$f":"FRA_Country141","v":"Liechtenstein"},0.2,0.6,0.6,0.6,3.9999999999999994E-2,0.11612317403390437,0,0,0,0]
[{"$f":"FRA_Country142","v":"Lithuania"},410.98,466.22,535.77,611,5.5240000000000009,1.2691165309727248E-2,6.9549999999999956,1.4001854312340356E-2,7.5230000000000015,1.3225898048849993E-2]
[{"$f":"FRA_Country143","v":"Luxembourg"},28.1,28,30,30,-1.0000000000000142E-2,-3.5644307551696564E-4,0.2,6.9231420593451887E-3,0,0]
[{"$f":"FRA_Country144","v":"Malta"},0,0,0,0.04,0,"",0,"",4.0000000000000001E-3,""]
[{"$f":"FRA_Country145","v":"Monaco"},0,0,0,0,0,"",0,"",0,""]
[{"$f":"FRA_Country146","v":"Montenegro"},8,8,8,8,0,0,0,0,0,0]
[{"$f":"FRA_Country147","v":"Netherlands"},295.38,313.56,332.61,331.58,1.8180000000000007,5.9906794075943459E-3,1.9050000000000011,5.915417703398429E-3,-0.10300000000000295,-3.1010437180167827E-4]
[{"$f":"FRA_Country148","v":"Norway"},"","",115,108,"","","","",-0.7,-6.2604115738265076E-3]
[{"$f":"FRA_Country149","v":"Poland"},"","","","","","","","","",""]
[{"$f":"FRA_Country150","v":"Portugal"},2073,2268,2222,2256,19.5,9.0306880612107676E-3,-4.5999999999999996,-2.0469715551364454E-3,3.4,1.5197178443817627E-3]
[{"$f":"FRA_Country151","v":"Republic of Moldova"},146.4,155,212,218.8,0.85999999999999943,5.7245746510505846E-3,5.7,3.1811624269453498E-2,0.68000000000000116,3.1621687282115118E-3]
[{"$f":"FRA_Country152","v":"Romania"},528,528,540,895.07,0,0,1.2,2.249812624094627E-3,35.507000000000005,5.1831866469482568E-2]
[{"$f":"FRA_Country153","v":"Russian Federation"},12651.2,15360.4,19612.900000000001,18880.099999999999,270.9199999999999,1.9593552224391075E-2,425.25000000000017,2.4740566188479196E-2,-73.280000000000285,-3.8006646907463582E-3]
[{"$f":"FRA_Country154","v":"San Marino"},0,0,0,0,0,"",0,"",0,""]
[{"$f":"FRA_Country155","v":"Serbia"},39,39,180.4,115.83,0,0,14.14,0.16551318963744732,-6.4570000000000007,-4.333815680757358E-2]
[{"$f":"FRA_Country156","v":"Slovakia"},738.79,755.08,741.2,748.54,1.6290000000000078,2.1833792215857351E-3,-1.3879999999999995,-1.8536009049300306E-3,0.73399999999999177,9.8590050414260055E-4]
[{"$f":"FRA_Country157","v":"Slovenia"},34,47.9,67.2,45.69,1.39,3.4869671963128956E-2,1.9300000000000004,3.4435403810320286E-2,-2.1510000000000007,-3.7844673407227747E-2]
[{"$f":"FRA_Country158","v":"Spain"},1945.19,2391.34,2596.4899999999998,2590.1,44.615000000000009,2.0864096362410267E-2,20.514999999999965,8.2646305153897259E-3,-0.63899999999998724,-2.4637444000896735E-4]
[{"$f":"FRA_Country159","v":"Svalbard and Jan Mayen Islands"},0,0,0,0,0,"",0,"",0,""]
[{"$f":"FRA_Country160","v":"Sweden"},8089,10318,12481,13912,222.9,2.4637081309438535E-2,216.3,1.9214012746524123E-2,143.1,1.091355194702559E-2]
[{"$f":"FRA_Country161","v":"Switzerland"},182.3,171.7,160.53,148.94999999999999,-1.0600000000000023,-5.9725841601647733E-3,-1.1169999999999987,-6.7042184669925398E-3,-1.1580000000000013,-7.459058294771781E-3]
[{"$f":"FRA_Country162","v":"North Macedonia"}]
[{"$f":"FRA_Country163","v":"Ukraine"},4567,4695,4817,4848,12.8,2.7679816524246448E-3,12.2,2.5686147514636382E-3,3.1,6.4169791196189152E-4]
[{"$f":"FRA_Country164","v":"United Kingdom"},2434,2610,2715,2846,17.600000000000001,7.0058496200748888E-3,10.5,3.9519616926138035E-3,13.1,4.7233747601198584E-3]
[{"$f":"FRA_Country165","v":"Europe"}]
[{"$f":"FRA_Country166","v":"Anguilla"},"","","","","","","","","",""]
[{"$f":"FRA_Country167","v":"Antigua and Barbuda"},"","","","","","","","","",""]
[{"$f":"FRA_Country168","v":"Aruba"},0,0,0,0,0,"",0,"",0,""]
[{"$f":"FRA_Country169","v":"Bahamas"},0,0,0,0,0,"",0,"",0,""]
[{"$f":"FRA_Country170","v":"Barbados"},0,0,0,0,0,"",0,"",0,""]
[{"$f":"FRA_Country171","v":"Bermuda"},"","","","","","","","","",""]
[{"$f":"FRA_Country172","v":"British Virgin Islands"},"","","","","","","","","",""]
[{"$f":"FRA_Country173","v":"Cayman Islands"},0,0,0,0,0,"",0,"",0,""]
[{"$f":"FRA_Country174","v":"Cuba"},347,342,496,532.66,-0.5,-1.4503515106182308E-3,15.4,3.7876209505123271E-2,3.6659999999999968,7.1562237819526864E-3]
[{"$f":"FRA_Country175","v":"Dominica"},0.81,0.81,0.81,0.81,0,0,0,0,0,0]
[{"$f":"FRA_Country176","v":"Dominican Republic"},21.01,43.05,110.3,190.01,2.2039999999999997,7.4372071737670797E-2,6.7249999999999996,9.8652215075569538E-2,7.9709999999999992,5.5893446871757346E-2]
[{"$f":"FRA_Country177","v":"Grenada"},0.21,0.21,0.21,0.21,0,0,0,0,0,0]
[{"$f":"FRA_Country178","v":"Guadeloupe"},0.5,0.5,0.5,0.5,0,0,0,0,0,0]
[{"$f":"FRA_Country179","v":"Haiti"},12,20,28,32,0.8,5.2409779148925528E-2,0.8,3.4219694129380196E-2,0.4,1.3442690579665628E-2]
[{"$f":"FRA_Country180","v":"Jamaica"},8.7899999999999991,8.2100000000000009,8.2899999999999991,8.3800000000000008,-5.7999999999999829E-2,-6.8029333871865161E-3,7.9999999999998302E-3,9.7017488377160177E-4,9.0000000000001641E-3,1.0803777226862099E-3]
[{"$f":"FRA_Country181","v":"Martinique"},2.44,2.59,2.68,2.7,1.4999999999999991E-2,5.9838155650528968E-3,9.0000000000000305E-3,3.4217326884322663E-3,2.0000000000000018E-3,7.4377431178973552E-4]
[{"$f":"FRA_Country182","v":"Montserrat"},0,0,0,0,0,"",0,"",0,""]
[{"$f":"FRA_Country183","v":"Netherlands Antilles"}]
[{"$f":"FRA_Country184","v":"Puerto Rico"},0,0,0,0,0,"",0,"",0,""]
[{"$f":"FRA_Country185","v":"Saint Kitts and Nevis"},"","","","","","","","","",""]
[{"$f":"FRA_Country186","v":"Saint Lucia"},3.15,3.15,3.15,3.15,0,0,0,0,0,0]
[{"$f":"FRA_Country187","v":"Saint Martin (French part)"},0,0,0,0,0,"",0,"",0,""]
[{"$f":"FRA_Country188","v":"Saint Vincent and the Grenadines"},0.04,0.11,0.19,0.3,7.000000000000001E-3,0.10645376106020565,8.0000000000000002E-3,5.6175506315376156E-2,1.0999999999999999E-2,4.673504658430816E-2]
[{"$f":"FRA_Country189","v":"Saint-Barthélemy"},0,0,0,0,0,"",0,"",0,""]
[{"$f":"FRA_Country190","v":"Trinidad and Tobago"},83.38,80.7,80.7,80.7,-0.26799999999999924,-3.26165891357455E-3,0,0,0,0]
[{"$f":"FRA_Country191","v":"Turks and Caicos Islands"},0,0,0,0,0,"",0,"",0,""]
[{"$f":"FRA_Country192","v":"United States Virgin Islands"},0,0,0,0,0,"",0,"",0,""]
[{"$f":"FRA_Country193","v":"Caribbean"}]
[{"$f":"FRA_Country194","v":"Belize"},2.06,2.17,2.2799999999999998,2.39,1.0999999999999987E-2,5.2156729872689933E-3,1.0999999999999987E-2,4.9570733773005582E-3,1.1000000000000032E-2,4.7229102459978023E-3]
[{"$f":"FRA_Country195","v":"Costa Rica"},26.6,46.6,66.599999999999994,86.6,2,5.7670589138069328E-2,1.9999999999999993,3.6355678198655594E-2,2,2.6607342945106138E-2]
[{"$f":"FRA_Country196","v":"El Salvador"},9.92,12.48,15.05,17.61,0.25600000000000006,2.3222994511191031E-2,0.25700000000000001,1.8901476211162338E-2,0.25599999999999989,1.5832926417138626E-2]
[{"$f":"FRA_Country197","v":"Guatemala"},24,37,111.68,151.91999999999999,1.3,4.4236930075948866E-2,7.4680000000000009,0.11680504751298559,4.0239999999999982,3.1249983584813235E-2]
[{"$f":"FRA_Country198","v":"Honduras"},0,0,0,0,0,"",0,"",0,""]
[{"$f":"FRA_Country199","v":"Nicaragua"},0.28999999999999998,2.2599999999999998,15.96,66.260000000000005,0.19699999999999998,0.2279227455162316,1.37,0.21588484335808178,5.03,0.15298021376516835]
[{"$f":"FRA_Country200","v":"Panama"},11.05,32.799999999999997,55.89,65.739999999999995,2.1749999999999998,0.11493912693279817,2.3090000000000002,5.4741481627472499E-2,0.98499999999999943,1.6364667533026678E-2]
[{"$f":"FRA_Country201","v":"Central America"}]
[{"$f":"FRA_Country202","v":"Canada"},4618.25,9386.11,14015.75,18163.39,476.78600000000006,7.3496962864785687E-2,462.96399999999994,4.0909735062586439E-2,414.76399999999995,2.626154687974136E-2]
[{"$f":"FRA_Country203","v":"Greenland"},0.22,0.22,0.22,0.22,0,0,0,0,0,0]
[{"$f":"FRA_Country204","v":"Mexico"},39.43,39.76,66.510000000000005,100.38,3.2999999999999828E-2,8.3379080033485486E-4,2.6750000000000007,5.279559031630221E-2,3.3869999999999991,4.2019927254611567E-2]
[{"$f":"FRA_Country205","v":"Saint Pierre and Miquelon"},0,0,0,0,0,"",0,"",0,""]
[{"$f":"FRA_Country206","v":"United States of America"},17938,22560,25564,27521,462.2,2.3190519697801282E-2,300.39999999999998,1.2579128465572076E-2,195.7,7.4036966139459093E-3]
[{"$f":"FRA_Country207","v":"North America"}]
[{"$f":"FRA_Country208","v":"North and Central America"}]
[{"$f":"FRA_Country209","v":"American Samoa"},0,0,0,0,0,"",0,"",0,""]
[{"$f":"FRA_Country210","v":"Australia"},1022.9,1484.7,2167.9,2390.3000000000002,46.180000000000007,3.7959846133434505E-2,68.320000000000007,3.8580235747179836E-2,22.240000000000009,9.8138353241361553E-3]
[{"$f":"FRA_Country211","v":"Cook Islands"},0.51,1.1000000000000001,1.1000000000000001,1.1000000000000001,5.9000000000000011E-2,7.9896791676111523E-2,0,0,0,0]
[{"$f":"FRA_Country212","v":"Fiji"},84.77,125.48,166.18,206.88,4.0710000000000006,3.9999744697643669E-2,4.07,2.8490831354774482E-2,4.0699999999999985,2.2148452087663362E-2]
[{"$f":"FRA_Country213","v":"French Polynesia"},4.43,8.5500000000000007,9.4600000000000009,9.4600000000000009,0.41200000000000009,6.7963079185230146E-2,9.1000000000000011E-2,1.0165430496591021E-2,0,0]
[{"$f":"FRA_Country214","v":"Guam"},0,0,0,0,0,"",0,"",0,""]
[{"$f":"FRA_Country215","v":"Kiribati"},"","","","","","","","","",""]
[{"$f":"FRA_Country216","v":"Marshall Islands"},3.13,3.13,3.13,3.13,0,0,0,0,0,0]
[{"$f":"FRA_Country217","v":"Micronesia (Federated States of)"},20.25,17.23,14.21,14.21,-0.30199999999999994,-1.6020557878693054E-2,-0.30199999999999994,-1.9086119608872076E-2,0,0]
[{"$f":"FRA_Country218","v":"Nauru"},0,0,0,0,0,"",0,"",0,""]
[{"$f":"FRA_Country219","v":"New Caledonia"},9.0399999999999991,9.84,10.39,10.39,8.0000000000000071E-2,8.5157077658621905E-3,5.500000000000007E-2,5.4536265789839611E-3,0,0]
[{"$f":"FRA_Country220","v":"New Zealand"},1531.12,2025.12,2024.32,2084.48,49.4,2.8357579397385368E-2,-7.999999999999545E-2,-3.9510856116420356E-5,6.016000000000008,2.9328506127888065E-3]
[{"$f":"FRA_Country221","v":"Niue"},0.01,0.01,0.01,0.01,0,0,0,0,0,0]
[{"$f":"FRA_Country222","v":"Norfolk Island"},0.05,0.05,0.05,0.05,0,0,0,0,0,0]
[{"$f":"FRA_Country223","v":"Northern Mariana Islands"},0,0,0,0,0,"",0,"",0,""]
[{"$f":"FRA_Country224","v":"Palau"},"","","","","","","","","",""]
[{"$f":"FRA_Country225","v":"Papua New Guinea"},60.75,60.75,60.75,60.75,0,0,0,0,0,0]
[{"$f":"FRA_Country226","v":"Pitcairn"},"","","","","","","","","",""]
[{"$f":"FRA_Country227","v":"Samoa"},5.13,5.09,5.05,5.04,-4.0000000000000036E-3,-7.8247656744612204E-4,-4.0000000000000036E-3,-7.8864758141194979E-4,-9.9999999999997877E-4,-1.9819647688179565E-4]
[{"$f":"FRA_Country228","v":"Solomon Islands"},41.04,32.64,26.65,24.27,-0.83999999999999986,-2.2640632537734406E-2,-0.5990000000000002,-2.0070783461870301E-2,-0.23799999999999991,-9.3111929487693645E-3]
[{"$f":"FRA_Country229","v":"Tokelau"},0,0,0,0,0,"",0,"",0,""]
[{"$f":"FRA_Country230","v":"Tonga"},1,1,1,1,0,0,0,0,0,0]
[{"$f":"FRA_Country231","v":"Tuvalu"},0,0,0,0,0,"",0,"",0,""]
[{"$f":"FRA_Country232","v":"Vanuatu"},"","","","","","","","","",""]
[{"$f":"FRA_Country233","v":"Wallis and Futuna Islands"},0.2,0.37,0.54,0.63,1.6999999999999998E-2,6.3450238139030057E-2,1.7000000000000005E-2,3.8530375590933641E-2,8.9999999999999976E-3,1.5534493002352434E-2]
[{"$f":"FRA_Country234","v":"Oceania"}]
[{"$f":"FRA_Country235","v":"Argentina"},766,1076,1187,1436,31,3.4566353814426076E-2,11.1,9.8662187418758762E-3,24.9,1.9225714398020344E-2]
[{"$f":"FRA_Country236","v":"Bolivia (Plurinational State of)"},20,35.06,50.13,62.6,1.5060000000000002,5.773820612772762E-2,1.5070000000000001,3.6402803955403407E-2,1.2469999999999999,2.2463145416781849E-2]
[{"$f":"FRA_Country237","v":"Brazil"},3558.1,3652.2,7328.3,11223.6,9.4099999999999913,2.6137129294021566E-3,367.61,7.2123631579999348E-2,389.53000000000003,4.354911489170088E-2]
[{"$f":"FRA_Country238","v":"Chile"},1646.29,2278.14,2830.39,3184.7,63.184999999999988,3.3016853300466442E-2,55.225000000000001,2.1942797499167499E-2,35.430999999999997,1.1864185868343036E-2]
[{"$f":"FRA_Country239","v":"Colombia"},97,165.7,381.3,427.4,6.8699999999999992,5.5006359205617805E-2,21.560000000000002,8.6912115368033449E-2,4.6099999999999968,1.1478768814041862E-2]
[{"$f":"FRA_Country240","v":"Ecuador"},44.43,70.150000000000006,84.82,111.01,2.5720000000000005,4.6731119985476965E-2,1.4669999999999987,1.917100408485517E-2,2.6190000000000011,2.7274205940311491E-2]
[{"$f":"FRA_Country241","v":"Falkland Islands (malvinas)"},0,0,0,0,0,"",0,"",0,""]
[{"$f":"FRA_Country242","v":"French Guiana"},0.7,0.7,0.7,0.8,0,0,0,0,1.0000000000000009E-2,1.3442690579665628E-2]
[{"$f":"FRA_Country243","v":"Guyana"},0,0,0,0,0,"",0,"",0,""]
[{"$f":"FRA_Country244","v":"Paraguay"},10.24,30.52,50.8,155.66,2.028,0.1153943936870705,2.0279999999999996,5.2271767224661536E-2,10.486000000000001,0.11848800610541632]
[{"$f":"FRA_Country245","v":"Peru"},263,715.09,969.92,1088.47,45.209000000000003,0.10519903140860309,25.482999999999993,3.0949805401522257E-2,11.855000000000008,1.1598216290290786E-2]
[{"$f":"FRA_Country246","v":"Suriname"},13,14.15,14.15,14.15,0.11500000000000003,8.5125541389103887E-3,0,0,0,0]
[{"$f":"FRA_Country247","v":"Uruguay"},201,629,979.1,1182,42.8,0.12084474191036843,35.010000000000005,4.5243897128579347E-2,20.29,1.9011399942861607E-2]
[{"$f":"FRA_Country248","v":"Venezuela (Bolivarian Republic of)"},425.99,739.56,989.22,1358.15,31.356999999999992,5.6713853247980284E-2,24.966000000000008,2.9513266653008241E-2,36.893000000000008,3.2203874622497963E-2]
[{"$f":"FRA_Country249","v":"South America"}]
[{"$f":"FRA_Country250","v":"World"}]
[]
["* A dispute exists between the governments of Argentina and the United Kingdom of Great Britain and Northern Ireland concerning sovereignty over the Falkland Islands (Malvinas)."]

{"sheet":"FRA2010table11","index":17,"n_rows":255,"n_cols":12,"rows_kept":255,"cut":false,"hidden":true,"merged":[[0,0,0,11],[253,0,253,11]]}
["11 Trends in carbon stock in living forest biomass 1990-2010"]
["Country/area","Carbon stock in living forest biomass (million tonnes)",null,null,null,null,"Annual change (million tonnes/yr)",null,null,"Annual change per hectare (t/ha/yr)"]
[null,1990,2000,2005,2010,"Per hectare\n2010\n(tonnes)","1990 - 2000","2000 - 2005","2005 - 2010","1990 - 2000","2000-\n2005","2005-\n2010"]
[{"$f":"FRA_Country2","v":"Angola"},4573,4479,4432,4385,75,-9,-9,-9,"n.s.","n.s.","n.s."]
[{"$f":"FRA_Country3","v":"Botswana"},680,663,655,646,57,-2,-2,-2,"n.s.","n.s.","n.s."]
[{"$f":"FRA_Country4","v":"Comoros"},2,1,1,"n.s.",117,"n.s.","n.s.","n.s.",0.7,"n.s.",-5.5]
[{"$f":"FRA_Country5","v":"Djibouti"},"n.s.","n.s.","n.s.","n.s.",41,0,0,0,0,0,0]
[{"$f":"FRA_Country6","v":"Eritrea"},"-","-","-","-","-","-","-","-","-","-","-"]
[{"$f":"FRA_Country7","v":"Ethiopia"},289,254,236,219,18,-4,-4,-3,"n.s.","n.s.","n.s."]
[{"$f":"FRA_Country8","v":"Kenya"},525,503,489,476,137,-2,-3,-3,"n.s.","n.s.","n.s."]
[{"$f":"FRA_Country9","v":"Lesotho"},2,2,2,2,53,"n.s.","n.s.","n.s.","n.s.","n.s.","n.s."]
[{"$f":"FRA_Country10","v":"Madagascar"},1778,1691,1663,1626,130,-9,-6,-7,"n.s.","n.s.","n.s."]
[{"$f":"FRA_Country11","v":"Malawi"},173,159,151,144,44,-1,-2,-1,"n.s.","n.s.","n.s."]
[{"$f":"FRA_Country12","v":"Mauritius"},3,3,2,2,65,"n.s.","n.s.",0,"n.s.","n.s.","n.s."]
[{"$f":"FRA_Country13","v":"Mayotte"},"-","-","-","-","-","-","-","-","-","-","-"]
[{"$f":"FRA_Country14","v":"Mozambique"},1878,1782,1733,1692,43,-10,-10,-8,"n.s.","n.s.","n.s."]
[{"$f":"FRA_Country15","v":"Namibia"},253,232,221,210,29,-2,-2,-2,"n.s.","n.s.","n.s."]
[{"$f":"FRA_Country16","v":"Réunion"},6,6,6,6,68,0,"n.s.","n.s.",0,"n.s.","n.s."]
[{"$f":"FRA_Country17","v":"Seychelles"},4,4,4,4,88,0,0,0,0,0,0]
[{"$f":"FRA_Country18","v":"Somalia"},482,439,415,394,58,-4,-5,-4,"n.s.","n.s.","n.s."]
[{"$f":"FRA_Country19","v":"South Africa"},807,807,807,807,87,0,0,0,0,0,0]
[{"$f":"FRA_Country20","v":"Eswatini"},23,22,22,22,39,"n.s.","n.s.","n.s.","n.s.","n.s.","n.s."]
[{"$f":"FRA_Country21","v":"Uganda"},171,140,124,109,36,-3,-3,-3,"n.s.","n.s.","n.s."]
[{"$f":"FRA_Country22","v":"United Republic of Tanzania"},2505,2262,2139,2019,60,-24,-25,-24,"n.s.","n.s.","n.s."]
[{"$f":"FRA_Country23","v":"Zambia"},2579,2497,2457,2416,49,-8,-8,-8,"n.s.","n.s.","n.s."]
[{"$f":"FRA_Country24","v":"Zimbabwe"},697,594,543,492,31,-10,-10,-10,"n.s.","n.s.","n.s."]
[{"$f":"FRA_Country25","v":"Eastern and Southern Africa"},"-","-","-","-","-","-","-","-","-","-","-"]
[{"$f":"FRA_Country26","v":"Algeria"},78,74,72,70,47,"n.s.","n.s.","n.s.","n.s.","n.s.","n.s."]
[{"$f":"FRA_Country27","v":"Egypt"},4,6,7,7,99,"n.s.","n.s.","n.s.","n.s.","n.s.","n.s."]
[{"$f":"FRA_Country28","v":"Libya"},6,6,6,6,28,0,0,0,0,0,0]
[{"$f":"FRA_Country29","v":"Mauritania"},13,10,8,7,30,"n.s.","n.s.","n.s.","n.s.","n.s.","n.s."]
[{"$f":"FRA_Country30","v":"Morocco"},190,212,224,223,43,2,2,"n.s.","n.s.","n.s.","n.s."]
[{"$f":"FRA_Country31","v":"Sudan"},1521,1403,1398,1393,20,-12,-1,-1,"n.s.","n.s.","n.s."]
[{"$f":"FRA_Country32","v":"Tunisia"},6,8,8,9,9,"n.s.","n.s.","n.s.","n.s.","n.s.","n.s."]
[{"$f":"FRA_Country33","v":"Western Sahara"},33,33,33,33,46,0,0,0,0,0,0]
[{"$f":"FRA_Country34","v":"Northern Africa"},"-","-","-","-","-","-","-","-","-","-","-"]
[{"$f":"FRA_Country35","v":"Benin"},332,291,277,263,58,-4,-3,-3,"n.s.","n.s.","n.s."]
[{"$f":"FRA_Country36","v":"Burkina Faso"},355,323,308,292,52,-3,-3,-3,"n.s.","n.s.","n.s."]
[{"$f":"FRA_Country37","v":"Burundi"},25,19,18,17,96,-1,"n.s.","n.s.",1,"n.s.","n.s."]
[{"$f":"FRA_Country38","v":"Cameroon"},3292,2993,2844,2696,135,-30,-30,-30,"n.s.","n.s.","n.s."]
[{"$f":"FRA_Country39","v":"Cabo Verde"},3,5,5,5,58,"n.s.",0,"n.s.","n.s.","n.s.","n.s."]
[{"$f":"FRA_Country40","v":"Central African Republic"},2936,2898,2879,2861,127,-4,-4,-4,"n.s.","n.s.","n.s."]
[{"$f":"FRA_Country41","v":"Chad"},722,677,655,635,55,-5,-4,-4,"n.s.","n.s.","n.s."]
[{"$f":"FRA_Country42","v":"Congo"},3487,3461,3448,3438,153,-3,-3,-2,"n.s.","n.s.","n.s."]
[{"$f":"FRA_Country43","v":"Côte d'Ivoire"},1811,1832,1847,1842,177,2,3,-1,"n.s.","n.s.","n.s."]
[{"$f":"FRA_Country44","v":"Democratic Republic of the Congo"},20433,20036,19838,19639,127,-40,-40,-40,"n.s.","n.s.","n.s."]
[{"$f":"FRA_Country45","v":"Equatorial Guinea"},232,217,210,203,125,-1,-1,-1,"n.s.","n.s.","n.s."]
[{"$f":"FRA_Country46","v":"Gabon"},2710,2710,2710,2710,123,0,0,0,0,0,0]
[{"$f":"FRA_Country47","v":"Gambia"},29,30,31,32,66,"n.s.","n.s.","n.s.","n.s.","n.s.","n.s."]
[{"$f":"FRA_Country48","v":"Ghana"},564,465,423,381,77,-10,-8,-8,"n.s.","n.s.","n.s."]
[{"$f":"FRA_Country49","v":"Guinea"},687,653,636,619,95,-3,-3,-3,"n.s.","n.s.","n.s."]
[{"$f":"FRA_Country50","v":"Guinea-Bissau"},106,101,98,96,47,-1,-1,"n.s.","n.s.","n.s.","n.s."]
[{"$f":"FRA_Country51","v":"Liberia"},666,625,605,585,135,-4,-4,-4,"n.s.","n.s.","n.s."]
[{"$f":"FRA_Country52","v":"Mali"},317,300,291,282,23,-2,-2,-2,"n.s.","n.s.","n.s."]
[{"$f":"FRA_Country53","v":"Niger"},60,41,38,37,31,-2,-1,"n.s.","n.s.","n.s.","n.s."]
[{"$f":"FRA_Country54","v":"Nigeria"},2016,1550,1317,1085,120,-47,-47,-46,"n.s.","n.s.","n.s."]
[{"$f":"FRA_Country55","v":"Rwanda"},35,18,35,39,91,-2,3,1,-6,7.7,"n.s."]
[{"$f":"FRA_Country56","v":"Saint Helena"},"-","-","-","-","-","-","-","-","-","-","-"]
[{"$f":"FRA_Country57","v":"Sao Tome and Principe"},4,4,4,4,141,0,0,0,0,0,0]
[{"$f":"FRA_Country58","v":"Senegal"},377,357,348,340,40,-2,-2,-2,"n.s.","n.s.","n.s."]
[{"$f":"FRA_Country59","v":"Sierra Leone"},247,232,224,216,79,-2,-2,-2,"n.s.","n.s.","n.s."]
[{"$f":"FRA_Country60","v":"Togo"},"-","-","-","-","-","-","-","-","-","-","-"]
[{"$f":"FRA_Country61","v":"Western and Central Africa"},"-","-","-","-","-","-","-","-","-","-","-"]
[{"$f":"FRA_Country62","v":"Africa"},"-","-","-","-","-","-","-","-","-","-","-"]
[{"$f":"FRA_Country63","v":"China"},4414,5295,5802,6203,30,88,101,80,"n.s.","n.s.","n.s."]
[{"$f":"FRA_Country64","v":"Democratic People's Republic of Korea"},239,207,190,171,30,-3,-3,-4,"n.s.","n.s.","n.s."]
[{"$f":"FRA_Country65","v":"Japan"},1159,1381,1526,"-","-",22,29,"-",0.9,1.1000000000000001,"-"]
[{"$f":"FRA_Country66","v":"Mongolia"},671,626,605,583,53,-5,-4,-4,"n.s.","n.s.","n.s."]
[{"$f":"FRA_Country67","v":"Republic of Korea"},109,181,224,268,43,7,9,9,1.2,1.4,1.5]
[{"$f":"FRA_Country68","v":"East Asia"},"-","-","-","-","-","-","-","-","-","-","-"]
[{"$f":"FRA_Country69","v":"Bangladesh"},84,82,82,80,55,"n.s.",0,"n.s.","n.s.","n.s.","n.s."]
[{"$f":"FRA_Country70","v":"Bhutan"},296,313,324,336,103,2,2,2,"n.s.","n.s.","n.s."]
[{"$f":"FRA_Country71","v":"Brunei Darussalam"},81,76,74,72,188,"n.s.","n.s.","n.s.","n.s.","n.s.","n.s."]
[{"$f":"FRA_Country72","v":"Cambodia"},609,537,495,464,46,-7,-8,-6,"n.s.","n.s.","n.s."]
[{"$f":"FRA_Country73","v":"India"},2223,2377,2615,2800,41,15,48,37,"n.s.","n.s.","n.s."]
[{"$f":"FRA_Country74","v":"Indonesia"},16335,15182,14299,13017,138,-115,-177,-256,1.5,-1.3,-1.7]
[{"$f":"FRA_Country75","v":"Lao People's Democratic Republic"},1186,1133,1106,1074,68,-5,-5,-6,"n.s.","n.s.","n.s."]
[{"$f":"FRA_Country76","v":"Malaysia"},2822,3558,3362,3212,157,74,-39,-30,3.9,-0.8,-0.8]
[{"$f":"FRA_Country77","v":"Maldives"},"-","-","-","-","-","-","-","-","-","-","-"]
[{"$f":"FRA_Country78","v":"Myanmar"},2040,1814,1734,1654,52,-23,-16,-16,"n.s.","n.s.","n.s."]
[{"$f":"FRA_Country79","v":"Nepal"},602,520,485,485,133,-8,-7,0,0.8,"n.s.",0]
[{"$f":"FRA_Country80","v":"Pakistan"},330,271,243,213,126,-6,-6,-6,"n.s.","n.s.","n.s."]
[{"$f":"FRA_Country81","v":"Philippines"},641,655,660,663,87,1,1,1,-0.6,-0.6,-0.6]
[{"$f":"FRA_Country82","v":"Singapore"},"-","-","-","-","-","-","-","-","-","-","-"]
[{"$f":"FRA_Country83","v":"Sri Lanka"},90,74,66,61,33,-2,-2,-1,"n.s.","n.s.","n.s."]
[{"$f":"FRA_Country84","v":"Thailand"},908,881,877,880,46,-3,-1,1,"n.s.","n.s.","n.s."]
[{"$f":"FRA_Country85","v":"Timor-Leste"},"-","-","-","-","-","-","-","-","-","-","-"]
[{"$f":"FRA_Country86","v":"Viet Nam"},778,927,960,992,72,15,7,6,"n.s.",-1.1000000000000001,"n.s."]
[{"$f":"FRA_Country87","v":"South and South-east Asia"},"-","-","-","-","-","-","-","-","-","-","-"]
[{"$f":"FRA_Country88","v":"Afghanistan"},38,38,38,38,28,0,0,0,0,0,0]
[{"$f":"FRA_Country89","v":"Armenia"},17,15,14,13,48,"n.s.","n.s.","n.s.","n.s.","n.s.","n.s."]
[{"$f":"FRA_Country90","v":"Azerbaijan"},54,54,54,54,58,0,0,0,0,0,0]
[{"$f":"FRA_Country91","v":"Bahrain"},"-","-","-","-","-","-","-","-","-","-","-"]
[{"$f":"FRA_Country92","v":"Cyprus"},3,3,3,3,18,"n.s.","n.s.","n.s.","n.s.","n.s.","n.s."]
[{"$f":"FRA_Country93","v":"Georgia"},192,203,207,212,77,1,1,1,"n.s.","n.s.","n.s."]
[{"$f":"FRA_Country94","v":"Iran (Islamic Republic of)"},249,249,254,258,23,"n.s.",1,1,"n.s.","n.s.","n.s."]
[{"$f":"FRA_Country95","v":"Iraq"},"-","-","-","-","-","-","-","-","-","-","-"]
[{"$f":"FRA_Country96","v":"Israel"},5,5,5,5,31,"n.s.","n.s.","n.s.",-0.7,"n.s.","n.s."]
[{"$f":"FRA_Country97","v":"Jordan"},2,2,2,2,24,0,0,0,0,0,0]
[{"$f":"FRA_Country98","v":"Kazakhstan"},137,137,137,137,41,"n.s.","n.s.",0,"n.s.","n.s.","n.s."]
[{"$f":"FRA_Country99","v":"Kuwait"},"-","-","-","-","-","-","-","-","-","-","-"]
[{"$f":"FRA_Country100","v":"Kyrgyzstan"},27,34,37,56,59,1,1,4,0.7,0.7,3.2]
[{"$f":"FRA_Country101","v":"Lebanon"},"-","-",2,2,13,"-","-","n.s.","-","-","n.s."]
[{"$f":"FRA_Country102","v":"Occupied Palestinian Territory"},"-","-","-","-","-","-","-","-","-","-","-"]
[{"$f":"FRA_Country103","v":"Oman"},"-","-","-","-","-","-","-","-","-","-","-"]
[{"$f":"FRA_Country104","v":"Qatar"},0,0,0,0,"-",0,0,0,"-","-","-"]
[{"$f":"FRA_Country105","v":"Saudi Arabia"},6,6,6,6,6,0,0,0,0,0,0]
[{"$f":"FRA_Country106","v":"Syrian Arab Republic"},"-","-","-","-","-","-","-","-","-","-","-"]
[{"$f":"FRA_Country107","v":"Tajikistan"},3,3,3,3,7,"n.s.",0,0,"n.s.",0,0]
[{"$f":"FRA_Country108","v":"Turkey"},686,743,782,822,73,6,8,8,"n.s.","n.s.","n.s."]
[{"$f":"FRA_Country109","v":"Turkmenistan"},11,11,12,12,3,0,"n.s.",0,0,"n.s.",0]
[{"$f":"FRA_Country110","v":"United Arab Emirates"},12,15,16,16,50,"n.s.","n.s.","n.s.","n.s.","n.s.","n.s."]
[{"$f":"FRA_Country111","v":"Uzbekistan"},8,14,18,19,6,1,1,"n.s.","n.s.","n.s.","n.s."]
[{"$f":"FRA_Country112","v":"Yemen"},5,5,5,5,9,0,0,0,0,0,0]
[{"$f":"FRA_Country113","v":"Western and Central Asia"},"-","-","-","-","-","-","-","-","-","-","-"]
[{"$f":"FRA_Country114","v":"Asia"},"-","-","-","-","-","-","-","-","-","-","-"]
[{"$f":"FRA_Country115","v":"Albania"},49,49,48,49,63,"n.s.","n.s.","n.s.","n.s.","n.s.","n.s."]
[{"$f":"FRA_Country116","v":"Andorra"},"-","-","-","-","-","-","-","-","-","-","-"]
[{"$f":"FRA_Country117","v":"Austria"},339,375,399,393,101,4,5,-1,0.8,1.1000000000000001,"n.s."]
[{"$f":"FRA_Country118","v":"Belarus"},386,482,540,611,71,10,12,14,0.9,1.2,1.3]
[{"$f":"FRA_Country119","v":"Belgium"},50,61,63,64,95,1,"n.s.","n.s.",1.7,0.5,"n.s."]
[{"$f":"FRA_Country120","v":"Bosnia and Herzegovina"},96,118,118,118,54,2,0,0,1.1000000000000001,0,0]
[{"$f":"FRA_Country121","v":"Bulgaria"},127,161,182,202,51,3,4,4,1,"n.s.","n.s."]
[{"$f":"FRA_Country122","v":"Croatia"},190,221,237,253,132,3,3,3,1.5,1.4,1.4]
[{"$f":"FRA_Country123","v":"Czech Republic"},287,322,339,356,134,4,3,3,1.3,1.2,1.1000000000000001]
[{"$f":"FRA_Country124","v":"Denmark"},22,26,36,37,68,"n.s.",2,"n.s.","n.s.",3.1,"n.s."]
[{"$f":"FRA_Country125","v":"Estonia"},"-",168,167,165,74,"-","n.s.","n.s.","-","n.s.","n.s."]
[{"$f":"FRA_Country126","v":"Faroe Islands"},"-","-","-","-","-","-","-","-","-","-","-"]
[{"$f":"FRA_Country127","v":"Finland"},721,802,832,832,38,8,6,0,"n.s.","n.s.",0]
[{"$f":"FRA_Country128","v":"France"},965,1049,1165,1208,76,8,23,9,"n.s.",1.2,"n.s."]
[{"$f":"FRA_Country129","v":"Germany"},981,1193,1283,1405,127,21,18,24,1.6,1.6,2.2000000000000002]
[{"$f":"FRA_Country130","v":"Gibraltar"},0,0,0,0,"-",0,0,0,"-","-","-"]
[{"$f":"FRA_Country131","v":"Greece"},67,73,76,79,20,1,1,1,"n.s.","n.s.","n.s."]
[{"$f":"FRA_Country132","v":"Guernsey"},"-","-","-","-","-","-","-","-","-","-","-"]
[{"$f":"FRA_Country133","v":"Holy See"},0,0,0,0,"-",0,0,0,"-","-","-"]
[{"$f":"FRA_Country134","v":"Hungary"},117,130,136,142,70,1,1,1,"n.s.","n.s.","n.s."]
[{"$f":"FRA_Country135","v":"Iceland"},"n.s.","n.s.","n.s.","n.s.",9,"n.s.","n.s.","n.s.","n.s.","n.s.","n.s."]
[{"$f":"FRA_Country136","v":"Ireland"},16,18,20,23,31,"n.s.","n.s.",1,-0.5,"n.s.","n.s."]
[{"$f":"FRA_Country137","v":"Isle of Man"},"-","-","-","-","-","-","-","-","-","-","-"]
[{"$f":"FRA_Country138","v":"Italy"},375,467,512,558,61,9,9,9,0.6,0.5,"n.s."]
[{"$f":"FRA_Country139","v":"Jersey"},"-","-","-","-","-","-","-","-","-","-","-"]
[{"$f":"FRA_Country140","v":"Latvia"},193,234,244,272,81,4,2,5,1.1000000000000001,"n.s.",1.4]
[{"$f":"FRA_Country141","v":"Liechtenstein"},"n.s.",1,1,1,74,"n.s.",0,0,"n.s.",0,0]
[{"$f":"FRA_Country142","v":"Lithuania"},134,146,151,153,71,1,1,"n.s.","n.s.","n.s.","n.s."]
[{"$f":"FRA_Country143","v":"Luxembourg"},7,9,9,9,108,"n.s.",0,0,2.2000000000000002,0,0]
[{"$f":"FRA_Country144","v":"Malta"},"n.s.","n.s.","n.s.","n.s.",173,0,0,0,0,0,0]
[{"$f":"FRA_Country145","v":"Monaco"},0,0,0,0,"-",0,0,0,"-","-","-"]
[{"$f":"FRA_Country146","v":"Montenegro"},33,33,33,33,61,0,0,0,0,0,0]
[{"$f":"FRA_Country147","v":"Netherlands"},21,24,26,28,76,"n.s.","n.s.","n.s.",0.7,0.7,1.2]
[{"$f":"FRA_Country148","v":"Norway"},280,323,360,395,39,4,7,7,"n.s.","n.s.","n.s."]
[{"$f":"FRA_Country149","v":"Poland"},691,807,887,968,104,12,16,16,1.1000000000000001,1.5,1.5]
[{"$f":"FRA_Country150","v":"Portugal"},"-","-",102,102,30,"-","-","n.s.","-","-","n.s."]
[{"$f":"FRA_Country151","v":"Republic of Moldova"},22,26,28,29,75,"n.s.","n.s.","n.s.",1.1000000000000001,-1,"n.s."]
[{"$f":"FRA_Country152","v":"Romania"},600,599,601,618,94,"n.s.","n.s.",3,"n.s.","n.s.","n.s."]
[{"$f":"FRA_Country153","v":"Russian Federation"},32504,32157,32210,32500,40,-35,11,58,"n.s.","n.s.","n.s."]
[{"$f":"FRA_Country154","v":"San Marino"},0,0,0,0,"-",0,0,0,"-","-","-"]
[{"$f":"FRA_Country155","v":"Serbia"},122,138,147,240,88,2,2,19,"n.s.",0.6,5.8]
[{"$f":"FRA_Country156","v":"Slovakia"},163,190,202,211,109,3,3,2,1.4,1.2,0.9]
[{"$f":"FRA_Country157","v":"Slovenia"},116,141,159,178,142,2,4,4,1.6,2.8,2.8]
[{"$f":"FRA_Country158","v":"Spain"},289,396,400,422,23,11,1,4,"n.s.","n.s.","n.s."]
[{"$f":"FRA_Country159","v":"Svalbard and Jan Mayen Islands"},0,0,0,0,"-",0,0,0,"-","-","-"]
[{"$f":"FRA_Country160","v":"Sweden"},1178,1183,1219,1255,45,"n.s.",7,7,"n.s.","n.s.","n.s."]
[{"$f":"FRA_Country161","v":"Switzerland"},126,136,139,143,115,1,1,1,"n.s.","n.s.","n.s."]
[{"$f":"FRA_Country162","v":"North Macedonia"},60,62,60,60,61,"n.s.","n.s.",0,"n.s.",-0.6,"n.s."]
[{"$f":"FRA_Country163","v":"Ukraine"},499,662,712,761,78,16,10,10,1.6,0.9,0.8]
[{"$f":"FRA_Country164","v":"United Kingdom"},120,119,128,136,47,"n.s.",2,2,"n.s.","n.s.","n.s."]
[{"$f":"FRA_Country165","v":"Europe"},"-","-","-","-","-","-","-","-","-","-","-"]
[{"$f":"FRA_Country166","v":"Anguilla"},"-","-","-","-","-","-","-","-","-","-","-"]
[{"$f":"FRA_Country167","v":"Antigua and Barbuda"},"-","-","-","-","-","-","-","-","-","-","-"]
[{"$f":"FRA_Country168","v":"Aruba"},"-","-","-","-","-","-","-","-","-","-","-"]
[{"$f":"FRA_Country169","v":"Bahamas"},"-","-","-","-","-","-","-","-","-","-","-"]
[{"$f":"FRA_Country170","v":"Barbados"},"-","-","-","-","-","-","-","-","-","-","-"]
[{"$f":"FRA_Country171","v":"Bermuda"},"-","-","-","-","-","-","-","-","-","-","-"]
[{"$f":"FRA_Country172","v":"British Virgin Islands"},"-","-","-","-","-","-","-","-","-","-","-"]
[{"$f":"FRA_Country173","v":"Cayman Islands"},"-","-","-","-","-","-","-","-","-","-","-"]
[{"$f":"FRA_Country174","v":"Cuba"},113,180,212,226,79,7,6,3,1.9,0.9,"n.s."]
[{"$f":"FRA_Country175","v":"Dominica"},"-","-","-","-","-","-","-","-","-","-","-"]
[{"$f":"FRA_Country176","v":"Dominican Republic"},114,114,114,114,58,0,0,0,0,0,0]
[{"$f":"FRA_Country177","v":"Grenada"},1,1,1,1,63,0,"n.s.","n.s.",0,-5.6,2.8]
[{"$f":"FRA_Country178","v":"Guadeloupe"},13,13,13,12,195,"n.s.","n.s.","n.s.","n.s.","n.s.","n.s."]
[{"$f":"FRA_Country179","v":"Haiti"},6,6,6,5,54,"n.s.","n.s.","n.s.","n.s.","n.s.","n.s."]
[{"$f":"FRA_Country180","v":"Jamaica"},48,48,48,48,141,"n.s.","n.s.","n.s.","n.s.","n.s.","n.s."]
[{"$f":"FRA_Country181","v":"Martinique"},"-",8,8,8,173,"-",0,0,"-",0,0]
[{"$f":"FRA_Country182","v":"Montserrat"},"-","-","-","-","-","-","-","-","-","-","-"]
[{"$f":"FRA_Country183","v":"Netherlands Antilles"},"-","-","-","-","-","-","-","-","-","-","-"]
[{"$f":"FRA_Country184","v":"Puerto Rico"},14,23,26,28,51,1,"n.s.","n.s.","n.s.","n.s.","n.s."]
[{"$f":"FRA_Country185","v":"Saint Kitts and Nevis"},"-","-","-","-","-","-","-","-","-","-","-"]
[{"$f":"FRA_Country186","v":"Saint Lucia"},"-","-","-","-","-","-","-","-","-","-","-"]
[{"$f":"FRA_Country187","v":"Saint Martin (French part)"},"-","-","-","-","-","-","-","-","-","-","-"]
[{"$f":"FRA_Country188","v":"Saint Vincent and the Grenadines"},"-","-","-","-","-","-","-","-","-","-","-"]
[{"$f":"FRA_Country189","v":"Saint-Barthélemy"},0,0,0,0,"-",0,0,0,"-","-","-"]
[{"$f":"FRA_Country190","v":"Trinidad and Tobago"},21,20,20,19,85,"n.s.","n.s.","n.s.","n.s.","n.s.","n.s."]
[{"$f":"FRA_Country191","v":"Turks and Caicos Islands"},"-","-","-","-","-","-","-","-","-","-","-"]
[{"$f":"FRA_Country192","v":"United States Virgin Islands"},1,1,1,1,27,"n.s.","n.s.","n.s.","n.s.","n.s.","n.s."]
[{"$f":"FRA_Country193","v":"Caribbean"},"-","-","-","-","-","-","-","-","-","-","-"]
[{"$f":"FRA_Country194","v":"Belize"},195,184,178,171,123,-1,-1,-1,"n.s.","n.s.","n.s."]
[{"$f":"FRA_Country195","v":"Costa Rica"},233,217,227,238,91,-2,2,2,"n.s.","n.s.","n.s."]
[{"$f":"FRA_Country196","v":"El Salvador"},"-","-","-","-","-","-","-","-","-","-","-"]
[{"$f":"FRA_Country197","v":"Guatemala"},365,324,303,281,77,-4,-4,-4,"n.s.","n.s.","n.s."]
[{"$f":"FRA_Country198","v":"Honduras"},517,407,368,330,64,-11,-8,-8,"n.s.","n.s.","n.s."]
[{"$f":"FRA_Country199","v":"Nicaragua"},506,428,389,349,112,-8,-8,-8,"n.s.","n.s.","n.s."]
[{"$f":"FRA_Country200","v":"Panama"},429,381,374,367,113,-5,-1,-1,"n.s.","n.s.","n.s."]
[{"$f":"FRA_Country201","v":"Central America"},"-","-","-","-","-","-","-","-","-","-","-"]
[{"$f":"FRA_Country202","v":"Canada"},14284,14317,14021,13908,45,3,-59,-23,"n.s.","n.s.","n.s."]
[{"$f":"FRA_Country203","v":"Greenland"},"-","-","-","-","-","-","-","-","-","-","-"]
[{"$f":"FRA_Country204","v":"Mexico"},2186,2111,2076,2043,32,-8,-7,-7,"n.s.","n.s.","n.s."]
[{"$f":"FRA_Country205","v":"Saint Pierre and Miquelon"},"-","-","-","-","-","-","-","-","-","-","-"]
[{"$f":"FRA_Country206","v":"United States of America"},16951,17998,18631,19308,64,105,127,135,"n.s.","n.s.","n.s."]
[{"$f":"FRA_Country207","v":"North America"},"-","-","-","-","-","-","-","-","-","-","-"]
[{"$f":"FRA_Country208","v":"North and Central America"},"-","-","-","-","-","-","-","-","-","-","-"]
[{"$f":"FRA_Country209","v":"American Samoa"},2,2,2,2,110,"n.s.","n.s.","n.s.","n.s.","n.s.","n.s."]
[{"$f":"FRA_Country210","v":"Australia"},6724,6702,6641,"-","-",-2,-12,"-","n.s.","n.s.","-"]
[{"$f":"FRA_Country211","v":"Cook Islands"},"-","-","-","-","-","-","-","-","-","-","-"]
[{"$f":"FRA_Country212","v":"Fiji"},"-","-","-","-","-","-","-","-","-","-","-"]
[{"$f":"FRA_Country213","v":"French Polynesia"},"-","-","-",21,132,"-","-","-","-","-","-"]
[{"$f":"FRA_Country214","v":"Guam"},2,2,2,2,69,0,0,0,0,0,0]
[{"$f":"FRA_Country215","v":"Kiribati"},"-","-","-","-","-","-","-","-","-","-","-"]
[{"$f":"FRA_Country216","v":"Marshall Islands"},2,2,2,2,183,0,0,0,0,0,0]
[{"$f":"FRA_Country217","v":"Micronesia (Federated States of)"},20,20,20,20,318,"n.s.","n.s.","n.s.","n.s.","n.s.","n.s."]
[{"$f":"FRA_Country218","v":"Nauru"},0,0,0,0,"-",0,0,0,"-","-","-"]
[{"$f":"FRA_Country219","v":"New Caledonia"},60,60,60,60,72,0,0,0,0,0,0]
[{"$f":"FRA_Country220","v":"New Zealand"},"-","-",1263,1292,156,"-","-",6,"-","-",0.9]
[{"$f":"FRA_Country221","v":"Niue"},"-","-","-","-","-","-","-","-","-","-","-"]
[{"$f":"FRA_Country222","v":"Norfolk Island"},"-","-","-","-","-","-","-","-","-","-","-"]
[{"$f":"FRA_Country223","v":"Northern Mariana Islands"},3,3,3,3,100,"n.s.","n.s.","n.s.","n.s.","n.s.","n.s."]
[{"$f":"FRA_Country224","v":"Palau"},10,10,11,11,264,"n.s.","n.s.",0,"n.s.","n.s.",0]
[{"$f":"FRA_Country225","v":"Papua New Guinea"},2537,2423,2365,2306,80,-11,-11,-12,"n.s.","n.s.","n.s."]
[{"$f":"FRA_Country226","v":"Pitcairn"},"-","-","-","-","-","-","-","-","-","-","-"]
[{"$f":"FRA_Country227","v":"Samoa"},"-","-","-","-","-","-","-","-","-","-","-"]
[{"$f":"FRA_Country228","v":"Solomon Islands"},191,186,184,182,82,"n.s.","n.s.","n.s.","n.s.","n.s.","n.s."]
[{"$f":"FRA_Country229","v":"Tokelau"},0,0,0,0,"-",0,0,0,"-","-","-"]
[{"$f":"FRA_Country230","v":"Tonga"},1,1,1,1,114,0,0,0,0,0,0]
[{"$f":"FRA_Country231","v":"Tuvalu"},"-","-","-","-","-","-","-","-","-","-","-"]
[{"$f":"FRA_Country232","v":"Vanuatu"},"-","-","-","-","-","-","-","-","-","-","-"]
[{"$f":"FRA_Country233","v":"Wallis and Futuna Islands"},"-","-","-","-","-","-","-","-","-","-","-"]
[{"$f":"FRA_Country234","v":"Oceania"},"-","-","-","-","-","-","-","-","-","-","-"]
[{"$f":"FRA_Country235","v":"Argentina"},3414,3236,3143,3062,104,-18,-19,-16,"n.s.","n.s.","n.s."]
[{"$f":"FRA_Country236","v":"Bolivia (Plurinational State of)"},4877,4666,4561,4442,78,-21,-21,-24,"n.s.","n.s.","n.s."]
[{"$f":"FRA_Country237","v":"Brazil"},68119,65304,63679,62607,121,-282,-325,-214,"n.s.","n.s.","n.s."]
[{"$f":"FRA_Country238","v":"Chile"},1294,1328,1338,1349,83,3,2,2,"n.s.","n.s.","n.s."]
[{"$f":"FRA_Country239","v":"Colombia"},7032,6918,6862,6805,112,-11,-11,-11,"n.s.","n.s.","n.s."]
[{"$f":"FRA_Country240","v":"Ecuador"},"-","-","-","-","-","-","-","-","-","-","-"]
[{"$f":"FRA_Country241","v":"Falkland Islands (malvinas)"},0,0,0,0,"-",0,0,0,"-","-","-"]
[{"$f":"FRA_Country242","v":"French Guiana"},1672,1657,1654,1651,204,-2,-1,-1,"n.s.","n.s.","n.s."]
[{"$f":"FRA_Country243","v":"Guyana"},1629,1629,1629,1629,107,0,0,0,0,0,0]
[{"$f":"FRA_Country244","v":"Paraguay"},"-","-","-","-","-","-","-","-","-","-","-"]
[{"$f":"FRA_Country245","v":"Peru"},8831,8713,8654,8560,126,-12,-12,-19,"n.s.","n.s.","n.s."]
[{"$f":"FRA_Country246","v":"Suriname"},3168,3168,3168,3165,214,0,0,-1,0,0,"n.s."]
[{"$f":"FRA_Country247","v":"Uruguay"},"-","-","-","-","-","-","-","-","-","-","-"]
[{"$f":"FRA_Country248","v":"Venezuela (Bolivarian Republic of)"},"-","-","-","-","-","-","-","-","-","-","-"]
[{"$f":"FRA_Country249","v":"South America"},"-","-","-","-","-","-","-","-","-","-","-"]
[{"$f":"FRA_Country250","v":"World"},"-","-","-","-","-","-","-","-","-","-","-"]
[]
["a   Data for Canada only cover forests classified as “Managed Forest” as defined by the UNFCCC, not the total forest area"]
["* A dispute exists between the governments of Argentina and the United Kingdom of Great Britain and Northern Ireland concerning sovereignty over the Falkland Islands (Malvinas)."]

{"sheet":"FRA2010table13","index":18,"n_rows":256,"n_cols":10,"rows_kept":256,"cut":false,"hidden":true,"merged":[[0,0,0,8],[254,0,254,8]]}
["13 Trends in removals of wood products 1990-2005"]
["Country/area",{"$f":"title54","v":"Industrial roundwood"},null,null,null,{"$f":"title55","v":"Woodfuel"}]
[null,"Total volume\n(1 000 m3 over bark)a",null,null,"of which from\nforest 2005\n(%)","Total volume\n(1 000 m3 over bark)a",null,null,"of which from\nforest 2005\n(%)"]
[null,1990,2000,2005,null,1990,2000,2005]
[{"$f":"FRA_Country2","v":"Angola"},974,1253,1260,100,2693,3629,4108,100,{"$f":"H5/(D5+H5)","v":0.76527570789865873}]
[{"$f":"FRA_Country3","v":"Botswana"},76,"-","-","-",695,731,759,100]
[{"$f":"FRA_Country4","v":"Comoros"},8,8,9,100,160,185,197,100,0.9563106796116505]
[{"$f":"FRA_Country5","v":"Djibouti"},"-","-","-","-","-","-","-","-"]
[{"$f":"FRA_Country6","v":"Eritrea"},"-",2,1,100,"-",2549,1475,100,0.99932249322493227]
[{"$f":"FRA_Country7","v":"Ethiopia"},"-",2812,3368,100,"-",100376,108548,100,0.96990600092926837]
[{"$f":"FRA_Country8","v":"Kenya"},2003,2213,1646,100,19381,22631,27359,100,0.94325116359248407]
[{"$f":"FRA_Country9","v":"Lesotho"},"-","-","n.s.",100,1771,2227,2362,100]
[{"$f":"FRA_Country10","v":"Madagascar"},928,155,238,100,8155,11084,12812,100,0.98176245210727975]
[{"$f":"FRA_Country11","v":"Malawi"},476,595,598,100,5873,5702,5919,100,0.90823998772441306]
[{"$f":"FRA_Country12","v":"Mauritius"},16,11,10,100,14,12,7,100,0.41176470588235292]
[{"$f":"FRA_Country13","v":"Mayotte"},"-","n.s.","n.s.",70,37,29,27,77]
[{"$f":"FRA_Country14","v":"Mozambique"},1070,1511,1507,"-",17104,19233,19233,"-",0.92733847637415623]
[{"$f":"FRA_Country15","v":"Namibia"},"-","-","-","-","-","-","-","-"]
[{"$f":"FRA_Country16","v":"Réunion"},5,5,6,100,3,3,2,100,0.25]
[{"$f":"FRA_Country17","v":"Seychelles"},4,8,10,100,6,4,3,100,0.23076923076923078]
[{"$f":"FRA_Country18","v":"Somalia"},"-","-","-","-","-","-",7922,"-"]
[{"$f":"FRA_Country19","v":"South Africa"},15477,16746,21077,100,13570,13800,13800,100,0.39567623362101101]
[{"$f":"FRA_Country20","v":"Eswatini"},1170,379,379,100,644,644,848,100,0.69111654441727788]
[{"$f":"FRA_Country21","v":"Uganda"},2044,3620,3651,"-",33865,39316,42310,"-",0.92056308609473247]
[{"$f":"FRA_Country22","v":"United Republic of Tanzania"},2294,2653,2661,100,21552,23984,24970,100,0.90369512504071514]
[{"$f":"FRA_Country23","v":"Zambia"},764,680,1179,100,7309,9106,10002,100,0.89455325999463375]
[{"$f":"FRA_Country24","v":"Zimbabwe"},771,1205,1001,100,7199,9278,9473,100,0.90443001718541149]
[{"$f":"FRA_Country25","v":"Eastern and Southern Africa"},"-","-",{"$f":"SUM(D5,D7,D9,D10,D11,D13,D14,D15,D17,D19,D20,D22,D23,D24,D25,D26,D27)","v":38601},null,null,null,{"$f":"SUM(H5,H7,H9,H10,H11,H13,H14,H15,H17,H19,H20,H22,H23,H24,H25,H26,H27)","v":281066},"-",0.87924621559310157]
[{"$f":"FRA_Country26","v":"Algeria"},80,136,73,100,50,56,77,100,0.51333333333333331]
[{"$f":"FRA_Country27","v":"Egypt"},"-",75,80,"-","-",110,120,"-",0.6]
[{"$f":"FRA_Country28","v":"Libya"},122,133,133,"-",616,616,787,"-",0.85543478260869565]
[{"$f":"FRA_Country29","v":"Mauritania"},6,7,5,"-",1321,1643,1865,"-",0.99732620320855614]
[{"$f":"FRA_Country30","v":"Morocco"},508,470,580,100,504,427,367,100,0.38753959873284055]
[{"$f":"FRA_Country31","v":"Sudan"},2036,2489,2499,57,18648,19226,20347,57,0.89061542501969715]
[{"$f":"FRA_Country32","v":"Tunisia"},93,111,242,100,116,125,57,100,0.19063545150501673]
[{"$f":"FRA_Country33","v":"Western Sahara"},4,7,7,100,3,6,6,100,0.46153846153846156]
[{"$f":"FRA_Country34","v":"Northern Africa"},"-","-",{"$f":"SUM(D29:D36)","v":3619},null,null,null,{"$f":"SUM(H29:H36)","v":23626},"-",0.86716828775922183]
[{"$f":"FRA_Country35","v":"Benin"},317,380,404,100,6396,4132,4284,100,0.91382252559726962]
[{"$f":"FRA_Country36","v":"Burkina Faso"},3,5,5,"-",6336,7243,7333,"-",0.99931861542654676]
[{"$f":"FRA_Country37","v":"Burundi"},58,372,383,100,6663,7845,9815,100,0.96244361639537168]
[{"$f":"FRA_Country38","v":"Cameroon"},3606,3138,3306,"-",11255,14742,16561,"-",{"$f":"H41/(D41+H41)","v":0.83359339608395833}]
[{"$f":"FRA_Country39","v":"Cabo Verde"},"-","-","-","-","-","-",14,"-"]
[{"$f":"FRA_Country40","v":"Central African Republic"},496,1108,765,100,3231,2300,2300,"-",{"$f":"H43/(D43+H43)","v":0.75040783034257752}]
[{"$f":"FRA_Country41","v":"Chad"},404,424,435,67,8084,8486,8696,67,0.95236009199430516]
[{"$f":"FRA_Country42","v":"Congo"},1117,1189,1450,100,942,1235,1317,100,0.47596675099385616]
[{"$f":"FRA_Country43","v":"Côte d'Ivoire"},"-",2282,2175,100,8826,9855,10004,100,0.82141390918794643]
[{"$f":"FRA_Country44","v":"Democratic Republic of the Congo"},367,918,205,"-",51451,74592,81580,"-",0.9974934278901999]
[{"$f":"FRA_Country45","v":"Equatorial Guinea"},200,689,634,100,514,514,514,100,0.44773519163763065]
[{"$f":"FRA_Country46","v":"Gabon"},75,606,1098,100,521,591,858,100,0.43865030674846628]
[{"$f":"FRA_Country47","v":"Gambia"},80,130,130,100,522,653,744,100,0.85125858123569798]
[{"$f":"FRA_Country48","v":"Ghana"},1382,1298,1508,81,14833,23780,23780,100,0.94036697247706424]
[{"$f":"FRA_Country49","v":"Guinea"},626,748,749,100,10787,12431,13441,100,0.9472163495419309]
[{"$f":"FRA_Country50","v":"Guinea-Bissau"},20,7,7,"-",22,33,35,"-",0.83333333333333337]
[{"$f":"FRA_Country51","v":"Liberia"},609,856,370,100,3843,5226,6678,100,0.94750283768444954]
[{"$f":"FRA_Country52","v":"Mali"},402,473,474,100,4559,5439,5778,100,0.92418426103646834]
[{"$f":"FRA_Country53","v":"Niger"},454,579,701,"-",9089,11572,14023,"-",0.95239065471339313]
[{"$f":"FRA_Country54","v":"Nigeria"},9321,10831,10831,100,59095,68172,70427,100,0.86670850870068183]
[{"$f":"FRA_Country55","v":"Rwanda"},133,472,569,40,4823,6831,7801,90,0.93201911589008368]
[{"$f":"FRA_Country56","v":"Saint Helena"},"-","-","-","-","-","-","-","-"]
[{"$f":"FRA_Country57","v":"Sao Tome and Principe"},10,10,10,"-","-","-","-","-"]
[{"$f":"FRA_Country58","v":"Senegal"},8,15,43,91,4687,5115,5276,67,0.99191577364166195]
[{"$f":"FRA_Country59","v":"Sierra Leone"},152,142,142,100,5383,6070,6242,100,0.97775689223057649]
[{"$f":"FRA_Country60","v":"Togo"},"-",3684,3320,100,"-",3370,3012,100,0.47567909033480732]
[{"$f":"FRA_Country61","v":"Western and Central Africa"},"-","-",{"$f":"SUM(D61:D63,D43:D58,D38:D41)","v":29704},"-","-","-",{"$f":"SUM(H61:H63,H43:H58,H38:H41)","v":300499},"-",0.91004321583995296]
[{"$f":"FRA_Country62","v":"Africa"},"-","-",{"$f":"D64+D37+D28","v":71924},"-","-","-",{"$f":"H64+H37+H28","v":605191},"-",0.89377875250142147]
[{"$f":"FRA_Country63","v":"China"},64814,55502,63882,100,63600,75948,63676,100,0.49919252418507659]
[{"$f":"FRA_Country64","v":"Democratic People's Republic of Korea"},690,1725,1725,100,5055,6318,6626,100,0.79343791162735]
[{"$f":"FRA_Country65","v":"Japan"},30765,18601,17803,100,365,242,160,100,8.9071981294883921E-3]
[{"$f":"FRA_Country66","v":"Mongolia"},584,100,50,100,624,472,574,70,0.91987179487179482]
[{"$f":"FRA_Country67","v":"Republic of Korea"},1204,1570,2278,100,402,266,293,100,0.11396343835083625]
[{"$f":"FRA_Country68","v":"East Asia"},"-","-",{"$f":"SUM(D66:D70)","v":85738},"-","-","-",{"$f":"SUM(H66:H70)","v":71329},null,0.45413103962003476]
[{"$f":"FRA_Country69","v":"Bangladesh"},240,249,253,"-",562,865,1016,"-",0.80063041765169429]
[{"$f":"FRA_Country70","v":"Bhutan"},170,195,216,100,143,95,93,100,0.30097087378640774]
[{"$f":"FRA_Country71","v":"Brunei Darussalam"},97,119,128,"-","-","n.s.","n.s.","-"]
[{"$f":"FRA_Country72","v":"Cambodia"},625,182,4,"-",94,0,1,"-",0.2]
[{"$f":"FRA_Country73","v":"India"},35055,41173,45957,6,213169,245837,260752,20,0.85016090170161296]
[{"$f":"FRA_Country74","v":"Indonesia"},25485,17792,14428,100,144680,101098,86396,"-",0.85689915099579461]
[{"$f":"FRA_Country75","v":"Lao People's Democratic Republic"},477,682,292,"-",6488,6742,6825,"-",0.95897147674581984]
[{"$f":"FRA_Country76","v":"Malaysia"},48428,21946,26706,"-",4613,3831,3557,"-",0.11753626540660213]
[{"$f":"FRA_Country77","v":"Maldives"},"-","-","-","-","-","-","-","-"]
[{"$f":"FRA_Country78","v":"Myanmar"},3397,3604,3880,"-",35687,37104,39180,"-",0.90989317231769629]
[{"$f":"FRA_Country79","v":"Nepal"},28,81,152,100,91,64,41,100,0.21243523316062177]
[{"$f":"FRA_Country80","v":"Pakistan"},2434,2345,2301,"-",24740,29315,31603,"-",0.93213190184049077]
[{"$f":"FRA_Country81","v":"Philippines"},2568,628,791,100,123,116,349,100,0.30614035087719299]
[{"$f":"FRA_Country82","v":"Singapore"},0,0,0,"-",0,0,0,"-"]
[{"$f":"FRA_Country83","v":"Sri Lanka"},772,766,763,"-",8583,6780,6476,"-",0.89459870147810472]
[{"$f":"FRA_Country84","v":"Thailand"},176,45,11,100,534,6,7,100,0.3888888888888889]
[{"$f":"FRA_Country85","v":"Timor-Leste"},"-","-","-","-","-",1300,1300,"-"]
[{"$f":"FRA_Country86","v":"Viet Nam"},3446,2376,2703,100,26534,26685,26240,100,0.90660954289465501]
[{"$f":"FRA_Country87","v":"South and South-east Asia"},"-","-",{"$f":"SUM(D89,D86:D87,D81:D84,D75:D79,D72:D73)","v":98457},"-","-","-",{"$f":"SUM(H89,H86:H87,H81:H84,H75:H79,H72:H73)","v":462536},"-",0.82449513630294857]
[{"$f":"FRA_Country88","v":"Afghanistan"},1698,2019,2024,"-",797,1449,1681,"-",0.45371120107962215]
[{"$f":"FRA_Country89","v":"Armenia"},9,8,11,100,79,66,76,100,0.87356321839080464]
[{"$f":"FRA_Country90","v":"Azerbaijan"},"-",31,4,"-","-",31,4,"-",0.5]
[{"$f":"FRA_Country91","v":"Bahrain"},"-","-","-","-","-","-","-","-"]
[{"$f":"FRA_Country92","v":"Cyprus"},43,20,9,"-",13,7,5,"-",0.35714285714285715]
[{"$f":"FRA_Country93","v":"Georgia"},103,91,111,100,248,299,666,100,0.8571428571428571]
[{"$f":"FRA_Country94","v":"Iran (Islamic Republic of)"},1256,2050,2448,"-",425,55,20,"-",8.1037277147487843E-3]
[{"$f":"FRA_Country95","v":"Iraq"},"-","-","-","-","-","-","-","-"]
[{"$f":"FRA_Country96","v":"Israel"},76,81,22,100,2,2,5,100,0.18518518518518517]
[{"$f":"FRA_Country97","v":"Jordan"},"-","-","-","-",9,2,5,"-"]
[{"$f":"FRA_Country98","v":"Kazakhstan"},2024,189,535,"-",577,483,231,"-",0.30156657963446476]
[{"$f":"FRA_Country99","v":"Kuwait"},"-","-","-","-","-","-","-","-"]
[{"$f":"FRA_Country100","v":"Kyrgyzstan"},7,13,9,100,"-",32,16,100,0.64]
[{"$f":"FRA_Country101","v":"Lebanon"},0,0,0,"-","-","-",18,70,1]
[{"$f":"FRA_Country102","v":"Occupied Palestinian Territory"},"-","-","-","-","-","-","-","-"]
[{"$f":"FRA_Country103","v":"Oman"},"-","-","-","-","-","-","-","-"]
[{"$f":"FRA_Country104","v":"Qatar"},"-","-","-","-","-","-","-","-"]
[{"$f":"FRA_Country105","v":"Saudi Arabia"},0,0,0,"-","-","-",8,"-",{"$f":"H108/(D108+H108)","v":1}]
[{"$f":"FRA_Country106","v":"Syrian Arab Republic"},"-","-","-","-","-","-","-","-"]
[{"$f":"FRA_Country107","v":"Tajikistan"},0,0,0,"-",6,7,7,100,1]
[{"$f":"FRA_Country108","v":"Turkey"},9946,11514,11905,72,15680,11116,9722,87,0.44953067924353818]
[{"$f":"FRA_Country109","v":"Turkmenistan"},0,0,0,"-",10,10,10,"-",1]
[{"$f":"FRA_Country110","v":"United Arab Emirates"},0,0,0,"-","-","-","-","-"]
[{"$f":"FRA_Country111","v":"Uzbekistan"},3,5,9,100,46,24,21,100,0.7]
[{"$f":"FRA_Country112","v":"Yemen"},"-","-","-","-",205,347,422,"-"]
[{"$f":"FRA_Country113","v":"Western and Central Asia"},"-","-",{"$f":"SUM(D114,D110:D112,D108,D103:D104,D101,D99,D95:D97,D91:D93)","v":17087},"-","-","-",{"$f":"SUM(H114,H110:H112,H108,H103:H104,H101,H99,H95:H97,H91:H93)","v":12490},"-",0.422287588328769]
[{"$f":"FRA_Country114","v":"Asia"},"-","-",{"$f":"D116+D90+D71","v":201282},"-","-","-",{"$f":"H116+H90+H71","v":546355},"-",0.73077576417432522]
[{"$f":"FRA_Country115","v":"Albania"},244,43,27,100,561,167,164,67,0.8586387434554974]
[{"$f":"FRA_Country116","v":"Andorra"},"-","-","-","-","-","-","-","-"]
[{"$f":"FRA_Country117","v":"Austria"},11535,12019,15488,100,3002,3316,4414,100,0.22178675509998996]
[{"$f":"FRA_Country118","v":"Belarus"},5479,4876,6571,100,822,951,1074,100,0.14048397645519947]
[{"$f":"FRA_Country119","v":"Belgium"},3852,2957,3789,100,500,500,600,100,0.13670539986329461]
[{"$f":"FRA_Country120","v":"Bosnia and Herzegovina"},3791,3259,3006,100,982,1067,1337,100,0.30785171540409856]
[{"$f":"FRA_Country121","v":"Bulgaria"},2457,2799,3772,100,943,979,1938,100,0.33940455341506132]
[{"$f":"FRA_Country122","v":"Croatia"},"-",2646,3077,100,"-",961,1181,100,0.2773602630342884]
[{"$f":"FRA_Country123","v":"Czech Republic"},11874,14836,16786,100,1156,1023,1487,100,8.1376894872215833E-2]
[{"$f":"FRA_Country124","v":"Denmark"},1498,1456,1231,100,451,644,1080,100,0.46733016010385114]
[{"$f":"FRA_Country125","v":"Estonia"},"-",8975,4565,98,"-",2194,1590,98,0.25832656376929325]
[{"$f":"FRA_Country126","v":"Faroe Islands"},"-","-","-","-","-","-","-","-"]
[{"$f":"FRA_Country127","v":"Finland"},43840,55721,55152,100,3371,5112,5933,100,9.7126954244086114E-2]
[{"$f":"FRA_Country128","v":"France"},35389,38028,33295,100,36700,31251,29099,74,0.46637497195243133]
[{"$f":"FRA_Country129","v":"Germany"},37043,47265,58788,100,7646,12497,16548,100,0.21965594138260591]
[{"$f":"FRA_Country130","v":"Gibraltar"},"-","-","-","-","-","-","-","-"]
[{"$f":"FRA_Country131","v":"Greece"},1168,681,689,"-",1811,1540,1195,"-",0.63428874734607221]
[{"$f":"FRA_Country132","v":"Guernsey"},"-","-","-","-","-","-","-","-"]
[{"$f":"FRA_Country133","v":"Holy See"},"-","-","-","-","-","-","-","-"]
[{"$f":"FRA_Country134","v":"Hungary"},4129,3860,3452,100,2615,2322,2943,100,0.46020328381548087]
[{"$f":"FRA_Country135","v":"Iceland"},"n.s.","n.s.",1,100,"n.s.","n.s.","n.s.",100]
[{"$f":"FRA_Country136","v":"Ireland"},1618,2710,2890,100,50,57,25,"-",8.5763293310463125E-3]
[{"$f":"FRA_Country137","v":"Isle of Man"},"-","-","-","-","-","-","-","-"]
[{"$f":"FRA_Country138","v":"Italy"},4982,4031,3499,100,4895,6000,6542,100,0.65152873219798824]
[{"$f":"FRA_Country139","v":"Jersey"},"-","-","-","-","-","-","-","-"]
[{"$f":"FRA_Country140","v":"Latvia"},2781,12288,13129,100,2165,2194,3230,78,0.19744483159117304]
[{"$f":"FRA_Country141","v":"Liechtenstein"},16,16,21,"-",5,5,5,"-",0.19230769230769232]
[{"$f":"FRA_Country142","v":"Lithuania"},2779,4665,5446,100,872,1506,1452,100,0.2104957958828646]
[{"$f":"FRA_Country143","v":"Luxembourg"},"-",333,226,100,"-",1,14,100,5.8333333333333334E-2]
[{"$f":"FRA_Country144","v":"Malta"},0,0,0,"-",0,0,0,"-"]
[{"$f":"FRA_Country145","v":"Monaco"},"-","-","-","-","-","-","-","-"]
[{"$f":"FRA_Country146","v":"Montenegro"},"-","-",221,"-","-","-",305,"-",0.57984790874524716]
[{"$f":"FRA_Country147","v":"Netherlands"},1363,949,934,100,154,187,343,100,0.26859827721221613]
[{"$f":"FRA_Country148","v":"Norway"},11300,8854,8877,100,1175,1450,1582,100,0.15125729037192848]
[{"$f":"FRA_Country149","v":"Poland"},22783,29598,35572,99,4338,3382,4635,91,0.11527843410351431]
[{"$f":"FRA_Country150","v":"Portugal"},12662,10958,12578,100,627,732,732,100,5.4996243425995489E-2]
[{"$f":"FRA_Country151","v":"Republic of Moldova"},43,38,41,"-",270,277,299,"-",0.87941176470588234]
[{"$f":"FRA_Country152","v":"Romania"},"-","-","-","-","-","-","-","-"]
[{"$f":"FRA_Country153","v":"Russian Federation"},268396,104546,134870,100,68131,47770,50905,100,0.27401426456735301]
[{"$f":"FRA_Country154","v":"San Marino"},"-","-","-","-","-","-","-","-"]
[{"$f":"FRA_Country155","v":"Serbia"},1149,946,1002,100,1761,1189,1306,90,0.5658578856152513]
[{"$f":"FRA_Country156","v":"Slovakia"},5073,5819,8260,100,472,331,406,100,4.6849757673667204E-2]
[{"$f":"FRA_Country157","v":"Slovenia"},2701,2058,2368,100,277,489,868,100,0.26823238566131025]
[{"$f":"FRA_Country158","v":"Spain"},14794,14828,15827,"-",2947,2045,1760,"-",0.10007391823505998]
[{"$f":"FRA_Country159","v":"Svalbard and Jan Mayen Islands"},"-","-","-","-","-","-","-","-"]
[{"$f":"FRA_Country160","v":"Sweden"},56476,64729,75539,100,3602,6726,10826,100,0.12535170497307938]
[{"$f":"FRA_Country161","v":"Switzerland"},4406,5154,4544,100,843,1144,1250,100,0.21574042112530203]
[{"$f":"FRA_Country162","v":"North Macedonia"},"-",129,132,"-","-",520,480,"-",0.78431372549019607]
[{"$f":"FRA_Country163","v":"Ukraine"},8577,7814,11387,100,5013,4417,5290,100,0.31720333393296157]
[{"$f":"FRA_Country164","v":"United Kingdom"},6901,8452,9149,100,256,259,352,100,3.7048731712451322E-2]
[{"$f":"FRA_Country165","v":"Europe"},"-","-",{"$f":"SUM(D163:D167,D158:D161,D156,D149:D154,D143:D146,D141,D139,D137,D134,D130:D132,D120:D128,D118)","v":556200},"-","-","-",{"$f":"SUM(H163:H167,H158:H161,H156,H149:H154,H143:H146,H141,H139,H137,H134,H130:H132,H120:H128,H118)","v":163190},"-",0.22684496587386535]
[{"$f":"FRA_Country166","v":"Anguilla"},"-","-","-","-","-","-","-","-"]
[{"$f":"FRA_Country167","v":"Antigua and Barbuda"},"-","-","-","-","-","-","-","-"]
[{"$f":"FRA_Country168","v":"Aruba"},"-","-","-","-","-","-","-","-"]
[{"$f":"FRA_Country169","v":"Bahamas"},132,20,20,"-","-","-","-","-"]
[{"$f":"FRA_Country170","v":"Barbados"},"-","-","-","-","-","-","-","-"]
[{"$f":"FRA_Country171","v":"Bermuda"},"-","-","-","-","-","-","-","-"]
[{"$f":"FRA_Country172","v":"British Virgin Islands"},"-","-","-","-","-","-","-","-"]
[{"$f":"FRA_Country173","v":"Cayman Islands"},"-","-","-","-","-","-","-","-"]
[{"$f":"FRA_Country174","v":"Cuba"},577,687,639,"-",2512,1746,1588,"-",{"$f":"H177/(D177+H177)","v":0.71306690615177371}]
[{"$f":"FRA_Country175","v":"Dominica"},"-","-","-","-","-","-","-","-"]
[{"$f":"FRA_Country176","v":"Dominican Republic"},7,7,32,"-",639,639,732,"-",{"$f":"H179/(D179+H179)","v":0.95811518324607325}]
[{"$f":"FRA_Country177","v":"Grenada"},"n.s.","n.s.","n.s.","-","-","-","-","-"]
[{"$f":"FRA_Country178","v":"Guadeloupe"},1,1,"n.s.",100,17,17,25,100]
[{"$f":"FRA_Country179","v":"Haiti"},275,275,275,100,1890,2257,2300,100,{"$f":"H182/(D182+H182)","v":0.89320388349514568}]
[{"$f":"FRA_Country180","v":"Jamaica"},"-",1,4,91,"-","-","-","-"]
[{"$f":"FRA_Country181","v":"Martinique"},"-",5,3,100,"-","-","-","-"]
[{"$f":"FRA_Country182","v":"Montserrat"},"-","-","-","-","-","-","-","-"]
[{"$f":"FRA_Country183","v":"Netherlands Antilles"},"-","-","-","-","-","-","-","-"]
[{"$f":"FRA_Country184","v":"Puerto Rico"},"-","-","-","-","-","-","-","-"]
[{"$f":"FRA_Country185","v":"Saint Kitts and Nevis"},"-","-","-","-","-","-","-","-"]
[{"$f":"FRA_Country186","v":"Saint Lucia"},"-","-","-","-","-","-","-","-"]
[{"$f":"FRA_Country187","v":"Saint Martin (French part)"},"-","-","-","-","-","-","-","-"]
[{"$f":"FRA_Country188","v":"Saint Vincent and the Grenadines"},"-","-","-","-","-","-","-","-"]
[{"$f":"FRA_Country189","v":"Saint-Barthélemy"},"-","-","-","-","-","-","-","-"]
[{"$f":"FRA_Country190","v":"Trinidad and Tobago"},52,59,54,100,46,42,40,100,{"$f":"H193/(D193+H193)","v":0.42553191489361702}]
[{"$f":"FRA_Country191","v":"Turks and Caicos Islands"},"-","-","-","-","-","-","-","-"]
[{"$f":"FRA_Country192","v":"United States Virgin Islands"},"-","-","-","-","-","-","-","-"]
[{"$f":"FRA_Country193","v":"Caribbean"},"-","-",{"$f":"SUM(D177,D179,D182)","v":946},"-","-","-",{"$f":"SUM(H177,H179,H182)","v":4620},"-",{"$f":"H196/(D196+H196)","v":0.83003952569169959}]
[{"$f":"FRA_Country194","v":"Belize"},71,71,59,"-",145,145,270,"-",0.82066869300911849]
[{"$f":"FRA_Country195","v":"Costa Rica"},1198,776,1006,75,"-",468,468,"-",0.3175033921302578]
[{"$f":"FRA_Country196","v":"El Salvador"},162,760,784,"-",4343,5196,4814,"-",0.85994998213647733]
[{"$f":"FRA_Country197","v":"Guatemala"},"-",594,800,"-","-",396,533,"-",0.39984996249062266]
[{"$f":"FRA_Country198","v":"Honduras"},887,968,1001,"-",9798,10008,9984,"-",0.90887573964497037]
[{"$f":"FRA_Country199","v":"Nicaragua"},"-",112,216,100,"-",11,33,"-",0.13253012048192772]
[{"$f":"FRA_Country200","v":"Panama"},123,60,157,"-",1606,1468,1385,"-",0.89818417639429315]
[{"$f":"FRA_Country201","v":"Central America"},"-","-",{"$f":"SUM(D197:D203)","v":4023},"-","-","-",{"$f":"SUM(H197:H203)","v":17487},"-",0.8129707112970711]
[{"$f":"FRA_Country202","v":"Canada"},188753,212012,214057,"-",7112,3292,3251,"-",1.496033279952878E-2]
[{"$f":"FRA_Country203","v":"Greenland"},"-","-","-","-","-","-","-","-"]
[{"$f":"FRA_Country204","v":"Mexico"},7653,7662,6055,100,451,547,688,100,{"$f":"H207/(D207+H207)","v":0.10203173661574967}]
[{"$f":"FRA_Country205","v":"Saint Pierre and Miquelon"},0,0,0,"-","-","-",1,100,{"$f":"H208/(D208+H208)","v":1}]
[{"$f":"FRA_Country206","v":"United States of America"},499193,495740,481006,100,97725,51779,51101,67,{"$f":"H209/(D209+H209)","v":9.6035195928638406E-2}]
[{"$f":"FRA_Country207","v":"North America"},"-","-",{"$f":"SUM(D205,D207:D209)","v":701118},"-","-","-",{"$f":"SUM(H205,H207:H209)","v":55041},"-",{"$f":"H210/(D210+H210)","v":7.2790246495776686E-2}]
[{"$f":"FRA_Country208","v":"North and Central America"},"-","-",{"$f":"D210+D204","v":705141},"-","-","-",{"$f":"H210+H204","v":72528},"-",{"$f":"H211/(D211+H211)","v":9.3263329257048944E-2}]
[{"$f":"FRA_Country209","v":"American Samoa"},"-","-","-","-","-","-","-","-"]
[{"$f":"FRA_Country210","v":"Australia"},16791,23035,26672,100,3540,5547,"-","-"]
[{"$f":"FRA_Country211","v":"Cook Islands"},0,6,6,100,"-","-","-","-"]
[{"$f":"FRA_Country212","v":"Fiji"},318,287,506,"-",17,22,190,"-",{"$f":"H215/(D215+H215)","v":0.27298850574712646}]
[{"$f":"FRA_Country213","v":"French Polynesia"},"-","-",1,100,"-","-","-","-"]
[{"$f":"FRA_Country214","v":"Guam"},"-","-","-","-","-","-","-","-"]
[{"$f":"FRA_Country215","v":"Kiribati"},"-","-","-","-","-","-","-","-"]
[{"$f":"FRA_Country216","v":"Marshall Islands"},"-","-","-","-","-","-","-","-"]
[{"$f":"FRA_Country217","v":"Micronesia (Federated States of)"},"-","-","-","-","-","-","-","-"]
[{"$f":"FRA_Country218","v":"Nauru"},"-","-","-","-","-","-","-","-"]
[{"$f":"FRA_Country219","v":"New Caledonia"},7,10,13,100,"-","-","-","-"]
[{"$f":"FRA_Country220","v":"New Zealand"},13842,21280,23734,100,"-","-","-","-"]
[{"$f":"FRA_Country221","v":"Niue"},"-","-","-","-","-","-","-","-"]
[{"$f":"FRA_Country222","v":"Norfolk Island"},"-","-","-","-","-","-","-","-"]
[{"$f":"FRA_Country223","v":"Northern Mariana Islands"},"-","-","-","-","-","-","-","-"]
[{"$f":"FRA_Country224","v":"Palau"},"-","-","-","-","-","-","-","-"]
[{"$f":"FRA_Country225","v":"Papua New Guinea"},1785,2136,2832,100,"-","-","-","-"]
[{"$f":"FRA_Country226","v":"Pitcairn"},"-","-","-","-","-","-","-","-"]
[{"$f":"FRA_Country227","v":"Samoa"},70,70,70,"-",81,81,81,"-"]
[{"$f":"FRA_Country228","v":"Solomon Islands"},371,761,1151,"-",158,159,159,"-"]
[{"$f":"FRA_Country229","v":"Tokelau"},"-","-","-","-","-","-","-","-"]
[{"$f":"FRA_Country230","v":"Tonga"},2,2,1,58,50,50,45,67]
[{"$f":"FRA_Country231","v":"Tuvalu"},"-","-","-","-","-","-","-","-"]
[{"$f":"FRA_Country232","v":"Vanuatu"},45,39,32,"-",28,89,105,"-"]
[{"$f":"FRA_Country233","v":"Wallis and Futuna Islands"},0,0,0,"-","-","-","-","-"]
[{"$f":"FRA_Country234","v":"Oceania"},"-","-",{"$f":"SUM(D235,D233,D230:D231,D215)","v":1760},"-","-","-",{"$f":"SUM(H235,H233,H230:H231,H215)","v":580},"-"]
[{"$f":"FRA_Country235","v":"Argentina"},8221,8300,11046,100,3509,3570,4489,100]
[{"$f":"FRA_Country236","v":"Bolivia (Plurinational State of)"},"-",581,871,"-","-",34,38,"-"]
[{"$f":"FRA_Country237","v":"Brazil"},115254,92102,117048,100,162348,120552,122573,100]
[{"$f":"FRA_Country238","v":"Chile"},16455,28862,36032,100,8744,13057,14240,100]
[{"$f":"FRA_Country239","v":"Colombia"},4021,2541,2106,"-",7798,10772,11225,"-"]
[{"$f":"FRA_Country240","v":"Ecuador"},3673,2200,1306,"-",3577,5844,5027,"-"]
[{"$f":"FRA_Country241","v":"Falkland Islands (malvinas)"},"-","-","-","-","-","-","-","-"]
[{"$f":"FRA_Country242","v":"French Guiana"},91,60,62,100,0,0,0,"-"]
[{"$f":"FRA_Country243","v":"Guyana"},"-",363,395,100,"-",29,21,100]
[{"$f":"FRA_Country244","v":"Paraguay"},3691,4615,4651,100,"-","-","-","-"]
[{"$f":"FRA_Country245","v":"Peru"},1090,1625,2051,"-",6586,8127,7243,"-"]
[{"$f":"FRA_Country246","v":"Suriname"},116,177,181,100,"n.s.","n.s.",2,100]
[{"$f":"FRA_Country247","v":"Uruguay"},849,1530,3243,"-",3086,2389,1863,"-"]
[{"$f":"FRA_Country248","v":"Venezuela (Bolivarian Republic of)"},"-",1034,1321,18,"-",24,6,"-"]
[{"$f":"FRA_Country249","v":"South America"},"-","-",{"$f":"SUM(D238:D243,D245:D246,D248:D251)","v":175662},"-","-","-",{"$f":"SUM(H238:H243,H245:H246,H248:H251)","v":166727},"-"]
[{"$f":"FRA_Country250","v":"World"},"-","-",{"$f":"D252+D237+D211+D196+D168+D117","v":1640991},"-","-","-",{"$f":"H252+H237+H211+H196+H168+H117","v":954000},"-"]
[]
["a   Five year averages for 1988-1992, 1998-2002 and 2003-2007 respectively."]
["* A dispute exists between the governments of Argentina and the United Kingdom of Great Britain and Northern Ireland concerning sovereignty over the Falkland Islands (Malvinas)."]

{"sheet":"FRA2020table7","index":19,"n_rows":255,"n_cols":9,"rows_kept":255,"cut":false,"hidden":true,"merged":[[0,0,0,8],[253,0,253,8]]}
["7 Forest characteristics 2020"]
["Country/area","Primary forest",null,"Other naturally regenerated forest",null,null,"Planted Forest"]
[null,"1 000 ha","% of\nforest\narea","1 000 ha","% of\nforest\narea","% of which\nintroduced\nspecies","1 000 ha","% of\nforest\narea","% of which\nintroduced\nspecies"]
[{"$f":"FRA_Country2","v":"Angola"},26743,40.150205577820351,65800.19,98.788137290492429,"-",807.2,1,"-"]
[{"$f":"FRA_Country3","v":"Botswana"},0,0,15254.7,100,"-",0,0,"-"]
[{"$f":"FRA_Country4","v":"Comoros"},0,0,32.71,99.362089914945315,0,0.21,1,100]
[{"$f":"FRA_Country5","v":"Djibouti"},0,0,5.6,96.551724137931032,"-",0.2,3,"-"]
[{"$f":"FRA_Country6","v":"Eritrea"},0,0,1011.86,95.887269488088251,0,43.4,4,90]
[{"$f":"FRA_Country7","v":"Ethiopia"},0,0,15865.2,92.950171368310052,"-",1203.3,7,"-"]
[{"$f":"FRA_Country8","v":"Kenya"},0,0,3458.3,95.768867571841184,"-",152.79,4,100]
[{"$f":"FRA_Country9","v":"Lesotho"},0,0,25.85,74.884125144843566,"-",8.67,25,100]
[{"$f":"FRA_Country10","v":"Madagascar"},2950,23.733267041089125,12117.81,97.489905316332269,"-",312,3,100]
[{"$f":"FRA_Country11","v":"Malawi"},708,31.583173484409155,2166,96.623098541285628,"-",75.7,3,100]
[{"$f":"FRA_Country12","v":"Mauritius"},20.3,52.360072220789263,20.3,52.360072220789263,"-",17.95,46,"-"]
[{"$f":"FRA_Country13","v":"Mayotte"},0,0,13.39,96.400287976961835,"-",0.55000000000000004,4,80]
[{"$f":"FRA_Country14","v":"Mozambique"},0,0,36669.49,99.797870441130669,0,74.27,0,100]
[{"$f":"FRA_Country15","v":"Namibia"},0,0,6638.9,100,"-",0,0,"-"]
[{"$f":"FRA_Country16","v":"Réunion"},53,53.839902478667213,87.74,89.130434782608688,29,10.7,11,80]
[{"$f":"FRA_Country17","v":"Seychelles"},0,0,28.52,84.629080118694361,"-",4.9000000000000004,15,"-"]
[{"$f":"FRA_Country18","v":"Somalia"},0,0,5977,99.949832775919731,"-",3,0,"-"]
[{"$f":"FRA_Country19","v":"South Africa"},428,2.5102506790286738,13906.47,81.562443365401577,0,3143.62,18,100]
[{"$f":"FRA_Country20","v":"Eswatini"},1.2,0.2411769434842029,395.67,79.522067690328811,"-",101.93,20,"-"]
[{"$f":"FRA_Country21","v":"Uganda"},0,0,1872.75,80.103939432824319,"-",465.16,20,100]
[{"$f":"FRA_Country22","v":"United Republic of Tanzania"},28508,62.319379167122094,45191.97,98.791059132145591,"-",553.04,1,"-"]
[{"$f":"FRA_Country23","v":"Zambia"},0,0,44761.91,99.883697136811861,"-",52.09,0,"-"]
[{"$f":"FRA_Country24","v":"Zimbabwe"},0,0,17336.580000000002,99.380896530612944,0,108,1,100]
[{"$f":"FRA_Country25","v":"Eastern and Southern Africa"},null,null,null,null,"-",null,null,"-"]
[{"$f":"FRA_Country26","v":"Algeria"},0,0,1439,73.832734735761932,"-",510,26,"-"]
[{"$f":"FRA_Country27","v":"Egypt"},0,0,0,0,"-",44.98,100,83]
[{"$f":"FRA_Country28","v":"Libya"},0,0,0,0,"-",217,100,"-"]
[{"$f":"FRA_Country29","v":"Mauritania"},0,0,269.3,86.093350383631716,"-",43.57,14,"-"]
[{"$f":"FRA_Country30","v":"Morocco"},0,0,5107.59,88.943820537780667,"-",634.6,11,33]
[{"$f":"FRA_Country31","v":"Sudan"},1283.6500000000001,6.9917291001141111,18229.55,99.291921642959664,"-",130,1,"n.s."]
[{"$f":"FRA_Country32","v":"Tunisia"},0,0,488.28,69.483300841005786,"-",214.48,31,30]
[{"$f":"FRA_Country33","v":"Western Sahara"},0,0,665.07,100,0,0,0,"-"]
[{"$f":"FRA_Country34","v":"Northern Africa"},null,null,null,null,"-",null,null,"-"]
[{"$f":"FRA_Country35","v":"Benin"},0,0,3112.15,99.266382788702288,"-",23,1,100]
[{"$f":"FRA_Country36","v":"Burkina Faso"},0,0,6039.3,97.151084228814113,"-",177.1,3,80]
[{"$f":"FRA_Country37","v":"Burundi"},64.78,23.165498498068949,166.67,59.601630668001718,"-",112.97,40,100]
[{"$f":"FRA_Country38","v":"Cameroon"},0,0,20279.38,99.699613775092828,"-",61.1,0,"-"]
[{"$f":"FRA_Country39","v":"Cabo Verde"},0,0,13.68,29.921259842519689,"-",32.04,70,100]
[{"$f":"FRA_Country40","v":"Central African Republic"},1988,8.913599067390038,22301,99.991032596511673,"-",2,0,100]
[{"$f":"FRA_Country41","v":"Chad"},0,0,4293,99.536285648040817,"-",19.8,0,94]
[{"$f":"FRA_Country42","v":"Congo"},0,0,21886.5,99.728879978128134,"-",59.5,0,"-"]
[{"$f":"FRA_Country43","v":"Côte d'Ivoire"},1301.51,45.880967740798319,2822.76,99.50823312922364,"-",13.95,0,"-"]
[{"$f":"FRA_Country44","v":"Democratic Republic of the Congo"},82751.509999999995,65.594984401757699,126097.5,99.95423099349658,"-",57.7,0,"-"]
[{"$f":"FRA_Country45","v":"Equatorial Guinea"},0,0,2323.4299999999998,94.895075191347871,0,125,5,0]
[{"$f":"FRA_Country46","v":"Gabon"},0,0,23500.59,99.872463940571009,0,30,0,"-"]
[{"$f":"FRA_Country47","v":"Gambia"},13,5.3570692710264973,240.89,99.26649359212098,"-",1.78,1,"-"]
[{"$f":"FRA_Country48","v":"Ghana"},385,4.8211117107934047,7688.61,96.27960444343708,"-",297.10000000000002,4,"-"]
[{"$f":"FRA_Country49","v":"Guinea"},63,1.0179350460494425,6132,99.079011148812413,"-",57,1,80]
[{"$f":"FRA_Country50","v":"Guinea-Bissau"},0,0,1979,99.948990156615366,"-",1.05,0,"-"]
[{"$f":"FRA_Country51","v":"Liberia"},0,0,7590.41,99.645156377995761,"-",27.03,0,100]
[{"$f":"FRA_Country52","v":"Mali"},0,0,12728,95.728038507821907,0,568,4,90]
[{"$f":"FRA_Country53","v":"Niger"},220,20.376030378808927,957.2,88.654255811799572,17,122.5,11,"-"]
[{"$f":"FRA_Country54","v":"Nigeria"},0,0,21410.68,98.99999768806974,0,216.27,1,44]
[{"$f":"FRA_Country55","v":"Rwanda"},0,0,126,45.652173913043477,"-",150,54,"-"]
[{"$f":"FRA_Country56","v":"Saint Helena"},0,0,2,100,"-",0,0,"-"]
[{"$f":"FRA_Country57","v":"Sao Tome and Principe"},28,53.949903660886321,51.9,100,"-",0,0,"-"]
[{"$f":"FRA_Country58","v":"Senegal"},2019.34,25.028507119343196,8036.16,99.60337920913814,"-",32,0,53]
[{"$f":"FRA_Country59","v":"Sierra Leone"},57,2.2486271539481155,2513.5700000000002,99.159329041216949,"-",21.31,1,"-"]
[{"$f":"FRA_Country60","v":"Togo"},0,0,1148.6300000000001,94.985404417541176,"-",60.7,5,"-"]
[{"$f":"FRA_Country61","v":"Western and Central Africa"},null,null,null,null,"-",null,null,"-"]
[{"$f":"FRA_Country62","v":"Africa"},null,null,null,null,"-",null,null,"-"]
[{"$f":"FRA_Country63","v":"China"},11453.33,5.2065754885325441,135281.88,61.497863106240814,5,84696.3,39,28]
[{"$f":"FRA_Country64","v":"Democratic People's Republic of Korea"},0,0,5042.75,83.626446703117196,"-",987.34,16,"-"]
[{"$f":"FRA_Country65","v":"Japan"},5346,21.439743332664928,14751,59.157810306797678,"-",10184,41,"-"]
[{"$f":"FRA_Country66","v":"Mongolia"},0,0,14165.1,99.945811619174222,"-",7.68,0,"-"]
[{"$f":"FRA_Country67","v":"Republic of Korea"},0,0,4023.68,64,"-",2263.3200000000002,36,67]
[{"$f":"FRA_Country68","v":"East Asia"},null,null,null,null,"-",null,null,"-"]
[{"$f":"FRA_Country69","v":"Bangladesh"},0,0,1725.33,91.607199745141756,"-",158.07,8,17]
[{"$f":"FRA_Country70","v":"Bhutan"},413,15.155518370102897,2704.26,99.23598573252896,"-",20.82,1,"-"]
[{"$f":"FRA_Country71","v":"Brunei Darussalam"},263,69.21052631578948,374.74,98.615789473684217,"-",5.26,1,18]
[{"$f":"FRA_Country72","v":"Cambodia"},322,3.9908928321333805,7464.4,92.514349242783851,"-",603.97,7,"-"]
[{"$f":"FRA_Country73","v":"India"},15701,21.758592017738358,58891,81.611696230598668,"-",13269,18,13]
[{"$f":"FRA_Country74","v":"Indonesia"},44740,48.560128162269415,87607.5,95.0878727755033,"-",4525.7,5,"-"]
[{"$f":"FRA_Country75","v":"Lao People's Democratic Republic"},0,0,14824.25,89.326925973908587,"-",1771.25,11,"-"]
[{"$f":"FRA_Country76","v":"Malaysia"},1086.1600000000001,5.6825244689244139,17416.919999999998,91.1210816760873,0,1697.12,9,"-"]
[{"$f":"FRA_Country77","v":"Maldives"},0,0,0.82,100,"-",0,0,"-"]
[{"$f":"FRA_Country78","v":"Myanmar"},3192,11.182778521077541,28117.63,98.506650635214754,"-",427.09,1,"-"]
[{"$f":"FRA_Country79","v":"Nepal"},526,8.8224983772305734,5741.43,96.299917980956167,13,220.6,4,23]
[{"$f":"FRA_Country80","v":"Pakistan"},0,0,3472,93.185539064387129,"-",253.9,7,"-"]
[{"$f":"FRA_Country81","v":"Philippines"},861,11.977314049069427,6808.07,94.706611449533213,"-",380.52,5,99]
[{"$f":"FRA_Country82","v":"Singapore"},0,0,15.57,100,"-",0,0,"-"]
[{"$f":"FRA_Country83","v":"Sri Lanka"},167,7.9033799964032525,1863.21,88.177584689212594,"-",249.81,12,"-"]
[{"$f":"FRA_Country84","v":"Thailand"},0,0,16336,82.201982589442963,"-",3537,18,"-"]
[{"$f":"FRA_Country85","v":"Timor-Leste"},0,0,921.1,100,"-",0,0,"-"]
[{"$f":"FRA_Country86","v":"Viet Nam"},80,0.54633277539098646,10293.719999999999,70.297457708721311,"-",4349.37,30,"-"]
[{"$f":"FRA_Country87","v":"South and South-east Asia"}]
[{"$f":"FRA_Country88","v":"Afghanistan"},0,0,1208.44,100,"-",0,0,"-"]
[{"$f":"FRA_Country89","v":"Armenia"},17,5.175510701129479,310,94.376959844125778,"-",18.47,6,"-"]
[{"$f":"FRA_Country90","v":"Azerbaijan"},0,0,826.2,73.000698021682851,"-",305.57,27,"-"]
[{"$f":"FRA_Country91","v":"Bahrain"},0,0,0,0,"-",0.7,100,"-"]
[{"$f":"FRA_Country92","v":"Cyprus"},0,0,139.78,81.017794006839395,0,32.75,19,5]
[{"$f":"FRA_Country93","v":"Georgia"},500,17.715419501133788,2750.43,97.450042517006793,0,71.97,3,0]
[{"$f":"FRA_Country94","v":"Iran (Islamic Republic of)"},200,1.8601415381696393,9750.98,90.691014679306932,"-",1000.89,9,"-"]
[{"$f":"FRA_Country95","v":"Iraq"},0,0,735.21,89.116363636363644,"-",89.79,11,"-"]
[{"$f":"FRA_Country96","v":"Israel"},0,0,55,39.285714285714285,1,85,61,30]
[{"$f":"FRA_Country97","v":"Jordan"},0,0,50.6,51.897435897435898,"-",46.9,48,"-"]
[{"$f":"FRA_Country98","v":"Kazakhstan"},66.900000000000006,1.9365035256521592,3033.93,87.820869081941026,"-",420.77,12,"-"]
[{"$f":"FRA_Country99","v":"Kuwait"},0,0,0,0,"-",6.25,100,"-"]
[{"$f":"FRA_Country100","v":"Kyrgyzstan"},487,37.023521719959248,1085.96,82.558652252580998,"-",228.71,17,"-"]
[{"$f":"FRA_Country101","v":"Lebanon"},0,0,142.93,99.720923742412609,0,0.35,0,74]
[{"$f":"FRA_Country102","v":"Occupied Palestinian Territory"},0,0,0,0,"-",0,0,"-"]
[{"$f":"FRA_Country103","v":"Oman"},0,0,2,80,"-",0.5,20,0]
[{"$f":"FRA_Country104","v":"Qatar"},0,null,0,null,"-",0,0,"-"]
[{"$f":"FRA_Country105","v":"Saudi Arabia"},360,36.847492323439099,977,100,"-",0,0,"-"]
[{"$f":"FRA_Country106","v":"Syrian Arab Republic"},0,0,310.68,59.508121360710994,0,211.4,40,17]
[{"$f":"FRA_Country107","v":"Tajikistan"},296,69.844266163284559,306.54000000000002,72.331288343558285,"-",117.41,28,4]
[{"$f":"FRA_Country108","v":"Turkey"},0,0,21503.02,96.771699468415449,"-",717.34,3,2]
[{"$f":"FRA_Country109","v":"Turkmenistan"},104,2.5199903077295858,4127,100,"-",0,0,"-"]
[{"$f":"FRA_Country110","v":"United Arab Emirates"},0,0,0,0,"-",0,0,0]
[{"$f":"FRA_Country111","v":"Uzbekistan"},210.3,5.6997121686009011,1422.98,38.566697202452261,"-",2266.6799999999998,61,"-"]
[{"$f":"FRA_Country112","v":"Yemen"},0,0,549,100,"-",0,0,"-"]
[{"$f":"FRA_Country113","v":"Western and Central Asia"}]
[{"$f":"FRA_Country114","v":"Asia"}]
[{"$f":"FRA_Country115","v":"Albania"},84.8,10.749144378248193,0,0,0,0,0,8]
[{"$f":"FRA_Country116","v":"Andorra"},0,0,16,100,"-",0,0,"-"]
[{"$f":"FRA_Country117","v":"Austria"},63,1.6157367631406845,2227.5,57.12783555390277,"-",1671.5,43,"-"]
[{"$f":"FRA_Country118","v":"Belarus"},134.80000000000001,1.5374788995848352,6555.6,74.770746840640541,0,2212,25,"n.s."]
[{"$f":"FRA_Country119","v":"Belgium"},0,0,251.2,36.442768025533148,8,438.2,64,75]
[{"$f":"FRA_Country120","v":"Bosnia and Herzegovina"},0,0,0,0,"-",0,0,"-"]
[{"$f":"FRA_Country121","v":"Bulgaria"},704,18.083740046236834,3116,80.041099409195994,6,777,20,5]
[{"$f":"FRA_Country122","v":"Croatia"},6.73,0.34706643769564394,1870.52,96.462810258314377,3,68.59,4,39]
[{"$f":"FRA_Country123","v":"Czech Republic"},9.99,0.37316638588915574,137.66,5.1421506187688868,"-",2539.4299999999998,95,"-"]
[{"$f":"FRA_Country124","v":"Denmark"},21.14,3.3638851759913435,216.44,34.440837629686207,31,412.04,66,47]
[{"$f":"FRA_Country125","v":"Estonia"},52.09,2.1362368766404201,2222.66,91.152395013123353,0,215.74,9,1]
[{"$f":"FRA_Country126","v":"Faroe Islands"},0,0,0,0,"-",0.08,100,"-"]
[{"$f":"FRA_Country127","v":"Finland"},203,0.90588602793520467,15040.92,67.119996430005799,0,7368.08,33,"n.s."]
[{"$f":"FRA_Country128","v":"France"},0,0,14819,85.892308584014373,4,2434,14,36]
[{"$f":"FRA_Country129","v":"Germany"},0,0,5709.5,50,"-",5709.5,50,8]
[{"$f":"FRA_Country130","v":"Gibraltar"},0,null,0,null,"-",0,0,"-"]
[{"$f":"FRA_Country131","v":"Greece"},0,0,3762.9,96.440104567122859,"-",138.9,4,"-"]
[{"$f":"FRA_Country132","v":"Guernsey"},0,0,0.19,45.238095238095241,"-",0.22,52,"-"]
[{"$f":"FRA_Country133","v":"Holy See"},0,null,0,null,"-",0,{"$error":"#DIV/0!"},"-"]
[{"$f":"FRA_Country134","v":"Hungary"},0,0,1264.23,61.579339603801245,48,788.78,38,41]
[{"$f":"FRA_Country135","v":"Iceland"},0,0,11.79,22.960077896786753,0,39.56,77,78]
[{"$f":"FRA_Country136","v":"Ireland"},0,0,107.8,13.784813687629471,18,674.22,86,76]
[{"$f":"FRA_Country137","v":"Isle of Man"},0,0,0,0,"-",0,0,"-"]
[{"$f":"FRA_Country138","v":"Italy"},93,0.97217997246535437,8921.09,93.25704333936504,3,644.99,7,15]
[{"$f":"FRA_Country139","v":"Jersey"},0,0,0,0,"-",0,0,"-"]
[{"$f":"FRA_Country140","v":"Latvia"},16.98,0.49783188059071359,2945.35,86.353894552288466,0,465.44,14,"n.s."]
[{"$f":"FRA_Country141","v":"Liechtenstein"},1.5,22.388059701492537,6.1,91.044776119402982,"-",0.6,9,"-"]
[{"$f":"FRA_Country142","v":"Lithuania"},26.54,1.2058155383916402,1590,72.239890958655167,0,611,28,1]
[{"$f":"FRA_Country143","v":"Luxembourg"},0,0,58.7,66.17812852311161,"-",30,34,"-"]
[{"$f":"FRA_Country144","v":"Malta"},0,0,0.42,91.304347826086953,"-",0.04,9,"-"]
[{"$f":"FRA_Country145","v":"Monaco"},0,null,0,null,"-",0,0,"-"]
[{"$f":"FRA_Country146","v":"Montenegro"},1.6,0.19347037484885127,819,99.032648125755742,"-",8,1,"-"]
[{"$f":"FRA_Country147","v":"Netherlands"},0,0,37.92,10.262516914749662,"-",331.58,90,25]
[{"$f":"FRA_Country148","v":"Norway"},200,1.6420361247947455,12072,99.113300492610833,0,108,1,18]
[{"$f":"FRA_Country149","v":"Poland"},0,0,0,0,"-",0,0,"n.s."]
[{"$f":"FRA_Country150","v":"Portugal"},0,0,1056,31.884057971014489,6,2256,68,99]
[{"$f":"FRA_Country151","v":"Republic of Moldova"},0,0,167.7,43.389391979301422,"-",218.8,57,"-"]
[{"$f":"FRA_Country152","v":"Romania"},165.23,2.3845981772393037,6033.98,87.082356167151332,"-",895.07,13,"-"]
[{"$f":"FRA_Country153","v":"Russian Federation"},255211.5,31.302326619662963,796431.5,97.684308674131458,0,18880.099999999999,2,0]
[{"$f":"FRA_Country154","v":"San Marino"},0,0,1,100,"-",0,0,"-"]
[{"$f":"FRA_Country155","v":"Serbia"},1,3.6728922189778336E-2,2606.8200000000002,95.74568894275798,"-",115.83,4,"-"]
[{"$f":"FRA_Country156","v":"Slovakia"},10.58,0.5493535489900826,1177.3599999999999,61.132976790072171,3,748.54,39,2]
[{"$f":"FRA_Country157","v":"Slovenia"},33.6,2.7144276677734425,1192.1400000000001,96.308863091054519,0,45.69,4,"-"]
[{"$f":"FRA_Country158","v":"Spain"},0,0,15982.08,86.053918308953669,3,2590.1,14,37]
[{"$f":"FRA_Country159","v":"Svalbard and Jan Mayen Islands"},0,null,0,null,"-",0,0,"-"]
[{"$f":"FRA_Country160","v":"Sweden"},2249,8.0378842030021449,14068,50.278770550393133,0,13912,50,18]
[{"$f":"FRA_Country161","v":"Switzerland"},42.86,3.3771698276745123,1119.96,88.247669626746315,"n.s.",148.94999999999999,12,2]
[{"$f":"FRA_Country162","v":"North Macedonia"},0,0,0,0,"-",0,0,"-"]
[{"$f":"FRA_Country163","v":"Ukraine"},59,0.60887512899896801,4842,49.969040247678024,"-",4848,50,"-"]
[{"$f":"FRA_Country164","v":"United Kingdom"},0,0,344,10.78369905956113,0,2846,89,64]
[{"$f":"FRA_Country165","v":"Europe"}]
[{"$f":"FRA_Country166","v":"Anguilla"},0,0,0,0,"-",0,0,"-"]
[{"$f":"FRA_Country167","v":"Antigua and Barbuda"},0,0,0,0,"-",0,0,"-"]
[{"$f":"FRA_Country168","v":"Aruba"},0,0,0.42,100,"-",0,0,"-"]
[{"$f":"FRA_Country169","v":"Bahamas"},0,0,509.86,100,"-",0,0,"-"]
[{"$f":"FRA_Country170","v":"Barbados"},0,0,6.3,100,"-",0,0,100]
[{"$f":"FRA_Country171","v":"Bermuda"},0,0,0,0,"-",0,0,"-"]
[{"$f":"FRA_Country172","v":"British Virgin Islands"},0,0,0,0,"-",0,0,"-"]
[{"$f":"FRA_Country173","v":"Cayman Islands"},0,0,12.72,100,"-",0,0,"-"]
[{"$f":"FRA_Country174","v":"Cuba"},0,0,2709.34,83.570018507094389,0,532.66,16,28]
[{"$f":"FRA_Country175","v":"Dominica"},26.3,54.940463756005855,47.06,98.307917275955731,"-",0.81,2,"-"]
[{"$f":"FRA_Country176","v":"Dominican Republic"},0,0,1954.09,91.138006622825429,"-",190.01,9,"-"]
[{"$f":"FRA_Country177","v":"Grenada"},2.3199999999999998,13.107344632768362,17.489999999999998,98.813559322033896,"-",0.21,1,"-"]
[{"$f":"FRA_Country178","v":"Guadeloupe"},6.9,9.5939933259176868,71.42,99.304783092324797,"-",0.5,1,98]
[{"$f":"FRA_Country179","v":"Haiti"},0,0,315.3,90.786063921681546,"-",32,9,"-"]
[{"$f":"FRA_Country180","v":"Jamaica"},82.96,13.898708304712759,588.51,98.596056224765022,5,8.3800000000000008,1,100]
[{"$f":"FRA_Country181","v":"Martinique"},2.8,5.3547523427041499,49.59,94.836488812392446,0,2.7,5,100]
[{"$f":"FRA_Country182","v":"Montserrat"},0,0,2.5,100,0,0,0,"-"]
[{"$f":"FRA_Country183","v":"Netherlands Antilles"},null,null,null,null,"-",null,0,"-"]
[{"$f":"FRA_Country184","v":"Puerto Rico"},0,0,496.33,100,"-",0,0,"-"]
[{"$f":"FRA_Country185","v":"Saint Kitts and Nevis"},0,0,0,0,"-",0,0,"-"]
[{"$f":"FRA_Country186","v":"Saint Lucia"},0,0,17.45,84.015406836783825,"-",3.15,15,"-"]
[{"$f":"FRA_Country187","v":"Saint Martin (French part)"},0,0,1.24,100,"-",0,0,"-"]
[{"$f":"FRA_Country188","v":"Saint Vincent and the Grenadines"},0,0,28.24,98.948843728100911,"-",0.3,1,"-"]
[{"$f":"FRA_Country189","v":"Saint-Barthélemy"},0,0,0.17,100,"-",0,0,"-"]
[{"$f":"FRA_Country190","v":"Trinidad and Tobago"},62.4,27.345633025110654,147.49,64.634734212717476,0,80.7,35,83]
[{"$f":"FRA_Country191","v":"Turks and Caicos Islands"},0,0,10.52,100,"-",0,0,"-"]
[{"$f":"FRA_Country192","v":"United States Virgin Islands"},0,0,19.91,100,0,0,0,"-"]
[{"$f":"FRA_Country193","v":"Caribbean"}]
[{"$f":"FRA_Country194","v":"Belize"},0,0,1274.67,99.813632982263826,"-",2.39,0,"-"]
[{"$f":"FRA_Country195","v":"Costa Rica"},0,0,2948.27,97.14650050908277,"-",86.6,3,"-"]
[{"$f":"FRA_Country196","v":"El Salvador"},0,0,566.27,96.98396930876207,0,17.61,3,91]
[{"$f":"FRA_Country197","v":"Guatemala"},658.06,18.653551788650148,3375.89,95.693916888712508,"-",151.91999999999999,4,"-"]
[{"$f":"FRA_Country198","v":"Honduras"},0,0,6359.26,100,"-",0,0,"-"]
[{"$f":"FRA_Country199","v":"Nicaragua"},0,0,3341.27,98.055483003818011,"-",66.260000000000005,2,"-"]
[{"$f":"FRA_Country200","v":"Panama"},0,0,4148.1000000000004,98.439902796499155,"-",65.739999999999995,2,79]
[{"$f":"FRA_Country201","v":"Central America"}]
[{"$f":"FRA_Country202","v":"Canada"},205130.73,59.127735689325831,328764.71000000002,94.764508842033862,"-",18163.39,5,"-"]
[{"$f":"FRA_Country203","v":"Greenland"},0,0,0,0,"-",0.22,100,100]
[{"$f":"FRA_Country204","v":"Mexico"},32040.16,48.773246333500168,65591.7,99.847196191687033,"-",100.38,0,"-"]
[{"$f":"FRA_Country205","v":"Saint Pierre and Miquelon"},0,0,1.22,100,0,0,0,"-"]
[{"$f":"FRA_Country206","v":"United States of America"},75300,24.306396165206024,282274,91.116383414838836,"n.s.",27521,9,2]
[{"$f":"FRA_Country207","v":"North America"}]
[{"$f":"FRA_Country208","v":"North and Central America"}]
[{"$f":"FRA_Country209","v":"American Samoa"},0.09,0.52539404553415059,17.13,100,"-",0,0,"-"]
[{"$f":"FRA_Country210","v":"Australia"},0,0,131614.79999999999,98.216261918389662,0,2390.3000000000002,2,53]
[{"$f":"FRA_Country211","v":"Cook Islands"},0,0,14.4,92.366901860166777,"-",1.1000000000000001,7,"-"]
[{"$f":"FRA_Country212","v":"Fiji"},0,0,933.14,81.852949948246518,0,206.88,18,100]
[{"$f":"FRA_Country213","v":"French Polynesia"},40,26.763013515321827,140,93.670547303626378,"-",9.4600000000000009,6,"-"]
[{"$f":"FRA_Country214","v":"Guam"},0,0,28,100,"-",0,0,"-"]
[{"$f":"FRA_Country215","v":"Kiribati"},0,0,0,0,0,0,0,"-"]
[{"$f":"FRA_Country216","v":"Marshall Islands"},5.76,61.276595744680847,6.27,66.702127659574458,"-",3.13,33,"-"]
[{"$f":"FRA_Country217","v":"Micronesia (Federated States of)"},48.37,75.085377212045941,50.21,77.941633033219489,"-",14.21,22,"-"]
[{"$f":"FRA_Country218","v":"Nauru"},0,null,0,null,"-",0,0,"-"]
[{"$f":"FRA_Country219","v":"New Caledonia"},337.6,40.285434715161934,827.73,98.772105677668804,"-",10.39,1,94]
[{"$f":"FRA_Country220","v":"New Zealand"},1971,19.92400372399948,7808.1,78.928773961116349,"-",2084.48,21,100]
[{"$f":"FRA_Country221","v":"Niue"},5.4,28.616852146263909,18.87,100,0,0.01,0,100]
[{"$f":"FRA_Country222","v":"Norfolk Island"},0,0,0.44,89.795918367346943,"-",0.05,10,"-"]
[{"$f":"FRA_Country223","v":"Northern Mariana Islands"},0,0,24.36,100,"-",0,0,"-"]
[{"$f":"FRA_Country224","v":"Palau"},0,0,0,0,"-",0,0,"-"]
[{"$f":"FRA_Country225","v":"Papua New Guinea"},0,0,35795.57,99.832132968315264,"-",60.75,0,"-"]
[{"$f":"FRA_Country226","v":"Pitcairn"},0,0,0,0,"-",0,0,"-"]
[{"$f":"FRA_Country227","v":"Samoa"},0,0,156.69999999999999,96.925836580689065,"-",5.04,3,"-"]
[{"$f":"FRA_Country228","v":"Solomon Islands"},0,0,2498.6999999999998,99.038038502241406,0,24.27,1,66]
[{"$f":"FRA_Country229","v":"Tokelau"},0,null,0,null,"-",0,0,"-"]
[{"$f":"FRA_Country230","v":"Tonga"},4,44.692737430167604,7.95,88.826815642458115,"-",1,11,100]
[{"$f":"FRA_Country231","v":"Tuvalu"},0,0,1,100,"-",0,0,"-"]
[{"$f":"FRA_Country232","v":"Vanuatu"},205,46.348632150124345,0,0,"-",0,0,"-"]
[{"$f":"FRA_Country233","v":"Wallis and Futuna Islands"},0,0,5.16,88.507718696397944,"-",0.63,11,"-"]
[{"$f":"FRA_Country234","v":"Oceania"}]
[{"$f":"FRA_Country235","v":"Argentina"},0,0,27137,94.974276414797188,0,1436,5,98]
[{"$f":"FRA_Country236","v":"Bolivia (Plurinational State of)"},0,0,50771.16,99.87685349263954,"-",62.6,0,100]
[{"$f":"FRA_Country237","v":"Brazil"},216187,43.531709179420226,485396,97.740000596029645,"-",11223.6,2,96]
[{"$f":"FRA_Country238","v":"Chile"},5347.67,29.365537843136174,15026.03,82.51209453782667,"-",3184.7,17,100]
[{"$f":"FRA_Country239","v":"Colombia"},0,0,58714.51,99.277331421998369,"-",427.4,1,"-"]
[{"$f":"FRA_Country240","v":"Ecuador"},0,0,12386.79,99.111525760872098,"-",111.01,1,100]
[{"$f":"FRA_Country241","v":"Falkland Islands (malvinas)"},0,null,0,null,"-",0,0,"-"]
[{"$f":"FRA_Country242","v":"French Guiana"},7640,95.465990240976652,8002.05,99.990003561231305,0,0.8,0,100]
[{"$f":"FRA_Country243","v":"Guyana"},9477,51.462530694518804,18415.34,100,"-",0,0,"-"]
[{"$f":"FRA_Country244","v":"Paraguay"},0,0,15946.6,99.033303399647011,0,155.66,1,"-"]
[{"$f":"FRA_Country245","v":"Peru"},0,0,71241.899999999994,98.495141114306477,"-",1088.47,2,"-"]
[{"$f":"FRA_Country246","v":"Suriname"},14833.29,97.611259063889932,15182.14,99.906885167366497,0,14.15,0,54]
[{"$f":"FRA_Country247","v":"Uruguay"},340,16.740521910388971,849,41.802067946824224,"-",1182,58,100]
[{"$f":"FRA_Country248","v":"Venezuela (Bolivarian Republic of)"},44872.75,97.062246246558033,44872.75,97.062246246558033,"-",1358.15,3,"-"]
[{"$f":"FRA_Country249","v":"South America"},"-","-","-","-","-","-","-","-"]
[{"$f":"FRA_Country250","v":"World"},"-","-","-","-","-","-","-","-"]
[]
["Note: Due to the structure of the table on forest characteristics, a reported zero for primary forest may be due to lack of data rather than a complete\n         lack of primary forest."]
["* A dispute exists between the governments of Argentina and the United Kingdom of Great Britain and Northern Ireland concerning sovereignty over the Falkland Islands (Malvinas)."]

{"sheet":"FAOSTAT_FHR","index":20,"n_rows":210,"n_cols":74,"rows_kept":210,"cut":false,"hidden":true,"merged":[[1,0,1,1],[1,2,1,3],[3,0,3,1],[3,2,3,3]]}
["FAOSTAT 2019"]
["Elements  ",null,"Areas  ",null,{"$f":"title54&\"(C) + (Total)\"","v":"Industrial roundwood(C) + (Total)"},"Industrial roundwood(C) + (Total)","Industrial roundwood(C) + (Total)","Industrial roundwood(C) + (Total)","Industrial roundwood(C) + (Total)","Industrial roundwood(C) + (Total)","Industrial roundwood(C) + (Total)","Industrial roundwood(C) + (Total)","Industrial roundwood(C) + (Total)","Industrial roundwood(C) + (Total)","Industrial roundwood(C) + (Total)",{"$f":"title54&\"(NC) + (Total)\"","v":"Industrial roundwood(NC) + (Total)"},"Industrial roundwood(NC) + (Total)","Industrial roundwood(NC) + (Total)","Industrial roundwood(NC) + (Total)","Industrial roundwood(NC) + (Total)","Industrial roundwood(NC) + (Total)","Industrial roundwood(NC) + (Total)","Industrial roundwood(NC) + (Total)","Industrial roundwood(NC) + (Total)","Industrial roundwood(NC) + (Total)","Industrial roundwood(NC) + (Total)",{"$f":"title68","v":"Wood Fuel(C)"},"Wood Fuel(C)","Wood Fuel(C)","Wood Fuel(C)","Wood Fuel(C)","Wood Fuel(C)","Wood Fuel(C)","Wood Fuel(C)","Wood Fuel(C)","Wood Fuel(C)","Wood Fuel(C)",{"$f":"title70","v":"Wood Fuel(NC)"},"Wood Fuel(NC)","Wood Fuel(NC)","Wood Fuel(NC)","Wood Fuel(NC)","Wood Fuel(NC)","Wood Fuel(NC)","Wood Fuel(NC)","Wood Fuel(NC)","Wood Fuel(NC)","Wood Fuel(NC)",null,{"$f":"title41","v":"Roundwood + (Total)"},"Roundwood + (Total)","Roundwood + (Total)","Roundwood + (Total)","Roundwood + (Total)","Roundwood + (Total)","Roundwood + (Total)","Roundwood + (Total)","Roundwood + (Total)","Roundwood + (Total)","Roundwood + (Total)","Roundwood + (Total)",null,{"$f":"title42","v":"Wood Fuel + (Total)"},"Wood Fuel + (Total)","Wood Fuel + (Total)","Wood Fuel + (Total)","Wood Fuel + (Total)","Wood Fuel + (Total)","Wood Fuel + (Total)","Wood Fuel + (Total)","Wood Fuel + (Total)","Wood Fuel + (Total)","Wood Fuel + (Total)","Wood Fuel + (Total)"]
[null,null,null,null,{"$f":"CONCATENATE(E2,E4)","v":"Industrial roundwood(C) + (Total)avg"},"Industrial roundwood(C) + (Total)2011","Industrial roundwood(C) + (Total)2012","Industrial roundwood(C) + (Total)2013","Industrial roundwood(C) + (Total)2014","Industrial roundwood(C) + (Total)2015","Industrial roundwood(C) + (Total)2016","Industrial roundwood(C) + (Total)2017","Industrial roundwood(C) + (Total)2018","Industrial roundwood(C) + (Total)2019","Industrial roundwood(C) + (Total)2020","Industrial roundwood(NC) + (Total)avg","Industrial roundwood(NC) + (Total)2011","Industrial roundwood(NC) + (Total)2012","Industrial roundwood(NC) + (Total)2013","Industrial roundwood(NC) + (Total)2014","Industrial roundwood(NC) + (Total)2015","Industrial roundwood(NC) + (Total)2016","Industrial roundwood(NC) + (Total)2017","Industrial roundwood(NC) + (Total)2018","Industrial roundwood(NC) + (Total)2019","Industrial roundwood(NC) + (Total)2020","Wood Fuel(C)avg","Wood Fuel(C)2011","Wood Fuel(C)2012","Wood Fuel(C)2013","Wood Fuel(C)2014","Wood Fuel(C)2015","Wood Fuel(C)2016","Wood Fuel(C)2017","Wood Fuel(C)2018","Wood Fuel(C)2019",{"$f":"CONCATENATE(AK2,AK4)","v":"Wood Fuel(C)2020"},"Wood Fuel(NC)avg","Wood Fuel(NC)2011","Wood Fuel(NC)2012","Wood Fuel(NC)2013","Wood Fuel(NC)2014","Wood Fuel(NC)2015","Wood Fuel(NC)2016","Wood Fuel(NC)2017","Wood Fuel(NC)2018","Wood Fuel(NC)2019","Wood Fuel(NC)2020","","Roundwood + (Total)1990","Roundwood + (Total)2000","Roundwood + (Total)2011","Roundwood + (Total)2012","Roundwood + (Total)2013","Roundwood + (Total)2014","Roundwood + (Total)2015","Roundwood + (Total)2016","Roundwood + (Total)2017","Roundwood + (Total)2018","Roundwood + (Total)2019","Roundwood + (Total)2020","","Wood Fuel + (Total)1990","Wood Fuel + (Total)2000","Wood Fuel + (Total)2011","Wood Fuel + (Total)2012","Wood Fuel + (Total)2013","Wood Fuel + (Total)2014",{"$f":"CONCATENATE(BQ2,BQ4)","v":"Wood Fuel + (Total)2015"},"Wood Fuel + (Total)2016","Wood Fuel + (Total)2017","Wood Fuel + (Total)2018","Wood Fuel + (Total)2019","Wood Fuel + (Total)2020"]
[null,null,null,null,"avg",2011,2012,2013,2014,2015,2016,2017,2018,2019,2020,"avg",2011,2012,2013,2014,2015,2016,2017,2018,2019,2020,"avg",2011,2012,2013,2014,2015,2016,2017,2018,2019,2020,"avg",2011,2012,2013,2014,2015,2016,2017,2018,2019,2020,null,1990,2000,2011,2012,2013,2014,2015,2016,2017,2018,2019,2020,null,1990,2000,2011,2012,2013,2014,2015,2016,2017,2018,2019,2020]
["Production (m3)",5516,{"$f":"FAO_Country251","v":"Afghanistan"},2,{"$f":"IFERROR(AVERAGE(F5:O5),\"\")","v":999000},999000,999000,999000,999000,999000,999000,999000,999000,999000,999000,{"$f":"IFERROR(AVERAGE(Q5:Z5),\"\")","v":761000},761000,761000,761000,761000,761000,761000,761000,761000,761000,761000,{"$f":"IFERROR(AVERAGE(AB5:AK5),\"\")","v":540550.19999999995},498857,508207,517770,527549,537551,547167,556996,567044,567044,577317,{"$f":"IFERROR(AVERAGE(AM5:AV5),\"\")","v":1260447.2},1156460,1185732,1208042,1230860,1254196,1276630,1299563,1323007,1323007,1346975,null,2155220,3038720,3415317,3453939,3485812,3518409,3551747,3583797,3616559,3650051,3650051,3684292,null,691216,1278720,1655317,1693939,1725812,1758409,1791747,1823797,1856559,1890051,1890051,1924292]
["Production (m3)",5516,{"$f":"FAO_Country252","v":"Albania"},3,{"$f":"IFERROR(AVERAGE(F6:O6),\"\")","v":30669.4},30667,30667,30670,30670,30670,30670,30670,30670,30670,30670,49338.6,49333,49333,49340,49340,49340,49340,49340,49340,49340,49340,0,0,0,0,0,0,0,0,0,0,0,1100000,1100000,1100000,1100000,1100000,1100000,1100000,1100000,1100000,1100000,1100000,null,2076000,447000,1180000,1180000,1180010,1180010,1180010,1180010,1180010,1180010,1180010,1180010,null,1556000,324000,1100000,1100000,1100000,1100000,1100000,1100000,1100000,1100000,1100000,1100000]
["Production (m3)",5516,{"$f":"FAO_Country253","v":"Algeria"},4,116000,116000,116000,116000,116000,116000,116000,116000,116000,116000,116000,22600,22600,22600,22600,22600,22600,22600,22600,22600,22600,22600,5820736.5,5628790,5676922,5725618,5774886,5824732,5859230,5894056,5929213,5929213,5964705,2706642.3,2617387,2639768,2662412,2685322,2708500,2724542,2740736,2757084,2757084,2773588,null,5900620,7236140,8384777,8455290,8526630,8598808,8671832,8722372,8773392,8824897,8824897,8876893,null,5639620,7074140,8246177,8316690,8388030,8460208,8533232,8583772,8634792,8686297,8686297,8738293]
["Production (m3)",5516,{"$f":"FAO_Country254","v":"Andorra"},6,"",null,null,null,null,null,null,null,null,null,null,"",null,null,null,null,null,null,null,null,null,null,0,0,0,0,0,0,0,0,0,0,0,0,0,0,0,0,0,0,0,0,0,0,null," "," ",0,0,0,0,0,0,0,0,0,0,null," "," ",0,0,0,0,0,0,0,0,0,0]
["Production (m3)",5516,{"$f":"FAO_Country255","v":"Angola"},7,"",null,null,null,null,null,null,null,null,null,null,1202400,1134000,1141000,1151000,1165000,1213000,1220000,1250000,1250000,1250000,1250000,0,0,0,0,0,0,0,0,0,0,0,4514525.7,4100538,4194293,4290681,4389785,4491689,4583131,4676932,4773161,4773161,4871886,null,3185010,4259120,5234538,5335293,5441681,5554785,5704689,5803131,5926932,6023161,6023161,6121886,null,2342010,3163220,4100538,4194293,4290681,4389785,4491689,4583131,4676932,4773161,4773161,4871886]
["Production (m3)",5516,{"$f":"FAO_Country256","v":"Anguilla"},258,"",null,null,null,null,null,null,null,null,null,null,"",null,null,null,null,null,null,null,null,null,null,"",null,null,null,null,null,null,null,null,null,null,"",null,null,null,null,null,null,null,null,null,null,null," "," ",null,null,null,null,null,null,null,null,null,null,null," "," "]
["Production (m3)",5516,{"$f":"FAO_Country257","v":"Argentina"},9,7562920.5999999996,5833000,7472000,8134000,6376086,6743000,7100000,8492780,8492780,8492780,8492780,5126360.5999999996,4235000,5046000,5532000,4564446,5027000,5582000,5319290,5319290,5319290,5319290,23499.200000000001,41000,17000,29000,36000,35000,50000,6748,6748,6748,6748,4202296.4000000004,4515000,3961000,4566000,4056800,4416000,4247000,4065291,4065291,4065291,4065291,null,10230000,10703800,14624000,16496000,18261000,15033332,16221000,16979000,17884109,17884109,17884109,17884109,null,3097050,2993380,4556000,3978000,4595000,4092800,4451000,4297000,4072039,4072039,4072039,4072039]
["Production (m3)",5516,{"$f":"FAO_Country258","v":"Armenia"},1,0,0,0,0,0,0,0,0,0,0,0,1465.2,1000,2000,1100,1100,1900,2200,2100,2200,1000,52,0,0,0,0,0,0,0,0,0,0,0,1651600,2074000,2074000,1546000,1546000,1546000,1546000,1546000,1546000,1546000,1546000,null," ",57400,2075000,2076000,1547100,1547100,1547900,1548200,1548100,1548200,1547000,1546052,null," ",57400,2074000,2074000,1546000,1546000,1546000,1546000,1546000,1546000,1546000,1546000]
["Production (m3)",5516,{"$f":"FAO_Country259","v":"Aruba"},22,"",null,null,null,null,null,null,null,null,null,null,"",null,null,null,null,null,null,null,null,null,null,0,0,0,0,0,0,0,0,0,0,0,2105.5,1808,1872,1872,2005,2075,2153,2233,2317,2317,2403,null,1194,1282,1808,1872,1872,2005,2075,2153,2233,2317,2317,2403,null,1194,1282,1808,1872,1872,2005,2075,2153,2233,2317,2317,2403]
["Production (m3)",5516,{"$f":"FAO_Country260","v":"Australia"},10,15811470.800000001,14981000,13948000,13550000,14368000,14929063,16346049,17690881,17580008,17580008,17141699,12886535.199999999,11551000,9549000,9029000,10899000,12360901,13736970,15452213,15359296,15359296,15568676,26248.1,28000,29000,29000,29000,24614,24304,24828,24582,24582,24571,4337810.5,4834000,4716000,4716000,4716000,4071670,4020288,4106987,4066315,4066315,4064530,null,20758300,31181000,31394000,28242000,27324000,30012000,31386248,34127611,37274909,37030201,37030201,36799476,null,3545310,6774000,4862000,4745000,4745000,4745000,4096284,4044592,4131815,4090897,4090897,4089101]
["Production (m3)",5516,{"$f":"FAO_Country261","v":"Austria"},11,11753649.6,12783575,11936747,11560131,11067680,11571481,11144513,11721906,12820998,12342524,10586941,960566,846957,894471,872632,962040,998981,1028568,1016499,1127842,982156,875514,3044579,2943685,2995787,2859041,2854150,2999342,2709688,2872955,3217600,3634197,3359345,2045172.2,2121454,2193675,2097931,2204690,1979722,1880264,2035758,2025620,1944838,1967770,null,16773000,13276000,18695671,18020680,17389735,17088560,17549526,16763033,17647118,19192060,18903715,16789570,null,2613000,2860000,5065139,5189462,4956972,5058840,4979064,4589952,4908713,5243220,5579035,5327115]
["Production (m3)",5516,{"$f":"FAO_Country262","v":"Azerbaijan"},52,0,0,0,0,0,0,0,0,0,0,0,3300,3300,3300,3300,3300,3300,3300,3300,3300,3300,3300,0,0,0,0,0,0,0,0,0,0,0,338240,3200,3200,422000,422000,422000,422000,422000,422000,422000,422000,null," ",13500,6500,6500,425300,425300,425300,425300,425300,425300,425300,425300,null," ",6400,3200,3200,422000,422000,422000,422000,422000,422000,422000,422000]
["Production (m3)",5516,{"$f":"FAO_Country263","v":"Bahamas"},12,15000,15000,15000,15000,15000,15000,15000,15000,15000,15000,15000,2000,2000,2000,2000,2000,2000,2000,2000,2000,2000,2000,"",null,null,null,null,null,null,null,null,null,null,33624.300000000003,33187,33312,33441,33574,33711,33744,33779,33818,33818,33859,null,143817,48127,50187,50312,50441,50574,50711,50744,50779,50818,50818,50859,null,28817,31127,33187,33312,33441,33574,33711,33744,33779,33818,33818,33859]
["Production (m3)",5516,{"$f":"FAO_Country264","v":"Bahrain"},13,"",null,null,null,null,null,null,null,null,null,null,"",null,null,null,null,null,null,null,null,null,null,0,null,0,0,0,0,0,0,0,0,0,7040.2,6680,6767,6855,6944,7035,7107,7180,7253,7253,7328,null,4285,5590,6680,6767,6855,6944,7035,7107,7180,7253,7253,7328,null,4285,5590,6680,6767,6855,6944,7035,7107,7180,7253,7253,7328]
["Production (m3)",5516,{"$f":"FAO_Country265","v":"Bangladesh"},16,"",null,null,null,null,null,null,null,null,null,null,411009.9,420000,420000,420000,412000,414000,408000,402000,404666,404666,404767,0,0,0,0,0,0,0,0,0,0,0,26336481.600000001,27127819,26970764,26815639,26662413,26511057,26255531,26003391,25754580,25754580,25509042,null,28383100,28458900,27547819,27390764,27235639,27074413,26925057,26663531,26405391,26159246,26159246,25913809,null,27742100,27835900,27127819,26970764,26815639,26662413,26511057,26255531,26003391,25754580,25754580,25509042]
["Production (m3)",5516,{"$f":"FAO_Country266","v":"Barbados"},14,"",null,null,null,null,null,null,null,null,null,null,6000,6000,6000,6000,6000,6000,6000,6000,6000,6000,6000,0,0,0,0,0,0,0,0,0,0,0,4832.7,4972,4940,4909,4878,4847,4812,4777,4742,4742,4708,null,5658,10423,10972,10940,10909,10878,10847,10812,10777,10742,10742,10708,null,5658,5423,4972,4940,4909,4878,4847,4812,4777,4742,4742,4708]
["Production (m3)",5516,{"$f":"FAO_Country267","v":"Belarus"},57,9576610.5,5428000,7105000,7431600,7728000,7728000,9422301,11298484,13236900,12954100,13433720,3241100.1,2644600,3519000,3457700,3596000,3596000,3210000,2824431,2996800,3008000,3558470,5955964.5,734845,4924000,4963000,5360000,5360000,5801100,7586700,9708500,8195700,6925800,2586205.5,1556755,2519000,2670000,2884000,2884000,2637700,2092400,2647800,2838500,3131900,null," ",6135800,10364200,18067000,18522300,19568000,19568000,21071101,23802015,28590000,26996300,27049890,null," ",928200,2291600,7443000,7633000,8244000,8244000,8438800,9679100,12356300,11034200,10057700]
["Production (m3)",5516,{"$f":"FAO_Country269","v":"Belgium"},255,3408570.4,3231252,3231252,3615400,3515400,3515400,3515400,3515400,3315400,3315400,3315400,1003991.2,1003996,1003996,1003990,1003990,1003990,1003990,1003990,1003990,1003990,1003990,61569.8,61569,61569,61570,61570,61570,61570,61570,61570,61570,61570,831180.80000000005,831184,831184,831180,831180,831180,831180,831180,831180,831180,831180,null," ",4510000,5128001,5128001,5512140,5412140,5412140,5412140,5412140,5212140,5212140,5212140,null," ",550000,892753,892753,892750,892750,892750,892750,892750,892750,892750,892750]
["Production (m3)",5516,{"$f":"FAO_Country270","v":"Belize"},23,8000,8000,8000,8000,8000,8000,8000,8000,8000,8000,8000,33000,33000,33000,33000,33000,33000,33000,33000,33000,33000,33000,0,0,0,0,0,0,0,0,0,0,0,126000,126000,126000,126000,126000,126000,126000,126000,126000,126000,126000,null,187600,187600,167000,167000,167000,167000,167000,167000,167000,167000,167000,167000,null,126000,126000,126000,126000,126000,126000,126000,126000,126000,126000,126000,126000]
["Production (m3)",5516,{"$f":"FAO_Country271","v":"Benin"},53,"",null,null,null,null,null,null,null,null,null,null,417343.7,467000,522000,471000,498000,292157,384656,384656,384656,384656,384656,0,0,0,0,0,0,0,0,0,0,0,6499023.5,6317761,6362592,6409015,6457050,6506720,6536492,6567527,6599832,6599832,6633414,null,5853160,6242330,6784761,6884592,6880015,6955050,6798877,6921148,6952183,6984488,6984488,7018070,null,5579160,5910330,6317761,6362592,6409015,6457050,6506720,6536492,6567527,6599832,6599832,6633414]
["Production (m3)",5516,{"$f":"FAO_Country272","v":"Bhutan"},18,33000,33000,33000,33000,33000,33000,33000,33000,33000,33000,33000,92651.6,95000,95000,91340,92168,92168,92168,92168,92168,92168,92168,0,0,0,0,0,0,0,0,0,0,0,5112482.3,4897103,4950401,5004420,5059168,5114657,5154644,5195086,5235991,5235991,5277362,null,3903810,4354800,5025103,5078401,5128760,5184336,5239825,5279812,5320254,5361159,5361159,5402530,null,3855110,4220800,4897103,4950401,5004420,5059168,5114657,5154644,5195086,5235991,5235991,5277362]
["Production (m3)",5516,{"$f":"FAO_Country273","v":"Bolivia (Plurinational State of)"},19,37000,30000,30000,30000,40000,40000,40000,40000,40000,40000,40000,970300,913000,913000,913000,913000,913000,913000,913000,913000,913000,1486000,0,0,0,0,0,0,0,0,0,0,0,2439871.2999999998,2367861,2386260,2405041,2424208,2443766,2455293,2467042,2479015,2479015,2491212,null,2292880,2609910,3310861,3329260,3348041,3377208,3396766,3408293,3420042,3432015,3432015,4017212,null,1921380,2141910,2367861,2386260,2405041,2424208,2443766,2455293,2467042,2479015,2479015,2491212]
["Production (m3)",5516,{"$f":"FAO_Country274","v":"Bosnia and Herzegovina"},80,2057896.2,1791000,1827000,2013000,2073900,2060450,2245240,2033000,2309079,2106293,2120000,812119.4,885000,845000,833000,730400,898990,826770,851000,749327,802707,699000,4395,3000,3000,2000,2000,4580,2070,1300,12000,9000,5000,1474861,1492000,1415000,1487000,1345900,1457690,1499020,1490000,1543000,1540000,1479000,null," ",4282000,4171000,4090000,4335000,4152200,4421710,4573100,4375300,4613406,4458000,4303000,null," ",950000,1495000,1418000,1489000,1347900,1462270,1501090,1491300,1555000,1549000,1484000]
["Production (m3)",5516,{"$f":"FAO_Country275","v":"Botswana"},20,"",null,null,null,null,null,null,null,null,null,null,105000,105000,105000,105000,105000,105000,105000,105000,105000,105000,105000,0,0,0,0,0,0,0,0,0,0,0,696045,686401,689538,692706,695906,699139,699218,699300,699385,699385,699472,null,687128,740448,791401,794538,797706,800906,804139,804218,804300,804385,804385,804472,null,603128,635448,686401,689538,692706,695906,699139,699218,699300,699385,699385,699472]
["Production (m3)",5516,{"$f":"FAO_Country276","v":"Brazil"},21,44044200,44799000,48304000,46998000,41932000,39178000,42647000,45926000,44429000,44429000,41800000,101803300,95170000,98500000,95635000,95752000,96999000,102455000,105029000,113652000,113652000,101189000,3405795,5425000,3255000,3340000,1556000,3286950,3000000,4012000,3442000,3442000,3299000,116365605,107750000,116710000,114783000,119993000,108420050,119000000,117000000,120000000,120000000,120000000,null,194578000,235402000,253144000,266769000,260756000,259233000,247884000,267102000,271967000,281523000,281523000,266288000,null,120301000,132408000,113175000,119965000,118123000,121549000,111707000,122000000,121012000,123442000,123442000,123299000]
["Production (m3)",5516,{"$f":"FAO_Country277","v":"British Virgin Islands"},239,"",null,null,null,null,null,null,null,null,null,null,"",null,null,null,null,null,null,null,null,null,null,0,0,0,0,0,0,0,0,0,0,0,1546.4,1416,1445,1476,1507,1539,1568,1598,1628,1628,1659,null,896,1032,1416,1445,1476,1507,1539,1568,1598,1628,1628,1659,null,896,1032,1416,1445,1476,1507,1539,1568,1598,1628,1628,1659]
["Production (m3)",5516,{"$f":"FAO_Country278","v":"Brunei Darussalam"},26,0,0,0,0,0,0,0,0,0,0,0,89791.6,107300,107300,107300,107300,85000,80000,65546,79390,79390,79390,0,0,0,0,0,0,0,0,0,0,0,11653.4,11672,11666,11661,11657,11654,11650,11646,11643,11643,11642,null,104393,126232,118972,118966,118961,118957,96654,91650,77192,91033,91033,91032,null,10693,11532,11672,11666,11661,11657,11654,11650,11646,11643,11643,11642]
["Production (m3)",5516,{"$f":"FAO_Country279","v":"Bulgaria"},27,2207335.6,2005000,1821859,1851234,2000420,2427526,2436254,2330248,2623747,2383714,2193354,1103708.5,1359000,1234866,1174680,1035960,1096377,1045196,1085765,1056154,1070729,878358,589319.80000000005,305000,313029,348764,465100,603627,792901,875117,850358,696507,642795,2183219,2536000,2602756,2429594,2068560,2244572,2135311,2114138,1998856,2012749,1689654,null,4089000,4783890,6205000,5972510,5804272,5570040,6372102,6409662,6405268,6529115,6163699,5404161,null,1503000,2107000,2841000,2915785,2778358,2533660,2848199,2928212,2989255,2849214,2709256,2332449]
["Production (m3)",5516,{"$f":"FAO_Country280","v":"Burkina Faso"},233,"",null,null,null,null,null,null,null,null,null,null,1171000,1171000,1171000,1171000,1171000,1171000,1171000,1171000,1171000,1171000,1171000,0,0,0,0,0,0,0,0,0,0,0,13731682.9,12963077,13144921,13330580,13520146,13713710,13870233,14029882,14192725,14192725,14358830,null,9641400,7996000,14134077,14315921,14501580,14691146,14884710,15041233,15200882,15363725,15363725,15529830,null,9242000,7402000,12963077,13144921,13330580,13520146,13713710,13870233,14029882,14192725,14192725,14358830]
["Production (m3)",5516,{"$f":"FAO_Country281","v":"Burundi"},29,149500,253000,138000,138000,138000,138000,138000,138000,138000,138000,138000,500500,630000,479000,487000,487000,487000,487000,487000,487000,487000,487000,0,0,0,0,0,0,0,0,0,0,0,6313974.0999999996,9396845,5742896,6007000,5999000,5999000,5999000,5999000,5999000,5999000,5999000,null,6458580,6187000,10279845,6359896,6632000,6624000,6624000,6624000,6624000,6624000,6624000,6624000,null,5843580,5420000,9396845,5742896,6007000,5999000,5999000,5999000,5999000,5999000,5999000,5999000]
["Production (m3)",5516,{"$f":"FAO_Country283","v":"Cambodia"},115,11800,10000,10000,10000,10000,13000,13000,13000,13000,13000,13000,295000,274000,274000,274000,274000,309000,309000,309000,309000,309000,309000,0,0,0,0,0,0,0,0,0,0,0,7728720.5999999996,8299490,8162025,8029699,7902280,7779547,7637390,7500297,7368039,7368039,7240400,null,11795200,10298400,8583490,8446025,8313699,8186280,8101547,7959390,7822297,7690039,7690039,7562400,null,11228200,10119400,186000,186000,186000,186000,186000,186000,186000,186000,186000,7240400]
["Production (m3)",5516,{"$f":"FAO_Country284","v":"Cameroon"},32,"",null,null,null,null,null,null,null,null,null,null,3317349.6,2441000,2055000,2700000,3247000,3571171,3831865,3831865,3831865,3831865,3831865,0,0,0,0,0,0,0,0,0,0,0,10357210.4,9992570,10080710,10170432,10261763,10354732,10425659,10497823,10571241,10571241,10645933,null,10783700,11005300,12433570,12135710,12870432,13508763,13925903,14257524,14329688,14403106,14403106,14477798,null,7647650,9111350,8299490,8162025,8029699,7902280,7779547,7637390,7500297,7368039,7368039,10645933]
["Production (m3)",5516,{"$f":"FAO_Country285","v":"Canada"},33,121971459.59999999,121189220,121189000,124183566,123774150,126089360,126210000,125160000,127752305,116505768,107661227,26162558.399999999,25546106,25552000,23567707,25051235,25268200,28484000,30023000,27876751,27488277,22768308,821756.8,626205,626000,1049851,1317442,1317440,796148,627202,526223,526223,804834,1595189,816619,816000,3274922,3321544,3321540,1253852,906798,647533,647533,945549,null,162127000,201845000,148178150,148183000,152076046,153464371,155996540,156744000,156717000,156802812,145167801,132179918,null,6169000,2927000,9992570,10080710,10170432,10261763,10354732,10425659,10497823,10571241,10571241,1750383]
["Production (m3)",5516,{"$f":"FAO_Country282","v":"Cabo Verde"},35,"",null,null,null,null,null,null,null,null,null,null,"",null,null,null,null,null,null,null,null,null,null,0,0,0,0,0,0,0,0,0,0,0,186000,186000,186000,186000,186000,186000,186000,186000,186000,186000,186000,null,99811,147181,186000,186000,186000,186000,186000,186000,186000,186000,186000,186000,null,99811,147181,1442824,1442000,4324773,4638986,4638980,2050000,1534000,1173756,1173756,186000]
["Production (m3)",5516,{"$f":"FAO_Country286","v":"Central African Republic"},37,"",null,null,null,null,null,null,null,null,null,null,738729.1,732447,731122,649977,545489,623154,726250,844713,844713,844713,844713,0,0,0,0,0,0,0,0,0,0,0,2000000,2000000,2000000,2000000,2000000,2000000,2000000,2000000,2000000,2000000,2000000,null,3480000,2955000,2732447,2731122,2649977,2545489,2623154,2726250,2844713,2844713,2844713,2844713,null,3055000,2000000,2000000,2000000,2000000,2000000,2000000,2000000,2000000,2000000,2000000,2000000]
["Production (m3)",5516,{"$f":"FAO_Country287","v":"Chad"},39,"",null,null,null,null,null,null,null,null,null,null,761000,761000,761000,761000,761000,761000,761000,761000,761000,761000,761000,0,0,0,0,0,0,0,0,0,0,0,7680008.7000000002,7183997,7300182,7418635,7539404,7662541,7766918,7873254,7981591,7981591,8091974,null,5174500,6646200,7944997,8061182,8179635,8300404,8423541,8527918,8634254,8742591,8742591,8852974,null,4615500,5885200,7183997,7300182,7418635,7539404,7662541,7766918,7873254,7981591,7981591,8091974]
["Production (m3)",5516,{"$f":"FAO_Country288","v":"Chile"},40,30125500,26211000,26420000,28873000,30679000,31159000,30847000,30889000,32059000,32059000,32059000,13758203.199999999,12939000,12655000,12196000,11902000,12476000,13707000,15098000,15536344,15536344,15536344,2499031.2000000002,2400000,2400000,2523789,2523789,2523789,2523789,2523789,2523789,2523789,2523789,13598000,13598000,13598000,13598000,13598000,13598000,13598000,13598000,13598000,13598000,13598000,null,22085000,36568000,55148000,55073000,57190789,58702789,59756789,60675789,62108789,63717133,63717133,63717133,null,7699000,12131000,15998000,15998000,16121789,16121789,16121789,16121789,16121789,16121789,16121789,16121789]
["Production (m3)",5516,{"$f":"FAO_Country292","v":"China"},351,28399893.699999999,29403652,26657341,29517253,25742167,29729055,28031706,26542752,29458337,29458337,29458337,138909677.80000001,131524620,132906557,139167532,136756732,118972815,136402062,136632840,152244540,152244540,152244540,69461230,75065401,73718870,72399771,71098014,69826056,68522851,67242589,65989565,65989565,64759618,102121202.09999999,110365317,108383347,106439068,104528082,102653900,100738768,98860023,97017226,97017226,95209064,null,378564000,323646000,346358990,341666115,347523624,338124995,321181826,333695387,329278204,344709668,344709668,341671559,null,287335000,227627000,185430718,182102217,178838839,175626096,172479956,169261619,166102612,163006791,163006791,159968682]
["Production (m3)",5516,{"$f":"FAO_Country293","v":"Christmas Island"},42,1000,null,null,1000,1000,1000,1000,1000,1000,1000,null,"",null,null,null,null,null,null,null,null,null,null,0,0,0,0,0,0,0,0,0,0,0,17.3,18,18,18,17,17,17,17,17,17,17,null," "," ",18,18,18,17,17,17,17,17,17,17,null," "," ",18,18,18,17,17,17,17,17,17,17]
["Production (m3)",5516,{"$f":"FAO_Country294","v":"Colombia"},44,1076873.8999999999,1095652,1099341,1099253,1111167,1104055,1097706,1094752,1095337,1095337,876139,2123712.7000000002,2549000,2624000,2637000,2303000,2176000,1871861,1810651,1768825,1768825,1727965,1977216,2236000,2499000,2499000,2499000,2499000,1823520,1285440,1446400,1446400,1538400,5891176,6068000,6784000,6784000,6784000,6784000,5774480,5774480,4643600,4643600,4871600,null,10448600,13057000,12145000,13237000,13258000,12753000,12563000,10418959,9788634,8755681,8755681,9014104,null,6765610,10893000,8304000,9283000,9283000,9283000,9283000,7598000,7059920,6090000,6090000,6410000]
["Production (m3)",5516,{"$f":"FAO_Country295","v":"Comoros"},45,27182333.333333332,28308000,25558000,28417000,24630000,28624000,26933000,25447000,28362000,28362000,null,24650,24650,24650,24650,24650,24650,24650,24650,24650,24650,24650,0,0,0,0,0,0,0,0,0,0,0,303084.90000000002,272740,279754,286959,294362,301967,308375,314930,321635,321635,328492,null,145174,225737,297390,304404,311609,319012,326617,333025,339580,346285,346285,353142,null,137674,201087,272740,279754,286959,294362,301967,308375,314930,321635,321635,328492]
["Production (m3)",5516,{"$f":"FAO_Country296","v":"Congo"},46,989187.3,1292000,1330000,1338000,1167000,1104000,949098,918063,896856,896856,0,2261732,2091213,2321123,2230123,2114123,2144123,2189123,2270123,2419123,2419123,2419123,0,0,0,0,0,0,0,0,0,0,0,1450202.3,1357017,1378601,1400549,1422867,1445562,1465988,1486725,1507779,1507779,1529156,null,2571750,2515140,3448230,3702724,3633672,3539990,3589685,3655111,3756848,3926902,3926902,3948279,null,973745,1153140,1357017,1378601,1400549,1422867,1445562,1465988,1486725,1507779,1507779,1529156]
["Production (m3)",5516,{"$f":"FAO_Country297","v":"Cook Islands"},47,1555.5555555555557,null,3000,3000,3000,0,0,0,0,0,5000,"",null,null,null,null,null,null,null,null,null,null,"",null,null,null,null,null,null,null,null,null,null,"",null,null,null,null,null,null,null,null,null,null,null," ",5000,5000,5000,5000,5000,5000,5000,5000,5000,5000,5000,null," "," "]
["Production (m3)",5516,{"$f":"FAO_Country298","v":"Costa Rica"},48,14500,5000,5000,5000,5000,5000,5000,5000,5000,5000,100000,1228442.3,1165000,1304000,1304000,1263000,1263000,1208705,1222701,1216577,1216577,1120863,0,0,0,0,0,0,0,0,0,0,0,3309870.5,3363882,3351659,3340334,3329876,3320253,3303391,3287363,3272135,3272135,3257677,null,4533920,4473320,4628882,4755659,4744334,4692876,4683253,4612096,4610064,4588712,4588712,4478540,null,3546920,3486320,3363882,3351659,3340334,3329876,3320253,3303391,3287363,3272135,3272135,3257677]
["Production (m3)",5516,{"$f":"FAO_Country304","v":"Côte d'Ivoire"},107,100000,100000,100000,100000,100000,100000,100000,100000,100000,100000,null,2466830,2356000,2356000,2356000,2700000,2600000,2700300,2400000,2400000,2400000,2400000,0,0,0,0,0,0,0,0,0,0,0,9154080.6999999993,8988873,9034617,9083877,9136542,9192511,9200864,9211829,9225286,9225286,9241122,null,11125400,11945000,11344873,11390617,11439877,11836542,11792511,11901164,11611829,11625286,11625286,11641122,null,7577440,8529020,8988873,9034617,9083877,9136542,9192511,9200864,9211829,9225286,9225286,9241122]
["Production (m3)",5516,{"$f":"FAO_Country299","v":"Croatia"},98,820282.9,678000,972000,966000,811863,775334,749552,812520,812520,812520,812520,2777283.7,3158000,3185000,3070000,2531916,2634396,2647273,2636563,2636563,2636563,2636563,56195.1,29000,40000,59000,64695,62546,58050,62165,62165,62165,62165,1737701.4,1393000,1517000,1341000,1588116,1706195,1710404,1795877,2108474,2108474,2108474,null," ",3669000,5258000,5714000,5436000,4996590,5178471,5165279,5307125,5619722,5619722,5619722,null," ",976000,1422000,1557000,1400000,1652811,1768741,1768454,1858042,2170639,2170639,2170639]
["Production (m3)",5516,{"$f":"FAO_Country300","v":"Cuba"},49,185500,161000,140000,186000,186000,232000,190000,190000,190000,190000,190000,421900,430000,421000,421000,421000,421000,421000,421000,421000,421000,421000,0,0,0,0,0,0,0,0,0,0,0,1141000,1141000,1141000,1141000,1141000,1141000,1141000,1141000,1141000,1141000,1141000,null,3198190,1819000,1732000,1702000,1748000,1748000,1794000,1752000,1752000,1752000,1752000,1752000,null,2587190,963000,1141000,1141000,1141000,1141000,1141000,1141000,1141000,1141000,1141000,1141000]
["Production (m3)",5516,{"$f":"FAO_Country301","v":"Cyprus"},50,2874.4,4627,4052,3426,3520,2716,2642,1779,1856,1920,2206,261.8,323,415,307,460,391,221,132,255,61,53,6423.9,2938,5141,3893,3570,5988,11561,12164,7848,5933,5203,1288.7,607,1382,1773,1260,1500,1314,1454,992,1452,1153,null,62800,20580,8495,10990,9399,8810,10595,15738,15529,10951,9366,8615,null,14800,5420,3545,6523,5666,4830,7488,12875,13618,8840,7385,6356]
["Production (m3)",5516,{"$f":"FAO_Country302","v":"Czech Republic"},167,16292089.699999999,12291000,11860000,11962000,12306000,12871000,14374000,16088000,20613000,24699897,25856000,972595.9,1176000,1181000,1187000,1059000,956000,899000,923000,830000,749959,765000,2367060.2000000002,1049000,1196000,1267000,1166000,1514000,1550000,1647000,3600000,4495602,6186000,760601.9,865000,824000,915000,945000,822000,794000,729000,646000,526019,540000,null," ",14441000,15381000,15061000,15331000,15476000,16163000,17617000,19387000,25689000,30471477,33347000,null," ",940000,1914000,2020000,2182000,2111000,2336000,2344000,2376000,4246000,5021621,6726000]
["Production (m3)",5516,{"$f":"FAO_Country305","v":"Democratic People's Republic of Korea"},116,1100000,1100000,1100000,1100000,1100000,1100000,1100000,1100000,1100000,1100000,1100000,400000,400000,400000,400000,400000,400000,400000,400000,400000,400000,400000,3914222.7,3838849,3847873,3866814,3885671,3904443,3925763,3947022,3968219,3968219,3989354,2236127.2000000002,2187913,2198785,2209608,2220383,2231110,2243293,2255441,2267554,2267554,2279631,null,4962860,7002860,7526762,7546658,7576422,7606054,7635553,7669056,7702463,7735773,7735773,7768985,null,4362860,5502860,6026762,6046658,6076422,6106054,6135553,6169056,6202463,6235773,6235773,6268985]
["Production (m3)",5516,{"$f":"FAO_Country306","v":"Democratic Republic of the Congo"},250,"",null,null,null,null,null,null,null,null,null,null,4611013,4611013,4611013,4611013,4611013,4611013,4611013,4611013,4611013,4611013,4611013,0,0,0,0,0,0,0,0,0,0,0,82658298.5,77735602,78894151,80078338,81288841,82526362,83537838,84570510,85624900,85624900,86701543,null,47236500,68466800,82346615,83505164,84689351,85899854,87137375,88148851,89181523,90235913,90235913,91312556,null,44183500,64902800,77735602,78894151,80078338,81288841,82526362,83537838,84570510,85624900,85624900,86701543]
["Production (m3)",5516,{"$f":"FAO_Country307","v":"Denmark"},54,1552300,1289100,1376000,1418300,1892700,1768900,1555600,1555600,1555600,1555600,1555600,222810,189200,216600,226300,204800,264200,225400,225400,225400,225400,225400,1310990,916200,1093500,1337100,1443200,1532400,1357500,1357500,1357500,1357500,1357500,700480,500400,734200,880900,625500,745800,703600,703600,703600,703600,703600,null,2255000,2952000,2894900,3420300,3862600,4166200,4311300,3842100,3842100,3842100,3842100,3842100,null,449000,460000,1416600,1827700,2218000,2068700,2278200,2061100,2061100,2061100,2061100,2061100]
["Production (m3)",5516,{"$f":"FAO_Country308","v":"Djibouti"},72,"",null,null,null,null,null,null,null,null,null,null,0,0,0,0,0,0,0,0,0,0,0,0,0,0,0,0,0,0,0,0,0,0,385389,361561,367259,373047,378927,384902,389739,394638,399598,399598,404621,null,202759,293339,361561,367259,373047,378927,384902,389739,394638,399598,399598,404621,null,202759,293339,361561,367259,373047,378927,384902,389739,394638,399598,399598,404621]
["Production (m3)",5516,{"$f":"FAO_Country309","v":"Dominica"},55,"",null,null,null,null,null,null,null,null,null,null,"",null,null,null,null,null,null,null,null,null,null,0,0,0,0,0,0,0,0,0,0,0,7477.3,7519,7521,7523,7525,7528,7490,7453,7417,7417,7380,null,8608,8086,7519,7521,7523,7525,7528,7490,7453,7417,7417,7380,null,8608,8086,7519,7521,7523,7525,7528,7490,7453,7417,7417,7380]
["Production (m3)",5516,{"$f":"FAO_Country310","v":"Dominican Republic"},56,27066,0,0,26000,26000,47000,40000,32000,32000,32000,35660,18057,9700,9700,9000,1000,3000,11000,23000,23000,23000,68170,0,0,0,0,0,0,0,0,0,0,0,950465.1,920113,927637,935228,942885,950610,956347,962126,967947,967947,973811,null,562300,562300,929813,937337,970228,969885,1000610,1007347,1017126,1022947,1022947,1077641,null,556000,556000,920113,927637,935228,942885,950610,956347,962126,967947,967947,973811]
["Production (m3)",5516,{"$f":"FAO_Country311","v":"Ecuador"},58,362500,346000,295000,373000,373000,373000,373000,373000,373000,373000,373000,2032000,1745000,2039000,2067000,2067000,2067000,2067000,2067000,2067000,2067000,2067000,1220803.3,1167454,1180106,1193134,1206536,1220312,1230657,1241346,1252375,1252375,1263738,3785000,3785000,3785000,3785000,3785000,3785000,3785000,3785000,3785000,3785000,3785000,null,7175930,5908760,7043454,7299106,7418134,7431536,7445312,7455657,7466346,7477375,7477375,7488738,null,3645030,5362760,4952454,4965106,4978134,4991536,5005312,5015657,5026346,5037375,5037375,5048738]
["Production (m3)",5516,{"$f":"FAO_Country312","v":"Egypt"},59,9000,9000,9000,9000,9000,9000,9000,9000,9000,9000,9000,259000,259000,259000,259000,259000,259000,259000,259000,259000,259000,259000,0,0,0,0,0,0,0,0,0,0,0,17732661.300000001,17555613,17600575,17646337,17692905,17740286,17769592,17799550,17830162,17830162,17861431,null,14101000,16449900,17823613,17868575,17914337,17960905,18008286,18037592,18067550,18098162,18098162,18129431,null,13989000,16181900,17555613,17600575,17646337,17692905,17740286,17769592,17799550,17830162,17830162,17861431]
["Production (m3)",5516,{"$f":"FAO_Country313","v":"El Salvador"},60,0,0,0,0,0,0,0,0,0,0,0,682000,682000,682000,682000,682000,682000,682000,682000,682000,682000,682000,13000,13000,13000,13000,13000,13000,13000,13000,13000,13000,13000,4159482.6,4203531,4196876,4190423,4184167,4178102,4158702,4139568,4120693,4120693,4102071,null,3743890,5200020,4898531,4891876,4885423,4879167,4873102,4853702,4834568,4815693,4815693,4797071,null,3597890,4518020,4216531,4209876,4203423,4197167,4191102,4171702,4152568,4133693,4133693,4115071]
["Production (m3)",5516,{"$f":"FAO_Country314","v":"Equatorial Guinea"},61,"",null,null,null,null,null,null,null,null,null,null,855014.40000000002,337222,392922,420000,540000,770000,990000,1200000,1300000,1300000,1300000,0,0,0,0,0,0,0,0,0,0,0,447000,447000,447000,447000,447000,447000,447000,447000,447000,447000,447000,null,634000,1136000,784222,839922,867000,987000,1217000,1437000,1647000,1747000,1747000,1747000,null,447000,447000,447000,447000,447000,447000,447000,447000,447000,447000,447000,447000]
["Production (m3)",5516,{"$f":"FAO_Country315","v":"Eritrea"},178,"",null,null,null,null,null,null,null,null,null,null,21729,18665,18665,22495,22495,22495,22495,22495,22495,22495,22495,0,0,0,0,0,0,0,0,0,0,0,992434.8,946775,973285,1000536,1000536,1000536,1000536,1000536,1000536,1000536,1000536,null," ",2246530,965440,991950,1023031,1023031,1023031,1023031,1023031,1023031,1023031,1023031,null," ",2244340,946775,973285,1000536,1000536,1000536,1000536,1000536,1000536,1000536,1000536]
["Production (m3)",5516,{"$f":"FAO_Country316","v":"Estonia"},63,4449375.4000000004,3736888,4366761,3641864,4503512,4381364,4827273,4776364,5016364,5016364,4227000,2066809.7,1665617,1941925,1850273,2127448,2058667,2200000,2225833,2336667,2336667,1925000,1261903.3,1064649,1084044,931264,1072713,1200000,1100000,1537273,1614545,1614545,1400000,2178243.4,1170000,1664460,1556148,1672658,1875000,2091667,2919167,3066667,3066667,2700000,null," ",8910000,7637154,9057190,7979549,9376331,9515031,10218940,11458637,12034243,12034243,10252000,null," ",1640000,2234649,2748504,2487412,2745371,3075000,3191667,4456440,4681212,4681212,4100000]
["Production (m3)",5516,{"$f":"FAO_Country318","v":"Ethiopia"},238,778900,864000,864000,864000,864000,864000,864000,864000,864000,864000,13000,2922000,2922000,2922000,2922000,2922000,2922000,2922000,2922000,2922000,2922000,2922000,7580936.5999999996,7177612,7272539,7369035,7467129,7566853,7651829,7738120,7825751,7825751,7914747,100794272.7,95431768,96693902,97976882,99281115,100607019,101736842,102884145,104049262,104049262,105232530,null," ",89930100,105544380,106901441,108280917,109683244,111108872,112323671,113557265,114810013,114810013,116082277,null," ",87471100,102609380,103966441,105345917,106748244,108173872,109388671,110622265,111875013,111875013,113147277]
["Production (m3)",5516,{"$f":"FAO_Country319","v":"Falkland Islands (Malvinas)"},65,13000,13000,13000,13000,13000,13000,13000,13000,13000,13000,null,"",null,null,null,null,null,null,null,null,null,null,814,690,712,739,771,810,832,861,895,895,935,0,0,0,0,0,0,0,0,0,0,0,null,931,782,690,712,739,771,810,832,861,895,895,935,null,931,782,690,712,739,771,810,832,861,895,895,935]
["Production (m3)",5516,{"$f":"FAO_Country320","v":"Faroe Islands"},64,"",null,null,null,null,null,null,null,null,null,null,"",null,null,null,null,null,null,null,null,null,null,0,0,0,0,0,0,0,0,0,0,0,0,0,0,0,0,0,0,0,0,0,0,null," "," ",0,0,0,0,0,0,0,0,0,0,null," "," ",0,0,0,0,0,0,0,0,0,0]
["Production (m3)",5516,{"$f":"FAO_Country321","v":"Fiji"},66,560000,560000,560000,560000,560000,560000,560000,560000,560000,560000,560000,{"$f":"IFERROR(AVERAGE(Q69:Z69),\"\")","v":240000},240000,240000,240000,240000,240000,240000,240000,240000,240000,240000,{"$f":"IFERROR(AVERAGE(AB69:AK69),\"\")","v":0},0,0,0,0,0,0,0,0,0,0,{"$f":"IFERROR(AVERAGE(AM69:AV69),\"\")","v":37000},37000,37000,37000,37000,37000,37000,37000,37000,37000,37000,null,291620,486000,837000,837000,837000,837000,837000,837000,837000,837000,837000,837000,null,37000,37000,37000,37000,37000,37000,37000,37000,37000,37000,37000,37000]
["Production (m3)",5516,{"$f":"FAO_Country322","v":"Finland"},67,{"$f":"IFERROR(AVERAGE(F70:O70),\"\")","v":43390158.100000001},38354800,37941530,41305135,41402400,42924675,45360272,46528477,50632499,46436168,43015625,8365255.5999999996,7171400,6672604,8026269,7799230,8521764,8966464,8801790,9897935,9514469,8280631,3720451.6,3426100,3703983,3686226,3789470,3946391,3389162,3677519,3547190,3716043,4322432,4096419.8,3825600,3991388,3973950,4042350,4018054,3717976,4271572,4211541,4297187,4614580,null,43230000,54261900,52777900,52309505,56991580,57033450,59410884,61433874,63279358,68289165,63963867,60233268,null,2984000,4114780,7251700,7695371,7660176,7831820,7964445,7107138,7949091,7758731,8013230,8937012]
["Production (m3)",5516,{"$f":"FAO_Country323","v":"France"},68,16952354.800000001,19585104,16538524,16481889,17071335,16380878,16336719,16716683,16927618,16974794,16510004,8560287.4000000004,8802048,8406656,7969285,8678953,8617453,8749200,8643973,8793029,8680132,8262145,2576520.1,2665340,2654953,2685288,2704361,2542000,2710000,2490000,2414819,2421444,2476996,23188280.300000001,23988055,23894574,24167592,24339248,22879000,24389000,22406000,21733368,21793000,22292966,null,62588900,65864900,55040547,51494707,51304054,52793897,50419331,52184919,50256656,49868834,49869370,49542111,null,31389900,26388900,26653395,26549527,26852880,27043609,25421000,27099000,24896000,24148187,24214444,24769962]
["Production (m3)",5516,{"$f":"FAO_Country324","v":"French Guiana"},69,"",null,null,null,null,null,null,null,null,null,null,77266.5,82739,83878,80681,83746,104747,56697,77566,67537,67537,67537,0,0,0,0,0,0,0,0,0,0,0,151465.1,132612,137341,142243,147324,152590,155574,158619,161726,161726,164896,null,232702,135986,215351,221219,222924,231070,257337,212271,236185,229263,229263,232433,null,44702,74688,132612,137341,142243,147324,152590,155574,158619,161726,161726,164896]
["Production (m3)",5516,{"$f":"FAO_Country325","v":"French Polynesia"},70,"",null,null,null,null,null,null,null,null,null,null,1000,1000,1000,1000,1000,1000,1000,1000,1000,1000,1000,0,0,0,0,0,0,0,0,0,0,0,4575.6000000000004,4449,4482,4515,4549,4582,4603,4623,4644,4644,4665,null,3327,4013,5449,5482,5515,5549,5582,5603,5623,5644,5644,5665,null,3327,4013,4449,4482,4515,4549,4582,4603,4623,4644,4644,4665]
["Production (m3)",5516,{"$f":"FAO_Country326","v":"Gabon"},74,"",null,null,null,null,null,null,null,null,null,null,2153900,1500000,1800000,2000000,2200000,2000000,2000000,2300000,2800000,2800000,2139000,0,0,0,0,0,0,0,0,0,0,0,1070000,1070000,1070000,1070000,1070000,1070000,1070000,1070000,1070000,1070000,1070000,null,2084990,3099410,2570000,2870000,3070000,3270000,3070000,3070000,3370000,3870000,3870000,3209000,null,451989,515409,1070000,1070000,1070000,1070000,1070000,1070000,1070000,1070000,1070000,1070000]
["Production (m3)",5516,{"$f":"FAO_Country327","v":"Gambia"},75,1000,null,1000,1000,1000,1000,1000,1000,1000,1000,1000,179620,196700,261500,236500,112500,186500,276500,276500,66500,66500,116500,0,0,0,0,0,0,0,0,0,0,0,742410.1,703334,712572,721992,731597,741392,749421,757593,765911,765911,774378,null,520733,715382,900034,975072,959492,845097,928892,1026921,1035093,833411,833411,891878,null,454133,602682,703334,712572,721992,731597,741392,749421,757593,765911,765911,774378]
["Production (m3)",5516,{"$f":"FAO_Country328","v":"Georgia"},73,81047.100000000006,31873,69008,83840,65259,64736,83400,78252,98171,100731,135201,58062.400000000001,73133,27399,47408,29551,51686,64174,83119,70587,77589,55978,72941.399999999994,146600,42266,58897,62051,64441,60305,63500,77735,79557,74062,385049.5,586400,281721,436097,435536,461861,369002,359671,307819,327016,285372,null," ",375100,838006,420394,626242,592397,642724,576881,584542,554312,584893,550613,null," ",279500,733000,323987,494994,497587,526302,429307,423171,385554,406573,359434]
["Production (m3)",5516,{"$f":"FAO_Country329","v":"Germany"},79,42570161.299999997,43444000,39392000,39407000,39399000,39893944,37538133,37306200,46124608,46835085,56361643,6120006.7000000002,6434000,6459000,5293000,5987000,5759726,6478292,6022242,6749070,6589863,5427874,9714386.4000000004,10958000,11936000,11618000,9315000,9045061,8498112,8432766,9118488,9217775,9004662,14438126,14382000,16627000,17135000,14295000,14299773,13664316,13956171,13240492,13524707,13256801,null,84707000,53710000,75218000,74414000,73453000,68996000,68998504,66178853,65717379,75232658,76167430,84050980,null,4366000,2622000,25340000,28563000,28753000,23610000,23344834,22162428,22388937,22358980,22742482,22261463]
["Production (m3)",5516,{"$f":"FAO_Country330","v":"Ghana"},81,50000,50000,50000,50000,50000,50000,50000,50000,50000,50000,50000,2292995,1889000,1982000,2287000,2142000,2560000,2290000,2340000,2638000,2638000,2163950,0,0,0,0,0,0,0,0,0,0,0,44190437.399999999,38984647,40203470,41448188,42719574,44018427,45203347,46409988,47638911,47638911,47638911,null,14310000,27723500,40923647,42235470,43785188,44911574,46628427,47543347,48799988,50326911,50326911,49852861,null,12870000,26725500,38984647,40203470,41448188,42719574,44018427,45203347,46409988,47638911,47638911,47638911]
["Production (m3)",5516,{"$f":"FAO_Country331","v":"Gibraltar"},82,"",null,null,null,null,null,null,null,null,null,null,"",null,null,null,null,null,null,null,null,null,null,0,0,0,0,0,0,0,0,0,0,0,0,0,0,0,0,0,0,0,0,0,0,null," "," ",0,0,0,0,0,0,0,0,0,0,null," "," ",0,0,0,0,0,0,0,0,0,0]
["Production (m3)",5516,{"$f":"FAO_Country332","v":"Greece"},84,256497.1,241333,679367,245200,230000,230000,230000,168768,175703,175703,188897,198003.8,97814,137455,148700,137000,137000,137000,402876,279417,279417,223359,91855,90239,113802,116100,97000,97000,97000,62769,83127,83127,78386,912846.2,766940,681038,1076400,968000,968000,968000,1001713,914954,914954,868463,null,2492000,2244940,1196326,1611662,1586400,1432000,1432000,1432000,1636126,1453201,1453201,1359105,null,1346000,1601410,857179,794840,1192500,1065000,1065000,1065000,1064482,998081,998081,946849]
["Production (m3)",5516,{"$f":"FAO_Country334","v":"Guadeloupe"},87,"",null,null,null,null,null,null,null,null,null,null,25,13,13,67,18,57,82,0,0,0,0,0,0,0,0,0,0,0,0,0,0,0,15000,15000,15000,15000,15000,15000,15000,15000,15000,15000,15000,null,17000,15300,15013,15013,15067,15018,15057,15082,15000,15000,15000,15000,null,15000,15000,15000,15000,15000,15000,15000,15000,15000,15000,15000,15000]
["Production (m3)",5516,{"$f":"FAO_Country335","v":"Guatemala"},89,215497.3,331000,220462,282380,188733,188733,188733,188733,188733,188733,188733,456406.2,521000,322494,465071,465071,465071,465071,465071,465071,465071,465071,12371670.4,11413670,11635601,11861849,12092499,12327637,12535433,12746734,12961598,12961598,13180085,7583340.9000000004,6996125,7132159,7270841,7412220,7556350,7683721,7813240,7944943,7944943,8078867,null,11340000,15007100,19261795,19310716,19880141,20158523,20537791,20872958,21213778,21560345,21560345,21912756,null,11142000,14540100,18409795,18767760,19132690,19504719,19883987,20219154,20559974,20906541,20906541,21258952]
["Production (m3)",5516,{"$f":"FAO_Country337","v":"Guinea"},90,"",null,null,null,null,null,null,null,null,null,null,651000,651000,651000,651000,651000,651000,651000,651000,651000,651000,651000,0,0,0,0,0,0,0,0,0,0,0,12222469,12010208,12063046,12117481,12173531,12231215,12266165,12302556,12340396,12340396,12379696,null,10425200,12095400,12661208,12714046,12768481,12824531,12882215,12917165,12953556,12991396,12991396,13030696,null,9884240,11444400,12010208,12063046,12117481,12173531,12231215,12266165,12302556,12340396,12340396,12379696]
["Production (m3)",5516,{"$f":"FAO_Country336","v":"Guinea-Bissau"},175,"",null,null,null,null,null,null,null,null,null,null,131910,131910,131910,131910,131910,131910,131910,131910,131910,131910,131910,0,0,0,0,0,0,0,0,0,0,0,2793514.1,2637356,2675192,2713467,2752189,2791363,2825155,2859271,2893716,2893716,2893716,null,1990190,2364020,2769266,2807102,2845377,2884099,2923273,2957065,2991181,3025626,3025626,3025626,null,1872300,2229510,2637356,2675192,2713467,2752189,2791363,2825155,2859271,2893716,2893716,2893716]
["Production (m3)",5516,{"$f":"FAO_Country338","v":"Guyana"},91,0,0,0,0,0,0,0,0,0,0,0,382733,501000,487000,520000,431100,351282,292387,300987,313087,313087,317400,0,0,0,0,0,0,0,0,0,0,0,832780.3,845403,842744,840120,837530,834974,831253,827573,823935,823935,820336,null,1065960,1168870,1346403,1329744,1360120,1268630,1186256,1123640,1128560,1137022,1137022,1137736,null,915961,879873,845403,842744,840120,837530,834974,831253,827573,823935,823935,820336]
["Production (m3)",5516,{"$f":"FAO_Country339","v":"Haiti"},93,100000,100000,100000,100000,100000,100000,100000,100000,100000,100000,100000,139000,139000,139000,139000,139000,139000,139000,139000,139000,139000,139000,167402.20000000001,164050,164807,165574,166352,167139,167929,168730,169540,169540,170361,1924965.6,1886421,1895126,1903946,1912882,1921935,1931025,1940231,1949551,1949551,1958988,null,1867210,2202650,2289471,2298933,2308520,2318234,2328074,2337954,2347961,2358091,2358091,2368349,null,1628210,1963650,2050471,2059933,2069520,2079234,2089074,2098954,2108961,2119091,2119091,2129349]
["Production (m3)",5516,{"$f":"FAO_Country340","v":"Honduras"},95,479214.2,489000,370000,470000,477687,467957,536096,488608,326339,326339,840116,10292.700000000001,9801,11000,12000,17031,10155,6146,4286,13956,13956,4596,2757897.4,2815530,2803054,2791338,2780356,2770086,2751512,2733692,2716599,2716599,2700208,5602497.0999999996,5719574,5694231,5670429,5648120,5627259,5589526,5553325,5518601,5518601,5485305,null,9301870,9488410,9033905,8878285,8943767,8923194,8875457,8883280,8779911,8575495,8575495,9030225,null,8550870,8732410,8535104,8497285,8461767,8428476,8397345,8341038,8287017,8235200,8235200,8185513]
["Production (m3)",5516,{"$f":"FAO_Country341","v":"Hungary"},97,814281.9,677003,731856,885663,889523,808385,854073,839434,819436,819436,818010,2199438.1,2340591,2255341,2283066,2229235,2256413,2095946,2023009,2218591,2218591,2073598,124429.4,117538,112766,129920,172162,140358,148757,111950,105566,105566,99711,2692937.4,3097318,2846152,2728553,2507242,2538813,2487393,2714977,2712411,2712411,2584104,null,5973000,5902000,6232450,5946115,6027202,5798162,5743969,5586169,5689370,5856004,5856004,5575423,null,2455000,2596900,3214856,2958918,2858473,2679404,2679171,2636150,2826927,2817977,2817977,2683815]
["Production (m3)",5516,{"$f":"FAO_Country342","v":"Iceland"},99,2205.1999999999998,2457,2715,2720,2720,2720,2720,3000,1000,1000,1000,11.7,21,16,20,20,20,20,0,0,0,0,643.5,690,625,630,630,630,630,0,1000,800,800,404.6,298,268,270,270,270,270,1000,1000,200,200,null," ",0,3466,3624,3640,3640,3640,3640,4000,3000,2000,2000,null," ",0,988,893,900,900,900,900,1000,2000,1000,1000]
["Production (m3)",5516,{"$f":"FAO_Country343","v":"India"},100,6148000,6148000,6148000,6148000,6148000,6148000,6148000,6148000,6148000,6148000,6148000,43369000,43369000,43369000,43369000,43369000,43369000,43369000,43369000,43369000,43369000,43369000,9194572.4000000004,9285799,9269786,9253709,9237570,9221369,9188301,9155273,9122287,9122287,9089343,296548273.19999999,299490550,298974095,298455591,297935063,297412539,296346008,295280779,294216881,294216881,293154345,null,311293000,318553000,358293349,357760881,357226300,356689633,356150908,355051309,353953052,352856168,352856168,351760688,null,276239000,277380000,308776349,308243881,307709300,307172633,306633908,305534309,304436052,303339168,303339168,302243688]
["Production (m3)",5516,{"$f":"FAO_Country344","v":"Indonesia"},101,212600,205500,205500,244000,244000,244000,244000,244000,244000,244000,7000,72281800,60500000,62400000,73797000,73797000,73797000,73797000,73797000,73797000,73797000,83339000,0,0,0,0,0,0,0,0,0,0,0,47891081.200000003,57288052,54916999,52626821,50414397,48276741,46209104,44210621,42278669,42278669,40410739,null,164409000,137830000,117993552,117522499,126667821,124455397,122317741,120250104,118251621,116319669,116319669,123756739,null,126043000,88981100,57288052,54916999,52626821,50414397,48276741,46209104,44210621,42278669,42278669,40410739]
["Production (m3)",5516,{"$f":"FAO_Country345","v":"Iran (Islamic Republic of)"},102,"",null,null,null,null,null,null,null,null,null,null,539500,660000,730000,730000,730000,465000,416000,416000,416000,416000,416000,0,0,0,0,0,0,0,0,0,0,0,38600,46000,52000,52000,52000,34000,30000,30000,30000,30000,30000,null,1217000,1114000,706000,782000,782000,782000,499000,446000,446000,446000,446000,446000,null,326000,54000,46000,52000,52000,52000,34000,30000,30000,30000,30000,30000]
["Production (m3)",5516,{"$f":"FAO_Country346","v":"Iraq"},103,"",null,null,null,null,null,null,null,null,null,null,59000,59000,59000,59000,59000,59000,59000,59000,59000,59000,59000,0,0,0,0,0,0,0,0,0,0,0,118000,118000,118000,118000,118000,118000,118000,118000,118000,118000,118000,null,89887,177000,177000,177000,177000,177000,177000,177000,177000,177000,177000,177000,null,39887,118000,118000,118000,118000,118000,118000,118000,118000,118000,118000,118000]
["Production (m3)",5516,{"$f":"FAO_Country347","v":"Ireland"},104,2811208.5,2439371,2374594,2547430,2615973,2702132,2728560,2728560,3325155,3325155,3325155,3905,1412,1060,2823,5756,3063,5499,5499,4646,4646,4646,123991,73773,100158,118292,109870,105126,255435,149344,109304,109304,109304,93692.3,120770,104607,91078,96387,97669,60929,60929,101518,101518,101518,null,1625000,2673100,2635326,2580419,2759623,2827986,2907990,3050423,2944332,3540623,3540623,3540623,null,50000,73000,194543,204765,209370,206257,202795,316364,210273,210822,210822,210822]
["Production (m3)",5516,{"$f":"FAO_Country348","v":"Israel"},105,23000,23000,23000,23000,23000,23000,23000,23000,23000,23000,23000,2000,2000,2000,2000,2000,2000,2000,2000,2000,2000,2000,1500,1500,1500,1500,1500,1500,1500,1500,1500,1500,1500,500,500,500,500,500,500,500,500,500,500,500,null,113000,81000,27000,27000,27000,27000,27000,27000,27000,27000,27000,27000,null,13000,8012,2000,2000,2000,2000,2000,2000,2000,2000,2000,2000]
["Production (m3)",5516,{"$f":"FAO_Country349","v":"Italy"},106,1594865,1411857,1182474,1135099,1225859,1292445,1318000,1320111,1465815,1472403,4124587,881096.8,944118,778359,855208,815640,756019,771000,892721,1057539,1062874,877490,1173900,1119000,1180000,1180000,1180000,1180000,1180000,1180000,1180000,1180000,1180000,9605700,9126000,9659000,9659000,9659000,9659000,9659000,9659000,9659000,9659000,9659000,null,7972000,9329000,12600975,12799833,12829307,12880499,12887464,12928000,13051832,13362354,13374277,15841077,null,3637000,5680000,10245000,10839000,10839000,10839000,10839000,10839000,10839000,10839000,10839000,10839000]
["Production (m3)",5516,{"$f":"FAO_Country350","v":"Jamaica"},109,386.6,112,199,209,115,115,115,1252,583,583,583,151458.1,151617,151517,151776,151275,151275,151275,152198,151216,151216,151216,0,0,0,0,0,0,0,0,0,0,0,522116.4,541022,537022,533052,529112,525200,519740,514337,508990,508990,503699,null,1055000,882110,692751,688738,685037,680502,676590,671130,667787,660789,660789,655498,null,853000,598710,541022,537022,533052,529112,525200,519740,514337,508990,508990,503699]
["Production (m3)",5516,{"$f":"FAO_Country351","v":"Japan"},110,18929600,15986000,16062000,18214000,18774000,18611000,19243000,20151000,20614000,20614000,21027000,2500300,2304000,2417000,2843000,2484000,2501000,2446000,2494000,2562000,2562000,2390000,0,0,0,0,0,0,0,0,0,0,0,3481252.4,83838,80120,76566,1843000,2806000,4458000,6037000,6248000,6248000,6932000,null,29403000,18120600,18373838,18559120,21133566,23101000,23918000,26147000,28682000,29424000,29424000,30349000,null,103000,133621,83838,80120,76566,1843000,2806000,4458000,6037000,6248000,6248000,6932000]
["Production (m3)",5516,{"$f":"FAO_Country352","v":"Jordan"},112,"",null,null,null,null,null,null,null,null,null,null,4000,4000,4000,4000,4000,4000,4000,4000,4000,4000,4000,0,0,0,0,0,0,0,0,0,0,0,343754.7,310074,317878,325880,334087,342503,349629,356905,364335,364335,371921,null,137680,226143,314074,321878,329880,338087,346503,353629,360905,368335,368335,375921,null,133680,222143,310074,317878,325880,334087,342503,349629,356905,364335,364335,371921]
["Production (m3)",5516,{"$f":"FAO_Country353","v":"Kazakhstan"},108,43100,55000,15000,35000,42000,42000,42000,42000,57000,52000,49000,72500,18000,27000,71000,57000,57000,57000,57000,99000,138000,144000,81577.7,223742,87108,76755,86043,86043,86043,86043,19000,32000,33000,162622.29999999999,48258,156892,138245,154957,154957,154957,154957,192000,201000,270000,null," ",645400,345000,286000,321000,340000,340000,340000,340000,367000,423000,496000,null," ",473600,272000,244000,215000,241000,241000,241000,241000,211000,233000,303000]
["Production (m3)",5516,{"$f":"FAO_Country354","v":"Kenya"},114,587800,829000,561000,561000,561000,561000,561000,561000,561000,561000,561000,455100,312000,471000,471000,471000,471000,471000,471000,471000,471000,471000,2640000,2640000,2640000,2640000,2640000,2640000,2640000,2640000,2640000,2640000,2640000,23760000,23760000,23760000,23760000,23760000,23760000,23760000,23760000,23760000,23760000,23760000,null,18535600,21635200,27541000,27432000,27432000,27432000,27432000,27432000,27432000,27432000,27432000,27432000,null,16792600,19658200,26400000,26400000,26400000,26400000,26400000,26400000,26400000,26400000,26400000,26400000]
["Production (m3)",5516,{"$f":"FAO_Country355","v":"Kiribati"},83,"",null,null,null,null,null,null,null,null,null,null,"",null,null,null,null,null,null,null,null,null,null,0,0,0,0,0,0,0,0,0,0,0,3201.8,2986,3036,3087,3140,3193,3239,3286,3334,3334,3383,null,2032,2402,2986,3036,3087,3140,3193,3239,3286,3334,3334,3383,null,2032,2402,2986,3036,3087,3140,3193,3239,3286,3334,3334,3383]
["Production (m3)",5516,{"$f":"FAO_Country356","v":"Kuwait"},118,"",null,null,null,null,null,null,null,null,null,null,"",null,null,null,null,null,null,null,null,null,null,0,0,0,0,0,0,0,0,0,0,0,19773.8,18679,18955,19236,19250,19809,20019,20232,20447,20447,20664,null,21129,14896,18679,18955,19236,19250,19809,20019,20232,20447,20447,20664,null,21129,14896,18679,18955,19236,19250,19809,20019,20232,20447,20447,20664]
["Production (m3)",5516,{"$f":"FAO_Country357","v":"Kyrgyzstan"},113,2798,2790,2790,2800,2800,2800,2800,2800,2800,2800,2800,6518,6510,6510,6520,6520,6520,6520,6520,6520,6520,6520,10980,10980,10980,10980,10980,10980,10980,10980,10980,10980,10980,25620,25620,25620,25620,25620,25620,25620,25620,25620,25620,25620,null," ",46350,45900,45900,45920,45920,45920,45920,45920,45920,45920,45920,null," ",33300,36600,36600,36600,36600,36600,36600,36600,36600,36600,36600]
["Production (m3)",5516,{"$f":"FAO_Country358","v":"Lao People's Democratic Republic"},120,0,0,0,0,0,0,0,0,0,0,0,1802000,1632000,1532000,2132000,2532000,2232000,2232000,1432000,1432000,1432000,1432000,0,0,0,0,0,0,0,0,0,0,0,5848544.7000000002,5934862,5922407,5910574,5899357,5888748,5848354,5808806,5770084,5770084,5732171,null,6082030,6438960,7566862,7454407,8042574,8431357,8120748,8080354,7240806,7202084,7202084,7164171,null,5627030,5871960,5934862,5922407,5910574,5899357,5888748,5848354,5808806,5770084,5770084,5732171]
["Production (m3)",5516,{"$f":"FAO_Country359","v":"Latvia"},119,7795161.5,8445198,6040138,7975011,8172272,8045736,8623985,7549275,7700000,7700000,7700000,3299247.7,3203910,5316449,3008561,3414072,3048680,2727421,3146874,3042170,3042170,3042170,267298.2,558409,469200,259373,186000,200000,200000,200000,200000,200000,200000,1394170,625975,703800,998925,1113000,1000000,1500000,2000000,2000000,2000000,2000000,null," ",14304000,12833492,12529587,12241870,12885344,12294416,13051406,12896149,12942170,12942170,12942170,null," ",1680000,1184384,1173000,1258298,1299000,1200000,1700000,2200000,2200000,2200000,2200000]
["Production (m3)",5516,{"$f":"FAO_Country360","v":"Lebanon"},121,12575,18000,18000,18000,18000,18000,7150,7150,7150,7150,7150,0,0,0,0,0,0,0,0,0,0,0,3695.5,3833,3801,3769,3737,3706,3673,3641,3609,3609,3577,15000,15000,15000,15000,15000,15000,15000,15000,15000,15000,15000,null,74156,26224,36833,36801,36769,36737,36706,25823,25791,25759,25759,25727,null,67156,19074,18833,18801,18769,18737,18706,18673,18641,18609,18609,18577]
["Production (m3)",5516,{"$f":"FAO_Country361","v":"Lesotho"},122,13000,null,null,null,null,null,null,10000,14000,14000,14000,"",null,null,null,null,null,null,null,null,null,null,0,0,0,0,0,0,0,0,0,0,0,2127157.7999999998,2099721,2107620,2115550,2123509,2131497,2134278,2137062,2139850,2139850,2142641,null,1262000,2022020,2099721,2107620,2115550,2123509,2131497,2134278,2147062,2153850,2153850,2156641,null,1262000,2022020,2099721,2107620,2115550,2123509,2131497,2134278,2137062,2139850,2139850,2142641]
["Production (m3)",5516,{"$f":"FAO_Country362","v":"Liberia"},123,"",null,null,null,null,null,null,null,null,null,null,460286,484000,518000,512000,512000,361570,361570,463430,463430,463430,463430,0,0,0,0,0,0,0,0,0,0,0,8417492.3000000007,7253978,7508232,7771408,8043818,8325786,8597022,8877101,9166312,9166312,9464954,null,4580700,5839360,7737978,8026232,8283408,8555818,8687356,8958592,9340531,9629742,9629742,9928384,null,3452700,4725360,7253978,7508232,7771408,8043818,8325786,8597022,8877101,9166312,9166312,9464954]
["Production (m3)",5516,{"$f":"FAO_Country363","v":"Libya"},124,"",null,null,null,null,null,null,null,null,null,null,116000,116000,116000,116000,116000,116000,116000,116000,116000,116000,116000,0,0,0,0,0,0,0,0,0,0,0,1012490.5,963555,975362,987313,999412,1011659,1021509,1031456,1041499,1041499,1051641,null,681625,939386,1079555,1091362,1103313,1115412,1127659,1137509,1147456,1157499,1157499,1167641,null,574625,823386,963555,975362,987313,999412,1011659,1021509,1031456,1041499,1041499,1051641]
["Production (m3)",5516,{"$f":"FAO_Country364","v":"Liechtenstein"},125,5450.1,7000,6364,6225,6625,4235,2929,4671,7945,4342,4165,415.9,1000,833,270,108,133,739,207,136,216,517,2879.7,6000,5636,4147,5783,1178,1301,1122,1520,1317,793,5411.2,12000,10500,8522,8296,2519,2974,2560,2624,2462,1655,null," ",24167,26000,23333,19164,20812,8065,7943,8560,12225,8337,7130,null," ",4167,18000,16136,12669,14079,3697,4275,3682,4144,3779,2448]
["Production (m3)",5516,{"$f":"FAO_Country365","v":"Lithuania"},126,3028800,3332000,2932000,2871000,3104000,2713000,2993000,3083000,3243000,3118000,2899000,1762400,2014000,1789000,1751000,1931000,1591000,1669000,1697000,1910000,1799000,1473000,642800,552000,710000,690000,612000,739000,754000,721000,446000,533000,671000,1398100,1106000,1490000,1741000,1704000,1371000,1331000,1294000,1383000,1238000,1323000,null," ",5500000,7004000,6921000,7053000,7351000,6414000,6747000,6795000,6982000,6688000,6366000,null," ",1450000,1658000,2200000,2431000,2316000,2110000,2085000,2015000,1829000,1771000,1994000]
["Production (m3)",5516,{"$f":"FAO_Country366","v":"Luxembourg"},256,185797.8,230391,189850,135602,149344,156351,133268,177890,238130,238130,209022,121617.1,130964,125389,102416,130508,148059,126713,120040,125250,125250,81582,35125.5,39391,38640,27756,25113,27721,28034,36230,45900,45900,36570,36428.5,37293,40036,36936,39792,40258,36697,33600,38620,38620,22433,null," ",259700,438039,393915,302710,344757,372389,324712,367760,447900,447900,349607,null," ",18000,76684,78676,64692,64905,67979,64731,69830,84520,84520,59003]
["Production (m3)",5516,{"$f":"FAO_Country367","v":"Madagascar"},129,119771.6,196545,196545,99851,97973,101423,105179,100050,100050,100050,100050,73651.8,84366,84366,63397,67559,69462,71848,73880,73880,73880,73880,0,0,0,0,0,0,0,0,0,0,0,13985451.699999999,13100000,13044951,13326632,13608812,13891495,14154669,14418142,14681914,14681914,14945988,null,8186000,9763460,13380911,13325862,13489880,13774344,14062380,14331696,14592072,14855844,14855844,15119918,null,7379000,9637460,13100000,13044951,13326632,13608812,13891495,14154669,14418142,14681914,14681914,14945988]
["Production (m3)",5516,{"$f":"FAO_Country368","v":"Malawi"},130,116500,150000,150000,150000,115000,100000,100000,100000,100000,100000,100000,1330000,1330000,1330000,1330000,1330000,1330000,1330000,1330000,1330000,1330000,1330000,7900.5,7523,7609,7669,7792,7888,7968,8052,8138,8138,8228,5734031.5999999996,5458080,5520626,5585569,5652938,5722767,5780988,5841479,5904259,5904259,5969351,null,6044440,6364080,6945603,7008235,7073238,7105730,7160655,7218956,7279531,7342397,7342397,7407579,null,5164440,4964080,5465603,5528235,5593238,5660730,5730655,5788956,5849531,5912397,5912397,5977579]
["Production (m3)",5516,{"$f":"FAO_Country369","v":"Malaysia"},131,93896,178000,187000,180000,156000,99000,49000,22490,22490,22490,22490,15390930.5,17754000,17643000,16568000,17630000,14318000,13807000,13807000,13807000,13807000,14768305,0,0,0,0,0,0,0,0,0,0,0,2568477.2000000002,2760004,2711329,2664379,2619075,2575344,2533815,2493683,2454887,2454887,2417369,null,45269700,27725700,20692004,20541329,19412379,20405075,16992344,16389815,16323173,16284377,16284377,17208164,null,4009670,3345720,2760004,2711329,2664379,2619075,2575344,2533815,2493683,2454887,2454887,2417369]
["Production (m3)",5516,{"$f":"FAO_Country370","v":"Maldives"},132,"",null,null,null,null,null,null,null,null,null,null,"",null,null,null,null,null,null,null,null,null,null,0,0,0,0,0,0,0,0,0,0,0,16147.3,15570,15718,15882,16048,16216,16289,16363,16437,16437,16513,null,10339,13185,15570,15718,15882,16048,16216,16289,16363,16437,16437,16513,null,10339,13185,15570,15718,15882,16048,16216,16289,16363,16437,16437,16513]
["Production (m3)",5516,{"$f":"FAO_Country371","v":"Mali"},133,"",null,null,null,null,null,null,null,null,null,null,715300,465000,473000,544000,769000,817000,817000,817000,817000,817000,817000,0,0,0,0,0,0,0,0,0,0,0,5634607.7000000002,5384877,5444577,5505477,5567606,5630995,5680530,5731100,5782732,5782732,5835451,null,4298930,5143490,5849877,5917577,6049477,6336606,6447995,6497530,6548100,6599732,6599732,6652451,null,3942130,4730590,5384877,5444577,5505477,5567606,5630995,5680530,5731100,5782732,5782732,5835451]
["Production (m3)",5516,{"$f":"FAO_Country372","v":"Malta"},134,0,0,0,0,0,0,0,0,0,0,0,0,0,0,0,0,0,0,0,0,0,0,0,0,0,0,0,0,0,0,0,0,0,0,0,0,0,0,0,0,0,0,0,0,null," ",0,0,0,0,0,0,0,0,0,0,0,null," ",0,0,0,0,0,0,0,0,0,0,0]
["Production (m3)",5516,{"$f":"FAO_Country373","v":"Martinique"},135,"",null,null,null,null,null,null,null,null,null,null,1208.8,2125,2125,2797,1421,959,2661,0,0,0,0,0,0,0,0,0,0,0,0,0,0,0,10000,10000,10000,10000,10000,10000,10000,10000,10000,10000,10000,null,11900,12000,12125,12125,12797,11421,10959,12661,10000,10000,10000,10000,null,10000,10000,10000,10000,10000,10000,10000,10000,10000,10000,10000,10000]
["Production (m3)",5516,{"$f":"FAO_Country374","v":"Mauritania"},136,"",null,null,null,null,null,null,null,null,null,null,32000,32000,32000,32000,32000,32000,32000,32000,32000,32000,32000,0,0,0,0,0,0,0,0,0,0,0,2058110,1877238,1919197,1962154,2006133,2051160,2089568,2128747,2168712,2168712,2209479,null,1156410,1434070,1909238,1951197,1994154,2038133,2083160,2121568,2160747,2200712,2200712,2241479,null,1151410,1428070,1877238,1919197,1962154,2006133,2051160,2089568,2128747,2168712,2168712,2209479]
["Production (m3)",5516,{"$f":"FAO_Country375","v":"Mauritius"},137,1092,3600,1400,1000,190,130,920,920,920,920,920,422,800,700,500,50,70,420,420,420,420,420,3160,4400,3100,1500,1800,1400,3880,3880,3880,3880,3880,1210,2200,2000,500,500,400,1300,1300,1300,1300,1300,null,27100,18000,11000,7200,3500,2540,2000,6520,6520,6520,6520,6520,null,16000,10000,6600,5100,2000,2300,1800,5180,5180,5180,5180,5180]
["Production (m3)",5516,{"$f":"FAO_Country376","v":"Mayotte"},270,"",null,null,null,null,null,null,null,null,null,null,150,150,150,150,150,150,150,150,150,150,150,"",null,null,null,null,null,null,null,null,null,null,26500,26500,26500,26500,26500,26500,26500,26500,26500,26500,26500,null,36500,29294,26650,26650,26650,26650,26650,26650,26650,26650,26650,26650,null,36500,28900,26500,26500,26500,26500,26500,26500,26500,26500,26500,26500]
["Production (m3)",5516,{"$f":"FAO_Country377","v":"Mexico"},138,5372200,4313000,4788000,4741000,4741000,4712000,5139000,6398000,6398000,6398000,6094000,1025900,567000,606000,612000,612000,689000,945000,1557000,1557000,1557000,1557000,11624296.9,11652003,11653637,11655273,11656911,11658551,11633406,11608316,11583283,11583283,11558306,27117776.899999999,27182411,27186223,27190039,27193861,27197687,27139026,27080497,27022098,27022098,26963829,null,41951300,45665500,43714414,44233860,44198312,44203772,44257238,44856432,46643813,46560381,46560381,46173135,null,34371300,37560500,38834414,38839860,38845312,38850772,38856238,38772432,38688813,38605381,38605381,38522135]
["Production (m3)",5516,{"$f":"FAO_Country378","v":"Micronesia (Federated States of)"},145,"",null,null,null,null,null,null,null,null,null,null,"",null,null,null,null,null,null,null,null,null,null,0,0,0,0,0,0,0,0,0,0,0,2604.9,2476,2508,2541,2574,2607,2631,2654,2678,2678,2702,null," ",2102,2476,2508,2541,2574,2607,2631,2654,2678,2678,2702,null," ",2102,2476,2508,2541,2574,2607,2631,2654,2678,2678,2702]
["Production (m3)",5516,{"$f":"FAO_Country379","v":"Mongolia"},141,150400,47000,177000,160000,160000,160000,160000,160000,160000,160000,160000,2100,2000,3000,2000,2000,2000,2000,2000,2000,2000,2000,511433.4,614334,500000,500000,500000,500000,500000,500000,500000,500000,500000,105200,152000,100000,100000,100000,100000,100000,100000,100000,100000,100000,null,1500000,644000,815334,780000,762000,762000,762000,762000,762000,762000,762000,762000,null,694000,553000,766334,600000,600000,600000,600000,600000,600000,600000,600000,600000]
["Production (m3)",5516,{"$f":"FAO_Country380","v":"Montenegro"},273,192376.3,177000,177000,100000,150000,150000,176567,248299,248299,248299,248299,57346.8,31001,31001,95000,67000,67000,78866,50900,50900,50900,50900,38900,7000,7000,18000,51000,51000,51000,51000,51000,51000,51000,719200,700000,700000,700000,700000,732000,732000,732000,732000,732000,732000,null," "," ",915001,915001,913000,968000,1000000,1038433,1082199,1082199,1082199,1082199,null," "," ",707000,707000,718000,751000,783000,783000,783000,783000,783000,783000]
["Production (m3)",5516,{"$f":"FAO_Country381","v":"Morocco"},143,107900,115000,122000,144000,144000,131000,91000,83000,83000,83000,83000,263810,257100,239000,275000,275000,346000,358000,222000,222000,222000,222000,1061833.1000000001,1076021,1072714,1069420,1066138,1062868,1059535,1056214,1052906,1052906,1049609,5610824.5,5685793,5668322,5650916,5633573,5616292,5598680,5581134,5563651,5563651,5546233,null,7135540,7537570,7133914,7102036,7139336,7118711,7156160,7107215,6942348,6921557,6921557,6900842,null,6552540,6968570,6761814,6741036,6720336,6699711,6679160,6658215,6637348,6616557,6616557,6595842]
["Production (m3)",5516,{"$f":"FAO_Country382","v":"Mozambique"},144,10000,10000,10000,10000,10000,10000,10000,10000,10000,10000,10000,1831800,1466000,1517000,1517000,1974000,1974000,1974000,1974000,1974000,1974000,1974000,0,0,0,0,0,0,0,0,0,0,0,16724000,16724000,16724000,16724000,16724000,16724000,16724000,16724000,16724000,16724000,16724000,null,15748000,18043000,18200000,18251000,18251000,18708000,18708000,18708000,18708000,18708000,18708000,18708000,null,14825000,16724000,16724000,16724000,16724000,16724000,16724000,16724000,16724000,16724000,16724000,16724000]
["Production (m3)",5516,{"$f":"FAO_Country383","v":"Myanmar"},28,354000,300000,360000,360000,360000,360000,360000,360000,360000,360000,360000,4879400,5500000,5594000,6500000,6200000,4500000,4500000,4000000,4000000,4000000,4000000,0,0,0,0,0,0,0,0,0,0,0,38286000,38286000,38286000,38286000,38286000,38286000,38286000,38286000,38286000,38286000,38286000,null,35923000,38083000,44086000,44240000,45146000,44846000,43146000,43146000,42646000,42646000,42646000,42646000,null,32270000,34471000,38286000,38286000,38286000,38286000,38286000,38286000,38286000,38286000,38286000,38286000]
["Production (m3)",5516,{"$f":"FAO_Country384","v":"Namibia"},147,"",null,null,null,null,null,null,null,null,null,null,"",null,null,null,null,null,null,null,null,null,null,0,0,0,0,0,0,0,0,0,0,0,1456068,1274691,1308242,1286354,1342754,1437197,1441996,1485728,1571011,1571011,1841696,null,678237,774169,1274691,1308242,1286354,1342754,1437197,1441996,1485728,1571011,1571011,1841696,null,678237,774169,1274691,1308242,1286354,1342754,1437197,1441996,1485728,1571011,1571011,1841696]
["Production (m3)",5516,{"$f":"FAO_Country385","v":"Nepal"},149,0,0,0,0,0,0,0,0,0,0,0,1300000,1300000,1300000,1300000,1300000,1300000,1300000,1300000,1300000,1300000,1300000,56912.800000000003,58936,58113,57840,57578,57325,56751,56190,55643,55643,55109,12078047.5,12404612,12344468,12286525,12230741,12177081,12055096,11936023,11819794,11819794,11706341,null,12966900,14022700,13763548,13702581,13644365,13588319,13534406,13411847,13292213,13175437,13175437,13061450,null,12396900,12762700,12463548,12402581,12344365,12288319,12234406,12111847,11992213,11875437,11875437,11761450]
["Production (m3)",5516,{"$f":"FAO_Country386","v":"Netherlands Antilles"},151,"",null,null,null,null,null,null,null,null,null,null,{"$f":"IFERROR(AVERAGE(Q133:Z133),\"\")","v":""},null,null,null,null,null,null,null,null,null,null,{"$f":"IFERROR(AVERAGE(AB133:AK133),\"\")","v":""},null,null,null,null,null,null,null,null,null,null,{"$f":"IFERROR(AVERAGE(AM133:AV133),\"\")","v":1105888.888888889},240000,240000,240000,286000,1257000,1890000,1912000,1944000,1944000,null,null,2689,3078,null,null,null,null,null,null,null,null,null,null,null,2689,3078]
["Production (m3)",5516,{"$f":"FAO_Country387","v":"Netherlands"},150,{"$f":"IFERROR(AVERAGE(F134:O134),\"\")","v":527363.5},487200,443900,591600,603900,550000,642651,536558,467913,467913,482000,268990.8,204600,220800,226600,290240,298700,309654,282328,298493,298493,260000,245300,50000,50000,50000,71000,140000,411000,420000,434000,434000,393000,1670000,null,null,null,null,null,null,null,null,null,1670000,null,1420000,1039000,981800,954700,1108200,1251140,2245700,3253305,3150886,3144406,3144406,2805000,null,145000,160000,290000,290000,290000,357000,1397000,2301000,2332000,2378000,2378000,2063000]
["Production (m3)",5516,{"$f":"FAO_Country388","v":"New Caledonia"},153,9750,9750,9750,9750,9750,9750,9750,9750,9750,9750,9750,4950,4950,4950,4950,4950,4950,4950,4950,4950,4950,4950,0,0,0,0,0,0,0,0,0,0,0,12575,12062,12194,12327,12462,12600,12684,12769,12855,12855,12942,null,16989,23026,26762,26894,27027,27162,27300,27384,27469,27555,27555,27642,null,9419,10716,12062,12194,12327,12462,12600,12684,12769,12855,12855,12942]
["Production (m3)",5516,{"$f":"FAO_Country389","v":"New Zealand"},156,31131800,26115000,27400000,29742000,29174000,28931000,28965000,33984000,35669000,35669000,35669000,146000,16000,15000,24000,22000,23000,50000,450000,280000,280000,300000,0,0,0,0,0,0,0,0,0,0,0,0,0,0,0,0,0,0,0,0,0,0,null,11997000,19279000,26131000,27415000,29766000,29196000,28954000,29015000,34434000,35949000,35949000,35969000,null,50000,0,0,0,0,0,0,0,0,0,0,0]
["Production (m3)",5516,{"$f":"FAO_Country390","v":"Nicaragua"},157,58387.3,54000,54000,54000,54000,54000,54000,65059,64938,64938,64938,66262.600000000006,64000,64000,64000,64000,64000,64000,72475,68717,68717,68717,677763.5,672715,674334,676106,678029,680101,679644,679326,679143,679143,679094,5477963,5437157,5450245,5464565,5480106,5496858,5493163,5490589,5489114,5489114,5488719,null,5928680,5983730,6227872,6242579,6258671,6276135,6294959,6290807,6307449,6301912,6301912,6301468,null,5628680,5755730,6109872,6124579,6140671,6158135,6176959,6172807,6169915,6168257,6168257,6167813]
["Production (m3)",5516,{"$f":"FAO_Country391","v":"Niger"},158,"",null,null,null,null,null,null,null,null,null,null,701000,701000,701000,701000,701000,701000,701000,701000,701000,701000,701000,0,0,0,0,0,0,0,0,0,0,0,11055310.6,10091697,10312839,10539427,10771609,11009539,11218690,11432505,11651101,11651101,11874598,null,5980500,8384430,10792697,11013839,11240427,11472609,11710539,11919690,12133505,12352101,12352101,12575598,null,5674500,7805430,10091697,10312839,10539427,10771609,11009539,11218690,11432505,11651101,11651101,11874598]
["Production (m3)",5516,{"$f":"FAO_Country392","v":"Nigeria"},159,"",null,null,null,null,null,null,null,null,null,null,9840800,9418000,9418000,9418000,10022000,10022000,10022000,10022000,10022000,10022000,10022000,0,0,0,0,0,0,0,0,0,0,0,65257770.600000001,63599551,63999115,64413551,64843002,65287615,65583432,65890862,66209938,66209938,66540702,null,59180000,68766700,73017551,73417115,73831551,74865002,75309615,75605432,75912862,76231938,76231938,76562702,null,50917000,59348700,63599551,63999115,64413551,64843002,65287615,65583432,65890862,66209938,66209938,66540702]
["Production (m3)",5516,{"$f":"FAO_Country393","v":"Niue"},160,"",null,null,null,null,null,null,null,null,null,null,"",null,null,null,null,null,null,null,null,null,null,0,0,0,0,0,0,0,0,0,0,0,46.5,45,45,45,46,46,46,46,48,48,50,null,42,43,45,45,45,46,46,46,46,48,48,50,null,42,43,45,45,45,46,46,46,46,48,48,50]
["Production (m3)",5516,{"$f":"FAO_Country394","v":"Norfolk Island"},161,"",null,null,null,null,null,null,null,null,null,null,"",null,null,null,null,null,null,null,null,null,null,0,0,0,0,0,0,0,0,0,0,0,46.8,50,50,48,48,47,46,45,45,45,44,null,72,60,50,50,48,48,47,46,45,45,45,44,null,72,60,50,50,48,48,47,46,45,45,45,44]
["Production (m3)",5516,{"$f":"FAO_Country395","v":"Norway"},162,9731575.0999999996,8467603,8711333,8874607,9667579,9992244,10106000,10247501,10577625,10735998,9935261,187550.5,38691,76075,144869,140493,166456,198000,243528,258266,302702,306425,652676,588963,588963,876797,876797,618042,620000,616000,598191,598191,544816,1228939.8,1195774,1195774,1702017,1702017,1099751,1104000,1112000,1096575,1096575,984915,null,11819000,8156270,10291031,10572145,11598290,12386886,11876493,12028000,12219029,12530657,12733466,11771417,null,919000,678475,1784737,1784737,2578814,2578814,1717793,1724000,1728000,1694766,1694766,1529731]
["Production (m3)",5516,{"$f":"FAO_Country396","v":"Oman"},221,"",null,null,null,null,null,null,null,null,null,null,"",null,null,null,null,null,null,null,null,null,null,0,0,0,0,0,0,0,0,0,0,0,45570.9,40176,41414,42690,44005,45361,46505,47679,48882,48882,50115,null,14763,26468,40176,41414,42690,44005,45361,46505,47679,48882,48882,50115,null,14763,26468,40176,41414,42690,44005,45361,46505,47679,48882,48882,50115]
["Production (m3)",5516,{"$f":"FAO_Country397","v":"Pakistan"},165,1542000,1542000,1542000,1542000,1542000,1542000,1542000,1542000,1542000,1542000,1542000,2518000,2518000,2518000,2518000,2518000,2518000,2518000,2518000,2518000,2518000,2518000,1171344.3,1260000,1260000,1260000,1133349,1133349,1133349,1133349,1133349,1133349,1133349,28400000,28400000,28400000,28400000,28400000,28400000,28400000,28400000,28400000,28400000,28400000,null,23661000,33560000,33720000,33720000,33720000,33593349,33593349,33593349,33593349,33593349,33593349,33593349,null,21043000,30880000,29660000,29660000,29660000,29533349,29533349,29533349,29533349,29533349,29533349,29533349]
["Production (m3)",5516,{"$f":"FAO_Country398","v":"Panama"},166,5459,6000,3000,2000,1000,8500,4000,9090,7000,7000,7000,287600,181000,187000,188000,250000,250000,250000,370000,400000,400000,400000,0,0,0,0,0,0,0,0,0,0,0,1046139.8,1111826,1096036,1080699,1065798,1051317,1035435,1019992,1004970,1004970,990355,null,1517040,1326650,1298826,1286036,1270699,1316798,1309817,1289435,1399082,1411970,1411970,1397355,null,1408750,1279650,1111826,1096036,1080699,1065798,1051317,1035435,1019992,1004970,1004970,990355]
["Production (m3)",5516,{"$f":"FAO_Country399","v":"Papua New Guinea"},168,38800,36000,36000,36000,40000,40000,40000,40000,40000,40000,40000,4034720.8,4080000,3658208,3981000,4500000,4000000,4000000,4032000,4032000,4032000,4032000,0,0,0,0,0,0,0,0,0,0,0,5533000,5533000,5533000,5533000,5533000,5533000,5533000,5533000,5533000,5533000,5533000,null,8188000,7842000,9649000,9227208,9550000,10073000,9573000,9573000,9605000,9605000,9605000,9605000,null,5533000,5533000,5533000,5533000,5533000,5533000,5533000,5533000,5533000,5533000,5533000,5533000]
["Production (m3)",5516,{"$f":"FAO_Country400","v":"Paraguay"},169,"",null,null,null,null,null,null,null,null,null,null,4044000,4044000,4044000,4044000,4044000,4044000,4044000,4044000,4044000,4044000,4044000,0,0,0,0,0,0,0,0,0,0,0,7165304.9000000004,6683532,6793115,6904658,7018202,7133785,7243621,7355210,7468581,7468581,7583764,null,8340840,9594920,10727532,10837115,10948658,11062202,11177785,11287621,11399210,11512581,11512581,11627764,null,4840840,5550920,6683532,6793115,6904658,7018202,7133785,7243621,7355210,7468581,7468581,7583764]
["Production (m3)",5516,{"$f":"FAO_Country401","v":"Peru"},170,8557.2999999999993,18000,16000,11000,14794,2563,5673,1160,0,0,16383,1236325.7,1478000,1453000,1266000,1387269,1242954,1145754,1063769,1031816,1031816,1262879,0,0,0,0,0,0,0,0,0,0,0,7284192.2000000002,7425000,7308000,7308000,7382657,7150355,7332910,7206962,7214463,7214463,7299112,null,7591300,9288000,8921000,8777000,8585000,8784720,8395872,8484337,8271891,8246279,8246279,8578374,null,6518000,7777000,7425000,7308000,7308000,7382657,7150355,7332910,7206962,7214463,7214463,7299112]
["Production (m3)",5516,{"$f":"FAO_Country402","v":"Philippines"},171,40000,40000,40000,40000,40000,40000,40000,40000,40000,40000,40000,3903439.8,3867000,3858000,4159000,4096000,3838000,3787000,3729000,3878000,3878000,3944398,0,0,0,0,0,0,0,0,0,0,0,11791100.800000001,12250439,12143722,12041559,11943741,11850066,11725083,11604495,11488099,11488099,11375705,null,20104900,16693700,16157439,16041722,16240559,16079741,15728066,15552083,15373495,15406099,15406099,15360103,null,15175900,13614700,12250439,12143722,12041559,11943741,11850066,11725083,11604495,11488099,11488099,11375705]
["Production (m3)",5516,{"$f":"FAO_Country403","v":"Poland"},173,28566121.100000001,24968830,25062462,25766645,27481828,27937438,29254685,32309678,33205745,31092900,28581000,7810204.5,7231377,7909828,8028404,8195342,7940844,7851404,7754742,8146974,7760130,7283000,2586714.2000000002,2460242,2587195,2651508,2674216,2694000,2570698,2607537,2685746,2636000,2300000,2583429.7999999998,2519533,2455946,2492286,2510652,2803000,2724445,2640676,2672760,2595000,2420000,null,17617000,26025000,37179982,38015431,38938843,40862038,41375282,42401232,45312633,46711225,44084030,40584000,null,2068000,1536000,4979775,5043141,5143794,5184868,5497000,5295143,5248213,5358506,5231000,4720000]
["Production (m3)",5516,{"$f":"FAO_Country404","v":"Portugal"},174,3362580.3,3515292,2847459,2342299,2628311,2788056,3836000,3819386,3949000,3960000,3940000,7990103.2999999998,6846127,7263354,7667290,7924061,8011621,8175400,8697780,8818000,8745000,7752400,223388.1,200000,200000,200000,200000,200000,207266,169437,235000,200000,422178,685294.2,400000,400000,400000,400000,400000,884763,878213,944000,950000,1195966,null,11205000,10831000,10961419,10710813,10609589,11152372,11399677,13103429,13564816,13946000,13855000,13310544,null,500000,600000,600000,600000,600000,600000,600000,1092029,1047650,1179000,1150000,1618144]
["Production (m3)",5516,{"$f":"FAO_Country405","v":"Qatar"},179,"",null,null,null,null,null,null,null,null,null,null,"",null,null,null,null,null,null,null,null,null,null,0,0,0,0,0,0,0,0,0,0,0,5090,5005,5034,5063,5092,5122,5120,5118,5116,5116,5114,null,2673,4487,5005,5034,5063,5092,5122,5120,5118,5116,5116,5114,null,2673,4487,5005,5034,5063,5092,5122,5120,5118,5116,5116,5114]
["Production (m3)",5516,{"$f":"FAO_Country406","v":"Republic of Korea"},117,2713000,2369000,2533000,2590000,2801000,2864000,3303000,3028000,2598000,2598000,2446000,1537000,1305000,1325000,1605000,1411000,1676000,1660000,1524000,1642000,1642000,1580000,187500,284000,168000,317000,410000,157000,86000,121000,139000,139000,54000,275300,252000,480000,385000,557000,216000,102000,172000,198000,198000,193000,null,3872620,4041240,4210000,4506000,4897000,5179000,4913000,5151000,4845000,4577000,4577000,4273000,null,2733620,2449240,536000,648000,702000,967000,373000,188000,293000,337000,337000,247000]
["Production (m3)",5516,{"$f":"FAO_Country407","v":"Republic of Moldova"},146,610,0,0,2100,1000,1000,1000,0,0,0,1000,43340,43000,32600,27800,46000,51000,51000,46000,46000,46000,44000,2950,2500,0,0,5000,4000,4000,4000,4000,4000,2000,1087602,306300,488700,1307000,1346210,1274580,1286650,1216645,1216645,1216645,1216645,null," ",321300,351800,521300,1336900,1398210,1330580,1342650,1266645,1266645,1266645,1263645,null," ",240500,308800,488700,1307000,1351210,1278580,1290650,1220645,1220645,1220645,1218645]
["Production (m3)",5516,{"$f":"FAO_Country411","v":"Réunion"},182,9410.5,8834,8834,9300,9410,8898,12112,7767,9650,9650,9650,1800,1800,1800,1800,1800,1800,1800,1800,1800,1800,1800,"",null,null,null,null,null,null,null,null,null,null,100392.8,101227,101085,100944,100805,100667,100347,100029,99713,99713,99398,null,36900,36100,111861,111719,112044,112015,111365,114259,109596,111163,111163,110848,null,31000,31000,101227,101085,100944,100805,100667,100347,100029,99713,99713,99398]
["Production (m3)",5516,{"$f":"FAO_Country408","v":"Romania"},183,4985715.3,5107846,5393956,4947357,5631630,5006838,4550441,4419524,4868551,4359920,5571090,5343541.5,5236606,5656381,5144126,4838990,5228561,5402492,5158228,5567549,5825985,5376497,904094.5,749775,735540,954203,908542,1017574,869986,858392,1084985,970056,891892,4090674.6,3264402,4302035,4149036,3950751,4061727,4293795,4055491,4468120,4671285,3690104,null,12608000,13148200,14358629,16087912,15194722,15329913,15314700,15116714,14491635,15989205,15827246,15529583,null,1883000,3032200,4014177,5037575,5103239,4859293,5079301,5163781,4913883,5553105,5641341,4581996]
["Production (m3)",5516,{"$f":"FAO_Country409","v":"Russian Federation"},185,149479958.69999999,116705000,118145000,143945266,150266774,151920000,158050442,157597798,175108663,162049712,161010932,43792466.899999999,58920000,59310000,36432655,38033069,38587000,40143450,40013895,44459883,41144231,40880486,10635490.800000001,10920000,10074000,9857491,10290344,10500000,10923715,10523715,11693017,10820996,10751630,4476742,4680000,4526000,4224639,4410148,4500000,4681592,4264592,4738436,4385061,4356952,null," ",158100000,191225000,192055000,194460051,203000335,205507000,213799199,212400000,235999999,218400000,217000000,null," ",52300000,15600000,14600000,14082130,14700492,15000000,15605307,14788307,16431453,15206057,15108582]
["Production (m3)",5516,{"$f":"FAO_Country410","v":"Rwanda"},184,98000,98000,98000,98000,98000,98000,98000,98000,98000,98000,98000,1113927,1113927,1113927,1113927,1113927,1113927,1113927,1113927,1113927,1113927,1113927,0,0,0,0,0,0,0,0,0,0,0,5000000,5000000,5000000,5000000,5000000,5000000,5000000,5000000,5000000,5000000,5000000,null,6388000,5400000,6211927,6211927,6211927,6211927,6211927,6211927,6211927,6211927,6211927,6211927,null,6368000,5000000,5000000,5000000,5000000,5000000,5000000,5000000,5000000,5000000,5000000,5000000]
["Production (m3)",5516,{"$f":"FAO_Country412","v":"Saint Lucia"},189,"",null,null,null,null,null,null,null,null,null,null,"",null,null,null,null,null,null,null,null,null,null,0,0,0,0,0,0,0,0,0,0,0,9709.7999999999993,9858,9866,9875,9883,9892,9757,9623,9491,9491,9362,null,8981,9422,9858,9866,9875,9883,9892,9757,9623,9491,9491,9362,null,8981,9422,9858,9866,9875,9883,9892,9757,9623,9491,9491,9362]
["Production (m3)",5516,{"$f":"FAO_Country413","v":"Saint Pierre and Miquelon"},190,"",null,null,null,null,null,null,null,null,null,null,"",null,null,null,null,null,null,null,null,null,null,"",null,null,null,null,null,null,null,null,null,null,600,600,600,600,600,600,600,600,600,600,600,null," "," ",600,600,600,600,600,600,600,600,600,600,null," "," ",600,600,600,600,600,600,600,600,600,600]
["Production (m3)",5516,{"$f":"FAO_Country414","v":"Saint Vincent and the Grenadines"},191,"",null,null,null,null,null,null,null,null,null,null,"",null,null,null,null,null,null,null,null,null,null,0,0,0,0,0,0,0,0,0,0,0,7210.8,7396,7349,7303,7257,7212,7167,7141,7106,7106,7071,null,9232,8217,7396,7349,7303,7257,7212,7167,7141,7106,7106,7071,null,9232,8217,7396,7349,7303,7257,7212,7167,7141,7106,7106,7071]
["Production (m3)",5516,{"$f":"FAO_Country415","v":"Samoa"},244,"",null,null,null,null,null,null,null,null,null,null,5700,5700,5700,5700,5700,5700,5700,5700,5700,5700,5700,0,0,0,0,0,0,0,0,0,0,0,70000,70000,70000,70000,70000,70000,70000,70000,70000,70000,70000,null,131000,87900,75700,75700,75700,75700,75700,75700,75700,75700,75700,75700,null,70000,70000,70000,70000,70000,70000,70000,70000,70000,70000,70000,70000]
["Production (m3)",5516,{"$f":"FAO_Country416","v":"Sao Tome and Principe"},193,3200,3200,3200,3200,3200,3200,3200,3200,3200,3200,3200,24000,24000,24000,24000,24000,24000,24000,24000,24000,24000,24000,0,0,0,0,0,0,0,0,0,0,0,109620.4,108310,101000,103000,105000,111966,112552,113144,113744,113744,113744,null,88464,109137,135510,128200,130200,132200,139166,139752,140344,140944,140944,140944,null,79464,95937,108310,101000,103000,105000,111966,112552,113144,113744,113744,113744]
["Production (m3)",5516,{"$f":"FAO_Country417","v":"Saudi Arabia"},194,"",null,null,null,null,null,null,null,null,null,null,"",null,null,null,null,null,null,null,null,null,null,"",null,null,null,null,null,null,null,null,null,null,283321.40000000002,254029,260807,267766,274910,282245,288434,294758,301220,301220,307825,null,118957,178587,254029,260807,267766,274910,282245,288434,294758,301220,301220,307825,null,118957,178587,254029,260807,267766,274910,282245,288434,294758,301220,301220,307825]
["Production (m3)",5516,{"$f":"FAO_Country418","v":"Senegal"},195,"",null,null,null,null,null,null,null,null,null,null,814800,804000,804000,804000,840000,816000,816000,816000,816000,816000,816000,0,0,0,0,0,0,0,0,0,0,0,5548366.7000000002,5452552,5478154,5504011,5530127,5556504,5570178,5584008,5597996,5597996,5612141,null,5325260,5907580,6256552,6282154,6308011,6370127,6372504,6386178,6400008,6413996,6413996,6428141,null,4687260,5113580,5452552,5478154,5504011,5530127,5556504,5570178,5584008,5597996,5597996,5612141]
["Production (m3)",5516,{"$f":"FAO_Country420","v":"Serbia"},272,271800,228000,214000,217000,203000,239000,274000,264000,321000,386000,372000,1178700,1133000,1103000,1104000,1091000,1110000,1265000,1089000,1105000,1377000,1410000,117100,124000,104000,105000,92000,99000,113000,121000,130000,141000,142000,6250700,6221000,6128000,6252000,6197000,6207000,6263000,6315000,6403000,6209000,6312000,null," "," ",7706000,7549000,7678000,7583000,7655000,7915000,7789000,7959000,8113000,8236000,null," "," ",6345000,6232000,6357000,6289000,6306000,6376000,6436000,6533000,6350000,6454000]
["Production (m3)",5516,{"$f":"FAO_Country421","v":"Seychelles"},196,0,0,0,0,0,0,0,0,0,0,0,9680,9680,9680,9680,9680,9680,9680,9680,9680,9680,9680,0,0,0,0,0,0,0,0,0,0,0,3160,3160,3160,3160,3160,3160,3160,3160,3160,3160,3160,null,10140,11940,12840,12840,12840,12840,12840,12840,12840,12840,12840,12840,null,5860,4060,3160,3160,3160,3160,3160,3160,3160,3160,3160,3160]
["Production (m3)",5516,{"$f":"FAO_Country422","v":"Sierra Leone"},197,"",null,null,null,null,null,null,null,null,null,null,183520,123600,123600,123600,123600,123600,123600,123600,320000,320000,330000,0,0,0,0,0,0,0,0,0,0,0,5807704.9000000004,5619250,5659752,5703099,5749270,5798250,5838488,5881280,5926606,5926606,5974448,null,4826850,5481360,5742850,5783352,5826699,5872870,5921850,5962088,6004880,6246606,6246606,6304448,null,4688850,5357760,5619250,5659752,5703099,5749270,5798250,5838488,5881280,5926606,5926606,5974448]
["Production (m3)",5516,{"$f":"FAO_Country423","v":"Singapore"},200,"",null,null,null,null,null,null,null,null,null,null,"",null,null,null,null,null,null,null,null,null,null,0,0,0,0,0,0,0,0,0,0,0,30055.9,32245,31705,31179,30665,30164,29675,29197,28729,28729,28271,null,null,null,32245,31705,31179,30665,30164,29675,29197,28729,28729,28271,null,null,null,32245,31705,31179,30665,30164,29675,29197,28729,28729,28271]
["Production (m3)",5516,{"$f":"FAO_Country424","v":"Slovakia"},199,3715667.7,5124046,4134226,3696196,4890150,2860000,4141487,2752000,3245727,2536918,3775927,2267310.5,3445866,3480375,3676601,3717770,952214,1982171,718205,675430,876271,3148202,237240.3,324798,292329,356844,259040,202520,180018,153015,198020,146826,258993,641769.1,318197,294744,332946,301020,1039709,1091694,885828,920114,968702,264737,null," ",6163000,9212907,8201674,8062587,9167980,5054443,7395370,4509048,5039291,4528717,7447859,null," ",277000,642995,587073,689790,560060,1242229,1271712,1038843,1118134,1115528,523730]
["Production (m3)",5516,{"$f":"FAO_Country425","v":"Slovenia"},198,2502046.9,1582241,1663093,1721452,2562370,2860000,3313000,2752000,3291279,3291279,1983755,714986.8,469457,557006,566708,948310,952214,796679,718205,660289,660289,820711,178125.4,176673,172499,174514,201820,202520,180018,153015,198020,198020,124155,1030514.3,1159496,948491,952503,1386840,1039709,1091694,885828,944113,944113,952356,null," ",2253000,3387867,3341089,3415177,5099340,5054443,5381391,4509048,5093701,5093701,3880977,null," ",532000,1336169,1120990,1127017,1588660,1242229,1271712,1038843,1142133,1142133,1076511]
["Production (m3)",5516,{"$f":"FAO_Country426","v":"Solomon Islands"},25,0,0,0,0,0,0,0,0,0,0,0,2699400,1992000,2130000,2185000,2490000,2729000,2662000,3206000,3200000,3200000,3200000,0,0,0,0,0,0,0,0,0,0,0,133006.6,129432,130422,131423,132434,133456,133884,134316,134753,134753,135193,null,580000,704000,2121432,2260422,2316423,2622434,2862456,2795884,3340316,3334753,3334753,3335193,null,138000,138000,129432,130422,131423,132434,133456,133884,134316,134753,134753,135193]
["Production (m3)",5516,{"$f":"FAO_Country427","v":"Somalia"},201,"",null,null,null,null,null,null,null,null,null,null,110000,110000,110000,110000,110000,110000,110000,110000,110000,110000,110000,0,0,0,0,0,0,0,0,0,0,0,14760206.199999999,13956738,13956738,13956738,14038437,14446385,14820680,15206282,15603568,15603568,16012928,null,6365330,9338020,14066738,14066738,14066738,14148437,14556385,14930680,15316282,15713568,15713568,16122928,null,6264330,9228020,13956738,13956738,13956738,14038437,14446385,14820680,15206282,15603568,15603568,16012928]
["Production (m3)",5516,{"$f":"FAO_Country428","v":"South Africa"},202,6766390.5999999996,7555935,7819234,7543436,6671130,6751130,6619084,5634585,6751913,6751913,5565546,8695065.8000000007,8350452,10087125,8074202,8062713,8532824,7799655,7302217,9004804,9004804,10731862,18263.8,0,0,0,23629,29064,27359,25764,25764,25764,25294,12000000,12000000,12000000,12000000,12000000,12000000,12000000,12000000,12000000,12000000,12000000,null,28182000,30959200,27906387,29906359,27617638,26757472,27313018,26446098,24962566,27782481,27782481,28322702,null,11800000,12000000,12000000,12000000,12000000,12023629,12029064,12027359,12025764,12025764,12025764,12025294]
["Production (m3)",5516,{"$f":"FAO_Country429","v":"South Sudan"},277,"",null,null,null,null,null,null,null,null,null,null,"",null,null,null,null,null,null,null,null,null,null,0,null,0,0,0,0,0,0,0,0,0,4618000,null,4428000,4474000,4522000,4621000,4652000,4683000,4716000,4716000,4750000,null," "," ",null,4428000,4474000,4522000,4621000,4652000,4683000,4716000,4716000,4750000,null," "," ",null,4428000,4474000,4522000,4621000,4652000,4683000,4716000,4716000,4750000]
["Production (m3)",5516,{"$f":"FAO_Country430","v":"Spain"},203,6467284,4624880,4935450,4865003,5786331,6183470,6121920,7792271,8031708,8082757,8249050,7083640.5999999996,6902892,6691345,7259295,6900012,6721149,7203069,6850072,7425432,7775843,7107297,1461449,700000,530000,1195000,1288000,2895890,1418927,1036385,1897556,1834015,1818717,1866474.7,3200000,2500000,2240000,2421000,1626981,1504379,1232209,1608765,1198932,1132481,null,15590000,14321000,15427772,14656795,15559298,16395343,17427490,16248295,16910937,18963461,18891547,18307545,null,1800000,1600000,3900000,3030000,3435000,3709000,4522871,2923306,2268594,3506321,3032947,2951198]
["Production (m3)",5516,{"$f":"FAO_Country431","v":"Sri Lanka"},38,0,0,0,0,0,0,0,0,0,0,0,698910,698000,698000,698000,698000,698000,698000,723000,692700,692700,692700,0,0,0,0,0,0,0,0,0,0,0,4812352.2,5135686,5061151,4987952,4916061,4845448,4763063,4682310,4603151,4603151,4525549,null,7007050,6582560,5833686,5759151,5685952,5614061,5543448,5461063,5405310,5295851,5295851,5218249,null,6349350,5906560,5135686,5061151,4987952,4916061,4845448,4763063,4682310,4603151,4603151,4525549]
["Production (m3)",5516,{"$f":"FAO_Country432","v":"Sudan (former)"},206,0,0,null,null,null,null,null,null,null,null,null,1105750,null,952000,952000,1157000,1157000,1157000,1157000,1157000,1157000,null,0,0,null,null,null,null,null,null,null,null,null,18966000,18966000,null,null,null,null,null,null,null,null,null,null,18095200,18853100,19792000,null,null,null,null,null,null,null,null,null,null,16286200,16680100,18966000]
["Production (m3)",5516,{"$f":"FAO_Country433","v":"Sudan"},276,0,null,0,0,0,0,0,0,0,0,0,991500,826000,null,null,null,null,null,null,null,null,1157000,0,null,0,0,0,0,0,0,0,0,0,15249710.333333334,null,14734000,14889000,15048000,15211000,15313000,15417000,15526000,15526000,15583393,null," "," ",null,15686000,15841000,16205000,16368000,16470000,16574000,16683000,16683000,16740393,null," "," ",null,14734000,14889000,15048000,15211000,15313000,15417000,15526000,15526000,15583393]
["Production (m3)",5516,{"$f":"FAO_Country434","v":"Suriname"},207,66.900000000000006,233,89,0,0,0,103,61,61,61,61,693561.3,365100,435100,394300,492300,568058,577430,862846,1082920,1082920,1074639,0,0,0,0,0,0,0,0,0,0,0,89770,94700,92400,90200,90200,90200,88000,88000,88000,88000,88000,null,144367,223700,460033,527589,484500,582500,658258,665533,950907,1170981,1170981,1162700,null,38367,42700,94700,92400,90200,90200,90200,88000,88000,88000,88000,88000]
["Production (m3)",5516,{"$f":"FAO_Country435","v":"Eswatini"},209,864000,null,null,null,null,null,null,null,null,null,864000,70000,70000,70000,70000,70000,70000,70000,70000,70000,70000,70000,48000,0,0,0,0,0,0,120000,120000,120000,120000,1503184.3,1432000,1263000,1218000,1173000,1329000,1764000,1634000,1700000,1700000,1818843,null,1680890,1214750,2366000,2197000,2152000,2107000,2263000,2698000,2688000,2754000,2754000,2872843,null,716886,884750,1432000,1263000,1218000,1173000,1329000,1764000,1754000,1820000,1820000,1938843]
["Production (m3)",5516,{"$f":"FAO_Country436","v":"Sweden"},210,62515000,61975000,59645000,59810000,63680000,63760000,64300000,62130000,62750000,63050000,64050000,4572900,4025000,3954000,3890000,3720000,3540000,3600000,5450000,5550000,5450000,6550000,3168000,2950000,2950000,2950000,2950000,3500000,3450000,3300000,3400000,3500000,2730000,3168000,2950000,2950000,2950000,2950000,3500000,3450000,3300000,3400000,3500000,2730000,null,52871000,63300000,71900000,69499000,69600000,73300000,74300000,74800000,74180000,75100000,75500000,76060000,null,3800000,5900000,5900000,5900000,5900000,5900000,7000000,6900000,6600000,6800000,7000000,5460000]
["Production (m3)",5516,{"$f":"FAO_Country437","v":"Switzerland"},211,2495423.1,2840399,2536184,2499320,2609670,2338230,2258550,2374950,2814030,2279291,2403607,448292,481693,449411,424480,504720,479750,459130,464270,425160,390414,403892,594037.4,477521,544000,569000,568000,548000,553000,549570,679490,665900,785893,1124016.8,1061394,1129000,1241000,1231000,1186000,1188000,1095180,1056440,993054,1059100,null,6332000,9238000,4861007,4658595,4733800,4913390,4551980,4458680,4483970,4975120,4328659,4652492,null,879000,1626000,1538915,1673000,1810000,1799000,1734000,1741000,1644750,1735930,1658954,1844993]
["Production (m3)",5516,{"$f":"FAO_Country438","v":"Syrian Arab Republic"},212,12000,12000,12000,12000,12000,12000,12000,12000,12000,12000,12000,27800,27800,27800,27800,27800,27800,27800,27800,27800,27800,27800,26594.799999999999,22969,24372,25105,25860,26638,27226,27827,28441,28441,29069,5947.6,5278,5436,5600,5768,5942,6073,6207,6344,6344,6484,null,49600,50400,68047,69608,70505,71428,72380,73099,73834,74585,74585,75353,null,8900,15900,28247,29808,30705,31628,32580,33299,34034,34785,34785,35553]
["Production (m3)",5516,{"$f":"FAO_Country439","v":"Tajikistan"},208,0,0,0,0,0,0,0,0,0,0,0,0,0,0,0,0,0,0,0,0,0,0,1288400,45000,45000,45000,1764000,1800000,1837000,1837000,1837000,1837000,1837000,1288400,45000,45000,45000,1764000,1800000,1837000,1837000,1837000,1837000,1837000,null," ",0,90000,90000,90000,3528000,3600000,3674000,3674000,3674000,3674000,3674000,null," ",0,90000,90000,90000,3528000,3600000,3674000,3674000,3674000,3674000,3674000]
["Production (m3)",5516,{"$f":"FAO_Country440","v":"Thailand"},216,"",null,null,null,null,null,null,null,null,null,null,14600000,14600000,14600000,14600000,14600000,14600000,14600000,14600000,14600000,14600000,14600000,0,0,0,0,0,0,0,0,0,0,0,18771861.300000001,19186500,19079925,18981414,18890685,18807472,18702765,18605596,18515705,18515705,18432846,null,24900000,26814500,33786500,33679925,33581414,33490685,33407472,33302765,33205596,33115705,33115705,33032846,null,21807000,20552500,19186500,19079925,18981414,18890685,18807472,18702765,18605596,18515705,18515705,18432846]
["Production (m3)",5516,{"$f":"FAO_Country441","v":"North Macedonia"},154,51000,null,null,null,null,null,null,null,null,null,51000,67300,66000,67000,61000,64000,61000,77000,73000,68000,62000,74000,15900,1000,9000,11000,10000,21000,24000,14000,21000,22000,26000,618700,475000,643000,566000,524000,702000,733000,673000,660000,627000,584000,null," ",1052000,597000,779000,691000,655000,850000,890000,807000,802000,759000,735000,null," ",875000,476000,652000,577000,534000,723000,757000,687000,681000,649000,610000]
["Production (m3)",5516,{"$f":"FAO_Country442","v":"Timor-Leste"},176,"",null,null,null,null,null,null,null,null,null,null,"",null,null,null,null,null,null,null,null,null,null,0,0,0,0,0,0,0,0,0,0,0,96280.4,115162,110395,105791,101344,97047,92980,88873,84989,84989,81234,null," ",178872,115162,110395,105791,101344,97047,92980,88873,84989,84989,81234,null," ",178872,115162,110395,105791,101344,97047,92980,88873,84989,84989,81234]
["Production (m3)",5516,{"$f":"FAO_Country443","v":"Togo"},217,"",null,null,null,null,null,null,null,null,null,null,216691.4,172000,230000,230000,228000,176000,205000,246000,246000,246000,187914,0,0,0,0,0,0,0,0,0,0,0,4424000,4424000,4424000,4424000,4424000,4424000,4424000,4424000,4424000,4424000,4424000,null,4766290,5805190,4596000,4654000,4654000,4652000,4600000,4629000,4670000,4670000,4670000,4611914,null,4581290,5499190,4424000,4424000,4424000,4424000,4424000,4424000,4424000,4424000,4424000,4424000]
["Production (m3)",5516,{"$f":"FAO_Country444","v":"Tonga"},219,1000,1000,1000,1000,1000,1000,1000,1000,1000,1000,1000,1000,1000,1000,1000,1000,1000,1000,1000,1000,1000,1000,0,0,0,0,0,0,0,0,0,0,0,2092.9,2126,2119,2112,2105,2098,2089,2079,2070,2070,2061,null,4470,3710,4126,4119,4112,4105,4098,4089,4079,4070,4070,4061,null,2170,2210,2126,2119,2112,2105,2098,2089,2079,2070,2070,2061]
["Production (m3)",5516,{"$f":"FAO_Country445","v":"Trinidad and Tobago"},220,4750,5000,5000,2500,5000,5000,5000,5000,5000,5000,5000,131260,60000,60000,60000,161800,161800,161800,161800,161800,161800,161800,0,0,0,0,0,0,0,0,0,0,0,31255.599999999999,32517,32218,31926,31640,31360,31054,30753,30459,30459,30170,null,89947,108515,97517,97218,94426,198440,198160,197854,197553,197259,197259,196970,null,39747,36515,32517,32218,31926,31640,31360,31054,30753,30459,30459,30170]
["Production (m3)",5516,{"$f":"FAO_Country446","v":"Tunisia"},222,156800,50000,102000,177000,177000,177000,177000,177000,177000,177000,177000,129600,168000,112000,127000,127000,127000,127000,127000,127000,127000,127000,688511.1,218111,731000,742000,742000,742000,742000,742000,742000,742000,742000,2775166.4,1969664,2838000,2868000,2868000,2868000,2868000,2868000,2868000,2868000,2868000,null,2054970,2307850,2405775,3783000,3914000,3914000,3914000,3914000,3914000,3914000,3914000,3914000,null,1888970,2094050,2187775,3569000,3610000,3610000,3610000,3610000,3610000,3610000,3610000,3610000]
["Production (m3)",5516,{"$f":"FAO_Country447","v":"Turkey"},223,13117900,10147000,11274000,10867000,11750000,13818000,14404000,13429000,14930000,15030000,15530000,6657300,6276000,6427000,5895000,6785000,6190000,5985000,6033000,7536000,7670000,7776000,2125520,1962000,1762000,1692000,1900000,1792200,2502000,2463000,2402000,2450000,2330000,2837360,2654000,2496000,2404000,2400000,2841600,3045000,2880000,3286000,3300000,3067000,null,15756000,15939300,21039000,21959000,20858000,22835000,24641800,25936000,24805000,28154000,28450000,28703000,null,9796000,5510300,4616000,4258000,4096000,4300000,4633800,5547000,5343000,5688000,5750000,5397000]
["Production (m3)",5516,{"$f":"FAO_Country448","v":"Turkmenistan"},213,0,0,0,0,0,0,0,0,0,0,0,0,0,0,0,0,0,0,0,0,0,0,0,0,0,0,0,0,0,0,0,0,0,2000,10000,0,0,0,0,0,0,0,0,10000,null," ",2500,10000,0,0,0,0,0,0,0,0,10000,null," ",2500,10000,0,0,0,0,0,0,0,0,10000]
["Production (m3)",5516,{"$f":"FAO_Country449","v":"Turks and Caicos Islands"},224,"",null,null,null,null,null,null,null,null,null,null,"",null,null,null,null,null,null,null,null,null,null,0,0,0,0,0,0,0,0,0,0,0,1132.9000000000001,1027,1056,1085,1115,1147,1159,1172,1185,1185,1198,null,435,656,1027,1056,1085,1115,1147,1159,1172,1185,1185,1198,null,435,656,1027,1056,1085,1115,1147,1159,1172,1185,1185,1198]
["Production (m3)",5516,{"$f":"FAO_Country451","v":"Uganda"},226,850000,533000,755000,799000,844000,894000,935000,935000,935000,935000,935000,4129700,3678000,3620000,3808000,4004000,4212000,4395000,4395000,4395000,4395000,4395000,0,0,0,0,0,0,0,0,0,0,0,42688773.100000001,41600000,41600000,41600000,41856575,42438054,42861593,43292521,43730965,43730965,44177058,null,31004500,37265300,45811000,45975000,46207000,46704575,47544054,48191593,48622521,49060965,49060965,49507058,null,29265500,34090300,41600000,41600000,41600000,41856575,42438054,42861593,43292521,43730965,43730965,44177058]
["Production (m3)",5516,{"$f":"FAO_Country452","v":"Ukraine"},230,6460212.5999999996,5540626,5609000,6381500,6618000,6618000,6618000,5845000,6713200,7314800,7344000,{"$f":"IFERROR(AVERAGE(Q197:Z197),\"\")","v":1840157.4},2448774,2241800,1720600,1545000,1545000,1545000,1452000,2262800,1988600,1652000,{"$f":"IFERROR(AVERAGE(AB197:AK197),\"\")","v":5271139.0999999996},6492162,6584200,6745500,4446000,4446000,4446000,5973000,6048400,3950600,3579529,{"$f":"IFERROR(AVERAGE(AM197:AV197),\"\")","v":4560510.9000000004},3028738,3071700,3174300,5728000,5728000,5728000,5645000,4671300,4632600,4197471,null," ",9859330,17510300,17506700,18021900,18337000,18337000,18337000,18915000,19695700,17886600,16773000,null," ",4058000,9520900,9655900,9919800,10174000,10174000,10174000,11618000,10719700,8583200,7777000]
["Production (m3)",5516,{"$f":"FAO_Country453","v":"United Arab Emirates"},225,{"$f":"IFERROR(AVERAGE(F198:O198),\"\")","v":""},null,null,null,null,null,null,null,null,null,null,"",null,null,null,null,null,null,null,null,null,null,0,0,0,0,0,0,0,0,0,0,0,18631.8,18144,18287,18432,18578,18724,18765,18806,18847,18847,18888,null,11625,15672,18144,18287,18432,18578,18724,18765,18806,18847,18847,18888,null,11625,15672,18144,18287,18432,18578,18724,18765,18806,18847,18847,18888]
["Production (m3)",5516,{"$f":"FAO_Country454","v":"United Kingdom"},229,8634641,8663592,8671768,9130140,9245531,8517447,8709067,8708789,8554326,8155493,7990257,124609.1,123076,115779,113040,115511,111401,172517,116022,117865,147775,113105,1477910,883800,982000,1227500,1473000,1571200,1522100,1571200,1865800,1865800,1816700,446250,350000,350000,350000,350000,350000,350000,525000,612500,612500,612500,null,6350000,7785000,10020468,10119547,10820680,11184042,10550048,10753684,10921011,11150491,10781568,10532562,null,225000,229000,1233800,1332000,1577500,1823000,1921200,1872100,2096200,2478300,2478300,2429200]
["Production (m3)",5516,{"$f":"FAO_Country455","v":"United Republic of Tanzania"},215,989420,514000,791000,1073650,1073650,1073650,1073650,1073650,1073650,1073650,1073650,1771543.2,1800000,1800000,1764429,1764429,1764429,1764429,1764429,1764429,1764429,1764429,32175.9,30732,31058,31400,31757,32131,32425,32735,33060,33060,33401,24120657.699999999,23038266,23282701,23538818,23806860,24087083,24307644,24539666,24783339,24783339,25038861,null,20513200,23100600,25382998,25904759,26408297,26676696,26957293,27178148,27410480,27654478,27654478,27910341,null,18567200,20786600,23068998,23313759,23570218,23838617,24119214,24340069,24572401,24816399,24816399,25072262]
["Production (m3)",5516,{"$f":"FAO_Country456","v":"United States of America"},231,274283106.5,260621000,254923000,259642000,261319811,263403660,279039000,282261708,294955296,293642269,293023321,92155983.599999994,94083000,92153000,95295000,95492097,91274752,95437000,90059670,97554296,94059679,76151342,15643372.300000001,7933339,7933000,8216672,8216672,8431000,11817000,12238000,32506311,32796690,26345039,38263249.200000003,32503337,32503000,33664171,33664171,35914000,50339000,52132000,39102251,38630241,34180321,null,509319000,466549000,395140676,387512000,396817843,398692751,399023412,436632000,436691378,464118154,459128879,429700023,null,82119000,45930000,40436676,40436000,41880843,41880843,44345000,62156000,64370000,71608562,71426931,60525360]
["Production (m3)",5516,{"$f":"FAO_Country457","v":"Uruguay"},234,1603170.8,1079000,722000,661000,832225,794946,806010,2234934,3242311,3242311,2416971,9423168.0999999996,6921000,6033000,7130000,8933233,10279880,10491281,11094714,11178830,11178830,10990913,18279.900000000001,0,0,0,0,21000,29400,30849,35617,35617,30316,2565896.1,2430000,2383000,2383000,2756000,2756000,2756000,2535271,2530503,2530503,2598684,null,3914110,2934000,10430000,9138000,10174000,12521458,13851826,14082691,15895768,16987261,16987261,16036884,null,3072110,1423000,2430000,2383000,2383000,2756000,2777000,2785400,2566120,2566120,2566120,2629000]
["Production (m3)",5516,{"$f":"FAO_Country458","v":"Uzbekistan"},235,0,0,0,0,0,0,0,0,0,0,0,9900,9000,10000,10000,10000,10000,10000,10000,10000,10000,10000,0,0,0,0,0,0,0,0,0,0,0,24500,23000,26000,26000,26000,24000,24000,24000,24000,24000,24000,null," ",28900,32000,36000,36000,36000,34000,34000,34000,34000,34000,34000,null," ",24000,23000,26000,26000,26000,24000,24000,24000,24000,24000,24000]
["Production (m3)",5516,{"$f":"FAO_Country459","v":"Vanuatu"},155,10000,10000,10000,10000,10000,10000,10000,10000,10000,10000,10000,28000,28000,28000,28000,28000,28000,28000,28000,28000,28000,28000,0,0,0,0,0,0,0,0,0,0,0,91000,91000,91000,91000,91000,91000,91000,91000,91000,91000,91000,null,63200,131000,129000,129000,129000,129000,129000,129000,129000,129000,129000,129000,null,24000,91000,91000,91000,91000,91000,91000,91000,91000,91000,91000,91000]
["Production (m3)",5516,{"$f":"FAO_Country460","v":"Venezuela (Bolivarian Republic of)"},236,496900,938000,537000,519000,425000,425000,425000,425000,425000,425000,425000,864400,803000,759000,838000,892000,892000,892000,892000,892000,892000,892000,0,0,0,0,0,0,0,0,0,0,0,4228195.5,4089388,4124793,4160782,4197360,4234531,4257437,4280702,4304326,4304326,4328310,null,3928330,4707650,5830388,5420793,5517782,5514360,5551531,5574437,5597702,5621326,5621326,5645310,null,2990330,3604650,4089388,4124793,4160782,4197360,4234531,4257437,4280702,4304326,4304326,4328310]
["Production (m3)",5516,{"$f":"FAO_Country461","v":"Viet Nam"},237,905000,350000,350000,550000,700000,800000,1100000,1300000,1300000,1300000,1300000,32570690,28450000,30050000,30958960,32035420,32535420,31035420,32535420,36035420,36035420,36035420,0,0,0,0,0,0,0,0,0,0,0,20040000,20400000,20000000,20000000,20000000,20000000,20000000,20000000,20000000,20000000,20000000,null,31203400,30868500,49200000,50400000,51508960,52735420,53335420,52135420,53835420,57335420,57335420,57335420,null,26534400,26685500,20400000,20000000,20000000,20000000,20000000,20000000,20000000,20000000,20000000,20000000]
["Production (m3)",5516,{"$f":"FAO_Country462","v":"Wallis and Futuna Islands"},243,"",null,null,null,null,null,null,null,null,null,null,400,400,400,400,400,400,400,400,400,400,400,"",null,null,null,null,null,null,null,null,null,null,"",null,null,null,null,null,null,null,null,null,null,null," "," ",400,400,400,400,400,400,400,400,400,400,null," "," "]
["Production (m3)",5516,{"$f":"FAO_Country463","v":"Yemen"},249,"",null,null,null,null,null,null,null,null,null,null,2567.5,null,null,null,null,null,null,2470,2600,2600,2600,0,0,0,0,0,0,0,0,0,0,0,528185.4,456134,472047,488545,505651,523387,539699,556548,573954,573954,591935,null,173220,301896,456134,472047,488545,505651,523387,539699,559018,576554,576554,594535,null,173220,301896,456134,472047,488545,505651,523387,539699,556548,573954,573954,591935]
["Production (m3)",5516,{"$f":"FAO_Country465","v":"Zambia"},251,512300,300000,300000,300000,300000,300000,300000,647000,892000,892000,892000,1454800,1155000,1155000,1155000,1220000,1215000,1255000,1993000,1800000,1800000,1800000,"",null,null,null,null,null,null,null,null,null,null,22971600,22419000,23033000,23033000,23033000,23033000,23033000,23033000,23033000,23033000,23033000,null,7119110,8384890,23874000,24488000,24488000,24553000,24548000,24588000,25673000,25725000,25725000,25725000,null,6443110,7827890,22419000,23033000,23033000,23033000,23033000,23033000,23033000,23033000,23033000,23033000]
["Production (m3)",5516,{"$f":"FAO_Country466","v":"Zimbabwe"},181,570600,498000,441000,609000,609000,609000,609000,540720,596760,596760,596760,27020,20400,38600,26400,26400,26400,26400,26400,26400,26400,26400,224.1,216,218,220,222,224,226,227,229,229,230,9109572.9000000004,8787323,8866701,8946796,9027614,9109162,9171224,9233709,9296620,9296620,9359960,null,6904200,9093600,9305939,9346519,9582416,9663236,9744786,9806850,9801056,9920009,9920009,9983350,null,6260200,8115200,8787539,8866919,8947016,9027836,9109386,9171450,9233936,9296849,9296849,9360190]

{"sheet":"FAOSTAT_FH","index":21,"n_rows":213,"n_cols":28,"rows_kept":213,"cut":false,"hidden":true,"merged":[[1,0,1,1],[1,2,1,3],[3,0,3,1],[3,2,3,3],[2,0,2,1],[2,2,2,3]]}
["FAOSTAT 2013"]
["Elements  ",null,"Areas  ",null,{"$f":"title41","v":"Roundwood + (Total)"},"Roundwood + (Total)","Roundwood + (Total)","Roundwood + (Total)","Roundwood + (Total)","Roundwood + (Total)","Roundwood + (Total)","Roundwood + (Total)","Roundwood + (Total)","Roundwood + (Total)","Roundwood + (Total)","Roundwood + (Total)",{"$f":"title42","v":"Wood Fuel + (Total)"},"Wood Fuel + (Total)","Wood Fuel + (Total)","Wood Fuel + (Total)","Wood Fuel + (Total)","Wood Fuel + (Total)","Wood Fuel + (Total)","Wood Fuel + (Total)","Wood Fuel + (Total)","Wood Fuel + (Total)","Wood Fuel + (Total)","Wood Fuel + (Total)"]
[null,null,null,null,{"$f":"CONCATENATE(E2,E4)","v":"Roundwood + (Total)1990"},"Roundwood + (Total)2000","Roundwood + (Total)2010","Roundwood + (Total)2011","Roundwood + (Total)2012","Roundwood + (Total)2013","Roundwood + (Total)2014","Roundwood + (Total)2015","Roundwood + (Total)2016","Roundwood + (Total)2017","Roundwood + (Total)2018","Roundwood + (Total)2019","Wood Fuel + (Total)1990","Wood Fuel + (Total)2000","Wood Fuel + (Total)2010","Wood Fuel + (Total)2011","Wood Fuel + (Total)2012","Wood Fuel + (Total)2013","Wood Fuel + (Total)2014","Wood Fuel + (Total)2015","Wood Fuel + (Total)2016","Wood Fuel + (Total)2017","Wood Fuel + (Total)2018","Wood Fuel + (Total)2019"]
["FAOSTAT foresty domain 2019",null,null,null,1990,2000,2010,2011,2012,2013,2014,2015,2016,2017,2018,2019,1990,2000,2010,2011,2012,2013,2014,2015,2016,2017,2018,2019]
["Production (m3)",5516,{"$f":"FAO_Country251","v":"Afghanistan"},2,2155216,3038715,3415317,3453939,3485812,3518409,3551747,3583797,3616559,3650051,3650051,3684292,691216,1278715,1655317,1693939,1725812,1758409,1791747,1823797,1856559,1890051,1890051,1924292]
["Production (m3)",5516,{"$f":"FAO_Country252","v":"Albania"},3,2076000,447000,1180000,1180000,1180010,1180010,1180010,1180010,1180010,1180010,1180010,1180010,1556000,324000,1100000,1100000,1100000,1100000,1100000,1100000,1100000,1100000,1100000,1100000]
["Production (m3)",5516,{"$f":"FAO_Country253","v":"Algeria"},4,5900620,7236136,8384777,8455290,8526630,8598808,8671832,8722372,8773392,8824897,8824897,8876893,5639620,7074136,8246177,8316690,8388030,8460208,8533232,8583772,8634792,8686297,8686297,8738293]
["Production (m3)",5516,{"$f":"FAO_Country254","v":"Andorra"},6,null,null,0,0,0,0,0,0,0,0,0,0,null,null,0,0,0,0,0,0,0,0,0,0]
["Production (m3)",5516,{"$f":"FAO_Country255","v":"Angola"},7,3185007,4259117,5234538,5335293,5441681,5554785,5704689,5803131,5926932,6023161,6023161,6121886,2342007,3163217,4100538,4194293,4290681,4389785,4491689,4583131,4676932,4773161,4773161,4871886]
["Production (m3)",5516,{"$f":"FAO_Country256","v":"Anguilla"},258]
["Production (m3)",5516,{"$f":"FAO_Country257","v":"Argentina"},9,10230020,10703792,14624000,16496000,18261000,15033332,16221000,16979000,17884109,17884109,17884109,17884109,3097050,2993381,4556000,3978000,4595000,4092800,4451000,4297000,4072039,4072039,4072039,4072039]
["Production (m3)",5516,{"$f":"FAO_Country258","v":"Armenia"},1,null,57400,2075000,2076000,1547100,1547100,1547900,1548200,1548100,1548200,1547000,1546052,null,57400,2074000,2074000,1546000,1546000,1546000,1546000,1546000,1546000,1546000,1546000]
["Production (m3)",5516,{"$f":"FAO_Country259","v":"Aruba"},22,1194,1282,1808,1872,1872,2005,2075,2153,2233,2317,2317,2403,1194,1282,1808,1872,1872,2005,2075,2153,2233,2317,2317,2403]
["Production (m3)",5516,{"$f":"FAO_Country260","v":"Australia"},10,20758312,31181000,31394000,28242000,27324000,30012000,31386248,34127611,37274909,37030201,37030201,36799476,3545312,6774000,4862000,4745000,4745000,4745000,4096284,4044592,4131815,4090897,4090897,4089101]
["Production (m3)",5516,{"$f":"FAO_Country261","v":"Austria"},11,16773000,13276000,18695671,18020680,17389735,17088560,17549526,16763033,17647118,19192060,18903715,16789570,2613000,2860000,5065139,5189462,4956972,5058840,4979064,4589952,4908713,5243220,5579035,5327115]
["Production (m3)",5516,{"$f":"FAO_Country262","v":"Azerbaijan"},52,null,13500,6500,6500,425300,425300,425300,425300,425300,425300,425300,425300,null,6400,3200,3200,422000,422000,422000,422000,422000,422000,422000,422000]
["Production (m3)",5516,{"$f":"FAO_Country263","v":"Bahamas"},12,143817,48127,50187,50312,50441,50574,50711,50744,50779,50818,50818,50859,28817,31127,33187,33312,33441,33574,33711,33744,33779,33818,33818,33859]
["Production (m3)",5516,{"$f":"FAO_Country264","v":"Bahrain"},13,4285,5590,6680,6767,6855,6944,7035,7107,7180,7253,7253,7328,4285,5590,6680,6767,6855,6944,7035,7107,7180,7253,7253,7328]
["Production (m3)",5516,{"$f":"FAO_Country265","v":"Bangladesh"},16,28383092,28458888,27547819,27390764,27235639,27074413,26925057,26663531,26405391,26159246,26159246,25913809,27742092,27835888,27127819,26970764,26815639,26662413,26511057,26255531,26003391,25754580,25754580,25509042]
["Production (m3)",5516,{"$f":"FAO_Country266","v":"Barbados"},14,5658,10423,10972,10940,10909,10878,10847,10812,10777,10742,10742,10708,5658,5423,4972,4940,4909,4878,4847,4812,4777,4742,4742,4708]
["Production (m3)",5516,{"$f":"FAO_Country267","v":"Belarus"},57,null,6135800,10364200,18067000,18522300,19568000,19568000,21071101,23802015,28590000,26996300,27049890,null,928200,2291600,7443000,7633000,8244000,8244000,8438800,9679100,12356300,11034200,10057700]
["Production (m3)",5516,{"$f":"FAO_Country269","v":"Belgium"},255,null,4510000,5128001,5128001,5512140,5412140,5412140,5412140,5412140,5212140,5212140,5212140,null,550000,892753,892753,892750,892750,892750,892750,892750,892750,892750,892750]
["Production (m3)",5516,{"$f":"FAO_Country270","v":"Belize"},23,187600,187600,167000,167000,167000,167000,167000,167000,167000,167000,167000,167000,126000,126000,126000,126000,126000,126000,126000,126000,126000,126000,126000,126000]
["Production (m3)",5516,{"$f":"FAO_Country271","v":"Benin"},53,5853160,6242329,6784761,6884592,6880015,6955050,6798877,6921148,6952183,6984488,6984488,7018070,5579160,5910329,6317761,6362592,6409015,6457050,6506720,6536492,6567527,6599832,6599832,6633414]
["Production (m3)",5516,{"$f":"FAO_Country272","v":"Bhutan"},18,3903812,4354796,5025103,5078401,5128760,5184336,5239825,5279812,5320254,5361159,5361159,5402530,3855112,4220796,4897103,4950401,5004420,5059168,5114657,5154644,5195086,5235991,5235991,5277362]
["Production (m3)",5516,{"$f":"FAO_Country273","v":"Bolivia (Plurinational State of)"},19,2292879,2609914,3310861,3329260,3348041,3377208,3396766,3408293,3420042,3432015,3432015,4017212,1921379,2141914,2367861,2386260,2405041,2424208,2443766,2455293,2467042,2479015,2479015,2491212]
["Production (m3)",5516,{"$f":"FAO_Country274","v":"Bosnia and Herzegovina"},80,null,4282000,4171000,4090000,4335000,4152200,4421710,4573100,4375300,4613406,4458000,4303000,null,950000,1495000,1418000,1489000,1347900,1462270,1501090,1491300,1555000,1549000,1484000]
["Production (m3)",5516,{"$f":"FAO_Country275","v":"Botswana"},20,687128,740448,791401,794538,797706,800906,804139,804218,804300,804385,804385,804472,603128,635448,686401,689538,692706,695906,699139,699218,699300,699385,699385,699472]
["Production (m3)",5516,{"$f":"FAO_Country276","v":"Brazil"},21,194577560,235401621,253144000,266769000,260756000,259233000,247884000,267102000,271967000,281523000,281523000,266288000,120300536,132407621,113175000,119965000,118123000,121549000,111707000,122000000,121012000,123442000,123442000,123299000]
["Production (m3)",5516,{"$f":"FAO_Country277","v":"British Virgin Islands"},239,896,1032,1416,1445,1476,1507,1539,1568,1598,1628,1628,1659,896,1032,1416,1445,1476,1507,1539,1568,1598,1628,1628,1659]
["Production (m3)",5516,{"$f":"FAO_Country278","v":"Brunei Darussalam"},26,104393,126232,118972,118966,118961,118957,96654,91650,77192,91033,91033,91032,10693,11532,11672,11666,11661,11657,11654,11650,11646,11643,11643,11642]
["Production (m3)",5516,{"$f":"FAO_Country279","v":"Bulgaria"},27,4089000,4783890,6205000,5972510,5804272,5570040,6372102,6409662,6405268,6529115,6163699,5404161,1503000,2107000,2841000,2915785,2778358,2533660,2848199,2928212,2989255,2849214,2709256,2332449]
["Production (m3)",5516,{"$f":"FAO_Country280","v":"Burkina Faso"},233,9641399,7996000,14134077,14315921,14501580,14691146,14884710,15041233,15200882,15363725,15363725,15529830,9241999,7402000,12963077,13144921,13330580,13520146,13713710,13870233,14029882,14192725,14192725,14358830]
["Production (m3)",5516,{"$f":"FAO_Country281","v":"Burundi"},29,6458576,6187000,10279845,6359896,6632000,6624000,6624000,6624000,6624000,6624000,6624000,6624000,5843576,5420000,9396845,5742896,6007000,5999000,5999000,5999000,5999000,5999000,5999000,5999000]
["Production (m3)",5516,"Cabo Verde",35,99811,147181,186000,186000,186000,186000,186000,186000,186000,186000,186000,186000,99811,147181,186000,186000,186000,186000,186000,186000,186000,186000,186000,186000]
["Production (m3)",5516,{"$f":"FAO_Country283","v":"Cambodia"},115,11795231,10298409,8583490,8446025,8313699,8186280,8101547,7959390,7822297,7690039,7690039,7562400,11228231,10119409,8299490,8162025,8029699,7902280,7779547,7637390,7500297,7368039,7368039,7240400]
["Production (m3)",5516,{"$f":"FAO_Country284","v":"Cameroon"},32,10783650,11005347,12433570,12135710,12870432,13508763,13925903,14257524,14329688,14403106,14403106,14477798,7647650,9111347,9992570,10080710,10170432,10261763,10354732,10425659,10497823,10571241,10571241,10645933]
["Production (m3)",5516,{"$f":"FAO_Country285","v":"Canada"},33,162127000,201845000,148178150,148183000,152076046,153464371,155996540,156744000,156717000,156802812,145167801,132179918,6169000,2927000,1442824,1442000,4324773,4638986,4638980,2050000,1534000,1173756,1173756,1750383]
["Production (m3)",5516,{"$f":"FAO_Country286","v":"Central African Republic"},37,3480000,2955000,2732447,2731122,2649977,2545489,2623154,2726250,2844713,2844713,2844713,2844713,3055000,2000000,2000000,2000000,2000000,2000000,2000000,2000000,2000000,2000000,2000000,2000000]
["Production (m3)",5516,{"$f":"FAO_Country287","v":"Chad"},39,5174498,6646198,7944997,8061182,8179635,8300404,8423541,8527918,8634254,8742591,8742591,8852974,4615498,5885198,7183997,7300182,7418635,7539404,7662541,7766918,7873254,7981591,7981591,8091974]
["Production (m3)",5516,{"$f":"FAO_Country288","v":"Chile"},40,22085000,36568000,55148000,55073000,57190789,58702789,59756789,60675789,62108789,63717133,63717133,63717133,7699000,12131000,15998000,15998000,16121789,16121789,16121789,16121789,16121789,16121789,16121789,16121789]
["Production (m3)",5516,{"$f":"FAO_Country289","v":"China, Hong Kong SAR"},96,106433,103829,90207,88689,87197,85732,84294,83004,81736,80489,80489,79261,106433,103829,85207,83689,82197,80732,79294,78004,76736,75489,75489,74261]
["Production (m3)",5516,{"$f":"FAO_Country290","v":"China, Macao SAR"},128,7965,8995,7600,7485,8372,8261,8151,8038,7927,7817,7817,7709,7965,8995,7600,7485,7372,7261,7151,7038,6927,6817,6817,6709]
["Production (m3)",5516,{"$f":"FAO_Country292","v":"China"},41,378563903,323645681,346358990,341666115,347523624,338124995,321181826,333695387,329278204,344709668,344709668,340118881,287335095,227626581,185430718,182102217,178838839,175626096,172479956,169261619,166102612,163006791,163006791,159881881]
["Production (m3)",5516,{"$f":"FAO_Country291","v":"China, Taiwan Province of"},214,1578200,1463900,1462012,1465440,1472928,1480088,1475632,1469910,1463417,1465708,1465708,1465708,26400,4800,740,2542,8143,4189,7762,7142,4825,5831,5831,5831]
["Production (m3)",5516,{"$f":"FAO_Country293","v":"Christmas Island"},42,null,null,18,18,18,17,17,17,17,17,17,17,null,null,18,18,18,17,17,17,17,17,17,17]
["Production (m3)",5516,{"$f":"FAO_Country294","v":"Colombia"},44,10448607,13057000,12145000,13237000,13258000,12753000,12563000,10418959,9788634,8755681,8755681,9014104,6765607,10893000,8304000,9283000,9283000,9283000,9283000,7598000,7059920,6090000,6090000,6410000]
["Production (m3)",5516,{"$f":"FAO_Country295","v":"Comoros"},45,145174,225737,297390,304404,311609,319012,326617,333025,339580,346285,346285,353142,137674,201087,272740,279754,286959,294362,301967,308375,314930,321635,321635,328492]
["Production (m3)",5516,{"$f":"FAO_Country296","v":"Congo"},46,2571745,2515140,3448230,3702724,3633672,3539990,3589685,3655111,3756848,3926902,3926902,3948279,973745,1153140,1357017,1378601,1400549,1422867,1445562,1465988,1486725,1507779,1507779,1529156]
["Production (m3)",5516,{"$f":"FAO_Country297","v":"Cook Islands"},47,null,5000,5000,5000,5000,5000,5000,5000,5000,5000,5000,5000]
["Production (m3)",5516,{"$f":"FAO_Country298","v":"Costa Rica"},48,4533921,4473321,4628882,4755659,4744334,4692876,4683253,4612096,4610064,4588712,4588712,4478540,3546921,3486321,3363882,3351659,3340334,3329876,3320253,3303391,3287363,3272135,3272135,3257677]
["Production (m3)",5516,{"$f":"FAO_Country304","v":"Côte d'Ivoire"},107,11125441,11945021,11344873,11390617,11439877,11836542,11792511,11901164,11611829,11625286,11625286,11641122,7577441,8529021,8988873,9034617,9083877,9136542,9192511,9200864,9211829,9225286,9225286,9241122]
["Production (m3)",5516,{"$f":"FAO_Country299","v":"Croatia"},98,null,3669000,5258000,5714000,5436000,4996590,5178471,5165279,5307125,5619722,5619722,5619722,null,976000,1422000,1557000,1400000,1652811,1768741,1768454,1858042,2170639,2170639,2170639]
["Production (m3)",5516,{"$f":"FAO_Country300","v":"Cuba"},49,3198189,1819000,1732000,1702000,1748000,1748000,1794000,1752000,1752000,1752000,1752000,1752000,2587189,963000,1141000,1141000,1141000,1141000,1141000,1141000,1141000,1141000,1141000,1141000]
["Production (m3)",5516,{"$f":"FAO_Country301","v":"Cyprus"},50,62800,20580,8495,10990,9399,8810,10595,15738,15529,10951,9366,8615,14800,5420,3545,6523,5666,4830,7488,12875,13618,8840,7385,6356]
["Production (m3)",5516,{"$f":"FAO_Country302","v":"Czech Republic"},167,null,14441000,15381000,15061000,15331000,15476000,16163000,17617000,19387000,25689000,30471477,33347000,null,940000,1914000,2020000,2182000,2111000,2336000,2344000,2376000,4246000,5021621,6726000]
["Production (m3)",5516,{"$f":"FAO_Country305","v":"Democratic People's Republic of Korea"},116,4962858,7002863,7526762,7546658,7576422,7606054,7635553,7669056,7702463,7735773,7735773,7768985,4362858,5502863,6026762,6046658,6076422,6106054,6135553,6169056,6202463,6235773,6235773,6268985]
["Production (m3)",5516,{"$f":"FAO_Country306","v":"Democratic Republic of the Congo"},250,47236460,68466848,82346615,83505164,84689351,85899854,87137375,88148851,89181523,90235913,90235913,91312556,44183460,64902848,77735602,78894151,80078338,81288841,82526362,83537838,84570510,85624900,85624900,86701543]
["Production (m3)",5516,{"$f":"FAO_Country307","v":"Denmark"},54,2017800,4660600,2894900,3420300,3862600,4166200,4311300,3842100,3842100,3842100,3842100,3842100,405600,699200,1416600,1827700,2218000,2068700,2278200,2061100,2061100,2061100,2061100,2061100]
["Production (m3)",5516,{"$f":"FAO_Country308","v":"Djibouti"},72,202759,293339,361561,367259,373047,378927,384902,389739,394638,399598,399598,404621,202759,293339,361561,367259,373047,378927,384902,389739,394638,399598,399598,404621]
["Production (m3)",5516,{"$f":"FAO_Country309","v":"Dominica"},55,8608,8086,7519,7521,7523,7525,7528,7490,7453,7417,7417,7380,8608,8086,7519,7521,7523,7525,7528,7490,7453,7417,7417,7380]
["Production (m3)",5516,{"$f":"FAO_Country310","v":"Dominican Republic"},56,562300,562300,929813,937337,970228,969885,1000610,1007347,1017126,1022947,1022947,1077641,556000,556000,920113,927637,935228,942885,950610,956347,962126,967947,967947,973811]
["Production (m3)",5516,{"$f":"FAO_Country311","v":"Ecuador"},58,7175929,5908756,7043454,7299106,7418134,7431536,7445312,7455657,7466346,7477375,7477375,7488738,3645029,5362756,4952454,4965106,4978134,4991536,5005312,5015657,5026346,5037375,5037375,5048738]
["Production (m3)",5516,{"$f":"FAO_Country312","v":"Egypt"},59,14101041,16449909,17823613,17868575,17914337,17960905,18008286,18037592,18067550,18098162,18098162,18129431,13989041,16181909,17555613,17600575,17646337,17692905,17740286,17769592,17799550,17830162,17830162,17861431]
["Production (m3)",5516,{"$f":"FAO_Country313","v":"El Salvador"},60,3743890,5200021,4898531,4891876,4885423,4879167,4873102,4853702,4834568,4815693,4815693,4797071,3597890,4518021,4216531,4209876,4203423,4197167,4191102,4171702,4152568,4133693,4133693,4115071]
["Production (m3)",5516,{"$f":"FAO_Country314","v":"Equatorial Guinea"},61,634000,1136000,784222,839922,867000,987000,1217000,1437000,1647000,1747000,1747000,1747000,447000,447000,447000,447000,447000,447000,447000,447000,447000,447000,447000,447000]
["Production (m3)",5516,{"$f":"FAO_Country315","v":"Eritrea"},178,null,2246531,965440,991950,1023031,1023031,1023031,1023031,1023031,1023031,1023031,1023031,null,2244341,946775,973285,1000536,1000536,1000536,1000536,1000536,1000536,1000536,1000536]
["Production (m3)",5516,{"$f":"FAO_Country316","v":"Estonia"},63,null,8910000,7637154,9057190,7979549,9376331,9515031,10218940,11458637,12034243,12034243,10252000,null,1640000,2234649,2748504,2487412,2745371,3075000,3191667,4456440,4681212,4681212,4100000]
["Production (m3)",5516,{"$f":"FAO_Country318","v":"Ethiopia"},238,null,89930092,105544380,106901441,108280917,109683244,111108872,112323671,113557265,114810013,114810013,116082277,null,87471092,102609380,103966441,105345917,106748244,108173872,109388671,110622265,111875013,111875013,113147277]
["Production (m3)",5516,{"$f":"FAO_Country319","v":"Falkland Islands (Malvinas)"},65,931,782,690,712,739,771,810,832,861,895,895,935,931,782,690,712,739,771,810,832,861,895,895,935]
["Production (m3)",5516,{"$f":"FAO_Country320","v":"Faroe Islands"},64,null,null,0,0,0,0,0,0,0,0,0,0,null,null,0,0,0,0,0,0,0,0,0,0]
["Production (m3)",5516,{"$f":"FAO_Country321","v":"Fiji"},66,291620,486000,837000,837000,837000,837000,837000,837000,837000,837000,837000,837000,37000,37000,37000,37000,37000,37000,37000,37000,37000,37000,37000,37000]
["Production (m3)",5516,{"$f":"FAO_Country322","v":"Finland"},67,43230000,54261855,52777900,52309505,56991580,57033450,59410884,61433874,63279358,68289165,63963867,60233268,2984000,4114782,7251700,7695371,7660176,7831820,7964445,7107138,7949091,7758731,8013230,8937012]
["Production (m3)",5516,{"$f":"FAO_Country323","v":"France"},68,68128000,70522000,55040547,51494707,51304054,52793897,50419331,52184919,50256656,49868834,49869370,49542111,36929000,31046000,26653395,26549527,26852880,27043609,25421000,27099000,24896000,24148187,24214444,24769962]
["Production (m3)",5516,{"$f":"FAO_Country324","v":"French Guiana"},69,232702,135986,215351,221219,222924,231070,257337,212271,236185,229263,229263,232433,44702,74688,132612,137341,142243,147324,152590,155574,158619,161726,161726,164896]
["Production (m3)",5516,{"$f":"FAO_Country325","v":"French Polynesia"},70,3327,4013,5449,5482,5515,5549,5582,5603,5623,5644,5644,5665,3327,4013,4449,4482,4515,4549,4582,4603,4623,4644,4644,4665]
["Production (m3)",5516,{"$f":"FAO_Country326","v":"Gabon"},74,2084989,3099409,2570000,2870000,3070000,3270000,3070000,3070000,3370000,3870000,3870000,3209000,451989,515409,1070000,1070000,1070000,1070000,1070000,1070000,1070000,1070000,1070000,1070000]
["Production (m3)",5516,{"$f":"FAO_Country327","v":"Gambia"},75,520733,715382,900034,975072,959492,845097,928892,1026921,1035093,833411,833411,891878,454133,602682,703334,712572,721992,731597,741392,749421,757593,765911,765911,774378]
["Production (m3)",5516,{"$f":"FAO_Country328","v":"Georgia"},73,null,375100,838006,420394,626242,592397,642724,576881,584542,554312,584893,550613,null,279500,733000,323987,494994,497587,526302,429307,423171,385554,406573,359434]
["Production (m3)",5516,{"$f":"FAO_Country329","v":"Germany"},79,84707000,53710000,75218000,74414000,73453000,68996000,68998504,66178853,65717379,75232658,76167430,84050980,4366000,2622000,25340000,28563000,28753000,23610000,23344834,22162428,22388937,22358980,22742482,22261463]
["Production (m3)",5516,{"$f":"FAO_Country330","v":"Ghana"},81,14310000,27723457,40923647,42235470,43785188,44911574,46628427,47543347,48799988,50326911,50326911,49852861,12870000,26725457,38984647,40203470,41448188,42719574,44018427,45203347,46409988,47638911,47638911,47638911]
["Production (m3)",5516,{"$f":"FAO_Country331","v":"Gibraltar"},82,null,null,0,0,0,0,0,0,0,0,0,0,null,null,0,0,0,0,0,0,0,0,0,0]
["Production (m3)",5516,{"$f":"FAO_Country332","v":"Greece"},84,2492000,2244935,1196326,1611662,1586400,1432000,1432000,1432000,1636126,1453201,1453201,1359105,1346000,1601407,857179,794840,1192500,1065000,1065000,1065000,1064482,998081,998081,946849]
["Production (m3)",5516,{"$f":"FAO_Country334","v":"Guadeloupe"},87,17000,15300,15013,15013,15067,15018,15057,15082,15000,15000,15000,15000,15000,15000,15000,15000,15000,15000,15000,15000,15000,15000,15000,15000]
["Production (m3)",5516,{"$f":"FAO_Country335","v":"Guatemala"},89,11340000,15007108,19261795,19310716,19880141,20158523,20537791,20872958,21213778,21560345,21560345,21912756,11142000,14540108,18409795,18767760,19132690,19504719,19883987,20219154,20559974,20906541,20906541,21258952]
["Production (m3)",5516,{"$f":"FAO_Country337","v":"Guinea"},90,10425241,12095377,12661208,12714046,12768481,12824531,12882215,12917165,12953556,12991396,12991396,13030696,9884241,11444377,12010208,12063046,12117481,12173531,12231215,12266165,12302556,12340396,12340396,12379696]
["Production (m3)",5516,{"$f":"FAO_Country336","v":"Guinea-Bissau"},175,1990190,2364018,2769266,2807102,2845377,2884099,2923273,2957065,2991181,3025626,3025626,3025626,1872303,2229507,2637356,2675192,2713467,2752189,2791363,2825155,2859271,2893716,2893716,2893716]
["Production (m3)",5516,{"$f":"FAO_Country338","v":"Guyana"},91,1065961,1168873,1346403,1329744,1360120,1268630,1186256,1123640,1128560,1137022,1137022,1137736,915961,879873,845403,842744,840120,837530,834974,831253,827573,823935,823935,820336]
["Production (m3)",5516,{"$f":"FAO_Country339","v":"Haiti"},93,1867210,2202646,2289471,2298933,2308520,2318234,2328074,2337954,2347961,2358091,2358091,2368349,1628210,1963646,2050471,2059933,2069520,2079234,2089074,2098954,2108961,2119091,2119091,2129349]
["Production (m3)",5516,{"$f":"FAO_Country340","v":"Honduras"},95,9301868,9488405,9033905,8878285,8943767,8923194,8875457,8883280,8779911,8575495,8575495,9030225,8550868,8732405,8535104,8497285,8461767,8428476,8397345,8341038,8287017,8235200,8235200,8185513]
["Production (m3)",5516,{"$f":"FAO_Country341","v":"Hungary"},97,5973000,5902000,6232450,5946115,6027202,5798162,5743969,5586169,5689370,5856004,5856004,5575423,2455000,2596900,3214856,2958918,2858473,2679404,2679171,2636150,2826927,2817977,2817977,2683815]
["Production (m3)",5516,{"$f":"FAO_Country342","v":"Iceland"},99,null,0,3466,3624,3640,3640,3640,3640,4000,3000,2000,2000,null,0,988,893,900,900,900,900,1000,2000,1000,1000]
["Production (m3)",5516,{"$f":"FAO_Country343","v":"India"},100,311293233,318553016,358293349,357760881,357226300,356689633,356150908,355051309,353953052,352856168,352856168,351760688,276239233,277380016,308776349,308243881,307709300,307172633,306633908,305534309,304436052,303339168,303339168,302243688]
["Production (m3)",5516,{"$f":"FAO_Country344","v":"Indonesia"},101,164408996,137829628,117993552,117522499,126667821,124455397,122317741,120250104,118251621,116319669,116319669,123756739,126043496,88981128,57288052,54916999,52626821,50414397,48276741,46209104,44210621,42278669,42278669,40410739]
["Production (m3)",5516,{"$f":"FAO_Country345","v":"Iran (Islamic Republic of)"},102,1217000,1114000,706000,782000,782000,782000,499000,446000,446000,446000,446000,446000,326000,54000,46000,52000,52000,52000,34000,30000,30000,30000,30000,30000]
["Production (m3)",5516,{"$f":"FAO_Country346","v":"Iraq"},103,89887,177000,177000,177000,177000,177000,177000,177000,177000,177000,177000,177000,39887,118000,118000,118000,118000,118000,118000,118000,118000,118000,118000,118000]
["Production (m3)",5516,{"$f":"FAO_Country347","v":"Ireland"},104,1625000,2673100,2635326,2580419,2759623,2827986,2907990,3050423,2944332,3540623,3540623,3540623,50000,73000,194543,204765,209370,206257,202795,316364,210273,210822,210822,210822]
["Production (m3)",5516,{"$f":"FAO_Country348","v":"Israel"},105,113000,81000,27000,27000,27000,27000,27000,27000,27000,27000,27000,27000,13000,8012,2000,2000,2000,2000,2000,2000,2000,2000,2000,2000]
["Production (m3)",5516,{"$f":"FAO_Country349","v":"Italy"},106,7972000,12836000,12600975,12799833,12829307,12880499,12887464,12928000,13051832,13362354,13374277,15841077,3637000,9187000,10245000,10839000,10839000,10839000,10839000,10839000,10839000,10839000,10839000,10839000]
["Production (m3)",5516,{"$f":"FAO_Country350","v":"Jamaica"},109,1055000,882110,692751,688738,685037,680502,676590,671130,667787,660789,660789,655498,853000,598710,541022,537022,533052,529112,525200,519740,514337,508990,508990,503699]
["Production (m3)",5516,{"$f":"FAO_Country351","v":"Japan"},110,29403000,18120621,18373838,18559120,21133566,23101000,23918000,26147000,28682000,29424000,29424000,30349000,103000,133621,83838,80120,76566,1843000,2806000,4458000,6037000,6248000,6248000,6932000]
["Production (m3)",5516,{"$f":"FAO_Country352","v":"Jordan"},112,137680,226143,314074,321878,329880,338087,346503,353629,360905,368335,368335,375921,133680,222143,310074,317878,325880,334087,342503,349629,356905,364335,364335,371921]
["Production (m3)",5516,{"$f":"FAO_Country353","v":"Kazakhstan"},108,null,645400,345000,286000,321000,340000,340000,340000,340000,367000,423000,496000,null,473600,272000,244000,215000,241000,241000,241000,241000,211000,233000,303000]
["Production (m3)",5516,{"$f":"FAO_Country354","v":"Kenya"},114,18535606,21635247,27541000,27432000,27432000,27432000,27432000,27432000,27432000,27432000,27432000,27432000,16792606,19658247,26400000,26400000,26400000,26400000,26400000,26400000,26400000,26400000,26400000,26400000]
["Production (m3)",5516,{"$f":"FAO_Country355","v":"Kiribati"},83,2032,2402,2986,3036,3087,3140,3193,3239,3286,3334,3334,3383,2032,2402,2986,3036,3087,3140,3193,3239,3286,3334,3334,3383]
["Production (m3)",5516,{"$f":"FAO_Country356","v":"Kuwait"},118,21129,14896,18679,18955,19236,19250,19809,20019,20232,20447,20447,20664,21129,14896,18679,18955,19236,19250,19809,20019,20232,20447,20447,20664]
["Production (m3)",5516,{"$f":"FAO_Country357","v":"Kyrgyzstan"},113,null,46350,45900,45900,45920,45920,45920,45920,45920,45920,45920,45920,null,33300,36600,36600,36600,36600,36600,36600,36600,36600,36600,36600]
["Production (m3)",5516,{"$f":"FAO_Country358","v":"Lao People's Democratic Republic"},120,6082031,6438960,7566862,7454407,8042574,8431357,8120748,8080354,7240806,7202084,7202084,7164171,5627031,5871960,5934862,5922407,5910574,5899357,5888748,5848354,5808806,5770084,5770084,5732171]
["Production (m3)",5516,{"$f":"FAO_Country359","v":"Latvia"},119,null,14304000,12833492,12529587,12241870,12885344,12294416,13051406,12896149,12942170,12942170,12942170,null,1680000,1184384,1173000,1258298,1299000,1200000,1700000,2200000,2200000,2200000,2200000]
["Production (m3)",5516,{"$f":"FAO_Country360","v":"Lebanon"},121,74156,26224,36833,36801,36769,36737,36706,25823,25791,25759,25759,25727,67156,19074,18833,18801,18769,18737,18706,18673,18641,18609,18609,18577]
["Production (m3)",5516,{"$f":"FAO_Country361","v":"Lesotho"},122,1262000,2022018,2099721,2107620,2115550,2123509,2131497,2134278,2147062,2153850,2153850,2156641,1262000,2022018,2099721,2107620,2115550,2123509,2131497,2134278,2137062,2139850,2139850,2142641]
["Production (m3)",5516,{"$f":"FAO_Country362","v":"Liberia"},123,4580701,5839361,7737978,8026232,8283408,8555818,8687356,8958592,9340531,9629742,9629742,9928384,3452701,4725361,7253978,7508232,7771408,8043818,8325786,8597022,8877101,9166312,9166312,9464954]
["Production (m3)",5516,{"$f":"FAO_Country363","v":"Libya"},124,681625,939386,1079555,1091362,1103313,1115412,1127659,1137509,1147456,1157499,1157499,1167641,574625,823386,963555,975362,987313,999412,1011659,1021509,1031456,1041499,1041499,1051641]
["Production (m3)",5516,{"$f":"FAO_Country364","v":"Liechtenstein"},125,null,24167,26000,23333,19164,20812,8065,7943,8560,12225,8337,7130,null,4167,18000,16136,12669,14079,3697,4275,3682,4144,3779,2448]
["Production (m3)",5516,{"$f":"FAO_Country365","v":"Lithuania"},126,null,5500000,7004000,6921000,7053000,7351000,6414000,6747000,6795000,6982000,6688000,6366000,null,1450000,1658000,2200000,2431000,2316000,2110000,2085000,2015000,1829000,1771000,1994000]
["Production (m3)",5516,{"$f":"FAO_Country366","v":"Luxembourg"},256,null,253841,438039,393915,302710,344757,372389,324712,367760,447900,447900,349607,null,27711,76684,78676,64692,64905,67979,64731,69830,84520,84520,59003]
["Production (m3)",5516,{"$f":"FAO_Country367","v":"Madagascar"},129,8186000,9763458,13380911,13325862,13489880,13774344,14062380,14331696,14592072,14855844,14855844,15119918,7379000,9637458,13100000,13044951,13326632,13608812,13891495,14154669,14418142,14681914,14681914,14945988]
["Production (m3)",5516,{"$f":"FAO_Country368","v":"Malawi"},130,6044443,6364075,6945603,7008235,7073238,7105730,7160655,7218956,7279531,7342397,7342397,7407579,5164443,4964075,5465603,5528235,5593238,5660730,5730655,5788956,5849531,5912397,5912397,5977579]
["Production (m3)",5516,{"$f":"FAO_Country369","v":"Malaysia"},131,45269680,27725720,20692004,20541329,19412379,20405075,16992344,16389815,16323173,16284377,16284377,17208164,4009672,3345720,2760004,2711329,2664379,2619075,2575344,2533815,2493683,2454887,2454887,2417369]
["Production (m3)",5516,{"$f":"FAO_Country370","v":"Maldives"},132,10339,13185,15570,15718,15882,16048,16216,16289,16363,16437,16437,16513,10339,13185,15570,15718,15882,16048,16216,16289,16363,16437,16437,16513]
["Production (m3)",5516,{"$f":"FAO_Country371","v":"Mali"},133,4298929,5143485,5849877,5917577,6049477,6336606,6447995,6497530,6548100,6599732,6599732,6652451,3942129,4730585,5384877,5444577,5505477,5567606,5630995,5680530,5731100,5782732,5782732,5835451]
["Production (m3)",5516,{"$f":"FAO_Country372","v":"Malta"},134,null,0,0,0,0,0,0,0,0,0,0,0,null,0,0,0,0,0,0,0,0,0,0,0]
["Production (m3)",5516,{"$f":"FAO_Country373","v":"Martinique"},135,11900,12000,12125,12125,12797,11421,10959,12661,10000,10000,10000,10000,10000,10000,10000,10000,10000,10000,10000,10000,10000,10000,10000,10000]
["Production (m3)",5516,{"$f":"FAO_Country374","v":"Mauritania"},136,1156410,1434069,1909238,1951197,1994154,2038133,2083160,2121568,2160747,2200712,2200712,2241479,1151410,1428069,1877238,1919197,1962154,2006133,2051160,2089568,2128747,2168712,2168712,2209479]
["Production (m3)",5516,{"$f":"FAO_Country375","v":"Mauritius"},137,27100,18000,11000,7200,3500,2540,2000,6520,6520,6520,6520,6520,16000,10000,6600,5100,2000,2300,1800,5180,5180,5180,5180,5180]
["Production (m3)",5516,{"$f":"FAO_Country376","v":"Mayotte"},270,36500,29294,26650,26650,26650,26650,26650,26650,26650,26650,26650,26650,36500,28900,26500,26500,26500,26500,26500,26500,26500,26500,26500,26500]
["Production (m3)",5516,{"$f":"FAO_Country377","v":"Mexico"},138,41951305,45665508,43714414,44233860,44198312,44203772,44257238,44856432,46643813,46560381,46560381,46173135,34371305,37560508,38834414,38839860,38845312,38850772,38856238,38772432,38688813,38605381,38605381,38522135]
["Production (m3)",5516,{"$f":"FAO_Country378","v":"Micronesia (Federated States of)"},145,null,2102,2476,2508,2541,2574,2607,2631,2654,2678,2678,2702,null,2102,2476,2508,2541,2574,2607,2631,2654,2678,2678,2702]
["Production (m3)",5516,{"$f":"FAO_Country379","v":"Mongolia"},141,1500000,644000,815334,780000,762000,762000,762000,762000,762000,762000,762000,762000,694000,553000,766334,600000,600000,600000,600000,600000,600000,600000,600000,600000]
["Production (m3)",5516,{"$f":"FAO_Country380","v":"Montenegro"},273,null,null,915001,915001,913000,968000,1000000,1038433,1082199,1082199,1082199,1082199,null,null,707000,707000,718000,751000,783000,783000,783000,783000,783000,783000]
["Production (m3)",5516,{"$f":"FAO_Country381","v":"Morocco"},143,7135536,7537571,7133914,7102036,7139336,7118711,7156160,7107215,6942348,6921557,6921557,6900842,6552536,6968571,6761814,6741036,6720336,6699711,6679160,6658215,6637348,6616557,6616557,6595842]
["Production (m3)",5516,{"$f":"FAO_Country382","v":"Mozambique"},144,15748000,18043000,18200000,18251000,18251000,18708000,18708000,18708000,18708000,18708000,18708000,18708000,14825000,16724000,16724000,16724000,16724000,16724000,16724000,16724000,16724000,16724000,16724000,16724000]
["Production (m3)",5516,{"$f":"FAO_Country383","v":"Myanmar"},28,35923000,38083000,44086000,44240000,45146000,44846000,43146000,43146000,42646000,42646000,42646000,42646000,32270000,34471000,38286000,38286000,38286000,38286000,38286000,38286000,38286000,38286000,38286000,38286000]
["Production (m3)",5516,{"$f":"FAO_Country384","v":"Namibia"},147,678237,920899,1274691,1308242,1286354,1342754,1437197,1441996,1485728,1571011,1571011,1841696,678237,920899,1274691,1308242,1286354,1342754,1437197,1441996,1485728,1571011,1571011,1841696]
["Production (m3)",5516,{"$f":"FAO_Country385","v":"Nepal"},149,12966872,14022684,13763548,13702581,13644365,13588319,13534406,13411847,13292213,13175437,13175437,13061450,12396872,12762684,12463548,12402581,12344365,12288319,12234406,12111847,11992213,11875437,11875437,11761450]
["Production (m3)",5516,{"$f":"FAO_Country386","v":"Netherlands Antilles"},151,2689,3078,981800,954700,1108200,1251140,2245700,3253305,3150886,3144406,3144406,null,2689,3078]
["Production (m3)",5516,{"$f":"FAO_Country387","v":"Netherlands"},150,1420000,1039000,null,null,null,null,null,null,null,null,null,2805000,145000,160000,290000,290000,290000,357000,1397000,2301000,2332000,2378000,2378000,2063000]
["Production (m3)",5516,{"$f":"FAO_Country388","v":"New Caledonia"},153,16989,23026,26762,26894,27027,27162,27300,27384,27469,27555,27555,27642,9419,10716,12062,12194,12327,12462,12600,12684,12769,12855,12855,12942]
["Production (m3)",5516,{"$f":"FAO_Country389","v":"New Zealand"},156,13177000,19279000,26131000,27415000,29766000,29196000,28954000,29015000,34434000,35949000,35949000,35969000,50000,0,0,0,0,0,0,0,0,0,0,0]
["Production (m3)",5516,{"$f":"FAO_Country390","v":"Nicaragua"},157,5928677,5983725,6227872,6242579,6258671,6276135,6294959,6290807,6307449,6301912,6301912,6301468,5628677,5755725,6109872,6124579,6140671,6158135,6176959,6172807,6169915,6168257,6168257,6167813]
["Production (m3)",5516,{"$f":"FAO_Country391","v":"Niger"},158,5980499,8384433,10792697,11013839,11240427,11472609,11710539,11919690,12133505,12352101,12352101,12575598,5674499,7805433,10091697,10312839,10539427,10771609,11009539,11218690,11432505,11651101,11651101,11874598]
["Production (m3)",5516,{"$f":"FAO_Country392","v":"Nigeria"},159,59179960,68766652,73017551,73417115,73831551,74865002,75309615,75605432,75912862,76231938,76231938,76562702,50916960,59348652,63599551,63999115,64413551,64843002,65287615,65583432,65890862,66209938,66209938,66540702]
["Production (m3)",5516,{"$f":"FAO_Country393","v":"Niue"},160,42,43,45,45,45,46,46,46,46,48,48,50,42,43,45,45,45,46,46,46,46,48,48,50]
["Production (m3)",5516,{"$f":"FAO_Country394","v":"Norfolk Island"},161,72,60,50,50,48,48,47,46,45,45,45,44,72,60,50,50,48,48,47,46,45,45,45,44]
["Production (m3)",5516,{"$f":"FAO_Country395","v":"Norway"},162,11819000,8156265,10291031,10572145,11598290,12386886,11876493,12028000,12219029,12530657,12733466,11771417,919000,678475,1784737,1784737,2578814,2578814,1717793,1724000,1728000,1694766,1694766,1529731]
["Production (m3)",5516,{"$f":"FAO_Country396","v":"Oman"},221,14763,26468,40176,41414,42690,44005,45361,46505,47679,48882,48882,50115,14763,26468,40176,41414,42690,44005,45361,46505,47679,48882,48882,50115]
["Production (m3)",5516,{"$f":"FAO_Country397","v":"Pakistan"},165,23661012,33560000,33720000,33720000,33720000,33593349,33593349,33593349,33593349,33593349,33593349,33593349,21043012,30880000,29660000,29660000,29660000,29533349,29533349,29533349,29533349,29533349,29533349,29533349]
["Production (m3)",5516,{"$f":"FAO_Country398","v":"Panama"},166,1517044,1326654,1298826,1286036,1270699,1316798,1309817,1289435,1399082,1411970,1411970,1397355,1408745,1279654,1111826,1096036,1080699,1065798,1051317,1035435,1019992,1004970,1004970,990355]
["Production (m3)",5516,{"$f":"FAO_Country399","v":"Papua New Guinea"},168,8188000,7842000,9649000,9227208,9550000,10073000,9573000,9573000,9605000,9605000,9605000,9605000,5533000,5533000,5533000,5533000,5533000,5533000,5533000,5533000,5533000,5533000,5533000,5533000]
["Production (m3)",5516,{"$f":"FAO_Country400","v":"Paraguay"},169,8340835,9594923,10727532,10837115,10948658,11062202,11177785,11287621,11399210,11512581,11512581,11627764,4840835,5550923,6683532,6793115,6904658,7018202,7133785,7243621,7355210,7468581,7468581,7583764]
["Production (m3)",5516,{"$f":"FAO_Country401","v":"Peru"},170,7591300,9288000,8921000,8777000,8585000,8784720,8395872,8484337,8271891,8246279,8246279,8578374,6518000,7777000,7425000,7308000,7308000,7382657,7150355,7332910,7206962,7214463,7214463,7299112]
["Production (m3)",5516,{"$f":"FAO_Country402","v":"Philippines"},171,20104941,16693709,16157439,16041722,16240559,16079741,15728066,15552083,15373495,15406099,15406099,15360103,15175941,13614709,12250439,12143722,12041559,11943741,11850066,11725083,11604495,11488099,11488099,11375705]
["Production (m3)",5516,{"$f":"FAO_Country403","v":"Poland"},173,18676000,27659100,37179982,38015431,38938843,40862038,41375282,42401232,45312633,46711225,44084030,40584000,2644000,2464400,4979775,5043141,5143794,5184868,5497000,5295143,5248213,5358506,5231000,4720000]
["Production (m3)",5516,{"$f":"FAO_Country404","v":"Portugal"},174,11205000,10831000,10961419,10710813,10609589,11152372,11399677,13103429,13564816,13946000,13855000,13310544,500000,600000,600000,600000,600000,600000,600000,1092029,1047650,1179000,1150000,1618144]
["Production (m3)",5516,{"$f":"FAO_Country405","v":"Qatar"},179,2673,4487,5005,5034,5063,5092,5122,5120,5118,5116,5116,5114,2673,4487,5005,5034,5063,5092,5122,5120,5118,5116,5116,5114]
["Production (m3)",5516,{"$f":"FAO_Country406","v":"Republic of Korea"},117,3872618,4041237,4210000,4506000,4897000,5179000,4913000,5151000,4845000,4577000,4577000,4273000,2733618,2449237,536000,648000,702000,967000,373000,188000,293000,337000,337000,247000]
["Production (m3)",5516,{"$f":"FAO_Country407","v":"Republic of Moldova"},146,null,321300,351800,521300,1336900,1398210,1330580,1342650,1266645,1266645,1266645,1263645,null,240500,308800,488700,1307000,1351210,1278580,1290650,1220645,1220645,1220645,1218645]
["Production (m3)",5516,{"$f":"FAO_Country411","v":"Réunion"},182,104564,104925,111861,111719,112044,112015,111365,114259,109596,111163,111163,110848,98664,99825,101227,101085,100944,100805,100667,100347,100029,99713,99713,99398]
["Production (m3)",5516,{"$f":"FAO_Country408","v":"Romania"},183,12608000,13148200,14358629,16087912,15194722,15329913,15314700,15116714,14491635,15989205,15827246,15529583,1883000,3032200,4014177,5037575,5103239,4859293,5079301,5163781,4913883,5553105,5641341,4581996]
["Production (m3)",5516,{"$f":"FAO_Country409","v":"Russian Federation"},185,null,158101000,191225000,192055000,194460051,203000335,205507000,213799199,212400000,235999999,218400000,217000000,null,12526000,15600000,14600000,14082130,14700492,15000000,15605307,14788307,16431453,15206057,15108582]
["Production (m3)",5516,{"$f":"FAO_Country410","v":"Rwanda"},184,6388000,5400000,6211927,6211927,6211927,6211927,6211927,6211927,6211927,6211927,6211927,6211927,6368000,5000000,5000000,5000000,5000000,5000000,5000000,5000000,5000000,5000000,5000000,5000000]
["Production (m3)",5516,{"$f":"FAO_Country412","v":"Saint Lucia"},189,8981,9422,9858,9866,9875,9883,9892,9757,9623,9491,9491,9362,8981,9422,9858,9866,9875,9883,9892,9757,9623,9491,9491,9362]
["Production (m3)",5516,{"$f":"FAO_Country413","v":"Saint Pierre and Miquelon"},190,null,null,600,600,600,600,600,600,600,600,600,600,null,null,600,600,600,600,600,600,600,600,600,600]
["Production (m3)",5516,{"$f":"FAO_Country414","v":"Saint Vincent and the Grenadines"},191,9232,8217,7396,7349,7303,7257,7212,7167,7141,7106,7106,7071,9232,8217,7396,7349,7303,7257,7212,7167,7141,7106,7106,7071]
["Production (m3)",5516,{"$f":"FAO_Country415","v":"Samoa"},244,131000,87900,75700,75700,75700,75700,75700,75700,75700,75700,75700,75700,70000,70000,70000,70000,70000,70000,70000,70000,70000,70000,70000,70000]
["Production (m3)",5516,{"$f":"FAO_Country416","v":"Sao Tome and Principe"},193,88464,109137,135510,128200,130200,132200,139166,139752,140344,140944,140944,140944,79464,95937,108310,101000,103000,105000,111966,112552,113144,113744,113744,113744]
["Production (m3)",5516,{"$f":"FAO_Country417","v":"Saudi Arabia"},194,118957,178587,254029,260807,267766,274910,282245,288434,294758,301220,301220,307825,118957,178587,254029,260807,267766,274910,282245,288434,294758,301220,301220,307825]
["Production (m3)",5516,{"$f":"FAO_Country418","v":"Senegal"},195,5325260,5907579,6256552,6282154,6308011,6370127,6372504,6386178,6400008,6413996,6413996,6428141,4687260,5113579,5452552,5478154,5504011,5530127,5556504,5570178,5584008,5597996,5597996,5612141]
["Production (m3)",5516,{"$f":"FAO_Country420","v":"Serbia"},272,null,null,7706000,7549000,7678000,7583000,7655000,7915000,7789000,7959000,8113000,8236000,null,null,6345000,6232000,6357000,6289000,6306000,6376000,6436000,6533000,6350000,6454000]
["Production (m3)",5516,{"$f":"FAO_Country421","v":"Seychelles"},196,10140,11940,12840,12840,12840,12840,12840,12840,12840,12840,12840,12840,5860,4060,3160,3160,3160,3160,3160,3160,3160,3160,3160,3160]
["Production (m3)",5516,{"$f":"FAO_Country422","v":"Sierra Leone"},197,4826850,5481363,5742850,5783352,5826699,5872870,5921850,5962088,6004880,6246606,6246606,6304448,4688850,5357763,5619250,5659752,5703099,5749270,5798250,5838488,5881280,5926606,5926606,5974448]
["Production (m3)",5516,{"$f":"FAO_Country423","v":"Singapore"},200,42649,37815,32245,31705,31179,30665,30164,29675,29197,28729,28729,28271,42649,37815,32245,31705,31179,30665,30164,29675,29197,28729,28729,28271]
["Production (m3)",5516,{"$f":"FAO_Country424","v":"Slovakia"},199,null,6163000,9212907,8201674,8062587,9167980,5054443,7395370,4509048,5039291,4528717,7447859,null,277000,642995,587073,689790,560060,1242229,1271712,1038843,1118134,1115528,523730]
["Production (m3)",5516,{"$f":"FAO_Country425","v":"Slovenia"},198,null,2253000,3387867,3341089,3415177,5099340,5054443,5381391,4509048,5093701,5093701,3880977,null,532000,1336169,1120990,1127017,1588660,1242229,1271712,1038843,1142133,1142133,1076511]
["Production (m3)",5516,{"$f":"FAO_Country426","v":"Solomon Islands"},25,580000,704000,2121432,2260422,2316423,2622434,2862456,2795884,3340316,3334753,3334753,3335193,138000,138000,129432,130422,131423,132434,133456,133884,134316,134753,134753,135193]
["Production (m3)",5516,{"$f":"FAO_Country427","v":"Somalia"},201,6365327,9338017,14066738,14066738,14066738,14148437,14556385,14930680,15316282,15713568,15713568,16122928,6264327,9228017,13956738,13956738,13956738,14038437,14446385,14820680,15206282,15603568,15603568,16012928]
["Production (m3)",5516,{"$f":"FAO_Country428","v":"South Africa"},202,28182000,30959200,27906387,29906359,27617638,26757472,27313018,26446098,24962566,27782481,27782481,28322702,11800000,12000000,12000000,12000000,12000000,12023629,12029064,12027359,12025764,12025764,12025764,12025294]
["Production (m3)",5516,{"$f":"FAO_Country429","v":"South Sudan"},277,null,null,null,4428000,4474000,4522000,4621000,4652000,4683000,4716000,4716000,4750000,null,null,null,4428000,4474000,4522000,4621000,4652000,4683000,4716000,4716000,4750000]
["Production (m3)",5516,{"$f":"FAO_Country430","v":"Spain"},203,15590000,14321000,15427772,14656795,15559298,16395343,17427490,16248295,16910937,18963461,18891547,18307545,1800000,1600000,3900000,3030000,3435000,3709000,4522871,2923306,2268594,3506321,3032947,2951198]
["Production (m3)",5516,{"$f":"FAO_Country431","v":"Sri Lanka"},38,7007049,6595561,5833686,5759151,5685952,5614061,5543448,5461063,5405310,5295851,5295851,5218249,6349349,5906561,5135686,5061151,4987952,4916061,4845448,4763063,4682310,4603151,4603151,4525549]
["Production (m3)",5516,{"$f":"FAO_Country432","v":"Sudan (former)"},206,18095247,18853060,19792000,null,null,null,null,null,null,null,null,null,16286247,16680060,18966000]
["Production (m3)",5516,{"$f":"FAO_Country433","v":"Sudan"},276,null,null,null,15686000,15841000,16205000,16368000,16470000,16574000,16683000,16683000,16740393,null,null,null,14734000,14889000,15048000,15211000,15313000,15417000,15526000,15526000,15583393]
["Production (m3)",5516,{"$f":"FAO_Country434","v":"Suriname"},207,144367,223700,460033,527589,484500,582500,658258,665533,950907,1170981,1170981,1162700,38367,42700,94700,92400,90200,90200,90200,88000,88000,88000,88000,88000]
["Production (m3)",5516,{"$f":"FAO_Country435","v":"Eswatini"},209,1680886,1818750,2366000,2197000,2152000,2107000,2263000,2698000,2688000,2754000,2754000,2872843,716886,884750,1432000,1263000,1218000,1173000,1329000,1764000,1754000,1820000,1820000,1938843]
["Production (m3)",5516,{"$f":"FAO_Country436","v":"Sweden"},210,52871000,63300000,71900000,69499000,69600000,73300000,74300000,74800000,74180000,75100000,75500000,76060000,3800000,5900000,5900000,5900000,5900000,5900000,7000000,6900000,6600000,6800000,7000000,5460000]
["Production (m3)",5516,{"$f":"FAO_Country437","v":"Switzerland"},211,6332000,9238000,4861007,4658595,4733800,4913390,4551980,4458680,4483970,4975120,4328659,4652492,879000,1626000,1538915,1673000,1810000,1799000,1734000,1741000,1644750,1735930,1658954,1844993]
["Production (m3)",5516,{"$f":"FAO_Country438","v":"Syrian Arab Republic"},212,49600,50400,68047,69608,70505,71428,72380,73099,73834,74585,74585,75353,8900,15900,28247,29808,30705,31628,32580,33299,34034,34785,34785,35553]
["Production (m3)",5516,{"$f":"FAO_Country439","v":"Tajikistan"},208,null,0,90000,90000,90000,3528000,3600000,3674000,3674000,3674000,3674000,3674000,null,0,90000,90000,90000,3528000,3600000,3674000,3674000,3674000,3674000,3674000]
["Production (m3)",5516,{"$f":"FAO_Country440","v":"Thailand"},216,24899980,26814514,33786500,33679925,33581414,33490685,33407472,33302765,33205596,33115705,33115705,33032846,21806980,20552514,19186500,19079925,18981414,18890685,18807472,18702765,18605596,18515705,18515705,18432846]
["Production (m3)",5516,{"$f":"FAO_Country441","v":"North Macedonia"},154,null,1052000,597000,779000,691000,655000,850000,890000,807000,802000,759000,735000,null,875000,476000,652000,577000,534000,723000,757000,687000,681000,649000,610000]
["Production (m3)",5516,{"$f":"FAO_Country442","v":"Timor-Leste"},176,null,178872,115162,110395,105791,101344,97047,92980,88873,84989,84989,81234,null,178872,115162,110395,105791,101344,97047,92980,88873,84989,84989,81234]
["Production (m3)",5516,{"$f":"FAO_Country443","v":"Togo"},217,4766292,5805189,4596000,4654000,4654000,4652000,4600000,4629000,4670000,4670000,4670000,4611914,4581292,5499189,4424000,4424000,4424000,4424000,4424000,4424000,4424000,4424000,4424000,4424000]
["Production (m3)",5516,{"$f":"FAO_Country444","v":"Tonga"},219,4470,3710,4126,4119,4112,4105,4098,4089,4079,4070,4070,4061,2170,2210,2126,2119,2112,2105,2098,2089,2079,2070,2070,2061]
["Production (m3)",5516,{"$f":"FAO_Country445","v":"Trinidad and Tobago"},220,89947,108515,97517,97218,94426,198440,198160,197854,197553,197259,197259,196970,39747,36515,32517,32218,31926,31640,31360,31054,30753,30459,30459,30170]
["Production (m3)",5516,{"$f":"FAO_Country446","v":"Tunisia"},222,2054970,2307853,2405775,3783000,3914000,3914000,3914000,3914000,3914000,3914000,3914000,3914000,1888970,2094053,2187775,3569000,3610000,3610000,3610000,3610000,3610000,3610000,3610000,3610000]
["Production (m3)",5516,{"$f":"FAO_Country447","v":"Turkey"},223,15756000,15939300,21039000,21959000,20858000,22835000,24641800,25936000,24805000,28154000,28450000,28703000,9796000,5510300,4616000,4258000,4096000,4300000,4633800,5547000,5343000,5688000,5750000,5397000]
["Production (m3)",5516,{"$f":"FAO_Country448","v":"Turkmenistan"},213,null,2500,10000,0,0,0,0,0,0,0,0,10000,null,2500,10000,0,0,0,0,0,0,0,0,10000]
["Production (m3)",5516,{"$f":"FAO_Country449","v":"Turks and Caicos Islands"},224,435,656,1027,1056,1085,1115,1147,1159,1172,1185,1185,1198,435,656,1027,1056,1085,1115,1147,1159,1172,1185,1185,1198]
["Production (m3)",5516,{"$f":"FAO_Country451","v":"Uganda"},226,31004482,37265320,45811000,45975000,46207000,46704575,47544054,48191593,48622521,49060965,49060965,49507058,29265482,34090320,41600000,41600000,41600000,41856575,42438054,42861593,43292521,43730965,43730965,44177058]
["Production (m3)",5516,{"$f":"FAO_Country452","v":"Ukraine"},230,null,9859330,17510300,17506700,18021900,18337000,18337000,18337000,18915000,19695700,17886600,16773000,null,4058000,9520900,9655900,9919800,10174000,10174000,10174000,11618000,10719700,8583200,7777000]
["Production (m3)",5516,{"$f":"FAO_Country453","v":"United Arab Emirates"},225,11625,15672,18144,18287,18432,18578,18724,18765,18806,18847,18847,18888,11625,15672,18144,18287,18432,18578,18724,18765,18806,18847,18847,18888]
["Production (m3)",5516,{"$f":"FAO_Country454","v":"United Kingdom"},229,6350000,7785000,10020468,10119547,10820680,11184042,10550048,10753684,10921011,11150491,10781568,10532562,225000,229000,1233800,1332000,1577500,1823000,1921200,1872100,2096200,2478300,2478300,2429200]
["Production (m3)",5516,{"$f":"FAO_Country455","v":"United Republic of Tanzania"},215,20513195,23100647,25382998,25904759,26408297,26676696,26957293,27178148,27410480,27654478,27654478,27910341,18567195,20786647,23068998,23313759,23570218,23838617,24119214,24340069,24572401,24816399,24816399,25072262]
["Production (m3)",5516,{"$f":"FAO_Country456","v":"United States of America"},231,509319000,466549000,395140676,387512000,396817843,398692751,399023412,436632000,436691378,464118154,459128879,429700023,82119000,45930000,40436676,40436000,41880843,41880843,44345000,62156000,64370000,71608562,71426931,60525360]
["Production (m3)",5516,{"$f":"FAO_Country457","v":"Uruguay"},234,3914111,2934000,10430000,9138000,10174000,12521458,13851826,14082691,15895768,16987261,16987261,16036884,3072111,1423000,2430000,2383000,2383000,2756000,2777000,2785400,2566120,2566120,2566120,2629000]
["Production (m3)",5516,{"$f":"FAO_Country458","v":"Uzbekistan"},235,null,28900,32000,36000,36000,36000,34000,34000,34000,34000,34000,34000,null,24000,23000,26000,26000,26000,24000,24000,24000,24000,24000,24000]
["Production (m3)",5516,{"$f":"FAO_Country459","v":"Vanuatu"},155,63200,131000,129000,129000,129000,129000,129000,129000,129000,129000,129000,129000,24000,91000,91000,91000,91000,91000,91000,91000,91000,91000,91000,91000]
["Production (m3)",5516,{"$f":"FAO_Country460","v":"Venezuela (Bolivarian Republic of)"},236,3928333,4707654,5830388,5420793,5517782,5514360,5551531,5574437,5597702,5621326,5621326,5645310,2990333,3604654,4089388,4124793,4160782,4197360,4234531,4257437,4280702,4304326,4304326,4328310]
["Production (m3)",5516,{"$f":"FAO_Country461","v":"Viet Nam"},237,31203428,30868548,49200000,50400000,51508960,52735420,53335420,52135420,53835420,57335420,57335420,57335420,26534428,26685548,20400000,20000000,20000000,20000000,20000000,20000000,20000000,20000000,20000000,20000000]
["Production (m3)",5516,{"$f":"FAO_Country462","v":"Wallis and Futuna Islands"},243,null,null,400,400,400,400,400,400,400,400,400,400]
["Production (m3)",5516,{"$f":"FAO_Country463","v":"Yemen"},249,173220,301896,456134,472047,488545,505651,523387,539699,559018,576554,576554,594535,173220,301896,456134,472047,488545,505651,523387,539699,556548,573954,573954,591935]
["Production (m3)",5516,{"$f":"FAO_Country465","v":"Zambia"},251,7119113,8655887,23874000,24488000,24488000,24553000,24548000,24588000,25673000,25725000,25725000,25725000,6443113,7827887,22419000,23033000,23033000,23033000,23033000,23033000,23033000,23033000,23033000,23033000]
["Production (m3)",5516,{"$f":"FAO_Country466","v":"Zimbabwe"},181,6904200,9093600,9305939,9346519,9582416,9663236,9744786,9806850,9801056,9920009,9920009,9983350,6260200,8115200,8787539,8866919,8947016,9027836,9109386,9171450,9233936,9296849,9296849,9360190]

{"sheet":"FRA2020table3","index":22,"n_rows":257,"n_cols":6,"rows_kept":257,"cut":false,"hidden":true,"merged":[[0,0,0,5],[1,1,1,5],[254,0,254,5],[255,0,255,5]]}
["Trends in extent of forest 1990-2020"]
["Country/area",{"$f":"title34&\" (1 000 ha)\"","v":"Forest area (1 000 ha)"}]
[null,1990,2000,2010,2015,2020]
[]
[{"$f":"FRA_Country2","v":"Angola"},59728,59104,58480,57856,66607]
[{"$f":"FRA_Country3","v":"Botswana"},12535,11943,11351,10840,15255]
[{"$f":"FRA_Country4","v":"Comoros"},45,42,39,37,33]
[{"$f":"FRA_Country5","v":"Djibouti"},5.6,5.6,5.6,5.6,6]
[{"$f":"FRA_Country6","v":"Eritrea"},1576,1554,1532,1510,1055]
[{"$f":"FRA_Country7","v":"Ethiopia"},13705,13000,12296,12499,17069]
[{"$f":"FRA_Country8","v":"Kenya"},3557,4047,4230,4413,3611]
[{"$f":"FRA_Country9","v":"Lesotho"},42,43,44,49,35]
[{"$f":"FRA_Country10","v":"Madagascar"},13023,12838,12553,12473,12430]
[{"$f":"FRA_Country11","v":"Malawi"},3567,3402,3237,3147,2242]
[{"$f":"FRA_Country12","v":"Mauritius"},41.9,38.200000000000003,38.4,38.6,39]
[{"$f":"FRA_Country13","v":"Mayotte"},8.73,7.76,6.79,5.82,14]
[{"$f":"FRA_Country14","v":"Mozambique"},41188,40079,38972,37940,36744]
[{"$f":"FRA_Country15","v":"Namibia"},8032,7661,7290,6919,6639]
[{"$f":"FRA_Country16","v":"Réunion"},87,85,88,88,98]
[{"$f":"FRA_Country17","v":"Seychelles"},40.665999999999997,40.665999999999997,40.665999999999997,40.665999999999997,34]
[{"$f":"FRA_Country18","v":"Somalia"},7515,7131,6747,6363,5980]
[{"$f":"FRA_Country19","v":"South Africa"},9241,9241,9241,9241,17050]
[{"$f":"FRA_Country20","v":"Eswatini"},518,541,563,586,498]
[{"$f":"FRA_Country21","v":"Uganda"},3869,3429,2753,2077,2338]
[{"$f":"FRA_Country22","v":"United Republic of Tanzania"},51920,49920,47920,46060,45745]
[{"$f":"FRA_Country23","v":"Zambia"},51134,50301,49468,48635,44814]
[{"$f":"FRA_Country24","v":"Zimbabwe"},18894,17259,15624,14062,17445]
[{"$f":"FRA_Country25","v":"Eastern and Southern Africa"}]
[{"$f":"FRA_Country26","v":"Algeria"},1579,1536,1918,1956,1949]
[{"$f":"FRA_Country27","v":"Egypt"},59,67,70,73,45]
[{"$f":"FRA_Country28","v":"Libya"},217,217,217,217,217]
[{"$f":"FRA_Country29","v":"Mauritania"},317,267,242,224.5,313]
[{"$f":"FRA_Country30","v":"Morocco"},4993,5401,5672,5632,5742]
[{"$f":"FRA_Country31","v":"Sudan"},21826.163,20954.088,20082.011999999999,19209.937999999998,18360]
[{"$f":"FRA_Country32","v":"Tunisia"},837,915,990,1041,703]
[{"$f":"FRA_Country33","v":"Western Sahara"},707,707,707,707,665]
[{"$f":"FRA_Country34","v":"Northern Africa"}]
[{"$f":"FRA_Country35","v":"Benin"},5061,4811,4561,4311,3135]
[{"$f":"FRA_Country36","v":"Burkina Faso"},6248,5949,5649,5350,6216]
[{"$f":"FRA_Country37","v":"Burundi"},198,181,253,276,280]
[{"$f":"FRA_Country38","v":"Cameroon"},22116,21016,19916,18816,20340]
[{"$f":"FRA_Country39","v":"Cabo Verde"},82.09,83.59,85.09,89.903000000000006,46]
[{"$f":"FRA_Country40","v":"Central African Republic"},22404,22326,22248,22170,22303]
[{"$f":"FRA_Country41","v":"Chad"},6326,6141,5508,4875,4313]
[{"$f":"FRA_Country42","v":"Congo"},22556,22471,22411,22334,21946]
[{"$f":"FRA_Country43","v":"Côte d'Ivoire"},10328,10405,10403,10401,2837]
[{"$f":"FRA_Country44","v":"Democratic Republic of the Congo"},157249,155692,154135,152578,126155]
[{"$f":"FRA_Country45","v":"Equatorial Guinea"},1743,1685,1626,1568,2448]
[{"$f":"FRA_Country46","v":"Gabon"},22000,22000,22000,23000,23531]
[{"$f":"FRA_Country47","v":"Gambia"},461,471,480,488,243]
[{"$f":"FRA_Country48","v":"Ghana"},8909,9053,9195,9337,7986]
[{"$f":"FRA_Country49","v":"Guinea"},6904,6724,6544,6364,6189]
[{"$f":"FRA_Country50","v":"Guinea-Bissau"},2120,2072,2022,1972,1980]
[{"$f":"FRA_Country51","v":"Liberia"},4629,4479,4329,4179,7617]
[{"$f":"FRA_Country52","v":"Mali"},5900,5505,5110,4715,13296]
[{"$f":"FRA_Country53","v":"Niger"},1328,1266,1204,1142,1080]
[{"$f":"FRA_Country54","v":"Nigeria"},13137,11089,9041,6993,21627]
[{"$f":"FRA_Country55","v":"Rwanda"},344,385,446,480,276]
[{"$f":"FRA_Country56","v":"Saint Helena"},2,2,2,2,2]
[{"$f":"FRA_Country57","v":"Sao Tome and Principe"},56,56,53.6,53.6,52]
[{"$f":"FRA_Country58","v":"Senegal"},8898,8673,8473,8273,8068]
[{"$f":"FRA_Country59","v":"Sierra Leone"},2922,2824,2726,3044,2535]
[{"$f":"FRA_Country60","v":"Togo"},486,386,287,188,1209]
[{"$f":"FRA_Country61","v":"Western and Central Africa"}]
[{"$f":"FRA_Country62","v":"Africa"}]
[{"$f":"FRA_Country63","v":"China"},177000.5,193043.9,200610.3,208321.3,219978]
[{"$f":"FRA_Country64","v":"Democratic People's Republic of Korea"},6933,6299,5666,5031,6030]
[{"$f":"FRA_Country65","v":"Japan"},24876,24935,24966,24958,24935]
[{"$f":"FRA_Country66","v":"Mongolia"},11717,11308,13039.2,12552.8,14173]
[{"$f":"FRA_Country67","v":"Republic of Korea"},6288,6255,6222,6184,6287]
[{"$f":"FRA_Country68","v":"East Asia"}]
[{"$f":"FRA_Country69","v":"Bangladesh"},1468,1455,1442,1429,1883]
[{"$f":"FRA_Country70","v":"Bhutan"},2606.002,2655.6469999999999,2705.2910000000002,2754.9349999999999,2725]
[{"$f":"FRA_Country71","v":"Brunei Darussalam"},397,389,380,380,380]
[{"$f":"FRA_Country72","v":"Cambodia"},11546,10731,10094,9457,8068]
[{"$f":"FRA_Country73","v":"India"},65390,67709,69790,70682,72160]
[{"$f":"FRA_Country74","v":"Indonesia"},99409,97857,94432,91010,92133]
[{"$f":"FRA_Country75","v":"Lao People's Democratic Republic"},16525.990000000002,16869.71,17815.560000000001,18761.41,16596]
[{"$f":"FRA_Country76","v":"Malaysia"},21591,20890,22124,22195,19114]
[{"$f":"FRA_Country77","v":"Maldives"},1,1,1,1,1]
[{"$f":"FRA_Country78","v":"Myanmar"},34868,33321,31773,29041,28544]
[{"$f":"FRA_Country79","v":"Nepal"},3900,3636,3636,3636,5962]
[{"$f":"FRA_Country80","v":"Pakistan"},2116,1902,1687,1472,3726]
[{"$f":"FRA_Country81","v":"Philippines"},7027,7074,6840,8040,7189]
[{"$f":"FRA_Country82","v":"Singapore"},16.350000000000001,16.350000000000001,16.350000000000001,16.350000000000001,16]
[{"$f":"FRA_Country83","v":"Sri Lanka"},2192,2118,2103,2070,2113]
[{"$f":"FRA_Country84","v":"Thailand"},17011,16100,16249,16399,19873]
[{"$f":"FRA_Country85","v":"Timor-Leste"},854,798,742,686,921]
[{"$f":"FRA_Country86","v":"Viet Nam"},11727,13077,14128,14773,14643]
[{"$f":"FRA_Country87","v":"South and South-east Asia"}]
[{"$f":"FRA_Country88","v":"Afghanistan"},1350,1350,1350,1350,1208]
[{"$f":"FRA_Country89","v":"Armenia"},333,332,331,332,328]
[{"$f":"FRA_Country90","v":"Azerbaijan"},871.8,877.2,1008.3,1139.4000000000001,1132]
[{"$f":"FRA_Country91","v":"Bahrain"},0.371,0.44800000000000001,0.52600000000000002,0.60399999999999998,1]
[{"$f":"FRA_Country92","v":"Cyprus"},171.61,172.851,172.84100000000001,172.7,173]
[{"$f":"FRA_Country93","v":"Georgia"},2760.6,2772.5,2822.4,2822.4,2822]
[{"$f":"FRA_Country94","v":"Iran (Islamic Republic of)"},9325.6560000000009,10691.98,10691.98,10691.98,10752]
[{"$f":"FRA_Country95","v":"Iraq"},818,825,825,825,825]
[{"$f":"FRA_Country96","v":"Israel"},153,155,154,165,140]
[{"$f":"FRA_Country97","v":"Jordan"},97.5,97.5,97.5,97.5,98]
[{"$f":"FRA_Country98","v":"Kazakhstan"},3365,3337,3309,3309,3455]
[{"$f":"FRA_Country99","v":"Kuwait"},4.8499999999999996,5.55,6.25,6.25,6]
[{"$f":"FRA_Country100","v":"Kyrgyzstan"},858.3,869.3,677,637,1315]
[{"$f":"FRA_Country101","v":"Lebanon"},131,136.5,136.9,137.30000000000001,143]
[{"$f":"FRA_Country102","v":"Occupied Palestinian Territory"},"na","na","na","na",10]
[{"$f":"FRA_Country103","v":"Oman"},2,2,2,2,3]
[{"$f":"FRA_Country104","v":"Qatar"},0,0,0,0,0]
[{"$f":"FRA_Country105","v":"Saudi Arabia"},977,977,977,977,977]
[{"$f":"FRA_Country106","v":"Syrian Arab Republic"},432,461,491,491,522]
[{"$f":"FRA_Country107","v":"Tajikistan"},410,410,410,412,424]
[{"$f":"FRA_Country108","v":"Turkey"},10183,10662,11203,11715,22220]
[{"$f":"FRA_Country109","v":"Turkmenistan"},4127,4127,4127,4127,4127]
[{"$f":"FRA_Country110","v":"United Arab Emirates"},310,312,317.3,322.60000000000002,317]
[{"$f":"FRA_Country111","v":"Uzbekistan"},3212,3295,3275.5,3219.9,3690]
[{"$f":"FRA_Country112","v":"Yemen"},549,549,549,549,549]
[{"$f":"FRA_Country113","v":"Western and Central Asia"}]
[{"$f":"FRA_Country114","v":"Asia"}]
[{"$f":"FRA_Country115","v":"Albania"},769.3,782.4,776.3,771.5,789]
[{"$f":"FRA_Country116","v":"Andorra"},16,16,16,16,16]
[{"$f":"FRA_Country117","v":"Austria"},3838,3851,3860,3869,3899]
[{"$f":"FRA_Country118","v":"Belarus"},8273,8436,8534,8633.5,8768]
[{"$f":"FRA_Country119","v":"Belgium"},667.3,674.2,681.2,683.4,689]
[{"$f":"FRA_Country120","v":"Bosnia and Herzegovina"},2185,2185,2185,2185,2188]
[{"$f":"FRA_Country121","v":"Bulgaria"},3375,3651,3737,3823,3893]
[{"$f":"FRA_Country122","v":"Croatia"},1885,1903,1920,1922,1939]
[{"$f":"FRA_Country123","v":"Czech Republic"},2637,2647,2657,2667,2677]
[{"$f":"FRA_Country124","v":"Denmark"},585.5,557.70000000000005,587.1,612.20000000000005,628]
[{"$f":"FRA_Country125","v":"Estonia"},2243,2252,2234,2232,2438]
[{"$f":"FRA_Country126","v":"Faroe Islands"},8.3000000000000004E-2,8.3000000000000004E-2,8.3000000000000004E-2,8.3000000000000004E-2,0]
[{"$f":"FRA_Country127","v":"Finland"},22445,22143,22218,22218,22409]
[{"$f":"FRA_Country128","v":"France"},15289,15861,16424,16989,17253]
[{"$f":"FRA_Country129","v":"Germany"},11354,11384,11409,11419,11419]
[{"$f":"FRA_Country130","v":"Gibraltar"},0,0,0,0,0]
[{"$f":"FRA_Country131","v":"Greece"},3601,3752,3903,4054,3902]
[{"$f":"FRA_Country132","v":"Guernsey"},0.2,0.2,0.2,0.2,0]
[{"$f":"FRA_Country133","v":"Holy See"},"na","na","na","na",0]
[{"$f":"FRA_Country134","v":"Hungary"},1917,1983,2046,2069,2053]
[{"$f":"FRA_Country135","v":"Iceland"},28.8,36.5,42.7,49.2,51]
[{"$f":"FRA_Country136","v":"Ireland"},634.95100000000002,694.83500000000004,725.63499999999999,754.01599999999996,782]
[{"$f":"FRA_Country137","v":"Isle of Man"},3.46,3.46,3.46,3.46,3]
[{"$f":"FRA_Country138","v":"Italy"},8369,8759,9028,9297,9566]
[{"$f":"FRA_Country139","v":"Jersey"},0.6,0.6,0.6,0.6,1]
[{"$f":"FRA_Country140","v":"Latvia"},3241,3297,3354,3356,3411]
[{"$f":"FRA_Country141","v":"Liechtenstein"},6.9,6.9,6.9,6.9,7]
[{"$f":"FRA_Country142","v":"Lithuania"},2020,2121,2170,2180,2201]
[{"$f":"FRA_Country143","v":"Luxembourg"},86.7,86.7,86.7,86.7,89]
[{"$f":"FRA_Country144","v":"Malta"},0.34699999999999998,0.34699999999999998,0.34699999999999998,0.34699999999999998,0]
[{"$f":"FRA_Country145","v":"Monaco"},0,0,0,0,0]
[{"$f":"FRA_Country146","v":"Montenegro"},626,626,827,827,827]
[{"$f":"FRA_Country147","v":"Netherlands"},360,365,373,376,370]
[{"$f":"FRA_Country148","v":"Norway"},12113,12092,12102,12112,12180]
[{"$f":"FRA_Country149","v":"Poland"},9059,9200,9329,9435,9483]
[{"$f":"FRA_Country150","v":"Portugal"},3343,3296,3239,3182,3312]
[{"$f":"FRA_Country151","v":"Republic of Moldova"},324,363,386,409,387]
[{"$f":"FRA_Country152","v":"Romania"},6366,6391,6515,6861,6929]
[{"$f":"FRA_Country153","v":"Russian Federation"},809268.5,808790,815135.6,814930.5,815312]
[{"$f":"FRA_Country154","v":"San Marino"},0,0,0,0,1]
[{"$f":"FRA_Country155","v":"Serbia"},2460,2476,2713,2720,2723]
[{"$f":"FRA_Country156","v":"Slovakia"},1921,1932,1939,1940,1926]
[{"$f":"FRA_Country157","v":"Slovenia"},1233,1243,1247,1248,1238]
[{"$f":"FRA_Country158","v":"Spain"},16976.939999999999,17282.09,18247.2,18417.87,18572]
[{"$f":"FRA_Country159","v":"Svalbard and Jan Mayen Islands"},0,0,0,0,0]
[{"$f":"FRA_Country160","v":"Sweden"},28163,28218,28073,28073,27980]
[{"$f":"FRA_Country161","v":"Switzerland"},1194,1217,1235,1254,1269]
[{"$f":"FRA_Country162","v":"North Macedonia"},958,975,998,998,1001]
[{"$f":"FRA_Country163","v":"Ukraine"},9510,9575,9548,9657,9690]
[{"$f":"FRA_Country164","v":"United Kingdom"},2954,3021,3059,3144,3190]
[{"$f":"FRA_Country165","v":"Europe"}]
[{"$f":"FRA_Country166","v":"Anguilla"},5.5,5.5,5.5,5.5,6]
[{"$f":"FRA_Country167","v":"Antigua and Barbuda"},10,9.8000000000000007,9.8000000000000007,9.8000000000000007,8]
[{"$f":"FRA_Country168","v":"Aruba"},0.42,0.42,0.42,0.42,0]
[{"$f":"FRA_Country169","v":"Bahamas"},515,515,515,515,510]
[{"$f":"FRA_Country170","v":"Barbados"},6.3,6.3,6.3,6.3,6]
[{"$f":"FRA_Country171","v":"Bermuda"},1,1,1,1,1]
[{"$f":"FRA_Country172","v":"British Virgin Islands"},3.67,3.66,3.64,3.62,4]
[{"$f":"FRA_Country173","v":"Cayman Islands"},12.7,12.7,12.7,12.7,13]
[{"$f":"FRA_Country174","v":"Cuba"},2435,2697,2932,3200,3242]
[{"$f":"FRA_Country175","v":"Dominica"},47.33,45.99,44.66,43.33,48]
[{"$f":"FRA_Country176","v":"Dominican Republic"},1486,1652,1817,1983,2144]
[{"$f":"FRA_Country177","v":"Grenada"},16.989999999999998,16.989999999999998,16.989999999999998,16.989999999999998,18]
[{"$f":"FRA_Country178","v":"Guadeloupe"},73.061000000000007,72.896000000000001,71.695999999999998,71.495999999999995,72]
[{"$f":"FRA_Country179","v":"Haiti"},109,105,101,97,347]
[{"$f":"FRA_Country180","v":"Jamaica"},340.9,339.2,337.1,335.2,597]
[{"$f":"FRA_Country181","v":"Martinique"},48.5,48.5,48.5,48.5,52]
[{"$f":"FRA_Country182","v":"Montserrat"},2.5,2.5,2.5,2.5,3]
[{"$f":"FRA_Country183","v":"Netherlands Antilles"},1.18,1.18,1.18,1.18]
[{"$f":"FRA_Country184","v":"Puerto Rico"},450.09,462.87,479.41,495.95,496]
[{"$f":"FRA_Country185","v":"Saint Kitts and Nevis"},11,11,11,11,11]
[{"$f":"FRA_Country186","v":"Saint Lucia"},21.2,20.9,20.6,20.3,21]
[{"$f":"FRA_Country187","v":"Saint Martin (French part)"},1.1439999999999999,1.1439999999999999,1.1439999999999999,1.1439999999999999,1]
[{"$f":"FRA_Country188","v":"Saint Vincent and the Grenadines"},26,26,27,27,29]
[{"$f":"FRA_Country189","v":"Saint-Barthélemy"},"0","0","0","0",0]
[{"$f":"FRA_Country190","v":"Trinidad and Tobago"},233.6,230,226.4,234.476,228]
[{"$f":"FRA_Country191","v":"Turks and Caicos Islands"},34.4,34.4,34.4,34.4,11]
[{"$f":"FRA_Country192","v":"United States Virgin Islands"},20.47,18.73,18.16,17.600000000000001,20]
[{"$f":"FRA_Country193","v":"Caribbean"}]
[{"$f":"FRA_Country194","v":"Belize"},1459.3009999999999,1416.53,1391.3910000000001,1366.3,1277]
[{"$f":"FRA_Country195","v":"Costa Rica"},2376,2491,2605,2756,3035]
[{"$f":"FRA_Country196","v":"El Salvador"},332,309,287,265,584]
[{"$f":"FRA_Country197","v":"Guatemala"},4208,3938,3722,3540,3528]
[{"$f":"FRA_Country198","v":"Honduras"},6392,5792,5192,4592,6359]
[{"$f":"FRA_Country199","v":"Nicaragua"},3814,3464,3114,3114,3408]
[{"$f":"FRA_Country200","v":"Panama"},4867,4782,4699,4617,4214]
[{"$f":"FRA_Country201","v":"Central America"}]
[{"$f":"FRA_Country202","v":"Canada"},347802,347576,347302,347069,346928]
[{"$f":"FRA_Country203","v":"Greenland"},0.22,0.22,0.22,0.22,0]
[{"$f":"FRA_Country204","v":"Mexico"},67856,67083,66498,66040,65692]
[{"$f":"FRA_Country205","v":"Saint Pierre and Miquelon"},3.2,3,2.9,2.8,1]
[{"$f":"FRA_Country206","v":"United States of America"},303536,304757,308720,310095,309795]
[{"$f":"FRA_Country207","v":"North America"}]
[{"$f":"FRA_Country208","v":"North and Central America"}]
[{"$f":"FRA_Country209","v":"American Samoa"},18.05,17.881,17.712,17.542999999999999,17]
[{"$f":"FRA_Country210","v":"Australia"},128841,127641,123211,124751,134005]
[{"$f":"FRA_Country211","v":"Cook Islands"},15.1,15.1,15.1,15.1,16]
[{"$f":"FRA_Country212","v":"Fiji"},980.44,997.26,992.89599999999996,1017.1950000000001,1140]
[{"$f":"FRA_Country213","v":"French Polynesia"},105,130,155,155,149]
[{"$f":"FRA_Country214","v":"Guam"},25,25,25,25,28]
[{"$f":"FRA_Country215","v":"Kiribati"},12.15,12.15,12.15,12.15,1]
[{"$f":"FRA_Country216","v":"Marshall Islands"},12.635999999999999,12.635999999999999,12.635999999999999,12.635999999999999,9]
[{"$f":"FRA_Country217","v":"Micronesia (Federated States of)"},63.856000000000002,63.993000000000002,64.129000000000005,64.265000000000001,64]
[{"$f":"FRA_Country218","v":"Nauru"},0,0,0,0,0]
[{"$f":"FRA_Country219","v":"New Caledonia"},839,839,839,839,838]
[{"$f":"FRA_Country220","v":"New Zealand"},10139,10183,10151,10152,9893]
[{"$f":"FRA_Country221","v":"Niue"},19.600000000000001,19.100000000000001,18.600000000000001,18.100000000000001,19]
[{"$f":"FRA_Country222","v":"Norfolk Island"},0.46,0.46,0.46,0.46,0]
[{"$f":"FRA_Country223","v":"Northern Mariana Islands"},31.963999999999999,31.141999999999999,30.318999999999999,29.495999999999999,24]
[{"$f":"FRA_Country224","v":"Palau"},39.587000000000003,40.302999999999997,40.302999999999997,40.302999999999997,41]
[{"$f":"FRA_Country225","v":"Papua New Guinea"},33600,33586,33573,33559,35856]
[{"$f":"FRA_Country226","v":"Pitcairn"},3.5,3.5,3.5,3.5,4]
[{"$f":"FRA_Country227","v":"Samoa"},171,171,171,171,162]
[{"$f":"FRA_Country228","v":"Solomon Islands"},2268,2241,2213,2185,2523]
[{"$f":"FRA_Country229","v":"Tokelau"},0,0,0,0,0]
[{"$f":"FRA_Country230","v":"Tonga"},9,9,9,9,9]
[{"$f":"FRA_Country231","v":"Tuvalu"},1,1,1,1,1]
[{"$f":"FRA_Country232","v":"Vanuatu"},440,440,440,440,442]
[{"$f":"FRA_Country233","v":"Wallis and Futuna Islands"},5.81,5.81,5.82,5.83,6]
[{"$f":"FRA_Country234","v":"Oceania"}]
[{"$f":"FRA_Country235","v":"Argentina"},31860,30186,28596,27112,28573]
[{"$f":"FRA_Country236","v":"Bolivia (Plurinational State of)"},60091,58734,56209,54764,50834]
[{"$f":"FRA_Country237","v":"Brazil"},521274,506734,498458,493538,496620]
[{"$f":"FRA_Country238","v":"Chile"},15834,16042,16231,17735,18211]
[{"$f":"FRA_Country239","v":"Colombia"},61798.44,60201.36,58635.32,58501.74,59142]
[{"$f":"FRA_Country240","v":"Ecuador"},13728.915999999999,13335.236000000001,12941.556,12547.876,12498]
[{"$f":"FRA_Country241","v":"Falkland Islands (malvinas)"},0,0,0,0,0]
[{"$f":"FRA_Country242","v":"French Guiana"},8182,8168,8138,8130,8003]
[{"$f":"FRA_Country243","v":"Guyana"},16622,16602,16576,16526,18415]
[{"$f":"FRA_Country244","v":"Paraguay"},19368,18475,16950,15323,16102]
[{"$f":"FRA_Country245","v":"Peru"},76147,75528,74811,73973,72330]
[{"$f":"FRA_Country246","v":"Suriname"},15391,15371,15351,15332,15196]
[{"$f":"FRA_Country247","v":"Uruguay"},1369.7,1521.8,1731.3,1845,2031]
[{"$f":"FRA_Country248","v":"Venezuela (Bolivarian Republic of)"},49151,47713,47505,46683,46231]
[{"$f":"FRA_Country249","v":"South America"}]
[{"$f":"FRA_Country250","v":"World"}]
[]
["a   Rate of gain or loss in percent of the remaining forest area each year within the given period."]
["b   FAO estimates based on information provided by these two countries for 2000 and 2005."]
["* A dispute exists between the governments of Argentina and the United Kingdom of Great Britain and Northern Ireland concerning sovereignty over the Falkland Islands (Malvinas)."]

{"sheet":"Cash flow","index":23,"n_rows":172,"n_cols":51,"rows_kept":172,"cut":false,"hidden":true,"merged":[[171,33,171,35],[170,33,170,35],[127,33,127,35],[128,33,128,35],[6,48,6,49],[42,33,42,35],[43,33,43,35],[85,33,85,35],[86,33,86,35],[92,49,92,50]]}
[null,"COSTS AND RETURNS"]
[null,"CASH FLOW"]
[null,"FINANCIAL EVALUATION OF FORESTRY PLANTATION"]
[]
[null,null,null,null,null,null,null,null,null,null,null,null,null,null,null,null,{"$f":"title174&\" (i):\"","v":"Discount rate (i):"},null,{"$f":"'Planting and management costs'!$J$17","v":0}]
[null,null,null,null,null,null,null,null,null,null,null,null,null,null,null,null,"Price",null,{"$f":"'Growth characteristics'!J35","v":0}]
[null,"Species 1 selected (user-defined):",null,null,{"$f":"E50","v":"Select species"},null,"Management system selected:",null,"FR",null,null,null,null,null,null,null,null,null,null,null,null,null,null,null,null,null,null,null,null,null,null,null,null,null,null,null,null,null,null,null,null,null,null,null,null,null,null,null,{"$f":"UPPER(title169)","v":"SPECIES 1"}]
[null,null,{"$f":"title188","v":"Seedling"},{"$f":"title190","v":" - Nitrogen"},{"$f":"title191","v":" - Phosphorus "},{"$f":"title192","v":" - Potassium "},{"$f":"title193","v":"Other inputs"},{"$f":"title199&title200","v":"Land clearing and planting - Manual"},{"$f":"title199&title201","v":"Land clearing and planting - Machinery"},{"$f":"title202&title200","v":"Application of fertilizers - Manual"},{"$f":"title202&title201","v":"Application of fertilizers - Machinery"},{"$f":"title203&title200","v":"Application of other agrochemicals - Manual"},{"$f":"title203&title201","v":"Application of other agrochemicals - Machinery"},{"$f":"title204&title200","v":"Harvesting - Manual"},{"$f":"title204&title201","v":"Harvesting - Machinery"},"Other Labour","Annual current costs","Price","Quantity","Annual current revenue","Current Cash Flow - before tax",{"$f":"title188","v":"Seedling"},{"$f":"title190","v":" - Nitrogen"},{"$f":"title191","v":" - Phosphorus "},{"$f":"title192","v":" - Potassium "},{"$f":"title193","v":"Other inputs"},{"$f":"title199&title200","v":"Land clearing and planting - Manual"},{"$f":"title199&title201","v":"Land clearing and planting - Machinery"},{"$f":"title202&title200","v":"Application of fertilizers - Manual"},{"$f":"title202&title201","v":"Application of fertilizers - Machinery"},{"$f":"title203&title200","v":"Application of other agrochemicals - Manual"},{"$f":"title203&title201","v":"Application of other agrochemicals - Machinery"},{"$f":"title204&title200","v":"Harvesting - Manual"},{"$f":"title204&title201","v":"Harvesting - Machinery"},"Other Labour","Costs discounted","Revenue discounted","Discount Cash Flow - before tax",null,"(1+i)","n","(1+i)^n",null,null,null,null,null,"RATE","NPV (User-defined)",{"$f":"title235","v":"NPV (Default)"}]
[null,{"$f":"title58","v":"Year"},"USD/ha","USD/ha","USD/ha","USD/ha","USD/ha","USD/ha","USD/ha","USD/ha","USD/ha","USD/ha","USD/ha","USD/ha","USD/ha","USD/ha","USD/ha",{"$f":"'Growth characteristics'!F35","v":"USD/m3"},"m3/ha","USD/ha","USD/ha","USD/ha","USD/ha","USD/ha","USD/ha","USD/ha","USD/ha","USD/ha","USD/ha","USD/ha","USD/ha","USD/ha","USD/ha","USD/ha","USD/ha","USD/ha","USD/ha","USD/ha"]
[null,0,{"$f":"IF('Planting and management costs'!$I$36=$B10,'Planting and management costs'!$Y$36/'Planting and management costs'!AA$35,0)","v":0},{"$f":"IF('Planting and management costs'!$I$38=$B10,'Planting and management costs'!$Y$38/'Planting and management costs'!AB$35,0)","v":0},{"$f":"IF('Planting and management costs'!$I$39=$B10,'Planting and management costs'!$Y$39/'Planting and management costs'!AC$35,0)","v":0},{"$f":"IF('Planting and management costs'!$I$40=$B10,'Planting and management costs'!$Y$40/'Planting and management costs'!AD$35,0)","v":0},{"$f":"IF('Planting and management costs'!$I$41=$B10,'Planting and management costs'!$Y$41/'Planting and management costs'!AE$35,0)","v":0},{"$f":"IF('Planting and management costs'!$I$49=$B10,'Planting and management costs'!$Y$49/'Planting and management costs'!AA$47,0)","v":0},{"$f":"IF('Planting and management costs'!$I$50=$B10,'Planting and management costs'!$Y$50/'Planting and management costs'!AB$47,0)","v":0},{"$f":"IF('Planting and management costs'!$I$52=$B10,'Planting and management costs'!$Y$52/'Planting and management costs'!AC$47,0)","v":0},{"$f":"IF('Planting and management costs'!$I$53=$B10,'Planting and management costs'!$Y$53/'Planting and management costs'!AD$47,0)","v":0},{"$f":"IF('Planting and management costs'!$I$55=$B10,'Planting and management costs'!$Y$55/'Planting and management costs'!AE$47,0)","v":0},{"$f":"IF('Planting and management costs'!$I$56=$B10,'Planting and management costs'!$Y$56/'Planting and management costs'!AF$47,0)","v":0},{"$f":"IF('Planting and management costs'!$I$58=$B10,'Planting and management costs'!$Y$58/'Planting and management costs'!AG$47,0)","v":0},{"$f":"IF('Planting and management costs'!$I$59=$B10,'Planting and management costs'!$Y$59/'Planting and management costs'!AH$47,0)","v":0},{"$f":"IF('Planting and management costs'!$I$60=$B10,'Planting and management costs'!$Y$60/'Planting and management costs'!AI$47,0)","v":0},{"$f":"SUM(C10:P10)","v":0},{"$f":"$S$49","v":0},{"$f":"IF('Cash flow'!B10='Growth characteristics'!$H$26,'Growth characteristics'!$H$29,0)","v":0},{"$f":"IF($R$9=\"USD/m3\",R10*S10,R10*S10*'Growth characteristics'!$H$32*0.001)","v":0},{"$f":"T10-Q10","v":0},{"$f":"C10/(1+$S$48)^$B10","v":0},0,0,0,0,0,0,0,0,0,0,0,0,0,{"$f":"SUM(V10:AI10)","v":0},{"$f":"T10/((1+$S$48)^$B10)","v":0},{"$f":"AK10-AJ10","v":0},{"$f":"U10/AP10","v":0},{"$f":"1+$S$48","v":1},0,{"$f":"AN10^AO10","v":1},null,null,null,null,1,0,{"$f":"NPV(AV10,'Cash flow'!$U$11:$U$40)+'Cash flow'!$U$10","v":0},{"$f":"NPV(AV10,'Cash flow'!$U$54:$U$83)+'Cash flow'!$U$53","v":{"$error":"#REF!"}}]
[null,1,{"$f":"IF('Planting and management costs'!$I$36=$B11,'Planting and management costs'!$Y$36/'Planting and management costs'!$AA$35,IF(AND(C10<>0,($B11-'Planting and management costs'!$I$36)<'Planting and management costs'!$AA$35),'Planting and management costs'!$Y$36/'Planting and management costs'!$AA$35,0))","v":0},{"$f":"IF('Planting and management costs'!$I$38=$B11,'Planting and management costs'!$Y$38/'Planting and management costs'!$AB$35,IF(AND(D10<>0,($B11-'Planting and management costs'!$I$38)<'Planting and management costs'!$AB$35),'Planting and management costs'!$Y$38/'Planting and management costs'!$AB$35,0))","v":0},{"$f":"IF('Planting and management costs'!$I$39=$B11,'Planting and management costs'!$Y$39/'Planting and management costs'!$AC$35,IF(AND(E10<>0,($B11-'Planting and management costs'!$I$39)<'Planting and management costs'!$AC$35),'Planting and management costs'!$Y$39/'Planting and management costs'!$AC$35,0))","v":0},{"$f":"IF('Planting and management costs'!$I$40=$B11,'Planting and management costs'!$Y$40/'Planting and management costs'!$AD$35,IF(AND(F10<>0,($B11-'Planting and management costs'!$I$40)<'Planting and management costs'!$AD$35),'Planting and management costs'!$Y$40/'Planting and management costs'!$AD$35,0))","v":0},{"$f":"IF('Planting and management costs'!$I$41=$B11,'Planting and management costs'!$Y$41/'Planting and management costs'!$AE$35,IF(AND(G10<>0,($B11-'Planting and management costs'!$I$41)<'Planting and management costs'!$AE$35),'Planting and management costs'!$Y$41/'Planting and management costs'!$AE$35,0))","v":0},{"$f":"IF('Planting and management costs'!$I$49=$B11,'Planting and management costs'!$Y$49/'Planting and management costs'!$AA$47,IF(AND(H10<>0,($B11-'Planting and management costs'!$I$49)<'Planting and management costs'!$AA$47),'Planting and management costs'!$Y$49/'Planting and management costs'!$AA$47,0))","v":0},{"$f":"IF('Planting and management costs'!$I$50=$B11,'Planting and management costs'!$Y$50/'Planting and management costs'!$AB$47,IF(AND(I10<>0,($B11-'Planting and management costs'!$I$50)<'Planting and management costs'!$AB$47),'Planting and management costs'!$Y$50/'Planting and management costs'!$AB$47,0))","v":0},{"$f":"IF('Planting and management costs'!$I$52=$B11,'Planting and management costs'!$Y$52/'Planting and management costs'!$AC$47,IF(AND(J10<>0,($B11-'Planting and management costs'!$I$52)<'Planting and management costs'!$AC$47),'Planting and management costs'!$Y$52/'Planting and management costs'!$AC$47,0))","v":0},{"$f":"IF('Planting and management costs'!$I$53=$B11,'Planting and management costs'!$Y$53/'Planting and management costs'!$AD$47,IF(AND(K10<>0,($B11-'Planting and management costs'!$I$53)<'Planting and management costs'!$AD$47),'Planting and management costs'!$Y$53/'Planting and management costs'!$AD$47,0))","v":0},{"$f":"IF('Planting and management costs'!$I$55=$B11,'Planting and management costs'!$Y$55/'Planting and management costs'!$AE$47,IF(AND(L10<>0,($B11-'Planting and management costs'!$I$55)<'Planting and management costs'!$AE$47),'Planting and management costs'!$Y$55/'Planting and management costs'!$AE$47,0))","v":0},{"$f":"IF('Planting and management costs'!$I$56=$B11,'Planting and management costs'!$Y$56/'Planting and management costs'!$AF$47,IF(AND(M10<>0,($B11-'Planting and management costs'!$I$56)<'Planting and management costs'!$AF$47),'Planting and management costs'!$Y$56/'Planting and management costs'!$AF$47,0))","v":0},{"$f":"IF('Planting and management costs'!$I$58=$B11,'Planting and management costs'!$Y$58/'Planting and management costs'!$AG$47,IF(AND(N10<>0,($B11-'Planting and management costs'!$I$58)<'Planting and management costs'!$AG$47),'Planting and management costs'!$Y$58/'Planting and management costs'!$AG$47,0))","v":0},{"$f":"IF('Planting and management costs'!$I$59=$B11,'Planting and management costs'!$Y$59/'Planting and management costs'!$AH$47,IF(AND(O10<>0,($B11-'Planting and management costs'!$I$59)<'Planting and management costs'!$AH$47),'Planting and management costs'!$Y$59/'Planting and management costs'!$AH$47,0))","v":0},{"$f":"IF('Planting and management costs'!$I$60=$B11,'Planting and management costs'!$Y$60/'Planting and management costs'!$AI$47,IF(AND(P10<>0,($B11-'Planting and management costs'!$I$60)<'Planting and management costs'!$AI$47),'Planting and management costs'!$Y$60/'Planting and management costs'!$AI$47,0))","v":0},{"$f":"SUM(C11:P11)","v":0},{"$f":"$S$49","v":0},{"$f":"IF('Cash flow'!B11='Growth characteristics'!$H$26,'Growth characteristics'!$H$29,0)","v":0},{"$f":"IF($R$9=\"USD/m3\",R11*S11,R11*S11*'Growth characteristics'!$H$32*0.001)","v":0},{"$f":"T11-Q11","v":0},0,0,0,0,0,0,0,0,0,0,0,0,0,0,{"$f":"SUM(V11:AI11)","v":0},0,{"$f":"AK11-AJ11","v":0},{"$f":"U11/AP11","v":0},{"$f":"1+$S$48","v":1},1,{"$f":"AN11^AO11","v":1},null,null,null,null,2,0.01,{"$f":"NPV(AV11,'Cash flow'!$U$11:$U$40)+'Cash flow'!$U$10","v":0},{"$f":"NPV(AV11,'Cash flow'!$U$54:$U$83)+'Cash flow'!$U$53","v":{"$error":"#REF!"}}]
[null,2,{"$f":"IF('Planting and management costs'!$I$36=$B12,'Planting and management costs'!$Y$36/'Planting and management costs'!$AA$35,IF(AND(C11<>0,($B12-'Planting and management costs'!$I$36)<'Planting and management costs'!$AA$35),'Planting and management costs'!$Y$36/'Planting and management costs'!$AA$35,0))","v":0},{"$f":"IF('Planting and management costs'!$I$38=$B12,'Planting and management costs'!$Y$38/'Planting and management costs'!$AB$35,IF(AND(D11<>0,($B12-'Planting and management costs'!$I$38)<'Planting and management costs'!$AB$35),'Planting and management costs'!$Y$38/'Planting and management costs'!$AB$35,0))","v":0},{"$f":"IF('Planting and management costs'!$I$39=$B12,'Planting and management costs'!$Y$39/'Planting and management costs'!$AC$35,IF(AND(E11<>0,($B12-'Planting and management costs'!$I$39)<'Planting and management costs'!$AC$35),'Planting and management costs'!$Y$39/'Planting and management costs'!$AC$35,0))","v":0},{"$f":"IF('Planting and management costs'!$I$40=$B12,'Planting and management costs'!$Y$40/'Planting and management costs'!$AD$35,IF(AND(F11<>0,($B12-'Planting and management costs'!$I$40)<'Planting and management costs'!$AD$35),'Planting and management costs'!$Y$40/'Planting and management costs'!$AD$35,0))","v":0},{"$f":"IF('Planting and management costs'!$I$41=$B12,'Planting and management costs'!$Y$41/'Planting and management costs'!$AE$35,IF(AND(G11<>0,($B12-'Planting and management costs'!$I$41)<'Planting and management costs'!$AE$35),'Planting and management costs'!$Y$41/'Planting and management costs'!$AE$35,0))","v":0},{"$f":"IF('Planting and management costs'!$I$49=$B12,'Planting and management costs'!$Y$49/'Planting and management costs'!$AA$47,IF(AND(H11<>0,($B12-'Planting and management costs'!$I$49)<'Planting and management costs'!$AA$47),'Planting and management costs'!$Y$49/'Planting and management costs'!$AA$47,0))","v":0},{"$f":"IF('Planting and management costs'!$I$50=$B12,'Planting and management costs'!$Y$50/'Planting and management costs'!$AB$47,IF(AND(I11<>0,($B12-'Planting and management costs'!$I$50)<'Planting and management costs'!$AB$47),'Planting and management costs'!$Y$50/'Planting and management costs'!$AB$47,0))","v":0},{"$f":"IF('Planting and management costs'!$I$52=$B12,'Planting and management costs'!$Y$52/'Planting and management costs'!$AC$47,IF(AND(J11<>0,($B12-'Planting and management costs'!$I$52)<'Planting and management costs'!$AC$47),'Planting and management costs'!$Y$52/'Planting and management costs'!$AC$47,0))","v":0},{"$f":"IF('Planting and management costs'!$I$53=$B12,'Planting and management costs'!$Y$53/'Planting and management costs'!$AD$47,IF(AND(K11<>0,($B12-'Planting and management costs'!$I$53)<'Planting and management costs'!$AD$47),'Planting and management costs'!$Y$53/'Planting and management costs'!$AD$47,0))","v":0},{"$f":"IF('Planting and management costs'!$I$55=$B12,'Planting and management costs'!$Y$55/'Planting and management costs'!$AE$47,IF(AND(L11<>0,($B12-'Planting and management costs'!$I$55)<'Planting and management costs'!$AE$47),'Planting and management costs'!$Y$55/'Planting and management costs'!$AE$47,0))","v":0},{"$f":"IF('Planting and management costs'!$I$56=$B12,'Planting and management costs'!$Y$56/'Planting and management costs'!$AF$47,IF(AND(M11<>0,($B12-'Planting and management costs'!$I$56)<'Planting and management costs'!$AF$47),'Planting and management costs'!$Y$56/'Planting and management costs'!$AF$47,0))","v":0},{"$f":"IF('Planting and management costs'!$I$58=$B12,'Planting and management costs'!$Y$58/'Planting and management costs'!$AG$47,IF(AND(N11<>0,($B12-'Planting and management costs'!$I$58)<'Planting and management costs'!$AG$47),'Planting and management costs'!$Y$58/'Planting and management costs'!$AG$47,0))","v":0},{"$f":"IF('Planting and management costs'!$I$59=$B12,'Planting and management costs'!$Y$59/'Planting and management costs'!$AH$47,IF(AND(O11<>0,($B12-'Planting and management costs'!$I$59)<'Planting and management costs'!$AH$47),'Planting and management costs'!$Y$59/'Planting and management costs'!$AH$47,0))","v":0},{"$f":"IF('Planting and management costs'!$I$60=$B12,'Planting and management costs'!$Y$60/'Planting and management costs'!$AI$47,IF(AND(P11<>0,($B12-'Planting and management costs'!$I$60)<'Planting and management costs'!$AI$47),'Planting and management costs'!$Y$60/'Planting and management costs'!$AI$47,0))","v":0},0,0,{"$f":"IF('Cash flow'!B12='Growth characteristics'!$H$26,'Growth characteristics'!$H$29,0)","v":0},{"$f":"IF($R$9=\"USD/m3\",R12*S12,R12*S12*'Growth characteristics'!$H$32*0.001)","v":0},{"$f":"T12-Q12","v":0},0,0,0,0,0,0,0,0,0,0,0,0,0,0,0,0,0,0,1,2,1,null,null,null,null,3,0.02,{"$f":"NPV(AV12,'Cash flow'!$U$11:$U$40)+'Cash flow'!$U$10","v":0},{"$f":"NPV(AV12,'Cash flow'!$U$54:$U$83)+'Cash flow'!$U$53","v":{"$error":"#REF!"}}]
[null,3,{"$f":"IF('Planting and management costs'!$I$36=$B13,'Planting and management costs'!$Y$36/'Planting and management costs'!$AA$35,IF(AND(C12<>0,($B13-'Planting and management costs'!$I$36)<'Planting and management costs'!$AA$35),'Planting and management costs'!$Y$36/'Planting and management costs'!$AA$35,0))","v":0},{"$f":"IF('Planting and management costs'!$I$38=$B13,'Planting and management costs'!$Y$38/'Planting and management costs'!$AB$35,IF(AND(D12<>0,($B13-'Planting and management costs'!$I$38)<'Planting and management costs'!$AB$35),'Planting and management costs'!$Y$38/'Planting and management costs'!$AB$35,0))","v":0},{"$f":"IF('Planting and management costs'!$I$39=$B13,'Planting and management costs'!$Y$39/'Planting and management costs'!$AC$35,IF(AND(E12<>0,($B13-'Planting and management costs'!$I$39)<'Planting and management costs'!$AC$35),'Planting and management costs'!$Y$39/'Planting and management costs'!$AC$35,0))","v":0},{"$f":"IF('Planting and management costs'!$I$40=$B13,'Planting and management costs'!$Y$40/'Planting and management costs'!$AD$35,IF(AND(F12<>0,($B13-'Planting and management costs'!$I$40)<'Planting and management costs'!$AD$35),'Planting and management costs'!$Y$40/'Planting and management costs'!$AD$35,0))","v":0},{"$f":"IF('Planting and management costs'!$I$41=$B13,'Planting and management costs'!$Y$41/'Planting and management costs'!$AE$35,IF(AND(G12<>0,($B13-'Planting and management costs'!$I$41)<'Planting and management costs'!$AE$35),'Planting and management costs'!$Y$41/'Planting and management costs'!$AE$35,0))","v":0},{"$f":"IF('Planting and management costs'!$I$49=$B13,'Planting and management costs'!$Y$49/'Planting and management costs'!$AA$47,IF(AND(H12<>0,($B13-'Planting and management costs'!$I$49)<'Planting and management costs'!$AA$47),'Planting and management costs'!$Y$49/'Planting and management costs'!$AA$47,0))","v":0},{"$f":"IF('Planting and management costs'!$I$50=$B13,'Planting and management costs'!$Y$50/'Planting and management costs'!$AB$47,IF(AND(I12<>0,($B13-'Planting and management costs'!$I$50)<'Planting and management costs'!$AB$47),'Planting and management costs'!$Y$50/'Planting and management costs'!$AB$47,0))","v":0},{"$f":"IF('Planting and management costs'!$I$52=$B13,'Planting and management costs'!$Y$52/'Planting and management costs'!$AC$47,IF(AND(J12<>0,($B13-'Planting and management costs'!$I$52)<'Planting and management costs'!$AC$47),'Planting and management costs'!$Y$52/'Planting and management costs'!$AC$47,0))","v":0},{"$f":"IF('Planting and management costs'!$I$53=$B13,'Planting and management costs'!$Y$53/'Planting and management costs'!$AD$47,IF(AND(K12<>0,($B13-'Planting and management costs'!$I$53)<'Planting and management costs'!$AD$47),'Planting and management costs'!$Y$53/'Planting and management costs'!$AD$47,0))","v":0},{"$f":"IF('Planting and management costs'!$I$55=$B13,'Planting and management costs'!$Y$55/'Planting and management costs'!$AE$47,IF(AND(L12<>0,($B13-'Planting and management costs'!$I$55)<'Planting and management costs'!$AE$47),'Planting and management costs'!$Y$55/'Planting and management costs'!$AE$47,0))","v":0},{"$f":"IF('Planting and management costs'!$I$56=$B13,'Planting and management costs'!$Y$56/'Planting and management costs'!$AF$47,IF(AND(M12<>0,($B13-'Planting and management costs'!$I$56)<'Planting and management costs'!$AF$47),'Planting and management costs'!$Y$56/'Planting and management costs'!$AF$47,0))","v":0},{"$f":"IF('Planting and management costs'!$I$58=$B13,'Planting and management costs'!$Y$58/'Planting and management costs'!$AG$47,IF(AND(N12<>0,($B13-'Planting and management costs'!$I$58)<'Planting and management costs'!$AG$47),'Planting and management costs'!$Y$58/'Planting and management costs'!$AG$47,0))","v":0},{"$f":"IF('Planting and management costs'!$I$59=$B13,'Planting and management costs'!$Y$59/'Planting and management costs'!$AH$47,IF(AND(O12<>0,($B13-'Planting and management costs'!$I$59)<'Planting and management costs'!$AH$47),'Planting and management costs'!$Y$59/'Planting and management costs'!$AH$47,0))","v":0},{"$f":"IF('Planting and management costs'!$I$60=$B13,'Planting and management costs'!$Y$60/'Planting and management costs'!$AI$47,IF(AND(P12<>0,($B13-'Planting and management costs'!$I$60)<'Planting and management costs'!$AI$47),'Planting and management costs'!$Y$60/'Planting and management costs'!$AI$47,0))","v":0},0,0,{"$f":"IF('Cash flow'!B13='Growth characteristics'!$H$26,'Growth characteristics'!$H$29,0)","v":0},{"$f":"IF($R$9=\"USD/m3\",R13*S13,R13*S13*'Growth characteristics'!$H$32*0.001)","v":0},0,0,0,0,0,{"$f":"G13/(1+$S$48)^$B13","v":0},0,0,0,0,0,0,0,0,0,0,0,0,0,1,3,1,null,null,null,null,4,0.03,{"$f":"NPV(AV13,'Cash flow'!$U$11:$U$40)+'Cash flow'!$U$10","v":0},{"$f":"NPV(AV13,'Cash flow'!$U$54:$U$83)+'Cash flow'!$U$53","v":{"$error":"#REF!"}}]
[null,4,{"$f":"IF('Planting and management costs'!$I$36=$B14,'Planting and management costs'!$Y$36/'Planting and management costs'!$AA$35,IF(AND(C13<>0,($B14-'Planting and management costs'!$I$36)<'Planting and management costs'!$AA$35),'Planting and management costs'!$Y$36/'Planting and management costs'!$AA$35,0))","v":0},{"$f":"IF('Planting and management costs'!$I$38=$B14,'Planting and management costs'!$Y$38/'Planting and management costs'!$AB$35,IF(AND(D13<>0,($B14-'Planting and management costs'!$I$38)<'Planting and management costs'!$AB$35),'Planting and management costs'!$Y$38/'Planting and management costs'!$AB$35,0))","v":0},{"$f":"IF('Planting and management costs'!$I$39=$B14,'Planting and management costs'!$Y$39/'Planting and management costs'!$AC$35,IF(AND(E13<>0,($B14-'Planting and management costs'!$I$39)<'Planting and management costs'!$AC$35),'Planting and management costs'!$Y$39/'Planting and management costs'!$AC$35,0))","v":0},{"$f":"IF('Planting and management costs'!$I$40=$B14,'Planting and management costs'!$Y$40/'Planting and management costs'!$AD$35,IF(AND(F13<>0,($B14-'Planting and management costs'!$I$40)<'Planting and management costs'!$AD$35),'Planting and management costs'!$Y$40/'Planting and management costs'!$AD$35,0))","v":0},{"$f":"IF('Planting and management costs'!$I$41=$B14,'Planting and management costs'!$Y$41/'Planting and management costs'!$AE$35,IF(AND(G13<>0,($B14-'Planting and management costs'!$I$41)<'Planting and management costs'!$AE$35),'Planting and management costs'!$Y$41/'Planting and management costs'!$AE$35,0))","v":0},{"$f":"IF('Planting and management costs'!$I$49=$B14,'Planting and management costs'!$Y$49/'Planting and management costs'!$AA$47,IF(AND(H13<>0,($B14-'Planting and management costs'!$I$49)<'Planting and management costs'!$AA$47),'Planting and management costs'!$Y$49/'Planting and management costs'!$AA$47,0))","v":0},{"$f":"IF('Planting and management costs'!$I$50=$B14,'Planting and management costs'!$Y$50/'Planting and management costs'!$AB$47,IF(AND(I13<>0,($B14-'Planting and management costs'!$I$50)<'Planting and management costs'!$AB$47),'Planting and management costs'!$Y$50/'Planting and management costs'!$AB$47,0))","v":0},{"$f":"IF('Planting and management costs'!$I$52=$B14,'Planting and management costs'!$Y$52/'Planting and management costs'!$AC$47,IF(AND(J13<>0,($B14-'Planting and management costs'!$I$52)<'Planting and management costs'!$AC$47),'Planting and management costs'!$Y$52/'Planting and management costs'!$AC$47,0))","v":0},{"$f":"IF('Planting and management costs'!$I$53=$B14,'Planting and management costs'!$Y$53/'Planting and management costs'!$AD$47,IF(AND(K13<>0,($B14-'Planting and management costs'!$I$53)<'Planting and management costs'!$AD$47),'Planting and management costs'!$Y$53/'Planting and management costs'!$AD$47,0))","v":0},{"$f":"IF('Planting and management costs'!$I$55=$B14,'Planting and management costs'!$Y$55/'Planting and management costs'!$AE$47,IF(AND(L13<>0,($B14-'Planting and management costs'!$I$55)<'Planting and management costs'!$AE$47),'Planting and management costs'!$Y$55/'Planting and management costs'!$AE$47,0))","v":0},{"$f":"IF('Planting and management costs'!$I$56=$B14,'Planting and management costs'!$Y$56/'Planting and management costs'!$AF$47,IF(AND(M13<>0,($B14-'Planting and management costs'!$I$56)<'Planting and management costs'!$AF$47),'Planting and management costs'!$Y$56/'Planting and management costs'!$AF$47,0))","v":0},{"$f":"IF('Planting and management costs'!$I$58=$B14,'Planting and management costs'!$Y$58/'Planting and management costs'!$AG$47,IF(AND(N13<>0,($B14-'Planting and management costs'!$I$58)<'Planting and management costs'!$AG$47),'Planting and management costs'!$Y$58/'Planting and management costs'!$AG$47,0))","v":0},{"$f":"IF('Planting and management costs'!$I$59=$B14,'Planting and management costs'!$Y$59/'Planting and management costs'!$AH$47,IF(AND(O13<>0,($B14-'Planting and management costs'!$I$59)<'Planting and management costs'!$AH$47),'Planting and management costs'!$Y$59/'Planting and management costs'!$AH$47,0))","v":0},{"$f":"IF('Planting and management costs'!$I$60=$B14,'Planting and management costs'!$Y$60/'Planting and management costs'!$AI$47,IF(AND(P13<>0,($B14-'Planting and management costs'!$I$60)<'Planting and management costs'!$AI$47),'Planting and management costs'!$Y$60/'Planting and management costs'!$AI$47,0))","v":0},0,0,{"$f":"IF('Cash flow'!B14='Growth characteristics'!$H$26,'Growth characteristics'!$H$29,0)","v":0},{"$f":"IF($R$9=\"USD/m3\",R14*S14,R14*S14*'Growth characteristics'!$H$32*0.001)","v":0},0,0,0,0,0,0,0,0,0,0,0,0,0,0,0,0,0,0,0,1,4,1,null,null,null,null,5,0.04,{"$f":"NPV(AV14,'Cash flow'!$U$11:$U$40)+'Cash flow'!$U$10","v":0},{"$f":"NPV(AV14,'Cash flow'!$U$54:$U$83)+'Cash flow'!$U$53","v":{"$error":"#REF!"}}]
[null,5,{"$f":"IF('Planting and management costs'!$I$36=$B15,'Planting and management costs'!$Y$36/'Planting and management costs'!$AA$35,IF(AND(C14<>0,($B15-'Planting and management costs'!$I$36)<'Planting and management costs'!$AA$35),'Planting and management costs'!$Y$36/'Planting and management costs'!$AA$35,0))","v":0},{"$f":"IF('Planting and management costs'!$I$38=$B15,'Planting and management costs'!$Y$38/'Planting and management costs'!$AB$35,IF(AND(D14<>0,($B15-'Planting and management costs'!$I$38)<'Planting and management costs'!$AB$35),'Planting and management costs'!$Y$38/'Planting and management costs'!$AB$35,0))","v":0},{"$f":"IF('Planting and management costs'!$I$39=$B15,'Planting and management costs'!$Y$39/'Planting and management costs'!$AC$35,IF(AND(E14<>0,($B15-'Planting and management costs'!$I$39)<'Planting and management costs'!$AC$35),'Planting and management costs'!$Y$39/'Planting and management costs'!$AC$35,0))","v":0},{"$f":"IF('Planting and management costs'!$I$40=$B15,'Planting and management costs'!$Y$40/'Planting and management costs'!$AD$35,IF(AND(F14<>0,($B15-'Planting and management costs'!$I$40)<'Planting and management costs'!$AD$35),'Planting and management costs'!$Y$40/'Planting and management costs'!$AD$35,0))","v":0},{"$f":"IF('Planting and management costs'!$I$41=$B15,'Planting and management costs'!$Y$41/'Planting and management costs'!$AE$35,IF(AND(G14<>0,($B15-'Planting and management costs'!$I$41)<'Planting and management costs'!$AE$35),'Planting and management costs'!$Y$41/'Planting and management costs'!$AE$35,0))","v":0},{"$f":"IF('Planting and management costs'!$I$49=$B15,'Planting and management costs'!$Y$49/'Planting and management costs'!$AA$47,IF(AND(H14<>0,($B15-'Planting and management costs'!$I$49)<'Planting and management costs'!$AA$47),'Planting and management costs'!$Y$49/'Planting and management costs'!$AA$47,0))","v":0},{"$f":"IF('Planting and management costs'!$I$50=$B15,'Planting and management costs'!$Y$50/'Planting and management costs'!$AB$47,IF(AND(I14<>0,($B15-'Planting and management costs'!$I$50)<'Planting and management costs'!$AB$47),'Planting and management costs'!$Y$50/'Planting and management costs'!$AB$47,0))","v":0},{"$f":"IF('Planting and management costs'!$I$52=$B15,'Planting and management costs'!$Y$52/'Planting and management costs'!$AC$47,IF(AND(J14<>0,($B15-'Planting and management costs'!$I$52)<'Planting and management costs'!$AC$47),'Planting and management costs'!$Y$52/'Planting and management costs'!$AC$47,0))","v":0},{"$f":"IF('Planting and management costs'!$I$53=$B15,'Planting and management costs'!$Y$53/'Planting and management costs'!$AD$47,IF(AND(K14<>0,($B15-'Planting and management costs'!$I$53)<'Planting and management costs'!$AD$47),'Planting and management costs'!$Y$53/'Planting and management costs'!$AD$47,0))","v":0},{"$f":"IF('Planting and management costs'!$I$55=$B15,'Planting and management costs'!$Y$55/'Planting and management costs'!$AE$47,IF(AND(L14<>0,($B15-'Planting and management costs'!$I$55)<'Planting and management costs'!$AE$47),'Planting and management costs'!$Y$55/'Planting and management costs'!$AE$47,0))","v":0},{"$f":"IF('Planting and management costs'!$I$56=$B15,'Planting and management costs'!$Y$56/'Planting and management costs'!$AF$47,IF(AND(M14<>0,($B15-'Planting and management costs'!$I$56)<'Planting and management costs'!$AF$47),'Planting and management costs'!$Y$56/'Planting and management costs'!$AF$47,0))","v":0},{"$f":"IF('Planting and management costs'!$I$58=$B15,'Planting and management costs'!$Y$58/'Planting and management costs'!$AG$47,IF(AND(N14<>0,($B15-'Planting and management costs'!$I$58)<'Planting and management costs'!$AG$47),'Planting and management costs'!$Y$58/'Planting and management costs'!$AG$47,0))","v":0},{"$f":"IF('Planting and management costs'!$I$59=$B15,'Planting and management costs'!$Y$59/'Planting and management costs'!$AH$47,IF(AND(O14<>0,($B15-'Planting and management costs'!$I$59)<'Planting and management costs'!$AH$47),'Planting and management costs'!$Y$59/'Planting and management costs'!$AH$47,0))","v":0},{"$f":"IF('Planting and management costs'!$I$60=$B15,'Planting and management costs'!$Y$60/'Planting and management costs'!$AI$47,IF(AND(P14<>0,($B15-'Planting and management costs'!$I$60)<'Planting and management costs'!$AI$47),'Planting and management costs'!$Y$60/'Planting and management costs'!$AI$47,0))","v":0},0,0,{"$f":"IF('Cash flow'!B15='Growth characteristics'!$H$26,'Growth characteristics'!$H$29,0)","v":0},{"$f":"IF($R$9=\"USD/m3\",R15*S15,R15*S15*'Growth characteristics'!$H$32*0.001)","v":0},0,0,0,0,0,0,0,0,0,0,0,0,0,0,0,0,0,0,0,1,5,1,null,null,null,null,6,0.05,{"$f":"NPV(AV15,'Cash flow'!$U$11:$U$40)+'Cash flow'!$U$10","v":0},{"$f":"NPV(AV15,'Cash flow'!$U$54:$U$83)+'Cash flow'!$U$53","v":{"$error":"#REF!"}}]
[null,6,{"$f":"IF('Planting and management costs'!$I$36=$B16,'Planting and management costs'!$Y$36/'Planting and management costs'!$AA$35,IF(AND(C15<>0,($B16-'Planting and management costs'!$I$36)<'Planting and management costs'!$AA$35),'Planting and management costs'!$Y$36/'Planting and management costs'!$AA$35,0))","v":0},{"$f":"IF('Planting and management costs'!$I$38=$B16,'Planting and management costs'!$Y$38/'Planting and management costs'!$AB$35,IF(AND(D15<>0,($B16-'Planting and management costs'!$I$38)<'Planting and management costs'!$AB$35),'Planting and management costs'!$Y$38/'Planting and management costs'!$AB$35,0))","v":0},{"$f":"IF('Planting and management costs'!$I$39=$B16,'Planting and management costs'!$Y$39/'Planting and management costs'!$AC$35,IF(AND(E15<>0,($B16-'Planting and management costs'!$I$39)<'Planting and management costs'!$AC$35),'Planting and management costs'!$Y$39/'Planting and management costs'!$AC$35,0))","v":0},{"$f":"IF('Planting and management costs'!$I$40=$B16,'Planting and management costs'!$Y$40/'Planting and management costs'!$AD$35,IF(AND(F15<>0,($B16-'Planting and management costs'!$I$40)<'Planting and management costs'!$AD$35),'Planting and management costs'!$Y$40/'Planting and management costs'!$AD$35,0))","v":0},{"$f":"IF('Planting and management costs'!$I$41=$B16,'Planting and management costs'!$Y$41/'Planting and management costs'!$AE$35,IF(AND(G15<>0,($B16-'Planting and management costs'!$I$41)<'Planting and management costs'!$AE$35),'Planting and management costs'!$Y$41/'Planting and management costs'!$AE$35,0))","v":0},{"$f":"IF('Planting and management costs'!$I$49=$B16,'Planting and management costs'!$Y$49/'Planting and management costs'!$AA$47,IF(AND(H15<>0,($B16-'Planting and management costs'!$I$49)<'Planting and management costs'!$AA$47),'Planting and management costs'!$Y$49/'Planting and management costs'!$AA$47,0))","v":0},{"$f":"IF('Planting and management costs'!$I$50=$B16,'Planting and management costs'!$Y$50/'Planting and management costs'!$AB$47,IF(AND(I15<>0,($B16-'Planting and management costs'!$I$50)<'Planting and management costs'!$AB$47),'Planting and management costs'!$Y$50/'Planting and management costs'!$AB$47,0))","v":0},{"$f":"IF('Planting and management costs'!$I$52=$B16,'Planting and management costs'!$Y$52/'Planting and management costs'!$AC$47,IF(AND(J15<>0,($B16-'Planting and management costs'!$I$52)<'Planting and management costs'!$AC$47),'Planting and management costs'!$Y$52/'Planting and management costs'!$AC$47,0))","v":0},{"$f":"IF('Planting and management costs'!$I$53=$B16,'Planting and management costs'!$Y$53/'Planting and management costs'!$AD$47,IF(AND(K15<>0,($B16-'Planting and management costs'!$I$53)<'Planting and management costs'!$AD$47),'Planting and management costs'!$Y$53/'Planting and management costs'!$AD$47,0))","v":0},{"$f":"IF('Planting and management costs'!$I$55=$B16,'Planting and management costs'!$Y$55/'Planting and management costs'!$AE$47,IF(AND(L15<>0,($B16-'Planting and management costs'!$I$55)<'Planting and management costs'!$AE$47),'Planting and management costs'!$Y$55/'Planting and management costs'!$AE$47,0))","v":0},{"$f":"IF('Planting and management costs'!$I$56=$B16,'Planting and management costs'!$Y$56/'Planting and management costs'!$AF$47,IF(AND(M15<>0,($B16-'Planting and management costs'!$I$56)<'Planting and management costs'!$AF$47),'Planting and management costs'!$Y$56/'Planting and management costs'!$AF$47,0))","v":0},{"$f":"IF('Planting and management costs'!$I$58=$B16,'Planting and management costs'!$Y$58/'Planting and management costs'!$AG$47,IF(AND(N15<>0,($B16-'Planting and management costs'!$I$58)<'Planting and management costs'!$AG$47),'Planting and management costs'!$Y$58/'Planting and management costs'!$AG$47,0))","v":0},{"$f":"IF('Planting and management costs'!$I$59=$B16,'Planting and management costs'!$Y$59/'Planting and management costs'!$AH$47,IF(AND(O15<>0,($B16-'Planting and management costs'!$I$59)<'Planting and management costs'!$AH$47),'Planting and management costs'!$Y$59/'Planting and management costs'!$AH$47,0))","v":0},{"$f":"IF('Planting and management costs'!$I$60=$B16,'Planting and management costs'!$Y$60/'Planting and management costs'!$AI$47,IF(AND(P15<>0,($B16-'Planting and management costs'!$I$60)<'Planting and management costs'!$AI$47),'Planting and management costs'!$Y$60/'Planting and management costs'!$AI$47,0))","v":0},0,0,{"$f":"IF('Cash flow'!B16='Growth characteristics'!$H$26,'Growth characteristics'!$H$29,0)","v":0},{"$f":"IF($R$9=\"USD/m3\",R16*S16,R16*S16*'Growth characteristics'!$H$32*0.001)","v":0},0,0,0,0,0,0,0,0,0,0,0,0,0,0,0,0,0,0,0,1,6,1,null,null,null,null,7,0.06,{"$f":"NPV(AV16,'Cash flow'!$U$11:$U$40)+'Cash flow'!$U$10","v":0},{"$f":"NPV(AV16,'Cash flow'!$U$54:$U$83)+'Cash flow'!$U$53","v":{"$error":"#REF!"}}]
[null,7,{"$f":"IF('Planting and management costs'!$I$36=$B17,'Planting and management costs'!$Y$36/'Planting and management costs'!$AA$35,IF(AND(C16<>0,($B17-'Planting and management costs'!$I$36)<'Planting and management costs'!$AA$35),'Planting and management costs'!$Y$36/'Planting and management costs'!$AA$35,0))","v":0},{"$f":"IF('Planting and management costs'!$I$38=$B17,'Planting and management costs'!$Y$38/'Planting and management costs'!$AB$35,IF(AND(D16<>0,($B17-'Planting and management costs'!$I$38)<'Planting and management costs'!$AB$35),'Planting and management costs'!$Y$38/'Planting and management costs'!$AB$35,0))","v":0},{"$f":"IF('Planting and management costs'!$I$39=$B17,'Planting and management costs'!$Y$39/'Planting and management costs'!$AC$35,IF(AND(E16<>0,($B17-'Planting and management costs'!$I$39)<'Planting and management costs'!$AC$35),'Planting and management costs'!$Y$39/'Planting and management costs'!$AC$35,0))","v":0},{"$f":"IF('Planting and management costs'!$I$40=$B17,'Planting and management costs'!$Y$40/'Planting and management costs'!$AD$35,IF(AND(F16<>0,($B17-'Planting and management costs'!$I$40)<'Planting and management costs'!$AD$35),'Planting and management costs'!$Y$40/'Planting and management costs'!$AD$35,0))","v":0},{"$f":"IF('Planting and management costs'!$I$41=$B17,'Planting and management costs'!$Y$41/'Planting and management costs'!$AE$35,IF(AND(G16<>0,($B17-'Planting and management costs'!$I$41)<'Planting and management costs'!$AE$35),'Planting and management costs'!$Y$41/'Planting and management costs'!$AE$35,0))","v":0},{"$f":"IF('Planting and management costs'!$I$49=$B17,'Planting and management costs'!$Y$49/'Planting and management costs'!$AA$47,IF(AND(H16<>0,($B17-'Planting and management costs'!$I$49)<'Planting and management costs'!$AA$47),'Planting and management costs'!$Y$49/'Planting and management costs'!$AA$47,0))","v":0},{"$f":"IF('Planting and management costs'!$I$50=$B17,'Planting and management costs'!$Y$50/'Planting and management costs'!$AB$47,IF(AND(I16<>0,($B17-'Planting and management costs'!$I$50)<'Planting and management costs'!$AB$47),'Planting and management costs'!$Y$50/'Planting and management costs'!$AB$47,0))","v":0},{"$f":"IF('Planting and management costs'!$I$52=$B17,'Planting and management costs'!$Y$52/'Planting and management costs'!$AC$47,IF(AND(J16<>0,($B17-'Planting and management costs'!$I$52)<'Planting and management costs'!$AC$47),'Planting and management costs'!$Y$52/'Planting and management costs'!$AC$47,0))","v":0},{"$f":"IF('Planting and management costs'!$I$53=$B17,'Planting and management costs'!$Y$53/'Planting and management costs'!$AD$47,IF(AND(K16<>0,($B17-'Planting and management costs'!$I$53)<'Planting and management costs'!$AD$47),'Planting and management costs'!$Y$53/'Planting and management costs'!$AD$47,0))","v":0},{"$f":"IF('Planting and management costs'!$I$55=$B17,'Planting and management costs'!$Y$55/'Planting and management costs'!$AE$47,IF(AND(L16<>0,($B17-'Planting and management costs'!$I$55)<'Planting and management costs'!$AE$47),'Planting and management costs'!$Y$55/'Planting and management costs'!$AE$47,0))","v":0},{"$f":"IF('Planting and management costs'!$I$56=$B17,'Planting and management costs'!$Y$56/'Planting and management costs'!$AF$47,IF(AND(M16<>0,($B17-'Planting and management costs'!$I$56)<'Planting and management costs'!$AF$47),'Planting and management costs'!$Y$56/'Planting and management costs'!$AF$47,0))","v":0},{"$f":"IF('Planting and management costs'!$I$58=$B17,'Planting and management costs'!$Y$58/'Planting and management costs'!$AG$47,IF(AND(N16<>0,($B17-'Planting and management costs'!$I$58)<'Planting and management costs'!$AG$47),'Planting and management costs'!$Y$58/'Planting and management costs'!$AG$47,0))","v":0},{"$f":"IF('Planting and management costs'!$I$59=$B17,'Planting and management costs'!$Y$59/'Planting and management costs'!$AH$47,IF(AND(O16<>0,($B17-'Planting and management costs'!$I$59)<'Planting and management costs'!$AH$47),'Planting and management costs'!$Y$59/'Planting and management costs'!$AH$47,0))","v":0},{"$f":"IF('Planting and management costs'!$I$60=$B17,'Planting and management costs'!$Y$60/'Planting and management costs'!$AI$47,IF(AND(P16<>0,($B17-'Planting and management costs'!$I$60)<'Planting and management costs'!$AI$47),'Planting and management costs'!$Y$60/'Planting and management costs'!$AI$47,0))","v":0},0,0,{"$f":"IF('Cash flow'!B17='Growth characteristics'!$H$26,'Growth characteristics'!$H$29,0)","v":0},{"$f":"IF($R$9=\"USD/m3\",R17*S17,R17*S17*'Growth characteristics'!$H$32*0.001)","v":0},0,0,0,0,0,0,0,0,0,0,0,0,0,0,0,0,0,0,0,1,7,1,null,null,null,null,8,7.0000000000000007E-2,{"$f":"NPV(AV17,'Cash flow'!$U$11:$U$40)+'Cash flow'!$U$10","v":0},{"$f":"NPV(AV17,'Cash flow'!$U$54:$U$83)+'Cash flow'!$U$53","v":{"$error":"#REF!"}}]
[null,8,{"$f":"IF('Planting and management costs'!$I$36=$B18,'Planting and management costs'!$Y$36/'Planting and management costs'!$AA$35,IF(AND(C17<>0,($B18-'Planting and management costs'!$I$36)<'Planting and management costs'!$AA$35),'Planting and management costs'!$Y$36/'Planting and management costs'!$AA$35,0))","v":0},{"$f":"IF('Planting and management costs'!$I$38=$B18,'Planting and management costs'!$Y$38/'Planting and management costs'!$AB$35,IF(AND(D17<>0,($B18-'Planting and management costs'!$I$38)<'Planting and management costs'!$AB$35),'Planting and management costs'!$Y$38/'Planting and management costs'!$AB$35,0))","v":0},{"$f":"IF('Planting and management costs'!$I$39=$B18,'Planting and management costs'!$Y$39/'Planting and management costs'!$AC$35,IF(AND(E17<>0,($B18-'Planting and management costs'!$I$39)<'Planting and management costs'!$AC$35),'Planting and management costs'!$Y$39/'Planting and management costs'!$AC$35,0))","v":0},{"$f":"IF('Planting and management costs'!$I$40=$B18,'Planting and management costs'!$Y$40/'Planting and management costs'!$AD$35,IF(AND(F17<>0,($B18-'Planting and management costs'!$I$40)<'Planting and management costs'!$AD$35),'Planting and management costs'!$Y$40/'Planting and management costs'!$AD$35,0))","v":0},{"$f":"IF('Planting and management costs'!$I$41=$B18,'Planting and management costs'!$Y$41/'Planting and management costs'!$AE$35,IF(AND(G17<>0,($B18-'Planting and management costs'!$I$41)<'Planting and management costs'!$AE$35),'Planting and management costs'!$Y$41/'Planting and management costs'!$AE$35,0))","v":0},{"$f":"IF('Planting and management costs'!$I$49=$B18,'Planting and management costs'!$Y$49/'Planting and management costs'!$AA$47,IF(AND(H17<>0,($B18-'Planting and management costs'!$I$49)<'Planting and management costs'!$AA$47),'Planting and management costs'!$Y$49/'Planting and management costs'!$AA$47,0))","v":0},{"$f":"IF('Planting and management costs'!$I$50=$B18,'Planting and management costs'!$Y$50/'Planting and management costs'!$AB$47,IF(AND(I17<>0,($B18-'Planting and management costs'!$I$50)<'Planting and management costs'!$AB$47),'Planting and management costs'!$Y$50/'Planting and management costs'!$AB$47,0))","v":0},{"$f":"IF('Planting and management costs'!$I$52=$B18,'Planting and management costs'!$Y$52/'Planting and management costs'!$AC$47,IF(AND(J17<>0,($B18-'Planting and management costs'!$I$52)<'Planting and management costs'!$AC$47),'Planting and management costs'!$Y$52/'Planting and management costs'!$AC$47,0))","v":0},{"$f":"IF('Planting and management costs'!$I$53=$B18,'Planting and management costs'!$Y$53/'Planting and management costs'!$AD$47,IF(AND(K17<>0,($B18-'Planting and management costs'!$I$53)<'Planting and management costs'!$AD$47),'Planting and management costs'!$Y$53/'Planting and management costs'!$AD$47,0))","v":0},{"$f":"IF('Planting and management costs'!$I$55=$B18,'Planting and management costs'!$Y$55/'Planting and management costs'!$AE$47,IF(AND(L17<>0,($B18-'Planting and management costs'!$I$55)<'Planting and management costs'!$AE$47),'Planting and management costs'!$Y$55/'Planting and management costs'!$AE$47,0))","v":0},{"$f":"IF('Planting and management costs'!$I$56=$B18,'Planting and management costs'!$Y$56/'Planting and management costs'!$AF$47,IF(AND(M17<>0,($B18-'Planting and management costs'!$I$56)<'Planting and management costs'!$AF$47),'Planting and management costs'!$Y$56/'Planting and management costs'!$AF$47,0))","v":0},{"$f":"IF('Planting and management costs'!$I$58=$B18,'Planting and management costs'!$Y$58/'Planting and management costs'!$AG$47,IF(AND(N17<>0,($B18-'Planting and management costs'!$I$58)<'Planting and management costs'!$AG$47),'Planting and management costs'!$Y$58/'Planting and management costs'!$AG$47,0))","v":0},{"$f":"IF('Planting and management costs'!$I$59=$B18,'Planting and management costs'!$Y$59/'Planting and management costs'!$AH$47,IF(AND(O17<>0,($B18-'Planting and management costs'!$I$59)<'Planting and management costs'!$AH$47),'Planting and management costs'!$Y$59/'Planting and management costs'!$AH$47,0))","v":0},{"$f":"IF('Planting and management costs'!$I$60=$B18,'Planting and management costs'!$Y$60/'Planting and management costs'!$AI$47,IF(AND(P17<>0,($B18-'Planting and management costs'!$I$60)<'Planting and management costs'!$AI$47),'Planting and management costs'!$Y$60/'Planting and management costs'!$AI$47,0))","v":0},0,0,{"$f":"IF('Cash flow'!B18='Growth characteristics'!$H$26,'Growth characteristics'!$H$29,0)","v":0},{"$f":"IF($R$9=\"USD/m3\",R18*S18,R18*S18*'Growth characteristics'!$H$32*0.001)","v":0},0,0,0,0,0,0,0,0,0,0,0,0,0,0,0,0,0,0,0,1,8,1,null,null,null,null,9,0.08,{"$f":"NPV(AV18,'Cash flow'!$U$11:$U$40)+'Cash flow'!$U$10","v":0},{"$f":"NPV(AV18,'Cash flow'!$U$54:$U$83)+'Cash flow'!$U$53","v":{"$error":"#REF!"}}]
[null,9,{"$f":"IF('Planting and management costs'!$I$36=$B19,'Planting and management costs'!$Y$36/'Planting and management costs'!$AA$35,IF(AND(C18<>0,($B19-'Planting and management costs'!$I$36)<'Planting and management costs'!$AA$35),'Planting and management costs'!$Y$36/'Planting and management costs'!$AA$35,0))","v":0},{"$f":"IF('Planting and management costs'!$I$38=$B19,'Planting and management costs'!$Y$38/'Planting and management costs'!$AB$35,IF(AND(D18<>0,($B19-'Planting and management costs'!$I$38)<'Planting and management costs'!$AB$35),'Planting and management costs'!$Y$38/'Planting and management costs'!$AB$35,0))","v":0},{"$f":"IF('Planting and management costs'!$I$39=$B19,'Planting and management costs'!$Y$39/'Planting and management costs'!$AC$35,IF(AND(E18<>0,($B19-'Planting and management costs'!$I$39)<'Planting and management costs'!$AC$35),'Planting and management costs'!$Y$39/'Planting and management costs'!$AC$35,0))","v":0},{"$f":"IF('Planting and management costs'!$I$40=$B19,'Planting and management costs'!$Y$40/'Planting and management costs'!$AD$35,IF(AND(F18<>0,($B19-'Planting and management costs'!$I$40)<'Planting and management costs'!$AD$35),'Planting and management costs'!$Y$40/'Planting and management costs'!$AD$35,0))","v":0},{"$f":"IF('Planting and management costs'!$I$41=$B19,'Planting and management costs'!$Y$41/'Planting and management costs'!$AE$35,IF(AND(G18<>0,($B19-'Planting and management costs'!$I$41)<'Planting and management costs'!$AE$35),'Planting and management costs'!$Y$41/'Planting and management costs'!$AE$35,0))","v":0},{"$f":"IF('Planting and management costs'!$I$49=$B19,'Planting and management costs'!$Y$49/'Planting and management costs'!$AA$47,IF(AND(H18<>0,($B19-'Planting and management costs'!$I$49)<'Planting and management costs'!$AA$47),'Planting and management costs'!$Y$49/'Planting and management costs'!$AA$47,0))","v":0},{"$f":"IF('Planting and management costs'!$I$50=$B19,'Planting and management costs'!$Y$50/'Planting and management costs'!$AB$47,IF(AND(I18<>0,($B19-'Planting and management costs'!$I$50)<'Planting and management costs'!$AB$47),'Planting and management costs'!$Y$50/'Planting and management costs'!$AB$47,0))","v":0},{"$f":"IF('Planting and management costs'!$I$52=$B19,'Planting and management costs'!$Y$52/'Planting and management costs'!$AC$47,IF(AND(J18<>0,($B19-'Planting and management costs'!$I$52)<'Planting and management costs'!$AC$47),'Planting and management costs'!$Y$52/'Planting and management costs'!$AC$47,0))","v":0},{"$f":"IF('Planting and management costs'!$I$53=$B19,'Planting and management costs'!$Y$53/'Planting and management costs'!$AD$47,IF(AND(K18<>0,($B19-'Planting and management costs'!$I$53)<'Planting and management costs'!$AD$47),'Planting and management costs'!$Y$53/'Planting and management costs'!$AD$47,0))","v":0},{"$f":"IF('Planting and management costs'!$I$55=$B19,'Planting and management costs'!$Y$55/'Planting and management costs'!$AE$47,IF(AND(L18<>0,($B19-'Planting and management costs'!$I$55)<'Planting and management costs'!$AE$47),'Planting and management costs'!$Y$55/'Planting and management costs'!$AE$47,0))","v":0},{"$f":"IF('Planting and management costs'!$I$56=$B19,'Planting and management costs'!$Y$56/'Planting and management costs'!$AF$47,IF(AND(M18<>0,($B19-'Planting and management costs'!$I$56)<'Planting and management costs'!$AF$47),'Planting and management costs'!$Y$56/'Planting and management costs'!$AF$47,0))","v":0},{"$f":"IF('Planting and management costs'!$I$58=$B19,'Planting and management costs'!$Y$58/'Planting and management costs'!$AG$47,IF(AND(N18<>0,($B19-'Planting and management costs'!$I$58)<'Planting and management costs'!$AG$47),'Planting and management costs'!$Y$58/'Planting and management costs'!$AG$47,0))","v":0},{"$f":"IF('Planting and management costs'!$I$59=$B19,'Planting and management costs'!$Y$59/'Planting and management costs'!$AH$47,IF(AND(O18<>0,($B19-'Planting and management costs'!$I$59)<'Planting and management costs'!$AH$47),'Planting and management costs'!$Y$59/'Planting and management costs'!$AH$47,0))","v":0},{"$f":"IF('Planting and management costs'!$I$60=$B19,'Planting and management costs'!$Y$60/'Planting and management costs'!$AI$47,IF(AND(P18<>0,($B19-'Planting and management costs'!$I$60)<'Planting and management costs'!$AI$47),'Planting and management costs'!$Y$60/'Planting and management costs'!$AI$47,0))","v":0},0,0,{"$f":"IF('Cash flow'!B19='Growth characteristics'!$H$26,'Growth characteristics'!$H$29,0)","v":0},{"$f":"IF($R$9=\"USD/m3\",R19*S19,R19*S19*'Growth characteristics'!$H$32*0.001)","v":0},0,0,0,0,0,0,0,0,0,0,0,0,0,0,0,0,0,0,0,1,9,1,null,null,null,null,10,0.09,{"$f":"NPV(AV19,'Cash flow'!$U$11:$U$40)+'Cash flow'!$U$10","v":0},{"$f":"NPV(AV19,'Cash flow'!$U$54:$U$83)+'Cash flow'!$U$53","v":{"$error":"#REF!"}}]
[null,10,{"$f":"IF('Planting and management costs'!$I$36=$B20,'Planting and management costs'!$Y$36/'Planting and management costs'!$AA$35,IF(AND(C19<>0,($B20-'Planting and management costs'!$I$36)<'Planting and management costs'!$AA$35),'Planting and management costs'!$Y$36/'Planting and management costs'!$AA$35,0))","v":0},{"$f":"IF('Planting and management costs'!$I$38=$B20,'Planting and management costs'!$Y$38/'Planting and management costs'!$AB$35,IF(AND(D19<>0,($B20-'Planting and management costs'!$I$38)<'Planting and management costs'!$AB$35),'Planting and management costs'!$Y$38/'Planting and management costs'!$AB$35,0))","v":0},{"$f":"IF('Planting and management costs'!$I$39=$B20,'Planting and management costs'!$Y$39/'Planting and management costs'!$AC$35,IF(AND(E19<>0,($B20-'Planting and management costs'!$I$39)<'Planting and management costs'!$AC$35),'Planting and management costs'!$Y$39/'Planting and management costs'!$AC$35,0))","v":0},{"$f":"IF('Planting and management costs'!$I$40=$B20,'Planting and management costs'!$Y$40/'Planting and management costs'!$AD$35,IF(AND(F19<>0,($B20-'Planting and management costs'!$I$40)<'Planting and management costs'!$AD$35),'Planting and management costs'!$Y$40/'Planting and management costs'!$AD$35,0))","v":0},{"$f":"IF('Planting and management costs'!$I$41=$B20,'Planting and management costs'!$Y$41/'Planting and management costs'!$AE$35,IF(AND(G19<>0,($B20-'Planting and management costs'!$I$41)<'Planting and management costs'!$AE$35),'Planting and management costs'!$Y$41/'Planting and management costs'!$AE$35,0))","v":0},{"$f":"IF('Planting and management costs'!$I$49=$B20,'Planting and management costs'!$Y$49/'Planting and management costs'!$AA$47,IF(AND(H19<>0,($B20-'Planting and management costs'!$I$49)<'Planting and management costs'!$AA$47),'Planting and management costs'!$Y$49/'Planting and management costs'!$AA$47,0))","v":0},{"$f":"IF('Planting and management costs'!$I$50=$B20,'Planting and management costs'!$Y$50/'Planting and management costs'!$AB$47,IF(AND(I19<>0,($B20-'Planting and management costs'!$I$50)<'Planting and management costs'!$AB$47),'Planting and management costs'!$Y$50/'Planting and management costs'!$AB$47,0))","v":0},{"$f":"IF('Planting and management costs'!$I$52=$B20,'Planting and management costs'!$Y$52/'Planting and management costs'!$AC$47,IF(AND(J19<>0,($B20-'Planting and management costs'!$I$52)<'Planting and management costs'!$AC$47),'Planting and management costs'!$Y$52/'Planting and management costs'!$AC$47,0))","v":0},{"$f":"IF('Planting and management costs'!$I$53=$B20,'Planting and management costs'!$Y$53/'Planting and management costs'!$AD$47,IF(AND(K19<>0,($B20-'Planting and management costs'!$I$53)<'Planting and management costs'!$AD$47),'Planting and management costs'!$Y$53/'Planting and management costs'!$AD$47,0))","v":0},{"$f":"IF('Planting and management costs'!$I$55=$B20,'Planting and management costs'!$Y$55/'Planting and management costs'!$AE$47,IF(AND(L19<>0,($B20-'Planting and management costs'!$I$55)<'Planting and management costs'!$AE$47),'Planting and management costs'!$Y$55/'Planting and management costs'!$AE$47,0))","v":0},{"$f":"IF('Planting and management costs'!$I$56=$B20,'Planting and management costs'!$Y$56/'Planting and management costs'!$AF$47,IF(AND(M19<>0,($B20-'Planting and management costs'!$I$56)<'Planting and management costs'!$AF$47),'Planting and management costs'!$Y$56/'Planting and management costs'!$AF$47,0))","v":0},{"$f":"IF('Planting and management costs'!$I$58=$B20,'Planting and management costs'!$Y$58/'Planting and management costs'!$AG$47,IF(AND(N19<>0,($B20-'Planting and management costs'!$I$58)<'Planting and management costs'!$AG$47),'Planting and management costs'!$Y$58/'Planting and management costs'!$AG$47,0))","v":0},{"$f":"IF('Planting and management costs'!$I$59=$B20,'Planting and management costs'!$Y$59/'Planting and management costs'!$AH$47,IF(AND(O19<>0,($B20-'Planting and management costs'!$I$59)<'Planting and management costs'!$AH$47),'Planting and management costs'!$Y$59/'Planting and management costs'!$AH$47,0))","v":0},{"$f":"IF('Planting and management costs'!$I$60=$B20,'Planting and management costs'!$Y$60/'Planting and management costs'!$AI$47,IF(AND(P19<>0,($B20-'Planting and management costs'!$I$60)<'Planting and management costs'!$AI$47),'Planting and management costs'!$Y$60/'Planting and management costs'!$AI$47,0))","v":0},0,0,{"$f":"IF('Cash flow'!B20='Growth characteristics'!$H$26,'Growth characteristics'!$H$29,0)","v":0},{"$f":"IF($R$9=\"USD/m3\",R20*S20,R20*S20*'Growth characteristics'!$H$32*0.001)","v":0},0,0,0,0,0,0,0,0,0,0,0,0,0,0,0,0,0,0,0,1,10,1,null,null,null,null,11,0.1,{"$f":"NPV(AV20,'Cash flow'!$U$11:$U$40)+'Cash flow'!$U$10","v":0},{"$f":"NPV(AV20,'Cash flow'!$U$54:$U$83)+'Cash flow'!$U$53","v":{"$error":"#REF!"}}]
[null,11,{"$f":"IF('Planting and management costs'!$I$36=$B21,'Planting and management costs'!$Y$36/'Planting and management costs'!$AA$35,IF(AND(C20<>0,($B21-'Planting and management costs'!$I$36)<'Planting and management costs'!$AA$35),'Planting and management costs'!$Y$36/'Planting and management costs'!$AA$35,0))","v":0},{"$f":"IF('Planting and management costs'!$I$38=$B21,'Planting and management costs'!$Y$38/'Planting and management costs'!$AB$35,IF(AND(D20<>0,($B21-'Planting and management costs'!$I$38)<'Planting and management costs'!$AB$35),'Planting and management costs'!$Y$38/'Planting and management costs'!$AB$35,0))","v":0},{"$f":"IF('Planting and management costs'!$I$39=$B21,'Planting and management costs'!$Y$39/'Planting and management costs'!$AC$35,IF(AND(E20<>0,($B21-'Planting and management costs'!$I$39)<'Planting and management costs'!$AC$35),'Planting and management costs'!$Y$39/'Planting and management costs'!$AC$35,0))","v":0},{"$f":"IF('Planting and management costs'!$I$40=$B21,'Planting and management costs'!$Y$40/'Planting and management costs'!$AD$35,IF(AND(F20<>0,($B21-'Planting and management costs'!$I$40)<'Planting and management costs'!$AD$35),'Planting and management costs'!$Y$40/'Planting and management costs'!$AD$35,0))","v":0},{"$f":"IF('Planting and management costs'!$I$41=$B21,'Planting and management costs'!$Y$41/'Planting and management costs'!$AE$35,IF(AND(G20<>0,($B21-'Planting and management costs'!$I$41)<'Planting and management costs'!$AE$35),'Planting and management costs'!$Y$41/'Planting and management costs'!$AE$35,0))","v":0},{"$f":"IF('Planting and management costs'!$I$49=$B21,'Planting and management costs'!$Y$49/'Planting and management costs'!$AA$47,IF(AND(H20<>0,($B21-'Planting and management costs'!$I$49)<'Planting and management costs'!$AA$47),'Planting and management costs'!$Y$49/'Planting and management costs'!$AA$47,0))","v":0},{"$f":"IF('Planting and management costs'!$I$50=$B21,'Planting and management costs'!$Y$50/'Planting and management costs'!$AB$47,IF(AND(I20<>0,($B21-'Planting and management costs'!$I$50)<'Planting and management costs'!$AB$47),'Planting and management costs'!$Y$50/'Planting and management costs'!$AB$47,0))","v":0},{"$f":"IF('Planting and management costs'!$I$52=$B21,'Planting and management costs'!$Y$52/'Planting and management costs'!$AC$47,IF(AND(J20<>0,($B21-'Planting and management costs'!$I$52)<'Planting and management costs'!$AC$47),'Planting and management costs'!$Y$52/'Planting and management costs'!$AC$47,0))","v":0},{"$f":"IF('Planting and management costs'!$I$53=$B21,'Planting and management costs'!$Y$53/'Planting and management costs'!$AD$47,IF(AND(K20<>0,($B21-'Planting and management costs'!$I$53)<'Planting and management costs'!$AD$47),'Planting and management costs'!$Y$53/'Planting and management costs'!$AD$47,0))","v":0},{"$f":"IF('Planting and management costs'!$I$55=$B21,'Planting and management costs'!$Y$55/'Planting and management costs'!$AE$47,IF(AND(L20<>0,($B21-'Planting and management costs'!$I$55)<'Planting and management costs'!$AE$47),'Planting and management costs'!$Y$55/'Planting and management costs'!$AE$47,0))","v":0},{"$f":"IF('Planting and management costs'!$I$56=$B21,'Planting and management costs'!$Y$56/'Planting and management costs'!$AF$47,IF(AND(M20<>0,($B21-'Planting and management costs'!$I$56)<'Planting and management costs'!$AF$47),'Planting and management costs'!$Y$56/'Planting and management costs'!$AF$47,0))","v":0},{"$f":"IF('Planting and management costs'!$I$58=$B21,'Planting and management costs'!$Y$58/'Planting and management costs'!$AG$47,IF(AND(N20<>0,($B21-'Planting and management costs'!$I$58)<'Planting and management costs'!$AG$47),'Planting and management costs'!$Y$58/'Planting and management costs'!$AG$47,0))","v":0},{"$f":"IF('Planting and management costs'!$I$59=$B21,'Planting and management costs'!$Y$59/'Planting and management costs'!$AH$47,IF(AND(O20<>0,($B21-'Planting and management costs'!$I$59)<'Planting and management costs'!$AH$47),'Planting and management costs'!$Y$59/'Planting and management costs'!$AH$47,0))","v":0},{"$f":"IF('Planting and management costs'!$I$60=$B21,'Planting and management costs'!$Y$60/'Planting and management costs'!$AI$47,IF(AND(P20<>0,($B21-'Planting and management costs'!$I$60)<'Planting and management costs'!$AI$47),'Planting and management costs'!$Y$60/'Planting and management costs'!$AI$47,0))","v":0},0,0,{"$f":"IF('Cash flow'!B21='Growth characteristics'!$H$26,'Growth characteristics'!$H$29,0)","v":0},{"$f":"IF($R$9=\"USD/m3\",R21*S21,R21*S21*'Growth characteristics'!$H$32*0.001)","v":0},0,0,0,0,0,0,0,0,0,0,0,0,0,0,0,0,0,0,0,1,11,1,null,null,null,null,12,0.11,{"$f":"NPV(AV21,'Cash flow'!$U$11:$U$40)+'Cash flow'!$U$10","v":0},{"$f":"NPV(AV21,'Cash flow'!$U$54:$U$83)+'Cash flow'!$U$53","v":{"$error":"#REF!"}}]
[null,12,{"$f":"IF('Planting and management costs'!$I$36=$B22,'Planting and management costs'!$Y$36/'Planting and management costs'!$AA$35,IF(AND(C21<>0,($B22-'Planting and management costs'!$I$36)<'Planting and management costs'!$AA$35),'Planting and management costs'!$Y$36/'Planting and management costs'!$AA$35,0))","v":0},{"$f":"IF('Planting and management costs'!$I$38=$B22,'Planting and management costs'!$Y$38/'Planting and management costs'!$AB$35,IF(AND(D21<>0,($B22-'Planting and management costs'!$I$38)<'Planting and management costs'!$AB$35),'Planting and management costs'!$Y$38/'Planting and management costs'!$AB$35,0))","v":0},{"$f":"IF('Planting and management costs'!$I$39=$B22,'Planting and management costs'!$Y$39/'Planting and management costs'!$AC$35,IF(AND(E21<>0,($B22-'Planting and management costs'!$I$39)<'Planting and management costs'!$AC$35),'Planting and management costs'!$Y$39/'Planting and management costs'!$AC$35,0))","v":0},{"$f":"IF('Planting and management costs'!$I$40=$B22,'Planting and management costs'!$Y$40/'Planting and management costs'!$AD$35,IF(AND(F21<>0,($B22-'Planting and management costs'!$I$40)<'Planting and management costs'!$AD$35),'Planting and management costs'!$Y$40/'Planting and management costs'!$AD$35,0))","v":0},{"$f":"IF('Planting and management costs'!$I$41=$B22,'Planting and management costs'!$Y$41/'Planting and management costs'!$AE$35,IF(AND(G21<>0,($B22-'Planting and management costs'!$I$41)<'Planting and management costs'!$AE$35),'Planting and management costs'!$Y$41/'Planting and management costs'!$AE$35,0))","v":0},{"$f":"IF('Planting and management costs'!$I$49=$B22,'Planting and management costs'!$Y$49/'Planting and management costs'!$AA$47,IF(AND(H21<>0,($B22-'Planting and management costs'!$I$49)<'Planting and management costs'!$AA$47),'Planting and management costs'!$Y$49/'Planting and management costs'!$AA$47,0))","v":0},{"$f":"IF('Planting and management costs'!$I$50=$B22,'Planting and management costs'!$Y$50/'Planting and management costs'!$AB$47,IF(AND(I21<>0,($B22-'Planting and management costs'!$I$50)<'Planting and management costs'!$AB$47),'Planting and management costs'!$Y$50/'Planting and management costs'!$AB$47,0))","v":0},{"$f":"IF('Planting and management costs'!$I$52=$B22,'Planting and management costs'!$Y$52/'Planting and management costs'!$AC$47,IF(AND(J21<>0,($B22-'Planting and management costs'!$I$52)<'Planting and management costs'!$AC$47),'Planting and management costs'!$Y$52/'Planting and management costs'!$AC$47,0))","v":0},{"$f":"IF('Planting and management costs'!$I$53=$B22,'Planting and management costs'!$Y$53/'Planting and management costs'!$AD$47,IF(AND(K21<>0,($B22-'Planting and management costs'!$I$53)<'Planting and management costs'!$AD$47),'Planting and management costs'!$Y$53/'Planting and management costs'!$AD$47,0))","v":0},{"$f":"IF('Planting and management costs'!$I$55=$B22,'Planting and management costs'!$Y$55/'Planting and management costs'!$AE$47,IF(AND(L21<>0,($B22-'Planting and management costs'!$I$55)<'Planting and management costs'!$AE$47),'Planting and management costs'!$Y$55/'Planting and management costs'!$AE$47,0))","v":0},{"$f":"IF('Planting and management costs'!$I$56=$B22,'Planting and management costs'!$Y$56/'Planting and management costs'!$AF$47,IF(AND(M21<>0,($B22-'Planting and management costs'!$I$56)<'Planting and management costs'!$AF$47),'Planting and management costs'!$Y$56/'Planting and management costs'!$AF$47,0))","v":0},{"$f":"IF('Planting and management costs'!$I$58=$B22,'Planting and management costs'!$Y$58/'Planting and management costs'!$AG$47,IF(AND(N21<>0,($B22-'Planting and management costs'!$I$58)<'Planting and management costs'!$AG$47),'Planting and management costs'!$Y$58/'Planting and management costs'!$AG$47,0))","v":0},{"$f":"IF('Planting and management costs'!$I$59=$B22,'Planting and management costs'!$Y$59/'Planting and management costs'!$AH$47,IF(AND(O21<>0,($B22-'Planting and management costs'!$I$59)<'Planting and management costs'!$AH$47),'Planting and management costs'!$Y$59/'Planting and management costs'!$AH$47,0))","v":0},{"$f":"IF('Planting and management costs'!$I$60=$B22,'Planting and management costs'!$Y$60/'Planting and management costs'!$AI$47,IF(AND(P21<>0,($B22-'Planting and management costs'!$I$60)<'Planting and management costs'!$AI$47),'Planting and management costs'!$Y$60/'Planting and management costs'!$AI$47,0))","v":0},0,0,{"$f":"IF('Cash flow'!B22='Growth characteristics'!$H$26,'Growth characteristics'!$H$29,0)","v":0},{"$f":"IF($R$9=\"USD/m3\",R22*S22,R22*S22*'Growth characteristics'!$H$32*0.001)","v":0},0,0,0,0,0,0,0,0,0,0,0,0,0,0,0,0,0,0,0,1,12,1,null,null,null,null,13,0.12,{"$f":"NPV(AV22,'Cash flow'!$U$11:$U$40)+'Cash flow'!$U$10","v":0},{"$f":"NPV(AV22,'Cash flow'!$U$54:$U$83)+'Cash flow'!$U$53","v":{"$error":"#REF!"}}]
[null,13,{"$f":"IF('Planting and management costs'!$I$36=$B23,'Planting and management costs'!$Y$36/'Planting and management costs'!$AA$35,IF(AND(C22<>0,($B23-'Planting and management costs'!$I$36)<'Planting and management costs'!$AA$35),'Planting and management costs'!$Y$36/'Planting and management costs'!$AA$35,0))","v":0},{"$f":"IF('Planting and management costs'!$I$38=$B23,'Planting and management costs'!$Y$38/'Planting and management costs'!$AB$35,IF(AND(D22<>0,($B23-'Planting and management costs'!$I$38)<'Planting and management costs'!$AB$35),'Planting and management costs'!$Y$38/'Planting and management costs'!$AB$35,0))","v":0},{"$f":"IF('Planting and management costs'!$I$39=$B23,'Planting and management costs'!$Y$39/'Planting and management costs'!$AC$35,IF(AND(E22<>0,($B23-'Planting and management costs'!$I$39)<'Planting and management costs'!$AC$35),'Planting and management costs'!$Y$39/'Planting and management costs'!$AC$35,0))","v":0},{"$f":"IF('Planting and management costs'!$I$40=$B23,'Planting and management costs'!$Y$40/'Planting and management costs'!$AD$35,IF(AND(F22<>0,($B23-'Planting and management costs'!$I$40)<'Planting and management costs'!$AD$35),'Planting and management costs'!$Y$40/'Planting and management costs'!$AD$35,0))","v":0},{"$f":"IF('Planting and management costs'!$I$41=$B23,'Planting and management costs'!$Y$41/'Planting and management costs'!$AE$35,IF(AND(G22<>0,($B23-'Planting and management costs'!$I$41)<'Planting and management costs'!$AE$35),'Planting and management costs'!$Y$41/'Planting and management costs'!$AE$35,0))","v":0},{"$f":"IF('Planting and management costs'!$I$49=$B23,'Planting and management costs'!$Y$49/'Planting and management costs'!$AA$47,IF(AND(H22<>0,($B23-'Planting and management costs'!$I$49)<'Planting and management costs'!$AA$47),'Planting and management costs'!$Y$49/'Planting and management costs'!$AA$47,0))","v":0},{"$f":"IF('Planting and management costs'!$I$50=$B23,'Planting and management costs'!$Y$50/'Planting and management costs'!$AB$47,IF(AND(I22<>0,($B23-'Planting and management costs'!$I$50)<'Planting and management costs'!$AB$47),'Planting and management costs'!$Y$50/'Planting and management costs'!$AB$47,0))","v":0},{"$f":"IF('Planting and management costs'!$I$52=$B23,'Planting and management costs'!$Y$52/'Planting and management costs'!$AC$47,IF(AND(J22<>0,($B23-'Planting and management costs'!$I$52)<'Planting and management costs'!$AC$47),'Planting and management costs'!$Y$52/'Planting and management costs'!$AC$47,0))","v":0},{"$f":"IF('Planting and management costs'!$I$53=$B23,'Planting and management costs'!$Y$53/'Planting and management costs'!$AD$47,IF(AND(K22<>0,($B23-'Planting and management costs'!$I$53)<'Planting and management costs'!$AD$47),'Planting and management costs'!$Y$53/'Planting and management costs'!$AD$47,0))","v":0},{"$f":"IF('Planting and management costs'!$I$55=$B23,'Planting and management costs'!$Y$55/'Planting and management costs'!$AE$47,IF(AND(L22<>0,($B23-'Planting and management costs'!$I$55)<'Planting and management costs'!$AE$47),'Planting and management costs'!$Y$55/'Planting and management costs'!$AE$47,0))","v":0},{"$f":"IF('Planting and management costs'!$I$56=$B23,'Planting and management costs'!$Y$56/'Planting and management costs'!$AF$47,IF(AND(M22<>0,($B23-'Planting and management costs'!$I$56)<'Planting and management costs'!$AF$47),'Planting and management costs'!$Y$56/'Planting and management costs'!$AF$47,0))","v":0},{"$f":"IF('Planting and management costs'!$I$58=$B23,'Planting and management costs'!$Y$58/'Planting and management costs'!$AG$47,IF(AND(N22<>0,($B23-'Planting and management costs'!$I$58)<'Planting and management costs'!$AG$47),'Planting and management costs'!$Y$58/'Planting and management costs'!$AG$47,0))","v":0},{"$f":"IF('Planting and management costs'!$I$59=$B23,'Planting and management costs'!$Y$59/'Planting and management costs'!$AH$47,IF(AND(O22<>0,($B23-'Planting and management costs'!$I$59)<'Planting and management costs'!$AH$47),'Planting and management costs'!$Y$59/'Planting and management costs'!$AH$47,0))","v":0},{"$f":"IF('Planting and management costs'!$I$60=$B23,'Planting and management costs'!$Y$60/'Planting and management costs'!$AI$47,IF(AND(P22<>0,($B23-'Planting and management costs'!$I$60)<'Planting and management costs'!$AI$47),'Planting and management costs'!$Y$60/'Planting and management costs'!$AI$47,0))","v":0},0,0,{"$f":"IF('Cash flow'!B23='Growth characteristics'!$H$26,'Growth characteristics'!$H$29,0)","v":0},{"$f":"IF($R$9=\"USD/m3\",R23*S23,R23*S23*'Growth characteristics'!$H$32*0.001)","v":0},0,0,0,0,0,0,0,0,0,0,0,0,0,0,0,0,0,0,0,1,13,1,null,null,null,null,14,0.13,{"$f":"NPV(AV23,'Cash flow'!$U$11:$U$40)+'Cash flow'!$U$10","v":0},{"$f":"NPV(AV23,'Cash flow'!$U$54:$U$83)+'Cash flow'!$U$53","v":{"$error":"#REF!"}}]
[null,14,{"$f":"IF('Planting and management costs'!$I$36=$B24,'Planting and management costs'!$Y$36/'Planting and management costs'!$AA$35,IF(AND(C23<>0,($B24-'Planting and management costs'!$I$36)<'Planting and management costs'!$AA$35),'Planting and management costs'!$Y$36/'Planting and management costs'!$AA$35,0))","v":0},{"$f":"IF('Planting and management costs'!$I$38=$B24,'Planting and management costs'!$Y$38/'Planting and management costs'!$AB$35,IF(AND(D23<>0,($B24-'Planting and management costs'!$I$38)<'Planting and management costs'!$AB$35),'Planting and management costs'!$Y$38/'Planting and management costs'!$AB$35,0))","v":0},{"$f":"IF('Planting and management costs'!$I$39=$B24,'Planting and management costs'!$Y$39/'Planting and management costs'!$AC$35,IF(AND(E23<>0,($B24-'Planting and management costs'!$I$39)<'Planting and management costs'!$AC$35),'Planting and management costs'!$Y$39/'Planting and management costs'!$AC$35,0))","v":0},{"$f":"IF('Planting and management costs'!$I$40=$B24,'Planting and management costs'!$Y$40/'Planting and management costs'!$AD$35,IF(AND(F23<>0,($B24-'Planting and management costs'!$I$40)<'Planting and management costs'!$AD$35),'Planting and management costs'!$Y$40/'Planting and management costs'!$AD$35,0))","v":0},{"$f":"IF('Planting and management costs'!$I$41=$B24,'Planting and management costs'!$Y$41/'Planting and management costs'!$AE$35,IF(AND(G23<>0,($B24-'Planting and management costs'!$I$41)<'Planting and management costs'!$AE$35),'Planting and management costs'!$Y$41/'Planting and management costs'!$AE$35,0))","v":0},{"$f":"IF('Planting and management costs'!$I$49=$B24,'Planting and management costs'!$Y$49/'Planting and management costs'!$AA$47,IF(AND(H23<>0,($B24-'Planting and management costs'!$I$49)<'Planting and management costs'!$AA$47),'Planting and management costs'!$Y$49/'Planting and management costs'!$AA$47,0))","v":0},{"$f":"IF('Planting and management costs'!$I$50=$B24,'Planting and management costs'!$Y$50/'Planting and management costs'!$AB$47,IF(AND(I23<>0,($B24-'Planting and management costs'!$I$50)<'Planting and management costs'!$AB$47),'Planting and management costs'!$Y$50/'Planting and management costs'!$AB$47,0))","v":0},{"$f":"IF('Planting and management costs'!$I$52=$B24,'Planting and management costs'!$Y$52/'Planting and management costs'!$AC$47,IF(AND(J23<>0,($B24-'Planting and management costs'!$I$52)<'Planting and management costs'!$AC$47),'Planting and management costs'!$Y$52/'Planting and management costs'!$AC$47,0))","v":0},{"$f":"IF('Planting and management costs'!$I$53=$B24,'Planting and management costs'!$Y$53/'Planting and management costs'!$AD$47,IF(AND(K23<>0,($B24-'Planting and management costs'!$I$53)<'Planting and management costs'!$AD$47),'Planting and management costs'!$Y$53/'Planting and management costs'!$AD$47,0))","v":0},{"$f":"IF('Planting and management costs'!$I$55=$B24,'Planting and management costs'!$Y$55/'Planting and management costs'!$AE$47,IF(AND(L23<>0,($B24-'Planting and management costs'!$I$55)<'Planting and management costs'!$AE$47),'Planting and management costs'!$Y$55/'Planting and management costs'!$AE$47,0))","v":0},{"$f":"IF('Planting and management costs'!$I$56=$B24,'Planting and management costs'!$Y$56/'Planting and management costs'!$AF$47,IF(AND(M23<>0,($B24-'Planting and management costs'!$I$56)<'Planting and management costs'!$AF$47),'Planting and management costs'!$Y$56/'Planting and management costs'!$AF$47,0))","v":0},{"$f":"IF('Planting and management costs'!$I$58=$B24,'Planting and management costs'!$Y$58/'Planting and management costs'!$AG$47,IF(AND(N23<>0,($B24-'Planting and management costs'!$I$58)<'Planting and management costs'!$AG$47),'Planting and management costs'!$Y$58/'Planting and management costs'!$AG$47,0))","v":0},{"$f":"IF('Planting and management costs'!$I$59=$B24,'Planting and management costs'!$Y$59/'Planting and management costs'!$AH$47,IF(AND(O23<>0,($B24-'Planting and management costs'!$I$59)<'Planting and management costs'!$AH$47),'Planting and management costs'!$Y$59/'Planting and management costs'!$AH$47,0))","v":0},{"$f":"IF('Planting and management costs'!$I$60=$B24,'Planting and management costs'!$Y$60/'Planting and management costs'!$AI$47,IF(AND(P23<>0,($B24-'Planting and management costs'!$I$60)<'Planting and management costs'!$AI$47),'Planting and management costs'!$Y$60/'Planting and management costs'!$AI$47,0))","v":0},0,0,{"$f":"IF('Cash flow'!B24='Growth characteristics'!$H$26,'Growth characteristics'!$H$29,0)","v":0},{"$f":"IF($R$9=\"USD/m3\",R24*S24,R24*S24*'Growth characteristics'!$H$32*0.001)","v":0},0,0,0,0,0,0,0,0,0,0,0,0,0,0,0,0,0,0,0,1,14,1,null,null,null,null,15,0.14000000000000001,{"$f":"NPV(AV24,'Cash flow'!$U$11:$U$40)+'Cash flow'!$U$10","v":0},{"$f":"NPV(AV24,'Cash flow'!$U$54:$U$83)+'Cash flow'!$U$53","v":{"$error":"#REF!"}}]
[null,15,{"$f":"IF('Planting and management costs'!$I$36=$B25,'Planting and management costs'!$Y$36/'Planting and management costs'!$AA$35,IF(AND(C24<>0,($B25-'Planting and management costs'!$I$36)<'Planting and management costs'!$AA$35),'Planting and management costs'!$Y$36/'Planting and management costs'!$AA$35,0))","v":0},{"$f":"IF('Planting and management costs'!$I$38=$B25,'Planting and management costs'!$Y$38/'Planting and management costs'!$AB$35,IF(AND(D24<>0,($B25-'Planting and management costs'!$I$38)<'Planting and management costs'!$AB$35),'Planting and management costs'!$Y$38/'Planting and management costs'!$AB$35,0))","v":0},{"$f":"IF('Planting and management costs'!$I$39=$B25,'Planting and management costs'!$Y$39/'Planting and management costs'!$AC$35,IF(AND(E24<>0,($B25-'Planting and management costs'!$I$39)<'Planting and management costs'!$AC$35),'Planting and management costs'!$Y$39/'Planting and management costs'!$AC$35,0))","v":0},{"$f":"IF('Planting and management costs'!$I$40=$B25,'Planting and management costs'!$Y$40/'Planting and management costs'!$AD$35,IF(AND(F24<>0,($B25-'Planting and management costs'!$I$40)<'Planting and management costs'!$AD$35),'Planting and management costs'!$Y$40/'Planting and management costs'!$AD$35,0))","v":0},{"$f":"IF('Planting and management costs'!$I$41=$B25,'Planting and management costs'!$Y$41/'Planting and management costs'!$AE$35,IF(AND(G24<>0,($B25-'Planting and management costs'!$I$41)<'Planting and management costs'!$AE$35),'Planting and management costs'!$Y$41/'Planting and management costs'!$AE$35,0))","v":0},{"$f":"IF('Planting and management costs'!$I$49=$B25,'Planting and management costs'!$Y$49/'Planting and management costs'!$AA$47,IF(AND(H24<>0,($B25-'Planting and management costs'!$I$49)<'Planting and management costs'!$AA$47),'Planting and management costs'!$Y$49/'Planting and management costs'!$AA$47,0))","v":0},{"$f":"IF('Planting and management costs'!$I$50=$B25,'Planting and management costs'!$Y$50/'Planting and management costs'!$AB$47,IF(AND(I24<>0,($B25-'Planting and management costs'!$I$50)<'Planting and management costs'!$AB$47),'Planting and management costs'!$Y$50/'Planting and management costs'!$AB$47,0))","v":0},{"$f":"IF('Planting and management costs'!$I$52=$B25,'Planting and management costs'!$Y$52/'Planting and management costs'!$AC$47,IF(AND(J24<>0,($B25-'Planting and management costs'!$I$52)<'Planting and management costs'!$AC$47),'Planting and management costs'!$Y$52/'Planting and management costs'!$AC$47,0))","v":0},{"$f":"IF('Planting and management costs'!$I$53=$B25,'Planting and management costs'!$Y$53/'Planting and management costs'!$AD$47,IF(AND(K24<>0,($B25-'Planting and management costs'!$I$53)<'Planting and management costs'!$AD$47),'Planting and management costs'!$Y$53/'Planting and management costs'!$AD$47,0))","v":0},{"$f":"IF('Planting and management costs'!$I$55=$B25,'Planting and management costs'!$Y$55/'Planting and management costs'!$AE$47,IF(AND(L24<>0,($B25-'Planting and management costs'!$I$55)<'Planting and management costs'!$AE$47),'Planting and management costs'!$Y$55/'Planting and management costs'!$AE$47,0))","v":0},{"$f":"IF('Planting and management costs'!$I$56=$B25,'Planting and management costs'!$Y$56/'Planting and management costs'!$AF$47,IF(AND(M24<>0,($B25-'Planting and management costs'!$I$56)<'Planting and management costs'!$AF$47),'Planting and management costs'!$Y$56/'Planting and management costs'!$AF$47,0))","v":0},{"$f":"IF('Planting and management costs'!$I$58=$B25,'Planting and management costs'!$Y$58/'Planting and management costs'!$AG$47,IF(AND(N24<>0,($B25-'Planting and management costs'!$I$58)<'Planting and management costs'!$AG$47),'Planting and management costs'!$Y$58/'Planting and management costs'!$AG$47,0))","v":0},{"$f":"IF('Planting and management costs'!$I$59=$B25,'Planting and management costs'!$Y$59/'Planting and management costs'!$AH$47,IF(AND(O24<>0,($B25-'Planting and management costs'!$I$59)<'Planting and management costs'!$AH$47),'Planting and management costs'!$Y$59/'Planting and management costs'!$AH$47,0))","v":0},{"$f":"IF('Planting and management costs'!$I$60=$B25,'Planting and management costs'!$Y$60/'Planting and management costs'!$AI$47,IF(AND(P24<>0,($B25-'Planting and management costs'!$I$60)<'Planting and management costs'!$AI$47),'Planting and management costs'!$Y$60/'Planting and management costs'!$AI$47,0))","v":0},0,0,{"$f":"IF('Cash flow'!B25='Growth characteristics'!$H$26,'Growth characteristics'!$H$29,0)","v":0},{"$f":"IF($R$9=\"USD/m3\",R25*S25,R25*S25*'Growth characteristics'!$H$32*0.001)","v":0},0,0,0,0,0,0,0,0,0,0,0,0,0,0,0,0,0,0,0,1,15,1,null,null,null,null,16,0.15,{"$f":"NPV(AV25,'Cash flow'!$U$11:$U$40)+'Cash flow'!$U$10","v":0},{"$f":"NPV(AV25,'Cash flow'!$U$54:$U$83)+'Cash flow'!$U$53","v":{"$error":"#REF!"}}]
[null,16,{"$f":"IF('Planting and management costs'!$I$36=$B26,'Planting and management costs'!$Y$36/'Planting and management costs'!$AA$35,IF(AND(C25<>0,($B26-'Planting and management costs'!$I$36)<'Planting and management costs'!$AA$35),'Planting and management costs'!$Y$36/'Planting and management costs'!$AA$35,0))","v":0},{"$f":"IF('Planting and management costs'!$I$38=$B26,'Planting and management costs'!$Y$38/'Planting and management costs'!$AB$35,IF(AND(D25<>0,($B26-'Planting and management costs'!$I$38)<'Planting and management costs'!$AB$35),'Planting and management costs'!$Y$38/'Planting and management costs'!$AB$35,0))","v":0},{"$f":"IF('Planting and management costs'!$I$39=$B26,'Planting and management costs'!$Y$39/'Planting and management costs'!$AC$35,IF(AND(E25<>0,($B26-'Planting and management costs'!$I$39)<'Planting and management costs'!$AC$35),'Planting and management costs'!$Y$39/'Planting and management costs'!$AC$35,0))","v":0},{"$f":"IF('Planting and management costs'!$I$40=$B26,'Planting and management costs'!$Y$40/'Planting and management costs'!$AD$35,IF(AND(F25<>0,($B26-'Planting and management costs'!$I$40)<'Planting and management costs'!$AD$35),'Planting and management costs'!$Y$40/'Planting and management costs'!$AD$35,0))","v":0},{"$f":"IF('Planting and management costs'!$I$41=$B26,'Planting and management costs'!$Y$41/'Planting and management costs'!$AE$35,IF(AND(G25<>0,($B26-'Planting and management costs'!$I$41)<'Planting and management costs'!$AE$35),'Planting and management costs'!$Y$41/'Planting and management costs'!$AE$35,0))","v":0},{"$f":"IF('Planting and management costs'!$I$49=$B26,'Planting and management costs'!$Y$49/'Planting and management costs'!$AA$47,IF(AND(H25<>0,($B26-'Planting and management costs'!$I$49)<'Planting and management costs'!$AA$47),'Planting and management costs'!$Y$49/'Planting and management costs'!$AA$47,0))","v":0},{"$f":"IF('Planting and management costs'!$I$50=$B26,'Planting and management costs'!$Y$50/'Planting and management costs'!$AB$47,IF(AND(I25<>0,($B26-'Planting and management costs'!$I$50)<'Planting and management costs'!$AB$47),'Planting and management costs'!$Y$50/'Planting and management costs'!$AB$47,0))","v":0},{"$f":"IF('Planting and management costs'!$I$52=$B26,'Planting and management costs'!$Y$52/'Planting and management costs'!$AC$47,IF(AND(J25<>0,($B26-'Planting and management costs'!$I$52)<'Planting and management costs'!$AC$47),'Planting and management costs'!$Y$52/'Planting and management costs'!$AC$47,0))","v":0},{"$f":"IF('Planting and management costs'!$I$53=$B26,'Planting and management costs'!$Y$53/'Planting and management costs'!$AD$47,IF(AND(K25<>0,($B26-'Planting and management costs'!$I$53)<'Planting and management costs'!$AD$47),'Planting and management costs'!$Y$53/'Planting and management costs'!$AD$47,0))","v":0},{"$f":"IF('Planting and management costs'!$I$55=$B26,'Planting and management costs'!$Y$55/'Planting and management costs'!$AE$47,IF(AND(L25<>0,($B26-'Planting and management costs'!$I$55)<'Planting and management costs'!$AE$47),'Planting and management costs'!$Y$55/'Planting and management costs'!$AE$47,0))","v":0},{"$f":"IF('Planting and management costs'!$I$56=$B26,'Planting and management costs'!$Y$56/'Planting and management costs'!$AF$47,IF(AND(M25<>0,($B26-'Planting and management costs'!$I$56)<'Planting and management costs'!$AF$47),'Planting and management costs'!$Y$56/'Planting and management costs'!$AF$47,0))","v":0},{"$f":"IF('Planting and management costs'!$I$58=$B26,'Planting and management costs'!$Y$58/'Planting and management costs'!$AG$47,IF(AND(N25<>0,($B26-'Planting and management costs'!$I$58)<'Planting and management costs'!$AG$47),'Planting and management costs'!$Y$58/'Planting and management costs'!$AG$47,0))","v":0},{"$f":"IF('Planting and management costs'!$I$59=$B26,'Planting and management costs'!$Y$59/'Planting and management costs'!$AH$47,IF(AND(O25<>0,($B26-'Planting and management costs'!$I$59)<'Planting and management costs'!$AH$47),'Planting and management costs'!$Y$59/'Planting and management costs'!$AH$47,0))","v":0},{"$f":"IF('Planting and management costs'!$I$60=$B26,'Planting and management costs'!$Y$60/'Planting and management costs'!$AI$47,IF(AND(P25<>0,($B26-'Planting and management costs'!$I$60)<'Planting and management costs'!$AI$47),'Planting and management costs'!$Y$60/'Planting and management costs'!$AI$47,0))","v":0},0,0,{"$f":"IF('Cash flow'!B26='Growth characteristics'!$H$26,'Growth characteristics'!$H$29,0)","v":0},{"$f":"IF($R$9=\"USD/m3\",R26*S26,R26*S26*'Growth characteristics'!$H$32*0.001)","v":0},0,0,0,0,0,0,0,0,0,0,0,0,0,0,0,0,0,0,0,1,16,1,null,null,null,null,17,0.16,{"$f":"NPV(AV26,'Cash flow'!$U$11:$U$40)+'Cash flow'!$U$10","v":0},{"$f":"NPV(AV26,'Cash flow'!$U$54:$U$83)+'Cash flow'!$U$53","v":{"$error":"#REF!"}}]
[null,17,{"$f":"IF('Planting and management costs'!$I$36=$B27,'Planting and management costs'!$Y$36/'Planting and management costs'!$AA$35,IF(AND(C26<>0,($B27-'Planting and management costs'!$I$36)<'Planting and management costs'!$AA$35),'Planting and management costs'!$Y$36/'Planting and management costs'!$AA$35,0))","v":0},{"$f":"IF('Planting and management costs'!$I$38=$B27,'Planting and management costs'!$Y$38/'Planting and management costs'!$AB$35,IF(AND(D26<>0,($B27-'Planting and management costs'!$I$38)<'Planting and management costs'!$AB$35),'Planting and management costs'!$Y$38/'Planting and management costs'!$AB$35,0))","v":0},{"$f":"IF('Planting and management costs'!$I$39=$B27,'Planting and management costs'!$Y$39/'Planting and management costs'!$AC$35,IF(AND(E26<>0,($B27-'Planting and management costs'!$I$39)<'Planting and management costs'!$AC$35),'Planting and management costs'!$Y$39/'Planting and management costs'!$AC$35,0))","v":0},{"$f":"IF('Planting and management costs'!$I$40=$B27,'Planting and management costs'!$Y$40/'Planting and management costs'!$AD$35,IF(AND(F26<>0,($B27-'Planting and management costs'!$I$40)<'Planting and management costs'!$AD$35),'Planting and management costs'!$Y$40/'Planting and management costs'!$AD$35,0))","v":0},{"$f":"IF('Planting and management costs'!$I$41=$B27,'Planting and management costs'!$Y$41/'Planting and management costs'!$AE$35,IF(AND(G26<>0,($B27-'Planting and management costs'!$I$41)<'Planting and management costs'!$AE$35),'Planting and management costs'!$Y$41/'Planting and management costs'!$AE$35,0))","v":0},{"$f":"IF('Planting and management costs'!$I$49=$B27,'Planting and management costs'!$Y$49/'Planting and management costs'!$AA$47,IF(AND(H26<>0,($B27-'Planting and management costs'!$I$49)<'Planting and management costs'!$AA$47),'Planting and management costs'!$Y$49/'Planting and management costs'!$AA$47,0))","v":0},{"$f":"IF('Planting and management costs'!$I$50=$B27,'Planting and management costs'!$Y$50/'Planting and management costs'!$AB$47,IF(AND(I26<>0,($B27-'Planting and management costs'!$I$50)<'Planting and management costs'!$AB$47),'Planting and management costs'!$Y$50/'Planting and management costs'!$AB$47,0))","v":0},{"$f":"IF('Planting and management costs'!$I$52=$B27,'Planting and management costs'!$Y$52/'Planting and management costs'!$AC$47,IF(AND(J26<>0,($B27-'Planting and management costs'!$I$52)<'Planting and management costs'!$AC$47),'Planting and management costs'!$Y$52/'Planting and management costs'!$AC$47,0))","v":0},{"$f":"IF('Planting and management costs'!$I$53=$B27,'Planting and management costs'!$Y$53/'Planting and management costs'!$AD$47,IF(AND(K26<>0,($B27-'Planting and management costs'!$I$53)<'Planting and management costs'!$AD$47),'Planting and management costs'!$Y$53/'Planting and management costs'!$AD$47,0))","v":0},{"$f":"IF('Planting and management costs'!$I$55=$B27,'Planting and management costs'!$Y$55/'Planting and management costs'!$AE$47,IF(AND(L26<>0,($B27-'Planting and management costs'!$I$55)<'Planting and management costs'!$AE$47),'Planting and management costs'!$Y$55/'Planting and management costs'!$AE$47,0))","v":0},{"$f":"IF('Planting and management costs'!$I$56=$B27,'Planting and management costs'!$Y$56/'Planting and management costs'!$AF$47,IF(AND(M26<>0,($B27-'Planting and management costs'!$I$56)<'Planting and management costs'!$AF$47),'Planting and management costs'!$Y$56/'Planting and management costs'!$AF$47,0))","v":0},{"$f":"IF('Planting and management costs'!$I$58=$B27,'Planting and management costs'!$Y$58/'Planting and management costs'!$AG$47,IF(AND(N26<>0,($B27-'Planting and management costs'!$I$58)<'Planting and management costs'!$AG$47),'Planting and management costs'!$Y$58/'Planting and management costs'!$AG$47,0))","v":0},{"$f":"IF('Planting and management costs'!$I$59=$B27,'Planting and management costs'!$Y$59/'Planting and management costs'!$AH$47,IF(AND(O26<>0,($B27-'Planting and management costs'!$I$59)<'Planting and management costs'!$AH$47),'Planting and management costs'!$Y$59/'Planting and management costs'!$AH$47,0))","v":0},{"$f":"IF('Planting and management costs'!$I$60=$B27,'Planting and management costs'!$Y$60/'Planting and management costs'!$AI$47,IF(AND(P26<>0,($B27-'Planting and management costs'!$I$60)<'Planting and management costs'!$AI$47),'Planting and management costs'!$Y$60/'Planting and management costs'!$AI$47,0))","v":0},0,0,{"$f":"IF('Cash flow'!B27='Growth characteristics'!$H$26,'Growth characteristics'!$H$29,0)","v":0},{"$f":"IF($R$9=\"USD/m3\",R27*S27,R27*S27*'Growth characteristics'!$H$32*0.001)","v":0},0,0,0,0,0,0,0,0,0,0,0,0,0,0,0,0,0,0,0,1,17,1,null,null,null,null,18,0.17,{"$f":"NPV(AV27,'Cash flow'!$U$11:$U$40)+'Cash flow'!$U$10","v":0},{"$f":"NPV(AV27,'Cash flow'!$U$54:$U$83)+'Cash flow'!$U$53","v":{"$error":"#REF!"}}]
[null,18,{"$f":"IF('Planting and management costs'!$I$36=$B28,'Planting and management costs'!$Y$36/'Planting and management costs'!$AA$35,IF(AND(C27<>0,($B28-'Planting and management costs'!$I$36)<'Planting and management costs'!$AA$35),'Planting and management costs'!$Y$36/'Planting and management costs'!$AA$35,0))","v":0},{"$f":"IF('Planting and management costs'!$I$38=$B28,'Planting and management costs'!$Y$38/'Planting and management costs'!$AB$35,IF(AND(D27<>0,($B28-'Planting and management costs'!$I$38)<'Planting and management costs'!$AB$35),'Planting and management costs'!$Y$38/'Planting and management costs'!$AB$35,0))","v":0},{"$f":"IF('Planting and management costs'!$I$39=$B28,'Planting and management costs'!$Y$39/'Planting and management costs'!$AC$35,IF(AND(E27<>0,($B28-'Planting and management costs'!$I$39)<'Planting and management costs'!$AC$35),'Planting and management costs'!$Y$39/'Planting and management costs'!$AC$35,0))","v":0},{"$f":"IF('Planting and management costs'!$I$40=$B28,'Planting and management costs'!$Y$40/'Planting and management costs'!$AD$35,IF(AND(F27<>0,($B28-'Planting and management costs'!$I$40)<'Planting and management costs'!$AD$35),'Planting and management costs'!$Y$40/'Planting and management costs'!$AD$35,0))","v":0},{"$f":"IF('Planting and management costs'!$I$41=$B28,'Planting and management costs'!$Y$41/'Planting and management costs'!$AE$35,IF(AND(G27<>0,($B28-'Planting and management costs'!$I$41)<'Planting and management costs'!$AE$35),'Planting and management costs'!$Y$41/'Planting and management costs'!$AE$35,0))","v":0},{"$f":"IF('Planting and management costs'!$I$49=$B28,'Planting and management costs'!$Y$49/'Planting and management costs'!$AA$47,IF(AND(H27<>0,($B28-'Planting and management costs'!$I$49)<'Planting and management costs'!$AA$47),'Planting and management costs'!$Y$49/'Planting and management costs'!$AA$47,0))","v":0},{"$f":"IF('Planting and management costs'!$I$50=$B28,'Planting and management costs'!$Y$50/'Planting and management costs'!$AB$47,IF(AND(I27<>0,($B28-'Planting and management costs'!$I$50)<'Planting and management costs'!$AB$47),'Planting and management costs'!$Y$50/'Planting and management costs'!$AB$47,0))","v":0},{"$f":"IF('Planting and management costs'!$I$52=$B28,'Planting and management costs'!$Y$52/'Planting and management costs'!$AC$47,IF(AND(J27<>0,($B28-'Planting and management costs'!$I$52)<'Planting and management costs'!$AC$47),'Planting and management costs'!$Y$52/'Planting and management costs'!$AC$47,0))","v":0},{"$f":"IF('Planting and management costs'!$I$53=$B28,'Planting and management costs'!$Y$53/'Planting and management costs'!$AD$47,IF(AND(K27<>0,($B28-'Planting and management costs'!$I$53)<'Planting and management costs'!$AD$47),'Planting and management costs'!$Y$53/'Planting and management costs'!$AD$47,0))","v":0},{"$f":"IF('Planting and management costs'!$I$55=$B28,'Planting and management costs'!$Y$55/'Planting and management costs'!$AE$47,IF(AND(L27<>0,($B28-'Planting and management costs'!$I$55)<'Planting and management costs'!$AE$47),'Planting and management costs'!$Y$55/'Planting and management costs'!$AE$47,0))","v":0},{"$f":"IF('Planting and management costs'!$I$56=$B28,'Planting and management costs'!$Y$56/'Planting and management costs'!$AF$47,IF(AND(M27<>0,($B28-'Planting and management costs'!$I$56)<'Planting and management costs'!$AF$47),'Planting and management costs'!$Y$56/'Planting and management costs'!$AF$47,0))","v":0},{"$f":"IF('Planting and management costs'!$I$58=$B28,'Planting and management costs'!$Y$58/'Planting and management costs'!$AG$47,IF(AND(N27<>0,($B28-'Planting and management costs'!$I$58)<'Planting and management costs'!$AG$47),'Planting and management costs'!$Y$58/'Planting and management costs'!$AG$47,0))","v":0},{"$f":"IF('Planting and management costs'!$I$59=$B28,'Planting and management costs'!$Y$59/'Planting and management costs'!$AH$47,IF(AND(O27<>0,($B28-'Planting and management costs'!$I$59)<'Planting and management costs'!$AH$47),'Planting and management costs'!$Y$59/'Planting and management costs'!$AH$47,0))","v":0},{"$f":"IF('Planting and management costs'!$I$60=$B28,'Planting and management costs'!$Y$60/'Planting and management costs'!$AI$47,IF(AND(P27<>0,($B28-'Planting and management costs'!$I$60)<'Planting and management costs'!$AI$47),'Planting and management costs'!$Y$60/'Planting and management costs'!$AI$47,0))","v":0},0,0,{"$f":"IF('Cash flow'!B28='Growth characteristics'!$H$26,'Growth characteristics'!$H$29,0)","v":0},{"$f":"IF($R$9=\"USD/m3\",R28*S28,R28*S28*'Growth characteristics'!$H$32*0.001)","v":0},0,0,0,0,{"$f":"F28/(1+$S$48)^$B28","v":0},0,0,0,0,0,0,0,0,0,0,0,0,0,0,1,18,1,null,null,null,null,19,0.18,{"$f":"NPV(AV28,'Cash flow'!$U$11:$U$40)+'Cash flow'!$U$10","v":0},{"$f":"NPV(AV28,'Cash flow'!$U$54:$U$83)+'Cash flow'!$U$53","v":{"$error":"#REF!"}}]
[null,19,{"$f":"IF('Planting and management costs'!$I$36=$B29,'Planting and management costs'!$Y$36/'Planting and management costs'!$AA$35,IF(AND(C28<>0,($B29-'Planting and management costs'!$I$36)<'Planting and management costs'!$AA$35),'Planting and management costs'!$Y$36/'Planting and management costs'!$AA$35,0))","v":0},{"$f":"IF('Planting and management costs'!$I$38=$B29,'Planting and management costs'!$Y$38/'Planting and management costs'!$AB$35,IF(AND(D28<>0,($B29-'Planting and management costs'!$I$38)<'Planting and management costs'!$AB$35),'Planting and management costs'!$Y$38/'Planting and management costs'!$AB$35,0))","v":0},{"$f":"IF('Planting and management costs'!$I$39=$B29,'Planting and management costs'!$Y$39/'Planting and management costs'!$AC$35,IF(AND(E28<>0,($B29-'Planting and management costs'!$I$39)<'Planting and management costs'!$AC$35),'Planting and management costs'!$Y$39/'Planting and management costs'!$AC$35,0))","v":0},{"$f":"IF('Planting and management costs'!$I$40=$B29,'Planting and management costs'!$Y$40/'Planting and management costs'!$AD$35,IF(AND(F28<>0,($B29-'Planting and management costs'!$I$40)<'Planting and management costs'!$AD$35),'Planting and management costs'!$Y$40/'Planting and management costs'!$AD$35,0))","v":0},{"$f":"IF('Planting and management costs'!$I$41=$B29,'Planting and management costs'!$Y$41/'Planting and management costs'!$AE$35,IF(AND(G28<>0,($B29-'Planting and management costs'!$I$41)<'Planting and management costs'!$AE$35),'Planting and management costs'!$Y$41/'Planting and management costs'!$AE$35,0))","v":0},{"$f":"IF('Planting and management costs'!$I$49=$B29,'Planting and management costs'!$Y$49/'Planting and management costs'!$AA$47,IF(AND(H28<>0,($B29-'Planting and management costs'!$I$49)<'Planting and management costs'!$AA$47),'Planting and management costs'!$Y$49/'Planting and management costs'!$AA$47,0))","v":0},{"$f":"IF('Planting and management costs'!$I$50=$B29,'Planting and management costs'!$Y$50/'Planting and management costs'!$AB$47,IF(AND(I28<>0,($B29-'Planting and management costs'!$I$50)<'Planting and management costs'!$AB$47),'Planting and management costs'!$Y$50/'Planting and management costs'!$AB$47,0))","v":0},{"$f":"IF('Planting and management costs'!$I$52=$B29,'Planting and management costs'!$Y$52/'Planting and management costs'!$AC$47,IF(AND(J28<>0,($B29-'Planting and management costs'!$I$52)<'Planting and management costs'!$AC$47),'Planting and management costs'!$Y$52/'Planting and management costs'!$AC$47,0))","v":0},{"$f":"IF('Planting and management costs'!$I$53=$B29,'Planting and management costs'!$Y$53/'Planting and management costs'!$AD$47,IF(AND(K28<>0,($B29-'Planting and management costs'!$I$53)<'Planting and management costs'!$AD$47),'Planting and management costs'!$Y$53/'Planting and management costs'!$AD$47,0))","v":0},{"$f":"IF('Planting and management costs'!$I$55=$B29,'Planting and management costs'!$Y$55/'Planting and management costs'!$AE$47,IF(AND(L28<>0,($B29-'Planting and management costs'!$I$55)<'Planting and management costs'!$AE$47),'Planting and management costs'!$Y$55/'Planting and management costs'!$AE$47,0))","v":0},{"$f":"IF('Planting and management costs'!$I$56=$B29,'Planting and management costs'!$Y$56/'Planting and management costs'!$AF$47,IF(AND(M28<>0,($B29-'Planting and management costs'!$I$56)<'Planting and management costs'!$AF$47),'Planting and management costs'!$Y$56/'Planting and management costs'!$AF$47,0))","v":0},{"$f":"IF('Planting and management costs'!$I$58=$B29,'Planting and management costs'!$Y$58/'Planting and management costs'!$AG$47,IF(AND(N28<>0,($B29-'Planting and management costs'!$I$58)<'Planting and management costs'!$AG$47),'Planting and management costs'!$Y$58/'Planting and management costs'!$AG$47,0))","v":0},{"$f":"IF('Planting and management costs'!$I$59=$B29,'Planting and management costs'!$Y$59/'Planting and management costs'!$AH$47,IF(AND(O28<>0,($B29-'Planting and management costs'!$I$59)<'Planting and management costs'!$AH$47),'Planting and management costs'!$Y$59/'Planting and management costs'!$AH$47,0))","v":0},{"$f":"IF('Planting and management costs'!$I$60=$B29,'Planting and management costs'!$Y$60/'Planting and management costs'!$AI$47,IF(AND(P28<>0,($B29-'Planting and management costs'!$I$60)<'Planting and management costs'!$AI$47),'Planting and management costs'!$Y$60/'Planting and management costs'!$AI$47,0))","v":0},0,0,{"$f":"IF('Cash flow'!B29='Growth characteristics'!$H$26,'Growth characteristics'!$H$29,0)","v":0},{"$f":"IF($R$9=\"USD/m3\",R29*S29,R29*S29*'Growth characteristics'!$H$32*0.001)","v":0},0,{"$f":"C29/(1+$S$48)^$B29","v":0},0,0,0,0,0,0,0,0,0,0,0,0,0,0,0,0,0,1,19,1,null,null,null,null,20,0.19,{"$f":"NPV(AV29,'Cash flow'!$U$11:$U$40)+'Cash flow'!$U$10","v":0},{"$f":"NPV(AV29,'Cash flow'!$U$54:$U$83)+'Cash flow'!$U$53","v":{"$error":"#REF!"}}]
[null,20,{"$f":"IF('Planting and management costs'!$I$36=$B30,'Planting and management costs'!$Y$36/'Planting and management costs'!$AA$35,IF(AND(C29<>0,($B30-'Planting and management costs'!$I$36)<'Planting and management costs'!$AA$35),'Planting and management costs'!$Y$36/'Planting and management costs'!$AA$35,0))","v":0},{"$f":"IF('Planting and management costs'!$I$38=$B30,'Planting and management costs'!$Y$38/'Planting and management costs'!$AB$35,IF(AND(D29<>0,($B30-'Planting and management costs'!$I$38)<'Planting and management costs'!$AB$35),'Planting and management costs'!$Y$38/'Planting and management costs'!$AB$35,0))","v":0},{"$f":"IF('Planting and management costs'!$I$39=$B30,'Planting and management costs'!$Y$39/'Planting and management costs'!$AC$35,IF(AND(E29<>0,($B30-'Planting and management costs'!$I$39)<'Planting and management costs'!$AC$35),'Planting and management costs'!$Y$39/'Planting and management costs'!$AC$35,0))","v":0},{"$f":"IF('Planting and management costs'!$I$40=$B30,'Planting and management costs'!$Y$40/'Planting and management costs'!$AD$35,IF(AND(F29<>0,($B30-'Planting and management costs'!$I$40)<'Planting and management costs'!$AD$35),'Planting and management costs'!$Y$40/'Planting and management costs'!$AD$35,0))","v":0},{"$f":"IF('Planting and management costs'!$I$41=$B30,'Planting and management costs'!$Y$41/'Planting and management costs'!$AE$35,IF(AND(G29<>0,($B30-'Planting and management costs'!$I$41)<'Planting and management costs'!$AE$35),'Planting and management costs'!$Y$41/'Planting and management costs'!$AE$35,0))","v":0},{"$f":"IF('Planting and management costs'!$I$49=$B30,'Planting and management costs'!$Y$49/'Planting and management costs'!$AA$47,IF(AND(H29<>0,($B30-'Planting and management costs'!$I$49)<'Planting and management costs'!$AA$47),'Planting and management costs'!$Y$49/'Planting and management costs'!$AA$47,0))","v":0},{"$f":"IF('Planting and management costs'!$I$50=$B30,'Planting and management costs'!$Y$50/'Planting and management costs'!$AB$47,IF(AND(I29<>0,($B30-'Planting and management costs'!$I$50)<'Planting and management costs'!$AB$47),'Planting and management costs'!$Y$50/'Planting and management costs'!$AB$47,0))","v":0},{"$f":"IF('Planting and management costs'!$I$52=$B30,'Planting and management costs'!$Y$52/'Planting and management costs'!$AC$47,IF(AND(J29<>0,($B30-'Planting and management costs'!$I$52)<'Planting and management costs'!$AC$47),'Planting and management costs'!$Y$52/'Planting and management costs'!$AC$47,0))","v":0},{"$f":"IF('Planting and management costs'!$I$53=$B30,'Planting and management costs'!$Y$53/'Planting and management costs'!$AD$47,IF(AND(K29<>0,($B30-'Planting and management costs'!$I$53)<'Planting and management costs'!$AD$47),'Planting and management costs'!$Y$53/'Planting and management costs'!$AD$47,0))","v":0},{"$f":"IF('Planting and management costs'!$I$55=$B30,'Planting and management costs'!$Y$55/'Planting and management costs'!$AE$47,IF(AND(L29<>0,($B30-'Planting and management costs'!$I$55)<'Planting and management costs'!$AE$47),'Planting and management costs'!$Y$55/'Planting and management costs'!$AE$47,0))","v":0},{"$f":"IF('Planting and management costs'!$I$56=$B30,'Planting and management costs'!$Y$56/'Planting and management costs'!$AF$47,IF(AND(M29<>0,($B30-'Planting and management costs'!$I$56)<'Planting and management costs'!$AF$47),'Planting and management costs'!$Y$56/'Planting and management costs'!$AF$47,0))","v":0},{"$f":"IF('Planting and management costs'!$I$58=$B30,'Planting and management costs'!$Y$58/'Planting and management costs'!$AG$47,IF(AND(N29<>0,($B30-'Planting and management costs'!$I$58)<'Planting and management costs'!$AG$47),'Planting and management costs'!$Y$58/'Planting and management costs'!$AG$47,0))","v":0},{"$f":"IF('Planting and management costs'!$I$59=$B30,'Planting and management costs'!$Y$59/'Planting and management costs'!$AH$47,IF(AND(O29<>0,($B30-'Planting and management costs'!$I$59)<'Planting and management costs'!$AH$47),'Planting and management costs'!$Y$59/'Planting and management costs'!$AH$47,0))","v":0},{"$f":"IF('Planting and management costs'!$I$60=$B30,'Planting and management costs'!$Y$60/'Planting and management costs'!$AI$47,IF(AND(P29<>0,($B30-'Planting and management costs'!$I$60)<'Planting and management costs'!$AI$47),'Planting and management costs'!$Y$60/'Planting and management costs'!$AI$47,0))","v":0},0,0,{"$f":"IF('Cash flow'!B30='Growth characteristics'!$H$26,'Growth characteristics'!$H$29,0)","v":0},{"$f":"IF($R$9=\"USD/m3\",R30*S30,R30*S30*'Growth characteristics'!$H$32*0.001)","v":0},0,0,0,0,0,0,0,0,0,0,0,0,0,0,0,0,0,0,0,1,20,1,null,null,null,null,21,0.2,{"$f":"NPV(AV30,'Cash flow'!$U$11:$U$40)+'Cash flow'!$U$10","v":0},{"$f":"NPV(AV30,'Cash flow'!$U$54:$U$83)+'Cash flow'!$U$53","v":{"$error":"#REF!"}}]
[null,21,{"$f":"IF('Planting and management costs'!$I$36=$B31,'Planting and management costs'!$Y$36/'Planting and management costs'!$AA$35,IF(AND(C30<>0,($B31-'Planting and management costs'!$I$36)<'Planting and management costs'!$AA$35),'Planting and management costs'!$Y$36/'Planting and management costs'!$AA$35,0))","v":0},{"$f":"IF('Planting and management costs'!$I$38=$B31,'Planting and management costs'!$Y$38/'Planting and management costs'!$AB$35,IF(AND(D30<>0,($B31-'Planting and management costs'!$I$38)<'Planting and management costs'!$AB$35),'Planting and management costs'!$Y$38/'Planting and management costs'!$AB$35,0))","v":0},{"$f":"IF('Planting and management costs'!$I$39=$B31,'Planting and management costs'!$Y$39/'Planting and management costs'!$AC$35,IF(AND(E30<>0,($B31-'Planting and management costs'!$I$39)<'Planting and management costs'!$AC$35),'Planting and management costs'!$Y$39/'Planting and management costs'!$AC$35,0))","v":0},{"$f":"IF('Planting and management costs'!$I$40=$B31,'Planting and management costs'!$Y$40/'Planting and management costs'!$AD$35,IF(AND(F30<>0,($B31-'Planting and management costs'!$I$40)<'Planting and management costs'!$AD$35),'Planting and management costs'!$Y$40/'Planting and management costs'!$AD$35,0))","v":0},{"$f":"IF('Planting and management costs'!$I$41=$B31,'Planting and management costs'!$Y$41/'Planting and management costs'!$AE$35,IF(AND(G30<>0,($B31-'Planting and management costs'!$I$41)<'Planting and management costs'!$AE$35),'Planting and management costs'!$Y$41/'Planting and management costs'!$AE$35,0))","v":0},{"$f":"IF('Planting and management costs'!$I$49=$B31,'Planting and management costs'!$Y$49/'Planting and management costs'!$AA$47,IF(AND(H30<>0,($B31-'Planting and management costs'!$I$49)<'Planting and management costs'!$AA$47),'Planting and management costs'!$Y$49/'Planting and management costs'!$AA$47,0))","v":0},{"$f":"IF('Planting and management costs'!$I$50=$B31,'Planting and management costs'!$Y$50/'Planting and management costs'!$AB$47,IF(AND(I30<>0,($B31-'Planting and management costs'!$I$50)<'Planting and management costs'!$AB$47),'Planting and management costs'!$Y$50/'Planting and management costs'!$AB$47,0))","v":0},{"$f":"IF('Planting and management costs'!$I$52=$B31,'Planting and management costs'!$Y$52/'Planting and management costs'!$AC$47,IF(AND(J30<>0,($B31-'Planting and management costs'!$I$52)<'Planting and management costs'!$AC$47),'Planting and management costs'!$Y$52/'Planting and management costs'!$AC$47,0))","v":0},{"$f":"IF('Planting and management costs'!$I$53=$B31,'Planting and management costs'!$Y$53/'Planting and management costs'!$AD$47,IF(AND(K30<>0,($B31-'Planting and management costs'!$I$53)<'Planting and management costs'!$AD$47),'Planting and management costs'!$Y$53/'Planting and management costs'!$AD$47,0))","v":0},{"$f":"IF('Planting and management costs'!$I$55=$B31,'Planting and management costs'!$Y$55/'Planting and management costs'!$AE$47,IF(AND(L30<>0,($B31-'Planting and management costs'!$I$55)<'Planting and management costs'!$AE$47),'Planting and management costs'!$Y$55/'Planting and management costs'!$AE$47,0))","v":0},{"$f":"IF('Planting and management costs'!$I$56=$B31,'Planting and management costs'!$Y$56/'Planting and management costs'!$AF$47,IF(AND(M30<>0,($B31-'Planting and management costs'!$I$56)<'Planting and management costs'!$AF$47),'Planting and management costs'!$Y$56/'Planting and management costs'!$AF$47,0))","v":0},{"$f":"IF('Planting and management costs'!$I$58=$B31,'Planting and management costs'!$Y$58/'Planting and management costs'!$AG$47,IF(AND(N30<>0,($B31-'Planting and management costs'!$I$58)<'Planting and management costs'!$AG$47),'Planting and management costs'!$Y$58/'Planting and management costs'!$AG$47,0))","v":0},{"$f":"IF('Planting and management costs'!$I$59=$B31,'Planting and management costs'!$Y$59/'Planting and management costs'!$AH$47,IF(AND(O30<>0,($B31-'Planting and management costs'!$I$59)<'Planting and management costs'!$AH$47),'Planting and management costs'!$Y$59/'Planting and management costs'!$AH$47,0))","v":0},{"$f":"IF('Planting and management costs'!$I$60=$B31,'Planting and management costs'!$Y$60/'Planting and management costs'!$AI$47,IF(AND(P30<>0,($B31-'Planting and management costs'!$I$60)<'Planting and management costs'!$AI$47),'Planting and management costs'!$Y$60/'Planting and management costs'!$AI$47,0))","v":0},0,0,{"$f":"IF('Cash flow'!B31='Growth characteristics'!$H$26,'Growth characteristics'!$H$29,0)","v":0},{"$f":"IF($R$9=\"USD/m3\",R31*S31,R31*S31*'Growth characteristics'!$H$32*0.001)","v":0},0,0,0,0,0,0,0,0,0,0,0,0,0,0,0,0,0,0,0,1,21,1,null,null,null,null,22,0.21,{"$f":"NPV(AV31,'Cash flow'!$U$11:$U$40)+'Cash flow'!$U$10","v":0},{"$f":"NPV(AV31,'Cash flow'!$U$54:$U$83)+'Cash flow'!$U$53","v":{"$error":"#REF!"}}]
[null,22,{"$f":"IF('Planting and management costs'!$I$36=$B32,'Planting and management costs'!$Y$36/'Planting and management costs'!$AA$35,IF(AND(C31<>0,($B32-'Planting and management costs'!$I$36)<'Planting and management costs'!$AA$35),'Planting and management costs'!$Y$36/'Planting and management costs'!$AA$35,0))","v":0},{"$f":"IF('Planting and management costs'!$I$38=$B32,'Planting and management costs'!$Y$38/'Planting and management costs'!$AB$35,IF(AND(D31<>0,($B32-'Planting and management costs'!$I$38)<'Planting and management costs'!$AB$35),'Planting and management costs'!$Y$38/'Planting and management costs'!$AB$35,0))","v":0},{"$f":"IF('Planting and management costs'!$I$39=$B32,'Planting and management costs'!$Y$39/'Planting and management costs'!$AC$35,IF(AND(E31<>0,($B32-'Planting and management costs'!$I$39)<'Planting and management costs'!$AC$35),'Planting and management costs'!$Y$39/'Planting and management costs'!$AC$35,0))","v":0},{"$f":"IF('Planting and management costs'!$I$40=$B32,'Planting and management costs'!$Y$40/'Planting and management costs'!$AD$35,IF(AND(F31<>0,($B32-'Planting and management costs'!$I$40)<'Planting and management costs'!$AD$35),'Planting and management costs'!$Y$40/'Planting and management costs'!$AD$35,0))","v":0},{"$f":"IF('Planting and management costs'!$I$41=$B32,'Planting and management costs'!$Y$41/'Planting and management costs'!$AE$35,IF(AND(G31<>0,($B32-'Planting and management costs'!$I$41)<'Planting and management costs'!$AE$35),'Planting and management costs'!$Y$41/'Planting and management costs'!$AE$35,0))","v":0},{"$f":"IF('Planting and management costs'!$I$49=$B32,'Planting and management costs'!$Y$49/'Planting and management costs'!$AA$47,IF(AND(H31<>0,($B32-'Planting and management costs'!$I$49)<'Planting and management costs'!$AA$47),'Planting and management costs'!$Y$49/'Planting and management costs'!$AA$47,0))","v":0},{"$f":"IF('Planting and management costs'!$I$50=$B32,'Planting and management costs'!$Y$50/'Planting and management costs'!$AB$47,IF(AND(I31<>0,($B32-'Planting and management costs'!$I$50)<'Planting and management costs'!$AB$47),'Planting and management costs'!$Y$50/'Planting and management costs'!$AB$47,0))","v":0},{"$f":"IF('Planting and management costs'!$I$52=$B32,'Planting and management costs'!$Y$52/'Planting and management costs'!$AC$47,IF(AND(J31<>0,($B32-'Planting and management costs'!$I$52)<'Planting and management costs'!$AC$47),'Planting and management costs'!$Y$52/'Planting and management costs'!$AC$47,0))","v":0},{"$f":"IF('Planting and management costs'!$I$53=$B32,'Planting and management costs'!$Y$53/'Planting and management costs'!$AD$47,IF(AND(K31<>0,($B32-'Planting and management costs'!$I$53)<'Planting and management costs'!$AD$47),'Planting and management costs'!$Y$53/'Planting and management costs'!$AD$47,0))","v":0},{"$f":"IF('Planting and management costs'!$I$55=$B32,'Planting and management costs'!$Y$55/'Planting and management costs'!$AE$47,IF(AND(L31<>0,($B32-'Planting and management costs'!$I$55)<'Planting and management costs'!$AE$47),'Planting and management costs'!$Y$55/'Planting and management costs'!$AE$47,0))","v":0},{"$f":"IF('Planting and management costs'!$I$56=$B32,'Planting and management costs'!$Y$56/'Planting and management costs'!$AF$47,IF(AND(M31<>0,($B32-'Planting and management costs'!$I$56)<'Planting and management costs'!$AF$47),'Planting and management costs'!$Y$56/'Planting and management costs'!$AF$47,0))","v":0},{"$f":"IF('Planting and management costs'!$I$58=$B32,'Planting and management costs'!$Y$58/'Planting and management costs'!$AG$47,IF(AND(N31<>0,($B32-'Planting and management costs'!$I$58)<'Planting and management costs'!$AG$47),'Planting and management costs'!$Y$58/'Planting and management costs'!$AG$47,0))","v":0},{"$f":"IF('Planting and management costs'!$I$59=$B32,'Planting and management costs'!$Y$59/'Planting and management costs'!$AH$47,IF(AND(O31<>0,($B32-'Planting and management costs'!$I$59)<'Planting and management costs'!$AH$47),'Planting and management costs'!$Y$59/'Planting and management costs'!$AH$47,0))","v":0},{"$f":"IF('Planting and management costs'!$I$60=$B32,'Planting and management costs'!$Y$60/'Planting and management costs'!$AI$47,IF(AND(P31<>0,($B32-'Planting and management costs'!$I$60)<'Planting and management costs'!$AI$47),'Planting and management costs'!$Y$60/'Planting and management costs'!$AI$47,0))","v":0},0,0,{"$f":"IF('Cash flow'!B32='Growth characteristics'!$H$26,'Growth characteristics'!$H$29,0)","v":0},{"$f":"IF($R$9=\"USD/m3\",R32*S32,R32*S32*'Growth characteristics'!$H$32*0.001)","v":0},0,0,0,0,0,0,0,0,0,0,0,0,0,0,0,0,0,0,0,1,22,1,null,null,null,null,23,0.22,{"$f":"NPV(AV32,'Cash flow'!$U$11:$U$40)+'Cash flow'!$U$10","v":0},{"$f":"NPV(AV32,'Cash flow'!$U$54:$U$83)+'Cash flow'!$U$53","v":{"$error":"#REF!"}}]
[null,23,{"$f":"IF('Planting and management costs'!$I$36=$B33,'Planting and management costs'!$Y$36/'Planting and management costs'!$AA$35,IF(AND(C32<>0,($B33-'Planting and management costs'!$I$36)<'Planting and management costs'!$AA$35),'Planting and management costs'!$Y$36/'Planting and management costs'!$AA$35,0))","v":0},{"$f":"IF('Planting and management costs'!$I$38=$B33,'Planting and management costs'!$Y$38/'Planting and management costs'!$AB$35,IF(AND(D32<>0,($B33-'Planting and management costs'!$I$38)<'Planting and management costs'!$AB$35),'Planting and management costs'!$Y$38/'Planting and management costs'!$AB$35,0))","v":0},{"$f":"IF('Planting and management costs'!$I$39=$B33,'Planting and management costs'!$Y$39/'Planting and management costs'!$AC$35,IF(AND(E32<>0,($B33-'Planting and management costs'!$I$39)<'Planting and management costs'!$AC$35),'Planting and management costs'!$Y$39/'Planting and management costs'!$AC$35,0))","v":0},{"$f":"IF('Planting and management costs'!$I$40=$B33,'Planting and management costs'!$Y$40/'Planting and management costs'!$AD$35,IF(AND(F32<>0,($B33-'Planting and management costs'!$I$40)<'Planting and management costs'!$AD$35),'Planting and management costs'!$Y$40/'Planting and management costs'!$AD$35,0))","v":0},{"$f":"IF('Planting and management costs'!$I$41=$B33,'Planting and management costs'!$Y$41/'Planting and management costs'!$AE$35,IF(AND(G32<>0,($B33-'Planting and management costs'!$I$41)<'Planting and management costs'!$AE$35),'Planting and management costs'!$Y$41/'Planting and management costs'!$AE$35,0))","v":0},{"$f":"IF('Planting and management costs'!$I$49=$B33,'Planting and management costs'!$Y$49/'Planting and management costs'!$AA$47,IF(AND(H32<>0,($B33-'Planting and management costs'!$I$49)<'Planting and management costs'!$AA$47),'Planting and management costs'!$Y$49/'Planting and management costs'!$AA$47,0))","v":0},{"$f":"IF('Planting and management costs'!$I$50=$B33,'Planting and management costs'!$Y$50/'Planting and management costs'!$AB$47,IF(AND(I32<>0,($B33-'Planting and management costs'!$I$50)<'Planting and management costs'!$AB$47),'Planting and management costs'!$Y$50/'Planting and management costs'!$AB$47,0))","v":0},{"$f":"IF('Planting and management costs'!$I$52=$B33,'Planting and management costs'!$Y$52/'Planting and management costs'!$AC$47,IF(AND(J32<>0,($B33-'Planting and management costs'!$I$52)<'Planting and management costs'!$AC$47),'Planting and management costs'!$Y$52/'Planting and management costs'!$AC$47,0))","v":0},{"$f":"IF('Planting and management costs'!$I$53=$B33,'Planting and management costs'!$Y$53/'Planting and management costs'!$AD$47,IF(AND(K32<>0,($B33-'Planting and management costs'!$I$53)<'Planting and management costs'!$AD$47),'Planting and management costs'!$Y$53/'Planting and management costs'!$AD$47,0))","v":0},{"$f":"IF('Planting and management costs'!$I$55=$B33,'Planting and management costs'!$Y$55/'Planting and management costs'!$AE$47,IF(AND(L32<>0,($B33-'Planting and management costs'!$I$55)<'Planting and management costs'!$AE$47),'Planting and management costs'!$Y$55/'Planting and management costs'!$AE$47,0))","v":0},{"$f":"IF('Planting and management costs'!$I$56=$B33,'Planting and management costs'!$Y$56/'Planting and management costs'!$AF$47,IF(AND(M32<>0,($B33-'Planting and management costs'!$I$56)<'Planting and management costs'!$AF$47),'Planting and management costs'!$Y$56/'Planting and management costs'!$AF$47,0))","v":0},{"$f":"IF('Planting and management costs'!$I$58=$B33,'Planting and management costs'!$Y$58/'Planting and management costs'!$AG$47,IF(AND(N32<>0,($B33-'Planting and management costs'!$I$58)<'Planting and management costs'!$AG$47),'Planting and management costs'!$Y$58/'Planting and management costs'!$AG$47,0))","v":0},{"$f":"IF('Planting and management costs'!$I$59=$B33,'Planting and management costs'!$Y$59/'Planting and management costs'!$AH$47,IF(AND(O32<>0,($B33-'Planting and management costs'!$I$59)<'Planting and management costs'!$AH$47),'Planting and management costs'!$Y$59/'Planting and management costs'!$AH$47,0))","v":0},{"$f":"IF('Planting and management costs'!$I$60=$B33,'Planting and management costs'!$Y$60/'Planting and management costs'!$AI$47,IF(AND(P32<>0,($B33-'Planting and management costs'!$I$60)<'Planting and management costs'!$AI$47),'Planting and management costs'!$Y$60/'Planting and management costs'!$AI$47,0))","v":0},0,0,{"$f":"IF('Cash flow'!B33='Growth characteristics'!$H$26,'Growth characteristics'!$H$29,0)","v":0},{"$f":"IF($R$9=\"USD/m3\",R33*S33,R33*S33*'Growth characteristics'!$H$32*0.001)","v":0},0,0,0,0,0,0,0,0,0,0,0,0,0,0,0,0,0,0,0,1,23,1,null,null,null,null,24,0.23,{"$f":"NPV(AV33,'Cash flow'!$U$11:$U$40)+'Cash flow'!$U$10","v":0},{"$f":"NPV(AV33,'Cash flow'!$U$54:$U$83)+'Cash flow'!$U$53","v":{"$error":"#REF!"}}]
[null,24,{"$f":"IF('Planting and management costs'!$I$36=$B34,'Planting and management costs'!$Y$36/'Planting and management costs'!$AA$35,IF(AND(C33<>0,($B34-'Planting and management costs'!$I$36)<'Planting and management costs'!$AA$35),'Planting and management costs'!$Y$36/'Planting and management costs'!$AA$35,0))","v":0},{"$f":"IF('Planting and management costs'!$I$38=$B34,'Planting and management costs'!$Y$38/'Planting and management costs'!$AB$35,IF(AND(D33<>0,($B34-'Planting and management costs'!$I$38)<'Planting and management costs'!$AB$35),'Planting and management costs'!$Y$38/'Planting and management costs'!$AB$35,0))","v":0},{"$f":"IF('Planting and management costs'!$I$39=$B34,'Planting and management costs'!$Y$39/'Planting and management costs'!$AC$35,IF(AND(E33<>0,($B34-'Planting and management costs'!$I$39)<'Planting and management costs'!$AC$35),'Planting and management costs'!$Y$39/'Planting and management costs'!$AC$35,0))","v":0},{"$f":"IF('Planting and management costs'!$I$40=$B34,'Planting and management costs'!$Y$40/'Planting and management costs'!$AD$35,IF(AND(F33<>0,($B34-'Planting and management costs'!$I$40)<'Planting and management costs'!$AD$35),'Planting and management costs'!$Y$40/'Planting and management costs'!$AD$35,0))","v":0},{"$f":"IF('Planting and management costs'!$I$41=$B34,'Planting and management costs'!$Y$41/'Planting and management costs'!$AE$35,IF(AND(G33<>0,($B34-'Planting and management costs'!$I$41)<'Planting and management costs'!$AE$35),'Planting and management costs'!$Y$41/'Planting and management costs'!$AE$35,0))","v":0},{"$f":"IF('Planting and management costs'!$I$49=$B34,'Planting and management costs'!$Y$49/'Planting and management costs'!$AA$47,IF(AND(H33<>0,($B34-'Planting and management costs'!$I$49)<'Planting and management costs'!$AA$47),'Planting and management costs'!$Y$49/'Planting and management costs'!$AA$47,0))","v":0},{"$f":"IF('Planting and management costs'!$I$50=$B34,'Planting and management costs'!$Y$50/'Planting and management costs'!$AB$47,IF(AND(I33<>0,($B34-'Planting and management costs'!$I$50)<'Planting and management costs'!$AB$47),'Planting and management costs'!$Y$50/'Planting and management costs'!$AB$47,0))","v":0},{"$f":"IF('Planting and management costs'!$I$52=$B34,'Planting and management costs'!$Y$52/'Planting and management costs'!$AC$47,IF(AND(J33<>0,($B34-'Planting and management costs'!$I$52)<'Planting and management costs'!$AC$47),'Planting and management costs'!$Y$52/'Planting and management costs'!$AC$47,0))","v":0},{"$f":"IF('Planting and management costs'!$I$53=$B34,'Planting and management costs'!$Y$53/'Planting and management costs'!$AD$47,IF(AND(K33<>0,($B34-'Planting and management costs'!$I$53)<'Planting and management costs'!$AD$47),'Planting and management costs'!$Y$53/'Planting and management costs'!$AD$47,0))","v":0},{"$f":"IF('Planting and management costs'!$I$55=$B34,'Planting and management costs'!$Y$55/'Planting and management costs'!$AE$47,IF(AND(L33<>0,($B34-'Planting and management costs'!$I$55)<'Planting and management costs'!$AE$47),'Planting and management costs'!$Y$55/'Planting and management costs'!$AE$47,0))","v":0},{"$f":"IF('Planting and management costs'!$I$56=$B34,'Planting and management costs'!$Y$56/'Planting and management costs'!$AF$47,IF(AND(M33<>0,($B34-'Planting and management costs'!$I$56)<'Planting and management costs'!$AF$47),'Planting and management costs'!$Y$56/'Planting and management costs'!$AF$47,0))","v":0},{"$f":"IF('Planting and management costs'!$I$58=$B34,'Planting and management costs'!$Y$58/'Planting and management costs'!$AG$47,IF(AND(N33<>0,($B34-'Planting and management costs'!$I$58)<'Planting and management costs'!$AG$47),'Planting and management costs'!$Y$58/'Planting and management costs'!$AG$47,0))","v":0},{"$f":"IF('Planting and management costs'!$I$59=$B34,'Planting and management costs'!$Y$59/'Planting and management costs'!$AH$47,IF(AND(O33<>0,($B34-'Planting and management costs'!$I$59)<'Planting and management costs'!$AH$47),'Planting and management costs'!$Y$59/'Planting and management costs'!$AH$47,0))","v":0},{"$f":"IF('Planting and management costs'!$I$60=$B34,'Planting and management costs'!$Y$60/'Planting and management costs'!$AI$47,IF(AND(P33<>0,($B34-'Planting and management costs'!$I$60)<'Planting and management costs'!$AI$47),'Planting and management costs'!$Y$60/'Planting and management costs'!$AI$47,0))","v":0},0,0,{"$f":"IF('Cash flow'!B34='Growth characteristics'!$H$26,'Growth characteristics'!$H$29,0)","v":0},{"$f":"IF($R$9=\"USD/m3\",R34*S34,R34*S34*'Growth characteristics'!$H$32*0.001)","v":0},0,0,0,0,0,0,0,0,0,0,0,0,0,0,0,0,0,0,0,1,24,1,null,null,null,null,25,0.24,{"$f":"NPV(AV34,'Cash flow'!$U$11:$U$40)+'Cash flow'!$U$10","v":0},{"$f":"NPV(AV34,'Cash flow'!$U$54:$U$83)+'Cash flow'!$U$53","v":{"$error":"#REF!"}}]
[null,25,{"$f":"IF('Planting and management costs'!$I$36=$B35,'Planting and management costs'!$Y$36/'Planting and management costs'!$AA$35,IF(AND(C34<>0,($B35-'Planting and management costs'!$I$36)<'Planting and management costs'!$AA$35),'Planting and management costs'!$Y$36/'Planting and management costs'!$AA$35,0))","v":0},{"$f":"IF('Planting and management costs'!$I$38=$B35,'Planting and management costs'!$Y$38/'Planting and management costs'!$AB$35,IF(AND(D34<>0,($B35-'Planting and management costs'!$I$38)<'Planting and management costs'!$AB$35),'Planting and management costs'!$Y$38/'Planting and management costs'!$AB$35,0))","v":0},{"$f":"IF('Planting and management costs'!$I$39=$B35,'Planting and management costs'!$Y$39/'Planting and management costs'!$AC$35,IF(AND(E34<>0,($B35-'Planting and management costs'!$I$39)<'Planting and management costs'!$AC$35),'Planting and management costs'!$Y$39/'Planting and management costs'!$AC$35,0))","v":0},{"$f":"IF('Planting and management costs'!$I$40=$B35,'Planting and management costs'!$Y$40/'Planting and management costs'!$AD$35,IF(AND(F34<>0,($B35-'Planting and management costs'!$I$40)<'Planting and management costs'!$AD$35),'Planting and management costs'!$Y$40/'Planting and management costs'!$AD$35,0))","v":0},{"$f":"IF('Planting and management costs'!$I$41=$B35,'Planting and management costs'!$Y$41/'Planting and management costs'!$AE$35,IF(AND(G34<>0,($B35-'Planting and management costs'!$I$41)<'Planting and management costs'!$AE$35),'Planting and management costs'!$Y$41/'Planting and management costs'!$AE$35,0))","v":0},{"$f":"IF('Planting and management costs'!$I$49=$B35,'Planting and management costs'!$Y$49/'Planting and management costs'!$AA$47,IF(AND(H34<>0,($B35-'Planting and management costs'!$I$49)<'Planting and management costs'!$AA$47),'Planting and management costs'!$Y$49/'Planting and management costs'!$AA$47,0))","v":0},{"$f":"IF('Planting and management costs'!$I$50=$B35,'Planting and management costs'!$Y$50/'Planting and management costs'!$AB$47,IF(AND(I34<>0,($B35-'Planting and management costs'!$I$50)<'Planting and management costs'!$AB$47),'Planting and management costs'!$Y$50/'Planting and management costs'!$AB$47,0))","v":0},{"$f":"IF('Planting and management costs'!$I$52=$B35,'Planting and management costs'!$Y$52/'Planting and management costs'!$AC$47,IF(AND(J34<>0,($B35-'Planting and management costs'!$I$52)<'Planting and management costs'!$AC$47),'Planting and management costs'!$Y$52/'Planting and management costs'!$AC$47,0))","v":0},{"$f":"IF('Planting and management costs'!$I$53=$B35,'Planting and management costs'!$Y$53/'Planting and management costs'!$AD$47,IF(AND(K34<>0,($B35-'Planting and management costs'!$I$53)<'Planting and management costs'!$AD$47),'Planting and management costs'!$Y$53/'Planting and management costs'!$AD$47,0))","v":0},{"$f":"IF('Planting and management costs'!$I$55=$B35,'Planting and management costs'!$Y$55/'Planting and management costs'!$AE$47,IF(AND(L34<>0,($B35-'Planting and management costs'!$I$55)<'Planting and management costs'!$AE$47),'Planting and management costs'!$Y$55/'Planting and management costs'!$AE$47,0))","v":0},{"$f":"IF('Planting and management costs'!$I$56=$B35,'Planting and management costs'!$Y$56/'Planting and management costs'!$AF$47,IF(AND(M34<>0,($B35-'Planting and management costs'!$I$56)<'Planting and management costs'!$AF$47),'Planting and management costs'!$Y$56/'Planting and management costs'!$AF$47,0))","v":0},{"$f":"IF('Planting and management costs'!$I$58=$B35,'Planting and management costs'!$Y$58/'Planting and management costs'!$AG$47,IF(AND(N34<>0,($B35-'Planting and management costs'!$I$58)<'Planting and management costs'!$AG$47),'Planting and management costs'!$Y$58/'Planting and management costs'!$AG$47,0))","v":0},{"$f":"IF('Planting and management costs'!$I$59=$B35,'Planting and management costs'!$Y$59/'Planting and management costs'!$AH$47,IF(AND(O34<>0,($B35-'Planting and management costs'!$I$59)<'Planting and management costs'!$AH$47),'Planting and management costs'!$Y$59/'Planting and management costs'!$AH$47,0))","v":0},{"$f":"IF('Planting and management costs'!$I$60=$B35,'Planting and management costs'!$Y$60/'Planting and management costs'!$AI$47,IF(AND(P34<>0,($B35-'Planting and management costs'!$I$60)<'Planting and management costs'!$AI$47),'Planting and management costs'!$Y$60/'Planting and management costs'!$AI$47,0))","v":0},0,0,{"$f":"IF('Cash flow'!B35='Growth characteristics'!$H$26,'Growth characteristics'!$H$29,0)","v":0},{"$f":"IF($R$9=\"USD/m3\",R35*S35,R35*S35*'Growth characteristics'!$H$32*0.001)","v":0},0,0,0,0,0,0,0,0,0,0,0,0,0,0,0,0,0,0,0,1,25,1,null,null,null,null,26,0.25,{"$f":"NPV(AV35,'Cash flow'!$U$11:$U$40)+'Cash flow'!$U$10","v":0},{"$f":"NPV(AV35,'Cash flow'!$U$54:$U$83)+'Cash flow'!$U$53","v":{"$error":"#REF!"}}]
[null,26,{"$f":"IF('Planting and management costs'!$I$36=$B36,'Planting and management costs'!$Y$36/'Planting and management costs'!$AA$35,IF(AND(C35<>0,($B36-'Planting and management costs'!$I$36)<'Planting and management costs'!$AA$35),'Planting and management costs'!$Y$36/'Planting and management costs'!$AA$35,0))","v":0},{"$f":"IF('Planting and management costs'!$I$38=$B36,'Planting and management costs'!$Y$38/'Planting and management costs'!$AB$35,IF(AND(D35<>0,($B36-'Planting and management costs'!$I$38)<'Planting and management costs'!$AB$35),'Planting and management costs'!$Y$38/'Planting and management costs'!$AB$35,0))","v":0},{"$f":"IF('Planting and management costs'!$I$39=$B36,'Planting and management costs'!$Y$39/'Planting and management costs'!$AC$35,IF(AND(E35<>0,($B36-'Planting and management costs'!$I$39)<'Planting and management costs'!$AC$35),'Planting and management costs'!$Y$39/'Planting and management costs'!$AC$35,0))","v":0},{"$f":"IF('Planting and management costs'!$I$40=$B36,'Planting and management costs'!$Y$40/'Planting and management costs'!$AD$35,IF(AND(F35<>0,($B36-'Planting and management costs'!$I$40)<'Planting and management costs'!$AD$35),'Planting and management costs'!$Y$40/'Planting and management costs'!$AD$35,0))","v":0},{"$f":"IF('Planting and management costs'!$I$41=$B36,'Planting and management costs'!$Y$41/'Planting and management costs'!$AE$35,IF(AND(G35<>0,($B36-'Planting and management costs'!$I$41)<'Planting and management costs'!$AE$35),'Planting and management costs'!$Y$41/'Planting and management costs'!$AE$35,0))","v":0},{"$f":"IF('Planting and management costs'!$I$49=$B36,'Planting and management costs'!$Y$49/'Planting and management costs'!$AA$47,IF(AND(H35<>0,($B36-'Planting and management costs'!$I$49)<'Planting and management costs'!$AA$47),'Planting and management costs'!$Y$49/'Planting and management costs'!$AA$47,0))","v":0},{"$f":"IF('Planting and management costs'!$I$50=$B36,'Planting and management costs'!$Y$50/'Planting and management costs'!$AB$47,IF(AND(I35<>0,($B36-'Planting and management costs'!$I$50)<'Planting and management costs'!$AB$47),'Planting and management costs'!$Y$50/'Planting and management costs'!$AB$47,0))","v":0},{"$f":"IF('Planting and management costs'!$I$52=$B36,'Planting and management costs'!$Y$52/'Planting and management costs'!$AC$47,IF(AND(J35<>0,($B36-'Planting and management costs'!$I$52)<'Planting and management costs'!$AC$47),'Planting and management costs'!$Y$52/'Planting and management costs'!$AC$47,0))","v":0},{"$f":"IF('Planting and management costs'!$I$53=$B36,'Planting and management costs'!$Y$53/'Planting and management costs'!$AD$47,IF(AND(K35<>0,($B36-'Planting and management costs'!$I$53)<'Planting and management costs'!$AD$47),'Planting and management costs'!$Y$53/'Planting and management costs'!$AD$47,0))","v":0},{"$f":"IF('Planting and management costs'!$I$55=$B36,'Planting and management costs'!$Y$55/'Planting and management costs'!$AE$47,IF(AND(L35<>0,($B36-'Planting and management costs'!$I$55)<'Planting and management costs'!$AE$47),'Planting and management costs'!$Y$55/'Planting and management costs'!$AE$47,0))","v":0},{"$f":"IF('Planting and management costs'!$I$56=$B36,'Planting and management costs'!$Y$56/'Planting and management costs'!$AF$47,IF(AND(M35<>0,($B36-'Planting and management costs'!$I$56)<'Planting and management costs'!$AF$47),'Planting and management costs'!$Y$56/'Planting and management costs'!$AF$47,0))","v":0},{"$f":"IF('Planting and management costs'!$I$58=$B36,'Planting and management costs'!$Y$58/'Planting and management costs'!$AG$47,IF(AND(N35<>0,($B36-'Planting and management costs'!$I$58)<'Planting and management costs'!$AG$47),'Planting and management costs'!$Y$58/'Planting and management costs'!$AG$47,0))","v":0},{"$f":"IF('Planting and management costs'!$I$59=$B36,'Planting and management costs'!$Y$59/'Planting and management costs'!$AH$47,IF(AND(O35<>0,($B36-'Planting and management costs'!$I$59)<'Planting and management costs'!$AH$47),'Planting and management costs'!$Y$59/'Planting and management costs'!$AH$47,0))","v":0},{"$f":"IF('Planting and management costs'!$I$60=$B36,'Planting and management costs'!$Y$60/'Planting and management costs'!$AI$47,IF(AND(P35<>0,($B36-'Planting and management costs'!$I$60)<'Planting and management costs'!$AI$47),'Planting and management costs'!$Y$60/'Planting and management costs'!$AI$47,0))","v":0},0,0,{"$f":"IF('Cash flow'!B36='Growth characteristics'!$H$26,'Growth characteristics'!$H$29,0)","v":0},{"$f":"IF($R$9=\"USD/m3\",R36*S36,R36*S36*'Growth characteristics'!$H$32*0.001)","v":0},0,0,0,0,0,0,0,0,0,0,0,0,0,0,0,0,0,0,0,1,26,1,null,null,null,null,27,0.26,{"$f":"NPV(AV36,'Cash flow'!$U$11:$U$40)+'Cash flow'!$U$10","v":0},{"$f":"NPV(AV36,'Cash flow'!$U$54:$U$83)+'Cash flow'!$U$53","v":{"$error":"#REF!"}}]
[null,27,{"$f":"IF('Planting and management costs'!$I$36=$B37,'Planting and management costs'!$Y$36/'Planting and management costs'!$AA$35,IF(AND(C36<>0,($B37-'Planting and management costs'!$I$36)<'Planting and management costs'!$AA$35),'Planting and management costs'!$Y$36/'Planting and management costs'!$AA$35,0))","v":0},{"$f":"IF('Planting and management costs'!$I$38=$B37,'Planting and management costs'!$Y$38/'Planting and management costs'!$AB$35,IF(AND(D36<>0,($B37-'Planting and management costs'!$I$38)<'Planting and management costs'!$AB$35),'Planting and management costs'!$Y$38/'Planting and management costs'!$AB$35,0))","v":0},{"$f":"IF('Planting and management costs'!$I$39=$B37,'Planting and management costs'!$Y$39/'Planting and management costs'!$AC$35,IF(AND(E36<>0,($B37-'Planting and management costs'!$I$39)<'Planting and management costs'!$AC$35),'Planting and management costs'!$Y$39/'Planting and management costs'!$AC$35,0))","v":0},{"$f":"IF('Planting and management costs'!$I$40=$B37,'Planting and management costs'!$Y$40/'Planting and management costs'!$AD$35,IF(AND(F36<>0,($B37-'Planting and management costs'!$I$40)<'Planting and management costs'!$AD$35),'Planting and management costs'!$Y$40/'Planting and management costs'!$AD$35,0))","v":0},{"$f":"IF('Planting and management costs'!$I$41=$B37,'Planting and management costs'!$Y$41/'Planting and management costs'!$AE$35,IF(AND(G36<>0,($B37-'Planting and management costs'!$I$41)<'Planting and management costs'!$AE$35),'Planting and management costs'!$Y$41/'Planting and management costs'!$AE$35,0))","v":0},{"$f":"IF('Planting and management costs'!$I$49=$B37,'Planting and management costs'!$Y$49/'Planting and management costs'!$AA$47,IF(AND(H36<>0,($B37-'Planting and management costs'!$I$49)<'Planting and management costs'!$AA$47),'Planting and management costs'!$Y$49/'Planting and management costs'!$AA$47,0))","v":0},{"$f":"IF('Planting and management costs'!$I$50=$B37,'Planting and management costs'!$Y$50/'Planting and management costs'!$AB$47,IF(AND(I36<>0,($B37-'Planting and management costs'!$I$50)<'Planting and management costs'!$AB$47),'Planting and management costs'!$Y$50/'Planting and management costs'!$AB$47,0))","v":0},{"$f":"IF('Planting and management costs'!$I$52=$B37,'Planting and management costs'!$Y$52/'Planting and management costs'!$AC$47,IF(AND(J36<>0,($B37-'Planting and management costs'!$I$52)<'Planting and management costs'!$AC$47),'Planting and management costs'!$Y$52/'Planting and management costs'!$AC$47,0))","v":0},{"$f":"IF('Planting and management costs'!$I$53=$B37,'Planting and management costs'!$Y$53/'Planting and management costs'!$AD$47,IF(AND(K36<>0,($B37-'Planting and management costs'!$I$53)<'Planting and management costs'!$AD$47),'Planting and management costs'!$Y$53/'Planting and management costs'!$AD$47,0))","v":0},{"$f":"IF('Planting and management costs'!$I$55=$B37,'Planting and management costs'!$Y$55/'Planting and management costs'!$AE$47,IF(AND(L36<>0,($B37-'Planting and management costs'!$I$55)<'Planting and management costs'!$AE$47),'Planting and management costs'!$Y$55/'Planting and management costs'!$AE$47,0))","v":0},{"$f":"IF('Planting and management costs'!$I$56=$B37,'Planting and management costs'!$Y$56/'Planting and management costs'!$AF$47,IF(AND(M36<>0,($B37-'Planting and management costs'!$I$56)<'Planting and management costs'!$AF$47),'Planting and management costs'!$Y$56/'Planting and management costs'!$AF$47,0))","v":0},{"$f":"IF('Planting and management costs'!$I$58=$B37,'Planting and management costs'!$Y$58/'Planting and management costs'!$AG$47,IF(AND(N36<>0,($B37-'Planting and management costs'!$I$58)<'Planting and management costs'!$AG$47),'Planting and management costs'!$Y$58/'Planting and management costs'!$AG$47,0))","v":0},{"$f":"IF('Planting and management costs'!$I$59=$B37,'Planting and management costs'!$Y$59/'Planting and management costs'!$AH$47,IF(AND(O36<>0,($B37-'Planting and management costs'!$I$59)<'Planting and management costs'!$AH$47),'Planting and management costs'!$Y$59/'Planting and management costs'!$AH$47,0))","v":0},{"$f":"IF('Planting and management costs'!$I$60=$B37,'Planting and management costs'!$Y$60/'Planting and management costs'!$AI$47,IF(AND(P36<>0,($B37-'Planting and management costs'!$I$60)<'Planting and management costs'!$AI$47),'Planting and management costs'!$Y$60/'Planting and management costs'!$AI$47,0))","v":0},0,0,{"$f":"IF('Cash flow'!B37='Growth characteristics'!$H$26,'Growth characteristics'!$H$29,0)","v":0},{"$f":"IF($R$9=\"USD/m3\",R37*S37,R37*S37*'Growth characteristics'!$H$32*0.001)","v":0},0,0,0,0,0,0,0,0,0,0,0,0,0,0,0,0,0,0,0,1,27,1,null,null,null,null,28,0.27,{"$f":"NPV(AV37,'Cash flow'!$U$11:$U$40)+'Cash flow'!$U$10","v":0},{"$f":"NPV(AV37,'Cash flow'!$U$54:$U$83)+'Cash flow'!$U$53","v":{"$error":"#REF!"}}]
[null,28,{"$f":"IF('Planting and management costs'!$I$36=$B38,'Planting and management costs'!$Y$36/'Planting and management costs'!$AA$35,IF(AND(C37<>0,($B38-'Planting and management costs'!$I$36)<'Planting and management costs'!$AA$35),'Planting and management costs'!$Y$36/'Planting and management costs'!$AA$35,0))","v":0},{"$f":"IF('Planting and management costs'!$I$38=$B38,'Planting and management costs'!$Y$38/'Planting and management costs'!$AB$35,IF(AND(D37<>0,($B38-'Planting and management costs'!$I$38)<'Planting and management costs'!$AB$35),'Planting and management costs'!$Y$38/'Planting and management costs'!$AB$35,0))","v":0},{"$f":"IF('Planting and management costs'!$I$39=$B38,'Planting and management costs'!$Y$39/'Planting and management costs'!$AC$35,IF(AND(E37<>0,($B38-'Planting and management costs'!$I$39)<'Planting and management costs'!$AC$35),'Planting and management costs'!$Y$39/'Planting and management costs'!$AC$35,0))","v":0},{"$f":"IF('Planting and management costs'!$I$40=$B38,'Planting and management costs'!$Y$40/'Planting and management costs'!$AD$35,IF(AND(F37<>0,($B38-'Planting and management costs'!$I$40)<'Planting and management costs'!$AD$35),'Planting and management costs'!$Y$40/'Planting and management costs'!$AD$35,0))","v":0},{"$f":"IF('Planting and management costs'!$I$41=$B38,'Planting and management costs'!$Y$41/'Planting and management costs'!$AE$35,IF(AND(G37<>0,($B38-'Planting and management costs'!$I$41)<'Planting and management costs'!$AE$35),'Planting and management costs'!$Y$41/'Planting and management costs'!$AE$35,0))","v":0},{"$f":"IF('Planting and management costs'!$I$49=$B38,'Planting and management costs'!$Y$49/'Planting and management costs'!$AA$47,IF(AND(H37<>0,($B38-'Planting and management costs'!$I$49)<'Planting and management costs'!$AA$47),'Planting and management costs'!$Y$49/'Planting and management costs'!$AA$47,0))","v":0},{"$f":"IF('Planting and management costs'!$I$50=$B38,'Planting and management costs'!$Y$50/'Planting and management costs'!$AB$47,IF(AND(I37<>0,($B38-'Planting and management costs'!$I$50)<'Planting and management costs'!$AB$47),'Planting and management costs'!$Y$50/'Planting and management costs'!$AB$47,0))","v":0},{"$f":"IF('Planting and management costs'!$I$52=$B38,'Planting and management costs'!$Y$52/'Planting and management costs'!$AC$47,IF(AND(J37<>0,($B38-'Planting and management costs'!$I$52)<'Planting and management costs'!$AC$47),'Planting and management costs'!$Y$52/'Planting and management costs'!$AC$47,0))","v":0},{"$f":"IF('Planting and management costs'!$I$53=$B38,'Planting and management costs'!$Y$53/'Planting and management costs'!$AD$47,IF(AND(K37<>0,($B38-'Planting and management costs'!$I$53)<'Planting and management costs'!$AD$47),'Planting and management costs'!$Y$53/'Planting and management costs'!$AD$47,0))","v":0},{"$f":"IF('Planting and management costs'!$I$55=$B38,'Planting and management costs'!$Y$55/'Planting and management costs'!$AE$47,IF(AND(L37<>0,($B38-'Planting and management costs'!$I$55)<'Planting and management costs'!$AE$47),'Planting and management costs'!$Y$55/'Planting and management costs'!$AE$47,0))","v":0},{"$f":"IF('Planting and management costs'!$I$56=$B38,'Planting and management costs'!$Y$56/'Planting and management costs'!$AF$47,IF(AND(M37<>0,($B38-'Planting and management costs'!$I$56)<'Planting and management costs'!$AF$47),'Planting and management costs'!$Y$56/'Planting and management costs'!$AF$47,0))","v":0},{"$f":"IF('Planting and management costs'!$I$58=$B38,'Planting and management costs'!$Y$58/'Planting and management costs'!$AG$47,IF(AND(N37<>0,($B38-'Planting and management costs'!$I$58)<'Planting and management costs'!$AG$47),'Planting and management costs'!$Y$58/'Planting and management costs'!$AG$47,0))","v":0},{"$f":"IF('Planting and management costs'!$I$59=$B38,'Planting and management costs'!$Y$59/'Planting and management costs'!$AH$47,IF(AND(O37<>0,($B38-'Planting and management costs'!$I$59)<'Planting and management costs'!$AH$47),'Planting and management costs'!$Y$59/'Planting and management costs'!$AH$47,0))","v":0},{"$f":"IF('Planting and management costs'!$I$60=$B38,'Planting and management costs'!$Y$60/'Planting and management costs'!$AI$47,IF(AND(P37<>0,($B38-'Planting and management costs'!$I$60)<'Planting and management costs'!$AI$47),'Planting and management costs'!$Y$60/'Planting and management costs'!$AI$47,0))","v":0},0,0,{"$f":"IF('Cash flow'!B38='Growth characteristics'!$H$26,'Growth characteristics'!$H$29,0)","v":0},{"$f":"IF($R$9=\"USD/m3\",R38*S38,R38*S38*'Growth characteristics'!$H$32*0.001)","v":0},0,0,0,0,0,0,0,0,0,0,0,0,0,0,0,0,0,0,0,1,28,1,null,null,null,null,29,0.28000000000000003,{"$f":"NPV(AV38,'Cash flow'!$U$11:$U$40)+'Cash flow'!$U$10","v":0},{"$f":"NPV(AV38,'Cash flow'!$U$54:$U$83)+'Cash flow'!$U$53","v":{"$error":"#REF!"}}]
[null,29,{"$f":"IF('Planting and management costs'!$I$36=$B39,'Planting and management costs'!$Y$36/'Planting and management costs'!$AA$35,IF(AND(C38<>0,($B39-'Planting and management costs'!$I$36)<'Planting and management costs'!$AA$35),'Planting and management costs'!$Y$36/'Planting and management costs'!$AA$35,0))","v":0},{"$f":"IF('Planting and management costs'!$I$38=$B39,'Planting and management costs'!$Y$38/'Planting and management costs'!$AB$35,IF(AND(D38<>0,($B39-'Planting and management costs'!$I$38)<'Planting and management costs'!$AB$35),'Planting and management costs'!$Y$38/'Planting and management costs'!$AB$35,0))","v":0},{"$f":"IF('Planting and management costs'!$I$39=$B39,'Planting and management costs'!$Y$39/'Planting and management costs'!$AC$35,IF(AND(E38<>0,($B39-'Planting and management costs'!$I$39)<'Planting and management costs'!$AC$35),'Planting and management costs'!$Y$39/'Planting and management costs'!$AC$35,0))","v":0},{"$f":"IF('Planting and management costs'!$I$40=$B39,'Planting and management costs'!$Y$40/'Planting and management costs'!$AD$35,IF(AND(F38<>0,($B39-'Planting and management costs'!$I$40)<'Planting and management costs'!$AD$35),'Planting and management costs'!$Y$40/'Planting and management costs'!$AD$35,0))","v":0},{"$f":"IF('Planting and management costs'!$I$41=$B39,'Planting and management costs'!$Y$41/'Planting and management costs'!$AE$35,IF(AND(G38<>0,($B39-'Planting and management costs'!$I$41)<'Planting and management costs'!$AE$35),'Planting and management costs'!$Y$41/'Planting and management costs'!$AE$35,0))","v":0},{"$f":"IF('Planting and management costs'!$I$49=$B39,'Planting and management costs'!$Y$49/'Planting and management costs'!$AA$47,IF(AND(H38<>0,($B39-'Planting and management costs'!$I$49)<'Planting and management costs'!$AA$47),'Planting and management costs'!$Y$49/'Planting and management costs'!$AA$47,0))","v":0},{"$f":"IF('Planting and management costs'!$I$50=$B39,'Planting and management costs'!$Y$50/'Planting and management costs'!$AB$47,IF(AND(I38<>0,($B39-'Planting and management costs'!$I$50)<'Planting and management costs'!$AB$47),'Planting and management costs'!$Y$50/'Planting and management costs'!$AB$47,0))","v":0},{"$f":"IF('Planting and management costs'!$I$52=$B39,'Planting and management costs'!$Y$52/'Planting and management costs'!$AC$47,IF(AND(J38<>0,($B39-'Planting and management costs'!$I$52)<'Planting and management costs'!$AC$47),'Planting and management costs'!$Y$52/'Planting and management costs'!$AC$47,0))","v":0},{"$f":"IF('Planting and management costs'!$I$53=$B39,'Planting and management costs'!$Y$53/'Planting and management costs'!$AD$47,IF(AND(K38<>0,($B39-'Planting and management costs'!$I$53)<'Planting and management costs'!$AD$47),'Planting and management costs'!$Y$53/'Planting and management costs'!$AD$47,0))","v":0},{"$f":"IF('Planting and management costs'!$I$55=$B39,'Planting and management costs'!$Y$55/'Planting and management costs'!$AE$47,IF(AND(L38<>0,($B39-'Planting and management costs'!$I$55)<'Planting and management costs'!$AE$47),'Planting and management costs'!$Y$55/'Planting and management costs'!$AE$47,0))","v":0},{"$f":"IF('Planting and management costs'!$I$56=$B39,'Planting and management costs'!$Y$56/'Planting and management costs'!$AF$47,IF(AND(M38<>0,($B39-'Planting and management costs'!$I$56)<'Planting and management costs'!$AF$47),'Planting and management costs'!$Y$56/'Planting and management costs'!$AF$47,0))","v":0},{"$f":"IF('Planting and management costs'!$I$58=$B39,'Planting and management costs'!$Y$58/'Planting and management costs'!$AG$47,IF(AND(N38<>0,($B39-'Planting and management costs'!$I$58)<'Planting and management costs'!$AG$47),'Planting and management costs'!$Y$58/'Planting and management costs'!$AG$47,0))","v":0},{"$f":"IF('Planting and management costs'!$I$59=$B39,'Planting and management costs'!$Y$59/'Planting and management costs'!$AH$47,IF(AND(O38<>0,($B39-'Planting and management costs'!$I$59)<'Planting and management costs'!$AH$47),'Planting and management costs'!$Y$59/'Planting and management costs'!$AH$47,0))","v":0},{"$f":"IF('Planting and management costs'!$I$60=$B39,'Planting and management costs'!$Y$60/'Planting and management costs'!$AI$47,IF(AND(P38<>0,($B39-'Planting and management costs'!$I$60)<'Planting and management costs'!$AI$47),'Planting and management costs'!$Y$60/'Planting and management costs'!$AI$47,0))","v":0},0,0,{"$f":"IF('Cash flow'!B39='Growth characteristics'!$H$26,'Growth characteristics'!$H$29,0)","v":0},{"$f":"IF($R$9=\"USD/m3\",R39*S39,R39*S39*'Growth characteristics'!$H$32*0.001)","v":0},0,0,0,0,0,0,0,0,0,0,0,0,0,0,0,0,0,0,0,1,29,1,null,null,null,null,30,0.28999999999999998,{"$f":"NPV(AV39,'Cash flow'!$U$11:$U$40)+'Cash flow'!$U$10","v":0},{"$f":"NPV(AV39,'Cash flow'!$U$54:$U$83)+'Cash flow'!$U$53","v":{"$error":"#REF!"}}]
[null,30,{"$f":"IF('Planting and management costs'!$I$36=$B40,'Planting and management costs'!$Y$36/'Planting and management costs'!$AA$35,IF(AND(C39<>0,($B40-'Planting and management costs'!$I$36)<'Planting and management costs'!$AA$35),'Planting and management costs'!$Y$36/'Planting and management costs'!$AA$35,0))","v":0},{"$f":"IF('Planting and management costs'!$I$38=$B40,'Planting and management costs'!$Y$38/'Planting and management costs'!$AB$35,IF(AND(D39<>0,($B40-'Planting and management costs'!$I$38)<'Planting and management costs'!$AB$35),'Planting and management costs'!$Y$38/'Planting and management costs'!$AB$35,0))","v":0},{"$f":"IF('Planting and management costs'!$I$39=$B40,'Planting and management costs'!$Y$39/'Planting and management costs'!$AC$35,IF(AND(E39<>0,($B40-'Planting and management costs'!$I$39)<'Planting and management costs'!$AC$35),'Planting and management costs'!$Y$39/'Planting and management costs'!$AC$35,0))","v":0},{"$f":"IF('Planting and management costs'!$I$40=$B40,'Planting and management costs'!$Y$40/'Planting and management costs'!$AD$35,IF(AND(F39<>0,($B40-'Planting and management costs'!$I$40)<'Planting and management costs'!$AD$35),'Planting and management costs'!$Y$40/'Planting and management costs'!$AD$35,0))","v":0},{"$f":"IF('Planting and management costs'!$I$41=$B40,'Planting and management costs'!$Y$41/'Planting and management costs'!$AE$35,IF(AND(G39<>0,($B40-'Planting and management costs'!$I$41)<'Planting and management costs'!$AE$35),'Planting and management costs'!$Y$41/'Planting and management costs'!$AE$35,0))","v":0},{"$f":"IF('Planting and management costs'!$I$49=$B40,'Planting and management costs'!$Y$49/'Planting and management costs'!$AA$47,IF(AND(H39<>0,($B40-'Planting and management costs'!$I$49)<'Planting and management costs'!$AA$47),'Planting and management costs'!$Y$49/'Planting and management costs'!$AA$47,0))","v":0},{"$f":"IF('Planting and management costs'!$I$50=$B40,'Planting and management costs'!$Y$50/'Planting and management costs'!$AB$47,IF(AND(I39<>0,($B40-'Planting and management costs'!$I$50)<'Planting and management costs'!$AB$47),'Planting and management costs'!$Y$50/'Planting and management costs'!$AB$47,0))","v":0},{"$f":"IF('Planting and management costs'!$I$52=$B40,'Planting and management costs'!$Y$52/'Planting and management costs'!$AC$47,IF(AND(J39<>0,($B40-'Planting and management costs'!$I$52)<'Planting and management costs'!$AC$47),'Planting and management costs'!$Y$52/'Planting and management costs'!$AC$47,0))","v":0},{"$f":"IF('Planting and management costs'!$I$53=$B40,'Planting and management costs'!$Y$53/'Planting and management costs'!$AD$47,IF(AND(K39<>0,($B40-'Planting and management costs'!$I$53)<'Planting and management costs'!$AD$47),'Planting and management costs'!$Y$53/'Planting and management costs'!$AD$47,0))","v":0},{"$f":"IF('Planting and management costs'!$I$55=$B40,'Planting and management costs'!$Y$55/'Planting and management costs'!$AE$47,IF(AND(L39<>0,($B40-'Planting and management costs'!$I$55)<'Planting and management costs'!$AE$47),'Planting and management costs'!$Y$55/'Planting and management costs'!$AE$47,0))","v":0},{"$f":"IF('Planting and management costs'!$I$56=$B40,'Planting and management costs'!$Y$56/'Planting and management costs'!$AF$47,IF(AND(M39<>0,($B40-'Planting and management costs'!$I$56)<'Planting and management costs'!$AF$47),'Planting and management costs'!$Y$56/'Planting and management costs'!$AF$47,0))","v":0},{"$f":"IF('Planting and management costs'!$I$58=$B40,'Planting and management costs'!$Y$58/'Planting and management costs'!$AG$47,IF(AND(N39<>0,($B40-'Planting and management costs'!$I$58)<'Planting and management costs'!$AG$47),'Planting and management costs'!$Y$58/'Planting and management costs'!$AG$47,0))","v":0},{"$f":"IF('Planting and management costs'!$I$59=$B40,'Planting and management costs'!$Y$59/'Planting and management costs'!$AH$47,IF(AND(O39<>0,($B40-'Planting and management costs'!$I$59)<'Planting and management costs'!$AH$47),'Planting and management costs'!$Y$59/'Planting and management costs'!$AH$47,0))","v":0},{"$f":"IF('Planting and management costs'!$I$60=$B40,'Planting and management costs'!$Y$60/'Planting and management costs'!$AI$47,IF(AND(P39<>0,($B40-'Planting and management costs'!$I$60)<'Planting and management costs'!$AI$47),'Planting and management costs'!$Y$60/'Planting and management costs'!$AI$47,0))","v":0},0,0,{"$f":"IF('Cash flow'!B40='Growth characteristics'!$H$26,'Growth characteristics'!$H$29,0)","v":0},{"$f":"IF($R$9=\"USD/m3\",R40*S40,R40*S40*'Growth characteristics'!$H$32*0.001)","v":0},0,0,0,0,0,0,0,0,0,0,0,0,0,0,0,0,0,0,{"$f":"U40/AP40","v":0},1,30,1,null,null,null,null,31,0.3,{"$f":"NPV(AV40,'Cash flow'!$U$11:$U$40)+'Cash flow'!$U$10","v":0},{"$f":"NPV(AV40,'Cash flow'!$U$54:$U$83)+'Cash flow'!$U$53","v":{"$error":"#REF!"}}]
[null,"TOTAL",{"$f":"SUM(C10:C40)","v":0},{"$f":"SUM(D10:D40)","v":0},{"$f":"SUM(E10:E40)","v":0},0,{"$f":"SUM(G10:G40)","v":0},0,0,0,0,0,0,0,0,{"$f":"SUM(P10:P40)","v":0},{"$f":"SUM(Q10:Q40)","v":0},null,{"$f":"SUM(S10:S40)","v":0},{"$f":"SUM(T10:T40)","v":0},{"$f":"SUM(U10:U40)","v":0},{"$f":"SUM(V10:V40)","v":0},{"$f":"SUM(W10:W40)","v":0},{"$f":"SUM(X10:X40)","v":0},0,0,0,0,0,0,0,0,0,0,{"$f":"SUM(AI10:AI40)","v":0},{"$f":"SUM(AJ10:AJ40)","v":0},{"$f":"SUM(AK10:AK40)","v":0},null,null,null,null,null,null,null,null,null,32,0.31,{"$f":"NPV(AV41,'Cash flow'!$U$11:$U$40)+'Cash flow'!$U$10","v":0},{"$f":"NPV(AV41,'Cash flow'!$U$54:$U$83)+'Cash flow'!$U$53","v":{"$error":"#REF!"}}]
[null,null,null,null,null,null,null,null,null,null,null,null,null,null,null,null,null,null,null,null,null,null,null,null,null,null,null,null,null,null,null,null,null,null,null,null,null,null,null,null,null,null,null,null,null,null,33,0.32,{"$f":"NPV(AV42,'Cash flow'!$U$11:$U$40)+'Cash flow'!$U$10","v":0},{"$f":"NPV(AV42,'Cash flow'!$U$54:$U$83)+'Cash flow'!$U$53","v":{"$error":"#REF!"}}]
[null,null,null,null,null,null,null,null,null,null,null,null,null,null,null,null,null,null,null,null,null,null,null,null,null,null,null,null,null,null,null,null,null,"Net Present Value (USD)",null,null,{"$f":"SUM(AL10:AL40)","v":0},null,null,null,null,null,null,null,null,null,34,0.33,{"$f":"NPV(AV43,'Cash flow'!$U$11:$U$40)+'Cash flow'!$U$10","v":0},{"$f":"NPV(AV43,'Cash flow'!$U$54:$U$83)+'Cash flow'!$U$53","v":{"$error":"#REF!"}}]
[null,null,null,null,null,null,null,null,null,null,null,null,null,null,null,null,null,null,null,null,null,null,null,null,null,null,null,null,null,null,null,null,null,"Internal Rate of Return (%)",null,null,{"$f":"IF(AK43<0,\"Not feasible\",IRR(U10:U40,0.000001))","v":{"$error":"#NUM!"}},null,null,null,null,null,null,null,null,null,35,0.34,{"$f":"NPV(AV44,'Cash flow'!$U$11:$U$40)+'Cash flow'!$U$10","v":0},{"$f":"NPV(AV44,'Cash flow'!$U$54:$U$83)+'Cash flow'!$U$53","v":{"$error":"#REF!"}}]
[null,null,null,null,null,null,null,null,null,null,null,null,null,null,null,null,null,null,null,null,null,null,null,null,null,null,null,null,null,null,null,null,null,null,null,null,null,null,null,null,null,null,null,null,null,null,36,0.35,{"$f":"NPV(AV45,'Cash flow'!$U$11:$U$40)+'Cash flow'!$U$10","v":0},{"$f":"NPV(AV45,'Cash flow'!$U$54:$U$83)+'Cash flow'!$U$53","v":{"$error":"#REF!"}}]
[null,null,null,null,null,null,null,null,null,null,null,null,null,null,null,null,null,null,null,null,null,null,null,null,null,null,null,null,null,null,null,null,null,null,null,null,null,null,null,null,null,null,null,null,null,null,37,0.36,{"$f":"NPV(AV46,'Cash flow'!$U$11:$U$40)+'Cash flow'!$U$10","v":0},{"$f":"NPV(AV46,'Cash flow'!$U$54:$U$83)+'Cash flow'!$U$53","v":{"$error":"#REF!"}}]
[null,null,null,null,null,null,null,null,null,null,null,null,null,null,null,null,null,null,null,null,null,null,null,null,null,null,null,null,null,null,null,null,null,null,null,null,null,null,null,null,null,null,null,null,null,null,38,0.37,{"$f":"NPV(AV47,'Cash flow'!$U$11:$U$40)+'Cash flow'!$U$10","v":0},{"$f":"NPV(AV47,'Cash flow'!$U$54:$U$83)+'Cash flow'!$U$53","v":{"$error":"#REF!"}}]
[null,null,null,null,null,null,null,null,null,null,null,null,null,null,null,null,{"$f":"title174& \" (i):\"","v":"Discount rate (i):"},null,{"$f":"'Planting and management costs'!$J$17","v":0},null,null,null,null,null,null,null,null,null,null,null,null,null,null,null,null,null,null,null,null,null,null,null,null,null,null,null,39,0.38,{"$f":"NPV(AV48,'Cash flow'!$U$11:$U$40)+'Cash flow'!$U$10","v":0},{"$f":"NPV(AV48,'Cash flow'!$U$54:$U$83)+'Cash flow'!$U$53","v":{"$error":"#REF!"}}]
[null,null,null,null,null,null,null,null,null,null,null,null,null,null,null,null,"Price",null,{"$f":"'Growth characteristics'!J35","v":0},null,null,null,null,null,null,null,null,null,null,null,null,null,null,null,null,null,null,null,null,null,null,null,null,null,null,null,40,0.39,{"$f":"NPV(AV49,'Cash flow'!$U$11:$U$40)+'Cash flow'!$U$10","v":0},{"$f":"NPV(AV49,'Cash flow'!$U$54:$U$83)+'Cash flow'!$U$53","v":{"$error":"#REF!"}}]
[null,"Species 1 selected (default value):",null,null,{"$f":"'Planting and management costs'!F28","v":"Select species"},null,"Management system selected:",null,"FR",null,null,null,null,null,null,null,null,null,null,null,null,null,null,null,null,null,null,null,null,null,null,null,null,null,null,null,null,null,null,null,null,null,null,null,null,null,41,0.4,{"$f":"NPV(AV50,'Cash flow'!$U$11:$U$40)+'Cash flow'!$U$10","v":0},{"$f":"NPV(AV50,'Cash flow'!$U$54:$U$83)+'Cash flow'!$U$53","v":{"$error":"#REF!"}}]
[null,null,{"$f":"title188","v":"Seedling"},{"$f":"title190","v":" - Nitrogen"},{"$f":"title191","v":" - Phosphorus "},{"$f":"title192","v":" - Potassium "},null,{"$f":"title199&title200","v":"Land clearing and planting - Manual"},{"$f":"title199&title201","v":"Land clearing and planting - Machinery"},{"$f":"title202&title200","v":"Application of fertilizers - Manual"},{"$f":"title202&title201","v":"Application of fertilizers - Machinery"},{"$f":"title203&title200","v":"Application of other agrochemicals - Manual"},{"$f":"title203&title201","v":"Application of other agrochemicals - Machinery"},{"$f":"title204&title200","v":"Harvesting - Manual"},{"$f":"title204&title201","v":"Harvesting - Machinery"},null,"Annual current costs","Price","Quantity","Annual current revenue","Current Cash Flow - before tax",{"$f":"title188","v":"Seedling"},{"$f":"title190","v":" - Nitrogen"},{"$f":"title191","v":" - Phosphorus "},{"$f":"title192","v":" - Potassium "},null,{"$f":"title199&title200","v":"Land clearing and planting - Manual"},{"$f":"title199&title201","v":"Land clearing and planting - Machinery"},{"$f":"title202&title200","v":"Application of fertilizers - Manual"},{"$f":"title202&title201","v":"Application of fertilizers - Machinery"},{"$f":"title203&title200","v":"Application of other agrochemicals - Manual"},{"$f":"title203&title201","v":"Application of other agrochemicals - Machinery"},{"$f":"title204&title200","v":"Harvesting - Manual"},{"$f":"title204&title201","v":"Harvesting - Machinery"},null,"Costs discounted","Revenue discounted","Discount Cash Flow - before tax",null,"(1+i)","n","(1+i)^n"]
[null,{"$f":"title58","v":"Year"},"USD/ha","USD/ha","USD/ha","USD/ha",null,"USD/ha","USD/ha","USD/ha","USD/ha","USD/ha","USD/ha","USD/ha","USD/ha",null,"USD/ha",{"$f":"'Growth characteristics'!F35","v":"USD/m3"},"m3/ha","USD/ha","USD/ha","USD/ha","USD/ha","USD/ha","USD/ha",null,"USD/ha","USD/ha","USD/ha","USD/ha","USD/ha","USD/ha","USD/ha","USD/ha",null,"USD/ha","USD/ha","USD/ha"]
[null,0,{"$f":"HLOOKUP(CONCATENATE($I$50,C$51),INDIRECT(\"'\"&$E$50&\"'!B17:Z54\"),4,FALSE)*'Planting and management costs'!$G$36","v":{"$error":"#REF!"}},{"$f":"HLOOKUP(CONCATENATE($I$50,D$51),INDIRECT(\"'\"&$E$50&\"'!B17:Z54\"),4,FALSE)*'Planting and management costs'!$G$38","v":{"$error":"#REF!"}},{"$f":"HLOOKUP(CONCATENATE($I$50,E$51),INDIRECT(\"'\"&$E$50&\"'!B17:Z54\"),4,FALSE)*'Planting and management costs'!$G$39","v":{"$error":"#REF!"}},{"$f":"HLOOKUP(CONCATENATE($I$50,F$51),INDIRECT(\"'\"&$E$50&\"'!B17:Z54\"),4,FALSE)*'Planting and management costs'!$G$40","v":{"$error":"#REF!"}},null,{"$f":"HLOOKUP(CONCATENATE($I$50,H$51),INDIRECT(\"'\"&$E$50&\"'!B17:Z54\"),4,FALSE)*'Planting and management costs'!$J$15","v":{"$error":"#REF!"}},{"$f":"HLOOKUP(CONCATENATE($I$50,I$51),INDIRECT(\"'\"&$E$50&\"'!B17:Z54\"),4,FALSE)*'Planting and management costs'!$J$16","v":{"$error":"#REF!"}},{"$f":"HLOOKUP(CONCATENATE($I$50,J$51),INDIRECT(\"'\"&$E$50&\"'!B17:Z54\"),4,FALSE)*'Planting and management costs'!$J$15","v":{"$error":"#REF!"}},{"$f":"HLOOKUP(CONCATENATE($I$50,K$51),INDIRECT(\"'\"&$E$50&\"'!B17:Z54\"),4,FALSE)*'Planting and management costs'!$J$16","v":{"$error":"#REF!"}},{"$f":"HLOOKUP(CONCATENATE($I$50,L$51),INDIRECT(\"'\"&$E$50&\"'!B17:Z54\"),4,FALSE)*'Planting and management costs'!$J$15","v":{"$error":"#REF!"}},{"$f":"HLOOKUP(CONCATENATE($I$50,M$51),INDIRECT(\"'\"&$E$50&\"'!B17:Z54\"),4,FALSE)*'Planting and management costs'!$J$16","v":{"$error":"#REF!"}},{"$f":"HLOOKUP(CONCATENATE($I$50,N$51),INDIRECT(\"'\"&$E$50&\"'!B17:Z54\"),4,FALSE)*'Planting and management costs'!$J$15","v":{"$error":"#REF!"}},{"$f":"HLOOKUP(CONCATENATE($I$50,O$51),INDIRECT(\"'\"&$E$50&\"'!B17:Z54\"),4,FALSE)*'Planting and management costs'!$J$16","v":{"$error":"#REF!"}},null,{"$f":"SUM(C53:O53)","v":{"$error":"#REF!"}},{"$f":"$S$49","v":0},{"$f":"IF('Cash flow'!B53='Growth characteristics'!$J$26,'Growth characteristics'!$J$29,0)","v":0},{"$f":"IF($R$52=\"USD/m3\",R53*S53,R53*S53*'Growth characteristics'!$J$32*0.001)","v":0},{"$f":"T53-Q53","v":{"$error":"#REF!"}},{"$f":"C53/(1+$S$48)^$B53","v":{"$error":"#REF!"}},{"$error":"#REF!"},{"$error":"#REF!"},{"$error":"#REF!"},null,{"$f":"H53/(1+$S$48)^$B53","v":{"$error":"#REF!"}},{"$error":"#REF!"},{"$error":"#REF!"},{"$error":"#REF!"},{"$error":"#REF!"},{"$error":"#REF!"},{"$error":"#REF!"},{"$error":"#REF!"},null,{"$f":"SUM(V53:AH53)","v":{"$error":"#REF!"}},{"$f":"T53/((1+$S$48)^$B53)","v":0},{"$f":"AK53-AJ53","v":{"$error":"#REF!"}},{"$f":"U53/AP53","v":{"$error":"#REF!"}},{"$f":"1+$S$48","v":1},0,{"$f":"AN53^AO53","v":1}]
[null,1,{"$f":"HLOOKUP(CONCATENATE($I$50,C$51),INDIRECT(\"'\"&$E$50&\"'!B17:Z54\"),5,FALSE)*'Planting and management costs'!$G$36","v":{"$error":"#REF!"}},{"$f":"HLOOKUP(CONCATENATE($I$50,D$51),INDIRECT(\"'\"&$E$50&\"'!B17:Z54\"),5,FALSE)*'Planting and management costs'!$G$38","v":{"$error":"#REF!"}},{"$f":"HLOOKUP(CONCATENATE($I$50,E$51),INDIRECT(\"'\"&$E$50&\"'!B17:Z54\"),5,FALSE)*'Planting and management costs'!$G$39","v":{"$error":"#REF!"}},{"$f":"HLOOKUP(CONCATENATE($I$50,F$51),INDIRECT(\"'\"&$E$50&\"'!B17:Z54\"),5,FALSE)*'Planting and management costs'!$G$40","v":{"$error":"#REF!"}},null,{"$f":"HLOOKUP(CONCATENATE($I$50,H$51),INDIRECT(\"'\"&$E$50&\"'!B17:Z54\"),5,FALSE)*'Planting and management costs'!$J$15","v":{"$error":"#REF!"}},{"$f":"HLOOKUP(CONCATENATE($I$50,I$51),INDIRECT(\"'\"&$E$50&\"'!B17:Z54\"),5,FALSE)*'Planting and management costs'!$J$16","v":{"$error":"#REF!"}},{"$f":"HLOOKUP(CONCATENATE($I$50,J$51),INDIRECT(\"'\"&$E$50&\"'!B17:Z54\"),5,FALSE)*'Planting and management costs'!$J$15","v":{"$error":"#REF!"}},{"$f":"HLOOKUP(CONCATENATE($I$50,K$51),INDIRECT(\"'\"&$E$50&\"'!B17:Z54\"),5,FALSE)*'Planting and management costs'!$J$16","v":{"$error":"#REF!"}},{"$f":"HLOOKUP(CONCATENATE($I$50,L$51),INDIRECT(\"'\"&$E$50&\"'!B17:Z54\"),5,FALSE)*'Planting and management costs'!$J$15","v":{"$error":"#REF!"}},{"$f":"HLOOKUP(CONCATENATE($I$50,M$51),INDIRECT(\"'\"&$E$50&\"'!B17:Z54\"),5,FALSE)*'Planting and management costs'!$J$16","v":{"$error":"#REF!"}},{"$f":"HLOOKUP(CONCATENATE($I$50,N$51),INDIRECT(\"'\"&$E$50&\"'!B17:Z54\"),5,FALSE)*'Planting and management costs'!$J$15","v":{"$error":"#REF!"}},{"$f":"HLOOKUP(CONCATENATE($I$50,O$51),INDIRECT(\"'\"&$E$50&\"'!B17:Z54\"),5,FALSE)*'Planting and management costs'!$J$16","v":{"$error":"#REF!"}},null,{"$error":"#REF!"},{"$f":"$S$49","v":0},{"$f":"IF('Cash flow'!B54='Growth characteristics'!$J$26,'Growth characteristics'!$J$29,0)","v":0},{"$f":"IF($R$52=\"USD/m3\",R54*S54,R54*S54*'Growth characteristics'!$J$32*0.001)","v":0},{"$error":"#REF!"},{"$error":"#REF!"},{"$error":"#REF!"},{"$error":"#REF!"},{"$error":"#REF!"},null,{"$error":"#REF!"},{"$error":"#REF!"},{"$error":"#REF!"},{"$error":"#REF!"},{"$error":"#REF!"},{"$error":"#REF!"},{"$error":"#REF!"},{"$error":"#REF!"},null,{"$error":"#REF!"},0,{"$error":"#REF!"},{"$error":"#REF!"},{"$f":"1+$S$48","v":1},1,{"$f":"AN54^AO54","v":1}]
[null,2,{"$f":"HLOOKUP(CONCATENATE($I$50,C$51),INDIRECT(\"'\"&$E$50&\"'!B17:Z54\"),6,FALSE)*'Planting and management costs'!$G$36","v":{"$error":"#REF!"}},{"$f":"HLOOKUP(CONCATENATE($I$50,D$51),INDIRECT(\"'\"&$E$50&\"'!B17:Z54\"),6,FALSE)*'Planting and management costs'!$G$38","v":{"$error":"#REF!"}},{"$f":"HLOOKUP(CONCATENATE($I$50,E$51),INDIRECT(\"'\"&$E$50&\"'!B17:Z54\"),6,FALSE)*'Planting and management costs'!$G$39","v":{"$error":"#REF!"}},{"$f":"HLOOKUP(CONCATENATE($I$50,F$51),INDIRECT(\"'\"&$E$50&\"'!B17:Z54\"),6,FALSE)*'Planting and management costs'!$G$40","v":{"$error":"#REF!"}},null,{"$f":"HLOOKUP(CONCATENATE($I$50,H$51),INDIRECT(\"'\"&$E$50&\"'!B17:Z54\"),6,FALSE)*'Planting and management costs'!$J$15","v":{"$error":"#REF!"}},{"$f":"HLOOKUP(CONCATENATE($I$50,I$51),INDIRECT(\"'\"&$E$50&\"'!B17:Z54\"),6,FALSE)*'Planting and management costs'!$J$16","v":{"$error":"#REF!"}},{"$f":"HLOOKUP(CONCATENATE($I$50,J$51),INDIRECT(\"'\"&$E$50&\"'!B17:Z54\"),6,FALSE)*'Planting and management costs'!$J$15","v":{"$error":"#REF!"}},{"$f":"HLOOKUP(CONCATENATE($I$50,K$51),INDIRECT(\"'\"&$E$50&\"'!B17:Z54\"),6,FALSE)*'Planting and management costs'!$J$16","v":{"$error":"#REF!"}},{"$f":"HLOOKUP(CONCATENATE($I$50,L$51),INDIRECT(\"'\"&$E$50&\"'!B17:Z54\"),6,FALSE)*'Planting and management costs'!$J$15","v":{"$error":"#REF!"}},{"$f":"HLOOKUP(CONCATENATE($I$50,M$51),INDIRECT(\"'\"&$E$50&\"'!B17:Z54\"),6,FALSE)*'Planting and management costs'!$J$16","v":{"$error":"#REF!"}},{"$f":"HLOOKUP(CONCATENATE($I$50,N$51),INDIRECT(\"'\"&$E$50&\"'!B17:Z54\"),6,FALSE)*'Planting and management costs'!$J$15","v":{"$error":"#REF!"}},{"$f":"HLOOKUP(CONCATENATE($I$50,O$51),INDIRECT(\"'\"&$E$50&\"'!B17:Z54\"),6,FALSE)*'Planting and management costs'!$J$16","v":{"$error":"#REF!"}},null,{"$error":"#REF!"},0,{"$f":"IF('Cash flow'!B55='Growth characteristics'!$J$26,'Growth characteristics'!$J$29,0)","v":0},{"$f":"IF($R$52=\"USD/m3\",R55*S55,R55*S55*'Growth characteristics'!$J$32*0.001)","v":0},{"$error":"#REF!"},{"$error":"#REF!"},{"$error":"#REF!"},{"$error":"#REF!"},{"$error":"#REF!"},null,{"$error":"#REF!"},{"$error":"#REF!"},{"$error":"#REF!"},{"$error":"#REF!"},{"$error":"#REF!"},{"$error":"#REF!"},{"$error":"#REF!"},{"$error":"#REF!"},null,{"$error":"#REF!"},0,{"$error":"#REF!"},{"$error":"#REF!"},1,2,1]
[null,3,{"$f":"HLOOKUP(CONCATENATE($I$50,C$51),INDIRECT(\"'\"&$E$50&\"'!B17:Z54\"),7,FALSE)*'Planting and management costs'!$G$36","v":{"$error":"#REF!"}},{"$f":"HLOOKUP(CONCATENATE($I$50,D$51),INDIRECT(\"'\"&$E$50&\"'!B17:Z54\"),7,FALSE)*'Planting and management costs'!$G$38","v":{"$error":"#REF!"}},{"$f":"HLOOKUP(CONCATENATE($I$50,E$51),INDIRECT(\"'\"&$E$50&\"'!B17:Z54\"),7,FALSE)*'Planting and management costs'!$G$39","v":{"$error":"#REF!"}},{"$f":"HLOOKUP(CONCATENATE($I$50,F$51),INDIRECT(\"'\"&$E$50&\"'!B17:Z54\"),7,FALSE)*'Planting and management costs'!$G$40","v":{"$error":"#REF!"}},null,{"$f":"HLOOKUP(CONCATENATE($I$50,H$51),INDIRECT(\"'\"&$E$50&\"'!B17:Z54\"),7,FALSE)*'Planting and management costs'!$J$15","v":{"$error":"#REF!"}},{"$f":"HLOOKUP(CONCATENATE($I$50,I$51),INDIRECT(\"'\"&$E$50&\"'!B17:Z54\"),7,FALSE)*'Planting and management costs'!$J$16","v":{"$error":"#REF!"}},{"$f":"HLOOKUP(CONCATENATE($I$50,J$51),INDIRECT(\"'\"&$E$50&\"'!B17:Z54\"),7,FALSE)*'Planting and management costs'!$J$15","v":{"$error":"#REF!"}},{"$f":"HLOOKUP(CONCATENATE($I$50,K$51),INDIRECT(\"'\"&$E$50&\"'!B17:Z54\"),7,FALSE)*'Planting and management costs'!$J$16","v":{"$error":"#REF!"}},{"$f":"HLOOKUP(CONCATENATE($I$50,L$51),INDIRECT(\"'\"&$E$50&\"'!B17:Z54\"),7,FALSE)*'Planting and management costs'!$J$15","v":{"$error":"#REF!"}},{"$f":"HLOOKUP(CONCATENATE($I$50,M$51),INDIRECT(\"'\"&$E$50&\"'!B17:Z54\"),7,FALSE)*'Planting and management costs'!$J$16","v":{"$error":"#REF!"}},{"$f":"HLOOKUP(CONCATENATE($I$50,N$51),INDIRECT(\"'\"&$E$50&\"'!B17:Z54\"),7,FALSE)*'Planting and management costs'!$J$15","v":{"$error":"#REF!"}},{"$f":"HLOOKUP(CONCATENATE($I$50,O$51),INDIRECT(\"'\"&$E$50&\"'!B17:Z54\"),7,FALSE)*'Planting and management costs'!$J$16","v":{"$error":"#REF!"}},null,{"$error":"#REF!"},0,{"$f":"IF('Cash flow'!B56='Growth characteristics'!$J$26,'Growth characteristics'!$J$29,0)","v":0},{"$f":"IF($R$52=\"USD/m3\",R56*S56,R56*S56*'Growth characteristics'!$J$32*0.001)","v":0},{"$error":"#REF!"},{"$error":"#REF!"},{"$error":"#REF!"},{"$error":"#REF!"},{"$error":"#REF!"},null,{"$error":"#REF!"},{"$error":"#REF!"},{"$error":"#REF!"},{"$error":"#REF!"},{"$error":"#REF!"},{"$error":"#REF!"},{"$error":"#REF!"},{"$error":"#REF!"},null,{"$error":"#REF!"},0,{"$error":"#REF!"},{"$error":"#REF!"},1,3,1]
[null,4,{"$f":"HLOOKUP(CONCATENATE($I$50,C$51),INDIRECT(\"'\"&$E$50&\"'!B17:Z54\"),8,FALSE)*'Planting and management costs'!$G$36","v":{"$error":"#REF!"}},{"$f":"HLOOKUP(CONCATENATE($I$50,D$51),INDIRECT(\"'\"&$E$50&\"'!B17:Z54\"),8,FALSE)*'Planting and management costs'!$G$38","v":{"$error":"#REF!"}},{"$f":"HLOOKUP(CONCATENATE($I$50,E$51),INDIRECT(\"'\"&$E$50&\"'!B17:Z54\"),8,FALSE)*'Planting and management costs'!$G$39","v":{"$error":"#REF!"}},{"$f":"HLOOKUP(CONCATENATE($I$50,F$51),INDIRECT(\"'\"&$E$50&\"'!B17:Z54\"),8,FALSE)*'Planting and management costs'!$G$40","v":{"$error":"#REF!"}},null,{"$f":"HLOOKUP(CONCATENATE($I$50,H$51),INDIRECT(\"'\"&$E$50&\"'!B17:Z54\"),8,FALSE)*'Planting and management costs'!$J$15","v":{"$error":"#REF!"}},{"$f":"HLOOKUP(CONCATENATE($I$50,I$51),INDIRECT(\"'\"&$E$50&\"'!B17:Z54\"),8,FALSE)*'Planting and management costs'!$J$16","v":{"$error":"#REF!"}},{"$f":"HLOOKUP(CONCATENATE($I$50,J$51),INDIRECT(\"'\"&$E$50&\"'!B17:Z54\"),8,FALSE)*'Planting and management costs'!$J$15","v":{"$error":"#REF!"}},{"$f":"HLOOKUP(CONCATENATE($I$50,K$51),INDIRECT(\"'\"&$E$50&\"'!B17:Z54\"),8,FALSE)*'Planting and management costs'!$J$16","v":{"$error":"#REF!"}},{"$f":"HLOOKUP(CONCATENATE($I$50,L$51),INDIRECT(\"'\"&$E$50&\"'!B17:Z54\"),8,FALSE)*'Planting and management costs'!$J$15","v":{"$error":"#REF!"}},{"$f":"HLOOKUP(CONCATENATE($I$50,M$51),INDIRECT(\"'\"&$E$50&\"'!B17:Z54\"),8,FALSE)*'Planting and management costs'!$J$16","v":{"$error":"#REF!"}},{"$f":"HLOOKUP(CONCATENATE($I$50,N$51),INDIRECT(\"'\"&$E$50&\"'!B17:Z54\"),8,FALSE)*'Planting and management costs'!$J$15","v":{"$error":"#REF!"}},{"$f":"HLOOKUP(CONCATENATE($I$50,O$51),INDIRECT(\"'\"&$E$50&\"'!B17:Z54\"),8,FALSE)*'Planting and management costs'!$J$16","v":{"$error":"#REF!"}},null,{"$error":"#REF!"},0,{"$f":"IF('Cash flow'!B57='Growth characteristics'!$J$26,'Growth characteristics'!$J$29,0)","v":0},{"$f":"IF($R$52=\"USD/m3\",R57*S57,R57*S57*'Growth characteristics'!$J$32*0.001)","v":0},{"$error":"#REF!"},{"$error":"#REF!"},{"$error":"#REF!"},{"$error":"#REF!"},{"$error":"#REF!"},null,{"$error":"#REF!"},{"$error":"#REF!"},{"$error":"#REF!"},{"$error":"#REF!"},{"$error":"#REF!"},{"$error":"#REF!"},{"$error":"#REF!"},{"$error":"#REF!"},null,{"$error":"#REF!"},0,{"$error":"#REF!"},{"$error":"#REF!"},1,4,1]
[null,5,{"$f":"HLOOKUP(CONCATENATE($I$50,C$51),INDIRECT(\"'\"&$E$50&\"'!B17:Z54\"),9,FALSE)*'Planting and management costs'!$G$36","v":{"$error":"#REF!"}},{"$f":"HLOOKUP(CONCATENATE($I$50,D$51),INDIRECT(\"'\"&$E$50&\"'!B17:Z54\"),9,FALSE)*'Planting and management costs'!$G$38","v":{"$error":"#REF!"}},{"$f":"HLOOKUP(CONCATENATE($I$50,E$51),INDIRECT(\"'\"&$E$50&\"'!B17:Z54\"),9,FALSE)*'Planting and management costs'!$G$39","v":{"$error":"#REF!"}},{"$f":"HLOOKUP(CONCATENATE($I$50,F$51),INDIRECT(\"'\"&$E$50&\"'!B17:Z54\"),9,FALSE)*'Planting and management costs'!$G$40","v":{"$error":"#REF!"}},null,{"$f":"HLOOKUP(CONCATENATE($I$50,H$51),INDIRECT(\"'\"&$E$50&\"'!B17:Z54\"),9,FALSE)*'Planting and management costs'!$J$15","v":{"$error":"#REF!"}},{"$f":"HLOOKUP(CONCATENATE($I$50,I$51),INDIRECT(\"'\"&$E$50&\"'!B17:Z54\"),9,FALSE)*'Planting and management costs'!$J$16","v":{"$error":"#REF!"}},{"$f":"HLOOKUP(CONCATENATE($I$50,J$51),INDIRECT(\"'\"&$E$50&\"'!B17:Z54\"),9,FALSE)*'Planting and management costs'!$J$15","v":{"$error":"#REF!"}},{"$f":"HLOOKUP(CONCATENATE($I$50,K$51),INDIRECT(\"'\"&$E$50&\"'!B17:Z54\"),9,FALSE)*'Planting and management costs'!$J$16","v":{"$error":"#REF!"}},{"$f":"HLOOKUP(CONCATENATE($I$50,L$51),INDIRECT(\"'\"&$E$50&\"'!B17:Z54\"),9,FALSE)*'Planting and management costs'!$J$15","v":{"$error":"#REF!"}},{"$f":"HLOOKUP(CONCATENATE($I$50,M$51),INDIRECT(\"'\"&$E$50&\"'!B17:Z54\"),9,FALSE)*'Planting and management costs'!$J$16","v":{"$error":"#REF!"}},{"$f":"HLOOKUP(CONCATENATE($I$50,N$51),INDIRECT(\"'\"&$E$50&\"'!B17:Z54\"),9,FALSE)*'Planting and management costs'!$J$15","v":{"$error":"#REF!"}},{"$f":"HLOOKUP(CONCATENATE($I$50,O$51),INDIRECT(\"'\"&$E$50&\"'!B17:Z54\"),9,FALSE)*'Planting and management costs'!$J$16","v":{"$error":"#REF!"}},null,{"$error":"#REF!"},0,{"$f":"IF('Cash flow'!B58='Growth characteristics'!$J$26,'Growth characteristics'!$J$29,0)","v":0},{"$f":"IF($R$52=\"USD/m3\",R58*S58,R58*S58*'Growth characteristics'!$J$32*0.001)","v":0},{"$error":"#REF!"},{"$error":"#REF!"},{"$error":"#REF!"},{"$error":"#REF!"},{"$error":"#REF!"},null,{"$error":"#REF!"},{"$error":"#REF!"},{"$error":"#REF!"},{"$error":"#REF!"},{"$error":"#REF!"},{"$error":"#REF!"},{"$error":"#REF!"},{"$error":"#REF!"},null,{"$error":"#REF!"},0,{"$error":"#REF!"},{"$error":"#REF!"},1,5,1]
[null,6,{"$f":"HLOOKUP(CONCATENATE($I$50,C$51),INDIRECT(\"'\"&$E$50&\"'!B17:Z54\"),10,FALSE)*'Planting and management costs'!$G$36","v":{"$error":"#REF!"}},{"$f":"HLOOKUP(CONCATENATE($I$50,D$51),INDIRECT(\"'\"&$E$50&\"'!B17:Z54\"),10,FALSE)*'Planting and management costs'!$G$38","v":{"$error":"#REF!"}},{"$f":"HLOOKUP(CONCATENATE($I$50,E$51),INDIRECT(\"'\"&$E$50&\"'!B17:Z54\"),10,FALSE)*'Planting and management costs'!$G$39","v":{"$error":"#REF!"}},{"$f":"HLOOKUP(CONCATENATE($I$50,F$51),INDIRECT(\"'\"&$E$50&\"'!B17:Z54\"),10,FALSE)*'Planting and management costs'!$G$40","v":{"$error":"#REF!"}},null,{"$f":"HLOOKUP(CONCATENATE($I$50,H$51),INDIRECT(\"'\"&$E$50&\"'!B17:Z54\"),10,FALSE)*'Planting and management costs'!$J$15","v":{"$error":"#REF!"}},{"$f":"HLOOKUP(CONCATENATE($I$50,I$51),INDIRECT(\"'\"&$E$50&\"'!B17:Z54\"),10,FALSE)*'Planting and management costs'!$J$16","v":{"$error":"#REF!"}},{"$f":"HLOOKUP(CONCATENATE($I$50,J$51),INDIRECT(\"'\"&$E$50&\"'!B17:Z54\"),10,FALSE)*'Planting and management costs'!$J$15","v":{"$error":"#REF!"}},{"$f":"HLOOKUP(CONCATENATE($I$50,K$51),INDIRECT(\"'\"&$E$50&\"'!B17:Z54\"),10,FALSE)*'Planting and management costs'!$J$16","v":{"$error":"#REF!"}},{"$f":"HLOOKUP(CONCATENATE($I$50,L$51),INDIRECT(\"'\"&$E$50&\"'!B17:Z54\"),10,FALSE)*'Planting and management costs'!$J$15","v":{"$error":"#REF!"}},{"$f":"HLOOKUP(CONCATENATE($I$50,M$51),INDIRECT(\"'\"&$E$50&\"'!B17:Z54\"),10,FALSE)*'Planting and management costs'!$J$16","v":{"$error":"#REF!"}},{"$f":"HLOOKUP(CONCATENATE($I$50,N$51),INDIRECT(\"'\"&$E$50&\"'!B17:Z54\"),10,FALSE)*'Planting and management costs'!$J$15","v":{"$error":"#REF!"}},{"$f":"HLOOKUP(CONCATENATE($I$50,O$51),INDIRECT(\"'\"&$E$50&\"'!B17:Z54\"),10,FALSE)*'Planting and management costs'!$J$16","v":{"$error":"#REF!"}},null,{"$error":"#REF!"},0,{"$f":"IF('Cash flow'!B59='Growth characteristics'!$J$26,'Growth characteristics'!$J$29,0)","v":0},{"$f":"IF($R$52=\"USD/m3\",R59*S59,R59*S59*'Growth characteristics'!$J$32*0.001)","v":0},{"$error":"#REF!"},{"$error":"#REF!"},{"$error":"#REF!"},{"$error":"#REF!"},{"$error":"#REF!"},null,{"$error":"#REF!"},{"$error":"#REF!"},{"$error":"#REF!"},{"$error":"#REF!"},{"$error":"#REF!"},{"$error":"#REF!"},{"$error":"#REF!"},{"$error":"#REF!"},null,{"$error":"#REF!"},0,{"$error":"#REF!"},{"$error":"#REF!"},1,6,1]
[null,7,{"$f":"HLOOKUP(CONCATENATE($I$50,C$51),INDIRECT(\"'\"&$E$50&\"'!B17:Z54\"),11,FALSE)*'Planting and management costs'!$G$36","v":{"$error":"#REF!"}},{"$f":"HLOOKUP(CONCATENATE($I$50,D$51),INDIRECT(\"'\"&$E$50&\"'!B17:Z54\"),11,FALSE)*'Planting and management costs'!$G$38","v":{"$error":"#REF!"}},{"$f":"HLOOKUP(CONCATENATE($I$50,E$51),INDIRECT(\"'\"&$E$50&\"'!B17:Z54\"),11,FALSE)*'Planting and management costs'!$G$39","v":{"$error":"#REF!"}},{"$f":"HLOOKUP(CONCATENATE($I$50,F$51),INDIRECT(\"'\"&$E$50&\"'!B17:Z54\"),11,FALSE)*'Planting and management costs'!$G$40","v":{"$error":"#REF!"}},null,{"$f":"HLOOKUP(CONCATENATE($I$50,H$51),INDIRECT(\"'\"&$E$50&\"'!B17:Z54\"),11,FALSE)*'Planting and management costs'!$J$15","v":{"$error":"#REF!"}},{"$f":"HLOOKUP(CONCATENATE($I$50,I$51),INDIRECT(\"'\"&$E$50&\"'!B17:Z54\"),11,FALSE)*'Planting and management costs'!$J$16","v":{"$error":"#REF!"}},{"$f":"HLOOKUP(CONCATENATE($I$50,J$51),INDIRECT(\"'\"&$E$50&\"'!B17:Z54\"),11,FALSE)*'Planting and management costs'!$J$15","v":{"$error":"#REF!"}},{"$f":"HLOOKUP(CONCATENATE($I$50,K$51),INDIRECT(\"'\"&$E$50&\"'!B17:Z54\"),11,FALSE)*'Planting and management costs'!$J$16","v":{"$error":"#REF!"}},{"$f":"HLOOKUP(CONCATENATE($I$50,L$51),INDIRECT(\"'\"&$E$50&\"'!B17:Z54\"),11,FALSE)*'Planting and management costs'!$J$15","v":{"$error":"#REF!"}},{"$f":"HLOOKUP(CONCATENATE($I$50,M$51),INDIRECT(\"'\"&$E$50&\"'!B17:Z54\"),11,FALSE)*'Planting and management costs'!$J$16","v":{"$error":"#REF!"}},{"$f":"HLOOKUP(CONCATENATE($I$50,N$51),INDIRECT(\"'\"&$E$50&\"'!B17:Z54\"),11,FALSE)*'Planting and management costs'!$J$15","v":{"$error":"#REF!"}},{"$f":"HLOOKUP(CONCATENATE($I$50,O$51),INDIRECT(\"'\"&$E$50&\"'!B17:Z54\"),11,FALSE)*'Planting and management costs'!$J$16","v":{"$error":"#REF!"}},null,{"$error":"#REF!"},0,{"$f":"IF('Cash flow'!B60='Growth characteristics'!$J$26,'Growth characteristics'!$J$29,0)","v":0},{"$f":"IF($R$52=\"USD/m3\",R60*S60,R60*S60*'Growth characteristics'!$J$32*0.001)","v":0},{"$error":"#REF!"},{"$error":"#REF!"},{"$error":"#REF!"},{"$error":"#REF!"},{"$error":"#REF!"},null,{"$error":"#REF!"},{"$error":"#REF!"},{"$error":"#REF!"},{"$error":"#REF!"},{"$error":"#REF!"},{"$error":"#REF!"},{"$error":"#REF!"},{"$error":"#REF!"},null,{"$error":"#REF!"},0,{"$error":"#REF!"},{"$error":"#REF!"},1,7,1]
[null,8,{"$f":"HLOOKUP(CONCATENATE($I$50,C$51),INDIRECT(\"'\"&$E$50&\"'!B17:Z54\"),12,FALSE)*'Planting and management costs'!$G$36","v":{"$error":"#REF!"}},{"$f":"HLOOKUP(CONCATENATE($I$50,D$51),INDIRECT(\"'\"&$E$50&\"'!B17:Z54\"),12,FALSE)*'Planting and management costs'!$G$38","v":{"$error":"#REF!"}},{"$f":"HLOOKUP(CONCATENATE($I$50,E$51),INDIRECT(\"'\"&$E$50&\"'!B17:Z54\"),12,FALSE)*'Planting and management costs'!$G$39","v":{"$error":"#REF!"}},{"$f":"HLOOKUP(CONCATENATE($I$50,F$51),INDIRECT(\"'\"&$E$50&\"'!B17:Z54\"),12,FALSE)*'Planting and management costs'!$G$40","v":{"$error":"#REF!"}},null,{"$f":"HLOOKUP(CONCATENATE($I$50,H$51),INDIRECT(\"'\"&$E$50&\"'!B17:Z54\"),12,FALSE)*'Planting and management costs'!$J$15","v":{"$error":"#REF!"}},{"$f":"HLOOKUP(CONCATENATE($I$50,I$51),INDIRECT(\"'\"&$E$50&\"'!B17:Z54\"),12,FALSE)*'Planting and management costs'!$J$16","v":{"$error":"#REF!"}},{"$f":"HLOOKUP(CONCATENATE($I$50,J$51),INDIRECT(\"'\"&$E$50&\"'!B17:Z54\"),12,FALSE)*'Planting and management costs'!$J$15","v":{"$error":"#REF!"}},{"$f":"HLOOKUP(CONCATENATE($I$50,K$51),INDIRECT(\"'\"&$E$50&\"'!B17:Z54\"),12,FALSE)*'Planting and management costs'!$J$16","v":{"$error":"#REF!"}},{"$f":"HLOOKUP(CONCATENATE($I$50,L$51),INDIRECT(\"'\"&$E$50&\"'!B17:Z54\"),12,FALSE)*'Planting and management costs'!$J$15","v":{"$error":"#REF!"}},{"$f":"HLOOKUP(CONCATENATE($I$50,M$51),INDIRECT(\"'\"&$E$50&\"'!B17:Z54\"),12,FALSE)*'Planting and management costs'!$J$16","v":{"$error":"#REF!"}},{"$f":"HLOOKUP(CONCATENATE($I$50,N$51),INDIRECT(\"'\"&$E$50&\"'!B17:Z54\"),12,FALSE)*'Planting and management costs'!$J$15","v":{"$error":"#REF!"}},{"$f":"HLOOKUP(CONCATENATE($I$50,O$51),INDIRECT(\"'\"&$E$50&\"'!B17:Z54\"),12,FALSE)*'Planting and management costs'!$J$16","v":{"$error":"#REF!"}},null,{"$error":"#REF!"},0,{"$f":"IF('Cash flow'!B61='Growth characteristics'!$J$26,'Growth characteristics'!$J$29,0)","v":0},{"$f":"IF($R$52=\"USD/m3\",R61*S61,R61*S61*'Growth characteristics'!$J$32*0.001)","v":0},{"$error":"#REF!"},{"$error":"#REF!"},{"$error":"#REF!"},{"$error":"#REF!"},{"$error":"#REF!"},null,{"$error":"#REF!"},{"$error":"#REF!"},{"$error":"#REF!"},{"$error":"#REF!"},{"$error":"#REF!"},{"$error":"#REF!"},{"$error":"#REF!"},{"$error":"#REF!"},null,{"$error":"#REF!"},0,{"$error":"#REF!"},{"$error":"#REF!"},1,8,1]
[null,9,{"$f":"HLOOKUP(CONCATENATE($I$50,C$51),INDIRECT(\"'\"&$E$50&\"'!B17:Z54\"),13,FALSE)*'Planting and management costs'!$G$36","v":{"$error":"#REF!"}},{"$f":"HLOOKUP(CONCATENATE($I$50,D$51),INDIRECT(\"'\"&$E$50&\"'!B17:Z54\"),13,FALSE)*'Planting and management costs'!$G$38","v":{"$error":"#REF!"}},{"$f":"HLOOKUP(CONCATENATE($I$50,E$51),INDIRECT(\"'\"&$E$50&\"'!B17:Z54\"),13,FALSE)*'Planting and management costs'!$G$39","v":{"$error":"#REF!"}},{"$f":"HLOOKUP(CONCATENATE($I$50,F$51),INDIRECT(\"'\"&$E$50&\"'!B17:Z54\"),13,FALSE)*'Planting and management costs'!$G$40","v":{"$error":"#REF!"}},null,{"$f":"HLOOKUP(CONCATENATE($I$50,H$51),INDIRECT(\"'\"&$E$50&\"'!B17:Z54\"),13,FALSE)*'Planting and management costs'!$J$15","v":{"$error":"#REF!"}},{"$f":"HLOOKUP(CONCATENATE($I$50,I$51),INDIRECT(\"'\"&$E$50&\"'!B17:Z54\"),13,FALSE)*'Planting and management costs'!$J$16","v":{"$error":"#REF!"}},{"$f":"HLOOKUP(CONCATENATE($I$50,J$51),INDIRECT(\"'\"&$E$50&\"'!B17:Z54\"),13,FALSE)*'Planting and management costs'!$J$15","v":{"$error":"#REF!"}},{"$f":"HLOOKUP(CONCATENATE($I$50,K$51),INDIRECT(\"'\"&$E$50&\"'!B17:Z54\"),13,FALSE)*'Planting and management costs'!$J$16","v":{"$error":"#REF!"}},{"$f":"HLOOKUP(CONCATENATE($I$50,L$51),INDIRECT(\"'\"&$E$50&\"'!B17:Z54\"),13,FALSE)*'Planting and management costs'!$J$15","v":{"$error":"#REF!"}},{"$f":"HLOOKUP(CONCATENATE($I$50,M$51),INDIRECT(\"'\"&$E$50&\"'!B17:Z54\"),13,FALSE)*'Planting and management costs'!$J$16","v":{"$error":"#REF!"}},{"$f":"HLOOKUP(CONCATENATE($I$50,N$51),INDIRECT(\"'\"&$E$50&\"'!B17:Z54\"),13,FALSE)*'Planting and management costs'!$J$15","v":{"$error":"#REF!"}},{"$f":"HLOOKUP(CONCATENATE($I$50,O$51),INDIRECT(\"'\"&$E$50&\"'!B17:Z54\"),13,FALSE)*'Planting and management costs'!$J$16","v":{"$error":"#REF!"}},null,{"$error":"#REF!"},0,{"$f":"IF('Cash flow'!B62='Growth characteristics'!$J$26,'Growth characteristics'!$J$29,0)","v":0},{"$f":"IF($R$52=\"USD/m3\",R62*S62,R62*S62*'Growth characteristics'!$J$32*0.001)","v":0},{"$error":"#REF!"},{"$error":"#REF!"},{"$error":"#REF!"},{"$error":"#REF!"},{"$error":"#REF!"},null,{"$error":"#REF!"},{"$error":"#REF!"},{"$error":"#REF!"},{"$error":"#REF!"},{"$error":"#REF!"},{"$error":"#REF!"},{"$error":"#REF!"},{"$error":"#REF!"},null,{"$error":"#REF!"},0,{"$error":"#REF!"},{"$error":"#REF!"},1,9,1]
[null,10,{"$f":"HLOOKUP(CONCATENATE($I$50,C$51),INDIRECT(\"'\"&$E$50&\"'!B17:Z54\"),14,FALSE)*'Planting and management costs'!$G$36","v":{"$error":"#REF!"}},{"$f":"HLOOKUP(CONCATENATE($I$50,D$51),INDIRECT(\"'\"&$E$50&\"'!B17:Z54\"),14,FALSE)*'Planting and management costs'!$G$38","v":{"$error":"#REF!"}},{"$f":"HLOOKUP(CONCATENATE($I$50,E$51),INDIRECT(\"'\"&$E$50&\"'!B17:Z54\"),14,FALSE)*'Planting and management costs'!$G$39","v":{"$error":"#REF!"}},{"$f":"HLOOKUP(CONCATENATE($I$50,F$51),INDIRECT(\"'\"&$E$50&\"'!B17:Z54\"),14,FALSE)*'Planting and management costs'!$G$40","v":{"$error":"#REF!"}},null,{"$f":"HLOOKUP(CONCATENATE($I$50,H$51),INDIRECT(\"'\"&$E$50&\"'!B17:Z54\"),14,FALSE)*'Planting and management costs'!$J$15","v":{"$error":"#REF!"}},{"$f":"HLOOKUP(CONCATENATE($I$50,I$51),INDIRECT(\"'\"&$E$50&\"'!B17:Z54\"),14,FALSE)*'Planting and management costs'!$J$16","v":{"$error":"#REF!"}},{"$f":"HLOOKUP(CONCATENATE($I$50,J$51),INDIRECT(\"'\"&$E$50&\"'!B17:Z54\"),14,FALSE)*'Planting and management costs'!$J$15","v":{"$error":"#REF!"}},{"$f":"HLOOKUP(CONCATENATE($I$50,K$51),INDIRECT(\"'\"&$E$50&\"'!B17:Z54\"),14,FALSE)*'Planting and management costs'!$J$16","v":{"$error":"#REF!"}},{"$f":"HLOOKUP(CONCATENATE($I$50,L$51),INDIRECT(\"'\"&$E$50&\"'!B17:Z54\"),14,FALSE)*'Planting and management costs'!$J$15","v":{"$error":"#REF!"}},{"$f":"HLOOKUP(CONCATENATE($I$50,M$51),INDIRECT(\"'\"&$E$50&\"'!B17:Z54\"),14,FALSE)*'Planting and management costs'!$J$16","v":{"$error":"#REF!"}},{"$f":"HLOOKUP(CONCATENATE($I$50,N$51),INDIRECT(\"'\"&$E$50&\"'!B17:Z54\"),14,FALSE)*'Planting and management costs'!$J$15","v":{"$error":"#REF!"}},{"$f":"HLOOKUP(CONCATENATE($I$50,O$51),INDIRECT(\"'\"&$E$50&\"'!B17:Z54\"),14,FALSE)*'Planting and management costs'!$J$16","v":{"$error":"#REF!"}},null,{"$error":"#REF!"},0,{"$f":"IF('Cash flow'!B63='Growth characteristics'!$J$26,'Growth characteristics'!$J$29,0)","v":0},{"$f":"IF($R$52=\"USD/m3\",R63*S63,R63*S63*'Growth characteristics'!$J$32*0.001)","v":0},{"$error":"#REF!"},{"$error":"#REF!"},{"$error":"#REF!"},{"$error":"#REF!"},{"$error":"#REF!"},null,{"$error":"#REF!"},{"$error":"#REF!"},{"$error":"#REF!"},{"$error":"#REF!"},{"$error":"#REF!"},{"$error":"#REF!"},{"$error":"#REF!"},{"$error":"#REF!"},null,{"$error":"#REF!"},0,{"$error":"#REF!"},{"$error":"#REF!"},1,10,1]
[null,11,{"$f":"HLOOKUP(CONCATENATE($I$50,C$51),INDIRECT(\"'\"&$E$50&\"'!B17:Z54\"),15,FALSE)*'Planting and management costs'!$G$36","v":{"$error":"#REF!"}},{"$f":"HLOOKUP(CONCATENATE($I$50,D$51),INDIRECT(\"'\"&$E$50&\"'!B17:Z54\"),15,FALSE)*'Planting and management costs'!$G$38","v":{"$error":"#REF!"}},{"$f":"HLOOKUP(CONCATENATE($I$50,E$51),INDIRECT(\"'\"&$E$50&\"'!B17:Z54\"),15,FALSE)*'Planting and management costs'!$G$39","v":{"$error":"#REF!"}},{"$f":"HLOOKUP(CONCATENATE($I$50,F$51),INDIRECT(\"'\"&$E$50&\"'!B17:Z54\"),15,FALSE)*'Planting and management costs'!$G$40","v":{"$error":"#REF!"}},null,{"$f":"HLOOKUP(CONCATENATE($I$50,H$51),INDIRECT(\"'\"&$E$50&\"'!B17:Z54\"),15,FALSE)*'Planting and management costs'!$G$38","v":{"$error":"#REF!"}},{"$f":"HLOOKUP(CONCATENATE($I$50,I$51),INDIRECT(\"'\"&$E$50&\"'!B17:Z54\"),15,FALSE)*'Planting and management costs'!$J$16","v":{"$error":"#REF!"}},{"$f":"HLOOKUP(CONCATENATE($I$50,J$51),INDIRECT(\"'\"&$E$50&\"'!B17:Z54\"),15,FALSE)*'Planting and management costs'!$G$38","v":{"$error":"#REF!"}},{"$f":"HLOOKUP(CONCATENATE($I$50,K$51),INDIRECT(\"'\"&$E$50&\"'!B17:Z54\"),15,FALSE)*'Planting and management costs'!$J$16","v":{"$error":"#REF!"}},{"$f":"HLOOKUP(CONCATENATE($I$50,L$51),INDIRECT(\"'\"&$E$50&\"'!B17:Z54\"),15,FALSE)*'Planting and management costs'!$G$38","v":{"$error":"#REF!"}},{"$f":"HLOOKUP(CONCATENATE($I$50,M$51),INDIRECT(\"'\"&$E$50&\"'!B17:Z54\"),15,FALSE)*'Planting and management costs'!$J$16","v":{"$error":"#REF!"}},{"$f":"HLOOKUP(CONCATENATE($I$50,N$51),INDIRECT(\"'\"&$E$50&\"'!B17:Z54\"),15,FALSE)*'Planting and management costs'!$G$38","v":{"$error":"#REF!"}},{"$f":"HLOOKUP(CONCATENATE($I$50,O$51),INDIRECT(\"'\"&$E$50&\"'!B17:Z54\"),15,FALSE)*'Planting and management costs'!$J$16","v":{"$error":"#REF!"}},null,{"$error":"#REF!"},0,{"$f":"IF('Cash flow'!B64='Growth characteristics'!$J$26,'Growth characteristics'!$J$29,0)","v":0},{"$f":"IF($R$52=\"USD/m3\",R64*S64,R64*S64*'Growth characteristics'!$J$32*0.001)","v":0},{"$error":"#REF!"},{"$error":"#REF!"},{"$error":"#REF!"},{"$error":"#REF!"},{"$error":"#REF!"},null,{"$error":"#REF!"},{"$error":"#REF!"},{"$error":"#REF!"},{"$error":"#REF!"},{"$error":"#REF!"},{"$error":"#REF!"},{"$error":"#REF!"},{"$error":"#REF!"},null,{"$error":"#REF!"},0,{"$error":"#REF!"},{"$error":"#REF!"},1,11,1]
[null,12,{"$f":"HLOOKUP(CONCATENATE($I$50,C$51),INDIRECT(\"'\"&$E$50&\"'!B17:Z54\"),16,FALSE)*'Planting and management costs'!$G$36","v":{"$error":"#REF!"}},{"$f":"HLOOKUP(CONCATENATE($I$50,D$51),INDIRECT(\"'\"&$E$50&\"'!B17:Z54\"),16,FALSE)*'Planting and management costs'!$G$38","v":{"$error":"#REF!"}},{"$f":"HLOOKUP(CONCATENATE($I$50,E$51),INDIRECT(\"'\"&$E$50&\"'!B17:Z54\"),16,FALSE)*'Planting and management costs'!$G$39","v":{"$error":"#REF!"}},{"$f":"HLOOKUP(CONCATENATE($I$50,F$51),INDIRECT(\"'\"&$E$50&\"'!B17:Z54\"),16,FALSE)*'Planting and management costs'!$G$40","v":{"$error":"#REF!"}},null,{"$f":"HLOOKUP(CONCATENATE($I$50,H$51),INDIRECT(\"'\"&$E$50&\"'!B17:Z54\"),16,FALSE)*'Planting and management costs'!$J$15","v":{"$error":"#REF!"}},{"$f":"HLOOKUP(CONCATENATE($I$50,I$51),INDIRECT(\"'\"&$E$50&\"'!B17:Z54\"),16,FALSE)*'Planting and management costs'!$J$16","v":{"$error":"#REF!"}},{"$f":"HLOOKUP(CONCATENATE($I$50,J$51),INDIRECT(\"'\"&$E$50&\"'!B17:Z54\"),16,FALSE)*'Planting and management costs'!$J$15","v":{"$error":"#REF!"}},{"$f":"HLOOKUP(CONCATENATE($I$50,K$51),INDIRECT(\"'\"&$E$50&\"'!B17:Z54\"),16,FALSE)*'Planting and management costs'!$J$16","v":{"$error":"#REF!"}},{"$f":"HLOOKUP(CONCATENATE($I$50,L$51),INDIRECT(\"'\"&$E$50&\"'!B17:Z54\"),16,FALSE)*'Planting and management costs'!$J$15","v":{"$error":"#REF!"}},{"$f":"HLOOKUP(CONCATENATE($I$50,M$51),INDIRECT(\"'\"&$E$50&\"'!B17:Z54\"),16,FALSE)*'Planting and management costs'!$J$16","v":{"$error":"#REF!"}},{"$f":"HLOOKUP(CONCATENATE($I$50,N$51),INDIRECT(\"'\"&$E$50&\"'!B17:Z54\"),16,FALSE)*'Planting and management costs'!$J$15","v":{"$error":"#REF!"}},{"$f":"HLOOKUP(CONCATENATE($I$50,O$51),INDIRECT(\"'\"&$E$50&\"'!B17:Z54\"),16,FALSE)*'Planting and management costs'!$J$16","v":{"$error":"#REF!"}},null,{"$error":"#REF!"},0,{"$f":"IF('Cash flow'!B65='Growth characteristics'!$J$26,'Growth characteristics'!$J$29,0)","v":0},{"$f":"IF($R$52=\"USD/m3\",R65*S65,R65*S65*'Growth characteristics'!$J$32*0.001)","v":0},{"$error":"#REF!"},{"$error":"#REF!"},{"$error":"#REF!"},{"$error":"#REF!"},{"$error":"#REF!"},null,{"$error":"#REF!"},{"$error":"#REF!"},{"$error":"#REF!"},{"$error":"#REF!"},{"$error":"#REF!"},{"$error":"#REF!"},{"$error":"#REF!"},{"$error":"#REF!"},null,{"$error":"#REF!"},0,{"$error":"#REF!"},{"$error":"#REF!"},1,12,1]
[null,13,{"$f":"HLOOKUP(CONCATENATE($I$50,C$51),INDIRECT(\"'\"&$E$50&\"'!B17:Z54\"),17,FALSE)*'Planting and management costs'!$G$36","v":{"$error":"#REF!"}},{"$f":"HLOOKUP(CONCATENATE($I$50,D$51),INDIRECT(\"'\"&$E$50&\"'!B17:Z54\"),17,FALSE)*'Planting and management costs'!$G$38","v":{"$error":"#REF!"}},{"$f":"HLOOKUP(CONCATENATE($I$50,E$51),INDIRECT(\"'\"&$E$50&\"'!B17:Z54\"),17,FALSE)*'Planting and management costs'!$G$39","v":{"$error":"#REF!"}},{"$f":"HLOOKUP(CONCATENATE($I$50,F$51),INDIRECT(\"'\"&$E$50&\"'!B17:Z54\"),17,FALSE)*'Planting and management costs'!$G$40","v":{"$error":"#REF!"}},null,{"$f":"HLOOKUP(CONCATENATE($I$50,H$51),INDIRECT(\"'\"&$E$50&\"'!B17:Z54\"),17,FALSE)*'Planting and management costs'!$J$15","v":{"$error":"#REF!"}},{"$f":"HLOOKUP(CONCATENATE($I$50,I$51),INDIRECT(\"'\"&$E$50&\"'!B17:Z54\"),17,FALSE)*'Planting and management costs'!$J$16","v":{"$error":"#REF!"}},{"$f":"HLOOKUP(CONCATENATE($I$50,J$51),INDIRECT(\"'\"&$E$50&\"'!B17:Z54\"),17,FALSE)*'Planting and management costs'!$J$15","v":{"$error":"#REF!"}},{"$f":"HLOOKUP(CONCATENATE($I$50,K$51),INDIRECT(\"'\"&$E$50&\"'!B17:Z54\"),17,FALSE)*'Planting and management costs'!$J$16","v":{"$error":"#REF!"}},{"$f":"HLOOKUP(CONCATENATE($I$50,L$51),INDIRECT(\"'\"&$E$50&\"'!B17:Z54\"),17,FALSE)*'Planting and management costs'!$J$15","v":{"$error":"#REF!"}},{"$f":"HLOOKUP(CONCATENATE($I$50,M$51),INDIRECT(\"'\"&$E$50&\"'!B17:Z54\"),17,FALSE)*'Planting and management costs'!$J$16","v":{"$error":"#REF!"}},{"$f":"HLOOKUP(CONCATENATE($I$50,N$51),INDIRECT(\"'\"&$E$50&\"'!B17:Z54\"),17,FALSE)*'Planting and management costs'!$J$15","v":{"$error":"#REF!"}},{"$f":"HLOOKUP(CONCATENATE($I$50,O$51),INDIRECT(\"'\"&$E$50&\"'!B17:Z54\"),17,FALSE)*'Planting and management costs'!$J$16","v":{"$error":"#REF!"}},null,{"$error":"#REF!"},0,{"$f":"IF('Cash flow'!B66='Growth characteristics'!$J$26,'Growth characteristics'!$J$29,0)","v":0},{"$f":"IF($R$52=\"USD/m3\",R66*S66,R66*S66*'Growth characteristics'!$J$32*0.001)","v":0},{"$error":"#REF!"},{"$error":"#REF!"},{"$error":"#REF!"},{"$error":"#REF!"},{"$error":"#REF!"},null,{"$error":"#REF!"},{"$error":"#REF!"},{"$error":"#REF!"},{"$error":"#REF!"},{"$error":"#REF!"},{"$error":"#REF!"},{"$error":"#REF!"},{"$error":"#REF!"},null,{"$error":"#REF!"},0,{"$error":"#REF!"},{"$error":"#REF!"},1,13,1]
[null,14,{"$f":"HLOOKUP(CONCATENATE($I$50,C$51),INDIRECT(\"'\"&$E$50&\"'!B17:Z54\"),18,FALSE)*'Planting and management costs'!$G$36","v":{"$error":"#REF!"}},{"$f":"HLOOKUP(CONCATENATE($I$50,D$51),INDIRECT(\"'\"&$E$50&\"'!B17:Z54\"),18,FALSE)*'Planting and management costs'!$G$38","v":{"$error":"#REF!"}},{"$f":"HLOOKUP(CONCATENATE($I$50,E$51),INDIRECT(\"'\"&$E$50&\"'!B17:Z54\"),18,FALSE)*'Planting and management costs'!$G$39","v":{"$error":"#REF!"}},{"$f":"HLOOKUP(CONCATENATE($I$50,F$51),INDIRECT(\"'\"&$E$50&\"'!B17:Z54\"),18,FALSE)*'Planting and management costs'!$G$40","v":{"$error":"#REF!"}},null,{"$f":"HLOOKUP(CONCATENATE($I$50,H$51),INDIRECT(\"'\"&$E$50&\"'!B17:Z54\"),18,FALSE)*'Planting and management costs'!$J$15","v":{"$error":"#REF!"}},{"$f":"HLOOKUP(CONCATENATE($I$50,I$51),INDIRECT(\"'\"&$E$50&\"'!B17:Z54\"),18,FALSE)*'Planting and management costs'!$J$16","v":{"$error":"#REF!"}},{"$f":"HLOOKUP(CONCATENATE($I$50,J$51),INDIRECT(\"'\"&$E$50&\"'!B17:Z54\"),18,FALSE)*'Planting and management costs'!$J$15","v":{"$error":"#REF!"}},{"$f":"HLOOKUP(CONCATENATE($I$50,K$51),INDIRECT(\"'\"&$E$50&\"'!B17:Z54\"),18,FALSE)*'Planting and management costs'!$J$16","v":{"$error":"#REF!"}},{"$f":"HLOOKUP(CONCATENATE($I$50,L$51),INDIRECT(\"'\"&$E$50&\"'!B17:Z54\"),18,FALSE)*'Planting and management costs'!$J$15","v":{"$error":"#REF!"}},{"$f":"HLOOKUP(CONCATENATE($I$50,M$51),INDIRECT(\"'\"&$E$50&\"'!B17:Z54\"),18,FALSE)*'Planting and management costs'!$J$16","v":{"$error":"#REF!"}},{"$f":"HLOOKUP(CONCATENATE($I$50,N$51),INDIRECT(\"'\"&$E$50&\"'!B17:Z54\"),18,FALSE)*'Planting and management costs'!$J$15","v":{"$error":"#REF!"}},{"$f":"HLOOKUP(CONCATENATE($I$50,O$51),INDIRECT(\"'\"&$E$50&\"'!B17:Z54\"),18,FALSE)*'Planting and management costs'!$J$16","v":{"$error":"#REF!"}},null,{"$error":"#REF!"},0,{"$f":"IF('Cash flow'!B67='Growth characteristics'!$J$26,'Growth characteristics'!$J$29,0)","v":0},{"$f":"IF($R$52=\"USD/m3\",R67*S67,R67*S67*'Growth characteristics'!$J$32*0.001)","v":0},{"$error":"#REF!"},{"$error":"#REF!"},{"$error":"#REF!"},{"$error":"#REF!"},{"$error":"#REF!"},null,{"$error":"#REF!"},{"$error":"#REF!"},{"$error":"#REF!"},{"$error":"#REF!"},{"$error":"#REF!"},{"$error":"#REF!"},{"$error":"#REF!"},{"$error":"#REF!"},null,{"$error":"#REF!"},0,{"$error":"#REF!"},{"$error":"#REF!"},1,14,1]
[null,15,{"$f":"HLOOKUP(CONCATENATE($I$50,C$51),INDIRECT(\"'\"&$E$50&\"'!B17:Z54\"),19,FALSE)*'Planting and management costs'!$G$36","v":{"$error":"#REF!"}},{"$f":"HLOOKUP(CONCATENATE($I$50,D$51),INDIRECT(\"'\"&$E$50&\"'!B17:Z54\"),19,FALSE)*'Planting and management costs'!$G$38","v":{"$error":"#REF!"}},{"$f":"HLOOKUP(CONCATENATE($I$50,E$51),INDIRECT(\"'\"&$E$50&\"'!B17:Z54\"),19,FALSE)*'Planting and management costs'!$G$39","v":{"$error":"#REF!"}},{"$f":"HLOOKUP(CONCATENATE($I$50,F$51),INDIRECT(\"'\"&$E$50&\"'!B17:Z54\"),19,FALSE)*'Planting and management costs'!$G$40","v":{"$error":"#REF!"}},null,{"$f":"HLOOKUP(CONCATENATE($I$50,H$51),INDIRECT(\"'\"&$E$50&\"'!B17:Z54\"),19,FALSE)*'Planting and management costs'!$J$15","v":{"$error":"#REF!"}},{"$f":"HLOOKUP(CONCATENATE($I$50,I$51),INDIRECT(\"'\"&$E$50&\"'!B17:Z54\"),19,FALSE)*'Planting and management costs'!$J$16","v":{"$error":"#REF!"}},{"$f":"HLOOKUP(CONCATENATE($I$50,J$51),INDIRECT(\"'\"&$E$50&\"'!B17:Z54\"),19,FALSE)*'Planting and management costs'!$J$15","v":{"$error":"#REF!"}},{"$f":"HLOOKUP(CONCATENATE($I$50,K$51),INDIRECT(\"'\"&$E$50&\"'!B17:Z54\"),19,FALSE)*'Planting and management costs'!$J$16","v":{"$error":"#REF!"}},{"$f":"HLOOKUP(CONCATENATE($I$50,L$51),INDIRECT(\"'\"&$E$50&\"'!B17:Z54\"),19,FALSE)*'Planting and management costs'!$J$15","v":{"$error":"#REF!"}},{"$f":"HLOOKUP(CONCATENATE($I$50,M$51),INDIRECT(\"'\"&$E$50&\"'!B17:Z54\"),19,FALSE)*'Planting and management costs'!$J$16","v":{"$error":"#REF!"}},{"$f":"HLOOKUP(CONCATENATE($I$50,N$51),INDIRECT(\"'\"&$E$50&\"'!B17:Z54\"),19,FALSE)*'Planting and management costs'!$J$15","v":{"$error":"#REF!"}},{"$f":"HLOOKUP(CONCATENATE($I$50,O$51),INDIRECT(\"'\"&$E$50&\"'!B17:Z54\"),19,FALSE)*'Planting and management costs'!$J$16","v":{"$error":"#REF!"}},null,{"$error":"#REF!"},0,{"$f":"IF('Cash flow'!B68='Growth characteristics'!$J$26,'Growth characteristics'!$J$29,0)","v":0},{"$f":"IF($R$52=\"USD/m3\",R68*S68,R68*S68*'Growth characteristics'!$J$32*0.001)","v":0},{"$error":"#REF!"},{"$error":"#REF!"},{"$error":"#REF!"},{"$error":"#REF!"},{"$error":"#REF!"},null,{"$error":"#REF!"},{"$error":"#REF!"},{"$error":"#REF!"},{"$error":"#REF!"},{"$error":"#REF!"},{"$error":"#REF!"},{"$error":"#REF!"},{"$error":"#REF!"},null,{"$error":"#REF!"},0,{"$error":"#REF!"},{"$error":"#REF!"},1,15,1]
[null,16,{"$f":"HLOOKUP(CONCATENATE($I$50,C$51),INDIRECT(\"'\"&$E$50&\"'!B17:Z54\"),20,FALSE)*'Planting and management costs'!$G$36","v":{"$error":"#REF!"}},{"$f":"HLOOKUP(CONCATENATE($I$50,D$51),INDIRECT(\"'\"&$E$50&\"'!B17:Z54\"),20,FALSE)*'Planting and management costs'!$G$38","v":{"$error":"#REF!"}},{"$f":"HLOOKUP(CONCATENATE($I$50,E$51),INDIRECT(\"'\"&$E$50&\"'!B17:Z54\"),20,FALSE)*'Planting and management costs'!$G$39","v":{"$error":"#REF!"}},{"$f":"HLOOKUP(CONCATENATE($I$50,F$51),INDIRECT(\"'\"&$E$50&\"'!B17:Z54\"),20,FALSE)*'Planting and management costs'!$G$40","v":{"$error":"#REF!"}},null,{"$f":"HLOOKUP(CONCATENATE($I$50,H$51),INDIRECT(\"'\"&$E$50&\"'!B17:Z54\"),20,FALSE)*'Planting and management costs'!$J$15","v":{"$error":"#REF!"}},{"$f":"HLOOKUP(CONCATENATE($I$50,I$51),INDIRECT(\"'\"&$E$50&\"'!B17:Z54\"),20,FALSE)*'Planting and management costs'!$J$16","v":{"$error":"#REF!"}},{"$f":"HLOOKUP(CONCATENATE($I$50,J$51),INDIRECT(\"'\"&$E$50&\"'!B17:Z54\"),20,FALSE)*'Planting and management costs'!$J$15","v":{"$error":"#REF!"}},{"$f":"HLOOKUP(CONCATENATE($I$50,K$51),INDIRECT(\"'\"&$E$50&\"'!B17:Z54\"),20,FALSE)*'Planting and management costs'!$J$16","v":{"$error":"#REF!"}},{"$f":"HLOOKUP(CONCATENATE($I$50,L$51),INDIRECT(\"'\"&$E$50&\"'!B17:Z54\"),20,FALSE)*'Planting and management costs'!$J$15","v":{"$error":"#REF!"}},{"$f":"HLOOKUP(CONCATENATE($I$50,M$51),INDIRECT(\"'\"&$E$50&\"'!B17:Z54\"),20,FALSE)*'Planting and management costs'!$J$16","v":{"$error":"#REF!"}},{"$f":"HLOOKUP(CONCATENATE($I$50,N$51),INDIRECT(\"'\"&$E$50&\"'!B17:Z54\"),20,FALSE)*'Planting and management costs'!$J$15","v":{"$error":"#REF!"}},{"$f":"HLOOKUP(CONCATENATE($I$50,O$51),INDIRECT(\"'\"&$E$50&\"'!B17:Z54\"),20,FALSE)*'Planting and management costs'!$J$16","v":{"$error":"#REF!"}},null,{"$error":"#REF!"},0,{"$f":"IF('Cash flow'!B69='Growth characteristics'!$J$26,'Growth characteristics'!$J$29,0)","v":0},{"$f":"IF($R$52=\"USD/m3\",R69*S69,R69*S69*'Growth characteristics'!$J$32*0.001)","v":0},{"$error":"#REF!"},{"$error":"#REF!"},{"$error":"#REF!"},{"$error":"#REF!"},{"$error":"#REF!"},null,{"$error":"#REF!"},{"$error":"#REF!"},{"$error":"#REF!"},{"$error":"#REF!"},{"$error":"#REF!"},{"$error":"#REF!"},{"$error":"#REF!"},{"$error":"#REF!"},null,{"$error":"#REF!"},0,{"$error":"#REF!"},{"$error":"#REF!"},1,16,1]
[null,17,{"$f":"HLOOKUP(CONCATENATE($I$50,C$51),INDIRECT(\"'\"&$E$50&\"'!B17:Z54\"),21,FALSE)*'Planting and management costs'!$G$36","v":{"$error":"#REF!"}},{"$f":"HLOOKUP(CONCATENATE($I$50,D$51),INDIRECT(\"'\"&$E$50&\"'!B17:Z54\"),21,FALSE)*'Planting and management costs'!$G$38","v":{"$error":"#REF!"}},{"$f":"HLOOKUP(CONCATENATE($I$50,E$51),INDIRECT(\"'\"&$E$50&\"'!B17:Z54\"),21,FALSE)*'Planting and management costs'!$G$39","v":{"$error":"#REF!"}},{"$f":"HLOOKUP(CONCATENATE($I$50,F$51),INDIRECT(\"'\"&$E$50&\"'!B17:Z54\"),21,FALSE)*'Planting and management costs'!$G$40","v":{"$error":"#REF!"}},null,{"$f":"HLOOKUP(CONCATENATE($I$50,H$51),INDIRECT(\"'\"&$E$50&\"'!B17:Z54\"),21,FALSE)*'Planting and management costs'!$J$15","v":{"$error":"#REF!"}},{"$f":"HLOOKUP(CONCATENATE($I$50,I$51),INDIRECT(\"'\"&$E$50&\"'!B17:Z54\"),21,FALSE)*'Planting and management costs'!$J$16","v":{"$error":"#REF!"}},{"$f":"HLOOKUP(CONCATENATE($I$50,J$51),INDIRECT(\"'\"&$E$50&\"'!B17:Z54\"),21,FALSE)*'Planting and management costs'!$J$15","v":{"$error":"#REF!"}},{"$f":"HLOOKUP(CONCATENATE($I$50,K$51),INDIRECT(\"'\"&$E$50&\"'!B17:Z54\"),21,FALSE)*'Planting and management costs'!$J$16","v":{"$error":"#REF!"}},{"$f":"HLOOKUP(CONCATENATE($I$50,L$51),INDIRECT(\"'\"&$E$50&\"'!B17:Z54\"),21,FALSE)*'Planting and management costs'!$J$15","v":{"$error":"#REF!"}},{"$f":"HLOOKUP(CONCATENATE($I$50,M$51),INDIRECT(\"'\"&$E$50&\"'!B17:Z54\"),21,FALSE)*'Planting and management costs'!$J$16","v":{"$error":"#REF!"}},{"$f":"HLOOKUP(CONCATENATE($I$50,N$51),INDIRECT(\"'\"&$E$50&\"'!B17:Z54\"),21,FALSE)*'Planting and management costs'!$J$15","v":{"$error":"#REF!"}},{"$f":"HLOOKUP(CONCATENATE($I$50,O$51),INDIRECT(\"'\"&$E$50&\"'!B17:Z54\"),21,FALSE)*'Planting and management costs'!$J$16","v":{"$error":"#REF!"}},null,{"$error":"#REF!"},0,{"$f":"IF('Cash flow'!B70='Growth characteristics'!$J$26,'Growth characteristics'!$J$29,0)","v":0},{"$f":"IF($R$52=\"USD/m3\",R70*S70,R70*S70*'Growth characteristics'!$J$32*0.001)","v":0},{"$error":"#REF!"},{"$error":"#REF!"},{"$error":"#REF!"},{"$error":"#REF!"},{"$error":"#REF!"},null,{"$error":"#REF!"},{"$error":"#REF!"},{"$error":"#REF!"},{"$error":"#REF!"},{"$error":"#REF!"},{"$error":"#REF!"},{"$error":"#REF!"},{"$error":"#REF!"},null,{"$error":"#REF!"},0,{"$error":"#REF!"},{"$error":"#REF!"},1,17,1]
[null,18,{"$f":"HLOOKUP(CONCATENATE($I$50,C$51),INDIRECT(\"'\"&$E$50&\"'!B17:Z54\"),22,FALSE)*'Planting and management costs'!$G$36","v":{"$error":"#REF!"}},{"$f":"HLOOKUP(CONCATENATE($I$50,D$51),INDIRECT(\"'\"&$E$50&\"'!B17:Z54\"),22,FALSE)*'Planting and management costs'!$G$38","v":{"$error":"#REF!"}},{"$f":"HLOOKUP(CONCATENATE($I$50,E$51),INDIRECT(\"'\"&$E$50&\"'!B17:Z54\"),22,FALSE)*'Planting and management costs'!$G$39","v":{"$error":"#REF!"}},{"$f":"HLOOKUP(CONCATENATE($I$50,F$51),INDIRECT(\"'\"&$E$50&\"'!B17:Z54\"),22,FALSE)*'Planting and management costs'!$G$40","v":{"$error":"#REF!"}},null,{"$f":"HLOOKUP(CONCATENATE($I$50,H$51),INDIRECT(\"'\"&$E$50&\"'!B17:Z54\"),22,FALSE)*'Planting and management costs'!$J$15","v":{"$error":"#REF!"}},{"$f":"HLOOKUP(CONCATENATE($I$50,I$51),INDIRECT(\"'\"&$E$50&\"'!B17:Z54\"),22,FALSE)*'Planting and management costs'!$J$16","v":{"$error":"#REF!"}},{"$f":"HLOOKUP(CONCATENATE($I$50,J$51),INDIRECT(\"'\"&$E$50&\"'!B17:Z54\"),22,FALSE)*'Planting and management costs'!$J$15","v":{"$error":"#REF!"}},{"$f":"HLOOKUP(CONCATENATE($I$50,K$51),INDIRECT(\"'\"&$E$50&\"'!B17:Z54\"),22,FALSE)*'Planting and management costs'!$J$16","v":{"$error":"#REF!"}},{"$f":"HLOOKUP(CONCATENATE($I$50,L$51),INDIRECT(\"'\"&$E$50&\"'!B17:Z54\"),22,FALSE)*'Planting and management costs'!$J$15","v":{"$error":"#REF!"}},{"$f":"HLOOKUP(CONCATENATE($I$50,M$51),INDIRECT(\"'\"&$E$50&\"'!B17:Z54\"),22,FALSE)*'Planting and management costs'!$J$16","v":{"$error":"#REF!"}},{"$f":"HLOOKUP(CONCATENATE($I$50,N$51),INDIRECT(\"'\"&$E$50&\"'!B17:Z54\"),22,FALSE)*'Planting and management costs'!$J$15","v":{"$error":"#REF!"}},{"$f":"HLOOKUP(CONCATENATE($I$50,O$51),INDIRECT(\"'\"&$E$50&\"'!B17:Z54\"),22,FALSE)*'Planting and management costs'!$J$16","v":{"$error":"#REF!"}},null,{"$error":"#REF!"},0,{"$f":"IF('Cash flow'!B71='Growth characteristics'!$J$26,'Growth characteristics'!$J$29,0)","v":0},{"$f":"IF($R$52=\"USD/m3\",R71*S71,R71*S71*'Growth characteristics'!$J$32*0.001)","v":0},{"$error":"#REF!"},{"$error":"#REF!"},{"$error":"#REF!"},{"$error":"#REF!"},{"$error":"#REF!"},null,{"$error":"#REF!"},{"$error":"#REF!"},{"$error":"#REF!"},{"$error":"#REF!"},{"$error":"#REF!"},{"$error":"#REF!"},{"$error":"#REF!"},{"$error":"#REF!"},null,{"$error":"#REF!"},0,{"$error":"#REF!"},{"$error":"#REF!"},1,18,1]
[null,19,{"$f":"HLOOKUP(CONCATENATE($I$50,C$51),INDIRECT(\"'\"&$E$50&\"'!B17:Z54\"),23,FALSE)*'Planting and management costs'!$G$36","v":{"$error":"#REF!"}},{"$f":"HLOOKUP(CONCATENATE($I$50,D$51),INDIRECT(\"'\"&$E$50&\"'!B17:Z54\"),23,FALSE)*'Planting and management costs'!$G$38","v":{"$error":"#REF!"}},{"$f":"HLOOKUP(CONCATENATE($I$50,E$51),INDIRECT(\"'\"&$E$50&\"'!B17:Z54\"),23,FALSE)*'Planting and management costs'!$G$39","v":{"$error":"#REF!"}},{"$f":"HLOOKUP(CONCATENATE($I$50,F$51),INDIRECT(\"'\"&$E$50&\"'!B17:Z54\"),23,FALSE)*'Planting and management costs'!$G$40","v":{"$error":"#REF!"}},null,{"$f":"HLOOKUP(CONCATENATE($I$50,H$51),INDIRECT(\"'\"&$E$50&\"'!B17:Z54\"),23,FALSE)*'Planting and management costs'!$J$15","v":{"$error":"#REF!"}},{"$f":"HLOOKUP(CONCATENATE($I$50,I$51),INDIRECT(\"'\"&$E$50&\"'!B17:Z54\"),23,FALSE)*'Planting and management costs'!$J$16","v":{"$error":"#REF!"}},{"$f":"HLOOKUP(CONCATENATE($I$50,J$51),INDIRECT(\"'\"&$E$50&\"'!B17:Z54\"),23,FALSE)*'Planting and management costs'!$J$15","v":{"$error":"#REF!"}},{"$f":"HLOOKUP(CONCATENATE($I$50,K$51),INDIRECT(\"'\"&$E$50&\"'!B17:Z54\"),23,FALSE)*'Planting and management costs'!$J$16","v":{"$error":"#REF!"}},{"$f":"HLOOKUP(CONCATENATE($I$50,L$51),INDIRECT(\"'\"&$E$50&\"'!B17:Z54\"),23,FALSE)*'Planting and management costs'!$J$15","v":{"$error":"#REF!"}},{"$f":"HLOOKUP(CONCATENATE($I$50,M$51),INDIRECT(\"'\"&$E$50&\"'!B17:Z54\"),23,FALSE)*'Planting and management costs'!$J$16","v":{"$error":"#REF!"}},{"$f":"HLOOKUP(CONCATENATE($I$50,N$51),INDIRECT(\"'\"&$E$50&\"'!B17:Z54\"),23,FALSE)*'Planting and management costs'!$J$15","v":{"$error":"#REF!"}},{"$f":"HLOOKUP(CONCATENATE($I$50,O$51),INDIRECT(\"'\"&$E$50&\"'!B17:Z54\"),23,FALSE)*'Planting and management costs'!$J$16","v":{"$error":"#REF!"}},null,{"$error":"#REF!"},0,{"$f":"IF('Cash flow'!B72='Growth characteristics'!$J$26,'Growth characteristics'!$J$29,0)","v":0},{"$f":"IF($R$52=\"USD/m3\",R72*S72,R72*S72*'Growth characteristics'!$J$32*0.001)","v":0},{"$error":"#REF!"},{"$error":"#REF!"},{"$error":"#REF!"},{"$error":"#REF!"},{"$error":"#REF!"},null,{"$error":"#REF!"},{"$error":"#REF!"},{"$error":"#REF!"},{"$error":"#REF!"},{"$error":"#REF!"},{"$error":"#REF!"},{"$error":"#REF!"},{"$error":"#REF!"},null,{"$error":"#REF!"},0,{"$error":"#REF!"},{"$error":"#REF!"},1,19,1]
[null,20,{"$f":"HLOOKUP(CONCATENATE($I$50,C$51),INDIRECT(\"'\"&$E$50&\"'!B17:Z54\"),24,FALSE)*'Planting and management costs'!$G$36","v":{"$error":"#REF!"}},{"$f":"HLOOKUP(CONCATENATE($I$50,D$51),INDIRECT(\"'\"&$E$50&\"'!B17:Z54\"),24,FALSE)*'Planting and management costs'!$G$38","v":{"$error":"#REF!"}},{"$f":"HLOOKUP(CONCATENATE($I$50,E$51),INDIRECT(\"'\"&$E$50&\"'!B17:Z54\"),24,FALSE)*'Planting and management costs'!$G$39","v":{"$error":"#REF!"}},{"$f":"HLOOKUP(CONCATENATE($I$50,F$51),INDIRECT(\"'\"&$E$50&\"'!B17:Z54\"),24,FALSE)*'Planting and management costs'!$G$40","v":{"$error":"#REF!"}},null,{"$f":"HLOOKUP(CONCATENATE($I$50,H$51),INDIRECT(\"'\"&$E$50&\"'!B17:Z54\"),24,FALSE)*'Planting and management costs'!$J$15","v":{"$error":"#REF!"}},{"$f":"HLOOKUP(CONCATENATE($I$50,I$51),INDIRECT(\"'\"&$E$50&\"'!B17:Z54\"),24,FALSE)*'Planting and management costs'!$J$16","v":{"$error":"#REF!"}},{"$f":"HLOOKUP(CONCATENATE($I$50,J$51),INDIRECT(\"'\"&$E$50&\"'!B17:Z54\"),24,FALSE)*'Planting and management costs'!$J$15","v":{"$error":"#REF!"}},{"$f":"HLOOKUP(CONCATENATE($I$50,K$51),INDIRECT(\"'\"&$E$50&\"'!B17:Z54\"),24,FALSE)*'Planting and management costs'!$J$16","v":{"$error":"#REF!"}},{"$f":"HLOOKUP(CONCATENATE($I$50,L$51),INDIRECT(\"'\"&$E$50&\"'!B17:Z54\"),24,FALSE)*'Planting and management costs'!$J$15","v":{"$error":"#REF!"}},{"$f":"HLOOKUP(CONCATENATE($I$50,M$51),INDIRECT(\"'\"&$E$50&\"'!B17:Z54\"),24,FALSE)*'Planting and management costs'!$J$16","v":{"$error":"#REF!"}},{"$f":"HLOOKUP(CONCATENATE($I$50,N$51),INDIRECT(\"'\"&$E$50&\"'!B17:Z54\"),24,FALSE)*'Planting and management costs'!$J$15","v":{"$error":"#REF!"}},{"$f":"HLOOKUP(CONCATENATE($I$50,O$51),INDIRECT(\"'\"&$E$50&\"'!B17:Z54\"),24,FALSE)*'Planting and management costs'!$J$16","v":{"$error":"#REF!"}},null,{"$error":"#REF!"},0,{"$f":"IF('Cash flow'!B73='Growth characteristics'!$J$26,'Growth characteristics'!$J$29,0)","v":0},{"$f":"IF($R$52=\"USD/m3\",R73*S73,R73*S73*'Growth characteristics'!$J$32*0.001)","v":0},{"$error":"#REF!"},{"$error":"#REF!"},{"$error":"#REF!"},{"$error":"#REF!"},{"$error":"#REF!"},null,{"$error":"#REF!"},{"$error":"#REF!"},{"$error":"#REF!"},{"$error":"#REF!"},{"$error":"#REF!"},{"$error":"#REF!"},{"$error":"#REF!"},{"$error":"#REF!"},null,{"$error":"#REF!"},0,{"$error":"#REF!"},{"$error":"#REF!"},1,20,1]
[null,21,{"$f":"HLOOKUP(CONCATENATE($I$50,C$51),INDIRECT(\"'\"&$E$50&\"'!B17:Z54\"),25,FALSE)*'Planting and management costs'!$G$36","v":{"$error":"#REF!"}},{"$f":"HLOOKUP(CONCATENATE($I$50,D$51),INDIRECT(\"'\"&$E$50&\"'!B17:Z54\"),25,FALSE)*'Planting and management costs'!$G$38","v":{"$error":"#REF!"}},{"$f":"HLOOKUP(CONCATENATE($I$50,E$51),INDIRECT(\"'\"&$E$50&\"'!B17:Z54\"),25,FALSE)*'Planting and management costs'!$G$39","v":{"$error":"#REF!"}},{"$f":"HLOOKUP(CONCATENATE($I$50,F$51),INDIRECT(\"'\"&$E$50&\"'!B17:Z54\"),25,FALSE)*'Planting and management costs'!$G$40","v":{"$error":"#REF!"}},null,{"$f":"HLOOKUP(CONCATENATE($I$50,H$51),INDIRECT(\"'\"&$E$50&\"'!B17:Z54\"),25,FALSE)*'Planting and management costs'!$J$15","v":{"$error":"#REF!"}},{"$f":"HLOOKUP(CONCATENATE($I$50,I$51),INDIRECT(\"'\"&$E$50&\"'!B17:Z54\"),25,FALSE)*'Planting and management costs'!$J$16","v":{"$error":"#REF!"}},{"$f":"HLOOKUP(CONCATENATE($I$50,J$51),INDIRECT(\"'\"&$E$50&\"'!B17:Z54\"),25,FALSE)*'Planting and management costs'!$J$15","v":{"$error":"#REF!"}},{"$f":"HLOOKUP(CONCATENATE($I$50,K$51),INDIRECT(\"'\"&$E$50&\"'!B17:Z54\"),25,FALSE)*'Planting and management costs'!$J$16","v":{"$error":"#REF!"}},{"$f":"HLOOKUP(CONCATENATE($I$50,L$51),INDIRECT(\"'\"&$E$50&\"'!B17:Z54\"),25,FALSE)*'Planting and management costs'!$J$15","v":{"$error":"#REF!"}},{"$f":"HLOOKUP(CONCATENATE($I$50,M$51),INDIRECT(\"'\"&$E$50&\"'!B17:Z54\"),25,FALSE)*'Planting and management costs'!$J$16","v":{"$error":"#REF!"}},{"$f":"HLOOKUP(CONCATENATE($I$50,N$51),INDIRECT(\"'\"&$E$50&\"'!B17:Z54\"),25,FALSE)*'Planting and management costs'!$J$15","v":{"$error":"#REF!"}},{"$f":"HLOOKUP(CONCATENATE($I$50,O$51),INDIRECT(\"'\"&$E$50&\"'!B17:Z54\"),25,FALSE)*'Planting and management costs'!$J$16","v":{"$error":"#REF!"}},null,{"$error":"#REF!"},0,{"$f":"IF('Cash flow'!B74='Growth characteristics'!$J$26,'Growth characteristics'!$J$29,0)","v":0},{"$f":"IF($R$52=\"USD/m3\",R74*S74,R74*S74*'Growth characteristics'!$J$32*0.001)","v":0},{"$error":"#REF!"},{"$error":"#REF!"},{"$error":"#REF!"},{"$error":"#REF!"},{"$error":"#REF!"},null,{"$error":"#REF!"},{"$error":"#REF!"},{"$error":"#REF!"},{"$error":"#REF!"},{"$error":"#REF!"},{"$error":"#REF!"},{"$error":"#REF!"},{"$error":"#REF!"},null,{"$error":"#REF!"},0,{"$error":"#REF!"},{"$error":"#REF!"},1,21,1]
[null,22,{"$f":"HLOOKUP(CONCATENATE($I$50,C$51),INDIRECT(\"'\"&$E$50&\"'!B17:Z54\"),26,FALSE)*'Planting and management costs'!$G$36","v":{"$error":"#REF!"}},{"$f":"HLOOKUP(CONCATENATE($I$50,D$51),INDIRECT(\"'\"&$E$50&\"'!B17:Z54\"),26,FALSE)*'Planting and management costs'!$G$38","v":{"$error":"#REF!"}},{"$f":"HLOOKUP(CONCATENATE($I$50,E$51),INDIRECT(\"'\"&$E$50&\"'!B17:Z54\"),26,FALSE)*'Planting and management costs'!$G$39","v":{"$error":"#REF!"}},{"$f":"HLOOKUP(CONCATENATE($I$50,F$51),INDIRECT(\"'\"&$E$50&\"'!B17:Z54\"),26,FALSE)*'Planting and management costs'!$G$40","v":{"$error":"#REF!"}},null,{"$f":"HLOOKUP(CONCATENATE($I$50,H$51),INDIRECT(\"'\"&$E$50&\"'!B17:Z54\"),26,FALSE)*'Planting and management costs'!$J$15","v":{"$error":"#REF!"}},{"$f":"HLOOKUP(CONCATENATE($I$50,I$51),INDIRECT(\"'\"&$E$50&\"'!B17:Z54\"),26,FALSE)*'Planting and management costs'!$J$16","v":{"$error":"#REF!"}},{"$f":"HLOOKUP(CONCATENATE($I$50,J$51),INDIRECT(\"'\"&$E$50&\"'!B17:Z54\"),26,FALSE)*'Planting and management costs'!$J$15","v":{"$error":"#REF!"}},{"$f":"HLOOKUP(CONCATENATE($I$50,K$51),INDIRECT(\"'\"&$E$50&\"'!B17:Z54\"),26,FALSE)*'Planting and management costs'!$J$16","v":{"$error":"#REF!"}},{"$f":"HLOOKUP(CONCATENATE($I$50,L$51),INDIRECT(\"'\"&$E$50&\"'!B17:Z54\"),26,FALSE)*'Planting and management costs'!$J$15","v":{"$error":"#REF!"}},{"$f":"HLOOKUP(CONCATENATE($I$50,M$51),INDIRECT(\"'\"&$E$50&\"'!B17:Z54\"),26,FALSE)*'Planting and management costs'!$J$16","v":{"$error":"#REF!"}},{"$f":"HLOOKUP(CONCATENATE($I$50,N$51),INDIRECT(\"'\"&$E$50&\"'!B17:Z54\"),26,FALSE)*'Planting and management costs'!$J$15","v":{"$error":"#REF!"}},{"$f":"HLOOKUP(CONCATENATE($I$50,O$51),INDIRECT(\"'\"&$E$50&\"'!B17:Z54\"),26,FALSE)*'Planting and management costs'!$J$16","v":{"$error":"#REF!"}},null,{"$error":"#REF!"},0,{"$f":"IF('Cash flow'!B75='Growth characteristics'!$J$26,'Growth characteristics'!$J$29,0)","v":0},{"$f":"IF($R$52=\"USD/m3\",R75*S75,R75*S75*'Growth characteristics'!$J$32*0.001)","v":0},{"$error":"#REF!"},{"$error":"#REF!"},{"$error":"#REF!"},{"$error":"#REF!"},{"$error":"#REF!"},null,{"$error":"#REF!"},{"$error":"#REF!"},{"$error":"#REF!"},{"$error":"#REF!"},{"$error":"#REF!"},{"$error":"#REF!"},{"$error":"#REF!"},{"$error":"#REF!"},null,{"$error":"#REF!"},0,{"$error":"#REF!"},{"$error":"#REF!"},1,22,1]
[null,23,{"$f":"HLOOKUP(CONCATENATE($I$50,C$51),INDIRECT(\"'\"&$E$50&\"'!B17:Z54\"),27,FALSE)*'Planting and management costs'!$G$36","v":{"$error":"#REF!"}},{"$f":"HLOOKUP(CONCATENATE($I$50,D$51),INDIRECT(\"'\"&$E$50&\"'!B17:Z54\"),27,FALSE)*'Planting and management costs'!$G$38","v":{"$error":"#REF!"}},{"$f":"HLOOKUP(CONCATENATE($I$50,E$51),INDIRECT(\"'\"&$E$50&\"'!B17:Z54\"),27,FALSE)*'Planting and management costs'!$G$39","v":{"$error":"#REF!"}},{"$f":"HLOOKUP(CONCATENATE($I$50,F$51),INDIRECT(\"'\"&$E$50&\"'!B17:Z54\"),27,FALSE)*'Planting and management costs'!$G$40","v":{"$error":"#REF!"}},null,{"$f":"HLOOKUP(CONCATENATE($I$50,H$51),INDIRECT(\"'\"&$E$50&\"'!B17:Z54\"),27,FALSE)*'Planting and management costs'!$J$15","v":{"$error":"#REF!"}},{"$f":"HLOOKUP(CONCATENATE($I$50,I$51),INDIRECT(\"'\"&$E$50&\"'!B17:Z54\"),27,FALSE)*'Planting and management costs'!$J$16","v":{"$error":"#REF!"}},{"$f":"HLOOKUP(CONCATENATE($I$50,J$51),INDIRECT(\"'\"&$E$50&\"'!B17:Z54\"),27,FALSE)*'Planting and management costs'!$J$15","v":{"$error":"#REF!"}},{"$f":"HLOOKUP(CONCATENATE($I$50,K$51),INDIRECT(\"'\"&$E$50&\"'!B17:Z54\"),27,FALSE)*'Planting and management costs'!$J$16","v":{"$error":"#REF!"}},{"$f":"HLOOKUP(CONCATENATE($I$50,L$51),INDIRECT(\"'\"&$E$50&\"'!B17:Z54\"),27,FALSE)*'Planting and management costs'!$J$15","v":{"$error":"#REF!"}},{"$f":"HLOOKUP(CONCATENATE($I$50,M$51),INDIRECT(\"'\"&$E$50&\"'!B17:Z54\"),27,FALSE)*'Planting and management costs'!$J$16","v":{"$error":"#REF!"}},{"$f":"HLOOKUP(CONCATENATE($I$50,N$51),INDIRECT(\"'\"&$E$50&\"'!B17:Z54\"),27,FALSE)*'Planting and management costs'!$J$15","v":{"$error":"#REF!"}},{"$f":"HLOOKUP(CONCATENATE($I$50,O$51),INDIRECT(\"'\"&$E$50&\"'!B17:Z54\"),27,FALSE)*'Planting and management costs'!$J$16","v":{"$error":"#REF!"}},null,{"$error":"#REF!"},0,{"$f":"IF('Cash flow'!B76='Growth characteristics'!$J$26,'Growth characteristics'!$J$29,0)","v":0},{"$f":"IF($R$52=\"USD/m3\",R76*S76,R76*S76*'Growth characteristics'!$J$32*0.001)","v":0},{"$error":"#REF!"},{"$error":"#REF!"},{"$error":"#REF!"},{"$error":"#REF!"},{"$error":"#REF!"},null,{"$error":"#REF!"},{"$error":"#REF!"},{"$error":"#REF!"},{"$error":"#REF!"},{"$error":"#REF!"},{"$error":"#REF!"},{"$error":"#REF!"},{"$error":"#REF!"},null,{"$error":"#REF!"},0,{"$error":"#REF!"},{"$error":"#REF!"},1,23,1]
[null,24,{"$f":"HLOOKUP(CONCATENATE($I$50,C$51),INDIRECT(\"'\"&$E$50&\"'!B17:Z54\"),28,FALSE)*'Planting and management costs'!$G$36","v":{"$error":"#REF!"}},{"$f":"HLOOKUP(CONCATENATE($I$50,D$51),INDIRECT(\"'\"&$E$50&\"'!B17:Z54\"),28,FALSE)*'Planting and management costs'!$G$38","v":{"$error":"#REF!"}},{"$f":"HLOOKUP(CONCATENATE($I$50,E$51),INDIRECT(\"'\"&$E$50&\"'!B17:Z54\"),28,FALSE)*'Planting and management costs'!$G$39","v":{"$error":"#REF!"}},{"$f":"HLOOKUP(CONCATENATE($I$50,F$51),INDIRECT(\"'\"&$E$50&\"'!B17:Z54\"),28,FALSE)*'Planting and management costs'!$G$40","v":{"$error":"#REF!"}},null,{"$f":"HLOOKUP(CONCATENATE($I$50,H$51),INDIRECT(\"'\"&$E$50&\"'!B17:Z54\"),28,FALSE)*'Planting and management costs'!$J$15","v":{"$error":"#REF!"}},{"$f":"HLOOKUP(CONCATENATE($I$50,I$51),INDIRECT(\"'\"&$E$50&\"'!B17:Z54\"),28,FALSE)*'Planting and management costs'!$J$16","v":{"$error":"#REF!"}},{"$f":"HLOOKUP(CONCATENATE($I$50,J$51),INDIRECT(\"'\"&$E$50&\"'!B17:Z54\"),28,FALSE)*'Planting and management costs'!$J$15","v":{"$error":"#REF!"}},{"$f":"HLOOKUP(CONCATENATE($I$50,K$51),INDIRECT(\"'\"&$E$50&\"'!B17:Z54\"),28,FALSE)*'Planting and management costs'!$J$16","v":{"$error":"#REF!"}},{"$f":"HLOOKUP(CONCATENATE($I$50,L$51),INDIRECT(\"'\"&$E$50&\"'!B17:Z54\"),28,FALSE)*'Planting and management costs'!$J$15","v":{"$error":"#REF!"}},{"$f":"HLOOKUP(CONCATENATE($I$50,M$51),INDIRECT(\"'\"&$E$50&\"'!B17:Z54\"),28,FALSE)*'Planting and management costs'!$J$16","v":{"$error":"#REF!"}},{"$f":"HLOOKUP(CONCATENATE($I$50,N$51),INDIRECT(\"'\"&$E$50&\"'!B17:Z54\"),28,FALSE)*'Planting and management costs'!$J$15","v":{"$error":"#REF!"}},{"$f":"HLOOKUP(CONCATENATE($I$50,O$51),INDIRECT(\"'\"&$E$50&\"'!B17:Z54\"),28,FALSE)*'Planting and management costs'!$J$16","v":{"$error":"#REF!"}},null,{"$error":"#REF!"},0,{"$f":"IF('Cash flow'!B77='Growth characteristics'!$J$26,'Growth characteristics'!$J$29,0)","v":0},{"$f":"IF($R$52=\"USD/m3\",R77*S77,R77*S77*'Growth characteristics'!$J$32*0.001)","v":0},{"$error":"#REF!"},{"$error":"#REF!"},{"$error":"#REF!"},{"$error":"#REF!"},{"$error":"#REF!"},null,{"$error":"#REF!"},{"$error":"#REF!"},{"$error":"#REF!"},{"$error":"#REF!"},{"$error":"#REF!"},{"$error":"#REF!"},{"$error":"#REF!"},{"$error":"#REF!"},null,{"$error":"#REF!"},0,{"$error":"#REF!"},{"$error":"#REF!"},1,24,1]
[null,25,{"$f":"HLOOKUP(CONCATENATE($I$50,C$51),INDIRECT(\"'\"&$E$50&\"'!B17:Z54\"),29,FALSE)*'Planting and management costs'!$G$36","v":{"$error":"#REF!"}},{"$f":"HLOOKUP(CONCATENATE($I$50,D$51),INDIRECT(\"'\"&$E$50&\"'!B17:Z54\"),29,FALSE)*'Planting and management costs'!$G$38","v":{"$error":"#REF!"}},{"$f":"HLOOKUP(CONCATENATE($I$50,E$51),INDIRECT(\"'\"&$E$50&\"'!B17:Z54\"),29,FALSE)*'Planting and management costs'!$G$39","v":{"$error":"#REF!"}},{"$f":"HLOOKUP(CONCATENATE($I$50,F$51),INDIRECT(\"'\"&$E$50&\"'!B17:Z54\"),29,FALSE)*'Planting and management costs'!$G$40","v":{"$error":"#REF!"}},null,{"$f":"HLOOKUP(CONCATENATE($I$50,H$51),INDIRECT(\"'\"&$E$50&\"'!B17:Z54\"),29,FALSE)*'Planting and management costs'!$J$15","v":{"$error":"#REF!"}},{"$f":"HLOOKUP(CONCATENATE($I$50,I$51),INDIRECT(\"'\"&$E$50&\"'!B17:Z54\"),29,FALSE)*'Planting and management costs'!$J$16","v":{"$error":"#REF!"}},{"$f":"HLOOKUP(CONCATENATE($I$50,J$51),INDIRECT(\"'\"&$E$50&\"'!B17:Z54\"),29,FALSE)*'Planting and management costs'!$J$15","v":{"$error":"#REF!"}},{"$f":"HLOOKUP(CONCATENATE($I$50,K$51),INDIRECT(\"'\"&$E$50&\"'!B17:Z54\"),29,FALSE)*'Planting and management costs'!$J$16","v":{"$error":"#REF!"}},{"$f":"HLOOKUP(CONCATENATE($I$50,L$51),INDIRECT(\"'\"&$E$50&\"'!B17:Z54\"),29,FALSE)*'Planting and management costs'!$J$15","v":{"$error":"#REF!"}},{"$f":"HLOOKUP(CONCATENATE($I$50,M$51),INDIRECT(\"'\"&$E$50&\"'!B17:Z54\"),29,FALSE)*'Planting and management costs'!$J$16","v":{"$error":"#REF!"}},{"$f":"HLOOKUP(CONCATENATE($I$50,N$51),INDIRECT(\"'\"&$E$50&\"'!B17:Z54\"),29,FALSE)*'Planting and management costs'!$J$15","v":{"$error":"#REF!"}},{"$f":"HLOOKUP(CONCATENATE($I$50,O$51),INDIRECT(\"'\"&$E$50&\"'!B17:Z54\"),29,FALSE)*'Planting and management costs'!$J$16","v":{"$error":"#REF!"}},null,{"$error":"#REF!"},0,{"$f":"IF('Cash flow'!B78='Growth characteristics'!$J$26,'Growth characteristics'!$J$29,0)","v":0},{"$f":"IF($R$52=\"USD/m3\",R78*S78,R78*S78*'Growth characteristics'!$J$32*0.001)","v":0},{"$error":"#REF!"},{"$error":"#REF!"},{"$error":"#REF!"},{"$error":"#REF!"},{"$error":"#REF!"},null,{"$error":"#REF!"},{"$error":"#REF!"},{"$error":"#REF!"},{"$error":"#REF!"},{"$error":"#REF!"},{"$error":"#REF!"},{"$error":"#REF!"},{"$error":"#REF!"},null,{"$error":"#REF!"},0,{"$error":"#REF!"},{"$error":"#REF!"},1,25,1]
[null,26,{"$f":"HLOOKUP(CONCATENATE($I$50,C$51),INDIRECT(\"'\"&$E$50&\"'!B17:Z54\"),30,FALSE)*'Planting and management costs'!$G$36","v":{"$error":"#REF!"}},{"$f":"HLOOKUP(CONCATENATE($I$50,D$51),INDIRECT(\"'\"&$E$50&\"'!B17:Z54\"),30,FALSE)*'Planting and management costs'!$G$38","v":{"$error":"#REF!"}},{"$f":"HLOOKUP(CONCATENATE($I$50,E$51),INDIRECT(\"'\"&$E$50&\"'!B17:Z54\"),30,FALSE)*'Planting and management costs'!$G$39","v":{"$error":"#REF!"}},{"$f":"HLOOKUP(CONCATENATE($I$50,F$51),INDIRECT(\"'\"&$E$50&\"'!B17:Z54\"),30,FALSE)*'Planting and management costs'!$G$40","v":{"$error":"#REF!"}},null,{"$f":"HLOOKUP(CONCATENATE($I$50,H$51),INDIRECT(\"'\"&$E$50&\"'!B17:Z54\"),30,FALSE)*'Planting and management costs'!$J$15","v":{"$error":"#REF!"}},{"$f":"HLOOKUP(CONCATENATE($I$50,I$51),INDIRECT(\"'\"&$E$50&\"'!B17:Z54\"),30,FALSE)*'Planting and management costs'!$J$16","v":{"$error":"#REF!"}},{"$f":"HLOOKUP(CONCATENATE($I$50,J$51),INDIRECT(\"'\"&$E$50&\"'!B17:Z54\"),30,FALSE)*'Planting and management costs'!$J$15","v":{"$error":"#REF!"}},{"$f":"HLOOKUP(CONCATENATE($I$50,K$51),INDIRECT(\"'\"&$E$50&\"'!B17:Z54\"),30,FALSE)*'Planting and management costs'!$J$16","v":{"$error":"#REF!"}},{"$f":"HLOOKUP(CONCATENATE($I$50,L$51),INDIRECT(\"'\"&$E$50&\"'!B17:Z54\"),30,FALSE)*'Planting and management costs'!$J$15","v":{"$error":"#REF!"}},{"$f":"HLOOKUP(CONCATENATE($I$50,M$51),INDIRECT(\"'\"&$E$50&\"'!B17:Z54\"),30,FALSE)*'Planting and management costs'!$J$16","v":{"$error":"#REF!"}},{"$f":"HLOOKUP(CONCATENATE($I$50,N$51),INDIRECT(\"'\"&$E$50&\"'!B17:Z54\"),30,FALSE)*'Planting and management costs'!$J$15","v":{"$error":"#REF!"}},{"$f":"HLOOKUP(CONCATENATE($I$50,O$51),INDIRECT(\"'\"&$E$50&\"'!B17:Z54\"),30,FALSE)*'Planting and management costs'!$J$16","v":{"$error":"#REF!"}},null,{"$error":"#REF!"},0,{"$f":"IF('Cash flow'!B79='Growth characteristics'!$J$26,'Growth characteristics'!$J$29,0)","v":0},{"$f":"IF($R$52=\"USD/m3\",R79*S79,R79*S79*'Growth characteristics'!$J$32*0.001)","v":0},{"$error":"#REF!"},{"$error":"#REF!"},{"$error":"#REF!"},{"$error":"#REF!"},{"$error":"#REF!"},null,{"$error":"#REF!"},{"$error":"#REF!"},{"$error":"#REF!"},{"$error":"#REF!"},{"$error":"#REF!"},{"$error":"#REF!"},{"$error":"#REF!"},{"$error":"#REF!"},null,{"$error":"#REF!"},0,{"$error":"#REF!"},{"$error":"#REF!"},1,26,1]
[null,27,{"$f":"HLOOKUP(CONCATENATE($I$50,C$51),INDIRECT(\"'\"&$E$50&\"'!B17:Z54\"),31,FALSE)*'Planting and management costs'!$G$36","v":{"$error":"#REF!"}},{"$f":"HLOOKUP(CONCATENATE($I$50,D$51),INDIRECT(\"'\"&$E$50&\"'!B17:Z54\"),31,FALSE)*'Planting and management costs'!$G$38","v":{"$error":"#REF!"}},{"$f":"HLOOKUP(CONCATENATE($I$50,E$51),INDIRECT(\"'\"&$E$50&\"'!B17:Z54\"),31,FALSE)*'Planting and management costs'!$G$39","v":{"$error":"#REF!"}},{"$f":"HLOOKUP(CONCATENATE($I$50,F$51),INDIRECT(\"'\"&$E$50&\"'!B17:Z54\"),31,FALSE)*'Planting and management costs'!$G$40","v":{"$error":"#REF!"}},null,{"$f":"HLOOKUP(CONCATENATE($I$50,H$51),INDIRECT(\"'\"&$E$50&\"'!B17:Z54\"),31,FALSE)*'Planting and management costs'!$J$15","v":{"$error":"#REF!"}},{"$f":"HLOOKUP(CONCATENATE($I$50,I$51),INDIRECT(\"'\"&$E$50&\"'!B17:Z54\"),31,FALSE)*'Planting and management costs'!$J$16","v":{"$error":"#REF!"}},{"$f":"HLOOKUP(CONCATENATE($I$50,J$51),INDIRECT(\"'\"&$E$50&\"'!B17:Z54\"),31,FALSE)*'Planting and management costs'!$J$15","v":{"$error":"#REF!"}},{"$f":"HLOOKUP(CONCATENATE($I$50,K$51),INDIRECT(\"'\"&$E$50&\"'!B17:Z54\"),31,FALSE)*'Planting and management costs'!$J$16","v":{"$error":"#REF!"}},{"$f":"HLOOKUP(CONCATENATE($I$50,L$51),INDIRECT(\"'\"&$E$50&\"'!B17:Z54\"),31,FALSE)*'Planting and management costs'!$J$15","v":{"$error":"#REF!"}},{"$f":"HLOOKUP(CONCATENATE($I$50,M$51),INDIRECT(\"'\"&$E$50&\"'!B17:Z54\"),31,FALSE)*'Planting and management costs'!$J$16","v":{"$error":"#REF!"}},{"$f":"HLOOKUP(CONCATENATE($I$50,N$51),INDIRECT(\"'\"&$E$50&\"'!B17:Z54\"),31,FALSE)*'Planting and management costs'!$J$15","v":{"$error":"#REF!"}},{"$f":"HLOOKUP(CONCATENATE($I$50,O$51),INDIRECT(\"'\"&$E$50&\"'!B17:Z54\"),31,FALSE)*'Planting and management costs'!$J$16","v":{"$error":"#REF!"}},null,{"$error":"#REF!"},0,{"$f":"IF('Cash flow'!B80='Growth characteristics'!$J$26,'Growth characteristics'!$J$29,0)","v":0},{"$f":"IF($R$52=\"USD/m3\",R80*S80,R80*S80*'Growth characteristics'!$J$32*0.001)","v":0},{"$error":"#REF!"},{"$error":"#REF!"},{"$error":"#REF!"},{"$error":"#REF!"},{"$error":"#REF!"},null,{"$error":"#REF!"},{"$error":"#REF!"},{"$error":"#REF!"},{"$error":"#REF!"},{"$error":"#REF!"},{"$error":"#REF!"},{"$error":"#REF!"},{"$error":"#REF!"},null,{"$error":"#REF!"},0,{"$error":"#REF!"},{"$error":"#REF!"},1,27,1]
[null,28,{"$f":"HLOOKUP(CONCATENATE($I$50,C$51),INDIRECT(\"'\"&$E$50&\"'!B17:Z54\"),32,FALSE)*'Planting and management costs'!$G$36","v":{"$error":"#REF!"}},{"$f":"HLOOKUP(CONCATENATE($I$50,D$51),INDIRECT(\"'\"&$E$50&\"'!B17:Z54\"),32,FALSE)*'Planting and management costs'!$G$38","v":{"$error":"#REF!"}},{"$f":"HLOOKUP(CONCATENATE($I$50,E$51),INDIRECT(\"'\"&$E$50&\"'!B17:Z54\"),32,FALSE)*'Planting and management costs'!$G$39","v":{"$error":"#REF!"}},{"$f":"HLOOKUP(CONCATENATE($I$50,F$51),INDIRECT(\"'\"&$E$50&\"'!B17:Z54\"),32,FALSE)*'Planting and management costs'!$G$40","v":{"$error":"#REF!"}},null,{"$f":"HLOOKUP(CONCATENATE($I$50,H$51),INDIRECT(\"'\"&$E$50&\"'!B17:Z54\"),32,FALSE)*'Planting and management costs'!$J$15","v":{"$error":"#REF!"}},{"$f":"HLOOKUP(CONCATENATE($I$50,I$51),INDIRECT(\"'\"&$E$50&\"'!B17:Z54\"),32,FALSE)*'Planting and management costs'!$J$16","v":{"$error":"#REF!"}},{"$f":"HLOOKUP(CONCATENATE($I$50,J$51),INDIRECT(\"'\"&$E$50&\"'!B17:Z54\"),32,FALSE)*'Planting and management costs'!$J$15","v":{"$error":"#REF!"}},{"$f":"HLOOKUP(CONCATENATE($I$50,K$51),INDIRECT(\"'\"&$E$50&\"'!B17:Z54\"),32,FALSE)*'Planting and management costs'!$J$16","v":{"$error":"#REF!"}},{"$f":"HLOOKUP(CONCATENATE($I$50,L$51),INDIRECT(\"'\"&$E$50&\"'!B17:Z54\"),32,FALSE)*'Planting and management costs'!$J$15","v":{"$error":"#REF!"}},{"$f":"HLOOKUP(CONCATENATE($I$50,M$51),INDIRECT(\"'\"&$E$50&\"'!B17:Z54\"),32,FALSE)*'Planting and management costs'!$J$16","v":{"$error":"#REF!"}},{"$f":"HLOOKUP(CONCATENATE($I$50,N$51),INDIRECT(\"'\"&$E$50&\"'!B17:Z54\"),32,FALSE)*'Planting and management costs'!$J$15","v":{"$error":"#REF!"}},{"$f":"HLOOKUP(CONCATENATE($I$50,O$51),INDIRECT(\"'\"&$E$50&\"'!B17:Z54\"),32,FALSE)*'Planting and management costs'!$J$16","v":{"$error":"#REF!"}},null,{"$error":"#REF!"},0,{"$f":"IF('Cash flow'!B81='Growth characteristics'!$J$26,'Growth characteristics'!$J$29,0)","v":0},{"$f":"IF($R$52=\"USD/m3\",R81*S81,R81*S81*'Growth characteristics'!$J$32*0.001)","v":0},{"$error":"#REF!"},{"$error":"#REF!"},{"$error":"#REF!"},{"$error":"#REF!"},{"$error":"#REF!"},null,{"$error":"#REF!"},{"$error":"#REF!"},{"$error":"#REF!"},{"$error":"#REF!"},{"$error":"#REF!"},{"$error":"#REF!"},{"$error":"#REF!"},{"$error":"#REF!"},null,{"$error":"#REF!"},0,{"$error":"#REF!"},{"$error":"#REF!"},1,28,1]
[null,29,{"$f":"HLOOKUP(CONCATENATE($I$50,C$51),INDIRECT(\"'\"&$E$50&\"'!B17:Z54\"),33,FALSE)*'Planting and management costs'!$G$36","v":{"$error":"#REF!"}},{"$f":"HLOOKUP(CONCATENATE($I$50,D$51),INDIRECT(\"'\"&$E$50&\"'!B17:Z54\"),33,FALSE)*'Planting and management costs'!$G$38","v":{"$error":"#REF!"}},{"$f":"HLOOKUP(CONCATENATE($I$50,E$51),INDIRECT(\"'\"&$E$50&\"'!B17:Z54\"),33,FALSE)*'Planting and management costs'!$G$39","v":{"$error":"#REF!"}},{"$f":"HLOOKUP(CONCATENATE($I$50,F$51),INDIRECT(\"'\"&$E$50&\"'!B17:Z54\"),33,FALSE)*'Planting and management costs'!$G$40","v":{"$error":"#REF!"}},null,{"$f":"HLOOKUP(CONCATENATE($I$50,H$51),INDIRECT(\"'\"&$E$50&\"'!B17:Z54\"),33,FALSE)*'Planting and management costs'!$J$15","v":{"$error":"#REF!"}},{"$f":"HLOOKUP(CONCATENATE($I$50,I$51),INDIRECT(\"'\"&$E$50&\"'!B17:Z54\"),33,FALSE)*'Planting and management costs'!$J$16","v":{"$error":"#REF!"}},{"$f":"HLOOKUP(CONCATENATE($I$50,J$51),INDIRECT(\"'\"&$E$50&\"'!B17:Z54\"),33,FALSE)*'Planting and management costs'!$J$15","v":{"$error":"#REF!"}},{"$f":"HLOOKUP(CONCATENATE($I$50,K$51),INDIRECT(\"'\"&$E$50&\"'!B17:Z54\"),33,FALSE)*'Planting and management costs'!$J$16","v":{"$error":"#REF!"}},{"$f":"HLOOKUP(CONCATENATE($I$50,L$51),INDIRECT(\"'\"&$E$50&\"'!B17:Z54\"),33,FALSE)*'Planting and management costs'!$J$15","v":{"$error":"#REF!"}},{"$f":"HLOOKUP(CONCATENATE($I$50,M$51),INDIRECT(\"'\"&$E$50&\"'!B17:Z54\"),33,FALSE)*'Planting and management costs'!$J$16","v":{"$error":"#REF!"}},{"$f":"HLOOKUP(CONCATENATE($I$50,N$51),INDIRECT(\"'\"&$E$50&\"'!B17:Z54\"),33,FALSE)*'Planting and management costs'!$J$15","v":{"$error":"#REF!"}},{"$f":"HLOOKUP(CONCATENATE($I$50,O$51),INDIRECT(\"'\"&$E$50&\"'!B17:Z54\"),33,FALSE)*'Planting and management costs'!$J$16","v":{"$error":"#REF!"}},null,{"$error":"#REF!"},0,{"$f":"IF('Cash flow'!B82='Growth characteristics'!$J$26,'Growth characteristics'!$J$29,0)","v":0},{"$f":"IF($R$52=\"USD/m3\",R82*S82,R82*S82*'Growth characteristics'!$J$32*0.001)","v":0},{"$error":"#REF!"},{"$error":"#REF!"},{"$error":"#REF!"},{"$error":"#REF!"},{"$error":"#REF!"},null,{"$error":"#REF!"},{"$error":"#REF!"},{"$error":"#REF!"},{"$error":"#REF!"},{"$error":"#REF!"},{"$error":"#REF!"},{"$error":"#REF!"},{"$error":"#REF!"},null,{"$error":"#REF!"},0,{"$error":"#REF!"},{"$error":"#REF!"},1,29,1]
[null,30,{"$f":"HLOOKUP(CONCATENATE($I$50,C$51),INDIRECT(\"'\"&$E$50&\"'!B17:Z54\"),34,FALSE)*'Planting and management costs'!$G$36","v":{"$error":"#REF!"}},{"$f":"HLOOKUP(CONCATENATE($I$50,D$51),INDIRECT(\"'\"&$E$50&\"'!B17:Z54\"),34,FALSE)*'Planting and management costs'!$G$38","v":{"$error":"#REF!"}},{"$f":"HLOOKUP(CONCATENATE($I$50,E$51),INDIRECT(\"'\"&$E$50&\"'!B17:Z54\"),34,FALSE)*'Planting and management costs'!$G$39","v":{"$error":"#REF!"}},{"$f":"HLOOKUP(CONCATENATE($I$50,F$51),INDIRECT(\"'\"&$E$50&\"'!B17:Z54\"),34,FALSE)*'Planting and management costs'!$G$40","v":{"$error":"#REF!"}},null,{"$f":"HLOOKUP(CONCATENATE($I$50,H$51),INDIRECT(\"'\"&$E$50&\"'!B17:Z54\"),34,FALSE)*'Planting and management costs'!$J$15","v":{"$error":"#REF!"}},{"$f":"HLOOKUP(CONCATENATE($I$50,I$51),INDIRECT(\"'\"&$E$50&\"'!B17:Z54\"),34,FALSE)*'Planting and management costs'!$J$16","v":{"$error":"#REF!"}},{"$f":"HLOOKUP(CONCATENATE($I$50,J$51),INDIRECT(\"'\"&$E$50&\"'!B17:Z54\"),34,FALSE)*'Planting and management costs'!$J$15","v":{"$error":"#REF!"}},{"$f":"HLOOKUP(CONCATENATE($I$50,K$51),INDIRECT(\"'\"&$E$50&\"'!B17:Z54\"),34,FALSE)*'Planting and management costs'!$J$16","v":{"$error":"#REF!"}},{"$f":"HLOOKUP(CONCATENATE($I$50,L$51),INDIRECT(\"'\"&$E$50&\"'!B17:Z54\"),34,FALSE)*'Planting and management costs'!$J$15","v":{"$error":"#REF!"}},{"$f":"HLOOKUP(CONCATENATE($I$50,M$51),INDIRECT(\"'\"&$E$50&\"'!B17:Z54\"),34,FALSE)*'Planting and management costs'!$J$16","v":{"$error":"#REF!"}},{"$f":"HLOOKUP(CONCATENATE($I$50,N$51),INDIRECT(\"'\"&$E$50&\"'!B17:Z54\"),34,FALSE)*'Planting and management costs'!$J$15","v":{"$error":"#REF!"}},{"$f":"HLOOKUP(CONCATENATE($I$50,O$51),INDIRECT(\"'\"&$E$50&\"'!B17:Z54\"),34,FALSE)*'Planting and management costs'!$J$16","v":{"$error":"#REF!"}},null,{"$error":"#REF!"},0,{"$f":"IF('Cash flow'!B83='Growth characteristics'!$J$26,'Growth characteristics'!$J$29,0)","v":0},{"$f":"IF($R$52=\"USD/m3\",R83*S83,R83*S83*'Growth characteristics'!$J$32*0.001)","v":0},{"$error":"#REF!"},{"$error":"#REF!"},{"$error":"#REF!"},{"$error":"#REF!"},{"$error":"#REF!"},null,{"$error":"#REF!"},{"$error":"#REF!"},{"$error":"#REF!"},{"$error":"#REF!"},{"$error":"#REF!"},{"$error":"#REF!"},{"$error":"#REF!"},{"$error":"#REF!"},null,{"$error":"#REF!"},0,{"$error":"#REF!"},{"$error":"#REF!"},1,30,1]
[null,"TOTAL",{"$f":"SUM(C53:C83)","v":{"$error":"#REF!"}},{"$f":"SUM(D53:D83)","v":{"$error":"#REF!"}},{"$f":"SUM(E53:E83)","v":{"$error":"#REF!"}},{"$f":"SUM(F53:F83)","v":{"$error":"#REF!"}},null,{"$f":"SUM(H53:H83)","v":{"$error":"#REF!"}},{"$error":"#REF!"},{"$error":"#REF!"},{"$error":"#REF!"},{"$error":"#REF!"},{"$error":"#REF!"},{"$error":"#REF!"},{"$error":"#REF!"},null,{"$f":"SUM(Q53:Q83)","v":{"$error":"#REF!"}},null,{"$f":"SUM(S53:S83)","v":0},0,{"$error":"#REF!"},{"$error":"#REF!"},{"$f":"SUM(W53:W83)","v":{"$error":"#REF!"}},{"$error":"#REF!"},{"$error":"#REF!"},null,{"$f":"SUM(AA53:AA83)","v":{"$error":"#REF!"}},{"$error":"#REF!"},{"$error":"#REF!"},{"$error":"#REF!"},{"$error":"#REF!"},{"$error":"#REF!"},{"$error":"#REF!"},{"$error":"#REF!"},null,{"$f":"SUM(AJ53:AJ83)","v":{"$error":"#REF!"}},{"$f":"SUM(AK53:AK83)","v":0}]
[]
[null,null,null,null,null,null,null,null,null,null,null,null,null,null,null,null,null,null,null,null,null,null,null,null,null,null,null,null,null,null,null,null,null,"Net Present Value (USD)",null,null,{"$f":"SUM(AL53:AL83)","v":{"$error":"#REF!"}}]
[null,null,null,null,null,null,null,null,null,null,null,null,null,null,null,null,null,null,null,null,null,null,null,null,null,null,null,null,null,null,null,null,null,"Internal Rate of Return (%)",null,null,{"$f":"IF(AK86<0,\"Not feasible\",IRR(U53:U83,0.000001))","v":{"$error":"#REF!"}}]
[]
[]
[null,"FINANCIAL EVALUATION OF FORESTRY PLANTATION",null,null,null,null,null,null,null,null,null,null,null,null,null,null,{"$f":"title174& \" (i):\"","v":"Discount rate (i):"},null,{"$f":"'Planting and management costs'!$J$17","v":0}]
[null,null,null,null,null,null,null,null,null,null,null,null,null,null,null,null,"Price",null,{"$f":"'Growth characteristics'!J36","v":0}]
[null,"Species 2 selected (user-defined):",null,null,{"$f":"E135","v":"Select species"},null,"Management system selected:",null,"FR"]
[null,null,{"$f":"title188","v":"Seedling"},{"$f":"title190","v":" - Nitrogen"},{"$f":"title191","v":" - Phosphorus "},{"$f":"title192","v":" - Potassium "},{"$f":"title193","v":"Other inputs"},{"$f":"title199&title200","v":"Land clearing and planting - Manual"},{"$f":"title199&title201","v":"Land clearing and planting - Machinery"},{"$f":"title202&title200","v":"Application of fertilizers - Manual"},{"$f":"title202&title201","v":"Application of fertilizers - Machinery"},{"$f":"title203&title200","v":"Application of other agrochemicals - Manual"},{"$f":"title203&title201","v":"Application of other agrochemicals - Machinery"},{"$f":"title204&title200","v":"Harvesting - Manual"},{"$f":"title204&title201","v":"Harvesting - Machinery"},"Other Labour","Annual current costs","Price","Quantity","Annual current revenue","Current Cash Flow - before tax",{"$f":"title188","v":"Seedling"},{"$f":"title190","v":" - Nitrogen"},{"$f":"title191","v":" - Phosphorus "},{"$f":"title192","v":" - Potassium "},{"$f":"title193","v":"Other inputs"},{"$f":"title199&title200","v":"Land clearing and planting - Manual"},{"$f":"title199&title201","v":"Land clearing and planting - Machinery"},{"$f":"title202&title200","v":"Application of fertilizers - Manual"},{"$f":"title202&title201","v":"Application of fertilizers - Machinery"},{"$f":"title203&title200","v":"Application of other agrochemicals - Manual"},{"$f":"title203&title201","v":"Application of other agrochemicals - Machinery"},{"$f":"title204&title200","v":"Harvesting - Manual"},{"$f":"title204&title201","v":"Harvesting - Machinery"},"Other Labour","Costs discounted","Revenue discounted","Discount Cash Flow - before tax",null,"(1+i)","n","(1+i)^n",null,null,null,null,null,null,null,{"$f":"UPPER(title170)","v":"SPECIES 2"}]
[null,{"$f":"title58","v":"Year"},"USD/ha","USD/ha","USD/ha","USD/ha","USD/ha","USD/ha","USD/ha","USD/ha","USD/ha","USD/ha","USD/ha","USD/ha","USD/ha","USD/ha","USD/ha",{"$f":"'Growth characteristics'!F35","v":"USD/m3"},"m3/ha","USD/ha","USD/ha","USD/ha","USD/ha","USD/ha","USD/ha","USD/ha","USD/ha","USD/ha","USD/ha","USD/ha","USD/ha","USD/ha","USD/ha","USD/ha","USD/ha","USD/ha","USD/ha","USD/ha",null,null,null,null,null,null,null,null,null,null,"RATE","NPV (User-defined)",{"$f":"title235","v":"NPV (Default)"}]
[null,0,{"$f":"IF('Planting and management costs'!$I$72=$B95,'Planting and management costs'!$Y$72/'Planting and management costs'!AA$71,0)","v":0},{"$f":"IF('Planting and management costs'!$I$74=$B95,'Planting and management costs'!$Y$74/'Planting and management costs'!AB$71,0)","v":0},{"$f":"IF('Planting and management costs'!$I$75=$B95,'Planting and management costs'!$Y$75/'Planting and management costs'!AC$71,0)","v":0},{"$f":"IF('Planting and management costs'!$I$76=$B95,'Planting and management costs'!$Y$76/'Planting and management costs'!AD$71,0)","v":0},{"$f":"IF('Planting and management costs'!$I$77=$B95,'Planting and management costs'!$Y$77/'Planting and management costs'!AE$71,0)","v":0},{"$f":"IF('Planting and management costs'!$I$85=$B95,'Planting and management costs'!$Y$85/'Planting and management costs'!AA$83,0)","v":0},{"$f":"IF('Planting and management costs'!$I$86=$B95,'Planting and management costs'!$Y$86/'Planting and management costs'!AB$83,0)","v":0},{"$f":"IF('Planting and management costs'!$I$88=$B95,'Planting and management costs'!$Y$88/'Planting and management costs'!AC$83,0)","v":0},{"$f":"IF('Planting and management costs'!$I$89=$B95,'Planting and management costs'!$Y$89/'Planting and management costs'!AD$83,0)","v":0},{"$f":"IF('Planting and management costs'!$I$91=$B95,'Planting and management costs'!$Y$91/'Planting and management costs'!AE$83,0)","v":0},{"$f":"IF('Planting and management costs'!$I$92=$B95,'Planting and management costs'!$Y$92/'Planting and management costs'!AF$83,0)","v":0},{"$f":"IF('Planting and management costs'!$I$94=$B95,'Planting and management costs'!$Y$94/'Planting and management costs'!AG$83,0)","v":0},{"$f":"IF('Planting and management costs'!$I$95=$B95,'Planting and management costs'!$Y$95/'Planting and management costs'!AH$83,0)","v":0},{"$f":"IF('Planting and management costs'!$I$96=$B95,'Planting and management costs'!$Y$96/'Planting and management costs'!AI$83,0)","v":0},{"$f":"SUM(C95:P95)","v":0},{"$f":"$S$91","v":0},{"$f":"IF('Cash flow'!B95='Growth characteristics'!$L$26,'Growth characteristics'!$L$29,0)","v":0},{"$f":"IF($R$94=\"USD/m3\",R95*S95,R95*S95*'Growth characteristics'!$L$32*0.001)","v":0},{"$f":"T95-Q95","v":0},{"$f":"C95/(1+$S$48)^$B95","v":0},0,0,0,0,0,0,0,0,0,0,0,0,0,{"$f":"SUM(V95:AI95)","v":0},{"$f":"T95/((1+$S$48)^$B95)","v":0},{"$f":"AK95-AJ95","v":0},{"$f":"U95/AP95","v":0},{"$f":"1+$S$48","v":1},0,{"$f":"AN95^AO95","v":1}]
[null,1,{"$f":"IF('Planting and management costs'!$I$72=$B96,'Planting and management costs'!$Y$72/'Planting and management costs'!$AA$71,IF(AND(C95<>0,($B96-'Planting and management costs'!$I$72)<'Planting and management costs'!$AA$35),'Planting and management costs'!$Y$36/'Planting and management costs'!$AA$35,0))","v":0},{"$f":"IF('Planting and management costs'!$I$74=$B96,'Planting and management costs'!$Y$74/'Planting and management costs'!$AB$71,IF(AND(D95<>0,($B96-'Planting and management costs'!$I$74)<'Planting and management costs'!$AB$71),'Planting and management costs'!$Y$74/'Planting and management costs'!$AB$71,0))","v":0},{"$f":"IF('Planting and management costs'!$I$75=$B96,'Planting and management costs'!$Y$75/'Planting and management costs'!$AC$71,IF(AND(E95<>0,($B96-'Planting and management costs'!$I$75)<'Planting and management costs'!$AC$71),'Planting and management costs'!$Y$75/'Planting and management costs'!$AC$71,0))","v":0},{"$f":"IF('Planting and management costs'!$I$76=$B96,'Planting and management costs'!$Y$76/'Planting and management costs'!$AD$71,IF(AND(F95<>0,($B96-'Planting and management costs'!$I$76)<'Planting and management costs'!$AD$71),'Planting and management costs'!$Y$76/'Planting and management costs'!$AD$71,0))","v":0},{"$f":"IF('Planting and management costs'!$I$77=$B96,'Planting and management costs'!$Y$77/'Planting and management costs'!$AE$71,IF(AND(G95<>0,($B96-'Planting and management costs'!$I$77)<'Planting and management costs'!$AE$71),'Planting and management costs'!$Y$77/'Planting and management costs'!$AE$71,0))","v":0},{"$f":"IF('Planting and management costs'!$I$85=$B96,'Planting and management costs'!$Y$85/'Planting and management costs'!$AA$83,IF(AND(H95<>0,($B96-'Planting and management costs'!$I$85)<'Planting and management costs'!$AA$83),'Planting and management costs'!$Y$85/'Planting and management costs'!$AA$83,0))","v":0},{"$f":"IF('Planting and management costs'!$I$86=$B96,'Planting and management costs'!$Y$86/'Planting and management costs'!$AB$83,IF(AND(I95<>0,($B96-'Planting and management costs'!$I$86)<'Planting and management costs'!$AB$83),'Planting and management costs'!$Y$86/'Planting and management costs'!$AB$83,0))","v":0},{"$f":"IF('Planting and management costs'!$I$88=$B96,'Planting and management costs'!$Y$88/'Planting and management costs'!$AC$83,IF(AND(J95<>0,($B96-'Planting and management costs'!$I$88)<'Planting and management costs'!$AC$83),'Planting and management costs'!$Y$88/'Planting and management costs'!$AC$83,0))","v":0},{"$f":"IF('Planting and management costs'!$I$89=$B96,'Planting and management costs'!$Y$89/'Planting and management costs'!$AD$83,IF(AND(K95<>0,($B96-'Planting and management costs'!$I$89)<'Planting and management costs'!$AD$83),'Planting and management costs'!$Y$89/'Planting and management costs'!$AD$83,0))","v":0},{"$f":"IF('Planting and management costs'!$I$91=$B96,'Planting and management costs'!$Y$91/'Planting and management costs'!$AE$83,IF(AND(L95<>0,($B96-'Planting and management costs'!$I$91)<'Planting and management costs'!$AE$83),'Planting and management costs'!$Y$91/'Planting and management costs'!$AE$83,0))","v":0},{"$f":"IF('Planting and management costs'!$I$92=$B96,'Planting and management costs'!$Y$92/'Planting and management costs'!$AF$83,IF(AND(M95<>0,($B96-'Planting and management costs'!$I$92)<'Planting and management costs'!$AF$83),'Planting and management costs'!$Y$92/'Planting and management costs'!$AF$83,0))","v":0},{"$f":"IF('Planting and management costs'!$I$94=$B96,'Planting and management costs'!$Y$94/'Planting and management costs'!$AG$83,IF(AND(N95<>0,($B96-'Planting and management costs'!$I$94)<'Planting and management costs'!$AG$83),'Planting and management costs'!$Y$94/'Planting and management costs'!$AG$83,0))","v":0},{"$f":"IF('Planting and management costs'!$I$95=$B96,'Planting and management costs'!$Y$95/'Planting and management costs'!$AH$83,IF(AND(O95<>0,($B96-'Planting and management costs'!$I$95)<'Planting and management costs'!$AH$83),'Planting and management costs'!$Y$95/'Planting and management costs'!$AH$83,0))","v":0},{"$f":"IF('Planting and management costs'!$I$96=$B96,'Planting and management costs'!$Y$96/'Planting and management costs'!$AI$83,IF(AND(P95<>0,($B96-'Planting and management costs'!$I$96)<'Planting and management costs'!$AI$83),'Planting and management costs'!$Y$96/'Planting and management costs'!$AI$83,0))","v":0},{"$f":"SUM(C96:P96)","v":0},{"$f":"$S$91","v":0},{"$f":"IF('Cash flow'!B96='Growth characteristics'!$L$26,'Growth characteristics'!$L$29,0)","v":0},{"$f":"IF($R$94=\"USD/m3\",R96*S96,R96*S96*'Growth characteristics'!$L$32*0.001)","v":0},{"$f":"T96-Q96","v":0},0,0,0,0,0,0,0,0,0,0,0,0,0,0,{"$f":"SUM(V96:AI96)","v":0},0,{"$f":"AK96-AJ96","v":0},{"$f":"U96/AP96","v":0},{"$f":"1+$S$48","v":1},1,{"$f":"AN96^AO96","v":1},null,null,null,null,null,null,0,{"$f":"NPV(AW96,'Cash flow'!$U$96:$U$125)+'Cash flow'!$U$95","v":0},{"$f":"NPV(AW96,'Cash flow'!$U$139:$U$168)+'Cash flow'!$U$138","v":{"$error":"#REF!"}}]
[null,2,{"$f":"IF('Planting and management costs'!$I$72=$B97,'Planting and management costs'!$Y$72/'Planting and management costs'!$AA$71,IF(AND(C96<>0,($B97-'Planting and management costs'!$I$72)<'Planting and management costs'!$AA$35),'Planting and management costs'!$Y$36/'Planting and management costs'!$AA$35,0))","v":0},{"$f":"IF('Planting and management costs'!$I$74=$B97,'Planting and management costs'!$Y$74/'Planting and management costs'!$AB$71,IF(AND(D96<>0,($B97-'Planting and management costs'!$I$74)<'Planting and management costs'!$AB$71),'Planting and management costs'!$Y$74/'Planting and management costs'!$AB$71,0))","v":0},{"$f":"IF('Planting and management costs'!$I$75=$B97,'Planting and management costs'!$Y$75/'Planting and management costs'!$AC$71,IF(AND(E96<>0,($B97-'Planting and management costs'!$I$75)<'Planting and management costs'!$AC$71),'Planting and management costs'!$Y$75/'Planting and management costs'!$AC$71,0))","v":0},{"$f":"IF('Planting and management costs'!$I$76=$B97,'Planting and management costs'!$Y$76/'Planting and management costs'!$AD$71,IF(AND(F96<>0,($B97-'Planting and management costs'!$I$76)<'Planting and management costs'!$AD$71),'Planting and management costs'!$Y$76/'Planting and management costs'!$AD$71,0))","v":0},{"$f":"IF('Planting and management costs'!$I$77=$B97,'Planting and management costs'!$Y$77/'Planting and management costs'!$AE$71,IF(AND(G96<>0,($B97-'Planting and management costs'!$I$77)<'Planting and management costs'!$AE$71),'Planting and management costs'!$Y$77/'Planting and management costs'!$AE$71,0))","v":0},{"$f":"IF('Planting and management costs'!$I$85=$B97,'Planting and management costs'!$Y$85/'Planting and management costs'!$AA$83,IF(AND(H96<>0,($B97-'Planting and management costs'!$I$85)<'Planting and management costs'!$AA$83),'Planting and management costs'!$Y$85/'Planting and management costs'!$AA$83,0))","v":0},{"$f":"IF('Planting and management costs'!$I$86=$B97,'Planting and management costs'!$Y$86/'Planting and management costs'!$AB$83,IF(AND(I96<>0,($B97-'Planting and management costs'!$I$86)<'Planting and management costs'!$AB$83),'Planting and management costs'!$Y$86/'Planting and management costs'!$AB$83,0))","v":0},{"$f":"IF('Planting and management costs'!$I$88=$B97,'Planting and management costs'!$Y$88/'Planting and management costs'!$AC$83,IF(AND(J96<>0,($B97-'Planting and management costs'!$I$88)<'Planting and management costs'!$AC$83),'Planting and management costs'!$Y$88/'Planting and management costs'!$AC$83,0))","v":0},{"$f":"IF('Planting and management costs'!$I$89=$B97,'Planting and management costs'!$Y$89/'Planting and management costs'!$AD$83,IF(AND(K96<>0,($B97-'Planting and management costs'!$I$89)<'Planting and management costs'!$AD$83),'Planting and management costs'!$Y$89/'Planting and management costs'!$AD$83,0))","v":0},{"$f":"IF('Planting and management costs'!$I$91=$B97,'Planting and management costs'!$Y$91/'Planting and management costs'!$AE$83,IF(AND(L96<>0,($B97-'Planting and management costs'!$I$91)<'Planting and management costs'!$AE$83),'Planting and management costs'!$Y$91/'Planting and management costs'!$AE$83,0))","v":0},{"$f":"IF('Planting and management costs'!$I$92=$B97,'Planting and management costs'!$Y$92/'Planting and management costs'!$AF$83,IF(AND(M96<>0,($B97-'Planting and management costs'!$I$92)<'Planting and management costs'!$AF$83),'Planting and management costs'!$Y$92/'Planting and management costs'!$AF$83,0))","v":0},{"$f":"IF('Planting and management costs'!$I$94=$B97,'Planting and management costs'!$Y$94/'Planting and management costs'!$AG$83,IF(AND(N96<>0,($B97-'Planting and management costs'!$I$94)<'Planting and management costs'!$AG$83),'Planting and management costs'!$Y$94/'Planting and management costs'!$AG$83,0))","v":0},{"$f":"IF('Planting and management costs'!$I$95=$B97,'Planting and management costs'!$Y$95/'Planting and management costs'!$AH$83,IF(AND(O96<>0,($B97-'Planting and management costs'!$I$95)<'Planting and management costs'!$AH$83),'Planting and management costs'!$Y$95/'Planting and management costs'!$AH$83,0))","v":0},{"$f":"IF('Planting and management costs'!$I$96=$B97,'Planting and management costs'!$Y$96/'Planting and management costs'!$AI$83,IF(AND(P96<>0,($B97-'Planting and management costs'!$I$96)<'Planting and management costs'!$AI$83),'Planting and management costs'!$Y$96/'Planting and management costs'!$AI$83,0))","v":0},0,0,{"$f":"IF('Cash flow'!B97='Growth characteristics'!$L$26,'Growth characteristics'!$L$29,0)","v":0},{"$f":"IF($R$94=\"USD/m3\",R97*S97,R97*S97*'Growth characteristics'!$L$32*0.001)","v":0},{"$f":"T97-Q97","v":0},0,0,0,0,0,0,0,0,0,0,0,0,0,0,0,0,0,0,1,2,1,null,null,null,null,null,null,0.01,{"$f":"NPV(AW97,'Cash flow'!$U$96:$U$125)+'Cash flow'!$U$95","v":0},{"$f":"NPV(AW97,'Cash flow'!$U$139:$U$168)+'Cash flow'!$U$138","v":{"$error":"#REF!"}}]
[null,3,{"$f":"IF('Planting and management costs'!$I$72=$B98,'Planting and management costs'!$Y$72/'Planting and management costs'!$AA$71,IF(AND(C97<>0,($B98-'Planting and management costs'!$I$72)<'Planting and management costs'!$AA$35),'Planting and management costs'!$Y$36/'Planting and management costs'!$AA$35,0))","v":0},{"$f":"IF('Planting and management costs'!$I$74=$B98,'Planting and management costs'!$Y$74/'Planting and management costs'!$AB$71,IF(AND(D97<>0,($B98-'Planting and management costs'!$I$74)<'Planting and management costs'!$AB$71),'Planting and management costs'!$Y$74/'Planting and management costs'!$AB$71,0))","v":0},{"$f":"IF('Planting and management costs'!$I$75=$B98,'Planting and management costs'!$Y$75/'Planting and management costs'!$AC$71,IF(AND(E97<>0,($B98-'Planting and management costs'!$I$75)<'Planting and management costs'!$AC$71),'Planting and management costs'!$Y$75/'Planting and management costs'!$AC$71,0))","v":0},{"$f":"IF('Planting and management costs'!$I$76=$B98,'Planting and management costs'!$Y$76/'Planting and management costs'!$AD$71,IF(AND(F97<>0,($B98-'Planting and management costs'!$I$76)<'Planting and management costs'!$AD$71),'Planting and management costs'!$Y$76/'Planting and management costs'!$AD$71,0))","v":0},{"$f":"IF('Planting and management costs'!$I$77=$B98,'Planting and management costs'!$Y$77/'Planting and management costs'!$AE$71,IF(AND(G97<>0,($B98-'Planting and management costs'!$I$77)<'Planting and management costs'!$AE$71),'Planting and management costs'!$Y$77/'Planting and management costs'!$AE$71,0))","v":0},{"$f":"IF('Planting and management costs'!$I$85=$B98,'Planting and management costs'!$Y$85/'Planting and management costs'!$AA$83,IF(AND(H97<>0,($B98-'Planting and management costs'!$I$85)<'Planting and management costs'!$AA$83),'Planting and management costs'!$Y$85/'Planting and management costs'!$AA$83,0))","v":0},{"$f":"IF('Planting and management costs'!$I$86=$B98,'Planting and management costs'!$Y$86/'Planting and management costs'!$AB$83,IF(AND(I97<>0,($B98-'Planting and management costs'!$I$86)<'Planting and management costs'!$AB$83),'Planting and management costs'!$Y$86/'Planting and management costs'!$AB$83,0))","v":0},{"$f":"IF('Planting and management costs'!$I$88=$B98,'Planting and management costs'!$Y$88/'Planting and management costs'!$AC$83,IF(AND(J97<>0,($B98-'Planting and management costs'!$I$88)<'Planting and management costs'!$AC$83),'Planting and management costs'!$Y$88/'Planting and management costs'!$AC$83,0))","v":0},{"$f":"IF('Planting and management costs'!$I$89=$B98,'Planting and management costs'!$Y$89/'Planting and management costs'!$AD$83,IF(AND(K97<>0,($B98-'Planting and management costs'!$I$89)<'Planting and management costs'!$AD$83),'Planting and management costs'!$Y$89/'Planting and management costs'!$AD$83,0))","v":0},{"$f":"IF('Planting and management costs'!$I$91=$B98,'Planting and management costs'!$Y$91/'Planting and management costs'!$AE$83,IF(AND(L97<>0,($B98-'Planting and management costs'!$I$91)<'Planting and management costs'!$AE$83),'Planting and management costs'!$Y$91/'Planting and management costs'!$AE$83,0))","v":0},{"$f":"IF('Planting and management costs'!$I$92=$B98,'Planting and management costs'!$Y$92/'Planting and management costs'!$AF$83,IF(AND(M97<>0,($B98-'Planting and management costs'!$I$92)<'Planting and management costs'!$AF$83),'Planting and management costs'!$Y$92/'Planting and management costs'!$AF$83,0))","v":0},{"$f":"IF('Planting and management costs'!$I$94=$B98,'Planting and management costs'!$Y$94/'Planting and management costs'!$AG$83,IF(AND(N97<>0,($B98-'Planting and management costs'!$I$94)<'Planting and management costs'!$AG$83),'Planting and management costs'!$Y$94/'Planting and management costs'!$AG$83,0))","v":0},{"$f":"IF('Planting and management costs'!$I$95=$B98,'Planting and management costs'!$Y$95/'Planting and management costs'!$AH$83,IF(AND(O97<>0,($B98-'Planting and management costs'!$I$95)<'Planting and management costs'!$AH$83),'Planting and management costs'!$Y$95/'Planting and management costs'!$AH$83,0))","v":0},{"$f":"IF('Planting and management costs'!$I$96=$B98,'Planting and management costs'!$Y$96/'Planting and management costs'!$AI$83,IF(AND(P97<>0,($B98-'Planting and management costs'!$I$96)<'Planting and management costs'!$AI$83),'Planting and management costs'!$Y$96/'Planting and management costs'!$AI$83,0))","v":0},0,0,{"$f":"IF('Cash flow'!B98='Growth characteristics'!$L$26,'Growth characteristics'!$L$29,0)","v":0},{"$f":"IF($R$94=\"USD/m3\",R98*S98,R98*S98*'Growth characteristics'!$L$32*0.001)","v":0},{"$f":"T98-Q98","v":0},0,0,0,0,0,0,0,0,0,0,0,0,0,0,0,0,0,0,1,3,1,null,null,null,null,null,null,0.02,{"$f":"NPV(AW98,'Cash flow'!$U$96:$U$125)+'Cash flow'!$U$95","v":0},{"$f":"NPV(AW98,'Cash flow'!$U$139:$U$168)+'Cash flow'!$U$138","v":{"$error":"#REF!"}}]
[null,4,{"$f":"IF('Planting and management costs'!$I$72=$B99,'Planting and management costs'!$Y$72/'Planting and management costs'!$AA$71,IF(AND(C98<>0,($B99-'Planting and management costs'!$I$72)<'Planting and management costs'!$AA$35),'Planting and management costs'!$Y$36/'Planting and management costs'!$AA$35,0))","v":0},{"$f":"IF('Planting and management costs'!$I$74=$B99,'Planting and management costs'!$Y$74/'Planting and management costs'!$AB$71,IF(AND(D98<>0,($B99-'Planting and management costs'!$I$74)<'Planting and management costs'!$AB$71),'Planting and management costs'!$Y$74/'Planting and management costs'!$AB$71,0))","v":0},{"$f":"IF('Planting and management costs'!$I$75=$B99,'Planting and management costs'!$Y$75/'Planting and management costs'!$AC$71,IF(AND(E98<>0,($B99-'Planting and management costs'!$I$75)<'Planting and management costs'!$AC$71),'Planting and management costs'!$Y$75/'Planting and management costs'!$AC$71,0))","v":0},{"$f":"IF('Planting and management costs'!$I$76=$B99,'Planting and management costs'!$Y$76/'Planting and management costs'!$AD$71,IF(AND(F98<>0,($B99-'Planting and management costs'!$I$76)<'Planting and management costs'!$AD$71),'Planting and management costs'!$Y$76/'Planting and management costs'!$AD$71,0))","v":0},{"$f":"IF('Planting and management costs'!$I$77=$B99,'Planting and management costs'!$Y$77/'Planting and management costs'!$AE$71,IF(AND(G98<>0,($B99-'Planting and management costs'!$I$77)<'Planting and management costs'!$AE$71),'Planting and management costs'!$Y$77/'Planting and management costs'!$AE$71,0))","v":0},{"$f":"IF('Planting and management costs'!$I$85=$B99,'Planting and management costs'!$Y$85/'Planting and management costs'!$AA$83,IF(AND(H98<>0,($B99-'Planting and management costs'!$I$85)<'Planting and management costs'!$AA$83),'Planting and management costs'!$Y$85/'Planting and management costs'!$AA$83,0))","v":0},{"$f":"IF('Planting and management costs'!$I$86=$B99,'Planting and management costs'!$Y$86/'Planting and management costs'!$AB$83,IF(AND(I98<>0,($B99-'Planting and management costs'!$I$86)<'Planting and management costs'!$AB$83),'Planting and management costs'!$Y$86/'Planting and management costs'!$AB$83,0))","v":0},{"$f":"IF('Planting and management costs'!$I$88=$B99,'Planting and management costs'!$Y$88/'Planting and management costs'!$AC$83,IF(AND(J98<>0,($B99-'Planting and management costs'!$I$88)<'Planting and management costs'!$AC$83),'Planting and management costs'!$Y$88/'Planting and management costs'!$AC$83,0))","v":0},{"$f":"IF('Planting and management costs'!$I$89=$B99,'Planting and management costs'!$Y$89/'Planting and management costs'!$AD$83,IF(AND(K98<>0,($B99-'Planting and management costs'!$I$89)<'Planting and management costs'!$AD$83),'Planting and management costs'!$Y$89/'Planting and management costs'!$AD$83,0))","v":0},{"$f":"IF('Planting and management costs'!$I$91=$B99,'Planting and management costs'!$Y$91/'Planting and management costs'!$AE$83,IF(AND(L98<>0,($B99-'Planting and management costs'!$I$91)<'Planting and management costs'!$AE$83),'Planting and management costs'!$Y$91/'Planting and management costs'!$AE$83,0))","v":0},{"$f":"IF('Planting and management costs'!$I$92=$B99,'Planting and management costs'!$Y$92/'Planting and management costs'!$AF$83,IF(AND(M98<>0,($B99-'Planting and management costs'!$I$92)<'Planting and management costs'!$AF$83),'Planting and management costs'!$Y$92/'Planting and management costs'!$AF$83,0))","v":0},{"$f":"IF('Planting and management costs'!$I$94=$B99,'Planting and management costs'!$Y$94/'Planting and management costs'!$AG$83,IF(AND(N98<>0,($B99-'Planting and management costs'!$I$94)<'Planting and management costs'!$AG$83),'Planting and management costs'!$Y$94/'Planting and management costs'!$AG$83,0))","v":0},{"$f":"IF('Planting and management costs'!$I$95=$B99,'Planting and management costs'!$Y$95/'Planting and management costs'!$AH$83,IF(AND(O98<>0,($B99-'Planting and management costs'!$I$95)<'Planting and management costs'!$AH$83),'Planting and management costs'!$Y$95/'Planting and management costs'!$AH$83,0))","v":0},{"$f":"IF('Planting and management costs'!$I$96=$B99,'Planting and management costs'!$Y$96/'Planting and management costs'!$AI$83,IF(AND(P98<>0,($B99-'Planting and management costs'!$I$96)<'Planting and management costs'!$AI$83),'Planting and management costs'!$Y$96/'Planting and management costs'!$AI$83,0))","v":0},0,0,{"$f":"IF('Cash flow'!B99='Growth characteristics'!$L$26,'Growth characteristics'!$L$29,0)","v":0},{"$f":"IF($R$94=\"USD/m3\",R99*S99,R99*S99*'Growth characteristics'!$L$32*0.001)","v":0},0,0,0,0,0,0,0,0,0,0,0,0,0,0,0,0,0,0,0,1,4,1,null,null,null,null,null,null,0.03,{"$f":"NPV(AW99,'Cash flow'!$U$96:$U$125)+'Cash flow'!$U$95","v":0},{"$f":"NPV(AW99,'Cash flow'!$U$139:$U$168)+'Cash flow'!$U$138","v":{"$error":"#REF!"}}]
[null,5,{"$f":"IF('Planting and management costs'!$I$72=$B100,'Planting and management costs'!$Y$72/'Planting and management costs'!$AA$71,IF(AND(C99<>0,($B100-'Planting and management costs'!$I$72)<'Planting and management costs'!$AA$35),'Planting and management costs'!$Y$36/'Planting and management costs'!$AA$35,0))","v":0},{"$f":"IF('Planting and management costs'!$I$74=$B100,'Planting and management costs'!$Y$74/'Planting and management costs'!$AB$71,IF(AND(D99<>0,($B100-'Planting and management costs'!$I$74)<'Planting and management costs'!$AB$71),'Planting and management costs'!$Y$74/'Planting and management costs'!$AB$71,0))","v":0},{"$f":"IF('Planting and management costs'!$I$75=$B100,'Planting and management costs'!$Y$75/'Planting and management costs'!$AC$71,IF(AND(E99<>0,($B100-'Planting and management costs'!$I$75)<'Planting and management costs'!$AC$71),'Planting and management costs'!$Y$75/'Planting and management costs'!$AC$71,0))","v":0},{"$f":"IF('Planting and management costs'!$I$76=$B100,'Planting and management costs'!$Y$76/'Planting and management costs'!$AD$71,IF(AND(F99<>0,($B100-'Planting and management costs'!$I$76)<'Planting and management costs'!$AD$71),'Planting and management costs'!$Y$76/'Planting and management costs'!$AD$71,0))","v":0},{"$f":"IF('Planting and management costs'!$I$77=$B100,'Planting and management costs'!$Y$77/'Planting and management costs'!$AE$71,IF(AND(G99<>0,($B100-'Planting and management costs'!$I$77)<'Planting and management costs'!$AE$71),'Planting and management costs'!$Y$77/'Planting and management costs'!$AE$71,0))","v":0},{"$f":"IF('Planting and management costs'!$I$85=$B100,'Planting and management costs'!$Y$85/'Planting and management costs'!$AA$83,IF(AND(H99<>0,($B100-'Planting and management costs'!$I$85)<'Planting and management costs'!$AA$83),'Planting and management costs'!$Y$85/'Planting and management costs'!$AA$83,0))","v":0},{"$f":"IF('Planting and management costs'!$I$86=$B100,'Planting and management costs'!$Y$86/'Planting and management costs'!$AB$83,IF(AND(I99<>0,($B100-'Planting and management costs'!$I$86)<'Planting and management costs'!$AB$83),'Planting and management costs'!$Y$86/'Planting and management costs'!$AB$83,0))","v":0},{"$f":"IF('Planting and management costs'!$I$88=$B100,'Planting and management costs'!$Y$88/'Planting and management costs'!$AC$83,IF(AND(J99<>0,($B100-'Planting and management costs'!$I$88)<'Planting and management costs'!$AC$83),'Planting and management costs'!$Y$88/'Planting and management costs'!$AC$83,0))","v":0},{"$f":"IF('Planting and management costs'!$I$89=$B100,'Planting and management costs'!$Y$89/'Planting and management costs'!$AD$83,IF(AND(K99<>0,($B100-'Planting and management costs'!$I$89)<'Planting and management costs'!$AD$83),'Planting and management costs'!$Y$89/'Planting and management costs'!$AD$83,0))","v":0},{"$f":"IF('Planting and management costs'!$I$91=$B100,'Planting and management costs'!$Y$91/'Planting and management costs'!$AE$83,IF(AND(L99<>0,($B100-'Planting and management costs'!$I$91)<'Planting and management costs'!$AE$83),'Planting and management costs'!$Y$91/'Planting and management costs'!$AE$83,0))","v":0},{"$f":"IF('Planting and management costs'!$I$92=$B100,'Planting and management costs'!$Y$92/'Planting and management costs'!$AF$83,IF(AND(M99<>0,($B100-'Planting and management costs'!$I$92)<'Planting and management costs'!$AF$83),'Planting and management costs'!$Y$92/'Planting and management costs'!$AF$83,0))","v":0},{"$f":"IF('Planting and management costs'!$I$94=$B100,'Planting and management costs'!$Y$94/'Planting and management costs'!$AG$83,IF(AND(N99<>0,($B100-'Planting and management costs'!$I$94)<'Planting and management costs'!$AG$83),'Planting and management costs'!$Y$94/'Planting and management costs'!$AG$83,0))","v":0},{"$f":"IF('Planting and management costs'!$I$95=$B100,'Planting and management costs'!$Y$95/'Planting and management costs'!$AH$83,IF(AND(O99<>0,($B100-'Planting and management costs'!$I$95)<'Planting and management costs'!$AH$83),'Planting and management costs'!$Y$95/'Planting and management costs'!$AH$83,0))","v":0},{"$f":"IF('Planting and management costs'!$I$96=$B100,'Planting and management costs'!$Y$96/'Planting and management costs'!$AI$83,IF(AND(P99<>0,($B100-'Planting and management costs'!$I$96)<'Planting and management costs'!$AI$83),'Planting and management costs'!$Y$96/'Planting and management costs'!$AI$83,0))","v":0},0,0,{"$f":"IF('Cash flow'!B100='Growth characteristics'!$L$26,'Growth characteristics'!$L$29,0)","v":0},{"$f":"IF($R$94=\"USD/m3\",R100*S100,R100*S100*'Growth characteristics'!$L$32*0.001)","v":0},0,0,0,0,0,0,0,0,0,0,0,0,0,0,0,0,0,0,0,1,5,1,null,null,null,null,null,null,0.04,{"$f":"NPV(AW100,'Cash flow'!$U$96:$U$125)+'Cash flow'!$U$95","v":0},{"$f":"NPV(AW100,'Cash flow'!$U$139:$U$168)+'Cash flow'!$U$138","v":{"$error":"#REF!"}}]
[null,6,{"$f":"IF('Planting and management costs'!$I$72=$B101,'Planting and management costs'!$Y$72/'Planting and management costs'!$AA$71,IF(AND(C100<>0,($B101-'Planting and management costs'!$I$72)<'Planting and management costs'!$AA$35),'Planting and management costs'!$Y$36/'Planting and management costs'!$AA$35,0))","v":0},{"$f":"IF('Planting and management costs'!$I$74=$B101,'Planting and management costs'!$Y$74/'Planting and management costs'!$AB$71,IF(AND(D100<>0,($B101-'Planting and management costs'!$I$74)<'Planting and management costs'!$AB$71),'Planting and management costs'!$Y$74/'Planting and management costs'!$AB$71,0))","v":0},{"$f":"IF('Planting and management costs'!$I$75=$B101,'Planting and management costs'!$Y$75/'Planting and management costs'!$AC$71,IF(AND(E100<>0,($B101-'Planting and management costs'!$I$75)<'Planting and management costs'!$AC$71),'Planting and management costs'!$Y$75/'Planting and management costs'!$AC$71,0))","v":0},{"$f":"IF('Planting and management costs'!$I$76=$B101,'Planting and management costs'!$Y$76/'Planting and management costs'!$AD$71,IF(AND(F100<>0,($B101-'Planting and management costs'!$I$76)<'Planting and management costs'!$AD$71),'Planting and management costs'!$Y$76/'Planting and management costs'!$AD$71,0))","v":0},{"$f":"IF('Planting and management costs'!$I$77=$B101,'Planting and management costs'!$Y$77/'Planting and management costs'!$AE$71,IF(AND(G100<>0,($B101-'Planting and management costs'!$I$77)<'Planting and management costs'!$AE$71),'Planting and management costs'!$Y$77/'Planting and management costs'!$AE$71,0))","v":0},{"$f":"IF('Planting and management costs'!$I$85=$B101,'Planting and management costs'!$Y$85/'Planting and management costs'!$AA$83,IF(AND(H100<>0,($B101-'Planting and management costs'!$I$85)<'Planting and management costs'!$AA$83),'Planting and management costs'!$Y$85/'Planting and management costs'!$AA$83,0))","v":0},{"$f":"IF('Planting and management costs'!$I$86=$B101,'Planting and management costs'!$Y$86/'Planting and management costs'!$AB$83,IF(AND(I100<>0,($B101-'Planting and management costs'!$I$86)<'Planting and management costs'!$AB$83),'Planting and management costs'!$Y$86/'Planting and management costs'!$AB$83,0))","v":0},{"$f":"IF('Planting and management costs'!$I$88=$B101,'Planting and management costs'!$Y$88/'Planting and management costs'!$AC$83,IF(AND(J100<>0,($B101-'Planting and management costs'!$I$88)<'Planting and management costs'!$AC$83),'Planting and management costs'!$Y$88/'Planting and management costs'!$AC$83,0))","v":0},{"$f":"IF('Planting and management costs'!$I$89=$B101,'Planting and management costs'!$Y$89/'Planting and management costs'!$AD$83,IF(AND(K100<>0,($B101-'Planting and management costs'!$I$89)<'Planting and management costs'!$AD$83),'Planting and management costs'!$Y$89/'Planting and management costs'!$AD$83,0))","v":0},{"$f":"IF('Planting and management costs'!$I$91=$B101,'Planting and management costs'!$Y$91/'Planting and management costs'!$AE$83,IF(AND(L100<>0,($B101-'Planting and management costs'!$I$91)<'Planting and management costs'!$AE$83),'Planting and management costs'!$Y$91/'Planting and management costs'!$AE$83,0))","v":0},{"$f":"IF('Planting and management costs'!$I$92=$B101,'Planting and management costs'!$Y$92/'Planting and management costs'!$AF$83,IF(AND(M100<>0,($B101-'Planting and management costs'!$I$92)<'Planting and management costs'!$AF$83),'Planting and management costs'!$Y$92/'Planting and management costs'!$AF$83,0))","v":0},{"$f":"IF('Planting and management costs'!$I$94=$B101,'Planting and management costs'!$Y$94/'Planting and management costs'!$AG$83,IF(AND(N100<>0,($B101-'Planting and management costs'!$I$94)<'Planting and management costs'!$AG$83),'Planting and management costs'!$Y$94/'Planting and management costs'!$AG$83,0))","v":0},{"$f":"IF('Planting and management costs'!$I$95=$B101,'Planting and management costs'!$Y$95/'Planting and management costs'!$AH$83,IF(AND(O100<>0,($B101-'Planting and management costs'!$I$95)<'Planting and management costs'!$AH$83),'Planting and management costs'!$Y$95/'Planting and management costs'!$AH$83,0))","v":0},{"$f":"IF('Planting and management costs'!$I$96=$B101,'Planting and management costs'!$Y$96/'Planting and management costs'!$AI$83,IF(AND(P100<>0,($B101-'Planting and management costs'!$I$96)<'Planting and management costs'!$AI$83),'Planting and management costs'!$Y$96/'Planting and management costs'!$AI$83,0))","v":0},0,0,{"$f":"IF('Cash flow'!B101='Growth characteristics'!$L$26,'Growth characteristics'!$L$29,0)","v":0},{"$f":"IF($R$94=\"USD/m3\",R101*S101,R101*S101*'Growth characteristics'!$L$32*0.001)","v":0},0,0,0,0,0,0,0,0,0,0,0,0,0,0,0,0,0,0,0,1,6,1,null,null,null,null,null,null,0.05,{"$f":"NPV(AW101,'Cash flow'!$U$96:$U$125)+'Cash flow'!$U$95","v":0},{"$f":"NPV(AW101,'Cash flow'!$U$139:$U$168)+'Cash flow'!$U$138","v":{"$error":"#REF!"}}]
[null,7,{"$f":"IF('Planting and management costs'!$I$72=$B102,'Planting and management costs'!$Y$72/'Planting and management costs'!$AA$71,IF(AND(C101<>0,($B102-'Planting and management costs'!$I$72)<'Planting and management costs'!$AA$35),'Planting and management costs'!$Y$36/'Planting and management costs'!$AA$35,0))","v":0},{"$f":"IF('Planting and management costs'!$I$74=$B102,'Planting and management costs'!$Y$74/'Planting and management costs'!$AB$71,IF(AND(D101<>0,($B102-'Planting and management costs'!$I$74)<'Planting and management costs'!$AB$71),'Planting and management costs'!$Y$74/'Planting and management costs'!$AB$71,0))","v":0},{"$f":"IF('Planting and management costs'!$I$75=$B102,'Planting and management costs'!$Y$75/'Planting and management costs'!$AC$71,IF(AND(E101<>0,($B102-'Planting and management costs'!$I$75)<'Planting and management costs'!$AC$71),'Planting and management costs'!$Y$75/'Planting and management costs'!$AC$71,0))","v":0},{"$f":"IF('Planting and management costs'!$I$76=$B102,'Planting and management costs'!$Y$76/'Planting and management costs'!$AD$71,IF(AND(F101<>0,($B102-'Planting and management costs'!$I$76)<'Planting and management costs'!$AD$71),'Planting and management costs'!$Y$76/'Planting and management costs'!$AD$71,0))","v":0},{"$f":"IF('Planting and management costs'!$I$77=$B102,'Planting and management costs'!$Y$77/'Planting and management costs'!$AE$71,IF(AND(G101<>0,($B102-'Planting and management costs'!$I$77)<'Planting and management costs'!$AE$71),'Planting and management costs'!$Y$77/'Planting and management costs'!$AE$71,0))","v":0},{"$f":"IF('Planting and management costs'!$I$85=$B102,'Planting and management costs'!$Y$85/'Planting and management costs'!$AA$83,IF(AND(H101<>0,($B102-'Planting and management costs'!$I$85)<'Planting and management costs'!$AA$83),'Planting and management costs'!$Y$85/'Planting and management costs'!$AA$83,0))","v":0},{"$f":"IF('Planting and management costs'!$I$86=$B102,'Planting and management costs'!$Y$86/'Planting and management costs'!$AB$83,IF(AND(I101<>0,($B102-'Planting and management costs'!$I$86)<'Planting and management costs'!$AB$83),'Planting and management costs'!$Y$86/'Planting and management costs'!$AB$83,0))","v":0},{"$f":"IF('Planting and management costs'!$I$88=$B102,'Planting and management costs'!$Y$88/'Planting and management costs'!$AC$83,IF(AND(J101<>0,($B102-'Planting and management costs'!$I$88)<'Planting and management costs'!$AC$83),'Planting and management costs'!$Y$88/'Planting and management costs'!$AC$83,0))","v":0},{"$f":"IF('Planting and management costs'!$I$89=$B102,'Planting and management costs'!$Y$89/'Planting and management costs'!$AD$83,IF(AND(K101<>0,($B102-'Planting and management costs'!$I$89)<'Planting and management costs'!$AD$83),'Planting and management costs'!$Y$89/'Planting and management costs'!$AD$83,0))","v":0},{"$f":"IF('Planting and management costs'!$I$91=$B102,'Planting and management costs'!$Y$91/'Planting and management costs'!$AE$83,IF(AND(L101<>0,($B102-'Planting and management costs'!$I$91)<'Planting and management costs'!$AE$83),'Planting and management costs'!$Y$91/'Planting and management costs'!$AE$83,0))","v":0},{"$f":"IF('Planting and management costs'!$I$92=$B102,'Planting and management costs'!$Y$92/'Planting and management costs'!$AF$83,IF(AND(M101<>0,($B102-'Planting and management costs'!$I$92)<'Planting and management costs'!$AF$83),'Planting and management costs'!$Y$92/'Planting and management costs'!$AF$83,0))","v":0},{"$f":"IF('Planting and management costs'!$I$94=$B102,'Planting and management costs'!$Y$94/'Planting and management costs'!$AG$83,IF(AND(N101<>0,($B102-'Planting and management costs'!$I$94)<'Planting and management costs'!$AG$83),'Planting and management costs'!$Y$94/'Planting and management costs'!$AG$83,0))","v":0},{"$f":"IF('Planting and management costs'!$I$95=$B102,'Planting and management costs'!$Y$95/'Planting and management costs'!$AH$83,IF(AND(O101<>0,($B102-'Planting and management costs'!$I$95)<'Planting and management costs'!$AH$83),'Planting and management costs'!$Y$95/'Planting and management costs'!$AH$83,0))","v":0},{"$f":"IF('Planting and management costs'!$I$96=$B102,'Planting and management costs'!$Y$96/'Planting and management costs'!$AI$83,IF(AND(P101<>0,($B102-'Planting and management costs'!$I$96)<'Planting and management costs'!$AI$83),'Planting and management costs'!$Y$96/'Planting and management costs'!$AI$83,0))","v":0},0,0,{"$f":"IF('Cash flow'!B102='Growth characteristics'!$L$26,'Growth characteristics'!$L$29,0)","v":0},{"$f":"IF($R$94=\"USD/m3\",R102*S102,R102*S102*'Growth characteristics'!$L$32*0.001)","v":0},0,0,0,0,0,0,0,0,0,0,0,0,0,0,0,0,0,0,0,1,7,1,null,null,null,null,null,null,0.06,{"$f":"NPV(AW102,'Cash flow'!$U$96:$U$125)+'Cash flow'!$U$95","v":0},{"$f":"NPV(AW102,'Cash flow'!$U$139:$U$168)+'Cash flow'!$U$138","v":{"$error":"#REF!"}}]
[null,8,{"$f":"IF('Planting and management costs'!$I$72=$B103,'Planting and management costs'!$Y$72/'Planting and management costs'!$AA$71,IF(AND(C102<>0,($B103-'Planting and management costs'!$I$72)<'Planting and management costs'!$AA$35),'Planting and management costs'!$Y$36/'Planting and management costs'!$AA$35,0))","v":0},{"$f":"IF('Planting and management costs'!$I$74=$B103,'Planting and management costs'!$Y$74/'Planting and management costs'!$AB$71,IF(AND(D102<>0,($B103-'Planting and management costs'!$I$74)<'Planting and management costs'!$AB$71),'Planting and management costs'!$Y$74/'Planting and management costs'!$AB$71,0))","v":0},{"$f":"IF('Planting and management costs'!$I$75=$B103,'Planting and management costs'!$Y$75/'Planting and management costs'!$AC$71,IF(AND(E102<>0,($B103-'Planting and management costs'!$I$75)<'Planting and management costs'!$AC$71),'Planting and management costs'!$Y$75/'Planting and management costs'!$AC$71,0))","v":0},{"$f":"IF('Planting and management costs'!$I$76=$B103,'Planting and management costs'!$Y$76/'Planting and management costs'!$AD$71,IF(AND(F102<>0,($B103-'Planting and management costs'!$I$76)<'Planting and management costs'!$AD$71),'Planting and management costs'!$Y$76/'Planting and management costs'!$AD$71,0))","v":0},{"$f":"IF('Planting and management costs'!$I$77=$B103,'Planting and management costs'!$Y$77/'Planting and management costs'!$AE$71,IF(AND(G102<>0,($B103-'Planting and management costs'!$I$77)<'Planting and management costs'!$AE$71),'Planting and management costs'!$Y$77/'Planting and management costs'!$AE$71,0))","v":0},{"$f":"IF('Planting and management costs'!$I$85=$B103,'Planting and management costs'!$Y$85/'Planting and management costs'!$AA$83,IF(AND(H102<>0,($B103-'Planting and management costs'!$I$85)<'Planting and management costs'!$AA$83),'Planting and management costs'!$Y$85/'Planting and management costs'!$AA$83,0))","v":0},{"$f":"IF('Planting and management costs'!$I$86=$B103,'Planting and management costs'!$Y$86/'Planting and management costs'!$AB$83,IF(AND(I102<>0,($B103-'Planting and management costs'!$I$86)<'Planting and management costs'!$AB$83),'Planting and management costs'!$Y$86/'Planting and management costs'!$AB$83,0))","v":0},{"$f":"IF('Planting and management costs'!$I$88=$B103,'Planting and management costs'!$Y$88/'Planting and management costs'!$AC$83,IF(AND(J102<>0,($B103-'Planting and management costs'!$I$88)<'Planting and management costs'!$AC$83),'Planting and management costs'!$Y$88/'Planting and management costs'!$AC$83,0))","v":0},{"$f":"IF('Planting and management costs'!$I$89=$B103,'Planting and management costs'!$Y$89/'Planting and management costs'!$AD$83,IF(AND(K102<>0,($B103-'Planting and management costs'!$I$89)<'Planting and management costs'!$AD$83),'Planting and management costs'!$Y$89/'Planting and management costs'!$AD$83,0))","v":0},{"$f":"IF('Planting and management costs'!$I$91=$B103,'Planting and management costs'!$Y$91/'Planting and management costs'!$AE$83,IF(AND(L102<>0,($B103-'Planting and management costs'!$I$91)<'Planting and management costs'!$AE$83),'Planting and management costs'!$Y$91/'Planting and management costs'!$AE$83,0))","v":0},{"$f":"IF('Planting and management costs'!$I$92=$B103,'Planting and management costs'!$Y$92/'Planting and management costs'!$AF$83,IF(AND(M102<>0,($B103-'Planting and management costs'!$I$92)<'Planting and management costs'!$AF$83),'Planting and management costs'!$Y$92/'Planting and management costs'!$AF$83,0))","v":0},{"$f":"IF('Planting and management costs'!$I$94=$B103,'Planting and management costs'!$Y$94/'Planting and management costs'!$AG$83,IF(AND(N102<>0,($B103-'Planting and management costs'!$I$94)<'Planting and management costs'!$AG$83),'Planting and management costs'!$Y$94/'Planting and management costs'!$AG$83,0))","v":0},{"$f":"IF('Planting and management costs'!$I$95=$B103,'Planting and management costs'!$Y$95/'Planting and management costs'!$AH$83,IF(AND(O102<>0,($B103-'Planting and management costs'!$I$95)<'Planting and management costs'!$AH$83),'Planting and management costs'!$Y$95/'Planting and management costs'!$AH$83,0))","v":0},{"$f":"IF('Planting and management costs'!$I$96=$B103,'Planting and management costs'!$Y$96/'Planting and management costs'!$AI$83,IF(AND(P102<>0,($B103-'Planting and management costs'!$I$96)<'Planting and management costs'!$AI$83),'Planting and management costs'!$Y$96/'Planting and management costs'!$AI$83,0))","v":0},0,0,{"$f":"IF('Cash flow'!B103='Growth characteristics'!$L$26,'Growth characteristics'!$L$29,0)","v":0},{"$f":"IF($R$94=\"USD/m3\",R103*S103,R103*S103*'Growth characteristics'!$L$32*0.001)","v":0},0,0,0,0,0,0,0,0,0,0,0,0,0,0,0,0,0,0,0,1,8,1,null,null,null,null,null,null,7.0000000000000007E-2,{"$f":"NPV(AW103,'Cash flow'!$U$96:$U$125)+'Cash flow'!$U$95","v":0},{"$f":"NPV(AW103,'Cash flow'!$U$139:$U$168)+'Cash flow'!$U$138","v":{"$error":"#REF!"}}]
[null,9,{"$f":"IF('Planting and management costs'!$I$72=$B104,'Planting and management costs'!$Y$72/'Planting and management costs'!$AA$71,IF(AND(C103<>0,($B104-'Planting and management costs'!$I$72)<'Planting and management costs'!$AA$35),'Planting and management costs'!$Y$36/'Planting and management costs'!$AA$35,0))","v":0},{"$f":"IF('Planting and management costs'!$I$74=$B104,'Planting and management costs'!$Y$74/'Planting and management costs'!$AB$71,IF(AND(D103<>0,($B104-'Planting and management costs'!$I$74)<'Planting and management costs'!$AB$71),'Planting and management costs'!$Y$74/'Planting and management costs'!$AB$71,0))","v":0},{"$f":"IF('Planting and management costs'!$I$75=$B104,'Planting and management costs'!$Y$75/'Planting and management costs'!$AC$71,IF(AND(E103<>0,($B104-'Planting and management costs'!$I$75)<'Planting and management costs'!$AC$71),'Planting and management costs'!$Y$75/'Planting and management costs'!$AC$71,0))","v":0},{"$f":"IF('Planting and management costs'!$I$76=$B104,'Planting and management costs'!$Y$76/'Planting and management costs'!$AD$71,IF(AND(F103<>0,($B104-'Planting and management costs'!$I$76)<'Planting and management costs'!$AD$71),'Planting and management costs'!$Y$76/'Planting and management costs'!$AD$71,0))","v":0},{"$f":"IF('Planting and management costs'!$I$77=$B104,'Planting and management costs'!$Y$77/'Planting and management costs'!$AE$71,IF(AND(G103<>0,($B104-'Planting and management costs'!$I$77)<'Planting and management costs'!$AE$71),'Planting and management costs'!$Y$77/'Planting and management costs'!$AE$71,0))","v":0},{"$f":"IF('Planting and management costs'!$I$85=$B104,'Planting and management costs'!$Y$85/'Planting and management costs'!$AA$83,IF(AND(H103<>0,($B104-'Planting and management costs'!$I$85)<'Planting and management costs'!$AA$83),'Planting and management costs'!$Y$85/'Planting and management costs'!$AA$83,0))","v":0},{"$f":"IF('Planting and management costs'!$I$86=$B104,'Planting and management costs'!$Y$86/'Planting and management costs'!$AB$83,IF(AND(I103<>0,($B104-'Planting and management costs'!$I$86)<'Planting and management costs'!$AB$83),'Planting and management costs'!$Y$86/'Planting and management costs'!$AB$83,0))","v":0},{"$f":"IF('Planting and management costs'!$I$88=$B104,'Planting and management costs'!$Y$88/'Planting and management costs'!$AC$83,IF(AND(J103<>0,($B104-'Planting and management costs'!$I$88)<'Planting and management costs'!$AC$83),'Planting and management costs'!$Y$88/'Planting and management costs'!$AC$83,0))","v":0},{"$f":"IF('Planting and management costs'!$I$89=$B104,'Planting and management costs'!$Y$89/'Planting and management costs'!$AD$83,IF(AND(K103<>0,($B104-'Planting and management costs'!$I$89)<'Planting and management costs'!$AD$83),'Planting and management costs'!$Y$89/'Planting and management costs'!$AD$83,0))","v":0},{"$f":"IF('Planting and management costs'!$I$91=$B104,'Planting and management costs'!$Y$91/'Planting and management costs'!$AE$83,IF(AND(L103<>0,($B104-'Planting and management costs'!$I$91)<'Planting and management costs'!$AE$83),'Planting and management costs'!$Y$91/'Planting and management costs'!$AE$83,0))","v":0},{"$f":"IF('Planting and management costs'!$I$92=$B104,'Planting and management costs'!$Y$92/'Planting and management costs'!$AF$83,IF(AND(M103<>0,($B104-'Planting and management costs'!$I$92)<'Planting and management costs'!$AF$83),'Planting and management costs'!$Y$92/'Planting and management costs'!$AF$83,0))","v":0},{"$f":"IF('Planting and management costs'!$I$94=$B104,'Planting and management costs'!$Y$94/'Planting and management costs'!$AG$83,IF(AND(N103<>0,($B104-'Planting and management costs'!$I$94)<'Planting and management costs'!$AG$83),'Planting and management costs'!$Y$94/'Planting and management costs'!$AG$83,0))","v":0},{"$f":"IF('Planting and management costs'!$I$95=$B104,'Planting and management costs'!$Y$95/'Planting and management costs'!$AH$83,IF(AND(O103<>0,($B104-'Planting and management costs'!$I$95)<'Planting and management costs'!$AH$83),'Planting and management costs'!$Y$95/'Planting and management costs'!$AH$83,0))","v":0},{"$f":"IF('Planting and management costs'!$I$96=$B104,'Planting and management costs'!$Y$96/'Planting and management costs'!$AI$83,IF(AND(P103<>0,($B104-'Planting and management costs'!$I$96)<'Planting and management costs'!$AI$83),'Planting and management costs'!$Y$96/'Planting and management costs'!$AI$83,0))","v":0},0,0,{"$f":"IF('Cash flow'!B104='Growth characteristics'!$L$26,'Growth characteristics'!$L$29,0)","v":0},{"$f":"IF($R$94=\"USD/m3\",R104*S104,R104*S104*'Growth characteristics'!$L$32*0.001)","v":0},0,0,0,0,0,0,0,0,0,0,0,0,0,0,0,0,0,0,0,1,9,1,null,null,null,null,null,null,0.08,{"$f":"NPV(AW104,'Cash flow'!$U$96:$U$125)+'Cash flow'!$U$95","v":0},{"$f":"NPV(AW104,'Cash flow'!$U$139:$U$168)+'Cash flow'!$U$138","v":{"$error":"#REF!"}}]
[null,10,{"$f":"IF('Planting and management costs'!$I$72=$B105,'Planting and management costs'!$Y$72/'Planting and management costs'!$AA$71,IF(AND(C104<>0,($B105-'Planting and management costs'!$I$72)<'Planting and management costs'!$AA$35),'Planting and management costs'!$Y$36/'Planting and management costs'!$AA$35,0))","v":0},{"$f":"IF('Planting and management costs'!$I$74=$B105,'Planting and management costs'!$Y$74/'Planting and management costs'!$AB$71,IF(AND(D104<>0,($B105-'Planting and management costs'!$I$74)<'Planting and management costs'!$AB$71),'Planting and management costs'!$Y$74/'Planting and management costs'!$AB$71,0))","v":0},{"$f":"IF('Planting and management costs'!$I$75=$B105,'Planting and management costs'!$Y$75/'Planting and management costs'!$AC$71,IF(AND(E104<>0,($B105-'Planting and management costs'!$I$75)<'Planting and management costs'!$AC$71),'Planting and management costs'!$Y$75/'Planting and management costs'!$AC$71,0))","v":0},{"$f":"IF('Planting and management costs'!$I$76=$B105,'Planting and management costs'!$Y$76/'Planting and management costs'!$AD$71,IF(AND(F104<>0,($B105-'Planting and management costs'!$I$76)<'Planting and management costs'!$AD$71),'Planting and management costs'!$Y$76/'Planting and management costs'!$AD$71,0))","v":0},{"$f":"IF('Planting and management costs'!$I$77=$B105,'Planting and management costs'!$Y$77/'Planting and management costs'!$AE$71,IF(AND(G104<>0,($B105-'Planting and management costs'!$I$77)<'Planting and management costs'!$AE$71),'Planting and management costs'!$Y$77/'Planting and management costs'!$AE$71,0))","v":0},{"$f":"IF('Planting and management costs'!$I$85=$B105,'Planting and management costs'!$Y$85/'Planting and management costs'!$AA$83,IF(AND(H104<>0,($B105-'Planting and management costs'!$I$85)<'Planting and management costs'!$AA$83),'Planting and management costs'!$Y$85/'Planting and management costs'!$AA$83,0))","v":0},{"$f":"IF('Planting and management costs'!$I$86=$B105,'Planting and management costs'!$Y$86/'Planting and management costs'!$AB$83,IF(AND(I104<>0,($B105-'Planting and management costs'!$I$86)<'Planting and management costs'!$AB$83),'Planting and management costs'!$Y$86/'Planting and management costs'!$AB$83,0))","v":0},{"$f":"IF('Planting and management costs'!$I$88=$B105,'Planting and management costs'!$Y$88/'Planting and management costs'!$AC$83,IF(AND(J104<>0,($B105-'Planting and management costs'!$I$88)<'Planting and management costs'!$AC$83),'Planting and management costs'!$Y$88/'Planting and management costs'!$AC$83,0))","v":0},{"$f":"IF('Planting and management costs'!$I$89=$B105,'Planting and management costs'!$Y$89/'Planting and management costs'!$AD$83,IF(AND(K104<>0,($B105-'Planting and management costs'!$I$89)<'Planting and management costs'!$AD$83),'Planting and management costs'!$Y$89/'Planting and management costs'!$AD$83,0))","v":0},{"$f":"IF('Planting and management costs'!$I$91=$B105,'Planting and management costs'!$Y$91/'Planting and management costs'!$AE$83,IF(AND(L104<>0,($B105-'Planting and management costs'!$I$91)<'Planting and management costs'!$AE$83),'Planting and management costs'!$Y$91/'Planting and management costs'!$AE$83,0))","v":0},{"$f":"IF('Planting and management costs'!$I$92=$B105,'Planting and management costs'!$Y$92/'Planting and management costs'!$AF$83,IF(AND(M104<>0,($B105-'Planting and management costs'!$I$92)<'Planting and management costs'!$AF$83),'Planting and management costs'!$Y$92/'Planting and management costs'!$AF$83,0))","v":0},{"$f":"IF('Planting and management costs'!$I$94=$B105,'Planting and management costs'!$Y$94/'Planting and management costs'!$AG$83,IF(AND(N104<>0,($B105-'Planting and management costs'!$I$94)<'Planting and management costs'!$AG$83),'Planting and management costs'!$Y$94/'Planting and management costs'!$AG$83,0))","v":0},{"$f":"IF('Planting and management costs'!$I$95=$B105,'Planting and management costs'!$Y$95/'Planting and management costs'!$AH$83,IF(AND(O104<>0,($B105-'Planting and management costs'!$I$95)<'Planting and management costs'!$AH$83),'Planting and management costs'!$Y$95/'Planting and management costs'!$AH$83,0))","v":0},{"$f":"IF('Planting and management costs'!$I$96=$B105,'Planting and management costs'!$Y$96/'Planting and management costs'!$AI$83,IF(AND(P104<>0,($B105-'Planting and management costs'!$I$96)<'Planting and management costs'!$AI$83),'Planting and management costs'!$Y$96/'Planting and management costs'!$AI$83,0))","v":0},0,0,{"$f":"IF('Cash flow'!B105='Growth characteristics'!$L$26,'Growth characteristics'!$L$29,0)","v":0},{"$f":"IF($R$94=\"USD/m3\",R105*S105,R105*S105*'Growth characteristics'!$L$32*0.001)","v":0},0,0,0,0,0,0,0,0,0,0,0,0,0,0,0,0,0,0,0,1,10,1,null,null,null,null,null,null,0.09,{"$f":"NPV(AW105,'Cash flow'!$U$96:$U$125)+'Cash flow'!$U$95","v":0},{"$f":"NPV(AW105,'Cash flow'!$U$139:$U$168)+'Cash flow'!$U$138","v":{"$error":"#REF!"}}]
[null,11,{"$f":"IF('Planting and management costs'!$I$72=$B106,'Planting and management costs'!$Y$72/'Planting and management costs'!$AA$71,IF(AND(C105<>0,($B106-'Planting and management costs'!$I$72)<'Planting and management costs'!$AA$35),'Planting and management costs'!$Y$36/'Planting and management costs'!$AA$35,0))","v":0},{"$f":"IF('Planting and management costs'!$I$74=$B106,'Planting and management costs'!$Y$74/'Planting and management costs'!$AB$71,IF(AND(D105<>0,($B106-'Planting and management costs'!$I$74)<'Planting and management costs'!$AB$71),'Planting and management costs'!$Y$74/'Planting and management costs'!$AB$71,0))","v":0},{"$f":"IF('Planting and management costs'!$I$75=$B106,'Planting and management costs'!$Y$75/'Planting and management costs'!$AC$71,IF(AND(E105<>0,($B106-'Planting and management costs'!$I$75)<'Planting and management costs'!$AC$71),'Planting and management costs'!$Y$75/'Planting and management costs'!$AC$71,0))","v":0},{"$f":"IF('Planting and management costs'!$I$76=$B106,'Planting and management costs'!$Y$76/'Planting and management costs'!$AD$71,IF(AND(F105<>0,($B106-'Planting and management costs'!$I$76)<'Planting and management costs'!$AD$71),'Planting and management costs'!$Y$76/'Planting and management costs'!$AD$71,0))","v":0},{"$f":"IF('Planting and management costs'!$I$77=$B106,'Planting and management costs'!$Y$77/'Planting and management costs'!$AE$71,IF(AND(G105<>0,($B106-'Planting and management costs'!$I$77)<'Planting and management costs'!$AE$71),'Planting and management costs'!$Y$77/'Planting and management costs'!$AE$71,0))","v":0},{"$f":"IF('Planting and management costs'!$I$85=$B106,'Planting and management costs'!$Y$85/'Planting and management costs'!$AA$83,IF(AND(H105<>0,($B106-'Planting and management costs'!$I$85)<'Planting and management costs'!$AA$83),'Planting and management costs'!$Y$85/'Planting and management costs'!$AA$83,0))","v":0},{"$f":"IF('Planting and management costs'!$I$86=$B106,'Planting and management costs'!$Y$86/'Planting and management costs'!$AB$83,IF(AND(I105<>0,($B106-'Planting and management costs'!$I$86)<'Planting and management costs'!$AB$83),'Planting and management costs'!$Y$86/'Planting and management costs'!$AB$83,0))","v":0},{"$f":"IF('Planting and management costs'!$I$88=$B106,'Planting and management costs'!$Y$88/'Planting and management costs'!$AC$83,IF(AND(J105<>0,($B106-'Planting and management costs'!$I$88)<'Planting and management costs'!$AC$83),'Planting and management costs'!$Y$88/'Planting and management costs'!$AC$83,0))","v":0},{"$f":"IF('Planting and management costs'!$I$89=$B106,'Planting and management costs'!$Y$89/'Planting and management costs'!$AD$83,IF(AND(K105<>0,($B106-'Planting and management costs'!$I$89)<'Planting and management costs'!$AD$83),'Planting and management costs'!$Y$89/'Planting and management costs'!$AD$83,0))","v":0},{"$f":"IF('Planting and management costs'!$I$91=$B106,'Planting and management costs'!$Y$91/'Planting and management costs'!$AE$83,IF(AND(L105<>0,($B106-'Planting and management costs'!$I$91)<'Planting and management costs'!$AE$83),'Planting and management costs'!$Y$91/'Planting and management costs'!$AE$83,0))","v":0},{"$f":"IF('Planting and management costs'!$I$92=$B106,'Planting and management costs'!$Y$92/'Planting and management costs'!$AF$83,IF(AND(M105<>0,($B106-'Planting and management costs'!$I$92)<'Planting and management costs'!$AF$83),'Planting and management costs'!$Y$92/'Planting and management costs'!$AF$83,0))","v":0},{"$f":"IF('Planting and management costs'!$I$94=$B106,'Planting and management costs'!$Y$94/'Planting and management costs'!$AG$83,IF(AND(N105<>0,($B106-'Planting and management costs'!$I$94)<'Planting and management costs'!$AG$83),'Planting and management costs'!$Y$94/'Planting and management costs'!$AG$83,0))","v":0},{"$f":"IF('Planting and management costs'!$I$95=$B106,'Planting and management costs'!$Y$95/'Planting and management costs'!$AH$83,IF(AND(O105<>0,($B106-'Planting and management costs'!$I$95)<'Planting and management costs'!$AH$83),'Planting and management costs'!$Y$95/'Planting and management costs'!$AH$83,0))","v":0},{"$f":"IF('Planting and management costs'!$I$96=$B106,'Planting and management costs'!$Y$96/'Planting and management costs'!$AI$83,IF(AND(P105<>0,($B106-'Planting and management costs'!$I$96)<'Planting and management costs'!$AI$83),'Planting and management costs'!$Y$96/'Planting and management costs'!$AI$83,0))","v":0},0,0,{"$f":"IF('Cash flow'!B106='Growth characteristics'!$L$26,'Growth characteristics'!$L$29,0)","v":0},{"$f":"IF($R$94=\"USD/m3\",R106*S106,R106*S106*'Growth characteristics'!$L$32*0.001)","v":0},0,0,0,0,0,0,0,0,0,0,0,0,0,0,0,0,0,0,0,1,11,1,null,null,null,null,null,null,0.1,{"$f":"NPV(AW106,'Cash flow'!$U$96:$U$125)+'Cash flow'!$U$95","v":0},{"$f":"NPV(AW106,'Cash flow'!$U$139:$U$168)+'Cash flow'!$U$138","v":{"$error":"#REF!"}}]
[null,12,{"$f":"IF('Planting and management costs'!$I$72=$B107,'Planting and management costs'!$Y$72/'Planting and management costs'!$AA$71,IF(AND(C106<>0,($B107-'Planting and management costs'!$I$72)<'Planting and management costs'!$AA$35),'Planting and management costs'!$Y$36/'Planting and management costs'!$AA$35,0))","v":0},{"$f":"IF('Planting and management costs'!$I$74=$B107,'Planting and management costs'!$Y$74/'Planting and management costs'!$AB$71,IF(AND(D106<>0,($B107-'Planting and management costs'!$I$74)<'Planting and management costs'!$AB$71),'Planting and management costs'!$Y$74/'Planting and management costs'!$AB$71,0))","v":0},{"$f":"IF('Planting and management costs'!$I$75=$B107,'Planting and management costs'!$Y$75/'Planting and management costs'!$AC$71,IF(AND(E106<>0,($B107-'Planting and management costs'!$I$75)<'Planting and management costs'!$AC$71),'Planting and management costs'!$Y$75/'Planting and management costs'!$AC$71,0))","v":0},{"$f":"IF('Planting and management costs'!$I$76=$B107,'Planting and management costs'!$Y$76/'Planting and management costs'!$AD$71,IF(AND(F106<>0,($B107-'Planting and management costs'!$I$76)<'Planting and management costs'!$AD$71),'Planting and management costs'!$Y$76/'Planting and management costs'!$AD$71,0))","v":0},{"$f":"IF('Planting and management costs'!$I$77=$B107,'Planting and management costs'!$Y$77/'Planting and management costs'!$AE$71,IF(AND(G106<>0,($B107-'Planting and management costs'!$I$77)<'Planting and management costs'!$AE$71),'Planting and management costs'!$Y$77/'Planting and management costs'!$AE$71,0))","v":0},{"$f":"IF('Planting and management costs'!$I$85=$B107,'Planting and management costs'!$Y$85/'Planting and management costs'!$AA$83,IF(AND(H106<>0,($B107-'Planting and management costs'!$I$85)<'Planting and management costs'!$AA$83),'Planting and management costs'!$Y$85/'Planting and management costs'!$AA$83,0))","v":0},{"$f":"IF('Planting and management costs'!$I$86=$B107,'Planting and management costs'!$Y$86/'Planting and management costs'!$AB$83,IF(AND(I106<>0,($B107-'Planting and management costs'!$I$86)<'Planting and management costs'!$AB$83),'Planting and management costs'!$Y$86/'Planting and management costs'!$AB$83,0))","v":0},{"$f":"IF('Planting and management costs'!$I$88=$B107,'Planting and management costs'!$Y$88/'Planting and management costs'!$AC$83,IF(AND(J106<>0,($B107-'Planting and management costs'!$I$88)<'Planting and management costs'!$AC$83),'Planting and management costs'!$Y$88/'Planting and management costs'!$AC$83,0))","v":0},{"$f":"IF('Planting and management costs'!$I$89=$B107,'Planting and management costs'!$Y$89/'Planting and management costs'!$AD$83,IF(AND(K106<>0,($B107-'Planting and management costs'!$I$89)<'Planting and management costs'!$AD$83),'Planting and management costs'!$Y$89/'Planting and management costs'!$AD$83,0))","v":0},{"$f":"IF('Planting and management costs'!$I$91=$B107,'Planting and management costs'!$Y$91/'Planting and management costs'!$AE$83,IF(AND(L106<>0,($B107-'Planting and management costs'!$I$91)<'Planting and management costs'!$AE$83),'Planting and management costs'!$Y$91/'Planting and management costs'!$AE$83,0))","v":0},{"$f":"IF('Planting and management costs'!$I$92=$B107,'Planting and management costs'!$Y$92/'Planting and management costs'!$AF$83,IF(AND(M106<>0,($B107-'Planting and management costs'!$I$92)<'Planting and management costs'!$AF$83),'Planting and management costs'!$Y$92/'Planting and management costs'!$AF$83,0))","v":0},{"$f":"IF('Planting and management costs'!$I$94=$B107,'Planting and management costs'!$Y$94/'Planting and management costs'!$AG$83,IF(AND(N106<>0,($B107-'Planting and management costs'!$I$94)<'Planting and management costs'!$AG$83),'Planting and management costs'!$Y$94/'Planting and management costs'!$AG$83,0))","v":0},{"$f":"IF('Planting and management costs'!$I$95=$B107,'Planting and management costs'!$Y$95/'Planting and management costs'!$AH$83,IF(AND(O106<>0,($B107-'Planting and management costs'!$I$95)<'Planting and management costs'!$AH$83),'Planting and management costs'!$Y$95/'Planting and management costs'!$AH$83,0))","v":0},{"$f":"IF('Planting and management costs'!$I$96=$B107,'Planting and management costs'!$Y$96/'Planting and management costs'!$AI$83,IF(AND(P106<>0,($B107-'Planting and management costs'!$I$96)<'Planting and management costs'!$AI$83),'Planting and management costs'!$Y$96/'Planting and management costs'!$AI$83,0))","v":0},0,0,{"$f":"IF('Cash flow'!B107='Growth characteristics'!$L$26,'Growth characteristics'!$L$29,0)","v":0},{"$f":"IF($R$94=\"USD/m3\",R107*S107,R107*S107*'Growth characteristics'!$L$32*0.001)","v":0},0,0,0,0,0,0,0,0,0,0,0,0,0,0,0,0,0,0,0,1,12,1,null,null,null,null,null,null,0.11,{"$f":"NPV(AW107,'Cash flow'!$U$96:$U$125)+'Cash flow'!$U$95","v":0},{"$f":"NPV(AW107,'Cash flow'!$U$139:$U$168)+'Cash flow'!$U$138","v":{"$error":"#REF!"}}]
[null,13,{"$f":"IF('Planting and management costs'!$I$72=$B108,'Planting and management costs'!$Y$72/'Planting and management costs'!$AA$71,IF(AND(C107<>0,($B108-'Planting and management costs'!$I$72)<'Planting and management costs'!$AA$35),'Planting and management costs'!$Y$36/'Planting and management costs'!$AA$35,0))","v":0},{"$f":"IF('Planting and management costs'!$I$74=$B108,'Planting and management costs'!$Y$74/'Planting and management costs'!$AB$71,IF(AND(D107<>0,($B108-'Planting and management costs'!$I$74)<'Planting and management costs'!$AB$71),'Planting and management costs'!$Y$74/'Planting and management costs'!$AB$71,0))","v":0},{"$f":"IF('Planting and management costs'!$I$75=$B108,'Planting and management costs'!$Y$75/'Planting and management costs'!$AC$71,IF(AND(E107<>0,($B108-'Planting and management costs'!$I$75)<'Planting and management costs'!$AC$71),'Planting and management costs'!$Y$75/'Planting and management costs'!$AC$71,0))","v":0},{"$f":"IF('Planting and management costs'!$I$76=$B108,'Planting and management costs'!$Y$76/'Planting and management costs'!$AD$71,IF(AND(F107<>0,($B108-'Planting and management costs'!$I$76)<'Planting and management costs'!$AD$71),'Planting and management costs'!$Y$76/'Planting and management costs'!$AD$71,0))","v":0},{"$f":"IF('Planting and management costs'!$I$77=$B108,'Planting and management costs'!$Y$77/'Planting and management costs'!$AE$71,IF(AND(G107<>0,($B108-'Planting and management costs'!$I$77)<'Planting and management costs'!$AE$71),'Planting and management costs'!$Y$77/'Planting and management costs'!$AE$71,0))","v":0},{"$f":"IF('Planting and management costs'!$I$85=$B108,'Planting and management costs'!$Y$85/'Planting and management costs'!$AA$83,IF(AND(H107<>0,($B108-'Planting and management costs'!$I$85)<'Planting and management costs'!$AA$83),'Planting and management costs'!$Y$85/'Planting and management costs'!$AA$83,0))","v":0},{"$f":"IF('Planting and management costs'!$I$86=$B108,'Planting and management costs'!$Y$86/'Planting and management costs'!$AB$83,IF(AND(I107<>0,($B108-'Planting and management costs'!$I$86)<'Planting and management costs'!$AB$83),'Planting and management costs'!$Y$86/'Planting and management costs'!$AB$83,0))","v":0},{"$f":"IF('Planting and management costs'!$I$88=$B108,'Planting and management costs'!$Y$88/'Planting and management costs'!$AC$83,IF(AND(J107<>0,($B108-'Planting and management costs'!$I$88)<'Planting and management costs'!$AC$83),'Planting and management costs'!$Y$88/'Planting and management costs'!$AC$83,0))","v":0},{"$f":"IF('Planting and management costs'!$I$89=$B108,'Planting and management costs'!$Y$89/'Planting and management costs'!$AD$83,IF(AND(K107<>0,($B108-'Planting and management costs'!$I$89)<'Planting and management costs'!$AD$83),'Planting and management costs'!$Y$89/'Planting and management costs'!$AD$83,0))","v":0},{"$f":"IF('Planting and management costs'!$I$91=$B108,'Planting and management costs'!$Y$91/'Planting and management costs'!$AE$83,IF(AND(L107<>0,($B108-'Planting and management costs'!$I$91)<'Planting and management costs'!$AE$83),'Planting and management costs'!$Y$91/'Planting and management costs'!$AE$83,0))","v":0},{"$f":"IF('Planting and management costs'!$I$92=$B108,'Planting and management costs'!$Y$92/'Planting and management costs'!$AF$83,IF(AND(M107<>0,($B108-'Planting and management costs'!$I$92)<'Planting and management costs'!$AF$83),'Planting and management costs'!$Y$92/'Planting and management costs'!$AF$83,0))","v":0},{"$f":"IF('Planting and management costs'!$I$94=$B108,'Planting and management costs'!$Y$94/'Planting and management costs'!$AG$83,IF(AND(N107<>0,($B108-'Planting and management costs'!$I$94)<'Planting and management costs'!$AG$83),'Planting and management costs'!$Y$94/'Planting and management costs'!$AG$83,0))","v":0},{"$f":"IF('Planting and management costs'!$I$95=$B108,'Planting and management costs'!$Y$95/'Planting and management costs'!$AH$83,IF(AND(O107<>0,($B108-'Planting and management costs'!$I$95)<'Planting and management costs'!$AH$83),'Planting and management costs'!$Y$95/'Planting and management costs'!$AH$83,0))","v":0},{"$f":"IF('Planting and management costs'!$I$96=$B108,'Planting and management costs'!$Y$96/'Planting and management costs'!$AI$83,IF(AND(P107<>0,($B108-'Planting and management costs'!$I$96)<'Planting and management costs'!$AI$83),'Planting and management costs'!$Y$96/'Planting and management costs'!$AI$83,0))","v":0},0,0,{"$f":"IF('Cash flow'!B108='Growth characteristics'!$L$26,'Growth characteristics'!$L$29,0)","v":0},{"$f":"IF($R$94=\"USD/m3\",R108*S108,R108*S108*'Growth characteristics'!$L$32*0.001)","v":0},0,0,0,0,0,0,0,0,0,0,0,0,0,0,0,0,0,0,0,1,13,1,null,null,null,null,null,null,0.12,{"$f":"NPV(AW108,'Cash flow'!$U$96:$U$125)+'Cash flow'!$U$95","v":0},{"$f":"NPV(AW108,'Cash flow'!$U$139:$U$168)+'Cash flow'!$U$138","v":{"$error":"#REF!"}}]
[null,14,{"$f":"IF('Planting and management costs'!$I$72=$B109,'Planting and management costs'!$Y$72/'Planting and management costs'!$AA$71,IF(AND(C108<>0,($B109-'Planting and management costs'!$I$72)<'Planting and management costs'!$AA$35),'Planting and management costs'!$Y$36/'Planting and management costs'!$AA$35,0))","v":0},{"$f":"IF('Planting and management costs'!$I$74=$B109,'Planting and management costs'!$Y$74/'Planting and management costs'!$AB$71,IF(AND(D108<>0,($B109-'Planting and management costs'!$I$74)<'Planting and management costs'!$AB$71),'Planting and management costs'!$Y$74/'Planting and management costs'!$AB$71,0))","v":0},{"$f":"IF('Planting and management costs'!$I$75=$B109,'Planting and management costs'!$Y$75/'Planting and management costs'!$AC$71,IF(AND(E108<>0,($B109-'Planting and management costs'!$I$75)<'Planting and management costs'!$AC$71),'Planting and management costs'!$Y$75/'Planting and management costs'!$AC$71,0))","v":0},{"$f":"IF('Planting and management costs'!$I$76=$B109,'Planting and management costs'!$Y$76/'Planting and management costs'!$AD$71,IF(AND(F108<>0,($B109-'Planting and management costs'!$I$76)<'Planting and management costs'!$AD$71),'Planting and management costs'!$Y$76/'Planting and management costs'!$AD$71,0))","v":0},{"$f":"IF('Planting and management costs'!$I$77=$B109,'Planting and management costs'!$Y$77/'Planting and management costs'!$AE$71,IF(AND(G108<>0,($B109-'Planting and management costs'!$I$77)<'Planting and management costs'!$AE$71),'Planting and management costs'!$Y$77/'Planting and management costs'!$AE$71,0))","v":0},{"$f":"IF('Planting and management costs'!$I$85=$B109,'Planting and management costs'!$Y$85/'Planting and management costs'!$AA$83,IF(AND(H108<>0,($B109-'Planting and management costs'!$I$85)<'Planting and management costs'!$AA$83),'Planting and management costs'!$Y$85/'Planting and management costs'!$AA$83,0))","v":0},{"$f":"IF('Planting and management costs'!$I$86=$B109,'Planting and management costs'!$Y$86/'Planting and management costs'!$AB$83,IF(AND(I108<>0,($B109-'Planting and management costs'!$I$86)<'Planting and management costs'!$AB$83),'Planting and management costs'!$Y$86/'Planting and management costs'!$AB$83,0))","v":0},{"$f":"IF('Planting and management costs'!$I$88=$B109,'Planting and management costs'!$Y$88/'Planting and management costs'!$AC$83,IF(AND(J108<>0,($B109-'Planting and management costs'!$I$88)<'Planting and management costs'!$AC$83),'Planting and management costs'!$Y$88/'Planting and management costs'!$AC$83,0))","v":0},{"$f":"IF('Planting and management costs'!$I$89=$B109,'Planting and management costs'!$Y$89/'Planting and management costs'!$AD$83,IF(AND(K108<>0,($B109-'Planting and management costs'!$I$89)<'Planting and management costs'!$AD$83),'Planting and management costs'!$Y$89/'Planting and management costs'!$AD$83,0))","v":0},{"$f":"IF('Planting and management costs'!$I$91=$B109,'Planting and management costs'!$Y$91/'Planting and management costs'!$AE$83,IF(AND(L108<>0,($B109-'Planting and management costs'!$I$91)<'Planting and management costs'!$AE$83),'Planting and management costs'!$Y$91/'Planting and management costs'!$AE$83,0))","v":0},{"$f":"IF('Planting and management costs'!$I$92=$B109,'Planting and management costs'!$Y$92/'Planting and management costs'!$AF$83,IF(AND(M108<>0,($B109-'Planting and management costs'!$I$92)<'Planting and management costs'!$AF$83),'Planting and management costs'!$Y$92/'Planting and management costs'!$AF$83,0))","v":0},{"$f":"IF('Planting and management costs'!$I$94=$B109,'Planting and management costs'!$Y$94/'Planting and management costs'!$AG$83,IF(AND(N108<>0,($B109-'Planting and management costs'!$I$94)<'Planting and management costs'!$AG$83),'Planting and management costs'!$Y$94/'Planting and management costs'!$AG$83,0))","v":0},{"$f":"IF('Planting and management costs'!$I$95=$B109,'Planting and management costs'!$Y$95/'Planting and management costs'!$AH$83,IF(AND(O108<>0,($B109-'Planting and management costs'!$I$95)<'Planting and management costs'!$AH$83),'Planting and management costs'!$Y$95/'Planting and management costs'!$AH$83,0))","v":0},{"$f":"IF('Planting and management costs'!$I$96=$B109,'Planting and management costs'!$Y$96/'Planting and management costs'!$AI$83,IF(AND(P108<>0,($B109-'Planting and management costs'!$I$96)<'Planting and management costs'!$AI$83),'Planting and management costs'!$Y$96/'Planting and management costs'!$AI$83,0))","v":0},{"$f":"SUM(C109:P109)","v":0},0,{"$f":"IF('Cash flow'!B109='Growth characteristics'!$L$26,'Growth characteristics'!$L$29,0)","v":0},{"$f":"IF($R$94=\"USD/m3\",R109*S109,R109*S109*'Growth characteristics'!$L$32*0.001)","v":0},0,0,0,0,0,0,0,0,0,0,0,0,0,0,0,0,0,0,0,1,14,1,null,null,null,null,null,null,0.13,{"$f":"NPV(AW109,'Cash flow'!$U$96:$U$125)+'Cash flow'!$U$95","v":0},{"$f":"NPV(AW109,'Cash flow'!$U$139:$U$168)+'Cash flow'!$U$138","v":{"$error":"#REF!"}}]
[null,15,{"$f":"IF('Planting and management costs'!$I$72=$B110,'Planting and management costs'!$Y$72/'Planting and management costs'!$AA$71,IF(AND(C109<>0,($B110-'Planting and management costs'!$I$72)<'Planting and management costs'!$AA$35),'Planting and management costs'!$Y$36/'Planting and management costs'!$AA$35,0))","v":0},{"$f":"IF('Planting and management costs'!$I$74=$B110,'Planting and management costs'!$Y$74/'Planting and management costs'!$AB$71,IF(AND(D109<>0,($B110-'Planting and management costs'!$I$74)<'Planting and management costs'!$AB$71),'Planting and management costs'!$Y$74/'Planting and management costs'!$AB$71,0))","v":0},{"$f":"IF('Planting and management costs'!$I$75=$B110,'Planting and management costs'!$Y$75/'Planting and management costs'!$AC$71,IF(AND(E109<>0,($B110-'Planting and management costs'!$I$75)<'Planting and management costs'!$AC$71),'Planting and management costs'!$Y$75/'Planting and management costs'!$AC$71,0))","v":0},{"$f":"IF('Planting and management costs'!$I$76=$B110,'Planting and management costs'!$Y$76/'Planting and management costs'!$AD$71,IF(AND(F109<>0,($B110-'Planting and management costs'!$I$76)<'Planting and management costs'!$AD$71),'Planting and management costs'!$Y$76/'Planting and management costs'!$AD$71,0))","v":0},{"$f":"IF('Planting and management costs'!$I$77=$B110,'Planting and management costs'!$Y$77/'Planting and management costs'!$AE$71,IF(AND(G109<>0,($B110-'Planting and management costs'!$I$77)<'Planting and management costs'!$AE$71),'Planting and management costs'!$Y$77/'Planting and management costs'!$AE$71,0))","v":0},{"$f":"IF('Planting and management costs'!$I$85=$B110,'Planting and management costs'!$Y$85/'Planting and management costs'!$AA$83,IF(AND(H109<>0,($B110-'Planting and management costs'!$I$85)<'Planting and management costs'!$AA$83),'Planting and management costs'!$Y$85/'Planting and management costs'!$AA$83,0))","v":0},{"$f":"IF('Planting and management costs'!$I$86=$B110,'Planting and management costs'!$Y$86/'Planting and management costs'!$AB$83,IF(AND(I109<>0,($B110-'Planting and management costs'!$I$86)<'Planting and management costs'!$AB$83),'Planting and management costs'!$Y$86/'Planting and management costs'!$AB$83,0))","v":0},{"$f":"IF('Planting and management costs'!$I$88=$B110,'Planting and management costs'!$Y$88/'Planting and management costs'!$AC$83,IF(AND(J109<>0,($B110-'Planting and management costs'!$I$88)<'Planting and management costs'!$AC$83),'Planting and management costs'!$Y$88/'Planting and management costs'!$AC$83,0))","v":0},{"$f":"IF('Planting and management costs'!$I$89=$B110,'Planting and management costs'!$Y$89/'Planting and management costs'!$AD$83,IF(AND(K109<>0,($B110-'Planting and management costs'!$I$89)<'Planting and management costs'!$AD$83),'Planting and management costs'!$Y$89/'Planting and management costs'!$AD$83,0))","v":0},{"$f":"IF('Planting and management costs'!$I$91=$B110,'Planting and management costs'!$Y$91/'Planting and management costs'!$AE$83,IF(AND(L109<>0,($B110-'Planting and management costs'!$I$91)<'Planting and management costs'!$AE$83),'Planting and management costs'!$Y$91/'Planting and management costs'!$AE$83,0))","v":0},{"$f":"IF('Planting and management costs'!$I$92=$B110,'Planting and management costs'!$Y$92/'Planting and management costs'!$AF$83,IF(AND(M109<>0,($B110-'Planting and management costs'!$I$92)<'Planting and management costs'!$AF$83),'Planting and management costs'!$Y$92/'Planting and management costs'!$AF$83,0))","v":0},{"$f":"IF('Planting and management costs'!$I$94=$B110,'Planting and management costs'!$Y$94/'Planting and management costs'!$AG$83,IF(AND(N109<>0,($B110-'Planting and management costs'!$I$94)<'Planting and management costs'!$AG$83),'Planting and management costs'!$Y$94/'Planting and management costs'!$AG$83,0))","v":0},{"$f":"IF('Planting and management costs'!$I$95=$B110,'Planting and management costs'!$Y$95/'Planting and management costs'!$AH$83,IF(AND(O109<>0,($B110-'Planting and management costs'!$I$95)<'Planting and management costs'!$AH$83),'Planting and management costs'!$Y$95/'Planting and management costs'!$AH$83,0))","v":0},{"$f":"IF('Planting and management costs'!$I$96=$B110,'Planting and management costs'!$Y$96/'Planting and management costs'!$AI$83,IF(AND(P109<>0,($B110-'Planting and management costs'!$I$96)<'Planting and management costs'!$AI$83),'Planting and management costs'!$Y$96/'Planting and management costs'!$AI$83,0))","v":0},0,0,{"$f":"IF('Cash flow'!B110='Growth characteristics'!$L$26,'Growth characteristics'!$L$29,0)","v":0},{"$f":"IF($R$94=\"USD/m3\",R110*S110,R110*S110*'Growth characteristics'!$L$32*0.001)","v":0},0,0,0,0,0,0,0,0,0,0,0,0,0,0,0,0,0,0,0,1,15,1,null,null,null,null,null,null,0.14000000000000001,{"$f":"NPV(AW110,'Cash flow'!$U$96:$U$125)+'Cash flow'!$U$95","v":0},{"$f":"NPV(AW110,'Cash flow'!$U$139:$U$168)+'Cash flow'!$U$138","v":{"$error":"#REF!"}}]
[null,16,{"$f":"IF('Planting and management costs'!$I$72=$B111,'Planting and management costs'!$Y$72/'Planting and management costs'!$AA$71,IF(AND(C110<>0,($B111-'Planting and management costs'!$I$72)<'Planting and management costs'!$AA$35),'Planting and management costs'!$Y$36/'Planting and management costs'!$AA$35,0))","v":0},{"$f":"IF('Planting and management costs'!$I$74=$B111,'Planting and management costs'!$Y$74/'Planting and management costs'!$AB$71,IF(AND(D110<>0,($B111-'Planting and management costs'!$I$74)<'Planting and management costs'!$AB$71),'Planting and management costs'!$Y$74/'Planting and management costs'!$AB$71,0))","v":0},{"$f":"IF('Planting and management costs'!$I$75=$B111,'Planting and management costs'!$Y$75/'Planting and management costs'!$AC$71,IF(AND(E110<>0,($B111-'Planting and management costs'!$I$75)<'Planting and management costs'!$AC$71),'Planting and management costs'!$Y$75/'Planting and management costs'!$AC$71,0))","v":0},{"$f":"IF('Planting and management costs'!$I$76=$B111,'Planting and management costs'!$Y$76/'Planting and management costs'!$AD$71,IF(AND(F110<>0,($B111-'Planting and management costs'!$I$76)<'Planting and management costs'!$AD$71),'Planting and management costs'!$Y$76/'Planting and management costs'!$AD$71,0))","v":0},{"$f":"IF('Planting and management costs'!$I$77=$B111,'Planting and management costs'!$Y$77/'Planting and management costs'!$AE$71,IF(AND(G110<>0,($B111-'Planting and management costs'!$I$77)<'Planting and management costs'!$AE$71),'Planting and management costs'!$Y$77/'Planting and management costs'!$AE$71,0))","v":0},{"$f":"IF('Planting and management costs'!$I$85=$B111,'Planting and management costs'!$Y$85/'Planting and management costs'!$AA$83,IF(AND(H110<>0,($B111-'Planting and management costs'!$I$85)<'Planting and management costs'!$AA$83),'Planting and management costs'!$Y$85/'Planting and management costs'!$AA$83,0))","v":0},{"$f":"IF('Planting and management costs'!$I$86=$B111,'Planting and management costs'!$Y$86/'Planting and management costs'!$AB$83,IF(AND(I110<>0,($B111-'Planting and management costs'!$I$86)<'Planting and management costs'!$AB$83),'Planting and management costs'!$Y$86/'Planting and management costs'!$AB$83,0))","v":0},{"$f":"IF('Planting and management costs'!$I$88=$B111,'Planting and management costs'!$Y$88/'Planting and management costs'!$AC$83,IF(AND(J110<>0,($B111-'Planting and management costs'!$I$88)<'Planting and management costs'!$AC$83),'Planting and management costs'!$Y$88/'Planting and management costs'!$AC$83,0))","v":0},{"$f":"IF('Planting and management costs'!$I$89=$B111,'Planting and management costs'!$Y$89/'Planting and management costs'!$AD$83,IF(AND(K110<>0,($B111-'Planting and management costs'!$I$89)<'Planting and management costs'!$AD$83),'Planting and management costs'!$Y$89/'Planting and management costs'!$AD$83,0))","v":0},{"$f":"IF('Planting and management costs'!$I$91=$B111,'Planting and management costs'!$Y$91/'Planting and management costs'!$AE$83,IF(AND(L110<>0,($B111-'Planting and management costs'!$I$91)<'Planting and management costs'!$AE$83),'Planting and management costs'!$Y$91/'Planting and management costs'!$AE$83,0))","v":0},{"$f":"IF('Planting and management costs'!$I$92=$B111,'Planting and management costs'!$Y$92/'Planting and management costs'!$AF$83,IF(AND(M110<>0,($B111-'Planting and management costs'!$I$92)<'Planting and management costs'!$AF$83),'Planting and management costs'!$Y$92/'Planting and management costs'!$AF$83,0))","v":0},{"$f":"IF('Planting and management costs'!$I$94=$B111,'Planting and management costs'!$Y$94/'Planting and management costs'!$AG$83,IF(AND(N110<>0,($B111-'Planting and management costs'!$I$94)<'Planting and management costs'!$AG$83),'Planting and management costs'!$Y$94/'Planting and management costs'!$AG$83,0))","v":0},{"$f":"IF('Planting and management costs'!$I$95=$B111,'Planting and management costs'!$Y$95/'Planting and management costs'!$AH$83,IF(AND(O110<>0,($B111-'Planting and management costs'!$I$95)<'Planting and management costs'!$AH$83),'Planting and management costs'!$Y$95/'Planting and management costs'!$AH$83,0))","v":0},{"$f":"IF('Planting and management costs'!$I$96=$B111,'Planting and management costs'!$Y$96/'Planting and management costs'!$AI$83,IF(AND(P110<>0,($B111-'Planting and management costs'!$I$96)<'Planting and management costs'!$AI$83),'Planting and management costs'!$Y$96/'Planting and management costs'!$AI$83,0))","v":0},0,0,{"$f":"IF('Cash flow'!B111='Growth characteristics'!$L$26,'Growth characteristics'!$L$29,0)","v":0},{"$f":"IF($R$94=\"USD/m3\",R111*S111,R111*S111*'Growth characteristics'!$L$32*0.001)","v":0},0,0,0,0,0,0,0,0,0,0,0,0,0,0,0,0,0,0,0,1,16,1,null,null,null,null,null,null,0.15,{"$f":"NPV(AW111,'Cash flow'!$U$96:$U$125)+'Cash flow'!$U$95","v":0},{"$f":"NPV(AW111,'Cash flow'!$U$139:$U$168)+'Cash flow'!$U$138","v":{"$error":"#REF!"}}]
[null,17,{"$f":"IF('Planting and management costs'!$I$72=$B112,'Planting and management costs'!$Y$72/'Planting and management costs'!$AA$71,IF(AND(C111<>0,($B112-'Planting and management costs'!$I$72)<'Planting and management costs'!$AA$35),'Planting and management costs'!$Y$36/'Planting and management costs'!$AA$35,0))","v":0},{"$f":"IF('Planting and management costs'!$I$74=$B112,'Planting and management costs'!$Y$74/'Planting and management costs'!$AB$71,IF(AND(D111<>0,($B112-'Planting and management costs'!$I$74)<'Planting and management costs'!$AB$71),'Planting and management costs'!$Y$74/'Planting and management costs'!$AB$71,0))","v":0},{"$f":"IF('Planting and management costs'!$I$75=$B112,'Planting and management costs'!$Y$75/'Planting and management costs'!$AC$71,IF(AND(E111<>0,($B112-'Planting and management costs'!$I$75)<'Planting and management costs'!$AC$71),'Planting and management costs'!$Y$75/'Planting and management costs'!$AC$71,0))","v":0},{"$f":"IF('Planting and management costs'!$I$76=$B112,'Planting and management costs'!$Y$76/'Planting and management costs'!$AD$71,IF(AND(F111<>0,($B112-'Planting and management costs'!$I$76)<'Planting and management costs'!$AD$71),'Planting and management costs'!$Y$76/'Planting and management costs'!$AD$71,0))","v":0},{"$f":"IF('Planting and management costs'!$I$77=$B112,'Planting and management costs'!$Y$77/'Planting and management costs'!$AE$71,IF(AND(G111<>0,($B112-'Planting and management costs'!$I$77)<'Planting and management costs'!$AE$71),'Planting and management costs'!$Y$77/'Planting and management costs'!$AE$71,0))","v":0},{"$f":"IF('Planting and management costs'!$I$85=$B112,'Planting and management costs'!$Y$85/'Planting and management costs'!$AA$83,IF(AND(H111<>0,($B112-'Planting and management costs'!$I$85)<'Planting and management costs'!$AA$83),'Planting and management costs'!$Y$85/'Planting and management costs'!$AA$83,0))","v":0},{"$f":"IF('Planting and management costs'!$I$86=$B112,'Planting and management costs'!$Y$86/'Planting and management costs'!$AB$83,IF(AND(I111<>0,($B112-'Planting and management costs'!$I$86)<'Planting and management costs'!$AB$83),'Planting and management costs'!$Y$86/'Planting and management costs'!$AB$83,0))","v":0},{"$f":"IF('Planting and management costs'!$I$88=$B112,'Planting and management costs'!$Y$88/'Planting and management costs'!$AC$83,IF(AND(J111<>0,($B112-'Planting and management costs'!$I$88)<'Planting and management costs'!$AC$83),'Planting and management costs'!$Y$88/'Planting and management costs'!$AC$83,0))","v":0},{"$f":"IF('Planting and management costs'!$I$89=$B112,'Planting and management costs'!$Y$89/'Planting and management costs'!$AD$83,IF(AND(K111<>0,($B112-'Planting and management costs'!$I$89)<'Planting and management costs'!$AD$83),'Planting and management costs'!$Y$89/'Planting and management costs'!$AD$83,0))","v":0},{"$f":"IF('Planting and management costs'!$I$91=$B112,'Planting and management costs'!$Y$91/'Planting and management costs'!$AE$83,IF(AND(L111<>0,($B112-'Planting and management costs'!$I$91)<'Planting and management costs'!$AE$83),'Planting and management costs'!$Y$91/'Planting and management costs'!$AE$83,0))","v":0},{"$f":"IF('Planting and management costs'!$I$92=$B112,'Planting and management costs'!$Y$92/'Planting and management costs'!$AF$83,IF(AND(M111<>0,($B112-'Planting and management costs'!$I$92)<'Planting and management costs'!$AF$83),'Planting and management costs'!$Y$92/'Planting and management costs'!$AF$83,0))","v":0},{"$f":"IF('Planting and management costs'!$I$94=$B112,'Planting and management costs'!$Y$94/'Planting and management costs'!$AG$83,IF(AND(N111<>0,($B112-'Planting and management costs'!$I$94)<'Planting and management costs'!$AG$83),'Planting and management costs'!$Y$94/'Planting and management costs'!$AG$83,0))","v":0},{"$f":"IF('Planting and management costs'!$I$95=$B112,'Planting and management costs'!$Y$95/'Planting and management costs'!$AH$83,IF(AND(O111<>0,($B112-'Planting and management costs'!$I$95)<'Planting and management costs'!$AH$83),'Planting and management costs'!$Y$95/'Planting and management costs'!$AH$83,0))","v":0},{"$f":"IF('Planting and management costs'!$I$96=$B112,'Planting and management costs'!$Y$96/'Planting and management costs'!$AI$83,IF(AND(P111<>0,($B112-'Planting and management costs'!$I$96)<'Planting and management costs'!$AI$83),'Planting and management costs'!$Y$96/'Planting and management costs'!$AI$83,0))","v":0},0,0,{"$f":"IF('Cash flow'!B112='Growth characteristics'!$L$26,'Growth characteristics'!$L$29,0)","v":0},{"$f":"IF($R$94=\"USD/m3\",R112*S112,R112*S112*'Growth characteristics'!$L$32*0.001)","v":0},0,0,0,0,0,0,0,0,0,0,0,0,0,0,0,0,0,0,0,1,17,1,null,null,null,null,null,null,0.16,{"$f":"NPV(AW112,'Cash flow'!$U$96:$U$125)+'Cash flow'!$U$95","v":0},{"$f":"NPV(AW112,'Cash flow'!$U$139:$U$168)+'Cash flow'!$U$138","v":{"$error":"#REF!"}}]
[null,18,{"$f":"IF('Planting and management costs'!$I$72=$B113,'Planting and management costs'!$Y$72/'Planting and management costs'!$AA$71,IF(AND(C112<>0,($B113-'Planting and management costs'!$I$72)<'Planting and management costs'!$AA$35),'Planting and management costs'!$Y$36/'Planting and management costs'!$AA$35,0))","v":0},{"$f":"IF('Planting and management costs'!$I$74=$B113,'Planting and management costs'!$Y$74/'Planting and management costs'!$AB$71,IF(AND(D112<>0,($B113-'Planting and management costs'!$I$74)<'Planting and management costs'!$AB$71),'Planting and management costs'!$Y$74/'Planting and management costs'!$AB$71,0))","v":0},{"$f":"IF('Planting and management costs'!$I$75=$B113,'Planting and management costs'!$Y$75/'Planting and management costs'!$AC$71,IF(AND(E112<>0,($B113-'Planting and management costs'!$I$75)<'Planting and management costs'!$AC$71),'Planting and management costs'!$Y$75/'Planting and management costs'!$AC$71,0))","v":0},{"$f":"IF('Planting and management costs'!$I$76=$B113,'Planting and management costs'!$Y$76/'Planting and management costs'!$AD$71,IF(AND(F112<>0,($B113-'Planting and management costs'!$I$76)<'Planting and management costs'!$AD$71),'Planting and management costs'!$Y$76/'Planting and management costs'!$AD$71,0))","v":0},{"$f":"IF('Planting and management costs'!$I$77=$B113,'Planting and management costs'!$Y$77/'Planting and management costs'!$AE$71,IF(AND(G112<>0,($B113-'Planting and management costs'!$I$77)<'Planting and management costs'!$AE$71),'Planting and management costs'!$Y$77/'Planting and management costs'!$AE$71,0))","v":0},{"$f":"IF('Planting and management costs'!$I$85=$B113,'Planting and management costs'!$Y$85/'Planting and management costs'!$AA$83,IF(AND(H112<>0,($B113-'Planting and management costs'!$I$85)<'Planting and management costs'!$AA$83),'Planting and management costs'!$Y$85/'Planting and management costs'!$AA$83,0))","v":0},{"$f":"IF('Planting and management costs'!$I$86=$B113,'Planting and management costs'!$Y$86/'Planting and management costs'!$AB$83,IF(AND(I112<>0,($B113-'Planting and management costs'!$I$86)<'Planting and management costs'!$AB$83),'Planting and management costs'!$Y$86/'Planting and management costs'!$AB$83,0))","v":0},{"$f":"IF('Planting and management costs'!$I$88=$B113,'Planting and management costs'!$Y$88/'Planting and management costs'!$AC$83,IF(AND(J112<>0,($B113-'Planting and management costs'!$I$88)<'Planting and management costs'!$AC$83),'Planting and management costs'!$Y$88/'Planting and management costs'!$AC$83,0))","v":0},{"$f":"IF('Planting and management costs'!$I$89=$B113,'Planting and management costs'!$Y$89/'Planting and management costs'!$AD$83,IF(AND(K112<>0,($B113-'Planting and management costs'!$I$89)<'Planting and management costs'!$AD$83),'Planting and management costs'!$Y$89/'Planting and management costs'!$AD$83,0))","v":0},{"$f":"IF('Planting and management costs'!$I$91=$B113,'Planting and management costs'!$Y$91/'Planting and management costs'!$AE$83,IF(AND(L112<>0,($B113-'Planting and management costs'!$I$91)<'Planting and management costs'!$AE$83),'Planting and management costs'!$Y$91/'Planting and management costs'!$AE$83,0))","v":0},{"$f":"IF('Planting and management costs'!$I$92=$B113,'Planting and management costs'!$Y$92/'Planting and management costs'!$AF$83,IF(AND(M112<>0,($B113-'Planting and management costs'!$I$92)<'Planting and management costs'!$AF$83),'Planting and management costs'!$Y$92/'Planting and management costs'!$AF$83,0))","v":0},{"$f":"IF('Planting and management costs'!$I$94=$B113,'Planting and management costs'!$Y$94/'Planting and management costs'!$AG$83,IF(AND(N112<>0,($B113-'Planting and management costs'!$I$94)<'Planting and management costs'!$AG$83),'Planting and management costs'!$Y$94/'Planting and management costs'!$AG$83,0))","v":0},{"$f":"IF('Planting and management costs'!$I$95=$B113,'Planting and management costs'!$Y$95/'Planting and management costs'!$AH$83,IF(AND(O112<>0,($B113-'Planting and management costs'!$I$95)<'Planting and management costs'!$AH$83),'Planting and management costs'!$Y$95/'Planting and management costs'!$AH$83,0))","v":0},{"$f":"IF('Planting and management costs'!$I$96=$B113,'Planting and management costs'!$Y$96/'Planting and management costs'!$AI$83,IF(AND(P112<>0,($B113-'Planting and management costs'!$I$96)<'Planting and management costs'!$AI$83),'Planting and management costs'!$Y$96/'Planting and management costs'!$AI$83,0))","v":0},0,0,{"$f":"IF('Cash flow'!B113='Growth characteristics'!$L$26,'Growth characteristics'!$L$29,0)","v":0},{"$f":"IF($R$94=\"USD/m3\",R113*S113,R113*S113*'Growth characteristics'!$L$32*0.001)","v":0},0,0,0,0,{"$f":"F113/(1+$S$48)^$B113","v":0},0,0,0,0,0,0,0,0,0,0,0,0,0,0,1,18,1,null,null,null,null,null,null,0.17,{"$f":"NPV(AW113,'Cash flow'!$U$96:$U$125)+'Cash flow'!$U$95","v":0},{"$f":"NPV(AW113,'Cash flow'!$U$139:$U$168)+'Cash flow'!$U$138","v":{"$error":"#REF!"}}]
[null,19,{"$f":"IF('Planting and management costs'!$I$72=$B114,'Planting and management costs'!$Y$72/'Planting and management costs'!$AA$71,IF(AND(C113<>0,($B114-'Planting and management costs'!$I$72)<'Planting and management costs'!$AA$35),'Planting and management costs'!$Y$36/'Planting and management costs'!$AA$35,0))","v":0},{"$f":"IF('Planting and management costs'!$I$74=$B114,'Planting and management costs'!$Y$74/'Planting and management costs'!$AB$71,IF(AND(D113<>0,($B114-'Planting and management costs'!$I$74)<'Planting and management costs'!$AB$71),'Planting and management costs'!$Y$74/'Planting and management costs'!$AB$71,0))","v":0},{"$f":"IF('Planting and management costs'!$I$75=$B114,'Planting and management costs'!$Y$75/'Planting and management costs'!$AC$71,IF(AND(E113<>0,($B114-'Planting and management costs'!$I$75)<'Planting and management costs'!$AC$71),'Planting and management costs'!$Y$75/'Planting and management costs'!$AC$71,0))","v":0},{"$f":"IF('Planting and management costs'!$I$76=$B114,'Planting and management costs'!$Y$76/'Planting and management costs'!$AD$71,IF(AND(F113<>0,($B114-'Planting and management costs'!$I$76)<'Planting and management costs'!$AD$71),'Planting and management costs'!$Y$76/'Planting and management costs'!$AD$71,0))","v":0},{"$f":"IF('Planting and management costs'!$I$77=$B114,'Planting and management costs'!$Y$77/'Planting and management costs'!$AE$71,IF(AND(G113<>0,($B114-'Planting and management costs'!$I$77)<'Planting and management costs'!$AE$71),'Planting and management costs'!$Y$77/'Planting and management costs'!$AE$71,0))","v":0},{"$f":"IF('Planting and management costs'!$I$85=$B114,'Planting and management costs'!$Y$85/'Planting and management costs'!$AA$83,IF(AND(H113<>0,($B114-'Planting and management costs'!$I$85)<'Planting and management costs'!$AA$83),'Planting and management costs'!$Y$85/'Planting and management costs'!$AA$83,0))","v":0},{"$f":"IF('Planting and management costs'!$I$86=$B114,'Planting and management costs'!$Y$86/'Planting and management costs'!$AB$83,IF(AND(I113<>0,($B114-'Planting and management costs'!$I$86)<'Planting and management costs'!$AB$83),'Planting and management costs'!$Y$86/'Planting and management costs'!$AB$83,0))","v":0},{"$f":"IF('Planting and management costs'!$I$88=$B114,'Planting and management costs'!$Y$88/'Planting and management costs'!$AC$83,IF(AND(J113<>0,($B114-'Planting and management costs'!$I$88)<'Planting and management costs'!$AC$83),'Planting and management costs'!$Y$88/'Planting and management costs'!$AC$83,0))","v":0},{"$f":"IF('Planting and management costs'!$I$89=$B114,'Planting and management costs'!$Y$89/'Planting and management costs'!$AD$83,IF(AND(K113<>0,($B114-'Planting and management costs'!$I$89)<'Planting and management costs'!$AD$83),'Planting and management costs'!$Y$89/'Planting and management costs'!$AD$83,0))","v":0},{"$f":"IF('Planting and management costs'!$I$91=$B114,'Planting and management costs'!$Y$91/'Planting and management costs'!$AE$83,IF(AND(L113<>0,($B114-'Planting and management costs'!$I$91)<'Planting and management costs'!$AE$83),'Planting and management costs'!$Y$91/'Planting and management costs'!$AE$83,0))","v":0},{"$f":"IF('Planting and management costs'!$I$92=$B114,'Planting and management costs'!$Y$92/'Planting and management costs'!$AF$83,IF(AND(M113<>0,($B114-'Planting and management costs'!$I$92)<'Planting and management costs'!$AF$83),'Planting and management costs'!$Y$92/'Planting and management costs'!$AF$83,0))","v":0},{"$f":"IF('Planting and management costs'!$I$94=$B114,'Planting and management costs'!$Y$94/'Planting and management costs'!$AG$83,IF(AND(N113<>0,($B114-'Planting and management costs'!$I$94)<'Planting and management costs'!$AG$83),'Planting and management costs'!$Y$94/'Planting and management costs'!$AG$83,0))","v":0},{"$f":"IF('Planting and management costs'!$I$95=$B114,'Planting and management costs'!$Y$95/'Planting and management costs'!$AH$83,IF(AND(O113<>0,($B114-'Planting and management costs'!$I$95)<'Planting and management costs'!$AH$83),'Planting and management costs'!$Y$95/'Planting and management costs'!$AH$83,0))","v":0},{"$f":"IF('Planting and management costs'!$I$96=$B114,'Planting and management costs'!$Y$96/'Planting and management costs'!$AI$83,IF(AND(P113<>0,($B114-'Planting and management costs'!$I$96)<'Planting and management costs'!$AI$83),'Planting and management costs'!$Y$96/'Planting and management costs'!$AI$83,0))","v":0},0,0,{"$f":"IF('Cash flow'!B114='Growth characteristics'!$L$26,'Growth characteristics'!$L$29,0)","v":0},{"$f":"IF($R$94=\"USD/m3\",R114*S114,R114*S114*'Growth characteristics'!$L$32*0.001)","v":0},0,{"$f":"C114/(1+$S$48)^$B114","v":0},0,0,0,0,0,0,0,0,0,0,0,0,0,0,0,0,0,1,19,1,null,null,null,null,null,null,0.18,{"$f":"NPV(AW114,'Cash flow'!$U$96:$U$125)+'Cash flow'!$U$95","v":0},{"$f":"NPV(AW114,'Cash flow'!$U$139:$U$168)+'Cash flow'!$U$138","v":{"$error":"#REF!"}}]
[null,20,{"$f":"IF('Planting and management costs'!$I$72=$B115,'Planting and management costs'!$Y$72/'Planting and management costs'!$AA$71,IF(AND(C114<>0,($B115-'Planting and management costs'!$I$72)<'Planting and management costs'!$AA$35),'Planting and management costs'!$Y$36/'Planting and management costs'!$AA$35,0))","v":0},{"$f":"IF('Planting and management costs'!$I$74=$B115,'Planting and management costs'!$Y$74/'Planting and management costs'!$AB$71,IF(AND(D114<>0,($B115-'Planting and management costs'!$I$74)<'Planting and management costs'!$AB$71),'Planting and management costs'!$Y$74/'Planting and management costs'!$AB$71,0))","v":0},{"$f":"IF('Planting and management costs'!$I$75=$B115,'Planting and management costs'!$Y$75/'Planting and management costs'!$AC$71,IF(AND(E114<>0,($B115-'Planting and management costs'!$I$75)<'Planting and management costs'!$AC$71),'Planting and management costs'!$Y$75/'Planting and management costs'!$AC$71,0))","v":0},{"$f":"IF('Planting and management costs'!$I$76=$B115,'Planting and management costs'!$Y$76/'Planting and management costs'!$AD$71,IF(AND(F114<>0,($B115-'Planting and management costs'!$I$76)<'Planting and management costs'!$AD$71),'Planting and management costs'!$Y$76/'Planting and management costs'!$AD$71,0))","v":0},{"$f":"IF('Planting and management costs'!$I$77=$B115,'Planting and management costs'!$Y$77/'Planting and management costs'!$AE$71,IF(AND(G114<>0,($B115-'Planting and management costs'!$I$77)<'Planting and management costs'!$AE$71),'Planting and management costs'!$Y$77/'Planting and management costs'!$AE$71,0))","v":0},{"$f":"IF('Planting and management costs'!$I$85=$B115,'Planting and management costs'!$Y$85/'Planting and management costs'!$AA$83,IF(AND(H114<>0,($B115-'Planting and management costs'!$I$85)<'Planting and management costs'!$AA$83),'Planting and management costs'!$Y$85/'Planting and management costs'!$AA$83,0))","v":0},{"$f":"IF('Planting and management costs'!$I$86=$B115,'Planting and management costs'!$Y$86/'Planting and management costs'!$AB$83,IF(AND(I114<>0,($B115-'Planting and management costs'!$I$86)<'Planting and management costs'!$AB$83),'Planting and management costs'!$Y$86/'Planting and management costs'!$AB$83,0))","v":0},{"$f":"IF('Planting and management costs'!$I$88=$B115,'Planting and management costs'!$Y$88/'Planting and management costs'!$AC$83,IF(AND(J114<>0,($B115-'Planting and management costs'!$I$88)<'Planting and management costs'!$AC$83),'Planting and management costs'!$Y$88/'Planting and management costs'!$AC$83,0))","v":0},{"$f":"IF('Planting and management costs'!$I$89=$B115,'Planting and management costs'!$Y$89/'Planting and management costs'!$AD$83,IF(AND(K114<>0,($B115-'Planting and management costs'!$I$89)<'Planting and management costs'!$AD$83),'Planting and management costs'!$Y$89/'Planting and management costs'!$AD$83,0))","v":0},{"$f":"IF('Planting and management costs'!$I$91=$B115,'Planting and management costs'!$Y$91/'Planting and management costs'!$AE$83,IF(AND(L114<>0,($B115-'Planting and management costs'!$I$91)<'Planting and management costs'!$AE$83),'Planting and management costs'!$Y$91/'Planting and management costs'!$AE$83,0))","v":0},{"$f":"IF('Planting and management costs'!$I$92=$B115,'Planting and management costs'!$Y$92/'Planting and management costs'!$AF$83,IF(AND(M114<>0,($B115-'Planting and management costs'!$I$92)<'Planting and management costs'!$AF$83),'Planting and management costs'!$Y$92/'Planting and management costs'!$AF$83,0))","v":0},{"$f":"IF('Planting and management costs'!$I$94=$B115,'Planting and management costs'!$Y$94/'Planting and management costs'!$AG$83,IF(AND(N114<>0,($B115-'Planting and management costs'!$I$94)<'Planting and management costs'!$AG$83),'Planting and management costs'!$Y$94/'Planting and management costs'!$AG$83,0))","v":0},{"$f":"IF('Planting and management costs'!$I$95=$B115,'Planting and management costs'!$Y$95/'Planting and management costs'!$AH$83,IF(AND(O114<>0,($B115-'Planting and management costs'!$I$95)<'Planting and management costs'!$AH$83),'Planting and management costs'!$Y$95/'Planting and management costs'!$AH$83,0))","v":0},{"$f":"IF('Planting and management costs'!$I$96=$B115,'Planting and management costs'!$Y$96/'Planting and management costs'!$AI$83,IF(AND(P114<>0,($B115-'Planting and management costs'!$I$96)<'Planting and management costs'!$AI$83),'Planting and management costs'!$Y$96/'Planting and management costs'!$AI$83,0))","v":0},0,0,{"$f":"IF('Cash flow'!B115='Growth characteristics'!$L$26,'Growth characteristics'!$L$29,0)","v":0},{"$f":"IF($R$94=\"USD/m3\",R115*S115,R115*S115*'Growth characteristics'!$L$32*0.001)","v":0},0,0,0,0,0,0,0,0,0,0,0,0,0,0,0,0,0,0,0,1,20,1,null,null,null,null,null,null,0.19,{"$f":"NPV(AW115,'Cash flow'!$U$96:$U$125)+'Cash flow'!$U$95","v":0},{"$f":"NPV(AW115,'Cash flow'!$U$139:$U$168)+'Cash flow'!$U$138","v":{"$error":"#REF!"}}]
[null,21,{"$f":"IF('Planting and management costs'!$I$72=$B116,'Planting and management costs'!$Y$72/'Planting and management costs'!$AA$71,IF(AND(C115<>0,($B116-'Planting and management costs'!$I$72)<'Planting and management costs'!$AA$35),'Planting and management costs'!$Y$36/'Planting and management costs'!$AA$35,0))","v":0},{"$f":"IF('Planting and management costs'!$I$74=$B116,'Planting and management costs'!$Y$74/'Planting and management costs'!$AB$71,IF(AND(D115<>0,($B116-'Planting and management costs'!$I$74)<'Planting and management costs'!$AB$71),'Planting and management costs'!$Y$74/'Planting and management costs'!$AB$71,0))","v":0},{"$f":"IF('Planting and management costs'!$I$75=$B116,'Planting and management costs'!$Y$75/'Planting and management costs'!$AC$71,IF(AND(E115<>0,($B116-'Planting and management costs'!$I$75)<'Planting and management costs'!$AC$71),'Planting and management costs'!$Y$75/'Planting and management costs'!$AC$71,0))","v":0},{"$f":"IF('Planting and management costs'!$I$76=$B116,'Planting and management costs'!$Y$76/'Planting and management costs'!$AD$71,IF(AND(F115<>0,($B116-'Planting and management costs'!$I$76)<'Planting and management costs'!$AD$71),'Planting and management costs'!$Y$76/'Planting and management costs'!$AD$71,0))","v":0},{"$f":"IF('Planting and management costs'!$I$77=$B116,'Planting and management costs'!$Y$77/'Planting and management costs'!$AE$71,IF(AND(G115<>0,($B116-'Planting and management costs'!$I$77)<'Planting and management costs'!$AE$71),'Planting and management costs'!$Y$77/'Planting and management costs'!$AE$71,0))","v":0},{"$f":"IF('Planting and management costs'!$I$85=$B116,'Planting and management costs'!$Y$85/'Planting and management costs'!$AA$83,IF(AND(H115<>0,($B116-'Planting and management costs'!$I$85)<'Planting and management costs'!$AA$83),'Planting and management costs'!$Y$85/'Planting and management costs'!$AA$83,0))","v":0},{"$f":"IF('Planting and management costs'!$I$86=$B116,'Planting and management costs'!$Y$86/'Planting and management costs'!$AB$83,IF(AND(I115<>0,($B116-'Planting and management costs'!$I$86)<'Planting and management costs'!$AB$83),'Planting and management costs'!$Y$86/'Planting and management costs'!$AB$83,0))","v":0},{"$f":"IF('Planting and management costs'!$I$88=$B116,'Planting and management costs'!$Y$88/'Planting and management costs'!$AC$83,IF(AND(J115<>0,($B116-'Planting and management costs'!$I$88)<'Planting and management costs'!$AC$83),'Planting and management costs'!$Y$88/'Planting and management costs'!$AC$83,0))","v":0},{"$f":"IF('Planting and management costs'!$I$89=$B116,'Planting and management costs'!$Y$89/'Planting and management costs'!$AD$83,IF(AND(K115<>0,($B116-'Planting and management costs'!$I$89)<'Planting and management costs'!$AD$83),'Planting and management costs'!$Y$89/'Planting and management costs'!$AD$83,0))","v":0},{"$f":"IF('Planting and management costs'!$I$91=$B116,'Planting and management costs'!$Y$91/'Planting and management costs'!$AE$83,IF(AND(L115<>0,($B116-'Planting and management costs'!$I$91)<'Planting and management costs'!$AE$83),'Planting and management costs'!$Y$91/'Planting and management costs'!$AE$83,0))","v":0},{"$f":"IF('Planting and management costs'!$I$92=$B116,'Planting and management costs'!$Y$92/'Planting and management costs'!$AF$83,IF(AND(M115<>0,($B116-'Planting and management costs'!$I$92)<'Planting and management costs'!$AF$83),'Planting and management costs'!$Y$92/'Planting and management costs'!$AF$83,0))","v":0},{"$f":"IF('Planting and management costs'!$I$94=$B116,'Planting and management costs'!$Y$94/'Planting and management costs'!$AG$83,IF(AND(N115<>0,($B116-'Planting and management costs'!$I$94)<'Planting and management costs'!$AG$83),'Planting and management costs'!$Y$94/'Planting and management costs'!$AG$83,0))","v":0},{"$f":"IF('Planting and management costs'!$I$95=$B116,'Planting and management costs'!$Y$95/'Planting and management costs'!$AH$83,IF(AND(O115<>0,($B116-'Planting and management costs'!$I$95)<'Planting and management costs'!$AH$83),'Planting and management costs'!$Y$95/'Planting and management costs'!$AH$83,0))","v":0},{"$f":"IF('Planting and management costs'!$I$96=$B116,'Planting and management costs'!$Y$96/'Planting and management costs'!$AI$83,IF(AND(P115<>0,($B116-'Planting and management costs'!$I$96)<'Planting and management costs'!$AI$83),'Planting and management costs'!$Y$96/'Planting and management costs'!$AI$83,0))","v":0},0,0,{"$f":"IF('Cash flow'!B116='Growth characteristics'!$L$26,'Growth characteristics'!$L$29,0)","v":0},{"$f":"IF($R$94=\"USD/m3\",R116*S116,R116*S116*'Growth characteristics'!$L$32*0.001)","v":0},0,0,0,0,0,0,0,0,0,0,0,0,0,0,0,0,0,0,0,1,21,1,null,null,null,null,null,null,0.2,{"$f":"NPV(AW116,'Cash flow'!$U$96:$U$125)+'Cash flow'!$U$95","v":0},{"$f":"NPV(AW116,'Cash flow'!$U$139:$U$168)+'Cash flow'!$U$138","v":{"$error":"#REF!"}}]
[null,22,{"$f":"IF('Planting and management costs'!$I$72=$B117,'Planting and management costs'!$Y$72/'Planting and management costs'!$AA$71,IF(AND(C116<>0,($B117-'Planting and management costs'!$I$72)<'Planting and management costs'!$AA$35),'Planting and management costs'!$Y$36/'Planting and management costs'!$AA$35,0))","v":0},{"$f":"IF('Planting and management costs'!$I$74=$B117,'Planting and management costs'!$Y$74/'Planting and management costs'!$AB$71,IF(AND(D116<>0,($B117-'Planting and management costs'!$I$74)<'Planting and management costs'!$AB$71),'Planting and management costs'!$Y$74/'Planting and management costs'!$AB$71,0))","v":0},{"$f":"IF('Planting and management costs'!$I$75=$B117,'Planting and management costs'!$Y$75/'Planting and management costs'!$AC$71,IF(AND(E116<>0,($B117-'Planting and management costs'!$I$75)<'Planting and management costs'!$AC$71),'Planting and management costs'!$Y$75/'Planting and management costs'!$AC$71,0))","v":0},{"$f":"IF('Planting and management costs'!$I$76=$B117,'Planting and management costs'!$Y$76/'Planting and management costs'!$AD$71,IF(AND(F116<>0,($B117-'Planting and management costs'!$I$76)<'Planting and management costs'!$AD$71),'Planting and management costs'!$Y$76/'Planting and management costs'!$AD$71,0))","v":0},{"$f":"IF('Planting and management costs'!$I$77=$B117,'Planting and management costs'!$Y$77/'Planting and management costs'!$AE$71,IF(AND(G116<>0,($B117-'Planting and management costs'!$I$77)<'Planting and management costs'!$AE$71),'Planting and management costs'!$Y$77/'Planting and management costs'!$AE$71,0))","v":0},{"$f":"IF('Planting and management costs'!$I$85=$B117,'Planting and management costs'!$Y$85/'Planting and management costs'!$AA$83,IF(AND(H116<>0,($B117-'Planting and management costs'!$I$85)<'Planting and management costs'!$AA$83),'Planting and management costs'!$Y$85/'Planting and management costs'!$AA$83,0))","v":0},{"$f":"IF('Planting and management costs'!$I$86=$B117,'Planting and management costs'!$Y$86/'Planting and management costs'!$AB$83,IF(AND(I116<>0,($B117-'Planting and management costs'!$I$86)<'Planting and management costs'!$AB$83),'Planting and management costs'!$Y$86/'Planting and management costs'!$AB$83,0))","v":0},{"$f":"IF('Planting and management costs'!$I$88=$B117,'Planting and management costs'!$Y$88/'Planting and management costs'!$AC$83,IF(AND(J116<>0,($B117-'Planting and management costs'!$I$88)<'Planting and management costs'!$AC$83),'Planting and management costs'!$Y$88/'Planting and management costs'!$AC$83,0))","v":0},{"$f":"IF('Planting and management costs'!$I$89=$B117,'Planting and management costs'!$Y$89/'Planting and management costs'!$AD$83,IF(AND(K116<>0,($B117-'Planting and management costs'!$I$89)<'Planting and management costs'!$AD$83),'Planting and management costs'!$Y$89/'Planting and management costs'!$AD$83,0))","v":0},{"$f":"IF('Planting and management costs'!$I$91=$B117,'Planting and management costs'!$Y$91/'Planting and management costs'!$AE$83,IF(AND(L116<>0,($B117-'Planting and management costs'!$I$91)<'Planting and management costs'!$AE$83),'Planting and management costs'!$Y$91/'Planting and management costs'!$AE$83,0))","v":0},{"$f":"IF('Planting and management costs'!$I$92=$B117,'Planting and management costs'!$Y$92/'Planting and management costs'!$AF$83,IF(AND(M116<>0,($B117-'Planting and management costs'!$I$92)<'Planting and management costs'!$AF$83),'Planting and management costs'!$Y$92/'Planting and management costs'!$AF$83,0))","v":0},{"$f":"IF('Planting and management costs'!$I$94=$B117,'Planting and management costs'!$Y$94/'Planting and management costs'!$AG$83,IF(AND(N116<>0,($B117-'Planting and management costs'!$I$94)<'Planting and management costs'!$AG$83),'Planting and management costs'!$Y$94/'Planting and management costs'!$AG$83,0))","v":0},{"$f":"IF('Planting and management costs'!$I$95=$B117,'Planting and management costs'!$Y$95/'Planting and management costs'!$AH$83,IF(AND(O116<>0,($B117-'Planting and management costs'!$I$95)<'Planting and management costs'!$AH$83),'Planting and management costs'!$Y$95/'Planting and management costs'!$AH$83,0))","v":0},{"$f":"IF('Planting and management costs'!$I$96=$B117,'Planting and management costs'!$Y$96/'Planting and management costs'!$AI$83,IF(AND(P116<>0,($B117-'Planting and management costs'!$I$96)<'Planting and management costs'!$AI$83),'Planting and management costs'!$Y$96/'Planting and management costs'!$AI$83,0))","v":0},0,0,{"$f":"IF('Cash flow'!B117='Growth characteristics'!$L$26,'Growth characteristics'!$L$29,0)","v":0},{"$f":"IF($R$94=\"USD/m3\",R117*S117,R117*S117*'Growth characteristics'!$L$32*0.001)","v":0},0,0,0,0,0,0,0,0,0,0,0,0,0,0,0,0,0,0,0,1,22,1,null,null,null,null,null,null,0.21,{"$f":"NPV(AW117,'Cash flow'!$U$96:$U$125)+'Cash flow'!$U$95","v":0},{"$f":"NPV(AW117,'Cash flow'!$U$139:$U$168)+'Cash flow'!$U$138","v":{"$error":"#REF!"}}]
[null,23,{"$f":"IF('Planting and management costs'!$I$72=$B118,'Planting and management costs'!$Y$72/'Planting and management costs'!$AA$71,IF(AND(C117<>0,($B118-'Planting and management costs'!$I$72)<'Planting and management costs'!$AA$35),'Planting and management costs'!$Y$36/'Planting and management costs'!$AA$35,0))","v":0},{"$f":"IF('Planting and management costs'!$I$74=$B118,'Planting and management costs'!$Y$74/'Planting and management costs'!$AB$71,IF(AND(D117<>0,($B118-'Planting and management costs'!$I$74)<'Planting and management costs'!$AB$71),'Planting and management costs'!$Y$74/'Planting and management costs'!$AB$71,0))","v":0},{"$f":"IF('Planting and management costs'!$I$75=$B118,'Planting and management costs'!$Y$75/'Planting and management costs'!$AC$71,IF(AND(E117<>0,($B118-'Planting and management costs'!$I$75)<'Planting and management costs'!$AC$71),'Planting and management costs'!$Y$75/'Planting and management costs'!$AC$71,0))","v":0},{"$f":"IF('Planting and management costs'!$I$76=$B118,'Planting and management costs'!$Y$76/'Planting and management costs'!$AD$71,IF(AND(F117<>0,($B118-'Planting and management costs'!$I$76)<'Planting and management costs'!$AD$71),'Planting and management costs'!$Y$76/'Planting and management costs'!$AD$71,0))","v":0},{"$f":"IF('Planting and management costs'!$I$77=$B118,'Planting and management costs'!$Y$77/'Planting and management costs'!$AE$71,IF(AND(G117<>0,($B118-'Planting and management costs'!$I$77)<'Planting and management costs'!$AE$71),'Planting and management costs'!$Y$77/'Planting and management costs'!$AE$71,0))","v":0},{"$f":"IF('Planting and management costs'!$I$85=$B118,'Planting and management costs'!$Y$85/'Planting and management costs'!$AA$83,IF(AND(H117<>0,($B118-'Planting and management costs'!$I$85)<'Planting and management costs'!$AA$83),'Planting and management costs'!$Y$85/'Planting and management costs'!$AA$83,0))","v":0},{"$f":"IF('Planting and management costs'!$I$86=$B118,'Planting and management costs'!$Y$86/'Planting and management costs'!$AB$83,IF(AND(I117<>0,($B118-'Planting and management costs'!$I$86)<'Planting and management costs'!$AB$83),'Planting and management costs'!$Y$86/'Planting and management costs'!$AB$83,0))","v":0},{"$f":"IF('Planting and management costs'!$I$88=$B118,'Planting and management costs'!$Y$88/'Planting and management costs'!$AC$83,IF(AND(J117<>0,($B118-'Planting and management costs'!$I$88)<'Planting and management costs'!$AC$83),'Planting and management costs'!$Y$88/'Planting and management costs'!$AC$83,0))","v":0},{"$f":"IF('Planting and management costs'!$I$89=$B118,'Planting and management costs'!$Y$89/'Planting and management costs'!$AD$83,IF(AND(K117<>0,($B118-'Planting and management costs'!$I$89)<'Planting and management costs'!$AD$83),'Planting and management costs'!$Y$89/'Planting and management costs'!$AD$83,0))","v":0},{"$f":"IF('Planting and management costs'!$I$91=$B118,'Planting and management costs'!$Y$91/'Planting and management costs'!$AE$83,IF(AND(L117<>0,($B118-'Planting and management costs'!$I$91)<'Planting and management costs'!$AE$83),'Planting and management costs'!$Y$91/'Planting and management costs'!$AE$83,0))","v":0},{"$f":"IF('Planting and management costs'!$I$92=$B118,'Planting and management costs'!$Y$92/'Planting and management costs'!$AF$83,IF(AND(M117<>0,($B118-'Planting and management costs'!$I$92)<'Planting and management costs'!$AF$83),'Planting and management costs'!$Y$92/'Planting and management costs'!$AF$83,0))","v":0},{"$f":"IF('Planting and management costs'!$I$94=$B118,'Planting and management costs'!$Y$94/'Planting and management costs'!$AG$83,IF(AND(N117<>0,($B118-'Planting and management costs'!$I$94)<'Planting and management costs'!$AG$83),'Planting and management costs'!$Y$94/'Planting and management costs'!$AG$83,0))","v":0},{"$f":"IF('Planting and management costs'!$I$95=$B118,'Planting and management costs'!$Y$95/'Planting and management costs'!$AH$83,IF(AND(O117<>0,($B118-'Planting and management costs'!$I$95)<'Planting and management costs'!$AH$83),'Planting and management costs'!$Y$95/'Planting and management costs'!$AH$83,0))","v":0},{"$f":"IF('Planting and management costs'!$I$96=$B118,'Planting and management costs'!$Y$96/'Planting and management costs'!$AI$83,IF(AND(P117<>0,($B118-'Planting and management costs'!$I$96)<'Planting and management costs'!$AI$83),'Planting and management costs'!$Y$96/'Planting and management costs'!$AI$83,0))","v":0},0,0,{"$f":"IF('Cash flow'!B118='Growth characteristics'!$L$26,'Growth characteristics'!$L$29,0)","v":0},{"$f":"IF($R$94=\"USD/m3\",R118*S118,R118*S118*'Growth characteristics'!$L$32*0.001)","v":0},0,0,0,0,0,0,0,0,0,0,0,0,0,0,0,0,0,0,0,1,23,1,null,null,null,null,null,null,0.22,{"$f":"NPV(AW118,'Cash flow'!$U$96:$U$125)+'Cash flow'!$U$95","v":0},{"$f":"NPV(AW118,'Cash flow'!$U$139:$U$168)+'Cash flow'!$U$138","v":{"$error":"#REF!"}}]
[null,24,{"$f":"IF('Planting and management costs'!$I$72=$B119,'Planting and management costs'!$Y$72/'Planting and management costs'!$AA$71,IF(AND(C118<>0,($B119-'Planting and management costs'!$I$72)<'Planting and management costs'!$AA$35),'Planting and management costs'!$Y$36/'Planting and management costs'!$AA$35,0))","v":0},{"$f":"IF('Planting and management costs'!$I$74=$B119,'Planting and management costs'!$Y$74/'Planting and management costs'!$AB$71,IF(AND(D118<>0,($B119-'Planting and management costs'!$I$74)<'Planting and management costs'!$AB$71),'Planting and management costs'!$Y$74/'Planting and management costs'!$AB$71,0))","v":0},{"$f":"IF('Planting and management costs'!$I$75=$B119,'Planting and management costs'!$Y$75/'Planting and management costs'!$AC$71,IF(AND(E118<>0,($B119-'Planting and management costs'!$I$75)<'Planting and management costs'!$AC$71),'Planting and management costs'!$Y$75/'Planting and management costs'!$AC$71,0))","v":0},{"$f":"IF('Planting and management costs'!$I$76=$B119,'Planting and management costs'!$Y$76/'Planting and management costs'!$AD$71,IF(AND(F118<>0,($B119-'Planting and management costs'!$I$76)<'Planting and management costs'!$AD$71),'Planting and management costs'!$Y$76/'Planting and management costs'!$AD$71,0))","v":0},{"$f":"IF('Planting and management costs'!$I$77=$B119,'Planting and management costs'!$Y$77/'Planting and management costs'!$AE$71,IF(AND(G118<>0,($B119-'Planting and management costs'!$I$77)<'Planting and management costs'!$AE$71),'Planting and management costs'!$Y$77/'Planting and management costs'!$AE$71,0))","v":0},{"$f":"IF('Planting and management costs'!$I$85=$B119,'Planting and management costs'!$Y$85/'Planting and management costs'!$AA$83,IF(AND(H118<>0,($B119-'Planting and management costs'!$I$85)<'Planting and management costs'!$AA$83),'Planting and management costs'!$Y$85/'Planting and management costs'!$AA$83,0))","v":0},{"$f":"IF('Planting and management costs'!$I$86=$B119,'Planting and management costs'!$Y$86/'Planting and management costs'!$AB$83,IF(AND(I118<>0,($B119-'Planting and management costs'!$I$86)<'Planting and management costs'!$AB$83),'Planting and management costs'!$Y$86/'Planting and management costs'!$AB$83,0))","v":0},{"$f":"IF('Planting and management costs'!$I$88=$B119,'Planting and management costs'!$Y$88/'Planting and management costs'!$AC$83,IF(AND(J118<>0,($B119-'Planting and management costs'!$I$88)<'Planting and management costs'!$AC$83),'Planting and management costs'!$Y$88/'Planting and management costs'!$AC$83,0))","v":0},{"$f":"IF('Planting and management costs'!$I$89=$B119,'Planting and management costs'!$Y$89/'Planting and management costs'!$AD$83,IF(AND(K118<>0,($B119-'Planting and management costs'!$I$89)<'Planting and management costs'!$AD$83),'Planting and management costs'!$Y$89/'Planting and management costs'!$AD$83,0))","v":0},{"$f":"IF('Planting and management costs'!$I$91=$B119,'Planting and management costs'!$Y$91/'Planting and management costs'!$AE$83,IF(AND(L118<>0,($B119-'Planting and management costs'!$I$91)<'Planting and management costs'!$AE$83),'Planting and management costs'!$Y$91/'Planting and management costs'!$AE$83,0))","v":0},{"$f":"IF('Planting and management costs'!$I$92=$B119,'Planting and management costs'!$Y$92/'Planting and management costs'!$AF$83,IF(AND(M118<>0,($B119-'Planting and management costs'!$I$92)<'Planting and management costs'!$AF$83),'Planting and management costs'!$Y$92/'Planting and management costs'!$AF$83,0))","v":0},{"$f":"IF('Planting and management costs'!$I$94=$B119,'Planting and management costs'!$Y$94/'Planting and management costs'!$AG$83,IF(AND(N118<>0,($B119-'Planting and management costs'!$I$94)<'Planting and management costs'!$AG$83),'Planting and management costs'!$Y$94/'Planting and management costs'!$AG$83,0))","v":0},{"$f":"IF('Planting and management costs'!$I$95=$B119,'Planting and management costs'!$Y$95/'Planting and management costs'!$AH$83,IF(AND(O118<>0,($B119-'Planting and management costs'!$I$95)<'Planting and management costs'!$AH$83),'Planting and management costs'!$Y$95/'Planting and management costs'!$AH$83,0))","v":0},{"$f":"IF('Planting and management costs'!$I$96=$B119,'Planting and management costs'!$Y$96/'Planting and management costs'!$AI$83,IF(AND(P118<>0,($B119-'Planting and management costs'!$I$96)<'Planting and management costs'!$AI$83),'Planting and management costs'!$Y$96/'Planting and management costs'!$AI$83,0))","v":0},0,0,{"$f":"IF('Cash flow'!B119='Growth characteristics'!$L$26,'Growth characteristics'!$L$29,0)","v":0},{"$f":"IF($R$94=\"USD/m3\",R119*S119,R119*S119*'Growth characteristics'!$L$32*0.001)","v":0},0,0,0,0,0,0,0,0,0,0,0,0,0,0,0,0,0,0,0,1,24,1,null,null,null,null,null,null,0.23,{"$f":"NPV(AW119,'Cash flow'!$U$96:$U$125)+'Cash flow'!$U$95","v":0},{"$f":"NPV(AW119,'Cash flow'!$U$139:$U$168)+'Cash flow'!$U$138","v":{"$error":"#REF!"}}]
[null,25,{"$f":"IF('Planting and management costs'!$I$72=$B120,'Planting and management costs'!$Y$72/'Planting and management costs'!$AA$71,IF(AND(C119<>0,($B120-'Planting and management costs'!$I$72)<'Planting and management costs'!$AA$35),'Planting and management costs'!$Y$36/'Planting and management costs'!$AA$35,0))","v":0},{"$f":"IF('Planting and management costs'!$I$74=$B120,'Planting and management costs'!$Y$74/'Planting and management costs'!$AB$71,IF(AND(D119<>0,($B120-'Planting and management costs'!$I$74)<'Planting and management costs'!$AB$71),'Planting and management costs'!$Y$74/'Planting and management costs'!$AB$71,0))","v":0},{"$f":"IF('Planting and management costs'!$I$75=$B120,'Planting and management costs'!$Y$75/'Planting and management costs'!$AC$71,IF(AND(E119<>0,($B120-'Planting and management costs'!$I$75)<'Planting and management costs'!$AC$71),'Planting and management costs'!$Y$75/'Planting and management costs'!$AC$71,0))","v":0},{"$f":"IF('Planting and management costs'!$I$76=$B120,'Planting and management costs'!$Y$76/'Planting and management costs'!$AD$71,IF(AND(F119<>0,($B120-'Planting and management costs'!$I$76)<'Planting and management costs'!$AD$71),'Planting and management costs'!$Y$76/'Planting and management costs'!$AD$71,0))","v":0},{"$f":"IF('Planting and management costs'!$I$77=$B120,'Planting and management costs'!$Y$77/'Planting and management costs'!$AE$71,IF(AND(G119<>0,($B120-'Planting and management costs'!$I$77)<'Planting and management costs'!$AE$71),'Planting and management costs'!$Y$77/'Planting and management costs'!$AE$71,0))","v":0},{"$f":"IF('Planting and management costs'!$I$85=$B120,'Planting and management costs'!$Y$85/'Planting and management costs'!$AA$83,IF(AND(H119<>0,($B120-'Planting and management costs'!$I$85)<'Planting and management costs'!$AA$83),'Planting and management costs'!$Y$85/'Planting and management costs'!$AA$83,0))","v":0},{"$f":"IF('Planting and management costs'!$I$86=$B120,'Planting and management costs'!$Y$86/'Planting and management costs'!$AB$83,IF(AND(I119<>0,($B120-'Planting and management costs'!$I$86)<'Planting and management costs'!$AB$83),'Planting and management costs'!$Y$86/'Planting and management costs'!$AB$83,0))","v":0},{"$f":"IF('Planting and management costs'!$I$88=$B120,'Planting and management costs'!$Y$88/'Planting and management costs'!$AC$83,IF(AND(J119<>0,($B120-'Planting and management costs'!$I$88)<'Planting and management costs'!$AC$83),'Planting and management costs'!$Y$88/'Planting and management costs'!$AC$83,0))","v":0},{"$f":"IF('Planting and management costs'!$I$89=$B120,'Planting and management costs'!$Y$89/'Planting and management costs'!$AD$83,IF(AND(K119<>0,($B120-'Planting and management costs'!$I$89)<'Planting and management costs'!$AD$83),'Planting and management costs'!$Y$89/'Planting and management costs'!$AD$83,0))","v":0},{"$f":"IF('Planting and management costs'!$I$91=$B120,'Planting and management costs'!$Y$91/'Planting and management costs'!$AE$83,IF(AND(L119<>0,($B120-'Planting and management costs'!$I$91)<'Planting and management costs'!$AE$83),'Planting and management costs'!$Y$91/'Planting and management costs'!$AE$83,0))","v":0},{"$f":"IF('Planting and management costs'!$I$92=$B120,'Planting and management costs'!$Y$92/'Planting and management costs'!$AF$83,IF(AND(M119<>0,($B120-'Planting and management costs'!$I$92)<'Planting and management costs'!$AF$83),'Planting and management costs'!$Y$92/'Planting and management costs'!$AF$83,0))","v":0},{"$f":"IF('Planting and management costs'!$I$94=$B120,'Planting and management costs'!$Y$94/'Planting and management costs'!$AG$83,IF(AND(N119<>0,($B120-'Planting and management costs'!$I$94)<'Planting and management costs'!$AG$83),'Planting and management costs'!$Y$94/'Planting and management costs'!$AG$83,0))","v":0},{"$f":"IF('Planting and management costs'!$I$95=$B120,'Planting and management costs'!$Y$95/'Planting and management costs'!$AH$83,IF(AND(O119<>0,($B120-'Planting and management costs'!$I$95)<'Planting and management costs'!$AH$83),'Planting and management costs'!$Y$95/'Planting and management costs'!$AH$83,0))","v":0},{"$f":"IF('Planting and management costs'!$I$96=$B120,'Planting and management costs'!$Y$96/'Planting and management costs'!$AI$83,IF(AND(P119<>0,($B120-'Planting and management costs'!$I$96)<'Planting and management costs'!$AI$83),'Planting and management costs'!$Y$96/'Planting and management costs'!$AI$83,0))","v":0},0,0,{"$f":"IF('Cash flow'!B120='Growth characteristics'!$L$26,'Growth characteristics'!$L$29,0)","v":0},{"$f":"IF($R$94=\"USD/m3\",R120*S120,R120*S120*'Growth characteristics'!$L$32*0.001)","v":0},0,0,0,0,0,0,0,0,0,0,0,0,0,0,0,0,0,0,0,1,25,1,null,null,null,null,null,null,0.24,{"$f":"NPV(AW120,'Cash flow'!$U$96:$U$125)+'Cash flow'!$U$95","v":0},{"$f":"NPV(AW120,'Cash flow'!$U$139:$U$168)+'Cash flow'!$U$138","v":{"$error":"#REF!"}}]
[null,26,{"$f":"IF('Planting and management costs'!$I$72=$B121,'Planting and management costs'!$Y$72/'Planting and management costs'!$AA$71,IF(AND(C120<>0,($B121-'Planting and management costs'!$I$72)<'Planting and management costs'!$AA$35),'Planting and management costs'!$Y$36/'Planting and management costs'!$AA$35,0))","v":0},{"$f":"IF('Planting and management costs'!$I$74=$B121,'Planting and management costs'!$Y$74/'Planting and management costs'!$AB$71,IF(AND(D120<>0,($B121-'Planting and management costs'!$I$74)<'Planting and management costs'!$AB$71),'Planting and management costs'!$Y$74/'Planting and management costs'!$AB$71,0))","v":0},{"$f":"IF('Planting and management costs'!$I$75=$B121,'Planting and management costs'!$Y$75/'Planting and management costs'!$AC$71,IF(AND(E120<>0,($B121-'Planting and management costs'!$I$75)<'Planting and management costs'!$AC$71),'Planting and management costs'!$Y$75/'Planting and management costs'!$AC$71,0))","v":0},{"$f":"IF('Planting and management costs'!$I$76=$B121,'Planting and management costs'!$Y$76/'Planting and management costs'!$AD$71,IF(AND(F120<>0,($B121-'Planting and management costs'!$I$76)<'Planting and management costs'!$AD$71),'Planting and management costs'!$Y$76/'Planting and management costs'!$AD$71,0))","v":0},{"$f":"IF('Planting and management costs'!$I$77=$B121,'Planting and management costs'!$Y$77/'Planting and management costs'!$AE$71,IF(AND(G120<>0,($B121-'Planting and management costs'!$I$77)<'Planting and management costs'!$AE$71),'Planting and management costs'!$Y$77/'Planting and management costs'!$AE$71,0))","v":0},{"$f":"IF('Planting and management costs'!$I$85=$B121,'Planting and management costs'!$Y$85/'Planting and management costs'!$AA$83,IF(AND(H120<>0,($B121-'Planting and management costs'!$I$85)<'Planting and management costs'!$AA$83),'Planting and management costs'!$Y$85/'Planting and management costs'!$AA$83,0))","v":0},{"$f":"IF('Planting and management costs'!$I$86=$B121,'Planting and management costs'!$Y$86/'Planting and management costs'!$AB$83,IF(AND(I120<>0,($B121-'Planting and management costs'!$I$86)<'Planting and management costs'!$AB$83),'Planting and management costs'!$Y$86/'Planting and management costs'!$AB$83,0))","v":0},{"$f":"IF('Planting and management costs'!$I$88=$B121,'Planting and management costs'!$Y$88/'Planting and management costs'!$AC$83,IF(AND(J120<>0,($B121-'Planting and management costs'!$I$88)<'Planting and management costs'!$AC$83),'Planting and management costs'!$Y$88/'Planting and management costs'!$AC$83,0))","v":0},{"$f":"IF('Planting and management costs'!$I$89=$B121,'Planting and management costs'!$Y$89/'Planting and management costs'!$AD$83,IF(AND(K120<>0,($B121-'Planting and management costs'!$I$89)<'Planting and management costs'!$AD$83),'Planting and management costs'!$Y$89/'Planting and management costs'!$AD$83,0))","v":0},{"$f":"IF('Planting and management costs'!$I$91=$B121,'Planting and management costs'!$Y$91/'Planting and management costs'!$AE$83,IF(AND(L120<>0,($B121-'Planting and management costs'!$I$91)<'Planting and management costs'!$AE$83),'Planting and management costs'!$Y$91/'Planting and management costs'!$AE$83,0))","v":0},{"$f":"IF('Planting and management costs'!$I$92=$B121,'Planting and management costs'!$Y$92/'Planting and management costs'!$AF$83,IF(AND(M120<>0,($B121-'Planting and management costs'!$I$92)<'Planting and management costs'!$AF$83),'Planting and management costs'!$Y$92/'Planting and management costs'!$AF$83,0))","v":0},{"$f":"IF('Planting and management costs'!$I$94=$B121,'Planting and management costs'!$Y$94/'Planting and management costs'!$AG$83,IF(AND(N120<>0,($B121-'Planting and management costs'!$I$94)<'Planting and management costs'!$AG$83),'Planting and management costs'!$Y$94/'Planting and management costs'!$AG$83,0))","v":0},{"$f":"IF('Planting and management costs'!$I$95=$B121,'Planting and management costs'!$Y$95/'Planting and management costs'!$AH$83,IF(AND(O120<>0,($B121-'Planting and management costs'!$I$95)<'Planting and management costs'!$AH$83),'Planting and management costs'!$Y$95/'Planting and management costs'!$AH$83,0))","v":0},{"$f":"IF('Planting and management costs'!$I$96=$B121,'Planting and management costs'!$Y$96/'Planting and management costs'!$AI$83,IF(AND(P120<>0,($B121-'Planting and management costs'!$I$96)<'Planting and management costs'!$AI$83),'Planting and management costs'!$Y$96/'Planting and management costs'!$AI$83,0))","v":0},0,0,{"$f":"IF('Cash flow'!B121='Growth characteristics'!$L$26,'Growth characteristics'!$L$29,0)","v":0},{"$f":"IF($R$94=\"USD/m3\",R121*S121,R121*S121*'Growth characteristics'!$L$32*0.001)","v":0},0,0,0,0,0,0,0,0,0,0,0,0,0,0,0,0,0,0,0,1,26,1,null,null,null,null,null,null,0.25,{"$f":"NPV(AW121,'Cash flow'!$U$96:$U$125)+'Cash flow'!$U$95","v":0},{"$f":"NPV(AW121,'Cash flow'!$U$139:$U$168)+'Cash flow'!$U$138","v":{"$error":"#REF!"}}]
[null,27,{"$f":"IF('Planting and management costs'!$I$72=$B122,'Planting and management costs'!$Y$72/'Planting and management costs'!$AA$71,IF(AND(C121<>0,($B122-'Planting and management costs'!$I$72)<'Planting and management costs'!$AA$35),'Planting and management costs'!$Y$36/'Planting and management costs'!$AA$35,0))","v":0},{"$f":"IF('Planting and management costs'!$I$74=$B122,'Planting and management costs'!$Y$74/'Planting and management costs'!$AB$71,IF(AND(D121<>0,($B122-'Planting and management costs'!$I$74)<'Planting and management costs'!$AB$71),'Planting and management costs'!$Y$74/'Planting and management costs'!$AB$71,0))","v":0},{"$f":"IF('Planting and management costs'!$I$75=$B122,'Planting and management costs'!$Y$75/'Planting and management costs'!$AC$71,IF(AND(E121<>0,($B122-'Planting and management costs'!$I$75)<'Planting and management costs'!$AC$71),'Planting and management costs'!$Y$75/'Planting and management costs'!$AC$71,0))","v":0},{"$f":"IF('Planting and management costs'!$I$76=$B122,'Planting and management costs'!$Y$76/'Planting and management costs'!$AD$71,IF(AND(F121<>0,($B122-'Planting and management costs'!$I$76)<'Planting and management costs'!$AD$71),'Planting and management costs'!$Y$76/'Planting and management costs'!$AD$71,0))","v":0},{"$f":"IF('Planting and management costs'!$I$77=$B122,'Planting and management costs'!$Y$77/'Planting and management costs'!$AE$71,IF(AND(G121<>0,($B122-'Planting and management costs'!$I$77)<'Planting and management costs'!$AE$71),'Planting and management costs'!$Y$77/'Planting and management costs'!$AE$71,0))","v":0},{"$f":"IF('Planting and management costs'!$I$85=$B122,'Planting and management costs'!$Y$85/'Planting and management costs'!$AA$83,IF(AND(H121<>0,($B122-'Planting and management costs'!$I$85)<'Planting and management costs'!$AA$83),'Planting and management costs'!$Y$85/'Planting and management costs'!$AA$83,0))","v":0},{"$f":"IF('Planting and management costs'!$I$86=$B122,'Planting and management costs'!$Y$86/'Planting and management costs'!$AB$83,IF(AND(I121<>0,($B122-'Planting and management costs'!$I$86)<'Planting and management costs'!$AB$83),'Planting and management costs'!$Y$86/'Planting and management costs'!$AB$83,0))","v":0},{"$f":"IF('Planting and management costs'!$I$88=$B122,'Planting and management costs'!$Y$88/'Planting and management costs'!$AC$83,IF(AND(J121<>0,($B122-'Planting and management costs'!$I$88)<'Planting and management costs'!$AC$83),'Planting and management costs'!$Y$88/'Planting and management costs'!$AC$83,0))","v":0},{"$f":"IF('Planting and management costs'!$I$89=$B122,'Planting and management costs'!$Y$89/'Planting and management costs'!$AD$83,IF(AND(K121<>0,($B122-'Planting and management costs'!$I$89)<'Planting and management costs'!$AD$83),'Planting and management costs'!$Y$89/'Planting and management costs'!$AD$83,0))","v":0},{"$f":"IF('Planting and management costs'!$I$91=$B122,'Planting and management costs'!$Y$91/'Planting and management costs'!$AE$83,IF(AND(L121<>0,($B122-'Planting and management costs'!$I$91)<'Planting and management costs'!$AE$83),'Planting and management costs'!$Y$91/'Planting and management costs'!$AE$83,0))","v":0},{"$f":"IF('Planting and management costs'!$I$92=$B122,'Planting and management costs'!$Y$92/'Planting and management costs'!$AF$83,IF(AND(M121<>0,($B122-'Planting and management costs'!$I$92)<'Planting and management costs'!$AF$83),'Planting and management costs'!$Y$92/'Planting and management costs'!$AF$83,0))","v":0},{"$f":"IF('Planting and management costs'!$I$94=$B122,'Planting and management costs'!$Y$94/'Planting and management costs'!$AG$83,IF(AND(N121<>0,($B122-'Planting and management costs'!$I$94)<'Planting and management costs'!$AG$83),'Planting and management costs'!$Y$94/'Planting and management costs'!$AG$83,0))","v":0},{"$f":"IF('Planting and management costs'!$I$95=$B122,'Planting and management costs'!$Y$95/'Planting and management costs'!$AH$83,IF(AND(O121<>0,($B122-'Planting and management costs'!$I$95)<'Planting and management costs'!$AH$83),'Planting and management costs'!$Y$95/'Planting and management costs'!$AH$83,0))","v":0},{"$f":"IF('Planting and management costs'!$I$96=$B122,'Planting and management costs'!$Y$96/'Planting and management costs'!$AI$83,IF(AND(P121<>0,($B122-'Planting and management costs'!$I$96)<'Planting and management costs'!$AI$83),'Planting and management costs'!$Y$96/'Planting and management costs'!$AI$83,0))","v":0},0,0,{"$f":"IF('Cash flow'!B122='Growth characteristics'!$L$26,'Growth characteristics'!$L$29,0)","v":0},{"$f":"IF($R$94=\"USD/m3\",R122*S122,R122*S122*'Growth characteristics'!$L$32*0.001)","v":0},0,0,0,0,0,0,0,0,0,0,0,0,0,0,0,0,0,0,0,1,27,1,null,null,null,null,null,null,0.26,{"$f":"NPV(AW122,'Cash flow'!$U$96:$U$125)+'Cash flow'!$U$95","v":0},{"$f":"NPV(AW122,'Cash flow'!$U$139:$U$168)+'Cash flow'!$U$138","v":{"$error":"#REF!"}}]
[null,28,{"$f":"IF('Planting and management costs'!$I$72=$B123,'Planting and management costs'!$Y$72/'Planting and management costs'!$AA$71,IF(AND(C122<>0,($B123-'Planting and management costs'!$I$72)<'Planting and management costs'!$AA$35),'Planting and management costs'!$Y$36/'Planting and management costs'!$AA$35,0))","v":0},{"$f":"IF('Planting and management costs'!$I$74=$B123,'Planting and management costs'!$Y$74/'Planting and management costs'!$AB$71,IF(AND(D122<>0,($B123-'Planting and management costs'!$I$74)<'Planting and management costs'!$AB$71),'Planting and management costs'!$Y$74/'Planting and management costs'!$AB$71,0))","v":0},{"$f":"IF('Planting and management costs'!$I$75=$B123,'Planting and management costs'!$Y$75/'Planting and management costs'!$AC$71,IF(AND(E122<>0,($B123-'Planting and management costs'!$I$75)<'Planting and management costs'!$AC$71),'Planting and management costs'!$Y$75/'Planting and management costs'!$AC$71,0))","v":0},{"$f":"IF('Planting and management costs'!$I$76=$B123,'Planting and management costs'!$Y$76/'Planting and management costs'!$AD$71,IF(AND(F122<>0,($B123-'Planting and management costs'!$I$76)<'Planting and management costs'!$AD$71),'Planting and management costs'!$Y$76/'Planting and management costs'!$AD$71,0))","v":0},{"$f":"IF('Planting and management costs'!$I$77=$B123,'Planting and management costs'!$Y$77/'Planting and management costs'!$AE$71,IF(AND(G122<>0,($B123-'Planting and management costs'!$I$77)<'Planting and management costs'!$AE$71),'Planting and management costs'!$Y$77/'Planting and management costs'!$AE$71,0))","v":0},{"$f":"IF('Planting and management costs'!$I$85=$B123,'Planting and management costs'!$Y$85/'Planting and management costs'!$AA$83,IF(AND(H122<>0,($B123-'Planting and management costs'!$I$85)<'Planting and management costs'!$AA$83),'Planting and management costs'!$Y$85/'Planting and management costs'!$AA$83,0))","v":0},{"$f":"IF('Planting and management costs'!$I$86=$B123,'Planting and management costs'!$Y$86/'Planting and management costs'!$AB$83,IF(AND(I122<>0,($B123-'Planting and management costs'!$I$86)<'Planting and management costs'!$AB$83),'Planting and management costs'!$Y$86/'Planting and management costs'!$AB$83,0))","v":0},{"$f":"IF('Planting and management costs'!$I$88=$B123,'Planting and management costs'!$Y$88/'Planting and management costs'!$AC$83,IF(AND(J122<>0,($B123-'Planting and management costs'!$I$88)<'Planting and management costs'!$AC$83),'Planting and management costs'!$Y$88/'Planting and management costs'!$AC$83,0))","v":0},{"$f":"IF('Planting and management costs'!$I$89=$B123,'Planting and management costs'!$Y$89/'Planting and management costs'!$AD$83,IF(AND(K122<>0,($B123-'Planting and management costs'!$I$89)<'Planting and management costs'!$AD$83),'Planting and management costs'!$Y$89/'Planting and management costs'!$AD$83,0))","v":0},{"$f":"IF('Planting and management costs'!$I$91=$B123,'Planting and management costs'!$Y$91/'Planting and management costs'!$AE$83,IF(AND(L122<>0,($B123-'Planting and management costs'!$I$91)<'Planting and management costs'!$AE$83),'Planting and management costs'!$Y$91/'Planting and management costs'!$AE$83,0))","v":0},{"$f":"IF('Planting and management costs'!$I$92=$B123,'Planting and management costs'!$Y$92/'Planting and management costs'!$AF$83,IF(AND(M122<>0,($B123-'Planting and management costs'!$I$92)<'Planting and management costs'!$AF$83),'Planting and management costs'!$Y$92/'Planting and management costs'!$AF$83,0))","v":0},{"$f":"IF('Planting and management costs'!$I$94=$B123,'Planting and management costs'!$Y$94/'Planting and management costs'!$AG$83,IF(AND(N122<>0,($B123-'Planting and management costs'!$I$94)<'Planting and management costs'!$AG$83),'Planting and management costs'!$Y$94/'Planting and management costs'!$AG$83,0))","v":0},{"$f":"IF('Planting and management costs'!$I$95=$B123,'Planting and management costs'!$Y$95/'Planting and management costs'!$AH$83,IF(AND(O122<>0,($B123-'Planting and management costs'!$I$95)<'Planting and management costs'!$AH$83),'Planting and management costs'!$Y$95/'Planting and management costs'!$AH$83,0))","v":0},{"$f":"IF('Planting and management costs'!$I$96=$B123,'Planting and management costs'!$Y$96/'Planting and management costs'!$AI$83,IF(AND(P122<>0,($B123-'Planting and management costs'!$I$96)<'Planting and management costs'!$AI$83),'Planting and management costs'!$Y$96/'Planting and management costs'!$AI$83,0))","v":0},0,0,{"$f":"IF('Cash flow'!B123='Growth characteristics'!$L$26,'Growth characteristics'!$L$29,0)","v":0},{"$f":"IF($R$94=\"USD/m3\",R123*S123,R123*S123*'Growth characteristics'!$L$32*0.001)","v":0},0,0,0,0,0,0,0,0,0,0,0,0,0,0,0,0,0,0,0,1,28,1,null,null,null,null,null,null,0.27,{"$f":"NPV(AW123,'Cash flow'!$U$96:$U$125)+'Cash flow'!$U$95","v":0},{"$f":"NPV(AW123,'Cash flow'!$U$139:$U$168)+'Cash flow'!$U$138","v":{"$error":"#REF!"}}]
[null,29,{"$f":"IF('Planting and management costs'!$I$72=$B124,'Planting and management costs'!$Y$72/'Planting and management costs'!$AA$71,IF(AND(C123<>0,($B124-'Planting and management costs'!$I$72)<'Planting and management costs'!$AA$35),'Planting and management costs'!$Y$36/'Planting and management costs'!$AA$35,0))","v":0},{"$f":"IF('Planting and management costs'!$I$74=$B124,'Planting and management costs'!$Y$74/'Planting and management costs'!$AB$71,IF(AND(D123<>0,($B124-'Planting and management costs'!$I$74)<'Planting and management costs'!$AB$71),'Planting and management costs'!$Y$74/'Planting and management costs'!$AB$71,0))","v":0},{"$f":"IF('Planting and management costs'!$I$75=$B124,'Planting and management costs'!$Y$75/'Planting and management costs'!$AC$71,IF(AND(E123<>0,($B124-'Planting and management costs'!$I$75)<'Planting and management costs'!$AC$71),'Planting and management costs'!$Y$75/'Planting and management costs'!$AC$71,0))","v":0},{"$f":"IF('Planting and management costs'!$I$76=$B124,'Planting and management costs'!$Y$76/'Planting and management costs'!$AD$71,IF(AND(F123<>0,($B124-'Planting and management costs'!$I$76)<'Planting and management costs'!$AD$71),'Planting and management costs'!$Y$76/'Planting and management costs'!$AD$71,0))","v":0},{"$f":"IF('Planting and management costs'!$I$77=$B124,'Planting and management costs'!$Y$77/'Planting and management costs'!$AE$71,IF(AND(G123<>0,($B124-'Planting and management costs'!$I$77)<'Planting and management costs'!$AE$71),'Planting and management costs'!$Y$77/'Planting and management costs'!$AE$71,0))","v":0},{"$f":"IF('Planting and management costs'!$I$85=$B124,'Planting and management costs'!$Y$85/'Planting and management costs'!$AA$83,IF(AND(H123<>0,($B124-'Planting and management costs'!$I$85)<'Planting and management costs'!$AA$83),'Planting and management costs'!$Y$85/'Planting and management costs'!$AA$83,0))","v":0},{"$f":"IF('Planting and management costs'!$I$86=$B124,'Planting and management costs'!$Y$86/'Planting and management costs'!$AB$83,IF(AND(I123<>0,($B124-'Planting and management costs'!$I$86)<'Planting and management costs'!$AB$83),'Planting and management costs'!$Y$86/'Planting and management costs'!$AB$83,0))","v":0},{"$f":"IF('Planting and management costs'!$I$88=$B124,'Planting and management costs'!$Y$88/'Planting and management costs'!$AC$83,IF(AND(J123<>0,($B124-'Planting and management costs'!$I$88)<'Planting and management costs'!$AC$83),'Planting and management costs'!$Y$88/'Planting and management costs'!$AC$83,0))","v":0},{"$f":"IF('Planting and management costs'!$I$89=$B124,'Planting and management costs'!$Y$89/'Planting and management costs'!$AD$83,IF(AND(K123<>0,($B124-'Planting and management costs'!$I$89)<'Planting and management costs'!$AD$83),'Planting and management costs'!$Y$89/'Planting and management costs'!$AD$83,0))","v":0},{"$f":"IF('Planting and management costs'!$I$91=$B124,'Planting and management costs'!$Y$91/'Planting and management costs'!$AE$83,IF(AND(L123<>0,($B124-'Planting and management costs'!$I$91)<'Planting and management costs'!$AE$83),'Planting and management costs'!$Y$91/'Planting and management costs'!$AE$83,0))","v":0},{"$f":"IF('Planting and management costs'!$I$92=$B124,'Planting and management costs'!$Y$92/'Planting and management costs'!$AF$83,IF(AND(M123<>0,($B124-'Planting and management costs'!$I$92)<'Planting and management costs'!$AF$83),'Planting and management costs'!$Y$92/'Planting and management costs'!$AF$83,0))","v":0},{"$f":"IF('Planting and management costs'!$I$94=$B124,'Planting and management costs'!$Y$94/'Planting and management costs'!$AG$83,IF(AND(N123<>0,($B124-'Planting and management costs'!$I$94)<'Planting and management costs'!$AG$83),'Planting and management costs'!$Y$94/'Planting and management costs'!$AG$83,0))","v":0},{"$f":"IF('Planting and management costs'!$I$95=$B124,'Planting and management costs'!$Y$95/'Planting and management costs'!$AH$83,IF(AND(O123<>0,($B124-'Planting and management costs'!$I$95)<'Planting and management costs'!$AH$83),'Planting and management costs'!$Y$95/'Planting and management costs'!$AH$83,0))","v":0},{"$f":"IF('Planting and management costs'!$I$96=$B124,'Planting and management costs'!$Y$96/'Planting and management costs'!$AI$83,IF(AND(P123<>0,($B124-'Planting and management costs'!$I$96)<'Planting and management costs'!$AI$83),'Planting and management costs'!$Y$96/'Planting and management costs'!$AI$83,0))","v":0},0,0,{"$f":"IF('Cash flow'!B124='Growth characteristics'!$L$26,'Growth characteristics'!$L$29,0)","v":0},{"$f":"IF($R$94=\"USD/m3\",R124*S124,R124*S124*'Growth characteristics'!$L$32*0.001)","v":0},0,0,0,0,0,0,0,0,0,0,0,0,0,0,0,0,0,0,0,1,29,1,null,null,null,null,null,null,0.28000000000000003,{"$f":"NPV(AW124,'Cash flow'!$U$96:$U$125)+'Cash flow'!$U$95","v":0},{"$f":"NPV(AW124,'Cash flow'!$U$139:$U$168)+'Cash flow'!$U$138","v":{"$error":"#REF!"}}]
[null,30,{"$f":"IF('Planting and management costs'!$I$72=$B125,'Planting and management costs'!$Y$72/'Planting and management costs'!$AA$71,IF(AND(C124<>0,($B125-'Planting and management costs'!$I$72)<'Planting and management costs'!$AA$35),'Planting and management costs'!$Y$36/'Planting and management costs'!$AA$35,0))","v":0},{"$f":"IF('Planting and management costs'!$I$74=$B125,'Planting and management costs'!$Y$74/'Planting and management costs'!$AB$71,IF(AND(D124<>0,($B125-'Planting and management costs'!$I$74)<'Planting and management costs'!$AB$71),'Planting and management costs'!$Y$74/'Planting and management costs'!$AB$71,0))","v":0},{"$f":"IF('Planting and management costs'!$I$75=$B125,'Planting and management costs'!$Y$75/'Planting and management costs'!$AC$71,IF(AND(E124<>0,($B125-'Planting and management costs'!$I$75)<'Planting and management costs'!$AC$71),'Planting and management costs'!$Y$75/'Planting and management costs'!$AC$71,0))","v":0},{"$f":"IF('Planting and management costs'!$I$76=$B125,'Planting and management costs'!$Y$76/'Planting and management costs'!$AD$71,IF(AND(F124<>0,($B125-'Planting and management costs'!$I$76)<'Planting and management costs'!$AD$71),'Planting and management costs'!$Y$76/'Planting and management costs'!$AD$71,0))","v":0},{"$f":"IF('Planting and management costs'!$I$77=$B125,'Planting and management costs'!$Y$77/'Planting and management costs'!$AE$71,IF(AND(G124<>0,($B125-'Planting and management costs'!$I$77)<'Planting and management costs'!$AE$71),'Planting and management costs'!$Y$77/'Planting and management costs'!$AE$71,0))","v":0},{"$f":"IF('Planting and management costs'!$I$85=$B125,'Planting and management costs'!$Y$85/'Planting and management costs'!$AA$83,IF(AND(H124<>0,($B125-'Planting and management costs'!$I$85)<'Planting and management costs'!$AA$83),'Planting and management costs'!$Y$85/'Planting and management costs'!$AA$83,0))","v":0},{"$f":"IF('Planting and management costs'!$I$86=$B125,'Planting and management costs'!$Y$86/'Planting and management costs'!$AB$83,IF(AND(I124<>0,($B125-'Planting and management costs'!$I$86)<'Planting and management costs'!$AB$83),'Planting and management costs'!$Y$86/'Planting and management costs'!$AB$83,0))","v":0},{"$f":"IF('Planting and management costs'!$I$88=$B125,'Planting and management costs'!$Y$88/'Planting and management costs'!$AC$83,IF(AND(J124<>0,($B125-'Planting and management costs'!$I$88)<'Planting and management costs'!$AC$83),'Planting and management costs'!$Y$88/'Planting and management costs'!$AC$83,0))","v":0},{"$f":"IF('Planting and management costs'!$I$89=$B125,'Planting and management costs'!$Y$89/'Planting and management costs'!$AD$83,IF(AND(K124<>0,($B125-'Planting and management costs'!$I$89)<'Planting and management costs'!$AD$83),'Planting and management costs'!$Y$89/'Planting and management costs'!$AD$83,0))","v":0},{"$f":"IF('Planting and management costs'!$I$91=$B125,'Planting and management costs'!$Y$91/'Planting and management costs'!$AE$83,IF(AND(L124<>0,($B125-'Planting and management costs'!$I$91)<'Planting and management costs'!$AE$83),'Planting and management costs'!$Y$91/'Planting and management costs'!$AE$83,0))","v":0},{"$f":"IF('Planting and management costs'!$I$92=$B125,'Planting and management costs'!$Y$92/'Planting and management costs'!$AF$83,IF(AND(M124<>0,($B125-'Planting and management costs'!$I$92)<'Planting and management costs'!$AF$83),'Planting and management costs'!$Y$92/'Planting and management costs'!$AF$83,0))","v":0},{"$f":"IF('Planting and management costs'!$I$94=$B125,'Planting and management costs'!$Y$94/'Planting and management costs'!$AG$83,IF(AND(N124<>0,($B125-'Planting and management costs'!$I$94)<'Planting and management costs'!$AG$83),'Planting and management costs'!$Y$94/'Planting and management costs'!$AG$83,0))","v":0},{"$f":"IF('Planting and management costs'!$I$95=$B125,'Planting and management costs'!$Y$95/'Planting and management costs'!$AH$83,IF(AND(O124<>0,($B125-'Planting and management costs'!$I$95)<'Planting and management costs'!$AH$83),'Planting and management costs'!$Y$95/'Planting and management costs'!$AH$83,0))","v":0},{"$f":"IF('Planting and management costs'!$I$96=$B125,'Planting and management costs'!$Y$96/'Planting and management costs'!$AI$83,IF(AND(P124<>0,($B125-'Planting and management costs'!$I$96)<'Planting and management costs'!$AI$83),'Planting and management costs'!$Y$96/'Planting and management costs'!$AI$83,0))","v":0},0,0,{"$f":"IF('Cash flow'!B125='Growth characteristics'!$L$26,'Growth characteristics'!$L$29,0)","v":0},{"$f":"IF($R$94=\"USD/m3\",R125*S125,R125*S125*'Growth characteristics'!$L$32*0.001)","v":0},0,0,0,0,0,0,0,0,0,0,0,0,0,0,0,0,0,0,{"$f":"U125/AP125","v":0},1,30,1,null,null,null,null,null,null,0.28999999999999998,{"$f":"NPV(AW125,'Cash flow'!$U$96:$U$125)+'Cash flow'!$U$95","v":0},{"$f":"NPV(AW125,'Cash flow'!$U$139:$U$168)+'Cash flow'!$U$138","v":{"$error":"#REF!"}}]
[null,"TOTAL",{"$f":"SUM(C95:C125)","v":0},{"$f":"SUM(D95:D125)","v":0},{"$f":"SUM(E95:E125)","v":0},{"$f":"SUM(F95:F125)","v":0},{"$f":"SUM(G95:G125)","v":0},0,0,0,0,0,0,0,0,{"$f":"SUM(P95:P125)","v":0},{"$f":"SUM(Q95:Q125)","v":0},null,{"$f":"SUM(S95:S125)","v":0},{"$f":"SUM(T95:T125)","v":0},{"$f":"SUM(U95:U125)","v":0},{"$f":"SUM(V95:V125)","v":0},{"$f":"SUM(W95:W125)","v":0},{"$f":"SUM(X95:X125)","v":0},0,0,0,0,0,0,0,0,0,0,{"$f":"SUM(AI95:AI125)","v":0},{"$f":"SUM(AJ95:AJ125)","v":0},{"$f":"SUM(AK95:AK125)","v":0},null,null,null,null,null,null,null,null,null,null,null,0.3,{"$f":"NPV(AW126,'Cash flow'!$U$96:$U$125)+'Cash flow'!$U$95","v":0},{"$f":"NPV(AW126,'Cash flow'!$U$139:$U$168)+'Cash flow'!$U$138","v":{"$error":"#REF!"}}]
[null,null,null,null,null,null,null,null,null,null,null,null,null,null,null,null,null,null,null,null,null,null,null,null,null,null,null,null,null,null,null,null,null,null,null,null,null,null,null,null,null,null,null,null,null,null,null,null,0.31,{"$f":"NPV(AW127,'Cash flow'!$U$96:$U$125)+'Cash flow'!$U$95","v":0},{"$f":"NPV(AW127,'Cash flow'!$U$139:$U$168)+'Cash flow'!$U$138","v":{"$error":"#REF!"}}]
[null,null,null,null,null,null,null,null,null,null,null,null,null,null,null,null,null,null,null,null,null,null,null,null,null,null,null,null,null,null,null,null,null,"Net Present Value (USD)",null,null,{"$f":"SUM(AL95:AL125)","v":0},null,null,null,null,null,null,null,null,null,null,null,0.32,{"$f":"NPV(AW128,'Cash flow'!$U$96:$U$125)+'Cash flow'!$U$95","v":0},{"$f":"NPV(AW128,'Cash flow'!$U$139:$U$168)+'Cash flow'!$U$138","v":{"$error":"#REF!"}}]
[null,null,null,null,null,null,null,null,null,null,null,null,null,null,null,null,null,null,null,null,null,null,null,null,null,null,null,null,null,null,null,null,null,"Internal Rate of Return (%)",null,null,{"$f":"IF(AK128<0,\"Not feasible\",IRR(U95:U125,0.000001))","v":{"$error":"#NUM!"}},null,null,null,null,null,null,null,null,null,null,null,0.33,{"$f":"NPV(AW129,'Cash flow'!$U$96:$U$125)+'Cash flow'!$U$95","v":0},{"$f":"NPV(AW129,'Cash flow'!$U$139:$U$168)+'Cash flow'!$U$138","v":{"$error":"#REF!"}}]
[null,null,null,null,null,null,null,null,null,null,null,null,null,null,null,null,null,null,null,null,null,null,null,null,null,null,null,null,null,null,null,null,null,null,null,null,null,null,null,null,null,null,null,null,null,null,null,null,0.34,{"$f":"NPV(AW130,'Cash flow'!$U$96:$U$125)+'Cash flow'!$U$95","v":0},{"$f":"NPV(AW130,'Cash flow'!$U$139:$U$168)+'Cash flow'!$U$138","v":{"$error":"#REF!"}}]
[null,null,null,null,null,null,null,null,null,null,null,null,null,null,null,null,null,null,null,null,null,null,null,null,null,null,null,null,null,null,null,null,null,null,null,null,null,null,null,null,null,null,null,null,null,null,null,null,0.35,{"$f":"NPV(AW131,'Cash flow'!$U$96:$U$125)+'Cash flow'!$U$95","v":0},{"$f":"NPV(AW131,'Cash flow'!$U$139:$U$168)+'Cash flow'!$U$138","v":{"$error":"#REF!"}}]
[null,null,null,null,null,null,null,null,null,null,null,null,null,null,null,null,null,null,null,null,null,null,null,null,null,null,null,null,null,null,null,null,null,null,null,null,null,null,null,null,null,null,null,null,null,null,null,null,0.36,{"$f":"NPV(AW132,'Cash flow'!$U$96:$U$125)+'Cash flow'!$U$95","v":0},{"$f":"NPV(AW132,'Cash flow'!$U$139:$U$168)+'Cash flow'!$U$138","v":{"$error":"#REF!"}}]
[null,null,null,null,null,null,null,null,null,null,null,null,null,null,null,null,{"$f":"title174&\" (i):\"","v":"Discount rate (i):"},null,{"$f":"'Planting and management costs'!$J$17","v":0},null,null,null,null,null,null,null,null,null,null,null,null,null,null,null,null,null,null,null,null,null,null,null,null,null,null,null,null,null,0.37,{"$f":"NPV(AW133,'Cash flow'!$U$96:$U$125)+'Cash flow'!$U$95","v":0},{"$f":"NPV(AW133,'Cash flow'!$U$139:$U$168)+'Cash flow'!$U$138","v":{"$error":"#REF!"}}]
[null,null,null,null,null,null,null,null,null,null,null,null,null,null,null,null,"Price (USD/m3)",null,{"$f":"'Growth characteristics'!J36","v":0},null,null,null,null,null,null,null,null,null,null,null,null,null,null,null,null,null,null,null,null,null,null,null,null,null,null,null,null,null,0.38,{"$f":"NPV(AW134,'Cash flow'!$U$96:$U$125)+'Cash flow'!$U$95","v":0},{"$f":"NPV(AW134,'Cash flow'!$U$139:$U$168)+'Cash flow'!$U$138","v":{"$error":"#REF!"}}]
[null,"Species 2 selected (Default value):",null,null,{"$f":"'Planting and management costs'!F64","v":"Select species"},null,"Management system selected:",null,"FR",null,null,null,null,null,null,null,null,null,null,null,null,null,null,null,null,null,null,null,null,null,null,null,null,null,null,null,null,null,null,null,null,null,null,null,null,null,null,null,0.39,{"$f":"NPV(AW135,'Cash flow'!$U$96:$U$125)+'Cash flow'!$U$95","v":0},{"$f":"NPV(AW135,'Cash flow'!$U$139:$U$168)+'Cash flow'!$U$138","v":{"$error":"#REF!"}}]
[null,null,{"$f":"title188","v":"Seedling"},{"$f":"title190","v":" - Nitrogen"},{"$f":"title191","v":" - Phosphorus "},{"$f":"title192","v":" - Potassium "},null,{"$f":"title199&title200","v":"Land clearing and planting - Manual"},{"$f":"title199&title201","v":"Land clearing and planting - Machinery"},{"$f":"title202&title200","v":"Application of fertilizers - Manual"},{"$f":"title202&title201","v":"Application of fertilizers - Machinery"},{"$f":"title203&title200","v":"Application of other agrochemicals - Manual"},{"$f":"title203&title201","v":"Application of other agrochemicals - Machinery"},{"$f":"title204&title200","v":"Harvesting - Manual"},{"$f":"title204&title201","v":"Harvesting - Machinery"},null,"Annual current costs","Price","Quantity","Annual current revenue","Current Cash Flow - before tax",{"$f":"title188","v":"Seedling"},{"$f":"title190","v":" - Nitrogen"},{"$f":"title191","v":" - Phosphorus "},{"$f":"title192","v":" - Potassium "},null,{"$f":"title199&title200","v":"Land clearing and planting - Manual"},{"$f":"title199&title201","v":"Land clearing and planting - Machinery"},{"$f":"title202&title200","v":"Application of fertilizers - Manual"},{"$f":"title202&title201","v":"Application of fertilizers - Machinery"},{"$f":"title203&title200","v":"Application of other agrochemicals - Manual"},{"$f":"title203&title201","v":"Application of other agrochemicals - Machinery"},{"$f":"title204&title200","v":"Harvesting - Manual"},{"$f":"title204&title201","v":"Harvesting - Machinery"},null,"Costs discounted","Revenue discounted","Discount Cash Flow - before tax",null,"(1+i)","n","(1+i)^n",null,null,null,null,null,null,0.4,{"$f":"NPV(AW136,'Cash flow'!$U$96:$U$125)+'Cash flow'!$U$95","v":0},{"$f":"NPV(AW136,'Cash flow'!$U$139:$U$168)+'Cash flow'!$U$138","v":{"$error":"#REF!"}}]
[null,{"$f":"title58","v":"Year"},"USD/ha","USD/ha","USD/ha","USD/ha",null,"USD/ha","USD/ha","USD/ha","USD/ha","USD/ha","USD/ha","USD/ha","USD/ha",null,"USD/ha",{"$f":"'Growth characteristics'!F35","v":"USD/m3"},"m3/ha","USD/ha","USD/ha","USD/ha","USD/ha","USD/ha","USD/ha",null,"USD/ha","USD/ha","USD/ha","USD/ha","USD/ha","USD/ha","USD/ha","USD/ha",null,"USD/ha","USD/ha","USD/ha",null,null,null,null,null,null,null,null,null,null,0.41,{"$f":"NPV(AW137,'Cash flow'!$U$96:$U$125)+'Cash flow'!$U$95","v":0},{"$f":"NPV(AW137,'Cash flow'!$U$139:$U$168)+'Cash flow'!$U$138","v":{"$error":"#REF!"}}]
[null,0,{"$f":"HLOOKUP(CONCATENATE($I$135,C$136),INDIRECT(\"'\"&$E$135&\"'!B17:Z54\"),4,FALSE)*'Planting and management costs'!$G$72","v":{"$error":"#REF!"}},{"$f":"HLOOKUP(CONCATENATE($I$135,D$136),INDIRECT(\"'\"&$E$135&\"'!B17:Z54\"),4,FALSE)*'Planting and management costs'!$G$74","v":{"$error":"#REF!"}},{"$f":"HLOOKUP(CONCATENATE($I$135,E$136),INDIRECT(\"'\"&$E$135&\"'!B17:Z54\"),4,FALSE)*'Planting and management costs'!$G$75","v":{"$error":"#REF!"}},{"$f":"HLOOKUP(CONCATENATE($I$135,F$136),INDIRECT(\"'\"&$E$135&\"'!B17:Z54\"),4,FALSE)*'Planting and management costs'!$G$76","v":{"$error":"#REF!"}},null,{"$f":"HLOOKUP(CONCATENATE($I$135,H$136),INDIRECT(\"'\"&$E$135&\"'!B17:Z54\"),4,FALSE)*'Planting and management costs'!$G$85","v":{"$error":"#REF!"}},{"$f":"HLOOKUP(CONCATENATE($I$135,I$136),INDIRECT(\"'\"&$E$135&\"'!B17:Z54\"),4,FALSE)*'Planting and management costs'!$G$86","v":{"$error":"#REF!"}},{"$f":"HLOOKUP(CONCATENATE($I$135,J$136),INDIRECT(\"'\"&$E$135&\"'!B17:Z54\"),4,FALSE)*'Planting and management costs'!$G$88","v":{"$error":"#REF!"}},{"$f":"HLOOKUP(CONCATENATE($I$135,K$136),INDIRECT(\"'\"&$E$135&\"'!B17:Z54\"),4,FALSE)*'Planting and management costs'!$G$89","v":{"$error":"#REF!"}},{"$f":"HLOOKUP(CONCATENATE($I$135,L$136),INDIRECT(\"'\"&$E$135&\"'!B17:Z54\"),4,FALSE)*'Planting and management costs'!$G$91","v":{"$error":"#REF!"}},{"$f":"HLOOKUP(CONCATENATE($I$135,M$136),INDIRECT(\"'\"&$E$135&\"'!B17:Z54\"),4,FALSE)*'Planting and management costs'!$G$92","v":{"$error":"#REF!"}},{"$f":"HLOOKUP(CONCATENATE($I$135,N$136),INDIRECT(\"'\"&$E$135&\"'!B17:Z54\"),4,FALSE)*'Planting and management costs'!$G$94","v":{"$error":"#REF!"}},{"$f":"HLOOKUP(CONCATENATE($I$135,O$136),INDIRECT(\"'\"&$E$135&\"'!B17:Z54\"),4,FALSE)*'Planting and management costs'!$G$95","v":{"$error":"#REF!"}},null,{"$f":"SUM(C138:O138)","v":{"$error":"#REF!"}},{"$f":"$S$134","v":0},{"$f":"IF('Cash flow'!B138='Growth characteristics'!$N$26,'Growth characteristics'!$N$29,0)","v":0},{"$f":"IF($R$137=\"USD/m3\",R138*S138,R138*S138*'Growth characteristics'!N32*0.001)","v":0},{"$f":"T138-Q138","v":{"$error":"#REF!"}},{"$f":"C138/(1+$S$133)^$B138","v":{"$error":"#REF!"}},{"$error":"#REF!"},{"$error":"#REF!"},{"$error":"#REF!"},null,{"$f":"H138/(1+$S$133)^$B138","v":{"$error":"#REF!"}},{"$error":"#REF!"},{"$error":"#REF!"},{"$error":"#REF!"},{"$error":"#REF!"},{"$error":"#REF!"},{"$error":"#REF!"},{"$error":"#REF!"},null,{"$f":"SUM(V138:AH138)","v":{"$error":"#REF!"}},{"$f":"T138/((1+$S$133)^$B138)","v":0},{"$f":"AK138-AJ138","v":{"$error":"#REF!"}},{"$f":"U138/AP138","v":{"$error":"#REF!"}},{"$f":"1+$S$48","v":1},0,{"$f":"AN138^AO138","v":1},null,null,null,null,null,null,0.42,{"$f":"NPV(AW138,'Cash flow'!$U$96:$U$125)+'Cash flow'!$U$95","v":0},{"$f":"NPV(AW138,'Cash flow'!$U$139:$U$168)+'Cash flow'!$U$138","v":{"$error":"#REF!"}}]
[null,1,{"$f":"HLOOKUP(CONCATENATE($I$135,C$136),INDIRECT(\"'\"&$E$135&\"'!B17:Z54\"),5,FALSE)*'Planting and management costs'!$G$72","v":{"$error":"#REF!"}},{"$f":"HLOOKUP(CONCATENATE($I$135,D$136),INDIRECT(\"'\"&$E$135&\"'!B17:Z54\"),5,FALSE)*'Planting and management costs'!$G$74","v":{"$error":"#REF!"}},{"$f":"HLOOKUP(CONCATENATE($I$135,E$136),INDIRECT(\"'\"&$E$135&\"'!B17:Z54\"),5,FALSE)*'Planting and management costs'!$G$75","v":{"$error":"#REF!"}},{"$f":"HLOOKUP(CONCATENATE($I$135,F$136),INDIRECT(\"'\"&$E$135&\"'!B17:Z54\"),5,FALSE)*'Planting and management costs'!$G$76","v":{"$error":"#REF!"}},null,{"$f":"HLOOKUP(CONCATENATE($I$135,H$136),INDIRECT(\"'\"&$E$135&\"'!B17:Z54\"),5,FALSE)*'Planting and management costs'!$G$85","v":{"$error":"#REF!"}},{"$f":"HLOOKUP(CONCATENATE($I$135,I$136),INDIRECT(\"'\"&$E$135&\"'!B17:Z54\"),5,FALSE)*'Planting and management costs'!$G$86","v":{"$error":"#REF!"}},{"$f":"HLOOKUP(CONCATENATE($I$135,J$136),INDIRECT(\"'\"&$E$135&\"'!B17:Z54\"),5,FALSE)*'Planting and management costs'!$G$88","v":{"$error":"#REF!"}},{"$f":"HLOOKUP(CONCATENATE($I$135,K$136),INDIRECT(\"'\"&$E$135&\"'!B17:Z54\"),5,FALSE)*'Planting and management costs'!$G$89","v":{"$error":"#REF!"}},{"$f":"HLOOKUP(CONCATENATE($I$135,L$136),INDIRECT(\"'\"&$E$135&\"'!B17:Z54\"),5,FALSE)*'Planting and management costs'!$G$91","v":{"$error":"#REF!"}},{"$f":"HLOOKUP(CONCATENATE($I$135,M$136),INDIRECT(\"'\"&$E$135&\"'!B17:Z54\"),5,FALSE)*'Planting and management costs'!$G$92","v":{"$error":"#REF!"}},{"$f":"HLOOKUP(CONCATENATE($I$135,N$136),INDIRECT(\"'\"&$E$135&\"'!B17:Z54\"),5,FALSE)*'Planting and management costs'!$G$94","v":{"$error":"#REF!"}},{"$f":"HLOOKUP(CONCATENATE($I$135,O$136),INDIRECT(\"'\"&$E$135&\"'!B17:Z54\"),5,FALSE)*'Planting and management costs'!$G$95","v":{"$error":"#REF!"}},null,{"$error":"#REF!"},0,{"$f":"IF('Cash flow'!B139='Growth characteristics'!$N$26,'Growth characteristics'!$N$29,0)","v":0},{"$f":"IF($R$137=\"USD/m3\",R139*S139,R139*S139*'Growth characteristics'!N33*0.001)","v":0},{"$error":"#REF!"},{"$error":"#REF!"},{"$error":"#REF!"},{"$error":"#REF!"},{"$error":"#REF!"},null,{"$error":"#REF!"},{"$error":"#REF!"},{"$error":"#REF!"},{"$error":"#REF!"},{"$error":"#REF!"},{"$error":"#REF!"},{"$error":"#REF!"},{"$error":"#REF!"},null,{"$error":"#REF!"},0,{"$error":"#REF!"},{"$error":"#REF!"},{"$f":"1+$S$48","v":1},1,{"$f":"AN139^AO139","v":1},null,null,null,null,null,null,0.43,{"$f":"NPV(AW139,'Cash flow'!$U$96:$U$125)+'Cash flow'!$U$95","v":0},{"$f":"NPV(AW139,'Cash flow'!$U$139:$U$168)+'Cash flow'!$U$138","v":{"$error":"#REF!"}}]
[null,2,{"$f":"HLOOKUP(CONCATENATE($I$135,C$136),INDIRECT(\"'\"&$E$135&\"'!B17:Z54\"),6,FALSE)*'Planting and management costs'!$G$72","v":{"$error":"#REF!"}},{"$f":"HLOOKUP(CONCATENATE($I$135,D$136),INDIRECT(\"'\"&$E$135&\"'!B17:Z54\"),6,FALSE)*'Planting and management costs'!$G$74","v":{"$error":"#REF!"}},{"$f":"HLOOKUP(CONCATENATE($I$135,E$136),INDIRECT(\"'\"&$E$135&\"'!B17:Z54\"),6,FALSE)*'Planting and management costs'!$G$75","v":{"$error":"#REF!"}},{"$f":"HLOOKUP(CONCATENATE($I$135,F$136),INDIRECT(\"'\"&$E$135&\"'!B17:Z54\"),6,FALSE)*'Planting and management costs'!$G$76","v":{"$error":"#REF!"}},null,{"$f":"HLOOKUP(CONCATENATE($I$135,H$136),INDIRECT(\"'\"&$E$135&\"'!B17:Z54\"),6,FALSE)*'Planting and management costs'!$G$85","v":{"$error":"#REF!"}},{"$f":"HLOOKUP(CONCATENATE($I$135,I$136),INDIRECT(\"'\"&$E$135&\"'!B17:Z54\"),6,FALSE)*'Planting and management costs'!$G$86","v":{"$error":"#REF!"}},{"$f":"HLOOKUP(CONCATENATE($I$135,J$136),INDIRECT(\"'\"&$E$135&\"'!B17:Z54\"),6,FALSE)*'Planting and management costs'!$G$88","v":{"$error":"#REF!"}},{"$f":"HLOOKUP(CONCATENATE($I$135,K$136),INDIRECT(\"'\"&$E$135&\"'!B17:Z54\"),6,FALSE)*'Planting and management costs'!$G$89","v":{"$error":"#REF!"}},{"$f":"HLOOKUP(CONCATENATE($I$135,L$136),INDIRECT(\"'\"&$E$135&\"'!B17:Z54\"),6,FALSE)*'Planting and management costs'!$G$91","v":{"$error":"#REF!"}},{"$f":"HLOOKUP(CONCATENATE($I$135,M$136),INDIRECT(\"'\"&$E$135&\"'!B17:Z54\"),6,FALSE)*'Planting and management costs'!$G$92","v":{"$error":"#REF!"}},{"$f":"HLOOKUP(CONCATENATE($I$135,N$136),INDIRECT(\"'\"&$E$135&\"'!B17:Z54\"),6,FALSE)*'Planting and management costs'!$G$94","v":{"$error":"#REF!"}},{"$f":"HLOOKUP(CONCATENATE($I$135,O$136),INDIRECT(\"'\"&$E$135&\"'!B17:Z54\"),6,FALSE)*'Planting and management costs'!$G$95","v":{"$error":"#REF!"}},null,{"$error":"#REF!"},0,{"$f":"IF('Cash flow'!B140='Growth characteristics'!$N$26,'Growth characteristics'!$N$29,0)","v":0},{"$f":"IF($R$137=\"USD/m3\",R140*S140,R140*S140*'Growth characteristics'!J36*0.001)","v":0},{"$error":"#REF!"},{"$error":"#REF!"},{"$error":"#REF!"},{"$error":"#REF!"},{"$error":"#REF!"},null,{"$error":"#REF!"},{"$error":"#REF!"},{"$error":"#REF!"},{"$error":"#REF!"},{"$error":"#REF!"},{"$error":"#REF!"},{"$error":"#REF!"},{"$error":"#REF!"},null,{"$error":"#REF!"},0,{"$error":"#REF!"},{"$error":"#REF!"},1,2,1,null,null,null,null,null,null,0.44,{"$f":"NPV(AW140,'Cash flow'!$U$96:$U$125)+'Cash flow'!$U$95","v":0},{"$f":"NPV(AW140,'Cash flow'!$U$139:$U$168)+'Cash flow'!$U$138","v":{"$error":"#REF!"}}]
[null,3,{"$f":"HLOOKUP(CONCATENATE($I$135,C$136),INDIRECT(\"'\"&$E$135&\"'!B17:Z54\"),7,FALSE)*'Planting and management costs'!$G$72","v":{"$error":"#REF!"}},{"$f":"HLOOKUP(CONCATENATE($I$135,D$136),INDIRECT(\"'\"&$E$135&\"'!B17:Z54\"),7,FALSE)*'Planting and management costs'!$G$74","v":{"$error":"#REF!"}},{"$f":"HLOOKUP(CONCATENATE($I$135,E$136),INDIRECT(\"'\"&$E$135&\"'!B17:Z54\"),7,FALSE)*'Planting and management costs'!$G$75","v":{"$error":"#REF!"}},{"$f":"HLOOKUP(CONCATENATE($I$135,F$136),INDIRECT(\"'\"&$E$135&\"'!B17:Z54\"),7,FALSE)*'Planting and management costs'!$G$76","v":{"$error":"#REF!"}},null,{"$f":"HLOOKUP(CONCATENATE($I$135,H$136),INDIRECT(\"'\"&$E$135&\"'!B17:Z54\"),7,FALSE)*'Planting and management costs'!$G$85","v":{"$error":"#REF!"}},{"$f":"HLOOKUP(CONCATENATE($I$135,I$136),INDIRECT(\"'\"&$E$135&\"'!B17:Z54\"),7,FALSE)*'Planting and management costs'!$G$86","v":{"$error":"#REF!"}},{"$f":"HLOOKUP(CONCATENATE($I$135,J$136),INDIRECT(\"'\"&$E$135&\"'!B17:Z54\"),7,FALSE)*'Planting and management costs'!$G$88","v":{"$error":"#REF!"}},{"$f":"HLOOKUP(CONCATENATE($I$135,K$136),INDIRECT(\"'\"&$E$135&\"'!B17:Z54\"),7,FALSE)*'Planting and management costs'!$G$89","v":{"$error":"#REF!"}},{"$f":"HLOOKUP(CONCATENATE($I$135,L$136),INDIRECT(\"'\"&$E$135&\"'!B17:Z54\"),7,FALSE)*'Planting and management costs'!$G$91","v":{"$error":"#REF!"}},{"$f":"HLOOKUP(CONCATENATE($I$135,M$136),INDIRECT(\"'\"&$E$135&\"'!B17:Z54\"),7,FALSE)*'Planting and management costs'!$G$92","v":{"$error":"#REF!"}},{"$f":"HLOOKUP(CONCATENATE($I$135,N$136),INDIRECT(\"'\"&$E$135&\"'!B17:Z54\"),7,FALSE)*'Planting and management costs'!$G$94","v":{"$error":"#REF!"}},{"$f":"HLOOKUP(CONCATENATE($I$135,O$136),INDIRECT(\"'\"&$E$135&\"'!B17:Z54\"),7,FALSE)*'Planting and management costs'!$G$95","v":{"$error":"#REF!"}},null,{"$error":"#REF!"},0,{"$f":"IF('Cash flow'!B141='Growth characteristics'!$N$26,'Growth characteristics'!$N$29,0)","v":0},{"$f":"IF($R$137=\"USD/m3\",R141*S141,R141*S141*'Growth characteristics'!N36*0.001)","v":0},{"$error":"#REF!"},{"$error":"#REF!"},{"$error":"#REF!"},{"$error":"#REF!"},{"$error":"#REF!"},null,{"$error":"#REF!"},{"$error":"#REF!"},{"$error":"#REF!"},{"$error":"#REF!"},{"$error":"#REF!"},{"$error":"#REF!"},{"$error":"#REF!"},{"$error":"#REF!"},null,{"$error":"#REF!"},0,{"$error":"#REF!"},{"$error":"#REF!"},1,3,1,null,null,null,null,null,null,0.45,{"$f":"NPV(AW141,'Cash flow'!$U$96:$U$125)+'Cash flow'!$U$95","v":0},{"$f":"NPV(AW141,'Cash flow'!$U$139:$U$168)+'Cash flow'!$U$138","v":{"$error":"#REF!"}}]
[null,4,{"$f":"HLOOKUP(CONCATENATE($I$135,C$136),INDIRECT(\"'\"&$E$135&\"'!B17:Z54\"),8,FALSE)*'Planting and management costs'!$G$72","v":{"$error":"#REF!"}},{"$f":"HLOOKUP(CONCATENATE($I$135,D$136),INDIRECT(\"'\"&$E$135&\"'!B17:Z54\"),8,FALSE)*'Planting and management costs'!$G$74","v":{"$error":"#REF!"}},{"$f":"HLOOKUP(CONCATENATE($I$135,E$136),INDIRECT(\"'\"&$E$135&\"'!B17:Z54\"),8,FALSE)*'Planting and management costs'!$G$75","v":{"$error":"#REF!"}},{"$f":"HLOOKUP(CONCATENATE($I$135,F$136),INDIRECT(\"'\"&$E$135&\"'!B17:Z54\"),8,FALSE)*'Planting and management costs'!$G$76","v":{"$error":"#REF!"}},null,{"$f":"HLOOKUP(CONCATENATE($I$135,H$136),INDIRECT(\"'\"&$E$135&\"'!B17:Z54\"),8,FALSE)*'Planting and management costs'!$G$85","v":{"$error":"#REF!"}},{"$f":"HLOOKUP(CONCATENATE($I$135,I$136),INDIRECT(\"'\"&$E$135&\"'!B17:Z54\"),8,FALSE)*'Planting and management costs'!$G$86","v":{"$error":"#REF!"}},{"$f":"HLOOKUP(CONCATENATE($I$135,J$136),INDIRECT(\"'\"&$E$135&\"'!B17:Z54\"),8,FALSE)*'Planting and management costs'!$G$88","v":{"$error":"#REF!"}},{"$f":"HLOOKUP(CONCATENATE($I$135,K$136),INDIRECT(\"'\"&$E$135&\"'!B17:Z54\"),8,FALSE)*'Planting and management costs'!$G$89","v":{"$error":"#REF!"}},{"$f":"HLOOKUP(CONCATENATE($I$135,L$136),INDIRECT(\"'\"&$E$135&\"'!B17:Z54\"),8,FALSE)*'Planting and management costs'!$G$91","v":{"$error":"#REF!"}},{"$f":"HLOOKUP(CONCATENATE($I$135,M$136),INDIRECT(\"'\"&$E$135&\"'!B17:Z54\"),8,FALSE)*'Planting and management costs'!$G$92","v":{"$error":"#REF!"}},{"$f":"HLOOKUP(CONCATENATE($I$135,N$136),INDIRECT(\"'\"&$E$135&\"'!B17:Z54\"),8,FALSE)*'Planting and management costs'!$G$94","v":{"$error":"#REF!"}},{"$f":"HLOOKUP(CONCATENATE($I$135,O$136),INDIRECT(\"'\"&$E$135&\"'!B17:Z54\"),8,FALSE)*'Planting and management costs'!$G$95","v":{"$error":"#REF!"}},null,{"$error":"#REF!"},0,{"$f":"IF('Cash flow'!B142='Growth characteristics'!$N$26,'Growth characteristics'!$N$29,0)","v":0},{"$f":"IF($R$137=\"USD/m3\",R142*S142,R142*S142*'Growth characteristics'!N37*0.001)","v":0},{"$error":"#REF!"},{"$error":"#REF!"},{"$error":"#REF!"},{"$error":"#REF!"},{"$error":"#REF!"},null,{"$error":"#REF!"},{"$error":"#REF!"},{"$error":"#REF!"},{"$error":"#REF!"},{"$error":"#REF!"},{"$error":"#REF!"},{"$error":"#REF!"},{"$error":"#REF!"},null,{"$error":"#REF!"},0,{"$error":"#REF!"},{"$error":"#REF!"},1,4,1,null,null,null,null,null,null,0.46,{"$f":"NPV(AW142,'Cash flow'!$U$96:$U$125)+'Cash flow'!$U$95","v":0},{"$f":"NPV(AW142,'Cash flow'!$U$139:$U$168)+'Cash flow'!$U$138","v":{"$error":"#REF!"}}]
[null,5,{"$f":"HLOOKUP(CONCATENATE($I$135,C$136),INDIRECT(\"'\"&$E$135&\"'!B17:Z54\"),9,FALSE)*'Planting and management costs'!$G$72","v":{"$error":"#REF!"}},{"$f":"HLOOKUP(CONCATENATE($I$135,D$136),INDIRECT(\"'\"&$E$135&\"'!B17:Z54\"),9,FALSE)*'Planting and management costs'!$G$74","v":{"$error":"#REF!"}},{"$f":"HLOOKUP(CONCATENATE($I$135,E$136),INDIRECT(\"'\"&$E$135&\"'!B17:Z54\"),9,FALSE)*'Planting and management costs'!$G$75","v":{"$error":"#REF!"}},{"$f":"HLOOKUP(CONCATENATE($I$135,F$136),INDIRECT(\"'\"&$E$135&\"'!B17:Z54\"),9,FALSE)*'Planting and management costs'!$G$76","v":{"$error":"#REF!"}},null,{"$f":"HLOOKUP(CONCATENATE($I$135,H$136),INDIRECT(\"'\"&$E$135&\"'!B17:Z54\"),9,FALSE)*'Planting and management costs'!$G$85","v":{"$error":"#REF!"}},{"$f":"HLOOKUP(CONCATENATE($I$135,I$136),INDIRECT(\"'\"&$E$135&\"'!B17:Z54\"),9,FALSE)*'Planting and management costs'!$G$86","v":{"$error":"#REF!"}},{"$f":"HLOOKUP(CONCATENATE($I$135,J$136),INDIRECT(\"'\"&$E$135&\"'!B17:Z54\"),9,FALSE)*'Planting and management costs'!$G$88","v":{"$error":"#REF!"}},{"$f":"HLOOKUP(CONCATENATE($I$135,K$136),INDIRECT(\"'\"&$E$135&\"'!B17:Z54\"),9,FALSE)*'Planting and management costs'!$G$89","v":{"$error":"#REF!"}},{"$f":"HLOOKUP(CONCATENATE($I$135,L$136),INDIRECT(\"'\"&$E$135&\"'!B17:Z54\"),9,FALSE)*'Planting and management costs'!$G$91","v":{"$error":"#REF!"}},{"$f":"HLOOKUP(CONCATENATE($I$135,M$136),INDIRECT(\"'\"&$E$135&\"'!B17:Z54\"),9,FALSE)*'Planting and management costs'!$G$92","v":{"$error":"#REF!"}},{"$f":"HLOOKUP(CONCATENATE($I$135,N$136),INDIRECT(\"'\"&$E$135&\"'!B17:Z54\"),9,FALSE)*'Planting and management costs'!$G$94","v":{"$error":"#REF!"}},{"$f":"HLOOKUP(CONCATENATE($I$135,O$136),INDIRECT(\"'\"&$E$135&\"'!B17:Z54\"),9,FALSE)*'Planting and management costs'!$G$95","v":{"$error":"#REF!"}},null,{"$error":"#REF!"},0,{"$f":"IF('Cash flow'!B143='Growth characteristics'!$N$26,'Growth characteristics'!$N$29,0)","v":0},{"$f":"IF($R$137=\"USD/m3\",R143*S143,R143*S143*'Growth characteristics'!N38*0.001)","v":0},{"$error":"#REF!"},{"$error":"#REF!"},{"$error":"#REF!"},{"$error":"#REF!"},{"$error":"#REF!"},null,{"$error":"#REF!"},{"$error":"#REF!"},{"$error":"#REF!"},{"$error":"#REF!"},{"$error":"#REF!"},{"$error":"#REF!"},{"$error":"#REF!"},{"$error":"#REF!"},null,{"$error":"#REF!"},0,{"$error":"#REF!"},{"$error":"#REF!"},1,5,1,null,null,null,null,null,null,0.47,{"$f":"NPV(AW143,'Cash flow'!$U$96:$U$125)+'Cash flow'!$U$95","v":0},{"$f":"NPV(AW143,'Cash flow'!$U$139:$U$168)+'Cash flow'!$U$138","v":{"$error":"#REF!"}}]
[null,6,{"$f":"HLOOKUP(CONCATENATE($I$135,C$136),INDIRECT(\"'\"&$E$135&\"'!B17:Z54\"),10,FALSE)*'Planting and management costs'!$G$72","v":{"$error":"#REF!"}},{"$f":"HLOOKUP(CONCATENATE($I$135,D$136),INDIRECT(\"'\"&$E$135&\"'!B17:Z54\"),10,FALSE)*'Planting and management costs'!$G$74","v":{"$error":"#REF!"}},{"$f":"HLOOKUP(CONCATENATE($I$135,E$136),INDIRECT(\"'\"&$E$135&\"'!B17:Z54\"),10,FALSE)*'Planting and management costs'!$G$75","v":{"$error":"#REF!"}},{"$f":"HLOOKUP(CONCATENATE($I$135,F$136),INDIRECT(\"'\"&$E$135&\"'!B17:Z54\"),10,FALSE)*'Planting and management costs'!$G$76","v":{"$error":"#REF!"}},null,{"$f":"HLOOKUP(CONCATENATE($I$135,H$136),INDIRECT(\"'\"&$E$135&\"'!B17:Z54\"),10,FALSE)*'Planting and management costs'!$G$85","v":{"$error":"#REF!"}},{"$f":"HLOOKUP(CONCATENATE($I$135,I$136),INDIRECT(\"'\"&$E$135&\"'!B17:Z54\"),10,FALSE)*'Planting and management costs'!$G$86","v":{"$error":"#REF!"}},{"$f":"HLOOKUP(CONCATENATE($I$135,J$136),INDIRECT(\"'\"&$E$135&\"'!B17:Z54\"),10,FALSE)*'Planting and management costs'!$G$88","v":{"$error":"#REF!"}},{"$f":"HLOOKUP(CONCATENATE($I$135,K$136),INDIRECT(\"'\"&$E$135&\"'!B17:Z54\"),10,FALSE)*'Planting and management costs'!$G$89","v":{"$error":"#REF!"}},{"$f":"HLOOKUP(CONCATENATE($I$135,L$136),INDIRECT(\"'\"&$E$135&\"'!B17:Z54\"),10,FALSE)*'Planting and management costs'!$G$91","v":{"$error":"#REF!"}},{"$f":"HLOOKUP(CONCATENATE($I$135,M$136),INDIRECT(\"'\"&$E$135&\"'!B17:Z54\"),10,FALSE)*'Planting and management costs'!$G$92","v":{"$error":"#REF!"}},{"$f":"HLOOKUP(CONCATENATE($I$135,N$136),INDIRECT(\"'\"&$E$135&\"'!B17:Z54\"),10,FALSE)*'Planting and management costs'!$G$94","v":{"$error":"#REF!"}},{"$f":"HLOOKUP(CONCATENATE($I$135,O$136),INDIRECT(\"'\"&$E$135&\"'!B17:Z54\"),10,FALSE)*'Planting and management costs'!$G$95","v":{"$error":"#REF!"}},null,{"$error":"#REF!"},0,{"$f":"IF('Cash flow'!B144='Growth characteristics'!$N$26,'Growth characteristics'!$N$29,0)","v":0},{"$f":"IF($R$137=\"USD/m3\",R144*S144,R144*S144*'Growth characteristics'!N39*0.001)","v":0},{"$error":"#REF!"},{"$error":"#REF!"},{"$error":"#REF!"},{"$error":"#REF!"},{"$error":"#REF!"},null,{"$error":"#REF!"},{"$error":"#REF!"},{"$error":"#REF!"},{"$error":"#REF!"},{"$error":"#REF!"},{"$error":"#REF!"},{"$error":"#REF!"},{"$error":"#REF!"},null,{"$error":"#REF!"},0,{"$error":"#REF!"},{"$error":"#REF!"},1,6,1,null,null,null,null,null,null,0.48,{"$f":"NPV(AW144,'Cash flow'!$U$96:$U$125)+'Cash flow'!$U$95","v":0},{"$f":"NPV(AW144,'Cash flow'!$U$139:$U$168)+'Cash flow'!$U$138","v":{"$error":"#REF!"}}]
[null,7,{"$f":"HLOOKUP(CONCATENATE($I$135,C$136),INDIRECT(\"'\"&$E$135&\"'!B17:Z54\"),11,FALSE)*'Planting and management costs'!$G$72","v":{"$error":"#REF!"}},{"$f":"HLOOKUP(CONCATENATE($I$135,D$136),INDIRECT(\"'\"&$E$135&\"'!B17:Z54\"),11,FALSE)*'Planting and management costs'!$G$74","v":{"$error":"#REF!"}},{"$f":"HLOOKUP(CONCATENATE($I$135,E$136),INDIRECT(\"'\"&$E$135&\"'!B17:Z54\"),11,FALSE)*'Planting and management costs'!$G$75","v":{"$error":"#REF!"}},{"$f":"HLOOKUP(CONCATENATE($I$135,F$136),INDIRECT(\"'\"&$E$135&\"'!B17:Z54\"),11,FALSE)*'Planting and management costs'!$G$76","v":{"$error":"#REF!"}},null,{"$f":"HLOOKUP(CONCATENATE($I$135,H$136),INDIRECT(\"'\"&$E$135&\"'!B17:Z54\"),11,FALSE)*'Planting and management costs'!$G$85","v":{"$error":"#REF!"}},{"$f":"HLOOKUP(CONCATENATE($I$135,I$136),INDIRECT(\"'\"&$E$135&\"'!B17:Z54\"),11,FALSE)*'Planting and management costs'!$G$86","v":{"$error":"#REF!"}},{"$f":"HLOOKUP(CONCATENATE($I$135,J$136),INDIRECT(\"'\"&$E$135&\"'!B17:Z54\"),11,FALSE)*'Planting and management costs'!$G$88","v":{"$error":"#REF!"}},{"$f":"HLOOKUP(CONCATENATE($I$135,K$136),INDIRECT(\"'\"&$E$135&\"'!B17:Z54\"),11,FALSE)*'Planting and management costs'!$G$89","v":{"$error":"#REF!"}},{"$f":"HLOOKUP(CONCATENATE($I$135,L$136),INDIRECT(\"'\"&$E$135&\"'!B17:Z54\"),11,FALSE)*'Planting and management costs'!$G$91","v":{"$error":"#REF!"}},{"$f":"HLOOKUP(CONCATENATE($I$135,M$136),INDIRECT(\"'\"&$E$135&\"'!B17:Z54\"),11,FALSE)*'Planting and management costs'!$G$92","v":{"$error":"#REF!"}},{"$f":"HLOOKUP(CONCATENATE($I$135,N$136),INDIRECT(\"'\"&$E$135&\"'!B17:Z54\"),11,FALSE)*'Planting and management costs'!$G$94","v":{"$error":"#REF!"}},{"$f":"HLOOKUP(CONCATENATE($I$135,O$136),INDIRECT(\"'\"&$E$135&\"'!B17:Z54\"),11,FALSE)*'Planting and management costs'!$G$95","v":{"$error":"#REF!"}},null,{"$error":"#REF!"},0,{"$f":"IF('Cash flow'!B145='Growth characteristics'!$N$26,'Growth characteristics'!$N$29,0)","v":0},{"$f":"IF($R$137=\"USD/m3\",R145*S145,R145*S145*'Growth characteristics'!N40*0.001)","v":0},{"$error":"#REF!"},{"$error":"#REF!"},{"$error":"#REF!"},{"$error":"#REF!"},{"$error":"#REF!"},null,{"$error":"#REF!"},{"$error":"#REF!"},{"$error":"#REF!"},{"$error":"#REF!"},{"$error":"#REF!"},{"$error":"#REF!"},{"$error":"#REF!"},{"$error":"#REF!"},null,{"$error":"#REF!"},0,{"$error":"#REF!"},{"$error":"#REF!"},1,7,1,null,null,null,null,null,null,0.49,{"$f":"NPV(AW145,'Cash flow'!$U$96:$U$125)+'Cash flow'!$U$95","v":0},{"$f":"NPV(AW145,'Cash flow'!$U$139:$U$168)+'Cash flow'!$U$138","v":{"$error":"#REF!"}}]
[null,8,{"$f":"HLOOKUP(CONCATENATE($I$135,C$136),INDIRECT(\"'\"&$E$135&\"'!B17:Z54\"),12,FALSE)*'Planting and management costs'!$G$72","v":{"$error":"#REF!"}},{"$f":"HLOOKUP(CONCATENATE($I$135,D$136),INDIRECT(\"'\"&$E$135&\"'!B17:Z54\"),12,FALSE)*'Planting and management costs'!$G$74","v":{"$error":"#REF!"}},{"$f":"HLOOKUP(CONCATENATE($I$135,E$136),INDIRECT(\"'\"&$E$135&\"'!B17:Z54\"),12,FALSE)*'Planting and management costs'!$G$75","v":{"$error":"#REF!"}},{"$f":"HLOOKUP(CONCATENATE($I$135,F$136),INDIRECT(\"'\"&$E$135&\"'!B17:Z54\"),12,FALSE)*'Planting and management costs'!$G$76","v":{"$error":"#REF!"}},null,{"$f":"HLOOKUP(CONCATENATE($I$135,H$136),INDIRECT(\"'\"&$E$135&\"'!B17:Z54\"),12,FALSE)*'Planting and management costs'!$G$85","v":{"$error":"#REF!"}},{"$f":"HLOOKUP(CONCATENATE($I$135,I$136),INDIRECT(\"'\"&$E$135&\"'!B17:Z54\"),12,FALSE)*'Planting and management costs'!$G$86","v":{"$error":"#REF!"}},{"$f":"HLOOKUP(CONCATENATE($I$135,J$136),INDIRECT(\"'\"&$E$135&\"'!B17:Z54\"),12,FALSE)*'Planting and management costs'!$G$88","v":{"$error":"#REF!"}},{"$f":"HLOOKUP(CONCATENATE($I$135,K$136),INDIRECT(\"'\"&$E$135&\"'!B17:Z54\"),12,FALSE)*'Planting and management costs'!$G$89","v":{"$error":"#REF!"}},{"$f":"HLOOKUP(CONCATENATE($I$135,L$136),INDIRECT(\"'\"&$E$135&\"'!B17:Z54\"),12,FALSE)*'Planting and management costs'!$G$91","v":{"$error":"#REF!"}},{"$f":"HLOOKUP(CONCATENATE($I$135,M$136),INDIRECT(\"'\"&$E$135&\"'!B17:Z54\"),12,FALSE)*'Planting and management costs'!$G$92","v":{"$error":"#REF!"}},{"$f":"HLOOKUP(CONCATENATE($I$135,N$136),INDIRECT(\"'\"&$E$135&\"'!B17:Z54\"),12,FALSE)*'Planting and management costs'!$G$94","v":{"$error":"#REF!"}},{"$f":"HLOOKUP(CONCATENATE($I$135,O$136),INDIRECT(\"'\"&$E$135&\"'!B17:Z54\"),12,FALSE)*'Planting and management costs'!$G$95","v":{"$error":"#REF!"}},null,{"$error":"#REF!"},0,{"$f":"IF('Cash flow'!B146='Growth characteristics'!$N$26,'Growth characteristics'!$N$29,0)","v":0},{"$f":"IF($R$137=\"USD/m3\",R146*S146,R146*S146*'Growth characteristics'!N41*0.001)","v":0},{"$error":"#REF!"},{"$error":"#REF!"},{"$error":"#REF!"},{"$error":"#REF!"},{"$error":"#REF!"},null,{"$error":"#REF!"},{"$error":"#REF!"},{"$error":"#REF!"},{"$error":"#REF!"},{"$error":"#REF!"},{"$error":"#REF!"},{"$error":"#REF!"},{"$error":"#REF!"},null,{"$error":"#REF!"},0,{"$error":"#REF!"},{"$error":"#REF!"},1,8,1,null,null,null,null,null,null,0.5,{"$f":"NPV(AW146,'Cash flow'!$U$96:$U$125)+'Cash flow'!$U$95","v":0},{"$f":"NPV(AW146,'Cash flow'!$U$139:$U$168)+'Cash flow'!$U$138","v":{"$error":"#REF!"}}]
[null,9,{"$f":"HLOOKUP(CONCATENATE($I$135,C$136),INDIRECT(\"'\"&$E$135&\"'!B17:Z54\"),13,FALSE)*'Planting and management costs'!$G$72","v":{"$error":"#REF!"}},{"$f":"HLOOKUP(CONCATENATE($I$135,D$136),INDIRECT(\"'\"&$E$135&\"'!B17:Z54\"),13,FALSE)*'Planting and management costs'!$G$74","v":{"$error":"#REF!"}},{"$f":"HLOOKUP(CONCATENATE($I$135,E$136),INDIRECT(\"'\"&$E$135&\"'!B17:Z54\"),13,FALSE)*'Planting and management costs'!$G$75","v":{"$error":"#REF!"}},{"$f":"HLOOKUP(CONCATENATE($I$135,F$136),INDIRECT(\"'\"&$E$135&\"'!B17:Z54\"),13,FALSE)*'Planting and management costs'!$G$76","v":{"$error":"#REF!"}},null,{"$f":"HLOOKUP(CONCATENATE($I$135,H$136),INDIRECT(\"'\"&$E$135&\"'!B17:Z54\"),13,FALSE)*'Planting and management costs'!$G$85","v":{"$error":"#REF!"}},{"$f":"HLOOKUP(CONCATENATE($I$135,I$136),INDIRECT(\"'\"&$E$135&\"'!B17:Z54\"),13,FALSE)*'Planting and management costs'!$G$86","v":{"$error":"#REF!"}},{"$f":"HLOOKUP(CONCATENATE($I$135,J$136),INDIRECT(\"'\"&$E$135&\"'!B17:Z54\"),13,FALSE)*'Planting and management costs'!$G$88","v":{"$error":"#REF!"}},{"$f":"HLOOKUP(CONCATENATE($I$135,K$136),INDIRECT(\"'\"&$E$135&\"'!B17:Z54\"),13,FALSE)*'Planting and management costs'!$G$89","v":{"$error":"#REF!"}},{"$f":"HLOOKUP(CONCATENATE($I$135,L$136),INDIRECT(\"'\"&$E$135&\"'!B17:Z54\"),13,FALSE)*'Planting and management costs'!$G$91","v":{"$error":"#REF!"}},{"$f":"HLOOKUP(CONCATENATE($I$135,M$136),INDIRECT(\"'\"&$E$135&\"'!B17:Z54\"),13,FALSE)*'Planting and management costs'!$G$92","v":{"$error":"#REF!"}},{"$f":"HLOOKUP(CONCATENATE($I$135,N$136),INDIRECT(\"'\"&$E$135&\"'!B17:Z54\"),13,FALSE)*'Planting and management costs'!$G$94","v":{"$error":"#REF!"}},{"$f":"HLOOKUP(CONCATENATE($I$135,O$136),INDIRECT(\"'\"&$E$135&\"'!B17:Z54\"),13,FALSE)*'Planting and management costs'!$G$95","v":{"$error":"#REF!"}},null,{"$error":"#REF!"},0,{"$f":"IF('Cash flow'!B147='Growth characteristics'!$N$26,'Growth characteristics'!$N$29,0)","v":0},{"$f":"IF($R$137=\"USD/m3\",R147*S147,R147*S147*'Growth characteristics'!N42*0.001)","v":0},{"$error":"#REF!"},{"$error":"#REF!"},{"$error":"#REF!"},{"$error":"#REF!"},{"$error":"#REF!"},null,{"$error":"#REF!"},{"$error":"#REF!"},{"$error":"#REF!"},{"$error":"#REF!"},{"$error":"#REF!"},{"$error":"#REF!"},{"$error":"#REF!"},{"$error":"#REF!"},null,{"$error":"#REF!"},0,{"$error":"#REF!"},{"$error":"#REF!"},1,9,1]
[null,10,{"$f":"HLOOKUP(CONCATENATE($I$135,C$136),INDIRECT(\"'\"&$E$135&\"'!B17:Z54\"),14,FALSE)*'Planting and management costs'!$G$72","v":{"$error":"#REF!"}},{"$f":"HLOOKUP(CONCATENATE($I$135,D$136),INDIRECT(\"'\"&$E$135&\"'!B17:Z54\"),14,FALSE)*'Planting and management costs'!$G$74","v":{"$error":"#REF!"}},{"$f":"HLOOKUP(CONCATENATE($I$135,E$136),INDIRECT(\"'\"&$E$135&\"'!B17:Z54\"),14,FALSE)*'Planting and management costs'!$G$75","v":{"$error":"#REF!"}},{"$f":"HLOOKUP(CONCATENATE($I$135,F$136),INDIRECT(\"'\"&$E$135&\"'!B17:Z54\"),14,FALSE)*'Planting and management costs'!$G$76","v":{"$error":"#REF!"}},null,{"$f":"HLOOKUP(CONCATENATE($I$135,H$136),INDIRECT(\"'\"&$E$135&\"'!B17:Z54\"),14,FALSE)*'Planting and management costs'!$G$85","v":{"$error":"#REF!"}},{"$f":"HLOOKUP(CONCATENATE($I$135,I$136),INDIRECT(\"'\"&$E$135&\"'!B17:Z54\"),14,FALSE)*'Planting and management costs'!$G$86","v":{"$error":"#REF!"}},{"$f":"HLOOKUP(CONCATENATE($I$135,J$136),INDIRECT(\"'\"&$E$135&\"'!B17:Z54\"),14,FALSE)*'Planting and management costs'!$G$88","v":{"$error":"#REF!"}},{"$f":"HLOOKUP(CONCATENATE($I$135,K$136),INDIRECT(\"'\"&$E$135&\"'!B17:Z54\"),14,FALSE)*'Planting and management costs'!$G$89","v":{"$error":"#REF!"}},{"$f":"HLOOKUP(CONCATENATE($I$135,L$136),INDIRECT(\"'\"&$E$135&\"'!B17:Z54\"),14,FALSE)*'Planting and management costs'!$G$91","v":{"$error":"#REF!"}},{"$f":"HLOOKUP(CONCATENATE($I$135,M$136),INDIRECT(\"'\"&$E$135&\"'!B17:Z54\"),14,FALSE)*'Planting and management costs'!$G$92","v":{"$error":"#REF!"}},{"$f":"HLOOKUP(CONCATENATE($I$135,N$136),INDIRECT(\"'\"&$E$135&\"'!B17:Z54\"),14,FALSE)*'Planting and management costs'!$G$94","v":{"$error":"#REF!"}},{"$f":"HLOOKUP(CONCATENATE($I$135,O$136),INDIRECT(\"'\"&$E$135&\"'!B17:Z54\"),14,FALSE)*'Planting and management costs'!$G$95","v":{"$error":"#REF!"}},null,{"$error":"#REF!"},0,{"$f":"IF('Cash flow'!B148='Growth characteristics'!$N$26,'Growth characteristics'!$N$29,0)","v":0},{"$f":"IF($R$137=\"USD/m3\",R148*S148,R148*S148*'Growth characteristics'!N43*0.001)","v":0},{"$error":"#REF!"},{"$error":"#REF!"},{"$error":"#REF!"},{"$error":"#REF!"},{"$error":"#REF!"},null,{"$error":"#REF!"},{"$error":"#REF!"},{"$error":"#REF!"},{"$error":"#REF!"},{"$error":"#REF!"},{"$error":"#REF!"},{"$error":"#REF!"},{"$error":"#REF!"},null,{"$error":"#REF!"},0,{"$error":"#REF!"},{"$error":"#REF!"},1,10,1]
[null,11,{"$f":"HLOOKUP(CONCATENATE($I$135,C$136),INDIRECT(\"'\"&$E$135&\"'!B17:Z54\"),15,FALSE)*'Planting and management costs'!$G$72","v":{"$error":"#REF!"}},{"$f":"HLOOKUP(CONCATENATE($I$135,D$136),INDIRECT(\"'\"&$E$135&\"'!B17:Z54\"),15,FALSE)*'Planting and management costs'!$G$74","v":{"$error":"#REF!"}},{"$f":"HLOOKUP(CONCATENATE($I$135,E$136),INDIRECT(\"'\"&$E$135&\"'!B17:Z54\"),15,FALSE)*'Planting and management costs'!$G$75","v":{"$error":"#REF!"}},{"$f":"HLOOKUP(CONCATENATE($I$135,F$136),INDIRECT(\"'\"&$E$135&\"'!B17:Z54\"),15,FALSE)*'Planting and management costs'!$G$76","v":{"$error":"#REF!"}},null,{"$f":"HLOOKUP(CONCATENATE($I$135,H$136),INDIRECT(\"'\"&$E$135&\"'!B17:Z54\"),15,FALSE)*'Planting and management costs'!$G$85","v":{"$error":"#REF!"}},{"$f":"HLOOKUP(CONCATENATE($I$135,I$136),INDIRECT(\"'\"&$E$135&\"'!B17:Z54\"),15,FALSE)*'Planting and management costs'!$G$86","v":{"$error":"#REF!"}},{"$f":"HLOOKUP(CONCATENATE($I$135,J$136),INDIRECT(\"'\"&$E$135&\"'!B17:Z54\"),15,FALSE)*'Planting and management costs'!$G$88","v":{"$error":"#REF!"}},{"$f":"HLOOKUP(CONCATENATE($I$135,K$136),INDIRECT(\"'\"&$E$135&\"'!B17:Z54\"),15,FALSE)*'Planting and management costs'!$G$89","v":{"$error":"#REF!"}},{"$f":"HLOOKUP(CONCATENATE($I$135,L$136),INDIRECT(\"'\"&$E$135&\"'!B17:Z54\"),15,FALSE)*'Planting and management costs'!$G$91","v":{"$error":"#REF!"}},{"$f":"HLOOKUP(CONCATENATE($I$135,M$136),INDIRECT(\"'\"&$E$135&\"'!B17:Z54\"),15,FALSE)*'Planting and management costs'!$G$92","v":{"$error":"#REF!"}},{"$f":"HLOOKUP(CONCATENATE($I$135,N$136),INDIRECT(\"'\"&$E$135&\"'!B17:Z54\"),15,FALSE)*'Planting and management costs'!$G$94","v":{"$error":"#REF!"}},{"$f":"HLOOKUP(CONCATENATE($I$135,O$136),INDIRECT(\"'\"&$E$135&\"'!B17:Z54\"),15,FALSE)*'Planting and management costs'!$G$95","v":{"$error":"#REF!"}},null,{"$error":"#REF!"},0,{"$f":"IF('Cash flow'!B149='Growth characteristics'!$N$26,'Growth characteristics'!$N$29,0)","v":0},{"$f":"IF($R$137=\"USD/m3\",R149*S149,R149*S149*'Growth characteristics'!#REF!*0.001)","v":0},{"$error":"#REF!"},{"$error":"#REF!"},{"$error":"#REF!"},{"$error":"#REF!"},{"$error":"#REF!"},null,{"$error":"#REF!"},{"$error":"#REF!"},{"$error":"#REF!"},{"$error":"#REF!"},{"$error":"#REF!"},{"$error":"#REF!"},{"$error":"#REF!"},{"$error":"#REF!"},null,{"$error":"#REF!"},0,{"$error":"#REF!"},{"$error":"#REF!"},1,11,1]
[null,12,{"$f":"HLOOKUP(CONCATENATE($I$135,C$136),INDIRECT(\"'\"&$E$135&\"'!B17:Z54\"),16,FALSE)*'Planting and management costs'!$G$72","v":{"$error":"#REF!"}},{"$f":"HLOOKUP(CONCATENATE($I$135,D$136),INDIRECT(\"'\"&$E$135&\"'!B17:Z54\"),16,FALSE)*'Planting and management costs'!$G$74","v":{"$error":"#REF!"}},{"$f":"HLOOKUP(CONCATENATE($I$135,E$136),INDIRECT(\"'\"&$E$135&\"'!B17:Z54\"),16,FALSE)*'Planting and management costs'!$G$75","v":{"$error":"#REF!"}},{"$f":"HLOOKUP(CONCATENATE($I$135,F$136),INDIRECT(\"'\"&$E$135&\"'!B17:Z54\"),16,FALSE)*'Planting and management costs'!$G$76","v":{"$error":"#REF!"}},null,{"$f":"HLOOKUP(CONCATENATE($I$135,H$136),INDIRECT(\"'\"&$E$135&\"'!B17:Z54\"),16,FALSE)*'Planting and management costs'!$G$85","v":{"$error":"#REF!"}},{"$f":"HLOOKUP(CONCATENATE($I$135,I$136),INDIRECT(\"'\"&$E$135&\"'!B17:Z54\"),16,FALSE)*'Planting and management costs'!$G$86","v":{"$error":"#REF!"}},{"$f":"HLOOKUP(CONCATENATE($I$135,J$136),INDIRECT(\"'\"&$E$135&\"'!B17:Z54\"),16,FALSE)*'Planting and management costs'!$G$88","v":{"$error":"#REF!"}},{"$f":"HLOOKUP(CONCATENATE($I$135,K$136),INDIRECT(\"'\"&$E$135&\"'!B17:Z54\"),16,FALSE)*'Planting and management costs'!$G$89","v":{"$error":"#REF!"}},{"$f":"HLOOKUP(CONCATENATE($I$135,L$136),INDIRECT(\"'\"&$E$135&\"'!B17:Z54\"),16,FALSE)*'Planting and management costs'!$G$91","v":{"$error":"#REF!"}},{"$f":"HLOOKUP(CONCATENATE($I$135,M$136),INDIRECT(\"'\"&$E$135&\"'!B17:Z54\"),16,FALSE)*'Planting and management costs'!$G$92","v":{"$error":"#REF!"}},{"$f":"HLOOKUP(CONCATENATE($I$135,N$136),INDIRECT(\"'\"&$E$135&\"'!B17:Z54\"),16,FALSE)*'Planting and management costs'!$G$94","v":{"$error":"#REF!"}},{"$f":"HLOOKUP(CONCATENATE($I$135,O$136),INDIRECT(\"'\"&$E$135&\"'!B17:Z54\"),16,FALSE)*'Planting and management costs'!$G$95","v":{"$error":"#REF!"}},null,{"$error":"#REF!"},0,{"$f":"IF('Cash flow'!B150='Growth characteristics'!$N$26,'Growth characteristics'!$N$29,0)","v":0},{"$f":"IF($R$137=\"USD/m3\",R150*S150,R150*S150*'Growth characteristics'!#REF!*0.001)","v":0},{"$error":"#REF!"},{"$error":"#REF!"},{"$error":"#REF!"},{"$error":"#REF!"},{"$error":"#REF!"},null,{"$error":"#REF!"},{"$error":"#REF!"},{"$error":"#REF!"},{"$error":"#REF!"},{"$error":"#REF!"},{"$error":"#REF!"},{"$error":"#REF!"},{"$error":"#REF!"},null,{"$error":"#REF!"},0,{"$error":"#REF!"},{"$error":"#REF!"},1,12,1]
[null,13,{"$f":"HLOOKUP(CONCATENATE($I$135,C$136),INDIRECT(\"'\"&$E$135&\"'!B17:Z54\"),17,FALSE)*'Planting and management costs'!$G$72","v":{"$error":"#REF!"}},{"$f":"HLOOKUP(CONCATENATE($I$135,D$136),INDIRECT(\"'\"&$E$135&\"'!B17:Z54\"),17,FALSE)*'Planting and management costs'!$G$74","v":{"$error":"#REF!"}},{"$f":"HLOOKUP(CONCATENATE($I$135,E$136),INDIRECT(\"'\"&$E$135&\"'!B17:Z54\"),17,FALSE)*'Planting and management costs'!$G$75","v":{"$error":"#REF!"}},{"$f":"HLOOKUP(CONCATENATE($I$135,F$136),INDIRECT(\"'\"&$E$135&\"'!B17:Z54\"),17,FALSE)*'Planting and management costs'!$G$76","v":{"$error":"#REF!"}},null,{"$f":"HLOOKUP(CONCATENATE($I$135,H$136),INDIRECT(\"'\"&$E$135&\"'!B17:Z54\"),17,FALSE)*'Planting and management costs'!$G$85","v":{"$error":"#REF!"}},{"$f":"HLOOKUP(CONCATENATE($I$135,I$136),INDIRECT(\"'\"&$E$135&\"'!B17:Z54\"),17,FALSE)*'Planting and management costs'!$G$86","v":{"$error":"#REF!"}},{"$f":"HLOOKUP(CONCATENATE($I$135,J$136),INDIRECT(\"'\"&$E$135&\"'!B17:Z54\"),17,FALSE)*'Planting and management costs'!$G$88","v":{"$error":"#REF!"}},{"$f":"HLOOKUP(CONCATENATE($I$135,K$136),INDIRECT(\"'\"&$E$135&\"'!B17:Z54\"),17,FALSE)*'Planting and management costs'!$G$89","v":{"$error":"#REF!"}},{"$f":"HLOOKUP(CONCATENATE($I$135,L$136),INDIRECT(\"'\"&$E$135&\"'!B17:Z54\"),17,FALSE)*'Planting and management costs'!$G$91","v":{"$error":"#REF!"}},{"$f":"HLOOKUP(CONCATENATE($I$135,M$136),INDIRECT(\"'\"&$E$135&\"'!B17:Z54\"),17,FALSE)*'Planting and management costs'!$G$92","v":{"$error":"#REF!"}},{"$f":"HLOOKUP(CONCATENATE($I$135,N$136),INDIRECT(\"'\"&$E$135&\"'!B17:Z54\"),17,FALSE)*'Planting and management costs'!$G$94","v":{"$error":"#REF!"}},{"$f":"HLOOKUP(CONCATENATE($I$135,O$136),INDIRECT(\"'\"&$E$135&\"'!B17:Z54\"),17,FALSE)*'Planting and management costs'!$G$95","v":{"$error":"#REF!"}},null,{"$error":"#REF!"},0,{"$f":"IF('Cash flow'!B151='Growth characteristics'!$N$26,'Growth characteristics'!$N$29,0)","v":0},{"$f":"IF($R$137=\"USD/m3\",R151*S151,R151*S151*'Growth characteristics'!#REF!*0.001)","v":0},{"$error":"#REF!"},{"$error":"#REF!"},{"$error":"#REF!"},{"$error":"#REF!"},{"$error":"#REF!"},null,{"$error":"#REF!"},{"$error":"#REF!"},{"$error":"#REF!"},{"$error":"#REF!"},{"$error":"#REF!"},{"$error":"#REF!"},{"$error":"#REF!"},{"$error":"#REF!"},null,{"$error":"#REF!"},0,{"$error":"#REF!"},{"$error":"#REF!"},1,13,1]
[null,14,{"$f":"HLOOKUP(CONCATENATE($I$135,C$136),INDIRECT(\"'\"&$E$135&\"'!B17:Z54\"),18,FALSE)*'Planting and management costs'!$G$72","v":{"$error":"#REF!"}},{"$f":"HLOOKUP(CONCATENATE($I$135,D$136),INDIRECT(\"'\"&$E$135&\"'!B17:Z54\"),18,FALSE)*'Planting and management costs'!$G$74","v":{"$error":"#REF!"}},{"$f":"HLOOKUP(CONCATENATE($I$135,E$136),INDIRECT(\"'\"&$E$135&\"'!B17:Z54\"),18,FALSE)*'Planting and management costs'!$G$75","v":{"$error":"#REF!"}},{"$f":"HLOOKUP(CONCATENATE($I$135,F$136),INDIRECT(\"'\"&$E$135&\"'!B17:Z54\"),18,FALSE)*'Planting and management costs'!$G$76","v":{"$error":"#REF!"}},null,{"$f":"HLOOKUP(CONCATENATE($I$135,H$136),INDIRECT(\"'\"&$E$135&\"'!B17:Z54\"),18,FALSE)*'Planting and management costs'!$G$85","v":{"$error":"#REF!"}},{"$f":"HLOOKUP(CONCATENATE($I$135,I$136),INDIRECT(\"'\"&$E$135&\"'!B17:Z54\"),18,FALSE)*'Planting and management costs'!$G$86","v":{"$error":"#REF!"}},{"$f":"HLOOKUP(CONCATENATE($I$135,J$136),INDIRECT(\"'\"&$E$135&\"'!B17:Z54\"),18,FALSE)*'Planting and management costs'!$G$88","v":{"$error":"#REF!"}},{"$f":"HLOOKUP(CONCATENATE($I$135,K$136),INDIRECT(\"'\"&$E$135&\"'!B17:Z54\"),18,FALSE)*'Planting and management costs'!$G$89","v":{"$error":"#REF!"}},{"$f":"HLOOKUP(CONCATENATE($I$135,L$136),INDIRECT(\"'\"&$E$135&\"'!B17:Z54\"),18,FALSE)*'Planting and management costs'!$G$91","v":{"$error":"#REF!"}},{"$f":"HLOOKUP(CONCATENATE($I$135,M$136),INDIRECT(\"'\"&$E$135&\"'!B17:Z54\"),18,FALSE)*'Planting and management costs'!$G$92","v":{"$error":"#REF!"}},{"$f":"HLOOKUP(CONCATENATE($I$135,N$136),INDIRECT(\"'\"&$E$135&\"'!B17:Z54\"),18,FALSE)*'Planting and management costs'!$G$94","v":{"$error":"#REF!"}},{"$f":"HLOOKUP(CONCATENATE($I$135,O$136),INDIRECT(\"'\"&$E$135&\"'!B17:Z54\"),18,FALSE)*'Planting and management costs'!$G$95","v":{"$error":"#REF!"}},null,{"$error":"#REF!"},0,{"$f":"IF('Cash flow'!B152='Growth characteristics'!$N$26,'Growth characteristics'!$N$29,0)","v":0},{"$f":"IF($R$137=\"USD/m3\",R152*S152,R152*S152*'Growth characteristics'!#REF!*0.001)","v":0},{"$error":"#REF!"},{"$error":"#REF!"},{"$error":"#REF!"},{"$error":"#REF!"},{"$error":"#REF!"},null,{"$error":"#REF!"},{"$error":"#REF!"},{"$error":"#REF!"},{"$error":"#REF!"},{"$error":"#REF!"},{"$error":"#REF!"},{"$error":"#REF!"},{"$error":"#REF!"},null,{"$error":"#REF!"},0,{"$error":"#REF!"},{"$error":"#REF!"},1,14,1]
[null,15,{"$f":"HLOOKUP(CONCATENATE($I$135,C$136),INDIRECT(\"'\"&$E$135&\"'!B17:Z54\"),19,FALSE)*'Planting and management costs'!$G$72","v":{"$error":"#REF!"}},{"$f":"HLOOKUP(CONCATENATE($I$135,D$136),INDIRECT(\"'\"&$E$135&\"'!B17:Z54\"),19,FALSE)*'Planting and management costs'!$G$74","v":{"$error":"#REF!"}},{"$f":"HLOOKUP(CONCATENATE($I$135,E$136),INDIRECT(\"'\"&$E$135&\"'!B17:Z54\"),19,FALSE)*'Planting and management costs'!$G$75","v":{"$error":"#REF!"}},{"$f":"HLOOKUP(CONCATENATE($I$135,F$136),INDIRECT(\"'\"&$E$135&\"'!B17:Z54\"),19,FALSE)*'Planting and management costs'!$G$76","v":{"$error":"#REF!"}},null,{"$f":"HLOOKUP(CONCATENATE($I$135,H$136),INDIRECT(\"'\"&$E$135&\"'!B17:Z54\"),19,FALSE)*'Planting and management costs'!$G$85","v":{"$error":"#REF!"}},{"$f":"HLOOKUP(CONCATENATE($I$135,I$136),INDIRECT(\"'\"&$E$135&\"'!B17:Z54\"),19,FALSE)*'Planting and management costs'!$G$86","v":{"$error":"#REF!"}},{"$f":"HLOOKUP(CONCATENATE($I$135,J$136),INDIRECT(\"'\"&$E$135&\"'!B17:Z54\"),19,FALSE)*'Planting and management costs'!$G$88","v":{"$error":"#REF!"}},{"$f":"HLOOKUP(CONCATENATE($I$135,K$136),INDIRECT(\"'\"&$E$135&\"'!B17:Z54\"),19,FALSE)*'Planting and management costs'!$G$89","v":{"$error":"#REF!"}},{"$f":"HLOOKUP(CONCATENATE($I$135,L$136),INDIRECT(\"'\"&$E$135&\"'!B17:Z54\"),19,FALSE)*'Planting and management costs'!$G$91","v":{"$error":"#REF!"}},{"$f":"HLOOKUP(CONCATENATE($I$135,M$136),INDIRECT(\"'\"&$E$135&\"'!B17:Z54\"),19,FALSE)*'Planting and management costs'!$G$92","v":{"$error":"#REF!"}},{"$f":"HLOOKUP(CONCATENATE($I$135,N$136),INDIRECT(\"'\"&$E$135&\"'!B17:Z54\"),19,FALSE)*'Planting and management costs'!$G$94","v":{"$error":"#REF!"}},{"$f":"HLOOKUP(CONCATENATE($I$135,O$136),INDIRECT(\"'\"&$E$135&\"'!B17:Z54\"),19,FALSE)*'Planting and management costs'!$G$95","v":{"$error":"#REF!"}},null,{"$error":"#REF!"},0,{"$f":"IF('Cash flow'!B153='Growth characteristics'!$N$26,'Growth characteristics'!$N$29,0)","v":0},{"$f":"IF($R$137=\"USD/m3\",R153*S153,R153*S153*'Growth characteristics'!#REF!*0.001)","v":0},{"$error":"#REF!"},{"$error":"#REF!"},{"$error":"#REF!"},{"$error":"#REF!"},{"$error":"#REF!"},null,{"$error":"#REF!"},{"$error":"#REF!"},{"$error":"#REF!"},{"$error":"#REF!"},{"$error":"#REF!"},{"$error":"#REF!"},{"$error":"#REF!"},{"$error":"#REF!"},null,{"$error":"#REF!"},0,{"$error":"#REF!"},{"$error":"#REF!"},1,15,1]
[null,16,{"$f":"HLOOKUP(CONCATENATE($I$135,C$136),INDIRECT(\"'\"&$E$135&\"'!B17:Z54\"),20,FALSE)*'Planting and management costs'!$G$72","v":{"$error":"#REF!"}},{"$f":"HLOOKUP(CONCATENATE($I$135,D$136),INDIRECT(\"'\"&$E$135&\"'!B17:Z54\"),20,FALSE)*'Planting and management costs'!$G$74","v":{"$error":"#REF!"}},{"$f":"HLOOKUP(CONCATENATE($I$135,E$136),INDIRECT(\"'\"&$E$135&\"'!B17:Z54\"),20,FALSE)*'Planting and management costs'!$G$75","v":{"$error":"#REF!"}},{"$f":"HLOOKUP(CONCATENATE($I$135,F$136),INDIRECT(\"'\"&$E$135&\"'!B17:Z54\"),20,FALSE)*'Planting and management costs'!$G$76","v":{"$error":"#REF!"}},null,{"$f":"HLOOKUP(CONCATENATE($I$135,H$136),INDIRECT(\"'\"&$E$135&\"'!B17:Z54\"),20,FALSE)*'Planting and management costs'!$G$85","v":{"$error":"#REF!"}},{"$f":"HLOOKUP(CONCATENATE($I$135,I$136),INDIRECT(\"'\"&$E$135&\"'!B17:Z54\"),20,FALSE)*'Planting and management costs'!$G$86","v":{"$error":"#REF!"}},{"$f":"HLOOKUP(CONCATENATE($I$135,J$136),INDIRECT(\"'\"&$E$135&\"'!B17:Z54\"),20,FALSE)*'Planting and management costs'!$G$88","v":{"$error":"#REF!"}},{"$f":"HLOOKUP(CONCATENATE($I$135,K$136),INDIRECT(\"'\"&$E$135&\"'!B17:Z54\"),20,FALSE)*'Planting and management costs'!$G$89","v":{"$error":"#REF!"}},{"$f":"HLOOKUP(CONCATENATE($I$135,L$136),INDIRECT(\"'\"&$E$135&\"'!B17:Z54\"),20,FALSE)*'Planting and management costs'!$G$91","v":{"$error":"#REF!"}},{"$f":"HLOOKUP(CONCATENATE($I$135,M$136),INDIRECT(\"'\"&$E$135&\"'!B17:Z54\"),20,FALSE)*'Planting and management costs'!$G$92","v":{"$error":"#REF!"}},{"$f":"HLOOKUP(CONCATENATE($I$135,N$136),INDIRECT(\"'\"&$E$135&\"'!B17:Z54\"),20,FALSE)*'Planting and management costs'!$G$94","v":{"$error":"#REF!"}},{"$f":"HLOOKUP(CONCATENATE($I$135,O$136),INDIRECT(\"'\"&$E$135&\"'!B17:Z54\"),20,FALSE)*'Planting and management costs'!$G$95","v":{"$error":"#REF!"}},null,{"$error":"#REF!"},0,{"$f":"IF('Cash flow'!B154='Growth characteristics'!$N$26,'Growth characteristics'!$N$29,0)","v":0},{"$f":"IF($R$137=\"USD/m3\",R154*S154,R154*S154*'Growth characteristics'!#REF!*0.001)","v":0},{"$error":"#REF!"},{"$error":"#REF!"},{"$error":"#REF!"},{"$error":"#REF!"},{"$error":"#REF!"},null,{"$error":"#REF!"},{"$error":"#REF!"},{"$error":"#REF!"},{"$error":"#REF!"},{"$error":"#REF!"},{"$error":"#REF!"},{"$error":"#REF!"},{"$error":"#REF!"},null,{"$error":"#REF!"},0,{"$error":"#REF!"},{"$error":"#REF!"},1,16,1]
[null,17,{"$f":"HLOOKUP(CONCATENATE($I$135,C$136),INDIRECT(\"'\"&$E$135&\"'!B17:Z54\"),21,FALSE)*'Planting and management costs'!$G$72","v":{"$error":"#REF!"}},{"$f":"HLOOKUP(CONCATENATE($I$135,D$136),INDIRECT(\"'\"&$E$135&\"'!B17:Z54\"),21,FALSE)*'Planting and management costs'!$G$74","v":{"$error":"#REF!"}},{"$f":"HLOOKUP(CONCATENATE($I$135,E$136),INDIRECT(\"'\"&$E$135&\"'!B17:Z54\"),21,FALSE)*'Planting and management costs'!$G$75","v":{"$error":"#REF!"}},{"$f":"HLOOKUP(CONCATENATE($I$135,F$136),INDIRECT(\"'\"&$E$135&\"'!B17:Z54\"),21,FALSE)*'Planting and management costs'!$G$76","v":{"$error":"#REF!"}},null,{"$f":"HLOOKUP(CONCATENATE($I$135,H$136),INDIRECT(\"'\"&$E$135&\"'!B17:Z54\"),21,FALSE)*'Planting and management costs'!$G$85","v":{"$error":"#REF!"}},{"$f":"HLOOKUP(CONCATENATE($I$135,I$136),INDIRECT(\"'\"&$E$135&\"'!B17:Z54\"),21,FALSE)*'Planting and management costs'!$G$86","v":{"$error":"#REF!"}},{"$f":"HLOOKUP(CONCATENATE($I$135,J$136),INDIRECT(\"'\"&$E$135&\"'!B17:Z54\"),21,FALSE)*'Planting and management costs'!$G$88","v":{"$error":"#REF!"}},{"$f":"HLOOKUP(CONCATENATE($I$135,K$136),INDIRECT(\"'\"&$E$135&\"'!B17:Z54\"),21,FALSE)*'Planting and management costs'!$G$89","v":{"$error":"#REF!"}},{"$f":"HLOOKUP(CONCATENATE($I$135,L$136),INDIRECT(\"'\"&$E$135&\"'!B17:Z54\"),21,FALSE)*'Planting and management costs'!$G$91","v":{"$error":"#REF!"}},{"$f":"HLOOKUP(CONCATENATE($I$135,M$136),INDIRECT(\"'\"&$E$135&\"'!B17:Z54\"),21,FALSE)*'Planting and management costs'!$G$92","v":{"$error":"#REF!"}},{"$f":"HLOOKUP(CONCATENATE($I$135,N$136),INDIRECT(\"'\"&$E$135&\"'!B17:Z54\"),21,FALSE)*'Planting and management costs'!$G$94","v":{"$error":"#REF!"}},{"$f":"HLOOKUP(CONCATENATE($I$135,O$136),INDIRECT(\"'\"&$E$135&\"'!B17:Z54\"),21,FALSE)*'Planting and management costs'!$G$95","v":{"$error":"#REF!"}},null,{"$error":"#REF!"},0,{"$f":"IF('Cash flow'!B155='Growth characteristics'!$N$26,'Growth characteristics'!$N$29,0)","v":0},{"$f":"IF($R$137=\"USD/m3\",R155*S155,R155*S155*'Growth characteristics'!#REF!*0.001)","v":0},{"$error":"#REF!"},{"$error":"#REF!"},{"$error":"#REF!"},{"$error":"#REF!"},{"$error":"#REF!"},null,{"$error":"#REF!"},{"$error":"#REF!"},{"$error":"#REF!"},{"$error":"#REF!"},{"$error":"#REF!"},{"$error":"#REF!"},{"$error":"#REF!"},{"$error":"#REF!"},null,{"$error":"#REF!"},0,{"$error":"#REF!"},{"$error":"#REF!"},1,17,1]
[null,18,{"$f":"HLOOKUP(CONCATENATE($I$135,C$136),INDIRECT(\"'\"&$E$135&\"'!B17:Z54\"),22,FALSE)*'Planting and management costs'!$G$72","v":{"$error":"#REF!"}},{"$f":"HLOOKUP(CONCATENATE($I$135,D$136),INDIRECT(\"'\"&$E$135&\"'!B17:Z54\"),22,FALSE)*'Planting and management costs'!$G$74","v":{"$error":"#REF!"}},{"$f":"HLOOKUP(CONCATENATE($I$135,E$136),INDIRECT(\"'\"&$E$135&\"'!B17:Z54\"),22,FALSE)*'Planting and management costs'!$G$75","v":{"$error":"#REF!"}},{"$f":"HLOOKUP(CONCATENATE($I$135,F$136),INDIRECT(\"'\"&$E$135&\"'!B17:Z54\"),22,FALSE)*'Planting and management costs'!$G$76","v":{"$error":"#REF!"}},null,{"$f":"HLOOKUP(CONCATENATE($I$135,H$136),INDIRECT(\"'\"&$E$135&\"'!B17:Z54\"),22,FALSE)*'Planting and management costs'!$G$85","v":{"$error":"#REF!"}},{"$f":"HLOOKUP(CONCATENATE($I$135,I$136),INDIRECT(\"'\"&$E$135&\"'!B17:Z54\"),22,FALSE)*'Planting and management costs'!$G$86","v":{"$error":"#REF!"}},{"$f":"HLOOKUP(CONCATENATE($I$135,J$136),INDIRECT(\"'\"&$E$135&\"'!B17:Z54\"),22,FALSE)*'Planting and management costs'!$G$88","v":{"$error":"#REF!"}},{"$f":"HLOOKUP(CONCATENATE($I$135,K$136),INDIRECT(\"'\"&$E$135&\"'!B17:Z54\"),22,FALSE)*'Planting and management costs'!$G$89","v":{"$error":"#REF!"}},{"$f":"HLOOKUP(CONCATENATE($I$135,L$136),INDIRECT(\"'\"&$E$135&\"'!B17:Z54\"),22,FALSE)*'Planting and management costs'!$G$91","v":{"$error":"#REF!"}},{"$f":"HLOOKUP(CONCATENATE($I$135,M$136),INDIRECT(\"'\"&$E$135&\"'!B17:Z54\"),22,FALSE)*'Planting and management costs'!$G$92","v":{"$error":"#REF!"}},{"$f":"HLOOKUP(CONCATENATE($I$135,N$136),INDIRECT(\"'\"&$E$135&\"'!B17:Z54\"),22,FALSE)*'Planting and management costs'!$G$94","v":{"$error":"#REF!"}},{"$f":"HLOOKUP(CONCATENATE($I$135,O$136),INDIRECT(\"'\"&$E$135&\"'!B17:Z54\"),22,FALSE)*'Planting and management costs'!$G$95","v":{"$error":"#REF!"}},null,{"$error":"#REF!"},0,{"$f":"IF('Cash flow'!B156='Growth characteristics'!$N$26,'Growth characteristics'!$N$29,0)","v":0},{"$f":"IF($R$137=\"USD/m3\",R156*S156,R156*S156*'Growth characteristics'!#REF!*0.001)","v":0},{"$error":"#REF!"},{"$error":"#REF!"},{"$error":"#REF!"},{"$error":"#REF!"},{"$error":"#REF!"},null,{"$error":"#REF!"},{"$error":"#REF!"},{"$error":"#REF!"},{"$error":"#REF!"},{"$error":"#REF!"},{"$error":"#REF!"},{"$error":"#REF!"},{"$error":"#REF!"},null,{"$error":"#REF!"},0,{"$error":"#REF!"},{"$error":"#REF!"},1,18,1]
[null,19,{"$f":"HLOOKUP(CONCATENATE($I$135,C$136),INDIRECT(\"'\"&$E$135&\"'!B17:Z54\"),23,FALSE)*'Planting and management costs'!$G$72","v":{"$error":"#REF!"}},{"$f":"HLOOKUP(CONCATENATE($I$135,D$136),INDIRECT(\"'\"&$E$135&\"'!B17:Z54\"),23,FALSE)*'Planting and management costs'!$G$74","v":{"$error":"#REF!"}},{"$f":"HLOOKUP(CONCATENATE($I$135,E$136),INDIRECT(\"'\"&$E$135&\"'!B17:Z54\"),23,FALSE)*'Planting and management costs'!$G$75","v":{"$error":"#REF!"}},{"$f":"HLOOKUP(CONCATENATE($I$135,F$136),INDIRECT(\"'\"&$E$135&\"'!B17:Z54\"),23,FALSE)*'Planting and management costs'!$G$76","v":{"$error":"#REF!"}},null,{"$f":"HLOOKUP(CONCATENATE($I$135,H$136),INDIRECT(\"'\"&$E$135&\"'!B17:Z54\"),23,FALSE)*'Planting and management costs'!$G$85","v":{"$error":"#REF!"}},{"$f":"HLOOKUP(CONCATENATE($I$135,I$136),INDIRECT(\"'\"&$E$135&\"'!B17:Z54\"),23,FALSE)*'Planting and management costs'!$G$86","v":{"$error":"#REF!"}},{"$f":"HLOOKUP(CONCATENATE($I$135,J$136),INDIRECT(\"'\"&$E$135&\"'!B17:Z54\"),23,FALSE)*'Planting and management costs'!$G$88","v":{"$error":"#REF!"}},{"$f":"HLOOKUP(CONCATENATE($I$135,K$136),INDIRECT(\"'\"&$E$135&\"'!B17:Z54\"),23,FALSE)*'Planting and management costs'!$G$89","v":{"$error":"#REF!"}},{"$f":"HLOOKUP(CONCATENATE($I$135,L$136),INDIRECT(\"'\"&$E$135&\"'!B17:Z54\"),23,FALSE)*'Planting and management costs'!$G$91","v":{"$error":"#REF!"}},{"$f":"HLOOKUP(CONCATENATE($I$135,M$136),INDIRECT(\"'\"&$E$135&\"'!B17:Z54\"),23,FALSE)*'Planting and management costs'!$G$92","v":{"$error":"#REF!"}},{"$f":"HLOOKUP(CONCATENATE($I$135,N$136),INDIRECT(\"'\"&$E$135&\"'!B17:Z54\"),23,FALSE)*'Planting and management costs'!$G$94","v":{"$error":"#REF!"}},{"$f":"HLOOKUP(CONCATENATE($I$135,O$136),INDIRECT(\"'\"&$E$135&\"'!B17:Z54\"),23,FALSE)*'Planting and management costs'!$G$95","v":{"$error":"#REF!"}},null,{"$error":"#REF!"},0,{"$f":"IF('Cash flow'!B157='Growth characteristics'!$N$26,'Growth characteristics'!$N$29,0)","v":0},{"$f":"IF($R$137=\"USD/m3\",R157*S157,R157*S157*'Growth characteristics'!#REF!*0.001)","v":0},{"$error":"#REF!"},{"$error":"#REF!"},{"$error":"#REF!"},{"$error":"#REF!"},{"$error":"#REF!"},null,{"$error":"#REF!"},{"$error":"#REF!"},{"$error":"#REF!"},{"$error":"#REF!"},{"$error":"#REF!"},{"$error":"#REF!"},{"$error":"#REF!"},{"$error":"#REF!"},null,{"$error":"#REF!"},0,{"$error":"#REF!"},{"$error":"#REF!"},1,19,1]
[null,20,{"$f":"HLOOKUP(CONCATENATE($I$135,C$136),INDIRECT(\"'\"&$E$135&\"'!B17:Z54\"),24,FALSE)*'Planting and management costs'!$G$72","v":{"$error":"#REF!"}},{"$f":"HLOOKUP(CONCATENATE($I$135,D$136),INDIRECT(\"'\"&$E$135&\"'!B17:Z54\"),24,FALSE)*'Planting and management costs'!$G$74","v":{"$error":"#REF!"}},{"$f":"HLOOKUP(CONCATENATE($I$135,E$136),INDIRECT(\"'\"&$E$135&\"'!B17:Z54\"),24,FALSE)*'Planting and management costs'!$G$75","v":{"$error":"#REF!"}},{"$f":"HLOOKUP(CONCATENATE($I$135,F$136),INDIRECT(\"'\"&$E$135&\"'!B17:Z54\"),24,FALSE)*'Planting and management costs'!$G$76","v":{"$error":"#REF!"}},null,{"$f":"HLOOKUP(CONCATENATE($I$135,H$136),INDIRECT(\"'\"&$E$135&\"'!B17:Z54\"),24,FALSE)*'Planting and management costs'!$G$85","v":{"$error":"#REF!"}},{"$f":"HLOOKUP(CONCATENATE($I$135,I$136),INDIRECT(\"'\"&$E$135&\"'!B17:Z54\"),24,FALSE)*'Planting and management costs'!$G$86","v":{"$error":"#REF!"}},{"$f":"HLOOKUP(CONCATENATE($I$135,J$136),INDIRECT(\"'\"&$E$135&\"'!B17:Z54\"),24,FALSE)*'Planting and management costs'!$G$88","v":{"$error":"#REF!"}},{"$f":"HLOOKUP(CONCATENATE($I$135,K$136),INDIRECT(\"'\"&$E$135&\"'!B17:Z54\"),24,FALSE)*'Planting and management costs'!$G$89","v":{"$error":"#REF!"}},{"$f":"HLOOKUP(CONCATENATE($I$135,L$136),INDIRECT(\"'\"&$E$135&\"'!B17:Z54\"),24,FALSE)*'Planting and management costs'!$G$91","v":{"$error":"#REF!"}},{"$f":"HLOOKUP(CONCATENATE($I$135,M$136),INDIRECT(\"'\"&$E$135&\"'!B17:Z54\"),24,FALSE)*'Planting and management costs'!$G$92","v":{"$error":"#REF!"}},{"$f":"HLOOKUP(CONCATENATE($I$135,N$136),INDIRECT(\"'\"&$E$135&\"'!B17:Z54\"),24,FALSE)*'Planting and management costs'!$G$94","v":{"$error":"#REF!"}},{"$f":"HLOOKUP(CONCATENATE($I$135,O$136),INDIRECT(\"'\"&$E$135&\"'!B17:Z54\"),24,FALSE)*'Planting and management costs'!$G$95","v":{"$error":"#REF!"}},null,{"$error":"#REF!"},0,{"$f":"IF('Cash flow'!B158='Growth characteristics'!$N$26,'Growth characteristics'!$N$29,0)","v":0},{"$f":"IF($R$137=\"USD/m3\",R158*S158,R158*S158*'Growth characteristics'!#REF!*0.001)","v":0},{"$error":"#REF!"},{"$error":"#REF!"},{"$error":"#REF!"},{"$error":"#REF!"},{"$error":"#REF!"},null,{"$error":"#REF!"},{"$error":"#REF!"},{"$error":"#REF!"},{"$error":"#REF!"},{"$error":"#REF!"},{"$error":"#REF!"},{"$error":"#REF!"},{"$error":"#REF!"},null,{"$error":"#REF!"},0,{"$error":"#REF!"},{"$error":"#REF!"},1,20,1]
[null,21,{"$f":"HLOOKUP(CONCATENATE($I$135,C$136),INDIRECT(\"'\"&$E$135&\"'!B17:Z54\"),25,FALSE)*'Planting and management costs'!$G$72","v":{"$error":"#REF!"}},{"$f":"HLOOKUP(CONCATENATE($I$135,D$136),INDIRECT(\"'\"&$E$135&\"'!B17:Z54\"),25,FALSE)*'Planting and management costs'!$G$74","v":{"$error":"#REF!"}},{"$f":"HLOOKUP(CONCATENATE($I$135,E$136),INDIRECT(\"'\"&$E$135&\"'!B17:Z54\"),25,FALSE)*'Planting and management costs'!$G$75","v":{"$error":"#REF!"}},{"$f":"HLOOKUP(CONCATENATE($I$135,F$136),INDIRECT(\"'\"&$E$135&\"'!B17:Z54\"),25,FALSE)*'Planting and management costs'!$G$76","v":{"$error":"#REF!"}},null,{"$f":"HLOOKUP(CONCATENATE($I$135,H$136),INDIRECT(\"'\"&$E$135&\"'!B17:Z54\"),25,FALSE)*'Planting and management costs'!$G$85","v":{"$error":"#REF!"}},{"$f":"HLOOKUP(CONCATENATE($I$135,I$136),INDIRECT(\"'\"&$E$135&\"'!B17:Z54\"),25,FALSE)*'Planting and management costs'!$G$86","v":{"$error":"#REF!"}},{"$f":"HLOOKUP(CONCATENATE($I$135,J$136),INDIRECT(\"'\"&$E$135&\"'!B17:Z54\"),25,FALSE)*'Planting and management costs'!$G$88","v":{"$error":"#REF!"}},{"$f":"HLOOKUP(CONCATENATE($I$135,K$136),INDIRECT(\"'\"&$E$135&\"'!B17:Z54\"),25,FALSE)*'Planting and management costs'!$G$89","v":{"$error":"#REF!"}},{"$f":"HLOOKUP(CONCATENATE($I$135,L$136),INDIRECT(\"'\"&$E$135&\"'!B17:Z54\"),25,FALSE)*'Planting and management costs'!$G$91","v":{"$error":"#REF!"}},{"$f":"HLOOKUP(CONCATENATE($I$135,M$136),INDIRECT(\"'\"&$E$135&\"'!B17:Z54\"),25,FALSE)*'Planting and management costs'!$G$92","v":{"$error":"#REF!"}},{"$f":"HLOOKUP(CONCATENATE($I$135,N$136),INDIRECT(\"'\"&$E$135&\"'!B17:Z54\"),25,FALSE)*'Planting and management costs'!$G$94","v":{"$error":"#REF!"}},{"$f":"HLOOKUP(CONCATENATE($I$135,O$136),INDIRECT(\"'\"&$E$135&\"'!B17:Z54\"),25,FALSE)*'Planting and management costs'!$G$95","v":{"$error":"#REF!"}},null,{"$error":"#REF!"},0,{"$f":"IF('Cash flow'!B159='Growth characteristics'!$N$26,'Growth characteristics'!$N$29,0)","v":0},{"$f":"IF($R$137=\"USD/m3\",R159*S159,R159*S159*'Growth characteristics'!#REF!*0.001)","v":0},{"$error":"#REF!"},{"$error":"#REF!"},{"$error":"#REF!"},{"$error":"#REF!"},{"$error":"#REF!"},null,{"$error":"#REF!"},{"$error":"#REF!"},{"$error":"#REF!"},{"$error":"#REF!"},{"$error":"#REF!"},{"$error":"#REF!"},{"$error":"#REF!"},{"$error":"#REF!"},null,{"$error":"#REF!"},0,{"$error":"#REF!"},{"$error":"#REF!"},1,21,1]
[null,22,{"$f":"HLOOKUP(CONCATENATE($I$135,C$136),INDIRECT(\"'\"&$E$135&\"'!B17:Z54\"),26,FALSE)*'Planting and management costs'!$G$72","v":{"$error":"#REF!"}},{"$f":"HLOOKUP(CONCATENATE($I$135,D$136),INDIRECT(\"'\"&$E$135&\"'!B17:Z54\"),26,FALSE)*'Planting and management costs'!$G$74","v":{"$error":"#REF!"}},{"$f":"HLOOKUP(CONCATENATE($I$135,E$136),INDIRECT(\"'\"&$E$135&\"'!B17:Z54\"),26,FALSE)*'Planting and management costs'!$G$75","v":{"$error":"#REF!"}},{"$f":"HLOOKUP(CONCATENATE($I$135,F$136),INDIRECT(\"'\"&$E$135&\"'!B17:Z54\"),26,FALSE)*'Planting and management costs'!$G$76","v":{"$error":"#REF!"}},null,{"$f":"HLOOKUP(CONCATENATE($I$135,H$136),INDIRECT(\"'\"&$E$135&\"'!B17:Z54\"),26,FALSE)*'Planting and management costs'!$G$85","v":{"$error":"#REF!"}},{"$f":"HLOOKUP(CONCATENATE($I$135,I$136),INDIRECT(\"'\"&$E$135&\"'!B17:Z54\"),26,FALSE)*'Planting and management costs'!$G$86","v":{"$error":"#REF!"}},{"$f":"HLOOKUP(CONCATENATE($I$135,J$136),INDIRECT(\"'\"&$E$135&\"'!B17:Z54\"),26,FALSE)*'Planting and management costs'!$G$88","v":{"$error":"#REF!"}},{"$f":"HLOOKUP(CONCATENATE($I$135,K$136),INDIRECT(\"'\"&$E$135&\"'!B17:Z54\"),26,FALSE)*'Planting and management costs'!$G$89","v":{"$error":"#REF!"}},{"$f":"HLOOKUP(CONCATENATE($I$135,L$136),INDIRECT(\"'\"&$E$135&\"'!B17:Z54\"),26,FALSE)*'Planting and management costs'!$G$91","v":{"$error":"#REF!"}},{"$f":"HLOOKUP(CONCATENATE($I$135,M$136),INDIRECT(\"'\"&$E$135&\"'!B17:Z54\"),26,FALSE)*'Planting and management costs'!$G$92","v":{"$error":"#REF!"}},{"$f":"HLOOKUP(CONCATENATE($I$135,N$136),INDIRECT(\"'\"&$E$135&\"'!B17:Z54\"),26,FALSE)*'Planting and management costs'!$G$94","v":{"$error":"#REF!"}},{"$f":"HLOOKUP(CONCATENATE($I$135,O$136),INDIRECT(\"'\"&$E$135&\"'!B17:Z54\"),26,FALSE)*'Planting and management costs'!$G$95","v":{"$error":"#REF!"}},null,{"$error":"#REF!"},0,{"$f":"IF('Cash flow'!B160='Growth characteristics'!$N$26,'Growth characteristics'!$N$29,0)","v":0},{"$f":"IF($R$137=\"USD/m3\",R160*S160,R160*S160*'Growth characteristics'!#REF!*0.001)","v":0},{"$error":"#REF!"},{"$error":"#REF!"},{"$error":"#REF!"},{"$error":"#REF!"},{"$error":"#REF!"},null,{"$error":"#REF!"},{"$error":"#REF!"},{"$error":"#REF!"},{"$error":"#REF!"},{"$error":"#REF!"},{"$error":"#REF!"},{"$error":"#REF!"},{"$error":"#REF!"},null,{"$error":"#REF!"},0,{"$error":"#REF!"},{"$error":"#REF!"},1,22,1]
[null,23,{"$f":"HLOOKUP(CONCATENATE($I$135,C$136),INDIRECT(\"'\"&$E$135&\"'!B17:Z54\"),27,FALSE)*'Planting and management costs'!$G$72","v":{"$error":"#REF!"}},{"$f":"HLOOKUP(CONCATENATE($I$135,D$136),INDIRECT(\"'\"&$E$135&\"'!B17:Z54\"),27,FALSE)*'Planting and management costs'!$G$74","v":{"$error":"#REF!"}},{"$f":"HLOOKUP(CONCATENATE($I$135,E$136),INDIRECT(\"'\"&$E$135&\"'!B17:Z54\"),27,FALSE)*'Planting and management costs'!$G$75","v":{"$error":"#REF!"}},{"$f":"HLOOKUP(CONCATENATE($I$135,F$136),INDIRECT(\"'\"&$E$135&\"'!B17:Z54\"),27,FALSE)*'Planting and management costs'!$G$76","v":{"$error":"#REF!"}},null,{"$f":"HLOOKUP(CONCATENATE($I$135,H$136),INDIRECT(\"'\"&$E$135&\"'!B17:Z54\"),27,FALSE)*'Planting and management costs'!$G$85","v":{"$error":"#REF!"}},{"$f":"HLOOKUP(CONCATENATE($I$135,I$136),INDIRECT(\"'\"&$E$135&\"'!B17:Z54\"),27,FALSE)*'Planting and management costs'!$G$86","v":{"$error":"#REF!"}},{"$f":"HLOOKUP(CONCATENATE($I$135,J$136),INDIRECT(\"'\"&$E$135&\"'!B17:Z54\"),27,FALSE)*'Planting and management costs'!$G$88","v":{"$error":"#REF!"}},{"$f":"HLOOKUP(CONCATENATE($I$135,K$136),INDIRECT(\"'\"&$E$135&\"'!B17:Z54\"),27,FALSE)*'Planting and management costs'!$G$89","v":{"$error":"#REF!"}},{"$f":"HLOOKUP(CONCATENATE($I$135,L$136),INDIRECT(\"'\"&$E$135&\"'!B17:Z54\"),27,FALSE)*'Planting and management costs'!$G$91","v":{"$error":"#REF!"}},{"$f":"HLOOKUP(CONCATENATE($I$135,M$136),INDIRECT(\"'\"&$E$135&\"'!B17:Z54\"),27,FALSE)*'Planting and management costs'!$G$92","v":{"$error":"#REF!"}},{"$f":"HLOOKUP(CONCATENATE($I$135,N$136),INDIRECT(\"'\"&$E$135&\"'!B17:Z54\"),27,FALSE)*'Planting and management costs'!$G$94","v":{"$error":"#REF!"}},{"$f":"HLOOKUP(CONCATENATE($I$135,O$136),INDIRECT(\"'\"&$E$135&\"'!B17:Z54\"),27,FALSE)*'Planting and management costs'!$G$95","v":{"$error":"#REF!"}},null,{"$error":"#REF!"},0,{"$f":"IF('Cash flow'!B161='Growth characteristics'!$N$26,'Growth characteristics'!$N$29,0)","v":0},{"$f":"IF($R$137=\"USD/m3\",R161*S161,R161*S161*'Growth characteristics'!#REF!*0.001)","v":0},{"$error":"#REF!"},{"$error":"#REF!"},{"$error":"#REF!"},{"$error":"#REF!"},{"$error":"#REF!"},null,{"$error":"#REF!"},{"$error":"#REF!"},{"$error":"#REF!"},{"$error":"#REF!"},{"$error":"#REF!"},{"$error":"#REF!"},{"$error":"#REF!"},{"$error":"#REF!"},null,{"$error":"#REF!"},0,{"$error":"#REF!"},{"$error":"#REF!"},1,23,1]
[null,24,{"$f":"HLOOKUP(CONCATENATE($I$135,C$136),INDIRECT(\"'\"&$E$135&\"'!B17:Z54\"),28,FALSE)*'Planting and management costs'!$G$72","v":{"$error":"#REF!"}},{"$f":"HLOOKUP(CONCATENATE($I$135,D$136),INDIRECT(\"'\"&$E$135&\"'!B17:Z54\"),28,FALSE)*'Planting and management costs'!$G$74","v":{"$error":"#REF!"}},{"$f":"HLOOKUP(CONCATENATE($I$135,E$136),INDIRECT(\"'\"&$E$135&\"'!B17:Z54\"),28,FALSE)*'Planting and management costs'!$G$75","v":{"$error":"#REF!"}},{"$f":"HLOOKUP(CONCATENATE($I$135,F$136),INDIRECT(\"'\"&$E$135&\"'!B17:Z54\"),28,FALSE)*'Planting and management costs'!$G$76","v":{"$error":"#REF!"}},null,{"$f":"HLOOKUP(CONCATENATE($I$135,H$136),INDIRECT(\"'\"&$E$135&\"'!B17:Z54\"),28,FALSE)*'Planting and management costs'!$G$85","v":{"$error":"#REF!"}},{"$f":"HLOOKUP(CONCATENATE($I$135,I$136),INDIRECT(\"'\"&$E$135&\"'!B17:Z54\"),28,FALSE)*'Planting and management costs'!$G$86","v":{"$error":"#REF!"}},{"$f":"HLOOKUP(CONCATENATE($I$135,J$136),INDIRECT(\"'\"&$E$135&\"'!B17:Z54\"),28,FALSE)*'Planting and management costs'!$G$88","v":{"$error":"#REF!"}},{"$f":"HLOOKUP(CONCATENATE($I$135,K$136),INDIRECT(\"'\"&$E$135&\"'!B17:Z54\"),28,FALSE)*'Planting and management costs'!$G$89","v":{"$error":"#REF!"}},{"$f":"HLOOKUP(CONCATENATE($I$135,L$136),INDIRECT(\"'\"&$E$135&\"'!B17:Z54\"),28,FALSE)*'Planting and management costs'!$G$91","v":{"$error":"#REF!"}},{"$f":"HLOOKUP(CONCATENATE($I$135,M$136),INDIRECT(\"'\"&$E$135&\"'!B17:Z54\"),28,FALSE)*'Planting and management costs'!$G$92","v":{"$error":"#REF!"}},{"$f":"HLOOKUP(CONCATENATE($I$135,N$136),INDIRECT(\"'\"&$E$135&\"'!B17:Z54\"),28,FALSE)*'Planting and management costs'!$G$94","v":{"$error":"#REF!"}},{"$f":"HLOOKUP(CONCATENATE($I$135,O$136),INDIRECT(\"'\"&$E$135&\"'!B17:Z54\"),28,FALSE)*'Planting and management costs'!$G$95","v":{"$error":"#REF!"}},null,{"$error":"#REF!"},0,{"$f":"IF('Cash flow'!B162='Growth characteristics'!$N$26,'Growth characteristics'!$N$29,0)","v":0},{"$f":"IF($R$137=\"USD/m3\",R162*S162,R162*S162*'Growth characteristics'!#REF!*0.001)","v":0},{"$error":"#REF!"},{"$error":"#REF!"},{"$error":"#REF!"},{"$error":"#REF!"},{"$error":"#REF!"},null,{"$error":"#REF!"},{"$error":"#REF!"},{"$error":"#REF!"},{"$error":"#REF!"},{"$error":"#REF!"},{"$error":"#REF!"},{"$error":"#REF!"},{"$error":"#REF!"},null,{"$error":"#REF!"},0,{"$error":"#REF!"},{"$error":"#REF!"},1,24,1]
[null,25,{"$f":"HLOOKUP(CONCATENATE($I$135,C$136),INDIRECT(\"'\"&$E$135&\"'!B17:Z54\"),29,FALSE)*'Planting and management costs'!$G$72","v":{"$error":"#REF!"}},{"$f":"HLOOKUP(CONCATENATE($I$135,D$136),INDIRECT(\"'\"&$E$135&\"'!B17:Z54\"),29,FALSE)*'Planting and management costs'!$G$74","v":{"$error":"#REF!"}},{"$f":"HLOOKUP(CONCATENATE($I$135,E$136),INDIRECT(\"'\"&$E$135&\"'!B17:Z54\"),29,FALSE)*'Planting and management costs'!$G$75","v":{"$error":"#REF!"}},{"$f":"HLOOKUP(CONCATENATE($I$135,F$136),INDIRECT(\"'\"&$E$135&\"'!B17:Z54\"),29,FALSE)*'Planting and management costs'!$G$76","v":{"$error":"#REF!"}},null,{"$f":"HLOOKUP(CONCATENATE($I$135,H$136),INDIRECT(\"'\"&$E$135&\"'!B17:Z54\"),29,FALSE)*'Planting and management costs'!$G$85","v":{"$error":"#REF!"}},{"$f":"HLOOKUP(CONCATENATE($I$135,I$136),INDIRECT(\"'\"&$E$135&\"'!B17:Z54\"),29,FALSE)*'Planting and management costs'!$G$86","v":{"$error":"#REF!"}},{"$f":"HLOOKUP(CONCATENATE($I$135,J$136),INDIRECT(\"'\"&$E$135&\"'!B17:Z54\"),29,FALSE)*'Planting and management costs'!$G$88","v":{"$error":"#REF!"}},{"$f":"HLOOKUP(CONCATENATE($I$135,K$136),INDIRECT(\"'\"&$E$135&\"'!B17:Z54\"),29,FALSE)*'Planting and management costs'!$G$89","v":{"$error":"#REF!"}},{"$f":"HLOOKUP(CONCATENATE($I$135,L$136),INDIRECT(\"'\"&$E$135&\"'!B17:Z54\"),29,FALSE)*'Planting and management costs'!$G$91","v":{"$error":"#REF!"}},{"$f":"HLOOKUP(CONCATENATE($I$135,M$136),INDIRECT(\"'\"&$E$135&\"'!B17:Z54\"),29,FALSE)*'Planting and management costs'!$G$92","v":{"$error":"#REF!"}},{"$f":"HLOOKUP(CONCATENATE($I$135,N$136),INDIRECT(\"'\"&$E$135&\"'!B17:Z54\"),29,FALSE)*'Planting and management costs'!$G$94","v":{"$error":"#REF!"}},{"$f":"HLOOKUP(CONCATENATE($I$135,O$136),INDIRECT(\"'\"&$E$135&\"'!B17:Z54\"),29,FALSE)*'Planting and management costs'!$G$95","v":{"$error":"#REF!"}},null,{"$error":"#REF!"},0,{"$f":"IF('Cash flow'!B163='Growth characteristics'!$N$26,'Growth characteristics'!$N$29,0)","v":0},{"$f":"IF($R$137=\"USD/m3\",R163*S163,R163*S163*'Growth characteristics'!#REF!*0.001)","v":0},{"$error":"#REF!"},{"$error":"#REF!"},{"$error":"#REF!"},{"$error":"#REF!"},{"$error":"#REF!"},null,{"$error":"#REF!"},{"$error":"#REF!"},{"$error":"#REF!"},{"$error":"#REF!"},{"$error":"#REF!"},{"$error":"#REF!"},{"$error":"#REF!"},{"$error":"#REF!"},null,{"$error":"#REF!"},0,{"$error":"#REF!"},{"$error":"#REF!"},1,25,1]
[null,26,{"$f":"HLOOKUP(CONCATENATE($I$135,C$136),INDIRECT(\"'\"&$E$135&\"'!B17:Z54\"),30,FALSE)*'Planting and management costs'!$G$72","v":{"$error":"#REF!"}},{"$f":"HLOOKUP(CONCATENATE($I$135,D$136),INDIRECT(\"'\"&$E$135&\"'!B17:Z54\"),30,FALSE)*'Planting and management costs'!$G$74","v":{"$error":"#REF!"}},{"$f":"HLOOKUP(CONCATENATE($I$135,E$136),INDIRECT(\"'\"&$E$135&\"'!B17:Z54\"),30,FALSE)*'Planting and management costs'!$G$75","v":{"$error":"#REF!"}},{"$f":"HLOOKUP(CONCATENATE($I$135,F$136),INDIRECT(\"'\"&$E$135&\"'!B17:Z54\"),30,FALSE)*'Planting and management costs'!$G$76","v":{"$error":"#REF!"}},null,{"$f":"HLOOKUP(CONCATENATE($I$135,H$136),INDIRECT(\"'\"&$E$135&\"'!B17:Z54\"),30,FALSE)*'Planting and management costs'!$G$85","v":{"$error":"#REF!"}},{"$f":"HLOOKUP(CONCATENATE($I$135,I$136),INDIRECT(\"'\"&$E$135&\"'!B17:Z54\"),30,FALSE)*'Planting and management costs'!$G$86","v":{"$error":"#REF!"}},{"$f":"HLOOKUP(CONCATENATE($I$135,J$136),INDIRECT(\"'\"&$E$135&\"'!B17:Z54\"),30,FALSE)*'Planting and management costs'!$G$88","v":{"$error":"#REF!"}},{"$f":"HLOOKUP(CONCATENATE($I$135,K$136),INDIRECT(\"'\"&$E$135&\"'!B17:Z54\"),30,FALSE)*'Planting and management costs'!$G$89","v":{"$error":"#REF!"}},{"$f":"HLOOKUP(CONCATENATE($I$135,L$136),INDIRECT(\"'\"&$E$135&\"'!B17:Z54\"),30,FALSE)*'Planting and management costs'!$G$91","v":{"$error":"#REF!"}},{"$f":"HLOOKUP(CONCATENATE($I$135,M$136),INDIRECT(\"'\"&$E$135&\"'!B17:Z54\"),30,FALSE)*'Planting and management costs'!$G$92","v":{"$error":"#REF!"}},{"$f":"HLOOKUP(CONCATENATE($I$135,N$136),INDIRECT(\"'\"&$E$135&\"'!B17:Z54\"),30,FALSE)*'Planting and management costs'!$G$94","v":{"$error":"#REF!"}},{"$f":"HLOOKUP(CONCATENATE($I$135,O$136),INDIRECT(\"'\"&$E$135&\"'!B17:Z54\"),30,FALSE)*'Planting and management costs'!$G$95","v":{"$error":"#REF!"}},null,{"$error":"#REF!"},0,{"$f":"IF('Cash flow'!B164='Growth characteristics'!$N$26,'Growth characteristics'!$N$29,0)","v":0},{"$f":"IF($R$137=\"USD/m3\",R164*S164,R164*S164*'Growth characteristics'!#REF!*0.001)","v":0},{"$error":"#REF!"},{"$error":"#REF!"},{"$error":"#REF!"},{"$error":"#REF!"},{"$error":"#REF!"},null,{"$error":"#REF!"},{"$error":"#REF!"},{"$error":"#REF!"},{"$error":"#REF!"},{"$error":"#REF!"},{"$error":"#REF!"},{"$error":"#REF!"},{"$error":"#REF!"},null,{"$error":"#REF!"},0,{"$error":"#REF!"},{"$error":"#REF!"},1,26,1]
[null,27,{"$f":"HLOOKUP(CONCATENATE($I$135,C$136),INDIRECT(\"'\"&$E$135&\"'!B17:Z54\"),31,FALSE)*'Planting and management costs'!$G$72","v":{"$error":"#REF!"}},{"$f":"HLOOKUP(CONCATENATE($I$135,D$136),INDIRECT(\"'\"&$E$135&\"'!B17:Z54\"),31,FALSE)*'Planting and management costs'!$G$74","v":{"$error":"#REF!"}},{"$f":"HLOOKUP(CONCATENATE($I$135,E$136),INDIRECT(\"'\"&$E$135&\"'!B17:Z54\"),31,FALSE)*'Planting and management costs'!$G$75","v":{"$error":"#REF!"}},{"$f":"HLOOKUP(CONCATENATE($I$135,F$136),INDIRECT(\"'\"&$E$135&\"'!B17:Z54\"),31,FALSE)*'Planting and management costs'!$G$76","v":{"$error":"#REF!"}},null,{"$f":"HLOOKUP(CONCATENATE($I$135,H$136),INDIRECT(\"'\"&$E$135&\"'!B17:Z54\"),31,FALSE)*'Planting and management costs'!$G$85","v":{"$error":"#REF!"}},{"$f":"HLOOKUP(CONCATENATE($I$135,I$136),INDIRECT(\"'\"&$E$135&\"'!B17:Z54\"),31,FALSE)*'Planting and management costs'!$G$86","v":{"$error":"#REF!"}},{"$f":"HLOOKUP(CONCATENATE($I$135,J$136),INDIRECT(\"'\"&$E$135&\"'!B17:Z54\"),31,FALSE)*'Planting and management costs'!$G$88","v":{"$error":"#REF!"}},{"$f":"HLOOKUP(CONCATENATE($I$135,K$136),INDIRECT(\"'\"&$E$135&\"'!B17:Z54\"),31,FALSE)*'Planting and management costs'!$G$89","v":{"$error":"#REF!"}},{"$f":"HLOOKUP(CONCATENATE($I$135,L$136),INDIRECT(\"'\"&$E$135&\"'!B17:Z54\"),31,FALSE)*'Planting and management costs'!$G$91","v":{"$error":"#REF!"}},{"$f":"HLOOKUP(CONCATENATE($I$135,M$136),INDIRECT(\"'\"&$E$135&\"'!B17:Z54\"),31,FALSE)*'Planting and management costs'!$G$92","v":{"$error":"#REF!"}},{"$f":"HLOOKUP(CONCATENATE($I$135,N$136),INDIRECT(\"'\"&$E$135&\"'!B17:Z54\"),31,FALSE)*'Planting and management costs'!$G$94","v":{"$error":"#REF!"}},{"$f":"HLOOKUP(CONCATENATE($I$135,O$136),INDIRECT(\"'\"&$E$135&\"'!B17:Z54\"),31,FALSE)*'Planting and management costs'!$G$95","v":{"$error":"#REF!"}},null,{"$error":"#REF!"},0,{"$f":"IF('Cash flow'!B165='Growth characteristics'!$N$26,'Growth characteristics'!$N$29,0)","v":0},{"$f":"IF($R$137=\"USD/m3\",R165*S165,R165*S165*'Growth characteristics'!#REF!*0.001)","v":0},{"$error":"#REF!"},{"$error":"#REF!"},{"$error":"#REF!"},{"$error":"#REF!"},{"$error":"#REF!"},null,{"$error":"#REF!"},{"$error":"#REF!"},{"$error":"#REF!"},{"$error":"#REF!"},{"$error":"#REF!"},{"$error":"#REF!"},{"$error":"#REF!"},{"$error":"#REF!"},null,{"$error":"#REF!"},0,{"$error":"#REF!"},{"$error":"#REF!"},1,27,1]
[null,28,{"$f":"HLOOKUP(CONCATENATE($I$135,C$136),INDIRECT(\"'\"&$E$135&\"'!B17:Z54\"),32,FALSE)*'Planting and management costs'!$G$72","v":{"$error":"#REF!"}},{"$f":"HLOOKUP(CONCATENATE($I$135,D$136),INDIRECT(\"'\"&$E$135&\"'!B17:Z54\"),32,FALSE)*'Planting and management costs'!$G$74","v":{"$error":"#REF!"}},{"$f":"HLOOKUP(CONCATENATE($I$135,E$136),INDIRECT(\"'\"&$E$135&\"'!B17:Z54\"),32,FALSE)*'Planting and management costs'!$G$75","v":{"$error":"#REF!"}},{"$f":"HLOOKUP(CONCATENATE($I$135,F$136),INDIRECT(\"'\"&$E$135&\"'!B17:Z54\"),32,FALSE)*'Planting and management costs'!$G$76","v":{"$error":"#REF!"}},null,{"$f":"HLOOKUP(CONCATENATE($I$135,H$136),INDIRECT(\"'\"&$E$135&\"'!B17:Z54\"),32,FALSE)*'Planting and management costs'!$G$85","v":{"$error":"#REF!"}},{"$f":"HLOOKUP(CONCATENATE($I$135,I$136),INDIRECT(\"'\"&$E$135&\"'!B17:Z54\"),32,FALSE)*'Planting and management costs'!$G$86","v":{"$error":"#REF!"}},{"$f":"HLOOKUP(CONCATENATE($I$135,J$136),INDIRECT(\"'\"&$E$135&\"'!B17:Z54\"),32,FALSE)*'Planting and management costs'!$G$88","v":{"$error":"#REF!"}},{"$f":"HLOOKUP(CONCATENATE($I$135,K$136),INDIRECT(\"'\"&$E$135&\"'!B17:Z54\"),32,FALSE)*'Planting and management costs'!$G$89","v":{"$error":"#REF!"}},{"$f":"HLOOKUP(CONCATENATE($I$135,L$136),INDIRECT(\"'\"&$E$135&\"'!B17:Z54\"),32,FALSE)*'Planting and management costs'!$G$91","v":{"$error":"#REF!"}},{"$f":"HLOOKUP(CONCATENATE($I$135,M$136),INDIRECT(\"'\"&$E$135&\"'!B17:Z54\"),32,FALSE)*'Planting and management costs'!$G$92","v":{"$error":"#REF!"}},{"$f":"HLOOKUP(CONCATENATE($I$135,N$136),INDIRECT(\"'\"&$E$135&\"'!B17:Z54\"),32,FALSE)*'Planting and management costs'!$G$94","v":{"$error":"#REF!"}},{"$f":"HLOOKUP(CONCATENATE($I$135,O$136),INDIRECT(\"'\"&$E$135&\"'!B17:Z54\"),32,FALSE)*'Planting and management costs'!$G$95","v":{"$error":"#REF!"}},null,{"$error":"#REF!"},0,{"$f":"IF('Cash flow'!B166='Growth characteristics'!$N$26,'Growth characteristics'!$N$29,0)","v":0},{"$f":"IF($R$137=\"USD/m3\",R166*S166,R166*S166*'Growth characteristics'!#REF!*0.001)","v":0},{"$error":"#REF!"},{"$error":"#REF!"},{"$error":"#REF!"},{"$error":"#REF!"},{"$error":"#REF!"},null,{"$error":"#REF!"},{"$error":"#REF!"},{"$error":"#REF!"},{"$error":"#REF!"},{"$error":"#REF!"},{"$error":"#REF!"},{"$error":"#REF!"},{"$error":"#REF!"},null,{"$error":"#REF!"},0,{"$error":"#REF!"},{"$error":"#REF!"},1,28,1]
[null,29,{"$f":"HLOOKUP(CONCATENATE($I$135,C$136),INDIRECT(\"'\"&$E$135&\"'!B17:Z54\"),33,FALSE)*'Planting and management costs'!$G$72","v":{"$error":"#REF!"}},{"$f":"HLOOKUP(CONCATENATE($I$135,D$136),INDIRECT(\"'\"&$E$135&\"'!B17:Z54\"),33,FALSE)*'Planting and management costs'!$G$74","v":{"$error":"#REF!"}},{"$f":"HLOOKUP(CONCATENATE($I$135,E$136),INDIRECT(\"'\"&$E$135&\"'!B17:Z54\"),33,FALSE)*'Planting and management costs'!$G$75","v":{"$error":"#REF!"}},{"$f":"HLOOKUP(CONCATENATE($I$135,F$136),INDIRECT(\"'\"&$E$135&\"'!B17:Z54\"),33,FALSE)*'Planting and management costs'!$G$76","v":{"$error":"#REF!"}},null,{"$f":"HLOOKUP(CONCATENATE($I$135,H$136),INDIRECT(\"'\"&$E$135&\"'!B17:Z54\"),33,FALSE)*'Planting and management costs'!$G$85","v":{"$error":"#REF!"}},{"$f":"HLOOKUP(CONCATENATE($I$135,I$136),INDIRECT(\"'\"&$E$135&\"'!B17:Z54\"),33,FALSE)*'Planting and management costs'!$G$86","v":{"$error":"#REF!"}},{"$f":"HLOOKUP(CONCATENATE($I$135,J$136),INDIRECT(\"'\"&$E$135&\"'!B17:Z54\"),33,FALSE)*'Planting and management costs'!$G$88","v":{"$error":"#REF!"}},{"$f":"HLOOKUP(CONCATENATE($I$135,K$136),INDIRECT(\"'\"&$E$135&\"'!B17:Z54\"),33,FALSE)*'Planting and management costs'!$G$89","v":{"$error":"#REF!"}},{"$f":"HLOOKUP(CONCATENATE($I$135,L$136),INDIRECT(\"'\"&$E$135&\"'!B17:Z54\"),33,FALSE)*'Planting and management costs'!$G$91","v":{"$error":"#REF!"}},{"$f":"HLOOKUP(CONCATENATE($I$135,M$136),INDIRECT(\"'\"&$E$135&\"'!B17:Z54\"),33,FALSE)*'Planting and management costs'!$G$92","v":{"$error":"#REF!"}},{"$f":"HLOOKUP(CONCATENATE($I$135,N$136),INDIRECT(\"'\"&$E$135&\"'!B17:Z54\"),33,FALSE)*'Planting and management costs'!$G$94","v":{"$error":"#REF!"}},{"$f":"HLOOKUP(CONCATENATE($I$135,O$136),INDIRECT(\"'\"&$E$135&\"'!B17:Z54\"),33,FALSE)*'Planting and management costs'!$G$95","v":{"$error":"#REF!"}},null,{"$error":"#REF!"},0,{"$f":"IF('Cash flow'!B167='Growth characteristics'!$N$26,'Growth characteristics'!$N$29,0)","v":0},{"$f":"IF($R$137=\"USD/m3\",R167*S167,R167*S167*'Growth characteristics'!#REF!*0.001)","v":0},{"$error":"#REF!"},{"$error":"#REF!"},{"$error":"#REF!"},{"$error":"#REF!"},{"$error":"#REF!"},null,{"$error":"#REF!"},{"$error":"#REF!"},{"$error":"#REF!"},{"$error":"#REF!"},{"$error":"#REF!"},{"$error":"#REF!"},{"$error":"#REF!"},{"$error":"#REF!"},null,{"$error":"#REF!"},0,{"$error":"#REF!"},{"$error":"#REF!"},1,29,1]
[null,30,{"$f":"HLOOKUP(CONCATENATE($I$135,C$136),INDIRECT(\"'\"&$E$135&\"'!B17:Z54\"),34,FALSE)*'Planting and management costs'!$G$72","v":{"$error":"#REF!"}},{"$f":"HLOOKUP(CONCATENATE($I$135,D$136),INDIRECT(\"'\"&$E$135&\"'!B17:Z54\"),34,FALSE)*'Planting and management costs'!$G$74","v":{"$error":"#REF!"}},{"$f":"HLOOKUP(CONCATENATE($I$135,E$136),INDIRECT(\"'\"&$E$135&\"'!B17:Z54\"),34,FALSE)*'Planting and management costs'!$G$75","v":{"$error":"#REF!"}},{"$f":"HLOOKUP(CONCATENATE($I$135,F$136),INDIRECT(\"'\"&$E$135&\"'!B17:Z54\"),34,FALSE)*'Planting and management costs'!$G$76","v":{"$error":"#REF!"}},null,{"$f":"HLOOKUP(CONCATENATE($I$135,H$136),INDIRECT(\"'\"&$E$135&\"'!B17:Z54\"),34,FALSE)*'Planting and management costs'!$G$85","v":{"$error":"#REF!"}},{"$f":"HLOOKUP(CONCATENATE($I$135,I$136),INDIRECT(\"'\"&$E$135&\"'!B17:Z54\"),34,FALSE)*'Planting and management costs'!$G$86","v":{"$error":"#REF!"}},{"$f":"HLOOKUP(CONCATENATE($I$135,J$136),INDIRECT(\"'\"&$E$135&\"'!B17:Z54\"),34,FALSE)*'Planting and management costs'!$G$88","v":{"$error":"#REF!"}},{"$f":"HLOOKUP(CONCATENATE($I$135,K$136),INDIRECT(\"'\"&$E$135&\"'!B17:Z54\"),34,FALSE)*'Planting and management costs'!$G$89","v":{"$error":"#REF!"}},{"$f":"HLOOKUP(CONCATENATE($I$135,L$136),INDIRECT(\"'\"&$E$135&\"'!B17:Z54\"),34,FALSE)*'Planting and management costs'!$G$91","v":{"$error":"#REF!"}},{"$f":"HLOOKUP(CONCATENATE($I$135,M$136),INDIRECT(\"'\"&$E$135&\"'!B17:Z54\"),34,FALSE)*'Planting and management costs'!$G$92","v":{"$error":"#REF!"}},{"$f":"HLOOKUP(CONCATENATE($I$135,N$136),INDIRECT(\"'\"&$E$135&\"'!B17:Z54\"),34,FALSE)*'Planting and management costs'!$G$94","v":{"$error":"#REF!"}},{"$f":"HLOOKUP(CONCATENATE($I$135,O$136),INDIRECT(\"'\"&$E$135&\"'!B17:Z54\"),34,FALSE)*'Planting and management costs'!$G$95","v":{"$error":"#REF!"}},null,{"$error":"#REF!"},0,{"$f":"IF('Cash flow'!B168='Growth characteristics'!$N$26,'Growth characteristics'!$N$29,0)","v":0},{"$f":"IF($R$137=\"USD/m3\",R168*S168,R168*S168*'Growth characteristics'!#REF!*0.001)","v":0},{"$error":"#REF!"},{"$error":"#REF!"},{"$error":"#REF!"},{"$error":"#REF!"},{"$error":"#REF!"},null,{"$error":"#REF!"},{"$error":"#REF!"},{"$error":"#REF!"},{"$error":"#REF!"},{"$error":"#REF!"},{"$error":"#REF!"},{"$error":"#REF!"},{"$error":"#REF!"},null,{"$error":"#REF!"},0,{"$error":"#REF!"},{"$error":"#REF!"},1,30,1]
[null,"TOTAL",{"$f":"SUM(C138:C168)","v":{"$error":"#REF!"}},{"$f":"SUM(D138:D168)","v":{"$error":"#REF!"}},{"$f":"SUM(E138:E168)","v":{"$error":"#REF!"}},{"$f":"SUM(F138:F168)","v":{"$error":"#REF!"}},null,{"$f":"SUM(H138:H168)","v":{"$error":"#REF!"}},{"$error":"#REF!"},{"$error":"#REF!"},{"$error":"#REF!"},{"$error":"#REF!"},{"$error":"#REF!"},{"$error":"#REF!"},{"$error":"#REF!"},null,{"$f":"SUM(Q138:Q168)","v":{"$error":"#REF!"}},null,{"$f":"SUM(S138:S168)","v":0},0,{"$error":"#REF!"},{"$error":"#REF!"},{"$error":"#REF!"},{"$error":"#REF!"},{"$error":"#REF!"},null,{"$f":"SUM(AA138:AA168)","v":{"$error":"#REF!"}},{"$error":"#REF!"},{"$error":"#REF!"},{"$error":"#REF!"},{"$error":"#REF!"},{"$error":"#REF!"},{"$error":"#REF!"},{"$error":"#REF!"},null,{"$f":"SUM(AJ138:AJ168)","v":{"$error":"#REF!"}},{"$f":"SUM(AK138:AK168)","v":0}]
[]
[null,null,null,null,null,null,null,null,null,null,null,null,null,null,null,null,null,null,null,null,null,null,null,null,null,null,null,null,null,null,null,null,null,"Net Present Value (USD)",null,null,{"$f":"SUM(AL138:AL168)","v":{"$error":"#REF!"}}]
[null,null,null,null,null,null,null,null,null,null,null,null,null,null,null,null,null,null,null,null,null,null,null,null,null,null,null,null,null,null,null,null,null,"Internal Rate of Return (%)",null,null,{"$f":"IF(AK171<0,\"Not feasible\",IRR(U138:U168,0.000001))","v":{"$error":"#REF!"}}]

{"sheet":"Acacia mangium","index":24,"n_rows":54,"n_cols":14,"rows_kept":54,"cut":false,"hidden":true,"merged":[[0,4,0,5]]}
[null,"SPECIES DATABASE",null,null,{"$f":"title145","v":"Species"}]
[null,null,null,{"$f":"title145","v":"Species"},"Acacia mangium"]
[null,null,null,"Management system","FR"]
[null,null,null,{"$f":"UPPER(title59)","v":"UNIT"},{"$f":"CONCATENATE(E2,E3)","v":"Acacia mangiumFR"}]
[null,null,{"$f":"title157","v":"Planting density"},{"$f":"title167","v":"trees/ha"},1111]
[null,null,"Rotation length Default",{"$f":"title183","v":"years"},8]
[null,null,{"$f":"title166","v":"Mean Annual Increment"},{"$f":"title168","v":"m3/ha/year"},13.9]
[null,null,"Stem + bark","%",0.77]
[null,null,"Branches","%",0.16]
[]
[]
[null,null,{"$f":"title162","v":"Low heating value (energy content)"},"MJ/kg",20]
[null,null,"Moinsture","%",0.15]
[null,null,{"$f":"title97","v":"Wood density"},"kg/m3",780]
[]
[null,"Management system:","FR","FR","FR","FR","FR","FR","FR","FR","FR","FR","FR","FR"]
[null,null,{"$f":"+CONCATENATE(C16,C18)","v":"FRSeedling"},{"$f":"+CONCATENATE(D16,D18)","v":"FR - Nitrogen"},"FR - Phosphorus ","FR - Potassium ","FRLand clearing and planting - Manual","FRLand clearing and planting - Machinery","FRApplication of fertilizers - Manual","FRApplication of fertilizers - Machinery","FRApplication of other agrochemicals - Manual","FRApplication of other agrochemicals - Machinery","FRHarvesting - Manual","FRHarvesting - Machinery"]
[null,null,{"$f":"title188","v":"Seedling"},{"$f":"title190","v":" - Nitrogen"},{"$f":"title191","v":" - Phosphorus "},{"$f":"title192","v":" - Potassium "},{"$f":"title199&title200","v":"Land clearing and planting - Manual"},{"$f":"title199&title201","v":"Land clearing and planting - Machinery"},{"$f":"title202&title200","v":"Application of fertilizers - Manual"},{"$f":"title202&title201","v":"Application of fertilizers - Machinery"},{"$f":"title203&title200","v":"Application of other agrochemicals - Manual"},{"$f":"title203&title201","v":"Application of other agrochemicals - Machinery"},{"$f":"title204&title200","v":"Harvesting - Manual"},{"$f":"title204&title201","v":"Harvesting - Machinery"}]
[null,{"$f":"title58","v":"Year"},"pcs./ha","    (kg/ha)","(kg/ha)","(kg/ha)",{"$f":"title238","v":"(man-days/ha)"},{"$f":"title239","v":"(hours/ha)"},{"$f":"title238","v":"(man-days/ha)"},{"$f":"title239","v":"(hours/ha)"},{"$f":"title238","v":"(man-days/ha)"},{"$f":"title239","v":"(hours/ha)"},{"$f":"title238","v":"(man-days/ha)"},{"$f":"title239","v":"(hours/ha)"}]
[null,0,{"$f":"E5","v":1111},35,16,25,65,5.7,2,1.5,2]
[null,1,null,35,16,25,null,null,2,1.5,2]
[null,2,null,35,16,25,null,null,2,1.5,2]
[null,3,null,35,16,25,null,null,2,1.5,2]
[null,4]
[null,5]
[null,6]
[null,7]
[null,8,null,null,null,null,null,null,null,null,null,null,20,8]
[null,9]
[null,10]
[null,11]
[null,12]
[null,13]
[null,14]
[null,15]
[null,16]
[null,17]
[null,18]
[null,19]
[null,20]
[null,21]
[null,22]
[null,23]
[null,24]
[null,25]
[null,26]
[null,27]
[null,28]
[null,29]
[null,30]
[null,"Total inputs quantity",{"$f":"SUM(C20:C50)","v":1111},{"$f":"SUM(D20:D50)","v":140},{"$f":"SUM(E20:E50)","v":64},100,65,5.7,8,6,8,0,20,8]
[null,"From",0,0,0,0,0,0,0,0,0,null,8,8]
[null,"To",0,3,3,3,0,0,3,3,3,null,8,8]
[null,"Total times",1,4,4,4,1,1,4,4,4,null,1,1]

{"sheet":"Acacia senegal","index":25,"n_rows":54,"n_cols":14,"rows_kept":54,"cut":false,"hidden":true,"merged":[[0,4,0,5]]}
[null,"SPECIES DATABASE",null,null,{"$f":"title145","v":"Species"}]
[null,null,null,{"$f":"title145","v":"Species"},"Acacia senegal"]
[null,null,null,"Management system","FR"]
[null,null,null,"UNIT",{"$f":"CONCATENATE(E2,E3)","v":"Acacia senegalFR"}]
[null,null,"Planting density","trees/ha",1225]
[null,null,"Rotation length","years",8]
[null,null,"MAI","m3/ha/year",2]
[null,null,"Stem + bark","%",0.77]
[null,null,"Branches","%",0.16]
[]
[]
[null,null,"Low heating value (energy content)","MJ/kg",13.4]
[null,null,"Moinsture","%",0.12]
[null,null,"Wood Density","kg/m3",728]
[]
[null,"Management system","FR","FR","FR","FR","FR","FR","FR","FR","FR","FR","FR","FR"]
[null,null,{"$f":"+CONCATENATE(C16,C18)","v":"FRSeedling"},{"$f":"+CONCATENATE(D16,D18)","v":"FR - Nitrogen"},{"$f":"+CONCATENATE(E16,E18)","v":"FR - Phosphorus "},{"$f":"+CONCATENATE(F16,F18)","v":"FR - Potassium "},{"$f":"+CONCATENATE(G16,G18)","v":"FRLand clearing and planting - Manual"},"FRLand clearing and planting - Machinery","FRApplication of fertilizers - Manual","FRApplication of fertilizers - Machinery","FRApplication of other agrochemicals - Manual","FRApplication of other agrochemicals - Machinery","FRHarvesting - Manual","FRHarvesting - Machinery"]
[null,null,{"$f":"title188","v":"Seedling"},{"$f":"title190","v":" - Nitrogen"},{"$f":"title191","v":" - Phosphorus "},{"$f":"title192","v":" - Potassium "},{"$f":"title199&title200","v":"Land clearing and planting - Manual"},{"$f":"title199&title201","v":"Land clearing and planting - Machinery"},{"$f":"title202&title200","v":"Application of fertilizers - Manual"},{"$f":"title202&title201","v":"Application of fertilizers - Machinery"},{"$f":"title203&title200","v":"Application of other agrochemicals - Manual"},{"$f":"title203&title201","v":"Application of other agrochemicals - Machinery"},{"$f":"title204&title200","v":"Harvesting - Manual"},{"$f":"title204&title201","v":"Harvesting - Machinery"}]
[null,"Year","pcs./ha","    (kg/ha)","(kg/ha)","(kg/ha)",{"$f":"title238","v":"(man-days/ha)"},{"$f":"title239","v":"(hours/ha)"},{"$f":"title238","v":"(man-days/ha)"},{"$f":"title239","v":"(hours/ha)"},{"$f":"title238","v":"(man-days/ha)"},{"$f":"title239","v":"(hours/ha)"},{"$f":"title238","v":"(man-days/ha)"},{"$f":"title239","v":"(hours/ha)"}]
[null,0,{"$f":"E5","v":1225},10,12.5,12.5,65,5.7,2,1.5,2]
[null,1,null,10,12.5,12.5,null,null,2,1.5,2]
[null,2,null,10,12.5,12.5,null,null,2,1.5,2]
[null,3,null,10,12.5,12.5,null,null,2,1.5,2]
[null,4]
[null,5]
[null,6]
[null,7]
[null,8,null,null,null,null,null,null,null,null,null,null,20,8]
[null,9]
[null,10]
[null,11]
[null,12]
[null,13]
[null,14]
[null,15]
[null,16]
[null,17]
[null,18]
[null,19]
[null,20]
[null,21]
[null,22]
[null,23]
[null,24]
[null,25]
[null,26]
[null,27]
[null,28]
[null,29]
[null,30]
[null,"Total inputs quantity",{"$f":"SUM(C20:C50)","v":1225},{"$f":"SUM(D20:D50)","v":40},50,50,65,5.7,8,6,8,0,20,8]
[null,"From",0,0,0,0,0,0,0,0,0,null,8,8]
[null,"To",0,3,3,3,0,0,3,3,3,null,8,8]
[null,"Total times",1,4,4,4,1,1,4,4,4,null,1,1]

{"sheet":"Eucalyptus spp.","index":26,"n_rows":54,"n_cols":14,"rows_kept":54,"cut":false,"hidden":true,"merged":[[0,4,0,5]]}
[null,"SPECIES DATABASE",null,null,{"$f":"title145","v":"Species"}]
[null,null,null,{"$f":"title145","v":"Species"},"Eucalyptus spp."]
[null,null,null,"Management system","FR"]
[null,null,null,"UNIT",{"$f":"CONCATENATE(E2,E3)","v":"Eucalyptus spp.FR"}]
[null,null,"Planting density","trees/ha",2500]
[null,null,"Rotation length","years",7]
[null,null,"MAI","m3/ha/year",10]
[null,null,"Stem + bark","%",0.80900000000000005]
[null,null,"Branches","%",0.11]
[]
[]
[null,null,"Low heating value (energy content)","MJ/kg",18]
[null,null,"Moinsture","%",0.15]
[null,null,"Wood Density","kg/m3",650]
[]
[null,"Management system","FR","FR","FR","FR","FR","FR","FR","FR","FR","FR","FR","FR"]
[null,null,{"$f":"+CONCATENATE(C16,C18)","v":"FRSeedling"},{"$f":"+CONCATENATE(D16,D18)","v":"FR - Nitrogen"},"FR - Phosphorus ","FR - Potassium ","FRLand clearing and planting - Manual","FRLand clearing and planting - Machinery","FRApplication of fertilizers - Manual","FRApplication of fertilizers - Machinery","FRApplication of other agrochemicals - Manual","FRApplication of other agrochemicals - Machinery","FRHarvesting - Manual","FRHarvesting - Machinery"]
[null,null,{"$f":"title188","v":"Seedling"},{"$f":"title190","v":" - Nitrogen"},{"$f":"title191","v":" - Phosphorus "},{"$f":"title192","v":" - Potassium "},{"$f":"title199&title200","v":"Land clearing and planting - Manual"},{"$f":"title199&title201","v":"Land clearing and planting - Machinery"},{"$f":"title202&title200","v":"Application of fertilizers - Manual"},{"$f":"title202&title201","v":"Application of fertilizers - Machinery"},{"$f":"title203&title200","v":"Application of other agrochemicals - Manual"},{"$f":"title203&title201","v":"Application of other agrochemicals - Machinery"},{"$f":"title204&title200","v":"Harvesting - Manual"},{"$f":"title204&title201","v":"Harvesting - Machinery"}]
[null,"Year","pcs./ha","    (kg/ha)","(kg/ha)","(kg/ha)",{"$f":"title238","v":"(man-days/ha)"},{"$f":"title239","v":"(hours/ha)"},{"$f":"title238","v":"(man-days/ha)"},{"$f":"title239","v":"(hours/ha)"},{"$f":"title238","v":"(man-days/ha)"},{"$f":"title239","v":"(hours/ha)"},{"$f":"title238","v":"(man-days/ha)"},{"$f":"title239","v":"(hours/ha)"}]
[null,0,{"$f":"E5","v":2500},23.4,11.2,25.2,65,5.7,2,1.5,2]
[null,1,null,23.4,11.2,25.2,null,null,2,1.5,2]
[null,2,null,23.4,11.2,25.2,null,null,2,1.5,2]
[null,3,null,23.4,11.2,25.2,null,null,2,1.5,2]
[null,4,null,23.4,11.2,25.2,null,null,2,1.5]
[null,5,null,23.4,11.2,25.2,null,null,2,1.5]
[null,6,null,23.4,11.2,25.2,null,null,2,1.5]
[null,7,null,null,null,null,null,null,null,null,null,null,20,8]
[null,8]
[null,9]
[null,10]
[null,11]
[null,12]
[null,13]
[null,14]
[null,15]
[null,16]
[null,17]
[null,18]
[null,19]
[null,20]
[null,21]
[null,22]
[null,23]
[null,24]
[null,25]
[null,26]
[null,27]
[null,28]
[null,29]
[null,30]
[null,"Total inputs quantity",{"$f":"SUM(C20:C50)","v":2500},{"$f":"SUM(D20:D50)","v":163.80000000000001},78.400000000000006,176.39999999999998,65,5.7,14,10.5,8,0,20,8]
[null,"From",0,0,0,0,0,0,0,0,0,null,7,7]
[null,"To",0,6,6,6,0,0,6,6,3,null,7,7]
[null,"Total times",1,7,7,7,1,1,7,7,4,null,1,1]

{"sheet":"Pinus patula","index":27,"n_rows":54,"n_cols":14,"rows_kept":54,"cut":false,"hidden":true,"merged":[[0,4,0,5]]}
[null,"SPECIES DATABASE",null,null,{"$f":"title145","v":"Species"}]
[null,null,null,{"$f":"title145","v":"Species"},"Pinus patula"]
[null,null,null,"Management system","FR"]
[null,null,null,"UNIT",{"$f":"CONCATENATE(E2,E3)","v":"Pinus patulaFR"}]
[null,null,"Planting density","trees/ha",1111]
[null,null,"Rotation length","years",30]
[null,null,"MAI","m3/ha/year",15]
[null,null,"Stem + bark","%",0.72]
[null,null,"Branches","%",0.18]
[]
[]
[null,null,"Low heating value (energy content)","MJ/kg",18]
[null,null,"Moinsture","%",0.1]
[null,null,"Wood Density","kg/m3",450]
[]
[null,"Management system","FR","FR","FR","FR","FR","FR","FR","FR","FR","FR","FR","FR"]
[null,null,{"$f":"+CONCATENATE(C16,C18)","v":"FRSeedling"},{"$f":"+CONCATENATE(D16,D18)","v":"FR - Nitrogen"},"FR - Phosphorus ","FR - Potassium ","FRLand clearing and planting - Manual","FRLand clearing and planting - Machinery","FRApplication of fertilizers - Manual","FRApplication of fertilizers - Machinery","FRApplication of other agrochemicals - Manual","FRApplication of other agrochemicals - Machinery","FRHarvesting - Manual","FRHarvesting - Machinery"]
[null,null,{"$f":"title188","v":"Seedling"},{"$f":"title190","v":" - Nitrogen"},{"$f":"title191","v":" - Phosphorus "},{"$f":"title192","v":" - Potassium "},{"$f":"title199&title200","v":"Land clearing and planting - Manual"},{"$f":"title199&title201","v":"Land clearing and planting - Machinery"},{"$f":"title202&title200","v":"Application of fertilizers - Manual"},{"$f":"title202&title201","v":"Application of fertilizers - Machinery"},{"$f":"title203&title200","v":"Application of other agrochemicals - Manual"},{"$f":"title203&title201","v":"Application of other agrochemicals - Machinery"},{"$f":"title204&title200","v":"Harvesting - Manual"},{"$f":"title204&title201","v":"Harvesting - Machinery"}]
[null,"Year","pcs./ha","    (kg/ha)","(kg/ha)","(kg/ha)",{"$f":"title238","v":"(man-days/ha)"},{"$f":"title239","v":"(hours/ha)"},{"$f":"title238","v":"(man-days/ha)"},{"$f":"title239","v":"(hours/ha)"},{"$f":"title238","v":"(man-days/ha)"},{"$f":"title239","v":"(hours/ha)"},{"$f":"title238","v":"(man-days/ha)"},{"$f":"title239","v":"(hours/ha)"}]
[null,0,{"$f":"E5","v":1111},10,12.5,12.5,65,6,2,1.5,2]
[null,1,null,10,12.5,12.5,null,null,2,1.5,2]
[null,2,null,10,12.5,12.5,null,null,2,1.5,2]
[null,3,null,10,12.5,12.5,null,null,2,1.5,2]
[null,4]
[null,5]
[null,6]
[null,7]
[null,8]
[null,9]
[null,10]
[null,11]
[null,12]
[null,13]
[null,14]
[null,15]
[null,16]
[null,17]
[null,18]
[null,19]
[null,20]
[null,21]
[null,22]
[null,23]
[null,24]
[null,25]
[null,26]
[null,27]
[null,28]
[null,29]
[null,30,null,null,null,null,null,null,null,null,null,null,20,8]
[null,"Total inputs quantity",{"$f":"SUM(C20:C50)","v":1111},{"$f":"SUM(D20:D50)","v":40},{"$f":"SUM(E20:E50)","v":50},{"$f":"SUM(F20:F50)","v":50},65,6,{"$f":"SUM(I20:I50)","v":8},6,8,0,20,8]
[null,"From",0,0,0,0,0,0,0,0,0,null,30,30]
[null,"To",0,3,3,3,0,0,3,3,3,null,30,30]
[null,"Total times",1,4,4,4,1,1,4,4,4,null,1,1]

{"sheet":"Pinus radiata","index":28,"n_rows":54,"n_cols":14,"rows_kept":54,"cut":false,"hidden":true,"merged":[[0,4,0,5]]}
[null,"SPECIES DATABASE",null,null,{"$f":"title145","v":"Species"}]
[null,null,null,{"$f":"title145","v":"Species"},"Pinus radiata"]
[null,null,null,"Management system","FR"]
[null,null,null,"UNIT",{"$f":"CONCATENATE(E2,E3)","v":"Pinus radiataFR"}]
[null,null,"Planting density","trees/ha",2200]
[null,null,"Rotation length","years",16]
[null,null,"MAI","m3/ha/year",20]
[null,null,"Stem + bark","%",0.72]
[null,null,"Branches","%",0.18]
[]
[]
[null,null,"Low heating value (energy content)","MJ/kg",20.47]
[null,null,"Moinsture","%",0.12]
[null,null,"Wood Density","kg/m3",450]
[]
[null,"Management system","FR","FR","FR","FR","FR","FR","FR","FR","FR","FR","FR","FR"]
[null,null,{"$f":"+CONCATENATE(C16,C18)","v":"FRSeedling"},{"$f":"+CONCATENATE(D16,D18)","v":"FR - Nitrogen"},"FR - Phosphorus ","FR - Potassium ","FRLand clearing and planting - Manual","FRLand clearing and planting - Machinery","FRApplication of fertilizers - Manual","FRApplication of fertilizers - Machinery","FRApplication of other agrochemicals - Manual","FRApplication of other agrochemicals - Machinery","FRHarvesting - Manual","FRHarvesting - Machinery"]
[null,null,{"$f":"title188","v":"Seedling"},{"$f":"title190","v":" - Nitrogen"},{"$f":"title191","v":" - Phosphorus "},{"$f":"title192","v":" - Potassium "},{"$f":"title199&title200","v":"Land clearing and planting - Manual"},{"$f":"title199&title201","v":"Land clearing and planting - Machinery"},{"$f":"title202&title200","v":"Application of fertilizers - Manual"},{"$f":"title202&title201","v":"Application of fertilizers - Machinery"},{"$f":"title203&title200","v":"Application of other agrochemicals - Manual"},{"$f":"title203&title201","v":"Application of other agrochemicals - Machinery"},{"$f":"title204&title200","v":"Harvesting - Manual"},{"$f":"title204&title201","v":"Harvesting - Machinery"}]
[null,"Year","pcs./ha","    (kg/ha)","(kg/ha)","(kg/ha)",{"$f":"title238","v":"(man-days/ha)"},{"$f":"title239","v":"(hours/ha)"},{"$f":"title238","v":"(man-days/ha)"},{"$f":"title239","v":"(hours/ha)"},{"$f":"title238","v":"(man-days/ha)"},{"$f":"title239","v":"(hours/ha)"},{"$f":"title238","v":"(man-days/ha)"},{"$f":"title239","v":"(hours/ha)"}]
[null,0,{"$f":"E5","v":2200},60,60,90,65,5.7,2,1.5,2]
[null,1,null,60,60,90,null,null,2,1.5,2]
[null,2,null,null,null,null,null,null,null,null,2]
[null,3]
[null,4]
[null,5]
[null,6]
[null,7]
[null,8]
[null,9]
[null,10]
[null,11]
[null,12]
[null,13]
[null,14]
[null,15]
[null,16,null,null,null,null,null,null,null,null,null,null,20,8]
[null,17]
[null,18]
[null,19]
[null,20]
[null,21]
[null,22]
[null,23]
[null,24]
[null,25]
[null,26]
[null,27]
[null,28]
[null,29]
[null,30]
[null,"Total inputs quantity",{"$f":"SUM(C20:C50)","v":2200},{"$f":"SUM(D20:D50)","v":120},120,180,65,5.7,4,3,6,0,20,8]
[null,"From",0,0,0,0,0,0,0,0,0,null,16,16]
[null,"To",0,1,1,1,0,0,1,1,2,null,16,16]
[null,"Total times",1,2,2,2,1,1,2,2,3,null,1,1]

{"sheet":"Populus spp.","index":29,"n_rows":54,"n_cols":14,"rows_kept":54,"cut":false,"hidden":true,"merged":[[0,4,0,5]]}
[null,"SPECIES DATABASE",null,null,{"$f":"title145","v":"Species"}]
[null,null,null,{"$f":"title145","v":"Species"},"Populus spp."]
[null,null,null,"Management system","FR"]
[null,null,null,"UNIT",{"$f":"CONCATENATE(E2,E3)","v":"Populus spp.FR"}]
[null,null,"Planting density","trees/ha",10000]
[null,null,"Rotation length","years",3]
[null,null,"MAI","m3/ha/year",{"$f":"13300/E14","v":31.818181818181817}]
[null,null,"Stem + bark","%",0.68700000000000006]
[null,null,"Branches","%",0.26]
[]
[]
[null,null,"Low heating value (energy content)","MJ/kg",18.5]
[null,null,"Moinsture","%",0.15]
[null,null,"Wood Density","kg/m3",418]
[]
[null,"Management system","FR","FR","FR","FR","FR","FR","FR","FR","FR","FR","FR","FR"]
[null,null,{"$f":"+CONCATENATE(C16,C18)","v":"FRSeedling"},{"$f":"+CONCATENATE(D16,D18)","v":"FR - Nitrogen"},"FR - Phosphorus ","FR - Potassium ","FRLand clearing and planting - Manual","FRLand clearing and planting - Machinery","FRApplication of fertilizers - Manual","FRApplication of fertilizers - Machinery","FRApplication of other agrochemicals - Manual","FRApplication of other agrochemicals - Machinery","FRHarvesting - Manual","FRHarvesting - Machinery"]
[null,null,{"$f":"title188","v":"Seedling"},{"$f":"title190","v":" - Nitrogen"},{"$f":"title191","v":" - Phosphorus "},{"$f":"title192","v":" - Potassium "},{"$f":"title199&title200","v":"Land clearing and planting - Manual"},{"$f":"title199&title201","v":"Land clearing and planting - Machinery"},{"$f":"title202&title200","v":"Application of fertilizers - Manual"},{"$f":"title202&title201","v":"Application of fertilizers - Machinery"},{"$f":"title203&title200","v":"Application of other agrochemicals - Manual"},{"$f":"title203&title201","v":"Application of other agrochemicals - Machinery"},{"$f":"title204&title200","v":"Harvesting - Manual"},{"$f":"title204&title201","v":"Harvesting - Machinery"}]
[null,"Year","pcs./ha","    (kg/ha)","(kg/ha)","(kg/ha)",{"$f":"title238","v":"(man-days/ha)"},{"$f":"title239","v":"(hours/ha)"},{"$f":"title238","v":"(man-days/ha)"},{"$f":"title239","v":"(hours/ha)"},{"$f":"title238","v":"(man-days/ha)"},{"$f":"title239","v":"(hours/ha)"},{"$f":"title238","v":"(man-days/ha)"},{"$f":"title239","v":"(hours/ha)"}]
[null,0,{"$f":"E5","v":10000},48,144,144,65,5.7,2,1.5,2,1.5]
[null,1,null,null,null,null,null,null,null,null,2,1.5]
[null,2,null,null,null,null,null,null,null,null,2,1.5]
[null,3,null,null,null,null,null,null,null,null,null,null,20,8]
[null,4]
[null,5]
[null,6]
[null,7]
[null,8]
[null,9]
[null,10]
[null,11]
[null,12]
[null,13]
[null,14]
[null,15]
[null,16]
[null,17]
[null,18]
[null,19]
[null,20]
[null,21]
[null,22]
[null,23]
[null,24]
[null,25]
[null,26]
[null,27]
[null,28]
[null,29]
[null,30]
[null,"Total inputs quantity",{"$f":"SUM(C20:C50)","v":10000},{"$f":"SUM(D20:D50)","v":48},144,144,65,5.7,2,1.5,6,4.5,20,8]
[null,"From",0,0,0,0,0,0,0,0,0,0,3,3]
[null,"To",0,0,0,0,0,0,0,0,2,2,3,3]
[null,"Total times",1,1,1,1,1,1,1,1,3,3,1,1]

{"sheet":"Salix spp.","index":30,"n_rows":54,"n_cols":14,"rows_kept":54,"cut":false,"hidden":true,"merged":[[0,4,0,5]]}
[null,"SPECIES DATABASE",null,null,{"$f":"title145","v":"Species"}]
[null,null,null,{"$f":"title145","v":"Species"},"Salix spp."]
[null,null,null,"Management system","FR"]
[null,null,null,"UNIT",{"$f":"CONCATENATE(E2,E3)","v":"Salix spp.FR"}]
[null,null,"Planting density","trees/ha",15000]
[null,null,"Rotation length","years",3]
[null,null,"MAI","m3/ha/year",25]
[null,null,"Stems","%",0.68700000000000006]
[null,null,"Branches","%",0.26]
[]
[]
[null,null,"Low heating value (energy content)","MJ/kg",18.27]
[null,null,"Moinsture","%",0.12]
[null,null,"Wood Density","kg/m3",440]
[]
[null,"Management system","FR","FR","FR","FR","FR","FR","FR","FR","FR","FR","FR","FR"]
[null,null,{"$f":"+CONCATENATE(C16,C18)","v":"FRSeedling"},{"$f":"+CONCATENATE(D16,D18)","v":"FR - Nitrogen"},"FR - Phosphorus ","FR - Potassium ","FRLand clearing and planting - Manual","FRLand clearing and planting - Machinery","FRApplication of fertilizers - Manual","FRApplication of fertilizers - Machinery","FRApplication of other agrochemicals - Manual","FRApplication of other agrochemicals - Machinery","FRHarvesting - Manual","FRHarvesting - Machinery"]
[null,null,{"$f":"title188","v":"Seedling"},{"$f":"title190","v":" - Nitrogen"},{"$f":"title191","v":" - Phosphorus "},{"$f":"title192","v":" - Potassium "},{"$f":"title199&title200","v":"Land clearing and planting - Manual"},{"$f":"title199&title201","v":"Land clearing and planting - Machinery"},{"$f":"title202&title200","v":"Application of fertilizers - Manual"},{"$f":"title202&title201","v":"Application of fertilizers - Machinery"},{"$f":"title203&title200","v":"Application of other agrochemicals - Manual"},{"$f":"title203&title201","v":"Application of other agrochemicals - Machinery"},{"$f":"title204&title200","v":"Harvesting - Manual"},{"$f":"title204&title201","v":"Harvesting - Machinery"}]
[null,"Year","pcs./ha","    (kg/ha)","(kg/ha)","(kg/ha)",{"$f":"title238","v":"(man-days/ha)"},{"$f":"title239","v":"(hours/ha)"},{"$f":"title238","v":"(man-days/ha)"},{"$f":"title239","v":"(hours/ha)"},{"$f":"title238","v":"(man-days/ha)"},{"$f":"title239","v":"(hours/ha)"},{"$f":"title238","v":"(man-days/ha)"},{"$f":"title239","v":"(hours/ha)"}]
[null,0,{"$f":"E5","v":15000},10,12.5,12.5,65,5.7,2,1.5,2]
[null,1,null,10,12.5,12.5,null,null,2,1.5,2]
[null,2,null,10,12.5,12.5,null,null,2,1.5,2]
[null,3,null,null,null,null,null,null,null,null,null,null,20,8]
[null,4]
[null,5]
[null,6]
[null,7]
[null,8]
[null,9]
[null,10]
[null,11]
[null,12]
[null,13]
[null,14]
[null,15]
[null,16]
[null,17]
[null,18]
[null,19]
[null,20]
[null,21]
[null,22]
[null,23]
[null,24]
[null,25]
[null,26]
[null,27]
[null,28]
[null,29]
[null,30]
[null,"Total inputs quantity",{"$f":"SUM(C20:C50)","v":15000},{"$f":"SUM(D20:D50)","v":30},37.5,37.5,65,5.7,6,4.5,6,0,20,8]
[null,"From",0,0,0,0,0,0,0,0,0,null,3,3]
[null,"To",0,2,2,2,0,0,2,2,2,null,3,3]
[null,"Total times",1,3,3,3,1,1,3,3,3,null,1,1]

{"sheet":"Productive","index":31,"n_rows":108,"n_cols":14,"rows_kept":108,"cut":false,"hidden":true,"merged":[]}
["PLANT FOREST DATABASE (Forestry Department - FAO)"]
[]
["Overall species","Taxa","Type of Planted Forest","MAI_min","MAI_max","MAI_avg","RL_min",null,"RL_max","RL_avg","HarvVol_min","HarvVol_max","HarvVol_avg","Country"]
["Acacia ","Acacia auriculiformis","Productive Plantation Forests",10,25,{"$f":"(D4+E4)/2","v":17.5},8,null,15,{"$f":"(G4+I4)/2","v":11.5},114,115,{"$f":"(K4+L4)/2","v":114.5},"Philippines"]
["Acacia ","Acacia Australian species","Productive Plantation Forests",10,12,{"$f":"(D5+E5)/2","v":11},9,null,12,{"$f":"(G5+I5)/2","v":10.5},90,120,{"$f":"(K5+L5)/2","v":105},"South Africa"]
["Acacia ","Acacia dealbata","Productive Plantation Forests",10,20,15,15,null,45,30,200,400,300,"Chile"]
["Acacia ","Acacia mangium","Productive Plantation Forests",19,24,21.5,6,null,10,8,35,165,100,"Indonesia"]
["Acacia ","Acacia mangium","Productive Plantation Forests",20,40,30,6,null,14,10,184,235,209.5,"Philippines"]
["Acacia ","Acacia mearnsii","Productive Plantation Forests",18,20,19,8,null,10,9,0,0,null,"India"]
["Acacia ","Acacia melanoxylon","Productive Plantation Forests",10,20,15,15,null,45,30,200,400,300,"Chile"]
["Acacia ","Acacia mellifera","Productive Plantation Forests",2.2000000000000002,4,3.1,20,null,35,27.5,80,100,90,"Sudan"]
["Acacia ","Acacia nilotica","Productive Plantation Forests",15,20,17.5,15,null,30,22.5,100,120,110,"Sudan"]
["Acacia ","Acacia senegal","Productive Plantation Forests",1.4,2.6,2,25,null,30,27.5,50,70,60,"Sudan"]
["Acacia ","Acacia seyal","Productive Plantation Forests",2,6,4,15,null,25,20,75,95,85,"Sudan"]
["Acacia ","Acacia spp.","Productive Plantation Forests",15,30,22.5,8,null,15,11.5,120,450,285,"Brazil"]
["Acacia ","Acacia spp.","Productive Plantation Forests",0,0,19,6,null,8,7,0,0,181,"Indonesia"]
["Acacia ","Acacia spp.","Productive Plantation Forests",8,12,{"$f":"(D17+E17)/2","v":10},6,null,8,7,48,96,{"$f":"(K17+L17)/2","v":72},"Viet Nam"]
["ACACIA AVERAGES",null,null,null,"Total avg",{"$f":"AVERAGE(F4:F17)","v":14.792857142857143},null,null,"Total avg",{"$f":"AVERAGE(J4:J17)","v":16.571428571428573},null,"Total avg",{"$f":"SUM(M4:M8,M10:M17)/13","v":154.76923076923077}]
[null,null,null,null,"Short rotation avg",{"$f":"SUM(F4,F5,F7,F8,F9,F15,F16,F17)/8","v":18.8125},null,null,"Short rotation avg",{"$f":"SUM(J4,J5,J7,J8,J9,J15,J16,J7)/8","v":9.4375},null,"Short rotation avg",{"$f":"SUM(M4,M5,M7,M8,M15,M16,M17)/7","v":152.42857142857142}]
[null,null,null,null,null,null,null,null,null,9,null,"Short rotation avg (calculated)",{"$f":"J19*F19","v":177.54296875}]
[]
[]
["Pinus","Pinus caribaea","Productive Plantation Forests",22,27,{"$f":"(D23+E23)/2","v":24.5},18,null,27,{"$f":"(G23+I23)/2","v":22.5},0,0,null,"Argentina"]
["Pinus","Pinus caribaea","Productive Plantation Forests",12,15.2,{"$f":"(D24+E24)/2","v":13.6},30,null,30,{"$f":"(G24+I24)/2","v":30},370,455,{"$f":"(K24+L24)/2","v":412.5},"Australia"]
["Pinus","Pinus clausa","Productive Plantation Forests",5,5,5,20,null,40,30,115,232,173.5,"United States of America"]
["Pinus","Pinus contorta","Productive Plantation Forests",0,0,null,70,null,100,85,0,0,null,"Norway"]
["Pinus","Pinus contorta","Productive Plantation Forests",4,14,9,45,null,60,52.5,130,710,420,"United Kingdom"]
["Pinus","Pinus elliottii","Productive Plantation Forests",22,27,24.5,18,null,27,22.5,0,0,null,"Argentina"]
["Pinus","Pinus elliottii","Productive Plantation Forests",12.3,15.2,13.75,30,null,30,30,370,455,412.5,"Australia"]
["Pinus","Pinus elliottii","Productive Plantation Forests",12,18,15,25,null,35,30,300,450,375,"South Africa"]
["Pinus","Pinus elliottii","Productive Plantation Forests",7,8,7.5,20,null,30,25,158,249,203.5,"United States of America"]
["Pinus","Pinus halepensis","Productive Plantation Forests",2.5,3.5,3,60,null,0,30,100,200,150,"Croatia"]
["Pinus","Pinus kesiya","Productive Plantation Forests",10,15,12.5,10,null,12,11,187,238,212.5,"Philippines"]
["Pinus","Pinus merkusii","Productive Plantation Forests",2,14,8,10,null,50,30,100,197,148.5,"Indonesia"]
["Pinus","Pinus nigra","Productive Plantation Forests",2.5,3.5,3,80,null,0,40,140,350,245,"Croatia"]
["Pinus","Pinus nigra","Productive Plantation Forests",0,0,null,80,null,130,105,0,0,null,"France"]
["Pinus","Pinus nigra","Productive Plantation Forests",0,0,4.46,0,null,0,110,0,0,null,"Slovakia"]
["Pinus","Pinus nigra (laricius) J.F. Arnold subsp. laricio (Poir.) Maire","Productive Plantation Forests",0,0,null,80,null,200,{"$f":"(G38+I38)/2","v":140},0,0,null,"France"]
["Pinus","Pinus palustris","Productive Plantation Forests",6,6,{"$f":"(D39+E39)/2","v":6},30,null,65,{"$f":"(G39+I39)/2","v":47.5},193,389,291,"United States of America"]
["Pinus","Pinus patula","Productive Plantation Forests",12,18,{"$f":"(D40+E40)/2","v":15},25,null,35,30,300,450,375,"South Africa"]
["Pinus","Pinus pinaster","Productive Plantation Forests",10.8,0,5.4,40,null,40,40,430,0,215,"Australia"]
["Pinus","Pinus pinaster","Productive Plantation Forests",4.7,13.8,9.25,40,null,70,55,0,0,null,"France"]
["Pinus","Pinus pinaster","Productive Plantation Forests",10,14,12,25,null,30,27.5,280,380,330,"South Africa"]
["Pinus","Pinus radiata","Productive Plantation Forests",15.7,21,18.350000000000001,25,{"$f":"J44*F44","v":504.62500000000006},30,27.5,470,630,550,"Australia"]
["Pinus","Pinus radiata","Productive Plantation Forests",14,34,24,18,{"$f":"J45*F45","v":552},28,23,260,580,420,"Chile"]
["Pinus","Pinus radiata","Productive Plantation Forests",16,26,21,20,{"$f":"J46*F46","v":630},40,30,0,0,null,"Italy"]
["Pinus","Pinus radiata","Productive Plantation Forests",17,20,18.5,25,{"$f":"J47*F47","v":510.6},32,27.6,440,620,460,"New Zealand"]
["Pinus","Pinus radiata","Productive Plantation Forests",12,16,14,28,{"$f":"J48*F48","v":441},35,{"$f":"(G48+I48)/2","v":31.5},280,450,{"$f":"(K48+L48)/2","v":365},"South Africa"]
["Pinus","Pinus resinosa","Productive Plantation Forests",5,4,4.5,40,null,100,{"$f":"(G49+I49)/2","v":70},234,420,{"$f":"(K49+L49)/2","v":327},"United States of America"]
["Pinus","Pinus roxburghii","Productive Plantation Forests",3,5,4,80,null,100,90,0,0,null,"India"]
["Pinus","Pinus spp.","Productive Plantation Forests",8,17,12.5,60,null,120,90,0,0,null,"Belgium"]
["Pinus","Pinus spp.","Productive Plantation Forests",25,40,32.5,15,null,30,22.5,375,1200,787.5,"Brazil"]
["Pinus","Pinus spp.","Productive Plantation Forests",4,15,9.5,60,null,80,70,82,91,86.5,"Myanmar"]
["Pinus","Pinus spp.","Productive Plantation Forests",6,12,9,0,null,0,null,0,0,null,"Netherlands"]
["Pinus","Pinus spp.","Productive Plantation Forests",10,14,12,25,null,30,27.5,280,380,330,"South Africa"]
["Pinus","Pinus spp.","Productive Plantation Forests",3,5,4,15,null,30,22.5,45,150,97.5,"Viet Nam"]
["Pinus","Pinus strobus","Productive Plantation Forests",8,20,14,60,null,0,30,300,650,475,"Croatia"]
["Pinus","Pinus strobus","Productive Plantation Forests",7,4,5.5,25,null,70,47.5,181,320,250.5,"United States of America"]
["Pinus","Pinus sylvestris","Productive Plantation Forests",2.5,3.5,3,80,null,0,40,140,350,245,"Croatia"]
["Pinus","Pinus sylvestris","Productive Plantation Forests",0,0,6.4,101,null,0,50.5,0,0,null,"Lithuania"]
["Pinus","Pinus sylvestris","Productive Plantation Forests",3,9,{"$f":"(D61+E61)/2","v":6},0,null,0,null,0,0,null,"Netherlands"]
["Pinus","Pinus sylvestris","Productive Plantation Forests",0,0,7.6,60,null,150,105,0,0,3.6,"Poland"]
["Pinus","Pinus sylvestris","Productive Plantation Forests",0,0,4.46,0,null,0,110,0,0,3.5,"Slovakia"]
["Pinus","Pinus sylvestris","Productive Plantation Forests",4,14,{"$f":"(D64+E64)/2","v":9},55,null,75,{"$f":"(G64+I64)/2","v":65},120,240,{"$f":"(K64+L64)/2","v":180},"United Kingdom"]
["Pinus","Pinus tabulaeformis Carr.","Productive Plantation Forests",4,9.4,{"$f":"(D65+E65)/2","v":6.7},40,null,50,{"$f":"(G65+I65)/2","v":45},160,470,{"$f":"(K65+L65)/2","v":315},"China"]
["Pinus","Pinus taeda","Productive Plantation Forests",22,27,{"$f":"(D66+E66)/2","v":24.5},18,null,27,{"$f":"(G66+I66)/2","v":22.5},0,0,null,"Argentina"]
["Pinus","Pinus taeda","Productive Plantation Forests",10,14,{"$f":"(D67+E67)/2","v":12},25,null,30,{"$f":"(G67+I67)/2","v":27.5},280,380,{"$f":"(K67+L67)/2","v":330},"South Africa"]
["Pinus","Pinus taeda","Productive Plantation Forests",9.8000000000000007,10.1,{"$f":"(D68+E68)/2","v":9.9499999999999993},20,null,30,{"$f":"(G68+I68)/2","v":25},202,293,{"$f":"(K68+L68)/2","v":247.5},"United States of America"]
["PINUS AVERAGES",null,null,null,"Total avg",{"$f":"AVERAGE(F23:F25,F27:F35,F37,F39:F68)","v":11.265581395348836},null,null,"Total avg",{"$f":"AVERAGE(J23:J53,J55:J60,J62:J68)","v":47.581818181818178},null,"Total avg",{"$f":"SUM(M24:M25,M27,M29:M35,M39:M41,M43:M45,M47:M49,M52:M53,M55:M59,M62:M65,M67:M68)/32","v":294.92500000000001}]
[null,null,null,null,"Short rotation avg",{"$f":"SUM(F23,F28,F33,F52,F56,F66)/6","v":20.416666666666668},null,null,"Short rotation avg",{"$f":"SUM(J23,J28,J33,J52,J56,J66)/6","v":20.583333333333332},null,"Short rotation avg",{"$f":"SUM(M33,M52,M56)/3","v":365.83333333333331}]
[null,null,null,null,null,null,null,null,null,21,null,"Short rotation avg (calculated)",{"$f":"J70*F70","v":420.24305555555554}]
[]
["Populus","Populus alba","Productive Plantation Forests",22.5,27.5,{"$f":"(D73+E73)/2","v":25},10,null,12,{"$f":"(G73+I73)/2","v":11},0,0,null,"Argentina"]
["Populus","Populus alba","Productive Plantation Forests",6,9,{"$f":"(D74+E74)/2","v":7.5},30,null,60,{"$f":"(G74+I74)/2","v":45},180,540,{"$f":"(K74+L74)/2","v":360},"Croatia"]
["Populus","Populus alba","Productive Plantation Forests",0,0,9.9,30,null,0,15,0,0,11.7,"Poland"]
["Populus","Populus deltoides","Productive Plantation Forests",22.5,27.5,{"$f":"(D76+E76)/2","v":25},10,null,12,11,0,0,null,"Argentina"]
["Populus","Populus hybrids","Productive Plantation Forests",16,21,{"$f":"(D77+E77)/2","v":18.5},10.3,null,11.2,10.75,170,220,{"$f":"(K77+L77)/2","v":195},"Italy"]
["Populus","Populus nigra","Productive Plantation Forests",22.5,27.5,25,10,null,12,11,0,0,null,"Argentina"]
["Populus","Populus nigra","Productive Plantation Forests",6,9,7.5,30,null,60,45,180,540,360,"Croatia"]
["Populus","Populus spp.","Productive Plantation Forests",10,20,15,15,null,30,22.5,0,0,null,"Belgium"]
["Populus","Populus spp.","Productive Plantation Forests",10,30,20,12,null,25,18.5,120,750,435,"Brazil"]
["Populus","Populus spp.","Productive Plantation Forests",28,42,35,10,null,16,13,300,500,400,"Chile"]
["Populus","Populus spp.","Productive Plantation Forests",3.7,18.5,11.1,8,null,15,11.5,30,278,154,"China"]
["Populus","Populus spp.","Productive Plantation Forests",20,25,22.5,8,null,10,9,0,0,null,"India"]
["Populus","Populus spp.","Productive Plantation Forests",5,12,8.5,10,null,25,17.5,2.5,8.4,5.45,"Iran (Islamic Republic of)"]
["Populus","Populus spp.","Productive Plantation Forests",8,20,14,20,null,50,35,0,0,null,"Netherlands"]
["Populus","Populus spp.","Productive Plantation Forests",7.7,9.8000000000000007,8.75,26,null,41,33.5,200,400,300,"Ukraine"]
["Populus","Populus tremula","Productive Plantation Forests",0,0,13,40,null,0,20,0,0,9.1999999999999993,"Poland"]
["Populus","Populus x canadensis","Productive Plantation Forests",22.5,27.5,{"$f":"(D89+E89)/2","v":25},10,null,12,11,0,0,null,"Argentina"]
["Populus","Populus x euramericana","Productive Plantation Forests",6,20,{"$f":"(D90+E90)/2","v":13},15,null,30,22.5,120,700,{"$f":"(K90+L90)/2","v":410},"Croatia"]
["Populus","Populus x euramericana","Productive Plantation Forests",0,0,7.38,0,null,0,30,0,0,15.3,"Slovakia"]
["Populus","Populus x I 63","Productive Plantation Forests",22.5,27.5,{"$f":"(D92+E92)/2","v":25},10,null,12,{"$f":"(G92+I92)/2","v":11},0,0,null,"Argentina"]
["POPULUS AVERAGES",null,null,null,"Total avg",{"$f":"AVERAGE(F73:F92)","v":16.831499999999998},null,null,"Total avg",{"$f":"AVERAGE(J73:J92)","v":20.1875},null,"Total avg",{"$f":"SUM(M74:M75,M77,M79,M81:M83,M85,M87:M88,M90:M91)/12","v":221.30416666666667}]
[null,null,null,null,"Short rotation avg",{"$f":"SUM(F73,F75,F76,F77,F78,F82,F83,F84,F89,F92)/10","v":22.2},null,null,"Short rotation avg",{"$f":"SUM(J73,J75,J76,J77,J78,J82,J83,J84,J89,J92)/10","v":11.425000000000001},null,"Short rotation avg",{"$f":"SUM(M75,M77,M82,M83)/4","v":190.17500000000001}]
[null,null,null,null,null,null,null,null,null,11,null,"Short rotation avg (calculated)",{"$f":"J94*F94","v":253.63500000000002}]
[]
["Eucalyptus","Eucalyptus spp.","Productive Plantation Forests",20,70,{"$f":"(D97+E97)/2","v":45},6,null,16,{"$f":"(G97+I97)/2","v":11},120,1120,{"$f":"(K97+L97)/2","v":620},"Brazil"]
["Eucalyptus","Eucalyptus spp.","Productive Plantation Forests",15,36,{"$f":"(D98+E98)/2","v":25.5},8,null,12,{"$f":"(G98+I98)/2","v":10},130,400,{"$f":"(K98+L98)/2","v":265},"Chile"]
["Eucalyptus","Eucalyptus spp.","Productive Plantation Forests",1.6,8.6999999999999993,{"$f":"(D99+E99)/2","v":5.1499999999999995},5,null,15,10,8,131,{"$f":"(K99+L99)/2","v":69.5},"China"]
["Eucalyptus","Eucalyptus spp.","Productive Plantation Forests",8,12,{"$f":"(D100+E100)/2","v":10},10,null,20,15,0,0,null,"India"]
["Eucalyptus","Eucalyptus spp.","Productive Plantation Forests",0,0,19,6,null,8,7,0,0,107,"Indonesia"]
["Eucalyptus","Eucalyptus spp.","Productive Plantation Forests",4,10,{"$f":"(D102+E102)/2","v":7},10,null,25,17.5,2,7,{"$f":"(K102+L102)/2","v":4.5},"Iran (Islamic Republic of)"]
["Eucalyptus","Eucalyptus spp.","Productive Plantation Forests",7,25,{"$f":"(D103+E103)/2","v":16},8,null,15,11.5,100,300,{"$f":"(K103+L103)/2","v":200},"Italy"]
["Eucalyptus","Eucalyptus spp.","Productive Plantation Forests",12,14,{"$f":"(D104+E104)/2","v":13},8,null,15,11.5,500,618,{"$f":"(K104+L104)/2","v":559},"Sudan"]
["Eucalyptus","Eucalyptus spp.","Productive Plantation Forests",7,10,{"$f":"(D105+E105)/2","v":8.5},6,null,8,7,42,80,{"$f":"(K105+L105)/2","v":61},"Viet Nam"]
["EUCALYPTUS AVERAGES",null,null,null,"Total avg.",{"$f":"AVERAGE(F97:F105)","v":16.572222222222223},null,null,"Total avg.",{"$f":"AVERAGE(J97:J105)","v":11.166666666666666},null,"Total avg",{"$f":"SUM(M97:M99,M101:M105)/8","v":235.75}]
[null,null,null,null,"Short rotation avg.",{"$f":"SUM(F97,F98,F99,F100,F101,F103,F104,F105)/8","v":17.768750000000001},null,null,"Short rotation avg.",{"$f":"SUM(J97,J98,J99,J100,J101,J103,J104,J105)/8","v":10.375},null,"Short rotation avg",{"$f":"SUM(M97,M98,M99,M101,M103,M104,M105)/7","v":268.78571428571428}]
[null,null,null,null,null,null,null,null,null,10,null,"Short rotation avg (calculated)",{"$f":"J107*F107","v":184.35078125000001}]

{"sheet":"DATABASES","index":32,"n_rows":6,"n_cols":3,"rows_kept":6,"cut":false,"hidden":true,"merged":[]}
[]
[]
[]
[]
[]
[null,null,"The following sheets contain databases. Refer to the manual for their description. "]

{"sheet":"FAOSTAT_WPR","index":33,"n_rows":169,"n_cols":25,"rows_kept":169,"cut":false,"hidden":true,"merged":[[1,0,1,1],[1,2,1,3],[2,0,2,1],[2,2,2,3]]}
["FAOSTAT 2019"]
["Elements  ",null,"Areas  ",null,{"$f":"title106","v":"Sawnwood + (Total)"},{"$f":"title106","v":"Sawnwood + (Total)"},1872,{"$f":"title106","v":"Sawnwood + (Total)"},1872,{"$f":"title106","v":"Sawnwood + (Total)"},1872,{"$f":"title106","v":"Sawnwood + (Total)"},1872,{"$f":"title106","v":"Sawnwood + (Total)"},1872,{"$f":"title106","v":"Sawnwood + (Total)"},1872,{"$f":"title106","v":"Sawnwood + (Total)"},1872,{"$f":"title106","v":"Sawnwood + (Total)"},1872,{"$f":"title106","v":"Sawnwood + (Total)"},1872,{"$f":"title106","v":"Sawnwood + (Total)"},1872]
[null,null,null,null,"avg",2011,null,2012,null,2013,null,2014,null,2015,null,2016,null,2017,null,2018,null,2019,null,2020]
[null,null,null,null,{"$f":"CONCATENATE(E2,E3)","v":"Sawnwood + (Total)avg"},{"$f":"CONCATENATE(F2,F3)","v":"Sawnwood + (Total)2011"},"1872","Sawnwood + (Total)2012","1872","Sawnwood + (Total)2013","1872","Sawnwood + (Total)2014","1872","Sawnwood + (Total)2015","1872","Sawnwood + (Total)2016","1872","Sawnwood + (Total)2017","1872",{"$f":"CONCATENATE(T2,T3)","v":"Sawnwood + (Total)2018"},"1872",{"$f":"CONCATENATE(V2,V3)","v":"Sawnwood + (Total)2019"},"1872","Sawnwood + (Total)2020","1872"]
["Production (m3)",5516,{"$f":"FAO_Country251","v":"Afghanistan"},2,{"$f":"AVERAGE(F5:Y5)","v":388000},400000,null,400000,null,400000,null,400000,null,410000,null,410000,null,410000,null,410000,null,410000,null,230000]
["Production (m3)",5516,{"$f":"FAO_Country252","v":"Albania"},3,8000,8000,null,8000,null,8000,null,8000,null,8000,null,8000,null,8000,null,8000,null,8000,null,8000]
["Production (m3)",5516,{"$f":"FAO_Country253","v":"Algeria"},4,12800,12800,null,12800,null,12800,null,12800,null,12800,null,12800,null,12800,null,12800,null,12800,null,12800]
["Production (m3)",5516,{"$f":"FAO_Country255","v":"Angola"},7,16650,5000,null,5000,null,5000,null,5000,null,10000,null,15000,null,20400,null,20400,null,50400,null,30300]
["Production (m3)",5516,{"$f":"FAO_Country257","v":"Argentina"},9,3390542.9,2151000,null,3339000,null,3614000,null,2762600,null,3131000,null,3131000,null,4018943,null,4018943,null,4018943,null,3720000]
["Production (m3)",5516,{"$f":"FAO_Country258","v":"Armenia"},1,1500.1,1000,null,1000,null,200,null,500,null,2000,null,3800,null,5000,null,1000,null,400,null,101]
["Production (m3)",5516,{"$f":"FAO_Country260","v":"Australia"},10,4676076.4000000004,4556000,null,4388000,null,4593000,null,4888000,null,5084653,null,5104045,null,4727132,null,4634967,null,4634967,null,4150000]
["Production (m3)",5516,{"$f":"FAO_Country261","v":"Austria"},11,9506200,9636000,null,8952000,null,8534000,null,8460000,null,8731000,null,9410000,null,9849000,null,10386000,null,10528000,null,10576000]
["Production (m3)",5516,{"$f":"FAO_Country262","v":"Azerbaijan"},52,510,1300,null,300,null,100,null,100,null,200,null,300,null,2300,null,200,null,200,null,100]
["Production (m3)",5516,{"$f":"FAO_Country263","v":"Bahamas"},12,1400,1400,null,1400,null,1400,null,1400,null,1400,null,1400,null,1400,null,1400,null,1400,null,1400]
["Production (m3)",5516,{"$f":"FAO_Country265","v":"Bangladesh"},16,388000,388000,null,388000,null,388000,null,388000,null,388000,null,388000,null,388000,null,388000,null,388000,null,388000]
["Production (m3)",5516,{"$f":"FAO_Country267","v":"Belarus"},57,3342950,2570900,null,2570900,null,2557350,null,2557350,null,2875000,null,2745000,null,3559000,null,4046000,null,5355000,null,4593000]
["Production (m3)",5516,{"$f":"FAO_Country269","v":"Belgium"},255,1656251.1,1368503,null,1368503,null,1745000,null,1805000,null,1800000,null,1700000,null,1520000,null,1550000,null,2055505,null,1650000]
["Production (m3)",5516,{"$f":"FAO_Country270","v":"Belize"},23,15300,15300,null,15300,null,15300,null,15300,null,15300,null,15300,null,15300,null,15300,null,15300,null,15300]
["Production (m3)",5516,{"$f":"FAO_Country271","v":"Benin"},53,129300,86000,null,86000,null,165000,null,135000,null,133000,null,133000,null,133000,null,134000,null,134000,null,154000]
["Production (m3)",5516,{"$f":"FAO_Country272","v":"Bhutan"},18,23490.5,27000,null,27000,null,27000,null,21821,null,22014,null,22014,null,22014,null,22014,null,22014,null,22014]
["Production (m3)",5516,{"$f":"FAO_Country273","v":"Bolivia (Plurinational State of)"},19,460100,466000,null,466000,null,466000,null,466000,null,466000,null,466000,null,466000,null,466000,null,466000,null,407000]
["Production (m3)",5516,{"$f":"FAO_Country274","v":"Bosnia and Herzegovina"},80,1352527,868000,null,853000,null,853000,null,969390,null,1060000,null,1109610,null,1902480,null,1749790,null,2000000,null,2160000]
["Production (m3)",5516,{"$f":"FAO_Country276","v":"Brazil"},21,11695800,16201000,null,15167000,null,13380000,null,11340000,null,9980000,null,9950000,null,10220000,null,10240000,null,10240000,null,10240000]
["Production (m3)",5516,{"$f":"FAO_Country278","v":"Brunei Darussalam"},26,50900,50900,null,50900,null,50900,null,50900,null,50900,null,50900,null,50900,null,50900,null,50900,null,50900]
["Production (m3)",5516,{"$f":"FAO_Country279","v":"Bulgaria"},27,784424.9,728272,null,697982,null,800935,null,830570,null,938301,null,826915,null,783059,null,761335,null,761335,null,715545]
["Production (m3)",5516,{"$f":"FAO_Country280","v":"Burkina Faso"},233,5230,5200,null,5200,null,5200,null,5200,null,5500,null,5200,null,5200,null,5200,null,5200,null,5200]
["Production (m3)",5516,{"$f":"FAO_Country281","v":"Burundi"},29,39961.4,83300,null,37817,null,39706,null,34113,null,34113,null,34113,null,34113,null,34113,null,34113,null,34113]
["Production (m3)",5516,{"$f":"FAO_Country283","v":"Cambodia"},115,231800,102000,null,102000,null,202000,null,352000,null,452000,null,302000,null,352000,null,202000,null,152000,null,100000]
["Production (m3)",5516,{"$f":"FAO_Country284","v":"Cameroon"},32,1059400,1003000,null,1015000,null,1022000,null,1022000,null,1022000,null,1022000,null,1022000,null,1122000,null,1322000,null,1022000]
["Production (m3)",5516,{"$f":"FAO_Country285","v":"Canada"},33,44055788.700000003,38879780,null,40564043,null,42813453,null,43351000,null,47114860,null,49723699,null,47861400,null,47603420,null,42488904,null,40157328]
["Production (m3)",5516,{"$f":"FAO_Country286","v":"Central African Republic"},37,51226.9,58357,null,58513,null,50000,null,29399,null,71000,null,51000,null,51000,null,51000,null,51000,null,41000]
["Production (m3)",5516,{"$f":"FAO_Country287","v":"Chad"},39,2750,2400,null,2400,null,2400,null,2400,null,2400,null,2400,null,2900,null,3400,null,3400,null,3400]
["Production (m3)",5516,{"$f":"FAO_Country288","v":"Chile"},40,7807160,6785000,null,7160000,null,7721000,null,7999000,null,8373200,null,8455100,null,8150900,null,8150900,null,8150900,null,7125600]
["Production (m3)",5516,{"$f":"FAO_Country292","v":"China"},351,73409690,44638000,null,55740000,null,63040000,null,68422700,null,74356700,null,77208700,null,86064700,null,90292700,null,90292700,null,84040700]
["Production (m3)",5516,{"$f":"FAO_Country294","v":"Colombia"},44,435285.8,526000,null,542000,null,544000,null,475000,null,449233,null,425000,null,365169,null,353228,null,353228,null,320000]
["Production (m3)",5516,{"$f":"FAO_Country296","v":"Congo"},46,337300,228000,null,288000,null,327000,null,350000,null,373000,null,366000,null,332000,null,403000,null,403000,null,303000]
["Production (m3)",5516,{"$f":"FAO_Country298","v":"Costa Rica"},48,{"$f":"AVERAGE(F37:Y37)","v":453952.4},459000,null,529000,null,466000,null,455000,null,455000,null,455000,null,438900,null,451729,null,438855,null,391040]
["Production (m3)",5516,{"$f":"FAO_Country304","v":"Côte d'Ivoire"},107,819500,700000,null,700000,null,800000,null,871000,null,875000,null,875000,null,873000,null,874000,null,874000,null,753000]
["Production (m3)",5516,{"$f":"FAO_Country299","v":"Croatia"},98,1350005.2,754000,null,851000,null,1191800,null,1293763,null,1488353,null,1433500,null,1621909,null,1621909,null,1621909,null,1621909]
["Production (m3)",5516,{"$f":"FAO_Country300","v":"Cuba"},49,136627.1,151000,null,130000,null,132000,null,132000,null,155000,null,134000,null,134000,null,134000,null,134000,null,130271]
["Production (m3)",5516,{"$f":"FAO_Country301","v":"Cyprus"},50,1870.7,2909,null,2628,null,2241,null,2390,null,1865,null,1718,null,1146,null,1267,null,1187,null,1356]
["Production (m3)",5516,{"$f":"FAO_Country302","v":"Czech Republic"},167,4312000,4454000,null,4259000,null,4037000,null,3861000,null,4150000,null,4063000,null,4305000,null,4550000,null,4550000,null,4891000]
["Production (m3)",5516,{"$f":"FAO_Country305","v":"Democratic People's Republic of Korea"},116,279932.5,280000,null,280000,null,280000,null,280000,null,280000,null,280000,null,280000,null,280000,null,280000,null,279325]
["Production (m3)",5516,{"$f":"FAO_Country306","v":"Democratic Republic of the Congo"},250,145100,150000,null,150000,null,150000,null,150000,null,150000,null,150000,null,150000,null,150000,null,150000,null,101000]
["Production (m3)",5516,{"$f":"FAO_Country307","v":"Denmark"},54,377013.1,372160,null,372160,null,357602,null,356887,null,376887,null,386887,null,386887,null,386887,null,386887,null,386887]
["Production (m3)",5516,{"$f":"FAO_Country309","v":"Dominica"},55,0,0,null,0,null,0,null,0,null,0,null,0,null,0,null,0,null,0,null,0]
["Production (m3)",5516,{"$f":"FAO_Country310","v":"Dominican Republic"},56,24700,12000,null,12000,null,27000,null,31000,null,35000,null,26000,null,26000,null,26000,null,26000,null,26000]
["Production (m3)",5516,{"$f":"FAO_Country311","v":"Ecuador"},58,542797.80000000005,519000,null,519000,null,512000,null,795084,null,513994,null,513994,null,513994,null,513994,null,513994,null,512924]
["Production (m3)",5516,{"$f":"FAO_Country312","v":"Egypt"},59,12000,12000,null,12000,null,12000,null,12000,null,12000,null,12000,null,12000,null,12000,null,12000,null,12000]
["Production (m3)",5516,{"$f":"FAO_Country313","v":"El Salvador"},60,16300,16300,null,16300,null,16300,null,16300,null,16300,null,16300,null,16300,null,16300,null,16300,null,16300]
["Production (m3)",5516,{"$f":"FAO_Country314","v":"Equatorial Guinea"},61,15830.4,5576,null,5576,null,5576,null,5576,null,10000,null,10000,null,10100,null,15300,null,45300,null,45300]
["Production (m3)",5516,{"$f":"FAO_Country316","v":"Estonia"},63,1683171.9,1503248,null,1491190,null,1557600,null,1554208,null,1770473,null,1700000,null,1765000,null,1820000,null,1820000,null,1850000]
["Production (m3)",5516,{"$f":"FAO_Country318","v":"Ethiopia"},238,17900,17900,null,17900,null,17900,null,17900,null,17900,null,17900,null,17900,null,17900,null,17900,null,17900]
["Production (m3)",5516,{"$f":"FAO_Country321","v":"Fiji"},66,130000,130000,null,130000,null,130000,null,130000,null,130000,null,130000,null,130000,null,130000,null,130000,null,130000]
["Production (m3)",5516,{"$f":"FAO_Country322","v":"Finland"},67,10851600,9750000,null,9440000,null,10440000,null,10920000,null,10640000,null,11420000,null,11750000,null,11850000,null,11390000,null,10916000]
["Production (m3)",5516,{"$f":"FAO_Country323","v":"France"},68,7931495.4000000004,8675338,null,8067274,null,7901416,null,7696650,null,7514344,null,7893932,null,8159000,null,8094000,null,7813000,null,7500000]
["Production (m3)",5516,{"$f":"FAO_Country324","v":"French Guiana"},69,31500,31500,null,31500,null,31500,null,31500,null,31500,null,31500,null,31500,null,31500,null,31500,null,31500]
["Production (m3)",5516,{"$f":"FAO_Country326","v":"Gabon"},74,732945,500000,null,500000,null,520000,null,650000,null,651490,null,651490,null,801490,null,1101490,null,1101490,null,852000]
["Production (m3)",5516,{"$f":"FAO_Country327","v":"Gambia"},75,12900,1000,null,1000,null,1000,null,1000,null,1500,null,1500,null,10500,null,20500,null,45500,null,45500]
["Production (m3)",5516,{"$f":"FAO_Country328","v":"Georgia"},73,76383,70000,null,78000,null,56000,null,56100,null,76100,null,97000,null,81000,null,105630,null,93000,null,51000]
["Production (m3)",5516,{"$f":"FAO_Country329","v":"Germany"},79,22837636.600000001,22628100,null,21081299,null,21478169,null,21771800,null,21489849,null,22197245,null,23167680,null,23769456,null,24573352,null,26219416]
["Production (m3)",5516,{"$f":"FAO_Country330","v":"Ghana"},81,526912,515000,null,519000,null,511000,null,521000,null,534000,null,534000,null,533780,null,533780,null,533780,null,533780]
["Production (m3)",5516,{"$f":"FAO_Country332","v":"Greece"},84,89796.9,108000,null,108000,null,108000,null,108000,null,108000,null,108000,null,52554,null,65805,null,65805,null,65805]
["Production (m3)",5516,{"$f":"FAO_Country334","v":"Guadeloupe"},87,1000,1000,null,1000,null,1000,null,1000,null,1000,null,1000,null,1000,null,1000,null,1000,null,1000]
["Production (m3)",5516,{"$f":"FAO_Country335","v":"Guatemala"},89,244912.4,142781,null,144962,null,184994,null,245084,null,245084,null,243812,null,291730,null,290906,null,290906,null,368865]
["Production (m3)",5516,{"$f":"FAO_Country337","v":"Guinea"},90,30600,30000,null,30000,null,30000,null,30000,null,31000,null,31000,null,31000,null,31000,null,31000,null,31000]
["Production (m3)",5516,{"$f":"FAO_Country336","v":"Guinea-Bissau"},175,15700,15700,null,15700,null,15700,null,15700,null,15700,null,15700,null,15700,null,15700,null,15700,null,15700]
["Production (m3)",5516,{"$f":"FAO_Country338","v":"Guyana"},91,59023.8,76000,null,76000,null,74000,null,67148,null,70952,null,42100,null,48938,null,45600,null,45600,null,43900]
["Production (m3)",5516,{"$f":"FAO_Country339","v":"Haiti"},93,{"$f":"AVERAGE(F69:Y69)","v":12987.7},13800,null,13800,null,13800,null,13800,null,13800,null,13800,null,13800,null,13800,null,13800,null,5677]
["Production (m3)",5516,{"$f":"FAO_Country340","v":"Honduras"},95,273357.2,234000,null,246000,null,246000,null,296823,null,298985,null,259396,null,454638,null,435300,null,132875,null,129555]
["Production (m3)",5516,{"$f":"FAO_Country341","v":"Hungary"},97,412677,242597,null,333760,null,241072,null,270392,null,487496,null,517723,null,515048,null,512610,null,512610,null,493462]
["Production (m3)",5516,{"$f":"FAO_Country342","v":"Iceland"},99,0,0,null,0,null,0,null,0,null,0,null,0,null,0,null,0,null,0,null,0]
["Production (m3)",5516,{"$f":"FAO_Country343","v":"India"},100,6889000,6889000,null,6889000,null,6889000,null,6889000,null,6889000,null,6889000,null,6889000,null,6889000,null,6889000,null,6889000]
["Production (m3)",5516,{"$f":"FAO_Country344","v":"Indonesia"},101,4002100,4169000,null,4169000,null,4169000,null,4169000,null,4169000,null,4169000,null,4169000,null,4169000,null,4169000,null,2500000]
["Production (m3)",5516,{"$f":"FAO_Country345","v":"Iran (Islamic Republic of)"},102,26000,31000,null,33000,null,33000,null,33000,null,25000,null,21000,null,21000,null,21000,null,21000,null,21000]
["Production (m3)",5516,{"$f":"FAO_Country346","v":"Iraq"},103,12000,12000,null,12000,null,12000,null,12000,null,12000,null,12000,null,12000,null,12000,null,12000,null,12000]
["Production (m3)",5516,{"$f":"FAO_Country347","v":"Ireland"},104,926639.4,761092,null,781931,null,824708,null,906675,null,905331,null,986888,null,1057769,null,1014000,null,1014000,null,1014000]
["Production (m3)",5516,{"$f":"FAO_Country348","v":"Israel"},105,0,0,null,0,null,0,null,0,null,0,null,0,null,0,null,0,null,0,null,0]
["Production (m3)",5516,{"$f":"FAO_Country349","v":"Italy"},106,1451260,1250000,null,1370000,null,1360000,null,1430000,null,1470000,null,1500000,null,1520000,null,1554200,null,1554200,null,1504200]
["Production (m3)",5516,{"$f":"FAO_Country350","v":"Jamaica"},109,66153,66200,null,66200,null,66200,null,66200,null,66200,null,66200,null,66200,null,66200,null,66200,null,65730]
["Production (m3)",5516,{"$f":"FAO_Country351","v":"Japan"},110,9416100,9434000,null,9320000,null,10100000,null,9569000,null,9554000,null,9293000,null,9457000,null,9202000,null,9202000,null,9030000]
["Production (m3)",5516,{"$f":"FAO_Country353","v":"Kazakhstan"},108,279560,107800,null,622300,null,232000,null,232000,null,232000,null,232000,null,232000,null,150000,null,120000,null,635500]
["Production (m3)",5516,{"$f":"FAO_Country354","v":"Kenya"},114,269700,159000,null,170000,null,296000,null,296000,null,296000,null,296000,null,296000,null,296000,null,296000,null,296000]
["Production (m3)",5516,{"$f":"FAO_Country357","v":"Kyrgyzstan"},113,121120,85700,null,98000,null,106000,null,111800,null,124600,null,127500,null,134600,null,139500,null,139500,null,144000]
["Production (m3)",5516,null,120,185000,null,null,null,null,null,null,null,null,null,null,null,null,null,null,null,null,null,null,185000]
["Production (m3)",5516,{"$f":"FAO_Country359","v":"Latvia"},119,3572078.9,3431632,null,3316471,null,3447120,null,3484654,null,3479369,null,3902518,null,3909025,null,3775000,null,3775000,null,3200000]
["Production (m3)",5516,{"$f":"FAO_Country360","v":"Lebanon"},121,8190,9100,null,9100,null,9100,null,9100,null,9100,null,9100,null,9100,null,9100,null,9100,null,0]
["Production (m3)",5516,{"$f":"FAO_Country362","v":"Liberia"},123,122039.2,80000,null,80000,null,132449,null,132449,null,132449,null,132449,null,132649,null,132649,null,132649,null,132649]
["Production (m3)",5516,{"$f":"FAO_Country363","v":"Libya"},124,31000,31000,null,31000,null,31000,null,31000,null,31000,null,31000,null,31000,null,31000,null,31000,null,31000]
["Production (m3)",5516,{"$f":"FAO_Country364","v":"Liechtenstein"},125,1600,8000,null,8000,null,0,null,0,null,0,null,0,null,0,null,0,null,0,null,0]
["Production (m3)",5516,{"$f":"FAO_Country365","v":"Lithuania"},126,1244364.6000000001,1260000,null,1150000,null,1120000,null,1345300,null,1248146,null,1406000,null,1330200,null,1280000,null,1266000,null,1038000]
["Production (m3)",5516,{"$f":"FAO_Country366","v":"Luxembourg"},256,78331.399999999994,78337,null,78337,null,78330,null,78330,null,78330,null,78330,null,78330,null,78330,null,78330,null,78330]
["Production (m3)",5516,{"$f":"FAO_Country367","v":"Madagascar"},129,82612,103900,null,103900,null,87904,null,72142,null,74760,null,67925,null,87340,null,76083,null,76083,null,76083]
["Production (m3)",5516,{"$f":"FAO_Country368","v":"Malawi"},130,99808.5,95000,null,95000,null,95000,null,95277,null,102968,null,102968,null,102968,null,102968,null,102968,null,102968]
["Production (m3)",5516,{"$f":"FAO_Country369","v":"Malaysia"},131,3736955.6,4011000,null,4023000,null,4758000,null,4463000,null,3521000,null,3423000,null,3284411,null,3414343,null,3321802,null,3150000]
["Production (m3)",5516,{"$f":"FAO_Country371","v":"Mali"},133,108100,56000,null,56000,null,48000,null,130000,null,130000,null,130000,null,130000,null,130000,null,130000,null,141000]
["Production (m3)",5516,{"$f":"FAO_Country372","v":"Malta"},134,0,0,null,0,null,0,null,0,null,0,null,0,null,0,null,0,null,0,null,0]
["Production (m3)",5516,{"$f":"FAO_Country373","v":"Martinique"},135,1000,1000,null,1000,null,1000,null,1000,null,1000,null,1000,null,1000,null,1000,null,1000,null,1000]
["Production (m3)",5516,{"$f":"FAO_Country374","v":"Mauritania"},136,13959.4,14000,null,14000,null,14000,null,14000,null,14000,null,14000,null,14000,null,14000,null,14000,null,13594]
["Production (m3)",5516,{"$f":"FAO_Country375","v":"Mauritius"},137,1112,1920,null,2000,null,1000,null,800,null,600,null,960,null,960,null,960,null,960,null,960]
["Production (m3)",5516,{"$f":"FAO_Country377","v":"Mexico"},138,{"$f":"AVERAGE(F101:Y101)","v":2851900},2344000,null,2667000,null,2502000,null,2471000,null,2551000,null,2821000,null,3362000,null,3362000,null,3362000,null,3077000]
["Production (m3)",5516,{"$f":"FAO_Country379","v":"Mongolia"},141,50340,300000,null,30000,null,22000,null,22000,null,22000,null,22000,null,22000,null,22000,null,22000,null,19400]
["Production (m3)",5516,{"$f":"FAO_Country380","v":"Montenegro"},273,211700,177000,null,112000,null,137000,null,176000,null,215000,null,220000,null,270000,null,270000,null,270000,null,270000]
["Production (m3)",5516,{"$f":"FAO_Country381","v":"Morocco"},143,80152,83000,null,83000,null,83000,null,83000,null,83000,null,83000,null,83000,null,83000,null,83000,null,54520]
["Production (m3)",5516,{"$f":"FAO_Country382","v":"Mozambique"},144,443272.4,218000,null,239000,null,240021,null,402512,null,402512,null,385679,null,661000,null,661000,null,661000,null,562000]
["Production (m3)",5516,{"$f":"FAO_Country383","v":"Myanmar"},28,1743080,1610400,null,1610400,null,1610400,null,1780000,null,1829600,null,1830000,null,1830000,null,1830000,null,1830000,null,1670000]
["Production (m3)",5516,{"$f":"FAO_Country385","v":"Nepal"},149,629982.69999999995,630000,null,630000,null,630000,null,630000,null,630000,null,630000,null,630000,null,630000,null,630000,null,629827]
["Production (m3)",5516,{"$f":"FAO_Country387","v":"Netherlands"},150,183304.1,237700,null,190400,null,215500,null,228100,null,185056,null,183821,null,171000,null,140232,null,140232,null,141000]
["Production (m3)",5516,{"$f":"FAO_Country388","v":"New Caledonia"},153,3300,3300,null,3300,null,3300,null,3300,null,3300,null,3300,null,3300,null,3300,null,3300,null,3300]
["Production (m3)",5516,{"$f":"FAO_Country389","v":"New Zealand"},156,4160443,3832000,null,4059000,null,3941000,null,3602000,null,4029699,null,4300846,null,4657632,null,4422966,null,4422966,null,4336321]
["Production (m3)",5516,{"$f":"FAO_Country390","v":"Nicaragua"},157,61559.7,62000,null,62000,null,62000,null,62000,null,62000,null,62000,null,62904,null,60231,null,60231,null,60231]
["Production (m3)",5516,{"$f":"FAO_Country391","v":"Niger"},158,4000,4000,null,4000,null,4000,null,4000,null,4000,null,4000,null,4000,null,4000,null,4000,null,4000]
["Production (m3)",5516,{"$f":"FAO_Country392","v":"Nigeria"},159,2002000,2002000,null,2002000,null,2002000,null,2002000,null,2002000,null,2002000,null,2002000,null,2002000,null,2002000,null,2002000]
["Production (m3)",5516,{"$f":"FAO_Country395","v":"Norway"},162,2481752.6,2271000,null,2289404,null,2206000,null,2407000,null,2444000,null,2533000,null,2655000,null,2675122,null,2654000,null,2683000]
["Production (m3)",5516,{"$f":"FAO_Country397","v":"Pakistan"},165,1381000,1381000,null,1381000,null,1381000,null,1381000,null,1381000,null,1381000,null,1381000,null,1381000,null,1381000,null,1381000]
["Production (m3)",5516,{"$f":"FAO_Country398","v":"Panama"},166,27095,45000,null,27000,null,28000,null,37000,null,33000,null,11300,null,17650,null,24000,null,24000,null,24000]
["Production (m3)",5516,{"$f":"FAO_Country399","v":"Papua New Guinea"},168,147199.4,124000,null,82000,null,82000,null,82000,null,82000,null,120000,null,120000,null,220000,null,220000,null,339994]
["Production (m3)",5516,{"$f":"FAO_Country400","v":"Paraguay"},169,550000,550000,null,550000,null,550000,null,550000,null,550000,null,550000,null,550000,null,550000,null,550000,null,550000]
["Production (m3)",5516,{"$f":"FAO_Country401","v":"Peru"},170,605063.9,711000,null,693000,null,574000,null,667448,null,579079,null,531315,null,482320,null,463823,null,602970,null,745684]
["Production (m3)",5516,{"$f":"FAO_Country402","v":"Philippines"},171,489100,700000,null,700000,null,700000,null,700000,null,322000,null,424000,null,359000,null,370000,null,370000,null,246000]
["Production (m3)",5516,{"$f":"FAO_Country403","v":"Poland"},173,4742047.4000000004,4422020,null,4249000,null,4320605,null,4724700,null,4835189,null,4944725,null,5031392,null,5012843,null,5000000,null,4880000]
["Production (m3)",5516,{"$f":"FAO_Country404","v":"Portugal"},174,989888.7,1044425,null,941551,null,854025,null,1034800,null,1134255,null,1085155,null,979155,null,1085521,null,1050000,null,690000]
["Production (m3)",5516,{"$f":"FAO_Country406","v":"Republic of Korea"},117,2185000,2019000,null,2082000,null,2343000,null,2406000,null,2417000,null,2293000,null,2188000,null,2052000,null,2052000,null,1998000]
["Production (m3)",5516,{"$f":"FAO_Country407","v":"Republic of Moldova"},146,17849.599999999999,34480,null,18234,null,16280,null,14920,null,16000,null,14000,null,16578,null,17640,null,17640,null,12724]
["Production (m3)",5516,{"$f":"FAO_Country411","v":"Réunion"},182,2200,2200,null,2200,null,2200,null,2200,null,2200,null,2200,null,2200,null,2200,null,2200,null,2200]
["Production (m3)",5516,{"$f":"FAO_Country408","v":"Romania"},183,5576667.4000000004,4441808,null,5500000,null,5532300,null,5404000,null,6299709,null,6039000,null,5688353,null,5666833,null,5599400,null,5595271]
["Production (m3)",5516,{"$f":"FAO_Country409","v":"Russian Federation"},185,37238737.200000003,31215000,null,32230000,null,33500000,null,34600000,null,34500000,null,36794250,null,40584057,null,42701000,null,44466000,null,41797065]
["Production (m3)",5516,{"$f":"FAO_Country410","v":"Rwanda"},184,135000,135000,null,135000,null,135000,null,135000,null,135000,null,135000,null,135000,null,135000,null,135000,null,135000]
["Production (m3)",5516,{"$f":"FAO_Country415","v":"Samoa"},244,1000,1000,null,1000,null,1000,null,1000,null,1000,null,1000,null,1000,null,1000,null,1000,null,1000]
["Production (m3)",5516,{"$f":"FAO_Country416","v":"Sao Tome and Principe"},193,12000,12000,null,12000,null,12000,null,12000,null,12000,null,12000,null,12000,null,12000,null,12000,null,12000]
["Production (m3)",5516,{"$f":"FAO_Country418","v":"Senegal"},195,30400,25000,null,25000,null,25000,null,43000,null,31000,null,31000,null,31000,null,31000,null,31000,null,31000]
["Production (m3)",5516,{"$f":"FAO_Country420","v":"Serbia"},272,502300,512000,null,495000,null,502000,null,476000,null,506000,null,543000,null,496000,null,506000,null,517000,null,470000]
["Production (m3)",5516,{"$f":"FAO_Country421","v":"Seychelles"},196,{"$f":"AVERAGE(F133:Y133)","v":900},1000,null,1000,null,1000,null,1000,null,1000,null,1000,null,1000,null,1000,null,1000,null,0]
["Production (m3)",5516,{"$f":"FAO_Country422","v":"Sierra Leone"},197,18120,5300,null,5300,null,5300,null,5300,null,20000,null,20000,null,30000,null,30000,null,30000,null,30000]
["Production (m3)",5516,{"$f":"FAO_Country423","v":"Singapore"},200,10600,25000,null,25000,null,25000,null,25000,null,1000,null,1000,null,1000,null,1000,null,1000,null,1000]
["Production (m3)",5516,{"$f":"FAO_Country424","v":"Slovakia"},199,1342050,2204000,null,1560000,null,1430000,null,1750000,null,725000,null,730000,null,1737500,null,810000,null,952000,null,1522000]
["Production (m3)",5516,{"$f":"FAO_Country425","v":"Slovenia"},198,754500,703000,null,660000,null,660000,null,700000,null,725000,null,730000,null,745000,null,810000,null,810000,null,1002000]
["Production (m3)",5516,{"$f":"FAO_Country426","v":"Solomon Islands"},25,28500,27000,null,27000,null,27000,null,27000,null,28000,null,28000,null,28000,null,31000,null,31000,null,31000]
["Production (m3)",5516,{"$f":"FAO_Country427","v":"Somalia"},201,14000,14000,null,14000,null,14000,null,14000,null,14000,null,14000,null,14000,null,14000,null,14000,null,14000]
["Production (m3)",5516,{"$f":"FAO_Country428","v":"South Africa"},202,1942213.6,1566795,null,1443105,null,1552675,null,1865958,null,1965739,null,2138035,null,2165059,null,2262385,null,2262385,null,2200000]
["Production (m3)",5516,{"$f":"FAO_Country430","v":"Spain"},203,2298105.5,2161923,null,1971342,null,1872285,null,1852670,null,1690548,null,2138046,null,2763241,null,2991000,null,2750000,null,2790000]
["Production (m3)",5516,{"$f":"FAO_Country431","v":"Sri Lanka"},38,49000,31000,null,31000,null,31000,null,31000,null,61000,null,61000,null,61000,null,61000,null,61000,null,61000]
["Production (m3)",5516,{"$f":"FAO_Country433","v":"Sudan"},276,15222.222222222223,null,null,32000,null,28000,null,11000,null,11000,null,11000,null,11000,null,11000,null,11000,null,11000]
["Production (m3)",5516,{"$f":"FAO_Country434","v":"Suriname"},207,150473.20000000001,113000,null,138000,null,116000,null,135000,null,149232,null,123000,null,150000,null,219500,null,200500,null,160500]
["Production (m3)",5516,{"$f":"FAO_Country435","v":"Eswatini"},209,117300,122000,null,122000,null,122000,null,122000,null,122000,null,147000,null,122000,null,122000,null,122000,null,50000]
["Production (m3)",5516,{"$f":"FAO_Country436","v":"Sweden"},210,17713200,16492000,null,16286000,null,16214000,null,17500000,null,18174000,null,18357000,null,18406000,null,18373000,null,18730000,null,18600000]
["Production (m3)",5516,{"$f":"FAO_Country437","v":"Switzerland"},211,1143548.1000000001,1313450,null,1135279,null,1044000,null,1140474,null,1164000,null,1153122,null,1085235,null,1123902,null,1105175,null,1170844]
["Production (m3)",5516,{"$f":"FAO_Country438","v":"Syrian Arab Republic"},212,9000,9000,null,9000,null,9000,null,9000,null,9000,null,9000,null,9000,null,9000,null,9000,null,9000]
["Production (m3)",5516,{"$f":"FAO_Country439","v":"Tajikistan"},208,0,0,null,0,null,0,null,0,null,0,null,0,null,0,null,0,null,0,null,0]
["Production (m3)",5516,{"$f":"FAO_Country440","v":"Thailand"},216,3575000,2850000,null,2850000,null,2850000,null,2850000,null,2850000,null,3700000,null,4500000,null,4500000,null,4500000,null,4300000]
["Production (m3)",5516,{"$f":"FAO_Country441","v":"North Macedonia"},154,5600,3000,null,8000,null,4000,null,6000,null,4000,null,4000,null,6000,null,6000,null,8000,null,7000]
["Production (m3)",5516,{"$f":"FAO_Country443","v":"Togo"},217,63683.5,46000,null,75000,null,75000,null,74000,null,48071,null,49172,null,67398,null,67398,null,67398,null,67398]
["Production (m3)",5516,{"$f":"FAO_Country444","v":"Tonga"},219,1948.1,2009,null,2009,null,2009,null,2009,null,2009,null,2009,null,2009,null,2009,null,2009,null,1400]
["Production (m3)",5516,{"$f":"FAO_Country445","v":"Trinidad and Tobago"},220,31000,31000,null,31000,null,31000,null,31000,null,31000,null,31000,null,31000,null,31000,null,31000,null,31000]
["Production (m3)",5516,{"$f":"FAO_Country446","v":"Tunisia"},222,23123.7,20400,null,20000,null,20000,null,20000,null,20000,null,26632,null,26632,null,26632,null,26632,null,24309]
["Production (m3)",5516,{"$f":"FAO_Country447","v":"Turkey"},223,7650000,6461000,null,6682000,null,6405000,null,6635000,null,7772000,null,8499000,null,8116000,null,8205000,null,8350000,null,9375000]
["Production (m3)",5516,{"$f":"FAO_Country451","v":"Uganda"},226,427000,350000,null,400000,null,440000,null,440000,null,440000,null,440000,null,440000,null,440000,null,440000,null,440000]
["Production (m3)",5516,{"$f":"FAO_Country452","v":"Ukraine"},230,2854731.2,1888000,null,1824000,null,1804000,null,1880000,null,2700000,null,3050000,null,3650000,null,4100000,null,3903312,null,3748000]
["Production (m3)",5516,{"$f":"FAO_Country454","v":"United Kingdom"},229,3545391.7,3279070,null,3409400,null,3581095,null,3763654,null,3492916,null,3671129,null,3763206,null,3659332,null,3456353,null,3377762]
["Production (m3)",5516,{"$f":"FAO_Country455","v":"United Republic of Tanzania"},215,59300,24000,null,35000,null,48000,null,48000,null,73000,null,73000,null,73000,null,73000,null,73000,null,73000]
["Production (m3)",5516,{"$f":"FAO_Country456","v":"United States of America"},231,75610000.299999997,63173800,null,67474000,null,71115000,null,75833300,null,76362000,null,78165000,null,80374000,null,81997600,null,82471700,null,79133603]
["Production (m3)",5516,{"$f":"FAO_Country457","v":"Uruguay"},234,493772,376000,null,413000,null,433000,null,513000,null,487036,null,434630,null,595000,null,594000,null,594000,null,498054]
["Production (m3)",5516,{"$f":"FAO_Country458","v":"Uzbekistan"},235,13680.1,12600,null,25400,null,25400,null,25400,null,25400,null,5929,null,4168,null,4168,null,4168,null,4168]
["Production (m3)",5516,{"$f":"FAO_Country459","v":"Vanuatu"},155,14000,14000,null,14000,null,14000,null,14000,null,14000,null,14000,null,14000,null,14000,null,14000,null,14000]
["Production (m3)",5516,{"$f":"FAO_Country460","v":"Venezuela (Bolivarian Republic of)"},236,{"$f":"AVERAGE(F165:Y165)","v":950000},950000,null,950000,null,950000,null,950000,null,950000,null,950000,null,950000,null,950000,null,950000,null,950000]
["Production (m3)",5516,{"$f":"FAO_Country461","v":"Viet Nam"},237,6000000,5800000,null,6200000,null,6000000,null,6000000,null,6000000,null,6000000,null,6000000,null,6000000,null,6000000,null,6000000]
["Production (m3)",5516,{"$f":"FAO_Country462","v":"Wallis and Futuna Islands"},243,170,170,null,170,null,170,null,170,null,170,null,170,null,170,null,170,null,170,null,170]
["Production (m3)",5516,{"$f":"FAO_Country465","v":"Zambia"},251,164900,157000,null,157000,null,157000,null,157000,null,157000,null,157000,null,157000,null,170000,null,190000,null,190000]
["Production (m3)",5516,{"$f":"FAO_Country466","v":"Zimbabwe"},181,196191.6,177000,null,198324,null,198324,null,198324,null,198324,null,198324,null,198324,null,198324,null,198324,null,198324]

{"sheet":"Country","index":34,"n_rows":260,"n_cols":34,"rows_kept":260,"cut":false,"hidden":true,"merged":[[1,4,1,5],[1,6,1,7],[2,4,2,5],[2,6,2,7]]}
[null,"Select from the list  ","Region","Forest type","FAOSTAT 2019",null,null,null,"Rural population",null,"Total population (1000 inhab)",null,"Urban population  ",null,"WB:WDI 2021","GDP per capita (current US$)","GDP/capita, PPP (current int. $)","GDP/capita, PPP (const. 2011, int. $)","GDP per unit of energy use (constant 2011 PPP $ per kg of oil equivalent)","Agriculture, value added (% of GDP)","Undernourished population (%)","Energy use (kt of oil equivalent)","Energy use (kg of oil eq. per capita)","Access to electricity (% of population)","Electricity consumption (kWh/capita)","Access to clean fuels and technologies for cooking (% of population)","Access to electricity, rural (% of rural population)","Access to electricity, urban (% of urban population)","Level of water stress: freshwater withdrawal as a proportion of available freshwater resources","Energy intensity level of primary energy (MJ/$2011 PPP GDP)",null,null,"Poverty headcount ratio at national poverty line (% of pop.)","Poverty headcount ratio at national poverty line (% of pop.)year"]
[null,null,null,"T-temperate; TS-tropical/subtropical, warm, B-boreal","Items  ",null,"Country",null,"Rural population (1000)",551,"Total Population - Both sexes (1000)",511,"Urban population (1000)",561,"Country Name",2020,2020,2020,2014,2020,2019,2011,2014,2019,2014,2016,2019,2019,2017,2015]
[null,{"$f":"+country_sel2","v":"Select a country"},"IPCC",null,null,null,null,null,2020,null,2020,null,2020,null,"Afghanistan",509,2088,1979,"",27.01,25.6,0,"",97.7,"",32.44,96.9,100,54.76,2.46,null,"Country Name","Data",{"$f":"LOWER(title58)","v":"year"}]
[1,{"$f":"FRA_Country88","v":"Afghanistan"},{"$f":"Region475","v":"Indian Subcontinent"},"T","Population - Est. & Proj.",3010,"Afghanistan",null,28797,null,38928,null,10131,null,"Albania",5215,13818,13295,13.235771654698386,19.25,3.9,2173.105,808.45583959594398,100,2309.3665025558098,77.42,100,100,7.14,2.89,null,"Afghanistan",54.5,2016]
[2,{"$f":"FRA_Country115","v":"Albania"},{"$f":"Region474","v":"Eastern Europe"},"T","Population - Est. & Proj.",3010,"Albania",null,1075,null,2838,null,1763,null,"Algeria",3310,11268,10682,10.206148686636755,14.23,2.5,41851.997000000003,1321.0994936685624,99.5,1356.2645537083499,92.62,98.68,99.8,137.91999999999999,4.13,null,"Albania"]
[3,{"$f":"FRA_Country26","v":"Algeria"},{"$f":"Region472","v":"Africa"},"T","Population - Est. & Proj.",3010,"Algeria",null,11518,null,43851,null,32333,null,"American Samoa",null,null,null,"",null,null,0,"",null,"",null,null,null,null,null,null,"Algeria"]
[4,{"$f":"FRA_Country209","v":"American Samoa"},{"$f":"Region479","v":"Oceania"},"TS","Population - Est. & Proj.",3010,"American Samoa",null,7,null,55,null,48,null,"Andean Region",null,null,null,"",null,null,0,"",null,"",null,null,null,null,null,null,"American Samoa"]
[5,{"$f":"FRA_Country116","v":"Andorra"},{"$f":"Region480","v":"Western Europe"},"T","Population - Est. & Proj.",3010,"Andorra",null,9,null,77,null,68,null,"Andorra",null,null,null,"",null,null,0,"",100,"",100,100,100,null,null,null,"Andorra"]
[6,{"$f":"FRA_Country2","v":"Angola"},{"$f":"Region472","v":"Africa"},"TS","Population - Est. & Proj.",3010,"Angola",null,10903,null,32866,null,21963,null,"Angola",1896,6538,6198,12.509980692649714,9.43,17.3,13576.207,545.04049075524915,45.67,312.47601731708505,48.05,null,72.37,1.87,3.61,null,"Angola",32.299999999999997,2018]
[7,{"$f":"FRA_Country166","v":"Anguilla"},{"$f":"Region476","v":"Latin America"},null,"Population - Est. & Proj.",3010,"Anguilla",null,0,null,15,null,15,null,"Antigua and Barbuda",14450,18942,17956,"",2.14,null,0,"",100,"",98.75,100,100,8.4600000000000009,3.89,null,"Antigua and Barbuda"]
[8,{"$f":"FRA_Country167","v":"Antigua and Barbuda"},{"$f":"Region476","v":"Latin America"},"TS","Population - Est. & Proj.",3010,"Antigua and Barbuda",null,74,null,98,null,24,null,"Arab World",5802,14527,13754,8.5946865022218191,6.98,14.01,616095.99723471119,1953.2866799884982,89.51,2489.2200725889375,84.51,80.099999999999994,97.41,9039.2099999999991,null,null,"Argentina",35.5,2019]
[9,{"$f":"FRA_Country235","v":"Argentina"},{"$f":"Region476","v":"Latin America"},"T","Population - Est. & Proj.",3010,"Argentina",null,3580,null,45377,null,41797,null,"Argentina",8442,20768,19687,9.3279420573740506,6.84,3.9,80112.354000000007,2015.1870402892964,100,3052.3819367465294,98.4,100,100,10.46,4.34,null,"Armenia"]
[10,{"$f":"FRA_Country89","v":"Armenia"},{"$f":"Region473","v":"Asia"},"T","Population - Est. & Proj.",3010,"Armenia",null,1087,null,2963,null,1876,null,"Armenia",null,null,null,7.8296268589402196,null,null,2715.8969999999999,1018.0712403052763,null,1965.7837328213282,96.9,100,100,57.8,5.38,null,"Aruba"]
[11,{"$f":"FRA_Country168","v":"Aruba"},{"$f":"Region476","v":"Latin America"},null,"Population - Est. & Proj.",3010,"Aruba",null,60,null,107,null,47,null,"Aruba",null,null,null,"",null,null,0,"",100,"",null,100,100,null,3.32,null,"Australia"]
[12,{"$f":"FRA_Country210","v":"Australia"},{"$f":"Region479","v":"Oceania"},"TS","Population - Est. & Proj.",3010,"Australia",null,3534,null,25687,null,22153,null,"Australia",51812,52518,48698,8.1729292068185,1.9,2.5,122887.65300000001,5328.2239918775158,100,10059.207446790859,100,100,100,6.41,5.03,null,"Austria",13.3,2018]
[13,{"$f":"FRA_Country117","v":"Austria"},{"$f":"Region480","v":"Western Europe"},"T","Population - Est. & Proj.",3010,"Austria",null,3679,null,8917,null,5239,null,"Austria",48105,55097,51936,11.776944013412615,1.1399999999999999,2.5,33018.807000000001,3763.3279025587049,100,8355.8419518213377,100,100,100,9.64,3.61,null,"Azerbaijan"]
[14,{"$f":"FRA_Country90","v":"Azerbaijan"},{"$f":"Region473","v":"Asia"},"T","Population - Est. & Proj.",3010,"Azerbaijan",null,4408,null,10110,null,5702,null,"Azerbaijan",4214,14452,13700,11.127986460889758,6.93,2.5,12560.911,1502.0781684137069,100,2202.3939182884587,95.54,99.98,100,56.44,3.73,null,"Bahamas"]
[15,{"$f":"FRA_Country169","v":"Bahamas"},{"$f":"Region476","v":"Latin America"},"TS","Population - Est. & Proj.",3010,"Bahamas",null,66,null,393,null,327,null,"Bahamas",28608,32454,30764,"",null,null,"","",100,"",100,100,100,null,4.03,null,"Bahrain"]
[16,{"$f":"FRA_Country91","v":"Bahrain"},{"$f":"Region473","v":"Asia"},"T","Population - Est. & Proj.",3010,"Bahrain",null,179,null,1702,null,1523,null,"Bahrain",null,43181,40933,4.1379418425368524,0.31,null,9505.9060000000009,10593.997143064524,100,19592.231949039095,100,100,100,133.71,9.7899999999999991,null,"Bangladesh",24.3,2016]
[17,{"$f":"FRA_Country69","v":"Bangladesh"},{"$f":"Region475","v":"Indian Subcontinent"},"TS","Population - Est. & Proj.",3010,"Bangladesh",null,101816,null,164689,null,62873,null,"Bangladesh",1969,5083,4818,13.378760634794778,12.65,9.6999999999999993,31294.045999999998,222.22095919420588,92.2,310.39122612746092,17.72,88.85,97.8,5.72,3.14,null,"Barbados"]
[18,{"$f":"FRA_Country170","v":"Barbados"},{"$f":"Region476","v":"Latin America"},"TS","Population - Est. & Proj.",3010,"Barbados",null,198,null,287,null,90,null,"Barbados",15191,13577,12870,"",null,4.0999999999999996,0,"",100,"",99.44,100,100,87.5,3.78,null,"Belarus",5,2019]
[19,{"$f":"FRA_Country118","v":"Belarus"},{"$f":"Region474","v":"Eastern Europe"},"T","Population - Est. & Proj.",3010,"Belarus",null,1928,null,9399,null,7470,null,"Belarus",6411,20200,19148,6.1236875265245061,6.83,2.5,29500.953000000001,2928.520215977373,100,3679.9788400688963,98.18,100,100,4.5999999999999996,6.47,null,"Belgium",14.8,2018]
[20,{"$f":"FRA_Country119","v":"Belgium"},{"$f":"Region480","v":"Western Europe"},"T","Population - Est. & Proj.",3010,"Belgium",null,222,null,11556,null,11334,null,"Belgium",44594,51968,48210,8.7847179776348998,0.72,2.5,59094.101999999999,4708.2212178954924,100,7709.1230778824656,100,100,100,49.07,4.74,null,"Belize"]
[21,{"$f":"FRA_Country194","v":"Belize"},{"$f":"Region476","v":"Latin America"},"TS","Population - Est. & Proj.",3010,"Belize",null,215,null,398,null,183,null,"Belize",4436,6456,6120,"",9.1199999999999992,5.9,0,"",92.72,"",85.43,87.84,98.48,1.26,5.1100000000000003,null,"Benin",38.5,2019]
[22,{"$f":"FRA_Country35","v":"Benin"},{"$f":"Region472","v":"Africa"},"TS","Population - Est. & Proj.",3010,"Benin",null,6254,null,12123,null,5869,null,"Benin",1291,3506,3323,4.8010979377064764,27.11,7.6,3760.9279999999999,416.79576525521463,40.32,100.22638915136343,6.44,17.37,65.319999999999993,0.98,9.07,null,"Bermuda"]
[23,{"$f":"FRA_Country171","v":"Bermuda"},{"$f":"Region478","v":"North America"},"TS","Population - Est. & Proj.",3010,"Bermuda",null,0,null,64,null,64,null,"Bermuda",null,null,null,"",null,null,0,"",100,"",null,100,100,null,2.0299999999999998,null,"Bhutan",8.1999999999999993,2017]
[24,{"$f":"FRA_Country70","v":"Bhutan"},{"$f":"Region475","v":"Indian Subcontinent"},"TS","Population - Est. & Proj.",3010,"Bhutan",null,445,null,772,null,327,null,"Bhutan",3122,11508,10909,"",null,null,0,"",100,"",52.5,100,100,1.41,10.41,null,"Bolivia (Plurinational State of)",37.200000000000003,2019]
[25,{"$f":"FRA_Country236","v":"Bolivia (Plurinational State of)"},{"$f":"Region476","v":"Latin America"},"TS","Population - Est. & Proj.",3010,"Bolivia (Plurinational State of)",null,3488,null,11673,null,8185,null,"Bolivia (Plurinational State of)",3143,8367,7932,"",null,12.6,"","",96.3,"",64,87.89,99.95,1.18,4.95,null,"Bosnia and Herzegovina",16.899999999999999,2015]
[26,{"$f":"FRA_Country120","v":"Bosnia and Herzegovina"},{"$f":"Region474","v":"Eastern Europe"},"T","Population - Est. & Proj.",3010,"Bosnia and Herzegovina",null,1673,null,3281,null,1608,null,"Bosnia and Herzegovina",6032,15612,14340,4.7932810760776308,6.2,2.5,7095.3370000000004,2194.0559764128006,100,3365.6739396108023,63.38,100,100,2.66,8.7200000000000006,null,"Botswana"]
[27,{"$f":"FRA_Country3","v":"Botswana"},{"$f":"Region472","v":"Africa"},"TS","Population - Est. & Proj.",3010,"Botswana",null,685,null,2352,null,1667,null,"Botswana",6711,16921,16040,12.436396575619732,2.14,29.3,2215.1619999999998,1252.6799881765564,70.180000000000007,1748.6153336779532,64.08,27.58,88.29,2.02,3.35,null,"Brazil"]
[28,{"$f":"FRA_Country237","v":"Brazil"},{"$f":"Region476","v":"Latin America"},"TS","Population - Est. & Proj.",3010,"Brazil",null,27478,null,212559,null,185082,null,"Brazil",6797,14836,14064,10.353549538958658,5.91,2.5,270027.52899999998,1484.9266378964962,99.8,2601.3655057140718,95.59,98.48,100,3.11,4.13,null,"Brunei Darussalam"]
[29,{"$f":"FRA_Country172","v":"British Virgin Islands"},{"$f":"Region476","v":"Latin America"},"TS","Population - Est. & Proj.",3010,"British Virgin Islands",null,16,null,30,null,15,null,"Brunei Darussalam",27466,65662,62244,8.8144597002545204,1.19,2.5,3832.2240000000002,8632.3256514388995,100,10242.795795037211,100,100,100,3.47,3.65,null,"Bulgaria",23.8,2019]
[30,{"$f":"FRA_Country71","v":"Brunei Darussalam"},{"$f":"Region473","v":"Asia"},"TS","Population - Est. & Proj.",3010,"Brunei Darussalam",null,95,null,437,null,342,null,"Bulgaria",9976,24367,22384,6.5885996356170002,3.41,3,19216.136999999999,2477.6554006969604,100,4708.9274575723102,88.65,100,100,41.82,6.38,null,"Burkina Faso",41.4,2018]
[31,{"$f":"FRA_Country121","v":"Bulgaria"},{"$f":"Region474","v":"Eastern Europe"},"T","Population - Est. & Proj.",3010,"Bulgaria",null,1684,null,6927,null,5243,null,"Burkina Faso",831,2279,2161,"",20.43,14.4,0,"",18.38,"",8.93,null,64.59,7.81,6.03,null,"Burundi"]
[32,{"$f":"FRA_Country36","v":"Burkina Faso"},{"$f":"Region472","v":"Africa"},"TS","Population - Est. & Proj.",3010,"Burkina Faso",null,14505,null,20903,null,6398,null,"Burundi",274,771,731,"",28.45,null,0,"",11.06,"",0.85,3.09,62.74,10.19,7.72,null,"Cambodia"]
[33,{"$f":"FRA_Country37","v":"Burundi"},{"$f":"Region472","v":"Africa"},"TS","Population - Est. & Proj.",3010,"Burundi",null,10261,null,11891,null,1630,null,"Cabo Verde",3064,6377,6045,"",4.8600000000000003,15.4,0,"",95.53,"",71.05,95.94,95.32,8.43,2.77,null,"Cameroon"]
[34,{"$f":"FRA_Country72","v":"Cambodia"},{"$f":"Region473","v":"Asia"},"TS","Population - Est. & Proj.",3010,"Cabo Verde",null,185,null,556,null,371,null,"Cambodia",1513,4422,4192,7.4934567001768393,22.84,6.2,5333.2190000000001,416.93966062004648,93,271.43323953770567,17.690000000000001,90.91,99.7,1.04,5.77,null,"Canada"]
[35,{"$f":"FRA_Country38","v":"Cameroon"},{"$f":"Region472","v":"Africa"},"TS","Population - Est. & Proj.",3010,"Cambodia",null,12668,null,16719,null,4051,null,"Cameroon",1499,3773,3576,9.3498407134076622,15.18,5.3,6719.7259999999997,341.8626717093743,63.45,280.66667913674445,23.04,24.02,93.24,1.56,4.78,null,"Cape Verde",35,2015]
[36,{"$f":"FRA_Country202","v":"Canada"},{"$f":"Region478","v":"North America"},"B","Population - Est. & Proj.",3010,"Cameroon",null,11266,null,26546,null,15280,null,"Canada",43242,48073,45857,5.4696073885496803,null,2.5,251845.18900000001,7876.0941077599691,100,15545.535110560899,100,100,100,3.68,7.34,null,"Cayman Islands"]
[37,{"$f":"FRA_Country39","v":"Cabo Verde"},{"$f":"Region472","v":"Africa"},"TS","Population - Est. & Proj.",3010,"Canada",null,7007,null,38005,null,30998,null,"Caribbean small states",9193,15660,14844,"",null,6.96,26968.233622034481,"",98.28,"",91.5,96.92,99.62,220.3,null,null,"Central African Republic"]
[38,{"$f":"FRA_Country173","v":"Cayman Islands"},{"$f":"Region476","v":"Latin America"},"TS","Population - Est. & Proj.",3010,"Cayman Islands",null,0,null,66,null,66,null,"Cayman Islands",null,null,null,"",null,null,0,"",100,"",null,100,100,null,null,null,"Chad",42.3,2018]
[39,{"$f":"FRA_Country40","v":"Central African Republic"},{"$f":"Region472","v":"Africa"},"TS","Population - Est. & Proj.",3010,"Central African Republic",null,2792,null,4830,null,2038,null,"Central African Republic",477,980,929,"",33.92,48.2,0,"",14.3,"",0.97,1.53,32.1,0.34,8.1,null,"Channel Islands"]
[40,{"$f":"FRA_Country41","v":"Chad"},{"$f":"Region472","v":"Africa"},"TS","Population - Est. & Proj.",3010,"Chad",null,12562,null,16426,null,3863,null,"Central Europe and the Baltics",16082,33712,31329,9.5131638627701172,2.71,2.61,275049.777,2470.5443183559464,100,4115.6302011883936,95.49,100,100,148.04,null,null,"Chile",8.6,2017]
[41,{"$f":"FRA_Country238","v":"Chile"},{"$f":"Region476","v":"Latin America"},"TS","Population - Est. & Proj.",3010,"Chile",null,2346,null,19116,null,16770,null,"Chad",614,1603,1520,"",47.73,31.7,0,"",8.4,"",3.13,null,36.700000000000003,4.29,2.78,null,"China",0.6,2019]
[42,{"$f":"FRA_Country63","v":"China"},{"$f":"Region473","v":"Asia"},"T","Population - Est. & Proj.",3010,"China",null,540823,null,1402112,null,861289,null,"Channel Islands",null,null,null,"",null,null,0,"",100,"",null,100,100,null,null,null,"Colombia",35.700000000000003,2019]
[43,{"$f":"FRA_Country239","v":"Colombia"},{"$f":"Region476","v":"Latin America"},"TS","Population - Est. & Proj.",3010,"Colombia",null,9451,null,50883,null,41431,null,"Chile",13232,25068,23325,10.828606789188301,3.86,3.4,33573.546999999999,2049.6888291781252,100,3911.6492649682937,92.28,100,100,8.98,3.78,null,"Comoros"]
[44,{"$f":"FRA_Country4","v":"Comoros"},{"$f":"Region472","v":"Africa"},"TS","Population - Est. & Proj.",3010,"Comoros",null,614,null,870,null,255,null,"China",10500,17312,16411,5.7041521848841681,7.65,2.5,2727727.645,2236.729907569616,100,3927.0444999890051,59.26,100,100,43.22,6.69,null,"Democratic Republic of the Congo"]
[45,{"$f":"FRA_Country42","v":"Congo"},{"$f":"Region472","v":"Africa"},"TS","Population - Est. & Proj.",3010,"Congo",null,1775,null,5518,null,3743,null,"Colombia",5333,14565,13441,17.799393323681439,7.68,8.8000000000000007,31612.991999999998,711.58317983978498,99.77,1289.5696930804879,91.79,98.76,100,2.04,2.2599999999999998,null,"Congo"]
[46,{"$f":"FRA_Country211","v":"Cook Islands"},{"$f":"Region479","v":"Oceania"},"T","Population - Est. & Proj.",3010,"Cook Islands",null,0,null,0,null,0,null,"Comoros",1403,3313,3141,"",null,null,0,"",84.05,"",9.34,78.239999999999995,98.16,0.83,4.6900000000000004,null,"Costa Rica",21,2019]
[47,{"$f":"FRA_Country195","v":"Costa Rica"},{"$f":"Region476","v":"Latin America"},"TS","Population - Est. & Proj.",3010,"Costa Rica",null,980,null,5094,null,4115,null,"Democratic Republic of the Congo",557,1131,1072,"",20.329999999999998,41.7,"","",19.100000000000001,"",4.0199999999999996,1,41,0.23,20.94,null,"Côte d'Ivoire",39.5,2018]
[48,{"$f":"FRA_Country43","v":"Côte d'Ivoire"},{"$f":"Region472","v":"Africa"},"TS","Population - Est. & Proj.",3010,"Côte d'Ivoire",null,12739,null,26378,null,13639,null,"Congo",1973,3639,3449,"",9,37.700000000000003,"","",48.33,"",24.13,12.67,65.599999999999994,0.03,4.0199999999999996,null,"Croatia",18.3,2018]
[49,{"$f":"FRA_Country122","v":"Croatia"},{"$f":"Region474","v":"Eastern Europe"},"T","Population - Est. & Proj.",3010,"Croatia",null,1718,null,4047,null,2329,null,"Costa Rica",12077,21032,19679,13.938340029466474,4.3499999999999996,3.1,4655.08,1031.1414954046968,99.71,1957.930248078065,93.45,98.87,99.92,5.45,2.88,null,"Cuba"]
[50,{"$f":"FRA_Country174","v":"Cuba"},{"$f":"Region476","v":"Latin America"},"TS","Population - Est. & Proj.",3010,"Cuba",null,2583,null,11327,null,8743,null,"Côte d'Ivoire",2326,5458,5174,"",null,14.9,"","",68.55,"",18.23,41.89,93.92,5.09,7.24,null,"Curaçao"]
[51,{"$f":"FRA_Country92","v":"Cyprus"},{"$f":"Region473","v":"Asia"},"T","Population - Est. & Proj.",3010,"Cyprus",null,401,null,1207,null,807,null,"Croatia",13828,28504,26465,10.730305914242754,3.27,2.5,8439.1540000000005,1897.8406654037656,100,3714.3829884420707,92.7,100,100,1.5,4.05,null,"Cyprus",14.7,2018]
[52,{"$f":"FRA_Country123","v":"Czech Republic"},{"$f":"Region474","v":"Eastern Europe"},"T","Population - Est. & Proj.",3010,"Czech Republic",null,2775,null,10699,null,7924,null,"Cuba",null,null,null,"",null,2.5,11186.615,1022.6689057565594,99.8,1434.0327036381073,79.44,99.46,99.9,23.94,2.11,null,"Czech Republic",10.1,2018]
[53,{"$f":"FRA_Country64","v":"Democratic People's Republic of Korea"},{"$f":"Region473","v":"Asia"},"T","Population - Est. & Proj.",3010,"Democratic People's Republic of Korea",null,9698,null,25779,null,16081,null,"Curacao",null,null,null,"",null,null,0,12650.860437819498,100,4797.6704359594378,null,100,100,null,null,null,"Denmark",12.5,2018]
[54,{"$f":"FRA_Country44","v":"Democratic Republic of the Congo"},{"$f":"Region472","v":"Africa"},"TS","Population - Est. & Proj.",3010,"Democratic Republic of the Congo",null,48687,null,89561,null,40874,null,"Cyprus",26624,38458,37655,12.925251510254418,1.88,2.5,2368.0619999999999,1712.1240917149826,100,3624.8957527885314,100,100,100,29.52,3.27,null,"Djibouti",21.1,2017]
[55,{"$f":"FRA_Country124","v":"Denmark"},{"$f":"Region480","v":"Western Europe"},"T","Population - Est. & Proj.",3010,"Denmark",null,693,null,5831,null,5138,null,"Czech Republic",22762,41737,38319,7.437745035604431,1.93,2.5,43429.226999999999,3915.1135824785633,100,6258.8910370365938,97.13,100,100,24.79,5.51,null,"Dominica"]
[56,{"$f":"FRA_Country5","v":"Djibouti"},{"$f":"Region472","v":"Africa"},"TS","Population - Est. & Proj.",3010,"Djibouti",null,217,null,988,null,771,null,"Denmark",60909,60398,55938,15.685263902777939,1.37,2.5,17997.338,2872.57354732678,100,5858.8015362874821,100,100,100,20.04,2.61,null,"Dominican Republic",21,2019]
[57,{"$f":"FRA_Country175","v":"Dominica"},{"$f":"Region476","v":"Latin America"},"TS","Population - Est. & Proj.",3010,"Dominica",null,21,null,72,null,51,null,"Djibouti",3426,5782,5481,"",1.31,16.2,0,"",61.28,"",11.52,24.99,71.56,6.33,3.41,null,"Ecuador",25,2019]
[58,{"$f":"FRA_Country176","v":"Dominican Republic"},{"$f":"Region476","v":"Latin America"},"TS","Population - Est. & Proj.",3010,"Dominican Republic",null,1894,null,10848,null,8954,null,"Dominica",6527,10434,9891,"",15.35,5.6,0,"",100,"",90.6,100,null,10,3.61,null,"Egypt",32.5,2017]
[59,{"$f":"FRA_Country240","v":"Ecuador"},{"$f":"Region476","v":"Latin America"},"TS","Population - Est. & Proj.",3010,"Ecuador",null,6322,null,17643,null,11321,null,"Dominican Republic",7268,17937,17003,17.24251919573797,6.04,8.3000000000000007,7381.8950000000004,734.4078961783398,100,1578.1516617008674,90.41,100,100,50.31,2.4500000000000002,null,"El Salvador",22.8,2019]
[60,{"$f":"FRA_Country27","v":"Egypt"},{"$f":"Region477","v":"Middle East"},"T","Population - Est. & Proj.",3010,"Egypt",null,58553,null,102334,null,43782,null,"East Asia & Pacific (all income levels)",null,18584,17682,"",null,4.34,4314949.9053380042,"",98.13,"",61.26,96.64,99.13,null,null,null,"Equatorial Guinea"]
[61,{"$f":"FRA_Country196","v":"El Salvador"},{"$f":"Region476","v":"Latin America"},"TS","Population - Est. & Proj.",3010,"El Salvador",null,1722,null,6486,null,4764,null,"East Asia & Pacific (developing only)",8292,15234,14441,"",8.56,4.54,3284967.3345713723,"",97.93,"",57.32,96.55,98.99,null,null,null,"Eritrea"]
[62,{"$f":"FRA_Country45","v":"Equatorial Guinea"},{"$f":"Region472","v":"Africa"},"TS","Population - Est. & Proj.",3010,"Equatorial Guinea",null,377,null,1403,null,1026,null,"East Asia and the Pacific (IFC classification)",8379,15394,14592,"",8.56,4.07,0,"",98.53,"",57.9,96.92,99.77,null,null,null,"Estonia",21.7,2018]
[63,{"$f":"FRA_Country6","v":"Eritrea"},{"$f":"Region472","v":"Africa"},"TS","Population - Est. & Proj.",3010,"Eritrea",null,3,null,3,null,2,null,"Ecuador",5600,10896,10329,12.225588962688432,9.8000000000000007,12.4,12941.611000000001,891.68862044108096,100,1380.610285584356,95.58,100,100,6.78,3.62,null,"Ethiopia"]
[64,{"$f":"FRA_Country125","v":"Estonia"},{"$f":"Region480","v":"Western Europe"},"B","Population - Est. & Proj.",3010,"Estonia",null,410,null,1331,null,921,null,"Egypt",3548,12608,11951,"",11.51,5.4,"","",100,"",97.62,100,100,116.94,3.51,null,"Faeroe Islands"]
[65,{"$f":"FRA_Country7","v":"Ethiopia"},{"$f":"Region472","v":"Africa"},"TS","Population - Est. & Proj.",3010,"Ethiopia",null,90022,null,114964,null,24941,null,"El Salvador",3799,8499,8057,10.645173686756245,5.1100000000000003,8.5,4318.6880000000001,647.30960969332398,100,939.1533991414683,86,100,99.02,13.21,3.65,null,"Fiji",29.9,2019]
[66,{"$f":"Other_Country467","v":"Faeroe Islands"},{"$f":"Region480","v":"Western Europe"},"T","Population - Est. & Proj.",3010,"Falkland Islands (Malvinas)",null,1,null,3,null,2,null,"Equatorial Guinea",7143,17942,17008,"",2.99,null,0,"",66.59,"",34.39,2.16,90.88,0.18,2.21,null,"Finland",12.2,2019]
[67,{"$f":"Other_Country468","v":"Falkland Islands (Malvinas)"},{"$f":"Region476","v":"Latin America"},"TS","Population - Est. & Proj.",3010,"Faroe Islands",null,28,null,49,null,21,null,"Eritrea",null,null,null,"",null,null,765.024,"",50.39,"",16.32,36.69,75.650000000000006,11.18,4.83,null,"France",13.6,2018]
[68,{"$f":"FRA_Country212","v":"Fiji"},{"$f":"Region479","v":"Oceania"},"TS","Population - Est. & Proj.",3010,"Fiji",null,383,null,896,null,513,null,"Estonia",23312,38395,35638,5.9037557734967532,1.94,2.5,5602.9350000000004,4592.6164566446942,100,6732.3674731561114,92.89,100,100,19.309999999999999,6.32,null,"French Polynesia"]
[69,{"$f":"FRA_Country127","v":"Finland"},{"$f":"Region480","v":"Western Europe"},"B","Population - Est. & Proj.",3010,"Finland",null,801,null,5531,null,4730,null,"Ethiopia",936,2423,2297,2.8673210909382223,35.450000000000003,16.2,34063.851999999999,496.81460125196298,48.27,69.715773884015093,3.51,36.28,92.78,32.26,13.67,null,"Gabon",33.4,2017]
[70,{"$f":"FRA_Country128","v":"France"},{"$f":"Region480","v":"Western Europe"},"T","Population - Est. & Proj.",3010,"France",null,12821,null,67392,null,54570,null,"Euro area",37712,46759,43681,11.371157423432951,1.64,2.52,1166853.5090000005,3266.1888309692163,100,6352.7541271608716,99.69,100,100,412.8,null,null,"Gambia",48.6,2015]
[71,{"$f":"FRA_Country242","v":"French Guiana"},{"$f":"Region476","v":"Latin America"},"TS","Population - Est. & Proj.",3010,"French Guiana",null,43,null,283,null,247,null,"Europe & Central Asia (all income levels)",23780,35376,33278,"",2.0299999999999998,2.6,2935516.5168381855,"",99.99,"",97.33,99.99,99.99,1192.26,null,null,"Georgia",19.5,2019]
[72,{"$f":"FRA_Country213","v":"French Polynesia"},{"$f":"Region479","v":"Oceania"},"TS","Population - Est. & Proj.",3010,"French Polynesia",null,107,null,281,null,174,null,"Europe & Central Asia (developing only)",7657,22628,21614,"",5.42,2.71,558898.19699999993,"",99.99,"",93.82,99.99,99.99,748.8,null,null,"Germany",14.8,2018]
[73,{"$f":"FRA_Country46","v":"Gabon"},{"$f":"Region472","v":"Africa"},"TS","Population - Est. & Proj.",3010,"Gabon",null,221,null,2226,null,2005,null,"Europe and Central Asia (IFC classification)",8368,23635,22528,"",4.96,2.69,0,"",99.99,"",94.43,99.99,99.99,785.18,null,null,"Ghana",23.4,2016]
[74,{"$f":"FRA_Country47","v":"Gambia"},{"$f":"Region472","v":"Africa"},"TS","Population - Est. & Proj.",3010,"Gambia",null,904,null,2417,null,1512,null,"European Union",33928,44491,41504,11.370152525844643,1.71,2.5299999999999998,1662447.8900000006,3079.4839001915393,100,5908.359320003764,98.82,100,100,553.37,null,null,"Greece",17.899999999999999,2018]
[75,{"$f":"FRA_Country93","v":"Georgia"},{"$f":"Region473","v":"Asia"},"T","Population - Est. & Proj.",3010,"Georgia",null,1506,null,3714,null,2208,null,"Faeroe Islands",null,null,null,"",null,null,0,"",100,"",null,100,100,null,null,null,"Greenland"]
[76,{"$f":"FRA_Country129","v":"Germany"},{"$f":"Region480","v":"Western Europe"},"T","Population - Est. & Proj.",3010,"Germany",null,18768,null,83241,null,64472,null,"Fiji",4882,11601,10997,"",14.89,5.6,0,"",100,"",39.56,100,100,0.3,4.8499999999999996,null,"Grenada"]
[77,{"$f":"FRA_Country48","v":"Ghana"},{"$f":"Region472","v":"Africa"},"TS","Population - Est. & Proj.",3010,"Ghana",null,13253,null,31073,null,17820,null,"Finland",49041,51090,47261,6.2796218527218226,2.4500000000000002,2.5,34749.201999999997,6213.3577661277686,100,15249.989380230236,100,100,100,15.56,6.37,null,"Guam"]
[78,{"$f":"FRA_Country130","v":"Gibraltar"},{"$f":"Region480","v":"Western Europe"},"T","Population - Est. & Proj.",3010,"Gibraltar",null,0,null,34,null,34,null,"Fragile and conflict affected situations",1865,4539,null,"",null,22.4,201826.21134068901,591.90764252583392,54.07,445.37232794645001,22,35.369999999999997,82.3,1724.15,null,null,"Guatemala"]
[79,{"$f":"FRA_Country131","v":"Greece"},{"$f":"Region480","v":"Western Europe"},"T","Population - Est. & Proj.",3010,"Greece",null,2174,null,10716,null,8542,null,"France",38625,46227,42026,10.255562941491373,1.72,2.5,252826.69,3658.8657093967477,100,6939.5223108140935,100,100,100,23.14,4.0999999999999996,null,"Guinea",43.7,2018]
[80,{"$f":"FRA_Country203","v":"Greenland"},{"$f":"Region478","v":"North America"},"B","Population - Est. & Proj.",3010,"Greenland",null,7,null,56,null,49,null,"French Polynesia",null,null,null,"",null,3.8,0,"",100,"",null,100,100,null,null,null,"Guinea-Bissau"]
[81,{"$f":"FRA_Country177","v":"Grenada"},{"$f":"Region476","v":"Latin America"},"TS","Population - Est. & Proj.",3010,"Grenada",null,71,null,113,null,41,null,"Gabon",7006,15191,14400,6.1639347794189971,6.4,15.7,1996.6320000000001,2705.8233322475244,90.69,1172.8873233804959,79.12,24.15,98.29,0.5,6.54,null,"Guyana"]
[82,{"$f":"FRA_Country178","v":"Guadeloupe"},{"$f":"Region476","v":"Latin America"},"TS","Population - Est. & Proj.",3010,"Guadeloupe",null,7,null,400,null,442,null,"Gambia",787,2278,2159,"",null,13.6,"","",59.92,"",3.3,27.59,79.8,2.21,4.5,null,"Haiti"]
[83,{"$f":"FRA_Country214","v":"Guam"},{"$f":"Region479","v":"Oceania"},"TS","Population - Est. & Proj.",3010,"Guam",null,9,null,169,null,160,null,"Georgia",4279,14863,14089,7.42794462769921,7.37,8.6999999999999993,3542.6480000000001,1177.8704051515965,100,2688.4894016635362,77.790000000000006,100,100,5.94,5.78,null,"Honduras",48.3,2018]
[84,{"$f":"FRA_Country197","v":"Guatemala"},{"$f":"Region476","v":"Latin America"},"TS","Population - Est. & Proj.",3010,"Guatemala",null,8120,null,16858,null,8739,null,"Germany",45724,53694,50922,11.525614004605675,0.66,2.5,311769.54700000002,3779.4619207853552,100,7035.4829747167596,100,100,100,33.5,3.6,null,"Hungary",12.3,2018]
[85,{"$f":"FRA_Country49","v":"Guinea"},{"$f":"Region472","v":"Africa"},"TS","Population - Est. & Proj.",3010,"Guinea",null,8290,null,13133,null,4843,null,"Ghana",2329,5596,5305,11.425464713035931,18.239999999999998,6.1,10549.681,335.05052913552765,83.5,354.71405296299167,21.71,70.010000000000005,93.8,6.31,3.75,null,"Iceland"]
[86,{"$f":"FRA_Country50","v":"Guinea-Bissau"},{"$f":"Region472","v":"Africa"},"TS","Population - Est. & Proj.",3010,"Guinea-Bissau",null,1098,null,1968,null,870,null,"Greece",17676,28464,27287,11.338412566072023,4.12,2.5,26722.712,2123.8978911284398,100,5062.6064215523229,94.29,100,100,22.74,3.72,null,"India"]
[87,{"$f":"FRA_Country243","v":"Guyana"},{"$f":"Region476","v":"Latin America"},"TS","Population - Est. & Proj.",3010,"Guyana",null,576,null,787,null,211,null,"Greenland",null,null,null,"",null,null,0,"",100,"",null,100,100,null,null,null,"Indonesia",9.4,2019]
[88,{"$f":"FRA_Country179","v":"Haiti"},{"$f":"Region476","v":"Latin America"},"TS","Population - Est. & Proj.",3010,"Haiti",null,4893,null,11403,null,6509,null,"Grenada",9680,15893,15066,"",4.87,null,0,"",95.43,"",96.58,null,null,null,2.97,null,"Iran (Islamic Republic of)"]
[89,{"$f":"FRA_Country198","v":"Honduras"},{"$f":"Region476","v":"Latin America"},"TS","Population - Est. & Proj.",3010,"Honduras",null,4124,null,9905,null,5780,null,"Guam",null,null,null,"",null,null,0,"",100,"",null,100,100,null,null,null,"Iraq"]
[90,{"$f":"FRA_Country134","v":"Hungary"},{"$f":"Region474","v":"Eastern Europe"},"T","Population - Est. & Proj.",3010,"Hungary",null,2736,null,9750,null,7014,null,"Guatemala",4603,8854,8393,8.6103703829006335,10.24,16.8,10163.493,830.09451593076642,95.72,577.88588593793634,45.23,93.99,97.37,5.74,4.4800000000000004,null,"Ireland",13.1,2018]
[91,{"$f":"FRA_Country135","v":"Iceland"},{"$f":"Region480","v":"Western Europe"},"B","Population - Est. & Proj.",3010,"Iceland",null,22,null,366,null,344,null,"Guinea",1194,2817,2671,"",23.67,null,0,"",42.42,"",1.24,16.39,87.71,0.88,10.62,null,"Isle of Man"]
[92,{"$f":"FRA_Country73","v":"India"},{"$f":"Region475","v":"Indian Subcontinent"},"TS","Population - Est. & Proj.",3010,"India",null,898024,null,1380004,null,481980,null,"Guinea-Bissau",728,1949,1847,"",30.86,null,0,"",31.04,"",1.52,12.91,54.33,1.5,12.02,null,"Israel"]
[93,{"$f":"FRA_Country74","v":"Indonesia"},{"$f":"Region473","v":"Asia"},"TS","Population - Est. & Proj.",3010,"Indonesia",null,118597,null,273524,null,154927,null,"Guyana",6956,19706,18680,"",16.850000000000001,5.2,0,"",92.02,"",74.48,90.23,96.96,3.3,6.36,null,"Italy",20.100000000000001,2018]
[94,{"$f":"FRA_Country94","v":"Iran (Islamic Republic of)"},{"$f":"Region477","v":"Middle East"},"T","Population - Est. & Proj.",3010,"Iran (Islamic Republic of)",null,20264,null,83993,null,63729,null,"Haiti",1177,2925,2773,4.2078663087034629,19.8,46.8,3210.9270000000001,392.80116862045242,45.37,38.969148730296226,4.34,0.98,79.98,13.38,10.11,null,"Jamaica"]
[95,{"$f":"FRA_Country95","v":"Iraq"},{"$f":"Region477","v":"Middle East"},"T","Population - Est. & Proj.",3010,"Iraq",null,11708,null,40223,null,28515,null,"Heavily indebted poor countries (HIPC)",973,2660,2519,"",22.46,23.5,235266.86151598764,"",44.62,208.59121879308915,11.68,29.23,76.349999999999994,413.65,null,null,"Japan"]
[96,{"$f":"FRA_Country136","v":"Ireland"},{"$f":"Region480","v":"Western Europe"},"T","Population - Est. & Proj.",3010,"Ireland",null,1815,null,4995,null,3179,null,"High income",43834,50572,47786,8.8755592040890647,null,2.62,6299584.2707958631,4637.5423669611282,100,8832.4411195372322,99.43,100,100,null,null,null,"Jordan",15.7,2018]
[97,{"$f":"FRA_Country96","v":"Israel"},{"$f":"Region477","v":"Middle East"},"T","Population - Est. & Proj.",3010,"Israel",null,683,null,9217,null,8534,null,"High income: nonOECD",null,null,null,"",null,null,1375260.3365870095,"",null,"",null,null,null,null,null,null,"Kazakhstan",4.3,2018]
[98,{"$f":"FRA_Country138","v":"Italy"},{"$f":"Region480","v":"Western Europe"},"T","Population - Est. & Proj.",3010,"Italy",null,17247,null,59554,null,42307,null,"High income: OECD",null,null,null,"",null,null,4981186.182000001,"",null,"",null,null,null,null,null,null,"Kenya",36.1,2015]
[99,{"$f":"FRA_Country180","v":"Jamaica"},{"$f":"Region476","v":"Latin America"},"TS","Population - Est. & Proj.",3010,"Jamaica",null,1294,null,2961,null,1667,null,"Honduras",2406,5421,5138,6.960965846011482,12.12,13.5,4739.7839999999997,607.86464993025481,92.78,630.13553078957307,53.1,82.92,100,4.62,6.15,null,"Kiribati"]
[100,{"$f":"FRA_Country65","v":"Japan"},{"$f":"Region473","v":"Asia"},"T","Population - Est. & Proj.",3010,"Japan",null,10341,null,125836,null,115495,null,"Hong Kong SAR, China",46324,59238,56154,26.790078958883555,null,2.5,14893.6,1970.4841275330243,100,6083.2699356801995,null,100,100,null,1.49,null,"Democratic People's Republic of Korea"]
[101,{"$f":"FRA_Country97","v":"Jordan"},{"$f":"Region477","v":"Middle East"},"T","Population - Est. & Proj.",3010,"Jordan",null,876,null,10203,null,9328,null,"Hungary",15899,33084,31008,10.439171636223504,3.45,2.5,24963.706999999999,2314.496433779545,100,3965.9582334833499,100,100,100,7.77,4.32,null,"Republic of Korea"]
[102,{"$f":"FRA_Country98","v":"Kazakhstan"},{"$f":"Region473","v":"Asia"},"T","Population - Est. & Proj.",3010,"Kazakhstan",null,7939,null,18754,null,10816,null,"Iceland",59261,55216,52280,2.3275762992508908,4.41,2.5,5730.9089999999997,17916.120420543335,100,53832.479091958725,100,100,100,0.39,16.559999999999999,null,"Kosovo",17.600000000000001,2015]
[103,{"$f":"FRA_Country8","v":"Kenya"},{"$f":"Region472","v":"Africa"},"TS","Population - Est. & Proj.",3010,"Kenya",null,38718,null,53771,null,15053,null,"India",1901,6454,6118,8.4482271789876613,18.32,15.3,749446.652,637.42862985532656,97.82,805.59919060256027,41.04,96.67,100,66.489999999999995,4.7300000000000004,null,"Kuwait"]
[104,{"$f":"FRA_Country215","v":"Kiribati"},{"$f":"Region479","v":"Oceania"},"TS","Population - Est. & Proj.",3010,"Kiribati",null,53,null,119,null,66,null,"Indonesia",3870,12073,11445,11.316851232678255,13.7,6.5,209008.516,883.91097697389432,98.85,811.90018390387161,58.37,97.53,99.89,29.7,3.53,null,"Kyrgyzstan",20.100000000000001,2019]
[105,{"$f":"FRA_Country99","v":"Kuwait"},{"$f":"Region477","v":"Middle East"},"T","Population - Est. & Proj.",3010,"Kuwait",null,0,null,4271,null,4271,null,"Iran (Islamic Republic of)",2283,13116,12433,"",12.81,5.5,"","",100,"",98.49,100,100,81.290000000000006,7.79,null,"Lao People's Democratic Republic",18.3,2018]
[106,{"$f":"FRA_Country100","v":"Kyrgyzstan"},{"$f":"Region473","v":"Asia"},"T","Population - Est. & Proj.",3010,"Kyrgyzstan",null,4162,null,6592,null,2429,null,"Iraq",4157,9764,9255,10.497645742292265,6.07,37.5,40219.945,1413.4962555076149,100,1305.6874691482165,97.63,100,100,54.13,3.72,null,"Latvia",22.9,2018]
[107,{"$f":"FRA_Country75","v":"Lao People's Democratic Republic"},{"$f":"Region473","v":"Asia"},"TS","Population - Est. & Proj.",3010,"Lao People's Democratic Republic",null,4635,null,7276,null,2640,null,"Ireland",83813,93612,89689,17.835853745125871,0.94,2.5,13216.272000000001,2741.5748839565968,100,5672.0641341079581,100,100,100,3.64,1.95,null,"Lebanon"]
[108,{"$f":"FRA_Country140","v":"Latvia"},{"$f":"Region480","v":"Western Europe"},"T","Population - Est. & Proj.",3010,"Latvia",null,603,null,1902,null,1299,null,"Isle of Man",null,null,null,"",null,null,0,"",100,"",null,100,100,null,null,null,"Lesotho",49.7,2017]
[109,{"$f":"FRA_Country101","v":"Lebanon"},{"$f":"Region477","v":"Middle East"},"T","Population - Est. & Proj.",3010,"Lebanon",null,756,null,6825,null,6070,null,"Israel",43611,41855,38341,11.475842693836038,null,2.5,23254.282999999999,2762.5059337609696,100,6600.8982801222046,100,100,100,103.36,3.59,null,"Liberia",50.9,2016]
[111,{"$f":"FRA_Country9","v":"Lesotho"},{"$f":"Region472","v":"Africa"},"T","Population - Est. & Proj.",3010,"Lesotho",null,1520,null,2142,null,622,null,"Italy",31676,41840,38992,14.059254008765507,1.99,2.5,167415.573,2414.4840015831774,100,5002.4066798773592,100,100,100,30,3.07,null,"Libya"]
[112,{"$f":"FRA_Country51","v":"Liberia"},{"$f":"Region472","v":"Africa"},"TS","Population - Est. & Proj.",3010,"Liberia",null,2423,null,5058,null,2634,null,"Jamaica",4665,9222,8742,8.2089580827290085,8.68,7.7,3065.6280000000002,981.31223823734217,99.38,1055.5234694123553,90.5,98.6,100,12.47,5.21,null,"Liechtenstein"]
[113,{"$f":"FRA_Country28","v":"Libya"},{"$f":"Region472","v":"Africa"},"T","Population - Est. & Proj.",3010,"Libya",null,1327,null,6871,null,5545,null,"Japan",null,null,null,10.757667987874076,null,2.5,461467.84299999999,3470.7631289481124,100,7819.7146359093622,100,100,100,37.340000000000003,3.74,null,"Lithuania",20.6,2018]
[114,{"$f":"FRA_Country141","v":"Liechtenstein"},{"$f":"Region480","v":"Western Europe"},"T","Population - Est. & Proj.",3010,"Liechtenstein",null,33,null,38,null,5,null,"Jordan",4283,10356,9817,9.2859400425128538,5.2,9.5,7064.2839999999997,928.52047596030832,100,1888.1169526861706,99.06,100,100,100.08,4.6399999999999997,null,"Luxembourg",17.5,2018]
[115,{"$f":"FRA_Country142","v":"Lithuania"},{"$f":"Region480","v":"Western Europe"},"T","Population - Est. & Proj.",3010,"Lithuania",null,893,null,2795,null,1902,null,"Kazakhstan",9056,26729,25337,5.3188854538837056,5.32,2.5,78101.191999999995,4434.6391212315157,100,5600.2084648650807,95.34,100,100,31.14,7.92,null,"North Macedonia",21.6,2018]
[116,{"$f":"FRA_Country143","v":"Luxembourg"},{"$f":"Region480","v":"Western Europe"},"T","Population - Est. & Proj.",3010,"Luxembourg",null,54,null,632,null,578,null,"Kenya",1838,4452,4220,5.3622813482885601,35.15,24.8,20178.938999999998,513.42648712363587,69.7,166.73818693406193,13.42,61.69,90.8,33.24,7.85,null,"Madagascar"]
[117,{"$f":"FRA_Country10","v":"Madagascar"},{"$f":"Region472","v":"Africa"},"TS","Population - Est. & Proj.",3010,"Madagascar",null,17021,null,27691,null,10670,null,"Kiribati",1671,2418,2292,"",null,4.0999999999999996,0,"",100,"",5.52,100,88.61,null,4.1399999999999997,null,"Malawi",51.5,2016]
[118,{"$f":"FRA_Country11","v":"Malawi"},{"$f":"Region472","v":"Africa"},"TS","Population - Est. & Proj.",3010,"Malawi",null,15796,null,19130,null,3334,null,"Democratic People's Republic of Korea",null,null,null,"",null,42.4,"","",49.37,"",10.8,61.47,42,27.74,null,null,"Malaysia",5.6,2018]
[119,{"$f":"FRA_Country76","v":"Malaysia"},{"$f":"Region473","v":"Asia"},"TS","Population - Est. & Proj.",3010,"Malaysia",null,7392,null,32366,null,24974,null,"Republic of Korea",31489,43124,42251,"",1.76,2.5,"","",100,"",96.68,100,100,85.22,6.55,null,"Maldives",8.1999999999999993,2016]
[120,{"$f":"FRA_Country77","v":"Maldives"},{"$f":"Region475","v":"Indian Subcontinent"},"TS","Population - Est. & Proj.",3010,"Maldives",null,321,null,541,null,220,null,"Kosovo",4287,11368,10776,7.1747299988981315,7.64,null,2527.5459999999998,1213.2835657042485,100,2804.3693050828851,null,100,99.9,null,null,null,"Mali",42.1,2019]
[121,{"$f":"FRA_Country52","v":"Mali"},{"$f":"Region472","v":"Africa"},"TS","Population - Est. & Proj.",3010,"Mali",null,11359,null,20251,null,8892,null,"Kuwait",null,null,null,7.9082046836290711,null,2.5,32522.803,8956.82031487528,100,15213.419873362503,100,100,100,3850.5,5.32,null,"Malta",17.100000000000001,2018]
[122,{"$f":"FRA_Country144","v":"Malta"},{"$f":"Region480","v":"Western Europe"},"T","Population - Est. & Proj.",3010,"Malta",null,28,null,525,null,498,null,"Kyrgyzstan",1174,4965,4707,"",13.51,7.2,"","",99.88,"",81.25,99.99,99.73,50.04,8.64,null,"Marshall Islands"]
[123,{"$f":"FRA_Country216","v":"Marshall Islands"},{"$f":"Region479","v":"Oceania"},"TS","Population - Est. & Proj.",3010,"Marshall Islands",null,13,null,59,null,46,null,"Lao People's Democratic Republic",2630,8234,7806,"",16.2,5.3,"","",100,"",5.62,100,99.85,4.7699999999999996,5.17,null,"Mauritania"]
[124,{"$f":"FRA_Country181","v":"Martinique"},{"$f":"Region476","v":"Latin America"},"TS","Population - Est. & Proj.",3010,"Martinique",null,42,null,376,null,343,null,"Latin America & Caribbean (all income levels)",null,null,null,"",null,null,824218.88537900709,"",null,"",null,null,null,null,0,null,"Mauritius",10.3,2017]
[125,{"$f":"FRA_Country29","v":"Mauritania"},{"$f":"Region472","v":"Africa"},"TS","Population - Est. & Proj.",3010,"Mauritania",null,2077,null,4650,null,2573,null,"Latin America & Caribbean (developing only)",6733,15092,14280,"",5.77,6.94,741935.38836779562,"",98.27,"",86.25,92.57,99.67,234.78,null,null,"Mexico",41.9,2018]
[126,{"$f":"FRA_Country12","v":"Mauritius"},{"$f":"Region472","v":"Africa"},"TS","Population - Est. & Proj.",3010,"Mauritius",null,750,null,1266,null,516,null,"Latin America and the Caribbean",7417,15868,15169,"",5.63,7.72,0,"",98.42,"",87.01,93,99.7,447.75,null,null,"Micronesia (Federated States of)"]
[127,{"$f":"FRA_Country13","v":"Mayotte"},{"$f":"Region472","v":"Africa"},null,"Population - Est. & Proj.",3010,"Mayotte",null,140,null,260,null,120,null,"Latin America and the Caribbean (IFC classification)",7245,15805,15112,"",5.7,7.82,0,"",98.39,"",87.14,92.83,99.69,316.77,null,null,"Republic of Moldova",7.3,2018]
[128,{"$f":"FRA_Country204","v":"Mexico"},{"$f":"Region476","v":"Latin America"},"TS","Population - Est. & Proj.",3010,"Mexico",null,24844,null,128933,null,104089,null,"Latvia",17620,32019,29932,10.185452619086441,3.78,2.5,4370.9790000000003,2176.8433058378496,100,3507.4045206547157,95.28,100,100,1.07,3.91,null,"Monaco"]
[129,{"$f":"FRA_Country217","v":"Micronesia (Federated States of)"},{"$f":"Region479","v":"Oceania"},"TS","Population - Est. & Proj.",3010,"Micronesia",null,0,null,0,null,0,null,"Least developed countries: UN classification",1069,3119,3001,7.0205272924992705,19.600000000000001,21.04,268250.67029717518,364.7376757175802,52.78,205.65978722382999,13.97,43.47,78.19,628.95000000000005,null,null,"Mongolia",28.4,2018]
[130,{"$f":"FRA_Country145","v":"Monaco"},{"$f":"Region480","v":"Western Europe"},"T","Population - Est. & Proj.",3010,"Micronesia (Federated States of)",null,89,null,115,null,26,null,"Lebanon",4891,12289,11649,10.340006809384523,2.5,9.3000000000000007,6349.4409999999998,1337.3660315683014,100,2892.7704652936254,null,100,100,58.79,4.18,null,"Montenegro",24.5,2018]
[131,{"$f":"FRA_Country66","v":"Mongolia"},{"$f":"Region473","v":"Asia"},"T","Population - Est. & Proj.",3010,"Monaco",null,0,null,39,null,39,null,"Lesotho",861,2405,2280,"",6.37,23.5,0,"",44.64,"",35.61,32.159999999999997,75.819999999999993,2.57,9.7200000000000006,null,"Morocco"]
[132,{"$f":"FRA_Country146","v":"Montenegro"},{"$f":"Region474","v":"Eastern Europe"},"T","Population - Est. & Proj.",3010,"Mongolia",null,1028,null,3278,null,2251,null,"Liberia",583,1428,1354,"",42.6,38.9,0,"",27.65,"",0.71,7.62,46.42,0.26,25.99,null,"Mozambique"]
[133,{"$f":"FRA_Country182","v":"Montserrat"},{"$f":"Region476","v":"Latin America"},"T","Population - Est. & Proj.",3010,"Montenegro",null,202,null,622,null,420,null,"Libya",3699,10847,10282,5.6844041697976317,null,null,13342.441999999999,2880.1439304409269,68.53,1857.1565807687423,null,null,100,817.14,4.21,null,"Myanmar",24.8,2017]
[134,{"$f":"FRA_Country30","v":"Morocco"},{"$f":"Region472","v":"Africa"},"T","Population - Est. & Proj.",3010,"Montserrat",null,5,null,5,null,0,null,"Liechtenstein",null,null,null,"",null,null,0,"",100,"",null,100,100,null,null,null,"Namibia",17.399999999999999,2015]
[135,{"$f":"FRA_Country14","v":"Mozambique"},{"$f":"Region472","v":"Africa"},"TS","Population - Est. & Proj.",3010,"Morocco",null,13461,null,36911,null,23450,null,"Lithuania",19998,38735,36732,10.999191567338396,3.29,2.5,7287.0450000000001,2387.2751944077941,100,3821.1451704373976,100,100,100,1.87,3.86,null,"Nepal"]
[136,{"$f":"FRA_Country78","v":"Myanmar"},{"$f":"Region473","v":"Asia"},"TS","Population - Est. & Proj.",3010,"Mozambique",null,19668,null,31255,null,11588,null,"Low & middle income",4759,10849,10294,7.1582948527011796,9.07,10.42,6435430.5662574107,1324.8097522254168,88.21,1922.1246233194265,51.55,81.290000000000006,96.44,3995.71,null,null,"Netherlands",13.6,2019]
[137,{"$f":"FRA_Country15","v":"Namibia"},{"$f":"Region472","v":"Africa"},"TS","Population - Est. & Proj.",3010,"Myanmar",null,37466,null,54410,null,16944,null,"Low income",822,2524,null,"",null,28.66,273250.98343774478,"",40.92,"",13.2,30.3,69.12,657.04,null,null,"New Caledonia"]
[138,{"$f":"FRA_Country218","v":"Nauru"},{"$f":"Region479","v":"Oceania"},null,"Population - Est. & Proj.",3010,"Namibia",null,1219,null,2541,null,1322,null,"Lower middle income",2200,7092,6723,9.0580766828515298,15.97,12.3,1696203.5452434944,646.28465445647782,89.04,767.16615970571206,43.64,84.04,96.78,1486.75,null,null,"New Zealand"]
[139,{"$f":"FRA_Country79","v":"Nepal"},{"$f":"Region475","v":"Indian Subcontinent"},"T","Population - Est. & Proj.",3010,"Nauru",null,0,null,11,null,11,null,"Luxembourg",115874,118360,110261,13.650179002542869,0.22,2.5,4170.567,6861.1066672179086,100,13914.678448875555,100,100,100,3.78,2.87,null,"Nicaragua",24.9,2016]
[140,{"$f":"FRA_Country147","v":"Netherlands"},{"$f":"Region480","v":"Western Europe"},"T","Population - Est. & Proj.",3010,"Nepal",null,23142,null,29137,null,5995,null,"Macao SAR, China",null,57807,54798,"",null,4.3,0,"",100,"",null,100,100,null,0.66,null,"Niger",40.799999999999997,2018]
[141,{"$f":"FRA_Country219","v":"New Caledonia"},{"$f":"Region479","v":"Oceania"},null,"Population - Est. & Proj.",3010,"Netherlands",null,1354,null,17441,null,16087,null,"North Macedonia",5888,16927,15848,"",9.09,2.7,"","",100,"",65.63,100,100,25.27,4.2300000000000004,null,"Nigeria",40.1,2018]
[142,{"$f":"FRA_Country220","v":"New Zealand"},{"$f":"Region479","v":"Oceania"},"TS","Population - Est. & Proj.",3010,"Netherlands Antilles",null,24,null,277,null,204,null,"Madagascar",495,1593,1510,"",24.12,43.2,0,"",26.91,"",0.91,null,79.459999999999994,11.34,5.37,null,"Northern Mariana Islands"]
[143,{"$f":"FRA_Country199","v":"Nicaragua"},{"$f":"Region476","v":"Latin America"},"TS","Population - Est. & Proj.",3010,"New Caledonia",null,77,null,272,null,195,null,"Malawi",625,1568,1487,"",21.09,17.3,0,"",11.2,"",2.5,4.09,45.5,17.5,4.08,null,"Norway",12.7,2018]
[144,{"$f":"FRA_Country53","v":"Niger"},{"$f":"Region472","v":"Africa"},"TS","Population - Est. & Proj.",3010,"New Zealand",null,676,null,5084,null,4408,null,"Malaysia",10402,27887,26435,8.1530908674917875,8.2100000000000009,3.2,75907.337,2967.5413044792185,100,4596.3319393395868,96.3,100,100,3.44,4.68,null,"Oman"]
[145,{"$f":"FRA_Country54","v":"Nigeria"},{"$f":"Region472","v":"Africa"},"TS","Population - Est. & Proj.",3010,"Nicaragua",null,2715,null,6625,null,3909,null,"Maldives",7456,13766,13049,"",null,null,0,"",100,"",93.83,100,100,15.67,3.84,null,"Pakistan",24.3,2015]
[146,{"$f":"FRA_Country221","v":"Niue"},{"$f":"Region479","v":"Oceania"},null,"Population - Est. & Proj.",3010,"Niger",null,20182,null,24207,null,4025,null,"Mali",859,2339,2217,"",36.1,10.4,0,"",48.02,"",0.96,15.26,91.2,8,2.83,null,"Palau"]
[147,{"$f":"FRA_Country222","v":"Norfolk Island"},{"$f":"Region479","v":"Oceania"},null,"Population - Est. & Proj.",3010,"Nigeria",null,99034,null,206140,null,107106,null,"Malta",27885,42640,39222,17.872133002213875,0.65,2.5,857.48099999999999,1781.5044251860513,100,4924.5440194404428,100,100,100,85.15,1.81,null,"Panama",22.1,2016]
[148,{"$f":"FRA_Country223","v":"Northern Mariana Islands"},{"$f":"Region479","v":"Oceania"},null,"Population - Est. & Proj.",3010,"Niue",null,1,null,2,null,1,null,"Marshall Islands",null,null,null,"",null,null,0,"",97.44,"",65.349999999999994,100,95.9,null,11.35,null,"Papua New Guinea"]
[149,{"$f":"FRA_Country148","v":"Norway"},{"$f":"Region480","v":"Western Europe"},"T","Population - Est. & Proj.",3010,"Northern Mariana Islands",null,5,null,58,null,53,null,"Mauritania",1673,5257,4983,"",18.14,9.1,0,"",45.81,"",46.56,null,86.5,13.25,3.59,null,"Paraguay",23.5,2019]
[150,{"$f":"FRA_Country102","v":"Occupied Palestinian Territory"},{"$f":"Region477","v":"Middle East"},"T","Population - Est. & Proj.",3010,"Norway",null,916,null,5379,null,4464,null,"Mauritius",8623,20539,19470,16.425711205121729,3.41,6.2,0,1111.4221680119658,100,2182.5091559114117,93.34,100,100,22.17,2.5499999999999998,null,"Peru",20.2,2019]
[151,{"$f":"FRA_Country103","v":"Oman"},{"$f":"Region477","v":"Middle East"},null,"Population - Est. & Proj.",3010,"Occupied Palestinian Territory",null,1204,null,4863,null,3848,null,"Mexico",8347,18833,17888,10.98026028377171,3.89,7.2,186171.014,1513.2592077384288,100,2090.1759436362113,85.35,100,100,32.950000000000003,3.74,null,"Philippines",16.7,2018]
[152,{"$f":"FRA_Country80","v":"Pakistan"},{"$f":"Region475","v":"Indian Subcontinent"},"T","Population - Est. & Proj.",3010,"Oman",null,701,null,5107,null,4406,null,"Mexico and Central America",null,null,null,"",null,null,0,"",null,"",null,null,null,null,null,null,"Poland",15.4,2018]
[153,{"$f":"FRA_Country224","v":"Palau"},{"$f":"Region479","v":"Oceania"},null,"Population - Est. & Proj.",3010,"Pakistan",null,138798,null,220892,null,82095,null,"Micronesia (Federated States of)",null,null,null,"",null,null,"","",82.12,"",11.97,78.069999999999993,95.81,null,6.59,null,"Portugal",17.2,2018]
[154,{"$f":"FRA_Country200","v":"Panama"},{"$f":"Region476","v":"Latin America"},"TS","Population - Est. & Proj.",3010,"Palau",null,3,null,18,null,15,null,"Middle East & North Africa (all income levels)",6670,16405,15498,"",7.94,10.65,833420.39302857895,"",97.23,"",94.98,93.9,99.66,9151.74,null,null,"Puerto Rico"]
[155,{"$f":"FRA_Country225","v":"Papua New Guinea"},{"$f":"Region479","v":"Oceania"},"TS","Population - Est. & Proj.",3010,"Panama",null,1363,null,4315,null,2952,null,"Middle East & North Africa (developing only)",3066,10730,10170,"",11.39,11.82,456204.31634104572,"",96.75,"",94.57,93.55,99.58,1838.56,null,null,"Qatar"]
[156,{"$f":"FRA_Country244","v":"Paraguay"},{"$f":"Region476","v":"Latin America"},"TS","Population - Est. & Proj.",3010,"Papua New Guinea",null,7753,null,8947,null,1194,null,"Middle East and North Africa (IFC classification)",3063,10792,10228,"",11.39,11.82,0,"",96.72,"",94.57,93.5,99.57,1838.56,null,null,"Romania",23.8,2018]
[157,{"$f":"FRA_Country245","v":"Peru"},{"$f":"Region476","v":"Latin America"},"TS","Population - Est. & Proj.",3010,"Paraguay",null,2697,null,7133,null,4435,null,"Middle income",5207,11816,11210,7.2267643860045929,8.86,8.76,6182688.8508326449,1395.7892268960518,93.51,2063.7431221460351,55.73,88.61,98.36,3338.67,null,null,"Russian Federation",12.6,2018]
[158,{"$f":"FRA_Country81","v":"Philippines"},{"$f":"Region473","v":"Asia"},"TS","Population - Est. & Proj.",3010,"Peru",null,7156,null,32972,null,25816,null,"Republic of Moldova",4551,13002,12325,"",9.51,null,"","",100,"",92.19,100,100,12.47,8.39,null,"Rwanda",38.200000000000003,2016]
[159,{"$f":"FRA_Country149","v":"Poland"},{"$f":"Region474","v":"Eastern Europe"},"T","Population - Est. & Proj.",3010,"Philippines",null,57631,null,109581,null,51950,null,"Monaco",null,null,null,"",null,null,0,"",100,"",100,100,100,null,null,null,"Samoa"]
[160,{"$f":"FRA_Country150","v":"Portugal"},{"$f":"Region480","v":"Western Europe"},"T","Population - Est. & Proj.",3010,"Poland",null,15164,null,37951,null,22787,null,"Mongolia",4007,12101,11471,6.173650167412335,12.06,4.3,3607.402,1838.2394585853942,99.13,2017.5136188154436,42.8,97.22,100,3.4,6.1,null,"San Marino"]
[161,{"$f":"FRA_Country184","v":"Puerto Rico"},{"$f":"Region476","v":"Latin America"},"TS","Population - Est. & Proj.",3010,"Portugal",null,3472,null,10306,null,6834,null,"Montenegro",7686,20567,18279,9.618342135819212,null,2.5,1179.077,1538.2640999662276,100,4612.3413904568915,69.349999999999994,100,100,null,4.45,null,"Sao Tome and Principe",66.7,2017]
[162,{"$f":"FRA_Country104","v":"Qatar"},{"$f":"Region477","v":"Middle East"},"T","Population - Est. & Proj.",3010,"Puerto Rico",null,205,null,3194,null,2989,null,"Morocco",3009,7296,6916,12.990523634235894,12.23,4.2,17282.674999999999,553.10395843217589,99.6,901.12844884513072,96.75,98.92,100,50.75,3.15,null,"Saudi Arabia"]
[163,{"$f":"FRA_Country16","v":"Réunion"},{"$f":"Region473","v":"Asia"},null,"Population - Est. & Proj.",3010,"Qatar",null,22,null,2881,null,2859,null,"Mozambique",449,1297,1229,2.5253227293812128,null,31.2,10202.089,427.59836312749098,29.62,462.62028807327488,3.69,4.9400000000000004,72.5,1.75,17.309999999999999,null,"Senegal"]
[164,{"$f":"FRA_Country151","v":"Republic of Moldova"},{"$f":"Region474","v":"Eastern Europe"},"T","Population - Est. & Proj.",3010,"Republic of Korea",null,9624,null,51781,null,42157,null,"Myanmar",1400,4794,4544,12.827094399636133,22.82,7.6,14056.103999999999,371.86891071293144,68.36,216.7776085524082,18.399999999999999,57.51,92.67,5.8,3.12,null,"Serbia",23.2,2018]
[165,{"$f":"FRA_Country67","v":"Republic of Korea"},{"$f":"Region472","v":"Africa"},"T","Population - Est. & Proj.",3010,"Republic of Moldova",null,1496,null,2618,null,1122,null,"Namibia",4211,9382,8894,12.627636457266551,9.0299999999999994,19.8,1589.15,761.6149695992226,55.2,1584.5688218264761,42.2,34.97,74.599999999999994,0.86,3.26,null,"Seychelles",25.3,2018]
[166,{"$f":"FRA_Country152","v":"Romania"},{"$f":"Region474","v":"Eastern Europe"},"T","Population - Est. & Proj.",3010,"Réunion",null,4,null,883,null,879,null,"Nepal",1155,4009,3800,5.4907920206393488,23.13,4.8,10391.019,412.72448304909739,89.9,139.14368062609785,27.62,88.81,94.2,8.31,7.42,null,"Sierra Leone",56.8,2018]
[167,{"$f":"FRA_Country153","v":"Russian Federation"},{"$f":"Region474","v":"Eastern Europe"},"B","Population - Est. & Proj.",3010,"Romania",null,8834,null,19286,null,10452,null,"Netherlands",52304,59229,54210,10.557898769543963,1.59,2.5,77418.588000000003,4325.5237115808068,100,6712.7747582450002,100,100,100,15.17,3.94,null,"Singapore"]
[168,{"$f":"FRA_Country55","v":"Rwanda"},{"$f":"Region472","v":"Africa"},"TS","Population - Est. & Proj.",3010,"Russian Federation",null,36381,null,144104,null,107724,null,"New Caledonia",null,null,null,"",null,6.9,0,"",100,"",null,100,100,null,null,null,"Sint Maarten (Dutch part)"]
[169,{"$f":"Other_Country469","v":"Saint Helena, Ascension and Tristan da Cunha"},{"$f":"Region472","v":"Africa"},"TS","Population - Est. & Proj.",3010,"Rwanda",null,10694,null,12952,null,2258,null,"New Zealand",41792,44252,42404,7.5561722650296259,null,2.5,18167.221000000001,4559.8922322992657,100,9026.3210413109518,100,100,100,8.0500000000000007,5.42,null,"Slovakia",11.9,2018]
[170,{"$f":"FRA_Country185","v":"Saint Kitts and Nevis"},{"$f":"Region476","v":"Latin America"},"TS","Population - Est. & Proj.",3010,"Saint Helena Ascension and Tristan da Cunha",null,2,null,6,null,2,null,"Nicaragua",1905,5570,5280,7.8567726007372825,15.77,19.3,3038.2089999999998,609.00712122071229,88.21,580.47917217118663,52.3,71.42,100,2.69,5.43,null,"Slovenia",12,2018]
[171,{"$f":"FRA_Country186","v":"Saint Lucia"},{"$f":"Region476","v":"Latin America"},"TS","Population - Est. & Proj.",3010,"Saint Kitts and Nevis",null,37,null,53,null,16,null,"Niger",565,1263,1197,6.000358809294454,null,null,0,150.7341231056528,18.77,51.440815461740854,1.91,12.62,49.9,7.45,6.95,null,"Solomon Islands"]
[172,{"$f":"FRA_Country205","v":"Saint Pierre and Miquelon"},{"$f":"Region478","v":"North America"},"TS","Population - Est. & Proj.",3010,"Saint Lucia",null,149,null,184,null,35,null,"Nigeria",2097,5187,4917,7.4480799888998348,24.14,14.6,118324.588,763.39136788809537,55.4,144.47992446490943,4.91,25.55,83.9,9.67,5.68,null,"Somalia"]
[173,{"$f":"FRA_Country188","v":"Saint Vincent and the Grenadines"},{"$f":"Region476","v":"Latin America"},"TS","Population - Est. & Proj.",3010,"Saint Pierre and Miquelon",null,1,null,6,null,6,null,{"$f":"Region478","v":"North America"},61453,61947,58752,7.2411320416495508,null,2.5,2444063.0482057715,7047.8918027610807,100,13241.31794749061,100,100,100,31.84,null,null,"South Africa"]
[174,{"$f":"FRA_Country227","v":"Samoa"},{"$f":"Region479","v":"Oceania"},"TS","Population - Est. & Proj.",3010,"Saint Vincent and the Grenadines",null,52,null,111,null,59,null,"Northern Mariana Islands",null,null,null,"",null,null,0,"",100,"",null,100,100,null,null,null,"South Sudan",76.400000000000006,2016]
[175,{"$f":"FRA_Country154","v":"San Marino"},{"$f":"Region480","v":"Western Europe"},"T","Population - Est. & Proj.",3010,"Samoa",null,163,null,198,null,35,null,"Norway",67294,63198,63586,11.333672113410806,1.85,2.5,28136.772000000001,5595.6546249030598,100,22999.93459512827,100,100,100,2.0499999999999998,3.75,null,"Spain",20.7,2018]
[176,{"$f":"FRA_Country57","v":"Sao Tome and Principe"},{"$f":"Region472","v":"Africa"},null,"Population - Est. & Proj.",3010,"San Marino",null,1,null,34,null,33,null,"Not classified",null,null,null,"",null,null,0,"",0,"",null,null,null,null,null,null,"Sri Lanka",4.0999999999999996,2016]
[177,{"$f":"FRA_Country105","v":"Saudi Arabia"},{"$f":"Region477","v":"Middle East"},"T","Population - Est. & Proj.",3010,"Sao Tome and Principe",null,56,null,219,null,163,null,"OECD members",37976,44650,42288,9.1032162581703773,null,3.19,5304779.5809999993,4141.0067524634987,99.99,7984.5995658514585,97.87,99.95,100,778.66,null,null,"Sudan"]
[178,{"$f":"FRA_Country58","v":"Senegal"},{"$f":"Region472","v":"Africa"},"TS","Population - Est. & Proj.",3010,"Saudi Arabia",null,5470,null,34814,null,29344,null,"Oman",null,null,null,6.5722507113383877,null,8.1999999999999993,25275.894,6141.7731969173865,100,6553.5196955256661,95.22,100,100,116.71,6.3,null,"Suriname"]
[179,{"$f":"FRA_Country155","v":"Serbia"},{"$f":"Region474","v":"Eastern Europe"},"T","Population - Est. & Proj.",3010,"Senegal",null,8686,null,16744,null,8058,null,"Other small states",11822,22321,21103,"",1.9,15.05,0,"",78.239999999999995,"",56.39,56.83,91.04,876.36,null,null,"Eswatini",58.9,2016]
[180,{"$f":"FRA_Country17","v":"Seychelles"},{"$f":"Region472","v":"Africa"},"TS","Population - Est. & Proj.",3010,"Serbia",null,3009,null,6908,null,3899,null,"Pacific island small states",3626,6376,6121,"",null,9.3000000000000007,0,"",86.75,"",26.95,81.2,94.63,null,null,null,"Sweden",17.100000000000001,2018]
[181,{"$f":"FRA_Country59","v":"Sierra Leone"},{"$f":"Region472","v":"Africa"},"TS","Population - Est. & Proj.",3010,"Seychelles",null,42,null,98,null,57,null,"Pakistan",1194,4877,4623,9.4463250772567307,22.69,12.9,84844.563999999998,484.44521842334984,73.91,471.04156889567435,43.32,58.66,100,122.69,4.42,null,"Switzerland",16,2018]
[182,{"$f":"FRA_Country82","v":"Singapore"},{"$f":"Region473","v":"Asia"},"TS","Population - Est. & Proj.",3010,"Sierra Leone",null,4553,null,7977,null,3424,null,"Palau",null,null,null,"",null,null,0,"",100,"",86.9,100,100,null,10.24,null,"Syrian Arab Republic"]
[183,{"$f":"FRA_Country156","v":"Slovakia"},{"$f":"Region474","v":"Eastern Europe"},"T","Population - Est. & Proj.",3010,"Singapore",null,0,null,5686,null,5686,null,"Panama",12269,26776,25382,18.550120551350254,2.74,7.5,4058.2469999999998,1079.1301505691872,95.83,2062.7635447463181,89.01,87.65,99.67,0.9,2.17,null,"Tajikistan",26.3,2019]
[184,{"$f":"FRA_Country157","v":"Slovenia"},{"$f":"Region480","v":"Western Europe"},"T","Population - Est. & Proj.",3010,"Slovakia",null,2524,null,5459,null,2935,null,"Papua New Guinea",2637,4326,4101,"",null,24.6,0,"",63.46,"",13.43,60.45,83.22,0.13,9.2799999999999994,null,"United Republic of Tanzania",26.4,2017]
[185,{"$f":"FRA_Country228","v":"Solomon Islands"},{"$f":"Region479","v":"Oceania"},"TS","Population - Est. & Proj.",3010,"Slovenia",null,943,null,2100,null,1158,null,"Paraguay",4950,13013,12335,13.882039214339351,10.82,9.1999999999999993,4857.5590000000002,788.68962229251849,100,1563.5053285848758,66.22,100,100,1.84,3.95,null,"Thailand",9.9,2018]
[186,{"$f":"FRA_Country18","v":"Somalia"},{"$f":"Region472","v":"Africa"},"TS","Population - Est. & Proj.",3010,"Solomon Islands",null,517,null,687,null,169,null,"Peru",6127,11879,11261,15.042323809492014,null,8.6999999999999993,20582.203000000001,767.68951144264202,98.35,1307.510965715886,75.06,92.45,100,3,2.79,null,"Timor-Leste"]
[187,{"$f":"FRA_Country19","v":"South Africa"},{"$f":"Region472","v":"Africa"},"T","Population - Est. & Proj.",3010,"Somalia",null,8560,null,15893,null,7333,null,"Philippines",3299,8390,7954,13.828806093653052,10.18,9.4,40452.031000000003,476.24472453161366,95.63,699.20506980817186,43.22,93.55,97.96,28.36,3.12,null,"Togo",55.1,2015]
[188,{"$f":"Other_Country470","v":"South Sudan"},{"$f":"Region472","v":"Africa"},"TS","Population - Est. & Proj.",3010,"South Africa",null,19362,null,59309,null,39947,null,"Poland",15656,34265,32238,9.8469020349698155,2.39,2.5,101312.95,2473.4068834269206,100,3971.7997613105531,100,100,100,34.89,4.1399999999999997,null,"Tonga"]
[189,{"$f":"FRA_Country158","v":"Spain"},{"$f":"Region480","v":"Western Europe"},"T","Population - Est. & Proj.",3010,"South Sudan",null,8933,null,11194,null,2261,null,"Portugal",22440,34496,32181,12.791121308814654,1.98,2.5,23084.167000000001,2034.5126295757107,100,4662.6007998029436,100,100,100,18.38,3.34,null,"Trinidad and Tobago"]
[190,{"$f":"FRA_Country83","v":"Sri Lanka"},{"$f":"Region475","v":"Indian Subcontinent"},"TS","Population - Est. & Proj.",3010,"Spain",null,9087,null,47352,null,38265,null,"Puerto Rico",32291,35279,33443,"",0.62,null,0,"",100,"",null,100,100,19.54,0.41,null,"Tunisia",15.2,2015]
[191,{"$f":"FRA_Country31","v":"Sudan"},{"$f":"Region472","v":"Africa"},"TS","Population - Est. & Proj.",3010,"Sri Lanka",null,17817,null,21919,null,4102,null,"Qatar",50805,89949,85266,6.5109215259392075,0.28999999999999998,null,33285.402999999998,18562.666909252326,100,15309.429380408428,98.49,100,100,432.41,6.4,null,"Turkey",14.4,2018]
[192,{"$f":"Other_Country471","v":"Sudan (former)"},{"$f":"Region472","v":"Africa"},"TS","Population - Est. & Proj.",3010,"Sudan",null,28391,null,43849,null,15458,null,"Romania",12896,31946,28833,12.440964959427601,3.84,2.5,35830.313000000002,1591.6676590999466,100,2584.4117872644297,85.88,100,100,6.34,3.52,null,"Turkmenistan"]
[193,{"$f":"FRA_Country246","v":"Suriname"},{"$f":"Region476","v":"Latin America"},"TS","Population - Est. & Proj.",3010,"Suriname",null,199,null,587,null,388,null,"Russian Federation",10127,28213,26456,5.1961324512779035,3.7,2.5,730969.87800000003,4942.8755174553116,100,6602.6575252928205,98.25,100,100,4.0999999999999996,8.41,null,"Turks and Caicos Islands"]
[194,{"$f":"FRA_Country20","v":"Eswatini"},{"$f":"Region472","v":"Africa"},"TS","Population - Est. & Proj.",3010,"Eswatini",null,880,null,1160,null,280,null,"Rwanda",798,2214,2099,"",26.25,35.200000000000003,0,"",37.78,"",0.56999999999999995,26.21,93.06,6.09,4.88,null,"Tuvalu"]
[195,{"$f":"FRA_Country160","v":"Sweden"},{"$f":"Region480","v":"Western Europe"},"B","Population - Est. & Proj.",3010,"Sweden",null,1245,null,10353,null,9109,null,"Samoa",4067,null,6296,"",10.27,4.5999999999999996,0,"",99.2,"",32.29,99.02,100,null,5.21,null,"Uganda",21.4,2016]
[196,{"$f":"FRA_Country161","v":"Switzerland"},{"$f":"Region480","v":"Western Europe"},"T","Population - Est. & Proj.",3010,"Switzerland",null,2253,null,8637,null,6384,null,"San Marino",null,null,null,"",null,null,0,"",100,"",100,100,100,null,null,null,"Ukraine",1.1000000000000001,2019]
[197,{"$f":"FRA_Country106","v":"Syrian Arab Republic"},{"$f":"Region477","v":"Middle East"},"T","Population - Est. & Proj.",3010,"Syrian Arab Republic",null,7792,null,17501,null,9708,null,"Sao Tome and Principe",2158,4274,4052,"",13.99,11.9,0,"",75.180000000000007,"",16.809999999999999,68.510000000000005,77.58,1.88,4.66,null,"United Arab Emirates"]
[198,{"$f":"FRA_Country107","v":"Tajikistan"},{"$f":"Region473","v":"Asia"},"T","Population - Est. & Proj.",3010,"Tajikistan",null,6914,null,9538,null,2623,null,"Saudi Arabia",20110,46762,44328,7.2014966290255202,2.56,3.9,187070.06599999999,6937.2306771331914,100,9444.215664033356,95.96,100,100,883.33,5.8,null,"United Kingdom",18.600000000000001,2017]
[199,{"$f":"FRA_Country84","v":"Thailand"},{"$f":"Region473","v":"Asia"},"TS","Population - Est. & Proj.",3010,"Thailand",null,33902,null,69800,null,35898,null,"Senegal",1488,3481,3300,10.395447095641892,15.82,7.5,3514.674,272.08200184915404,70.400000000000006,223.49616333877833,31.65,47.82,95.2,11.81,4.9800000000000004,null,"United States of America"]
[200,{"$f":"FRA_Country162","v":"North Macedonia"},{"$f":"Region474","v":"Eastern Europe"},"T","Population - Est. & Proj.",3010,"North Macedonia",null,865,null,2083,null,1218,null,"Serbia",7666,19231,18210,7.0520728879694436,6.5,3.9,16185.4,1859.4288876522739,99.8,4271.7446669104993,76.41,100,99.9,6.06,6.56,null,"Uruguay",8.8000000000000007,2019]
[201,{"$f":"FRA_Country85","v":"Timor-Leste"},{"$f":"Region473","v":"Asia"},"TS","Population - Est. & Proj.",3010,"Timor-Leste",null,906,null,1318,null,413,null,"Seychelles",11425,25700,24362,"",2.48,null,0,"",100,"",90.36,100,100,null,2.64,null,"Uzbekistan"]
[202,{"$f":"FRA_Country60","v":"Togo"},{"$f":"Region472","v":"Africa"},"TS","Population - Est. & Proj.",3010,"Togo",null,4735,null,8279,null,3543,null,"Sierra Leone",485,1739,1648,"",61.29,26.2,0,"",22.7,"",0.99,1.5,51.4,0.5,7,null,"Vanuatu"]
[203,{"$f":"FRA_Country229","v":"Tokelau"},{"$f":"Region479","v":"Oceania"},"TS","Population - Est. & Proj.",3010,"Tokelau",null,1,null,1,null,0,null,"Singapore",59798,98526,93397,15.795905043490892,0.03,null,33446.923999999999,5121.8043177315712,100,8844.6875930120059,100,100,100,82.02,2.39,null,"Venezuela (Bolivarian Republic of)",33.1,2015]
[204,{"$f":"FRA_Country230","v":"Tonga"},{"$f":"Region479","v":"Oceania"},"TS","Population - Est. & Proj.",3010,"Tonga",null,81,null,106,null,24,null,"Sint Maarten (Dutch part)",null,null,null,"",null,null,0,"",100,"",null,100,100,null,null,null,"Viet Nam",6.7,2018]
[205,{"$f":"FRA_Country190","v":"Trinidad and Tobago"},{"$f":"Region476","v":"Latin America"},"TS","Population - Est. & Proj.",3010,"Trinidad and Tobago",null,655,null,1399,null,745,null,"Slovakia",19157,31832,30330,"",2.1800000000000002,4,"","",100,"",96.58,100,100,2.39,4.4800000000000004,null,"Yemen"]
[206,{"$f":"FRA_Country32","v":"Tunisia"},{"$f":"Region472","v":"Africa"},"T","Population - Est. & Proj.",3010,"Tunisia",null,3597,null,11819,null,8222,null,"Slovenia",25180,39593,36548,8.781082729027645,2.0299999999999998,2.5,7248.7219999999998,3236.2360449664884,100,6727.9993016421113,96.17,100,100,6.3,4.58,null,"Zambia",54.4,2015]
[207,{"$f":"FRA_Country108","v":"Turkey"},{"$f":"Region477","v":"Middle East"},"T","Population - Est. & Proj.",3010,"Turkey",null,20153,null,84339,null,64186,null,"Small states",10864,20181,19092,"",2.5,12.87,39795.045476220126,"",82.35,"",61.11,67.47,92.49,1096.96,null,null,"Zimbabwe",38.299999999999997,2019]
[208,{"$f":"FRA_Country109","v":"Turkmenistan"},{"$f":"Region473","v":"Asia"},"T","Population - Est. & Proj.",3010,"Turkmenistan",null,2864,null,6031,null,3167,null,"Solomon Islands",2258,2619,2483,"",null,16.5,0,"",70.260000000000005,"",8.4499999999999993,68.22,76.64,null,5.0199999999999996]
[209,{"$f":"FRA_Country191","v":"Turks and Caicos Islands"},{"$f":"Region476","v":"Latin America"},"TS","Population - Est. & Proj.",3010,"Turks and Caicos Islands",null,2,null,39,null,36,null,"Somalia",309,875,830,"",null,59.5,0,"",36.03,"",2.34,11.12,65.81,24.53]
[210,{"$f":"FRA_Country231","v":"Tuvalu"},{"$f":"Region479","v":"Oceania"},"TS","Population - Est. & Proj.",3010,"Tuvalu",null,4,null,12,null,8,null,"South Africa",5091,12096,11466,4.5960454552304411,2.4,6.5,141371.93100000001,2695.7337636557504,85,4198.4011938781114,84.75,79.23,87.86,62.06,8.6999999999999993]
[211,{"$f":"FRA_Country21","v":"Uganda"},{"$f":"Region472","v":"Africa"},"TS","Population - Est. & Proj.",3010,"Uganda",null,34327,null,45741,null,11414,null,"South Asia",1805,6099,5782,8.8189671476645906,18.239999999999998,14.47,892281.67722636135,576.13081902992883,94.4,707.49594898278497,38.69,91.6,99.73,365.84]
[212,{"$f":"FRA_Country163","v":"Ukraine"},{"$f":"Region474","v":"Eastern Europe"},"T","Population - Est. & Proj.",3010,"Ukraine",null,13413,null,44135,null,30721,null,"South Asia (IFC classification)",1805,6099,5782,"",18.239999999999998,14.47,0,"",94.4,"",38.69,91.6,99.73,365.84]
[213,{"$f":"FRA_Country110","v":"United Arab Emirates"},{"$f":"Region477","v":"Middle East"},"T","Population - Est. & Proj.",3010,"United Arab Emirates",null,1281,null,9890,null,8609,null,"South Sudan",null,null,null,31.878819051287554,null,null,0,60.726195564970197,6.72,39.892564121443023,0.64,5.13,13.13,4.2300000000000004,1.0900000000000001]
[214,{"$f":"FRA_Country164","v":"United Kingdom"},{"$f":"Region480","v":"Western Europe"},"T","Population - Est. & Proj.",3010,"United Kingdom",null,10820,null,67215,null,56396,null,"Southern Cone Extended",null,null,null,"",null,null,0,"",null,""]
[215,{"$f":"FRA_Country22","v":"United Republic of Tanzania"},{"$f":"Region472","v":"Africa"},"TS","Population - Est. & Proj.",3010,"United Republic of Tanzania",null,0,null,0,null,0,null,"Spain",27057,38335,36215,12.657178698325525,3.16,2.5,125570.495,2464.6412905848047,100,5355.9870055822093,100,100,100,42.57,3.33]
[216,{"$f":"FRA_Country206","v":"United States of America"},{"$f":"Region478","v":"North America"},"T","Population - Est. & Proj.",3010,"United States of America",null,57119,null,329484,null,272365,null,"Sri Lanka",3682,13225,12537,20.652909112112265,8.36,6.8,10420.691999999999,515.68475278031872,100,531.26955851908906,26.33,100,100,90.79,2.06]
[217,{"$f":"FRA_Country192","v":"United States Virgin Islands"},{"$f":"Region476","v":"Latin America"},"TS","Population - Est. & Proj.",3010,"United States Virgin Islands",null,4,null,106,null,102,null,"St. Kitts and Nevis",17436,24537,23259,"",1.3,null,0,"",100,"",100,100,100,50.83,2.56]
[218,{"$f":"FRA_Country247","v":"Uruguay"},{"$f":"Region476","v":"Latin America"},"TS","Population - Est. & Proj.",3010,"Uruguay",null,156,null,3474,null,3318,null,"St. Lucia",9276,12944,12270,"",2.59,null,0,"",99.55,"",97.23,100,97.4,14.3,3.19]
[219,{"$f":"FRA_Country111","v":"Uzbekistan"},{"$f":"Region473","v":"Asia"},"T","Population - Est. & Proj.",3010,"Uzbekistan",null,16974,null,34232,null,17258,null,"St. Martin (French part)",null,null,null,"",null,null,0,"",100,"",null,100,100]
[220,{"$f":"FRA_Country232","v":"Vanuatu"},{"$f":"Region479","v":"Oceania"},"TS","Population - Est. & Proj.",3010,"Vanuatu",null,229,null,307,null,78,null,"St. Vincent and the Grenadines",7298,12770,12105,"",6.67,5.6,0,"",100,"",95.98,100,98.95,7.9,2.93]
[221,{"$f":"FRA_Country248","v":"Venezuela (Bolivarian Republic of)"},{"$f":"Region476","v":"Latin America"},"TS","Population - Est. & Proj.",3010,"Venezuela (Bolivarian Republic of)",null,3333,null,28436,null,25103,null,"Sub-Saharan Africa (all income levels)",1484,3821,3641,"",15.53,20.34,511879.74943536392,"",46.75,"",14.39,28.06,77.86,590.41999999999996]
[222,{"$f":"FRA_Country86","v":"Viet Nam"},{"$f":"Region473","v":"Asia"},"TS","Population - Est. & Proj.",3010,"Viet Nam",null,60992,null,97339,null,36346,null,"Sub-Saharan Africa (developing only)",1483,3819,3640,"",15.54,20.34,510041.00208169216,"",46.74,"",14.38,28.06,77.86,590.41999999999996]
[223,{"$f":"FRA_Country233","v":"Wallis and Futuna Islands"},{"$f":"Region479","v":"Oceania"},"TS","Population - Est. & Proj.",3010,"Wallis and Futuna Islands",null,12,null,12,null,0,null,"Sub-Saharan Africa (IFC classification)",1484,3821,3641,"",15.53,20.34,0,"",46.75,"",14.39,28.06,77.86,590.41999999999996]
[224,{"$f":"FRA_Country33","v":"Western Sahara"},{"$f":"Region472","v":"Africa"},"TS","Population - Est. & Proj.",3010,"Western Sahara",null,1118,null,4803,null,3685,null,"Sudan",595,4244,4023,10.54606307162951,20.92,12.3,16621.958999999999,380.87384092929102,53.83,190.220886811296,41.29,39.03,81.39,118.66,3.96]
[225,{"$f":"FRA_Country112","v":"Yemen"},{"$f":"Region477","v":"Middle East"},"T","Population - Est. & Proj.",3010,"Yemen",null,18520,null,29826,null,11306,null,"Suriname",6491,17016,16130,12.152984999985055,null,8.6999999999999993,0,1259.4902979953572,97.89,3631.8640405308724,89.61,95.61,99.06,3.95,3.39]
[226,{"$f":"FRA_Country23","v":"Zambia"},{"$f":"Region472","v":"Africa"},"TS",null,null,"Zambia",null,10179,null,18384,null,8205,null,"Eswatini",3415,8854,8393,"",9.1,11.6,0,"",77.17,"",49.7,72.94,90.57,77.56,4.6100000000000003]
[227,{"$f":"FRA_Country24","v":"Zimbabwe"},{"$f":"Region472","v":"Africa"},"TS",null,null,"Zimbabwe",null,10071,null,14863,null,4792,null,"Sweden",51926,54563,50683,8.8932249540091792,1.37,2.5,49044.618999999999,4966.4359212096397,100,13480.14822439102,100,100,100,3.43,4.2699999999999996]
[228,null,null,null,null,null,null,null,null,null,null,null,null,null,"Switzerland",86602,71352,68393,18.699088451588771,0.7,2.5,25374.773000000001,3059.9367490290524,100,7520.1660249450188,100,100,100,6.61,2.19]
[229,null,null,null,null,null,null,null,null,null,null,null,null,null,"Syrian Arab Republic",null,null,null,"",null,null,19986.189999999999,562.53540445834494,89.32,949.58675921427232,99.02,76.37,100,124.36,4.03]
[230,null,null,null,null,null,null,null,null,null,null,null,null,null,"Tajikistan",859,3858,3658,7.5922650111001158,23.79,null,2395.212,335.3854505906852,99.64,1479.7772740888308,80.41,99.83,99.11,68.739999999999995,5.01]
[231,null,null,null,null,null,null,null,null,null,null,null,null,null,"United Republic of Tanzania",1076,2780,2635,"",26.74,25.1,"","",37.700000000000003,"",2.16,19,73.2,12.96,8.34]
[232,null,null,null,null,null,null,null,null,null,null,null,null,null,"Thailand",7189,18236,17287,7.5431300947624065,8.64,8.1999999999999993,119147.452,1969.6336594190677,99.9,2539.6111935827666,74.430000000000007,99.9,99.9,23.01,5.41]
[233,null,null,null,null,null,null,null,null,null,null,null,null,null,"Timor-Leste",1381,3356,3181,"",0,22.6,0,"",94.72,"",6.92,92.35,100,28.27]
[234,null,null,null,null,null,null,null,null,null,null,null,null,null,"Togo",915,2224,2108,3.0780126777864569,18.78,20.399999999999999,2764.0039999999999,456.67420352846869,52.44,152.72001399933461,6.71,23.63,91.83,3.39,14.34]
[null,null,null,null,null,null,null,null,null,null,null,null,null,null,"Tonga",null,null,null,"",null,null,0,"",98.4,"",59.17,97.92,100,null,3.03]
[null,null,null,null,null,null,null,null,null,null,null,null,null,null,"Trinidad and Tobago",15384,25031,23728,2.1583970368073269,null,6.7,20917.780999999999,14446.749447948421,100,7134.0346535567187,99.26,100,100,20.329999999999998,19.09]
[null,null,null,null,null,null,null,null,null,null,null,null,null,null,"Tunisia",3320,10262,9728,11.410499538842659,11.74,3,9503.7309999999998,943.60703623899258,100,1444.1073993073167,99.1,100,100,121.07,3.78]
[null,null,null,null,null,null,null,null,null,null,null,null,null,null,"Turkey",8538,28119,28385,14.197917132804687,6.6,2.5,112458.678,1577.8279777233545,100,2854.5658487945861,null,100,100,44.57,2.95]
[null,null,null,null,null,null,null,null,null,null,null,null,null,null,"Turkmenistan",null,null,null,2.9288653077743403,null,4.0999999999999996,24710.126,4893.4874989961108,99.9,2678.8061485031485,99.32,99.9,99.9,143.56,13.86]
[null,null,null,null,null,null,null,null,null,null,null,null,null,null,"Turks and Caicos Islands",23880,22282,21122,"",0.43,null,0,"",100,"",null,100,100]
[null,null,null,null,null,null,null,null,null,null,null,null,null,null,"Tuvalu",4143,4653,4411,"",null,null,0,"",100,"",50.42,100,100,null,3.91]
[null,null,null,null,null,null,null,null,null,null,null,null,null,null,"Uganda",817,2297,2178,"",24.03,null,0,"",41.3,"",0.77,31.8,70.8,5.83,9.64]
[null,null,null,null,null,null,null,null,null,null,null,null,null,null,"Ukraine",3727,13057,12377,3.354154133700932,9.27,2.5,126437.51700000001,2334.4071992309059,100,3418.5850235246121,95.73,100,100,11.19,11.79]
[null,null,null,null,null,null,null,null,null,null,null,null,null,null,"United Arab Emirates",null,null,null,8.2303068429621042,null,3.7,66108.312000000005,7769.2347379803941,100,11263.531920377622,98.51,100,100,1708,5.08]
[null,null,null,null,null,null,null,null,null,null,null,null,null,null,"United Kingdom",40285,44916,41627,13.775275503460181,0.56999999999999995,2.5,188073.891,2776.8440980134692,100,5129.5277927901998,100,100,100,14.35,3.02]
[null,null,null,null,null,null,null,null,null,null,null,null,null,null,"United States of America",63544,63544,60236,"",null,2.5,"","",100,"",100,100,100,28.16,5.41]
[null,null,null,null,null,null,null,null,null,null,null,null,null,null,"Upper middle income",9192,18065,17146,6.6461794996402794,6.4,4.1399999999999997,4487970.0496292608,2204.1681408002196,99.38,3516.7277922631151,71.87,99.07,99.66,1851.92]
[null,null,null,null,null,null,null,null,null,null,null,null,null,null,"Uruguay",15438,22795,21608,14.385797483703046,7.48,2.5,4429.5150000000003,1378.2736070811739,99.9,3067.9511256757478,97.97,100,99.9,9.7899999999999991,3.09]
[null,null,null,null,null,null,null,null,null,null,null,null,null,null,"Uzbekistan",1686,7378,6994,"",26.07,2.5,47754.951000000001,"",100,1645.4416292505616,92.1,100,100,168.91,9.99]
[null,null,null,null,null,null,null,null,null,null,null,null,null,null,"Vanuatu",2783,2915,2763,"",null,9.3000000000000007,0,"",64.67,"",12.57,54.43,94.75,null,3.87]
[null,null,null,null,null,null,null,null,null,null,null,null,null,null,"Venezuela (Bolivarian Republic of)",null,null,null,"",null,27.4,"","",100,"",96.16,100,100,7.54,4.72]
[null,null,null,null,null,null,null,null,null,null,null,null,null,null,"Viet Nam",2786,8651,8200,"",14.85,6.7,"","",99.4,"",66.92,99.05,100,18.13,5.94]
[null,null,null,null,null,null,null,null,null,null,null,null,null,null,"Virgin Islands (U.S.)",null,null,null,"",null,null,0,"",100,"",null,100,100]
[null,null,null,null,null,null,null,null,null,null,null,null,null,null,"West Bank and Gaza",3240,5690,5394,"",null,null,0,"",100,"",null,100,100]
[null,null,null,null,null,null,null,null,null,null,null,null,null,null,"World",10926,17109,16194,7.905808043497597,null,8.9,12715769.471779399,1920.580059133981,90.08,3127.3612570300361,59.34,82.53,97.27,12219.66]
[null,null,null,null,null,null,null,null,null,null,null,null,null,null,"Yemen",null,null,null,"",null,45.4,7260.4520000000002,"",72.75,"",64.930000000000007,60.63,93.15,169.76,2.0499999999999998]
[null,null,null,null,null,null,null,null,null,null,null,null,null,null,"Zambia",1051,3450,3270,"",2.73,43.1,8461.9950000000008,"",43,707.19021746019166,16.43,13.94,79.88,2.84,7.34]
[null,null,null,null,null,null,null,null,null,null,null,null,null,null,"Zimbabwe",1128,2895,2745,"",8.3409688722226214,30.5,9312.0450000000001,"",41.09,536.99549205391372,29.05,20.05,85.36,31.35,15.8]

{"sheet":"Conversion factors","index":35,"n_rows":34,"n_cols":4,"rows_kept":34,"cut":false,"hidden":true,"merged":[]}
["Fuel","Unit","MJ"]
["Biodiesel","kg",36.9]
["Bioethanol","kg",26.67]
["Biogas","m3",19]
["Blast Furnace Gas","m3",3.6]
["Briquettes","kg",17.64,"**"]
["Brown Coal","kg",18.005000000000003]
["Charcoal                        ","kg",30.8,"*"]
["Coal (lignite)","kg",11.095000000000001]
["Coke Oven Coke","kg",27.844999999999999]
["Coke Oven Gas","m3",17.91]
["Coking Coal","kg",29.31]
["Crude Oil","kg",42.7]
["Diesel  Oil","kg",42.71]
["Electricity","kWh",3.6]
["Ethane","kg",47.31]
["Fuel Oil","kg",40.19]
["Fuel Wood","m3",8.9999999999999993E-3,{"$f":"C18*400","v":3.5999999999999996}]
["Gas Works Gas","m3",17.2]
["Hard Coal","kg",26.795000000000002]
["Jet Fuel","kg",43.96]
["Kerosene","kg",43.96]
["Landfill Gas","m3",17]
["Light Heating Oil","kg",42.71]
["LPG","kg",46.89]
["Motor Gasoline","kg",44.59]
["Naphtha","kg",44.59]
["Natural Gas","m3",34.94]
["Other Products","kg",36.840000000000003]
["Pellets","kg",17.5,"**"]
["Petroleum Coke","kg",31]
["Refinery Gas","kg",48.57]
["House coal","kg","27-31","**"]
["Source: EIHP, *IEA,**http://www.wightheat.co.uk/calorific.php"]

{"sheet":"definitions","index":36,"n_rows":28,"n_cols":12,"rows_kept":28,"cut":false,"hidden":true,"merged":[[3,2,4,2],[0,6,0,8],[0,9,0,11],[1,6,2,6],[1,8,2,9],[1,10,2,11],[3,6,9,6],[3,7,9,7],[3,8,4,8],[3,9,4,9],[4,10,9,10],[4,11,9,11],[5,9,9,9]]}
[null,"FAOSTAT","IPCC ",null,null,null,"Natural forest ",null,null,"Planted Forests"]
[null,"Forest area","Forest land",null,null,null,"Primary","Naturally","Semi-Natural",null,"Plantation"]
[null,"Agricultural area","Cropland+Grassland",null,null,null,null,"regenerated forests"]
[null,"Arable land","Cropland",null,null,null,"Forest of native species, where there are no clearly visible indications of human activities and the ecological processes are not significantly disturbed","Forest of naturally regenerated native species where there are clearly visible indications of human activities","Assisted natural regeneration through silvicultural practices","Planted component","Productive","Protective"]
[null,"Permanent crops",null,null,null,null,null,null,null,null,"Forest of primarily introduced and native species, established through plan-ting or seeding mainly for production of wood or non- wood goods","Forest of native or introduced species, established through planting or seeding mainly for provision of services"]
[null,"Permanent meadows and pastures","Grassland",null,null,null,null,null,"Weeding","Forest of native species, established through planting, seeding, coppice"]
[null,"Fallow land",null,null,null,null,null,null,"Fertilizing"]
[null,"Other land","Wetlands, settlements, other land",null,null,null,null,null,"Thinning"]
[null,null,null,null,null,null,null,null,"Selective logging"]
[]
[null,null,"FAOSTAT LAND USE DEFINITIONS"]
[null,null,"Agricultural area"]
[null,null,"Arable land","Agricultural area, this category is the sum of areas under a) arable land - land under temporary agricultural crops (multiple-cropped areas are counted only once), temporary meadows for mowing or pasture, land under market and kitchen gardens and land temporarily fallow (less than five years). The abandoned land resulting from shifting cultivation is not included in this category. Data for “Arable land” are not meant to indicate the amount of land that is potentially cultivable; (b) permanent crops - land cultivated with long-term crops which do not have to be replanted for several years (such as cocoa and coffee); land under trees and shrubs producing flowers, such as roses and jasmine; and nurseries (except those for forest trees, which should be classified under \"forest\"); and (c) permanent meadows and pastures - land used permanently (five years or more) to grow herbaceous forage crops, either cultivated or growing wild (wild prairie or grazing land). Data are expressed in 1000 hectares."]
[null,null,"Permanent crops","Arable land is the land under temporary agricultural crops (multiple-cropped areas are counted only once), temporary meadows for mowing or pasture, land under market and kitchen gardens and land temporarily fallow (less than five years). The abandoned land resulting from shifting cultivation is not included in this category. Data for “Arable land” are not meant to indicate the amount of land that is potentially cultivable. Data are expressed in 1000 hectares."]
[null,null,"Permanent meadows and pastures","Permanent crops is the land cultivated with long-term crops which do not have to be replanted for several years (such as cocoa and coffee); land under trees and shrubs producing flowers, such as roses and jasmine; and nurseries (except those for forest trees, which should be classified under \"forest\"). Permanent meadows and pastures are excluded from land under permanent crops. Data are expressed in 1000 hectares."]
[null,null,"Fallow land","Permanent meadows and pastures is the land used permanently (five years or more) to grow herbaceous forage crops, either cultivated or growing wild (wild prairie or grazing land). Data are expressed in 1000 hectares."]
[null,null,"Forest area","Fallow land (temporary) is the cultivated land that is not seeded for one or more growing seasons. The maximum idle period is usually less than five years. Land remaining fallow for two long may acquire characteristics requiring to be reclassified, such as \"permanent meadows and pastures\" (if used for grazing), \"forest or wooded land\" (if overgrown with trees), or \"other land\" (if it becomes wasteland). Data are expressed in 1000 hectares."]
[null,null,"Other land","Forest area is the land spanning more than 0.5 hectares with trees higher than 5 metres and a canopy cover of more than 10 percent, or trees able to reach these thresholds in situ. It does not include land that is predominantly under agricultural or urban land use. Forest is determined both by the presence of trees and the absence of other predominant land uses. The trees should be able to reach a minimum height of 5 metres (m) in situ. Areas under reforestation that have not yet reached but are expected to reach a canopy cover of 10 percent and a tree height of 5 m are included, as are temporarily unstocked areas, resulting from human intervention or natural causes, which are expected to regenerate. Includes: areas with bamboo and palms provided that height and canopy cover criteria are met; forest roads, firebreaks and other small open areas; forest in national parks, nature reserves and other protected areas such as those of specific scientific, historical, cultural or spiritual interest; windbreaks, shelterbelts and corridors of trees with an area of more than 0.5 ha and width of more than 20 m; plantations primarily used for forestry or protective purposes, such as: rubber-wood plantations and cork, oak stands. Excludes: tree stands in agricultural production systems, for example in fruit plantations and agroforestry systems. The term also excludes trees in urban parks and gardens. Data are expressed in 1000 hectares."]
[null,null,null,"Other land is the land not classified as Agricultural land and Forest area. It includes built-up and related land, barren land, other wooded land, etc. Data are expressed in 1000 hectares."]
[]
[null,null,"IPCC LAND USE DEFINITIONS"]
[null,null,"Forest land"]
[null,null,"Cropland","This category includes all land with woody vegetation consistent with thresholds used to define forest land in the national GHG inventory, sub-divided into managed and unmanaged, and also by ecosystem type as specified in the IPCC Guidelines. It also includes systems with vegetation that currently fall below, but are expected to exceed, the threshold of the forest land category."]
[null,null,"Grassland","This category includes arable and tillage land, and agro-forestry systems where vegetation falls below the thresholds used for the forest land category, consistent with the selection of national definitions."]
[null,null,"Wetlands","This category includes rangelands and pasture land that is not considered as cropland. It also includes systems with vegetation that fall below the threshold used in the forest land category and are not expected to exceed, without human intervention, the threshold used in the forest land category. The category also includes all grassland from wild lands to recreational areas as well as agricultural and silvi-pastural systems, subdivided into managed and unmanaged consistent with national definitions. "]
[null,null,"Settlements","This category includes land that is covered or saturated by water for all or part of the year (e.g., peatland) and that does not fall into the forest land, cropland, grassland or settlements ategories. The category can be subdivided into managed and unmanaged according to national definitions. It includes reservoirs as a managed sub-division and natural rivers and lakes as unmanaged sub-divisions. "]
[null,null,"Other land","This category includes all developed land, including transportation infrastructure and human settlements of any \nsize, unless they are already included under other categories. This should be consistent with the selection of \nnational definitions. "]
[null,null,null,"This category includes bare soil, rock, ice, and all unmanaged land areas that do not fall into any of the other five \ncategories. It allows the total of identified land areas to match the national area, where data are available. "]