{"text_format":"1","workbook":"xlsx","n_sheets":60,"sheets":["Instructions","Map","Attribute Survey","Results","Resource selection","Prioritization and roadmap","Development plan","Tools by activity","Backbone","Section I","Focal Points","Prioritization","Goal Setting","Section II","Stakeholders","Plans & Organization","Policy & Legal","Budgets & Finances","Workforce","Laboratory","Data Storage & Sharing","Communication & Reporting","Section III","Simulation Exercises","M & E Planning","Data Quality Standards","Toolbox","PP1_tools","PP2_tools","PP3_tools","A1_tools","A2_tools","A3_tools","A7_tools","A8_tools","A9_tools","A10_tools","A11_tools","P1_tools","P2_tools","P3_tools","P4_tools","P5_tools","P6_tools","P7_tools","P8_tools","I1_tools","I2_tools","I3_tools","I4_tools","I5_tools","I6_tools","I7_tools","I8_tools","I9_tools","I10_tools","ME1_tools","ME2_tools","ME3_tools","Activities"],"not_rendered":{"charts":0,"images":2,"macros":1,"external_links":1,"defined_names":3,"comments":14,"pivot_tables":0},"unopened":[],"bounds":{"document_bytes":16777216,"sheet_cells":100000,"rows_first":2000,"rows_last":500,"rows_between":2000,"halvings":0,"cell_chars":16384,"cell_head_chars":4096},"cells_cut":0,"cells_raw":0,"read":"whole","date_system":"1900"}

{"sheet":"Instructions","index":0,"n_rows":135,"n_cols":2,"rows_kept":135,"cut":false,"hidden":false,"merged":[[2,1,2,5],[35,1,132,5],[5,1,5,5],[7,1,7,5],[9,1,32,5],[34,1,34,5]]}
["Version: July 2022"]
[]
[null,"This Surveillance and Infromation Sharing Operational Tool (SIS OT) Workbook should be used together with the SIS OT guide available at: https://www.fao.org/documents/card/en/c/cc0716en "]
[]
[]
[null,"Surveillance and Information Sharing Operational Tool"]
[]
[null,"SIS OT WORKBOOK"]
[]
[null,"\nThe SIS OT workbook is the core instrument of the Surveillance and Information Sharing Operational Tool  (SIS OT). The SIS OT supports national authorities in their efforts to establish or strengthen a One Health multi-sectoral coordinated surveillance and information sharing (SIS) system for zoonotic diseases. The SIS OT was developed as part of a joint Tripartite (FAO, WHO and WOAH) effort to establish practical tools to help countries implement the guidance in the Tripartite Zoonoses Guide  (TZG) and strengthen One Health approaches in countries to address zoonotic diseases. \nThe SIS OT workbook guides users through a step-by-step assessment of the degree of development of coordinated surveillance and information sharing in a country, using five stages for building coordinated zoonotic disease surveillance capacity, divided into three sections: \nSection 1: Pre-planning; \nSection 2: Assessment; Planning; and Implementation; \nSection 3: Monitoring and Evaluation.  \nThese sections contain a total of 32 unique activities for SIS development, grouped into 14 categories.\nOnce the assessment of all the stages is completed, the SIS OT workbook guides users through the planning process to identify the activities that will build or strengthen national surveillance and information sharing for zoonotic diseases, a list of suggested resources and tools to accomplish each step, and the development of an implementation roadmap for those activities.\n"]
[]
[]
[]
[]
[]
[]
[]
[]
[]
[]
[]
[]
[]
[]
[]
[]
[]
[]
[]
[]
[]
[]
[]
[]
[null,"Instructions"]
[null,"Users are strongly encouraged to read the SIS OT document and these instructions prior to using the SIS OT workbook.\n\nAssessment \n•  After reading these instructions start with the “Map” page using the navigation menu on the left, or by clicking on the \"Next: Map\" button on the upper or lower right. This page maps the assessment process and allows a quick access to the different steps in the SIS OT process in the workbook. The assessment can be done in a linear manner, following the order of the categories within each section using the “Next” buttons at the bottom of the pages, or in a user-preferred order by directly accessing the targeted categories through the “Map”.\n•  Start the assessment from the Section 1: “Pre-planning” stage by clicking on the button \"Section I\".  \n \n    -  Complete the assessment process in the same manner for Level 2 and Level 3. Please note that some activities have only one or two capacity levels, for example only Level 1 or Level 1 and Level 3.\n    -  The comment box can be used to record important discussion points for further reference.\n    -  After completing all activities within the category, proceed to the next category by using the \"Next\" button or navigating through the Map. \n    -  After completing all categories within the section, access the next section by using the \"Next\" button, or through the Map, and repeat the process. Users can return to the previous category by using the “Back” button.\n    -  After completing all three sections, go back to the Map to revise any assessments, if needed. \n\nReview of Assessment Results\n•  After completing assessment, advance to the “Assessment Results” using the tool navigation menu on the left or by clicking on the \"Next: Assessment Results\" button from the page of last category “Data Quality Standards”, or navigate using the Map. \n•  Review “Assessment results”.  This page presents the next capacity level (Level 1, Level 2 or Level 3) of the 32 assessed activities, as the “target capacity level” for the country to achieve next. For example, if Level 1 capacity level is achieved for a particular activity, the target capacity level will be “Level 2”.  An activity is considered fully met and competent when a country has achieved Level 3.\n•  If the target capacity level shows “N/A” as the result, the assessment for this particular activity has not been completed, therefore return back to the assessment page of this activity using the corresponding button on the right next to the Resource Guide column. \n\nSelection of tools and resources to support activities implementation\n•  Start from the “Attribute survey’’ page using the tool navigation menu.\n\n    -   Assign a point value (between 0 and 100) for each of the nine attributes used to describe the tools and resources in the corresponding box to the right of  the attribute description. Assign the values so that a total of 100 points is distributed between the nine attributes, weighted according to their relative importance for resource selection to the user.\n •  After completion of the attribute survey go to the “Assessment Results” page of the SIS OT Workbook, using the navigation menu “Assessment Results” button or clicking on the \"Next: Assessment Results\" on the bottom.  \n    -   The arrows for each activity on the Assessment Results indicate links to the “resource pages’ with the list of recommended resources and tools available to  support advancement to the target capacity level for that activity. For each activity access to the resources page is through the corresponding link.\n    -   The resource pages contain the list of resources for each activity, grouped by their purpose.   “Best fit” resources are those whose primary purpose or  function is to directly assist the user to complete the defined activity, whereas “Other relevant” resources are those that partially or indirectly assist the user to complete the activity. \n    -   The resource pages provide for each of the resources listed a short description, information on the type, information on the generality of the resource, such as whether it is sector-specific or One Health, and whether it is specific for one disease, or generalized for all zoonotic or infectious diseases.\n    -   The page also provides scores from the reviews of each of the tools by the SIS OT development team, which are provided to facilitate selection. Both the raw scores from the tool review process, and weighted scores based on the values assigned by users to each of the nine attributes, are provided to facilitate selection.\n    -   The corresponding “Go to toolbox” button provides access to more detailed information about the resource in the toolbox.\n    -   Select one or two candidate resources to assist accomplishing each activity based on the information presented for each resource.\n• Go to the “Resource selection” page through the navigation menu. Record selected resources in in the “Resource 1” column using the dropdown list for each  activity. To record a second resource option, if it has been selected, use column “Resource 2”.\n\nPrioritization and roadmap\n•  Go to the “Prioritization and Roadmap’’ page through the navigation menu.\n    -  For each target activity, select an implementation time and priority (e.g., “to be addressed now- in 1 year’’ - high priority; “to be started in 2-3 years” -  medium priority; “to be started in > 3 years” - low priority) from the dropdown list. If the activity is assessed as complete, select “completed” from the  dropdown list and do not address it in the discussions.\n    -  Determine and agree upon a timeframe (e.g., 3 years, or 5 years) for the SIS development plan. \n    -  Select the activities to be addressed for this SIS development plan basing on their implementation time and priority and with consideration of agreed plan’s  timeframe (e.g., for 3- years plan high and medium priority activities can be selected).\n    -  For the activities which have been decided not to be addressed, select “not to be addressed for this plan” from the dropdown list.\n    -  Modify the Gantt chart according to the selected development plan timeframe (e.g., 5 years, starting from 1st quarter of year 2020).\n    -  For each target activity selected for the SIS development plan decide on implementation timeframe including both the activity duration (e.g., one quarter;  two quarters; or to the end of the planning period) and time to start the activity (e.g., first quarter of Year 1) with consideration of the implementation time and priority previously selected for this activity. Indicate this timeframe on the Gantt chart by color shading and using the drop-down lists in the “Activity  start quarter” and “Activity duration” columns.\n\nDevelopment plan\n• Go to the “Development Plan” page through the navigation menu.\nThe following elements resulting from the selections on the previous pages, and as described above are reflected automatically in the development plan table:\n      -  Activity and target capacity level \n      -  Selected resources and tools\n      -  Activity start time\n      -  Activity duration\nComplete the remaining columns for each activity, including the list of actions necessary to achieve the activity, roles and responsibilities for implementation of these actions, expected challenges, contact points and indicators to monitor and demonstrate achievements and advocate for resources and support. Review and adjust all elements reflected from different worksheets where necessary.\n\n"]
[]
[]
[]
[]
[]
[]
[]
[]
[]
[]
[]
[]
[]
[]
[]
[]
[]
[]
[]
[]
[]
[]
[]
[]
[]
[]
[]
[]
[]
[]
[]
[]
[]
[]
[]
[]
[]
[]
[]
[]
[]
[]
[]
[]
[]
[]
[]
[]
[]
[]
[]
[]
[]
[]
[]
[]
[]
[]
[]
[]
[]
[]
[]
[]
[]
[]
[]
[]
[]
[]
[]
[]
[]
[]
[]
[]
[]
[]
[]
[]
[]
[]
[]
[]
[]
[]
[]
[]
[]
[]
[]
[]
[]
[]
[]
[]
[]
[]
[null,"©World Health Organization (WHO), Food and Agriculture Organization of the United Nations (FAO) and World Organisation for Animal Health (WOAH), 2022. All rights reserved."]

{"sheet":"Map","index":1,"n_rows":6,"n_cols":2,"rows_kept":6,"cut":false,"hidden":false,"merged":[[2,1,3,30],[12,1,73,30],[5,1,10,30]]}
[]
[]
[null,"Surveillance and Information Sharing Operational Tool"]
[]
[]
[null,"SIS OT WORKBOOK: MAP"]

{"sheet":"Attribute Survey","index":2,"n_rows":58,"n_cols":22,"rows_kept":58,"cut":false,"hidden":false,"merged":[[33,2,35,5],[53,18,55,19],[57,18,58,19],[25,18,27,19],[29,18,31,19],[33,18,35,19],[37,18,39,19],[41,18,43,19],[45,18,47,19],[49,18,51,19],[37,2,39,5],[41,2,43,5],[45,2,47,5],[49,2,51,5],[33,7,35,16],[57,2,58,16],[17,21,23,24],[1,1,3,25],[13,1,15,25],[5,1,11,25],[29,2,31,5],[21,18,23,19],[17,2,19,5],[17,18,19,19],[21,2,23,5],[25,2,27,5],[17,7,19,16],[21,7,23,16],[25,7,27,16],[29,7,31,16],[53,2,55,5],[37,7,39,16],[41,7,43,16],[45,7,47,16],[49,7,51,16],[53,7,55,16]]}
[]
[null,"Attribute Survey"]
[]
[]
[]
[null,"You have now completed responses in all three sections! Before moving on to Results, determine the attrributes of any given resource that are most important for your use. This step allows you to assign weighted point values to the 9 different attributes used to evaluate the resources in the SIS OT. \nThe point values you assign should be based on their relative importance to you for selecting these resources and are used to calculate a user- specific adjusted overall score for each resource, based on the evaluation scores that were assigned by the SIS OT team of reviewers. \nThe weighted scores can help you better identify resources that align with your preferences."]
[]
[]
[]
[]
[]
[]
[]
[null,"Please assign point values (ranging from 1-100) to each attribute described below, with the total for all attributes to equal 100. "]
[]
[]
[]
[null,null,"ATTRIBUTE",null,null,null,null,"ATTRIBUTE DESCRIPTION",null,null,null,null,null,null,null,null,null,null,"POINT VALUE \n(Between 1 and 100, and totalling 100)",null,null,"←Must be between 1 and 100, and the sum of all attributes must total 100!"]
[]
[]
[]
[null,null,"Accessibility",null,null,null,null,"The logistics for accessing and using the tool, such as openness or accessibility, cost, and user support"]
[]
[]
[]
[null,null,"Language",null,null,null,null,"The availability of the resource and ease of translation into different languages"]
[]
[]
[]
[null,null,"Ease of Use",null,null,null,null,"The level of complexity and difficulty to navigate and understand the resource, as well as technical or operational skillsets required to use the tool "]
[]
[]
[]
[null,null,"Flexibility",null,null,null,null,"The adaptability of the tool for use in different contexts and scenarios"]
[]
[]
[]
[null,null,"Data Needs",null,null,null,null,"The system and device requirements that need to be met for the resource to operate, as well as data storage and security"]
[]
[]
[]
[null,null,"Data Analysis",null,null,null,null,"How the resource processes and quality checks data, including tool output and resporting capacity"]
[]
[]
[]
[null,null,"Acceptability",null,null,null,null,"Metrics of the resource's acceptance for use, based off publications, reports, and/or number of pilots and implementations"]
[]
[]
[]
[null,null,"One Health",null,null,null,null,"The ability of the resource to facilitate communication and collaboration across One Health sectors (human, animal, environment health and relevant partners)"]
[]
[]
[]
[null,null,"Impact",null,null,null,null,"Evidence that the resource has resulted in improvements in One Health or surveillance capacity based on monitoring and evaluation indicators or past examples"]
[]
[]
[]
[null,null,"TOTAL",null,null,null,null,null,null,null,null,null,null,null,null,null,null,null,{"$f":"SUM(S22:T56)","v":0}]

{"sheet":"Results","index":3,"n_rows":135,"n_cols":31,"rows_kept":135,"cut":false,"hidden":false,"merged":[[3,29,6,32],[12,6,14,8],[12,19,14,22],[28,6,30,8],[28,10,30,17],[28,19,30,22],[12,24,12,28],[13,24,13,28],[14,24,14,28],[1,1,3,28],[8,24,8,28],[9,24,9,28],[5,1,6,4],[5,6,6,8],[5,19,6,22],[20,6,22,8],[20,19,22,22],[20,10,22,17],[24,6,26,8],[24,10,26,17],[24,19,26,22],[5,24,6,28],[8,1,18,4],[16,6,18,8],[16,19,18,22],[16,24,16,28],[17,24,17,28],[18,24,18,28],[10,24,10,28],[8,19,10,22],[8,6,10,8],[5,10,6,17],[8,10,10,17],[12,10,14,17],[16,10,18,17],[5,23,6,23],[26,24,26,28],[28,24,28,28],[29,24,29,28],[30,24,30,28],[20,24,20,28],[21,24,21,28],[22,24,22,28],[24,24,24,28],[25,24,25,28],[36,6,38,8],[36,10,38,17],[36,19,38,22],[36,24,36,28],[37,24,37,28],[38,24,38,28],[32,6,34,8],[32,10,34,17],[32,19,34,22],[32,24,32,28],[33,24,33,28],[34,24,34,28],[44,6,46,8],[44,10,46,17],[44,19,46,22],[44,24,44,28],[45,24,45,28],[46,24,46,28],[40,6,42,8],[40,10,42,17],[40,19,42,22],[40,24,40,28],[41,24,41,28],[42,24,42,28],[52,6,54,8],[52,10,54,17],[52,19,54,22],[52,24,52,28],[53,24,53,28],[54,24,54,28],[48,6,50,8],[48,10,50,17],[48,19,50,22],[48,24,48,28],[49,24,49,28],[50,24,50,28],[60,6,62,8],[60,10,62,17],[60,19,62,22],[60,24,60,28],[61,24,61,28],[62,24,62,28],[56,6,58,8],[56,10,58,17],[56,19,58,22],[56,24,56,28],[57,24,57,28],[58,24,58,28],[68,19,70,22],[68,24,68,28],[69,24,69,28],[70,24,70,28],[64,6,66,8],[64,10,66,17],[64,19,66,22],[64,24,64,28],[65,24,65,28],[66,24,66,28],[52,1,82,4],[84,6,86,8],[84,10,86,17],[84,1,122,4],[80,6,82,8],[80,10,82,17],[80,19,82,22],[80,24,80,28],[81,24,81,28],[82,24,82,28],[76,6,78,8],[76,10,78,17],[76,19,78,22],[76,24,76,28],[77,24,77,28],[78,24,78,28],[72,6,74,8],[72,10,74,17],[72,19,74,22],[72,24,72,28],[73,24,73,28],[74,24,74,28],[68,6,70,8],[68,10,70,17],[92,6,94,8],[92,10,94,17],[92,19,94,22],[92,24,92,28],[93,24,93,28],[94,24,94,28],[84,19,86,22],[84,24,84,28],[85,24,85,28],[86,24,86,28],[88,6,90,8],[88,10,90,17],[88,19,90,22],[88,24,88,28],[89,24,89,28],[90,24,90,28],[100,6,102,8],[100,10,102,17],[100,19,102,22],[100,24,100,28],[101,24,101,28],[102,24,102,28],[96,6,98,8],[96,10,98,17],[96,19,98,22],[96,24,96,28],[97,24,97,28],[98,24,98,28],[108,6,110,8],[108,10,110,17],[108,19,110,22],[108,24,108,28],[109,24,109,28],[110,24,110,28],[104,24,104,28],[105,24,105,28],[104,6,106,8],[104,10,106,17],[104,19,106,22],[106,24,106,28],[121,24,121,28],[122,24,122,28],[116,6,118,8],[116,10,118,17],[116,19,118,22],[116,24,116,28],[117,24,117,28],[118,24,118,28],[112,6,114,8],[112,10,114,17],[112,19,114,22],[112,24,112,28],[113,24,113,28],[114,24,114,28],[20,1,50,4],[132,24,132,28],[133,24,133,28],[134,24,134,28],[124,1,134,4],[124,6,126,8],[124,10,126,17],[124,19,126,22],[124,24,124,28],[125,24,125,28],[126,24,126,28],[128,6,130,8],[128,10,130,17],[128,19,130,22],[128,24,128,28],[129,24,129,28],[130,24,130,28],[132,6,134,8],[132,10,134,17],[132,19,134,22],[120,6,122,8],[120,10,122,17],[120,19,122,22],[120,24,120,28]]}
[]
[null,"ASSESSMENT RESULTS"]
[]
[]
[]
[null,"STAGE",null,null,null,null,"ACTIVITY",null,null,null,"Activity Description",null,null,null,null,null,null,null,null,"Target Capacity Level",null,null,null,"Level Indicator","Resource Guide"]
[]
[]
[null,"Pre-\nPlanning",null,null,null,null,{"$f":"\"\"&Activities!B2","v":"PP-1 Identifying Preliminary Stakeholders"},null,null,null,{"$f":"IF('Focal Points'!O44=0,AE9,IF(AND('Focal Points'!O44=1,'Focal Points'!X44=0),AE10,IF(AND('Focal Points'!X44=1,'Focal Points'!AG44=0),AE11,\"Complete\")))","v":"Focal points, \"champions\" or technical working groups have been identified in all participating sectors at the national level for planning the implementation of coordinated surveillance"},null,null,null,null,null,null,null,null,{"$f":"IF('Focal Points'!O44=\"\",\"N/A\",IF(AND('Focal Points'!O44=0),\"Level 1\",IF(AND('Focal Points'!O44=1,'Focal Points'!X44=0),\"Level 2\",IF(AND('Focal Points'!X44=1,'Focal Points'!AG44=0),\"Level 3\",\"Complete\"))))","v":"N/A"},null,null,null,"→","Click to View Level 1 Resources",null,null,null,null,null,{"$f":"Activities!C2","v":"Focal points, \"champions\" or technical working groups have been identified in all participating sectors at the national level for planning the implementation of coordinated surveillance"}]
[null,null,null,null,null,null,null,null,null,null,null,null,null,null,null,null,null,null,null,null,null,null,null,"→","No Level 2 Resources (see Level 1)",null,null,null,null,null,{"$f":"Activities!C3","v":"Focal points, \"champions\" or technical working groups have been identified in all participating sectors and at all country levels for planning the implementation of coordinated surveillance"}]
[null,null,null,null,null,null,null,null,null,null,null,null,null,null,null,null,null,null,null,null,null,null,null,"→","Click to View Level 3 Resources",null,null,null,null,null,{"$f":"Activities!C4","v":"Focal points, \"champions\" or technical working groups (including identified focal points or \"champions\") for coordinated surveillance have been institutionalized (e.g. through a governing body such as an MCM)   "}]
[]
[null,null,null,null,null,null,{"$f":"\"\"&Activities!B5","v":"PP-2 Prioritization"},null,null,null,{"$f":"IF(Prioritization!O44=0,AE13,IF(AND(Prioritization!O44=1,Prioritization!X44=0),AE14,IF(AND(Prioritization!X44=1,Prioritization!AG44=0),AE15,\"Complete\")))","v":"A list of prioritized zoonotic diseases exists for inclusion in a coordinated surveillance system"},null,null,null,null,null,null,null,null,{"$f":"IF(Prioritization!O44=\"\",\"N/A\",IF(AND(Prioritization!O44=0),\"Level 1\",IF(AND(Prioritization!O44=1,Prioritization!X44=0),\"Level 2\",IF(AND(Prioritization!X44=1,Prioritization!AG44=0),\"Level 3\",\"Complete\"))))","v":"N/A"},null,null,null,"→","Click to View Level 1 Resources",null,null,null,null,null,{"$f":"Activities!C5","v":"A list of prioritized zoonotic diseases exists for inclusion in a coordinated surveillance system"}]
[null,null,null,null,null,null,null,null,null,null,null,null,null,null,null,null,null,null,null,null,null,null,null,"→","No Level 2 Resources (see Level 1)",null,null,null,null,null,{"$f":"Activities!C6","v":"A list of zoonotic diseases is broadly distributed to the subnational and community levels"}]
[null,null,null,null,null,null,null,null,null,null,null,null,null,null,null,null,null,null,null,null,null,null,null,"→","No Level 3 Resources (see Level 1)",null,null,null,null,null,{"$f":"Activities!C7","v":"A list of zoonotic diseases is developed using a multisectoral, One Health approach. Such an approach would involve all relevant sectors in an evidence-based, transparent, repeatable prioritization process"}]
[]
[null,null,null,null,null,null,{"$f":"\"\"&Activities!B8","v":"PP-3 Goal Setting"},null,null,null,{"$f":"IF('Goal Setting'!O44=0,AE17,IF(AND('Goal Setting'!O44=1,'Goal Setting'!X44=0),AE18,IF(AND('Goal Setting'!X44=1,'Goal Setting'!AG44=0),AE19,\"Complete\")))","v":"Goal(s), roles, and responsibilities of all participating sectors of the coordinated surveillance system are agreed upon at the national level"},null,null,null,null,null,null,null,null,{"$f":"IF('Goal Setting'!O44=\"\",\"N/A\",IF(AND('Goal Setting'!O44=0),\"Level 1\",IF(AND('Goal Setting'!O44=1,'Goal Setting'!X44=0),\"Level 2\",IF(AND('Goal Setting'!X44=1,'Goal Setting'!AG44=0),\"Level 3\",\"Complete\"))))","v":"N/A"},null,null,null,"→","Click to View Level 1 Resources",null,null,null,null,null,{"$f":"Activities!C8","v":"Goal(s), roles, and responsibilities of all participating sectors of the coordinated surveillance system are agreed upon at the national level"}]
[null,null,null,null,null,null,null,null,null,null,null,null,null,null,null,null,null,null,null,null,null,null,null,"→","Click to View Level 2 Resources",null,null,null,null,null,{"$f":"Activities!C9","v":"Goal(s), roles, and responsibilities of all participating sectors of the coordinated surveillance system are agreed upon and expanded to include all country levels"}]
[null,null,null,null,null,null,null,null,null,null,null,null,null,null,null,null,null,null,null,null,null,null,null,"→","Click to View Level 3 Resources",null,null,null,null,null,{"$f":"Activities!C10","v":"Goal(s), roles and responsibilities of the coordinated surveillance system have been re-evaluated to reflect the current needs of the coordinated surveillance system "}]
[]
[null,"Assessment",null,null,null,null,{"$f":"\"\"&Activities!G2","v":"A-1 Stakeholder Mapping"},null,null,null,{"$f":"IF(Stakeholders!O44=0,AE21,IF(AND(Stakeholders!O44=1,Stakeholders!X44=0),AE22,IF(AND(Stakeholders!X44=1,Stakeholders!AG44=0),AE23,\"Complete\")))","v":"Stakeholders working in surveillance, epidemiology, laboratory, and information sharing have been identified"},null,null,null,null,null,null,null,null,{"$f":"IF(Stakeholders!O44=\"\",\"N/A\",IF(AND(Stakeholders!O44=0),\"Level 1\",IF(AND(Stakeholders!O44=1,Stakeholders!X44=0),\"Level 2\",IF(AND(Stakeholders!X44=1,Stakeholders!AG44=0),\"Level 3\",\"Complete\"))))","v":"N/A"},null,null,null,"→","Click to View Level 1 Resources",null,null,null,null,null,{"$f":"Activities!H2","v":"Stakeholders working in surveillance, epidemiology, laboratory, and information sharing have been identified"}]
[null,null,null,null,null,null,null,null,null,null,null,null,null,null,null,null,null,null,null,null,null,null,null,"→","Click to View Level 2 Resources",null,null,null,null,null,{"$f":"Activities!H3","v":"Stakeholder analysis has been used to identify participants at all country levels "}]
[null,null,null,null,null,null,null,null,null,null,null,null,null,null,null,null,null,null,null,null,null,null,null,"→","Click to View Level 3 Resources",null,null,null,null,null,{"$f":"Activities!H4","v":"Roles and responsibilities of stakeholders have been institutionalized and adopted in policy"}]
[]
[null,null,null,null,null,null,{"$f":"\"\"&Activities!G5","v":"A-2 Surveillance System Linkage Assessment"},null,null,null,{"$f":"IF('Plans & Organization'!O44=0,AE25,IF(AND('Plans & Organization'!O44=1,'Plans & Organization'!X44=0),AE26,IF(AND('Plans & Organization'!X44=1,'Plans & Organization'!AG44=0),AE27,\"Complete\")))","v":"The interlinkages between current prioritized zoonotic disease surveillance systems have been assessed among sectors"},null,null,null,null,null,null,null,null,{"$f":"IF('Plans & Organization'!O44=\"\",\"N/A\",IF(AND('Plans & Organization'!O44=0),\"Level 1\",IF(AND('Plans & Organization'!O44=1,'Plans & Organization'!X44=0),\"Level 2\",IF(AND('Plans & Organization'!X44=1,'Plans & Organization'!AG44=0),\"Level 3\",\"Complete\"))))","v":"N/A"},null,null,null,"→","Click to View Level 1 Resources",null,null,null,null,null,{"$f":"Activities!H5","v":"The interlinkages between current prioritized zoonotic disease surveillance systems have been assessed among sectors"}]
[null,null,null,null,null,null,null,null,null,null,null,null,null,null,null,null,null,null,null,null,null,null,null,"→","Click to View Level 2 Resources",null,null,null,null,null,{"$f":"Activities!H6","v":"The interlinkages between current surveillance systems have been assessed among sectors and at all country levels"}]
[null,null,null,null,null,null,null,null,null,null,null,null,null,null,null,null,null,null,null,null,null,null,null,"→","Click to View Level 3 Resources",null,null,null,null,null,{"$f":"Activities!H7","v":"The interlinkages between current surveillance systems have been assessed and determined to meet the objectives of the coordinated surveillance system"}]
[]
[null,null,null,null,null,null,{"$f":"\"\"&Activities!G8","v":"A-3 Legal Frameworks Assessment"},null,null,null,{"$f":"IF('Policy & Legal'!O44=0,AE29,IF(AND('Policy & Legal'!O44=1,'Policy & Legal'!AG44=0),AE31,\"Complete\"))","v":"The legal frameworks (rules, policies, guidelines and regulations including international standards) that govern the ethical and privacy standards for surveillance and data sharing have been assessed"},null,null,null,null,null,null,null,null,{"$f":"IF('Policy & Legal'!O44=\"\",\"N/A\",IF(AND('Policy & Legal'!O44=0),\"Level 1\",IF(AND('Policy & Legal'!O44=1,'Policy & Legal'!AG44=0),\"Level 3\",\"Complete\")))","v":"N/A"},null,null,null,"→","Click to View Level 1 Resources",null,null,null,null,null,{"$f":"Activities!H8","v":"The legal frameworks (rules, policies, guidelines and regulations including international standards) that govern the ethical and privacy standards for surveillance and data sharing have been assessed"}]
[null,null,null,null,null,null,null,null,null,null,null,null,null,null,null,null,null,null,null,null,null,null,null,"→"]
[null,null,null,null,null,null,null,null,null,null,null,null,null,null,null,null,null,null,null,null,null,null,null,"→","No Level 3 Resources (see Level 1)",null,null,null,null,null,{"$f":"Activities!H9","v":"The legal frameworks (rules, policies, guidelines and regulations including international standards) that govern the ethical and privacy standards for surveillance and data sharing are assessed at all country levels "}]
[]
[null,null,null,null,null,null,{"$f":"\"\"&Activities!G16","v":"A-4 Infrastructure Mapping"},null,null,null,{"$f":"IF('Plans & Organization'!O60=0,AE33,IF(AND('Plans & Organization'!O60=1,'Plans & Organization'!X60=0),AE34,IF(AND('Plans & Organization'!X60=1,'Plans & Organization'!AG60=0),AE35,\"Complete\")))","v":"Basic infrastructure mapping exercises (as defined in TZG CH 4.1) have been used to describe the structure and linkages within and between the sectors "},null,null,null,null,null,null,null,null,{"$f":"IF('Plans & Organization'!O60=\"\",\"N/A\",IF(AND('Plans & Organization'!O60=0),\"Level 1\",IF(AND('Plans & Organization'!O60=1,'Plans & Organization'!X60=0),\"Level 2\",IF(AND('Plans & Organization'!X60=1,'Plans & Organization'!AG60=0),\"Level 3\",\"Complete\"))))","v":"N/A"},null,null,null,"→","Click to View Level 1 Resources",null,null,null,null,null,{"$f":"Activities!H16","v":"Basic infrastructure mapping exercises (as defined in TZG CH 4.1) have been used to describe the structure and linkages within and between the sectors "}]
[null,null,null,null,null,null,null,null,null,null,null,null,null,null,null,null,null,null,null,null,null,null,null,"→","Click to View Level 2 Resources",null,null,null,null,null,{"$f":"Activities!H17","v":"Infrastructure mapping has been used to describe the majority of mapping areas (as described in TZG CH 4.1)"}]
[null,null,null,null,null,null,null,null,null,null,null,null,null,null,null,null,null,null,null,null,null,null,null,"→","No Level 3 Resources (see Level 2)",null,null,null,null,null,{"$f":"Activities!H18","v":"Comprehensive infrastructure mapping has been used to describe all mapping areas (as described in TZG CH 4.1)."}]
[]
[null,null,null,null,null,null,{"$f":"\"\"&Activities!G19","v":"A-5 Economic Needs Assessment"},null,null,null,{"$f":"IF('Budgets & Finances'!O44=0,AE37,IF(AND('Budgets & Finances'!O44=1,'Budgets & Finances'!AG44=0),AE39,\"Complete\"))","v":"Economic assessments have been used to determine national financial needs for the coordinated surveillance system "},null,null,null,null,null,null,null,null,{"$f":"IF('Budgets & Finances'!O44=\"\",\"N/A\",IF(AND('Budgets & Finances'!O44=0),\"Level 1\",IF(AND('Budgets & Finances'!O44=1,'Budgets & Finances'!AG44=0),\"Level 3\",\"Complete\")))","v":"N/A"},null,null,null,"→","Click to View Level 1 Resources",null,null,null,null,null,{"$f":"Activities!H19","v":"Economic assessments have been used to determine national financial needs for the coordinated surveillance system "}]
[]
[null,null,null,null,null,null,null,null,null,null,null,null,null,null,null,null,null,null,null,null,null,null,null,"→","Click to View Level 3 Resources",null,null,null,null,null,{"$f":"Activities!H20","v":"Economic assessments have been used to determine the financial needs at all country levels for the coordinated surveillance system "}]
[]
[null,null,null,null,null,null,{"$f":"\"\"&Activities!G21","v":"A-6 Laboratory Capacity Assessment"},null,null,null,{"$f":"IF(Laboratory!O44=0,AE41,IF(AND(Laboratory!O44=1,Laboratory!X44=0),AE42,IF(AND(Laboratory!X44=1,Laboratory!AG44=0),AE43,\"Complete\")))","v":"Laboratory assessments have been used to identify qualified national or international reference laboratories that can carry out testing to support the coordinated surveillance activities"},null,null,null,null,null,null,null,null,{"$f":"IF(Laboratory!O44=\"\",\"N/A\",IF(AND(Laboratory!O44=0),\"Level 1\",IF(AND(Laboratory!O44=1,Laboratory!X44=0),\"Level 2\",IF(AND(Laboratory!X44=1,Laboratory!AG44=0),\"Level 3\",\"Complete\"))))","v":"N/A"},null,null,null,"→","Click to View Level 1 Resources",null,null,null,null,null,{"$f":"Activities!H21","v":"Laboratory assessments have been used to identify qualified national or international reference laboratories that can carry out testing to support the coordinated surveillance activities"}]
[null,null,null,null,null,null,null,null,null,null,null,null,null,null,null,null,null,null,null,null,null,null,null,"→","Click to View Level 2 Resources",null,null,null,null,null,{"$f":"Activities!H22","v":" Laboratory assessments have been used to identify qualified laboratories at all levels (including international) that can carry out testing to support the coordinated surveillance activities"}]
[null,null,null,null,null,null,null,null,null,null,null,null,null,null,null,null,null,null,null,null,null,null,null,"→","No Level 3 Resources (see Level 2)",null,null,null,null,null,{"$f":"Activities!H23","v":"Laboratory assessments have been used to identify a network of qualified laboratories that can carry out testing to support the coordinated surveillance activities"}]
[]
[null,null,null,null,null,null,{"$f":"\"\"&Activities!G24","v":"A-7 Laboratory Transport and Interpretation Assessment"},null,null,null,{"$f":"IF(Laboratory!O62=0,AE45,IF(AND(Laboratory!O62=1,Laboratory!X62=0),AE46,IF(AND(Laboratory!X62=1,Laboratory!AG62=0),AE47,\"Complete\")))","v":"Laboratory supply, transport chains and results interpretation have been assessed for harmonization between participating sectors at the national level"},null,null,null,null,null,null,null,null,{"$f":"IF(Laboratory!O62=\"\",\"N/A\",IF(AND(Laboratory!O62=0),\"Level 1\",IF(AND(Laboratory!O62=1,Laboratory!X62=0),\"Level 2\",IF(AND(Laboratory!X62=1,Laboratory!AG62=0),\"Level 3\",\"Complete\"))))","v":"N/A"},null,null,null,"→","Click to View Level 1 Resources",null,null,null,null,null,{"$f":"Activities!H24","v":"Laboratory supply, transport chains and results interpretation have been assessed for harmonization between participating sectors at the national level"}]
[null,null,null,null,null,null,null,null,null,null,null,null,null,null,null,null,null,null,null,null,null,null,null,"→","Click to View Level 2 Resources",null,null,null,null,null,{"$f":"Activities!H25","v":"Laboratory supply, transport chains and results interpretation between participating sectors have been assessed for harmonization at all country levels"}]
[null,null,null,null,null,null,null,null,null,null,null,null,null,null,null,null,null,null,null,null,null,null,null,"→","No Level 3 Resources (see Level 2)",null,null,null,null,null,{"$f":"Activities!H26","v":"The degree of harmonization in laboratory supply, transport chains and results interpretation between participating sectors have been assessed and determined to meet the objectives of the coordinated surveillance system"}]
[]
[null,null,null,null,null,null,{"$f":"\"\"&Activities!G27","v":"A-8 Workforce Assessment"},null,null,null,{"$f":"IF(Workforce!O44=0,AE49,IF(AND(Workforce!O44=1,Workforce!AG44=0),AE51,\"Complete\"))","v":"Workforce assessments have been conducted to identify current workforce requirements, competencies, needs and gaps at the national level"},null,null,null,null,null,null,null,null,{"$f":"IF(Workforce!O44=\"\",\"N/A\",IF(AND(Workforce!O44=0),\"Level 1\",IF(AND(Workforce!O44=1,Workforce!AG44=0),\"Level 3\",\"Complete\")))","v":"N/A"},null,null,null,"→","Click to View Level 1 Resources",null,null,null,null,null,{"$f":"Activities!H27","v":"Workforce assessments have been conducted to identify current workforce requirements, competencies, needs and gaps at the national level"}]
[]
[null,null,null,null,null,null,null,null,null,null,null,null,null,null,null,null,null,null,null,null,null,null,null,"→","Click to View Level 3 Resources",null,null,null,null,null,{"$f":"Activities!H28","v":" Workforce assessment have been conducted to identify current workforce requirements, competencies, needs and gaps at all country levels"}]
[]
[null,"Planning",null,null,null,null,{"$f":"\"\"&Activities!L2","v":"Pl-1 Political Will"},null,null,null,{"$f":"IF(Stakeholders!O66=0,AE53,IF(AND(Stakeholders!O66=1,Stakeholders!X66=0),AE54,IF(AND(Stakeholders!X66=1,Stakeholders!AG66=0),AE55,\"Complete\")))","v":"Decision makers for the coordinated surveillance system have been identified"},null,null,null,null,null,null,null,null,{"$f":"IF(Stakeholders!O66=\"\",\"N/A\",IF(AND(Stakeholders!O66=0),\"Level 1\",IF(AND(Stakeholders!O66=1,Stakeholders!X66=0),\"Level 2\",IF(AND(Stakeholders!X66=1,Stakeholders!AG66=0),\"Level 3\",\"Complete\"))))","v":"N/A"},null,null,null,"→","Click to View Level 1 Resources",null,null,null,null,null,{"$f":"Activities!M2","v":"Decision makers for the coordinated surveillance system have been identified"}]
[null,null,null,null,null,null,null,null,null,null,null,null,null,null,null,null,null,null,null,null,null,null,null,"→","Click to View Level 2 Resources",null,null,null,null,null,{"$f":"Activities!M3","v":"Political will for the coordinated surveillance system is established, and advocates exists at all country levels"}]
[null,null,null,null,null,null,null,null,null,null,null,null,null,null,null,null,null,null,null,null,null,null,null,"→","Click to View Level 3 Resources",null,null,null,null,null,{"$f":"Activities!M4","v":"There is an advocacy strategy that informs communication with decision-makers on the coordinated surveillance system"}]
[]
[null,null,null,null,null,null,{"$f":"\"\"&Activities!L5","v":"PL-2 Common Data Elements"},null,null,null,{"$f":"IF('Data Storage & Sharing'!O44=0,AE57,IF(AND('Data Storage & Sharing'!O44=1,'Data Storage & Sharing'!X44=0),AE58,IF(AND('Data Storage & Sharing'!X44=1,'Data Storage & Sharing'!AG44=0),AE59,\"Complete\")))","v":"The common data elements are identified and agreed upon within each participating sector to meet the common analytical goals of the coordinated surveillance system at the national level"},null,null,null,null,null,null,null,null,{"$f":"IF('Data Storage & Sharing'!O44=\"\",\"N/A\",IF(AND('Data Storage & Sharing'!O44=0),\"Level 1\",IF(AND('Data Storage & Sharing'!O44=1,'Data Storage & Sharing'!X44=0),\"Level 2\",IF(AND('Data Storage & Sharing'!X44=1,'Data Storage & Sharing'!AG44=0),\"Level 3\",\"Complete\"))))","v":"N/A"},null,null,null,"→","Click to View Level 1 Resources",null,null,null,null,null,{"$f":"Activities!M5","v":"The common data elements are identified and agreed upon within each participating sector to meet the common analytical goals of the coordinated surveillance system at the national level"}]
[null,null,null,null,null,null,null,null,null,null,null,null,null,null,null,null,null,null,null,null,null,null,null,"→","Click to View Level 2 Resources",null,null,null,null,null,{"$f":"Activities!M6","v":"The common data elements are identified and agreed upon within each participating sector to meet the common analytical goals of the coordinated surveillance system at all country levels"}]
[null,null,null,null,null,null,null,null,null,null,null,null,null,null,null,null,null,null,null,null,null,null,null,"→","Click to View Level 3 Resources",null,null,null,null,null,{"$f":"Activities!M7","v":"The common data elements are standardized among participating sectors based on the common analytical goals of the coordinated surveillance system and adhere to international data standards"}]
[]
[null,null,null,null,null,null,{"$f":"\"\"&Activities!L8","v":"PL-3 Strategic Plans and Frameworks for Coordinated Surveillance"},null,null,null,{"$f":"IF('Plans & Organization'!O82=0,AE61,IF(AND('Plans & Organization'!O82=1,'Plans & Organization'!X82=0),AE62,IF(AND('Plans & Organization'!X82=1,'Plans & Organization'!AG82=0),AE63,\"Complete\")))","v":"A multi-sectoral collection and review of the national strategic documents (strategies, frameworks and strategic plans) related to the coordinated surveillance system occurred, for the purposes of planning"},null,null,null,null,null,null,null,null,{"$f":"IF('Plans & Organization'!O82=\"\",\"N/A\",IF(AND('Plans & Organization'!O82=0),\"Level 1\",IF(AND('Plans & Organization'!O82=1,'Plans & Organization'!X82=0),\"Level 2\",IF(AND('Plans & Organization'!X82=1,'Plans & Organization'!AG82=0),\"Level 3\",\"Complete\"))))","v":"N/A"},null,null,null,"→","Click to View Level 1 Resources",null,null,null,null,null,{"$f":"Activities!M8","v":"A multi-sectoral collection and review of the national strategic documents (strategies, frameworks and strategic plans) related to the coordinated surveillance system occurred, for the purposes of planning"}]
[null,null,null,null,null,null,null,null,null,null,null,null,null,null,null,null,null,null,null,null,null,null,null,"→","Click to View Level 2 Resources",null,null,null,null,null,{"$f":"Activities!M9","v":"National strategic documents (strategies, frameworks and strategic plans)  for the coordinated surveillance system consolidated and linked based on assessment at all country levels"}]
[null,null,null,null,null,null,null,null,null,null,null,null,null,null,null,null,null,null,null,null,null,null,null,"→","Click to View Level 3 Resources",null,null,null,null,null,{"$f":"Activities!M10","v":"Revised strategic documents (strategies, frameworks and strategic plans) for the coordinated surveillance system  aligned with international standards and recommendations"}]
[]
[null,null,null,null,null,null,{"$f":"\"\"&Activities!L11","v":"PL-4 National operational plans "},null,null,null,{"$f":"IF('Plans & Organization'!O98=0,AE65,IF(AND('Plans & Organization'!O98=1,'Plans & Organization'!X98=0),AE66,IF(AND('Plans & Organization'!X98=1,'Plans & Organization'!AG98=0),AE67,\"Complete\")))","v":"A multi-sectoral collection and review of the national operational plans and other relevant documents (including surveillance plans, case definitions, protocols, and Standard Operating Procedures) related to the coordinated surveillance system occurred for the purposes of planning\n"},null,null,null,null,null,null,null,null,{"$f":"IF('Plans & Organization'!O98=\"\",\"N/A\",IF(AND('Plans & Organization'!O98=0),\"Level 1\",IF(AND('Plans & Organization'!O98=1,'Plans & Organization'!X98=0),\"Level 2\",IF(AND('Plans & Organization'!X98=1,'Plans & Organization'!AG98=0),\"Level 3\",\"Complete\"))))","v":"N/A"},null,null,null,"→","Click to View Level 1 Resources",null,null,null,null,null,{"$f":"Activities!M11","v":"A multi-sectoral collection and review of the national operational plans and other relevant documents (including surveillance plans, case definitions, protocols, and Standard Operating Procedures) related to the coordinated surveillance system occurred for the purposes of planning\n"}]
[null,null,null,null,null,null,null,null,null,null,null,null,null,null,null,null,null,null,null,null,null,null,null,"→","Click to View Level 2 Resources",null,null,null,null,null,{"$f":"Activities!M12","v":"Revised operational plans and other relevant documents (including surveillance plans, case definitions, protocols, and Standard Operating Procedures) related to the coordinated surveillance and information sharing system are agreed upon by the agencies conducting surveillance at all country levels\n"}]
[null,null,null,null,null,null,null,null,null,null,null,null,null,null,null,null,null,null,null,null,null,null,null,"→","Click to View Level 3 Resources",null,null,null,null,null,{"$f":"Activities!M13","v":"Revised operational  plans (including surveillance plans, case definitions, protocols, and Standard Operating Procedures) for the coordinated surveillance system are aligned with international guidelines and recommendations\n"}]
[]
[null,null,null,null,null,null,{"$f":"\"\"&Activities!L14","v":"PL-5 Financial Planning"},null,null,null,{"$f":"IF('Budgets & Finances'!O66=0,AE69,IF(AND('Budgets & Finances'!O66=1,'Budgets & Finances'!X66=0),AE70,IF(AND('Budgets & Finances'!X66=1,'Budgets & Finances'!AG66=0),AE71,\"Complete\")))","v":"There is a budgetary plan and a mechanism for distributing funds for coordinated surveillance at the national level"},null,null,null,null,null,null,null,null,{"$f":"IF('Budgets & Finances'!O66=\"\",\"N/A\",IF(AND('Budgets & Finances'!O66=0),\"Level 1\",IF(AND('Budgets & Finances'!O66=1,'Budgets & Finances'!X66=0),\"Level 2\",IF(AND('Budgets & Finances'!X66=1,'Budgets & Finances'!AG66=0),\"Level 3\",\"Complete\"))))","v":"N/A"},null,null,null,"→","Click to View Level 1 Resources",null,null,null,null,null,{"$f":"Activities!M14","v":"There is a budgetary plan and a mechanism for distributing funds for coordinated surveillance at the national level"}]
[null,null,null,null,null,null,null,null,null,null,null,null,null,null,null,null,null,null,null,null,null,null,null,"→","No Level 2 Resources (see Level 1)",null,null,null,null,null,{"$f":"Activities!M15","v":"There is a budgetary plan and a mechanism for distributing funds for coordinated surveillance at all country levels"}]
[null,null,null,null,null,null,null,null,null,null,null,null,null,null,null,null,null,null,null,null,null,null,null,"→","No Level 3 Resources (see Level 1)",null,null,null,null,null,{"$f":"Activities!M16","v":"The budgetary plan and a mechanism for distributing funds has been assessed and determined to meet the objectives of the coordinated surveillance system "}]
[]
[null,null,null,null,null,null,{"$f":"\"\"&Activities!L17","v":"PL-6 Workforce Planning"},null,null,null,{"$f":"IF(Workforce!O66=0,AE73,IF(AND(Workforce!O66=1,Workforce!X66=0),AE74,IF(AND(Workforce!X66=1,Workforce!AG66=0),AE75,\"Complete\")))","v":"An education and training plan for the coordinated surveillance system exists based on workforce assessment at the national level"},null,null,null,null,null,null,null,null,{"$f":"IF(Workforce!O66=\"\",\"N/A\",IF(AND(Workforce!O66=0),\"Level 1\",IF(AND(Workforce!O66=1,Workforce!X66=0),\"Level 2\",IF(AND(Workforce!X66=1,Workforce!AG66=0),\"Level 3\",\"Complete\"))))","v":"N/A"},null,null,null,"→","Click to View Level 1 Resources",null,null,null,null,null,{"$f":"Activities!M17","v":"An education and training plan for the coordinated surveillance system exists based on workforce assessment at the national level"}]
[null,null,null,null,null,null,null,null,null,null,null,null,null,null,null,null,null,null,null,null,null,null,null,"→","No Level 2 Resources (see Level 1)",null,null,null,null,null,{"$f":"Activities!M18","v":"An education and training plan for the coordinated surveillance system exists based on workforce assessment at all country levels"}]
[null,null,null,null,null,null,null,null,null,null,null,null,null,null,null,null,null,null,null,null,null,null,null,"→","No Level 3 Resources (see Level 1)",null,null,null,null,null,{"$f":"Activities!M19","v":"Workforce education and training is linked to national multisectoral workforce planning and is informed by international competencies and assessments\n"}]
[]
[null,null,null,null,null,null,{"$f":"\"\"&Activities!L20","v":"PL-7 Legal Frameworks Planning"},null,null,null,{"$f":"IF('Policy & Legal'!O66=0,AE77,IF(AND('Policy & Legal'!O66=1,'Policy & Legal'!X66=0),AE78,IF(AND('Policy & Legal'!X66=1,'Policy & Legal'!AG66=0),AE79,\"Complete\")))","v":"Necessary legal frameworks (rules, policies, guidelines and regulations including international standards) have been standardized across sectors based on assessment at the national level"},null,null,null,null,null,null,null,null,{"$f":"IF('Policy & Legal'!O66=\"\",\"N/A\",IF(AND('Policy & Legal'!O66=0),\"Level 1\",IF(AND('Policy & Legal'!O66=1,'Policy & Legal'!X66=0),\"Level 2\",IF(AND('Policy & Legal'!X66=1,'Policy & Legal'!AG66=0),\"Level 3\",\"Complete\"))))","v":"N/A"},null,null,null,"→","Click to View Level 1 Resources",null,null,null,null,null,{"$f":"Activities!M20","v":"Necessary legal frameworks (rules, policies, guidelines and regulations including international standards) have been standardized across sectors based on assessment at the national level"}]
[null,null,null,null,null,null,null,null,null,null,null,null,null,null,null,null,null,null,null,null,null,null,null,"→","No Level 2 Resources (see Level 1)",null,null,null,null,null,{"$f":"Activities!M21","v":"Necessary legal frameworks (rules, policies, guidelines and regulations including international standards) have been standardized across sectors based on assessment at all country levels"}]
[null,null,null,null,null,null,null,null,null,null,null,null,null,null,null,null,null,null,null,null,null,null,null,"→","Click to View Level 3 Resources",null,null,null,null,null,{"$f":"Activities!M22","v":"Revised legal frameworks for the coordinated surveillance system have been aligned with international standards and recommendations. "}]
[]
[null,null,null,null,null,null,{"$f":"\"\"&Activities!L23","v":"PL-8 Coordinated Communication Planning"},null,null,null,{"$f":"IF('Communication & Reporting'!O44=0,AE81,IF(AND('Communication & Reporting'!O44=1,'Communication & Reporting'!X44=0),AE82,IF(AND('Communication & Reporting'!X44=1,'Communication & Reporting'!AG44=0),AE83,\"Complete\")))","v":"Communications terminology and messages are aligning among all sectors participating in the coordinated surveillance system at the national level."},null,null,null,null,null,null,null,null,{"$f":"IF('Communication & Reporting'!O44=\"\",\"N/A\",IF(AND('Communication & Reporting'!O44=0),\"Level 1\",IF(AND('Communication & Reporting'!O44=1,'Communication & Reporting'!X44=0),\"Level 2\",IF(AND('Communication & Reporting'!X44=1,'Communication & Reporting'!AG44=0),\"Level 3\",\"Complete\"))))","v":"N/A"},null,null,null,"→","Click to View Level 1 Resources",null,null,null,null,null,{"$f":"Activities!M23","v":"Communications terminology and messages are aligning among all sectors participating in the coordinated surveillance system at the national level."}]
[null,null,null,null,null,null,null,null,null,null,null,null,null,null,null,null,null,null,null,null,null,null,null,"→","Click to View Level 2 Resources",null,null,null,null,null,{"$f":"Activities!M24","v":"Communications terminology and messages are aligned among all sectors participating in the coordinated surveillance system and disseminated at all country levels"}]
[null,null,null,null,null,null,null,null,null,null,null,null,null,null,null,null,null,null,null,null,null,null,null,"→","Click to View Level 3 Resources",null,null,null,null,null,{"$f":"Activities!M25","v":"There is a communications strategy and/or communications plan (which includes terminology and messaging) that informs communication with stakeholders and the public for the coordinated surveillance system"}]
[]
[null,"Implementation",null,null,null,null,{"$f":"\"\"&Activities!Q2","v":"I-1 Mobilizing Financial Resources"},null,null,null,{"$f":"IF('Budgets & Finances'!O88=0,AE85,IF(AND('Budgets & Finances'!O88=1,'Budgets & Finances'!X88=0),AE86,IF(AND('Budgets & Finances'!X88=1,'Budgets & Finances'!AG88=0),AE87,\"Complete\")))","v":"Funding exists for coordinated surveillance at the national level"},null,null,null,null,null,null,null,null,{"$f":"IF('Budgets & Finances'!O88=\"\",\"N/A\",IF(AND('Budgets & Finances'!O88=0),\"Level 1\",IF(AND('Budgets & Finances'!O88=1,'Budgets & Finances'!X88=0),\"Level 2\",IF(AND('Budgets & Finances'!X88=1,'Budgets & Finances'!AG88=0),\"Level 3\",\"Complete\"))))","v":"N/A"},null,null,null,"→","Click to View Level 1 Resources",null,null,null,null,null,{"$f":"Activities!R2","v":"Funding exists for coordinated surveillance at the national level"}]
[null,null,null,null,null,null,null,null,null,null,null,null,null,null,null,null,null,null,null,null,null,null,null,"→","Click to View Level 2 Resources",null,null,null,null,null,{"$f":"Activities!R3","v":"Funding exists for coordinated surveillance at all country levels"}]
[null,null,null,null,null,null,null,null,null,null,null,null,null,null,null,null,null,null,null,null,null,null,null,"→","Click to View Level 3 Resources",null,null,null,null,null,{"$f":"Activities!R4","v":"Sustainable funding (i.e, included in the national budget) is allocated for coordinated surveillance activities and has been assessed and determined to meet the objectives of the coordinated surveillance system"}]
[]
[null,null,null,null,null,null,{"$f":"\"\"&Activities!Q5","v":"I-2 Mobilizing Human Resources and Stakeholders"},null,null,null,{"$f":"IF(Stakeholders!O88=0,AE89,IF(AND(Stakeholders!O88=1,Stakeholders!X88=0),AE90,IF(AND(Stakeholders!X88=1,Stakeholders!AG88=0),AE91,\"Complete\")))","v":"Focal points or technical working groups meet on an ad hoc basis"},null,null,null,null,null,null,null,null,{"$f":"IF(Stakeholders!O88=\"\",\"N/A\",IF(AND(Stakeholders!O88=0),\"Level 1\",IF(AND(Stakeholders!O88=1,Stakeholders!X88=0),\"Level 2\",IF(AND(Stakeholders!X88=1,Stakeholders!AG88=0),\"Level 3\",\"Complete\"))))","v":"N/A"},null,null,null,"→","Click to View Level 1 Resources",null,null,null,null,null,{"$f":"Activities!R5","v":"Focal points or technical working groups meet on an ad hoc basis"}]
[null,null,null,null,null,null,null,null,null,null,null,null,null,null,null,null,null,null,null,null,null,null,null,"→","Click to View Level 2 Resources",null,null,null,null,null,{"$f":"Activities!R6","v":"Focal points or technical working groups meet on a routine basis and to address priority issues as they arise"}]
[null,null,null,null,null,null,null,null,null,null,null,null,null,null,null,null,null,null,null,null,null,null,null,"→","Click to View Level 3 Resources",null,null,null,null,null,{"$f":"Activities!R7","v":"Technical working groups regularly review and optimize coordinated surveillance activities "}]
[]
[null,null,null,null,null,null,{"$f":"\"\"&Activities!Q8","v":"I-3 Data Exchange & Information Sharing"},null,null,null,{"$f":"IF('Data Storage & Sharing'!O65=0,AE93,IF(AND('Data Storage & Sharing'!O65=1,'Data Storage & Sharing'!X65=0),AE94,IF(AND('Data Storage & Sharing'!X65=1,'Data Storage & Sharing'!AG65=0),AE95,\"Complete\")))","v":"There is a mechanism to share data between sectors at the national level"},null,null,null,null,null,null,null,null,{"$f":"IF('Data Storage & Sharing'!O65=\"\",\"N/A\",IF(AND('Data Storage & Sharing'!O65=0),\"Level 1\",IF(AND('Data Storage & Sharing'!O65=1,'Data Storage & Sharing'!X65=0),\"Level 2\",IF(AND('Data Storage & Sharing'!X65=1,'Data Storage & Sharing'!AG65=0),\"Level 3\",\"Complete\"))))","v":"N/A"},null,null,null,"→","Click to View Level 1 Resources",null,null,null,null,null,{"$f":"Activities!R8","v":"There is a mechanism to share data between sectors at the national level"}]
[null,null,null,null,null,null,null,null,null,null,null,null,null,null,null,null,null,null,null,null,null,null,null,"→","Click to View Level 2 Resources",null,null,null,null,null,{"$f":"Activities!R9","v":"There is a mechanism to share data between sectors at all country levels"}]
[null,null,null,null,null,null,null,null,null,null,null,null,null,null,null,null,null,null,null,null,null,null,null,"→","Click to View Level 3 Resources",null,null,null,null,null,{"$f":"Activities!R10","v":"There is a mechanism to share data that is accessible, functional, and usable by all participating sectors"}]
[]
[null,null,null,null,null,null,{"$f":"\"\"&Activities!Q11","v":"I-4 Data Storage"},null,null,null,{"$f":"IF('Data Storage & Sharing'!O81=0,AE97,IF(AND('Data Storage & Sharing'!O81=1,'Data Storage & Sharing'!X81=0),AE98,IF(AND('Data Storage & Sharing'!X81=1,'Data Storage & Sharing'!AG81=0),AE99,\"Complete\")))","v":"There is a structure and location to store and maintain data from multiple sectors at the national level."},null,null,null,null,null,null,null,null,{"$f":"IF('Data Storage & Sharing'!O81=\"\",\"N/A\",IF(AND('Data Storage & Sharing'!O81=0),\"Level 1\",IF(AND('Data Storage & Sharing'!O81=1,'Data Storage & Sharing'!X81=0),\"Level 2\",IF(AND('Data Storage & Sharing'!X81=1,'Data Storage & Sharing'!AG81=0),\"Level 3\",\"Complete\"))))","v":"N/A"},null,null,null,"→","Click to View Level 1 Resources",null,null,null,null,null,{"$f":"Activities!R11","v":"There is a structure and location to store and maintain data from multiple sectors at the national level."}]
[null,null,null,null,null,null,null,null,null,null,null,null,null,null,null,null,null,null,null,null,null,null,null,"→","Click to View Level 2 Resources",null,null,null,null,null,{"$f":"Activities!R12","v":"There is a structure and location to store and maintain data from multiple sectors at all country levels"}]
[null,null,null,null,null,null,null,null,null,null,null,null,null,null,null,null,null,null,null,null,null,null,null,"→","Click to View Level 3 Resources",null,null,null,null,null,{"$f":"Activities!R13","v":"There is a structure and location to store and maintain data from all relevant sectors conducting surveillance that is accessible, functional, and usable by all participating sectors"}]
[]
[null,null,null,null,null,null,{"$f":"\"\"&Activities!Q14","v":"I-5 Data Privacy and Security Measures"},null,null,null,{"$f":"IF('Data Storage & Sharing'!O97=0,AE101,IF(AND('Data Storage & Sharing'!O97=1,'Data Storage & Sharing'!X97=0),AE102,IF(AND('Data Storage & Sharing'!X97=1,'Data Storage & Sharing'!AG97=0),AE103,\"Complete\")))","v":"There are data privacy and security measures in place to protect coordinated surveillance data at the national level"},null,null,null,null,null,null,null,null,{"$f":"IF('Data Storage & Sharing'!O97=\"\",\"N/A\",IF(AND('Data Storage & Sharing'!O97=0),\"Level 1\",IF(AND('Data Storage & Sharing'!O97=1,'Data Storage & Sharing'!X97=0),\"Level 2\",IF(AND('Data Storage & Sharing'!X97=1,'Data Storage & Sharing'!AG97=0),\"Level 3\",\"Complete\"))))","v":"N/A"},null,null,null,"→","Click to View Level 1 Resources",null,null,null,null,null,{"$f":"Activities!R14","v":"There are data privacy and security measures in place to protect coordinated surveillance data at the national level"}]
[null,null,null,null,null,null,null,null,null,null,null,null,null,null,null,null,null,null,null,null,null,null,null,"→","Click to View Level 2 Resources",null,null,null,null,null,{"$f":"Activities!R15","v":"There are data privacy and security measures in place to protect coordinated surveillance data at all country levels"}]
[null,null,null,null,null,null,null,null,null,null,null,null,null,null,null,null,null,null,null,null,null,null,null,"→","Click to View Level 3 Resources",null,null,null,null,null,{"$f":"Activities!R16","v":"There are data privacy and security measures in place to protect coordinated surveillance data that has been assessed and determined to meet the objectives of the coordinated surveillance system"}]
[]
[null,null,null,null,null,null,{"$f":"\"\"&Activities!Q17","v":"I-6 Coordinated Surveillance System Implementation"},null,null,null,{"$f":"IF('Plans & Organization'!O120=0,AE105,IF(AND('Plans & Organization'!O120=1,'Plans & Organization'!X120=0),AE106,IF(AND('Plans & Organization'!X120=1,'Plans & Organization'!AG120=0),AE107,\"Complete\")))","v":"The coordinated surveillance system is being piloted in target areas"},null,null,null,null,null,null,null,null,{"$f":"IF('Plans & Organization'!O120=\"\",\"N/A\",IF(AND('Plans & Organization'!O120=0),\"Level 1\",IF(AND('Plans & Organization'!O120=1,'Plans & Organization'!X120=0),\"Level 2\",IF(AND('Plans & Organization'!X120=1,'Plans & Organization'!AG120=0),\"Level 3\",\"Complete\"))))","v":"N/A"},null,null,null,"→","Click to View Level 1 Resources",null,null,null,null,null,{"$f":"Activities!R17","v":"The coordinated surveillance system is being piloted in target areas"}]
[null,null,null,null,null,null,null,null,null,null,null,null,null,null,null,null,null,null,null,null,null,null,null,"→","Click to View Level 2 Resources",null,null,null,null,null,{"$f":"Activities!R18","v":"The coordinated surveillance system has been expanded to additional areas based on pilot implementations"}]
[null,null,null,null,null,null,null,null,null,null,null,null,null,null,null,null,null,null,null,null,null,null,null,"→","Click to View Level 3 Resources",null,null,null,null,null,{"$f":"Activities!R19","v":"The coordinated surveillance system is a nation-wide program"}]
[]
[null,null,null,null,null,null,{"$f":"\"\"&Activities!Q20","v":"I-7 Surveillance Data Sharing"},null,null,null,{"$f":"IF('Data Storage & Sharing'!O113=0,AE109,IF(AND('Data Storage & Sharing'!O113=1,'Data Storage & Sharing'!X113=0),AE110,IF(AND('Data Storage & Sharing'!X113=1,'Data Storage & Sharing'!AG113=0),AE111,\"Complete\")))","v":"Surveillance Data are shared informally or formally on an ad hoc basis at the national level"},null,null,null,null,null,null,null,null,{"$f":"IF('Data Storage & Sharing'!O113=\"\",\"N/A\",IF(AND('Data Storage & Sharing'!O113=0),\"Level 1\",IF(AND('Data Storage & Sharing'!O113=1,'Data Storage & Sharing'!X113=0),\"Level 2\",IF(AND('Data Storage & Sharing'!X113=1,'Data Storage & Sharing'!AG113=0),\"Level 3\",\"Complete\"))))","v":"N/A"},null,null,null,"→","Click to View Level 1 Resources",null,null,null,null,null,{"$f":"Activities!R20","v":"Surveillance Data are shared informally or formally on an ad hoc basis at the national level"}]
[null,null,null,null,null,null,null,null,null,null,null,null,null,null,null,null,null,null,null,null,null,null,null,"→","Click to View Level 2 Resources",null,null,null,null,null,{"$f":"Activities!R21","v":"Surveillance Data are shared informally or formally in a routine and timely fashion at all country levels"}]
[null,null,null,null,null,null,null,null,null,null,null,null,null,null,null,null,null,null,null,null,null,null,null,"→","Click to View Level 3 Resources",null,null,null,null,null,{"$f":"Activities!R22","v":"Surveillance Data are shared systematically in a routine and timely manner between all participating sectors through an interoperable or joint platform(s) "}]
[]
[null,null,null,null,null,null,{"$f":"\"\"&Activities!Q23","v":"I-8 Communication & Information Sharing"},null,null,null,{"$f":"IF('Communication & Reporting'!O65=0,AE113,IF(AND('Communication & Reporting'!O65=1,'Communication & Reporting'!X65=0),AE114,IF(AND('Communication & Reporting'!X65=1,'Communication & Reporting'!AG65=0),AE115,\"Complete\")))","v":"There is ad hoc information sharing and communication with relevant stakeholders"},null,null,null,null,null,null,null,null,{"$f":"IF('Communication & Reporting'!O65=\"\",\"N/A\",IF(AND('Communication & Reporting'!O65=0),\"Level 1\",IF(AND('Communication & Reporting'!O65=1,'Communication & Reporting'!X65=0),\"Level 2\",IF(AND('Communication & Reporting'!X65=1,'Communication & Reporting'!AG65=0),\"Level 3\",\"Complete\"))))","v":"N/A"},null,null,null,"→","Click to View Level 1 Resources",null,null,null,null,null,{"$f":"Activities!R23","v":"There is ad hoc information sharing and communication with relevant stakeholders"}]
[null,null,null,null,null,null,null,null,null,null,null,null,null,null,null,null,null,null,null,null,null,null,null,"→","Click to View Level 2 Resources",null,null,null,null,null,{"$f":"Activities!R24","v":"There is routine information sharing and communication with relevant stakeholders"}]
[null,null,null,null,null,null,null,null,null,null,null,null,null,null,null,null,null,null,null,null,null,null,null,"→","Click to View Level 3 Resources",null,null,null,null,null,{"$f":"Activities!R25","v":"There is routine and timely information sharing with relevant stakeholders including cross-border, regional and international entities"}]
[]
[null,null,null,null,null,null,{"$f":"\"\"&Activities!Q26","v":"I-9 International Notification Requirements"},null,null,null,{"$f":"IF('Communication & Reporting'!O81=0,AE117,\"Complete\")","v":"Comply with international notification requirements for all zoonotic diseases"},null,null,null,null,null,null,null,null,{"$f":"IF('Communication & Reporting'!O81=\"\",\"N/A\",IF(AND('Communication & Reporting'!O65=0),\"Level 1\",\"Complete\"))","v":"N/A"},null,null,null,"→","Click to View Level 1 Resources",null,null,null,null,null,{"$f":"Activities!R26","v":"Comply with international notification requirements for all zoonotic diseases"}]
[]
[null,null,null,null,null,null,null,null,null,null,null,null,null,null,null,null,null,null,null,null,null,null,null,"→"]
[]
[null,null,null,null,null,null,{"$f":"\"\"&Activities!Q27","v":"I-10 Coordinated Data Visualization and Analysis"},null,null,null,{"$f":"IF('Communication & Reporting'!O97=0,AE121,IF(AND('Communication & Reporting'!O97=1,'Communication & Reporting'!X97=0),AE122,IF(AND('Communication & Reporting'!X97=1,'Communication & Reporting'!AG97=0),AE123,\"Complete\")))","v":"Coordinated surveillance data are used to generate outputs (e.g. figures, graphics, reports or bulletins) that are shared at the national level"},null,null,null,null,null,null,null,null,{"$f":"IF('Communication & Reporting'!O97=\"\",\"N/A\",IF(AND('Communication & Reporting'!O97=0),\"Level 1\",IF(AND('Communication & Reporting'!O97=1,'Communication & Reporting'!X97=0),\"Level 2\",IF(AND('Communication & Reporting'!X97=1,'Communication & Reporting'!AG97=0),\"Level 3\",\"Complete\"))))","v":"N/A"},null,null,null,"→","Click to View Level 1 Resources",null,null,null,null,null,{"$f":"Activities!R27","v":"Coordinated surveillance data are used to generate outputs (e.g. figures, graphics, reports or bulletins) that are shared at the national level"}]
[null,null,null,null,null,null,null,null,null,null,null,null,null,null,null,null,null,null,null,null,null,null,null,"→","Click to View Level 2 Resources",null,null,null,null,null,{"$f":"Activities!R28","v":"Coordinated surveillance data are used to generate outputs (e.g. figures, graphics, reports or bulletins) that are disseminated to stakeholders at all country levels"}]
[null,null,null,null,null,null,null,null,null,null,null,null,null,null,null,null,null,null,null,null,null,null,null,"→","Click to View Level 3 Resources",null,null,null,null,null,{"$f":"Activities!R29","v":"Coordinated surveillance data, including M&E reports, are used to generate outputs that inform, response, policy and programming"}]
[]
[null,"Monitoring & Evaluation",null,null,null,null,"ME-1\nSimulation Exercises",null,null,null,{"$f":"IF('Simulation Exercises'!O44=0,AE125,IF(AND('Simulation Exercises'!O44=1,'Simulation Exercises'!X44=0),AE126,IF(AND('Simulation Exercises'!X44=1,'Simulation Exercises'!AG44=0),AE127,\"Complete\")))","v":"Simulation exercises are conducted to evaluate the efficiency and functionality of the coordinated surveillance system at the national level  "},null,null,null,null,null,null,null,null,{"$f":"IF('Simulation Exercises'!O44=\"\",\"N/A\",IF(AND('Simulation Exercises'!O44=0),\"Level 1\",IF(AND('Simulation Exercises'!O44=1,'Simulation Exercises'!X44=0),\"Level 2\",IF(AND('Simulation Exercises'!X44=1,'Simulation Exercises'!AG44=0),\"Level 3\",\"Complete\"))))","v":"N/A"},null,null,null,"→","Click to View Level 1 Resources",null,null,null,null,null,{"$f":"Activities!W2","v":"Simulation exercises are conducted to evaluate the efficiency and functionality of the coordinated surveillance system at the national level  "}]
[null,null,null,null,null,null,null,null,null,null,null,null,null,null,null,null,null,null,null,null,null,null,null,"→","Click to View Level 2 Resources",null,null,null,null,null,{"$f":"Activities!W3","v":"Simulation exercises are conducted to evaluate the efficiency and functionality of the coordinated surveillance system at all country levels  "}]
[null,null,null,null,null,null,null,null,null,null,null,null,null,null,null,null,null,null,null,null,null,null,null,"→","Click to View Level 3 Resources",null,null,null,null,null,{"$f":"Activities!W4","v":"Results of the simulation exercises are used to inform and revise coordinated surveillance plans "}]
[]
[null,null,null,null,null,null,{"$f":"\"\"&Activities!V5","v":"ME-2 Monitoring and Evaluation Planning"},null,null,null,{"$f":"IF('M & E Planning'!O44=0,AE129,IF(AND('M & E Planning'!O44=1,'M & E Planning'!X44=0),AE130,IF(AND('M & E Planning'!X44=1,'M & E Planning'!AG44=0),AE131,\"Complete\")))","v":"There is a monitoring and evaluation plan that meets the objectives of the coordinated surveillance system"},null,null,null,null,null,null,null,null,{"$f":"IF('M & E Planning'!O44=\"\",\"N/A\",IF(AND('M & E Planning'!O44=0),\"Level 1\",IF(AND('M & E Planning'!O44=1,'M & E Planning'!X44=0),\"Level 2\",IF(AND('M & E Planning'!X44=1,'M & E Planning'!AG44=0),\"Level 3\",\"Complete\"))))","v":"N/A"},null,null,null,"→","Click to View Level 1 Resources",null,null,null,null,null,{"$f":"Activities!W5","v":"There is a monitoring and evaluation plan that meets the objectives of the coordinated surveillance system"}]
[null,null,null,null,null,null,null,null,null,null,null,null,null,null,null,null,null,null,null,null,null,null,null,"→","No Level 2 Resources (see Level 1)",null,null,null,null,null,{"$f":"Activities!W6","v":"The monitoring and evaluation plan is implemented to track performance and progress of the coordinated surveillance system"}]
[null,null,null,null,null,null,null,null,null,null,null,null,null,null,null,null,null,null,null,null,null,null,null,"→","No Level 3 Resources (see Level 1)",null,null,null,null,null,{"$f":"Activities!W7","v":"Results of monitoring and evaluation iteratively improve or expand the coordinated surveillance system and align with international standards and recommendations "}]
[]
[null,null,null,null,null,null,"ME-3\nData Quality Standards",null,null,null,{"$f":"IF('Data Quality Standards'!O44=0,AE133,IF(AND('Data Quality Standards'!O44=1,'Data Quality Standards'!X44=0),AE134,IF(AND('Data Quality Standards'!X44=1,'Data Quality Standards'!AG44=0),AE135,\"Complete\")))","v":"There is a data quality management methodology"},null,null,null,null,null,null,null,null,{"$f":"IF('Data Quality Standards'!O44=\"\",\"N/A\",IF(AND('Data Quality Standards'!O44=0),\"Level 1\",IF(AND('Data Quality Standards'!O44=1,'Data Quality Standards'!X44=0),\"Level 2\",IF(AND('Data Quality Standards'!X44=1,'Data Quality Standards'!AG44=0),\"Level 3\",\"Complete\"))))","v":"N/A"},null,null,null,"→","Click to View Level 1 Resources",null,null,null,null,null,{"$f":"Activities!W8","v":"There is a data quality management methodology"}]
[null,null,null,null,null,null,null,null,null,null,null,null,null,null,null,null,null,null,null,null,null,null,null,"→","Click to View Level 2 Resources",null,null,null,null,null,{"$f":"Activities!W9","v":"The data quality has been tested and determined to meet the objectives of the coordinated surveillance system "}]
[null,null,null,null,null,null,null,null,null,null,null,null,null,null,null,null,null,null,null,null,null,null,null,"→","Click to View Level 3 Resources",null,null,null,null,null,{"$f":"Activities!W10","v":"The data quality aligns with international standards and recommendations "}]

{"sheet":"Resource selection","index":4,"n_rows":74,"n_cols":12,"rows_kept":74,"cut":false,"hidden":false,"merged":[[1,1,3,11],[43,1,45,1],[47,1,49,1],[51,1,59,1],[61,1,67,1],[16,1,20,1],[33,1,35,1],[37,1,41,1],[22,1,31,1]]}
[]
[null,"TOOLS AND RESOURCES SELECTION"]
[]
[]
[]
[]
[]
[]
[null,"CATEGORY",null,"ACTIVITY",null,"Target Capacity Level",null,"Description",null,"Resource 1",null,"Resource 2"]
[]
[null,"Focal points",null,"PP-1 \nIdentifying preliminary stakeholders",null,{"$f":"Results!T9","v":"N/A"},null,{"$f":"Results!K9","v":"Focal points, \"champions\" or technical working groups have been identified in all participating sectors at the national level for planning the implementation of coordinated surveillance"}]
[]
[null,"Prioritization",null,"PP-2\nPrioritization",null,{"$f":"Results!T13","v":"N/A"},null,{"$f":"Results!K13","v":"A list of prioritized zoonotic diseases exists for inclusion in a coordinated surveillance system"}]
[]
[null,"Goal setting",null,"PP-3\nGoal setting",null,{"$f":"Results!T17","v":"N/A"},null,{"$f":"Results!K17","v":"Goal(s), roles, and responsibilities of all participating sectors of the coordinated surveillance system are agreed upon at the national level"}]
[]
[null,"Stakeholders",null,"A-1\nStakeholder mapping",null,{"$f":"Results!T21","v":"N/A"},null,{"$f":"Results!K21","v":"Stakeholders working in surveillance, epidemiology, laboratory, and information sharing have been identified"}]
[]
[null,null,null,"PL-1\nPolitical will",null,{"$f":"Results!T9","v":"N/A"},null,{"$f":"Results!K53","v":"Decision makers for the coordinated surveillance system have been identified"}]
[]
[null,null,null,"I-2 \nMobilizing human resources and stakeholders",null,{"$f":"Results!T89","v":"N/A"},null,{"$f":"Results!K89","v":"Focal points or technical working groups meet on an ad hoc basis"}]
[]
[null,"Plans and organization",null,"A-2\nSurveillance system linkage assessment",null,{"$f":"Results!T25","v":"N/A"},null,{"$f":"Results!K25","v":"The interlinkages between current prioritized zoonotic disease surveillance systems have been assessed among sectors"}]
[]
[]
[null,null,null,"A-4\nInfrastructure mapping",null,{"$f":"Results!T33","v":"N/A"},null,{"$f":"Results!K33","v":"Basic infrastructure mapping exercises (as defined in TZG CH 4.1) have been used to describe the structure and linkages within and between the sectors "}]
[]
[null,null,null,"PL-3\nStrategic Plans and Frameworks for Coordinated Surveillance",null,{"$f":"Results!T61","v":"N/A"},null,{"$f":"Results!K61","v":"A multi-sectoral collection and review of the national strategic documents (strategies, frameworks and strategic plans) related to the coordinated surveillance system occurred, for the purposes of planning"}]
[]
[null,null,null,"PL-4\nNational operational plans",null,{"$f":"Results!T65","v":"N/A"},null,{"$f":"Results!K65","v":"A multi-sectoral collection and review of the national operational plans and other relevant documents (including surveillance plans, case definitions, protocols, and Standard Operating Procedures) related to the coordinated surveillance system occurred for the purposes of planning\n"}]
[]
[null,null,null,"I-6\nCoordinated surveillance system implementation",null,{"$f":"Results!T105","v":"N/A"},null,{"$f":"Results!K105","v":"The coordinated surveillance system is being piloted in target areas"}]
[]
[null,"Policy and legal",null,"A-3\nLegal frameworks assessment",null,{"$f":"Results!T29","v":"N/A"},null,{"$f":"Results!K29","v":"The legal frameworks (rules, policies, guidelines and regulations including international standards) that govern the ethical and privacy standards for surveillance and data sharing have been assessed"}]
[]
[null,null,null,"PL-7\nLegal frameworks planning",null,{"$f":"Results!T77","v":"N/A"},null,{"$f":"Results!K77","v":"Necessary legal frameworks (rules, policies, guidelines and regulations including international standards) have been standardized across sectors based on assessment at the national level"}]
[]
[null,"Budgets and finances",null,"A-5\nEconomic needs assessment",null,{"$f":"Results!T37","v":"N/A"},null,{"$f":"Results!K37","v":"Economic assessments have been used to determine national financial needs for the coordinated surveillance system "}]
[]
[null,null,null,"PL-5\nFinancial planning",null,{"$f":"Results!T69","v":"N/A"},null,{"$f":"Results!K69","v":"There is a budgetary plan and a mechanism for distributing funds for coordinated surveillance at the national level"}]
[]
[null,null,null,"I-1\nMobilizing of financial resources",null,{"$f":"Results!T85","v":"N/A"},null,{"$f":"Results!K85","v":"Funding exists for coordinated surveillance at the national level"}]
[]
[null,"Workforce",null,"A-8\nWorkforce assessment",null,{"$f":"Results!T49","v":"N/A"},null,{"$f":"Results!K49","v":"Workforce assessments have been conducted to identify current workforce requirements, competencies, needs and gaps at the national level"}]
[]
[null,null,null,"PL-6\nWorkforce planning",null,{"$f":"Results!T73","v":"N/A"},null,{"$f":"Results!K73","v":"An education and training plan for the coordinated surveillance system exists based on workforce assessment at the national level"}]
[]
[null,"Laboratory",null,"A-6\nLaboratory capacity assessment",null,{"$f":"Results!T41","v":"N/A"},null,{"$f":"Results!K41","v":"Laboratory assessments have been used to identify qualified national or international reference laboratories that can carry out testing to support the coordinated surveillance activities"}]
[]
[null,null,null,"A-7\nLaboratory transport and interpretation assessment",null,{"$f":"Results!T45","v":"N/A"},null,{"$f":"Results!K45","v":"Laboratory supply, transport chains and results interpretation have been assessed for harmonization between participating sectors at the national level"}]
[]
[null,"Data storage and sharing",null,"PL-2\nCommon data elements",null,{"$f":"Results!T57","v":"N/A"},null,{"$f":"Results!K57","v":"The common data elements are identified and agreed upon within each participating sector to meet the common analytical goals of the coordinated surveillance system at the national level"}]
[]
[null,null,null,"I-3\nData exchange & information sharing",null,{"$f":"Results!T93","v":"N/A"},null,{"$f":"Results!K93","v":"There is a mechanism to share data between sectors at the national level"}]
[]
[null,null,null,"I-4\nData storage",null,{"$f":"Results!T97","v":"N/A"},null,{"$f":"Results!K97","v":"There is a structure and location to store and maintain data from multiple sectors at the national level."}]
[]
[null,null,null,"I-5\nData privacy and security measures",null,{"$f":"Results!T101","v":"N/A"},null,{"$f":"Results!K101","v":"There are data privacy and security measures in place to protect coordinated surveillance data at the national level"}]
[]
[null,null,null,"I-7\nSurveillance Data sharing",null,{"$f":"Results!T109","v":"N/A"},null,{"$f":"Results!K109","v":"Surveillance Data are shared informally or formally on an ad hoc basis at the national level"}]
[]
[null,"Communication and reporting",null,"PL-8\nCoordinated communication planning",null,{"$f":"Results!T81","v":"N/A"},null,{"$f":"Results!K81","v":"Communications terminology and messages are aligning among all sectors participating in the coordinated surveillance system at the national level."}]
[]
[null,null,null,"I-8\nCommunication & Information Sharing",null,{"$f":"Results!T113","v":"N/A"},null,{"$f":"Results!K113","v":"There is ad hoc information sharing and communication with relevant stakeholders"}]
[]
[null,null,null,"I-9\nInternational notification requirements compliance",null,{"$f":"Results!T117","v":"N/A"},null,{"$f":"Results!K117","v":"Comply with international notification requirements for all zoonotic diseases"}]
[]
[null,null,null,"I-10\nCoordinated data visualization and analysis",null,{"$f":"Results!T121","v":"N/A"},null,{"$f":"Results!K121","v":"Coordinated surveillance data are used to generate outputs (e.g. figures, graphics, reports or bulletins) that are shared at the national level"}]
[]
[null,"Simulation exercises",null,"ME-1\nSimulation exercises",null,{"$f":"Results!T125","v":"N/A"},null,{"$f":"Results!K125","v":"Simulation exercises are conducted to evaluate the efficiency and functionality of the coordinated surveillance system at the national level  "}]
[]
[null,"Monitoring and evaluation planning",null,"ME-2\nMonitoring & evaluation planning",null,{"$f":"Results!T129","v":"N/A"},null,{"$f":"Results!K129","v":"There is a monitoring and evaluation plan that meets the objectives of the coordinated surveillance system"}]
[]
[null,"Data quality standards",null,"ME-3\nData quality standards ",null,{"$f":"Results!T133","v":"N/A"},null,{"$f":"Results!K133","v":"There is a data quality management methodology"}]

{"sheet":"Prioritization and roadmap","index":5,"n_rows":73,"n_cols":35,"rows_kept":73,"cut":false,"hidden":false,"merged":[[46,1,48,1],[50,1,58,1],[60,1,66,1],[1,1,3,34],[7,19,7,22],[7,23,7,26],[7,27,7,30],[7,31,7,34],[42,1,44,1],[7,15,7,18],[15,1,19,1],[32,1,34,1],[36,1,40,1],[21,1,30,1]]}
[]
[null,"PRIORITIZATION AND ROADMAP"]
[]
[]
[]
[]
[]
[null,"CATEGORY",null,"ACTIVITY",null,"Target Capacity Level",null,"Description",null,"Implementation  start time and priority ",null,"Activity Start",null,"Activity duration ",null,"Year 1 (e.g. 2022)",null,null,null,"Year 2 ",null,null,null,"Year 3",null,null,null,"Year 4",null,null,null,"Year 5"]
[null,null,null,null,null,null,null,null,null,null,null,null,null,null,null,"Q1","Q2","Q3","Q4","Q1","Q2","Q3","Q4","Q1","Q2","Q3","Q4","Q1","Q2","Q3","Q4","Q1","Q2","Q3","Q4"]
[null,"Focal points",null,"PP-1 \nIdentifying preliminary stakeholders",null,{"$f":"Results!T9","v":"N/A"},null,{"$f":"Results!K9","v":"Focal points, \"champions\" or technical working groups have been identified in all participating sectors at the national level for planning the implementation of coordinated surveillance"}]
[]
[null,"Prioritization",null,"PP-2\nPrioritization",null,{"$f":"Results!T13","v":"N/A"},null,{"$f":"Results!K13","v":"A list of prioritized zoonotic diseases exists for inclusion in a coordinated surveillance system"}]
[]
[null,"Goal setting",null,"PP-3\nGoal setting",null,{"$f":"Results!T17","v":"N/A"},null,{"$f":"Results!K17","v":"Goal(s), roles, and responsibilities of all participating sectors of the coordinated surveillance system are agreed upon at the national level"}]
[]
[null,"Stakeholders",null,"A-1\nStakeholder mapping",null,{"$f":"Results!T21","v":"N/A"},null,{"$f":"Results!K21","v":"Stakeholders working in surveillance, epidemiology, laboratory, and information sharing have been identified"}]
[]
[null,null,null,"PL-1\nPolitical will",null,{"$f":"Results!T9","v":"N/A"},null,{"$f":"Results!K53","v":"Decision makers for the coordinated surveillance system have been identified"}]
[]
[null,null,null,"I-2 \nMobilizing human resources and stakeholders",null,{"$f":"Results!T89","v":"N/A"},null,{"$f":"Results!K89","v":"Focal points or technical working groups meet on an ad hoc basis"}]
[]
[null,"Plans and organization",null,"A-2\nSurveillance system linkage assessment",null,{"$f":"Results!T25","v":"N/A"},null,{"$f":"Results!K25","v":"The interlinkages between current prioritized zoonotic disease surveillance systems have been assessed among sectors"}]
[]
[]
[null,null,null,"A-4\nInfrastructure mapping",null,{"$f":"Results!T33","v":"N/A"},null,{"$f":"Results!K33","v":"Basic infrastructure mapping exercises (as defined in TZG CH 4.1) have been used to describe the structure and linkages within and between the sectors "}]
[]
[null,null,null,"PL-3\nFrameworks and strategic plans for coordinated surveillance",null,{"$f":"Results!T61","v":"N/A"},null,{"$f":"Results!K61","v":"A multi-sectoral collection and review of the national strategic documents (strategies, frameworks and strategic plans) related to the coordinated surveillance system occurred, for the purposes of planning"}]
[]
[null,null,null,"PL-4\nNational surveillance plans and protocols (National operational plans)",null,{"$f":"Results!T65","v":"N/A"},null,{"$f":"Results!K65","v":"A multi-sectoral collection and review of the national operational plans and other relevant documents (including surveillance plans, case definitions, protocols, and Standard Operating Procedures) related to the coordinated surveillance system occurred for the purposes of planning\n"}]
[]
[null,null,null,"I-6\nCoordinated surveillance system implementation",null,{"$f":"Results!T105","v":"N/A"},null,{"$f":"Results!K105","v":"The coordinated surveillance system is being piloted in target areas"}]
[]
[null,"Policy and legal",null,"A-3\nLegal frameworks assessment",null,{"$f":"Results!T29","v":"N/A"},null,{"$f":"Results!K29","v":"The legal frameworks (rules, policies, guidelines and regulations including international standards) that govern the ethical and privacy standards for surveillance and data sharing have been assessed"}]
[]
[null,null,null,"PL-7\nLegal frameworks planning",null,{"$f":"Results!T77","v":"N/A"},null,{"$f":"Results!K77","v":"Necessary legal frameworks (rules, policies, guidelines and regulations including international standards) have been standardized across sectors based on assessment at the national level"}]
[]
[null,"Budgets and finances",null,"A-5\nEconomic needs assessment",null,{"$f":"Results!T37","v":"N/A"},null,{"$f":"Results!K37","v":"Economic assessments have been used to determine national financial needs for the coordinated surveillance system "}]
[]
[null,null,null,"PL-5\nFinancial planning",null,{"$f":"Results!T69","v":"N/A"},null,{"$f":"Results!K69","v":"There is a budgetary plan and a mechanism for distributing funds for coordinated surveillance at the national level"}]
[]
[null,null,null,"I-1\nMobilizing of financial resources",null,{"$f":"Results!T85","v":"N/A"},null,{"$f":"Results!K85","v":"Funding exists for coordinated surveillance at the national level"}]
[]
[null,"Workforce",null,"A-8\nWorkforce assessment",null,{"$f":"Results!T49","v":"N/A"},null,{"$f":"Results!K49","v":"Workforce assessments have been conducted to identify current workforce requirements, competencies, needs and gaps at the national level"}]
[]
[null,null,null,"PL-6\nWorkforce planning",null,{"$f":"Results!T73","v":"N/A"},null,{"$f":"Results!K73","v":"An education and training plan for the coordinated surveillance system exists based on workforce assessment at the national level"}]
[]
[null,"Laboratory",null,"A-6\nLaboratory capacity assessment",null,{"$f":"Results!T41","v":"N/A"},null,{"$f":"Results!K41","v":"Laboratory assessments have been used to identify qualified national or international reference laboratories that can carry out testing to support the coordinated surveillance activities"}]
[]
[null,null,null,"A-7\nLaboratory transport and interpretation assessment",null,{"$f":"Results!T45","v":"N/A"},null,{"$f":"Results!K45","v":"Laboratory supply, transport chains and results interpretation have been assessed for harmonization between participating sectors at the national level"}]
[]
[null,"Data storage and sharing",null,"PL-2\nCommon data elements",null,{"$f":"Results!T57","v":"N/A"},null,{"$f":"Results!K57","v":"The common data elements are identified and agreed upon within each participating sector to meet the common analytical goals of the coordinated surveillance system at the national level"}]
[]
[null,null,null,"I-3\nData exchange & information sharing",null,{"$f":"Results!T93","v":"N/A"},null,{"$f":"Results!K93","v":"There is a mechanism to share data between sectors at the national level"}]
[]
[null,null,null,"I-4\nData storage",null,{"$f":"Results!T97","v":"N/A"},null,{"$f":"Results!K97","v":"There is a structure and location to store and maintain data from multiple sectors at the national level."}]
[]
[null,null,null,"I-5\nData privacy and security measures",null,{"$f":"Results!T101","v":"N/A"},null,{"$f":"Results!K101","v":"There are data privacy and security measures in place to protect coordinated surveillance data at the national level"}]
[]
[null,null,null,"I-7\nData sharing",null,{"$f":"Results!T109","v":"N/A"},null,{"$f":"Results!K109","v":"Surveillance Data are shared informally or formally on an ad hoc basis at the national level"}]
[]
[null,"Communication and reporting",null,"PL-8\nCoordinated communication planning",null,{"$f":"Results!T81","v":"N/A"},null,{"$f":"Results!K81","v":"Communications terminology and messages are aligning among all sectors participating in the coordinated surveillance system at the national level."}]
[]
[null,null,null,"I-8\nCommunication & data use",null,{"$f":"Results!T113","v":"N/A"},null,{"$f":"Results!K113","v":"There is ad hoc information sharing and communication with relevant stakeholders"}]
[]
[null,null,null,"I-9\nInternational notification requirements compliance",null,{"$f":"Results!T117","v":"N/A"},null,{"$f":"Results!K117","v":"Comply with international notification requirements for all zoonotic diseases"}]
[]
[null,null,null,"I-10\nCoordinated data visualization and analysis",null,{"$f":"Results!T121","v":"N/A"},null,{"$f":"Results!K121","v":"Coordinated surveillance data are used to generate outputs (e.g. figures, graphics, reports or bulletins) that are shared at the national level"}]
[]
[null,"Simulation exercises",null,"ME-1\nSimulation exercises",null,{"$f":"Results!T125","v":"N/A"},null,{"$f":"Results!K125","v":"Simulation exercises are conducted to evaluate the efficiency and functionality of the coordinated surveillance system at the national level  "}]
[]
[null,"Monitoring and evaluation planning",null,"ME-2\nMonitoring & evaluation planning",null,{"$f":"Results!T129","v":"N/A"},null,{"$f":"Results!K129","v":"There is a monitoring and evaluation plan that meets the objectives of the coordinated surveillance system"}]
[]
[null,"Data quality standards",null,"ME-3\nData quality standards ",null,{"$f":"Results!T133","v":"N/A"},null,{"$f":"Results!K133","v":"There is a data quality management methodology"}]

{"sheet":"Development plan","index":6,"n_rows":56,"n_cols":13,"rows_kept":56,"cut":false,"hidden":false,"merged":[[1,1,3,12],[30,1,32,1],[34,1,35,1],[37,1,38,1],[40,1,44,1],[21,1,25,1],[46,1,49,1],[7,1,7,12],[10,1,10,12],[17,1,19,1],[27,1,28,1]]}
[]
[null,"DEVELOPMENT PLAN"]
[]
[]
[]
[null,"CATEGORY","ACTIVITY","Description","Selected resources and tools","Actions","Lead, and Role/ responsibility of each partner","Anticipated challenges","Activity start","Activity duration","Point of contact (name, title, organization, sector) of each partner","Indicator for this Requirement","Other notes"]
[]
[null,"EXAMPLE"]
[null,"Prioritization","PP-2\nPrioritization","A list of prioritized zoonotic diseases exists for inclusion in a coordinated surveillance system","OHZDP","Perform the prioritization exercise (e.g. CDC One Health Zoonotic Disease Prioritization (OHZDP) workshop)\n\nUpdate the sectors priority diseases lists according the results of the  prioritization exercise","Lead: Animal Health (AH)\nThe Human Health (HH) representative will contact CDC and identify participants from HH sector. AH rep will coordinate logistics and venue","May require additional funds for conducting a multisectoral exercise;\nContact to CDC to explore possibility to conduct OHZDP workshop.","Year 1-Q2\n","1 Quarter","Linda Bianca, Dir of Animal Health Services, MoA\n\nDan Fisher, Dir of Health Services, MoH","Prioritization exercise held and attended by all relevant sectors\n\nThe priority lists are updated according the  prioritization exercise results for all relevant sector"]
[]
[null,"PLAN"]
[null,"Focal points","PP-1 \nIdentifying preliminary stakeholders",{"$f":"Results!K9","v":"Focal points, \"champions\" or technical working groups have been identified in all participating sectors at the national level for planning the implementation of coordinated surveillance"},{"$f":"'Resource selection'!J11","v":0},null,null,null,{"$f":"'Prioritization and roadmap'!L10","v":0},{"$f":"'Prioritization and roadmap'!N10","v":0}]
[]
[null,"Prioritization","PP-2\nPrioritization",{"$f":"Results!K13","v":"A list of prioritized zoonotic diseases exists for inclusion in a coordinated surveillance system"},{"$f":"'Resource selection'!J13","v":0},null,null,null,{"$f":"'Prioritization and roadmap'!L12","v":0},{"$f":"'Prioritization and roadmap'!N12","v":0}]
[]
[null,"Goal setting","PP-3\nGoal setting",{"$f":"Results!K17","v":"Goal(s), roles, and responsibilities of all participating sectors of the coordinated surveillance system are agreed upon at the national level"},{"$f":"'Resource selection'!J15","v":0},null,null,null,{"$f":"'Prioritization and roadmap'!L14","v":0},{"$f":"'Prioritization and roadmap'!N14","v":0}]
[]
[null,"Stakeholders","A-1\nStakeholder mapping",{"$f":"Results!K21","v":"Stakeholders working in surveillance, epidemiology, laboratory, and information sharing have been identified"},{"$f":"'Resource selection'!J17","v":0},null,null,null,{"$f":"'Prioritization and roadmap'!L16","v":0},{"$f":"'Prioritization and roadmap'!N16","v":0}]
[null,null,"PL-1\nPolitical will",{"$f":"Results!K53","v":"Decision makers for the coordinated surveillance system have been identified"},{"$f":"'Resource selection'!J19","v":0},null,null,null,{"$f":"'Prioritization and roadmap'!L18","v":0},{"$f":"'Prioritization and roadmap'!N18","v":0}]
[null,null,"I-2 \nMobilizing human resources and stakeholders",{"$f":"Results!K89","v":"Focal points or technical working groups meet on an ad hoc basis"},{"$f":"'Resource selection'!J21","v":0},null,null,null,{"$f":"'Prioritization and roadmap'!L20","v":0},{"$f":"'Prioritization and roadmap'!N20","v":0}]
[]
[null,"Plans and organization","A-2\nSurveillance system linkage assessment",{"$f":"Results!K25","v":"The interlinkages between current prioritized zoonotic disease surveillance systems have been assessed among sectors"},{"$f":"'Resource selection'!J23","v":0},null,null,null,{"$f":"'Prioritization and roadmap'!L22","v":0},{"$f":"'Prioritization and roadmap'!N22","v":0}]
[null,null,"A-4\nInfrastructure mapping",{"$f":"Results!K33","v":"Basic infrastructure mapping exercises (as defined in TZG CH 4.1) have been used to describe the structure and linkages within and between the sectors "},{"$f":"'Resource selection'!J26","v":0},null,null,null,{"$f":"'Prioritization and roadmap'!L25","v":0},{"$f":"'Prioritization and roadmap'!N25","v":0}]
[null,null,"PL-3\nFrameworks and strategic plans for coordinated surveillance",{"$f":"Results!K61","v":"A multi-sectoral collection and review of the national strategic documents (strategies, frameworks and strategic plans) related to the coordinated surveillance system occurred, for the purposes of planning"},{"$f":"'Resource selection'!J28","v":0},null,null,null,{"$f":"'Prioritization and roadmap'!L27","v":0},{"$f":"'Prioritization and roadmap'!N27","v":0}]
[null,null,"PL-4\nNational surveillance plans and protocols (National operational plans)",{"$f":"Results!K65","v":"A multi-sectoral collection and review of the national operational plans and other relevant documents (including surveillance plans, case definitions, protocols, and Standard Operating Procedures) related to the coordinated surveillance system occurred for the purposes of planning\n"},{"$f":"'Resource selection'!J30","v":0},null,null,null,{"$f":"'Prioritization and roadmap'!L29","v":0},{"$f":"'Prioritization and roadmap'!N29","v":0}]
[null,null,"I-6\nCoordinated surveillance system implementation",{"$f":"Results!K105","v":"The coordinated surveillance system is being piloted in target areas"},{"$f":"'Resource selection'!J32","v":0},null,null,null,{"$f":"'Prioritization and roadmap'!L31","v":0},{"$f":"'Prioritization and roadmap'!N31","v":0}]
[]
[null,"Policy and legal","A-3\nLegal frameworks assessment",{"$f":"Results!K29","v":"The legal frameworks (rules, policies, guidelines and regulations including international standards) that govern the ethical and privacy standards for surveillance and data sharing have been assessed"},{"$f":"'Resource selection'!J34","v":0},null,null,null,{"$f":"'Prioritization and roadmap'!L33","v":0},{"$f":"'Prioritization and roadmap'!N33","v":0}]
[null,null,"PL-7\nLegal frameworks planning",{"$f":"Results!K77","v":"Necessary legal frameworks (rules, policies, guidelines and regulations including international standards) have been standardized across sectors based on assessment at the national level"},{"$f":"'Resource selection'!J36","v":0},null,null,null,{"$f":"'Prioritization and roadmap'!L35","v":0},{"$f":"'Prioritization and roadmap'!N35","v":0}]
[]
[null,"Budgets and finances","A-5\nEconomic needs assessment",{"$f":"Results!K37","v":"Economic assessments have been used to determine national financial needs for the coordinated surveillance system "},{"$f":"'Resource selection'!J38","v":0},null,null,null,{"$f":"'Prioritization and roadmap'!L37","v":0},{"$f":"'Prioritization and roadmap'!N37","v":0}]
[null,null,"PL-5\nFinancial planning",{"$f":"Results!K69","v":"There is a budgetary plan and a mechanism for distributing funds for coordinated surveillance at the national level"},{"$f":"'Resource selection'!J40","v":0},null,null,null,{"$f":"'Prioritization and roadmap'!L39","v":0},{"$f":"'Prioritization and roadmap'!N39","v":0}]
[null,null,"I-1\nMobilizing of financial resources",{"$f":"Results!K85","v":"Funding exists for coordinated surveillance at the national level"},{"$f":"'Resource selection'!J42","v":0},null,null,null,{"$f":"'Prioritization and roadmap'!L41","v":0},{"$f":"'Prioritization and roadmap'!N41","v":0}]
[]
[null,"Workforce","A-8\nWorkforce assessment",{"$f":"Results!K49","v":"Workforce assessments have been conducted to identify current workforce requirements, competencies, needs and gaps at the national level"},{"$f":"'Resource selection'!J44","v":0},null,null,null,{"$f":"'Prioritization and roadmap'!L43","v":0},{"$f":"'Prioritization and roadmap'!N43","v":0}]
[null,null,"PL-6\nWorkforce planning",{"$f":"Results!K73","v":"An education and training plan for the coordinated surveillance system exists based on workforce assessment at the national level"},{"$f":"'Resource selection'!J46","v":0},null,null,null,{"$f":"'Prioritization and roadmap'!L45","v":0},{"$f":"'Prioritization and roadmap'!N45","v":0}]
[]
[null,"Laboratory","A-6\nLaboratory capacity assessment",{"$f":"Results!K41","v":"Laboratory assessments have been used to identify qualified national or international reference laboratories that can carry out testing to support the coordinated surveillance activities"},{"$f":"'Resource selection'!J48","v":0},null,null,null,{"$f":"'Prioritization and roadmap'!L47","v":0},{"$f":"'Prioritization and roadmap'!N47","v":0}]
[null,null,"A-7\nLaboratory transport and interpretation assessment",{"$f":"Results!K45","v":"Laboratory supply, transport chains and results interpretation have been assessed for harmonization between participating sectors at the national level"},{"$f":"'Resource selection'!J50","v":0},null,null,null,{"$f":"'Prioritization and roadmap'!L49","v":0},{"$f":"'Prioritization and roadmap'!N49","v":0}]
[]
[null,"Data storage and sharing","PL-2\nCommon data elements",{"$f":"Results!K57","v":"The common data elements are identified and agreed upon within each participating sector to meet the common analytical goals of the coordinated surveillance system at the national level"},{"$f":"'Resource selection'!J52","v":0},null,null,null,{"$f":"'Prioritization and roadmap'!L51","v":0},{"$f":"'Prioritization and roadmap'!N51","v":0}]
[null,null,"I-3\nData exchange & information sharing",{"$f":"Results!K93","v":"There is a mechanism to share data between sectors at the national level"},{"$f":"'Resource selection'!J54","v":0},null,null,null,{"$f":"'Prioritization and roadmap'!L53","v":0},{"$f":"'Prioritization and roadmap'!N53","v":0}]
[null,null,"I-4\nData storage",{"$f":"Results!K97","v":"There is a structure and location to store and maintain data from multiple sectors at the national level."},{"$f":"'Resource selection'!J56","v":0},null,null,null,{"$f":"'Prioritization and roadmap'!L55","v":0},{"$f":"'Prioritization and roadmap'!N55","v":0}]
[null,null,"I-5\nData privacy and security measures",{"$f":"Results!K101","v":"There are data privacy and security measures in place to protect coordinated surveillance data at the national level"},{"$f":"'Resource selection'!J58","v":0},null,null,null,{"$f":"'Prioritization and roadmap'!L57","v":0},{"$f":"'Prioritization and roadmap'!N57","v":0}]
[null,null,"I-7\nSurveillance Data sharing",{"$f":"Results!K109","v":"Surveillance Data are shared informally or formally on an ad hoc basis at the national level"},{"$f":"'Resource selection'!J60","v":0},null,null,null,{"$f":"'Prioritization and roadmap'!L59","v":0},{"$f":"'Prioritization and roadmap'!N59","v":0}]
[]
[null,"Communication and reporting","PL-8\nCoordinated communication planning",{"$f":"Results!K81","v":"Communications terminology and messages are aligning among all sectors participating in the coordinated surveillance system at the national level."},{"$f":"'Resource selection'!J62","v":0},null,null,null,{"$f":"'Prioritization and roadmap'!L61","v":0},{"$f":"'Prioritization and roadmap'!N61","v":0}]
[null,null,"I-8\nCommunication & Information Sharing",{"$f":"Results!K113","v":"There is ad hoc information sharing and communication with relevant stakeholders"},{"$f":"'Resource selection'!J64","v":0},null,null,null,{"$f":"'Prioritization and roadmap'!L63","v":0},{"$f":"'Prioritization and roadmap'!N63","v":0}]
[null,null,"I-9\nInternational notification requirements compliance",{"$f":"Results!K117","v":"Comply with international notification requirements for all zoonotic diseases"},{"$f":"'Resource selection'!J66","v":0},null,null,null,{"$f":"'Prioritization and roadmap'!L65","v":0},{"$f":"'Prioritization and roadmap'!N65","v":0}]
[null,null,"I-10\nCoordinated data visualization and analysis",{"$f":"Results!K121","v":"Coordinated surveillance data are used to generate outputs (e.g. figures, graphics, reports or bulletins) that are shared at the national level"},{"$f":"'Resource selection'!J68","v":0},null,null,null,{"$f":"'Prioritization and roadmap'!L67","v":0},{"$f":"'Prioritization and roadmap'!N67","v":0}]
[]
[null,"Simulation exercises","ME-1\nSimulation exercises",{"$f":"Results!K125","v":"Simulation exercises are conducted to evaluate the efficiency and functionality of the coordinated surveillance system at the national level  "},{"$f":"'Resource selection'!J70","v":0},null,null,null,{"$f":"'Prioritization and roadmap'!L69","v":0},{"$f":"'Prioritization and roadmap'!N69","v":0}]
[]
[null,"Monitoring and evaluation planning","ME-2\nMonitoring & evaluation planning",{"$f":"Results!K129","v":"There is a monitoring and evaluation plan that meets the objectives of the coordinated surveillance system"},{"$f":"'Resource selection'!J72","v":0},null,null,null,{"$f":"'Prioritization and roadmap'!L71","v":0},{"$f":"'Prioritization and roadmap'!N71","v":0}]
[]
[null,"Data quality standards","ME-3\nData quality standards ",{"$f":"Results!K133","v":"There is a data quality management methodology"},{"$f":"'Resource selection'!J74","v":0},null,null,null,{"$f":"'Prioritization and roadmap'!L73","v":0},{"$f":"'Prioritization and roadmap'!N73","v":0}]

{"sheet":"Tools by activity","index":7,"n_rows":108,"n_cols":9,"rows_kept":108,"cut":false,"hidden":false,"merged":[]}
[]
["PP-1 Focal points",null,"A-1 Stakeholder mapping",null,"PL-1 Political will",null,"I-1 Mobilizing financial resources",null,"ME-1 Simulation exercises"]
[]
["Africa CDC Event Based Surveillance Framework",null,"Border Health Capacity Discussion Guide (BHCDG)",null,"Evaluation of Collaboration in a multisectoral Surveillance system (EcoSur)",null,"SurvCost: A tool to Estimate the Cost of Integrated Disease Surveillance and Response ",null,"Laboratory Infrastructure Network Analysis (LINA)"]
["Evaluation of Collaboration in a multisectoral Surveillance system (EcoSur)",null,"Evaluation of Collaboration in a multisectoral Surveillance system (EcoSur)",null,"Integrated Disease Surveillance and Response (IDSR)",null,"Animal Rabies Surveillance Cost Effectiveness Assessment Tool",null,"One Health Systems Mapping and Analysis Resource Toolkit (OH-SMART)"]
["Integrated Disease Surveillance and Response (IDSR)",null,"IHR-PVS National Bridging Workshop",null,"Methodology to analyse AMR-relevant legislation in the food and agriculture sector",null,"Georgetown University International Health Regulation (IHR) Costing Tool",null,"Simulation Toolkit"]
["National Action Plan for Health Security (NAPHS)",null,"Integrated Disease Surveillance and Response (IDSR)",null,"National Action Plan for Health Security (NAPHS)",null,"Sustainable Funding Strategy for One Health Toolkit",null,"The Suite for Automated Global Electronic bioSurveillance (SAGES)"]
["One Health Surveillance Readiness and Requirements Tool (OHSRRT)",null,"National Action Plan for Health Security (NAPHS)",null,"Network for Evaluation of One Health (NEOH)",null,"Sustainable Funding Strategy for One Health Toolkit"]
["Policy Field Analysis (PFA)",null,"OIE PVS Gap Analysis",null,"One Health Policy Advocacy Toolkit",null,null,null,"ME-2 monitoring and evaluation Planning"]
["The One Health Systems Assessment for Priority Zoonoses (OH-SAPZ)",null,"One Health Surveillance Readiness and Requirements Tool (OHSRRT)",null,"One Health Policy Model Toolkit",null,"I-2 Mobilizing Human resources"]
[null,null,"One Health Systems Mapping and Analysis Resource Toolkit (OH-SMART)",null,"Policy Field Analysis (PFA)",null,null,null,"Antimicrobial resistance: a manual for developing national action plans"]
["PP-2 Prioritization",null,"Policy Field Analysis (PFA)",null,"Stepwise Approach towards Rabies Elimination (SARE)",null,"Africa CDC Event Based Surveillance Framework",null,"ECDC Data quality monitoring and surveillance system evaluation - A handbook of methods and applications "]
["ECDC tool for the prioritisation of infectious disease threats",null,"Stepwise Approach towards Rabies Elimination (SARE)",null,null,null,"Disease Outbreak After Action Report Toolkit",null,"International Health Regulations (‎2005):State Party self-assessment annual reporting tool (SPAR)"]
["Listing and categorization of priority animal diseases including those transmissible to humans (Phylum)",null,"SuRveillance EVALuation framework (SERVAL)",null,"PL-2 Common Data Elements",null,"Governance Manual Toolkit",null,"Network for Evaluation of One Health (NEOH)"]
["One Health Zoonotic Disease Prioritization Process (OHZDP)",null,"The One Health Systems Assessment for Priority Zoonoses (OH-SAPZ)",null,null,null,"Preparedness and Response Planning Toolkit",null,"SuRveillance EVALuation framework (SERVAL)"]
["The One Health Systems Assessment for Priority Zoonoses (OH-SAPZ)",null,null,null,"Evaluation of Collaboration in a multisectoral Surveillance system (EcoSur)",null,null,null,"Surveillance Evaluation Framework (SurF)"]
[null,null,"A-2 Surveillance system linkage",null,"Framework for Enhancing Anthrax Prevention and Control ",null,"I-3 Data exchange and information sharing",null,"Surveillance Webtools (SURVTOOLS) "]
[null,null,null,null,"IHR-PVS National Bridging Workshop",null,null,null,"Updated Guidelines for Evaluating Public Health Surveillance Systems "]
[null,null,"Africa CDC Event Based Surveillance Framework",null,"Integrated Disease Surveillance and Response (IDSR)",null,"Afyadata"]
["PP-3 Goal setting",null,"ECDC Data quality monitoring and surveillance system evaluation - A handbook of methods and applications ",null,"EFSA Data Collection Framework",null,"District Health Information Software 2 (DHIS2) ",null,"ME-3 Data Quality Standards"]
["Africa CDC Event Based Surveillance Framework",null,"FAO Assessment Tool for Laboratories and Antimicrobial Resistance Surveillance Systems (ATLASS)",null,null,null,"Electronic Integrated Disease Surveillance System (EIDSS)"]
["Evaluation of Collaboration in a multisectoral Surveillance system (EcoSur)",null,"FAO Surveillance Evaluation Tool (SET)",null,"PL-3 Strategic Plans and Frameworks for Coordinated Surveillance",null,"EMPRES Global Animal Disease Information System (EMPRES-i)",null,"Data Quality Review (DQR) Toolkit"]
["Integrated Disease Surveillance and Response (IDSR)",null,"International Health Regulations (‎2005):State Party self-assessment annual reporting tool (SPAR)",null,null,null,"Event Mobile Application (EMAi)",null,"ECDC Data quality monitoring and surveillance system evaluation - A handbook of methods and applications "]
["National Action Plan for Health Security (NAPHS)",null,null,null,"Africa CDC Event Based Surveillance Framework",null,"FoodChain-Lab (FCL) ",null,"Framework for Enhancing Anthrax Prevention and Control "]
["Network for Evaluation of One Health (NEOH)",null,"A-3 Legal Frameworks",null,"Antimicrobial resistance: a manual for developing national action plans",null,"Laboratory Information Management System “SILAB for Africa” (SILABFA)",null,"Integrated Disease Surveillance and Response (IDSR)"]
["One Health Surveillance Readiness and Requirements Tool (OHSRRT)",null,null,null,"Border Health Capacity Discussion Guide (BHCDG)",null,"Laboratory Information Management System Light (MiniLIMS)",null,"SuRveillance EVALuation framework (SERVAL)"]
[null,null,"Antimicrobial resistance: a manual for developing national action plans",null,"Evaluation of Collaboration in a multisectoral Surveillance system (EcoSur)",null,"Preparedness and Response Planning Toolkit",null,"Surveillance Evaluation Framework (SurF)"]
[null,null,"Evaluation of Collaboration in a multisectoral Surveillance system (EcoSur)",null,"Framework for Evaluating Public Health Surveillance Systems for Early Detection of Outbreaks ",null,"Rabies Exposure and Case Tracker Application (React)",null,"The Suite for Automated Global Electronic bioSurveillance (SAGES)"]
[null,null,"Governance Manual Toolkit",null,"Framework for Enhancing Anthrax Prevention and Control ",null,"Surveillance Outbreak Response Management and Analysis System (SORMAS)",null,"Updated Guidelines for Evaluating Public Health Surveillance Systems "]
[null,null,"International Health Regulations (‎2005):State Party self-assessment annual reporting tool (SPAR)",null,"IHR-PVS National Bridging Workshop",null,"The Epidemic Intelligence from Open Sources (EIOS)"]
[null,null,"Methodology to analyse AMR-relevant legislation in the food and agriculture sector",null,"Integrated Disease Surveillance and Response (IDSR)",null,"The Suite for Automated Global Electronic bioSurveillance (SAGES)"]
[null,null,"One Health Surveillance Readiness and Requirements Tool (OHSRRT)",null,"Joint External Evaluation tool (JEE ) "]
[null,null,"Policy Field Analysis (PFA)",null,"Methodology to analyse AMR-relevant legislation in the food and agriculture sector",null,"I-4 Data Storage"]
[null,null,"Staged Tool for the Elimination of Brucellosis (STEB)",null,"National Action Plan for Health Security (NAPHS)"]
[null,null,"Stepwise Approach towards Rabies Elimination (SARE)",null,"Network for Evaluation of One Health (NEOH)",null,"Afyadata"]
[null,null,"The National Public Health Performance Standards Program (NPHPSP): Local Public Health System Performance Assessment Instrument (version 2)",null,"OIE PVS Gap Analysis",null,"District Health Information Software 2 (DHIS2) "]
[null,null,null,null,"One Health Strategic Plan Development",null,"Electronic Integrated Disease Surveillance System (EIDSS)"]
[null,null,"A-4 Infrastructure mapping",null,"One Health Systems Mapping and Analysis Resource Toolkit (OH-SMART)",null,"Laboratory Information Management System “SILAB for Africa” (SILABFA)"]
[null,null,null,null,"Staged Tool for the Elimination of Brucellosis (STEB)",null,"Laboratory Information Management System Light (MiniLIMS)"]
[null,null,"APHL Informatics  Self-Assessment Tool",null,"Stepwise Approach towards Rabies Elimination (SARE)",null,"Rabies Exposure and Case Tracker Application (React)"]
[null,null,"APHL Laboratory Informatics Assessment Tool",null,"The One Health Systems Assessment for Priority Zoonoses (OH-SAPZ)",null,"Surveillance Outbreak Response Management and Analysis System (SORMAS)"]
[null,null,"Evaluation of Collaboration in a multisectoral Surveillance system (EcoSur)",null,"WHO CHOICE",null,"The Suite for Automated Global Electronic bioSurveillance (SAGES)"]
[null,null,"IHR-PVS National Bridging Workshop"]
[null,null,"Laboratory Infrastructure Network Analysis (LINA)",null,"PL-4 National operational plans",null,"I-5 Data Privacy and Security Measures"]
[null,null,"National Action Plan for Health Security (NAPHS)"]
[null,null,"Network for Evaluation of One Health (NEOH)",null,"Africa CDC Event Based Surveillance Framework",null,"APHL Informatics  Self-Assessment Tool"]
[null,null,"OIE PVS Gap Analysis",null,"Border Health Capacity Discussion Guide (BHCDG)",null,"District Health Information Software 2 (DHIS2) "]
[null,null,"One Health Systems Mapping and Analysis Resource Toolkit (OH-SMART)",null,"ECDC Data quality monitoring and surveillance system evaluation - A handbook of methods and applications ",null,"Electronic Integrated Disease Surveillance System (EIDSS)"]
[null,null,"Policy Field Analysis (PFA)",null,"Epidemiology Mapping Tool (EMT)",null,"EMPRES Global Animal Disease Information System (EMPRES-i)"]
[null,null,"Preparedness and Response Planning Toolkit",null,"Evaluation of Collaboration in a multisectoral Surveillance system (EcoSur)",null,"Laboratory Information Management System “SILAB for Africa” (SILABFA)"]
[null,null,"The One Health Systems Assessment for Priority Zoonoses (OH-SAPZ)",null,"FAO Surveillance Evaluation Tool (SET)",null,"Laboratory Information Management System Light (MiniLIMS)"]
[null,null,"WHO Laboratory Assessment Tool",null,"Framework for Enhancing Anthrax Prevention and Control ",null,"Rabies Exposure and Case Tracker Application (React)"]
[null,null,null,null,"Guidelines for designing\nanimal disease\nsurveillance plans\n",null,"Surveillance Outbreak Response Management and Analysis System (SORMAS)"]
[null,null,"A-5 Economic Needs assessment",null,"IHR-PVS National Bridging Workshop",null,"The Suite for Automated Global Electronic bioSurveillance (SAGES)"]
[null,null,null,null,"Integrated Disease Surveillance and Response (IDSR)"]
[null,null,"SurvCost: A tool to Estimate the Cost of Integrated Disease Surveillance and Response",null,"Methodology to analyse AMR-relevant legislation in the food and agriculture sector",null,"I-6 Coordinated surveillance system implementation"]
[null,null,"Animal Rabies Surveillance Cost Effectiveness Assessment Tool",null,"National Action Plan for Health Security (NAPHS)"]
[null,null,"Evaluation of Collaboration in a multisectoral Surveillance system (EcoSur)",null,"One Health Surveillance Readiness and Requirements Tool (OHSRRT)",null,"Africa CDC Event Based Surveillance Framework"]
[null,null,"Georgetown University International Health Regulation (IHR) Costing Tool",null,"Preparedness and Response Planning Toolkit",null,"Afyadata"]
[null,null,"Global Dog Rabies Elimination Pathway (GDREP)",null,"Stepwise Approach towards Rabies Elimination (SARE)",null,"Electronic Integrated Disease Surveillance System (EIDSS)"]
[null,null,"National Action Plan for Health Security (NAPHS)",null,"SuRveillance EVALuation framework (SERVAL)",null,"Laboratory Information Management System “SILAB for Africa” (SILABFA)"]
[null,null,"Network for Evaluation of One Health (NEOH)",null,"Surveillance Webtools (SURVTOOLS) ",null,"Laboratory Information Management System Light (MiniLIMS)"]
[null,null,"OIE PVS Gap Analysis",null,null,null,"Laboratory Infrastructure Network Analysis (LINA)"]
[null,null,"Outbreak costing tool",null,null,null,"Rabies Exposure and Case Tracker Application (React)"]
[null,null,"Rabies ECON ",null,"PL-5 Financial Planning",null,"The Suite for Automated Global Electronic bioSurveillance (SAGES)"]
[null,null,"SuRveillance EVALuation framework (SERVAL)",null,null,null,"Tool for Assessing Progress towards Elimination of Rabies (TAPER)"]
[null,null,"Surveillance Webtools (SURVTOOLS) ",null,"Africa CDC Event Based Surveillance Framework"]
[null,null,"Sustainable Funding Strategy for One Health Toolkit",null,"ECDC Data quality monitoring and surveillance system evaluation - A handbook of methods and applications ",null,"I-7 Surveillance Data sharing"]
[null,null,"WHO CHOICE",null,"Framework for Enhancing Anthrax Prevention and Control "]
[null,null,null,null,"Georgetown University International Health Regulation (IHR) Costing Tool",null,"Afyadata"]
[null,null,"A-6 Laboratory capacity assessment",null,"Guidelines for designing\nanimal disease\nsurveillance plans\n",null,"District Health Information Software 2 (DHIS2) "]
[null,null,null,null,"Integrated Disease Surveillance and Response (IDSR)",null,"Electronic Integrated Disease Surveillance System (EIDSS)"]
[null,null,"Evaluation of Collaboration in a multisectoral Surveillance system (EcoSur)",null,null,null,"Integrated Disease Surveillance and Response (IDSR)"]
[null,null,"FAO Laboratory Mapping Tool (LMT)",null,"PL-6 Workforce planning",null,"Preparedness and Response Planning Toolkit"]
[null,null,"Laboratory Infrastructure Network Analysis (LINA)",null,null,null,"Rabies Exposure and Case Tracker Application (React)"]
[null,null,"Surveillance network assessment tool (OASIS)",null,"Integrated Disease Surveillance and Response (IDSR)",null,"The Epidemic Intelligence from Open Sources (EIOS)"]
[null,null,"WHO Laboratory Assessment Tool",null,"Global Dog Rabies Elimination Pathway (GDREP)",null,"The Suite for Automated Global Electronic bioSurveillance (SAGES)"]
[null,null,"Framework for Enhancing Anthrax Prevention and Control ",null,"Laboratory Leadership Competency Framework (GLLP)"]
[null,null,"Integrated Disease Surveillance and Response (IDSR)",null,null,null,"I-8 Communication and Information Sharing"]
[null,null,"Joint External Evaluation tool (JEE ) ",null,"PL-7 Legal frameworks planning"]
[null,null,"The One Health Systems Assessment for Priority Zoonoses (OH-SAPZ)",null,null,null,"Afyadata"]
[null,null,"OIE PVS Laboratory Mission",null,"Cross Border Multisectoral Communication and Coordination Strategies",null,"District Health Information Software 2 (DHIS2) "]
[null,null,"Preparedness and Response Planning Toolkit",null,"Global Dog Rabies Elimination Pathway (GDREP)",null,"EMPRES Global Animal Disease Information System (EMPRES-i)"]
[null,null,"Staged Tool for the Elimination of Brucellosis (STEB)",null,"Methodology to analyse AMR-relevant legislation in the food and agriculture sector",null,"Integrated Disease Surveillance and Response (IDSR)"]
[null,null,"Stepwise Approach towards Rabies Elimination (SARE)",null,"OIE PVS Gap Analysis",null,"Rabies Exposure and Case Tracker Application (React)"]
[null,null,null,null,"One-stop border post sourcebook",null,"The Epidemic Intelligence from Open Sources (EIOS)"]
[null,null,"A-7 Laboratory transport and interpretation",null,"Stepwise Approach towards Rabies Elimination (SARE)"]
[null,null,null,null,null,null,"I-9 International notification requirements"]
[null,null,"APHL Laboratory Informatics Assessment Tool",null,"PL-8 Coordinated communication planning"]
[null,null,"Evaluation of Collaboration in a multisectoral Surveillance system (EcoSur)",null,null,null,"Event Mobile Application (EMAi)"]
[null,null,"Laboratory Infrastructure Network Analysis (LINA)",null,"Cross Border Multisectoral Communication and Coordination Strategies",null,"Integrated Disease Surveillance and Response (IDSR)"]
[null,null,"OIE PVS Gap Analysis",null,"One Health European Joint Program (OHEJP) Glossary",null,"Joint External Evaluation tool (JEE ) "]
[null,null,"Preparedness and Response Planning Toolkit",null,"One Health Surveillance (OHS) Codex ",null,"OIE WAHIS Alert application"]
[null,null,"Surveillance network assessment tool (OASIS)",null,"Preparedness and Response Planning Toolkit"]
[null,null,null,null,null,null,"I-10 Coordinated Data Vizualisation and Analysis"]
[null,null,"A-8 Workforce Assessment"]
[null,null,null,null,null,null,"Afyadata"]
[null,null,"Africa CDC Event Based Surveillance Framework",null,null,null,"District Health Information Software 2 (DHIS2) "]
[null,null,"Border Health Capacity Discussion Guide (BHCDG)",null,null,null,"Electronic Integrated Disease Surveillance System (EIDSS)"]
[null,null,"Competency Guidelines for Public Health Laboratory Professionals: CDC and the Association of Public Health Laboratories",null,null,null,"FoodChain-Lab (FCL) "]
[null,null,"Epidemiology Mapping Tool (EMT)",null,null,null,"Integrated Disease Surveillance and Response (IDSR)"]
[null,null,"Evaluation of Collaboration in a multisectoral Surveillance system (EcoSur)",null,null,null,"Laboratory Infrastructure Network Analysis (LINA)"]
[null,null,"Global Dog Rabies Elimination Pathway (GDREP)",null,null,null,"OIE WAHIS Alert application"]
[null,null,"Integrated Disease Surveillance and Response (IDSR)",null,null,null,"Rabies Exposure and Case Tracker Application (React)"]
[null,null,"Laboratory Leadership Competency Framework (GLLP)",null,null,null,"Surveillance Outbreak Response Management and Analysis System (SORMAS)"]
[null,null,"National Action Plan for Health Security (NAPHS)",null,null,null,"The Suite for Automated Global Electronic bioSurveillance (SAGES)"]
[null,null,"One Health Systems Mapping and Analysis Resource Toolkit (OH-SMART)"]
[null,null,"Surveillance network assessment tool (OASIS)"]

{"sheet":"Backbone","index":8,"n_rows":691,"n_cols":20,"rows_kept":691,"cut":false,"hidden":false,"merged":[[674,1,675,1],[1,17,19,17],[1,18,19,18],[2,2,4,2],[5,1,8,1],[6,2,7,2],[9,1,13,1],[10,2,11,2],[12,2,13,2],[1,10,19,10],[1,11,19,11],[1,12,19,12],[1,13,19,13],[1,14,19,14],[1,15,19,15],[30,17,31,17],[30,18,31,18],[20,17,29,17],[20,18,29,18],[20,9,29,9],[20,10,29,10],[20,11,29,11],[20,12,29,12],[20,13,29,13],[20,14,29,14],[50,13,57,13],[50,14,57,14],[50,15,57,15],[30,11,31,11],[30,12,31,12],[30,13,31,13],[30,14,31,14],[41,18,45,18],[30,15,31,15],[30,16,31,16],[30,6,31,6],[30,7,31,7],[30,8,31,8],[30,9,31,9],[30,10,31,10],[43,1,45,1],[33,1,35,1],[50,8,57,8],[46,15,49,15],[46,11,49,11],[46,12,49,12],[46,13,49,13],[46,14,49,14],[37,7,40,7],[37,8,40,8],[32,12,36,12],[32,13,36,13],[32,14,36,14],[32,15,36,15],[32,16,36,16],[32,18,36,18],[50,17,57,17],[50,18,57,18],[37,18,40,18],[37,0,40,0],[37,1,40,1],[37,2,38,2],[37,6,40,6],[32,17,36,17],[32,0,36,0],[32,6,36,6],[32,7,36,7],[32,8,36,8],[32,9,36,9],[32,10,36,10],[32,11,36,11],[37,16,40,16],[37,17,40,17],[39,2,40,2],[46,1,49,1],[46,6,49,6],[46,8,49,8],[41,17,45,17],[60,10,63,10],[60,11,63,11],[60,12,63,12],[60,13,63,13],[60,14,63,14],[58,15,59,15],[58,16,59,16],[1,0,19,0],[1,1,4,1],[1,6,19,6],[1,7,19,7],[1,8,19,8],[1,9,19,9],[14,1,19,1],[20,15,29,15],[20,16,29,16],[1,16,19,16],[20,0,29,0],[20,1,29,1],[20,6,29,6],[20,7,29,7],[20,8,29,8],[30,0,31,0],[41,0,45,0],[41,1,42,1],[41,2,42,2],[41,6,45,6],[41,7,45,7],[50,11,57,11],[50,12,57,12],[46,9,49,9],[46,10,49,10],[64,12,81,12],[64,13,81,13],[64,0,81,0],[64,1,81,1],[64,6,81,6],[64,7,81,7],[79,2,81,2],[64,14,81,14],[60,15,63,15],[60,16,63,16],[60,17,63,17],[60,18,63,18],[46,16,49,16],[46,17,49,17],[46,18,49,18],[52,2,53,2],[58,0,59,0],[58,1,59,1],[58,2,59,2],[58,6,59,6],[58,7,59,7],[58,8,59,8],[50,0,57,0],[50,1,57,1],[50,2,51,2],[50,6,57,6],[50,7,57,7],[46,0,49,0],[47,2,49,2],[50,9,57,9],[50,10,57,10],[60,9,63,9],[82,18,95,18],[85,2,86,2],[87,1,89,1],[87,2,89,2],[90,1,95,1],[82,12,95,12],[82,13,95,13],[82,14,95,14],[82,15,95,15],[82,16,95,16],[82,17,95,17],[58,17,59,17],[58,18,59,18],[60,0,63,0],[60,1,63,1],[60,6,63,6],[60,7,63,7],[60,8,63,8],[58,9,59,9],[58,10,59,10],[58,11,59,11],[58,12,59,12],[58,13,59,13],[58,14,59,14],[64,15,81,15],[64,16,81,16],[64,17,81,17],[64,18,81,18],[64,8,81,8],[64,9,81,9],[64,10,81,10],[64,11,81,11],[99,15,135,15],[99,16,135,16],[99,17,135,17],[99,18,135,18],[100,2,102,2],[128,2,130,2],[99,9,135,9],[99,10,135,10],[99,11,135,11],[99,12,135,12],[99,13,135,13],[99,14,135,14],[96,15,98,15],[96,16,98,16],[96,17,98,17],[96,18,98,18],[99,6,135,6],[99,7,135,7],[99,8,135,8],[96,9,98,9],[96,10,98,10],[96,11,98,11],[96,12,98,12],[96,13,98,13],[96,14,98,14],[96,2,98,2],[96,6,98,6],[96,7,98,7],[96,8,98,8],[105,1,132,1],[106,2,108,2],[109,2,111,2],[112,2,113,2],[114,2,115,2],[116,2,117,2],[118,2,119,2],[120,2,122,2],[123,2,124,2],[125,2,127,2],[99,0,135,0],[99,1,104,1],[154,14,161,14],[82,6,95,6],[82,0,95,0],[82,1,86,1],[82,2,84,2],[133,1,135,1],[82,7,95,7],[82,8,95,8],[82,9,95,9],[82,10,95,10],[82,11,95,11],[96,0,98,0],[96,1,98,1],[154,15,161,15],[154,16,161,16],[154,17,161,17],[154,18,161,18],[154,8,161,8],[154,9,161,9],[154,10,161,10],[154,11,161,11],[154,12,161,12],[154,13,161,13],[152,2,153,2],[154,0,161,0],[154,1,161,1],[154,6,161,6],[154,7,161,7],[137,14,153,14],[137,15,153,15],[137,16,153,16],[137,17,153,17],[137,18,153,18],[137,8,153,8],[137,9,153,9],[137,10,153,10],[137,11,153,11],[137,12,153,12],[137,13,153,13],[137,0,153,0],[137,1,153,1],[137,6,153,6],[137,7,153,7],[162,15,164,15],[162,16,164,16],[162,17,164,17],[162,18,164,18],[165,0,172,0],[165,1,172,1],[165,6,172,6],[165,7,172,7],[162,9,164,9],[162,10,164,10],[162,11,164,11],[162,12,164,12],[162,13,164,13],[162,14,164,14],[162,0,164,0],[162,1,164,1],[162,2,163,2],[162,6,164,6],[162,7,164,7],[162,8,164,8],[173,0,174,0],[173,1,174,1],[173,6,174,6],[173,7,174,7],[165,14,172,14],[165,15,172,15],[165,16,172,16],[165,17,172,17],[165,18,172,18],[165,8,172,8],[165,9,172,9],[165,10,172,10],[165,11,172,11],[165,12,172,12],[165,13,172,13],[175,0,177,0],[175,1,177,1],[175,6,177,6],[175,7,177,7],[175,8,177,8],[175,9,177,9],[173,14,174,14],[173,15,174,15],[173,16,174,16],[173,17,174,17],[173,18,174,18],[173,8,174,8],[173,9,174,9],[173,10,174,10],[173,11,174,11],[173,12,174,12],[173,13,174,13],[178,16,181,16],[178,17,181,17],[178,18,181,18],[179,2,181,2],[183,0,192,0],[183,1,189,1],[183,2,184,2],[183,6,192,6],[183,7,192,7],[178,10,181,10],[178,11,181,11],[178,12,181,12],[178,13,181,13],[178,14,181,14],[178,15,181,15],[175,16,177,16],[175,17,177,17],[175,18,177,18],[178,0,181,0],[178,1,181,1],[178,6,181,6],[178,7,181,7],[178,8,181,8],[178,9,181,9],[175,10,177,10],[175,11,177,11],[175,12,177,12],[175,13,177,13],[175,14,177,14],[175,15,177,15],[185,2,186,2],[187,2,189,2],[190,1,192,1],[190,2,192,2],[194,0,232,0],[194,1,198,1],[194,2,196,2],[218,2,219,2],[220,1,229,1],[183,14,192,14],[183,15,192,15],[183,16,192,16],[183,17,192,17],[183,18,192,18],[194,8,232,8],[194,9,232,9],[194,10,232,10],[194,11,232,11],[183,8,192,8],[183,9,192,9],[183,10,192,10],[183,11,192,11],[183,12,192,12],[183,13,192,13],[230,1,232,1],[194,18,232,18],[197,2,198,2],[199,1,206,1],[199,2,201,2],[203,2,204,2],[207,1,219,1],[209,2,211,2],[212,2,214,2],[215,2,217,2],[194,12,232,12],[194,13,232,13],[194,14,232,14],[194,15,232,15],[194,16,232,16],[194,17,232,17],[194,6,232,6],[194,7,232,7],[233,18,237,18],[235,1,236,1],[235,2,236,2],[238,0,254,0],[238,1,248,1],[238,2,240,2],[238,6,254,6],[238,7,254,7],[238,8,254,8],[233,12,237,12],[233,13,237,13],[233,14,237,14],[233,15,237,15],[233,16,237,16],[233,17,237,17],[233,6,237,6],[233,7,237,7],[233,8,237,8],[233,9,237,9],[233,10,237,10],[233,11,237,11],[233,0,237,0],[233,1,234,1],[233,2,234,2],[255,14,263,14],[255,15,263,15],[255,16,263,16],[255,17,263,17],[255,18,263,18],[255,8,263,8],[255,9,263,9],[255,10,263,10],[255,11,263,11],[255,12,263,12],[255,13,263,13],[249,1,254,1],[249,2,251,2],[252,2,254,2],[255,0,263,0],[255,6,263,6],[255,7,263,7],[256,1,261,1],[238,15,254,15],[238,16,254,16],[238,17,254,17],[238,18,254,18],[241,2,243,2],[244,2,245,2],[246,2,248,2],[238,9,254,9],[238,10,254,10],[238,11,254,11],[238,12,254,12],[238,13,254,13],[238,14,254,14],[267,0,269,0],[267,1,269,1],[267,2,269,2],[267,6,269,6],[267,7,269,7],[264,9,266,9],[264,10,266,10],[264,11,266,11],[264,12,266,12],[264,13,266,13],[264,14,266,14],[264,0,266,0],[264,1,265,1],[264,2,265,2],[264,6,266,6],[264,7,266,7],[264,8,266,8],[267,14,269,14],[267,15,269,15],[267,16,269,16],[267,17,269,17],[267,18,269,18],[267,8,269,8],[267,9,269,9],[267,10,269,10],[267,11,269,11],[267,12,269,12],[267,13,269,13],[264,15,266,15],[264,16,266,16],[264,17,266,17],[264,18,266,18],[270,15,286,15],[270,16,286,16],[270,17,286,17],[270,18,286,18],[273,2,275,2],[276,2,278,2],[270,9,286,9],[270,10,286,10],[270,11,286,11],[270,12,286,12],[270,13,286,13],[270,14,286,14],[270,0,286,0],[270,1,284,1],[270,2,272,2],[270,6,286,6],[270,7,286,7],[270,8,286,8],[285,1,286,1],[287,15,289,15],[287,16,289,16],[287,17,289,17],[287,18,289,18],[290,0,294,0],[290,6,294,6],[290,7,294,7],[290,8,294,8],[290,9,294,9],[287,9,289,9],[287,10,289,10],[287,11,289,11],[287,12,289,12],[287,13,289,13],[287,14,289,14],[287,0,289,0],[287,1,289,1],[287,2,289,2],[287,6,289,6],[287,7,289,7],[287,8,289,8],[295,16,301,16],[295,17,301,17],[295,18,301,18],[296,1,301,1],[295,10,301,10],[295,11,301,11],[295,12,301,12],[295,13,301,13],[295,14,301,14],[295,15,301,15],[290,16,294,16],[290,17,294,17],[290,18,294,18],[291,1,294,1],[295,0,301,0],[295,6,301,6],[295,7,301,7],[295,8,301,8],[295,9,301,9],[290,10,294,10],[290,11,294,11],[290,12,294,12],[290,13,294,13],[290,14,294,14],[290,15,294,15],[331,0,344,0],[331,6,344,6],[331,7,344,7],[331,8,344,8],[331,9,344,9],[341,2,342,2],[343,1,344,1],[302,16,330,16],[302,17,330,17],[302,18,330,18],[305,1,322,1],[306,2,308,2],[309,2,311,2],[312,2,313,2],[314,2,315,2],[316,2,317,2],[302,10,330,10],[302,11,330,11],[302,12,330,12],[302,13,330,13],[302,14,330,14],[302,15,330,15],[302,0,330,0],[302,1,304,1],[302,6,330,6],[302,7,330,7],[302,8,330,8],[302,9,330,9],[318,2,319,2],[321,2,322,2],[331,16,344,16],[331,17,344,17],[331,18,344,18],[332,1,340,1],[332,2,333,2],[334,2,335,2],[336,2,338,2],[339,2,340,2],[341,1,342,1],[331,10,344,10],[331,11,344,11],[331,12,344,12],[331,13,344,13],[331,14,344,14],[331,15,344,15],[328,2,330,2],[323,1,330,1],[325,2,327,2],[350,17,365,17],[350,18,365,18],[351,2,353,2],[354,2,355,2],[356,2,357,2],[358,2,360,2],[361,2,363,2],[345,16,349,16],[345,17,349,17],[345,18,349,18],[346,2,348,2],[350,0,365,0],[350,1,365,1],[350,6,365,6],[345,10,349,10],[345,11,349,11],[345,12,349,12],[345,13,349,13],[345,14,349,14],[345,15,349,15],[345,0,349,0],[345,1,349,1],[345,6,349,6],[345,7,349,7],[345,8,349,8],[345,9,349,9],[364,2,365,2],[382,0,393,0],[382,6,393,6],[382,7,393,7],[382,8,393,8],[382,9,393,9],[366,14,381,14],[366,15,381,15],[366,0,381,0],[366,16,381,16],[366,17,381,17],[366,18,381,18],[366,8,381,8],[366,9,381,9],[366,10,381,10],[366,11,381,11],[366,12,381,12],[366,13,381,13],[382,16,393,16],[382,17,393,17],[382,18,393,18],[383,1,390,1],[383,2,385,2],[386,2,388,2],[389,2,390,2],[391,1,393,1],[372,2,374,2],[376,2,378,2],[382,15,393,15],[379,2,381,2],[382,10,393,10],[382,11,393,11],[382,12,393,12],[382,13,393,13],[382,14,393,14],[366,1,371,1],[366,2,368,2],[366,6,378,6],[366,7,381,7],[369,2,371,2],[372,1,381,1],[395,16,398,16],[395,17,398,17],[395,18,398,18],[397,2,398,2],[399,1,402,1],[395,10,398,10],[395,11,398,11],[395,12,398,12],[395,13,398,13],[395,14,398,14],[395,15,398,15],[395,0,398,0],[395,1,398,1],[395,6,398,6],[395,7,398,7],[395,8,398,8],[395,9,398,9],[399,18,411,18],[399,0,411,0],[400,2,402,2],[403,1,410,1],[403,2,404,2],[405,2,407,2],[409,2,410,2],[399,6,411,6],[399,7,411,7],[399,8,411,8],[399,9,411,9],[399,10,411,10],[399,11,411,11],[414,15,416,15],[414,16,416,16],[414,17,416,17],[414,18,416,18],[419,0,425,0],[419,1,423,1],[419,2,420,2],[419,6,425,6],[419,7,425,7],[414,9,416,9],[414,10,416,10],[414,11,416,11],[414,12,416,12],[414,13,416,13],[414,14,416,14],[414,0,416,0],[414,1,416,1],[414,2,416,2],[414,6,416,6],[414,7,416,7],[414,8,416,8],[426,14,428,14],[426,15,428,15],[426,16,428,16],[426,17,428,17],[426,18,428,18],[426,8,428,8],[426,9,428,9],[426,10,428,10],[426,11,428,11],[426,12,428,12],[426,13,428,13],[424,1,425,1],[426,0,428,0],[426,1,428,1],[426,2,428,2],[426,6,428,6],[426,7,428,7],[419,14,425,14],[419,15,425,15],[419,16,425,16],[419,17,425,17],[419,18,425,18],[419,8,425,8],[419,9,425,9],[419,10,425,10],[419,11,425,11],[419,12,425,12],[419,13,425,13],[429,15,431,15],[429,16,431,16],[429,17,431,17],[429,18,431,18],[432,0,433,0],[432,1,433,1],[432,6,433,6],[432,7,433,7],[432,8,433,8],[429,9,431,9],[429,10,431,10],[429,11,431,11],[429,12,431,12],[429,13,431,13],[429,14,431,14],[429,0,431,0],[429,1,430,1],[429,6,431,6],[429,7,431,7],[429,8,431,8],[429,2,430,2],[436,0,443,0],[436,1,438,1],[436,2,438,2],[436,6,443,6],[436,7,443,7],[436,8,443,8],[434,10,435,10],[434,11,435,11],[434,12,435,12],[434,13,435,13],[434,14,435,14],[434,15,435,15],[432,15,433,15],[432,16,433,16],[432,17,433,17],[432,18,433,18],[434,0,435,0],[434,6,435,6],[434,7,435,7],[434,8,435,8],[434,9,435,9],[432,9,433,9],[432,10,433,10],[432,11,433,11],[432,12,433,12],[432,13,433,13],[432,14,433,14],[436,15,443,15],[436,16,443,16],[436,17,443,17],[436,18,443,18],[439,1,442,1],[439,2,440,2],[436,9,443,9],[436,10,443,10],[436,11,443,11],[436,12,443,12],[436,13,443,13],[436,14,443,14],[434,16,435,16],[434,17,435,17],[434,18,435,18],[446,0,448,0],[446,1,447,1],[446,2,447,2],[446,6,448,6],[446,7,448,7],[444,9,445,9],[444,10,445,10],[444,11,445,11],[444,12,445,12],[444,13,445,13],[444,14,445,14],[444,0,445,0],[444,1,445,1],[444,2,445,2],[444,6,445,6],[444,7,445,7],[444,8,445,8],[446,14,448,14],[446,15,448,15],[446,16,448,16],[446,17,448,17],[446,18,448,18],[446,8,448,8],[446,9,448,9],[446,10,448,10],[446,11,448,11],[446,12,448,12],[446,13,448,13],[444,15,445,15],[444,16,445,16],[444,17,445,17],[444,18,445,18],[449,15,451,15],[449,16,451,16],[449,17,451,17],[449,18,451,18],[452,0,480,0],[452,1,465,1],[452,2,453,2],[452,6,480,6],[452,7,480,7],[449,9,451,9],[449,10,451,10],[449,11,451,11],[449,12,451,12],[449,13,451,13],[449,14,451,14],[449,0,451,0],[449,1,451,1],[449,6,451,6],[449,7,451,7],[449,8,451,8],[454,2,456,2],[457,2,458,2],[466,1,480,1],[466,2,468,2],[469,2,471,2],[472,2,474,2],[475,2,477,2],[478,2,480,2],[452,14,480,14],[488,9,508,9],[488,10,508,10],[488,11,508,11],[488,12,508,12],[488,13,508,13],[488,14,508,14],[488,0,508,0],[488,1,504,1],[488,6,508,6],[488,7,508,7],[488,8,508,8],[505,1,508,1],[452,15,480,15],[452,16,480,16],[452,17,480,17],[452,18,480,18],[452,8,480,8],[452,9,480,9],[452,10,480,10],[452,11,480,11],[452,12,480,12],[452,13,480,13],[482,15,487,15],[482,16,487,16],[482,17,487,17],[482,18,487,18],[484,2,485,2],[482,9,487,9],[482,10,487,10],[461,2,462,2],[463,2,465,2],[509,15,515,15],[509,0,515,0],[509,1,512,1],[509,6,515,6],[509,7,515,7],[509,8,515,8],[509,9,515,9],[482,0,487,0],[482,1,485,1],[482,2,483,2],[482,6,487,6],[482,7,487,7],[482,8,487,8],[488,15,508,15],[488,16,508,16],[488,17,508,17],[488,18,508,18],[482,11,487,11],[482,12,487,12],[482,13,487,13],[482,14,487,14],[509,18,515,18],[513,1,515,1],[521,14,529,14],[521,15,529,15],[521,0,529,0],[521,1,529,1],[521,6,529,6],[521,7,529,7],[521,8,529,8],[521,9,529,9],[516,18,520,18],[519,1,520,1],[519,2,520,2],[516,9,520,9],[516,10,520,10],[516,11,520,11],[516,12,520,12],[516,13,520,13],[516,14,520,14],[516,0,520,0],[516,1,518,1],[516,2,518,2],[516,6,520,6],[516,7,520,7],[516,8,520,8],[521,16,529,16],[521,17,529,17],[516,16,520,16],[516,17,520,17],[521,18,529,18],[521,12,529,12],[521,13,529,13],[516,15,520,15],[521,10,529,10],[551,0,555,0],[551,1,554,1],[551,6,555,6],[551,7,555,7],[539,1,550,1],[539,6,550,6],[539,7,550,7],[539,8,550,8],[530,18,538,18],[530,10,538,10],[530,11,538,11],[530,12,538,12],[530,13,538,13],[530,14,538,14],[530,15,538,15],[530,0,538,0],[530,1,538,1],[530,6,538,6],[530,7,538,7],[530,8,538,8],[530,9,538,9],[539,18,550,18],[539,14,550,14],[560,15,565,15],[560,16,565,16],[560,17,565,17],[560,10,565,10],[560,14,565,14],[570,8,572,8],[551,16,555,16],[551,17,555,17],[551,18,555,18],[552,2,554,2],[556,1,559,1],[556,6,559,6],[556,7,559,7],[556,8,559,8],[551,10,555,10],[551,11,555,11],[551,12,555,12],[551,13,555,13],[551,14,555,14],[551,15,555,15],[575,1,576,1],[570,10,572,10],[566,15,569,15],[570,11,572,11],[570,12,572,12],[566,16,569,16],[570,7,572,7],[566,17,569,17],[570,9,572,9],[556,18,559,18],[560,0,565,0],[560,1,565,1],[560,6,565,6],[560,7,565,7],[560,8,565,8],[556,9,559,9],[556,10,559,10],[556,11,559,11],[556,12,559,12]],"merged_total":1322,"flags":["merged_cut"]}
["RESOURCE NAME","Category","Location in Tool","Description","Level\nL1-Level 1\nL2-Level 2\nL3-Level 3","Best Fit for purpose or Other relevant resources","Status","Accessibility","Language","Ease of Use","Flexibility","Data Needs","Data Analysis","Acceptability","One Health","Impact","SCORE","Resource Type","Resource Generality"]
["Africa CDC Event Based Surveillance Framework","Pre-Planning","PP-1.1","Focal points, \"champions\" or technical working groups have been identified in all participating sectors at the national level for planning the implementation of coordinated surveillance","L1","OTHER ","PASS",8,6,8.1999999999999993,8.3000000000000007,6.1,3.5,4,7,6,0.63222222222222224,"Guidance document","One Health; Generalized "]
[null,null,"PP-3.1","Goal(s), roles, and responsibilities of all participating sectors of the coordinated surveillance system are agreed upon at the national level","L1","OTHER "]
[null,null,null,"Goal(s), roles, and responsibilities of all participating sectors of the coordinated surveillance system are agreed upon and expanded to include all country levels","L2","OTHER "]
[null,null,null,"Goal(s), roles and responsibilities of the coordinated surveillance system have been re-evaluated to reflect the current needs of the coordinated surveillance system ","L3","OTHER "]
[null,"Assessment","A-2.1","The interlinkages between current prioritized zoonotic disease surveillance systems have been assessed among sectors","L1","OTHER "]
[null,null,"A-3.2","Existing surveillance plans (including case definitions, protocols, and Standard Operating Procedures) relevant to the coordinated surveillance system have been assessed for potential consolidation and linking at the national level","L1","OTHER "]
[null,null,null,"Existing surveillance plans (including case definitions, protocols, and Standard Operating Procedures) relevant to the coordinated surveillance system have been assessed for potential consolidation and linking at all country levels","L3","OTHER "]
[null,null,"A-6.1","Workforce assessment have been conducted to identify current workforce requirements, competencies, needs and gaps at all country levels","L3","OTHER "]
[null,"Planning","PLG","N/A","N/A","N/A"]
[null,null,"PL-3.1","A multi-sectoral review of the national frameworks and strategic plans related to the coordinated surveillance system has occurred, for the purposes of planning.","L1","OTHER "]
[null,null,null,"Frameworks and strategic plans for the coordinated surveillance system have been consolidated and linked based on assessment at all country levels","L2","OTHER "]
[null,null,"PL-3.2","A multi-sectoral review of the national surveillance plans (including action/operational plans, case definitions, protocols, and Standard Operating Procedures) related to the coordinated surveillance system has occurred, for the purposes of planning.","L1","OTHER "]
[null,null,null,"Surveillance plans (including action/operational plans, case definitions, protocols, and Standard Operating Procedures) for the coordinated surveillance system have been consolidated and linked for the purposes of data sharing at all country levels","L2","OTHER "]
[null,"Implementation","I-2.1","Focal points or technical working groups meet on an ad hoc basis","L1","OTHER "]
[null,null,"I-2.1","Focal points or technical working groups meet on a routine basis and to address priority issues as they arise","L2","OTHER "]
[null,null,"I-2.1","Technical working groups regularly review and optimize coordinated surveillance activities ","L3","OTHER "]
[null,null,"I-4.1","The coordinated surveillance system is being piloted in target areas","L1","OTHER "]
[null,null,"I-4.1","The coordinated surveillance system has been expanded to additional areas based on pilot implementations","L2","OTHER "]
[null,null,"I-4.1","The coordinated surveillance system is a nation-wide program","L3","OTHER "]
["AfyaData","Implementation","I-3.1 \n","There is a mechanism to share data between sectors at the national level","L1","BEST FIT","PASS",7.3,10,8.1999999999999993,7.3,7.6,8.8000000000000007,5.5,7.6,7,{"$f":"SUM(H21:P21)/90","v":0.77000000000000013},"Hardware or Software","One Health; Generalized "]
[null,null,"I-3.1 \n","There is a mechanism to share data between sectors at all country levels","L2","BEST FIT",null,7.3,10,8.1999999999999993,7.3,7.6,8.8000000000000007,5.5,7.6,7,0.77000000000000013]
[null,null,"I-3.2\n","There is a structure and location to store and maintain data from multiple sectors at the national level.","L1","BEST FIT",null,7.3,10,8.1999999999999993,7.3,7.6,8.8000000000000007,5.5,7.6,7,0.77000000000000013]
[null,null,"I-3.2\n","There is a structure and location to store and maintain data from multiple sectors at all country levels","L2","BEST FIT",null,7.3,10,8.1999999999999993,7.3,7.6,8.8000000000000007,5.5,7.6,7,0.77000000000000013]
[null,null,"I-4.1","The coordinated surveillance system is being piloted in target areas","L1","OTHER ",null,7.3,10,8.1999999999999993,7.3,7.6,8.8000000000000007,5.5,7.6,7,0.77000000000000013]
[null,null,"I-4.1","The coordinated surveillance system has been expanded to additional areas based on pilot implementations","L2","OTHER ",null,7.3,10,8.1999999999999993,7.3,7.6,8.8000000000000007,5.5,7.6,7,0.77000000000000013]
[null,null,"I-4.2","Data are shared informally or formally on an ad hoc basis at the national level","L1","BEST FIT",null,7.3,10,8.1999999999999993,7.3,7.6,8.8000000000000007,5.5,7.6,7,0.77000000000000013]
[null,null,"I-4.2","Data are shared informally or formally in a routine and timely fashion at all country levels","L2","BEST FIT",null,7.3,10,8.1999999999999993,7.3,7.6,8.8000000000000007,5.5,7.6,7,0.77000000000000013]
[null,null,"I-5.1","There is ad hoc information sharing with relevant stakeholders","L1","BEST FIT",null,7.3,10,8.1999999999999993,7.3,7.6,8.8000000000000007,5.5,7.6,7,0.77000000000000013]
[null,null,"I-5.3","Coordinated surveillance data are used to generate outputs (e.g. figures, graphics, reports or bulletins) that are shared at the national level","L1","BEST FIT",null,7.3,10,8.1999999999999993,7.3,7.6,8.8000000000000007,5.5,7.6,7,0.77000000000000013]
["Integrated Surveillance for Antimicrobial Resistance (AGISAR)","Planning","PLG","N/A","N/A","N/A","PASS",8.5,6,5.3,3,6.8,2,5.5,10,5,0.5788888888888889,"Guidance document","One Health; Disease/Threat Specific "]
[null,"Implementation","IG","N/A","N/A","N/A"]
["Framework for Enhancing Anthrax Prevention and Control ","Assessment","A-5.1","Laboratory assessments have been used to identify qualified national or international reference laboratories that can carry out testing to support the coordinated surveillance activities","L1","OTHER ","PASS",9.1,10,8.6,4.7,9.1999999999999993,2,6.3,4.3,6,{"$f":"SUM(H33:P33)/90","v":0.66888888888888887},"Guidance document","One Health; Disease/Threat Specific "]
[null,"Planning","PL-2.1","The common data elements are identified and agreed upon within each participating sector to meet the common analytical goals of the coordinated surveillance system at the national level","L1","OTHER "]
[null,null,"PL-3.1","A multi-sectoral review of the national frameworks and strategic plans related to the coordinated surveillance system has occurred, for the purposes of planning.","L1","OTHER "]
[null,null,"PL-3.2","A multi-sectoral review of the national surveillance plans (including action/operational plans, case definitions, protocols, and Standard Operating Procedures) related to the coordinated surveillance system has occurred, for the purposes of planning.","L1","OTHER "]
[null,"Monitoring and Evaluation","ME-3.1","There is a data quality management methodology","L1","OTHER "]
["APHL Laboratory Informatics Assessment Tool","Assessment","A-3.4","Basic infrastructure mapping exercises (as defined in TZG CH 4.1) have been used to describe the structure and linkages within and between the sectors ","L1","OTHER ","1 EVAL",8.4,6,8,10,6,4.5,2,2.8,6,{"$f":"SUM(H38:P38)/90","v":0.59666666666666657},"Guided/Facilitated tool or process","Sector Specific; Generalized"]
[null,null,null,"Infrastructure mapping has been used to describe the majority of mapping areas (as described in TZG CH 4.1)","L2","OTHER ",null,null,null,8,10,6,4.5,2,2.8,6,0.43666666666666665]
[null,null,"A-5.2","Laboratory supply, transport chains and results interpretation have been assessed for harmonized between participating sectors at the national level","L1","OTHER ",null,null,null,8,10,6,4.5,2,2.8,6,0.43666666666666665]
[null,null,null,"Laboratory supply, transport chains and results interpretation between participating sectors have been assessed for harmonized at all country levels","L2","OTHER ",null,null,null,8,10,6,4.5,2,2.8,6,0.43666666666666665]
["APHL Informatics  Self-Assessment Tool","Assessment","A-3.4","Basic infrastructure mapping exercises (as defined in TZG CH 4.1) have been used to describe the structure and linkages within and between the sectors ","L1","OTHER ","PASS",9.1,6.7,8.3000000000000007,8.4,8.1,8.5,5,6.1,4.3,0.71666666666666667,"Guidance document","Sector Specific; Generalized"]
[null,null,null,"Infrastructure mapping has been used to describe the majority of mapping areas (as described in TZG CH 4.1)","L2","OTHER ",null,null,6.7,8.3000000000000007,8.4,8.1,8.5,5,6.1,4.3,0.61555555555555552]
[null,"Implementation","I-3.3\n","There are data privacy and security measures in place to protect coordinated surveillance data at the national level","L1","OTHER ",null,null,6.7,8.3000000000000007,8.4,8.1,8.5,5,6.1,4.3,0.61555555555555552]
[null,null,"I-3.3\n","There are data privacy and security measures in place to protect coordinated surveillance data at all country levels","L2","OTHER ",null,null,6.7,8.3000000000000007,8.4,8.1,8.5,5,6.1,4.3,0.61555555555555552]
[null,null,"I-3.3\n","There are data privacy and security measures in place to protect coordinated surveillance data that has been assessed and determined to meet the objectives of the coordinated surveillance system","L3","OTHER ",null,null,6.7,8.3000000000000007,8.4,8.1,8.5,5,6.1,4.3,0.61555555555555552]
["FAO Assessment Tool for Laboratories and Antimicrobial Resistance Surveillance Systems (ATLASS)","Assessment","AG","N/A","N/A","N/A","PASS",7.2,10,5.6,7.3,7.3,5.2,8.6999999999999993,5.6,7,{"$f":"SUM(H47:P47)/90","v":0.71},"Guided/Facilitated tool or process","One Health; Disease/Threat Specific "]
[null,null,"A-2.1","The interlinkages between current prioritized zoonotic disease surveillance systems have been assessed among sectors","L1","OTHER "]
[null,null,null,"The interlinkages between current surveillance systems have been assessed among sectors and at all country levels","L2","OTHER "]
[null,null,null,"The interlinkages between current surveillance systems have been assessed and determined to meet the objectives of the coordinated surveillance system.","L3","OTHER "]
["Border Health Capacity Discussion Guide (BHCDG)","Assessment","A-1.1","Stakeholders working in surveillance, epidemiology, laboratory, and information sharing have been identified","L1","BEST FIT","PASS",8.8000000000000007,6.7,7.6,9,7,3.8,8,8.4,6,{"$f":"SUM(H51:P58)/90","v":0.72555555555555551},"Guidance document","One Health; Disease/Threat Specific "]
[null,null,null,"Stakeholder analysis has been used to identify participants at all country levels ","L2","BEST FIT"]
[null,null,"A-2.1","The interlinkages between current prioritized zoonotic disease surveillance systems have been assessed among sectors","L1","OTHER "]
[null,null,null,"The interlinkages between current surveillance systems have been assessed among sectors and at all country levels","L2","OTHER "]
[null,null,"A-3.1","Frameworks and strategic plans relevant to the coordinated surveillance system have been assessed for potential consolidation and linking at the national level","L1","BEST FIT"]
[null,null,"A-3.2","Existing surveillance plans (including case definitions, protocols, and Standard Operating Procedures) relevant to the coordinated surveillance system have been assessed for potential consolidation and linking at the national level","L1","BEST FIT"]
[null,null,"A-3.3","Existing action/operational plans relevant to the coordinated surveillance system have been assessed for potential consolidation and linking at the national level","L1","OTHER "]
[null,null,"A-6.1","Workforce assessments have been conducted to identify current workforce requirements, competencies, needs and gaps at the national level","L1","BEST FIT"]
["Competency Guidelines for Public Health Laboratory Professionals: CDC and the Association of Public Health Laboratories","Assessment","A-6.1","Workforce assessments have been conducted to identify current workforce requirements, competencies, needs and gaps at the national level","L1","OTHER ","PASS",9,7.8,9.1999999999999993,9.1,6.3,3,2,7.8,4,{"$f":"SUM(H59:P59)/90","v":0.64666666666666661},"Guidance document","Sector Specific; Generalized"]
[null,null,null,"Workforce assessment have been conducted to identify current workforce requirements, competencies, needs and gaps at all country levels","L3","OTHER "]
["Cross Border Multisectoral Communication and Coordination Strategies","Planning","PL-2.1","The common data elements are standardized among participating sectors based on the common analytical goals of the coordinated surveillance system and adhere to international data standards","L3","OTHER ",null,8.9,6,7.6,9,5.6,3.5,4,8.3000000000000007,8,{"$f":"SUM(H61:P61)/90","v":0.67666666666666675},"Guided/Facilitated tool or process","One Health; Generalized "]
[null,null,"PL-3.1","Revised frameworks and strategic plans for the coordinated surveillance system have been aligned with international standards and recommendations. \n","L3","OTHER "]
[null,null,"PL-6.1","Revised legal frameworks for the coordinated surveillance system have been aligned with international standards and recommendations. ","L3","BEST FIT"]
[null,null,"PL-7.1","There is a communications strategy and/or communications plan (which includes terminology and messaging) that informs communication with stakeholders and the public for the coordinated surveillance system","L3","BEST FIT"]
["District Health Information Software 2 (DHIS2) ","Implementation","I-3.1 \n","There is a mechanism to share data between sectors at the national level","L1","BEST FIT","PASS",8.8000000000000007,8.6999999999999993,8,8.6999999999999993,9.3000000000000007,9,10,7.8,7,{"$f":"SUM(H65:P65)/90","v":0.85888888888888881},"Hardware or Software","Sector Specific; Generalized"]
[null,null,"I-3.1 \n","There is a mechanism to share data between sectors at all country levels","L2","BEST FIT"]
[null,null,"I-3.1 \n","There is a mechanism to share data that is accessible, functional, and usable by all participating sectors","L3","OTHER "]
[null,null,"I-3.2\n","There is a structure and location to store and maintain data from multiple sectors at the national level.","L1","OTHER "]
[null,null,"I-3.2\n","There is a structure and location to store and maintain data from multiple sectors at all country levels","L2","OTHER "]
[null,null,"I-3.2\n","There is a structure and location to store and maintain data from all relevant sectors conducting surveillance that is accessible, functional, and usable by all participating sectors","L3","OTHER "]
[null,null,"I-3.3\n","Coordinated surveillance data are protected by the data privacy and security measures in place at the national level ","L1","BEST FIT"]
[null,null,"I-3.3\n","Coordinated surveillance data are protected by the data privacy and security measures in place at all country levels","L2","BEST FIT"]
[null,null,"I-3.3\n","Coordinated surveillance data that have been assessed and determined to meet the objectives of the coordinated surveillance system are protected by the data privacy and security measures in place ","L3","BEST FIT"]
[null,null,"I-4.2","Data are shared informally or formally on an ad hoc basis at the national level","L1","BEST FIT"]
[null,null,"I-4.2","Data are shared informally or formally in a routine and timely fashion at all country levels","L2","BEST FIT"]
[null,null,"I-4.2","Data are shared systematically in a routine and timely manner between all participating sectors through an interoperable or joint platform(s) ","L3","BEST FIT"]
[null,null,"I-5.1 ","There is ad hoc information sharing with relevant stakeholders","L1","BEST FIT"]
[null,null,"I-5.1 ","There is routine information sharing with relevant stakeholders","L2","BEST FIT"]
[null,null,"I-5.1 ","There is routine and timely information sharing with relevant stakeholders including cross-border, regional and international entities","L3","OTHER "]
[null,null,"I-5.3","Coordinated surveillance data are used to generate outputs (e.g. figures, graphics, reports or bulletins) that are shared at the national level","L1","BEST FIT"]
[null,null,null,"Coordinated surveillance data are used to generate outputs (e.g. figures, graphics, reports or bulletins) that are disseminated to stakeholders at all country levels","L2","BEST FIT"]
[null,null,null,"Coordinated surveillance data, including M&E reports, are used to generate outputs that inform, response, policy and programming","L3","BEST FIT"]
["ECDC Data quality monitoring and surveillance system evaluation - A handbook of methods and applications ","Assessment","A-2.1","The interlinkages between current prioritized zoonotic disease surveillance systems have been assessed among sectors","L1","OTHER ","PASS",8.1999999999999993,6,6.4,7.3,7.7,4.5,5.3,6.2,8,{"$f":"SUM(H83:P83)/90","v":0.66222222222222227},"Guidance document","Sector Specific; Generalized"]
[null,null,null,"The interlinkages between current surveillance systems have been assessed among sectors and at all country levels","L2","OTHER "]
[null,null,null,"The interlinkages between current surveillance systems have been assessed and determined to meet the objectives of the coordinated surveillance system.","L3","OTHER "]
[null,null,"A-3.2","Existing surveillance plans (including case definitions, protocols, and Standard Operating Procedures) relevant to the coordinated surveillance system have been assessed for potential consolidation and linking at the national level","L1","OTHER "]
[null,null,null,"Existing surveillance plans (including case definitions, protocols, and Standard Operating Procedures) relevant to the coordinated surveillance system have been assessed for potential consolidation and linking at all country levels","L3","OTHER "]
[null,"Planning","PL-3.2","A multi-sectoral review of the national surveillance plans (including action/operational plans, case definitions, protocols, and Standard Operating Procedures) related to the coordinated surveillance system has occurred, for the purposes of planning.","L1","OTHER "]
[null,null,null,"Surveillance plans (including action/operational plans, case definitions, protocols, and Standard Operating Procedures) for the coordinated surveillance system have been consolidated and linked for the purposes of data sharing at all country levels","L2","OTHER "]
[null,null,null,"Revised surveillance plans (including action/operational plans, case definitions, protocols, and Standard Operating Procedures) for the coordinated surveillance system have been aligned with international guidelines and recommendations.","L3","OTHER "]
[null,"Monitoring and Evaluation","ME-2.1","There is a monitoring and evaluation plan that meets the objectives of the coordinated surveillance system","L1","OTHER "]
[null,null,"ME-2.1","The monitoring and evaluation plan is implemented to track performance and progress of the coordinated surveillance system","L2","OTHER "]
[null,null,"ME-2.1","Results of monitoring and evaluation iteratively improve or expand the coordinated surveillance system and align with international standards and recommendations ","L3","OTHER "]
[null,null,"ME-3.1","There is a data quality management methodology","L1","BEST FIT"]
[null,null,"ME-3.1","The data quality has been tested and determined to meet the objectives of the coordinated surveillance system ","L2","OTHER "]
[null,null,"ME-3.1","The data quality aligns with international standards and recommendations ","L3","OTHER "]
["ECDC tool for the prioritisation of infectious disease threats","Pre-Planning","PP-2.1","A list of prioritized zoonotic diseases exists for inclusion in a coordinated surveillance system","L1","BEST FIT","PASS",9.8000000000000007,10,8,8.6999999999999993,7.1,4.5,8,8.5,9,{"$f":"SUM(H97:P97)/90","v":0.81777777777777771},"Self-assessment tool","Sector Specific; Generalized"]
[null,null,null,"A list of zoonotic diseases is broadly distributed to the subnational and community levels","L2","BEST FIT"]
[null,null,null,"A list of zoonotic diseases is developed using a multisectoral, One Health approach. Such an approach would involve all relevant sectors in an evidence-based, transparent, repeatable prioritization process.","L3","BEST FIT"]
["Evaluation of Collaboration in a multisectoral Surveillance system (EcoSur)","Pre-Planning","PPG","N/A","N/A","N/A","PASS",8.3000000000000007,6,8.5,7.8,8.3000000000000007,6.7,3.3,9.1,4.7,{"$f":"SUM(H100:P100)/90","v":0.69666666666666677},"Guided/Facilitated tool or process","One Health; Generalized"]
[null,null,"PP-1.1","Focal points, \"champions\" or technical working groups have been identified in all participating sectors at the national level for planning the implementation of coordinated surveillance","L1","OTHER "]
[null,null,null,"Focal points, \"champions\" or technical working groups have been identified in all participating sectors and at all country levels for planning the implementation of coordinated surveillance","L2","OTHER "]
[null,null,null,"Focal points, \"champions\" or technical working groups (including identified focal points or \"champions\") for coordinated surveillance have been institutionalized (e.g. through a governing body such as an MCM)   ","L3","OTHER "]
[null,null,"PP-3.1","Goal(s), roles, and responsibilities of all participating sectors of the coordinated surveillance system are agreed upon and expanded to include all country levels","L2","BEST FIT"]
[null,null,"PP-3.1","Goal(s), roles and responsibilities of the coordinated surveillance system have been re-evaluated to reflect the current needs of the coordinated surveillance system ","L3","BEST FIT"]
[null,"Assessment","AG","N/A","N/A","N/A"]
[null,null,"A-1.1","Stakeholders working in surveillance, epidemiology, laboratory, and information sharing have been identified","L1","OTHER "]
[null,null,null,"Stakeholder analysis has been used to identify participants at all country levels ","L2","OTHER "]
[null,null,null,"Roles and responsibilities of stakeholders have been institutionalized and adopted in policy","L3","OTHER "]
[null,null,"A-2.1","The interlinkages between current prioritized zoonotic disease surveillance systems have been assessed among sectors","L1","OTHER "]
[null,null,null,"The interlinkages between current surveillance systems have been assessed among sectors and at all country levels","L2","OTHER "]
[null,null,null,"The interlinkages between current surveillance systems have been assessed and determined to meet the objectives of the coordinated surveillance system.","L3","OTHER "]
[null,null,"A-2.2","The legal frameworks (rules, policies, guidelines and regulations including international standards) that govern the ethical and privacy standards for surveillance and data sharing have been assessed.","L1","BEST FIT"]
[null,null,null,"The legal frameworks (rules, policies, guidelines and regulations including international standards) that govern the ethical and privacy standards for surveillance and data sharing are assessed at all country levels ","L3","BEST FIT"]
[null,null,"A-3.1","Frameworks and strategic plans relevant to the coordinated surveillance system have been assessed for potential consolidation and linking at the national level","L1","OTHER "]
[null,null,null,"Frameworks and strategic plans relevant to the coordinated surveillance system have been assessed for potential consolidation and linking at all country levels","L3","OTHER "]
[null,null,"A-3.2","Existing surveillance plans (including case definitions, protocols, and Standard Operating Procedures) relevant to the coordinated surveillance system have been assessed for potential consolidation and linking at the national level","L1","OTHER "]
[null,null,null,"Existing surveillance plans (including case definitions, protocols, and Standard Operating Procedures) relevant to the coordinated surveillance system have been assessed for potential consolidation and linking at all country levels","L3","OTHER "]
[null,null,"A-3.3","Existing action/operational plans relevant to the coordinated surveillance system have been assessed for potential consolidation and linking at the national level","L1","OTHER "]
[null,null,null,"Existing action/operational plans relevant to coordinated surveillance system have been assessed for potential consolidation and linking at all country levels","L3","OTHER "]
[null,null,"A-3.4","Basic infrastructure mapping exercises (as defined in TZG CH 4.1) have been used to describe the structure and linkages within and between the sectors ","L1","OTHER "]
[null,null,null,"Infrastructure mapping has been used to describe the majority of mapping areas (as described in TZG CH 4.1)","L2","OTHER "]
[null,null,null,"Comprehensive infrastructure mapping has been used to describe all mapping areas (as described in TZG CH 4.1).","L3","OTHER "]
[null,null,"A-4.1","Economic assessments have been used to determine national financial needs for the coordinated surveillance system ","L1","BEST FIT"]
[null,null,null,"Economic assessments have been used to determine the financial needs at all country levels for the coordinated surveillance system ","L3","BEST FIT"]
[null,null,"A-5.1","Laboratory assessments have been used to identify qualified national or international reference laboratories that can carry out testing to support the coordinated surveillance activities","L1","BEST FIT"]
[null,null,null,"Laboratory assessments have been used to identify qualified laboratories at all levels (including international) that can carry out testing to support the coordinated surveillance activities","L2","BEST FIT"]
[null,null,null,"Laboratory assessments have been used to identify a network of qualified laboratories that can carry out testing to support the coordinated surveillance activities","L3","BEST FIT"]
[null,null,"A-5.2","Laboratory supply, transport chains and results interpretation have been assessed for harmonized between participating sectors at the national level","L1","BEST FIT"]
[null,null,null,"Laboratory supply, transport chains and results interpretation between participating sectors have been assessed for harmonized at all country levels","L2","BEST FIT"]
[null,null,null,"The degree of harmonization in laboratory supply, transport chains and results interpretation between participating sectors have been assessed and determined to meet the objectives of the coordinated surveillance system","L3","BEST FIT"]
[null,null,"A-6.1","Workforce assessments have been conducted to identify current workforce requirements, competencies, needs and gaps at the national level","L1","BEST FIT"]
[null,null,"A-6.1","Workforce assessment have been conducted to identify current workforce requirements, competencies, needs and gaps at all country levels","L3","BEST FIT"]
[null,"Planning","Pl-1.1","Decision makers for the coordinated surveillance system has been identified","L1","OTHER "]
[null,null,"PL-2.1","The common data elements are identified and agreed upon within each participating sector to meet the common analytical goals of the coordinated surveillance system at the national level","L1","OTHER "]
[null,null,"PL-2.1","The common data elements are identified and agreed upon within each participating sector to meet the common analytical goals of the coordinated surveillance system at all country levels","L2","OTHER "]
["EFSA Data Collection Framework","Planning","PL-2.1","The common data elements are identified and agreed upon within each participating sector to meet the common analytical goals of the coordinated surveillance system at all country levels","L2","OTHER ","PASS",8.5,4,6.8,9.3000000000000007,7.1,5.5,5,8.3000000000000007,10,{"$f":"SUM(H137:P137)/90","v":0.71666666666666667},"Hardware or Software","One Health; Generalized"]
["Electronic Integrated Disease Surveillance System (EIDSS)","Implementation","I-3.1 \n","There is a mechanism to share data between sectors at the national level","L1","BEST FIT","PASS",6.8,10,8.4,8.6999999999999993,9.1,8,7,7.2,10,{"$f":"SUM(H138:P138)/90","v":0.83555555555555561},"Hardware or Software","One Health; Generalized"]
[null,null,"I-3.1 \n","There is a mechanism to share data between sectors at all country levels","L2","BEST FIT"]
[null,null,"I-3.1 \n","There is a mechanism to share data that is accessible, functional, and usable by all participating sectors","L3","BEST FIT"]
[null,null,"I-3.2\n","There is a structure and location to store and maintain data from multiple sectors at the national level.","L1","BEST FIT"]
[null,null,"I-3.2\n","There is a structure and location to store and maintain data from multiple sectors at all country levels","L2","BEST FIT"]
[null,null,"I-3.2\n","There is a structure and location to store and maintain data from all relevant sectors conducting surveillance that is accessible, functional, and usable by all participating sectors","L3","BEST FIT"]
[null,null,"I-3.3\n","Coordinated surveillance data are protected by the data privacy and security measures in place at the national level ","L1","BEST FIT"]
[null,null,"I-3.3\n","Coordinated surveillance data are protected by the data privacy and security measures in place at all country levels","L2","BEST FIT"]
[null,null,"I-3.3\n","Coordinated surveillance data that have been assessed and determined to meet the objectives of the coordinated surveillance system are protected by the data privacy and security measures in place ","L3","BEST FIT"]
[null,null,"I-4.1 ","The coordinated surveillance system is being piloted in target areas","L1","OTHER "]
[null,null,"I-4.1 ","The coordinated surveillance system has been expanded to additional areas based on pilot implementations","L2","OTHER "]
[null,null,"I-4.1 ","The coordinated surveillance system is a nation-wide program","L3","OTHER "]
[null,null,"I-4.2","Data are shared informally or formally on an ad hoc basis at the national level","L1","BEST FIT"]
[null,null,"I-4.2","Data are shared informally or formally in a routine and timely fashion at all country levels","L2","BEST FIT"]
[null,null,"I-4.2","Data are shared systematically in a routine and timely manner between all participating sectors through an interoperable or joint platform(s) ","L3","BEST FIT"]
[null,null,"I-5.3","Coordinated surveillance data are used to generate outputs (e.g. figures, graphics, reports or bulletins) that are shared at the national level","L1","BEST FIT"]
[null,null,null,"Coordinated surveillance data, including M&E reports, are used to generate outputs that inform, response, policy and programming","L3","OTHER "]
["The Epidemic Intelligence from Open Sources (EIOS)","Implementation","I-3.1 \n","There is a mechanism to share data between sectors at the national level","L1","OTHER ","PASS",8.4,9,7.4,9,8.8000000000000007,8,5.5,9.1999999999999993,6,{"$f":"SUM(H155:P155)/90","v":0.79222222222222216},"Hardware or Software","One Health; Generalized"]
[null,null,"I-3.1 \n","There is a mechanism to share data that is accessible, functional, and usable by all participating sectors","L3","OTHER "]
[null,null,"I-4.2","Data are shared informally or formally on an ad hoc basis at the national level","L1","OTHER "]
[null,null,"I-4.2","Data are shared informally or formally in a routine and timely fashion at all country levels","L2","OTHER "]
[null,null,"I-4.2","Data are shared systematically in a routine and timely manner between all participating sectors through an interoperable or joint platform(s) ","L3","OTHER "]
[null,null,"I-5.1 ","There is ad hoc information sharing with relevant stakeholders","L1","OTHER "]
[null,null,"I-5.1 ","There is routine information sharing with relevant stakeholders","L2","OTHER "]
[null,null,"I-5.1 ","There is routine and timely information sharing with relevant stakeholders including cross-border, regional and international entities","L3","OTHER "]
["Event Mobile Application (EMAi)","Implementation","I-3.1 \n","There is a mechanism to share data between sectors at the national level","L1","OTHER ","PASS",8.9,7.7,9.1,6,8.3000000000000007,9.3000000000000007,6.7,4.5,5.7,{"$f":"SUM(H163:P163)/90","v":0.73555555555555563},"Hardware or Software","Sector Specific; Generalized"]
[null,null,null,"There is a mechanism to share data between sectors at all country levels","L2","OTHER "]
[null,null,"I-5.2","Comply with international notification requirements for all zoonotic diseases","L1","OTHER "]
["EMPRES Global Animal Disease Information System (EMPRES-i)","Implementation","I-3.1 \n","There is a mechanism to share data between sectors at the national level","L1","OTHER ","PASS",9,8.3000000000000007,8.9,8.6999999999999993,8,7.8,7.4,4.8,4.7,{"$f":"SUM(H166:P166)/90","v":0.75111111111111106},"Hardware or Software","Sector Specific; Generalized"]
[null,null,"I-3.1 \n","There is a mechanism to share data between sectors at all country levels","L2","BEST FIT"]
[null,null,"I-3.2\n","There is a structure and location to store and maintain data from multiple sectors at the national level.","L1","OTHER "]
[null,null,"I-3.2\n","There is a structure and location to store and maintain data from multiple sectors at all country levels","L2","OTHER "]
[null,null,"I-3.2\n","There is a structure and location to store and maintain data from all relevant sectors conducting surveillance that is accessible, functional, and usable by all participating sectors","L3","OTHER "]
[null,null,"I-3.3\n","Coordinated surveillance data are protected by the data privacy and security measures in place at the national level ","L1","OTHER "]
[null,null,"I-3.3\n","Coordinated surveillance data are protected by the data privacy and security measures in place at all country levels","L2","OTHER "]
[null,null,"I-5.1","There is ad hoc information sharing with relevant stakeholders","L1","OTHER "]
["Epidemiology Mapping Tool (EMT)","Assessment","A-3.2","Existing surveillance plans (including case definitions, protocols, and Standard Operating Procedures) relevant to the coordinated surveillance system have been assessed for potential consolidation and linking at the national level","L1","OTHER ","PASS",6.6,8,7.4,7.3,6.9,5,3.5,6.8,5.5,{"$f":"SUM(H174:P174)/90","v":0.6333333333333333},"Guided/Facilitated tool or process","Sector Specific; Generalized"]
[null,null,"A-6.1","Workforce assessments have been conducted to identify current workforce requirements, competencies, needs and gaps at the national level","L1","BEST FIT"]
["Guidelines for designing\nanimal disease\nsurveillance plans\n",null,"PL-3.2","A multi-sectoral review of the national surveillance plans (including action/operational plans, case definitions, protocols, and Standard Operating Procedures) related to the coordinated surveillance system has occurred, for the purposes of planning.","L1","OTHER ","PASS",9.1999999999999993,10,7.5,8.6999999999999993,5.7,2.5,3.3,5.0999999999999996,4,{"$f":"SUM(H176:P176)/90","v":0.62222222222222223},"Template","Sector Specific; Generalized"]
[null,null,"PL-3.2","Surveillance plans (including action/operational plans, case definitions, protocols, and Standard Operating Procedures) for the coordinated surveillance system have been consolidated and linked for the purposes of data sharing at all country levels","L2","OTHER "]
[null,null,"PL-3.2","Revised surveillance plans (including action/operational plans, case definitions, protocols, and Standard Operating Procedures) for the coordinated surveillance system have been aligned with international guidelines and recommendations.","L3","OTHER "]
["FoodChain-Lab (FCL) ","Implementation","I-3.1 \n","There is a mechanism to share data between sectors at the national level","L1","OTHER ","PASS",9.6999999999999993,6,7.9,7.8,8.1,8,7.9,8.4,9.6999999999999993,{"$f":"SUM(H179:P179)/90","v":0.81666666666666665},"Hardware or Software","One Health; Disease/Threat Specific "]
[null,null,"I-5.3","Coordinated surveillance data are used to generate outputs (e.g. figures, graphics, reports or bulletins) that are shared at the national level","L1","OTHER "]
[null,null,null,"Coordinated surveillance data are used to generate outputs (e.g. figures, graphics, reports or bulletins) that are disseminated to stakeholders at all country levels","L2","OTHER "]
[null,null,null,"Coordinated surveillance data, including M&E reports, are used to generate outputs that inform, response, policy and programming","L3","OTHER "]
["Framework for Evaluating Public Health Surveillance Systems for Early Detection of Outbreaks ","Assessment","A-3.1","Frameworks and strategic plans relevant to the coordinated surveillance system have been assessed for potential consolidation and linking at the national level","L1","OTHER ",null,9.1999999999999993,6.7,8.4,8.6999999999999993,7.1,2,2.5,8.1999999999999993,6,{"$f":"SUM(H183:P183)/90","v":0.65333333333333332},"Guidance document","Sector Specific; Generalized"]
["Global Dog Rabies Elimination Pathway (GDREP)","Assessment","A-4.1","Economic assessments have been used to determine national financial needs for the coordinated surveillance system ","L1","BEST FIT","PASS",9.1,7.3,8.6999999999999993,6,7.9,6,7,6.3,7,{"$f":"SUM(H184:P184)/90","v":0.72555555555555551},"Self-assessment tool","One Health; Disease/Threat Specific "]
[null,null,null,"Economic assessments have been used to determine the financial needs at all country levels for the coordinated surveillance system ","L3","BEST FIT"]
[null,null,"A-6.1","Workforce assessments have been conducted to identify current workforce requirements, competencies, needs and gaps at the national level","L1","BEST FIT"]
[null,null,null,"Workforce assessment have been conducted to identify current workforce requirements, competencies, needs and gaps at all country levels","L3","OTHER "]
[null,null,"PL-5.1","An education and training plan for the coordinated surveillance system exists based on workforce assessment at the national level","L1","OTHER "]
[null,null,null,"An education and training plan for the coordinated surveillance system exists based on workforce assessment at all country levels","L2","OTHER "]
[null,null,null,"Workforce education and training is linked to national multisectoral workforce planning and is informed by international competencies and assessments\n","L3","OTHER "]
[null,"Planning","PL-6.1","Necessary legal frameworks (rules, policies, guidelines and regulations including international standards) have been standardized across sectors based on assessment at the national level","L1","OTHER "]
[null,null,null,"Necessary legal frameworks (rules, policies, guidelines and regulations including international standards) have been standardized across sectors based on assessment at all country levels","L2","OTHER "]
[null,null,null,"Revised legal frameworks for the coordinated surveillance system have been aligned with international standards and recommendations. ","L3","OTHER "]
["Health System Assessment Approach (HSAA)","Assessment","AG","N/A","N/A","N/A","1 EVAL",10,10,6.4,4.7,8.3000000000000007,2,3,6,4,{"$f":"SUM(H194:P194)/90","v":0.60444444444444445},"Guidance document","Sector Specific; Generalized"]
["Integrated Disease Surveillance and Response (IDSR)","Pre-Planning","PP-1.1","Focal points, \"champions\" or technical working groups have been identified in all participating sectors at the national level for planning the implementation of coordinated surveillance","L1","OTHER ","PASS",7.4,10,7.4,8.6999999999999993,6.7,4.5,8,7.2,8.5,{"$f":"SUM(H195:P195)/90","v":0.76},"Guidance document","Sector Specific; Generalized"]
[null,null,null,"Focal points, \"champions\" or technical working groups have been identified in all participating sectors and at all country levels for planning the implementation of coordinated surveillance","L2","OTHER "]
[null,null,null,"Focal points, \"champions\" or technical working groups (including identified focal points or \"champions\") for coordinated surveillance have been institutionalized (e.g. through a governing body such as an MCM)   ","L3","OTHER "]
[null,null,"PP-3.1","Goal(s), roles, and responsibilities of all participating sectors of the coordinated surveillance system are agreed upon at the national level","L1","BEST FIT"]
[null,null,null,"Goal(s), roles, and responsibilities of all participating sectors of the coordinated surveillance system are agreed upon and expanded to include all country levels","L2","BEST FIT"]
[null,"Assessment","A-1.1","Stakeholders working in surveillance, epidemiology, laboratory, and information sharing have been identified","L1","OTHER "]
[null,null,null,"Stakeholder analysis has been used to identify participants at all country levels ","L2","OTHER "]
[null,null,null,"Roles and responsibilities of stakeholders have been institutionalized and adopted in policy","L3","OTHER "]
[null,null,"A-2.1","The interlinkages between current prioritized zoonotic disease surveillance systems have been assessed among sectors","L1","OTHER "]
[null,null,"A-3.2","Existing surveillance plans (including case definitions, protocols, and Standard Operating Procedures) relevant to the coordinated surveillance system have been assessed for potential consolidation and linking at the national level","L1","BEST FIT"]
[null,null,null,"Existing surveillance plans (including case definitions, protocols, and Standard Operating Procedures) relevant to the coordinated surveillance system have been assessed for potential consolidation and linking at all country levels","L3","BEST FIT"]
[null,null,"A-5.1","Laboratory assessments have been used to identify qualified national or international reference laboratories that can carry out testing to support the coordinated surveillance activities","L1","OTHER "]
[null,null,"A-6.1","Workforce assessment have been conducted to identify current workforce requirements, competencies, needs and gaps at all country levels","L3","OTHER "]
[null,"Planning","PLG","N/A","N/A","N/A"]
[null,null,"Pl-1.1","Decision makers for the coordinated surveillance system has been identified","L1","OTHER "]
[null,null,"PL-2.1","The common data elements are identified and agreed upon within each participating sector to meet the common analytical goals of the coordinated surveillance system at the national level","L1","OTHER "]
[null,null,null,"The common data elements are identified and agreed upon within each participating sector to meet the common analytical goals of the coordinated surveillance system at all country levels","L2","OTHER "]
[null,null,null,"The common data elements are standardized among participating sectors based on the common analytical goals of the coordinated surveillance system and adhere to international data standards","L3","BEST FIT"]
[null,null,"PL-3.1","A multi-sectoral review of the national frameworks and strategic plans related to the coordinated surveillance system has occurred, for the purposes of planning.","L1","OTHER "]
[null,null,null,"Frameworks and strategic plans for the coordinated surveillance system have been consolidated and linked based on assessment at all country levels","L2","OTHER "]
[null,null,null,"Revised frameworks and strategic plans for the coordinated surveillance system have been aligned with international standards and recommendations. \n","L3","OTHER "]
[null,null,"PL-3.2","A multi-sectoral review of the national surveillance plans (including action/operational plans, case definitions, protocols, and Standard Operating Procedures) related to the coordinated surveillance system has occurred, for the purposes of planning.","L1","OTHER "]
[null,null,null,"Surveillance plans (including action/operational plans, case definitions, protocols, and Standard Operating Procedures) for the coordinated surveillance system have been consolidated and linked for the purposes of data sharing at all country levels","L2","OTHER "]
[null,null,null,"Revised surveillance plans (including action/operational plans, case definitions, protocols, and Standard Operating Procedures) for the coordinated surveillance system have been aligned with international guidelines and recommendations.","L3","OTHER "]
[null,null,"PL-5.1","An education and training plan for the coordinated surveillance system exists based on workforce assessment at the national level","L1","BEST FIT"]
[null,null,null,"An education and training plan for the coordinated surveillance system exists based on workforce assessment at all country levels","L2","BEST FIT"]
[null,"Implementation","IG","N/A","N/A","N/A"]
[null,null,"I-4.2","Data are shared informally or formally on an ad hoc basis at the national level","L1","BEST FIT"]
[null,null,"I-4.2","Data are shared informally or formally in a routine and timely fashion at all country levels","L2","BEST FIT"]
[null,null,"I-5.1 ","There is ad hoc information sharing with relevant stakeholders","L1","BEST FIT"]
[null,null,"I-5.1 ","There is routine information sharing with relevant stakeholders","L2","BEST FIT"]
[null,null,"I-5.1 ","There is routine and timely information sharing with relevant stakeholders including cross-border, regional and international entities","L3","BEST FIT"]
[null,null,"I-5.2","Comply with international notification requirements for all zoonotic diseases","L1","OTHER "]
[null,null,"I-5.3","Coordinated surveillance data are used to generate outputs (e.g. figures, graphics, reports or bulletins) that are shared at the national level","L1","BEST FIT"]
[null,null,"I-5.3","Coordinated surveillance data are used to generate outputs (e.g. figures, graphics, reports or bulletins) that are disseminated to stakeholders at all country levels","L2","BEST FIT"]
[null,null,"I-5.3","Coordinated surveillance data, including M&E reports, are used to generate outputs that inform, response, policy and programming","L3","BEST FIT"]
[null,"Monitoring and Evaluation","ME-3.1","There is a data quality management methodology","L1","OTHER "]
[null,null,"ME-3.1","The data quality has been tested and determined to meet the objectives of the coordinated surveillance system ","L2","OTHER "]
[null,null,"ME-3.1","The data quality aligns with international standards and recommendations ","L3","OTHER "]
["Georgetown University International Health Regulation (IHR) Costing Tool","Assessment","A-4.1","Economic assessments have been used to determine national financial needs for the coordinated surveillance system","L1","BEST FIT","PASS",9.6,6,9.3000000000000007,7.3,7.1,8.8000000000000007,9.3000000000000007,7.5,8,{"$f":"SUM(H234:P234)/90","v":0.80999999999999994},"Self-assessment tool","Sector Specific; Generalized"]
[null,null,null,"Economic assessments have been used to determine the financial needs at all country levels for the coordinated surveillance system ","L3","BEST FIT"]
[null,"Planning","PL-4.1","There is a budgetary plan and a mechanism for distributing funds for coordinated surveillance at the national level","L1","OTHER "]
[null,null,null,"There is a budgetary plan and a mechanism for distributing funds for coordinated surveillance at all country levels","L2","OTHER "]
[null,"Implementation","I-1.1","Funding exists for coordinated surveillance at the national level","L1","OTHER "]
["IHR-PVS National Bridging Workshop","Assessment","A-1.1","Stakeholders working in surveillance, epidemiology, laboratory, and information sharing have been identified","L1","BEST FIT","PASS",8.6,10,6.2,10,6,7,9,8.1999999999999993,10,{"$f":"SUM(H239:P239)/90","v":0.83333333333333337},"Guided/Facilitated tool or process","One Health; Generalized"]
[null,null,null,"Stakeholder analysis has been used to identify participants at all country levels ","L2","BEST FIT"]
[null,null,null,"Roles and responsibilities of stakeholders have been institutionalized and adopted in policy","L3","BEST FIT"]
[null,null,"A-2.1","The interlinkages between current prioritized zoonotic disease surveillance systems have been assessed among sectors","L1","OTHER "]
[null,null,null,"The interlinkages between current surveillance systems have been assessed among sectors and at all country levels","L2","OTHER "]
[null,null,null,"The interlinkages between current surveillance systems have been assessed and determined to meet the objectives of the coordinated surveillance system.","L3","BEST FIT"]
[null,null,"A-3.3","Existing action/operational plans relevant to the coordinated surveillance system have been assessed for potential consolidation and linking at the national level","L1","BEST FIT"]
[null,null,null,"Existing action/operational plans relevant to coordinated surveillance system have been assessed for potential consolidation and linking at all country levels","L3","BEST FIT"]
[null,null,"A-3.4","Basic infrastructure mapping exercises (as defined in TZG CH 4.1) have been used to describe the structure and linkages within and between the sectors ","L1","OTHER "]
[null,null,null,"Infrastructure mapping has been used to describe the majority of mapping areas (as described in TZG CH 4.1)","L2","OTHER "]
[null,null,null,"Comprehensive infrastructure mapping has been used to describe all mapping areas (as described in TZG CH 4.1).","L3","OTHER "]
[null,"Planning","PL-2.1","The common data elements are identified and agreed upon within each participating sector to meet the common analytical goals of the coordinated surveillance system at the national level","L1","OTHER "]
[null,null,null,"The common data elements are identified and agreed upon within each participating sector to meet the common analytical goals of the coordinated surveillance system at all country levels","L2","OTHER "]
[null,null,null,"The common data elements are standardized among participating sectors based on the common analytical goals of the coordinated surveillance system and adhere to international data standards","L3","OTHER "]
[null,null,"PL-3.1","A multi-sectoral review of the national frameworks and strategic plans related to the coordinated surveillance system has occurred, for the purposes of planning.","L1","OTHER "]
[null,null,null,"Frameworks and strategic plans for the coordinated surveillance system have been consolidated and linked based on assessment at all country levels","L2","OTHER "]
[null,null,null,"Revised frameworks and strategic plans for the coordinated surveillance system have been aligned with international standards and recommendations. \n","L3","OTHER "]
["Joint External Evaluation tool (JEE ) ","Pre-Planning","PPG","N/A","N/A","N/A","PASS",8.6999999999999993,10,7,6.3,7.7,4.7,6,9.5,10,{"$f":"SUM(H256:P256)/90","v":0.77666666666666673},"Guided/Facilitated tool or process","One Health; Generalized"]
[null,"Assessment","AG","N/A","N/A","N/A"]
[null,null,"A-2.1","The interlinkages between current prioritized zoonotic disease surveillance systems have been assessed among sectors","L1","OTHER "]
[null,null,"A-3.1","Frameworks and strategic plans relevant to the coordinated surveillance system have been assessed for potential consolidation and linking at the national level","L1","OTHER "]
[null,null,"A-3.2","Existing surveillance plans (including case definitions, protocols, and Standard Operating Procedures) relevant to the coordinated surveillance system have been assessed for potential consolidation and linking at the national level","L1","OTHER "]
[null,null,"A-3.3","Existing action/operational plans relevant to the coordinated surveillance system have been assessed for potential consolidation and linking at the national level","L1","OTHER "]
[null,null,"A-5.1","Laboratory assessments have been used to identify qualified national or international reference laboratories that can carry out testing to support the coordinated surveillance activities","L1","OTHER "]
[null,"Planning","PLG","NA","NL3","OTHER "]
[null,"Implementation","I-5.2","Comply with international notification requirements for all zoonotic diseases","L1","OTHER "]
["Laboratory Leadership Competency Framework (GLLP)","Assessment","A-6.1","Workforce assessments have been conducted to identify current workforce requirements, competencies, needs and gaps at the national level","L1","BEST FIT","PASS",9.6,8,8.4,9.6999999999999993,7.3,2.2999999999999998,5,8.9,4,{"$f":"SUM(H265:P265)/90","v":0.70222222222222219},"Guidance document","One Health; Generalized"]
[null,null,null,"Workforce assessment have been conducted to identify current workforce requirements, competencies, needs and gaps at all country levels","L3","BEST FIT"]
[null,"Planning","PL-5.1","An education and training plan for the coordinated surveillance system exists based on workforce assessment at the national level","L1","OTHER "]
["FAO Laboratory Mapping Tool (LMT)","Assessment","A-5.1","Laboratory assessments have been used to identify qualified national or international reference laboratories that can carry out testing to support the coordinated surveillance activities","L1","BEST FIT","PASS",9.8000000000000007,10,9.1999999999999993,7.8,7.2,7.1,9.6999999999999993,3,4.7,{"$f":"SUM(H268:P268)/90","v":0.76111111111111107},"Self-assessment tool","Sector Specific; Generalized"]
[null,null,null,"Laboratory assessments have been used to identify qualified laboratories at all levels (including international) that can carry out testing to support the coordinated surveillance activities","L2","BEST FIT"]
[null,null,null,"Laboratory assessments have been used to identify a network of qualified laboratories that can carry out testing to support the coordinated surveillance activities","L3","BEST FIT"]
["Laboratory Infrastructure Network Analysis (LINA)","Assessment","A-3.4","Basic infrastructure mapping exercises (as defined in TZG CH 4.1) have been used to describe the structure and linkages within and between the sectors ","L1","OTHER ","Pass",9.6,6,7.6,9,8.3000000000000007,7,3,9.1,4,0.69555555555555559,"Hardware or Software","One Health; Generalized"]
[null,null,null,"Infrastructure mapping has been used to describe the majority of mapping areas (as described in TZG CH 4.1)","L2","OTHER "]
[null,null,null,"Comprehensive infrastructure mapping has been used to describe all mapping areas (as described in TZG CH 4.1).","L3","OTHER "]
[null,null,"A-5.1","Laboratory assessments have been used to identify qualified national or international reference laboratories that can carry out testing to support the coordinated surveillance activities","L1","BEST FIT"]
[null,null,null,"Laboratory assessments have been used to identify qualified laboratories at all levels (including international) that can carry out testing to support the coordinated surveillance activities","L2","BEST FIT"]
[null,null,null,"Laboratory assessments have been used to identify a network of qualified laboratories that can carry out testing to support the coordinated surveillance activities","L3","BEST FIT"]
[null,null,"A-5.2","Laboratory supply, transport chains and results interpretation have been assessed for harmonized between participating sectors at the national level","L1","BEST FIT"]
[null,null,null,"Laboratory supply, transport chains and results interpretation between participating sectors have been assessed for harmonized at all country levels","L2","BEST FIT"]
[null,null,null,"The degree of harmonization in laboratory supply, transport chains and results interpretation between participating sectors have been assessed and determined to meet the objectives of the coordinated surveillance system","L3","BEST FIT"]
[null,null,"I-4.1 ","The coordinated surveillance system is being piloted in target areas","L1","OTHER "]
[null,null,"I-4.1 ","The coordinated surveillance system has been expanded to additional areas based on pilot implementations","L2","OTHER "]
[null,null,"I-4.1 ","The coordinated surveillance system is a nation-wide program","L3","OTHER "]
[null,null,"I-5.3","Coordinated surveillance data are used to generate outputs (e.g. figures, graphics, reports or bulletins) that are shared at the national level","L1","BEST FIT"]
[null,null,"I-5.3","Coordinated surveillance data are used to generate outputs (e.g. figures, graphics, reports or bulletins) that are disseminated to stakeholders at all country levels","L2","BEST FIT"]
[null,null,"I-5.3","Coordinated surveillance data, including M&E reports, are used to generate outputs that inform, response, policy and programming","L3","BEST FIT"]
[null,"Monitoring and Evaluation","ME-1.1","Simulation exercises are conducted to evaluate the efficiency and functionality of the coordinated surveillance system at the national level  ","L1","OTHER "]
[null,null,"ME-1.1","Simulation exercises are conducted to evaluate the efficiency and functionality of the coordinated surveillance system at all country levels  ","L2","OTHER "]
["Listing and categorization of priority animal diseases including those transmissible to humans (Phylum)","Pre-Planning","PP-2.1","A list of prioritized zoonotic diseases exists for inclusion in a coordinated surveillance system","L1","OTHER ","PASS",6.9,8,6.2,8.3000000000000007,7.5,7.3,5.5,8.6999999999999993,4,{"$f":"SUM(H288:P288)/90","v":0.69333333333333336},"Self-assessment tool","Sector Specific; Generalized"]
[null,null,null,"A list of zoonotic diseases is broadly distributed to the subnational and community levels","L2","OTHER "]
[null,null,null,"A list of zoonotic diseases is developed using a multisectoral, One Health approach. Such an approach would involve all relevant sectors in an evidence-based, transparent, repeatable prioritization process.","L3","OTHER "]
["Methodology to analyse AMR-relevant legislation in the food and agriculture sector","Assessment","A-2.2","The legal frameworks (rules, policies, guidelines and regulations including international standards) that govern the ethical and privacy standards for surveillance and data sharing have been assessed.","L1","OTHER ","PASS",7.4,5.5,7.6,4,8.1999999999999993,4.5,4.5,6.6,4.5,{"$f":"SUM(H291:P291)/90","v":0.58666666666666667},"Guidance document","One Health; Generalized"]
[null,"Planning","Pl-1.1","Decision makers for the coordinated surveillance system has been identified","L1","OTHER "]
[null,null,"PL-3.1","A multi-sectoral review of the national frameworks and strategic plans related to the coordinated surveillance system has occurred, for the purposes of planning.","L1","OTHER "]
[null,null,"PL-3.2","A multi-sectoral review of the national surveillance plans (including action/operational plans, case definitions, protocols, and Standard Operating Procedures) related to the coordinated surveillance system has occurred, for the purposes of planning.","L1","OTHER "]
[null,null,"PL-6.1","Necessary legal frameworks (rules, policies, guidelines and regulations including international standards) have been standardized across sectors based on assessment at the national level","L1","OTHER "]
["Updated Guidelines for Evaluating Public Health Surveillance Systems ","Assessment","AG","N/A","N/A","N/A","PASS",7.6,8,7.2,8.6999999999999993,7.7,2.2999999999999998,4,5.8,4,{"$f":"SUM(H296:P296)/90","v":0.61444444444444446},"Guidance document","Sector Specific; Generalized"]
[null,"Monitoring and Evaluation","ME-2.1","There is a monitoring and evaluation plan that meets the objectives of the coordinated surveillance system","L1","OTHER "]
[null,null,"ME-2.1","The monitoring and evaluation plan is implemented to track performance and progress of the coordinated surveillance system","L2","OTHER "]
[null,null,"ME-2.1","Results of monitoring and evaluation iteratively improve or expand the coordinated surveillance system and align with international standards and recommendations ","L3","OTHER "]
[null,null,"ME-3.1","There is a data quality management methodology","L1","OTHER "]
[null,null,"ME-3.1","The data quality has been tested and determined to meet the objectives of the coordinated surveillance system ","L2","OTHER "]
[null,null,"ME-3.1","The data quality aligns with international standards and recommendations ","L3","OTHER "]
["National Action Plan for Health Security (NAPHS)","Pre-Planning","PPG","N/A","N/A","N/A","PASS",8,9,7.8,10,8,4.5,10,10,10,{"$f":"SUM(H303:P303)/90","v":0.85888888888888881},"Guidance document","One Health; Generalized"]
[null,null,"PP-1.1","Focal points, \"champions\" or technical working groups (including identified focal points or \"champions\") for coordinated surveillance have been institutionalized (e.g. through a governing body such as an MCM)   ","L3","OTHER "]
[null,null,"PP-3.1","Goal(s), roles and responsibilities of the coordinated surveillance system have been re-evaluated to reflect the current needs of the coordinated surveillance system ","L3","BEST FIT"]
[null,"Assessment","AG","N/A","N/A","N/A"]
[null,null,"A-1.1","Stakeholders working in surveillance, epidemiology, laboratory, and information sharing have been identified","L1","OTHER "]
[null,null,null,"Stakeholder analysis has been used to identify participants at all country levels ","L2","OTHER "]
[null,null,null,"Roles and responsibilities of stakeholders have been institutionalized and adopted in policy","L3","BEST FIT"]
[null,null,"A-2.1","The interlinkages between current prioritized zoonotic disease surveillance systems have been assessed among sectors","L1","OTHER "]
[null,null,null,"The interlinkages between current surveillance systems have been assessed among sectors and at all country levels","L2","OTHER "]
[null,null,null,"The interlinkages between current surveillance systems have been assessed and determined to meet the objectives of the coordinated surveillance system.","L3","OTHER "]
[null,null,"A-3.1","Frameworks and strategic plans relevant to the coordinated surveillance system have been assessed for potential consolidation and linking at the national level","L1","OTHER "]
[null,null,null,"Frameworks and strategic plans relevant to the coordinated surveillance system have been assessed for potential consolidation and linking at all country levels","L3","OTHER "]
[null,null,"A-3.2","Existing surveillance plans (including case definitions, protocols, and Standard Operating Procedures) relevant to the coordinated surveillance system have been assessed for potential consolidation and linking at the national level","L1","OTHER "]
[null,null,null,"Existing surveillance plans (including case definitions, protocols, and Standard Operating Procedures) relevant to the coordinated surveillance system have been assessed for potential consolidation and linking at all country levels","L3","OTHER "]
[null,null,"A-3.4","Basic infrastructure mapping exercises (as defined in TZG CH 4.1) have been used to describe the structure and linkages within and between the sectors ","L1","OTHER "]
[null,null,null,"Infrastructure mapping has been used to describe the majority of mapping areas (as described in TZG CH 4.1)","L2","OTHER "]
[null,null,"A-4.1","Economic assessments have been used to determine national financial needs for the coordinated surveillance system ","L1","OTHER "]
[null,null,null,"Economic assessments have been used to determine the financial needs at all country levels for the coordinated surveillance system ","L3","OTHER "]
[null,null,"A-5.1","Laboratory assessments have been used to identify qualified laboratories at all levels (including international) that can carry out testing to support the coordinated surveillance activities","L2","OTHER "]
[null,null,"A-6.1","Workforce assessments have been conducted to identify current workforce requirements, competencies, needs and gaps at the national level","L1","OTHER "]
[null,null,null,"Workforce assessment have been conducted to identify current workforce requirements, competencies, needs and gaps at all country levels","L3","OTHER "]
[null,"Planning","PLG","N/A","N/A","N/A"]
[null,null,"Pl-1.1","There is an advocacy strategy that informs communication with decision-makers on the coordinated surveillance system","L3","OTHER "]
[null,null,"PL-3.1","A multi-sectoral review of the national frameworks and strategic plans related to the coordinated surveillance system has occurred, for the purposes of planning.","L1","OTHER "]
[null,null,null,"Frameworks and strategic plans for the coordinated surveillance system have been consolidated and linked based on assessment at all country levels","L2","OTHER "]
[null,null,null,"Revised frameworks and strategic plans for the coordinated surveillance system have been aligned with international standards and recommendations. \n","L3","OTHER "]
[null,null,"PL-3.2","A multi-sectoral review of the national surveillance plans (including action/operational plans, case definitions, protocols, and Standard Operating Procedures) related to the coordinated surveillance system has occurred, for the purposes of planning.","L1","OTHER "]
[null,null,null,"Surveillance plans (including action/operational plans, case definitions, protocols, and Standard Operating Procedures) for the coordinated surveillance system have been consolidated and linked for the purposes of data sharing at all country levels","L2","OTHER "]
[null,null,null,"Revised surveillance plans (including action/operational plans, case definitions, protocols, and Standard Operating Procedures) for the coordinated surveillance system have been aligned with international guidelines and recommendations.","L3","OTHER "]
["Network for Evaluation of One Health (NEOH)","Pre-Planning","PP-3.1","Goal(s), roles, and responsibilities of all participating sectors of the coordinated surveillance system are agreed upon and expanded to include all country levels","L2","OTHER ","PASS",8.3000000000000007,7.7,5.3,8.9,7.8,4.7,5.3,8,5.3,{"$f":"SUM(H332:P332)/90","v":0.68111111111111111},"Guidance document","One Health; Generalized"]
[null,"Assessment","A-3.1","Frameworks and strategic plans relevant to the coordinated surveillance system have been assessed for potential consolidation and linking at the national level","L1","OTHER "]
[null,null,null,"Frameworks and strategic plans relevant to the coordinated surveillance system have been assessed for potential consolidation and linking at all country levels","L3","OTHER "]
[null,null,"A-3.3","Existing action/operational plans relevant to the coordinated surveillance system have been assessed for potential consolidation and linking at the national level","L1","OTHER "]
[null,null,null,"Existing action/operational plans relevant to coordinated surveillance system have been assessed for potential consolidation and linking at all country levels","L3","OTHER "]
[null,null,"A-3.4","Basic infrastructure mapping exercises (as defined in TZG CH 4.1) have been used to describe the structure and linkages within and between the sectors ","L1","OTHER "]
[null,null,null,"Infrastructure mapping has been used to describe the majority of mapping areas (as described in TZG CH 4.1)","L2","OTHER "]
[null,null,null,"Comprehensive infrastructure mapping has been used to describe all mapping areas (as described in TZG CH 4.1).","L3","OTHER "]
[null,null,"A-4.1","Economic assessments have been used to determine national financial needs for the coordinated surveillance system ","L1","OTHER "]
[null,null,null,"Economic assessments have been used to determine the financial needs at all country levels for the coordinated surveillance system ","L3","OTHER "]
[null,"Planning","Pl-1.1","Political will for the coordinated surveillance system is established, and advocates exists at all country levels","L2","OTHER "]
[null,null,null,"There is an advocacy strategy that informs communication with decision-makers on the coordinated surveillance system","L3","OTHER "]
[null,"Monitoring and Evaluation","ME-2.1","The monitoring and evaluation plan is implemented to track performance and progress of the coordinated surveillance system","L2","OTHER "]
[null,null,"ME-2.1","Results of monitoring and evaluation iteratively improve or expand the coordinated surveillance system and align with international standards and recommendations ","L3","OTHER "]
["The National Public Health Performance Standards Program (NPHPSP): Local Public Health System Performance Assessment Instrument (version 2)","Assessment","AG","N/A","N/A","N/A","PASS",8.4,10,9.6,8.6999999999999993,10,6,5,4,6,{"$f":"SUM(H346:P346)/90","v":0.75222222222222224},"Guidance document","Sector Specific; Generalized"]
[null,null,"A-2.1","The interlinkages between current prioritized zoonotic disease surveillance systems have been assessed among sectors","L1","OTHER "]
[null,null,null,"The interlinkages between current surveillance systems have been assessed among sectors and at all country levels","L2","OTHER "]
[null,null,null,"The interlinkages between current surveillance systems have been assessed and determined to meet the objectives of the coordinated surveillance system.","L3","OTHER "]
[null,null,"A-2.2","The legal frameworks (rules, policies, guidelines and regulations including international standards) that govern the ethical and privacy standards for surveillance and data sharing have been assessed.","L1","OTHER "]
["Surveillance network assessment tool (OASIS)","Assessment","AG","N/A","N/A","N/A","PASS",8.1999999999999993,7,8,8.3000000000000007,7,6.5,4.5,5.0999999999999996,4.5,{"$f":"SUM(H351:P351)/90","v":0.65666666666666673},"Self-assessment tool","Sector Specific; Generalized"]
[null,null,"A-2.1","The interlinkages between current prioritized zoonotic disease surveillance systems have been assessed among sectors","L1","BEST FIT",null,8.1999999999999993,7,8,8.3000000000000007,7,6.5,4.5,5.0999999999999996,4.5,{"$f":"SUM(H352:P352)/90","v":0.65666666666666673}]
[null,null,null,"The interlinkages between current surveillance systems have been assessed among sectors and at all country levels","L2","BEST FIT",null,8.1999999999999993,7,8,8.3000000000000007,7,6.5,4.5,5.0999999999999996,4.5,{"$f":"SUM(H353:P353)/90","v":0.65666666666666673}]
[null,null,null,"The interlinkages between current surveillance systems have been assessed and determined to meet the objectives of the coordinated surveillance system.","L3","BEST FIT",null,8.1999999999999993,7,8,8.3000000000000007,7,6.5,4.5,5.0999999999999996,4.5,{"$f":"SUM(H354:P354)/90","v":0.65666666666666673}]
[null,null,"A-3.2","Existing surveillance plans (including case definitions, protocols, and Standard Operating Procedures) relevant to the coordinated surveillance system have been assessed for potential consolidation and linking at the national level","L1","BEST FIT",null,8.1999999999999993,7,8,8.3000000000000007,7,6.5,4.5,5.0999999999999996,4.5,{"$f":"SUM(H355:P355)/90","v":0.65666666666666673}]
[null,null,null,"Existing surveillance plans (including case definitions, protocols, and Standard Operating Procedures) relevant to the coordinated surveillance system have been assessed for potential consolidation and linking at all country levels","L3","BEST FIT",null,8.1999999999999993,7,8,8.3000000000000007,7,6.5,4.5,5.0999999999999996,4.5]
[null,null,"A-3.3","Existing action/operational plans relevant to the coordinated surveillance system have been assessed for potential consolidation and linking at the national level","L1","OTHER "]
[null,null,null,"Existing action/operational plans relevant to coordinated surveillance system have been assessed for potential consolidation and linking at all country levels","L3","OTHER "]
[null,null,"A-5.1","Laboratory assessments have been used to identify qualified national or international reference laboratories that can carry out testing to support the coordinated surveillance activities","L1","BEST FIT",null,8.1999999999999993,7,8,8.3000000000000007,7,6.5,4.5,5.0999999999999996,4.5]
[null,null,null,"Laboratory assessments have been used to identify qualified laboratories at all levels (including international) that can carry out testing to support the coordinated surveillance activities","L2","BEST FIT",null,8.1999999999999993,7,8,8.3000000000000007,7,6.5,4.5,5.0999999999999996,4.5]
[null,null,null,"Laboratory assessments have been used to identify a network of qualified laboratories that can carry out testing to support the coordinated surveillance activities","L3","BEST FIT",null,8.1999999999999993,7,8,8.3000000000000007,7,6.5,4.5,5.0999999999999996,4.5]
[null,null,"A-5.2","Laboratory supply, transport chains and results interpretation have been assessed for harmonized between participating sectors at the national level","L1","BEST FIT"]
[null,null,null,"Laboratory supply, transport chains and results interpretation between participating sectors have been assessed for harmonized at all country levels","L2","BEST FIT"]
[null,null,null,"The degree of harmonization in laboratory supply, transport chains and results interpretation between participating sectors have been assessed and determined to meet the objectives of the coordinated surveillance system","L3","BEST FIT"]
[null,null,"A-6.1","Workforce assessments have been conducted to identify current workforce requirements, competencies, needs and gaps at the national level","L1","BEST FIT"]
[null,null,null,"Workforce assessment have been conducted to identify current workforce requirements, competencies, needs and gaps at all country levels","L3","BEST FIT"]
["The One Health Systems Assessment for Priority Zoonoses (OH-SAPZ)","Pre-Planning","PP-1.1","Focal points, \"champions\" or technical working groups have been identified in all participating sectors at the national level for planning the implementation of coordinated surveillance","L1","OTHER ","PASS",7.9,7.3,7.2,7.8,6.5,5.2,4,8.3000000000000007,9.6999999999999993,{"$f":"SUM(H367:P367)/90","v":0.71000000000000008},"Self-assessment tool","One Health; Generalized"]
[null,null,null,"Focal points, \"champions\" or technical working groups have been identified in all participating sectors and at all country levels for planning the implementation of coordinated surveillance","L2","OTHER "]
[null,null,null,"Focal points, \"champions\" or technical working groups (including identified focal points or \"champions\") for coordinated surveillance have been institutionalized (e.g. through a governing body such as an MCM)   ","L3","OTHER "]
[null,null,"PP-2.1","A list of prioritized zoonotic diseases exists for inclusion in a coordinated surveillance system","L1","BEST FIT"]
[null,null,null,"A list of zoonotic diseases is broadly distributed to the subnational and community levels","L2","BEST FIT"]
[null,null,null,"A list of zoonotic diseases is developed using a multisectoral, One Health approach. Such an approach would involve all relevant sectors in an evidence-based, transparent, repeatable prioritization process.","L3","BEST FIT"]
[null,"Assessment","A-1.1","Stakeholders working in surveillance, epidemiology, laboratory, and information sharing have been identified","L1","BEST FIT"]
[null,null,null,"Stakeholder analysis has been used to identify participants at all country levels ","L2","BEST FIT"]
[null,null,null,"Roles and responsibilities of stakeholders have been institutionalized and adopted in policy","L3","BEST FIT"]
[null,null,"A-3.1","Frameworks and strategic plans relevant to the coordinated surveillance system have been assessed for potential consolidation and linking at the national level","L1","BEST FIT"]
[null,null,"A-3.4","Basic infrastructure mapping exercises (as defined in TZG CH 4.1) have been used to describe the structure and linkages within and between the sectors ","L1","BEST FIT"]
[null,null,null,"Infrastructure mapping has been used to describe the majority of mapping areas (as described in TZG CH 4.1)","L2","BEST FIT"]
[null,null,null,"Comprehensive infrastructure mapping has been used to describe all mapping areas (as described in TZG CH 4.1).","L3","BEST FIT"]
[null,null,"A-5.1","Laboratory assessments have been used to identify qualified national or international reference laboratories that can carry out testing to support the coordinated surveillance activities","L1","OTHER "]
[null,null,null,"Laboratory assessments have been used to identify qualified laboratories at all levels (including international) that can carry out testing to support the coordinated surveillance activities","L2","OTHER "]
[null,null,null,"Laboratory assessments have been used to identify a network of qualified laboratories that can carry out testing to support the coordinated surveillance activities","L3","OTHER "]
["One Health Systems Mapping and Analysis Resource Toolkit (OH-SMART)","Pre-Planning","PPG","N/A","N/A","N/A","PASS",8.6999999999999993,7.3,8.4,9.3000000000000007,8.1999999999999993,7.4,9.5,10,10,{"$f":"SUM(H383:P383)/90","v":0.87555555555555564},"Guided/Facilitated tool or process","One Health; Generalized"]
[null,"Assessment","A-1.1","Stakeholders working in surveillance, epidemiology, laboratory, and information sharing have been identified","L1","BEST FIT"]
[null,null,null,"Stakeholder analysis has been used to identify participants at all country levels ","L2","BEST FIT"]
[null,null,null,"Roles and responsibilities of stakeholders have been institutionalized and adopted in policy","L3","BEST FIT"]
[null,null,"A-3.4","Basic infrastructure mapping exercises (as defined in TZG CH 4.1) have been used to describe the structure and linkages within and between the sectors ","L1","BEST FIT"]
[null,null,null,"Infrastructure mapping has been used to describe the majority of mapping areas (as described in TZG CH 4.1)","L2","BEST FIT"]
[null,null,null,"Comprehensive infrastructure mapping has been used to describe all mapping areas (as described in TZG CH 4.1).","L3","BEST FIT"]
[null,null,"A-6.1","Workforce assessments have been conducted to identify current workforce requirements, competencies, needs and gaps at the national level","L1","BEST FIT"]
[null,null,null,"Workforce assessment have been conducted to identify current workforce requirements, competencies, needs and gaps at all country levels","L3","BEST FIT"]
[null,"Monitoring and Evaluation","ME-1.1","Simulation exercises are conducted to evaluate the efficiency and functionality of the coordinated surveillance system at the national level  ","L1","OTHER "]
[null,null,"ME-1.1","Simulation exercises are conducted to evaluate the efficiency and functionality of the coordinated surveillance system at all country levels  ","L2","OTHER "]
[null,null,"ME-1.1","Results of the simulation exercises are used to inform and revise coordinated surveillance plans ","L3","OTHER "]
["The One Health Assessment for Planning and Performance (OH-APP)","Planning","PLG","N/A","N/A","N/A","PASS",9.5,9,9.4,7.3,9.1999999999999993,10,8,7.9,5.5,{"$f":"SUM(H395:P395)/90","v":0.84222222222222221},"Guided/Facilitated tool or process","One Health; Generalized"]
["One Health Surveillance (OHS) Codex ","Planning","PL-2.1","The common data elements are standardized among participating sectors based on the common analytical goals of the coordinated surveillance system and adhere to international data standards","L3","BEST FIT","PASS",9,6,8.5,8.6999999999999993,8.1,2.8,2,6,5,{"$f":"SUM(H396:P396)/90","v":0.62333333333333329},"Self-assessment tool","One Health; Generalized"]
[null,null,"PL-3.2","Revised surveillance plans (including action/operational plans, case definitions, protocols, and Standard Operating Procedures) for the coordinated surveillance system have been aligned with international guidelines and recommendations.","L3","BEST FIT"]
[null,null,"PL-7.1","Communications terminology and messages are aligning among all sectors participating in the coordinated surveillance system at the national level.","L1","BEST FIT"]
[null,null,null,"Communications terminology and messages are aligned among all sectors participating in the coordinated surveillance system and disseminated at all country levels","L2","BEST FIT"]
["One Health Surveillance Readiness and Requirements Tool (OHSRRT)","Pre-Planning","PP-1.1","Focal points, \"champions\" or technical working groups (including identified focal points or \"champions\") for coordinated surveillance have been institutionalized (e.g. through a governing body such as an MCM)   ","L3","OTHER ","PASS",8,6,7.4,8.6999999999999993,6,2.5,2,9.6,5.5,{"$f":"SUM(H400:P400)/90","v":0.61888888888888882},"Self-assessment tool","One Health; Generalized"]
[null,null,"PP-3.1","Goal(s), roles, and responsibilities of all participating sectors of the coordinated surveillance system are agreed upon at the national level","L1","BEST FIT"]
[null,null,null,"Goal(s), roles, and responsibilities of all participating sectors of the coordinated surveillance system are agreed upon and expanded to include all country levels","L2","BEST FIT"]
[null,null,null,"Goal(s), roles and responsibilities of the coordinated surveillance system have been re-evaluated to reflect the current needs of the coordinated surveillance system ","L3","BEST FIT"]
[null,"Assessment","A-1.1","Stakeholders working in surveillance, epidemiology, laboratory, and information sharing have been identified","L1","BEST FIT"]
[null,null,null,"Stakeholder analysis has been used to identify participants at all country levels ","L2","OTHER "]
[null,null,"A-2.1","The interlinkages between current prioritized zoonotic disease surveillance systems have been assessed among sectors","L1","OTHER "]
[null,null,null,"The interlinkages between current surveillance systems have been assessed among sectors and at all country levels","L2","OTHER "]
[null,null,null,"The interlinkages between current surveillance systems have been assessed and determined to meet the objectives of the coordinated surveillance system.","L3","OTHER "]
[null,null,"A-2.2","The legal frameworks (rules, policies, guidelines and regulations including international standards) that govern the ethical and privacy standards for surveillance and data sharing have been assessed.","L1","OTHER "]
[null,null,"A-3.2","Existing surveillance plans (including case definitions, protocols, and Standard Operating Procedures) relevant to the coordinated surveillance system have been assessed for potential consolidation and linking at the national level","L1","OTHER "]
[null,null,null,"Existing surveillance plans (including case definitions, protocols, and Standard Operating Procedures) relevant to the coordinated surveillance system have been assessed for potential consolidation and linking at all country levels","L3","OTHER "]
[null,"Planning","PL-2.1","The common data elements are standardized among participating sectors based on the common analytical goals of the coordinated surveillance system and adhere to international data standards","L3","OTHER "]
["One Health Systems Mapping and Analysis Resource Toolkit (OH-SMART)","Planning","PL-3.1","A multi-sectoral review of the national frameworks and strategic plans related to the coordinated surveillance system has occurred, for the purposes of planning.","L1","OTHER ","PASS",8.6999999999999993,7.3,8.4,9.3000000000000007,8.1999999999999993,7.4,9.5,10,10,{"$f":"SUM(H413:P413)/90","v":0.87555555555555564},"Guided/Facilitated tool or process","One Health; Generalized"]
[null,null,null,"Frameworks and strategic plans for the coordinated surveillance system have been consolidated and linked based on assessment at all country levels","L2","OTHER "]
["One Health Zoonotic Disease Prioritization Process (OHZDP)","Pre-Planning","PP-2.1","A list of prioritized zoonotic diseases exists for inclusion in a coordinated surveillance system","L1","BEST FIT","PASS",8,9.3000000000000007,9.1,6.7,7,7.3,8.3000000000000007,9.1,9.3000000000000007,{"$f":"SUM(H415:P415)/90","v":0.82333333333333325},"Guided/Facilitated tool or process","One Health; Generalized"]
[null,null,null,"A list of zoonotic diseases is broadly distributed to the subnational and community levels","L2","BEST FIT"]
[null,null,null,"A list of zoonotic diseases is developed using a multisectoral, One Health approach. Such an approach would involve all relevant sectors in an evidence-based, transparent, repeatable prioritization process.","L3","BEST FIT"]
["One-stop border post sourcebook","Planning","PL-6.1","Revised legal frameworks for the coordinated surveillance system have been aligned with international standards and recommendations. ","L3","OTHER ","1 Eval",8.4,2,6,10,8.6,2,8,5.5,8,{"$f":"SUM(H418:P418)/90","v":0.65},"Guidance document","One Health; Disease/Threat Specific "]
["World Organisation for Animal Health (WOAH) Performance of Veterinary Services Pathway (PVS)","Assessment","AG","N/A","N/A","N/A","PASS",7.5,8,4.9000000000000004,4.7,6.7,5.5,9.5,4.9000000000000004,6,{"$f":"SUM(H419:P419)/90","v":0.64111111111111108},"Guided/Facilitated tool or process","Sector Specific; Generalized"]
["World Organisation for Animal Health (WOAH) PVS Gap Analysis","Assessment","A-1.1","Stakeholders working in surveillance, epidemiology, laboratory, and information sharing have been identified","L1","OTHER ","PASS",6.8,8,5.6,10,6,4.3,9.5,4.7,7,{"$f":"SUM(H420:P420)/90","v":0.68777777777777771},"Guided/Facilitated tool or process","Sector Specific; Generalized"]
[null,null,null,"Stakeholder analysis has been used to identify participants at all country levels ","L2","OTHER "]
[null,null,"A-3.4","Basic infrastructure mapping exercises (as defined in TZG CH 4.1) have been used to describe the structure and linkages within and between the sectors ","L1","OTHER "]
[null,null,"A-4.1","Economic assessments have been used to determine national financial needs for the coordinated surveillance system ","L1","OTHER "]
[null,null,"A-5.2","Laboratory supply, transport chains and results interpretation have been assessed for harmonized between participating sectors at the national level","L1","OTHER "]
[null,"Planning","PL-3.1","A multi-sectoral review of the national frameworks and strategic plans related to the coordinated surveillance system has occurred, for the purposes of planning.","L1","OTHER "]
[null,null,"PL-6.1","Necessary legal frameworks (rules, policies, guidelines and regulations including international standards) have been standardized across sectors based on assessment at the national level","L1","OTHER "]
["World Organisation for Animal Health (WOAH) PVS Laboratory Mission","Assessment","A-5.1","Laboratory assessments have been used to identify qualified national or international reference laboratories that can carry out testing to support the coordinated surveillance activities","L1","OTHER ","Pass",7.6,9,5.4,3.3,7.6,4,6,4.3,4,{"$f":"SUM(H427:P427)/90","v":0.56888888888888889},"Guided/Facilitated tool or process","Sector Specific; Generalized"]
[null,null,null,"Laboratory assessments have been used to identify qualified laboratories at all levels (including international) that can carry out testing to support the coordinated surveillance activities","L2","OTHER "]
[null,null,null,"Laboratory assessments have been used to identify a network of qualified laboratories that can carry out testing to support the coordinated surveillance activities","L3","OTHER "]
["Outbreak costing tool","Assessment","A-4.1","Economic assessments have been used to determine national financial needs for the coordinated surveillance system","L1","BEST FIT","PASS",8.5,7.3,9.3000000000000007,9.1,7.8,7.2,2.9,8.3000000000000007,7.3,{"$f":"SUM(H430:P430)/90","v":0.75222222222222224},"Self-assessment tool","One Health; Generalized"]
[null,null,null,"Economic assessments have been used to determine the financial needs at all country levels for the coordinated surveillance system ","L3","BEST FIT"]
[null,"Planning","PL-4.1","There is a budgetary plan and a mechanism for distributing funds for coordinated surveillance at the national level","L1","OTHER "]
["One Health European Joint Program (OHEJP) Glossary","Planning","PL-7.1","Communications terminology and messages are aligning among all sectors participating in the coordinated surveillance system at the national level.","L1","BEST FIT","PASS",8.8000000000000007,6,8.4,7,9.1999999999999993,7.6,7,7.1,5,{"$f":"SUM(H433:P433)/90","v":0.73444444444444457},"Hardware or Software","One Health; Generalized"]
[null,null,"PL-7.1","Communications terminology and messages are aligned among all sectors participating in the coordinated surveillance system and disseminated at all country levels","L2","BEST FIT"]
["Progressive Management Pathway on Antimicrobial Resistance (AMR-PMP)","Assessment","AG","N/A","N/A","N/A","PASS",7,7,8.1999999999999993,4,7.9,7.7,5,7.3,4,{"$f":"SUM(H435:P435)/90","v":0.64555555555555555},"Guided/Facilitated tool or process","One Health; Generalized"]
[null,"Planning","PLG","N/A","N/A","N/A"]
["Policy Field Analysis (PFA)","Pre-Planning","PP-1.1","Focal points, \"champions\" or technical working groups have been identified in all participating sectors at the national level for planning the implementation of coordinated surveillance","L1","BEST FIT","PASS",7.8,8,9.8000000000000007,10,7.1,4,7,8.8000000000000007,5,{"$f":"SUM(H437:P437)/90","v":0.75},"Guidance document","One Health; Generalized"]
[null,null,null,"Focal points, \"champions\" or technical working groups have been identified in all participating sectors and at all country levels for planning the implementation of coordinated surveillance","L2","BEST FIT"]
[null,null,null,"Focal points, \"champions\" or technical working groups (including identified focal points or \"champions\") for coordinated surveillance have been institutionalized (e.g. through a governing body such as an MCM)   ","L3","OTHER "]
[null,"Assessment","A-1.1","Stakeholders working in surveillance, epidemiology, laboratory, and information sharing have been identified","L1","BEST FIT"]
[null,null,null,"Stakeholder analysis has been used to identify participants at all country levels ","L2","OTHER "]
[null,null,"A-2.2","The legal frameworks (rules, policies, guidelines and regulations including international standards) that govern the ethical and privacy standards for surveillance and data sharing have been assessed.","L1","BEST FIT"]
[null,null,"A-3.4","Basic infrastructure mapping exercises (as defined in TZG CH 4.1) have been used to describe the structure and linkages within and between the sectors ","L1","OTHER "]
[null,"Planning","Pl-1.1","Decision makers for the coordinated surveillance system has been identified","L1","OTHER "]
["Rabies ECON ","Assessment","A-4.1","Economic assessments have been used to determine the financial needs at all country levels for the coordinated surveillance system ","L1","OTHER ","PASS",9.1999999999999993,6,6.6,4,7.1,5.5,4,7.6,8,{"$f":"SUM(H445:P445)/90","v":0.64444444444444449},"Self-assessment tool","One Health; Disease/Threat Specific "]
[null,null,null,"Economic assessments have been used to determine national financial needs for the coordinated surveillance system ","L3","OTHER "]
["Animal Rabies Surveillance Cost Effectiveness Assessment Tool","Assessment","A-4.1","Economic assessments have been used to determine national financial needs for the coordinated surveillance system ","L1","BEST FIT","PASS",9.6,6,7,8.6999999999999993,6.7,6.8,6,8.8000000000000007,8,{"$f":"SUM(H447:P447)/90","v":0.75111111111111106},"Self-assessment tool","One Health; Disease/Threat Specific "]
[null,null,null,"Economic assessments have been used to determine the financial needs at all country levels for the coordinated surveillance system ","L3","BEST FIT"]
[null,"Implementation","I-1.1 ","Funding exists for coordinated surveillance at the national level","L1","OTHER "]
["Tool for Assessing Progress towards Elimination of Rabies (TAPER)","Implementation","I-4.1 ","The coordinated surveillance system is being piloted in target areas","L1","OTHER ","PASS",9.6,10,7.3,8,8.8000000000000007,5.5,4.3,7.9,6,{"$f":"SUM(H450:P450)/90","v":0.74888888888888894},"Hardware or Software","One Health; Disease/Threat Specific "]
[null,null,"I-4.1 ","The coordinated surveillance system has been expanded to additional areas based on pilot implementations","L2","OTHER "]
[null,null,"I-4.1 ","The coordinated surveillance system is a nation-wide program","L3","OTHER "]
["Stepwise Approach towards Rabies Elimination (SARE)","Assessment","A-1.1","Stakeholders working in surveillance, epidemiology, laboratory, and information sharing have been identified","L1","BEST FIT","PASS",8,9,6.6,3.3,5.7,6.8,8,8.6,9.5,{"$f":"SUM(H453:P453)/90","v":0.72777777777777775},"Self-assessment tool","One Health; Disease/Threat Specific "]
[null,null,null,"Stakeholder analysis has been used to identify participants at all country levels ","L2","OTHER "]
[null,null,"A-2.1","The interlinkages between current prioritized zoonotic disease surveillance systems have been assessed among sectors","L1","OTHER "]
[null,null,null,"The interlinkages between current surveillance systems have been assessed among sectors and at all country levels","L2","OTHER "]
[null,null,null,"The interlinkages between current surveillance systems have been assessed and determined to meet the objectives of the coordinated surveillance system.","L3","OTHER "]
[null,null,"A-2.2","The legal frameworks (rules, policies, guidelines and regulations including international standards) that govern the ethical and privacy standards for surveillance and data sharing have been assessed.","L1","OTHER "]
[null,null,null,"The legal frameworks (rules, policies, guidelines and regulations including international standards) that govern the ethical and privacy standards for surveillance and data sharing are assessed at all country levels ","L3","OTHER "]
[null,null,"A-3.2","Existing surveillance plans (including case definitions, protocols, and Standard Operating Procedures) relevant to the coordinated surveillance system have been assessed for potential consolidation and linking at the national level","L1","BEST FIT"]
[null,null,"A-3.2","Existing surveillance plans (including case definitions, protocols, and Standard Operating Procedures) relevant to the coordinated surveillance system have been assessed for potential consolidation and linking at all country levels","L3","BEST FIT"]
[null,null,"A-3.3","Existing action/operational plans relevant to the coordinated surveillance system have been assessed for potential consolidation and linking at the national level","L1","OTHER "]
[null,null,null,"Existing action/operational plans relevant to coordinated surveillance system have been assessed for potential consolidation and linking at all country levels","L3","OTHER "]
[null,null,"A-5.1","Laboratory assessments have been used to identify qualified national or international reference laboratories that can carry out testing to support the coordinated surveillance activities","L1","OTHER "]
[null,null,null,"Laboratory assessments have been used to identify qualified laboratories at all levels (including international) that can carry out testing to support the coordinated surveillance activities","L2","OTHER "]
[null,null,null,"Laboratory assessments have been used to identify a network of qualified laboratories that can carry out testing to support the coordinated surveillance activities","L3","OTHER "]
[null,"Planning","Pl-1.1","Decision makers for the coordinated surveillance system has been identified","L1","OTHER "]
[null,null,null,"Political will for the coordinated surveillance system is established, and advocates exists at all country levels","L2","BEST FIT"]
[null,null,null,"There is an advocacy strategy that informs communication with decision-makers on the coordinated surveillance system","L3","BEST FIT"]
[null,null,"PL-3.1","A multi-sectoral review of the national frameworks and strategic plans related to the coordinated surveillance system has occurred, for the purposes of planning.","L1","OTHER "]
[null,null,null,"Frameworks and strategic plans for the coordinated surveillance system have been consolidated and linked based on assessment at all country levels","L2","BEST FIT"]
[null,null,null,"Revised frameworks and strategic plans for the coordinated surveillance system have been aligned with international standards and recommendations. \n","L3","BEST FIT"]
[null,null,"PL-3.2","A multi-sectoral review of the national surveillance plans (including action/operational plans, case definitions, protocols, and Standard Operating Procedures) related to the coordinated surveillance system has occurred, for the purposes of planning.","L1","OTHER "]
[null,null,null,"Surveillance plans (including action/operational plans, case definitions, protocols, and Standard Operating Procedures) for the coordinated surveillance system have been consolidated and linked for the purposes of data sharing at all country levels","L2","OTHER "]
[null,null,null,"Revised surveillance plans (including action/operational plans, case definitions, protocols, and Standard Operating Procedures) for the coordinated surveillance system have been aligned with international guidelines and recommendations.","L3","OTHER "]
[null,null,"PL-6.1","Necessary legal frameworks (rules, policies, guidelines and regulations including international standards) have been standardized across sectors based on assessment at the national level","L1","OTHER "]
[null,null,null,"Necessary legal frameworks (rules, policies, guidelines and regulations including international standards) have been standardized across sectors based on assessment at all country levels","L2","OTHER "]
[null,null,null,"Revised legal frameworks for the coordinated surveillance system have been aligned with international standards and recommendations. ","L3","OTHER "]
[null,null,"PL-7.1","Communications terminology and messages are aligning among all sectors participating in the coordinated surveillance system at the national level.","L1","OTHER "]
[null,null,null,"Communications terminology and messages are aligned among all sectors participating in the coordinated surveillance system and disseminated at all country levels","L2","OTHER "]
[null,null,null,"There is a communications strategy and/or communications plan (which includes terminology and messaging) that informs communication with stakeholders and the public for the coordinated surveillance system","L3","OTHER "]
["Resource Mapping for IHR and health security (Remap)","Pre-Planning","PPG","N/A","N/A","N/A","PASS",9.6,4.7,8,7,5.9,5,4,7.2,4,{"$f":"SUM(H482:P482)/90","v":0.61555555555555563},"Hardware or Software","One Health; Generalized"]
["Surveillance Webtools (SURVTOOLS) ","Assessment","A-3.2","Existing surveillance plans (including case definitions, protocols, and Standard Operating Procedures) relevant to the coordinated surveillance system have been assessed for potential consolidation and linking at the national level","L1","OTHER ","PASS",9.6,2,6.7,6.7,6.6,3.5,6.7,4.9000000000000004,4.7,{"$f":"SUM(H483:P483)/90","v":0.57111111111111112},"Hardware or Software","Sector Specific; Generalized"]
[null,null,null,"Existing surveillance plans (including case definitions, protocols, and Standard Operating Procedures) relevant to the coordinated surveillance system have been assessed for potential consolidation and linking at all country levels","L3","OTHER "]
[null,null,"A-4.1","Economic assessments have been used to determine national financial needs for the coordinated surveillance system ","L1","BEST FIT"]
[null,null,null,"Economic assessments have been used to determine the financial needs at all country levels for the coordinated surveillance system ","L3","BEST FIT"]
[null,"Planning","PL-3.2","A multi-sectoral review of the national surveillance plans (including action/operational plans, case definitions, protocols, and Standard Operating Procedures) related to the coordinated surveillance system has occurred, for the purposes of planning.","L1","OTHER "]
[null,"Monitoring and Evaluation","ME-2.1","There is a monitoring and evaluation plan that meets the objectives of the coordinated surveillance system","L1","OTHER "]
["The Suite for Automated Global Electronic BioSurveillance (SAGES)","Implementation","I-3.1 \n","There is a mechanism to share data between sectors at the national level","L1","BEST FIT","PASS",9.8000000000000007,10,10,9.3000000000000007,8.5,9,5.5,9.5,7,{"$f":"SUM(H489:P489)/90","v":0.87333333333333329},"Hardware or Software","One Health; Generalized"]
[null,null,"I-3.1 \n","There is a mechanism to share data between sectors at all country levels","L2","BEST FIT"]
[null,null,"I-3.1 \n","There is a mechanism to share data that is accessible, functional, and usable by all participating sectors","L3","BEST FIT"]
[null,null,"I-3.2\n","There is a structure and location to store and maintain data from multiple sectors at the national level.","L1","BEST FIT"]
[null,null,"I-3.2\n","There is a structure and location to store and maintain data from multiple sectors at all country levels","L2","BEST FIT"]
[null,null,"I-3.2\n","There is a structure and location to store and maintain data from all relevant sectors conducting surveillance that is accessible, functional, and usable by all participating sectors","L3","BEST FIT"]
[null,null,"I-3.3\n","Coordinated surveillance data are protected by the data privacy and security measures in place at the national level ","L1","BEST FIT"]
[null,null,"I-3.3\n","Coordinated surveillance data are protected by the data privacy and security measures in place at all country levels","L2","BEST FIT"]
[null,null,"I-3.3\n","Coordinated surveillance data that have been assessed and determined to meet the objectives of the coordinated surveillance system are protected by the data privacy and security measures in place ","L3","BEST FIT"]
[null,null,"I-4.1 ","The coordinated surveillance system is being piloted in target areas","L1","OTHER "]
[null,null,"I-4.1 ","The coordinated surveillance system has been expanded to additional areas based on pilot implementations","L2","OTHER "]
[null,null,"I-4.1 ","The coordinated surveillance system is a nation-wide program","L3","OTHER "]
[null,null,"I-4.2","Data are shared informally or formally on an ad hoc basis at the national level","L1","BEST FIT"]
[null,null,"I-4.2","Data are shared informally or formally in a routine and timely fashion at all country levels","L2","BEST FIT"]
[null,null,"I-4.2","Data are shared systematically in a routine and timely manner between all participating sectors through an interoperable or joint platform(s) ","L3","BEST FIT"]
[null,null,"I-5.3","Coordinated surveillance data are used to generate outputs (e.g. figures, graphics, reports or bulletins) that are shared at the national level","L1","BEST FIT"]
[null,null,"I-5.3","Coordinated surveillance data are used to generate outputs (e.g. figures, graphics, reports or bulletins) that are disseminated to stakeholders at all country levels","L2","BEST FIT"]
[null,"Monitoring and Evaluation","ME-1.1","Simulation exercises are conducted to evaluate the efficiency and functionality of the coordinated surveillance system at the national level  ","L1","OTHER "]
[null,null,"ME-1.1","Simulation exercises are conducted to evaluate the efficiency and functionality of the coordinated surveillance system at all country levels  ","L2","OTHER "]
[null,null,"ME-1.1","Results of the simulation exercises are used to inform and revise coordinated surveillance plans ","L3","OTHER "]
[null,null,"ME-3.1","The data quality has been tested and determined to meet the objectives of the coordinated surveillance system ","L2","OTHER "]
["SuRveillance EVALuation framework (SERVAL)","Assessment","AG","N/A","N/A","N/A","PASS",8.8000000000000007,9,9,10,8.1,3.3,4,6.8,8,{"$f":"SUM(H510:P510)/90","v":0.74444444444444446},"Guidance document","Sector Specific; Generalized"]
[null,null,"A-1.1","Stakeholders working in surveillance, epidemiology, laboratory, and information sharing have been identified","L1","OTHER "]
[null,null,"A-3.2","Existing surveillance plans (including case definitions, protocols, and Standard Operating Procedures) relevant to the coordinated surveillance system have been assessed for potential consolidation and linking at the national level","L1","OTHER "]
[null,null,"A-4.1","Economic assessments have been used to determine national financial needs for the coordinated surveillance system ","L1","OTHER "]
[null,"Monitoring and Evaluation","ME-2.1","There is a monitoring and evaluation plan that meets the objectives of the coordinated surveillance system","L1","OTHER "]
[null,null,"ME-2.1","The monitoring and evaluation plan is implemented to track performance and progress of the coordinated surveillance system","L2","OTHER "]
[null,null,"ME-3.1","There is a data quality management methodology","L1","OTHER "]
["FAO Surveillance Evaluation Tool (SET)","Assessment","A-2.1","The interlinkages between current prioritized zoonotic disease surveillance systems have been assessed among sectors","L1","BEST FIT","PASS",8.1999999999999993,8.3000000000000007,7,7.7,6.7,6.3,8,6.8,8.5,{"$f":"SUM(H517:P517)/90","v":0.75},"Guided/Facilitated tool or process","Sector Specific; Generalized"]
[null,null,null,"The interlinkages between current surveillance systems have been assessed among sectors and at all country levels","L2","BEST FIT"]
[null,null,null,"The interlinkages between current surveillance systems have been assessed and determined to meet the objectives of the coordinated surveillance system.","L3","BEST FIT"]
[null,"Assessment","A-3.2","Existing surveillance plans (including case definitions, protocols, and Standard Operating Procedures) relevant to the coordinated surveillance system have been assessed for potential consolidation and linking at the national level","L1","BEST FIT"]
[null,null,null,"Existing surveillance plans (including case definitions, protocols, and Standard Operating Procedures) relevant to the coordinated surveillance system have been assessed for potential consolidation and linking at all country levels","L3","BEST FIT"]
["Laboratory Information Management System “SILAB for Africa” (SILABFA)","Implementation","I-3.1 \n","There is a mechanism to share data between sectors at the national level","L1","OTHER ","1 Eval",9.3000000000000007,10,6.8,9.3000000000000007,8,6.5,8,7.2,8,{"$f":"SUM(H522:P522)/90","v":0.81222222222222229},"Hardware or Software","Sector Specific; Generalized"]
[null,null,"I-3.2\n","There is a structure and location to store and maintain data from multiple sectors at the national level.","L1","OTHER "]
[null,null,"I-3.2\n","There is a structure and location to store and maintain data from multiple sectors at all country levels","L2","OTHER "]
[null,null,"I-3.2\n","There is a structure and location to store and maintain data from all relevant sectors conducting surveillance that is accessible, functional, and usable by all participating sectors","L3","OTHER "]
[null,null,"I-3.3\n","Coordinated surveillance data are protected by the data privacy and security measures in place at the national level ","L1","OTHER "]
[null,null,"I-3.3\n","Coordinated surveillance data are protected by the data privacy and security measures in place at all country levels","L2","OTHER "]
[null,null,"I-4.1 ","The coordinated surveillance system is being piloted in target areas","L1","OTHER "]
[null,null,"I-4.1 ","The coordinated surveillance system has been expanded to additional areas based on pilot implementations","L2","OTHER "]
[null,null,"I-4.1 ","The coordinated surveillance system is a nation-wide program","L3","OTHER "]
["Laboratory Information Management System Light (MiniLIMS)","Implementation","I-3.1 \n","There is a mechanism to share data between sectors at the national level","L1","OTHER ","1 Eval",9,7.3,8.4,9.3000000000000007,7.2,6.5,2,4.4000000000000004,4,{"$f":"SUM(H531:P531)/90","v":0.64555555555555555},"Hardware or Software","Sector Specific; Generalized"]
[null,null,"I-3.2\n","There is a structure and location to store and maintain data from multiple sectors at the national level.","L1","OTHER "]
[null,null,"I-3.2\n","There is a structure and location to store and maintain data from multiple sectors at all country levels","L2","OTHER "]
[null,null,"I-3.2\n","There is a structure and location to store and maintain data from all relevant sectors conducting surveillance that is accessible, functional, and usable by all participating sectors","L3","OTHER "]
[null,null,"I-3.3\n","Coordinated surveillance data are protected by the data privacy and security measures in place at the national level ","L1","OTHER "]
[null,null,"I-3.3\n","Coordinated surveillance data are protected by the data privacy and security measures in place at all country levels","L2","OTHER "]
[null,null,"I-4.1 ","The coordinated surveillance system is being piloted in target areas","L1","OTHER "]
[null,null,"I-4.1 ","The coordinated surveillance system has been expanded to additional areas based on pilot implementations","L2","OTHER "]
[null,null,"I-4.1 ","The coordinated surveillance system is a nation-wide program","L3","OTHER "]
["Surveillance Outbreak Response Management and Analysis System (SORMAS)","Implementation","I-3.1 \n","There is a mechanism to share data between sectors at the national level","L1","BEST FIT","PASS",9.1999999999999993,8,9.3000000000000007,9.1,9.3000000000000007,9.3000000000000007,6.8,3.9,5.3,{"$f":"SUM(H540:P540)/90","v":0.78},"Hardware or Software","Sector Specific; Generalized"]
[null,null,"I-3.1 \n","There is a mechanism to share data between sectors at all country levels","L2","BEST FIT"]
[null,null,"I-3.1 \n","There is a mechanism to share data that is accessible, functional, and usable by all participating sectors","L3","BEST FIT"]
[null,null,"I-3.2\n","There is a structure and location to store and maintain data from multiple sectors at the national level.","L1","BEST FIT"]
[null,null,"I-3.2\n","There is a structure and location to store and maintain data from multiple sectors at all country levels","L2","BEST FIT"]
[null,null,"I-3.2\n","There is a structure and location to store and maintain data from all relevant sectors conducting surveillance that is accessible, functional, and usable by all participating sectors","L3","BEST FIT"]
[null,null,"I-3.3\n","Coordinated surveillance data are protected by the data privacy and security measures in place at the national level ","L1","BEST FIT"]
[null,null,"I-3.3\n","Coordinated surveillance data are protected by the data privacy and security measures in place at all country levels","L2","BEST FIT"]
[null,null,"I-3.3\n","There are data privacy and security measures in place to protect coordinated surveillance data that has been assessed and determined to meet the objectives of the coordinated surveillance system","L3","BEST FIT"]
[null,null,"I-5.3","Coordinated surveillance data are used to generate outputs (e.g. figures, graphics, reports or bulletins) that are shared at the national level","L1","BEST FIT"]
[null,null,"I-5.3","Coordinated surveillance data are used to generate outputs (e.g. figures, graphics, reports or bulletins) that are disseminated to stakeholders at all country levels","L2","BEST FIT"]
[null,null,"I-5.3","Coordinated surveillance data, including M&E reports, are used to generate outputs that inform, response, policy and programming","L3","BEST FIT"]
["International Health Regulations (‎2005):State Party self-assessment annual reporting tool (SPAR)","Assessment","AG","N/A","N/A","N/A","PASS",9.9,10,9.3000000000000007,7.3,9.4,9,8.5,6.3,6.7,{"$f":"SUM(H552:P552)/90","v":0.84888888888888892},"Self-assessment tool","One Health; Generalized"]
[null,null,"A-2.1","The interlinkages between current prioritized zoonotic disease surveillance systems have been assessed among sectors","L1","OTHER "]
[null,null,null,"The interlinkages between current surveillance systems have been assessed among sectors and at all country levels","L2","OTHER "]
[null,null,null,"The interlinkages between current surveillance systems have been assessed and determined to meet the objectives of the coordinated surveillance system.","L3","OTHER "]
[null,"Monitoring and Evaluation","ME-2.1","Results of monitoring and evaluation iteratively improve or expand the coordinated surveillance system and align with international standards and recommendations ","L3","OTHER "]
["Staged Tool for the Elimination of Brucellosis (STEB)","Planning","A-2.2","The legal frameworks (rules, policies, guidelines and regulations including international standards) that govern the ethical and privacy standards for surveillance and data sharing have been assessed.","L1","OTHER ","PASS",9,10,7.6,3.7,5.7,7.3,7,8.6,8,{"$f":"SUM(H557:P557)/90","v":0.7433333333333334},"Guided/Facilitated tool or process","One Health; Disease/Threat Specific "]
[null,null,"A-3.2","Existing surveillance plans (including case definitions, protocols, and Standard Operating Procedures) relevant to the coordinated surveillance system have been assessed for potential consolidation and linking at the national level","L1","OTHER "]
[null,null,"A-5.1","Laboratory assessments have been used to identify qualified national or international reference laboratories that can carry out testing to support the coordinated surveillance activities","L1","OTHER "]
[null,null,"PL-3.1","A multi-sectoral review of the national frameworks and strategic plans related to the coordinated surveillance system has occurred, for the purposes of planning.","L1","OTHER "]
["Surveillance Evaluation Framework (SurF)","Assessment","AG","N/A","N/A","N/A","PASS",7.6,6,8,8.6999999999999993,8.6,4.0999999999999996,4,8,4,{"$f":"SUM(H561:P561)/90","v":0.65555555555555556},"Guidance document","One Health; Generalized"]
[null,null,"ME-2.1","There is a monitoring and evaluation plan that meets the objectives of the coordinated surveillance system","L1","BEST FIT"]
[null,null,"ME-2.1","The monitoring and evaluation plan is implemented to track performance and progress of the coordinated surveillance system","L2","BEST FIT"]
[null,null,"ME-3.1","There is a data quality management methodology","L1","OTHER "]
[null,null,"ME-3.1","The data quality has been tested and determined to meet the objectives of the coordinated surveillance system ","L2","OTHER "]
[null,null,"ME-3.1","The data quality aligns with international standards and recommendations ","L3","OTHER "]
["SurvCost: A tool to Estimate the Cost of Integrated Disease Surveillance and Response","Assessment","A-4.1","Economic assessments have been used to determine national financial needs for the coordinated surveillance system ","L1","BEST FIT","PASS",9.8000000000000007,8,7.6,9.6999999999999993,7.7,5.8,7,7.3,8,{"$f":"SUM(H567:P567)/90","v":0.78777777777777769},"Self-assessment tool","Sector Specific; Generalized"]
[null,null,null,"Economic assessments have been used to determine the financial needs at all country levels for the coordinated surveillance system ","L3","BEST FIT"]
[null,"Planning","PL-4.1","There is a budgetary plan and a mechanism for distributing funds for coordinated surveillance at the national level","L1","OTHER "]
[null,"Implementation","I-1.1 ","Funding exists for coordinated surveillance at the national level","L1","OTHER "]
["World Organisation for Animal Health (WOAH) WAHIS Alert application","Implementation","I-5.2","Comply with international notification requirements for all zoonotic diseases","L1","OTHER ","PASS",9.6999999999999993,10,8.8000000000000007,8.6999999999999993,8.3000000000000007,5,7.5,3.3,6,{"$f":"SUM(H571:P571)/90","v":0.74777777777777776},"Hardware or Software","Sector Specific; Generalized"]
[null,null,"I-5.3","Coordinated surveillance data are used to generate outputs (e.g. figures, graphics, reports or bulletins) that are shared at the national level","L1","OTHER "]
[null,null,"I-5.3","Coordinated surveillance data are used to generate outputs (e.g. figures, graphics, reports or bulletins) that are disseminated to stakeholders at all country levels","L2","OTHER "]
[]
["Antimicrobial resistance: a manual for developing national action plans","Assessment","A-2.2","The legal frameworks (rules, policies, guidelines and regulations including international standards) that govern the ethical and privacy standards for surveillance and data sharing have been assessed.","L1","OTHER ","PASS",10,6,6.6,8.6999999999999993,8,3.8,4.5,9,10,{"$f":"SUM(H575:P575)/90","v":0.74},"Guidance document","One Health; Disease/Threat Specific "]
[null,"Planning","PL-3.1","A multi-sectoral review of the national frameworks and strategic plans related to the coordinated surveillance system has occurred, for the purposes of planning.","L1","OTHER ",null,null,10,7,6,6.7666666666666675,6,10,6.8,8,{"$f":"SUM(H576:P576)/90","v":0.67296296296296287}]
[null,null,null,"Frameworks and strategic plans for the coordinated surveillance system have been consolidated and linked based on assessment at all country levels","L2","OTHER "]
[null,"Monitoring and Evaluation","ME-2.1","There is a monitoring and evaluation plan that meets the objectives of the coordinated surveillance system","L1","OTHER "]
[]
[null,null,null,null,null,null,null,null,null,null,null,null,null,null,null,null,null,null,null,"DO NOT ADD"]
[]
[]
[]
[]
[]
[]
[]
[]
[]
[]
[]
["WHO CHOICE","Assessment","A-4.1","Economic assessments have been used to determine national financial needs for the coordinated surveillance system ","L1","OTHER ","PASS",9.6,8,7.4,5.3,7.3,5,8.5,5,9,{"$f":"SUM(H592:P592)/90","v":0.72333333333333327},"Self-assessment tool","Sector Specific; Generalized"]
[null,"Planning","PL-3.1","A multi-sectoral review of the national frameworks and strategic plans related to the coordinated surveillance system has occurred, for the purposes of planning.","L1","OTHER "]
[null,null,null,"Frameworks and strategic plans for the coordinated surveillance system have been consolidated and linked based on assessment at all country levels","L2","OTHER "]
["Data Quality Review (DQR) Toolkit","Monitoring and Evaluation","ME-3.1","There is a data quality management methodology","L1","BEST FIT","PASS",7.7,7,7.7,10,6.3,4.8,5.5,5,4,{"$f":"SUM(H595:P595)/90","v":0.64444444444444438},"Self-assessment tool","Sector Specific; Generalized"]
[null,null,"ME-3.1","The data quality has been tested and determined to meet the objectives of the coordinated surveillance system ","L2","BEST FIT"]
[null,null,"ME-3.1","The data quality aligns with international standards and recommendations ","L3","BEST FIT"]
["WHO Laboratory Assessment Tool","Assessment","A-3.4","Basic infrastructure mapping exercises (as defined in TZG CH 4.1) have been used to describe the structure and linkages within and between the sectors ","L1","OTHER ","PASS",9,10,6.4,6,7.2,5.5,6,5.8,4,{"$f":"SUM(H598:P598)/90","v":0.66555555555555557},"Self-assessment tool","Sector Specific; Generalized"]
[null,null,null,"Infrastructure mapping has been used to describe the majority of mapping areas (as described in TZG CH 4.1)","L2","OTHER "]
[null,null,null,"Comprehensive infrastructure mapping has been used to describe all mapping areas (as described in TZG CH 4.1).","L3","OTHER "]
[null,null,"A-5.1","Laboratory assessments have been used to identify qualified national or international reference laboratories that can carry out testing to support the coordinated surveillance activities","L1","BEST FIT"]
[null,null,null,"Laboratory assessments have been used to identify qualified laboratories at all levels (including international) that can carry out testing to support the coordinated surveillance activities","L2","BEST FIT"]
[null,null,null,"Laboratory assessments have been used to identify a network of qualified laboratories that can carry out testing to support the coordinated surveillance activities","L3","BEST FIT"]
["Rabies Exposure and Case Tracker Application (React)","Implementation","I-3.1 \n","There is a mechanism to share data between sectors at the national level","L1","BEST FIT","1 EVAL",8.6,8.6,8,8.6,9.4,9.5,9,9.1999999999999993,9,{"$f":"SUM(H604:P604)/90","v":0.88777777777777767},"Hardware or Software","One Health; Disease/Threat Specific "]
[null,null,"I-3.1 \n","There is a mechanism to share data between sectors at all country levels","L2","BEST FIT"]
[null,null,"I-3.1 \n","There is a mechanism to share data that is accessible, functional, and usable by all participating sectors","L3","BEST FIT"]
[null,null,"I-3.2\n","There is a structure and location to store and maintain data from multiple sectors at the national level.","L1","BEST FIT"]
[null,null,"I-3.2\n","There is a structure and location to store and maintain data from multiple sectors at all country levels","L2","BEST FIT"]
[null,null,"I-3.2\n","There is a structure and location to store and maintain data from all relevant sectors conducting surveillance that is accessible, functional, and usable by all participating sectors","L3","BEST FIT"]
[null,null,"I-3.3\n","Coordinated surveillance data are protected by the data privacy and security measures in place at the national level ","L1","BEST FIT"]
[null,null,"I-3.3\n","Coordinated surveillance data are protected by the data privacy and security measures in place at all country levels","L2","BEST FIT"]
[null,null,"I-3.3\n","Coordinated surveillance data that have been assessed and determined to meet the objectives of the coordinated surveillance system are protected by the data privacy and security measures in place ","L3","BEST FIT"]
[null,null,"I-4.1 ","The coordinated surveillance system is being piloted in target areas","L1","OTHER "]
[null,null,"I-4.1 ","The coordinated surveillance system has been expanded to additional areas based on pilot implementations","L2","OTHER "]
[null,null,"I-4.1 ","The coordinated surveillance system is a nation-wide program","L3","OTHER "]
[null,null,"I-4.2","Data are shared informally or formally on an ad hoc basis at the national level","L1","OTHER "]
[null,null,"I-4.2","Data are shared informally or formally in a routine and timely fashion at all country levels","L2","OTHER "]
[null,null,"I-4.2","Data are shared systematically in a routine and timely manner between all participating sectors through an interoperable or joint platform(s) ","L3","OTHER "]
[null,null,"I-5.1 ","There is routine information sharing with relevant stakeholders","L1","OTHER "]
[null,null,"I-5.1 ","There is routine and timely information sharing with relevant stakeholders including cross-border, regional and international entities","L2","OTHER "]
[null,null,"I-5.3","Coordinated surveillance data are used to generate outputs (e.g. figures, graphics, reports or bulletins) that are shared at the national level","L1","OTHER "]
[null,null,"I-5.3","Coordinated surveillance data are used to generate outputs (e.g. figures, graphics, reports or bulletins) that are disseminated to stakeholders at all country levels","L2","OTHER "]
[null,null,"I-5.3","Coordinated surveillance data, including M&E reports, are used to generate outputs that inform, response, policy and programming","L3","OTHER "]
["One Health Stakeholder Mapping Toolkit","Pre-Planning","PP-1.1","Focal points, \"champions\" or technical working groups have been identified in all participating sectors at the national level for planning the implementation of coordinated surveillance","L1","BEST FIT","1 EVAL",8.4,8,8.4,6.7,2,3.5,4,6.4,8,{"$f":"SUM(H624:P624)/90","v":0.61555555555555552},"Guidance document","One Health; Generalized"]
[null,null,"PP-1.1","Focal points, \"champions\" or technical working groups have been identified in all participating sectors and at all country levels for planning the implementation of coordinated surveillance","L2","BEST FIT"]
[null,"Assessment","A-1.1","Stakeholders working in surveillance, epidemiology, laboratory, and information sharing have been identified","L1","BEST FIT"]
[null,null,"A-1.1","Stakeholder analysis has been used to identify participants at all country levels ","L2","BEST FIT"]
["Organizational Structure and Terms of Reference Toolkit","Pre-Planning","PP-1.1","Focal points, \"champions\" or technical working groups have been identified in all participating sectors at the national level for planning the implementation of coordinated surveillance","L1","BEST FIT","1 EVAL",8.4,8,8.4,6.7,2,3.5,4,6.4,8,{"$f":"SUM(H628:P628)/90","v":0.61555555555555552},"Guidance document","One Health; Generalized"]
[null,null,"PP-1.1","Focal points, \"champions\" or technical working groups have been identified in all participating sectors and at all country levels for planning the implementation of coordinated surveillance","L2","BEST FIT"]
[null,null,"PP-1.1","Focal points, \"champions\" or technical working groups (including identified focal points or \"champions\") for coordinated surveillance have been institutionalized (e.g. through a governing body such as an MCM)   ","L3","BEST FIT"]
[null,null,"PP-3.1","Goal(s), roles, and responsibilities of all participating sectors of the coordinated surveillance system are agreed upon at the national level","L1","OTHER "]
[null,null,null,"Goal(s), roles, and responsibilities of all participating sectors of the coordinated surveillance system are agreed upon and expanded to include all country levels","L2","OTHER "]
[null,"Assessment","A-1.1","Roles and responsibilities of stakeholders have been institutionalized and adopted in policy","L3","OTHER "]
["Governance Manual Toolkit","Pre-Planning","A-2.2","The legal frameworks (rules, policies, guidelines and regulations including international standards) that govern the ethical and privacy standards for surveillance and data sharing have been assessed.","L1","OTHER ","1 EVAL",8.4,8,8.4,6.7,2,3.5,4,6.4,8,{"$f":"SUM(H634:P634)/90","v":0.61555555555555552},"Guidance document","One Health; Generalized"]
[null,null,"PP-1.1","Focal points, \"champions\" or technical working groups have been identified in all participating sectors at the national level for planning the implementation of coordinated surveillance","L1","BEST FIT"]
[null,null,"PP-1.1","Focal points, \"champions\" or technical working groups have been identified in all participating sectors and at all country levels for planning the implementation of coordinated surveillance","L2","BEST FIT"]
[null,null,"PP-3.1","Goal(s), roles, and responsibilities of all participating sectors of the coordinated surveillance system are agreed upon at the national level","L1","BEST FIT"]
[null,null,null,"Goal(s), roles, and responsibilities of all participating sectors of the coordinated surveillance system are agreed upon and expanded to include all country levels","L2","BEST FIT"]
[null,null,null,"Goal(s), roles and responsibilities of the coordinated surveillance system have been re-evaluated to reflect the current needs of the coordinated surveillance system ","L3","BEST FIT"]
[null,null,"I-2.1","Focal points or technical working groups meet on an ad hoc basis","L1","BEST FIT"]
[null,null,"I-2.1","Focal points or technical working groups meet on a routine basis and to address priority issues as they arise","L2","BEST FIT"]
[null,null,"I-2.1","Technical working groups regularly review and optimize coordinated surveillance activities ","L3","BEST FIT"]
["One Health Strategic Plan Development","Assessment","A-3.1","Frameworks and strategic plans relevant to the coordinated surveillance system have been assessed for potential consolidation and linking at the national level","L1","OTHER ","1 EVAL",8.4,8,8.4,6.7,2,3.5,4,6.4,8,{"$f":"SUM(H643:P643)/90","v":0.61555555555555552},"Guidance document","One Health; Generalized"]
[null,null,"A-3.1","Frameworks and strategic plans relevant to the coordinated surveillance system have been assessed for potential consolidation and linking at all country levels","L3","OTHER "]
[null,"Planning","PL-3.1","A multi-sectoral review of the national frameworks and strategic plans related to the coordinated surveillance system has occurred, for the purposes of planning.","L1","OTHER "]
[null,null,"PL-3.1","Frameworks and strategic plans for the coordinated surveillance system have been consolidated and linked based on assessment at all country levels","L2","OTHER "]
[null,null,"PL-3.1","Revised frameworks and strategic plans for the coordinated surveillance system have been aligned with international standards and recommendations. \n","L3","OTHER "]
["Preparedness and Response Planning Toolkit","Pre-Planning","PP-1.1","Focal points, \"champions\" or technical working groups have been identified in all participating sectors at the national level for planning the implementation of coordinated surveillance","L1","BEST FIT","1 EVAL",8.4,8,8.4,6.7,2,3.5,4,6.4,8,{"$f":"SUM(H648:P648)/90","v":0.61555555555555552},"Guidance document","One Health; Generalized"]
[null,null,"PP-1.1","Focal points, \"champions\" or technical working groups have been identified in all participating sectors and at all country levels for planning the implementation of coordinated surveillance","L2","BEST FIT"]
[null,null,"PP-3.1","Goal(s), roles, and responsibilities of all participating sectors of the coordinated surveillance system are agreed upon at the national level","L1","OTHER "]
[null,null,"PP-3.1","Goal(s), roles, and responsibilities of all participating sectors of the coordinated surveillance system are agreed upon and expanded to include all country levels","L2","OTHER "]
[null,"Assessment","A-2.1","The interlinkages between current prioritized zoonotic disease surveillance systems have been assessed among sectors","L1","OTHER "]
[null,null,"A-3.2","Existing surveillance plans (including case definitions, protocols, and Standard Operating Procedures) relevant to the coordinated surveillance system have been assessed for potential consolidation and linking at the national level","L1","BEST FIT"]
[null,null,"A-3.2","Existing surveillance plans (including case definitions, protocols, and Standard Operating Procedures) relevant to the coordinated surveillance system have been assessed for potential consolidation and linking at all country levels","L3","BEST FIT"]
[null,null,"A-3.3","Existing action/operational plans relevant to the coordinated surveillance system have been assessed for potential consolidation and linking at the national level","L1","BEST FIT"]
[null,null,"A-3.3","Existing action/operational plans relevant to coordinated surveillance system have been assessed for potential consolidation and linking at all country levels","L3","BEST FIT"]
[null,null,"A-3.4","Basic infrastructure mapping exercises (as defined in TZG CH 4.1) have been used to describe the structure and linkages within and between the sectors ","L1","OTHER "]
[null,null,"A-3.4","Infrastructure mapping has been used to describe the majority of mapping areas (as described in TZG CH 4.1)","L2","OTHER "]
[null,null,"A-5.1","Laboratory assessments have been used to identify qualified national or international reference laboratories that can carry out testing to support the coordinated surveillance activities","L1","OTHER "]
[null,null,"A-5.2","Laboratory supply, transport chains and results interpretation have been assessed for harmonized between participating sectors at the national level","L1","OTHER "]
[null,null,"A-5.2","Laboratory supply, transport chains and results interpretation between participating sectors have been assessed for harmonized at all country levels","L2","OTHER "]
[null,"Planning","PL-3.2","A multi-sectoral review of the national surveillance plans (including action/operational plans, case definitions, protocols, and Standard Operating Procedures) related to the coordinated surveillance system has occurred, for the purposes of planning.","L1","OTHER "]
[null,null,"PL-3.2","Surveillance plans (including action/operational plans, case definitions, protocols, and Standard Operating Procedures) for the coordinated surveillance system have been consolidated and linked for the purposes of data sharing at all country levels","L2","OTHER "]
[null,null,"PL-3.2","Revised surveillance plans (including action/operational plans, case definitions, protocols, and Standard Operating Procedures) for the coordinated surveillance system have been aligned with international guidelines and recommendations.","L3","OTHER "]
[null,null,"PL-4.1","There is a budgetary plan and a mechanism for distributing funds for coordinated surveillance at the national level","L1","OTHER "]
[null,null,null,"There is a budgetary plan and a mechanism for distributing funds for coordinated surveillance at all country levels","L2","OTHER "]
[null,null,"PL-7.1","Communications terminology and messages are aligning among all sectors participating in the coordinated surveillance system at the national level.","L1","BEST FIT"]
[null,null,"PL-7.1","Communications terminology and messages are aligned among all sectors participating in the coordinated surveillance system and disseminated at all country levels","L2","BEST FIT"]
[null,null,"PL-7.1","There is a communications strategy and/or communications plan (which includes terminology and messaging) that informs communication with stakeholders and the public for the coordinated surveillance system","L3","BEST FIT"]
[null,"Implementation","I-2.1","Technical working groups regularly review and optimize coordinated surveillance activities ","L3","OTHER "]
[null,null,"I-3.1 \n","There is a mechanism to share data between sectors at the national level","L1","OTHER "]
[null,null,"I-4.2","Data are shared informally or formally on an ad hoc basis at the national level","L1","OTHER "]
[null,null,"I-4.2","Data are shared informally or formally in a routine and timely fashion at all country levels","L2","OTHER "]
[null,null,"I-4.2","Data are shared systematically in a routine and timely manner between all participating sectors through an interoperable or joint platform(s) ","L3","OTHER "]
["Incorporating One Health Into Policy and Technical Guidance Kit","Assessment","A-3.2","Existing surveillance plans (including case definitions, protocols, and Standard Operating Procedures) relevant to the coordinated surveillance system have been assessed for potential consolidation and linking at the national level","L1","BEST FIT","1 EVAL",8.4,8,8.4,6.7,2,3.5,4,6.4,8,{"$f":"SUM(H675:P675)/90","v":0.61555555555555552},"Guidance document","One Health; Generalized"]
[null,null,"A-3.2","Existing surveillance plans (including case definitions, protocols, and Standard Operating Procedures) relevant to the coordinated surveillance system have been assessed for potential consolidation and linking at all country levels","L3","BEST FIT"]
["Simulation Toolkit","Monitoring and Evaluation","ME-1.1","Simulation exercises are conducted to evaluate the efficiency and functionality of the coordinated surveillance system at the national level  ","L1","BEST FIT","1 EVAL",8.4,8,8.4,6.7,2,3.5,4,6.4,8,{"$f":"SUM(H677:P677)/90","v":0.61555555555555552},"Guidance document","One Health; Generalized"]
[null,null,"ME-1.1","Simulation exercises are conducted to evaluate the efficiency and functionality of the coordinated surveillance system at all country levels  ","L2","BEST FIT"]
[null,null,"ME-1.1","Results of the simulation exercises are used to inform and revise coordinated surveillance plans ","L3","OTHER "]
["Disease Outbreak After Action Report Toolkit","Implementation","I-2.1 ","Focal points or technical working groups meet on an ad hoc basis","L1","OTHER ","1 EVAL",8.4,8,8.4,6.7,2,3.5,4,6.4,8,{"$f":"SUM(H680:P680)/90","v":0.61555555555555552},"Guidance document","One Health; Generalized"]
[null,null,"I-2.1 ","Focal points or technical working groups meet on a routine basis and to address priority issues as they arise","L2","OTHER "]
[null,null,"I-2.1 ","Technical working groups regularly review and optimize coordinated surveillance activities ","L3","OTHER "]
["One Health Policy Advocacy Toolkit","Planning","Pl-1.1","Political will for the coordinated surveillance system is established, and advocates exists at all country levels","L2","BEST FIT","1 EVAL",8.4,8,8.4,6.7,2,3.5,4,6.4,8,{"$f":"SUM(H683:P683)/90","v":0.61555555555555552},"Guidance document","One Health; Generalized"]
[null,null,"Pl-1.1","There is an advocacy strategy that informs communication with decision-makers on the coordinated surveillance system","L3","BEST FIT"]
["One Health Policy Model Toolkit","Planning","Pl-1.1","Political will for the coordinated surveillance system is established, and advocates exists at all country levels","L2","OTHER ","1 EVAL",8.4,8,8.4,6.7,2,3.5,4,6.4,8,{"$f":"SUM(H685:P685)/90","v":0.61555555555555552},"Guidance document","One Health; Generalized"]
["Sustainable Funding Strategy for One Health Toolkit","Assessment","A-4.1","Economic assessments have been used to determine national financial needs for the coordinated surveillance system ","L1","BEST FIT","1 EVAL",8.4,8,8.4,6.7,2,3.5,4,6.4,8,0.61555555555555552,"Guidance document","One Health; Generalized"]
[null,null,"A-4.1","Economic assessments have been used to determine the financial needs at all country levels for the coordinated surveillance system ","L3","BEST FIT"]
[null,"Planning","PL-4.1","There is a budgetary plan and a mechanism for distributing funds for coordinated surveillance at the national level","L1","OTHER "]
[null,"Implementation","I-1.1 ","Funding exists for coordinated surveillance at the national level","L1","BEST FIT"]
[null,null,"I-1.1 ","Funding exists for coordinated surveillance at all country levels","L2","BEST FIT"]
[null,null,"I-1.1 ","Sustainable funding (i.e, included in the national budget) is allocated for coordinated surveillance activities and has been assessed and determined to meet the objectives of the coordinated surveillance system","L3","BEST FIT"]

{"sheet":"Section I","index":9,"n_rows":21,"n_cols":2,"rows_kept":21,"cut":false,"hidden":false,"merged":[[2,1,5,30],[16,1,18,30],[20,1,28,30],[7,1,14,30]]}
[]
[]
[null,"SECTION I: PRE-PLANNING"]
[]
[]
[]
[]
[null,"This section of the tool will introduce you to the first of five stages in the process to build coordinated surveillance: Pre-planning. \n\nThis section includes three categories and three activities in total to assess."]
[]
[]
[]
[]
[]
[]
[]
[]
[null,"Pre-planning Overview"]
[]
[]
[]
[null,"The Pre-Planning stage includes the preparatory steps done in advance of the work to establish or strengthen a coordinated surveillance system for zoonotic diseases. These include activities such as identifying preliminary stakeholders, identifying the prioritized zoonotic diseases to include in the system, and identifying the objectives and setting the goals for the system. These steps are important for creating a solid foundation for building or strengthening a functional coordinated surveillance system.\n\nThe resources presented in this section should be considered by individuals using the SIS OT for assistance in this preparatory stage to establishment or strengthening of the national coordinated surveillance system for zoonotic diseases."]

{"sheet":"Focal Points","index":10,"n_rows":44,"n_cols":37,"rows_kept":44,"cut":false,"hidden":false,"merged":[[30,35,44,40],[45,12,46,15],[2,1,4,33],[26,16,46,16],[27,1,28,3],[27,10,28,15],[27,19,28,24],[27,28,28,33],[30,10,41,15],[7,1,9,33],[11,1,24,33],[27,5,28,8],[43,34,44,34],[30,1,44,3],[30,19,41,24],[30,28,41,33],[43,28,44,30],[43,32,44,33],[30,5,44,8],[36,17,37,17],[36,26,37,26],[42,14,42,15],[43,10,44,12],[43,14,44,15],[43,17,44,17],[43,19,44,21],[43,23,44,24],[43,26,44,26]]}
[]
[]
[null,"Focal Points"]
[]
[]
[]
[]
[null,"Please select whether each activity below is completed (\"1\") or pending (\"0\") based on the current level of capacity in your country."]
[]
[]
[]
[null,"IMPORTANT NOTES:\n    ·Select \"1\" if the capacity has been completed and \"0\" if the activity has not been completed or is pending.\n    ·If the capacity level is complete and the selected response is \"1\", the next capacity level for the activity opens.\n    ·If the capacity does not apply to your situation, select \"0\".\n    ·If you do not know the answer, select \"0\".\n    ·If there are two elements to the capacity level (the sentence will be joined with \"AND\"), then BOTH must be complete if \"1\" is selected as your response.\n \nCRITICAL ASSUMPTION: \n    ·Since the SIS OT refers to the development of coordinated surveillance and data sharing, selecting \"1\"  implies that the capacity level has been completed in the One Health sectors which are relevant for this activity. If not, please select \"0\"."]
[]
[]
[]
[]
[]
[]
[]
[null,null,null,null,null,null,null,null,null,null,null,null,null,null,null,null,null,null,null,null,null,null,null,null,null,null,null,null,null,null,null,null,null,null,null,null,1]
[null,null,null,null,null,null,null,null,null,null,null,null,null,null,null,null,null,null,null,null,null,null,null,null,null,null,null,null,null,null,null,null,null,null,null,null,0]
[]
[]
[]
[]
[]
[]
[null,"STAGE",null,null,null,"ACTIVITY",null,null,null,null,"LEVEL 1",null,null,null,null,null,null,null,null,"LEVEL 2",null,null,null,null,null,null,null,null,"LEVEL 3"]
[]
[]
[null,"Pre-Planning",null,null,null,{"$f":"Activities!B2","v":"PP-1 Identifying Preliminary Stakeholders"},null,null,null,null,{"$f":"Activities!C2","v":"Focal points, \"champions\" or technical working groups have been identified in all participating sectors at the national level for planning the implementation of coordinated surveillance"},null,null,null,null,null,null,null,null,{"$f":"Activities!C3","v":"Focal points, \"champions\" or technical working groups have been identified in all participating sectors and at all country levels for planning the implementation of coordinated surveillance"},null,null,null,null,null,null,null,null,{"$f":"Activities!C4","v":"Focal points, \"champions\" or technical working groups (including identified focal points or \"champions\") for coordinated surveillance have been institutionalized (e.g. through a governing body such as an MCM)   "},null,null,null,null,null,null,"COMMENTS: "]
[]
[]
[]
[]
[]
[null,null,null,null,null,null,null,null,null,null,null,null,null,null,null,null,null,"(if yes)",null,null,null,null,null,null,null,null,"(if yes)"]
[]
[]
[]
[]
[]
[]
[null,null,null,null,null,null,null,null,null,null,"RESPONSE:",null,null,null,null,null,null,{"$f":"IF(O44=\"Yes\",1,0)","v":0},null,"RESPONSE:",null,null,null,null,null,null,{"$f":"IF(X44=\"Yes\",1,0)","v":0},null,"RESPONSE:"]

{"sheet":"Prioritization","index":11,"n_rows":44,"n_cols":37,"rows_kept":44,"cut":false,"hidden":false,"merged":[[30,35,44,40],[30,5,44,8],[30,10,41,15],[30,19,41,24],[30,28,41,33],[36,17,37,17],[36,26,37,26],[42,14,42,15],[43,10,44,12],[43,14,44,15],[43,17,44,17],[43,19,44,21],[43,23,44,24],[43,26,44,26],[43,28,44,30],[43,32,44,33],[2,1,4,33],[7,1,9,33],[11,1,24,33],[26,16,46,16],[27,1,28,3],[27,5,28,8],[27,10,28,15],[27,19,28,24],[27,28,28,33],[30,1,44,3],[45,13,46,15]]}
[]
[]
[null,"Prioritization"]
[]
[]
[]
[]
[null,"Please select whether each activity below is completed (\"1\") or has not been completed / is pending (\"0\") based on the current level of capacity in your country."]
[]
[]
[]
[null,"IMPORTANT NOTES:\n    ·Select \"1\" if the capacity has been completed and \"0\" if the activity has not been completed or is pending.\n    ·If the capacity level is complete and the selected response is \"1\", the next capacity level for the activity opens.\n    ·If the capacity does not apply to your situation, select \"0\".\n    ·If you do not know the answer, select \"0\".\n    ·If there are two elements to the capacity level (the sentence will be joined with \"AND\"), then BOTH must be complete if \"1\" is selected as your response.\n \nCRITICAL ASSUMPTION: \n    ·Since the SIS OT refers to the development of coordinated surveillance and data sharing, selecting \"1\"  implies that the capacity level has been completed in the One Health sectors which are relevant for this activity. If not, please select \"0\"."]
[]
[]
[]
[]
[]
[]
[]
[null,null,null,null,null,null,null,null,null,null,null,null,null,null,null,null,null,null,null,null,null,null,null,null,null,null,null,null,null,null,null,null,null,null,null,null,1]
[null,null,null,null,null,null,null,null,null,null,null,null,null,null,null,null,null,null,null,null,null,null,null,null,null,null,null,null,null,null,null,null,null,null,null,null,0]
[]
[]
[]
[]
[null," "]
[]
[null,"STAGE",null,null,null,"ACTIVITY",null,null,null,null,"LEVEL 1",null,null,null,null,null,null,null,null,"LEVEL 2",null,null,null,null,null,null,null,null,"LEVEL 3"]
[]
[]
[null,"Pre-Planning",null,null,null,{"$f":"Activities!B5","v":"PP-2 Prioritization"},null,null,null,null,{"$f":"Activities!C5","v":"A list of prioritized zoonotic diseases exists for inclusion in a coordinated surveillance system"},null,null,null,null,null,null,null,null,{"$f":"Activities!C6","v":"A list of zoonotic diseases is broadly distributed to the subnational and community levels"},null,null,null,null,null,null,null,null,{"$f":"Activities!C7","v":"A list of zoonotic diseases is developed using a multisectoral, One Health approach. Such an approach would involve all relevant sectors in an evidence-based, transparent, repeatable prioritization process"},null,null,null,null,null,null,"COMMENTS:"]
[]
[]
[]
[]
[]
[null,null,null,null,null,null,null,null,null,null,null,null,null,null,null,null,null,"(if yes)",null,null,null,null,null,null,null,null,"(if yes)"]
[]
[]
[]
[]
[]
[]
[null,null,null,null,null,null,null,null,null,null,"RESPONSE:",null,null,null,null,null,null,{"$f":"IF(O44=\"Yes\",1,0)","v":0},null,"RESPONSE:",null,null,null,null,null,null,{"$f":"IF(X44=\"Yes\",1,0)","v":0},null,"RESPONSE:"]

{"sheet":"Goal Setting","index":12,"n_rows":44,"n_cols":37,"rows_kept":44,"cut":false,"hidden":false,"merged":[[30,35,44,40],[45,13,46,15],[43,34,44,34],[30,5,44,8],[30,10,41,15],[30,19,41,24],[30,28,41,33],[36,17,37,17],[36,26,37,26],[42,14,42,15],[43,10,44,12],[43,14,44,15],[43,17,44,17],[43,19,44,21],[43,23,44,24],[43,26,44,26],[43,28,44,30],[43,32,44,33],[2,1,4,33],[7,1,9,33],[11,1,24,33],[26,16,46,16],[27,1,28,3],[27,5,28,8],[27,10,28,15],[27,19,28,24],[27,28,28,33],[30,1,44,3]]}
[]
[]
[null,"Goal Setting"]
[]
[]
[]
[]
[null,"Please select whether each activity below is completed (\"1\") or has not been completed / is pending (\"0\") based on the current level of capacity in your country."]
[]
[]
[]
[null,"IMPORTANT NOTES:\n    ·Select \"1\" if the capacity has been completed and \"0\" if the activity has not been completed or is pending.\n    ·If the capacity level is complete and the selected response is \"1\", the next capacity level for the activity opens.\n    ·If the capacity does not apply to your situation, select \"0\".\n    ·If you do not know the answer, select \"0\".\n    ·If there are two elements to the capacity level (the sentence will be joined with \"AND\"), then BOTH must be complete if \"1\" is selected as your response.\n \nCRITICAL ASSUMPTION: \n    ·Since the SIS OT refers to the development of coordinated surveillance and data sharing, selecting \"1\"  implies that the capacity level has been completed in the One Health sectors which are relevant for this activity. If not, please select \"0\". "]
[]
[]
[]
[]
[]
[]
[]
[null,null,null,null,null,null,null,null,null,null,null,null,null,null,null,null,null,null,null,null,null,null,null,null,null,null,null,null,null,null,null,null,null,null,null,null,1]
[null,null,null,null,null,null,null,null,null,null,null,null,null,null,null,null,null,null,null,null,null,null,null,null,null,null,null,null,null,null,null,null,null,null,null,null,0]
[]
[]
[]
[]
[]
[]
[null,"STAGE",null,null,null,"ACTIVITY",null,null,null,null,"LEVEL 1",null,null,null,null,null,null,null,null,"LEVEL 2",null,null,null,null,null,null,null,null,"LEVEL 3"]
[]
[]
[null,"Pre-Planning",null,null,null,{"$f":"Activities!B8","v":"PP-3 Goal Setting"},null,null,null,null,{"$f":"Activities!C8","v":"Goal(s), roles, and responsibilities of all participating sectors of the coordinated surveillance system are agreed upon at the national level"},null,null,null,null,null,null,null,null,{"$f":"Activities!C9","v":"Goal(s), roles, and responsibilities of all participating sectors of the coordinated surveillance system are agreed upon and expanded to include all country levels"},null,null,null,null,null,null,null,null,{"$f":"Activities!C10","v":"Goal(s), roles and responsibilities of the coordinated surveillance system have been re-evaluated to reflect the current needs of the coordinated surveillance system "},null,null,null,null,null,null,"COMMENTS:"]
[]
[]
[]
[]
[]
[null,null,null,null,null,null,null,null,null,null,null,null,null,null,null,null,null,"(if yes)",null,null,null,null,null,null,null,null,"(if yes)"]
[]
[]
[]
[]
[]
[]
[null,null,null,null,null,null,null,null,null,null,"RESPONSE:",null,null,null,null,null,null,{"$f":"IF(O44=\"Yes\",1,0)","v":0},null,"RESPONSE:",null,null,null,null,null,null,{"$f":"IF(X44=\"Yes\",1,0)","v":0},null,"RESPONSE:",null,null,null,null,null,{"$f":"IF(AG44=\"Yes\",1,0)","v":0}]

{"sheet":"Section II","index":13,"n_rows":49,"n_cols":2,"rows_kept":49,"cut":false,"hidden":false,"merged":[[2,1,5,30],[44,1,46,30],[48,1,56,30],[7,1,14,30],[16,1,18,30],[20,1,28,30],[30,1,32,30],[34,1,42,30]]}
[]
[]
[null,"SECTION II: ASSESSMENT, PLANNING, & IMPLEMENTATION"]
[]
[]
[]
[]
[null,"Now that you have completed the Pre-planning section, this section of the tool will introduce you to the next three stages identified to build coordinated surveillance: Assessment, Planning, and Implementation. \n\nThis section includes eight categories and twenty nine activities to assess."]
[]
[]
[]
[]
[]
[]
[]
[]
[null,"Assessment Overview"]
[]
[]
[]
[null,"The Assessment stage includes those activities carried out to determine the needs or gaps existing between the current and desired situations as they relate to the coordinated SIS system and its infrastructure, or to the health surveillance system and infrastructure of the individual participating sectors. These include activities such as stakeholder mapping, strategic and operational plans assessments, economic needs assessments, and infrastructure mapping.\n\nThe resources presented in this section should be considered by individuals using the SIS OT to assist with accomplishing the activities in this assessment stage for the establishment or strengthening of the national coordinated surveillance system for zoonotic diseases."]
[]
[]
[]
[]
[]
[]
[]
[]
[]
[null,"Planning Overview"]
[]
[]
[]
[null,"The Planning stage includes the development of operational or action-oriented descriptions of the activities to be conducted separately or jointly by the participating sectors, and other actions carried out  in preparation for developing or strengthening the coordinated surveillance capacity. These include activities such as establishing the necessary policy and legal frameworks, developing strategy and surveillance plans, developing budgets and identifying necessary financing, and planning for coordinated communications.  \n \nThe resources presented in this section should be considered by individuals using the SIS OT to assist with accomplishing the activities in this planning stage for the establishment or strengthening of the national coordinated surveillance system for zoonotic diseases."]
[]
[]
[]
[]
[]
[]
[]
[]
[]
[null,"Implementation Overview"]
[]
[]
[]
[null,"The Implementation stage includes those activities that need to be executed separately or jointly by the participating sectors and requirements that need to be met in order to carry out  the plans and to develop the coordinated SIS system,  such as ensuring data privacy and security measures are in place, putting in place mechanisms for data exchange and data storage data sharing, and mobilizing financial resources. \n\nThe resources presented in this section should be considered by individuals using the SIS OT to assist with accomplishing the activities in this implementation stage for the establishment or strengthening of the national coordinated surveillance system for zoonotic diseases. "]

{"sheet":"Stakeholders","index":14,"n_rows":88,"n_cols":37,"rows_kept":88,"cut":false,"hidden":false,"merged":[[30,35,44,40],[89,13,90,15],[52,35,66,40],[74,35,88,40],[45,13,46,15],[67,13,68,15],[43,34,44,34],[30,28,41,33],[36,17,37,17],[36,26,37,26],[42,14,42,15],[52,19,63,24],[43,19,44,21],[43,23,44,24],[49,19,50,24],[49,28,50,33],[2,1,4,33],[7,1,9,33],[11,1,24,33],[26,16,47,16],[27,1,28,3],[27,5,28,8],[27,10,28,15],[27,19,28,24],[27,28,28,33],[30,1,44,3],[43,26,44,26],[43,28,44,30],[43,32,44,33],[30,5,44,8],[30,10,41,15],[30,19,41,24],[43,10,44,12],[43,14,44,15],[43,17,44,17],[52,1,66,3],[52,5,66,8],[52,10,63,15],[49,1,50,3],[49,5,50,8],[49,10,50,15],[64,14,64,15],[65,10,66,12],[65,14,66,15],[65,17,66,17],[65,19,66,21],[48,16,69,16],[65,28,66,30],[65,32,66,33],[52,28,63,33],[58,17,59,17],[58,26,59,26],[65,23,66,24],[65,26,66,26],[71,1,72,3],[71,5,72,8],[71,10,72,15],[71,19,72,24],[87,26,88,26],[87,10,88,12],[71,28,72,33],[70,16,91,16],[74,1,88,3],[74,5,88,8],[74,10,85,15],[74,19,85,24],[74,28,85,33],[80,17,81,17],[87,28,88,30],[87,32,88,33],[80,26,81,26],[86,14,86,15],[87,14,88,15],[87,17,88,17],[87,19,88,21],[87,23,88,24]]}
[]
[]
[null,"Stakeholders"]
[]
[]
[]
[]
[null,"Please select whether each activity below is completed (\"1\") or has not been completed / is pending (\"0\") based on the current level of capacity in your country."]
[]
[]
[]
[null,"IMPORTANT NOTES:\n    ·Select \"1\" if the capacity has been completed and \"0\" if the activity has not been completed or is pending.\n    ·If the capacity level is complete and the selected response is \"1\", the next capacity level for the activity opens.\n    ·If the capacity does not apply to your situation, select \"0\".\n    ·If you do not know the answer, select \"0\".\n    ·If there are two elements to the capacity level (the sentence will be joined with \"AND\"), then BOTH must be complete if \"1\" is selected as your response.\n \nCRITICAL ASSUMPTION: \n    ·Since the SIS OT refers to the development of coordinated surveillance and data sharing, selecting \"1\"  implies that the capacity level has been completed in the One Health sectors which are relevant for this activity. If not, please select \"0\"."]
[]
[]
[]
[]
[]
[]
[]
[null,null,null,null,null,null,null,null,null,null,null,null,null,null,null,null,null,null,null,null,null,null,null,null,null,null,null,null,null,null,null,null,null,null,null,null,1]
[null,null,null,null,null,null,null,null,null,null,null,null,null,null,null,null,null,null,null,null,null,null,null,null,null,null,null,null,null,null,null,null,null,null,null,null,0]
[]
[]
[]
[]
[]
[]
[null,"STAGE",null,null,null,"ACTIVITY",null,null,null,null,"LEVEL 1",null,null,null,null,null,null,null,null,"LEVEL 2",null,null,null,null,null,null,null,null,"LEVEL 3"]
[]
[]
[null,"Assessment",null,null,null,{"$f":"Activities!G2","v":"A-1 Stakeholder Mapping"},null,null,null,null,{"$f":"Activities!H2","v":"Stakeholders working in surveillance, epidemiology, laboratory, and information sharing have been identified"},null,null,null,null,null,null,null,null,{"$f":"Activities!H3","v":"Stakeholder analysis has been used to identify participants at all country levels "},null,null,null,null,null,null,null,null,{"$f":"Activities!H4","v":"Roles and responsibilities of stakeholders have been institutionalized and adopted in policy"},null,null,null,null,null,null,"COMMENTS:"]
[]
[]
[]
[]
[]
[null,null,null,null,null,null,null,null,null,null,null,null,null,null,null,null,null,"(if yes)",null,null,null,null,null,null,null,null,"(if yes)"]
[]
[]
[]
[]
[]
[]
[null,null,null,null,null,null,null,null,null,null,"RESPONSE:",null,null,null,null,null,null,{"$f":"IF(O44=\"Yes\",1,0)","v":0},null,"RESPONSE:",null,null,null,null,null,null,{"$f":"IF(X44=\"Yes\",1,0)","v":0},null,"RESPONSE:",null,null,null,null,null,{"$f":"IF(AG44=\"Yes\",1,0)","v":0}]
[]
[]
[]
[]
[]
[null,"STAGE",null,null,null,"ACTIVITY",null,null,null,null,"LEVEL 1",null,null,null,null,null,null,null,null,"LEVEL 2",null,null,null,null,null,null,null,null,"LEVEL 3"]
[]
[]
[null,"Planning",null,null,null,{"$f":"Activities!L2","v":"Pl-1 Political Will"},null,null,null,null,{"$f":"Activities!M2","v":"Decision makers for the coordinated surveillance system have been identified"},null,null,null,null,null,null,null,null,{"$f":"Activities!M3","v":"Political will for the coordinated surveillance system is established, and advocates exists at all country levels"},null,null,null,null,null,null,null,null,{"$f":"Activities!M4","v":"There is an advocacy strategy that informs communication with decision-makers on the coordinated surveillance system"},null,null,null,null,null,null,"COMMENTS:"]
[]
[]
[]
[]
[]
[null,null,null,null,null,null,null,null,null,null,null,null,null,null,null,null,null,"(if yes)",null,null,null,null,null,null,null,null,"(if yes)"]
[]
[]
[]
[]
[]
[]
[null,null,null,null,null,null,null,null,null,null,"RESPONSE:",null,null,null,null,null,null,{"$f":"IF(O66=\"Yes\",1,0)","v":0},null,"RESPONSE:",null,null,null,null,null,null,{"$f":"IF(X66=\"Yes\",1,0)","v":0},null,"RESPONSE:"]
[]
[]
[]
[]
[]
[null,"STAGE",null,null,null,"ACTIVITY",null,null,null,null,"LEVEL 1",null,null,null,null,null,null,null,null,"LEVEL 2",null,null,null,null,null,null,null,null,"LEVEL 3"]
[]
[]
[null,"Implementation",null,null,null,{"$f":"Activities!Q5","v":"I-2 Mobilizing Human Resources and Stakeholders"},null,null,null,null,{"$f":"Activities!R5","v":"Focal points or technical working groups meet on an ad hoc basis"},null,null,null,null,null,null,null,null,{"$f":"Activities!R6","v":"Focal points or technical working groups meet on a routine basis and to address priority issues as they arise"},null,null,null,null,null,null,null,null,{"$f":"Activities!R7","v":"Technical working groups regularly review and optimize coordinated surveillance activities "},null,null,null,null,null,null,"COMMENTS:"]
[]
[]
[]
[]
[]
[null,null,null,null,null,null,null,null,null,null,null,null,null,null,null,null,null,"(if yes)",null,null,null,null,null,null,null,null,"(if yes)"]
[]
[]
[]
[]
[]
[]
[null,null,null,null,null,null,null,null,null,null,"RESPONSE:",null,null,null,null,null,null,{"$f":"IF(O88=\"Yes\",1,0)","v":0},null,"RESPONSE:",null,null,null,null,null,null,{"$f":"IF(X88=\"Yes\",1,0)","v":0},null,"RESPONSE:"]

{"sheet":"Plans & Organization","index":15,"n_rows":120,"n_cols":37,"rows_kept":120,"cut":false,"hidden":false,"merged":[[121,13,122,15],[106,35,120,40],[30,35,44,40],[46,35,60,40],[68,35,82,40],[84,35,98,40],[43,34,44,34],[119,26,120,26],[106,10,117,15],[106,19,117,24],[106,28,117,33],[112,17,113,17],[112,26,113,26],[118,14,118,15],[81,28,82,30],[81,32,82,33],[61,13,62,15],[43,19,44,21],[43,23,44,24],[43,26,44,26],[43,28,44,30],[43,32,44,33],[43,17,44,17],[97,26,98,26],[2,1,4,33],[7,1,9,33],[11,1,24,33],[26,16,45,16],[27,1,28,3],[27,5,28,8],[27,10,28,15],[27,19,28,24],[27,28,28,33],[30,5,44,8],[30,10,41,15],[30,19,41,24],[30,28,41,33],[36,17,37,17],[36,26,37,26],[42,14,42,15],[43,10,44,12],[43,14,44,15],[103,1,104,3],[103,5,104,8],[103,10,104,15],[103,19,104,24],[103,28,104,33],[106,1,120,3],[106,5,120,8],[68,28,79,33],[74,17,75,17],[74,26,75,26],[80,14,80,15],[81,10,82,12],[81,14,82,15],[81,17,82,17],[81,19,82,21],[81,23,82,24],[81,26,82,26],[119,28,120,30],[119,10,120,12],[119,14,120,15],[119,17,120,17],[119,19,120,21],[119,23,120,24],[68,5,82,8],[97,28,98,30],[46,5,60,8],[46,10,57,15],[46,19,57,24],[46,28,57,33],[52,17,53,17],[52,26,53,26],[58,14,58,15],[59,10,60,12],[59,14,60,15],[59,17,60,17],[65,5,66,8],[65,10,66,15],[65,19,66,24],[68,10,79,15],[68,19,79,24],[119,32,120,33],[97,32,98,33],[65,28,66,33],[65,1,66,3],[30,1,60,3],[84,5,98,8],[84,10,95,15],[84,19,95,24],[84,28,95,33],[90,17,91,17],[90,26,91,26],[96,14,96,15],[97,10,98,12],[59,19,60,21],[59,23,60,24],[59,26,60,26],[59,28,60,30],[59,32,60,33],[99,13,100,15],[68,1,98,3],[97,14,98,15],[97,17,98,17],[97,19,98,21],[97,23,98,24]]}
[]
[]
[null,"Plans & Organization"]
[]
[]
[]
[]
[null,"Please select whether each activity below is completed (\"1\") or has not been completed / is pending (\"0\") based on the current level of capacity in your country."]
[]
[]
[]
[null,"IMPORTANT NOTES:\n    ·Select \"1\" if the capacity has been completed and \"0\" if the activity has not been completed or is pending.\n    ·If the capacity level is complete and the selected response is \"1\", the next capacity level for the activity opens.\n    ·If the capacity does not apply to your situation, select \"0\".\n    ·If you do not know the answer, select \"0\".\n    ·If there are two elements to the capacity level (the sentence will be joined with \"AND\"), then BOTH must be complete if \"1\" is selected as your response.\n \nCRITICAL ASSUMPTION: \n    ·Since the SIS OT refers to the development of coordinated surveillance and data sharing, selecting \"1\"  implies that the capacity level has been completed in the One Health sectors which are relevant for this activity. If not, please select \"0\"."]
[]
[]
[]
[]
[]
[]
[]
[null,null,null,null,null,null,null,null,null,null,null,null,null,null,null,null,null,null,null,null,null,null,null,null,null,null,null,null,null,null,null,null,null,null,null,null,1]
[null,null,null,null,null,null,null,null,null,null,null,null,null,null,null,null,null,null,null,null,null,null,null,null,null,null,null,null,null,null,null,null,null,null,null,null,0]
[]
[]
[]
[]
[]
[]
[null,"STAGE",null,null,null,"ACTIVITY",null,null,null,null,"LEVEL 1",null,null,null,null,null,null,null,null,"LEVEL 2",null,null,null,null,null,null,null,null,"LEVEL 3"]
[]
[]
[null,"Assessment",null,null,null,{"$f":"Activities!G5","v":"A-2 Surveillance System Linkage Assessment"},null,null,null,null,{"$f":"Activities!H5","v":"The interlinkages between current prioritized zoonotic disease surveillance systems have been assessed among sectors"},null,null,null,null,null,null,null,null,{"$f":"Activities!H6","v":"The interlinkages between current surveillance systems have been assessed among sectors and at all country levels"},null,null,null,null,null,null,null,null,{"$f":"Activities!H7","v":"The interlinkages between current surveillance systems have been assessed and determined to meet the objectives of the coordinated surveillance system"},null,null,null,null,null,null,"COMMENTS:"]
[]
[]
[]
[]
[]
[null,null,null,null,null,null,null,null,null,null,null,null,null,null,null,null,null,"(if yes)",null,null,null,null,null,null,null,null,"(if yes)"]
[]
[]
[]
[]
[]
[]
[null,null,null,null,null,null,null,null,null,null,"RESPONSE:",null,null,null,null,null,null,{"$f":"IF(O44=\"Yes\",1,0)","v":0},null,"RESPONSE:",null,null,null,null,null,null,{"$f":"IF(X44=\"Yes\",1,0)","v":0},null,"RESPONSE:",null,null,null,null,null,{"$f":"IF(AG44=\"Yes\",1,0)","v":0}]
[]
[]
[null,null,null,null,null,{"$f":"Activities!G16","v":"A-4 Infrastructure Mapping"},null,null,null,null,{"$f":"Activities!H16","v":"Basic infrastructure mapping exercises (as defined in TZG CH 4.1) have been used to describe the structure and linkages within and between the sectors "},null,null,null,null,null,null,null,null,{"$f":"Activities!H17","v":"Infrastructure mapping has been used to describe the majority of mapping areas (as described in TZG CH 4.1)"},null,null,null,null,null,null,null,null,{"$f":"Activities!H18","v":"Comprehensive infrastructure mapping has been used to describe all mapping areas (as described in TZG CH 4.1)."},null,null,null,null,null,null,"COMMENTS:"]
[]
[]
[]
[]
[]
[null,null,null,null,null,null,null,null,null,null,null,null,null,null,null,null,null,"(if yes)",null,null,null,null,null,null,null,null,"(if yes)"]
[]
[]
[]
[]
[]
[]
[null,null,null,null,null,null,null,null,null,null,"RESPONSE:",null,null,null,null,null,null,{"$f":"IF(O60=\"Yes\",1,0)","v":0},null,"RESPONSE:",null,null,null,null,null,null,{"$f":"IF(X60=\"Yes\",1,0)","v":0},null,"RESPONSE:"]
[]
[]
[]
[]
[]
[null,"STAGE",null,null,null,"ACTIVITY",null,null,null,null,"LEVEL 1",null,null,null,null,null,null,null,null,"LEVEL 2",null,null,null,null,null,null,null,null,"LEVEL 3"]
[]
[]
[null,"Planning",null,null,null,{"$f":"Activities!L8","v":"PL-3 Strategic Plans and Frameworks for Coordinated Surveillance"},null,null,null,null,{"$f":"Activities!M8","v":"A multi-sectoral collection and review of the national strategic documents (strategies, frameworks and strategic plans) related to the coordinated surveillance system occurred, for the purposes of planning"},null,null,null,null,null,null,null,null,{"$f":"Activities!M9","v":"National strategic documents (strategies, frameworks and strategic plans)  for the coordinated surveillance system consolidated and linked based on assessment at all country levels"},null,null,null,null,null,null,null,null,{"$f":"Activities!M10","v":"Revised strategic documents (strategies, frameworks and strategic plans) for the coordinated surveillance system  aligned with international standards and recommendations"},null,null,null,null,null,null,"COMMENTS:"]
[]
[]
[]
[]
[]
[null,null,null,null,null,null,null,null,null,null,null,null,null,null,null,null,null,"(if yes)",null,null,null,null,null,null,null,null,"(if yes)"]
[]
[]
[]
[]
[]
[]
[null,null,null,null,null,null,null,null,null,null,"RESPONSE:",null,null,null,null,null,null,{"$f":"IF(O82=\"Yes\",1,0)","v":0},null,"RESPONSE:",null,null,null,null,null,null,{"$f":"IF(X82=\"Yes\",1,0)","v":0},null,"RESPONSE:"]
[]
[]
[null,null,null,null,null,{"$f":"Activities!L11","v":"PL-4 National operational plans "},null,null,null,null,{"$f":"Activities!M11","v":"A multi-sectoral collection and review of the national operational plans and other relevant documents (including surveillance plans, case definitions, protocols, and Standard Operating Procedures) related to the coordinated surveillance system occurred for the purposes of planning\n"},null,null,null,null,null,null,null,null,{"$f":"Activities!M12","v":"Revised operational plans and other relevant documents (including surveillance plans, case definitions, protocols, and Standard Operating Procedures) related to the coordinated surveillance and information sharing system are agreed upon by the agencies conducting surveillance at all country levels\n"},null,null,null,null,null,null,null,null,{"$f":"Activities!M13","v":"Revised operational  plans (including surveillance plans, case definitions, protocols, and Standard Operating Procedures) for the coordinated surveillance system are aligned with international guidelines and recommendations\n"},null,null,null,null,null,null,"COMMENTS:"]
[]
[]
[]
[]
[]
[null,null,null,null,null,null,null,null,null,null,null,null,null,null,null,null,null,"(if yes)",null,null,null,null,null,null,null,null,"(if yes)"]
[]
[]
[]
[]
[]
[]
[null,null,null,null,null,null,null,null,null,null,"RESPONSE:",null,null,null,null,null,null,{"$f":"IF(O98=\"Yes\",1,0)","v":0},null,"RESPONSE:",null,null,null,null,null,null,{"$f":"IF(X98=\"Yes\",1,0)","v":0},null,"RESPONSE:"]
[]
[]
[]
[]
[]
[null,"STAGE",null,null,null,"ACTIVITY",null,null,null,null,"LEVEL 1",null,null,null,null,null,null,null,null,"LEVEL 2",null,null,null,null,null,null,null,null,"LEVEL 3"]
[]
[]
[null,"Implementation",null,null,null,{"$f":"Activities!Q17","v":"I-6 Coordinated Surveillance System Implementation"},null,null,null,null,{"$f":"Activities!R17","v":"The coordinated surveillance system is being piloted in target areas"},null,null,null,null,null,null,null,null,{"$f":"Activities!R18","v":"The coordinated surveillance system has been expanded to additional areas based on pilot implementations"},null,null,null,null,null,null,null,null,{"$f":"Activities!R19","v":"The coordinated surveillance system is a nation-wide program"},null,null,null,null,null,null,"COMMENTS:"]
[]
[]
[]
[]
[]
[null,null,null,null,null,null,null,null,null,null,null,null,null,null,null,null,null,"(if yes)",null,null,null,null,null,null,null,null,"(if yes)"]
[]
[]
[]
[]
[]
[]
[null,null,null,null,null,null,null,null,null,null,"RESPONSE:",null,null,null,null,null,null,{"$f":"IF(O120=\"Yes\",1,0)","v":0},null,"RESPONSE:",null,null,null,null,null,null,{"$f":"IF(X120=\"Yes\",1,0)","v":0},null,"RESPONSE:"]

{"sheet":"Policy & Legal","index":16,"n_rows":66,"n_cols":37,"rows_kept":66,"cut":false,"hidden":false,"merged":[[67,13,68,15],[30,35,44,40],[52,35,66,40],[2,1,4,33],[7,1,9,33],[11,1,24,33],[26,16,47,16],[27,1,28,3],[27,5,28,8],[27,10,28,15],[27,28,28,33],[30,1,44,3],[45,13,46,15],[43,34,44,34],[30,5,44,8],[30,10,41,15],[30,28,41,33],[36,26,37,26],[42,14,42,15],[43,10,44,12],[43,14,44,15],[34,20,35,23],[43,28,44,30],[43,32,44,33],[52,1,66,3],[52,5,66,8],[52,10,63,15],[52,19,63,24],[43,26,44,26],[49,1,50,3],[49,5,50,8],[49,10,50,15],[49,19,50,24],[49,28,50,33],[64,14,64,15],[65,10,66,12],[65,14,66,15],[65,17,66,17],[65,19,66,21],[48,16,66,16],[65,28,66,30],[65,32,66,33],[67,16,69,16],[52,28,63,33],[58,17,59,17],[58,26,59,26],[65,23,66,24],[65,26,66,26]]}
[]
[]
[null,"Policy & Legal"]
[]
[]
[]
[]
[null,"Please select whether each activity below is completed (\"1\") or has not been completed / is pending (\"0\") based on the current level of capacity in your country."]
[]
[]
[]
[null,"IMPORTANT NOTES:\n    ·Select \"1\" if the capacity has been completed and \"0\" if the activity has not been completed or is pending.\n    ·If the capacity level is complete and the selected response is \"1\", the next capacity level for the activity opens.\n    ·If the capacity does not apply to your situation, select \"0\".\n    ·If you do not know the answer, select \"0\".\n    ·If there are two elements to the capacity level (the sentence will be joined with \"AND\"), then BOTH must be complete if \"1\" is selected as your response.\n \nCRITICAL ASSUMPTION: \n    ·Since the SIS OT refers to the development of coordinated surveillance and data sharing, selecting \"1\"  implies that the capacity level has been completed in the One Health sectors which are relevant for this activity. If not, please select \"0\".. "]
[]
[]
[]
[]
[]
[]
[]
[null,null,null,null,null,null,null,null,null,null,null,null,null,null,null,null,null,null,null,null,null,null,null,null,null,null,null,null,null,null,null,null,null,null,null,null,1]
[null,null,null,null,null,null,null,null,null,null,null,null,null,null,null,null,null,null,null,null,null,null,null,null,null,null,null,null,null,null,null,null,null,null,null,null,0]
[]
[]
[]
[]
[]
[]
[null,"STAGE",null,null,null,"ACTIVITY",null,null,null,null,"LEVEL 1",null,null,null,null,null,null,null,null,null,null,null,null,null,null,null,null,null,"LEVEL 3"]
[]
[]
[null,"Assessment",null,null,null,{"$f":"Activities!G8","v":"A-3 Legal Frameworks Assessment"},null,null,null,null,{"$f":"Activities!H8","v":"The legal frameworks (rules, policies, guidelines and regulations including international standards) that govern the ethical and privacy standards for surveillance and data sharing have been assessed"},null,null,null,null,null,null,null,null,null,null,null,null,null,null,null,null,null,{"$f":"Activities!H9","v":"The legal frameworks (rules, policies, guidelines and regulations including international standards) that govern the ethical and privacy standards for surveillance and data sharing are assessed at all country levels "},null,null,null,null,null,null,"COMMENTS:"]
[]
[]
[]
[null,null,null,null,null,null,null,null,null,null,null,null,null,null,null,null,null,null,null,null,"(if yes)"]
[]
[]
[]
[]
[]
[]
[]
[]
[null,null,null,null,null,null,null,null,null,null,"RESPONSE:",null,null,null,null,null,null,null,null,null,null,null,null,null,null,null,{"$f":"IF(X44=\"Yes\",1,0)","v":0},null,"RESPONSE:",null,null,null,null,null,{"$f":"IF(AG44=\"Yes\",1,0)","v":0}]
[]
[]
[]
[]
[]
[null,"STAGE",null,null,null,"ACTIVITY",null,null,null,null,"LEVEL 1",null,null,null,null,null,null,null,null,"LEVEL 2",null,null,null,null,null,null,null,null,"LEVEL 3"]
[]
[]
[null,"Planning",null,null,null,{"$f":"Activities!L20","v":"PL-7 Legal Frameworks Planning"},null,null,null,null,{"$f":"Activities!M20","v":"Necessary legal frameworks (rules, policies, guidelines and regulations including international standards) have been standardized across sectors based on assessment at the national level"},null,null,null,null,null,null,null,null,{"$f":"Activities!M21","v":"Necessary legal frameworks (rules, policies, guidelines and regulations including international standards) have been standardized across sectors based on assessment at all country levels"},null,null,null,null,null,null,null,null,{"$f":"Activities!M22","v":"Revised legal frameworks for the coordinated surveillance system have been aligned with international standards and recommendations. "},null,null,null,null,null,null,"COMMENTS:"]
[]
[]
[]
[]
[]
[null,null,null,null,null,null,null,null,null,null,null,null,null,null,null,null,null,"(if yes)",null,null,null,null,null,null,null,null,"(if yes)"]
[]
[]
[]
[]
[]
[]
[null,null,null,null,null,null,null,null,null,null,"RESPONSE:",null,null,null,null,null,null,{"$f":"IF(O66=\"Yes\",1,0)","v":0},null,"RESPONSE:",null,null,null,null,null,null,{"$f":"IF(X66=\"Yes\",1,0)","v":0},null,"RESPONSE:"]

{"sheet":"Budgets & Finances","index":17,"n_rows":88,"n_cols":37,"rows_kept":88,"cut":false,"hidden":false,"merged":[[89,13,90,15],[30,35,44,40],[52,35,66,40],[74,35,88,40],[89,16,91,16],[70,16,88,16],[87,32,88,33],[52,28,63,33],[58,17,59,17],[58,26,59,26],[71,28,72,33],[65,26,66,26],[65,28,66,30],[65,32,66,33],[52,19,63,24],[64,14,64,15],[74,1,88,3],[74,5,88,8],[74,10,85,15],[74,19,85,24],[74,28,85,33],[80,17,81,17],[80,26,81,26],[86,14,86,15],[87,10,88,12],[87,14,88,15],[87,17,88,17],[87,19,88,21],[87,23,88,24],[87,26,88,26],[87,28,88,30],[71,1,72,3],[71,5,72,8],[71,10,72,15],[71,19,72,24],[65,14,66,15],[65,17,66,17],[65,19,66,21],[65,23,66,24],[67,13,68,15],[43,34,44,34],[48,16,66,16],[49,1,50,3],[49,5,50,8],[49,10,50,15],[49,19,50,24],[49,28,50,33],[52,1,66,3],[52,5,66,8],[52,10,63,15],[43,10,44,12],[43,14,44,15],[43,26,44,26],[43,28,44,30],[43,32,44,33],[65,10,66,12],[2,1,4,33],[7,1,9,33],[11,1,24,33],[26,16,47,16],[27,1,28,3],[27,5,28,8],[27,10,28,15],[27,28,28,33],[30,1,44,3],[30,5,44,8],[30,10,41,15],[30,28,41,33],[34,20,35,23],[36,26,37,26],[42,14,42,15],[45,13,46,15]]}
[]
[]
[null,"Budgets & Finances"]
[]
[]
[]
[]
[null,"Please select whether each activity below is completed (\"1\") or has not been completed / is pending (\"0\") based on the current level of capacity in your country."]
[]
[]
[]
[null,"IMPORTANT NOTES:\n    ·Select \"1\" if the capacity has been completed and \"0\" if the activity has not been completed or is pending.\n    ·If the capacity level is complete and the selected response is \"1\", the next capacity level for the activity opens.\n    ·If the capacity does not apply to your situation, select \"0\".\n    ·If you do not know the answer, select \"0\".\n    ·If there are two elements to the capacity level (the sentence will be joined with \"AND\"), then BOTH must be complete if \"1\" is selected as your response.\n \nCRITICAL ASSUMPTION: \n    ·Since the SIS OT refers to the development of coordinated surveillance and data sharing, selecting \"1\"  implies that the capacity level has been completed in the One Health sectors which are relevant for this activity. If not, please select \"0\"."]
[]
[]
[]
[]
[]
[]
[]
[null,null,null,null,null,null,null,null,null,null,null,null,null,null,null,null,null,null,null,null,null,null,null,null,null,null,null,null,null,null,null,null,null,null,null,null,1]
[null,null,null,null,null,null,null,null,null,null,null,null,null,null,null,null,null,null,null,null,null,null,null,null,null,null,null,null,null,null,null,null,null,null,null,null,0]
[]
[]
[]
[]
[]
[]
[null,"STAGE",null,null,null,"ACTIVITY",null,null,null,null,"LEVEL 1",null,null,null,null,null,null,null,null,null,null,null,null,null,null,null,null,null,"LEVEL 3"]
[]
[]
[null,"Assessment",null,null,null,{"$f":"Activities!G19","v":"A-5 Economic Needs Assessment"},null,null,null,null,{"$f":"Activities!H19","v":"Economic assessments have been used to determine national financial needs for the coordinated surveillance system "},null,null,null,null,null,null,null,null,null,null,null,null,null,null,null,null,null,{"$f":"Activities!H20","v":"Economic assessments have been used to determine the financial needs at all country levels for the coordinated surveillance system "},null,null,null,null,null,null,"COMMENTS:"]
[]
[]
[]
[null,null,null,null,null,null,null,null,null,null,null,null,null,null,null,null,null,null,null,null,"(if yes)"]
[]
[]
[]
[]
[]
[]
[]
[]
[null,null,null,null,null,null,null,null,null,null,"RESPONSE:",null,null,null,null,null,null,null,null,null,null,null,null,null,null,null,{"$f":"IF(X44=\"Yes\",1,0)","v":0},null,"RESPONSE:",null,null,null,null,null,{"$f":"IF(AG44=\"Yes\",1,0)","v":0}]
[]
[]
[]
[]
[]
[null,"STAGE",null,null,null,"ACTIVITY",null,null,null,null,"LEVEL 1",null,null,null,null,null,null,null,null,"LEVEL 2",null,null,null,null,null,null,null,null,"LEVEL 3"]
[]
[]
[null,"Planning",null,null,null,{"$f":"Activities!L14","v":"PL-5 Financial Planning"},null,null,null,null,{"$f":"Activities!M14","v":"There is a budgetary plan and a mechanism for distributing funds for coordinated surveillance at the national level"},null,null,null,null,null,null,null,null,{"$f":"Activities!M15","v":"There is a budgetary plan and a mechanism for distributing funds for coordinated surveillance at all country levels"},null,null,null,null,null,null,null,null,{"$f":"Activities!M16","v":"The budgetary plan and a mechanism for distributing funds has been assessed and determined to meet the objectives of the coordinated surveillance system "},null,null,null,null,null,null,"COMMENTS:"]
[]
[]
[]
[]
[]
[null,null,null,null,null,null,null,null,null,null,null,null,null,null,null,null,null,"(if yes)",null,null,null,null,null,null,null,null,"(if yes)"]
[]
[]
[]
[]
[]
[]
[null,null,null,null,null,null,null,null,null,null,"RESPONSE:",null,null,null,null,null,null,{"$f":"IF(O66=\"Yes\",1,0)","v":0},null,"RESPONSE:",null,null,null,null,null,null,{"$f":"IF(X66=\"Yes\",1,0)","v":0},null,"RESPONSE:"]
[]
[]
[]
[]
[]
[null,"STAGE",null,null,null,"ACTIVITY",null,null,null,null,"LEVEL 1",null,null,null,null,null,null,null,null,"LEVEL 2",null,null,null,null,null,null,null,null,"LEVEL 3"]
[]
[]
[null,"Implementation",null,null,null,{"$f":"Activities!Q2","v":"I-1 Mobilizing Financial Resources"},null,null,null,null,{"$f":"Activities!R2","v":"Funding exists for coordinated surveillance at the national level"},null,null,null,null,null,null,null,null,{"$f":"Activities!R3","v":"Funding exists for coordinated surveillance at all country levels"},null,null,null,null,null,null,null,null,{"$f":"Activities!R4","v":"Sustainable funding (i.e, included in the national budget) is allocated for coordinated surveillance activities and has been assessed and determined to meet the objectives of the coordinated surveillance system"},null,null,null,null,null,null,"COMMENTS:"]
[]
[]
[]
[]
[]
[null,null,null,null,null,null,null,null,null,null,null,null,null,null,null,null,null,"(if yes)",null,null,null,null,null,null,null,null,"(if yes)"]
[]
[]
[]
[]
[]
[]
[null,null,null,null,null,null,null,null,null,null,"RESPONSE:",null,null,null,null,null,null,{"$f":"IF(O88=\"Yes\",1,0)","v":0},null,"RESPONSE:",null,null,null,null,null,null,{"$f":"IF(X88=\"Yes\",1,0)","v":0},null,"RESPONSE:"]

{"sheet":"Workforce","index":18,"n_rows":66,"n_cols":37,"rows_kept":66,"cut":false,"hidden":false,"merged":[[67,13,68,15],[30,35,44,40],[52,35,66,40],[65,28,66,30],[65,32,66,33],[67,16,69,16],[52,19,63,24],[52,28,63,33],[58,17,59,17],[58,26,59,26],[65,23,66,24],[43,34,44,34],[43,26,44,26],[43,28,44,30],[43,32,44,33],[49,19,50,24],[49,28,50,33],[65,10,66,12],[65,14,66,15],[65,17,66,17],[65,19,66,21],[65,26,66,26],[48,16,66,16],[52,1,66,3],[52,5,66,8],[52,10,63,15],[43,10,44,12],[43,14,44,15],[64,14,64,15],[49,1,50,3],[49,5,50,8],[49,10,50,15],[2,1,4,33],[7,1,9,33],[11,1,24,33],[26,16,47,16],[27,1,28,3],[27,5,28,8],[27,10,28,15],[27,28,28,33],[30,1,44,3],[30,5,44,8],[30,10,41,15],[30,28,41,33],[34,20,35,23],[36,26,37,26],[42,14,42,15],[45,13,46,15]]}
[]
[]
[null,"Workforce"]
[]
[]
[]
[]
[null,"Please select whether each activity below is completed (\"1\") or has not been completed / is pending (\"0\") based on the current level of capacity in your country."]
[]
[]
[]
[null,"IMPORTANT NOTES:\n    ·Select \"1\" if the capacity has been completed and \"0\" if the activity has not been completed or is pending.\n    ·If the capacity level is complete and the selected response is \"1\", the next capacity level for the activity opens.\n    ·If the capacity does not apply to your situation, select \"0\".\n    ·If you do not know the answer, select \"0\".\n    ·If there are two elements to the capacity level (the sentence will be joined with \"AND\"), then BOTH must be complete if \"1\" is selected as your response.\n \nCRITICAL ASSUMPTION: \n    ·Since the SIS OT refers to the development of coordinated surveillance and data sharing, selecting \"1\"  implies that the capacity level has been completed in the One Health sectors which are relevant for this activity. If not, please select \"0\". "]
[]
[]
[]
[]
[]
[]
[]
[null,null,null,null,null,null,null,null,null,null,null,null,null,null,null,null,null,null,null,null,null,null,null,null,null,null,null,null,null,null,null,null,null,null,null,null,1]
[null,null,null,null,null,null,null,null,null,null,null,null,null,null,null,null,null,null,null,null,null,null,null,null,null,null,null,null,null,null,null,null,null,null,null,null,0]
[]
[]
[]
[]
[]
[]
[null,"STAGE",null,null,null,"ACTIVITY",null,null,null,null,"LEVEL 1",null,null,null,null,null,null,null,null,null,null,null,null,null,null,null,null,null,"LEVEL 3"]
[]
[]
[null,"Assessment",null,null,null,{"$f":"Activities!G27","v":"A-8 Workforce Assessment"},null,null,null,null,{"$f":"Activities!H27","v":"Workforce assessments have been conducted to identify current workforce requirements, competencies, needs and gaps at the national level"},null,null,null,null,null,null,null,null,null,null,null,null,null,null,null,null,null,{"$f":"Activities!H28","v":" Workforce assessment have been conducted to identify current workforce requirements, competencies, needs and gaps at all country levels"},null,null,null,null,null,null,"COMMENTS:"]
[]
[]
[]
[null,null,null,null,null,null,null,null,null,null,null,null,null,null,null,null,null,null,null,null,"(if yes)"]
[]
[]
[]
[]
[]
[]
[]
[]
[null,null,null,null,null,null,null,null,null,null,"RESPONSE:",null,null,null,null,null,null,null,null,null,null,null,null,null,null,null,{"$f":"IF(X44=\"Yes\",1,0)","v":0},null,"RESPONSE:",null,null,null,null,null,{"$f":"IF(AG44=\"Yes\",1,0)","v":0}]
[]
[]
[]
[]
[]
[null,"STAGE",null,null,null,"ACTIVITY",null,null,null,null,"LEVEL 1",null,null,null,null,null,null,null,null,"LEVEL 2",null,null,null,null,null,null,null,null,"LEVEL 3"]
[]
[]
[null,"Planning",null,null,null,{"$f":"Activities!L17","v":"PL-6 Workforce Planning"},null,null,null,null,{"$f":"Activities!M17","v":"An education and training plan for the coordinated surveillance system exists based on workforce assessment at the national level"},null,null,null,null,null,null,null,null,{"$f":"Activities!M18","v":"An education and training plan for the coordinated surveillance system exists based on workforce assessment at all country levels"},null,null,null,null,null,null,null,null,{"$f":"Activities!M19","v":"Workforce education and training is linked to national multisectoral workforce planning and is informed by international competencies and assessments\n"},null,null,null,null,null,null,"COMMENTS:"]
[]
[]
[]
[]
[]
[null,null,null,null,null,null,null,null,null,null,null,null,null,null,null,null,null,"(if yes)",null,null,null,null,null,null,null,null,"(if yes)"]
[]
[]
[]
[]
[]
[]
[null,null,null,null,null,null,null,null,null,null,"RESPONSE:",null,null,null,null,null,null,{"$f":"IF(O66=\"Yes\",1,0)","v":0},null,"RESPONSE:",null,null,null,null,null,null,{"$f":"IF(X66=\"Yes\",1,0)","v":0},null,"RESPONSE:"]

{"sheet":"Laboratory","index":19,"n_rows":62,"n_cols":37,"rows_kept":62,"cut":false,"hidden":false,"merged":[[45,13,46,15],[63,13,64,15],[30,35,44,40],[48,35,62,40],[60,14,60,15],[43,34,44,34],[61,10,62,12],[61,32,62,33],[61,14,62,15],[61,17,62,17],[61,19,62,21],[61,23,62,24],[61,26,62,26],[61,28,62,30],[30,5,44,8],[30,10,41,15],[30,19,41,24],[30,28,41,33],[36,17,37,17],[36,26,37,26],[42,14,42,15],[43,10,44,12],[43,14,44,15],[43,17,44,17],[43,19,44,21],[43,23,44,24],[43,26,44,26],[43,28,44,30],[43,32,44,33],[2,1,4,33],[7,1,9,33],[11,1,24,33],[26,16,45,16],[27,1,28,3],[27,5,28,8],[27,10,28,15],[27,19,28,24],[27,28,28,33],[30,1,62,3],[48,5,62,8],[48,10,59,15],[48,19,59,24],[48,28,59,33],[54,17,55,17],[54,26,55,26]]}
[]
[]
[null,"Laboratory"]
[]
[]
[]
[]
[null,"Please select whether each activity below is completed (\"1\") or has not been completed / is pending (\"0\") based on the current level of capacity in your country."]
[]
[]
[]
[null,"IMPORTANT NOTES:\n    ·Select \"1\" if the capacity has been completed and \"0\" if the activity has not been completed or is pending.\n    ·If the capacity level is complete and the selected response is \"1\", the next capacity level for the activity opens.\n    ·If the capacity does not apply to your situation, select \"0\".\n    ·If you do not know the answer, select \"0\".\n    ·If there are two elements to the capacity level (the sentence will be joined with \"AND\"), then BOTH must be complete if \"1\" is selected as your response.\n \nCRITICAL ASSUMPTION: \n    ·Since the SIS OT refers to the development of coordinated surveillance and data sharing, selecting \"1\"  implies that the capacity level has been completed in the One Health sectors which are relevant for this activity. If not, please select \"0\"."]
[]
[]
[]
[]
[]
[]
[]
[null,null,null,null,null,null,null,null,null,null,null,null,null,null,null,null,null,null,null,null,null,null,null,null,null,null,null,null,null,null,null,null,null,null,null,null,1]
[null,null,null,null,null,null,null,null,null,null,null,null,null,null,null,null,null,null,null,null,null,null,null,null,null,null,null,null,null,null,null,null,null,null,null,null,0]
[]
[]
[]
[]
[]
[]
[null,"STAGE",null,null,null,"ACTIVITY",null,null,null,null,"LEVEL 1",null,null,null,null,null,null,null,null,"LEVEL 2",null,null,null,null,null,null,null,null,"LEVEL 3"]
[]
[]
[null,"Assessment",null,null,null,{"$f":"Activities!G21","v":"A-6 Laboratory Capacity Assessment"},null,null,null,null,{"$f":"Activities!H21","v":"Laboratory assessments have been used to identify qualified national or international reference laboratories that can carry out testing to support the coordinated surveillance activities"},null,null,null,null,null,null,null,null,{"$f":"Activities!H22","v":" Laboratory assessments have been used to identify qualified laboratories at all levels (including international) that can carry out testing to support the coordinated surveillance activities"},null,null,null,null,null,null,null,null,{"$f":"Activities!H23","v":"Laboratory assessments have been used to identify a network of qualified laboratories that can carry out testing to support the coordinated surveillance activities"},null,null,null,null,null,null,"COMMENTS:"]
[]
[]
[]
[]
[]
[null,null,null,null,null,null,null,null,null,null,null,null,null,null,null,null,null,"(if yes)",null,null,null,null,null,null,null,null,"(if yes)"]
[]
[]
[]
[]
[]
[]
[null,null,null,null,null,null,null,null,null,null,"RESPONSE:",null,null,null,null,null,null,{"$f":"IF(O44=\"Yes\",1,0)","v":0},null,"RESPONSE:",null,null,null,null,null,null,{"$f":"IF(X44=\"Yes\",1,0)","v":0},null,"RESPONSE:",null,null,null,null,null,{"$f":"IF(AG44=\"Yes\",1,0)","v":0}]
[]
[]
[]
[]
[null,null,null,null,null,{"$f":"Activities!G24","v":"A-7 Laboratory Transport and Interpretation Assessment"},null,null,null,null,{"$f":"Activities!H24","v":"Laboratory supply, transport chains and results interpretation have been assessed for harmonization between participating sectors at the national level"},null,null,null,null,null,null,null,null,{"$f":"Activities!H25","v":"Laboratory supply, transport chains and results interpretation between participating sectors have been assessed for harmonization at all country levels"},null,null,null,null,null,null,null,null,{"$f":"Activities!H26","v":"The degree of harmonization in laboratory supply, transport chains and results interpretation between participating sectors have been assessed and determined to meet the objectives of the coordinated surveillance system"},null,null,null,null,null,null,"COMMENTS:"]
[]
[]
[]
[]
[]
[null,null,null,null,null,null,null,null,null,null,null,null,null,null,null,null,null,"(if yes)",null,null,null,null,null,null,null,null,"(if yes)"]
[]
[]
[]
[]
[]
[]
[null,null,null,null,null,null,null,null,null,null,"RESPONSE:",null,null,null,null,null,null,{"$f":"IF(O62=\"Yes\",1,0)","v":0},null,"RESPONSE:",null,null,null,null,null,null,{"$f":"IF(X62=\"Yes\",1,0)","v":0},null,"RESPONSE:"]

{"sheet":"Data Storage & Sharing","index":20,"n_rows":113,"n_cols":37,"rows_kept":113,"cut":false,"hidden":false,"merged":[[45,13,46,15],[114,13,115,15],[30,35,44,40],[51,35,65,40],[67,35,81,40],[83,35,97,40],[99,35,113,40],[112,28,113,30],[112,32,113,33],[96,32,97,33],[96,14,97,15],[96,17,97,17],[96,19,97,21],[96,23,97,24],[96,28,97,30],[80,28,81,30],[51,1,113,3],[112,17,113,17],[112,19,113,21],[112,23,113,24],[112,26,113,26],[96,26,97,26],[73,17,74,17],[73,26,74,26],[79,14,79,15],[80,26,81,26],[64,17,65,17],[64,19,65,21],[64,23,65,24],[64,26,65,26],[67,5,81,8],[67,10,78,15],[99,5,113,8],[99,10,110,15],[99,19,110,24],[99,28,110,33],[105,17,106,17],[105,26,106,26],[111,14,111,15],[112,10,113,12],[112,14,113,15],[80,32,81,33],[83,5,97,8],[83,10,94,15],[83,19,94,24],[83,28,94,33],[89,17,90,17],[89,26,90,26],[95,14,95,15],[96,10,97,12],[80,10,81,12],[80,14,81,15],[80,17,81,17],[80,19,81,21],[80,23,81,24],[64,28,65,30],[64,32,65,33],[51,5,65,8],[51,10,62,15],[51,19,62,24],[51,28,62,33],[57,17,58,17],[57,26,58,26],[63,14,63,15],[64,10,65,12],[64,14,65,15],[48,1,49,3],[48,5,49,8],[48,10,49,15],[48,19,49,24],[48,28,49,33],[30,28,41,33],[36,17,37,17],[36,26,37,26],[42,14,42,15],[43,10,44,12],[43,14,44,15],[43,17,44,17],[43,19,44,21],[43,23,44,24],[43,26,44,26],[43,28,44,30],[67,19,78,24],[67,28,78,33],[2,1,4,33],[7,1,9,33],[11,1,24,33],[26,16,28,16],[27,1,28,3],[27,5,28,8],[27,10,28,15],[27,19,28,24],[27,28,28,33],[43,32,44,33],[30,1,44,3],[30,5,44,8],[30,10,41,15],[30,19,41,24]]}
[]
[]
[null,"Data Storage & Sharing"]
[]
[]
[]
[]
[null,"Please select whether each activity below is completed (\"1\") or has not been completed / is pending (\"0\") based on the current level of capacity in your country."]
[]
[]
[]
[null,"IMPORTANT NOTES:\n    ·Select \"1\" if the capacity has been completed and \"0\" if the activity has not been completed or is pending.\n    ·If the capacity level is complete and the selected response is \"1\", the next capacity level for the activity opens.\n    ·If the capacity does not apply to your situation, select \"0\".\n    ·If you do not know the answer, select \"0\".\n    ·If there are two elements to the capacity level (the sentence will be joined with \"AND\"), then BOTH must be complete if \"1\" is selected as your response.\n \nCRITICAL ASSUMPTION: \n    ·Since the SIS OT refers to the developed of coordinated surveillance and data sharing, selecting \"1\"  implies that the capacity level has been completed in a MINIMUM OF TWO SECTORS RELEVANT TO ONE HEALTH. If the capacity level has been completed in only one sector, please select \"0\". "]
[]
[]
[]
[]
[]
[]
[]
[null,null,null,null,null,null,null,null,null,null,null,null,null,null,null,null,null,null,null,null,null,null,null,null,null,null,null,null,null,null,null,null,null,null,null,null,1]
[null,null,null,null,null,null,null,null,null,null,null,null,null,null,null,null,null,null,null,null,null,null,null,null,null,null,null,null,null,null,null,null,null,null,null,null,0]
[]
[]
[]
[]
[]
[]
[null,"STAGE",null,null,null,"ACTIVITY",null,null,null,null,"LEVEL 1",null,null,null,null,null,null,null,null,"LEVEL 2",null,null,null,null,null,null,null,null,"LEVEL 3"]
[]
[]
[null,"Planning",null,null,null,{"$f":"Activities!L5","v":"PL-2 Common Data Elements"},null,null,null,null,{"$f":"Activities!M5","v":"The common data elements are identified and agreed upon within each participating sector to meet the common analytical goals of the coordinated surveillance system at the national level"},null,null,null,null,null,null,null,null,{"$f":"Activities!M6","v":"The common data elements are identified and agreed upon within each participating sector to meet the common analytical goals of the coordinated surveillance system at all country levels"},null,null,null,null,null,null,null,null,{"$f":"Activities!M7","v":"The common data elements are standardized among participating sectors based on the common analytical goals of the coordinated surveillance system and adhere to international data standards"},null,null,null,null,null,null,"COMMENTS:"]
[]
[]
[]
[]
[]
[null,null,null,null,null,null,null,null,null,null,null,null,null,null,null,null,null,"(if yes)",null,null,null,null,null,null,null,null,"(if yes)"]
[]
[]
[]
[]
[]
[]
[null,null,null,null,null,null,null,null,null,null,"RESPONSE:",null,null,null,null,null,null,{"$f":"IF(O44=\"Yes\",1,0)","v":0},null,"RESPONSE:",null,null,null,null,null,null,{"$f":"IF(X44=\"Yes\",1,0)","v":0},null,"RESPONSE:"]
[]
[]
[]
[]
[null,"STAGE",null,null,null,"ACTIVITY",null,null,null,null,"LEVEL 1",null,null,null,null,null,null,null,null,"LEVEL 2",null,null,null,null,null,null,null,null,"LEVEL 3"]
[]
[]
[null,"Implementation",null,null,null,{"$f":"Activities!Q8","v":"I-3 Data Exchange & Information Sharing"},null,null,null,null,{"$f":"Activities!R8","v":"There is a mechanism to share data between sectors at the national level"},null,null,null,null,null,null,null,null,{"$f":"Activities!R9","v":"There is a mechanism to share data between sectors at all country levels"},null,null,null,null,null,null,null,null,{"$f":"Activities!R10","v":"There is a mechanism to share data that is accessible, functional, and usable by all participating sectors"},null,null,null,null,null,null,"COMMENTS:"]
[]
[]
[]
[]
[]
[null,null,null,null,null,null,null,null,null,null,null,null,null,null,null,null,null,"(if yes)",null,null,null,null,null,null,null,null,"(if yes)"]
[]
[]
[]
[]
[]
[]
[null,null,null,null,null,null,null,null,null,null,"RESPONSE:",null,null,null,null,null,null,{"$f":"IF(O65=\"Yes\",1,0)","v":0},null,"RESPONSE:",null,null,null,null,null,null,{"$f":"IF(X65=\"Yes\",1,0)","v":0},null,"RESPONSE:"]
[]
[]
[null,null,null,null,null,{"$f":"Activities!Q11","v":"I-4 Data Storage"},null,null,null,null,{"$f":"Activities!R11","v":"There is a structure and location to store and maintain data from multiple sectors at the national level."},null,null,null,null,null,null,null,null,{"$f":"Activities!R12","v":"There is a structure and location to store and maintain data from multiple sectors at all country levels"},null,null,null,null,null,null,null,null,{"$f":"Activities!R13","v":"There is a structure and location to store and maintain data from all relevant sectors conducting surveillance that is accessible, functional, and usable by all participating sectors"},null,null,null,null,null,null,"COMMENTS:"]
[]
[]
[]
[]
[]
[null,null,null,null,null,null,null,null,null,null,null,null,null,null,null,null,null,"(if yes)",null,null,null,null,null,null,null,null,"(if yes)"]
[]
[]
[]
[]
[]
[]
[null,null,null,null,null,null,null,null,null,null,"RESPONSE:",null,null,null,null,null,null,{"$f":"IF(O81=\"Yes\",1,0)","v":0},null,"RESPONSE:",null,null,null,null,null,null,{"$f":"IF(X81=\"Yes\",1,0)","v":0},null,"RESPONSE:"]
[]
[]
[null,null,null,null,null,{"$f":"Activities!Q14","v":"I-5 Data Privacy and Security Measures"},null,null,null,null,{"$f":"Activities!R14","v":"There are data privacy and security measures in place to protect coordinated surveillance data at the national level"},null,null,null,null,null,null,null,null,{"$f":"Activities!R15","v":"There are data privacy and security measures in place to protect coordinated surveillance data at all country levels"},null,null,null,null,null,null,null,null,{"$f":"Activities!R16","v":"There are data privacy and security measures in place to protect coordinated surveillance data that has been assessed and determined to meet the objectives of the coordinated surveillance system"},null,null,null,null,null,null,"COMMENTS:"]
[]
[]
[]
[]
[]
[null,null,null,null,null,null,null,null,null,null,null,null,null,null,null,null,null,"(if yes)",null,null,null,null,null,null,null,null,"(if yes)"]
[]
[]
[]
[]
[]
[]
[null,null,null,null,null,null,null,null,null,null,"RESPONSE:",null,null,null,null,null,null,{"$f":"IF(O97=\"Yes\",1,0)","v":0},null,"RESPONSE:",null,null,null,null,null,null,{"$f":"IF(X97=\"Yes\",1,0)","v":0},null,"RESPONSE:"]
[]
[]
[null,null,null,null,null,{"$f":"Activities!Q20","v":"I-7 Surveillance Data Sharing"},null,null,null,null,{"$f":"Activities!R20","v":"Surveillance Data are shared informally or formally on an ad hoc basis at the national level"},null,null,null,null,null,null,null,null,{"$f":"Activities!R21","v":"Surveillance Data are shared informally or formally in a routine and timely fashion at all country levels"},null,null,null,null,null,null,null,null,{"$f":"Activities!R22","v":"Surveillance Data are shared systematically in a routine and timely manner between all participating sectors through an interoperable or joint platform(s) "},null,null,null,null,null,null,"COMMENTS:"]
[]
[]
[]
[]
[]
[null,null,null,null,null,null,null,null,null,null,null,null,null,null,null,null,null,"(if yes)",null,null,null,null,null,null,null,null,"(if yes)"]
[]
[]
[]
[]
[]
[]
[null,null,null,null,null,null,null,null,null,null,"RESPONSE:",null,null,null,null,null,null,{"$f":"IF(O113=\"Yes\",1,0)","v":0},null,"RESPONSE:",null,null,null,null,null,null,{"$f":"IF(X113=\"Yes\",1,0)","v":0},null,"RESPONSE:"]

{"sheet":"Communication & Reporting","index":21,"n_rows":97,"n_cols":37,"rows_kept":97,"cut":false,"hidden":false,"merged":[[45,13,46,15],[98,13,99,15],[30,35,44,40],[51,35,65,40],[83,35,97,40],[96,28,97,30],[96,32,97,33],[80,32,81,33],[83,28,94,33],[80,23,81,24],[64,32,65,33],[80,28,81,30],[43,32,44,33],[67,35,81,40],[51,1,97,3],[96,17,97,17],[96,19,97,21],[96,23,97,24],[96,26,97,26],[80,26,81,26],[64,17,65,17],[64,19,65,21],[64,23,65,24],[64,26,65,26],[83,5,97,8],[83,10,94,15],[83,19,94,24],[89,17,90,17],[89,26,90,26],[95,14,95,15],[96,10,97,12],[96,14,97,15],[80,14,81,15],[80,17,81,17],[80,19,81,21],[67,5,81,8],[67,10,78,15],[73,17,74,17],[73,26,74,26],[79,14,79,15],[80,10,81,12],[51,5,65,8],[51,10,62,15],[51,19,62,24],[51,28,62,33],[57,17,58,17],[57,26,58,26],[63,14,63,15],[64,10,65,12],[64,14,65,15],[64,28,65,30],[48,1,49,3],[48,5,49,8],[48,10,49,15],[48,19,49,24],[48,28,49,33],[30,1,44,3],[30,5,44,8],[30,10,41,15],[30,19,41,24],[30,28,41,33],[36,17,37,17],[36,26,37,26],[42,14,42,15],[43,10,44,12],[43,14,44,15],[43,17,44,17],[43,19,44,21],[43,23,44,24],[43,26,44,26],[43,28,44,30],[2,1,4,33],[7,1,9,33],[11,1,24,33],[26,16,28,16],[27,1,28,3],[27,5,28,8],[27,10,28,15],[27,19,28,24],[27,28,28,33]]}
[]
[]
[null,"Communication & Reporting"]
[]
[]
[]
[]
[null,"Please select whether each activity below is completed (\"1\") or has not been completed / is pending (\"0\") based on the current level of capacity in your country."]
[]
[]
[]
[null,"IMPORTANT NOTES:\n    ·Select \"1\" if the capacity has been completed and \"0\" if the activity has not been completed or is pending.\n    ·If the capacity level is complete and the selected response is \"1\", the next capacity level for the activity opens.\n    ·If the capacity does not apply to your situation, select \"0\".\n    ·If you do not know the answer, select \"0\".\n    ·If there are two elements to the capacity level (the sentence will be joined with \"AND\"), then BOTH must be complete if \"1\" is selected as your response.\n \nCRITICAL ASSUMPTION: \n    ·Since the SIS OT refers to the developed of coordinated surveillance and data sharing, selecting \"1\"  implies that the capacity level has been completed in a MINIMUM OF TWO SECTORS RELEVANT TO ONE HEALTH. If the capacity level has been completed in only one sector, please select \"0\". "]
[]
[]
[]
[]
[]
[]
[]
[null,null,null,null,null,null,null,null,null,null,null,null,null,null,null,null,null,null,null,null,null,null,null,null,null,null,null,null,null,null,null,null,null,null,null,null,1]
[null,null,null,null,null,null,null,null,null,null,null,null,null,null,null,null,null,null,null,null,null,null,null,null,null,null,null,null,null,null,null,null,null,null,null,null,0]
[]
[]
[]
[]
[]
[]
[null,"STAGE",null,null,null,"ACTIVITY",null,null,null,null,"LEVEL 1",null,null,null,null,null,null,null,null,"LEVEL 2",null,null,null,null,null,null,null,null,"LEVEL 3"]
[]
[]
[null,"Planning",null,null,null,{"$f":"Activities!L23","v":"PL-8 Coordinated Communication Planning"},null,null,null,null,{"$f":"Activities!M23","v":"Communications terminology and messages are aligning among all sectors participating in the coordinated surveillance system at the national level."},null,null,null,null,null,null,null,null,{"$f":"Activities!M24","v":"Communications terminology and messages are aligned among all sectors participating in the coordinated surveillance system and disseminated at all country levels"},null,null,null,null,null,null,null,null,{"$f":"Activities!M25","v":"There is a communications strategy and/or communications plan (which includes terminology and messaging) that informs communication with stakeholders and the public for the coordinated surveillance system"},null,null,null,null,null,null,"COMMENTS:"]
[]
[]
[]
[]
[]
[null,null,null,null,null,null,null,null,null,null,null,null,null,null,null,null,null,"(if yes)",null,null,null,null,null,null,null,null,"(if yes)"]
[]
[]
[]
[]
[]
[]
[null,null,null,null,null,null,null,null,null,null,"RESPONSE:",null,null,null,null,null,null,{"$f":"IF(O44=\"Yes\",1,0)","v":0},null,"RESPONSE:",null,null,null,null,null,null,{"$f":"IF(X44=\"Yes\",1,0)","v":0},null,"RESPONSE:"]
[]
[]
[]
[]
[null,"STAGE",null,null,null,"ACTIVITY",null,null,null,null,"LEVEL 1",null,null,null,null,null,null,null,null,"LEVEL 2",null,null,null,null,null,null,null,null,"LEVEL 3"]
[]
[]
[null,"Implementation",null,null,null,{"$f":"Activities!Q23","v":"I-8 Communication & Information Sharing"},null,null,null,null,{"$f":"Activities!R23","v":"There is ad hoc information sharing and communication with relevant stakeholders"},null,null,null,null,null,null,null,null,{"$f":"Activities!R24","v":"There is routine information sharing and communication with relevant stakeholders"},null,null,null,null,null,null,null,null,{"$f":"Activities!R25","v":"There is routine and timely information sharing with relevant stakeholders including cross-border, regional and international entities"},null,null,null,null,null,null,"COMMENTS:"]
[]
[]
[]
[]
[]
[null,null,null,null,null,null,null,null,null,null,null,null,null,null,null,null,null,"(if yes)",null,null,null,null,null,null,null,null,"(if yes)"]
[]
[]
[]
[]
[]
[]
[null,null,null,null,null,null,null,null,null,null,"RESPONSE:",null,null,null,null,null,null,{"$f":"IF(O65=\"Yes\",1,0)","v":0},null,"RESPONSE:",null,null,null,null,null,null,{"$f":"IF(X65=\"Yes\",1,0)","v":0},null,"RESPONSE:"]
[]
[]
[null,null,null,null,null,{"$f":"Activities!Q26","v":"I-9 International Notification Requirements"},null,null,null,null,{"$f":"Activities!R26","v":"Comply with international notification requirements for all zoonotic diseases"},null,null,null,null,null,null,null,null,null,null,null,null,null,null,null,null,null,null,null,null,null,null,null,null,"COMMENTS:"]
[]
[]
[]
[]
[]
[]
[]
[]
[]
[]
[]
[]
[null,null,null,null,null,null,null,null,null,null,"RESPONSE:"]
[]
[]
[null,null,null,null,null,{"$f":"Activities!Q27","v":"I-10 Coordinated Data Visualization and Analysis"},null,null,null,null,{"$f":"Activities!R27","v":"Coordinated surveillance data are used to generate outputs (e.g. figures, graphics, reports or bulletins) that are shared at the national level"},null,null,null,null,null,null,null,null,{"$f":"Activities!R28","v":"Coordinated surveillance data are used to generate outputs (e.g. figures, graphics, reports or bulletins) that are disseminated to stakeholders at all country levels"},null,null,null,null,null,null,null,null,{"$f":"Activities!R29","v":"Coordinated surveillance data, including M&E reports, are used to generate outputs that inform, response, policy and programming"},null,null,null,null,null,null,"COMMENTS:"]
[]
[]
[]
[]
[]
[null,null,null,null,null,null,null,null,null,null,null,null,null,null,null,null,null,"(if yes)",null,null,null,null,null,null,null,null,"(if yes)"]
[]
[]
[]
[]
[]
[]
[null,null,null,null,null,null,null,null,null,null,"RESPONSE:",null,null,null,null,null,null,{"$f":"IF(O97=\"Yes\",1,0)","v":0},null,"RESPONSE:",null,null,null,null,null,null,{"$f":"IF(X97=\"Yes\",1,0)","v":0},null,"RESPONSE:"]

{"sheet":"Section III","index":22,"n_rows":21,"n_cols":2,"rows_kept":21,"cut":false,"hidden":false,"merged":[[2,1,5,30],[7,1,14,30],[16,1,18,30],[20,1,28,30]]}
[]
[]
[null,"SECTION III: MONITORING & EVALUATION"]
[]
[]
[]
[]
[null,"This section of the tool will introduce you to the final of five stages in the process to build coordinated surveillance: Monitoring and Evaluation. \n\nThis section includes three categories and three activities in total to assess."]
[]
[]
[]
[]
[]
[]
[]
[]
[null,"Monitoring & Evaluation Overview"]
[]
[]
[]
[null,"The Monitoring and Evaluation stage includes those activities carried out to measure and assess performance of coordinated surveillance activities and the coordinated SIS system, in order to inform the continuous, iterative improvement of the system. These include activities such as simulation exercises, data quality management, monitoring and evaluation plan. \n\nThe resources presented in this section should be considered by individuals using the SIS OT to assist with accomplishing the activities in this monitoring and evaluation  stage for the establishment or strengthening of the national coordinated surveillance system for zoonotic diseases."]

{"sheet":"Simulation Exercises","index":23,"n_rows":44,"n_cols":37,"rows_kept":44,"cut":false,"hidden":false,"merged":[[30,35,44,40],[43,34,44,34],[30,5,44,8],[30,10,41,15],[30,19,41,24],[30,28,41,33],[36,17,37,17],[36,26,37,26],[42,14,42,15],[43,10,44,12],[43,14,44,15],[43,17,44,17],[43,19,44,21],[43,23,44,24],[43,26,44,26],[43,28,44,30],[43,32,44,33],[2,1,4,33],[7,1,9,33],[11,1,24,33],[26,16,46,16],[27,1,28,3],[27,5,28,8],[27,10,28,15],[27,19,28,24],[27,28,28,33],[30,1,44,3],[45,13,46,15]]}
[]
[]
[null,"Simulation Exercises"]
[]
[]
[]
[]
[null,"Please select whether each activity below is completed (\"1\") or has not been completed / is pending (\"0\") based on the current level of capacity in your country."]
[]
[]
[]
[null,"IMPORTANT NOTES:\n    ·Select \"1\" if the capacity has been completed and \"0\" if the activity has not been completed or is pending.\n    ·If the capacity level is complete and the selected response is \"1\", the next capacity level for the activity opens.\n    ·If the capacity does not apply to your situation, select \"0\".\n    ·If you do not know the answer, select \"0\".\n    ·If there are two elements to the capacity level (the sentence will be joined with \"AND\"), then BOTH must be complete if \"1\" is selected as your response.\n \nCRITICAL ASSUMPTION: \n    ·Since the SIS OT refers to the development of coordinated surveillance and data sharing, selecting \"1\"  implies that the capacity level has been completed in the One Health sectors which are relevant for this activity. If not, please select \"0\"."]
[]
[]
[]
[]
[]
[]
[]
[null,null,null,null,null,null,null,null,null,null,null,null,null,null,null,null,null,null,null,null,null,null,null,null,null,null,null,null,null,null,null,null,null,null,null,null,1]
[null,null,null,null,null,null,null,null,null,null,null,null,null,null,null,null,null,null,null,null,null,null,null,null,null,null,null,null,null,null,null,null,null,null,null,null,0]
[]
[]
[]
[]
[]
[]
[null,"CATEGORY",null,null,null,"ACTIVITY",null,null,null,null,"LEVEL 1",null,null,null,null,null,null,null,null,"LEVEL 2",null,null,null,null,null,null,null,null,"LEVEL 3"]
[]
[]
[null,"Monitoring & Evaluation",null,null,null,{"$f":"Activities!V2","v":"ME-1 Simulation Exercises"},null,null,null,null,{"$f":"Activities!W2","v":"Simulation exercises are conducted to evaluate the efficiency and functionality of the coordinated surveillance system at the national level  "},null,null,null,null,null,null,null,null,{"$f":"Activities!W3","v":"Simulation exercises are conducted to evaluate the efficiency and functionality of the coordinated surveillance system at all country levels  "},null,null,null,null,null,null,null,null,{"$f":"Activities!W4","v":"Results of the simulation exercises are used to inform and revise coordinated surveillance plans "},null,null,null,null,null,null,"COMMENTS:"]
[]
[]
[]
[]
[]
[null,null,null,null,null,null,null,null,null,null,null,null,null,null,null,null,null,"(if yes)",null,null,null,null,null,null,null,null,"(if yes)"]
[]
[]
[]
[]
[]
[]
[null,null,null,null,null,null,null,null,null,null,"RESPONSE:",null,null,null,null,null,null,{"$f":"IF(O44=\"Yes\",1,0)","v":0},null,"RESPONSE:",null,null,null,null,null,null,{"$f":"IF(X44=\"Yes\",1,0)","v":0},null,"RESPONSE:",null,null,null,null,null,{"$f":"IF(AG44=\"Yes\",1,0)","v":0}]

{"sheet":"M & E Planning","index":24,"n_rows":44,"n_cols":37,"rows_kept":44,"cut":false,"hidden":false,"merged":[[30,35,44,40],[45,13,46,15],[43,34,44,34],[30,5,44,8],[30,10,41,15],[30,19,41,24],[30,28,41,33],[36,17,37,17],[36,26,37,26],[42,14,42,15],[43,10,44,12],[43,14,44,15],[43,17,44,17],[43,19,44,21],[43,23,44,24],[43,26,44,26],[43,28,44,30],[43,32,44,33],[2,1,4,33],[7,1,9,33],[11,1,24,33],[26,16,46,16],[27,1,28,3],[27,5,28,8],[27,10,28,15],[27,19,28,24],[27,28,28,33],[30,1,44,3]]}
[]
[]
[null,"Monitoring and Evaluation Planning"]
[]
[]
[]
[]
[null,"Please select whether each activity below is completed (\"1\") or has not been completed / is pending (\"0\") based on the current level of capacity in your country."]
[]
[]
[]
[null,"IMPORTANT NOTES:\n    ·Select \"1\" if the capacity has been completed and \"0\" if the activity has not been completed or is pending.\n    ·If the capacity level is complete and the selected response is \"1\", the next capacity level for the activity opens.\n    ·If the capacity does not apply to your situation, select \"0\".\n    ·If you do not know the answer, select \"0\".\n    ·If there are two elements to the capacity level (the sentence will be joined with \"AND\"), then BOTH must be complete if \"1\" is selected as your response.\n \nCRITICAL ASSUMPTION: \n    ·Since the SIS OT refers to the development of coordinated surveillance and data sharing, selecting \"1\"  implies that the capacity level has been completed in the One Health sectors which are relevant for this activity. If not, please select \"0\"."]
[]
[]
[]
[]
[]
[]
[]
[null,null,null,null,null,null,null,null,null,null,null,null,null,null,null,null,null,null,null,null,null,null,null,null,null,null,null,null,null,null,null,null,null,null,null,null,1]
[null,null,null,null,null,null,null,null,null,null,null,null,null,null,null,null,null,null,null,null,null,null,null,null,null,null,null,null,null,null,null,null,null,null,null,null,0]
[]
[]
[]
[]
[]
[]
[null,"STAGE",null,null,null,"ACTIVITY",null,null,null,null,"LEVEL 1",null,null,null,null,null,null,null,null,"LEVEL 2",null,null,null,null,null,null,null,null,"LEVEL 3"]
[]
[]
[null,"Monitoring & Evaluation",null,null,null,{"$f":"Activities!V5","v":"ME-2 Monitoring and Evaluation Planning"},null,null,null,null,{"$f":"Activities!W5","v":"There is a monitoring and evaluation plan that meets the objectives of the coordinated surveillance system"},null,null,null,null,null,null,null,null,{"$f":"Activities!W6","v":"The monitoring and evaluation plan is implemented to track performance and progress of the coordinated surveillance system"},null,null,null,null,null,null,null,null,{"$f":"Activities!W7","v":"Results of monitoring and evaluation iteratively improve or expand the coordinated surveillance system and align with international standards and recommendations "},null,null,null,null,null,null,"COMMENTS:"]
[]
[]
[]
[]
[]
[null,null,null,null,null,null,null,null,null,null,null,null,null,null,null,null,null,"(if yes)",null,null,null,null,null,null,null,null,"(if yes)"]
[]
[]
[]
[]
[]
[]
[null,null,null,null,null,null,null,null,null,null,"RESPONSE:",null,null,null,null,null,null,{"$f":"IF(O44=\"Yes\",1,0)","v":0},null,"RESPONSE:",null,null,null,null,null,null,{"$f":"IF(X44=\"Yes\",1,0)","v":0},null,"RESPONSE:",null,null,null,null,null,{"$f":"IF(AG44=\"Yes\",1,0)","v":0}]

{"sheet":"Data Quality Standards","index":25,"n_rows":44,"n_cols":37,"rows_kept":44,"cut":false,"hidden":false,"merged":[[29,35,43,40],[45,13,46,15],[43,34,44,34],[30,5,44,8],[30,10,41,15],[30,19,41,24],[30,28,41,33],[36,17,37,17],[36,26,37,26],[42,14,42,15],[43,10,44,12],[43,14,44,15],[43,17,44,17],[43,19,44,21],[43,23,44,24],[43,26,44,26],[43,28,44,30],[43,32,44,33],[2,1,4,33],[7,1,9,33],[11,1,24,33],[26,16,46,16],[27,1,28,3],[27,5,28,8],[27,10,28,15],[27,19,28,24],[27,28,28,33],[30,1,44,3]]}
[]
[]
[null,"Data Quality Standards"]
[]
[]
[]
[]
[null,"Please select whether each activity below is completed (\"1\") or has not been completed / is pending (\"0\") based on the current level of capacity in your country."]
[]
[]
[]
[null,"IMPORTANT NOTES:\n    ·Select \"1\" if the capacity has been completed and \"0\" if the activity has not been completed or is pending.\n    ·If the capacity level is complete and the selected response is \"1\", the next capacity level for the activity opens.\n    ·If the capacity does not apply to your situation, select \"0\".\n    ·If you do not know the answer, select \"0\".\n    ·If there are two elements to the capacity level (the sentence will be joined with \"AND\"), then BOTH must be complete if \"1\" is selected as your response.\n \nCRITICAL ASSUMPTION: \n    ·Since the SIS OT refers to the development of coordinated surveillance and data sharing, selecting \"1\"  implies that the capacity level has been completed in the One Health sectors which are relevant for this activity. If not, please select \"0\"."]
[]
[]
[]
[]
[]
[]
[]
[null,null,null,null,null,null,null,null,null,null,null,null,null,null,null,null,null,null,null,null,null,null,null,null,null,null,null,null,null,null,null,null,null,null,null,null,1]
[null,null,null,null,null,null,null,null,null,null,null,null,null,null,null,null,null,null,null,null,null,null,null,null,null,null,null,null,null,null,null,null,null,null,null,null,0]
[]
[]
[]
[]
[]
[]
[null,"STAGE",null,null,null,"ACTIVITY",null,null,null,null,"LEVEL 1",null,null,null,null,null,null,null,null,"LEVEL 2",null,null,null,null,null,null,null,null,"LEVEL 3"]
[]
[null,null,null,null,null,null,null,null,null,null,null,null,null,null,null,null,null,null,null,null,null,null,null,null,null,null,null,null,null,null,null,null,null,null,null,"COMMENTS:"]
[null,"Monitoring & Evaluation",null,null,null,{"$f":"Activities!V8","v":"ME-3 Data Quality Standards "},null,null,null,null,{"$f":"Activities!W8","v":"There is a data quality management methodology"},null,null,null,null,null,null,null,null,{"$f":"Activities!W9","v":"The data quality has been tested and determined to meet the objectives of the coordinated surveillance system "},null,null,null,null,null,null,null,null,{"$f":"Activities!W10","v":"The data quality aligns with international standards and recommendations "}]
[]
[]
[]
[]
[]
[null,null,null,null,null,null,null,null,null,null,null,null,null,null,null,null,null,"(if yes)",null,null,null,null,null,null,null,null,"(if yes)"]
[]
[]
[]
[]
[]
[]
[null,null,null,null,null,null,null,null,null,null,"RESPONSE:",null,null,null,null,null,null,{"$f":"IF(O44=\"Yes\",1,0)","v":0},null,"RESPONSE:",null,null,null,null,null,null,{"$f":"IF(X44=\"Yes\",1,0)","v":0},null,"RESPONSE:",null,null,null,null,null,{"$f":"IF(AG44=\"Yes\",1,0)","v":0}]

{"sheet":"Toolbox","index":26,"n_rows":87,"n_cols":12,"rows_kept":87,"cut":false,"hidden":false,"merged":[]}
[null,"Number","RESOURCE NAME","SHORT DESCRIPTION","LINK TO THE RESOURCE","NOTE","RELEVANT MATERIALS and VIDEOS","PUBLICATIONS",null,null,"$A$1"]
[null,1,{"$f":"Backbone!A2","v":"Africa CDC Event Based Surveillance Framework"},"The Framework for Event-based Surveillance (EBS) offers guidance to public health practitioners seeking to implement EBS at each administrative level in their countries. In African Union countries that have adopted the Integrated Disease Control and Response (IDSR) strategy, this document is a complement to and can enhance the implementation of IDSR.","https://africacdc.org/download/africa-cdc-event-based-surveillance-framework/ \n\n","Since indicator-based and event-based surveillance together comprise the early warning and response component of the public health surveillance system, this framework is intended to be used for EBS implementation.\nEnglish and French translations available.",null,null,null,"$A$1","$E$23","$A$1"]
[null,2,{"$f":"Backbone!A21","v":"AfyaData"},"AfyaData is a One Health disease surveillance tool, designed to cater for Human, animal and environmental surveillance needs. It is comprised of (a) Mobile App, used to collect data and receive (interact) feedback and (b) Web App, used to manage data, users and surveillance forms which may be distributed to data collectors based on access authorization protocols set.","https://github.com/sacids/afyadata1.2\nhttps://github.com/sacids/AfyaDataApp\n",null,"http://www.sacids.org/news/one-health-community-afyadata-tool/","https://publichealth.jmir.org/2017/4/e94/\nhttps://www.openaccessgovernment.org/one-health-surveillance-systems/62354/",null,null,null,{"$f":"ADDRESS(ROW(B1),COLUMN(B1))","v":"$B$1"}]
[null,3,{"$f":"Backbone!A447","v":"Animal Rabies Surveillance Cost Effectiveness Assessment Tool"},"An Excel-based tool to estimate the costs and effectiveness of rabies prevention programs.","https://www.ncbi.nlm.nih.gov/pubmed/28719253","The Excel tool can be downloaded as a supplemental file.\n"]
[null,4,{"$f":"Backbone!A575","v":"Antimicrobial resistance: a manual for developing national action plans"},"The manual for developing national action plans to address Antimicrobial Resistance. A series of supporting tools have also been developed by WHO, in collaboration with FAO and OIE, to accompany this manual. These include sample terms of reference for suggested coordination mechanisms, a generic template for a national action plan, a sample plan for monitoring and evaluation, and a checklist. ","https://apps.who.int/iris/bitstream/handle/10665/204470/9789241549530_eng.pdf","These manual and supporting materials could be considered for adaptation for zoonosis purposes."]
[null,5,{"$f":"Backbone!A42","v":"APHL Informatics  Self-Assessment Tool"},"The tool allows public health laboratories to assess strengths and gaps in informatics capability by addressing 19 critical operational areas. It captures data longitudinally, enabling laboratories to measure growth and leverage results to advocate effectively for their needs.","https://www.aphl.org/programs/informatics/Documents/LEI_2013Jun_Informatics-Self-Assessment-Tool-for-PHLs.pdf","Informatics Self-Assessment tool has been published as both a pdf document and as a web-based tool. The web-based version lets registered users save their work and compare previous assessments; it also features robust visualization capability to display data graphically. To get information regarding access to the web-based version contact  rachel.sheperd@aphl.org"]
[null,6,{"$f":"Backbone!A38","v":"APHL Laboratory Informatics Assessment Tool"},"A tool to gather baseline information from laboratories to record data flow, work flow, infrastructure, workforce and training, equipment available, data management including recording and reporting of data.  This tool has been modified based on the type of laboratory being assessed.  ","https://www.aphl.org/aboutAPHL/publications/Documents/GH-2018Nov-LIS-Guidebook-web.pdf ","The tool could be found in Appendix F of the document"]
[null,7,{"$f":"Backbone!A51","v":"Border Health Capacity Discussion Guide (BHCDG)"},"The Border Health Capacity Discussion Guide includes template tools to lead facilitated discussions with national-, district-, and ground crossing-level representatives on seven border health system topics: 1. Border characteristics 2. Availability of medical and public health services 3. Response plans and trainings 4. Surveillance systems 5. Communication systems 6. Social mobilization 7. Bi-national and regional information sharing.",null,"For more information on the resource, please contact the global border health team at CDC: gbht@cdc.gov "]
[null,8,{"$f":"Backbone!A59","v":"Competency Guidelines for Public Health Laboratory Professionals: CDC and the Association of Public Health Laboratories"},"The guidelines that provide an outline of the knowledge, skills, and abilities necessary for public health laboratory (PHL) professionals to deliver the core services of PHLs efficiently and effectively.  ","https://www.cdc.gov/mmwr/preview/mmwrhtml/su6401a1.htm?s_cid=su6401a1_w","Can be used for the public sector specific activities, which could contribute to the building of the elements for the coordinated surveillance."]
[null,9,{"$f":"Backbone!A61","v":"Cross Border Multisectoral Communication and Coordination Strategies"},"The tool is training modules for use in a workshop setting.  This tool is intended to guide stakeholders through the process of determining sector specific information sharing mechanisms, and creating multi-sectoral or cross-border information sharing mechanisms. These could be granular and operational, or high level, depending on the objectives of the user. ",null,"For additional information or interest in the resource, contact the global border health team at US CDC gbht@cdc.gov",null,"https://wwwnc.cdc.gov/eid/article/23/13/17-0520_article\nhttps://www.liebertpub.com/doi/10.1089/hs.2019.0080\n"]
[null,10,{"$f":"Backbone!A595","v":"Data Quality Review (DQR) Toolkit"},"Data Quality Review (DQR) toolkit proposes an integrated approach to data quality. It includes guidelines and tools that lay the basis for a standardized and holistic approach to data quality that promotes institutionalization of routine data quality assessment in countries. The toolkit contains three modules, each with specific methods and tools: (1) Framework and metrics; (2) Desk review of data quality; (3) Data verification and system assessment.","https://www.measureevaluation.org/our-work/data-quality/data-quality-review"]
[null,11,{"$f":"Backbone!A680","v":"Disease Outbreak After Action Report Toolkit"},"This toolkit guides One Health Platform representatives through the step-by-step process of planning and executing an After Action Report (AAR) following a disease outbreak.  ","https://www.onehealthapp.org/","See \"One Health resources\" section OH-app. "]
[null,12,{"$f":"Backbone!A65","v":"District Health Information Software 2 (DHIS2) "},"DHIS2 is an open source, web-based health management information system (HMIS) platform. The platform boasts data warehousing, visualization features, and the possibility for data users and policy makers to generate analyses from live data in real-time. DHIS2 is released as free and open software. Each country has its own “instance” of the DHIS2 platform with full ownership of the application and data. In collaboration with experts in the DHIS2 community, ministries of health configure their own information system on top of the generic platform.  ","https://www.dhis2.org/home","The core DHIS2 software development is managed by the Health Information Systems Program (HISP) at the University of Oslo (UiO).\nContact email: post@dhis2.org  "]
[null,13,{"$f":"Backbone!A83","v":"ECDC Data quality monitoring and surveillance system evaluation - A handbook of methods and applications "}," A handbook on monitoring the quality of disease surveillance data for public health professionals. The handbook is aimed to provide guidance on processes for monitoring data quality and evaluating surveillance systems in EU/EEA Member States and to support the daily work of public health professionals working with surveillance data on communicable diseases.  ","https://www.ecdc.europa.eu/en/publications-data/data-quality-monitoring-and-surveillance-system-evaluation-handbook-methods-and",null,null,"https://bmjopenquality.bmj.com/content/4/1/u209037.w3663; https://www.ncbi.nlm.nih.gov/pmc/articles/PMC5372144/"]
[null,14,{"$f":"Backbone!A97","v":"ECDC tool for the prioritisation of infectious disease threats"},"This Microsoft Excel tool  supports prioritization of infectious disease threats in a transparent, comparable and methodologically reproducible manner. The tool enables the relative ranking of different infectious disease threats. It is intended as a supplement to other methods that also support decision-making in preparedness planning.","https://www.ecdc.europa.eu/en/publications-data/ecdc-tool-prioritisation-infectious-disease-threats","Contacts: publications@ecdc.europa.eu; info@ecdc.europa.eu","https://www.ecdc.europa.eu/sites/default/files/documents/Tool-for-disease-priority-ranking_handbook-update-dec-18.pdf","https://www.ecdc.europa.eu/en/publications-data/literature-review-best-practices-ranking-emerging-infectious-disease-threats\n\nhttps://www.eurosurveillance.org/content/10.2807/1560-7917.ES.2016.21.17.30212"]
[null,15,{"$f":"Backbone!A137","v":"EFSA Data Collection Framework"},"Web-based tool for data collection purposes. Data should be mandatory submitted by all EU Member states. Aims at simplifying the zoonoses data collection procedure between parties and facilitating data exchange, data extraction and data reusability."," https://dcf.efsa.europa.eu/dcf-war/dc","Needs authorization. For additional information , contact Mario.MONGUIDI@efsa.europa.eu ","https://efsa.onlinelibrary.wiley.com/doi/pdf/10.2903/j.efsa.2014.3945"]
[null,16,{"$f":"Backbone!A138","v":"Electronic Integrated Disease Surveillance System (EIDSS)"},"EIDSS is a customizable web-based electronic disease reporting system that can support passive and active human and veterinary health surveillance, laboratory diagnostics, vector surveillance, and outbreak management to provide near real-time information flow for infectious disease-related decision-making.","Github.com/EIDSS"]
[null,17,{"$f":"Backbone!A166","v":"EMPRES Global Animal Disease Information System (EMPRES-i)"},"A web-based secure information system to support country level veterinary services by facilitating regional and global disease and a global reference database for animal diseases including zoonosis. ","Public site:\nhttp://empres-i.fao.org/eipws3g/\nFAO internal site: https://caf.fao.org/login?service=http%3A%2F%2Fempres-i.fao.org%2Fempresi3g%2Findex.html%3Fwsid%3Dempresi%26lang%3DEN-en%26proxy%3Dfalse\n","It is possible to have open access to the resource for the public tool, while instead the internal version is possible to access only with permission from the Project manager and the access is provided with personal email and password from the FAO IT department.","http://empres-i.fao.org/eipws3g/assets/docs/EMPRES-i_Manual.pdf\nhttps://youtu.be/oLa5MRe3qDw\nhttps://youtu.be/5WkB4q5DR6k\nhttps://youtu.be/6tef0goSBlY\nhttps://youtu.be/Ew9TukjBbB0\n","http://www.fao.org/3/a-i4386e.pdf\n\nhttp://www.fao.org/publications/card/fr/c/4296b6d5-14c9-5e72-b467-15f09baa29de/\n\nhttps://www.ijidonline.com/article/S1201-9712(18)34603-4/fulltext\n\nhttps://www.researchgate.net/publication/311821964\n\nhttp://www.fao.org/3/a-i4386e.pdf\n\n"]
[null,18,{"$f":"Backbone!A174","v":"Epidemiology Mapping Tool (EMT)"},"Excel-based tool assessing national epidemiology capacities of veterinary services. It is designed to provide comprehensive assessments of veterinary epidemiology capacity at national, sub-national, and local levels, with engagement of various stakeholders.  The EMT aims at providing an assessment of epidemiology capacities that links across various sectors and disciplines, such as animal health, human health, environmental health, epidemiology, laboratory and focusing on 3 main technical areas (Institutional, Epidemiology Workforce and Applications of Epi Capacities).",null,"For more information on EMT, please contact the FAO RAP Kachen.Wongsathapornchai@fao.org\n"]
[null,19,{"$f":"Backbone!A100","v":"Evaluation of Collaboration in a multisectoral Surveillance system (EcoSur)"},"EcoSur is a semi-quantitative tool that aims to evaluate the organization and functioning of collaboration in a multisectoral surveillance system and to analyze strengths and weaknesses of this collaboration. Ultimately, the evaluation results may support the formulation of recommendations to improve collaboration in the multisectoral surveillance system.","https://survtools.org/wiki/surveillance-evaluation/doku.php?id=quality_of_the_collaboration",null,null,"https://doi.org/10.3389/fvets.2019.00109\n\nhttp://www.theses.fr/s168606"]
[null,20,{"$f":"Backbone!A163","v":"Event Mobile Application (EMAi)"},"EMA-i is a real-time reporting application developed by FAO.  Using EMA-i, veterinary officers collect animal disease information from the field then transmitted with the network. The application generates georeferenced reports, which are transmitted to the country user interface under the FAO’s Global Animal Disease Information System (EMPRES-i) where data is securely stored and processed. The tool is customized to national disease reporting needs.",null,"For additional information or interest in access, contact Sabina.Ramazzotto@fao.org",null,"http://www.fao.org/3/a-i4853e.pdf\nhttp://www.fao.org/3/CA1078EN/ca1078en.pdf\nhttp://boutique.oie.int/extrait/24tekola657670.pdf"]
[null,21,{"$f":"Backbone!A47","v":"FAO Assessment Tool for Laboratories and Antimicrobial Resistance Surveillance Systems (ATLASS)"},"The FAO Assessment Tool for Laboratories and AMR Surveillance Systems (FAO-ATLASS) is improving country capacities for AMR surveillance contributing to a better harmonized and coordinated AMR surveillance at national, regional and global levels .This is a tool for generating baseline data and adapted recommendations to improve  capacities of the national AMR detection capacities and of the overarching national AMR surveillance system  for the food and agriculture sectors by external and self-assessment (conducted by trained external or national ATLASS assessors).  FAO-ATLASS includes two main modules, FAO-ATLASS Surveillance and FAO-ATLASS Laboratory. It covers the areas of AMR data production network (laboratories), AMR data collection and analysis, governance, communication and overall sustainability","http://www.fao.org/antimicrobial-resistance/resources/tools/fao-atlass/en/","To request an ATLASS mission,please contact your National/Regional FAO office , and/or send an email directly to EMPRES-Lab-Unit@fao.org ",null,"http://www.fao.org/antimicrobial-resistance/resources/tools/fao-atlass/en/"]
[null,22,{"$f":"Backbone!A268","v":"FAO Laboratory Mapping Tool (LMT)"},"The LMT is a system by which to assess the functionality of veterinary laboratories following a two-tiered process: i) an assessment of laboratory functionality is conducted via a detailed and standardized questionnaire that can be led by an external assessor or via self-assessment; and ii) the data collected is fed into a digital application which generates graphs and tables allowing for a \"snapshot\" view of a given laboratory's level of functionality and its evolution over time – which can be made on a yearly basis. The tool also serves to establish a baseline for laboratory status prior to an intervention, allowing an accurate measurement of progress and impact post-intervention. ","http://www.fao.org/ag/againfo/programmes/en/empres/news_130514.html","English and French available online, other languages upon request: Chinese, Thai, Azerbaijani, Russian , Indonesian(Bahasa)\nPoint of contact: EMPRES-Lab-Unit@fao.org\n\nThe LMT is a family of tools, as the LMT Core can be expanded through LMT modules : so far the LMT-safety module, and the LMT-AMR module. \n",null,"https://www.ncbi.nlm.nih.gov/pmc/articles/PMC6136606/"]
[null,23,{"$f":"Backbone!A517","v":"FAO Surveillance Evaluation Tool (SET)"},"Surveillance Evaluation Tool (SET) assesses national animal disease surveillance systems using a comprehensive and repeatable methodology. Interviews with major decision-makers centrally all the way to livestock owners in the field are used to generate graphs showing systems’ strengths and weaknesses. From these, action plans for improvement are developed jointly with the veterinary services. ",null,"The tool is accessible upon request to the developers and users interested in SET should contact them beforehand to ensure that they latest documents and proper methodology are used. Focal points can be contacted by looking on the project’s webpage here:\n http://www.fao.org/ag/againfo/programmes/en/empres/tools_SET.html \n","http://www.fao.org/ag/againfo/programmes/en/empres/tools_SET.html\nhttps://fao.adobeconnect.com/_a1026619000/faoset/ \nhttps://fao.adobeconnect.com/_a1026619000/p6w4mnvs0d2f/?proto=true","http://www.fao.org/3/CA1770EN/ca1770en.pdf\nhttp://www.fao.org/3/CA1832FR/ca1832fr.pdf\nhttp://www.fao.org/3/CA1778EN/ca1778en.pdf\nhttp://www.fao.org/3/CA2917FR/ca2917fr.pdf\nhttp://www.fao.org/3/ca3754en/ca3754en.pdf\nhttp://www.fao.org/3/ca5753fr/ca5753fr.pdf\nhttp://www.fao.org/3/ca7549en/ca7549en.pdf\n\n\n"]
[null,24,{"$f":"Backbone!A179","v":"FoodChain-Lab (FCL) "},"FoodChain-Lab (FCL) is free open-source tracing software. It provides trace-back and trace-forward analyses for food items to identify the source of a contamination causing foodborne disease outbreaks or other food-related incidents. FCL offers data collection, management and visualization features and interactive analysis methods. FCL was successfully applied in several outbreaks.","https://foodrisklabs.bfr.bund.de/foodchain-lab/\nhttps://fcl-portal.bfr.berlin/\n",null,"https://foodrisklabs.bfr.bund.de/foodchain-lab/\nhttps://foodrisklabs.bfr.bund.de/foodchain-lab/\nhttps://github.com/SiLeBAT/BfROpenLab\nhttps://github.com/SiLeBAT/fcl-client\n","https://www.liebertpub.com/doi/pdf/10.1089/fpd.2012.1296\n\nhttps://journals.plos.org/plosone/article?id=10.1371/journal.pone.0151977\n\nhttps://efsa.onlinelibrary.wiley.com/doi/epdf/10.2903/sp.efsa.2019.EN-1742\n\n"]
[null,25,{"$f":"Backbone!A33","v":"Framework for Enhancing Anthrax Prevention and Control "},"The Framework gives anthrax background and how to improve anthrax prevention and control in animals and people. It is intended for public and animal health officials in anthrax-endemic countries. It can be used for training on anthrax prevention and control or as a short reference for public health planners.","https://www.cdc.gov/anthrax/resources/anthrax-framework.html",null,null,"https://wwwnc.cdc.gov/eid/article/23/13/17-0431_article "]
[null,26,{"$f":"Backbone!A183","v":"Framework for Evaluating Public Health Surveillance Systems for Early Detection of Outbreaks "},"An operational planning and evaluation framework for syndromic surveillance systems.  The framework aids in planning and evaluating the complete surveillance system against a set of self-determined thresholds","https://www.researchgate.net/publication/8576839_Framework_for_Evaluating_Public_Health_Surveillance_Systems_for_Early_Detection_of_Outbreaks_Recommendations_from_the_CDC_Working_Group"]
[null,27,{"$f":"Backbone!A234","v":"Georgetown University International Health Regulation (IHR) Costing Tool"},"The IHR Costing Tool helps users develop cost estimates for sustainable capacity development under the International Health Regulations (IHR). The intuitive interface estimates costs for improvements to meet capacity targets based on field practices and guidance for achieving specific technical capabilities specified in the Joint External Evaluation.","https://ghscosting.org/",null,null,"https://pubmed.ncbi.nlm.nih.gov/30167334/\nhttps://www.liebertpub.com/doi/pdf/10.1089/hs.2019.0063\nhttps://ghscosting.org/export/IHR%20Costing%20Tool%20-%20Definitions%20and%20References.pdf "]
[null,28,{"$f":"Backbone!A184","v":"Global Dog Rabies Elimination Pathway (GDREP)"},"An Excel-based tool providing an easy-to-use interface including different aspects of a dog rabies elimination programme, broken down into two main categories for the epidemiological/logistical and financial aspects respectively","https://rabiesalliance.org/app/gdrep\nhttps://rabiesalliance.org/capacity-building/gdrep","The tool can be accessed as a supplementary excel file in the publication (https://www.ncbi.nlm.nih.gov/pmc/articles/PMC5300989/ ) or at the website https://rabiesalliance.org/capacity-building/gdrep","https://rabiesalliance.org/capacity-building/gdrep ","https://www.ncbi.nlm.nih.gov/pmc/articles/PMC5300989/\n\nhttps://journals.plos.org/plosntds/article?id=10.1371/journal.pntd.0006756\n\nhttps://wwwnc.cdc.gov/eid/article/23/12/17-1148_article\n"]
[null,29,{"$f":"Backbone!A634","v":"Governance Manual Toolkit"},"To be effective, national One Health platforms should develop and agree on governance processes that clearly explain how the platform will function. This toolkit provides an overview of how to develop a governance manual that outlines the platform’s purpose; its roles and responsibilities; meeting and communications protocols; the allocation of human, financial, and technical resources; and a means of evaluating and reporting on performance.","https://www.onehealthapp.org/","\"One Health resources\" section "]
[null,30,{"$f":"Backbone!A176","v":"Guidelines for designing\nanimal disease\nsurveillance plans\n"},"The general template with the framework for the  surveillance plan for infectious diseases","http://www.fao.org/3/cb3252en/cb3252en.pdf"]
[null,31,{"$f":"Backbone!A194","v":"Health System Assessment Approach (HSAA)"},"The HSAA is proposed as an aid to diagnose health systems performance and to capture system-wide information to better inform health sector planning. It looks at the entire health system, including governance, health financing, health services delivery, human resources, pharmaceutical management, and health information systems, plus the private sector, which is an important yet often overlooked part of the health system.","https://www.hfgproject.org/the-health-system-assessment-approach-a-how-to-manual/ "]
[null,32,{"$f":"Backbone!A239","v":"IHR-PVS National Bridging Workshop"},"This tool helps guide One Health (OH) stakeholders through a workshop where they will discuss the IHR requirements, and OH stakeholder coordination and operations to meet the International Health Regulations  (IHR) requirements. The workshop is designed to create a \"diagnosis\" of multi-sectoral coordination across a variety of topics, and create a roadmap for multi-sectoral coordination moving forward in order to work towards IHR compliance and high performance at the national level. ","https://extranet.who.int/sph/ihr-pvs-bridging-workshop","Available in English, Russian, French \nFacilitated by WHO and OIE. Contacts for this evaluation are delarocques@who.int (Stephane de la Rocque de Severac) and Dr. Fancois Caya (f.caya@oie.int) ",null,"\nhttps://www.ncbi.nlm.nih.gov/pubmed/31564739"]
[null,33,{"$f":"Backbone!A675","v":"Incorporating One Health Into Policy and Technical Guidance Kit"},"This toolkit guides through the process of integrating the concept of One Health approach into new or existing sectoral and cross-sectoral policy and technical guidance documents, including guidelines, standard operating procedures (SOPs), protocols, and plans, as part of broader One Health policy advocacy and multisectoral preparedness and response efforts.","https://www.onehealthapp.org/","\"One Health resources\" section "]
[null,34,{"$f":"Backbone!A195","v":"Integrated Disease Surveillance and Response (IDSR)"},"WHO/AFRO comprehensive strategy aimed at strengthening capacities for detection, confirmation and response to suspected cases and outbreaks, and for use of information to predict and plan for public health events at all levels of the health system. ","https://www.afro.who.int/publications/technical-guidelines-integrated-disease-surveillance-and-response-african-region-third",null,"https://www.tephinet.org/integrated-disease-surveillance-and-response-idsr-elearning-course\n\nhttps://www.cdc.gov/globalhealth/healthprotection/idsr/pdf/idsr-matrix_28x18_english.pdf\n\nhttps://www.who.int/csr/labepidemiology/projects/diseasesurv/en/\n\nhttps://www.afro.who.int/publications/guide-introduction-idsr-curricula-health-training-institutions"]
[null,35,{"$f":"Backbone!A31","v":"Integrated Surveillance for Antimicrobial Resistance (AGISAR)"},"The purpose of this guidance is to assist WHO Member States, and other stakeholders, in the establishment and development of programmes of integrated surveillance of antimicrobial resistance in foodborne bacteria (i.e., bacteria commonly transmitted by food). The guidance includes detailed country examples.","https://apps.who.int/iris/bitstream/handle/10665/255747/9789241512411-eng.pdf?sequence=1","The resource can be used as an example to be adapted for coordinated surveillance for zoonotic diseases. "]
[null,36,{"$f":"Backbone!A552","v":"International Health Regulations (‎2005):State Party self-assessment annual reporting tool (SPAR)"},"A reporting tool that supports State Parties of the International Health Regulations (IHR) to fulfill their obligation to report annually to the World Health Assembly (WHA) on the implementation of capacity requirements under these Regulations and to encourage the transparency and mutual accountability between States Parties towards global public health security, under the WHO IHR Monitoring and Evaluation Framework.","paper base \nhttps://apps.who.int/iris/bitstream/handle/10665/272432/WHO-WHE-CPI-2018.16-eng.pdf?sequence=1 ; \nelectronic\nhttps://extranet.who.int/e-spar","A web-based platform for SPAR reporting is accessible to IHR National Focal Points.","https://extranet.who.int/sph/news/ihr-self-assessment-annual-reporting-tool-spar-2018"]
[null,37,{"$f":"Backbone!A256","v":"Joint External Evaluation tool (JEE ) "},"This tool is intended to assess country capacity to prevent, detect, and rapidly respond to public health threats independently of whether they are naturally occurring, deliberate, or accidental. JEE provides 19 indicators for country evaluation reflecting graduated degrees of country capacity ranging from not implemented to fully implemented, tested and exercised.","https://www.who.int/publications/i/item/joint-external-evaluation-tool-(jee-tool)---second-edition\nhttps://apps.who.int/iris/bitstream/handle/10665/204368/9789241510172_eng.pdf?sequence=1","For support contact your WHO country or regional office.","https://www.who.int/publications/i/item/handbook-for-the-integration-of-the-oie-pvs-results-into-the-jee-process"]
[null,38,{"$f":"Backbone!A522","v":"Laboratory Information Management System “SILAB for Africa” (SILABFA)"},"SILABFA is a Laboratory Information Management System (LIMS) developed by Italian public Laboratory (IZSAM) and implemented in African Countries. The system is able to trace all diagnostic steps from Samples Reception up to the Final Reports. The statistics, inventory, money tracking, and biobank modules are fully integrated. SILABFA is ready for interoperability among external systems.","https://demo.izs.it/silabfa_eth/","For the access to a free demo version, contact silab.support@izs.it\nThe demo environment will be linked to test data used for development and not linked to the real cases.\n",null,"DOI: 10.1089/tmj.2018.0208\n\nhttp://www.sidilv.org/index.php/component/docman/doc_download/123-volume-atti-sidilv-2016?Itemid=\n\nhttps://www.ncbi.nlm.nih.gov/pubmed/23038071\n"]
[null,39,{"$f":"Backbone!A531","v":"Laboratory Information Management System Light (MiniLIMS)"},"MiniLIms is an information system for the management of an analysis laboratory which have a simple organization. It collects information about the sampling points, the type of material and species selected, the tests carried out and the results obtained and the samples storage. A module for AMR is embedded. ","https://demo.izs.it/silabfa_mini/ ","For the access to a free demo version, contact silab.support@izs.it\nThe demo environment will be linked to test data used for development and not linked to the real cases.\n"]
[null,40,{"$f":"Backbone!A271","v":"Laboratory Infrastructure Network Analysis (LINA)"},"LINA provides sophisticated computational modeling and data analytics functionality in an easy-to-use web-based application. The tool provides an easy visualization based on maps regarding capacities and capabilities of the national laboratory network and each laboratory itself. It is useful while building the country's laboratory network, but also to continuously evaluate based on the needs (what-if scenarios especially in case of outbreaks). This tool helps to optimize sample transport network, laboratory capacity building, planning disease controls programmes, support for rapid response (e.g. during outbreaks - identifying available capacity, balancing laboratory workload). ",null,"For more information on the possibility to access the tool, please contact Patrick Finley <pdfinle@sandia.gov and Walter Beyeler <webeyel@sandia.gov"]
[null,41,{"$f":"Backbone!A265","v":"Laboratory Leadership Competency Framework (GLLP)"},"The Laboratory Leadership Competency Framework outlines the essential nine competencies needed for laboratory leaders to build and direct sustainable “National Health Laboratory System”, including human, animal, environmental, agricultural, food and chemical laboratories, in support of disease detection, control and prevention efforts in health systems around the world.","https://www.who.int/ihr/publications/laboratory-leadership-competency-framework-first-edition/en/\n\nhttps://www.who.int/ihr/publications/laboratory-leadership-competency-framework-first-edition/fr/\n\nhttps://www.who.int/ihr/publications/laboratory-leadership-competency-framework-first-edition/ru/\n\nhttps://www.who.int/ihr/publications/laboratory-leadership-competency-framework-first-edition/es/","Laboratory Leadership Competency Framework is available in English, French, Russian, Spanish languages.\nThe Laboratory Leadership Competency Framework supports the development of the Global Laboratory Leadership Programme.\n","https://www.who.int/ihr/lyon/global-laboratory-leadership-programme/en/","https://www.frontiersin.org/articles/10.3389/fpubh.2019.00199/full \n\nhttps://apps.who.int/iris/bitstream/handle/10665/325635/WER24may2019-xiv-xvii-eng-fre.pdf \n\nhttp://dx.doi.org/10.2471/BLT.17.195883 "]
[null,42,{"$f":"Backbone!A288","v":"Listing and categorization of priority animal diseases including those transmissible to humans (Phylum)"},"The categorization and prioritization tool is proposed as an aid for the analytical steps of the protocol. This tool consists of an Excel file, organized in different modules. Each module corresponds to a separate spreadsheet, assessing a particular impact or type of data.","https://www.oie.int/solidarity/global-studies/categorisation-of-animal-diseases/",null,"https://www.who.int/ihr/procedures/mission-reports/en/"]
[null,43,{"$f":"Backbone!A291","v":"Methodology to analyse AMR-relevant legislation in the food and agriculture sector"},"The Methodology developed by FAO is a tool designed to guide the analyses of national legislation relevant for AMR in the food and agriculture sectors.  The Methodology can be applied to support a legal review process that helps reveal gaps and weaknesses in national legislation relevant for AMR and antimicrobial use, and can help assess the compatibility of various types of national and regional legal instruments with international standards for addressing AMR. ",null,"For more information on the possibility to access the tool, please contact the Development Law Service Branch of the Legal Office (LEGN) at the FAO at: LEGN-Chief@fao.org\n"]
[null,44,{"$f":"Backbone!A303","v":"National Action Plan for Health Security (NAPHS)"},"A country owned, multi-year, planning process that can accelerate the implementation of IHR core capacities and is based on the One Health and whole-of-government approach for all hazards. It captures national priorities for health security, brings sectors together, identifies partners and allocates resources for health security capacity development. The NAPHS also provides an overarching process to capture all ongoing preparedness initiatives in a country along with a country governance mechanism for emergency and disaster risk management. \n","https://apps.who.int/iris/bitstream/handle/10665/312220/WHO-WHE-CPI-19.5-eng.pdf?sequence=1","Website has broad information but countries appear to need to work closely with WHO in this process"]
[null,45,{"$f":"Backbone!A332","v":"Network for Evaluation of One Health (NEOH)"},"Forming part of an evaluation framework, it assesses the One Health-ness (or strength of One Health, OH) of a OH surveillance system by scoring critical aspects of integration, namely OH thinking, planning, working, learning, sharing, and systemic organization in standardized Excel worksheets with maximum 17 questions each to be answered.","https://www.wageningenacademic.com/doi/abs/10.3920/978-90-8686-875-9\n\nhttps://www.wageningenacademic.com/doi/suppl/10.3920/978-90-8686-875-9/suppl_file/%20NEOH_ESM_4_The%20neoh%20evaluation%20tools.xlsx ",null,"https://www.wageningenacademic.com/doi/suppl/10.3920/978-90-8686-875-9/suppl_file/%20NEOH_ESM_4_The%20neoh%20evaluation%20tools.xlsx\nhttps://www.wageningenacademic.com/doi/suppl/10.3920/978-90-8686-875-9","https://www.frontiersin.org/articles/10.3389/fpubh.2017.00020/full\nhttps://www.frontiersin.org/articles/10.3389/fvets.2018.00033/full\nhttps://www.frontiersin.org/articles/10.3389/fpubh.2018.00045/full\nhttps://www.frontiersin.org/articles/10.3389/fpubh.2018.00074/full\nhttps://www.frontiersin.org/articles/10.3389/fvets.2018.00147/full\nhttps://www.frontiersin.org/articles/10.3389/fvets.2018.00163/full\nhttps://www.frontiersin.org/articles/10.3389/fvets.2018.00023/full\nhttps://www.frontiersin.org/articles/10.3389/fvets.2017.00238/full\nhttps://www.frontiersin.org/articles/10.3389/fpubh.2017.00236/full\n\n"]
[null,46,{"$f":"Backbone!A433","v":"One Health European Joint Program (OHEJP) Glossary"},"The web-based community driven One Health glossary, called OHEJP Glossary, comprises over 1000 entries of different One Health or sector specific terms from public health, animal health and food safety.  Furthermore, the OHEJP Glossary provides tools to highlight similarities and differences between the sectors.   ","https://foodrisklabs.bfr.bund.de/oh-collaboration/ ",null,"https://foodrisklabs.bfr.bund.de/oh-collaboration/\n\nhttps://data.d4science.net/nPk4\n\nhttps://oh-surveillance-codex.readthedocs.io/en/latest/2-the-collaboration-principle.html#ohejp-glossary"]
[null,47,{"$f":"Backbone!A683","v":"One Health Policy Advocacy Toolkit"},"This toolkit helps One Health stakeholders develop and implement a policy advocacy strategy to guide them in advancing messages to gain decision makers’ support, identifying advocacy tools and events to strengthen collaboration and policies, and cultivating alliances and champions for the One Health cause.","https://www.onehealthapp.org/","See \"One Health resources\" section OH-app. "]
[null,48,{"$f":"Backbone!A685","v":"One Health Policy Model Toolkit"},"This toolkit is designed to help decision-makers understand the nature and scale of how changes in the livestock and human populations might impact veterinary, human, and environmental health, including some of the available policy options.","https://www.onehealthapp.org/","See \"One Health resources\" section OH-app. "]
[null,49,{"$f":"Backbone!A624","v":"One Health Stakeholder Mapping Toolkit"},"This toolkit guides through the process of planning and executing stakeholder mapping. The step-by-step process provides an overview of the phases of the stakeholder mapping process. The objective of this stakeholder mapping process is to identify and analyze all critical actors to involve in the formation of the OH platform and execution of its functions, and to inform the development and implementation of key One Health activities, such as technical guidelines and policy development. The tools within this toolkit are designed to be adaptable to different country contexts.","https://www.onehealthapp.org/","See \"One Health resources\" section OH-app. "]
[null,50,{"$f":"Backbone!A643","v":"One Health Strategic Plan Development"},"This toolkit guides through the step-by-step process of developing a national One Health Strategic Plan, using a participatory, stakeholder-driven approach. A One Health Strategic Plan is a national policy document that lays out a coordinated, multisectoral One Health approach to disease threats of public health concern, especially zoonotic diseases. It also serves as the basis for platform work planning and as an advocacy tool for mobilizing resources.","https://www.onehealthapp.org/","See \"One Health resources\" section OH-app. "]
[null,51,{"$f":"Backbone!A396","v":"One Health Surveillance (OHS) Codex "},"A high-level framework that supports collaboration, mutual understanding, knowledge exchange and data interoperability among One Health surveillance sectors. The OHS-Codex provides an overview of practical resources as well as pointers to success stories of application of these resources.","https://oh-surveillance-codex.readthedocs.io/en/latest/index.html"]
[null,52,{"$f":"Backbone!A400","v":"One Health Surveillance Readiness and Requirements Tool (OHSRRT)"},"The OHSRRT is a readiness and requirements assessment tool used to determine country readiness and gather requirements to develop a One Health surveillance system based on critical success factors. The tool includes a stakeholder engagement guide and questionnaire, data collection and characterization sheet, and the OHSRRT readiness and requirements landscape assessment.  The tool is structured so the results collected utilizing the tool provide a basis to compose a Requirements Analysis Report and develop functional requirements for an operational One Health surveillance system. ",null,"For information on the tool contact CDC ERRB, CDC One Health Office, or the Johns Hopkins Applied Physics Laboratory\nJHU/APL contact: Karen Meidenbauer, DVM, MPH\nKaren.meidenbauer@jhuapl.edu"]
[null,53,{"$f":"Backbone!A383","v":"One Health Systems Mapping and Analysis Resource Toolkit (OH-SMART)"},"The OH-SMART is a six-step process that supports stakeholders from multiple sectors to map, analyze and improve any existing system that requires interdisciplinary and multisectoral collaboration. The OH-SMART process can be used to strengthen One Health systems at the community, local, sub-national, national and regional level for any multisectoral challenge, including revising emergency response frameworks, improving Antimicrobial Resistance action plans,creating multiagency infectious disease collaboration protocols and supporting community-based collaborative risk management.",null,"The OH-SMART facilitator guide is shared with people who have gone through the Implementer or Master Facilitator training. The OH-SMART Implementers go through a training of trainers training and support an OH-SMART workshop and are after that able to use the toolkit independently. The training of trainers is offered in both a regularly-offered online option or in person as part of an OH-SMART implementation.  As part of the online training fee, implementors will be mentored and supported to adapt and implement the tool for their particular use.\nContact: Katey Pelican at pelicank@umn.edu\n","https://oh-smart.umn.edu/\n\n","OH-SMART publications:\nhttps://oh-smart.umn.edu/oh-smart-action/oh-smart-publications\n\n\n\n\n"]
[null,54,{"$f":"Backbone!A415","v":"One Health Zoonotic Disease Prioritization Process (OHZDP)"},"Excel-based  decision guiding tool providing step-by-step guidance on conducting a multisectoral, One Health prioritization process based on a workshop process. The tool utilizes a qualitative to semi-quantitative to quantitative process in which participants develop a set of criteria for prioritizing zoonoses, then developing representative questions for those criteria, ranking the criteria, and then calculating rank values based on these inputs.",null,"Contact onehealth@cdc.gov"]
[null,55,{"$f":"Backbone!A418","v":"One-stop border post sourcebook"},"This resource, developed by and directly applicable to countries in East Africa, provides a comprehensive description of a number of considerations that national level agencies, in two neighboring countries, should address when establishing a shared system for managing cross-border movement of humans and goods at priority ground crossings. ","https://www.tralac.org/documents/resources/african-union/1682-osbp-sourcebook-2nd-edition-may-2016/file.html"]
[null,56,{"$f":"Backbone!A628","v":"Organizational Structure and Terms of Reference Toolkit"},"This toolkit outlines the general process and tools needed to support country efforts to develop or revise a One Health platform’s organizational structure, including an organigram and terms of reference. By supporting the development or revision of platform organizational structures, the aim should be\nto promote the formalization of a One Health platform that is officially endorsed by all relevant ministries and senior government officials. ","https://www.onehealthapp.org/","\"One Health resources\" section "]
[null,57,{"$f":"Backbone!A430","v":"Outbreak costing tool"},"An Excel-based data collection tool that can be used to estimate the costs of routine outbreak investigations and response efforts in a country. The OCT can help standardize data collection on resources used in outbreak investigation and response, identify major cost drivers, and inform annual budgets. ",null,"To use the Outbreak Costing Tool (OCT), get access to the reference materials, or for any questions, please contact Dr. Cynthia H. Cassell at chcassell@cdc.gov  or Dr. Mahlet A. Woldetsadik at mwoldetsadik@cdc.gov "]
[null,58,{"$f":"Backbone!A437","v":"Policy Field Analysis (PFA)"},"Policy Field Analysis (PFA) is a specialized stakeholder mapping that allows to visualize the system of organizations as they interact for a given policy issue. PFA is used to identify the organizations (public, private or non-profit) at multiple levels of the system (local, national, regional and international levels), and map the structures (policies, frameworks, guidelines, physical or technological infrastructures) created by these organizations. This allows individuals to thoughtfully navigate these structures for appropriate resource allocation and stakeholder engagement. PFA can help identifying the critical points in the multisectoral system where individual actors can have an impact or create necessary change. The PFA video walks users through the simple mapping process, and the associated templates help users analyze their maps to ensure that information informs their program or policy development.","Video: https://www.youtube.com/watch?v=v26_j72svjM&feature=youtu.be","The Hubert video and the PFA template developed for the SIS OT introduce this resource. \nFor further questions or interest in using PFA, please contact Kaylee Myhre Errecaborde at myhre044@umn.edu \n",null,"https://www.researchgate.net/publication/242456068_Analyzing_Policy_Fields_Helping_Students_Understand_Complex_State_and_Local_Contexts   \n\nhttp://www.jodisandfort.org/uploads/4/5/0/9/45098387/policy_field_audit.pdf"]
[null,59,{"$f":"Backbone!A648","v":"Preparedness and Response Planning Toolkit"},"This toolkit is designed to support countries in their development of multisectoral preparedness and response plans for public health events, including public health events of initially unknown etiology; it can be used by countries that lack plans or by countries who want to strengthen existing plans, technical documents, or Standard Operating Procedures. Based on the WHO Africa Region’s framework for planning for an event of initially unknown etiology, this toolkit provides detailed technical guidance on developing multisectoral preparedness and response capacity.","https://www.onehealthapp.org/","See \"One Health resources\" section OH-app. "]
[null,60,{"$f":"Backbone!A435","v":"Progressive Management Pathway on Antimicrobial Resistance (AMR-PMP)"},"FAO Progressive Management Pathway for Antimicrobial Resistance (FAO-PMP-AMR) is a practical self-assessment tool provides guidance for countries in developing and implementing a multi-sector “One Health” national action plan to combat AMR. It includes a self-assessment tool for quantifying the level of implementation.",null,"The request of access to the tool to be sent to the mailbox FAO-AMR-PMP@fao.org ","http://www.fao.org/antimicrobial-resistance/resources/tools/fao-pmp-amr/en/\n\n","http://www.fao.org/antimicrobial-resistance/resources/tools/fao-pmp-amr/en/\n\nhttp://www.fao.org/europe/news/detail-news/en/c/1200272/\n\nhttp://www.fao.org/africa/news/detail-news/en/c/1190787"]
[null,61,{"$f":"Backbone!A445","v":"Rabies ECON "},"An Excel-based tool to estimate the epidemiologic burden of dog rabies and potential epidemiologic and economic impact of a dog rabies vaccination program.","https://www.ncbi.nlm.nih.gov/pubmed/29791440","The excel tool can be downloaded as a supplemental file."]
[null,62,{"$f":"Backbone!A604","v":"Rabies Exposure and Case Tracker Application (React)"},"A tool to support implementation of Integrated Bite Case Management programs. The App-based tool provides standardized, systematic field-based investigations of persons with rabies exposures and animals suspected to be infected with rabies. The tool guides data collection and provides real-time feedback to users regarding procedures of an IBCM investigation, risk of rabies in animals under investigation, and quarantine processes. The App follows cases over time, providing the user with the ability to track important epidemiologic and medical information in a longitudinal fashion. Data is collected offline, but can be immediately uploaded to a shared, secure server that can be accessed by pre-approved users from animal health and human health organizations. A customized website helps users visualize and analyze IBCM and rabies exposure data, both to manage bite victim’s treatment guidelines as well as information to guide rabies control interventions such as dog vaccination efforts. ","https://rabiestaskforce.com/toolkit\n\n","Available in English, French, Spanish, Vietnamese, Thai.\nThis app is primarily intended as a data collection/aggregation/light analysis app for human and animal rabies case investigations/reporting, but is adaptable to many contexts, as users can create any types of reports they would like. "," https://www.youtube.com/watch?v=BQJ5D6wGIeg"," https://www.cdc.gov/mmwr/volumes/68/wr/mm6832a6.htm"]
[null,63,{"$f":"Backbone!A482","v":"Resource Mapping for IHR and health security (Remap)"},"The Resource Mapping and Impact Analysis on Health Security Investment (REMAP) is an Excel based tool developed by WHO to map the resources - available and potential – that contribute to building and maintaining IHR capacities at country level. WHO supports countries to develop suitable templates and checklists for the REMAP based on countries contexts. This is done through consultations with multisectoral national stakeholders, including donors and partners.",null,"For additional information or interest in access, contact the SPH team at sph@who.int","https://apps.who.int/iris/bitstream/handle/10665/329385/WHO-WHE-CPI-2019.17-eng.pdf?sequence=1&isAllowed=y"]
[null,64,{"$f":"Backbone!A677","v":"Simulation Toolkit"},"A simulation is an exercise that imitates a real-life scenario to assess or reinforce preparedness protocols and capabilities. Simulations enable organizations to identify gaps or weaknesses in staff skills and capacity. Platforms typically engage in simulation exercises to examine and strengthen the level of coordination across One Health sectors in preparedness activities. This toolkit helps platforms and other stakeholders choose the right type of simulation and design and implement an effective simulation. It aims to give a high-level overview of simulations.","https://www.onehealthapp.org/","\"One Health resources\" section "]
[null,65,{"$f":"Backbone!A557","v":"Staged Tool for the Elimination of Brucellosis (STEB)"},"A spreadsheet-based self-assessment tool developed to assist countries in evaluating their current capacity to prevent, control and eliminate brucellosis. By identifying gaps in capacity, the STEB assists countries in developing activities that utilize a One Health approach to brucellosis prevention, control and elimination. ",null,"For additional information or interest in access, contact onehealth@cdc.gov and bspb@cdc.gov"]
[null,66,{"$f":"Backbone!A453","v":"Stepwise Approach towards Rabies Elimination (SARE)"},"The SARE tool is a practical planning, monitoring and evaluation tool to guide, develop and refine rabies control programmes. It provides an Excel assessment scoresheet with measurable steps, designed as a logical flow of activities, to progress from Stage 0 to Stage 5, in efforts towards freedom from dog-transmitted rabies.","https://caninerabiesblueprint.org/A-stepwise-approach-to-planning?lang=en","To request SARE Assessment  scoresheet, contact\n https://rabiesblueprint.org/sare.html","https://caninerabiesblueprint.org/IMG/pdf/sare_outline_2017_f.pdf"]
[null,67,{"$f":"Backbone!A567","v":"SurvCost: A tool to Estimate the Cost of Integrated Disease Surveillance and Response"},"SurvCost tool is designed to estimate the costs of Integrated Disease Surveillance and Response (IDSR) system. The tool was developed using Microsoft Excel and it is intended for countries that are integrating and strengthening their infectious disease surveillance systems.","https://www.cdc.gov/globalhealth/healthprotection/idsr/pdf/survcost2.xls",null,"https://www.cdc.gov/globalhealth/healthprotection/idsr/pdf/SurvCost-Manual-Jan-2008.pdf"]
[null,68,{"$f":"Backbone!A510","v":"SuRveillance EVALuation framework (SERVAL)"},"A stepwise instruction on how to plan, structure and conduct assessment of animal health surveillance systems, trialed and tested on UK veterinary sector. It has been designed to assist in the comprehensive evaluation of single surveillance components (activities) or entire surveillance programmes. \n","https://www.rvc.ac.uk/Media/Default/VEEPH/Documents/SERVAL.pdf"]
[null,69,{"$f":"Backbone!A561","v":"Surveillance Evaluation Framework (SurF)"}," An assessment framework for surveillance systems that can be used for biosecurity, plant or animal health. It was developed by the Ministry for Primary Industries in New Zealand for their own use, however, it is made public so that other organization can use the tool.","https://www.mpi.govt.nz/dmsdocument/18091/direct",null,null,"https://onlinelibrary.wiley.com/doi/full/10.1111/tbed.12898 \n\n"]
[null,70,{"$f":"Backbone!A351","v":"Surveillance network assessment tool (OASIS)"},"It is a standardized semi-quantitative tool for the assessment of surveillance systems on zoonoses and animal diseases. It a set of 78 assessment criteria divided into ten sections, representing the functional parts of a surveillance system. Each criterion is given a score according to the prescription of a scoring guide. Three graphical assessment outputs are generated. OASIS is meant to be used in a participatory manner with the individuals in-charge of the system being examined\n\n\n","https://www.plateforme-esa.fr/article/l-outil-d-evaluation-oasis","Available in English and French",null,"https://www.cambridge.org/core/journals/epidemiology-and-infection/article/oasis-an-assessment-tool-of-epidemiological-surveillance-systems-in-animal-health-and-food-safety/845374EB93FAE51055A5354A02C4BE33/core-reader"]
[null,71,{"$f":"Backbone!A540","v":"Surveillance Outbreak Response Management and Analysis System (SORMAS)"},"An open source mobile eHealth System that processes disease control and outbreak management procedures in addition to surveillance and early detection of outbreaks through real-time digital surveillance including peripheral health care facilities and laboratories.","https://github.com/hzi-braunschweig","The system is adaptable for One Health coordinated surveillance. For additional information sormas@helmholtz-hzi.de",null,"https://www.ncbi.nlm.nih.gov/pubmed/30147081;\n\nhttps://www.thieme-connect.com/products/ejournals/abstract/10.1055/s-0037-1605995\n\nhttps://www.ncbi.nlm.nih.gov/pubmed/30373727\n\n\n"]
[null,72,{"$f":"Backbone!A483","v":"Surveillance Webtools (SURVTOOLS) "},"Unite surveillance design and evaluation tools targeting competent, technical users who design, implement or evaluate animal health surveillance. They guide users through essential steps in the design – evaluation – re-design cycle for strategic planning of animal health surveillance and promote understanding of critical concepts, methods and requirements.","https://survtools.org\n\nhttps://survtools.org/wiki/surveillance-design-framework/doku.php\n\nhttps://survtools.org/wiki/surveillance-evaluation/doku.php","SURVTOOLS are provided in a publicly available online platform (https://survtools.org/; registration required when used first time). ","https://www.youtube.com/watch?v=6bXBn-Kglp8&feature=youtu.be&list=PLPamJyFyCit8UGPOaEwr_bR0LCKkcKzJ6\n\nhttps://www.youtube.com/watch?v=8aLKTw7z63U&feature=youtu.be","https://doi.org/10.1016/j.prevetmed.2019.104777\n\nhttps://www.researchgate.net/publication/299393001_RISKSUR_tools_taking_animal_health_surveillance_into_the_future_through_interdisciplinary_integration_of_scientific_evidence\n\ndoi.org/10.1186/s12917-016-0822-5 "]
[null,73,{"$f":"Backbone!A686","v":"Sustainable Funding Strategy for One Health Toolkit"},"The objective of this toolkit is to support One Health platforms and other coordination mechanisms in requesting and receiving funds to support operations of the platform and its activities in the long term.","https://www.onehealthapp.org/","See \"One Health resources\" section OH-app. "]
[null,74,{"$f":"Backbone!A155","v":"The Epidemic Intelligence from Open Sources (EIOS)"},"EIOS Initiative is a unique collaboration between WHO and various stakeholders that brings together new and existing initiatives, networks and systems to create a unified all-hazards, One Health approach to early detection, verification and assessment of public health risks and threats using open source information.","https://portal.who.int/eios/Login","To find out more or to be a part of this initiative, please email the EIOS Core Team\neios@who.int"]
[null,75,{"$f":"Backbone!A346","v":"The National Public Health Performance Standards Program (NPHPSP): Local Public Health System Performance Assessment Instrument (version 2)"},"The purpose for undertaking a performance assessment is to strengthen and improve the public health system. The NPHPSP instrument is based on the framework of the ten Essential Public Health Services. For each Essential Service it, the model standards describe or correspond to the primary activities conducted at the local level. Through the assessment process, participants from throughout the local public health system have an opportunity to discuss and determine how they are performing in comparison to each of the 30 model standards. ","https://www.cdc.gov/publichealthgateway/nphps/index.html?CDC_AA_refVal=https%3A%2F%2Fwww.cdc.gov%2Fnphpsp%2Findex.html","The instrument has been developed for the US Public Health systems. Could be taken as an example for the adaptation to the local conditions."]
[null,76,{"$f":"Backbone!A395","v":"The One Health Assessment for Planning and Performance (OH-APP)"},"OH-APP is a monitoring framework for multisectoral coordination mechanisms (MCM) to annually self-assess their organizational capacity and performance to inform planning and development assistance. The OH-APP complements the WHO Joint External Evaluation (JEE) by providing more specific indicators to measure the maturity of an MCM and benchmark its progress toward becoming a sustainable mechanism capable of coordinating multisectoral and multistakeholder collaboration for preparedness and response to public health threats. The OH-APP is administered over the course of a two-day workshop, using participatory decision-making tools. Assessment results are used to inform decision-making around joint planning, implementation and response to public health threats.","https://www.onehealthapp.org/","This application can be accessed using the fictitious country of Concordia.\nFor internal reporting purposes, only users with official One Health logins are able to add assessments for countries other than Concordia. Functionality is the same so users are able to use this application to assess One Health organizational capacity and performance in their own country context without the need to be official in this application."]
[null,77,{"$f":"Backbone!A367","v":"The One Health Systems Assessment for Priority Zoonoses (OH-SAPZ)"},"The tool is aimed to facilitate a systematic assessment of national structures for One Health coordination with respect to preventing, detecting, and responding to zoonotic diseases.  Users will follow a three-phase process for disease prioritization; systems mapping across surveillance and laboratory; and analysis and recommendations. More generally, the OH-SAPZ process is designed to provide visibility into a country’s strengths and weaknesses with respect to cross-sectoral communication and coordination, while providing a clear pathway for addressing any identified gaps. ","https://ghss.georgetown.edu/oh-sapz/","Requests for templates, slide decks and scenarios by email.\nErin.Sorrell@georgetown.edu, Claire.Standley@georgetown.edu\n","OH-SAPZ User Manual https://ghss.georgetown.edu/oh-sapz/\n\n","https://www.ncbi.nlm.nih.gov/pmc/articles/PMC4600904/\n\nhttps://www.ncbi.nlm.nih.gov/pmc/articles/PMC6479159/\n\n"]
[null,78,{"$f":"Backbone!A489","v":"The Suite for Automated Global Electronic BioSurveillance (SAGES)"},"A suite of freely available open source software tools designed to enhance electronic disease surveillance in resource-limited settings. SAGES leverages electronic disease surveillance tools combined with other freely-available interoperable tools, and the available local technology infrastructure, to enable and/or enhance electronic disease surveillance capacity around the world.  SAGES features include mobile data collection, temporal and spatial analysis through geographic mapping, anomalous event detection, and dynamic query capability. \n","https://github.com/sages-health/openessence ","For more information, contact  Johns Hopkins Applied Physics Laboratory\nJHU/APL contact:\nShraddha Patel\nShraddha.patel@jhuapl.edu \n","https://www.jhuapl.edu/sages/","https://doi.org/10.1186/1472-6947-12-99\n\nhttps://doi.org/10.1371/journal.pone.0019750"]
[null,79,{"$f":"Backbone!A450","v":"Tool for Assessing Progress towards Elimination of Rabies (TAPER)"},"This tool supports the evaluation of routinely collected rabies surveillance data to provide up-to-date locally tailored management guidance, to ensure that setbacks are overcome and that progress towards elimination continues.","https://boydorr.shinyapps.io/paho_rabies/\nhttps://github.com/katiehampson1978/paho_rabies","The algorithm is simple and can be implemented using code from the Github repository, with more details in a manuscript that is currently under review. For support on how to adapt to other settings contact Isty Rysava (istyrysava@gmail.com) or Katie Hampson (Katie.Hampson@glasgow.ac.uk",null,"https://doi.org/10.1186/s12879-020-05457-x"]
[null,80,{"$f":"Backbone!A296","v":"Updated Guidelines for Evaluating Public Health Surveillance Systems "},"This report provides updated guidelines for evaluating surveillance systems based on CDC's Framework for Program Evaluation in Public Health, research and discussion of concerns related to public health surveillance systems, and comments received from the public health community. The guidelines in this report describe many tasks and related activities that can be applied to public health surveillance system","https://www.cdc.gov/mmwr/preview/mmwrhtml/rr5013a1.htm"]
[null,81,{"$f":"Backbone!A592","v":"WHO CHOICE"},"WHO CHOICE is a program that helps countries decide health system priorities based on considerations of costs and impacts. It includes a number of different methods and tools.\nThe Generalized Cost-Effectiveness component of the program is interested in identifying health care interventions that provide the greatest value for money – the largest health gain for each dollar spent on health. The One Health Tool is used to help countries to examine the costs and feasibility of their strategic plans, as well as to evaluate the potential impact of the plan.\n","https://www.who.int/news-room/feature-stories/detail/new-cost-effectiveness-updates-from-who-choice"]
[null,82,{"$f":"Backbone!A598","v":"WHO Laboratory Assessment Tool"},"The tool provides guidance and data collection spreadsheets to assess: 1. strategic organization and support at the national level from government (structure, organization, and regulations for the national laboratory system(s)), 2. specific technical capacities at the laboratories level (selected laboratories that are representative for the country).includes two parts, system (LAT/System) and facility (LAT/Facility). Each part has an excel file and pdf file. The use of the Excel files facilitates data collection, allowing for automatic calculation, scoring, and aggregation of data. The two questionnaires can be used independently or in combination."," https://www.who.int/ihr/publications/laboratory_tool/en/ ","Available in English, French,Spanish and Russian languages."]
[null,83,{"$f":"Backbone!A419","v":"World Organisation for Animal Health (WOAH) Performance of Veterinary Services Pathway (PVS)"},"This is an external, in-country evaluation conducted by a group of OIE trained experts who collect and analyze baseline information and evidence collated during the mission, including an extensive field component. The mission uses the OIE PVS Tool, where 45 Critical Competencies are systematically evaluated.  The final output is an assessment report, providing an overview of the Veterinary Services’ condition, evaluating its performance and identifying strengths and weaknesses, based on WOAH international Standards.","https://www.oie.int/solidarity/pvs-pathway/","Request for the PVS mission should be sent from national WOAH Delegate to WOAH Director General.","https://rr-asia.oie.int/wp-content/uploads/2019/12/6a-managing-an-oie-pvs-evaluation-part-1_bangkok-dec-2019.pdf"]
[null,84,{"$f":"Backbone!A420","v":"World Organisation for Animal Health (WOAH) PVS Gap Analysis"},"WOAH Members Countries can request a PVS Gap Analysis, which supports countries in detailed planning based on their PVS Evaluation results. The PVS Gap Analysis (incorporating the PVS Costing Tool) is a carefully structured exercise undertaken with the national Veterinary Services to determine their priority goals, as well as strategies, activities and investments required to achieve these objectives. During the mission, the country’s Veterinary Services, supported by a team of WOAH-certified experts, and using the PVS Evaluation information as a baseline, develop strategic and costed actions to improve their performance and meet national targets. ","https://www.woah.org/en/what-we-offer/improving-veterinary-services/pvs-pathway/","The PVS Gap Analysis Mission can be requested after receiving the approved PVS mission report.","http://www.oie.int/solidarity/pvs-pathway/planning-gap-analysis/"]
[null,85,{"$f":"Backbone!A427","v":"World Organisation for Animal Health (WOAH) PVS Laboratory Mission"},"The PVS Laboratory (mission) is considered part of the specific WOAH programmes to support countries. The objectives of these missions are not only to determine the resources needed by the national laboratory network but also to evaluate the pertinence of its structure and viability in the national context in order to present elements needed for strategic decision making to the veterinary services. It also allows the analysis of the relationship of the national laboratory network with all other services providers.","https://www.oie.int/fileadmin/Home/eng/Support_to_OIE_Members/pdf/OIE_PVS_Pathway_Laboratory_Manual_2014.pdf","Request for the PVS mission should be sent from national WOAH Delegate to WOAH Director General.","https://rr-asia.oie.int/wp-content/uploads/2019/12/6a-managing-an-oie-pvs-evaluation-part-1_bangkok-dec-2019.pdf"]
[null,86,{"$f":"Backbone!A571","v":"World Organisation for Animal Health (WOAH) WAHIS Alert application"},"The WAHIS Alerts application allows its users to receive on their mobile phones or tablets the animal health alerts (immediate notifications) and the follow-up reports as soon as they are published by the WOAH.",null,"App store; Google Playstore,Play Market","https://www.oie.int/en/for-the-media/press-releases/detail/article/oie-alerts-and-animal-health-information-now-available-on-your-smartphone-or-tablet/"]

{"sheet":"PP1_tools","index":27,"n_rows":96,"n_cols":59,"rows_kept":96,"cut":false,"hidden":false,"merged":[[95,56,99,57],[1,1,3,62],[22,58,26,62],[29,58,33,62],[35,58,39,62],[41,58,45,62],[47,58,51,62],[89,58,93,62],[95,58,99,62],[47,56,51,57],[22,56,26,57],[29,56,33,57],[35,56,39,57],[41,56,45,57],[79,1,104,1],[6,32,20,32],[6,34,20,34],[6,36,20,36],[6,38,20,38],[6,40,20,40],[6,42,20,42],[6,44,20,44],[6,46,20,46],[29,53,33,54],[13,53,20,54],[89,56,93,57],[17,3,20,6],[17,8,20,13],[17,15,20,22],[17,24,20,26],[17,28,20,30],[22,8,26,13],[22,50,26,51],[22,53,26,54],[22,40,26,40],[22,42,26,42],[22,44,26,44],[22,46,26,46],[22,38,26,38],[6,48,20,48],[35,40,39,40],[35,38,39,38],[13,50,20,51],[22,48,26,48],[22,15,26,22],[22,24,26,26],[22,28,26,30],[22,32,26,32],[22,34,26,34],[22,36,26,36],[29,24,33,26],[29,28,33,30],[29,32,33,32],[29,34,33,34],[29,36,33,36],[29,38,33,38],[29,40,33,40],[29,48,33,48],[29,50,33,51],[47,32,51,32],[47,34,51,34],[35,8,39,13],[35,15,39,22],[35,24,39,26],[35,28,39,30],[35,32,39,32],[35,34,39,34],[35,36,39,36],[41,46,45,46],[41,48,45,48],[41,50,45,51],[41,53,45,54],[22,3,26,6],[41,34,45,34],[41,36,45,36],[41,38,45,38],[41,40,45,40],[41,42,45,42],[41,44,45,44],[41,8,45,13],[41,15,45,22],[41,24,45,26],[41,28,45,30],[41,32,45,32],[35,42,39,42],[35,44,39,44],[35,46,39,46],[35,48,39,48],[35,50,39,51],[35,53,39,54],[29,8,33,13],[29,15,33,22],[29,42,33,42],[29,44,33,44],[29,46,33,46],[73,46,87,46],[73,48,87,48],[80,50,87,51],[80,53,87,54],[47,48,51,48],[47,50,51,51],[47,53,51,54],[29,3,51,6],[17,1,51,1],[73,32,87,32],[73,34,87,34],[73,36,87,36],[73,38,87,38],[73,40,87,40],[47,36,51,36],[47,38,51,38],[47,40,51,40],[47,42,51,42],[47,44,51,44],[47,46,51,46],[47,8,51,13],[47,15,51,22],[47,24,51,26],[47,28,51,30],[89,44,93,44],[89,8,93,13],[89,15,93,22],[89,24,93,26],[89,28,93,30],[89,32,93,32],[84,3,87,6],[84,8,87,13],[84,15,87,22],[84,24,87,26],[84,28,87,30],[73,42,87,42],[73,44,87,44],[89,3,99,6],[89,46,93,46],[89,48,93,48],[89,50,93,51],[89,53,93,54],[95,8,99,13],[95,15,99,22],[95,24,99,26],[95,28,99,30],[95,32,99,32],[95,34,99,34],[89,34,93,34],[89,36,93,36],[89,38,93,38],[89,40,93,40],[95,48,99,48],[95,50,99,51],[95,53,99,54],[95,36,99,36],[95,38,99,38],[95,40,99,40],[95,42,99,42],[95,44,99,44],[95,46,99,46],[89,42,93,42]]}
[]
[null,"Focal Point Resources"]
[]
[]
[]
[]
[null,null,null,null,null,null,null,null,null,null,null,null,null,null,null,null,null,null,null,null,null,null,null,null,null,null,null,null,null,null,null,null,"Accessibility",null,"Language",null,"Ease of use",null,"Flexibility",null,"Data Needs",null,"Data Analysis",null,"Acceptability",null,"One Health",null,"Impact"]
[]
[]
[]
[]
[]
[]
[null,null,null,null,null,null,null,null,null,null,null,null,null,null,null,null,null,null,null,null,null,null,null,null,null,null,null,null,null,null,null,null,null,null,null,null,null,null,null,null,null,null,null,null,null,null,null,null,null,null,"RAW SCORE",null,null,"ADJUSTED SCORE \n(Based on user preferences)"]
[]
[]
[]
[null,"LEVEL 1 RESOURCES",null,"DESIGNATION",null,null,null,null,"RESOURCE NAME",null,null,null,null,null,null,"SHORT DESCRIPTION",null,null,null,null,null,null,null,null,"RESOURCE TYPE",null,null,null,"RESOURCE GENERALITY"]
[]
[]
[]
[null,null,null,null,null,null,null,null,null,null,null,null,null,null,null,null,null,null,null,null,null,null,null,null,null,null,null,null,null,null,null,null,{"$f":"'Attribute Survey'!S22","v":0},null,{"$f":"'Attribute Survey'!S26","v":0},null,{"$f":"'Attribute Survey'!S30","v":0},null,{"$f":"'Attribute Survey'!S34","v":0},null,{"$f":"'Attribute Survey'!S38","v":0},null,{"$f":"'Attribute Survey'!S42","v":0},null,{"$f":"'Attribute Survey'!S46","v":0},null,{"$f":"'Attribute Survey'!S50","v":0},null,{"$f":"'Attribute Survey'!S54","v":0}]
[null,null,null,"Resources Best Fit For Purpose",null,null,null,null,{"$f":"Backbone!A437","v":"Policy Field Analysis (PFA)"},null,null,null,null,null,null,"A specialized stakeholder mapping that allows to visualize the system of organizations as they interact for a given policy issue",null,null,null,null,null,null,null,null,{"$f":"INDEX(Backbone!$R2:$R893,MATCH(I23,Backbone!$A2:$A893,0))","v":"Guidance document"},null,null,null,{"$f":"INDEX(Backbone!$S2:$S893,MATCH(I23,Backbone!$A2:$A893,0))","v":"One Health; Generalized"},null,null,null,{"$f":"INDEX(Backbone!$H2:$H893,MATCH(I23,Backbone!$A2:$A893,0))","v":7.8},null,{"$f":"INDEX(Backbone!$I2:$I893,MATCH(I23,Backbone!$A2:$A893,0))","v":8},null,{"$f":"INDEX(Backbone!$J2:$J893,MATCH(I23,Backbone!$A2:$A893,0))","v":9.8000000000000007},null,{"$f":"INDEX(Backbone!$K2:$K893,MATCH(I23,Backbone!$A2:$A893,0))","v":10},null,{"$f":"INDEX(Backbone!$L2:$L893,MATCH(I23,Backbone!$A2:$A893,0))","v":7.1},null,{"$f":"INDEX(Backbone!$M2:$M893,MATCH(I23,Backbone!$A2:$A893,0))","v":4},null,{"$f":"INDEX(Backbone!$N2:$N893,MATCH(I23,Backbone!$A2:$A893,0))","v":7},null,{"$f":"INDEX(Backbone!$O2:$O893,MATCH(I23,Backbone!$A2:$A893,0))","v":8.8000000000000007},null,{"$f":"INDEX(Backbone!$P2:$P893,MATCH(I23,Backbone!$A2:$A893,0))","v":5},null,{"$f":"INDEX(Backbone!$Q2:$Q893,MATCH(I23,Backbone!$A2:$A893,0))","v":0.75},null,null,{"$f":"(AG23*AG22+AI23*AI22+AK23*AK22+AM23*AM22+AO23*AO22+AQ23*AQ22+AS23*AS22+AU23*AU22+AW23*AW22)/(SUM(AG22:AW22)*10)","v":{"$error":"#DIV/0!"}},null,null,"Go to \nToolbox: ",null,{"$f":"HYPERLINK(\"#\"&ADDRESS(MATCH(I23,Toolbox!$C$1:$C$30010),1,,,\"Toolbox\"),VLOOKUP(I23,Toolbox!$C$1:$C$30010,1,FALSE))","v":"Policy Field Analysis (PFA)"}]
[]
[]
[]
[]
[]
[]
[null,null,null,"Other Relevant Resources",null,null,null,null,{"$f":"Backbone!A2","v":"Africa CDC Event Based Surveillance Framework"},null,null,null,null,null,null,"A guidance to public health practitioners seeking to implement event-based surveillance at each administrative level.",null,null,null,null,null,null,null,null,{"$f":"INDEX(Backbone!$R2:$R893,MATCH(I30,Backbone!$A2:$A893,0))","v":"Guidance document"},null,null,null,{"$f":"INDEX(Backbone!$S2:$S893,MATCH(I30,Backbone!$A2:$A893,0))","v":"One Health; Generalized "},null,null,null,{"$f":"INDEX(Backbone!$H2:$H893,MATCH(I30,Backbone!$A2:$A893,0))","v":8},null,{"$f":"INDEX(Backbone!$I2:$I893,MATCH(I30,Backbone!$A2:$A893,0))","v":6},null,{"$f":"INDEX(Backbone!$J2:$J893,MATCH(I30,Backbone!$A2:$A893,0))","v":8.1999999999999993},null,{"$f":"INDEX(Backbone!$K2:$K893,MATCH(I30,Backbone!$A2:$A893,0))","v":8.3000000000000007},null,{"$f":"INDEX(Backbone!$L2:$L893,MATCH(I30,Backbone!$A2:$A893,0))","v":6.1},null,{"$f":"INDEX(Backbone!$M2:$M893,MATCH(I30,Backbone!$A2:$A893,0))","v":3.5},null,{"$f":"INDEX(Backbone!$N2:$N893,MATCH(I30,Backbone!$A2:$A893,0))","v":4},null,{"$f":"INDEX(Backbone!$O2:$O893,MATCH(I30,Backbone!$A2:$A893,0))","v":7},null,{"$f":"INDEX(Backbone!$P2:$P893,MATCH(I30,Backbone!$A2:$A893,0))","v":6},null,{"$f":"INDEX(Backbone!$Q2:$Q893,MATCH(I30,Backbone!$A2:$A893,0))","v":0.63222222222222224},null,null,{"$f":"(AG30*AG22+AI30*AI22+AK30*AK22+AM30*AM22+AO30*AO22+AQ30*AQ22+AS30*AS22+AU30*AU22+AW30*AW22)/(SUM(AG22:AW22)*10)","v":{"$error":"#DIV/0!"}},null,null,"Go to \nToolbox: ",null,{"$f":"HYPERLINK(\"#\"&ADDRESS(MATCH(I30,Toolbox!$C$1:$C$300),1,,,\"Toolbox\"),VLOOKUP(I30,Toolbox!$C$1:$C$300,1,FALSE))","v":"Africa CDC Event Based Surveillance Framework"}]
[]
[]
[]
[]
[]
[null,null,null,null,null,null,null,null,{"$f":"Backbone!A100","v":"Evaluation of Collaboration in a multisectoral Surveillance system (EcoSur)"},null,null,null,null,null,null,"A tool that aims to evaluate the organization and functioning of collaboration in a multisectoral surveillance system and to analyse strengths and weaknesses of this collaboration. ",null,null,null,null,null,null,null,null,{"$f":"INDEX(Backbone!$R2:$R893,MATCH(I36,Backbone!$A2:$A893,0))","v":"Guided/Facilitated tool or process"},null,null,null,{"$f":"INDEX(Backbone!$S2:$S893,MATCH(I36,Backbone!$A2:$A893,0))","v":"One Health; Generalized"},null,null,null,{"$f":"INDEX(Backbone!$H2:$H893,MATCH(I36,Backbone!$A2:$A893,0))","v":8.3000000000000007},null,{"$f":"INDEX(Backbone!$I2:$I893,MATCH(I36,Backbone!$A2:$A893,0))","v":6},null,{"$f":"INDEX(Backbone!$J2:$J893,MATCH(I36,Backbone!$A2:$A893,0))","v":8.5},null,{"$f":"INDEX(Backbone!$K2:$K893,MATCH(I36,Backbone!$A2:$A893,0))","v":7.8},null,{"$f":"INDEX(Backbone!$L2:$L893,MATCH(I36,Backbone!$A2:$A893,0))","v":8.3000000000000007},null,{"$f":"INDEX(Backbone!$M2:$M893,MATCH(I36,Backbone!$A2:$A893,0))","v":6.7},null,{"$f":"INDEX(Backbone!$N2:$N893,MATCH(I36,Backbone!$A2:$A893,0))","v":3.3},null,{"$f":"INDEX(Backbone!$O2:$O893,MATCH(I36,Backbone!$A2:$A893,0))","v":9.1},null,{"$f":"INDEX(Backbone!$P2:$P893,MATCH(I36,Backbone!$A2:$A893,0))","v":4.7},null,{"$f":"INDEX(Backbone!$Q2:$Q893,MATCH(I36,Backbone!$A2:$A893,0))","v":0.69666666666666677},null,null,{"$f":"(AG36*AG22+AI36*AI22+AK36*AK22+AM36*AM22+AO36*AO22+AQ36*AQ22+AS36*AS22+AU36*AU22+AW36*AW22)/(SUM(AG22:AW22)*10)","v":{"$error":"#DIV/0!"}},null,null,"Go to \nToolbox: ",null,{"$f":"HYPERLINK(\"#\"&ADDRESS(MATCH(I36,Toolbox!$C$1:$C$300),1,,,\"Toolbox\"),VLOOKUP(I36,Toolbox!$C$1:$C$300,1,FALSE))","v":"Evaluation of Collaboration in a multisectoral Surveillance system (EcoSur)"}]
[]
[]
[]
[]
[]
[null,null,null,null,null,null,null,null,{"$f":"Backbone!A195","v":"Integrated Disease Surveillance and Response (IDSR)"},null,null,null,null,null,null,"A strategy aimed at strengthening capacities for detection, confirmation and response to suspected cases and outbreaks, and for use of information to predict and plan for public health events. ",null,null,null,null,null,null,null,null,{"$f":"INDEX(Backbone!$R2:$R893,MATCH(I42,Backbone!$A2:$A893,0))","v":"Guidance document"},null,null,null,{"$f":"INDEX(Backbone!$S2:$S893,MATCH(I42,Backbone!$A2:$A893,0))","v":"Sector Specific; Generalized"},null,null,null,{"$f":"INDEX(Backbone!$H2:$H893,MATCH(I42,Backbone!$A2:$A893,0))","v":7.4},null,{"$f":"INDEX(Backbone!$I2:$I893,MATCH(I42,Backbone!$A2:$A893,0))","v":10},null,{"$f":"INDEX(Backbone!$J2:$J893,MATCH(I42,Backbone!$A2:$A893,0))","v":7.4},null,{"$f":"INDEX(Backbone!$K2:$K893,MATCH(I42,Backbone!$A2:$A893,0))","v":8.6999999999999993},null,{"$f":"INDEX(Backbone!$L2:$L893,MATCH(I42,Backbone!$A2:$A893,0))","v":6.7},null,{"$f":"INDEX(Backbone!$M2:$M893,MATCH(I42,Backbone!$A2:$A893,0))","v":4.5},null,{"$f":"INDEX(Backbone!$N2:$N893,MATCH(I42,Backbone!$A2:$A893,0))","v":8},null,{"$f":"INDEX(Backbone!$O2:$O893,MATCH(I42,Backbone!$A2:$A893,0))","v":7.2},null,{"$f":"INDEX(Backbone!$P2:$P893,MATCH(I42,Backbone!$A2:$A893,0))","v":8.5},null,{"$f":"INDEX(Backbone!$Q2:$Q893,MATCH(I42,Backbone!$A2:$A893,0))","v":0.76},null,null,{"$f":"(AG42*AG22+AI42*AI22+AK42*AK22+AM42*AM22+AO42*AO22+AQ42*AQ22+AS42*AS22+AU42*AU22+AW42*AW22)/(SUM(AG22:AW22)*10)","v":{"$error":"#DIV/0!"}},null,null,"Go to \nToolbox: ",null,{"$f":"HYPERLINK(\"#\"&ADDRESS(MATCH(I42,Toolbox!$C$1:$C$300),1,,,\"Toolbox\"),VLOOKUP(I42,Toolbox!$C$1:$C$300,1,FALSE))","v":"Integrated Disease Surveillance and Response (IDSR)"}]
[]
[]
[]
[]
[]
[null,null,null,null,null,null,null,null,{"$f":"Backbone!A367","v":"The One Health Systems Assessment for Priority Zoonoses (OH-SAPZ)"},null,null,null,null,null,null,"The tool is aimed to facilitate a systematic assessment of national structures for One Health coordination with respect to preventing, detecting, and responding to zoonotic diseases.  ",null,null,null,null,null,null,null,null,{"$f":"INDEX(Backbone!$R2:$R893,MATCH(I48,Backbone!$A2:$A893,0))","v":"Self-assessment tool"},null,null,null,{"$f":"INDEX(Backbone!$S2:$S893,MATCH(I48,Backbone!$A2:$A893,0))","v":"One Health; Generalized"},null,null,null,{"$f":"INDEX(Backbone!$H2:$H893,MATCH(I48,Backbone!$A2:$A893,0))","v":7.9},null,{"$f":"INDEX(Backbone!$I2:$I893,MATCH(I48,Backbone!$A2:$A893,0))","v":7.3},null,{"$f":"INDEX(Backbone!$J2:$J893,MATCH(I48,Backbone!$A2:$A893,0))","v":7.2},null,{"$f":"INDEX(Backbone!$K2:$K893,MATCH(I48,Backbone!$A2:$A893,0))","v":7.8},null,{"$f":"INDEX(Backbone!$L2:$L893,MATCH(I48,Backbone!$A2:$A893,0))","v":6.5},null,{"$f":"INDEX(Backbone!$M2:$M893,MATCH(I48,Backbone!$A2:$A893,0))","v":5.2},null,{"$f":"INDEX(Backbone!$N2:$N893,MATCH(I48,Backbone!$A2:$A893,0))","v":4},null,{"$f":"INDEX(Backbone!$O2:$O893,MATCH(I48,Backbone!$A2:$A893,0))","v":8.3000000000000007},null,{"$f":"INDEX(Backbone!$P2:$P893,MATCH(I48,Backbone!$A2:$A893,0))","v":9.6999999999999993},null,{"$f":"INDEX(Backbone!$Q2:$Q893,MATCH(I48,Backbone!$A2:$A893,0))","v":0.71000000000000008},null,null,{"$f":"(AG48*AG22+AI48*AI22+AK48*AK22+AM48*AM22+AO48*AO22+AQ48*AQ22+AS48*AS22+AU48*AU22+AW48*AW22)/(SUM(AG22:AW22)*10)","v":{"$error":"#DIV/0!"}},null,null,"Go to \nToolbox: ",null,{"$f":"HYPERLINK(\"#\"&ADDRESS(MATCH(I48,Toolbox!C1:C300),1,,,\"Toolbox\"),VLOOKUP(I48,Toolbox!C1:C300,1,FALSE))","v":"The One Health Systems Assessment for Priority Zoonoses (OH-SAPZ)"}]
[]
[]
[]
[]
[]
[]
[]
[]
[]
[]
[]
[]
[]
[]
[]
[]
[]
[]
[]
[]
[]
[]
[]
[]
[]
[null,null,null,null,null,null,null,null,null,null,null,null,null,null,null,null,null,null,null,null,null,null,null,null,null,null,null,null,null,null,null,null,"Accessibility",null,"Language",null,"Ease of use",null,"Flexibility",null,"Data Needs",null,"Data Analysis",null,"Acceptability",null,"One Health",null,"Impact"]
[]
[]
[]
[]
[]
[null,"LEVEL 3 RESOURCES"]
[null,null,null,null,null,null,null,null,null,null,null,null,null,null,null,null,null,null,null,null,null,null,null,null,null,null,null,null,null,null,null,null,null,null,null,null,null,null,null,null,null,null,null,null,null,null,null,null,null,null,"RAW SCORE",null,null,"ADJUSTED SCORE \n(Based on user preferences)"]
[]
[]
[]
[null,null,null,"DESIGNATION",null,null,null,null,"RESOURCE NAME",null,null,null,null,null,null,"SHORT DESCRIPTION",null,null,null,null,null,null,null,null,"RESOURCE TYPE",null,null,null,"RESOURCE GENERALITY"]
[]
[]
[]
[]
[null,null,null,"Other Relevant Resources",null,null,null,null,{"$f":"Backbone!A303","v":"National Action Plan for Health Security (NAPHS)"},null,null,null,null,null,null,"A country owned planning process that can accelerate the implementation of International Health Regulations (IHR) core capacities and is based on the One Health and wholeof-government approach for all hazards.",null,null,null,null,null,null,null,null,{"$f":"INDEX(Backbone!$R2:$R893,MATCH(I90,Backbone!$A2:$A893,0))","v":"Guidance document"},null,null,null,{"$f":"INDEX(Backbone!$S2:$S893,MATCH(I90,Backbone!$A2:$A893,0))","v":"One Health; Generalized"},null,null,null,{"$f":"INDEX(Backbone!$H2:$H893,MATCH(I90,Backbone!$A2:$A893,0))","v":8},null,{"$f":"INDEX(Backbone!$I2:$I893,MATCH(I90,Backbone!$A2:$A893,0))","v":9},null,{"$f":"INDEX(Backbone!$J2:$J893,MATCH(I90,Backbone!$A2:$A893,0))","v":7.8},null,{"$f":"INDEX(Backbone!$K2:$K893,MATCH(I90,Backbone!$A2:$A893,0))","v":10},null,{"$f":"INDEX(Backbone!$L2:$L893,MATCH(I90,Backbone!$A2:$A893,0))","v":8},null,{"$f":"INDEX(Backbone!$M2:$M893,MATCH(I90,Backbone!$A2:$A893,0))","v":4.5},null,{"$f":"INDEX(Backbone!$N2:$N893,MATCH(I90,Backbone!$A2:$A893,0))","v":10},null,{"$f":"INDEX(Backbone!$O2:$O893,MATCH(I90,Backbone!$A2:$A893,0))","v":10},null,{"$f":"INDEX(Backbone!$P2:$P893,MATCH(I90,Backbone!$A2:$A893,0))","v":10},null,{"$f":"INDEX(Backbone!$Q2:$Q893,MATCH(I90,Backbone!$A2:$A893,0))","v":0.85888888888888881},null,null,{"$f":"(AG90*AG22+AI90*AI22+AK90*AK22+AM90*AM22+AO90*AO22+AQ90*AQ22+AS90*AS22+AU90*AU22+AW90*AW22)/(SUM(AG22:AW22)*10)","v":{"$error":"#DIV/0!"}},null,null,"Go to \nToolbox: ",null,{"$f":"HYPERLINK(\"#\"&ADDRESS(MATCH(I90,Toolbox!$C$1:$C$300),1,,,\"Toolbox\"),VLOOKUP(I90,Toolbox!$C$1:$C$300,1,FALSE))","v":"National Action Plan for Health Security (NAPHS)"}]
[]
[]
[]
[]
[]
[null,null,null,null,null,null,null,null,{"$f":"Backbone!A400","v":"One Health Surveillance Readiness and Requirements Tool (OHSRRT)"},null,null,null,null,null,null,"A readiness and requirements assessment tool used to determine country readiness and gather requirements to develop a One Health surveillance system based on critical success factors.",null,null,null,null,null,null,null,null,{"$f":"INDEX(Backbone!$R2:$R893,MATCH(I96,Backbone!$A2:$A893,0))","v":"Self-assessment tool"},null,null,null,{"$f":"INDEX(Backbone!$S2:$S893,MATCH(I96,Backbone!$A2:$A893,0))","v":"One Health; Generalized"},null,null,null,{"$f":"INDEX(Backbone!$H2:$H893,MATCH(I96,Backbone!$A2:$A893,0))","v":8},null,{"$f":"INDEX(Backbone!$I2:$I893,MATCH(I96,Backbone!$A2:$A893,0))","v":6},null,{"$f":"INDEX(Backbone!$J2:$J893,MATCH(I96,Backbone!$A2:$A893,0))","v":7.4},null,{"$f":"INDEX(Backbone!$K2:$K893,MATCH(I96,Backbone!$A2:$A893,0))","v":8.6999999999999993},null,{"$f":"INDEX(Backbone!$L2:$L893,MATCH(I96,Backbone!$A2:$A893,0))","v":6},null,{"$f":"INDEX(Backbone!$M2:$M893,MATCH(I96,Backbone!$A2:$A893,0))","v":2.5},null,{"$f":"INDEX(Backbone!$N2:$N893,MATCH(I96,Backbone!$A2:$A893,0))","v":2},null,{"$f":"INDEX(Backbone!$O2:$O893,MATCH(I96,Backbone!$A2:$A893,0))","v":9.6},null,{"$f":"INDEX(Backbone!$P2:$P893,MATCH(I96,Backbone!$A2:$A893,0))","v":5.5},null,{"$f":"INDEX(Backbone!$Q2:$Q893,MATCH(I96,Backbone!$A2:$A893,0))","v":0.61888888888888882},null,null,{"$f":"(AG96*AG22+AI96*AI22+AK96*AK22+AM96*AM22+AO96*AO22+AQ96*AQ22+AS96*AS22+AU96*AU22+AW96*AW22)/(SUM(AG22:AW22)*10)","v":{"$error":"#DIV/0!"}},null,null,"Go to \nToolbox: ",null,{"$f":"HYPERLINK(\"#\"&ADDRESS(MATCH(I96,Toolbox!$C$1:$C$300),1,,,\"Toolbox\"),VLOOKUP(I96,Toolbox!$C$1:$C$300,1,FALSE))","v":"One Health Surveillance Readiness and Requirements Tool (OHSRRT)"}]

{"sheet":"PP2_tools","index":28,"n_rows":42,"n_cols":59,"rows_kept":42,"cut":false,"hidden":false,"merged":[[41,56,45,57],[1,1,3,62],[22,58,26,62],[28,58,32,62],[34,58,38,62],[41,58,45,62],[22,56,26,57],[28,56,32,57],[34,56,38,57],[6,42,20,42],[22,42,26,42],[34,42,38,42],[41,42,45,42],[22,24,26,26],[22,28,26,30],[34,50,38,51],[22,50,26,51],[34,24,38,26],[34,28,38,30],[28,50,32,51],[34,53,38,54],[28,40,32,40],[34,44,38,44],[28,44,32,44],[28,42,32,42],[22,53,26,54],[22,46,26,46],[22,48,26,48],[34,40,38,40],[34,36,38,36],[28,24,32,26],[28,32,32,32],[41,53,45,54],[28,53,32,54],[34,46,38,46],[41,46,45,46],[28,46,32,46],[34,48,38,48],[41,48,45,48],[28,48,32,48],[41,50,45,51],[41,40,45,40],[41,36,45,36],[41,44,45,44],[28,36,32,36],[34,38,38,38],[41,38,45,38],[28,28,32,30],[22,44,26,44],[22,32,26,32],[22,34,26,34],[22,36,26,36],[22,38,26,38],[22,40,26,40],[6,40,20,40],[13,50,20,51],[13,53,20,54],[6,44,20,44],[6,46,20,46],[6,48,20,48],[17,1,45,1],[6,32,20,32],[6,34,20,34],[6,36,20,36],[6,38,20,38],[34,32,38,32],[41,32,45,32],[34,34,38,34],[41,34,45,34],[41,24,45,26],[41,28,45,30],[41,3,45,6],[17,24,20,26],[17,28,20,30],[28,38,32,38],[28,34,32,34],[17,3,20,6],[17,8,20,13],[17,15,20,22],[34,15,38,22],[41,15,45,22],[28,15,32,22],[22,8,26,13],[22,15,26,22],[34,8,38,13],[41,8,45,13],[28,8,32,13],[22,3,38,6]]}
[]
[null,"Prioritization Resources"]
[]
[]
[]
[]
[null,null,null,null,null,null,null,null,null,null,null,null,null,null,null,null,null,null,null,null,null,null,null,null,null,null,null,null,null,null,null,null,"Accessibility",null,"Language",null,"Ease of use",null,"Flexibility",null,"Data Needs",null,"Data Analysis",null,"Acceptability",null,"One Health",null,"Impact"]
[]
[]
[]
[]
[]
[]
[null,null,null,null,null,null,null,null,null,null,null,null,null,null,null,null,null,null,null,null,null,null,null,null,null,null,null,null,null,null,null,null,null,null,null,null,null,null,null,null,null,null,null,null,null,null,null,null,null,null,"RAW SCORE",null,null,"ADJUSTED SCORE \n(Based on user preferences)"]
[]
[]
[]
[null,"LEVEL 1 RESOURCES",null,"DESIGNATION",null,null,null,null,"RESOURCE NAME",null,null,null,null,null,null,"SHORT DESCRIPTION",null,null,null,null,null,null,null,null,"RESOURCE TYPE",null,null,null,"RESOURCE GENERALITY"]
[]
[]
[]
[null,null,null,null,null,null,null,null,null,null,null,null,null,null,null,null,null,null,null,null,null,null,null,null,null,null,null,null,null,null,null,null,{"$f":"'Attribute Survey'!S22","v":0},null,{"$f":"'Attribute Survey'!S26","v":0},null,{"$f":"'Attribute Survey'!S30","v":0},null,{"$f":"'Attribute Survey'!S34","v":0},null,{"$f":"'Attribute Survey'!S38","v":0},null,{"$f":"'Attribute Survey'!S42","v":0},null,{"$f":"'Attribute Survey'!S46","v":0},null,{"$f":"'Attribute Survey'!S50","v":0},null,{"$f":"'Attribute Survey'!S54","v":0}]
[null,null,null,"Resources Best Fit For Purpose",null,null,null,null,{"$f":"Backbone!A97","v":"ECDC tool for the prioritisation of infectious disease threats"},null,null,null,null,null,null,"An Excel-based tool that supports prioritisation of infectious disease threats",null,null,null,null,null,null,null,null,{"$f":"INDEX(Backbone!$R2:$R893,MATCH(I23,Backbone!$A2:$A893,0))","v":"Self-assessment tool"},null,null,null,{"$f":"INDEX(Backbone!$S2:$S893,MATCH(I23,Backbone!$A2:$A893,0))","v":"Sector Specific; Generalized"},null,null,null,{"$f":"INDEX(Backbone!$H2:$H893,MATCH(I23,Backbone!$A2:$A893,0))","v":9.8000000000000007},null,{"$f":"INDEX(Backbone!$I2:$I893,MATCH(I23,Backbone!$A2:$A893,0))","v":10},null,{"$f":"INDEX(Backbone!$J2:$J893,MATCH(I23,Backbone!$A2:$A893,0))","v":8},null,{"$f":"INDEX(Backbone!$K2:$K893,MATCH(I23,Backbone!$A2:$A893,0))","v":8.6999999999999993},null,{"$f":"INDEX(Backbone!$L2:$L893,MATCH(I23,Backbone!$A2:$A893,0))","v":7.1},null,{"$f":"INDEX(Backbone!$M2:$M893,MATCH(I23,Backbone!$A2:$A893,0))","v":4.5},null,{"$f":"INDEX(Backbone!$N2:$N893,MATCH(I23,Backbone!$A2:$A893,0))","v":8},null,{"$f":"INDEX(Backbone!$O2:$O893,MATCH(I23,Backbone!$A2:$A893,0))","v":8.5},null,{"$f":"INDEX(Backbone!$P2:$P893,MATCH(I23,Backbone!$A2:$A893,0))","v":9},null,{"$f":"INDEX(Backbone!$Q2:$Q893,MATCH(I23,Backbone!$A2:$A893,0))","v":0.81777777777777771},null,null,{"$f":"(AG23*AG22+AI23*AI22+AK23*AK22+AM23*AM22+AO23*AO22+AQ23*AQ22+AS23*AS22+AU23*AU22+AW23*AW22)/(SUM(AG22:AW22)*10)","v":{"$error":"#DIV/0!"}},null,null,"Go to \nToolbox: ",null,{"$f":"HYPERLINK(\"#\"&ADDRESS(MATCH(I23,Toolbox!$C$1:$C$300),1,,,\"Toolbox\"),VLOOKUP(I23,Toolbox!$C$1:$C$300,1,FALSE))","v":"ECDC tool for the prioritisation of infectious disease threats"}]
[]
[]
[]
[]
[]
[null,null,null,null,null,null,null,null,{"$f":"Backbone!A367","v":"The One Health Systems Assessment for Priority Zoonoses (OH-SAPZ)"},null,null,null,null,null,null,"The tool is aimed to facilitate a systematic assessment of national structures for One Health coordination with respect to preventing, detecting, and responding to zoonotic diseases.  ",null,null,null,null,null,null,null,null,{"$f":"INDEX(Backbone!$R2:$R893,MATCH(I29,Backbone!$A2:$A893,0))","v":"Self-assessment tool"},null,null,null,{"$f":"INDEX(Backbone!$S2:$S893,MATCH(I29,Backbone!$A2:$A893,0))","v":"One Health; Generalized"},null,null,null,{"$f":"INDEX(Backbone!$H2:$H893,MATCH(I29,Backbone!$A2:$A893,0))","v":7.9},null,{"$f":"INDEX(Backbone!$I2:$I893,MATCH(I29,Backbone!$A2:$A893,0))","v":7.3},null,{"$f":"INDEX(Backbone!$J2:$J893,MATCH(I29,Backbone!$A2:$A893,0))","v":7.2},null,{"$f":"INDEX(Backbone!$K2:$K893,MATCH(I29,Backbone!$A2:$A893,0))","v":7.8},null,{"$f":"INDEX(Backbone!$L2:$L893,MATCH(I29,Backbone!$A2:$A893,0))","v":6.5},null,{"$f":"INDEX(Backbone!$M2:$M893,MATCH(I29,Backbone!$A2:$A893,0))","v":5.2},null,{"$f":"INDEX(Backbone!$N2:$N893,MATCH(I29,Backbone!$A2:$A893,0))","v":4},null,{"$f":"INDEX(Backbone!$O2:$O893,MATCH(I29,Backbone!$A2:$A893,0))","v":8.3000000000000007},null,{"$f":"INDEX(Backbone!$P2:$P893,MATCH(I29,Backbone!$A2:$A893,0))","v":9.6999999999999993},null,{"$f":"INDEX(Backbone!$Q2:$Q893,MATCH(I29,Backbone!$A2:$A893,0))","v":0.71000000000000008},null,null,{"$f":"(AG29*AG22+AI29*AI22+AK29*AK22+AM29*AM22+AO29*AO22+AQ29*AQ22+AS29*AS22+AU29*AU22+AW29*AW22)/(SUM(AG22:AW22)*10)","v":{"$error":"#DIV/0!"}},null,null,"Go to \nToolbox: ",null,{"$f":"HYPERLINK(\"#\"&ADDRESS(MATCH(I29,Toolbox!$C$1:$C$300),1,,,\"Toolbox\"),VLOOKUP(I29,Toolbox!$C$1:$C$300,1,FALSE))","v":"The One Health Systems Assessment for Priority Zoonoses (OH-SAPZ)"}]
[]
[]
[]
[]
[]
[null,null,null,null,null,null,null,null,{"$f":"Backbone!A415","v":"One Health Zoonotic Disease Prioritization Process (OHZDP)"},null,null,null,null,null,null,"An Excel-based  decision guiding tool providing step-by-step guidance on conducting a multisectoral, One Health prioritizatoin process based on a workshop process. ",null,null,null,null,null,null,null,null,{"$f":"INDEX(Backbone!$R2:$R893,MATCH(I35,Backbone!$A2:$A893,0))","v":"Guided/Facilitated tool or process"},null,null,null,{"$f":"INDEX(Backbone!$S2:$S893,MATCH(I35,Backbone!$A2:$A893,0))","v":"One Health; Generalized"},null,null,null,{"$f":"INDEX(Backbone!$H2:$H893,MATCH(I35,Backbone!$A2:$A893,0))","v":8},null,{"$f":"INDEX(Backbone!$I2:$I893,MATCH(I35,Backbone!$A2:$A893,0))","v":9.3000000000000007},null,{"$f":"INDEX(Backbone!$J2:$J893,MATCH(I35,Backbone!$A2:$A893,0))","v":9.1},null,{"$f":"INDEX(Backbone!$K2:$K893,MATCH(I35,Backbone!$A2:$A893,0))","v":6.7},null,{"$f":"INDEX(Backbone!$L2:$L893,MATCH(I35,Backbone!$A2:$A893,0))","v":7},null,{"$f":"INDEX(Backbone!$M2:$M893,MATCH(I35,Backbone!$A2:$A893,0))","v":7.3},null,{"$f":"INDEX(Backbone!$N2:$N893,MATCH(I35,Backbone!$A2:$A893,0))","v":8.3000000000000007},null,{"$f":"INDEX(Backbone!$O2:$O893,MATCH(I35,Backbone!$A2:$A893,0))","v":9.1},null,{"$f":"INDEX(Backbone!$P2:$P893,MATCH(I35,Backbone!$A2:$A893,0))","v":9.3000000000000007},null,{"$f":"INDEX(Backbone!$Q2:$Q893,MATCH(I35,Backbone!$A2:$A893,0))","v":0.82333333333333325},null,null,{"$f":"(AG35*AG22+AI35*AI22+AK35*AK22+AM35*AM22+AO35*AO22+AQ35*AQ22+AS35*AS22+AU35*AU22+AW35*AW22)/(SUM(AG22:AW22)*10)","v":{"$error":"#DIV/0!"}},null,null,"Go to \nToolbox: ",null,{"$f":"HYPERLINK(\"#\"&ADDRESS(MATCH(I35,Toolbox!$C$1:$C$300),1,,,\"Toolbox\"),VLOOKUP(I35,Toolbox!$C$1:$C$300,1,FALSE))","v":"One Health Zoonotic Disease Prioritization Process (OHZDP)"}]
[]
[]
[]
[]
[]
[]
[null,null,null,"Other Relevant Resources",null,null,null,null,{"$f":"Backbone!A288","v":"Listing and categorization of priority animal diseases including those transmissible to humans (Phylum)"},null,null,null,null,null,null,"The categorisation and prioritization Excel-based tool is proposed as an aid for the analytical steps of the protocol. ",null,null,null,null,null,null,null,null,{"$f":"INDEX(Backbone!$R2:$R893,MATCH(I42,Backbone!$A2:$A893,0))","v":"Self-assessment tool"},null,null,null,{"$f":"INDEX(Backbone!$S2:$S893,MATCH(I42,Backbone!$A2:$A893,0))","v":"Sector Specific; Generalized"},null,null,null,{"$f":"INDEX(Backbone!$H2:$H893,MATCH(I42,Backbone!$A2:$A893,0))","v":6.9},null,{"$f":"INDEX(Backbone!$I2:$I893,MATCH(I42,Backbone!$A2:$A893,0))","v":8},null,{"$f":"INDEX(Backbone!$J2:$J893,MATCH(I42,Backbone!$A2:$A893,0))","v":6.2},null,{"$f":"INDEX(Backbone!$K2:$K893,MATCH(I42,Backbone!$A2:$A893,0))","v":8.3000000000000007},null,{"$f":"INDEX(Backbone!$L2:$L893,MATCH(I42,Backbone!$A2:$A893,0))","v":7.5},null,{"$f":"INDEX(Backbone!$M2:$M893,MATCH(I42,Backbone!$A2:$A893,0))","v":7.3},null,{"$f":"INDEX(Backbone!$N2:$N893,MATCH(I42,Backbone!$A2:$A893,0))","v":5.5},null,{"$f":"INDEX(Backbone!$O2:$O893,MATCH(I42,Backbone!$A2:$A893,0))","v":8.6999999999999993},null,{"$f":"INDEX(Backbone!$P2:$P893,MATCH(I42,Backbone!$A2:$A893,0))","v":4},null,{"$f":"INDEX(Backbone!$Q2:$Q893,MATCH(I42,Backbone!$A2:$A893,0))","v":0.69333333333333336},null,null,{"$f":"(AG42*AG22+AI42*AI22+AK42*AK22+AM42*AM22+AO42*AO22+AQ42*AQ22+AS42*AS22+AU42*AU22+AW42*AW22)/(SUM(AG22:AW22)*10)","v":{"$error":"#DIV/0!"}},null,null,"Go to \nToolbox: ",null,{"$f":"HYPERLINK(\"#\"&ADDRESS(MATCH(I42,Toolbox!$C$1:$C$300),1,,,\"Toolbox\"),VLOOKUP(I42,Toolbox!$C$1:$C$300,1,FALSE))","v":"Listing and categorization of priority animal diseases including those transmissible to humans (Phylum)"}]

{"sheet":"PP3_tools","index":29,"n_rows":138,"n_cols":59,"rows_kept":138,"cut":false,"hidden":false,"merged":[[84,56,88,57],[84,58,88,62],[131,56,135,57],[131,58,135,62],[137,56,141,57],[137,58,141,62],[1,1,3,62],[22,56,26,57],[22,58,26,62],[28,56,32,57],[28,58,32,62],[35,56,39,57],[35,58,39,62],[77,56,81,57],[77,58,81,62],[84,32,88,32],[84,34,88,34],[77,34,81,34],[77,36,81,36],[77,38,81,38],[77,8,81,13],[77,15,81,22],[77,24,81,26],[77,28,81,30],[77,32,81,32],[84,48,88,48],[84,50,88,51],[84,53,88,54],[22,3,32,6],[35,3,39,6],[84,36,88,36],[84,38,88,38],[84,40,88,40],[84,42,88,42],[84,44,88,44],[84,46,88,46],[77,46,81,46],[77,48,81,48],[77,50,81,51],[77,53,81,54],[84,8,88,13],[84,15,88,22],[84,24,88,26],[84,28,88,30],[68,53,75,54],[72,3,75,6],[72,8,75,13],[72,15,75,22],[72,24,75,26],[72,28,75,30],[61,32,75,32],[61,34,75,34],[61,36,75,36],[61,38,75,38],[61,40,75,40],[61,42,75,42],[61,44,75,44],[35,53,39,54],[35,40,39,40],[35,42,39,42],[35,44,39,44],[35,46,39,46],[35,48,39,48],[35,50,39,51],[28,50,32,51],[28,53,32,54],[28,40,32,40],[28,42,32,42],[28,44,32,44],[28,46,32,46],[28,48,32,48],[22,48,26,48],[22,15,26,22],[22,24,26,26],[22,28,26,30],[22,32,26,32],[22,34,26,34],[22,36,26,36],[22,38,26,38],[22,40,26,40],[22,42,26,42],[22,44,26,44],[22,46,26,46],[35,15,39,22],[35,24,39,26],[35,28,39,30],[35,32,39,32],[35,34,39,34],[35,36,39,36],[35,38,39,38],[28,38,32,38],[28,28,32,30],[28,32,32,32],[28,34,32,34],[28,36,32,36],[13,50,20,51],[13,53,20,54],[17,1,39,1],[17,3,20,6],[17,8,20,13],[17,15,20,22],[17,24,20,26],[17,28,20,30],[22,8,26,13],[22,50,26,51],[22,53,26,54],[28,8,32,13],[28,15,32,22],[28,24,32,26],[6,32,20,32],[6,34,20,34],[6,36,20,36],[6,38,20,38],[6,40,20,40],[6,42,20,42],[6,44,20,44],[6,46,20,46],[6,48,20,48],[35,8,39,13],[131,38,135,38],[131,40,135,40],[131,42,135,42],[131,44,135,44],[131,46,135,46],[131,48,135,48],[131,50,135,51],[68,1,93,1],[115,32,129,32],[115,34,129,34],[115,36,129,36],[115,38,129,38],[115,40,129,40],[115,42,129,42],[115,44,129,44],[115,46,129,46],[61,46,75,46],[61,48,75,48],[68,50,75,51],[84,3,88,6],[77,3,81,6],[77,40,81,40],[77,42,81,42],[77,44,81,44],[126,24,129,26],[126,28,129,30],[131,8,135,13],[131,15,135,22],[131,24,135,26],[131,28,135,30],[131,32,135,32],[131,34,135,34],[131,36,135,36],[131,3,141,6],[123,1,145,1],[131,53,135,54],[137,8,141,13],[137,15,141,22],[137,24,141,26],[137,28,141,30],[137,32,141,32],[137,34,141,34],[137,36,141,36],[137,38,141,38],[137,40,141,40],[137,42,141,42],[137,44,141,44],[137,46,141,46],[137,48,141,48],[137,50,141,51],[137,53,141,54],[115,48,129,48],[122,50,129,51],[122,53,129,54],[126,3,129,6],[126,8,129,13],[126,15,129,22]]}
[]
[null,"Goal Setting Resources"]
[]
[]
[]
[]
[null,null,null,null,null,null,null,null,null,null,null,null,null,null,null,null,null,null,null,null,null,null,null,null,null,null,null,null,null,null,null,null,"Accessibility",null,"Language",null,"Ease of use",null,"Flexibility",null,"Data Needs",null,"Data Analysis",null,"Acceptability",null,"One Health",null,"Impact"]
[]
[]
[]
[]
[]
[]
[null,null,null,null,null,null,null,null,null,null,null,null,null,null,null,null,null,null,null,null,null,null,null,null,null,null,null,null,null,null,null,null,null,null,null,null,null,null,null,null,null,null,null,null,null,null,null,null,null,null,"RAW SCORE",null,null,"ADJUSTED SCORE \n(Based on user preferences)"]
[]
[]
[]
[null,"LEVEL 1 RESOURCES",null,"DESIGNATION",null,null,null,null,"RESOURCE NAME",null,null,null,null,null,null,"SHORT DESCRIPTION",null,null,null,null,null,null,null,null,"RESOURCE TYPE",null,null,null,"RESOURCE GENERALITY"]
[]
[]
[]
[null,null,null,null,null,null,null,null,null,null,null,null,null,null,null,null,null,null,null,null,null,null,null,null,null,null,null,null,null,null,null,null,{"$f":"'Attribute Survey'!S22","v":0},null,{"$f":"'Attribute Survey'!S26","v":0},null,{"$f":"'Attribute Survey'!S30","v":0},null,{"$f":"'Attribute Survey'!S34","v":0},null,{"$f":"'Attribute Survey'!S38","v":0},null,{"$f":"'Attribute Survey'!S42","v":0},null,{"$f":"'Attribute Survey'!S46","v":0},null,{"$f":"'Attribute Survey'!S50","v":0},null,{"$f":"'Attribute Survey'!S54","v":0}]
[null,null,null,"Resources Best Fit For Purpose",null,null,null,null,"Integrated Disease Surveillance and Response (IDSR)",null,null,null,null,null,null,"A strategy aimed at strengthening capacities for detection, confirmation and response to suspected cases and outbreaks, and for use of information to predict and plan for public health events ",null,null,null,null,null,null,null,null,{"$f":"INDEX(Backbone!R2:R893,MATCH(I23,Backbone!A2:A893,0))","v":"Guidance document"},null,null,null,{"$f":"INDEX(Backbone!S2:S893,MATCH(I23,Backbone!A2:A893,0))","v":"Sector Specific; Generalized"},null,null,null,{"$f":"INDEX(Backbone!H2:H893,MATCH(I23,Backbone!A2:A893,0))","v":7.4},null,{"$f":"INDEX(Backbone!I2:I893,MATCH(I23,Backbone!A2:A893,0))","v":10},null,{"$f":"INDEX(Backbone!J2:J893,MATCH(I23,Backbone!A2:A893,0))","v":7.4},null,{"$f":"INDEX(Backbone!K2:K893,MATCH(I23,Backbone!A2:A893,0))","v":8.6999999999999993},null,{"$f":"INDEX(Backbone!L2:L893,MATCH(I23,Backbone!A2:A893,0))","v":6.7},null,{"$f":"INDEX(Backbone!M2:M893,MATCH(I23,Backbone!A2:A893,0))","v":4.5},null,{"$f":"INDEX(Backbone!N2:N893,MATCH(I23,Backbone!A2:A893,0))","v":8},null,{"$f":"INDEX(Backbone!O2:O893,MATCH(I23,Backbone!A2:A893,0))","v":7.2},null,{"$f":"INDEX(Backbone!P2:P893,MATCH(I23,Backbone!A2:A893,0))","v":8.5},null,{"$f":"INDEX(Backbone!Q2:Q893,MATCH(I23,Backbone!A2:A893,0))","v":0.76},null,null,{"$f":"(AG23*AG22+AI23*AI22+AK23*AK22+AM23*AM22+AO23*AO22+AQ23*AQ22+AS23*AS22+AU23*AU22+AW23*AW22)/(SUM(AG22:AW22)*10)","v":{"$error":"#DIV/0!"}},null,null,"Go to \nToolbox: ",null,{"$f":"HYPERLINK(\"#\"&ADDRESS(MATCH(I23,Toolbox!$C$1:$C$300),1,,,\"Toolbox\"),VLOOKUP(I23,Toolbox!$C$1:$C$300,1,FALSE))","v":"Integrated Disease Surveillance and Response (IDSR)"}]
[]
[]
[]
[]
[]
[null,null,null,null,null,null,null,null,"One Health Surveillance Readiness and Requirements Tool (OHSRRT)",null,null,null,null,null,null,"A readiness and requirements assessment tool used to determine country readiness and gather requirements to develop a One Health surveillance system based on critical success factors",null,null,null,null,null,null,null,null,{"$f":"INDEX(Backbone!R2:R893,MATCH(I29,Backbone!A2:A893,0))","v":"Self-assessment tool"},null,null,null,{"$f":"INDEX(Backbone!S2:S893,MATCH(I29,Backbone!A2:A893,0))","v":"One Health; Generalized"},null,null,null,{"$f":"INDEX(Backbone!H2:H893,MATCH(I29,Backbone!A2:A893,0))","v":8},null,{"$f":"INDEX(Backbone!I2:I893,MATCH(I29,Backbone!A2:A893,0))","v":6},null,{"$f":"INDEX(Backbone!J2:J893,MATCH(I29,Backbone!A2:A893,0))","v":7.4},null,{"$f":"INDEX(Backbone!K2:K893,MATCH(I29,Backbone!A2:A893,0))","v":8.6999999999999993},null,{"$f":"INDEX(Backbone!L2:L893,MATCH(I29,Backbone!A2:A893,0))","v":6},null,{"$f":"INDEX(Backbone!M2:M893,MATCH(I29,Backbone!A2:A893,0))","v":2.5},null,{"$f":"INDEX(Backbone!N2:N893,MATCH(I29,Backbone!A2:A893,0))","v":2},null,{"$f":"INDEX(Backbone!O2:O893,MATCH(I29,Backbone!A2:A893,0))","v":9.6},null,{"$f":"INDEX(Backbone!P2:P893,MATCH(I29,Backbone!A2:A893,0))","v":5.5},null,{"$f":"INDEX(Backbone!Q2:Q893,MATCH(I29,Backbone!A2:A893,0))","v":0.61888888888888882},null,null,{"$f":"(AG29*AG22+AI29*AI22+AK29*AK22+AM29*AM22+AO29*AO22+AQ29*AQ22+AS29*AS22+AU29*AU22+AW29*AW22)/(SUM(AG22:AW22)*10)","v":{"$error":"#DIV/0!"}},null,null,"Go to \nToolbox: ",null,{"$f":"HYPERLINK(\"#\"&ADDRESS(MATCH(I29,Toolbox!$C$1:$C$300),1,,,\"Toolbox\"),VLOOKUP(I29,Toolbox!$C$1:$C$300,1,FALSE))","v":"One Health Surveillance Readiness and Requirements Tool (OHSRRT)"}]
[]
[]
[]
[]
[]
[]
[null,null,null,"Other Relevant Resources",null,null,null,null,"Africa CDC Event Based Surveillance Framework",null,null,null,null,null,null,"A guidance to public health practitioners seeking to implement event-based surveillance at each administrative level",null,null,null,null,null,null,null,null,{"$f":"INDEX(Backbone!R2:R893,MATCH(I36,Backbone!A2:A893,0))","v":"Guidance document"},null,null,null,{"$f":"INDEX(Backbone!S2:S893,MATCH(I36,Backbone!A2:A893,0))","v":"One Health; Generalized "},null,null,null,{"$f":"INDEX(Backbone!H2:H893,MATCH(I36,Backbone!A2:A893,0))","v":8},null,{"$f":"INDEX(Backbone!I2:I893,MATCH(I36,Backbone!A2:A893,0))","v":6},null,{"$f":"INDEX(Backbone!J2:J893,MATCH(I36,Backbone!A2:A893,0))","v":8.1999999999999993},null,{"$f":"INDEX(Backbone!K2:K893,MATCH(I36,Backbone!A2:A893,0))","v":8.3000000000000007},null,{"$f":"INDEX(Backbone!L2:L893,MATCH(I36,Backbone!A2:A893,0))","v":6.1},null,{"$f":"INDEX(Backbone!M2:M893,MATCH(I36,Backbone!A2:A893,0))","v":3.5},null,{"$f":"INDEX(Backbone!N2:N893,MATCH(I36,Backbone!A2:A893,0))","v":4},null,{"$f":"INDEX(Backbone!O2:O893,MATCH(I36,Backbone!A2:A893,0))","v":7},null,{"$f":"INDEX(Backbone!P2:P893,MATCH(I36,Backbone!A2:A893,0))","v":6},null,{"$f":"INDEX(Backbone!Q2:Q893,MATCH(I36,Backbone!A2:A893,0))","v":0.63222222222222224},null,null,{"$f":"(AG36*AG22+AI36*AI22+AK36*AK22+AM36*AM22+AO36*AO22+AQ36*AQ22+AS36*AS22+AU36*AU22+AW36*AW22)/(SUM(AG22:AW22)*10)","v":{"$error":"#DIV/0!"}},null,null,"Go to \nToolbox: ",null,{"$f":"HYPERLINK(\"#\"&ADDRESS(MATCH(I36,Toolbox!$C$1:$C$300),1,,,\"Toolbox\"),VLOOKUP(I36,Toolbox!$C$1:$C$300,1,FALSE))","v":"Africa CDC Event Based Surveillance Framework"}]
[]
[]
[]
[]
[]
[]
[]
[]
[]
[]
[]
[]
[]
[]
[]
[]
[]
[]
[]
[]
[]
[]
[]
[]
[]
[null,null,null,null,null,null,null,null,null,null,null,null,null,null,null,null,null,null,null,null,null,null,null,null,null,null,null,null,null,null,null,null,"Accessibility",null,"Language",null,"Ease of use",null,"Flexibility",null,"Data Needs",null,"Data Analysis",null,"Acceptability",null,"One Health",null,"Impact"]
[]
[]
[]
[]
[]
[]
[null,"LEVEL 2 RESOURCES",null,null,null,null,null,null,null,null,null,null,null,null,null,null,null,null,null,null,null,null,null,null,null,null,null,null,null,null,null,null,null,null,null,null,null,null,null,null,null,null,null,null,null,null,null,null,null,null,"RAW SCORE",null,null,"ADJUSTED SCORE \n(Based on user preferences)"]
[]
[]
[]
[null,null,null,"DESIGNATION",null,null,null,null,"RESOURCE NAME",null,null,null,null,null,null,"SHORT DESCRIPTION",null,null,null,null,null,null,null,null,"RESOURCE TYPE",null,null,null,"RESOURCE GENERALITY"]
[]
[]
[]
[]
[null,null,null,"Resources Best Fit For Purpose",null,null,null,null,{"$f":"Backbone!A100","v":"Evaluation of Collaboration in a multisectoral Surveillance system (EcoSur)"},null,null,null,null,null,null,"\nA tool that aims to evaluate the organization and functioning of collaboration in a multisectoral surveillance system and to analyse strengths and weaknesses of this collaboration\n",null,null,null,null,null,null,null,null,{"$f":"Backbone!R100","v":"Guided/Facilitated tool or process"},null,null,null,{"$f":"Backbone!S100","v":"One Health; Generalized"},null,null,null,{"$f":"Backbone!H100","v":8.3000000000000007},null,{"$f":"Backbone!I100","v":6},null,{"$f":"Backbone!J100","v":8.5},null,{"$f":"Backbone!K100","v":7.8},null,{"$f":"Backbone!L100","v":8.3000000000000007},null,{"$f":"Backbone!M100","v":6.7},null,{"$f":"Backbone!N100","v":3.3},null,{"$f":"Backbone!O100","v":9.1},null,{"$f":"Backbone!P100","v":4.7},null,{"$f":"Backbone!Q100","v":0.69666666666666677},null,null,{"$f":"(AG78*AG22+AI78*AI22+AK78*AK22+AM78*AM22+AO78*AO22+AQ78*AQ22+AS78*AS22+AU78*AU22+AW78*AW22)/(SUM(AG22:AW22)*10)","v":{"$error":"#DIV/0!"}},null,null,"Go to \nToolbox: ",null,{"$f":"HYPERLINK(\"#\"&ADDRESS(MATCH(I78,Toolbox!$C$1:$C$300),1,,,\"Toolbox\"),VLOOKUP(I78,Toolbox!$C$1:$C$300,1,FALSE))","v":"Evaluation of Collaboration in a multisectoral Surveillance system (EcoSur)"}]
[]
[]
[]
[]
[]
[]
[null,null,null,"Other Relevant Resources",null,null,null,null,{"$f":"Backbone!A332","v":"Network for Evaluation of One Health (NEOH)"},null,null,null,null,null,null,"An excel-based tool assessing the One Health-ness (or strength of One Health, OH) of a OH surveillance system ",null,null,null,null,null,null,null,null,{"$f":"Backbone!R332","v":"Guidance document"},null,null,null,{"$f":"Backbone!S332","v":"One Health; Generalized"},null,null,null,{"$f":"Backbone!H332","v":8.3000000000000007},null,{"$f":"Backbone!I332","v":7.7},null,{"$f":"Backbone!J332","v":5.3},null,{"$f":"Backbone!K332","v":8.9},null,{"$f":"Backbone!L332","v":7.8},null,{"$f":"Backbone!M332","v":4.7},null,{"$f":"Backbone!N332","v":5.3},null,{"$f":"Backbone!O332","v":8},null,{"$f":"Backbone!P332","v":5.3},null,{"$f":"Backbone!Q332","v":0.68111111111111111},null,null,{"$f":"(AG85*AG22+AI85*AI22+AK85*AK22+AM85*AM22+AO85*AO22+AQ85*AQ22+AS85*AS22+AU85*AU22+AW85*AW22)/(SUM(AG22:AW22)*10)","v":{"$error":"#DIV/0!"}},null,null,"Go to \nToolbox: ",null,{"$f":"HYPERLINK(\"#\"&ADDRESS(MATCH(I85,Toolbox!$C$1:$C$300),1,,,\"Toolbox\"),VLOOKUP(I85,Toolbox!$C$1:$C$300,1,FALSE))","v":"Network for Evaluation of One Health (NEOH)"}]
[]
[]
[]
[]
[]
[]
[]
[]
[]
[]
[]
[]
[]
[]
[]
[]
[]
[]
[]
[]
[]
[]
[]
[]
[]
[]
[]
[]
[]
[]
[null,null,null,null,null,null,null,null,null,null,null,null,null,null,null,null,null,null,null,null,null,null,null,null,null,null,null,null,null,null,null,null,"Accessibility",null,"Language",null,"Ease of use",null,"Flexibility",null,"Data Needs",null,"Data Analysis",null,"Acceptability",null,"One Health",null,"Impact"]
[]
[]
[]
[]
[]
[]
[null,null,null,null,null,null,null,null,null,null,null,null,null,null,null,null,null,null,null,null,null,null,null,null,null,null,null,null,null,null,null,null,null,null,null,null,null,null,null,null,null,null,null,null,null,null,null,null,null,null,"RAW SCORE",null,null,"ADJUSTED SCORE \n(Based on user preferences)"]
[null,"LEVEL 3 RESOURCES"]
[]
[]
[null,null,null,"DESIGNATION",null,null,null,null,"RESOURCE NAME",null,null,null,null,null,null,"SHORT DESCRIPTION",null,null,null,null,null,null,null,null,"RESOURCE TYPE",null,null,null,"RESOURCE GENERALITY"]
[]
[]
[]
[]
[null,null,null,"Resources Best Fit For Purpose",null,null,null,null,{"$f":"Backbone!A100","v":"Evaluation of Collaboration in a multisectoral Surveillance system (EcoSur)"},null,null,null,null,null,null,"A tool that aims to evaluate the organization and functioning of collaboration in a multisectoral surveillance system and to analyse strengths and weaknesses of this collaboration. ",null,null,null,null,null,null,null,null,{"$f":"Backbone!R100","v":"Guided/Facilitated tool or process"},null,null,null,{"$f":"Backbone!S100","v":"One Health; Generalized"},null,null,null,{"$f":"Backbone!H100","v":8.3000000000000007},null,{"$f":"Backbone!I100","v":6},null,{"$f":"Backbone!J100","v":8.5},null,{"$f":"Backbone!K100","v":7.8},null,{"$f":"Backbone!L100","v":8.3000000000000007},null,{"$f":"Backbone!M100","v":6.7},null,{"$f":"Backbone!N100","v":3.3},null,{"$f":"Backbone!O100","v":9.1},null,{"$f":"Backbone!P100","v":4.7},null,{"$f":"Backbone!Q100","v":0.69666666666666677},null,null,{"$f":"(AG132*AG22+AI132*AI22+AK132*AK22+AM132*AM22+AO132*AO22+AQ132*AQ22+AS132*AS22+AU132*AU22+AW132*AW22)/(SUM(AG22:AW22)*10)","v":{"$error":"#DIV/0!"}},null,null,"Go to \nToolbox: ",null,{"$f":"HYPERLINK(\"#\"&ADDRESS(MATCH(I132,Toolbox!$C$1:$C$300),1,,,\"Toolbox\"),VLOOKUP(I132,Toolbox!$C$1:$C$300,1,FALSE))","v":"Evaluation of Collaboration in a multisectoral Surveillance system (EcoSur)"}]
[]
[]
[]
[]
[]
[null,null,null,null,null,null,null,null,{"$f":"Backbone!A303","v":"National Action Plan for Health Security (NAPHS)"},null,null,null,null,null,null,"A country owned planning process that can accelerate the implementation of International Health Regulations (IHR) core capacities and is based on the One Health and wholeof-government approach for all hazards.",null,null,null,null,null,null,null,null,{"$f":"Backbone!R303","v":"Guidance document"},null,null,null,{"$f":"Backbone!S303","v":"One Health; Generalized"},null,null,null,{"$f":"Backbone!H303","v":8},null,{"$f":"Backbone!I303","v":9},null,{"$f":"Backbone!J303","v":7.8},null,{"$f":"Backbone!K303","v":10},null,{"$f":"Backbone!L303","v":8},null,{"$f":"Backbone!M303","v":4.5},null,{"$f":"Backbone!N303","v":10},null,{"$f":"Backbone!O303","v":10},null,{"$f":"Backbone!P303","v":10},null,{"$f":"Backbone!Q303","v":0.85888888888888881},null,null,{"$f":"(AG138*AG22+AI138*AI22+AK138*AK22+AM138*AM22+AO138*AO22+AQ138*AQ22+AS138*AS22+AU138*AU22+AW138*AW22)/(SUM(AG22:AW22)*10)","v":{"$error":"#DIV/0!"}},null,null,"Go to \nToolbox: ",null,{"$f":"HYPERLINK(\"#\"&ADDRESS(MATCH(I138,Toolbox!$C$1:$C$300),1,,,\"Toolbox\"),VLOOKUP(I138,Toolbox!$C$1:$C$300,1,FALSE))","v":"National Action Plan for Health Security (NAPHS)"}]

{"sheet":"A1_tools","index":30,"n_rows":262,"n_cols":59,"rows_kept":262,"cut":false,"hidden":false,"merged":[[242,56,246,57],[242,58,246,62],[248,56,252,57],[248,58,252,62],[255,56,259,57],[255,58,259,62],[261,56,265,57],[261,58,265,62],[179,56,183,57],[179,58,183,62],[185,56,189,57],[185,58,189,62],[191,56,195,57],[191,58,195,62],[230,56,234,57],[230,58,234,62],[236,56,240,57],[236,58,240,62],[148,56,152,57],[148,58,152,62],[154,56,158,57],[154,58,158,62],[160,56,164,57],[160,58,164,62],[166,56,170,57],[166,58,170,62],[173,56,177,57],[173,58,177,62],[83,56,87,57],[83,58,87,62],[89,56,93,57],[89,58,93,62],[130,56,134,57],[130,58,134,62],[136,56,140,57],[136,58,140,62],[142,56,146,57],[142,58,146,62],[52,56,56,57],[52,58,56,62],[58,56,62,57],[58,58,62,62],[65,56,69,57],[65,58,69,62],[71,56,75,57],[71,58,75,62],[77,56,81,57],[77,58,81,62],[22,56,26,57],[22,58,26,62],[28,56,32,57],[28,58,32,62],[34,56,38,57],[34,58,38,62],[40,56,44,57],[40,58,44,62],[46,56,50,57],[46,58,50,62],[255,40,259,40],[255,42,259,42],[255,44,259,44],[255,46,259,46],[255,48,259,48],[255,50,259,51],[255,53,259,54],[261,8,265,13],[261,15,265,22],[261,24,265,26],[261,28,265,30],[261,32,265,32],[261,34,265,34],[261,36,265,36],[261,38,265,38],[261,40,265,40],[261,42,265,42],[261,44,265,44],[261,46,265,46],[261,48,265,48],[261,50,265,51],[261,53,265,54],[255,3,265,6],[255,8,259,13],[255,15,259,22],[255,24,259,26],[255,28,259,30],[255,32,259,32],[255,34,259,34],[255,36,259,36],[255,38,259,38],[242,48,246,48],[242,50,246,51],[242,53,246,54],[248,8,252,13],[248,15,252,22],[248,24,252,26],[248,28,252,30],[248,32,252,32],[248,34,252,34],[248,36,252,36],[248,38,252,38],[248,40,252,40],[248,42,252,42],[248,44,252,44],[248,46,252,46],[248,48,252,48],[248,50,252,51],[248,53,252,54],[242,8,246,13],[242,15,246,22],[242,24,246,26],[242,28,246,30],[242,32,246,32],[242,34,246,34],[242,36,246,36],[242,38,246,38],[242,40,246,40],[230,42,234,42],[230,44,234,44],[230,46,234,46],[230,36,234,36],[230,38,234,38],[230,40,234,40],[242,42,246,42],[242,44,246,44],[242,46,246,46],[236,48,240,48],[236,50,240,51],[236,53,240,54],[230,8,234,13],[230,15,234,22],[230,24,234,26],[230,28,234,30],[230,32,234,32],[230,34,234,34],[236,28,240,30],[236,32,240,32],[236,34,240,34],[236,36,240,36],[236,38,240,38],[236,40,240,40],[236,42,240,42],[236,44,240,44],[236,46,240,46],[221,50,228,51],[221,53,228,54],[225,1,265,1],[225,3,228,6],[225,8,228,13],[225,15,228,22],[225,24,228,26],[225,28,228,30],[230,3,252,6],[214,32,228,32],[214,34,228,34],[214,36,228,36],[214,38,228,38],[214,40,228,40],[214,42,228,42],[214,44,228,44],[214,46,228,46],[214,48,228,48],[230,48,234,48],[230,50,234,51],[230,53,234,54],[236,8,240,13],[236,15,240,22],[236,24,240,26],[125,1,195,1],[173,3,195,6],[185,40,189,40],[185,42,189,42],[185,44,189,44],[185,46,189,46],[185,48,189,48],[185,50,189,51],[185,53,189,54],[191,8,195,13],[191,15,195,22],[191,24,195,26],[191,28,195,30],[191,32,195,32],[191,34,195,34],[191,36,195,36],[191,38,195,38],[191,40,195,40],[191,42,195,42],[191,44,195,44],[191,46,195,46],[191,48,195,48],[191,50,195,51],[191,53,195,54],[173,40,177,40],[173,42,177,42],[173,44,177,44],[173,46,177,46],[173,48,177,48],[173,50,177,51],[173,53,177,54],[179,8,183,13],[179,15,183,22],[179,24,183,26],[179,28,183,30],[179,32,183,32],[179,34,183,34],[179,36,183,36],[179,38,183,38],[179,40,183,40],[179,42,183,42],[179,44,183,44],[179,46,183,46],[179,48,183,48],[179,50,183,51],[179,53,183,54],[173,8,177,13],[173,15,177,22],[173,24,177,26],[173,28,177,30],[173,32,177,32],[173,34,177,34],[173,36,177,36],[173,38,177,38],[185,8,189,13],[185,15,189,22],[185,24,189,26],[185,28,189,30],[185,32,189,32],[185,34,189,34],[185,36,189,36],[185,38,189,38],[160,48,164,48],[160,50,164,51],[160,53,164,54],[166,8,170,13],[166,15,170,22],[166,24,170,26],[166,28,170,30],[166,32,170,32],[166,34,170,34],[166,36,170,36],[166,38,170,38],[166,40,170,40],[166,42,170,42],[166,44,170,44],[166,46,170,46],[166,48,170,48],[166,50,170,51],[166,53,170,54],[160,8,164,13],[160,15,164,22],[160,24,164,26],[160,28,164,30],[160,32,164,32],[160,34,164,34],[160,36,164,36],[160,38,164,38],[160,40,164,40],[148,42,152,42],[148,44,152,44],[148,46,152,46],[148,36,152,36],[148,38,152,38],[148,40,152,40],[160,42,164,42],[160,44,164,44],[160,46,164,46],[148,48,152,48],[148,50,152,51],[148,53,152,54],[154,8,158,13],[154,15,158,22],[154,24,158,26],[154,28,158,30],[154,32,158,32],[154,34,158,34],[154,36,158,36],[154,38,158,38],[154,40,158,40],[154,42,158,42],[154,44,158,44],[154,46,158,46],[154,48,158,48],[154,50,158,51],[154,53,158,54],[148,8,152,13],[148,15,152,22],[148,24,152,26],[148,28,152,30],[148,32,152,32],[148,34,152,34],[136,42,140,42],[136,44,140,44],[136,46,140,46],[136,48,140,48],[136,50,140,51],[136,53,140,54],[142,8,146,13],[142,15,146,22],[142,24,146,26],[142,28,146,30],[142,32,146,32],[142,34,146,34],[142,36,146,36],[142,38,146,38],[142,40,146,40],[142,42,146,42],[142,44,146,44],[142,46,146,46],[142,48,146,48],[142,50,146,51],[142,53,146,54],[136,8,140,13],[136,15,140,22],[136,24,140,26],[136,28,140,30],[136,32,140,32],[136,34,140,34],[136,36,140,36],[136,38,140,38],[136,40,140,40],[121,50,128,51],[121,53,128,54],[125,3,128,6],[125,8,128,13],[125,15,128,22],[125,24,128,26],[125,28,128,30],[130,3,170,6],[130,8,134,13],[130,15,134,22],[130,24,134,26],[130,28,134,30],[130,32,134,32],[130,34,134,34],[130,36,134,36],[130,38,134,38],[130,40,134,40],[130,42,134,42],[130,44,134,44],[130,46,134,46],[130,48,134,48],[130,50,134,51],[130,53,134,54],[114,32,128,32],[114,34,128,34],[114,36,128,36],[114,38,128,38],[114,40,128,40],[114,42,128,42],[114,44,128,44],[114,46,128,46],[114,48,128,48],[1,1,3,62],[22,3,62,6],[22,8,26,13],[22,50,26,51],[22,53,26,54],[22,38,26,38],[22,40,26,40],[22,42,26,42],[22,44,26,44],[22,46,26,46],[22,48,26,48],[22,15,26,22],[22,24,26,26],[22,28,26,30],[22,32,26,32],[22,34,26,34],[22,36,26,36],[6,32,20,32],[6,34,20,34],[6,36,20,36],[6,38,20,38],[6,40,20,40],[6,42,20,42],[6,44,20,44],[28,53,32,54],[34,8,38,13],[34,15,38,22],[34,24,38,26],[34,28,38,30],[34,32,38,32],[34,34,38,34],[34,36,38,36],[34,38,38,38],[34,40,38,40],[28,40,32,40],[28,42,32,42],[28,44,32,44],[28,46,32,46],[28,48,32,48],[28,50,32,51],[28,8,32,13],[28,15,32,22],[13,50,20,51],[13,53,20,54],[17,3,20,6],[17,8,20,13],[17,15,20,22],[17,24,20,26],[17,28,20,30],[6,46,20,46],[6,48,20,48],[71,34,75,34],[71,36,75,36],[71,8,75,13],[71,15,75,22],[71,24,75,26],[71,28,75,30],[71,32,75,32],[83,50,87,51],[28,24,32,26],[28,28,32,30],[28,32,32,32],[28,34,32,34],[28,36,32,36],[28,38,32,38],[58,32,62,32],[58,34,62,34],[83,8,87,13],[83,15,87,22],[83,24,87,26],[83,28,87,30],[83,32,87,32],[83,34,87,34],[83,36,87,36],[71,38,75,38],[83,53,87,54],[83,38,87,38],[83,40,87,40],[83,42,87,42],[83,44,87,44],[83,46,87,46],[83,48,87,48],[71,42,75,42],[71,44,75,44],[71,50,75,51],[71,53,75,54],[71,40,75,40],[65,53,69,54],[65,40,69,40],[65,42,69,42],[65,44,69,44],[65,46,69,46],[65,48,69,48],[34,42,38,42],[34,44,38,44],[34,46,38,46],[34,48,38,48],[34,50,38,51],[34,53,38,54],[40,48,44,48],[40,50,44,51],[40,53,44,54],[40,40,44,40],[40,42,44,42],[40,44,44,44],[40,46,44,46],[52,53,56,54],[52,40,56,40],[52,42,56,42],[46,50,50,51],[46,53,50,54],[40,36,44,36],[40,38,44,38],[40,8,44,13],[40,15,44,22],[40,24,44,26],[40,28,44,30],[40,32,44,32],[40,34,44,34],[46,40,50,40],[46,42,50,42],[46,44,50,44],[46,46,50,46],[46,48,50,48],[52,8,56,13],[52,15,56,22],[52,24,56,26],[52,28,56,30],[52,32,56,32],[52,34,56,34],[52,36,56,36],[52,38,56,38],[46,38,50,38],[46,8,50,13],[46,15,50,22],[46,24,50,26],[46,28,50,30],[46,32,50,32],[46,34,50,34],[46,36,50,36],[52,44,56,44],[58,15,62,22],[58,24,62,26],[58,28,62,30],[58,42,62,42],[58,44,62,44],[58,46,62,46],[58,48,62,48],[58,50,62,51],[52,48,56,48],[52,50,56,51],[52,46,56,46],[58,53,62,54],[65,50,69,51],[65,8,69,13],[65,15,69,22],[65,24,69,26],[65,28,69,30],[65,32,69,32],[65,34,69,34],[77,48,81,48],[58,36,62,36],[58,38,62,38],[58,40,62,40],[77,8,81,13],[77,15,81,22],[77,24,81,26],[77,28,81,30],[77,32,81,32],[77,34,81,34],[77,36,81,36],[71,46,75,46],[71,48,75,48],[65,36,69,36],[65,38,69,38],[58,8,62,13],[89,53,93,54],[65,3,93,6],[17,1,93,1],[89,40,93,40],[89,42,93,42],[89,44,93,44],[89,46,93,46],[89,48,93,48],[89,50,93,51],[77,50,81,51],[77,53,81,54],[89,8,93,13],[89,15,93,22],[89,24,93,26],[89,28,93,30],[89,32,93,32],[89,34,93,34],[89,36,93,36],[89,38,93,38],[77,38,81,38],[77,40,81,40],[77,42,81,42],[77,44,81,44],[77,46,81,46]]}
[]
[null,"Stakeholder Mapping Resources"]
[]
[]
[]
[]
[null,null,null,null,null,null,null,null,null,null,null,null,null,null,null,null,null,null,null,null,null,null,null,null,null,null,null,null,null,null,null,null,"Accessibility",null,"Language",null,"Ease of use",null,"Flexibility",null,"Data Needs",null,"Data Analysis",null,"Acceptability",null,"One Health",null,"Impact"]
[]
[]
[]
[]
[]
[]
[null,null,null,null,null,null,null,null,null,null,null,null,null,null,null,null,null,null,null,null,null,null,null,null,null,null,null,null,null,null,null,null,null,null,null,null,null,null,null,null,null,null,null,null,null,null,null,null,null,null,"RAW SCORE",null,null,"ADJUSTED SCORE \n(Based on user preferences)"]
[]
[]
[]
[null,"LEVEL 1 RESOURCES",null,"DESIGNATION",null,null,null,null,"RESOURCE NAME",null,null,null,null,null,null,"SHORT DESCRIPTION",null,null,null,null,null,null,null,null,"RESOURCE TYPE",null,null,null,"RESOURCE GENERALITY"]
[]
[]
[]
[null,null,null,null,null,null,null,null,null,null,null,null,null,null,null,null,null,null,null,null,null,null,null,null,null,null,null,null,null,null,null,null,{"$f":"'Attribute Survey'!S22","v":0},null,{"$f":"'Attribute Survey'!S26","v":0},null,{"$f":"'Attribute Survey'!S30","v":0},null,{"$f":"'Attribute Survey'!S34","v":0},null,{"$f":"'Attribute Survey'!S38","v":0},null,{"$f":"'Attribute Survey'!S42","v":0},null,{"$f":"'Attribute Survey'!S46","v":0},null,{"$f":"'Attribute Survey'!S50","v":0},null,{"$f":"'Attribute Survey'!S54","v":0}]
[null,null,null,"Resources Best Fit For Purpose",null,null,null,null,{"$f":"Backbone!A51","v":"Border Health Capacity Discussion Guide (BHCDG)"},null,null,null,null,null,null,"Template tools to lead facilitated discussions with national-, district-, and ground crossing-level representatives on border health system ",null,null,null,null,null,null,null,null,{"$f":"INDEX(Backbone!$R2:$R893,MATCH(I23,Backbone!$A2:$A893,0))","v":"Guidance document"},null,null,null,{"$f":"INDEX(Backbone!$S2:$S893,MATCH(I23,Backbone!$A2:$A893,0))","v":"One Health; Disease/Threat Specific "},null,null,null,{"$f":"INDEX(Backbone!$H2:$H893,MATCH(I23,Backbone!$A2:$A893,0))","v":8.8000000000000007},null,{"$f":"INDEX(Backbone!$I2:$I893,MATCH(I23,Backbone!$A2:$A893,0))","v":6.7},null,{"$f":"INDEX(Backbone!$J2:$J893,MATCH(I23,Backbone!$A2:$A893,0))","v":7.6},null,{"$f":"INDEX(Backbone!$K2:$K893,MATCH(I23,Backbone!$A2:$A893,0))","v":9},null,{"$f":"INDEX(Backbone!$L2:$L893,MATCH(I23,Backbone!$A2:$A893,0))","v":7},null,{"$f":"INDEX(Backbone!$M2:$M893,MATCH(I23,Backbone!$A2:$A893,0))","v":3.8},null,{"$f":"INDEX(Backbone!$N2:$N893,MATCH(I23,Backbone!$A2:$A893,0))","v":8},null,{"$f":"INDEX(Backbone!$O2:$O893,MATCH(I23,Backbone!$A2:$A893,0))","v":8.4},null,{"$f":"INDEX(Backbone!$P2:$P893,MATCH(I23,Backbone!$A2:$A893,0))","v":6},null,{"$f":"INDEX(Backbone!$Q2:$Q893,MATCH(I23,Backbone!$A2:$A893,0))","v":0.72555555555555551},null,null,{"$f":"(AG23*$AG$22+AI23*$AI$22+AK23*$AK$22+AM23*$AM$22+AO23*$AO$22+AQ23*$AQ$22+AS23*$AS$22+AU23*$AU$22+AW23*$AW$22)/(SUM($AG$22:$AW$22)*10)","v":{"$error":"#DIV/0!"}},null,null,"Go to \nToolbox: ",null,{"$f":"HYPERLINK(\"#\"&ADDRESS(MATCH(I23,Toolbox!$C$1:$C$300),1,,,\"Toolbox\"),VLOOKUP(I23,Toolbox!$C$1:$C$300,1,FALSE))","v":"Border Health Capacity Discussion Guide (BHCDG)"}]
[]
[]
[]
[]
[]
[null,null,null,null,null,null,null,null,{"$f":"Backbone!A239","v":"IHR-PVS National Bridging Workshop"},null,null,null,null,null,null," A workshop to enable the animal health and the human health sectors in countries to explore overlapping areas and develop, where relevant, appropriate bridges to facilitate coordination. ",null,null,null,null,null,null,null,null,{"$f":"INDEX(Backbone!$R$2:$R$893,MATCH(I29,Backbone!$A$2:$A$893,0))","v":"Guided/Facilitated tool or process"},null,null,null,{"$f":"INDEX(Backbone!$S$2:$S$893,MATCH(I29,Backbone!$A$2:$A$893,0))","v":"One Health; Generalized"},null,null,null,{"$f":"INDEX(Backbone!$H$2:$H$893,MATCH(I29,Backbone!$A$2:$A$893,0))","v":8.6},null,{"$f":"INDEX(Backbone!$I$2:$I$893,MATCH(I29,Backbone!$A$2:$A$893,0))","v":10},null,{"$f":"INDEX(Backbone!$J$2:$J$893,MATCH(I29,Backbone!$A$2:$A$893,0))","v":6.2},null,{"$f":"INDEX(Backbone!$K$2:$K$893,MATCH(I29,Backbone!$A$2:$A$893,0))","v":10},null,{"$f":"INDEX(Backbone!$L$2:$L$893,MATCH(I29,Backbone!$A$2:$A$893,0))","v":6},null,{"$f":"INDEX(Backbone!$M$2:$M$893,MATCH(I29,Backbone!$A$2:$A$893,0))","v":7},null,{"$f":"INDEX(Backbone!$N$2:$N$893,MATCH(I29,Backbone!$A$2:$A$893,0))","v":9},null,{"$f":"INDEX(Backbone!$O$2:$O$893,MATCH(I29,Backbone!$A$2:$A$893,0))","v":8.1999999999999993},null,{"$f":"INDEX(Backbone!$P$2:$P$893,MATCH(I29,Backbone!$A$2:$A$893,0))","v":10},null,{"$f":"INDEX(Backbone!$Q$2:$Q$893,MATCH(I29,Backbone!$A$2:$A$893,0))","v":0.83333333333333337},null,null,{"$f":"(AG29*$AG$22+AI29*$AI$22+AK29*$AK$22+AM29*$AM$22+AO29*$AO$22+AQ29*$AQ$22+AS29*$AS$22+AU29*$AU$22+AW29*$AW$22)/(SUM($AG$22:$AW$22)*10)","v":{"$error":"#DIV/0!"}},null,null,"Go to \nToolbox: ",null,{"$f":"HYPERLINK(\"#\"&ADDRESS(MATCH(I29,Toolbox!$C$1:$C$300),1,,,\"Toolbox\"),VLOOKUP(I29,Toolbox!$C$1:$C$300,1,FALSE))","v":"IHR-PVS National Bridging Workshop"}]
[]
[]
[]
[]
[]
[null,null,null,null,null,null,null,null,{"$f":"Backbone!A400","v":"One Health Surveillance Readiness and Requirements Tool (OHSRRT)"},null,null,null,null,null,null,"A readiness and requirements assessment tool used to determine country readiness and gather requirements to develop a One Health surveillance system based on critical success factors.",null,null,null,null,null,null,null,null,{"$f":"INDEX(Backbone!$R$2:$R$893,MATCH(I35,Backbone!$A$2:$A$893,0))","v":"Self-assessment tool"},null,null,null,{"$f":"INDEX(Backbone!$S$2:$S$893,MATCH(I35,Backbone!$A$2:$A$893,0))","v":"One Health; Generalized"},null,null,null,{"$f":"INDEX(Backbone!$H$2:$H$893,MATCH(I35,Backbone!$A$2:$A$893,0))","v":8},null,{"$f":"INDEX(Backbone!$I$2:$I$893,MATCH(I35,Backbone!$A$2:$A$893,0))","v":6},null,{"$f":"INDEX(Backbone!$J$2:$J$893,MATCH(I35,Backbone!$A$2:$A$893,0))","v":7.4},null,{"$f":"INDEX(Backbone!$K$1:$K$893,MATCH(I35,Backbone!$A$1:$A$893,0))","v":8.6999999999999993},null,{"$f":"INDEX(Backbone!$L$2:$L$893,MATCH(I35,Backbone!$A$2:$A$893,0))","v":6},null,{"$f":"INDEX(Backbone!$M$2:$M$893,MATCH(I35,Backbone!$A$2:$A$893,0))","v":2.5},null,{"$f":"INDEX(Backbone!$N$2:$N$893,MATCH(I35,Backbone!$A$2:$A$893,0))","v":2},null,{"$f":"INDEX(Backbone!$O$2:$O$893,MATCH(I35,Backbone!$A$2:$A$893,0))","v":9.6},null,{"$f":"INDEX(Backbone!$P$2:$P$893,MATCH(I35,Backbone!$A$2:$A$893,0))","v":5.5},null,{"$f":"INDEX(Backbone!$Q$2:$Q$893,MATCH(I35,Backbone!$A$2:$A$893,0))","v":0.61888888888888882},null,null,{"$f":"(AG35*$AG$22+AI35*$AI$22+AK35*$AK$22+AM35*$AM$22+AO35*$AO$22+AQ35*$AQ$22+AS35*$AS$22+AU35*$AU$22+AW35*$AW$22)/(SUM($AG$22:$AW$22)*10)","v":{"$error":"#DIV/0!"}},null,null,"Go to \nToolbox: ",null,{"$f":"HYPERLINK(\"#\"&ADDRESS(MATCH(I35,Toolbox!$C$1:$C$300),1,,,\"Toolbox\"),VLOOKUP(I35,Toolbox!$C$1:$C$300,1,FALSE))","v":"One Health Surveillance Readiness and Requirements Tool (OHSRRT)"}]
[]
[]
[]
[]
[]
[null,null,null,null,null,null,null,null,{"$f":"Backbone!A367","v":"The One Health Systems Assessment for Priority Zoonoses (OH-SAPZ)"},null,null,null,null,null,null,"The tool is aimed to facilitate a systematic assessment of national structures for One Health coordination with respect to preventing, detecting, and responding to zoonotic diseases.  ",null,null,null,null,null,null,null,null,{"$f":"INDEX(Backbone!$R$2:$R$893,MATCH(I41,Backbone!$A$2:$A$893,0))","v":"Self-assessment tool"},null,null,null,{"$f":"INDEX(Backbone!$S$2:$S$893,MATCH(I41,Backbone!$A$2:$A$893,0))","v":"One Health; Generalized"},null,null,null,{"$f":"INDEX(Backbone!$H$2:$H$893,MATCH(I41,Backbone!$A$2:$A$893,0))","v":7.9},null,{"$f":"INDEX(Backbone!$I$2:$I$893,MATCH(I41,Backbone!$A$2:$A$893,0))","v":7.3},null,{"$f":"INDEX(Backbone!$J$2:$J$893,MATCH(I41,Backbone!$A$2:$A$893,0))","v":7.2},null,{"$f":"INDEX(Backbone!$K$1:$K$893,MATCH(I41,Backbone!$A$1:$A$893,0))","v":7.8},null,{"$f":"INDEX(Backbone!$L$2:$L$893,MATCH(I41,Backbone!$A$2:$A$893,0))","v":6.5},null,{"$f":"INDEX(Backbone!$M$2:$M$893,MATCH(I41,Backbone!$A$2:$A$893,0))","v":5.2},null,{"$f":"INDEX(Backbone!$N$2:$N$893,MATCH(I41,Backbone!$A$2:$A$893,0))","v":4},null,{"$f":"INDEX(Backbone!$O$2:$O$893,MATCH(I41,Backbone!$A$2:$A$893,0))","v":8.3000000000000007},null,{"$f":"INDEX(Backbone!$P$2:$P$893,MATCH(I41,Backbone!$A$2:$A$893,0))","v":9.6999999999999993},null,{"$f":"INDEX(Backbone!$Q$2:$Q$893,MATCH(I41,Backbone!$A$2:$A$893,0))","v":0.71000000000000008},null,null,{"$f":"(AG41*$AG$22+AI41*$AI$22+AK41*$AK$22+AM41*$AM$22+AO41*$AO$22+AQ41*$AQ$22+AS41*$AS$22+AU41*$AU$22+AW41*$AW$22)/(SUM($AG$22:$AW$22)*10)","v":{"$error":"#DIV/0!"}},null,null,"Go to \nToolbox: ",null,{"$f":"HYPERLINK(\"#\"&ADDRESS(MATCH(I41,Toolbox!$C$1:$C$300),1,,,\"Toolbox\"),VLOOKUP(I41,Toolbox!$C$1:$C$300,1,FALSE))","v":"The One Health Systems Assessment for Priority Zoonoses (OH-SAPZ)"}]
[]
[]
[]
[]
[]
[null,null,null,null,null,null,null,null,{"$f":"Backbone!A383","v":"One Health Systems Mapping and Analysis Resource Toolkit (OH-SMART)"},null,null,null,null,null,null,"A process that supports stakeholders from multiple sectors to map, analyze and improve any existing system that requires interdisciplinary and multisectoral collaboration.",null,null,null,null,null,null,null,null,{"$f":"INDEX(Backbone!$R$2:$R$893,MATCH(I47,Backbone!$A$2:$A$893,0))","v":"Guided/Facilitated tool or process"},null,null,null,{"$f":"INDEX(Backbone!$S$2:$S$893,MATCH(I47,Backbone!$A$2:$A$893,0))","v":"One Health; Generalized"},null,null,null,{"$f":"INDEX(Backbone!$H$2:$H$893,MATCH(I47,Backbone!$A$2:$A$893,0))","v":8.6999999999999993},null,{"$f":"INDEX(Backbone!$I$2:$I$893,MATCH(I47,Backbone!$A$2:$A$893,0))","v":7.3},null,{"$f":"INDEX(Backbone!$J$2:$J$893,MATCH(I47,Backbone!$A$2:$A$893,0))","v":8.4},null,{"$f":"INDEX(Backbone!$K$1:$K$893,MATCH(I47,Backbone!$A$1:$A$893,0))","v":9.3000000000000007},null,{"$f":"INDEX(Backbone!$L$2:$L$893,MATCH(I47,Backbone!$A$2:$A$893,0))","v":8.1999999999999993},null,{"$f":"INDEX(Backbone!$M$2:$M$893,MATCH(I47,Backbone!$A$2:$A$893,0))","v":7.4},null,{"$f":"INDEX(Backbone!$N$2:$N$893,MATCH(I47,Backbone!$A$2:$A$893,0))","v":9.5},null,{"$f":"INDEX(Backbone!$O$2:$O$893,MATCH(I47,Backbone!$A$2:$A$893,0))","v":10},null,{"$f":"INDEX(Backbone!$P$2:$P$893,MATCH(I47,Backbone!$A$2:$A$893,0))","v":10},null,{"$f":"INDEX(Backbone!$Q$2:$Q$893,MATCH(I47,Backbone!$A$2:$A$893,0))","v":0.87555555555555564},null,null,{"$f":"(AG47*$AG$22+AI47*$AI$22+AK47*$AK$22+AM47*$AM$22+AO47*$AO$22+AQ47*$AQ$22+AS47*$AS$22+AU47*$AU$22+AW47*$AW$22)/(SUM($AG$22:$AW$22)*10)","v":{"$error":"#DIV/0!"}},null,null,"Go to \nToolbox: ",null,{"$f":"HYPERLINK(\"#\"&ADDRESS(MATCH(I47,Toolbox!$C$1:$C$300),1,,,\"Toolbox\"),VLOOKUP(I47,Toolbox!$C$1:$C$300,1,FALSE))","v":"One Health Systems Mapping and Analysis Resource Toolkit (OH-SMART)"}]
[]
[]
[]
[]
[]
[null,null,null,null,null,null,null,null,{"$f":"Backbone!A437","v":"Policy Field Analysis (PFA)"},null,null,null,null,null,null,"A specialized stakeholder mapping that allows to visualize the system of organizations as they interact for a given policy issue. ",null,null,null,null,null,null,null,null,{"$f":"INDEX(Backbone!$R$2:$R$893,MATCH(I53,Backbone!$A$2:$A$893,0))","v":"Guidance document"},null,null,null,{"$f":"INDEX(Backbone!$S$2:$S$893,MATCH(I53,Backbone!$A$2:$A$893,0))","v":"One Health; Generalized"},null,null,null,{"$f":"INDEX(Backbone!$H$2:$H$893,MATCH(I53,Backbone!$A$2:$A$893,0))","v":7.8},null,{"$f":"INDEX(Backbone!$I$2:$I$893,MATCH(I53,Backbone!$A$2:$A$893,0))","v":8},null,{"$f":"INDEX(Backbone!$J$2:$J$893,MATCH(I53,Backbone!$A$2:$A$893,0))","v":9.8000000000000007},null,{"$f":"INDEX(Backbone!$K$1:$K$893,MATCH(I53,Backbone!$A$1:$A$893,0))","v":10},null,{"$f":"INDEX(Backbone!$L$2:$L$893,MATCH(I53,Backbone!$A$2:$A$893,0))","v":7.1},null,{"$f":"INDEX(Backbone!$M$2:$M$893,MATCH(I53,Backbone!$A$2:$A$893,0))","v":4},null,{"$f":"INDEX(Backbone!$N$2:$N$893,MATCH(I53,Backbone!$A$2:$A$893,0))","v":7},null,{"$f":"INDEX(Backbone!$O$2:$O$893,MATCH(I53,Backbone!$A$2:$A$893,0))","v":8.8000000000000007},null,{"$f":"INDEX(Backbone!$P$2:$P$893,MATCH(I53,Backbone!$A$2:$A$893,0))","v":5},null,{"$f":"INDEX(Backbone!$Q$2:$Q$893,MATCH(I53,Backbone!$A$2:$A$893,0))","v":0.75},null,null,{"$f":"(AG53*$AG$22+AI53*$AI$22+AK53*$AK$22+AM53*$AM$22+AO53*$AO$22+AQ53*$AQ$22+AS53*$AS$22+AU53*$AU$22+AW53*$AW$22)/(SUM($AG$22:$AW$22)*10)","v":{"$error":"#DIV/0!"}},null,null,"Go to \nToolbox: ",null,{"$f":"HYPERLINK(\"#\"&ADDRESS(MATCH(I53,Toolbox!$C$1:$C$300),1,,,\"Toolbox\"),VLOOKUP(I53,Toolbox!$C$1:$C$300,1,FALSE))","v":"Policy Field Analysis (PFA)"}]
[]
[]
[]
[]
[]
[null,null,null,null,null,null,null,null,{"$f":"Backbone!A453","v":"Stepwise Approach towards Rabies Elimination (SARE)"},null,null,null,null,null,null,"An excel based practical planning, monitoring and evaluation tool to guide, develop and refine rabies control programmes. ",null,null,null,null,null,null,null,null,{"$f":"INDEX(Backbone!$R$2:$R$893,MATCH(I59,Backbone!$A$2:$A$893,0))","v":"Self-assessment tool"},null,null,null,{"$f":"INDEX(Backbone!$S$2:$S$893,MATCH(I59,Backbone!$A$2:$A$893,0))","v":"One Health; Disease/Threat Specific "},null,null,null,{"$f":"INDEX(Backbone!$H$2:$H$893,MATCH(I59,Backbone!$A$2:$A$893,0))","v":8},null,{"$f":"INDEX(Backbone!$I$2:$I$893,MATCH(I59,Backbone!$A$2:$A$893,0))","v":9},null,{"$f":"INDEX(Backbone!$J$2:$J$893,MATCH(I59,Backbone!$A$2:$A$893,0))","v":6.6},null,{"$f":"INDEX(Backbone!$K$1:$K$893,MATCH(I59,Backbone!$A$1:$A$893,0))","v":3.3},null,{"$f":"INDEX(Backbone!$L$2:$L$893,MATCH(I59,Backbone!$A$2:$A$893,0))","v":5.7},null,{"$f":"INDEX(Backbone!$M$2:$M$893,MATCH(I59,Backbone!$A$2:$A$893,0))","v":6.8},null,{"$f":"INDEX(Backbone!$N$2:$N$893,MATCH(I59,Backbone!$A$2:$A$893,0))","v":8},null,{"$f":"INDEX(Backbone!$O$2:$O$893,MATCH(I59,Backbone!$A$2:$A$893,0))","v":8.6},null,{"$f":"INDEX(Backbone!$P$2:$P$893,MATCH(I59,Backbone!$A$2:$A$893,0))","v":9.5},null,{"$f":"INDEX(Backbone!$Q$2:$Q$893,MATCH(I59,Backbone!$A$2:$A$893,0))","v":0.72777777777777775},null,null,{"$f":"(AG59*$AG$22+AI59*$AI$22+AK59*$AK$22+AM59*$AM$22+AO59*$AO$22+AQ59*$AQ$22+AS59*$AS$22+AU59*$AU$22+AW59*$AW$22)/(SUM($AG$22:$AW$22)*10)","v":{"$error":"#DIV/0!"}},null,null,"Go to \nToolbox: ",null,{"$f":"HYPERLINK(\"#\"&ADDRESS(MATCH(I59,Toolbox!$C$1:$C$300),1,,,\"Toolbox\"),VLOOKUP(I59,Toolbox!$C$1:$C$300,1,FALSE))","v":"Stepwise Approach towards Rabies Elimination (SARE)"}]
[]
[]
[]
[]
[]
[]
[null,null,null,"Other Relevant Resources",null,null,null,null,{"$f":"Backbone!A100","v":"Evaluation of Collaboration in a multisectoral Surveillance system (EcoSur)"},null,null,null,null,null,null,"A tool that aims to evaluate the organization and functioning of collaboration in a multisectoral surveillance system and to analyse strengths and weaknesses of this collaboration. ",null,null,null,null,null,null,null,null,{"$f":"INDEX(Backbone!$R$2:$R$893,MATCH(I66,Backbone!$A$2:$A$893,0))","v":"Guided/Facilitated tool or process"},null,null,null,{"$f":"INDEX(Backbone!$S$2:$S$893,MATCH(I66,Backbone!$A$2:$A$893,0))","v":"One Health; Generalized"},null,null,null,{"$f":"INDEX(Backbone!$H$2:$H$893,MATCH(I66,Backbone!$A$2:$A$893,0))","v":8.3000000000000007},null,{"$f":"INDEX(Backbone!$I$2:$I$893,MATCH(I66,Backbone!$A$2:$A$893,0))","v":6},null,{"$f":"INDEX(Backbone!$J$2:$J$893,MATCH(I66,Backbone!$A$2:$A$893,0))","v":8.5},null,{"$f":"INDEX(Backbone!$K$1:$K$893,MATCH(I66,Backbone!$A$1:$A$893,0))","v":7.8},null,{"$f":"INDEX(Backbone!$L$2:$L$893,MATCH(I66,Backbone!$A$2:$A$893,0))","v":8.3000000000000007},null,{"$f":"INDEX(Backbone!$M$2:$M$893,MATCH(I66,Backbone!$A$2:$A$893,0))","v":6.7},null,{"$f":"INDEX(Backbone!$N$2:$N$893,MATCH(I66,Backbone!$A$2:$A$893,0))","v":3.3},null,{"$f":"INDEX(Backbone!$O$2:$O$893,MATCH(I66,Backbone!$A$2:$A$893,0))","v":9.1},null,{"$f":"INDEX(Backbone!$P$2:$P$893,MATCH(I66,Backbone!$A$2:$A$893,0))","v":4.7},null,{"$f":"INDEX(Backbone!$Q$2:$Q$893,MATCH(I66,Backbone!$A$2:$A$893,0))","v":0.69666666666666677},null,null,{"$f":"(AG66*$AG$22+AI66*$AI$22+AK66*$AK$22+AM66*$AM$22+AO66*$AO$22+AQ66*$AQ$22+AS66*$AS$22+AU66*$AU$22+AW66*$AW$22)/(SUM($AG$22:$AW$22)*10)","v":{"$error":"#DIV/0!"}},null,null,"Go to \nToolbox: ",null,{"$f":"HYPERLINK(\"#\"&ADDRESS(MATCH(I66,Toolbox!$C$1:$C$300),1,,,\"Toolbox\"),VLOOKUP(I66,Toolbox!$C$1:$C$300,1,FALSE))","v":"Evaluation of Collaboration in a multisectoral Surveillance system (EcoSur)"}]
[]
[]
[]
[]
[]
[null,null,null,null,null,null,null,null,{"$f":"Backbone!A195","v":"Integrated Disease Surveillance and Response (IDSR)"},null,null,null,null,null,null,"A strategy aimed at strengthening capacities for detection, confirmation and response to suspected cases and outbreaks, and for use of information to predict and plan for public health events. ",null,null,null,null,null,null,null,null,{"$f":"INDEX(Backbone!$R$2:$R$893,MATCH(I72,Backbone!$A$2:$A$893,0))","v":"Guidance document"},null,null,null,{"$f":"INDEX(Backbone!$S$2:$S$893,MATCH(I72,Backbone!$A$2:$A$893,0))","v":"Sector Specific; Generalized"},null,null,null,{"$f":"INDEX(Backbone!$H$2:$H$893,MATCH(I72,Backbone!$A$2:$A$893,0))","v":7.4},null,{"$f":"INDEX(Backbone!$I$2:$I$893,MATCH(I72,Backbone!$A$2:$A$893,0))","v":10},null,{"$f":"INDEX(Backbone!$J$2:$J$893,MATCH(I72,Backbone!$A$2:$A$893,0))","v":7.4},null,{"$f":"INDEX(Backbone!$K$1:$K$893,MATCH(I72,Backbone!$A$1:$A$893,0))","v":8.6999999999999993},null,{"$f":"INDEX(Backbone!$L$2:$L$893,MATCH(I72,Backbone!$A$2:$A$893,0))","v":6.7},null,{"$f":"INDEX(Backbone!$M$2:$M$893,MATCH(I72,Backbone!$A$2:$A$893,0))","v":4.5},null,{"$f":"INDEX(Backbone!$N$2:$N$893,MATCH(I72,Backbone!$A$2:$A$893,0))","v":8},null,{"$f":"INDEX(Backbone!$O$2:$O$893,MATCH(I72,Backbone!$A$2:$A$893,0))","v":7.2},null,{"$f":"INDEX(Backbone!$P$2:$P$893,MATCH(I72,Backbone!$A$2:$A$893,0))","v":8.5},null,{"$f":"INDEX(Backbone!$Q$2:$Q$893,MATCH(I72,Backbone!$A$2:$A$893,0))","v":0.76},null,null,{"$f":"(AG72*$AG$22+AI72*$AI$22+AK72*$AK$22+AM72*$AM$22+AO72*$AO$22+AQ72*$AQ$22+AS72*$AS$22+AU72*$AU$22+AW72*$AW$22)/(SUM($AG$22:$AW$22)*10)","v":{"$error":"#DIV/0!"}},null,null,"Go to \nToolbox: ",null,{"$f":"HYPERLINK(\"#\"&ADDRESS(MATCH(I72,Toolbox!$C$1:$C$300),1,,,\"Toolbox\"),VLOOKUP(I72,Toolbox!$C$1:$C$300,1,FALSE))","v":"Integrated Disease Surveillance and Response (IDSR)"}]
[]
[]
[]
[]
[]
[null,null,null,null,null,null,null,null,{"$f":"Backbone!A303","v":"National Action Plan for Health Security (NAPHS)"},null,null,null,null,null,null,"A country owned planning process that can accelerate the implementation of International Health Regulations (IHR) core capacities and is based on the One Health and whole-of-government approach for all hazards.",null,null,null,null,null,null,null,null,{"$f":"INDEX(Backbone!$R$2:$R$893,MATCH(I78,Backbone!$A$2:$A$893,0))","v":"Guidance document"},null,null,null,{"$f":"INDEX(Backbone!$S$2:$S$893,MATCH(I78,Backbone!$A$2:$A$893,0))","v":"One Health; Generalized"},null,null,null,{"$f":"INDEX(Backbone!$H$2:$H$893,MATCH(I78,Backbone!$A$2:$A$893,0))","v":8},null,{"$f":"INDEX(Backbone!$I$2:$I$893,MATCH(I78,Backbone!$A$2:$A$893,0))","v":9},null,{"$f":"INDEX(Backbone!$J$2:$J$893,MATCH(I78,Backbone!$A$2:$A$893,0))","v":7.8},null,{"$f":"INDEX(Backbone!$K$1:$K$893,MATCH(I78,Backbone!$A$1:$A$893,0))","v":10},null,{"$f":"INDEX(Backbone!$L$2:$L$893,MATCH(I78,Backbone!$A$2:$A$893,0))","v":8},null,{"$f":"INDEX(Backbone!$M$2:$M$893,MATCH(I78,Backbone!$A$2:$A$893,0))","v":4.5},null,{"$f":"INDEX(Backbone!$N$2:$N$893,MATCH(I78,Backbone!$A$2:$A$893,0))","v":10},null,{"$f":"INDEX(Backbone!$O$2:$O$893,MATCH(I78,Backbone!$A$2:$A$893,0))","v":10},null,{"$f":"INDEX(Backbone!$P$2:$P$893,MATCH(I78,Backbone!$A$2:$A$893,0))","v":10},null,{"$f":"INDEX(Backbone!$Q$2:$Q$893,MATCH(I78,Backbone!$A$2:$A$893,0))","v":0.85888888888888881},null,null,{"$f":"(AG78*$AG$22+AI78*$AI$22+AK78*$AK$22+AM78*$AM$22+AO78*$AO$22+AQ78*$AQ$22+AS78*$AS$22+AU78*$AU$22+AW78*$AW$22)/(SUM($AG$22:$AW$22)*10)","v":{"$error":"#DIV/0!"}},null,null,"Go to \nToolbox: ",null,{"$f":"HYPERLINK(\"#\"&ADDRESS(MATCH(I78,Toolbox!$C$1:$C$300),1,,,\"Toolbox\"),VLOOKUP(I78,Toolbox!$C$1:$C$300,1,FALSE))","v":"National Action Plan for Health Security (NAPHS)"}]
[]
[]
[]
[]
[]
[null,null,null,null,null,null,null,null,{"$f":"Backbone!A420","v":"World Organisation for Animal Health (WOAH) PVS Gap Analysis"},null,null,null,null,null,null,"The PVS Gap Analysis is an exercise undertaken with the national Veterinary Services to determine their priority goals, as well as strategies, activities and investments required to achieve these objectives.",null,null,null,null,null,null,null,null,{"$f":"INDEX(Backbone!$R$2:$R$893,MATCH(I84,Backbone!$A$2:$A$893,0))","v":"Guided/Facilitated tool or process"},null,null,null,{"$f":"INDEX(Backbone!$S$2:$S$893,MATCH(I84,Backbone!$A$2:$A$893,0))","v":"Sector Specific; Generalized"},null,null,null,{"$f":"INDEX(Backbone!$H$2:$H$893,MATCH(I84,Backbone!$A$2:$A$893,0))","v":6.8},null,{"$f":"INDEX(Backbone!$I$2:$I$893,MATCH(I84,Backbone!$A$2:$A$893,0))","v":8},null,{"$f":"INDEX(Backbone!$J$2:$J$893,MATCH(I84,Backbone!$A$2:$A$893,0))","v":5.6},null,{"$f":"INDEX(Backbone!$K$1:$K$893,MATCH(I84,Backbone!$A$1:$A$893,0))","v":10},null,{"$f":"INDEX(Backbone!$L$2:$L$893,MATCH(I84,Backbone!$A$2:$A$893,0))","v":6},null,{"$f":"INDEX(Backbone!$M$2:$M$893,MATCH(I84,Backbone!$A$2:$A$893,0))","v":4.3},null,{"$f":"INDEX(Backbone!$N$2:$N$893,MATCH(I84,Backbone!$A$2:$A$893,0))","v":9.5},null,{"$f":"INDEX(Backbone!$O$2:$O$893,MATCH(I84,Backbone!$A$2:$A$893,0))","v":4.7},null,{"$f":"INDEX(Backbone!$P$2:$P$893,MATCH(I84,Backbone!$A$2:$A$893,0))","v":7},null,{"$f":"INDEX(Backbone!$Q$2:$Q$893,MATCH(I84,Backbone!$A$2:$A$893,0))","v":0.68777777777777771},null,null,{"$f":"(AG84*$AG$22+AI84*$AI$22+AK84*$AK$22+AM84*$AM$22+AO84*$AO$22+AQ84*$AQ$22+AS84*$AS$22+AU84*$AU$22+AW84*$AW$22)/(SUM($AG$22:$AW$22)*10)","v":{"$error":"#DIV/0!"}},null,null,"Go to \nToolbox: ",null,{"$f":"HYPERLINK(\"#\"&ADDRESS(MATCH(I84,Toolbox!$C$1:$C$300),1,,,\"Toolbox\"),VLOOKUP(I84,Toolbox!$C$1:$C$300,1,FALSE))","v":"World Organisation for Animal Health (WOAH) PVS Gap Analysis"}]
[]
[]
[]
[]
[]
[null,null,null,null,null,null,null,null,{"$f":"Backbone!A510","v":"SuRveillance EVALuation framework (SERVAL)"},null,null,null,null,null,null,"A stepwise instruction on how to plan, structure and conduct assessment of animal health surveillance systems.\n",null,null,null,null,null,null,null,null,{"$f":"INDEX(Backbone!$R$2:$R$893,MATCH(I90,Backbone!$A$2:$A$893,0))","v":"Guidance document"},null,null,null,{"$f":"INDEX(Backbone!$S$2:$S$893,MATCH(I90,Backbone!$A$2:$A$893,0))","v":"Sector Specific; Generalized"},null,null,null,{"$f":"INDEX(Backbone!$H$2:$H$893,MATCH(I90,Backbone!$A$2:$A$893,0))","v":8.8000000000000007},null,{"$f":"INDEX(Backbone!$I$2:$I$893,MATCH(I90,Backbone!$A$2:$A$893,0))","v":9},null,{"$f":"INDEX(Backbone!$J$2:$J$893,MATCH(I90,Backbone!$A$2:$A$893,0))","v":9},null,{"$f":"INDEX(Backbone!$K$1:$K$893,MATCH(I90,Backbone!$A$1:$A$893,0))","v":10},null,{"$f":"INDEX(Backbone!$L$2:$L$893,MATCH(I90,Backbone!$A$2:$A$893,0))","v":8.1},null,{"$f":"INDEX(Backbone!$M$2:$M$893,MATCH(I90,Backbone!$A$2:$A$893,0))","v":3.3},null,{"$f":"INDEX(Backbone!$N$2:$N$893,MATCH(I90,Backbone!$A$2:$A$893,0))","v":4},null,{"$f":"INDEX(Backbone!$O$2:$O$893,MATCH(I90,Backbone!$A$2:$A$893,0))","v":6.8},null,{"$f":"INDEX(Backbone!$P$2:$P$893,MATCH(I90,Backbone!$A$2:$A$893,0))","v":8},null,{"$f":"INDEX(Backbone!$Q$2:$Q$893,MATCH(I90,Backbone!$A$2:$A$893,0))","v":0.74444444444444446},null,null,{"$f":"(AG90*$AG$22+AI90*$AI$22+AK90*$AK$22+AM90*$AM$22+AO90*$AO$22+AQ90*$AQ$22+AS90*$AS$22+AU90*$AU$22+AW90*$AW$22)/(SUM($AG$22:$AW$22)*10)","v":{"$error":"#DIV/0!"}},null,null,"Go to \nToolbox: ",null,{"$f":"HYPERLINK(\"#\"&ADDRESS(MATCH(I90,Toolbox!$C$1:$C$300),1,,,\"Toolbox\"),VLOOKUP(I90,Toolbox!$C$1:$C$300,1,FALSE))","v":"SuRveillance EVALuation framework (SERVAL)"}]
[]
[]
[]
[]
[]
[]
[]
[]
[]
[]
[]
[]
[]
[]
[]
[]
[]
[]
[]
[]
[]
[]
[]
[]
[null,null,null,null,null,null,null,null,null,null,null,null,null,null,null,null,null,null,null,null,null,null,null,null,null,null,null,null,null,null,null,null,"Accessibility",null,"Language",null,"Ease of use",null,"Flexibility",null,"Data Needs",null,"Data Analysis",null,"Acceptability",null,"One Health",null,"Impact"]
[]
[]
[]
[]
[]
[]
[null,null,null,null,null,null,null,null,null,null,null,null,null,null,null,null,null,null,null,null,null,null,null,null,null,null,null,null,null,null,null,null,null,null,null,null,null,null,null,null,null,null,null,null,null,null,null,null,null,null,"RAW SCORE",null,null,"ADJUSTED SCORE \n(Based on user preferences)"]
[]
[]
[]
[null,"LEVEL 2 RESOURCES",null,"DESIGNATION",null,null,null,null,"RESOURCE NAME",null,null,null,null,null,null,"SHORT DESCRIPTION",null,null,null,null,null,null,null,null,"RESOURCE TYPE",null,null,null,"RESOURCE GENERALITY"]
[]
[]
[]
[null,null,null,null,null,null,null,null,null,null,null,null,null,null,null,null,null,null,null,null,null,null,null,null,null,null,null,null,null,null,null,null,{"$f":"'Attribute Survey'!S130","v":0},null,{"$f":"'Attribute Survey'!S134","v":0},null,{"$f":"'Attribute Survey'!S138","v":0},null,{"$f":"'Attribute Survey'!S142","v":0},null,{"$f":"'Attribute Survey'!S146","v":0},null,{"$f":"'Attribute Survey'!S150","v":0},null,{"$f":"'Attribute Survey'!S154","v":0},null,{"$f":"'Attribute Survey'!S158","v":0},null,{"$f":"'Attribute Survey'!S162","v":0}]
[null,null,null,"Resources Best Fit For Purpose",null,null,null,null,{"$f":"Backbone!A51","v":"Border Health Capacity Discussion Guide (BHCDG)"},null,null,null,null,null,null,"Template tools to lead facilitated discussions with national-, district-, and ground crossing-level representatives on border health system ",null,null,null,null,null,null,null,null,{"$f":"INDEX(Backbone!$R2:$R893,MATCH(I131,Backbone!$A2:$A893,0))","v":"Guidance document"},null,null,null,{"$f":"INDEX(Backbone!S2:S893,MATCH(I131,Backbone!A2:A893,0))","v":"One Health; Disease/Threat Specific "},null,null,null,{"$f":"INDEX(Backbone!H2:H893,MATCH(I131,Backbone!A2:A893,0))","v":8.8000000000000007},null,{"$f":"INDEX(Backbone!I2:I893,MATCH(I131,Backbone!A2:A893,0))","v":6.7},null,{"$f":"INDEX(Backbone!J2:J893,MATCH(I131,Backbone!A2:A893,0))","v":7.6},null,{"$f":"INDEX(Backbone!K2:K893,MATCH(I131,Backbone!A2:A893,0))","v":9},null,{"$f":"INDEX(Backbone!L2:L893,MATCH(I131,Backbone!A2:A893,0))","v":7},null,{"$f":"INDEX(Backbone!M2:M893,MATCH(I131,Backbone!A2:A893,0))","v":3.8},null,{"$f":"INDEX(Backbone!N2:N893,MATCH(I131,Backbone!A2:A893,0))","v":8},null,{"$f":"INDEX(Backbone!O2:O893,MATCH(I131,Backbone!A2:A893,0))","v":8.4},null,{"$f":"INDEX(Backbone!P2:P893,MATCH(I131,Backbone!A2:A893,0))","v":6},null,{"$f":"INDEX(Backbone!Q2:Q893,MATCH(I131,Backbone!A2:A893,0))","v":0.72555555555555551},null,null,{"$f":"(AG131*AG22+AI23*AI22+AK131*AK22+AM131*AM22+AO131*AO22+AQ131*AQ22+AS131*AS22+AU131*AU22+AW131*AW22)/(SUM(AG22:AW22)*10)","v":{"$error":"#DIV/0!"}},null,null,"Go to \nToolbox: ",null,{"$f":"HYPERLINK(\"#\"&ADDRESS(MATCH(I131,Toolbox!$C$1:$C$300),1,,,\"Toolbox\"),VLOOKUP(I131,Toolbox!$C$1:$C$300,1,FALSE))","v":"Border Health Capacity Discussion Guide (BHCDG)"}]
[]
[]
[]
[]
[]
[null,null,null,null,null,null,null,null,{"$f":"Backbone!A239","v":"IHR-PVS National Bridging Workshop"},null,null,null,null,null,null," A workshop to enable the animal health and the human health sectors in countries to explore overlapping areas and develop, where relevant, appropriate bridges to facilitate coordination. ",null,null,null,null,null,null,null,null,{"$f":"INDEX(Backbone!$R$2:$R$893,MATCH(I137,Backbone!$A$2:$A$893,0))","v":"Guided/Facilitated tool or process"},null,null,null,{"$f":"INDEX(Backbone!$S$2:$S$893,MATCH(I137,Backbone!$A$2:$A$893,0))","v":"One Health; Generalized"},null,null,null,{"$f":"INDEX(Backbone!$H$2:$H$893,MATCH(I137,Backbone!$A$2:$A$893,0))","v":8.6},null,{"$f":"INDEX(Backbone!$I$2:$I$893,MATCH(I137,Backbone!$A$2:$A$893,0))","v":10},null,{"$f":"INDEX(Backbone!$J$2:$J$893,MATCH(I137,Backbone!$A$2:$A$893,0))","v":6.2},null,{"$f":"INDEX(Backbone!$K$2:$K$893,MATCH(I137,Backbone!$A$2:$A$893,0))","v":10},null,{"$f":"INDEX(Backbone!$L$2:$L$893,MATCH(I137,Backbone!$A$2:$A$893,0))","v":6},null,{"$f":"INDEX(Backbone!$M$2:$M$893,MATCH(I137,Backbone!$A$2:$A$893,0))","v":7},null,{"$f":"INDEX(Backbone!$N$2:$N$893,MATCH(I137,Backbone!$A$2:$A$893,0))","v":9},null,{"$f":"INDEX(Backbone!$O$2:$O$893,MATCH(I137,Backbone!$A$2:$A$893,0))","v":8.1999999999999993},null,{"$f":"INDEX(Backbone!$P$2:$P$893,MATCH(I137,Backbone!$A$2:$A$893,0))","v":10},null,{"$f":"INDEX(Backbone!$Q$2:$Q$893,MATCH(I137,Backbone!$A$2:$A$893,0))","v":0.83333333333333337},null,null,{"$f":"(AG137*$AG$22+AI137*$AI$22+AK137*$AK$22+AM137*$AM$22+AO137*$AO$22+AQ137*$AQ$22+AS137*$AS$22+AU137*$AU$22+AW137*$AW$22)/(SUM($AG$22:$AW$22)*10)","v":{"$error":"#DIV/0!"}},null,null,"Go to \nToolbox: ",null,{"$f":"HYPERLINK(\"#\"&ADDRESS(MATCH(I137,Toolbox!$C$1:$C$300),1,,,\"Toolbox\"),VLOOKUP(I137,Toolbox!$C$1:$C$300,1,FALSE))","v":"IHR-PVS National Bridging Workshop"}]
[]
[]
[]
[]
[]
[null,null,null,null,null,null,null,null,{"$f":"Backbone!A400","v":"One Health Surveillance Readiness and Requirements Tool (OHSRRT)"},null,null,null,null,null,null,"A readiness and requirements assessment tool used to determine country readiness and gather requirements to develop a One Health surveillance system based on critical success factors.",null,null,null,null,null,null,null,null,{"$f":"INDEX(Backbone!$R$2:$R$893,MATCH(I143,Backbone!$A$2:$A$893,0))","v":"Self-assessment tool"},null,null,null,{"$f":"INDEX(Backbone!$S$2:$S$893,MATCH(I143,Backbone!$A$2:$A$893,0))","v":"One Health; Generalized"},null,null,null,{"$f":"INDEX(Backbone!$H$2:$H$893,MATCH(I143,Backbone!$A$2:$A$893,0))","v":8},null,{"$f":"INDEX(Backbone!$I$2:$I$893,MATCH(I143,Backbone!$A$2:$A$893,0))","v":6},null,{"$f":"INDEX(Backbone!$J$2:$J$893,MATCH(I143,Backbone!$A$2:$A$893,0))","v":7.4},null,{"$f":"INDEX(Backbone!$K$1:$K$893,MATCH(I143,Backbone!$A$1:$A$893,0))","v":8.6999999999999993},null,{"$f":"INDEX(Backbone!$L$2:$L$893,MATCH(I143,Backbone!$A$2:$A$893,0))","v":6},null,{"$f":"INDEX(Backbone!$M$2:$M$893,MATCH(I143,Backbone!$A$2:$A$893,0))","v":2.5},null,{"$f":"INDEX(Backbone!$N$2:$N$893,MATCH(I143,Backbone!$A$2:$A$893,0))","v":2},null,{"$f":"INDEX(Backbone!$O$2:$O$893,MATCH(I143,Backbone!$A$2:$A$893,0))","v":9.6},null,{"$f":"INDEX(Backbone!$P$2:$P$893,MATCH(I143,Backbone!$A$2:$A$893,0))","v":5.5},null,{"$f":"INDEX(Backbone!$Q$2:$Q$893,MATCH(I143,Backbone!$A$2:$A$893,0))","v":0.61888888888888882},null,null,{"$f":"(AG143*$AG$22+AI143*$AI$22+AK143*$AK$22+AM143*$AM$22+AO143*$AO$22+AQ143*$AQ$22+AS143*$AS$22+AU143*$AU$22+AW143*$AW$22)/(SUM($AG$22:$AW$22)*10)","v":{"$error":"#DIV/0!"}},null,null,"Go to \nToolbox: ",null,{"$f":"HYPERLINK(\"#\"&ADDRESS(MATCH(I143,Toolbox!$C$1:$C$300),1,,,\"Toolbox\"),VLOOKUP(I143,Toolbox!$C$1:$C$300,1,FALSE))","v":"One Health Surveillance Readiness and Requirements Tool (OHSRRT)"}]
[]
[]
[]
[]
[]
[null,null,null,null,null,null,null,null,{"$f":"Backbone!A367","v":"The One Health Systems Assessment for Priority Zoonoses (OH-SAPZ)"},null,null,null,null,null,null,"The tool is aimed to facilitate a systematic assessment of national structures for One Health coordination with respect to preventing, detecting, and responding to zoonotic diseases.  ",null,null,null,null,null,null,null,null,{"$f":"INDEX(Backbone!$R$2:$R$893,MATCH(I149,Backbone!$A$2:$A$893,0))","v":"Self-assessment tool"},null,null,null,{"$f":"INDEX(Backbone!$S$2:$S$893,MATCH(I149,Backbone!$A$2:$A$893,0))","v":"One Health; Generalized"},null,null,null,{"$f":"INDEX(Backbone!$H$2:$H$893,MATCH(I149,Backbone!$A$2:$A$893,0))","v":7.9},null,{"$f":"INDEX(Backbone!$I$2:$I$893,MATCH(I149,Backbone!$A$2:$A$893,0))","v":7.3},null,{"$f":"INDEX(Backbone!$J$2:$J$893,MATCH(I149,Backbone!$A$2:$A$893,0))","v":7.2},null,{"$f":"INDEX(Backbone!$K$1:$K$893,MATCH(I149,Backbone!$A$1:$A$893,0))","v":7.8},null,{"$f":"INDEX(Backbone!$L$2:$L$893,MATCH(I149,Backbone!$A$2:$A$893,0))","v":6.5},null,{"$f":"INDEX(Backbone!$M$2:$M$893,MATCH(I149,Backbone!$A$2:$A$893,0))","v":5.2},null,{"$f":"INDEX(Backbone!$N$2:$N$893,MATCH(I149,Backbone!$A$2:$A$893,0))","v":4},null,{"$f":"INDEX(Backbone!$O$2:$O$893,MATCH(I149,Backbone!$A$2:$A$893,0))","v":8.3000000000000007},null,{"$f":"INDEX(Backbone!$P$2:$P$893,MATCH(I149,Backbone!$A$2:$A$893,0))","v":9.6999999999999993},null,{"$f":"INDEX(Backbone!$Q$2:$Q$893,MATCH(I149,Backbone!$A$2:$A$893,0))","v":0.71000000000000008},null,null,{"$f":"(AG149*$AG$22+AI149*$AI$22+AK149*$AK$22+AM149*$AM$22+AO149*$AO$22+AQ149*$AQ$22+AS149*$AS$22+AU149*$AU$22+AW149*$AW$22)/(SUM($AG$22:$AW$22)*10)","v":{"$error":"#DIV/0!"}},null,null,"Go to \nToolbox: ",null,{"$f":"HYPERLINK(\"#\"&ADDRESS(MATCH(I149,Toolbox!$C$1:$C$300),1,,,\"Toolbox\"),VLOOKUP(I149,Toolbox!$C$1:$C$300,1,FALSE))","v":"The One Health Systems Assessment for Priority Zoonoses (OH-SAPZ)"}]
[]
[]
[]
[]
[]
[null,null,null,null,null,null,null,null,{"$f":"Backbone!A413","v":"One Health Systems Mapping and Analysis Resource Toolkit (OH-SMART)"},null,null,null,null,null,null,"A process that supports stakeholders from multiple sectors to map, analyze and improve any existing system that requires interdisciplinary and multisectoral collaboration.",null,null,null,null,null,null,null,null,{"$f":"INDEX(Backbone!$R$2:$R$893,MATCH(I155,Backbone!$A$2:$A$893,0))","v":"Guided/Facilitated tool or process"},null,null,null,{"$f":"INDEX(Backbone!$S$2:$S$893,MATCH(I155,Backbone!$A$2:$A$893,0))","v":"One Health; Generalized"},null,null,null,{"$f":"INDEX(Backbone!$H$2:$H$893,MATCH(I155,Backbone!$A$2:$A$893,0))","v":8.6999999999999993},null,{"$f":"INDEX(Backbone!$I$2:$I$893,MATCH(I155,Backbone!$A$2:$A$893,0))","v":7.3},null,{"$f":"INDEX(Backbone!$J$2:$J$893,MATCH(I155,Backbone!$A$2:$A$893,0))","v":8.4},null,{"$f":"INDEX(Backbone!$K$1:$K$893,MATCH(I155,Backbone!$A$1:$A$893,0))","v":9.3000000000000007},null,{"$f":"INDEX(Backbone!$L$2:$L$893,MATCH(I155,Backbone!$A$2:$A$893,0))","v":8.1999999999999993},null,{"$f":"INDEX(Backbone!$M$2:$M$893,MATCH(I155,Backbone!$A$2:$A$893,0))","v":7.4},null,{"$f":"INDEX(Backbone!$N$2:$N$893,MATCH(I155,Backbone!$A$2:$A$893,0))","v":9.5},null,{"$f":"INDEX(Backbone!$O$2:$O$893,MATCH(I155,Backbone!$A$2:$A$893,0))","v":10},null,{"$f":"INDEX(Backbone!$P$2:$P$893,MATCH(I155,Backbone!$A$2:$A$893,0))","v":10},null,{"$f":"INDEX(Backbone!$Q$2:$Q$893,MATCH(I155,Backbone!$A$2:$A$893,0))","v":0.87555555555555564},null,null,{"$f":"(AG155*$AG$22+AI155*$AI$22+AK155*$AK$22+AM155*$AM$22+AO155*$AO$22+AQ155*$AQ$22+AS155*$AS$22+AU155*$AU$22+AW155*$AW$22)/(SUM($AG$22:$AW$22)*10)","v":{"$error":"#DIV/0!"}},null,null,"Go to \nToolbox: ",null,{"$f":"HYPERLINK(\"#\"&ADDRESS(MATCH(I155,Toolbox!$C$1:$C$300),1,,,\"Toolbox\"),VLOOKUP(I155,Toolbox!$C$1:$C$300,1,FALSE))","v":"One Health Systems Mapping and Analysis Resource Toolkit (OH-SMART)"}]
[]
[]
[]
[]
[]
[null,null,null,null,null,null,null,null,{"$f":"Backbone!A437","v":"Policy Field Analysis (PFA)"},null,null,null,null,null,null,"A specialized stakeholder mapping that allows to visualize the system of organizations as they interact for a given policy issue. ",null,null,null,null,null,null,null,null,{"$f":"INDEX(Backbone!$R$2:$R$893,MATCH(I161,Backbone!$A$2:$A$893,0))","v":"Guidance document"},null,null,null,{"$f":"INDEX(Backbone!$S$2:$S$893,MATCH(I161,Backbone!$A$2:$A$893,0))","v":"One Health; Generalized"},null,null,null,{"$f":"INDEX(Backbone!$H$2:$H$893,MATCH(I161,Backbone!$A$2:$A$893,0))","v":7.8},null,{"$f":"INDEX(Backbone!$I$2:$I$893,MATCH(I161,Backbone!$A$2:$A$893,0))","v":8},null,{"$f":"INDEX(Backbone!$J$2:$J$893,MATCH(I161,Backbone!$A$2:$A$893,0))","v":9.8000000000000007},null,{"$f":"INDEX(Backbone!$K$1:$K$893,MATCH(I161,Backbone!$A$1:$A$893,0))","v":10},null,{"$f":"INDEX(Backbone!$L$2:$L$893,MATCH(I161,Backbone!$A$2:$A$893,0))","v":7.1},null,{"$f":"INDEX(Backbone!$M$2:$M$893,MATCH(I161,Backbone!$A$2:$A$893,0))","v":4},null,{"$f":"INDEX(Backbone!$N$2:$N$893,MATCH(I161,Backbone!$A$2:$A$893,0))","v":7},null,{"$f":"INDEX(Backbone!$O$2:$O$893,MATCH(I161,Backbone!$A$2:$A$893,0))","v":8.8000000000000007},null,{"$f":"INDEX(Backbone!$P$2:$P$893,MATCH(I161,Backbone!$A$2:$A$893,0))","v":5},null,{"$f":"INDEX(Backbone!$Q$2:$Q$893,MATCH(I161,Backbone!$A$2:$A$893,0))","v":0.75},null,null,{"$f":"(AG161*$AG$22+AI161*$AI$22+AK161*$AK$22+AM161*$AM$22+AO161*$AO$22+AQ161*$AQ$22+AS161*$AS$22+AU161*$AU$22+AW161*$AW$22)/(SUM($AG$22:$AW$22)*10)","v":{"$error":"#DIV/0!"}},null,null,"Go to \nToolbox: ",null,{"$f":"HYPERLINK(\"#\"&ADDRESS(MATCH(I161,Toolbox!$C$1:$C$300),1,,,\"Toolbox\"),VLOOKUP(I161,Toolbox!$C$1:$C$300,1,FALSE))","v":"Policy Field Analysis (PFA)"}]
[]
[]
[]
[]
[]
[null,null,null,null,null,null,null,null,{"$f":"Backbone!A453","v":"Stepwise Approach towards Rabies Elimination (SARE)"},null,null,null,null,null,null,"An excel based practical planning, monitoring and evaluation tool to guide, develop and refine rabies control programmes. ",null,null,null,null,null,null,null,null,{"$f":"INDEX(Backbone!$R$2:$R$893,MATCH(I167,Backbone!$A$2:$A$893,0))","v":"Self-assessment tool"},null,null,null,{"$f":"INDEX(Backbone!$S$2:$S$893,MATCH(I167,Backbone!$A$2:$A$893,0))","v":"One Health; Disease/Threat Specific "},null,null,null,{"$f":"INDEX(Backbone!$H$2:$H$893,MATCH(I167,Backbone!$A$2:$A$893,0))","v":8},null,{"$f":"INDEX(Backbone!$I$2:$I$893,MATCH(I167,Backbone!$A$2:$A$893,0))","v":9},null,{"$f":"INDEX(Backbone!$J$2:$J$893,MATCH(I167,Backbone!$A$2:$A$893,0))","v":6.6},null,{"$f":"INDEX(Backbone!$K$1:$K$893,MATCH(I167,Backbone!$A$1:$A$893,0))","v":3.3},null,{"$f":"INDEX(Backbone!$L$2:$L$893,MATCH(I167,Backbone!$A$2:$A$893,0))","v":5.7},null,{"$f":"INDEX(Backbone!$M$2:$M$893,MATCH(I167,Backbone!$A$2:$A$893,0))","v":6.8},null,{"$f":"INDEX(Backbone!$N$2:$N$893,MATCH(I167,Backbone!$A$2:$A$893,0))","v":8},null,{"$f":"INDEX(Backbone!$O$2:$O$893,MATCH(I167,Backbone!$A$2:$A$893,0))","v":8.6},null,{"$f":"INDEX(Backbone!$P$2:$P$893,MATCH(I167,Backbone!$A$2:$A$893,0))","v":9.5},null,{"$f":"INDEX(Backbone!$Q$2:$Q$893,MATCH(I167,Backbone!$A$2:$A$893,0))","v":0.72777777777777775},null,null,{"$f":"(AG167*$AG$22+AI167*$AI$22+AK167*$AK$22+AM167*$AM$22+AO167*$AO$22+AQ167*$AQ$22+AS167*$AS$22+AU167*$AU$22+AW167*$AW$22)/(SUM($AG$22:$AW$22)*10)","v":{"$error":"#DIV/0!"}},null,null,"Go to \nToolbox: ",null,{"$f":"HYPERLINK(\"#\"&ADDRESS(MATCH(I167,Toolbox!$C$1:$C$300),1,,,\"Toolbox\"),VLOOKUP(I167,Toolbox!$C$1:$C$300,1,FALSE))","v":"Stepwise Approach towards Rabies Elimination (SARE)"}]
[]
[]
[]
[]
[]
[]
[null,null,null,"Other Relevant Resources",null,null,null,null,{"$f":"Backbone!A100","v":"Evaluation of Collaboration in a multisectoral Surveillance system (EcoSur)"},null,null,null,null,null,null,"A tool that aims to evaluate the organization and functioning of collaboration in a multisectoral surveillance system and to analyse strengths and weaknesses of this collaboration. ",null,null,null,null,null,null,null,null,{"$f":"INDEX(Backbone!$R$2:$R$893,MATCH(I174,Backbone!$A$2:$A$893,0))","v":"Guided/Facilitated tool or process"},null,null,null,{"$f":"INDEX(Backbone!$S$2:$S$893,MATCH(I174,Backbone!$A$2:$A$893,0))","v":"One Health; Generalized"},null,null,null,{"$f":"INDEX(Backbone!$H$2:$H$893,MATCH(I174,Backbone!$A$2:$A$893,0))","v":8.3000000000000007},null,{"$f":"INDEX(Backbone!$I$2:$I$893,MATCH(I174,Backbone!$A$2:$A$893,0))","v":6},null,{"$f":"INDEX(Backbone!$J$2:$J$893,MATCH(I174,Backbone!$A$2:$A$893,0))","v":8.5},null,{"$f":"INDEX(Backbone!$K$1:$K$893,MATCH(I174,Backbone!$A$1:$A$893,0))","v":7.8},null,{"$f":"INDEX(Backbone!$L$2:$L$893,MATCH(I174,Backbone!$A$2:$A$893,0))","v":8.3000000000000007},null,{"$f":"INDEX(Backbone!$M$2:$M$893,MATCH(I174,Backbone!$A$2:$A$893,0))","v":6.7},null,{"$f":"INDEX(Backbone!$N$2:$N$893,MATCH(I174,Backbone!$A$2:$A$893,0))","v":3.3},null,{"$f":"INDEX(Backbone!$O$2:$O$893,MATCH(I174,Backbone!$A$2:$A$893,0))","v":9.1},null,{"$f":"INDEX(Backbone!$P$2:$P$893,MATCH(I174,Backbone!$A$2:$A$893,0))","v":4.7},null,{"$f":"INDEX(Backbone!$Q$2:$Q$893,MATCH(I174,Backbone!$A$2:$A$893,0))","v":0.69666666666666677},null,null,{"$f":"(AG174*$AG$22+AI174*$AI$22+AK174*$AK$22+AM174*$AM$22+AO174*$AO$22+AQ174*$AQ$22+AS174*$AS$22+AU174*$AU$22+AW174*$AW$22)/(SUM($AG$22:$AW$22)*10)","v":{"$error":"#DIV/0!"}},null,null,"Go to \nToolbox: ",null,{"$f":"HYPERLINK(\"#\"&ADDRESS(MATCH(I174,Toolbox!$C$1:$C$300),1,,,\"Toolbox\"),VLOOKUP(I174,Toolbox!$C$1:$C$300,1,FALSE))","v":"Evaluation of Collaboration in a multisectoral Surveillance system (EcoSur)"}]
[]
[]
[]
[]
[]
[null,null,null,null,null,null,null,null,{"$f":"Backbone!A195","v":"Integrated Disease Surveillance and Response (IDSR)"},null,null,null,null,null,null,"A strategy aimed at strengthening capacities for detection, confirmation and response to suspected cases and outbreaks, and for use of information to predict and plan for public health events. ",null,null,null,null,null,null,null,null,{"$f":"INDEX(Backbone!$R$2:$R$893,MATCH(I180,Backbone!$A$2:$A$893,0))","v":"Guidance document"},null,null,null,{"$f":"INDEX(Backbone!$S$2:$S$893,MATCH(I180,Backbone!$A$2:$A$893,0))","v":"Sector Specific; Generalized"},null,null,null,{"$f":"INDEX(Backbone!$H$2:$H$893,MATCH(I180,Backbone!$A$2:$A$893,0))","v":7.4},null,{"$f":"INDEX(Backbone!$I$2:$I$893,MATCH(I180,Backbone!$A$2:$A$893,0))","v":10},null,{"$f":"INDEX(Backbone!$J$2:$J$893,MATCH(I180,Backbone!$A$2:$A$893,0))","v":7.4},null,{"$f":"INDEX(Backbone!$K$1:$K$893,MATCH(I180,Backbone!$A$1:$A$893,0))","v":8.6999999999999993},null,{"$f":"INDEX(Backbone!$L$2:$L$893,MATCH(I180,Backbone!$A$2:$A$893,0))","v":6.7},null,{"$f":"INDEX(Backbone!$M$2:$M$893,MATCH(I180,Backbone!$A$2:$A$893,0))","v":4.5},null,{"$f":"INDEX(Backbone!$N$2:$N$893,MATCH(I180,Backbone!$A$2:$A$893,0))","v":8},null,{"$f":"INDEX(Backbone!$O$2:$O$893,MATCH(I180,Backbone!$A$2:$A$893,0))","v":7.2},null,{"$f":"INDEX(Backbone!$P$2:$P$893,MATCH(I180,Backbone!$A$2:$A$893,0))","v":8.5},null,{"$f":"INDEX(Backbone!$Q$2:$Q$893,MATCH(I180,Backbone!$A$2:$A$893,0))","v":0.76},null,null,{"$f":"(AG180*$AG$22+AI180*$AI$22+AK180*$AK$22+AM180*$AM$22+AO180*$AO$22+AQ180*$AQ$22+AS180*$AS$22+AU180*$AU$22+AW180*$AW$22)/(SUM($AG$22:$AW$22)*10)","v":{"$error":"#DIV/0!"}},null,null,"Go to \nToolbox: ",null,{"$f":"HYPERLINK(\"#\"&ADDRESS(MATCH(I180,Toolbox!$C$1:$C$300),1,,,\"Toolbox\"),VLOOKUP(I180,Toolbox!$C$1:$C$300,1,FALSE))","v":"Integrated Disease Surveillance and Response (IDSR)"}]
[]
[]
[]
[]
[]
[null,null,null,null,null,null,null,null,{"$f":"Backbone!A303","v":"National Action Plan for Health Security (NAPHS)"},null,null,null,null,null,null,"A country owned planning process that can accelerate the implementation of International Health Regulations (IHR) core capacities and is based on the One Health and whole-of-government approach for all hazards.",null,null,null,null,null,null,null,null,{"$f":"INDEX(Backbone!$R$2:$R$893,MATCH(I186,Backbone!$A$2:$A$893,0))","v":"Guidance document"},null,null,null,{"$f":"INDEX(Backbone!$S$2:$S$893,MATCH(I186,Backbone!$A$2:$A$893,0))","v":"One Health; Generalized"},null,null,null,{"$f":"INDEX(Backbone!$H$2:$H$893,MATCH(I186,Backbone!$A$2:$A$893,0))","v":8},null,{"$f":"INDEX(Backbone!$I$2:$I$893,MATCH(I186,Backbone!$A$2:$A$893,0))","v":9},null,{"$f":"INDEX(Backbone!$J$2:$J$893,MATCH(I186,Backbone!$A$2:$A$893,0))","v":7.8},null,{"$f":"INDEX(Backbone!$K$1:$K$893,MATCH(I186,Backbone!$A$1:$A$893,0))","v":10},null,{"$f":"INDEX(Backbone!$L$2:$L$893,MATCH(I186,Backbone!$A$2:$A$893,0))","v":8},null,{"$f":"INDEX(Backbone!$M$2:$M$893,MATCH(I186,Backbone!$A$2:$A$893,0))","v":4.5},null,{"$f":"INDEX(Backbone!$N$2:$N$893,MATCH(I186,Backbone!$A$2:$A$893,0))","v":10},null,{"$f":"INDEX(Backbone!$O$2:$O$893,MATCH(I186,Backbone!$A$2:$A$893,0))","v":10},null,{"$f":"INDEX(Backbone!$P$2:$P$893,MATCH(I186,Backbone!$A$2:$A$893,0))","v":10},null,{"$f":"INDEX(Backbone!$Q$2:$Q$893,MATCH(I186,Backbone!$A$2:$A$893,0))","v":0.85888888888888881},null,null,{"$f":"(AG186*$AG$22+AI186*$AI$22+AK186*$AK$22+AM186*$AM$22+AO186*$AO$22+AQ186*$AQ$22+AS186*$AS$22+AU186*$AU$22+AW186*$AW$22)/(SUM($AG$22:$AW$22)*10)","v":{"$error":"#DIV/0!"}},null,null,"Go to \nToolbox: ",null,{"$f":"HYPERLINK(\"#\"&ADDRESS(MATCH(I186,Toolbox!$C$1:$C$300),1,,,\"Toolbox\"),VLOOKUP(I186,Toolbox!$C$1:$C$300,1,FALSE))","v":"National Action Plan for Health Security (NAPHS)"}]
[]
[]
[]
[]
[]
[null,null,null,null,null,null,null,null,{"$f":"Backbone!A420","v":"World Organisation for Animal Health (WOAH) PVS Gap Analysis"},null,null,null,null,null,null,"The PVS Gap Analysis is an exercise undertaken with the national Veterinary Services to determine their priority goals, as well as strategies, activities and investments required to achieve these objectives.",null,null,null,null,null,null,null,null,{"$f":"INDEX(Backbone!$R$2:$R$893,MATCH(I192,Backbone!$A$2:$A$893,0))","v":"Guided/Facilitated tool or process"},null,null,null,{"$f":"INDEX(Backbone!$S$2:$S$893,MATCH(I192,Backbone!$A$2:$A$893,0))","v":"Sector Specific; Generalized"},null,null,null,{"$f":"INDEX(Backbone!$H$2:$H$893,MATCH(I192,Backbone!$A$2:$A$893,0))","v":6.8},null,{"$f":"INDEX(Backbone!$I$2:$I$893,MATCH(I192,Backbone!$A$2:$A$893,0))","v":8},null,{"$f":"INDEX(Backbone!$J$2:$J$893,MATCH(I192,Backbone!$A$2:$A$893,0))","v":5.6},null,{"$f":"INDEX(Backbone!$K$1:$K$893,MATCH(I192,Backbone!$A$1:$A$893,0))","v":10},null,{"$f":"INDEX(Backbone!$L$2:$L$893,MATCH(I192,Backbone!$A$2:$A$893,0))","v":6},null,{"$f":"INDEX(Backbone!$M$2:$M$893,MATCH(I192,Backbone!$A$2:$A$893,0))","v":4.3},null,{"$f":"INDEX(Backbone!$N$2:$N$893,MATCH(I192,Backbone!$A$2:$A$893,0))","v":9.5},null,{"$f":"INDEX(Backbone!$O$2:$O$893,MATCH(I192,Backbone!$A$2:$A$893,0))","v":4.7},null,{"$f":"INDEX(Backbone!$P$2:$P$893,MATCH(I192,Backbone!$A$2:$A$893,0))","v":7},null,{"$f":"INDEX(Backbone!$Q$2:$Q$893,MATCH(I192,Backbone!$A$2:$A$893,0))","v":0.68777777777777771},null,null,{"$f":"(AG192*$AG$22+AI192*$AI$22+AK192*$AK$22+AM192*$AM$22+AO192*$AO$22+AQ192*$AQ$22+AS192*$AS$22+AU192*$AU$22+AW192*$AW$22)/(SUM($AG$22:$AW$22)*10)","v":{"$error":"#DIV/0!"}},null,null,"Go to \nToolbox: ",null,{"$f":"HYPERLINK(\"#\"&ADDRESS(MATCH(I192,Toolbox!$C$1:$C$300),1,,,\"Toolbox\"),VLOOKUP(I192,Toolbox!$C$1:$C$300,1,FALSE))","v":"World Organisation for Animal Health (WOAH) PVS Gap Analysis"}]
[]
[]
[]
[]
[]
[]
[]
[]
[]
[]
[]
[]
[]
[]
[]
[]
[]
[]
[]
[]
[]
[]
[null,null,null,null,null,null,null,null,null,null,null,null,null,null,null,null,null,null,null,null,null,null,null,null,null,null,null,null,null,null,null,null,"Accessibility",null,"Language",null,"Ease of use",null,"Flexibility",null,"Data Needs",null,"Data Analysis",null,"Acceptability",null,"One Health",null,"Impact"]
[]
[]
[]
[]
[]
[]
[null,null,null,null,null,null,null,null,null,null,null,null,null,null,null,null,null,null,null,null,null,null,null,null,null,null,null,null,null,null,null,null,null,null,null,null,null,null,null,null,null,null,null,null,null,null,null,null,null,null,"RAW SCORE",null,null,"ADJUSTED SCORE \n(Based on user preferences)"]
[]
[]
[]
[null,"LEVEL 3 RESOURCES",null,"DESIGNATION",null,null,null,null,"RESOURCE NAME",null,null,null,null,null,null,"SHORT DESCRIPTION",null,null,null,null,null,null,null,null,"RESOURCE TYPE",null,null,null,"RESOURCE GENERALITY"]
[]
[]
[]
[null,null,null,null,null,null,null,null,null,null,null,null,null,null,null,null,null,null,null,null,null,null,null,null,null,null,null,null,null,null,null,null,{"$f":"'Attribute Survey'!S231","v":0},null,{"$f":"'Attribute Survey'!S235","v":0},null,{"$f":"'Attribute Survey'!S239","v":0},null,{"$f":"'Attribute Survey'!S243","v":0},null,{"$f":"'Attribute Survey'!S247","v":0},null,{"$f":"'Attribute Survey'!S251","v":0},null,{"$f":"'Attribute Survey'!S255","v":0},null,{"$f":"'Attribute Survey'!S259","v":0},null,{"$f":"'Attribute Survey'!S263","v":0}]
[null,null,null,"Resources Best Fit for Purpose",null,null,null,null,{"$f":"Backbone!A239","v":"IHR-PVS National Bridging Workshop"},null,null,null,null,null,null," A workshop to enable the animal health and the human health sectors in countries to explore overlapping areas and develop, where relevant, appropriate bridges to facilitate coordination. ",null,null,null,null,null,null,null,null,{"$f":"INDEX(Backbone!$R$2:$R$893,MATCH(I231,Backbone!$A$2:$A$893,0))","v":"Guided/Facilitated tool or process"},null,null,null,{"$f":"INDEX(Backbone!$S$2:$S$893,MATCH(I231,Backbone!$A$2:$A$893,0))","v":"One Health; Generalized"},null,null,null,{"$f":"INDEX(Backbone!$H$2:$H$893,MATCH(I231,Backbone!$A$2:$A$893,0))","v":8.6},null,{"$f":"INDEX(Backbone!$I$2:$I$893,MATCH(I231,Backbone!$A$2:$A$893,0))","v":10},null,{"$f":"INDEX(Backbone!$J$2:$J$893,MATCH(I231,Backbone!$A$2:$A$893,0))","v":6.2},null,{"$f":"INDEX(Backbone!$K$2:$K$893,MATCH(I231,Backbone!$A$2:$A$893,0))","v":10},null,{"$f":"INDEX(Backbone!$L$2:$L$893,MATCH(I231,Backbone!$A$2:$A$893,0))","v":6},null,{"$f":"INDEX(Backbone!$M$2:$M$893,MATCH(I231,Backbone!$A$2:$A$893,0))","v":7},null,{"$f":"INDEX(Backbone!$N$2:$N$893,MATCH(I231,Backbone!$A$2:$A$893,0))","v":9},null,{"$f":"INDEX(Backbone!$O$2:$O$893,MATCH(I231,Backbone!$A$2:$A$893,0))","v":8.1999999999999993},null,{"$f":"INDEX(Backbone!$P$2:$P$893,MATCH(I231,Backbone!$A$2:$A$893,0))","v":10},null,{"$f":"INDEX(Backbone!$Q$2:$Q$893,MATCH(I231,Backbone!$A$2:$A$893,0))","v":0.83333333333333337},null,null,{"$f":"(AG231*$AG$22+AI231*$AI$22+AK231*$AK$22+AM231*$AM$22+AO231*$AO$22+AQ231*$AQ$22+AS231*$AS$22+AU231*$AU$22+AW231*$AW$22)/(SUM($AG$22:$AW$22)*10)","v":{"$error":"#DIV/0!"}},null,null,"Go to \nToolbox: ",null,{"$f":"HYPERLINK(\"#\"&ADDRESS(MATCH(I231,Toolbox!$C$1:$C$300),1,,,\"Toolbox\"),VLOOKUP(I231,Toolbox!$C$1:$C$300,1,FALSE))","v":"IHR-PVS National Bridging Workshop"}]
[]
[]
[]
[]
[]
[null,null,null,null,null,null,null,null,{"$f":"Backbone!A303","v":"National Action Plan for Health Security (NAPHS)"},null,null,null,null,null,null,"A country owned planning process that can accelerate the implementation of International Health Regulations (IHR) core capacities and is based on the One Health and wholeof-government approach for all hazards.",null,null,null,null,null,null,null,null,{"$f":"INDEX(Backbone!$R$2:$R$893,MATCH(I237,Backbone!$A$2:$A$893,0))","v":"Guidance document"},null,null,null,{"$f":"INDEX(Backbone!$S$2:$S$893,MATCH(I237,Backbone!$A$2:$A$893,0))","v":"One Health; Generalized"},null,null,null,{"$f":"INDEX(Backbone!$H$2:$H$893,MATCH(I237,Backbone!$A$2:$A$893,0))","v":8},null,{"$f":"INDEX(Backbone!$I$2:$I$893,MATCH(I237,Backbone!$A$2:$A$893,0))","v":9},null,{"$f":"INDEX(Backbone!$J$2:$J$893,MATCH(I237,Backbone!$A$2:$A$893,0))","v":7.8},null,{"$f":"INDEX(Backbone!$K$1:$K$893,MATCH(I237,Backbone!$A$1:$A$893,0))","v":10},null,{"$f":"INDEX(Backbone!$L$2:$L$893,MATCH(I237,Backbone!$A$2:$A$893,0))","v":8},null,{"$f":"INDEX(Backbone!$M$2:$M$893,MATCH(I237,Backbone!$A$2:$A$893,0))","v":4.5},null,{"$f":"INDEX(Backbone!$N$2:$N$893,MATCH(I237,Backbone!$A$2:$A$893,0))","v":10},null,{"$f":"INDEX(Backbone!$O$2:$O$893,MATCH(I237,Backbone!$A$2:$A$893,0))","v":10},null,{"$f":"INDEX(Backbone!$P$2:$P$893,MATCH(I237,Backbone!$A$2:$A$893,0))","v":10},null,{"$f":"INDEX(Backbone!$Q$2:$Q$893,MATCH(I237,Backbone!$A$2:$A$893,0))","v":0.85888888888888881},null,null,{"$f":"(AG237*$AG$22+AI237*$AI$22+AK237*$AK$22+AM237*$AM$22+AO237*$AO$22+AQ237*$AQ$22+AS237*$AS$22+AU237*$AU$22+AW237*$AW$22)/(SUM($AG$22:$AW$22)*10)","v":{"$error":"#DIV/0!"}},null,null,"Go to \nToolbox: ",null,{"$f":"HYPERLINK(\"#\"&ADDRESS(MATCH(I237,Toolbox!$C$1:$C$300),1,,,\"Toolbox\"),VLOOKUP(I237,Toolbox!$C$1:$C$300,1,FALSE))","v":"National Action Plan for Health Security (NAPHS)"}]
[]
[]
[]
[]
[]
[null,null,null,null,null,null,null,null,{"$f":"Backbone!A367","v":"The One Health Systems Assessment for Priority Zoonoses (OH-SAPZ)"},null,null,null,null,null,null,"The tool is aimed to facilitate a systematic assessment of national structures for One Health coordination with respect to preventing, detecting, and responding to zoonotic diseases.  ",null,null,null,null,null,null,null,null,{"$f":"INDEX(Backbone!$R$2:$R$893,MATCH(I243,Backbone!$A$2:$A$893,0))","v":"Self-assessment tool"},null,null,null,{"$f":"INDEX(Backbone!$S$2:$S$893,MATCH(I243,Backbone!$A$2:$A$893,0))","v":"One Health; Generalized"},null,null,null,{"$f":"INDEX(Backbone!$H$2:$H$893,MATCH(I243,Backbone!$A$2:$A$893,0))","v":7.9},null,{"$f":"INDEX(Backbone!$I$2:$I$893,MATCH(I243,Backbone!$A$2:$A$893,0))","v":7.3},null,{"$f":"INDEX(Backbone!$J$2:$J$893,MATCH(I243,Backbone!$A$2:$A$893,0))","v":7.2},null,{"$f":"INDEX(Backbone!$K$1:$K$893,MATCH(I243,Backbone!$A$1:$A$893,0))","v":7.8},null,{"$f":"INDEX(Backbone!$L$2:$L$893,MATCH(I243,Backbone!$A$2:$A$893,0))","v":6.5},null,{"$f":"INDEX(Backbone!$M$2:$M$893,MATCH(I243,Backbone!$A$2:$A$893,0))","v":5.2},null,{"$f":"INDEX(Backbone!$N$2:$N$893,MATCH(I243,Backbone!$A$2:$A$893,0))","v":4},null,{"$f":"INDEX(Backbone!$O$2:$O$893,MATCH(I243,Backbone!$A$2:$A$893,0))","v":8.3000000000000007},null,{"$f":"INDEX(Backbone!$P$2:$P$893,MATCH(I243,Backbone!$A$2:$A$893,0))","v":9.6999999999999993},null,{"$f":"INDEX(Backbone!$Q$2:$Q$893,MATCH(I243,Backbone!$A$2:$A$893,0))","v":0.71000000000000008},null,null,{"$f":"(AG243*$AG$22+AI243*$AI$22+AK243*$AK$22+AM243*$AM$22+AO243*$AO$22+AQ243*$AQ$22+AS243*$AS$22+AU243*$AU$22+AW243*$AW$22)/(SUM($AG$22:$AW$22)*10)","v":{"$error":"#DIV/0!"}},null,null,"Go to \nToolbox: ",null,{"$f":"HYPERLINK(\"#\"&ADDRESS(MATCH(I243,Toolbox!$C$1:$C$300),1,,,\"Toolbox\"),VLOOKUP(I243,Toolbox!$C$1:$C$300,1,FALSE))","v":"The One Health Systems Assessment for Priority Zoonoses (OH-SAPZ)"}]
[]
[]
[]
[]
[]
[null,null,null,null,null,null,null,null,{"$f":"Backbone!A383","v":"One Health Systems Mapping and Analysis Resource Toolkit (OH-SMART)"},null,null,null,null,null,null,"A process that supports stakeholders from multiple sectors to map, analyze and improve any existing system that requires interdisciplinary and multisectoral collaboration.",null,null,null,null,null,null,null,null,{"$f":"INDEX(Backbone!$R$2:$R$893,MATCH(I249,Backbone!$A$2:$A$893,0))","v":"Guided/Facilitated tool or process"},null,null,null,{"$f":"INDEX(Backbone!$S$2:$S$893,MATCH(I249,Backbone!$A$2:$A$893,0))","v":"One Health; Generalized"},null,null,null,{"$f":"INDEX(Backbone!$H$2:$H$893,MATCH(I249,Backbone!$A$2:$A$893,0))","v":8.6999999999999993},null,{"$f":"INDEX(Backbone!$I$2:$I$893,MATCH(I249,Backbone!$A$2:$A$893,0))","v":7.3},null,{"$f":"INDEX(Backbone!$J$2:$J$893,MATCH(I249,Backbone!$A$2:$A$893,0))","v":8.4},null,{"$f":"INDEX(Backbone!$K$1:$K$893,MATCH(I249,Backbone!$A$1:$A$893,0))","v":9.3000000000000007},null,{"$f":"INDEX(Backbone!$L$2:$L$893,MATCH(I249,Backbone!$A$2:$A$893,0))","v":8.1999999999999993},null,{"$f":"INDEX(Backbone!$M$2:$M$893,MATCH(I249,Backbone!$A$2:$A$893,0))","v":7.4},null,{"$f":"INDEX(Backbone!$N$2:$N$893,MATCH(I249,Backbone!$A$2:$A$893,0))","v":9.5},null,{"$f":"INDEX(Backbone!$O$2:$O$893,MATCH(I249,Backbone!$A$2:$A$893,0))","v":10},null,{"$f":"INDEX(Backbone!$P$2:$P$893,MATCH(I249,Backbone!$A$2:$A$893,0))","v":10},null,{"$f":"INDEX(Backbone!$Q$2:$Q$893,MATCH(I249,Backbone!$A$2:$A$893,0))","v":0.87555555555555564},null,null,{"$f":"(AG249*$AG$22+AI249*$AI$22+AK249*$AK$22+AM249*$AM$22+AO249*$AO$22+AQ249*$AQ$22+AS249*$AS$22+AU249*$AU$22+AW249*$AW$22)/(SUM($AG$22:$AW$22)*10)","v":{"$error":"#DIV/0!"}},null,null,"Go to \nToolbox: ",null,{"$f":"HYPERLINK(\"#\"&ADDRESS(MATCH(I249,Toolbox!$C$1:$C$300),1,,,\"Toolbox\"),VLOOKUP(I249,Toolbox!$C$1:$C$300,1,FALSE))","v":"One Health Systems Mapping and Analysis Resource Toolkit (OH-SMART)"}]
[]
[]
[]
[]
[]
[]
[null,null,null,"Other Relevant Resources",null,null,null,null,{"$f":"Backbone!A100","v":"Evaluation of Collaboration in a multisectoral Surveillance system (EcoSur)"},null,null,null,null,null,null,"A tool that aims to evaluate the organization and functioning of collaboration in a multisectoral surveillance system and to analyse strengths and weaknesses of this collaboration. ",null,null,null,null,null,null,null,null,{"$f":"INDEX(Backbone!$R$2:$R$893,MATCH(I256,Backbone!$A$2:$A$893,0))","v":"Guided/Facilitated tool or process"},null,null,null,{"$f":"INDEX(Backbone!$S$2:$S$893,MATCH(I256,Backbone!$A$2:$A$893,0))","v":"One Health; Generalized"},null,null,null,{"$f":"INDEX(Backbone!$H$2:$H$893,MATCH(I256,Backbone!$A$2:$A$893,0))","v":8.3000000000000007},null,{"$f":"INDEX(Backbone!$I$2:$I$893,MATCH(I256,Backbone!$A$2:$A$893,0))","v":6},null,{"$f":"INDEX(Backbone!$J$2:$J$893,MATCH(I256,Backbone!$A$2:$A$893,0))","v":8.5},null,{"$f":"INDEX(Backbone!$K$1:$K$893,MATCH(I256,Backbone!$A$1:$A$893,0))","v":7.8},null,{"$f":"INDEX(Backbone!$L$2:$L$893,MATCH(I256,Backbone!$A$2:$A$893,0))","v":8.3000000000000007},null,{"$f":"INDEX(Backbone!$M$2:$M$893,MATCH(I256,Backbone!$A$2:$A$893,0))","v":6.7},null,{"$f":"INDEX(Backbone!$N$2:$N$893,MATCH(I256,Backbone!$A$2:$A$893,0))","v":3.3},null,{"$f":"INDEX(Backbone!$O$2:$O$893,MATCH(I256,Backbone!$A$2:$A$893,0))","v":9.1},null,{"$f":"INDEX(Backbone!$P$2:$P$893,MATCH(I256,Backbone!$A$2:$A$893,0))","v":4.7},null,{"$f":"INDEX(Backbone!$Q$2:$Q$893,MATCH(I256,Backbone!$A$2:$A$893,0))","v":0.69666666666666677},null,null,{"$f":"(AG256*$AG$22+AI256*$AI$22+AK256*$AK$22+AM256*$AM$22+AO256*$AO$22+AQ256*$AQ$22+AS256*$AS$22+AU256*$AU$22+AW256*$AW$22)/(SUM($AG$22:$AW$22)*10)","v":{"$error":"#DIV/0!"}},null,null,"Go to \nToolbox: ",null,{"$f":"HYPERLINK(\"#\"&ADDRESS(MATCH(I256,Toolbox!$C$1:$C$300),1,,,\"Toolbox\"),VLOOKUP(I256,Toolbox!$C$1:$C$300,1,FALSE))","v":"Evaluation of Collaboration in a multisectoral Surveillance system (EcoSur)"}]
[]
[]
[]
[]
[]
[null,null,null,null,null,null,null,null,{"$f":"Backbone!A195","v":"Integrated Disease Surveillance and Response (IDSR)"},null,null,null,null,null,null,"A strategy aimed at strengthening capacities for detection, confirmation and response to suspected cases and outbreaks, and for use of information to predict and plan for public health events. ",null,null,null,null,null,null,null,null,{"$f":"INDEX(Backbone!$R$2:$R$893,MATCH(I262,Backbone!$A$2:$A$893,0))","v":"Guidance document"},null,null,null,{"$f":"INDEX(Backbone!$S$2:$S$893,MATCH(I262,Backbone!$A$2:$A$893,0))","v":"Sector Specific; Generalized"},null,null,null,{"$f":"INDEX(Backbone!$H$2:$H$893,MATCH(I262,Backbone!$A$2:$A$893,0))","v":7.4},null,{"$f":"INDEX(Backbone!$I$2:$I$893,MATCH(I262,Backbone!$A$2:$A$893,0))","v":10},null,{"$f":"INDEX(Backbone!$J$2:$J$893,MATCH(I262,Backbone!$A$2:$A$893,0))","v":7.4},null,{"$f":"INDEX(Backbone!$K$1:$K$893,MATCH(I262,Backbone!$A$1:$A$893,0))","v":8.6999999999999993},null,{"$f":"INDEX(Backbone!$L$2:$L$893,MATCH(I262,Backbone!$A$2:$A$893,0))","v":6.7},null,{"$f":"INDEX(Backbone!$M$2:$M$893,MATCH(I262,Backbone!$A$2:$A$893,0))","v":4.5},null,{"$f":"INDEX(Backbone!$N$2:$N$893,MATCH(I262,Backbone!$A$2:$A$893,0))","v":8},null,{"$f":"INDEX(Backbone!$O$2:$O$893,MATCH(I262,Backbone!$A$2:$A$893,0))","v":7.2},null,{"$f":"INDEX(Backbone!$P$2:$P$893,MATCH(I262,Backbone!$A$2:$A$893,0))","v":8.5},null,{"$f":"INDEX(Backbone!$Q$2:$Q$893,MATCH(I262,Backbone!$A$2:$A$893,0))","v":0.76},null,null,{"$f":"(AG262*$AG$22+AI262*$AI$22+AK262*$AK$22+AM262*$AM$22+AO262*$AO$22+AQ262*$AQ$22+AS262*$AS$22+AU262*$AU$22+AW262*$AW$22)/(SUM($AG$22:$AW$22)*10)","v":{"$error":"#DIV/0!"}},null,null,"Go to \nToolbox: ",null,{"$f":"HYPERLINK(\"#\"&ADDRESS(MATCH(I262,Toolbox!$C$1:$C$300),1,,,\"Toolbox\"),VLOOKUP(I262,Toolbox!$C$1:$C$300,1,FALSE))","v":"Integrated Disease Surveillance and Response (IDSR)"}]

{"sheet":"A2_tools","index":31,"n_rows":167,"n_cols":59,"rows_kept":167,"cut":false,"hidden":false,"merged":[[147,56,151,57],[147,58,151,62],[154,56,158,57],[154,58,158,62],[160,56,164,57],[160,58,164,62],[166,56,170,57],[166,58,170,62],[47,56,51,57],[47,58,51,62],[88,56,92,57],[88,58,92,62],[95,56,99,57],[95,58,99,62],[101,56,105,57],[101,58,105,62],[107,56,111,57],[107,58,111,62],[1,1,3,62],[22,56,26,57],[22,58,26,62],[29,56,33,57],[29,58,33,62],[35,56,39,57],[35,58,39,62],[41,56,45,57],[41,58,45,62],[35,38,39,38],[35,40,39,40],[35,42,39,42],[35,44,39,44],[35,46,39,46],[35,48,39,48],[35,50,39,51],[35,53,39,54],[35,8,39,13],[35,15,39,22],[35,24,39,26],[35,28,39,30],[35,32,39,32],[35,34,39,34],[35,36,39,36],[154,46,158,46],[154,48,158,48],[154,50,158,51],[154,53,158,54],[154,3,170,6],[154,8,158,13],[154,15,158,22],[154,24,158,26],[154,28,158,30],[154,32,158,32],[154,34,158,34],[154,36,158,36],[154,38,158,38],[166,48,170,48],[166,50,170,51],[166,53,170,54],[166,42,170,42],[166,44,170,44],[166,46,170,46],[160,46,164,46],[160,48,164,48],[160,50,164,51],[160,53,164,54],[166,8,170,13],[88,36,92,36],[88,38,92,38],[88,40,92,40],[83,28,86,30],[88,32,92,32],[88,34,92,34],[154,40,158,40],[154,42,158,42],[154,44,158,44],[95,40,99,40],[95,42,99,42],[95,44,99,44],[95,3,111,6],[95,8,99,13],[95,15,99,22],[95,24,99,26],[95,28,99,30],[95,32,99,32],[95,34,99,34],[95,36,99,36],[95,38,99,38],[95,46,99,46],[95,48,99,48],[95,50,99,51],[95,53,99,54],[22,3,26,6],[88,8,92,13],[88,15,92,22],[88,24,92,26],[88,28,92,30],[88,3,92,6],[22,15,26,22],[22,24,26,26],[22,28,26,30],[22,32,26,32],[22,34,26,34],[22,36,26,36],[88,53,92,54],[88,42,92,42],[72,44,86,44],[72,46,86,46],[72,48,86,48],[47,24,51,26],[47,28,51,30],[47,32,51,32],[47,34,51,34],[47,36,51,36],[41,8,45,13],[41,15,45,22],[41,24,45,26],[41,28,45,30],[41,32,45,32],[41,34,45,34],[47,8,51,13],[47,15,51,22],[41,36,45,36],[160,42,164,42],[160,44,164,44],[160,8,164,13],[160,15,164,22],[160,24,164,26],[160,28,164,30],[160,32,164,32],[166,36,170,36],[166,38,170,38],[166,40,170,40],[166,15,170,22],[166,24,170,26],[166,28,170,30],[166,32,170,32],[166,34,170,34],[160,34,164,34],[160,36,164,36],[160,38,164,38],[160,40,164,40],[147,8,151,13],[147,15,151,22],[147,24,151,26],[147,28,151,30],[147,32,151,32],[147,34,151,34],[147,36,151,36],[147,38,151,38],[147,40,151,40],[130,48,144,48],[137,50,144,51],[137,53,144,54],[141,1,170,1],[141,3,144,6],[141,8,144,13],[141,15,144,22],[141,24,144,26],[141,28,144,30],[146,3,151,6],[130,32,144,32],[130,34,144,34],[130,36,144,36],[130,38,144,38],[130,40,144,40],[130,42,144,42],[130,44,144,44],[130,46,144,46],[147,42,151,42],[147,44,151,44],[147,46,151,46],[147,48,151,48],[147,50,151,51],[147,53,151,54],[101,50,105,51],[101,53,105,54],[107,8,111,13],[107,15,111,22],[107,24,111,26],[107,28,111,30],[107,32,111,32],[101,32,105,32],[101,34,105,34],[101,36,105,36],[101,38,105,38],[101,40,105,40],[101,42,105,42],[107,46,111,46],[107,48,111,48],[107,50,111,51],[107,53,111,54],[107,34,111,34],[107,36,111,36],[107,38,111,38],[107,40,111,40],[107,42,111,42],[107,44,111,44],[79,50,86,51],[79,53,86,54],[72,40,86,40],[72,42,86,42],[88,44,92,44],[88,46,92,46],[88,48,92,48],[88,50,92,51],[83,1,111,1],[83,3,86,6],[83,8,86,13],[83,15,86,22],[83,24,86,26],[72,32,86,32],[72,34,86,34],[72,36,86,36],[72,38,86,38],[101,8,105,13],[101,15,105,22],[101,24,105,26],[101,28,105,30],[101,44,105,44],[101,46,105,46],[101,48,105,48],[47,50,51,51],[47,53,51,54],[47,38,51,38],[47,40,51,40],[47,42,51,42],[47,44,51,44],[47,46,51,46],[47,48,51,48],[41,48,45,48],[41,50,45,51],[41,53,45,54],[41,40,45,40],[41,42,45,42],[41,44,45,44],[41,46,45,46],[41,38,45,38],[29,48,33,48],[29,50,33,51],[29,40,33,40],[29,42,33,42],[29,44,33,44],[29,32,33,32],[22,50,26,51],[22,53,26,54],[22,38,26,38],[22,40,26,40],[22,42,26,42],[22,44,26,44],[22,46,26,46],[22,48,26,48],[29,53,33,54],[29,34,33,34],[29,36,33,36],[29,38,33,38],[13,50,20,51],[13,53,20,54],[17,1,51,1],[17,3,20,6],[17,8,20,13],[17,15,20,22],[17,24,20,26],[17,28,20,30],[22,8,26,13],[29,3,51,6],[29,8,33,13],[29,15,33,22],[29,24,33,26],[29,28,33,30],[6,32,20,32],[6,34,20,34],[6,36,20,36],[6,38,20,38],[6,40,20,40],[6,42,20,42],[6,44,20,44],[6,46,20,46],[6,48,20,48],[29,46,33,46]]}
[]
[null,"Surveillance System Linkage Assessment Resources"]
[]
[]
[]
[]
[null,null,null,null,null,null,null,null,null,null,null,null,null,null,null,null,null,null,null,null,null,null,null,null,null,null,null,null,null,null,null,null,"Accessibility",null,"Language",null,"Ease of use",null,"Flexibility",null,"Data Needs",null,"Data Analysis",null,"Acceptability",null,"One Health",null,"Impact"]
[]
[]
[]
[]
[]
[]
[null,null,null,null,null,null,null,null,null,null,null,null,null,null,null,null,null,null,null,null,null,null,null,null,null,null,null,null,null,null,null,null,null,null,null,null,null,null,null,null,null,null,null,null,null,null,null,null,null,null,"RAW SCORE",null,null,"ADJUSTED SCORE \n(Based on user preferences)"]
[]
[]
[]
[null,"LEVEL 1 RESOURCES",null,"DESIGNATION",null,null,null,null,"RESOURCE NAME",null,null,null,null,null,null,"SHORT DESCRIPTION",null,null,null,null,null,null,null,null,"RESOURCE TYPE",null,null,null,"RESOURCE GENERALITY"]
[]
[]
[]
[null,null,null,null,null,null,null,null,null,null,null,null,null,null,null,null,null,null,null,null,null,null,null,null,null,null,null,null,null,null,null,null,{"$f":"'Attribute Survey'!S22","v":0},null,{"$f":"'Attribute Survey'!S26","v":0},null,{"$f":"'Attribute Survey'!S30","v":0},null,{"$f":"'Attribute Survey'!S34","v":0},null,{"$f":"'Attribute Survey'!S38","v":0},null,{"$f":"'Attribute Survey'!S42","v":0},null,{"$f":"'Attribute Survey'!S46","v":0},null,{"$f":"'Attribute Survey'!S50","v":0},null,{"$f":"'Attribute Survey'!S54","v":0}]
[null,null,null,"Resources Best Fit For Purpose",null,null,null,null,{"$f":"Backbone!A517","v":"FAO Surveillance Evaluation Tool (SET)"},null,null,null,null,null,null,"Assesses national animal disease surveillance systems using a comprehensive and repeatable methodology",null,null,null,null,null,null,null,null,{"$f":"INDEX(Backbone!$R2:$R893,MATCH(I23,Backbone!$A2:$A893,0))","v":"Guided/Facilitated tool or process"},null,null,null,{"$f":"INDEX(Backbone!$S2:$S893,MATCH(I23,Backbone!$A2:$A893,0))","v":"Sector Specific; Generalized"},null,null,null,{"$f":"INDEX(Backbone!$H2:$H893,MATCH(I23,Backbone!$A2:$A893,0))","v":8.1999999999999993},null,{"$f":"INDEX(Backbone!$I2:$I893,MATCH(I23,Backbone!$A2:$A893,0))","v":8.3000000000000007},null,{"$f":"INDEX(Backbone!$J2:$J893,MATCH(I23,Backbone!$A2:$A893,0))","v":7},null,{"$f":"INDEX(Backbone!$K2:$K893,MATCH(I23,Backbone!$A2:$A893,0))","v":7.7},null,{"$f":"INDEX(Backbone!$L2:$L893,MATCH(I23,Backbone!$A2:$A893,0))","v":6.7},null,{"$f":"INDEX(Backbone!$M2:$M893,MATCH(I23,Backbone!$A2:$A893,0))","v":6.3},null,{"$f":"INDEX(Backbone!$N2:$N893,MATCH(I23,Backbone!$A2:$A893,0))","v":8},null,{"$f":"INDEX(Backbone!$O2:$O893,MATCH(I23,Backbone!$A2:$A893,0))","v":6.8},null,{"$f":"INDEX(Backbone!$P2:$P893,MATCH(I23,Backbone!$A2:$A893,0))","v":8.5},null,{"$f":"INDEX(Backbone!$Q2:$Q893,MATCH(I23,Backbone!$A2:$A893,0))","v":0.75},null,null,{"$f":"(AG23*$AG$22+AI23*$AI$22+AK23*$AK$22+AM23*$AM$22+AO23*$AO$22+AQ23*$AQ$22+AS23*$AS$22+AU23*$AU$22+AW23*$AW$22)/(SUM($AG$22:$AW$22)*10)","v":{"$error":"#DIV/0!"}},null,null,"Go to \nToolbox: ",null,{"$f":"HYPERLINK(\"#\"&ADDRESS(MATCH(I23,Toolbox!$C$1:$C$300),1,,,\"Toolbox\"),VLOOKUP(I23,Toolbox!$C$1:$C$300,1,FALSE))","v":"FAO Surveillance Evaluation Tool (SET)"}]
[]
[]
[]
[]
[]
[]
[null,null,null,"Other Relevant Resources",null,null,null,null,{"$f":"Backbone!A2","v":"Africa CDC Event Based Surveillance Framework"},null,null,null,null,null,null,"A guidance to public health practitioners seeking to implement event-based surveillance at each administrative level",null,null,null,null,null,null,null,null,{"$f":"INDEX(Backbone!$R$2:$R$893,MATCH(I30,Backbone!$A$2:$A$893,0))","v":"Guidance document"},null,null,null,{"$f":"INDEX(Backbone!$S$2:$S$893,MATCH(I30,Backbone!$A$2:$A$893,0))","v":"One Health; Generalized "},null,null,null,{"$f":"INDEX(Backbone!$H$2:$H$893,MATCH(I30,Backbone!$A$2:$A$893,0))","v":8},null,{"$f":"INDEX(Backbone!$I$2:$I$893,MATCH(I30,Backbone!$A$2:$A$893,0))","v":6},null,{"$f":"INDEX(Backbone!$J$2:$J$893,MATCH(I30,Backbone!$A$2:$A$893,0))","v":8.1999999999999993},null,{"$f":"INDEX(Backbone!$K$1:$K$893,MATCH(I30,Backbone!$A$1:$A$893,0))","v":8.3000000000000007},null,{"$f":"INDEX(Backbone!$L$2:$L$893,MATCH(I30,Backbone!$A$2:$A$893,0))","v":6.1},null,{"$f":"INDEX(Backbone!$M$2:$M$893,MATCH(I30,Backbone!$A$2:$A$893,0))","v":3.5},null,{"$f":"INDEX(Backbone!$N$2:$N$893,MATCH(I30,Backbone!$A$2:$A$893,0))","v":4},null,{"$f":"INDEX(Backbone!$O$2:$O$893,MATCH(I30,Backbone!$A$2:$A$893,0))","v":7},null,{"$f":"INDEX(Backbone!$P$2:$P$893,MATCH(I30,Backbone!$A$2:$A$893,0))","v":6},null,{"$f":"INDEX(Backbone!$Q$2:$Q$893,MATCH(I30,Backbone!$A$2:$A$893,0))","v":0.63222222222222224},null,null,{"$f":"(AG30*$AG$22+AI30*$AI$22+AK30*$AK$22+AM30*$AM$22+AO30*$AO$22+AQ30*$AQ$22+AS30*$AS$22+AU30*$AU$22+AW30*$AW$22)/(SUM($AG$22:$AW$22)*10)","v":{"$error":"#DIV/0!"}},null,null,"Go to \nToolbox: ",null,{"$f":"HYPERLINK(\"#\"&ADDRESS(MATCH(I30,Toolbox!$C$1:$C$300),1,,,\"Toolbox\"),VLOOKUP(I30,Toolbox!$C$1:$C$300,1,FALSE))","v":"Africa CDC Event Based Surveillance Framework"}]
[]
[]
[]
[]
[]
[null,null,null,null,null,null,null,null,{"$f":"Backbone!A83","v":"ECDC Data quality monitoring and surveillance system evaluation - A handbook of methods and applications "},null,null,null,null,null,null,"A handbook on monitoring the quality of disease surveillance data for public health professionals",null,null,null,null,null,null,null,null,{"$f":"INDEX(Backbone!$R$2:$R$893,MATCH(I36,Backbone!$A$2:$A$893,0))","v":"Guidance document"},null,null,null,{"$f":"INDEX(Backbone!$S$2:$S$893,MATCH(I36,Backbone!$A$2:$A$893,0))","v":"Sector Specific; Generalized"},null,null,null,{"$f":"INDEX(Backbone!$H$2:$H$893,MATCH(I36,Backbone!$A$2:$A$893,0))","v":8.1999999999999993},null,{"$f":"INDEX(Backbone!$I$2:$I$893,MATCH(I36,Backbone!$A$2:$A$893,0))","v":6},null,{"$f":"INDEX(Backbone!$J$2:$J$893,MATCH(I36,Backbone!$A$2:$A$893,0))","v":6.4},null,{"$f":"INDEX(Backbone!$K$1:$K$893,MATCH(I36,Backbone!$A$1:$A$893,0))","v":7.3},null,{"$f":"INDEX(Backbone!$L$2:$L$893,MATCH(I36,Backbone!$A$2:$A$893,0))","v":7.7},null,{"$f":"INDEX(Backbone!$M$2:$M$893,MATCH(I36,Backbone!$A$2:$A$893,0))","v":4.5},null,{"$f":"INDEX(Backbone!$N$2:$N$893,MATCH(I36,Backbone!$A$2:$A$893,0))","v":5.3},null,{"$f":"INDEX(Backbone!$O$2:$O$893,MATCH(I36,Backbone!$A$2:$A$893,0))","v":6.2},null,{"$f":"INDEX(Backbone!$P$2:$P$893,MATCH(I36,Backbone!$A$2:$A$893,0))","v":8},null,{"$f":"INDEX(Backbone!$Q$2:$Q$893,MATCH(I36,Backbone!$A$2:$A$893,0))","v":0.66222222222222227},null,null,{"$f":"(AG36*$AG$22+AI36*$AI$22+AK36*$AK$22+AM36*$AM$22+AO36*$AO$22+AQ36*$AQ$22+AS36*$AS$22+AU36*$AU$22+AW36*$AW$22)/(SUM($AG$22:$AW$22)*10)","v":{"$error":"#DIV/0!"}},null,null,"Go to \nToolbox: ",null,{"$f":"HYPERLINK(\"#\"&ADDRESS(MATCH(I36,Toolbox!$C$1:$C$300),1,,,\"Toolbox\"),VLOOKUP(I36,Toolbox!$C$1:$C$300,1,FALSE))","v":"ECDC Data quality monitoring and surveillance system evaluation - A handbook of methods and applications "}]
[]
[]
[]
[]
[]
[null,null,null,null,null,null,null,null,{"$f":"Backbone!A47","v":"FAO Assessment Tool for Laboratories and Antimicrobial Resistance Surveillance Systems (ATLASS)"},null,null,null,null,null,null,"The FAO Assessment Tool for Laboratories and AMR Surveillance Systems (FAO-ATLASS) improving country capacities for AMR surveillance contributing to a better harmonized and coordinated AMR surveillance at national, regional and global levels .",null,null,null,null,null,null,null,null,{"$f":"INDEX(Backbone!$R$2:$R$893,MATCH(I42,Backbone!$A$2:$A$893,0))","v":"Guided/Facilitated tool or process"},null,null,null,{"$f":"INDEX(Backbone!$S$2:$S$893,MATCH(I42,Backbone!$A$2:$A$893,0))","v":"One Health; Disease/Threat Specific "},null,null,null,{"$f":"INDEX(Backbone!$H$2:$H$893,MATCH(I42,Backbone!$A$2:$A$893,0))","v":7.2},null,{"$f":"INDEX(Backbone!$I$2:$I$893,MATCH(I42,Backbone!$A$2:$A$893,0))","v":10},null,{"$f":"INDEX(Backbone!$J$2:$J$893,MATCH(I42,Backbone!$A$2:$A$893,0))","v":5.6},null,{"$f":"INDEX(Backbone!$K$1:$K$893,MATCH(I42,Backbone!$A$1:$A$893,0))","v":7.3},null,{"$f":"INDEX(Backbone!$L$2:$L$893,MATCH(I42,Backbone!$A$2:$A$893,0))","v":7.3},null,{"$f":"INDEX(Backbone!$M$2:$M$893,MATCH(I42,Backbone!$A$2:$A$893,0))","v":5.2},null,{"$f":"INDEX(Backbone!$N$2:$N$893,MATCH(I42,Backbone!$A$2:$A$893,0))","v":8.6999999999999993},null,{"$f":"INDEX(Backbone!$O$2:$O$893,MATCH(I42,Backbone!$A$2:$A$893,0))","v":5.6},null,{"$f":"INDEX(Backbone!$P$2:$P$893,MATCH(I42,Backbone!$A$2:$A$893,0))","v":7},null,{"$f":"INDEX(Backbone!$Q$2:$Q$893,MATCH(I42,Backbone!$A$2:$A$893,0))","v":0.71},null,null,{"$f":"(AG42*$AG$22+AI42*$AI$22+AK42*$AK$22+AM42*$AM$22+AO42*$AO$22+AQ42*$AQ$22+AS42*$AS$22+AU42*$AU$22+AW42*$AW$22)/(SUM($AG$22:$AW$22)*10)","v":{"$error":"#DIV/0!"}},null,null,"Go to \nToolbox: ",null,{"$f":"HYPERLINK(\"#\"&ADDRESS(MATCH(I42,Toolbox!$C$1:$C$300),1,,,\"Toolbox\"),VLOOKUP(I42,Toolbox!$C$1:$C$300,1,FALSE))","v":"FAO Assessment Tool for Laboratories and Antimicrobial Resistance Surveillance Systems (ATLASS)"}]
[]
[]
[]
[]
[]
[null,null,null,null,null,null,null,null,{"$f":"Backbone!A552","v":"International Health Regulations (‎2005):State Party self-assessment annual reporting tool (SPAR)"},null,null,null,null,null,null,"A reporting tool that supports State Parties of the International Health Regulations (IHR) to fulfil their obligation to report annually to the World Health Assembly (WHA) on the implementation of capacity requirements under IHR.",null,null,null,null,null,null,null,null,{"$f":"INDEX(Backbone!$R$2:$R$893,MATCH(I48,Backbone!$A$2:$A$893,0))","v":"Self-assessment tool"},null,null,null,{"$f":"INDEX(Backbone!$S$2:$S$893,MATCH(I48,Backbone!$A$2:$A$893,0))","v":"One Health; Generalized"},null,null,null,{"$f":"INDEX(Backbone!$H$2:$H$893,MATCH(I48,Backbone!$A$2:$A$893,0))","v":9.9},null,{"$f":"INDEX(Backbone!$I$2:$I$893,MATCH(I48,Backbone!$A$2:$A$893,0))","v":10},null,{"$f":"INDEX(Backbone!$J$2:$J$893,MATCH(I48,Backbone!$A$2:$A$893,0))","v":9.3000000000000007},null,{"$f":"INDEX(Backbone!$K$1:$K$893,MATCH(I48,Backbone!$A$1:$A$893,0))","v":7.3},null,{"$f":"INDEX(Backbone!$L$2:$L$893,MATCH(I48,Backbone!$A$2:$A$893,0))","v":9.4},null,{"$f":"INDEX(Backbone!$M$2:$M$893,MATCH(I48,Backbone!$A$2:$A$893,0))","v":9},null,{"$f":"INDEX(Backbone!$N$2:$N$893,MATCH(I48,Backbone!$A$2:$A$893,0))","v":8.5},null,{"$f":"INDEX(Backbone!$O$2:$O$893,MATCH(I48,Backbone!$A$2:$A$893,0))","v":6.3},null,{"$f":"INDEX(Backbone!$P$2:$P$893,MATCH(I48,Backbone!$A$2:$A$893,0))","v":6.7},null,{"$f":"INDEX(Backbone!$Q$2:$Q$893,MATCH(I48,Backbone!$A$2:$A$893,0))","v":0.84888888888888892},null,null,{"$f":"(AG48*$AG$22+AI48*$AI$22+AK48*$AK$22+AM48*$AM$22+AO48*$AO$22+AQ48*$AQ$22+AS48*$AS$22+AU48*$AU$22+AW48*$AW$22)/(SUM($AG$22:$AW$22)*10)","v":{"$error":"#DIV/0!"}},null,null,"Go to \nToolbox: ",null,{"$f":"HYPERLINK(\"#\"&ADDRESS(MATCH(I48,Toolbox!$C$1:$C$300),1,,,\"Toolbox\"),VLOOKUP(I48,Toolbox!$C$1:$C$300,1,FALSE))","v":"International Health Regulations (‎2005):State Party self-assessment annual reporting tool (SPAR)"}]
[]
[]
[]
[]
[]
[]
[]
[]
[]
[]
[]
[]
[]
[]
[]
[]
[]
[]
[]
[]
[]
[]
[]
[]
[null,null,null,null,null,null,null,null,null,null,null,null,null,null,null,null,null,null,null,null,null,null,null,null,null,null,null,null,null,null,null,null,"Accessibility",null,"Language",null,"Ease of use",null,"Flexibility",null,"Data Needs",null,"Data Analysis",null,"Acceptability",null,"One Health",null,"Impact"]
[]
[]
[]
[]
[]
[]
[null,null,null,null,null,null,null,null,null,null,null,null,null,null,null,null,null,null,null,null,null,null,null,null,null,null,null,null,null,null,null,null,null,null,null,null,null,null,null,null,null,null,null,null,null,null,null,null,null,null,"RAW SCORE",null,null,"ADJUSTED SCORE \n(Based on user preferences)"]
[]
[]
[]
[null,"LEVEL 2 RESOURCES",null,"DESIGNATION",null,null,null,null,"RESOURCE NAME",null,null,null,null,null,null,"SHORT DESCRIPTION",null,null,null,null,null,null,null,null,"RESOURCE TYPE",null,null,null,"RESOURCE GENERALITY"]
[]
[]
[]
[null,null,null,null,null,null,null,null,null,null,null,null,null,null,null,null,null,null,null,null,null,null,null,null,null,null,null,null,null,null,null,null,{"$f":"'Attribute Survey'!S130","v":0},null,{"$f":"'Attribute Survey'!S134","v":0},null,{"$f":"'Attribute Survey'!S138","v":0},null,{"$f":"'Attribute Survey'!S142","v":0},null,{"$f":"'Attribute Survey'!S146","v":0},null,{"$f":"'Attribute Survey'!S150","v":0},null,{"$f":"'Attribute Survey'!S154","v":0},null,{"$f":"'Attribute Survey'!S158","v":0},null,{"$f":"'Attribute Survey'!S162","v":0}]
[null,null,null,"Resources Best Fit For Purpose",null,null,null,null,{"$f":"Backbone!A517","v":"FAO Surveillance Evaluation Tool (SET)"},null,null,null,null,null,null,"Assesses national animal disease surveillance systems using a comprehensive and repeatable methodology",null,null,null,null,null,null,null,null,{"$f":"INDEX(Backbone!$R63:$R954,MATCH(I89,Backbone!$A63:$A954,0))","v":"Guided/Facilitated tool or process"},null,null,null,{"$f":"INDEX(Backbone!$S63:$S954,MATCH(I89,Backbone!$A63:$A954,0))","v":"Sector Specific; Generalized"},null,null,null,{"$f":"INDEX(Backbone!$H63:$H954,MATCH(I89,Backbone!$A63:$A954,0))","v":8.1999999999999993},null,{"$f":"INDEX(Backbone!$I63:$I954,MATCH(I89,Backbone!$A63:$A954,0))","v":8.3000000000000007},null,{"$f":"INDEX(Backbone!$J63:$J954,MATCH(I89,Backbone!$A63:$A954,0))","v":7},null,{"$f":"INDEX(Backbone!$K63:$K954,MATCH(I89,Backbone!$A63:$A954,0))","v":7.7},null,{"$f":"INDEX(Backbone!$L63:$L954,MATCH(I89,Backbone!$A63:$A954,0))","v":6.7},null,{"$f":"INDEX(Backbone!$M63:$M954,MATCH(I89,Backbone!$A63:$A954,0))","v":6.3},null,{"$f":"INDEX(Backbone!$N63:$N954,MATCH(I89,Backbone!$A63:$A954,0))","v":8},null,{"$f":"INDEX(Backbone!$O63:$O954,MATCH(I89,Backbone!$A63:$A954,0))","v":6.8},null,{"$f":"INDEX(Backbone!$P63:$P954,MATCH(I89,Backbone!$A63:$A954,0))","v":8.5},null,{"$f":"INDEX(Backbone!$Q63:$Q954,MATCH(I89,Backbone!$A63:$A954,0))","v":0.75},null,null,{"$f":"(AG89*$AG$22+AI89*$AI$22+AK89*$AK$22+AM89*$AM$22+AO89*$AO$22+AQ89*$AQ$22+AS89*$AS$22+AU89*$AU$22+AW89*$AW$22)/(SUM($AG$22:$AW$22)*10)","v":{"$error":"#DIV/0!"}},null,null,"Go to \nToolbox: ",null,{"$f":"HYPERLINK(\"#\"&ADDRESS(MATCH(I89,Toolbox!$C$1:$C$300),1,,,\"Toolbox\"),VLOOKUP(I89,Toolbox!$C$1:$C$300,1,FALSE))","v":"FAO Surveillance Evaluation Tool (SET)"}]
[]
[]
[]
[]
[]
[]
[null,null,null,"Other Relevant Resources",null,null,null,null,{"$f":"Backbone!A83","v":"ECDC Data quality monitoring and surveillance system evaluation - A handbook of methods and applications "},null,null,null,null,null,null,"A handbook on monitoring the quality of disease surveillance data for public health professionals",null,null,null,null,null,null,null,null,{"$f":"INDEX(Backbone!$R$2:$R$893,MATCH(I96,Backbone!$A$2:$A$893,0))","v":"Guidance document"},null,null,null,{"$f":"INDEX(Backbone!$S$2:$S$893,MATCH(I96,Backbone!$A$2:$A$893,0))","v":"Sector Specific; Generalized"},null,null,null,{"$f":"INDEX(Backbone!$H$2:$H$893,MATCH(I96,Backbone!$A$2:$A$893,0))","v":8.1999999999999993},null,{"$f":"INDEX(Backbone!$I$2:$I$893,MATCH(I96,Backbone!$A$2:$A$893,0))","v":6},null,{"$f":"INDEX(Backbone!$J$2:$J$893,MATCH(I96,Backbone!$A$2:$A$893,0))","v":6.4},null,{"$f":"INDEX(Backbone!$K$1:$K$893,MATCH(I96,Backbone!$A$1:$A$893,0))","v":7.3},null,{"$f":"INDEX(Backbone!$L$2:$L$893,MATCH(I96,Backbone!$A$2:$A$893,0))","v":7.7},null,{"$f":"INDEX(Backbone!$M$2:$M$893,MATCH(I96,Backbone!$A$2:$A$893,0))","v":4.5},null,{"$f":"INDEX(Backbone!$N$2:$N$893,MATCH(I96,Backbone!$A$2:$A$893,0))","v":5.3},null,{"$f":"INDEX(Backbone!$O$2:$O$893,MATCH(I96,Backbone!$A$2:$A$893,0))","v":6.2},null,{"$f":"INDEX(Backbone!$P$2:$P$893,MATCH(I96,Backbone!$A$2:$A$893,0))","v":8},null,{"$f":"INDEX(Backbone!$Q$2:$Q$893,MATCH(I96,Backbone!$A$2:$A$893,0))","v":0.66222222222222227},null,null,{"$f":"(AG96*$AG$22+AI96*$AI$22+AK96*$AK$22+AM96*$AM$22+AO96*$AO$22+AQ96*$AQ$22+AS96*$AS$22+AU96*$AU$22+AW96*$AW$22)/(SUM($AG$22:$AW$22)*10)","v":{"$error":"#DIV/0!"}},null,null,"Go to \nToolbox: ",null,{"$f":"HYPERLINK(\"#\"&ADDRESS(MATCH(I96,Toolbox!$C$1:$C$300),1,,,\"Toolbox\"),VLOOKUP(I96,Toolbox!$C$1:$C$300,1,FALSE))","v":"ECDC Data quality monitoring and surveillance system evaluation - A handbook of methods and applications "}]
[]
[]
[]
[]
[]
[null,null,null,null,null,null,null,null,{"$f":"Backbone!A47","v":"FAO Assessment Tool for Laboratories and Antimicrobial Resistance Surveillance Systems (ATLASS)"},null,null,null,null,null,null,"The FAO Assessment Tool for Laboratories and AMR Surveillance Systems (FAO-ATLASS) improving country capacities for AMR surveillance contributing to a better harmonized and coordinated AMR surveillance at national, regional and global levels .",null,null,null,null,null,null,null,null,{"$f":"INDEX(Backbone!$R$2:$R$893,MATCH(I102,Backbone!$A$2:$A$893,0))","v":"Guided/Facilitated tool or process"},null,null,null,{"$f":"INDEX(Backbone!$S$2:$S$893,MATCH(I102,Backbone!$A$2:$A$893,0))","v":"One Health; Disease/Threat Specific "},null,null,null,{"$f":"INDEX(Backbone!$H$2:$H$893,MATCH(I102,Backbone!$A$2:$A$893,0))","v":7.2},null,{"$f":"INDEX(Backbone!$I$2:$I$893,MATCH(I102,Backbone!$A$2:$A$893,0))","v":10},null,{"$f":"INDEX(Backbone!$J$2:$J$893,MATCH(I102,Backbone!$A$2:$A$893,0))","v":5.6},null,{"$f":"INDEX(Backbone!$K$1:$K$893,MATCH(I102,Backbone!$A$1:$A$893,0))","v":7.3},null,{"$f":"INDEX(Backbone!$L$2:$L$893,MATCH(I102,Backbone!$A$2:$A$893,0))","v":7.3},null,{"$f":"INDEX(Backbone!$M$2:$M$893,MATCH(I102,Backbone!$A$2:$A$893,0))","v":5.2},null,{"$f":"INDEX(Backbone!$N$2:$N$893,MATCH(I102,Backbone!$A$2:$A$893,0))","v":8.6999999999999993},null,{"$f":"INDEX(Backbone!$O$2:$O$893,MATCH(I102,Backbone!$A$2:$A$893,0))","v":5.6},null,{"$f":"INDEX(Backbone!$P$2:$P$893,MATCH(I102,Backbone!$A$2:$A$893,0))","v":7},null,{"$f":"INDEX(Backbone!$Q$2:$Q$893,MATCH(I102,Backbone!$A$2:$A$893,0))","v":0.71},null,null,{"$f":"(AG102*$AG$22+AI102*$AI$22+AK102*$AK$22+AM102*$AM$22+AO102*$AO$22+AQ102*$AQ$22+AS102*$AS$22+AU102*$AU$22+AW102*$AW$22)/(SUM($AG$22:$AW$22)*10)","v":{"$error":"#DIV/0!"}},null,null,"Go to \nToolbox: ",null,{"$f":"HYPERLINK(\"#\"&ADDRESS(MATCH(I102,Toolbox!$C$1:$C$300),1,,,\"Toolbox\"),VLOOKUP(I102,Toolbox!$C$1:$C$300,1,FALSE))","v":"FAO Assessment Tool for Laboratories and Antimicrobial Resistance Surveillance Systems (ATLASS)"}]
[]
[]
[]
[]
[]
[null,null,null,null,null,null,null,null,{"$f":"Backbone!A552","v":"International Health Regulations (‎2005):State Party self-assessment annual reporting tool (SPAR)"},null,null,null,null,null,null,"A reporting tool that supports State Parties of the International Health Regulations (IHR) to fulfil their obligation to report annually to the World Health Assembly (WHA) on the implementation of capacity requirements under IHR.",null,null,null,null,null,null,null,null,{"$f":"INDEX(Backbone!$R$2:$R$893,MATCH(I108,Backbone!$A$2:$A$893,0))","v":"Self-assessment tool"},null,null,null,{"$f":"INDEX(Backbone!$S$2:$S$893,MATCH(I108,Backbone!$A$2:$A$893,0))","v":"One Health; Generalized"},null,null,null,{"$f":"INDEX(Backbone!$H$2:$H$893,MATCH(I108,Backbone!$A$2:$A$893,0))","v":9.9},null,{"$f":"INDEX(Backbone!$I$2:$I$893,MATCH(I108,Backbone!$A$2:$A$893,0))","v":10},null,{"$f":"INDEX(Backbone!$J$2:$J$893,MATCH(I108,Backbone!$A$2:$A$893,0))","v":9.3000000000000007},null,{"$f":"INDEX(Backbone!$K$1:$K$893,MATCH(I108,Backbone!$A$1:$A$893,0))","v":7.3},null,{"$f":"INDEX(Backbone!$L$2:$L$893,MATCH(I108,Backbone!$A$2:$A$893,0))","v":9.4},null,{"$f":"INDEX(Backbone!$M$2:$M$893,MATCH(I108,Backbone!$A$2:$A$893,0))","v":9},null,{"$f":"INDEX(Backbone!$N$2:$N$893,MATCH(I108,Backbone!$A$2:$A$893,0))","v":8.5},null,{"$f":"INDEX(Backbone!$O$2:$O$893,MATCH(I108,Backbone!$A$2:$A$893,0))","v":6.3},null,{"$f":"INDEX(Backbone!$P$2:$P$893,MATCH(I108,Backbone!$A$2:$A$893,0))","v":6.7},null,{"$f":"INDEX(Backbone!$Q$2:$Q$893,MATCH(I108,Backbone!$A$2:$A$893,0))","v":0.84888888888888892},null,null,{"$f":"(AG108*$AG$22+AI108*$AI$22+AK108*$AK$22+AM108*$AM$22+AO108*$AO$22+AQ108*$AQ$22+AS108*$AS$22+AU108*$AU$22+AW108*$AW$22)/(SUM($AG$22:$AW$22)*10)","v":{"$error":"#DIV/0!"}},null,null,"Go to \nToolbox: ",null,{"$f":"HYPERLINK(\"#\"&ADDRESS(MATCH(I108,Toolbox!$C$1:$C$300),1,,,\"Toolbox\"),VLOOKUP(I108,Toolbox!$C$1:$C$300,1,FALSE))","v":"International Health Regulations (‎2005):State Party self-assessment annual reporting tool (SPAR)"}]
[]
[]
[]
[]
[]
[]
[]
[]
[]
[]
[]
[]
[]
[]
[]
[]
[]
[]
[]
[]
[]
[]
[null,null,null,null,null,null,null,null,null,null,null,null,null,null,null,null,null,null,null,null,null,null,null,null,null,null,null,null,null,null,null,null,"Accessibility",null,"Language",null,"Ease of use",null,"Flexibility",null,"Data Needs",null,"Data Analysis",null,"Acceptability",null,"One Health",null,"Impact"]
[]
[]
[]
[]
[]
[]
[null,null,null,null,null,null,null,null,null,null,null,null,null,null,null,null,null,null,null,null,null,null,null,null,null,null,null,null,null,null,null,null,null,null,null,null,null,null,null,null,null,null,null,null,null,null,null,null,null,null,"RAW SCORE",null,null,"ADJUSTED SCORE \n(Based on user preferences)"]
[]
[]
[]
[null,"LEVEL 3  RESOURCES",null,"DESIGNATION",null,null,null,null,"RESOURCE NAME",null,null,null,null,null,null,"SHORT DESCRIPTION",null,null,null,null,null,null,null,null,"RESOURCE TYPE",null,null,null,"RESOURCE GENERALITY"]
[]
[]
[]
[null,null,null,null,null,null,null,null,null,null,null,null,null,null,null,null,null,null,null,null,null,null,null,null,null,null,null,null,null,null,null,null,{"$f":"'Attribute Survey'!S231","v":0},null,{"$f":"'Attribute Survey'!S235","v":0},null,{"$f":"'Attribute Survey'!S239","v":0},null,{"$f":"'Attribute Survey'!S243","v":0},null,{"$f":"'Attribute Survey'!S247","v":0},null,{"$f":"'Attribute Survey'!S251","v":0},null,{"$f":"'Attribute Survey'!S255","v":0},null,{"$f":"'Attribute Survey'!S259","v":0},null,{"$f":"'Attribute Survey'!S263","v":0}]
[null,null,null,"Resources Best Fit For Purpose"]
[null,null,null,null,null,null,null,null,{"$f":"Backbone!A517","v":"FAO Surveillance Evaluation Tool (SET)"},null,null,null,null,null,null,"Assesses national animal disease surveillance systems using a comprehensive and repeatable methodology",null,null,null,null,null,null,null,null,{"$f":"INDEX(Backbone!$R$2:$R$893,MATCH(I148,Backbone!$A$2:$A$893,0))","v":"Guided/Facilitated tool or process"},null,null,null,{"$f":"INDEX(Backbone!$S$2:$S$893,MATCH(I148,Backbone!$A$2:$A$893,0))","v":"Sector Specific; Generalized"},null,null,null,{"$f":"INDEX(Backbone!$H$2:$H$893,MATCH(I148,Backbone!$A$2:$A$893,0))","v":8.1999999999999993},null,{"$f":"INDEX(Backbone!$I$2:$I$893,MATCH(I148,Backbone!$A$2:$A$893,0))","v":8.3000000000000007},null,{"$f":"INDEX(Backbone!$J$2:$J$893,MATCH(I148,Backbone!$A$2:$A$893,0))","v":7},null,{"$f":"INDEX(Backbone!$K$1:$K$893,MATCH(I148,Backbone!$A$1:$A$893,0))","v":7.7},null,{"$f":"INDEX(Backbone!$L$2:$L$893,MATCH(I148,Backbone!$A$2:$A$893,0))","v":6.7},null,{"$f":"INDEX(Backbone!$M$2:$M$893,MATCH(I148,Backbone!$A$2:$A$893,0))","v":6.3},null,{"$f":"INDEX(Backbone!$N$2:$N$893,MATCH(I148,Backbone!$A$2:$A$893,0))","v":8},null,{"$f":"INDEX(Backbone!$O$2:$O$893,MATCH(I148,Backbone!$A$2:$A$893,0))","v":6.8},null,{"$f":"INDEX(Backbone!$P$2:$P$893,MATCH(I148,Backbone!$A$2:$A$893,0))","v":8.5},null,{"$f":"INDEX(Backbone!$Q$2:$Q$893,MATCH(I148,Backbone!$A$2:$A$893,0))","v":0.75},null,null,{"$f":"(AG148*$AG$22+AI148*$AI$22+AK148*$AK$22+AM148*$AM$22+AO148*$AO$22+AQ148*$AQ$22+AS148*$AS$22+AU148*$AU$22+AW148*$AW$22)/(SUM($AG$22:$AW$22)*10)","v":{"$error":"#DIV/0!"}},null,null,"Go to \nToolbox: ",null,{"$f":"HYPERLINK(\"#\"&ADDRESS(MATCH(I148,Toolbox!$C$1:$C$300),1,,,\"Toolbox\"),VLOOKUP(I148,Toolbox!$C$1:$C$300,1,FALSE))","v":"FAO Surveillance Evaluation Tool (SET)"}]
[]
[]
[]
[]
[]
[]
[null,null,null,"Other Relevant Resources",null,null,null,null,{"$f":"Backbone!A83","v":"ECDC Data quality monitoring and surveillance system evaluation - A handbook of methods and applications "},null,null,null,null,null,null,"A handbook on monitoring the quality of disease surveillance data for public health professionals",null,null,null,null,null,null,null,null,{"$f":"INDEX(Backbone!$R$2:$R$893,MATCH(I155,Backbone!$A$2:$A$893,0))","v":"Guidance document"},null,null,null,{"$f":"INDEX(Backbone!$S$2:$S$893,MATCH(I155,Backbone!$A$2:$A$893,0))","v":"Sector Specific; Generalized"},null,null,null,{"$f":"INDEX(Backbone!$H$2:$H$893,MATCH(I155,Backbone!$A$2:$A$893,0))","v":8.1999999999999993},null,{"$f":"INDEX(Backbone!$I$2:$I$893,MATCH(I155,Backbone!$A$2:$A$893,0))","v":6},null,{"$f":"INDEX(Backbone!$J$2:$J$893,MATCH(I155,Backbone!$A$2:$A$893,0))","v":6.4},null,{"$f":"INDEX(Backbone!$K$1:$K$893,MATCH(I155,Backbone!$A$1:$A$893,0))","v":7.3},null,{"$f":"INDEX(Backbone!$L$2:$L$893,MATCH(I155,Backbone!$A$2:$A$893,0))","v":7.7},null,{"$f":"INDEX(Backbone!$M$2:$M$893,MATCH(I155,Backbone!$A$2:$A$893,0))","v":4.5},null,{"$f":"INDEX(Backbone!$N$2:$N$893,MATCH(I155,Backbone!$A$2:$A$893,0))","v":5.3},null,{"$f":"INDEX(Backbone!$O$2:$O$893,MATCH(I155,Backbone!$A$2:$A$893,0))","v":6.2},null,{"$f":"INDEX(Backbone!$P$2:$P$893,MATCH(I155,Backbone!$A$2:$A$893,0))","v":8},null,{"$f":"INDEX(Backbone!$Q$2:$Q$893,MATCH(I155,Backbone!$A$2:$A$893,0))","v":0.66222222222222227},null,null,{"$f":"(AG155*$AG$22+AI155*$AI$22+AK155*$AK$22+AM155*$AM$22+AO155*$AO$22+AQ155*$AQ$22+AS155*$AS$22+AU155*$AU$22+AW155*$AW$22)/(SUM($AG$22:$AW$22)*10)","v":{"$error":"#DIV/0!"}},null,null,"Go to \nToolbox: ",null,{"$f":"HYPERLINK(\"#\"&ADDRESS(MATCH(I155,Toolbox!$C$1:$C$300),1,,,\"Toolbox\"),VLOOKUP(I155,Toolbox!$C$1:$C$300,1,FALSE))","v":"ECDC Data quality monitoring and surveillance system evaluation - A handbook of methods and applications "}]
[]
[]
[]
[]
[]
[null,null,null,null,null,null,null,null,{"$f":"Backbone!A47","v":"FAO Assessment Tool for Laboratories and Antimicrobial Resistance Surveillance Systems (ATLASS)"},null,null,null,null,null,null,"The FAO Assessment Tool for Laboratories and AMR Surveillance Systems (FAO-ATLASS) improving country capacities for AMR surveillance contributing to a better harmonized and coordinated AMR surveillance at national, regional and global levels .",null,null,null,null,null,null,null,null,{"$f":"INDEX(Backbone!$R$2:$R$893,MATCH(I161,Backbone!$A$2:$A$893,0))","v":"Guided/Facilitated tool or process"},null,null,null,{"$f":"INDEX(Backbone!$S$2:$S$893,MATCH(I161,Backbone!$A$2:$A$893,0))","v":"One Health; Disease/Threat Specific "},null,null,null,{"$f":"INDEX(Backbone!$H$2:$H$893,MATCH(I161,Backbone!$A$2:$A$893,0))","v":7.2},null,{"$f":"INDEX(Backbone!$I$2:$I$893,MATCH(I161,Backbone!$A$2:$A$893,0))","v":10},null,{"$f":"INDEX(Backbone!$J$2:$J$893,MATCH(I161,Backbone!$A$2:$A$893,0))","v":5.6},null,{"$f":"INDEX(Backbone!$K$1:$K$893,MATCH(I161,Backbone!$A$1:$A$893,0))","v":7.3},null,{"$f":"INDEX(Backbone!$L$2:$L$893,MATCH(I161,Backbone!$A$2:$A$893,0))","v":7.3},null,{"$f":"INDEX(Backbone!$M$2:$M$893,MATCH(I161,Backbone!$A$2:$A$893,0))","v":5.2},null,{"$f":"INDEX(Backbone!$N$2:$N$893,MATCH(I161,Backbone!$A$2:$A$893,0))","v":8.6999999999999993},null,{"$f":"INDEX(Backbone!$O$2:$O$893,MATCH(I161,Backbone!$A$2:$A$893,0))","v":5.6},null,{"$f":"INDEX(Backbone!$P$2:$P$893,MATCH(I161,Backbone!$A$2:$A$893,0))","v":7},null,{"$f":"INDEX(Backbone!$Q$2:$Q$893,MATCH(I161,Backbone!$A$2:$A$893,0))","v":0.71},null,null,{"$f":"(AG161*$AG$22+AI161*$AI$22+AK161*$AK$22+AM161*$AM$22+AO161*$AO$22+AQ161*$AQ$22+AS161*$AS$22+AU161*$AU$22+AW161*$AW$22)/(SUM($AG$22:$AW$22)*10)","v":{"$error":"#DIV/0!"}},null,null,"Go to \nToolbox: ",null,{"$f":"HYPERLINK(\"#\"&ADDRESS(MATCH(I161,Toolbox!$C$1:$C$300),1,,,\"Toolbox\"),VLOOKUP(I161,Toolbox!$C$1:$C$300,1,FALSE))","v":"FAO Assessment Tool for Laboratories and Antimicrobial Resistance Surveillance Systems (ATLASS)"}]
[]
[]
[]
[]
[]
[null,null,null,null,null,null,null,null,{"$f":"Backbone!A552","v":"International Health Regulations (‎2005):State Party self-assessment annual reporting tool (SPAR)"},null,null,null,null,null,null,"A reporting tool that supports State Parties of the International Health Regulations (IHR) to fulfil their obligation to report annually to the World Health Assembly (WHA) on the implementation of capacity requirements under IHR",null,null,null,null,null,null,null,null,{"$f":"INDEX(Backbone!$R$2:$R$893,MATCH(I167,Backbone!$A$2:$A$893,0))","v":"Self-assessment tool"},null,null,null,{"$f":"INDEX(Backbone!$S$2:$S$893,MATCH(I167,Backbone!$A$2:$A$893,0))","v":"One Health; Generalized"},null,null,null,{"$f":"INDEX(Backbone!$H$2:$H$893,MATCH(I167,Backbone!$A$2:$A$893,0))","v":9.9},null,{"$f":"INDEX(Backbone!$I$2:$I$893,MATCH(I167,Backbone!$A$2:$A$893,0))","v":10},null,{"$f":"INDEX(Backbone!$J$2:$J$893,MATCH(I167,Backbone!$A$2:$A$893,0))","v":9.3000000000000007},null,{"$f":"INDEX(Backbone!$K$1:$K$893,MATCH(I167,Backbone!$A$1:$A$893,0))","v":7.3},null,{"$f":"INDEX(Backbone!$L$2:$L$893,MATCH(I167,Backbone!$A$2:$A$893,0))","v":9.4},null,{"$f":"INDEX(Backbone!$M$2:$M$893,MATCH(I167,Backbone!$A$2:$A$893,0))","v":9},null,{"$f":"INDEX(Backbone!$N$2:$N$893,MATCH(I167,Backbone!$A$2:$A$893,0))","v":8.5},null,{"$f":"INDEX(Backbone!$O$2:$O$893,MATCH(I167,Backbone!$A$2:$A$893,0))","v":6.3},null,{"$f":"INDEX(Backbone!$P$2:$P$893,MATCH(I167,Backbone!$A$2:$A$893,0))","v":6.7},null,{"$f":"INDEX(Backbone!$Q$2:$Q$893,MATCH(I167,Backbone!$A$2:$A$893,0))","v":0.84888888888888892},null,null,{"$f":"(AG167*$AG$22+AI167*$AI$22+AK167*$AK$22+AM167*$AM$22+AO167*$AO$22+AQ167*$AQ$22+AS167*$AS$22+AU167*$AU$22+AW167*$AW$22)/(SUM($AG$22:$AW$22)*10)","v":{"$error":"#DIV/0!"}},null,null,"Go to \nToolbox: ",null,{"$f":"HYPERLINK(\"#\"&ADDRESS(MATCH(I167,Toolbox!$C$1:$C$300),1,,,\"Toolbox\"),VLOOKUP(I167,Toolbox!$C$1:$C$300,1,FALSE))","v":"International Health Regulations (‎2005):State Party self-assessment annual reporting tool (SPAR)"}]

{"sheet":"A3_tools","index":32,"n_rows":72,"n_cols":59,"rows_kept":72,"cut":false,"hidden":false,"merged":[[47,58,51,62],[53,56,57,57],[53,58,57,62],[59,56,63,57],[59,58,63,62],[65,56,69,57],[65,58,69,62],[71,56,75,57],[71,58,75,62],[22,58,26,62],[1,1,3,62],[28,56,32,57],[28,58,32,62],[35,56,39,57],[35,58,39,62],[41,56,45,57],[41,58,45,62],[35,3,75,6],[22,3,32,6],[17,1,75,1],[71,40,75,40],[71,42,75,42],[71,44,75,44],[71,46,75,46],[71,48,75,48],[71,50,75,51],[65,44,69,44],[65,46,69,46],[65,48,69,48],[65,50,69,51],[71,8,75,13],[71,15,75,22],[47,56,51,57],[71,28,75,30],[71,32,75,32],[65,8,69,13],[65,15,69,22],[65,24,69,26],[65,28,69,30],[65,32,69,32],[65,34,69,34],[22,56,26,57],[28,53,32,54],[53,8,57,13],[53,15,57,22],[53,24,57,26],[53,28,57,30],[53,32,57,32],[53,34,57,34],[53,36,57,36],[28,36,32,36],[28,38,32,38],[28,40,32,40],[28,42,32,42],[28,44,32,44],[28,46,32,46],[28,8,32,13],[47,8,51,13],[47,15,51,22],[47,24,51,26],[47,28,51,30],[47,32,51,32],[47,34,51,34],[47,36,51,36],[47,38,51,38],[47,40,51,40],[59,8,63,13],[59,15,63,22],[59,24,63,26],[59,28,63,30],[59,32,63,32],[59,34,63,34],[59,36,63,36],[71,53,75,54],[65,53,69,54],[59,53,63,54],[59,46,63,46],[59,48,63,48],[59,50,63,51],[71,34,75,34],[71,36,75,36],[71,38,75,38],[65,36,69,36],[65,38,69,38],[65,40,69,40],[59,40,63,40],[59,42,63,42],[59,44,63,44],[65,42,69,42],[71,24,75,26],[59,38,63,38],[41,40,45,40],[41,42,45,42],[41,44,45,44],[41,46,45,46],[41,48,45,48],[41,50,45,51],[53,38,57,38],[53,50,57,51],[47,42,51,42],[47,44,51,44],[47,46,51,46],[47,48,51,48],[47,50,51,51],[41,38,45,38],[53,53,57,54],[53,40,57,40],[53,42,57,42],[53,44,57,44],[53,46,57,46],[53,48,57,48],[41,53,45,54],[47,53,51,54],[35,53,39,54],[35,8,39,13],[35,15,39,22],[35,24,39,26],[35,28,39,30],[35,32,39,32],[35,34,39,34],[35,36,39,36],[41,24,45,26],[41,28,45,30],[41,32,45,32],[41,34,45,34],[41,36,45,36],[41,8,45,13],[41,15,45,22],[22,15,26,22],[22,24,26,26],[22,28,26,30],[22,32,26,32],[22,34,26,34],[22,36,26,36],[13,50,20,51],[35,50,39,51],[28,48,32,48],[28,50,32,51],[35,44,39,44],[35,46,39,46],[35,48,39,48],[28,15,32,22],[28,24,32,26],[28,28,32,30],[28,32,32,32],[28,34,32,34],[35,38,39,38],[35,40,39,40],[35,42,39,42],[13,53,20,54],[17,3,20,6],[17,8,20,13],[17,15,20,22],[17,24,20,26],[17,28,20,30],[22,8,26,13],[6,32,20,32],[6,34,20,34],[6,36,20,36],[6,38,20,38],[6,40,20,40],[6,42,20,42],[6,44,20,44],[6,46,20,46],[6,48,20,48],[22,50,26,51],[22,53,26,54],[22,42,26,42],[22,44,26,44],[22,46,26,46],[22,48,26,48],[22,38,26,38],[22,40,26,40]]}
[]
[null,"Legal Frameworks Assessment Resources"]
[]
[]
[]
[]
[null,null,null,null,null,null,null,null,null,null,null,null,null,null,null,null,null,null,null,null,null,null,null,null,null,null,null,null,null,null,null,null,"Accessibility",null,"Language",null,"Ease of use",null,"Flexibility",null,"Data Needs",null,"Data Analysis",null,"Acceptability",null,"One Health",null,"Impact"]
[]
[]
[]
[]
[]
[]
[null,null,null,null,null,null,null,null,null,null,null,null,null,null,null,null,null,null,null,null,null,null,null,null,null,null,null,null,null,null,null,null,null,null,null,null,null,null,null,null,null,null,null,null,null,null,null,null,null,null,"RAW SCORE",null,null,"ADJUSTED SCORE \n(Based on user preferences)"]
[]
[]
[]
[null,"LEVEL 1 RESOURCES",null,"DESIGNATION",null,null,null,null,"RESOURCE NAME",null,null,null,null,null,null,"SHORT DESCRIPTION",null,null,null,null,null,null,null,null,"RESOURCE TYPE",null,null,null,"RESOURCE GENERALITY"]
[]
[]
[]
[null,null,null,null,null,null,null,null,null,null,null,null,null,null,null,null,null,null,null,null,null,null,null,null,null,null,null,null,null,null,null,null,{"$f":"'Attribute Survey'!S22","v":0},null,{"$f":"'Attribute Survey'!S26","v":0},null,{"$f":"'Attribute Survey'!S30","v":0},null,{"$f":"'Attribute Survey'!S34","v":0},null,{"$f":"'Attribute Survey'!S38","v":0},null,{"$f":"'Attribute Survey'!S42","v":0},null,{"$f":"'Attribute Survey'!S46","v":0},null,{"$f":"'Attribute Survey'!S50","v":0},null,{"$f":"'Attribute Survey'!S54","v":0}]
[null,null,null,"Resources Best Fit For Purpose",null,null,null,null,{"$f":"Backbone!A100","v":"Evaluation of Collaboration in a multisectoral Surveillance system (EcoSur)"},null,null,null,null,null,null,"\nA tool that aims to evaluate the organization and functioning of collaboration in a multisectoral surveillance system and to analyse strengths and weaknesses of this collaboration.\n",null,null,null,null,null,null,null,null,{"$f":"INDEX(Backbone!$R2:$R893,MATCH(I23,Backbone!$A2:$A893,0))","v":"Guided/Facilitated tool or process"},null,null,null,{"$f":"INDEX(Backbone!$S2:$S893,MATCH(I23,Backbone!$A2:$A893,0))","v":"One Health; Generalized"},null,null,null,{"$f":"INDEX(Backbone!$H2:$H893,MATCH(I23,Backbone!$A2:$A893,0))","v":8.3000000000000007},null,{"$f":"INDEX(Backbone!$I2:$I893,MATCH(I23,Backbone!$A2:$A893,0))","v":6},null,{"$f":"INDEX(Backbone!$J2:$J893,MATCH(I23,Backbone!$A2:$A893,0))","v":8.5},null,{"$f":"INDEX(Backbone!$K2:$K893,MATCH(I23,Backbone!$A2:$A893,0))","v":7.8},null,{"$f":"INDEX(Backbone!$L2:$L893,MATCH(I23,Backbone!$A2:$A893,0))","v":8.3000000000000007},null,{"$f":"INDEX(Backbone!$M2:$M893,MATCH(I23,Backbone!$A2:$A893,0))","v":6.7},null,{"$f":"INDEX(Backbone!$N2:$N893,MATCH(I23,Backbone!$A2:$A893,0))","v":3.3},null,{"$f":"INDEX(Backbone!$O2:$O893,MATCH(I23,Backbone!$A2:$A893,0))","v":9.1},null,{"$f":"INDEX(Backbone!$P2:$P893,MATCH(I23,Backbone!$A2:$A893,0))","v":4.7},null,{"$f":"INDEX(Backbone!$Q2:$Q893,MATCH(I23,Backbone!$A2:$A893,0))","v":0.69666666666666677},null,null,{"$f":"(AG23*$AG$22+AI23*$AI$22+AK23*$AK$22+AM23*$AM$22+AO23*$AO$22+AQ23*$AQ$22+AS23*$AS$22+AU23*$AU$22+AW23*$AW$22)/(SUM($AG$22:$AW$22)*10)","v":{"$error":"#DIV/0!"}},null,null,"Go to \nToolbox: ",null,{"$f":"HYPERLINK(\"#\"&ADDRESS(MATCH(I23,Toolbox!$C$1:$C$300),1,,,\"Toolbox\"),VLOOKUP(I23,Toolbox!$C$1:$C$300,1,FALSE))","v":"Evaluation of Collaboration in a multisectoral Surveillance system (EcoSur)"}]
[]
[]
[]
[]
[]
[null,null,null,null,null,null,null,null,{"$f":"Backbone!A437","v":"Policy Field Analysis (PFA)"},null,null,null,null,null,null,"A specialized stakeholder mapping that allows to visualize the system of organizations as they interact for a given policy issue.\n\n",null,null,null,null,null,null,null,null,{"$f":"INDEX(Backbone!$R7:$R898,MATCH(I29,Backbone!$A7:$A898,0))","v":"Guidance document"},null,null,null,{"$f":"INDEX(Backbone!$S7:$S898,MATCH(I29,Backbone!$A7:$A898,0))","v":"One Health; Generalized"},null,null,null,{"$f":"INDEX(Backbone!$H7:$H898,MATCH(I29,Backbone!$A7:$A898,0))","v":7.8},null,{"$f":"INDEX(Backbone!$I7:$I898,MATCH(I29,Backbone!$A7:$A898,0))","v":8},null,{"$f":"INDEX(Backbone!$J7:$J898,MATCH(I29,Backbone!$A7:$A898,0))","v":9.8000000000000007},null,{"$f":"INDEX(Backbone!$K7:$K898,MATCH(I29,Backbone!$A7:$A898,0))","v":10},null,{"$f":"INDEX(Backbone!$L7:$L898,MATCH(I29,Backbone!$A7:$A898,0))","v":7.1},null,{"$f":"INDEX(Backbone!$M7:$M898,MATCH(I29,Backbone!$A7:$A898,0))","v":4},null,{"$f":"INDEX(Backbone!$N7:$N898,MATCH(I29,Backbone!$A7:$A898,0))","v":7},null,{"$f":"INDEX(Backbone!$O7:$O898,MATCH(I29,Backbone!$A7:$A898,0))","v":8.8000000000000007},null,{"$f":"INDEX(Backbone!$P7:$P898,MATCH(I29,Backbone!$A7:$A898,0))","v":5},null,{"$f":"INDEX(Backbone!$Q7:$Q898,MATCH(I29,Backbone!$A7:$A898,0))","v":0.75},null,null,{"$f":"(AG29*$AG$22+AI29*$AI$22+AK29*$AK$22+AM29*$AM$22+AO29*$AO$22+AQ29*$AQ$22+AS29*$AS$22+AU29*$AU$22+AW29*$AW$22)/(SUM($AG$22:$AW$22)*10)","v":{"$error":"#DIV/0!"}},null,null,"Go to \nToolbox: ",null,{"$f":"HYPERLINK(\"#\"&ADDRESS(MATCH(I29,Toolbox!$C$1:$C$300),1,,,\"Toolbox\"),VLOOKUP(I29,Toolbox!$C$1:$C$300,1,FALSE))","v":"Policy Field Analysis (PFA)"}]
[]
[]
[]
[]
[]
[]
[null,null,null,"Other Relevant Resources",null,null,null,null,{"$f":"Backbone!A575","v":"Antimicrobial resistance: a manual for developing national action plans"},null,null,null,null,null,null,"The manual for developing national action plans to address Antimicrobial Resistance.",null,null,null,null,null,null,null,null,{"$f":"INDEX(Backbone!$R$2:$R$893,MATCH(I36,Backbone!$A$2:$A$893,0))","v":"Guidance document"},null,null,null,{"$f":"INDEX(Backbone!$S$2:$S$893,MATCH(I36,Backbone!$A$2:$A$893,0))","v":"One Health; Disease/Threat Specific "},null,null,null,{"$f":"INDEX(Backbone!$H$2:$H$893,MATCH(I36,Backbone!$A$2:$A$893,0))","v":10},null,{"$f":"INDEX(Backbone!$I$2:$I$893,MATCH(I36,Backbone!$A$2:$A$893,0))","v":6},null,{"$f":"INDEX(Backbone!$J$2:$J$893,MATCH(I36,Backbone!$A$2:$A$893,0))","v":6.6},null,{"$f":"INDEX(Backbone!$K$1:$K$893,MATCH(I36,Backbone!$A$1:$A$893,0))","v":8.6999999999999993},null,{"$f":"INDEX(Backbone!$L$2:$L$893,MATCH(I36,Backbone!$A$2:$A$893,0))","v":8},null,{"$f":"INDEX(Backbone!$M$2:$M$893,MATCH(I36,Backbone!$A$2:$A$893,0))","v":3.8},null,{"$f":"INDEX(Backbone!$N$2:$N$893,MATCH(I36,Backbone!$A$2:$A$893,0))","v":4.5},null,{"$f":"INDEX(Backbone!$O$2:$O$893,MATCH(I36,Backbone!$A$2:$A$893,0))","v":9},null,{"$f":"INDEX(Backbone!$P$2:$P$893,MATCH(I36,Backbone!$A$2:$A$893,0))","v":10},null,{"$f":"INDEX(Backbone!$Q$2:$Q$893,MATCH(I36,Backbone!$A$2:$A$893,0))","v":0.74},null,null,{"$f":"(AG36*$AG$22+AI36*$AI$22+AK36*$AK$22+AM36*$AM$22+AO36*$AO$22+AQ36*$AQ$22+AS36*$AS$22+AU36*$AU$22+AW36*$AW$22)/(SUM($AG$22:$AW$22)*10)","v":{"$error":"#DIV/0!"}},null,null,"Go to \nToolbox: ",null,{"$f":"HYPERLINK(\"#\"&ADDRESS(MATCH(I36,Toolbox!$C$1:$C$300),1,,,\"Toolbox\"),VLOOKUP(I36,Toolbox!$C$1:$C$300,1,FALSE))","v":"Antimicrobial resistance: a manual for developing national action plans"}]
[]
[]
[]
[]
[]
[null,null,null,null,null,null,null,null,{"$f":"Backbone!A634","v":"Governance Manual Toolkit"},null,null,null,null,null,null,"A toolkit that provides an overview of how to develop a governance manual for a One Health platform.",null,null,null,null,null,null,null,null,{"$f":"INDEX(Backbone!$R$2:$R$893,MATCH(I42,Backbone!$A$2:$A$893,0))","v":"Guidance document"},null,null,null,{"$f":"INDEX(Backbone!$S$2:$S$893,MATCH(I42,Backbone!$A$2:$A$893,0))","v":"One Health; Generalized"},null,null,null,{"$f":"INDEX(Backbone!$H$2:$H$893,MATCH(I42,Backbone!$A$2:$A$893,0))","v":8.4},null,{"$f":"INDEX(Backbone!$I$2:$I$893,MATCH(I42,Backbone!$A$2:$A$893,0))","v":8},null,{"$f":"INDEX(Backbone!$J$2:$J$893,MATCH(I42,Backbone!$A$2:$A$893,0))","v":8.4},null,{"$f":"INDEX(Backbone!$K$1:$K$893,MATCH(I42,Backbone!$A$1:$A$893,0))","v":6.7},null,{"$f":"INDEX(Backbone!$L$2:$L$893,MATCH(I42,Backbone!$A$2:$A$893,0))","v":2},null,{"$f":"INDEX(Backbone!$M$2:$M$893,MATCH(I42,Backbone!$A$2:$A$893,0))","v":3.5},null,{"$f":"INDEX(Backbone!$N$2:$N$893,MATCH(I42,Backbone!$A$2:$A$893,0))","v":4},null,{"$f":"INDEX(Backbone!$O$2:$O$893,MATCH(I42,Backbone!$A$2:$A$893,0))","v":6.4},null,{"$f":"INDEX(Backbone!$P$2:$P$893,MATCH(I42,Backbone!$A$2:$A$893,0))","v":8},null,{"$f":"INDEX(Backbone!$Q$2:$Q$893,MATCH(I42,Backbone!$A$2:$A$893,0))","v":0.61555555555555552},null,null,{"$f":"(AG42*$AG$22+AI42*$AI$22+AK42*$AK$22+AM42*$AM$22+AO42*$AO$22+AQ42*$AQ$22+AS42*$AS$22+AU42*$AU$22+AW42*$AW$22)/(SUM($AG$22:$AW$22)*10)","v":{"$error":"#DIV/0!"}},null,null,"Go to \nToolbox: ",null,{"$f":"HYPERLINK(\"#\"&ADDRESS(MATCH(I42,Toolbox!$C$1:$C$300),1,,,\"Toolbox\"),VLOOKUP(I42,Toolbox!$C$1:$C$300,1,FALSE))","v":"Governance Manual Toolkit"}]
[]
[]
[]
[]
[]
[null,null,null,null,null,null,null,null,{"$f":"Backbone!A346","v":"The National Public Health Performance Standards Program (NPHPSP): Local Public Health System Performance Assessment Instrument (version 2)"},null,null,null,null,null,null,"A performance assessment instrument to strengthen and improve the public health system based on the framework of the ten Essential Public Health Services.",null,null,null,null,null,null,null,null,{"$f":"INDEX(Backbone!$R$2:$R$893,MATCH(I48,Backbone!$A$2:$A$893,0))","v":"Guidance document"},null,null,null,{"$f":"INDEX(Backbone!$S$2:$S$893,MATCH(I48,Backbone!$A$2:$A$893,0))","v":"Sector Specific; Generalized"},null,null,null,{"$f":"INDEX(Backbone!$H$2:$H$893,MATCH(I48,Backbone!$A$2:$A$893,0))","v":8.4},null,{"$f":"INDEX(Backbone!$I$2:$I$893,MATCH(I48,Backbone!$A$2:$A$893,0))","v":10},null,{"$f":"INDEX(Backbone!$J$2:$J$893,MATCH(I48,Backbone!$A$2:$A$893,0))","v":9.6},null,{"$f":"INDEX(Backbone!$K$1:$K$893,MATCH(I48,Backbone!$A$1:$A$893,0))","v":8.6999999999999993},null,{"$f":"INDEX(Backbone!$L$2:$L$893,MATCH(I48,Backbone!$A$2:$A$893,0))","v":10},null,{"$f":"INDEX(Backbone!$M$2:$M$893,MATCH(I48,Backbone!$A$2:$A$893,0))","v":6},null,{"$f":"INDEX(Backbone!$N$2:$N$893,MATCH(I48,Backbone!$A$2:$A$893,0))","v":5},null,{"$f":"INDEX(Backbone!$O$2:$O$893,MATCH(I48,Backbone!$A$2:$A$893,0))","v":4},null,{"$f":"INDEX(Backbone!$P$2:$P$893,MATCH(I48,Backbone!$A$2:$A$893,0))","v":6},null,{"$f":"INDEX(Backbone!$Q$2:$Q$893,MATCH(I48,Backbone!$A$2:$A$893,0))","v":0.75222222222222224},null,null,{"$f":"(AG48*$AG$22+AI48*$AI$22+AK48*$AK$22+AM48*$AM$22+AO48*$AO$22+AQ48*$AQ$22+AS48*$AS$22+AU48*$AU$22+AW48*$AW$22)/(SUM($AG$22:$AW$22)*10)","v":{"$error":"#DIV/0!"}},null,null,"Go to \nToolbox: ",null,{"$f":"HYPERLINK(\"#\"&ADDRESS(MATCH(I48,Toolbox!$C$1:$C$300),1,,,\"Toolbox\"),VLOOKUP(I48,Toolbox!$C$1:$C$300,1,FALSE))","v":"The National Public Health Performance Standards Program (NPHPSP): Local Public Health System Performance Assessment Instrument (version 2)"}]
[]
[]
[]
[]
[]
[null,null,null,null,null,null,null,null,{"$f":"Backbone!A291","v":"Methodology to analyse AMR-relevant legislation in the food and agriculture sector"},null,null,null,null,null,null,"A methodology designed to guide the analyses of national legislation relevant for AMR in the food and agriculture sectors.",null,null,null,null,null,null,null,null,{"$f":"INDEX(Backbone!$R$2:$R$893,MATCH(I54,Backbone!$A$2:$A$893,0))","v":"Guidance document"},null,null,null,{"$f":"INDEX(Backbone!$S$2:$S$893,MATCH(I54,Backbone!$A$2:$A$893,0))","v":"One Health; Generalized"},null,null,null,{"$f":"INDEX(Backbone!$H$2:$H$893,MATCH(I54,Backbone!$A$2:$A$893,0))","v":7.4},null,{"$f":"INDEX(Backbone!$I$2:$I$893,MATCH(I54,Backbone!$A$2:$A$893,0))","v":5.5},null,{"$f":"INDEX(Backbone!$J$2:$J$893,MATCH(I54,Backbone!$A$2:$A$893,0))","v":7.6},null,{"$f":"INDEX(Backbone!$K$1:$K$893,MATCH(I54,Backbone!$A$1:$A$893,0))","v":4},null,{"$f":"INDEX(Backbone!$L$2:$L$893,MATCH(I54,Backbone!$A$2:$A$893,0))","v":8.1999999999999993},null,{"$f":"INDEX(Backbone!$M$2:$M$893,MATCH(I54,Backbone!$A$2:$A$893,0))","v":4.5},null,{"$f":"INDEX(Backbone!$N$2:$N$893,MATCH(I54,Backbone!$A$2:$A$893,0))","v":4.5},null,{"$f":"INDEX(Backbone!$O$2:$O$893,MATCH(I54,Backbone!$A$2:$A$893,0))","v":6.6},null,{"$f":"INDEX(Backbone!$P$2:$P$893,MATCH(I54,Backbone!$A$2:$A$893,0))","v":4.5},null,{"$f":"INDEX(Backbone!$Q$2:$Q$893,MATCH(I54,Backbone!$A$2:$A$893,0))","v":0.58666666666666667},null,null,{"$f":"(AG54*$AG$22+AI54*$AI$22+AK54*$AK$22+AM54*$AM$22+AO54*$AO$22+AQ54*$AQ$22+AS54*$AS$22+AU54*$AU$22+AW54*$AW$22)/(SUM($AG$22:$AW$22)*10)","v":{"$error":"#DIV/0!"}},null,null,"Go to \nToolbox: ",null,{"$f":"HYPERLINK(\"#\"&ADDRESS(MATCH(I54,Toolbox!$C$1:$C$300),1,,,\"Toolbox\"),VLOOKUP(I54,Toolbox!$C$1:$C$300,1,FALSE))","v":"Methodology to analyse AMR-relevant legislation in the food and agriculture sector"}]
[]
[]
[]
[]
[]
[null,null,null,null,null,null,null,null,{"$f":"Backbone!A400","v":"One Health Surveillance Readiness and Requirements Tool (OHSRRT)"},null,null,null,null,null,null,"A readiness and requirements assessment tool used to determine country readiness and gather requirements to develop a One Health surveillance system based on critical success factors. ",null,null,null,null,null,null,null,null,{"$f":"INDEX(Backbone!$R$2:$R$893,MATCH(I60,Backbone!$A$2:$A$893,0))","v":"Self-assessment tool"},null,null,null,{"$f":"INDEX(Backbone!$S$2:$S$893,MATCH(I60,Backbone!$A$2:$A$893,0))","v":"One Health; Generalized"},null,null,null,{"$f":"INDEX(Backbone!$H$2:$H$893,MATCH(I60,Backbone!$A$2:$A$893,0))","v":8},null,{"$f":"INDEX(Backbone!$I$2:$I$893,MATCH(I60,Backbone!$A$2:$A$893,0))","v":6},null,{"$f":"INDEX(Backbone!$J$2:$J$893,MATCH(I60,Backbone!$A$2:$A$893,0))","v":7.4},null,{"$f":"INDEX(Backbone!$K$1:$K$893,MATCH(I60,Backbone!$A$1:$A$893,0))","v":8.6999999999999993},null,{"$f":"INDEX(Backbone!$L$2:$L$893,MATCH(I60,Backbone!$A$2:$A$893,0))","v":6},null,{"$f":"INDEX(Backbone!$M$2:$M$893,MATCH(I60,Backbone!$A$2:$A$893,0))","v":2.5},null,{"$f":"INDEX(Backbone!$N$2:$N$893,MATCH(I60,Backbone!$A$2:$A$893,0))","v":2},null,{"$f":"INDEX(Backbone!$O$2:$O$893,MATCH(I60,Backbone!$A$2:$A$893,0))","v":9.6},null,{"$f":"INDEX(Backbone!$P$2:$P$893,MATCH(I60,Backbone!$A$2:$A$893,0))","v":5.5},null,{"$f":"INDEX(Backbone!$Q$2:$Q$893,MATCH(I60,Backbone!$A$2:$A$893,0))","v":0.61888888888888882},null,null,{"$f":"(AG60*$AG$22+AI60*$AI$22+AK60*$AK$22+AM60*$AM$22+AO60*$AO$22+AQ60*$AQ$22+AS60*$AS$22+AU60*$AU$22+AW60*$AW$22)/(SUM($AG$22:$AW$22)*10)","v":{"$error":"#DIV/0!"}},null,null,"Go to \nToolbox: ",null,{"$f":"HYPERLINK(\"#\"&ADDRESS(MATCH(I60,Toolbox!$C$1:$C$300),1,,,\"Toolbox\"),VLOOKUP(I60,Toolbox!$C$1:$C$300,1,FALSE))","v":"One Health Surveillance Readiness and Requirements Tool (OHSRRT)"}]
[]
[]
[]
[]
[]
[null,null,null,null,null,null,null,null,{"$f":"Backbone!A557","v":"Staged Tool for the Elimination of Brucellosis (STEB)"},null,null,null,null,null,null,"A spreadsheet-based self-assessment tool developed to assist countries in evaluating their current capacity to prevent, control and eliminate brucellosis.",null,null,null,null,null,null,null,null,{"$f":"INDEX(Backbone!$R$2:$R$893,MATCH(I66,Backbone!$A$2:$A$893,0))","v":"Guided/Facilitated tool or process"},null,null,null,{"$f":"INDEX(Backbone!$S$2:$S$893,MATCH(I66,Backbone!$A$2:$A$893,0))","v":"One Health; Disease/Threat Specific "},null,null,null,{"$f":"INDEX(Backbone!$H$2:$H$893,MATCH(I66,Backbone!$A$2:$A$893,0))","v":9},null,{"$f":"INDEX(Backbone!$I$2:$I$893,MATCH(I66,Backbone!$A$2:$A$893,0))","v":10},null,{"$f":"INDEX(Backbone!$J$2:$J$893,MATCH(I66,Backbone!$A$2:$A$893,0))","v":7.6},null,{"$f":"INDEX(Backbone!$K$1:$K$893,MATCH(I66,Backbone!$A$1:$A$893,0))","v":3.7},null,{"$f":"INDEX(Backbone!$L$2:$L$893,MATCH(I66,Backbone!$A$2:$A$893,0))","v":5.7},null,{"$f":"INDEX(Backbone!$M$2:$M$893,MATCH(I66,Backbone!$A$2:$A$893,0))","v":7.3},null,{"$f":"INDEX(Backbone!$N$2:$N$893,MATCH(I66,Backbone!$A$2:$A$893,0))","v":7},null,{"$f":"INDEX(Backbone!$O$2:$O$893,MATCH(I66,Backbone!$A$2:$A$893,0))","v":8.6},null,{"$f":"INDEX(Backbone!$P$2:$P$893,MATCH(I66,Backbone!$A$2:$A$893,0))","v":8},null,{"$f":"INDEX(Backbone!$Q$2:$Q$893,MATCH(I66,Backbone!$A$2:$A$893,0))","v":0.7433333333333334},null,null,{"$f":"(AG66*$AG$22+AI66*$AI$22+AK66*$AK$22+AM66*$AM$22+AO66*$AO$22+AQ66*$AQ$22+AS66*$AS$22+AU66*$AU$22+AW66*$AW$22)/(SUM($AG$22:$AW$22)*10)","v":{"$error":"#DIV/0!"}},null,null,"Go to \nToolbox: ",null,{"$f":"HYPERLINK(\"#\"&ADDRESS(MATCH(I66,Toolbox!$C$1:$C$300),1,,,\"Toolbox\"),VLOOKUP(I66,Toolbox!$C$1:$C$300,1,FALSE))","v":"Staged Tool for the Elimination of Brucellosis (STEB)"}]
[]
[]
[]
[]
[]
[null,null,null,null,null,null,null,null,{"$f":"Backbone!A453","v":"Stepwise Approach towards Rabies Elimination (SARE)"},null,null,null,null,null,null,"A practical planning, monitoring and evaluation tool to guide, develop and refine rabies control programmes.",null,null,null,null,null,null,null,null,{"$f":"INDEX(Backbone!$R$2:$R$893,MATCH(I72,Backbone!$A$2:$A$893,0))","v":"Self-assessment tool"},null,null,null,{"$f":"INDEX(Backbone!$S$2:$S$893,MATCH(I72,Backbone!$A$2:$A$893,0))","v":"One Health; Disease/Threat Specific "},null,null,null,{"$f":"INDEX(Backbone!$H$2:$H$893,MATCH(I72,Backbone!$A$2:$A$893,0))","v":8},null,{"$f":"INDEX(Backbone!$I$2:$I$893,MATCH(I72,Backbone!$A$2:$A$893,0))","v":9},null,{"$f":"INDEX(Backbone!$J$2:$J$893,MATCH(I72,Backbone!$A$2:$A$893,0))","v":6.6},null,{"$f":"INDEX(Backbone!$K$1:$K$893,MATCH(I72,Backbone!$A$1:$A$893,0))","v":3.3},null,{"$f":"INDEX(Backbone!$L$2:$L$893,MATCH(I72,Backbone!$A$2:$A$893,0))","v":5.7},null,{"$f":"INDEX(Backbone!$M$2:$M$893,MATCH(I72,Backbone!$A$2:$A$893,0))","v":6.8},null,{"$f":"INDEX(Backbone!$N$2:$N$893,MATCH(I72,Backbone!$A$2:$A$893,0))","v":8},null,{"$f":"INDEX(Backbone!$O$2:$O$893,MATCH(I72,Backbone!$A$2:$A$893,0))","v":8.6},null,{"$f":"INDEX(Backbone!$P$2:$P$893,MATCH(I72,Backbone!$A$2:$A$893,0))","v":9.5},null,{"$f":"INDEX(Backbone!$Q$2:$Q$893,MATCH(I72,Backbone!$A$2:$A$893,0))","v":0.72777777777777775},null,null,{"$f":"(AG72*$AG$22+AI72*$AI$22+AK72*$AK$22+AM72*$AM$22+AO72*$AO$22+AQ72*$AQ$22+AS72*$AS$22+AU72*$AU$22+AW72*$AW$22)/(SUM($AG$22:$AW$22)*10)","v":{"$error":"#DIV/0!"}},null,null,"Go to \nToolbox: ",null,{"$f":"HYPERLINK(\"#\"&ADDRESS(MATCH(I72,Toolbox!$C$1:$C$300),1,,,\"Toolbox\"),VLOOKUP(I72,Toolbox!$C$1:$C$300,1,FALSE))","v":"Stepwise Approach towards Rabies Elimination (SARE)"}]

{"sheet":"A7_tools","index":33,"n_rows":131,"n_cols":59,"rows_kept":131,"cut":false,"hidden":false,"merged":[[1,1,3,62],[83,56,87,57],[83,58,87,62],[89,56,93,57],[89,58,93,62],[95,56,99,57],[95,58,99,62],[130,56,134,57],[130,58,134,62],[53,56,57,57],[53,58,57,62],[59,56,63,57],[59,58,63,62],[65,56,69,57],[65,58,69,62],[71,56,75,57],[71,58,75,62],[77,56,81,57],[77,58,81,62],[22,56,26,57],[22,58,26,62],[28,56,32,57],[28,58,32,62],[35,56,39,57],[35,58,39,62],[41,56,45,57],[41,58,45,62],[47,56,51,57],[47,58,51,62],[35,3,99,6],[117,1,144,1],[17,1,99,1],[95,48,99,48],[95,50,99,51],[95,53,99,54],[89,50,93,51],[89,53,93,54],[95,8,99,13],[95,15,99,22],[95,24,99,26],[95,28,99,30],[95,32,99,32],[95,34,99,34],[95,36,99,36],[95,38,99,38],[89,34,93,34],[89,36,93,36],[89,38,93,38],[89,40,93,40],[89,42,93,42],[89,44,93,44],[83,44,87,44],[83,46,87,46],[83,15,87,22],[83,24,87,26],[83,28,87,30],[83,32,87,32],[83,34,87,34],[77,32,81,32],[77,34,81,34],[77,36,81,36],[77,38,81,38],[83,36,87,36],[83,38,87,38],[83,40,87,40],[83,42,87,42],[77,44,81,44],[71,46,75,46],[71,48,75,48],[71,50,75,51],[71,53,75,54],[71,36,75,36],[71,38,75,38],[71,40,75,40],[71,42,75,42],[71,44,75,44],[83,48,87,48],[83,50,87,51],[83,53,87,54],[77,46,81,46],[77,48,81,48],[77,50,81,51],[77,53,81,54],[77,40,81,40],[77,42,81,42],[130,50,134,51],[130,53,134,54],[130,32,134,32],[130,34,134,34],[130,36,134,36],[130,38,134,38],[130,40,134,40],[130,42,134,42],[89,48,93,48],[121,50,128,51],[121,53,128,54],[95,40,99,40],[95,42,99,42],[95,44,99,44],[95,46,99,46],[89,46,93,46],[89,32,93,32],[114,44,128,44],[114,46,128,46],[114,48,128,48],[130,44,134,44],[130,46,134,46],[130,48,134,48],[114,42,128,42],[125,3,128,6],[125,8,128,13],[125,15,128,22],[125,24,128,26],[114,32,128,32],[114,34,128,34],[114,36,128,36],[114,38,128,38],[114,40,128,40],[125,28,128,30],[59,24,63,26],[59,28,63,30],[59,32,63,32],[59,34,63,34],[130,3,134,6],[130,8,134,13],[130,15,134,22],[130,24,134,26],[130,28,134,30],[77,8,81,13],[77,15,81,22],[77,24,81,26],[77,28,81,30],[71,8,75,13],[71,15,75,22],[71,24,75,26],[71,28,75,30],[71,32,75,32],[71,34,75,34],[89,8,93,13],[89,15,93,22],[89,24,93,26],[89,28,93,30],[83,8,87,13],[65,42,69,42],[65,44,69,44],[65,46,69,46],[65,48,69,48],[65,50,69,51],[65,53,69,54],[59,53,63,54],[65,8,69,13],[65,15,69,22],[65,24,69,26],[65,28,69,30],[65,32,69,32],[65,34,69,34],[65,36,69,36],[65,38,69,38],[65,40,69,40],[59,40,63,40],[59,42,63,42],[59,44,63,44],[59,46,63,46],[59,48,63,48],[59,50,63,51],[59,8,63,13],[59,15,63,22],[59,36,63,36],[59,38,63,38],[53,38,57,38],[47,48,51,48],[47,50,51,51],[47,53,51,54],[53,8,57,13],[53,15,57,22],[53,24,57,26],[53,28,57,30],[53,32,57,32],[53,34,57,34],[53,36,57,36],[47,36,51,36],[47,38,51,38],[47,40,51,40],[47,42,51,42],[47,44,51,44],[47,46,51,46],[47,8,51,13],[47,15,51,22],[47,24,51,26],[47,28,51,30],[47,32,51,32],[47,34,51,34],[53,50,57,51],[53,53,57,54],[41,42,45,42],[41,44,45,44],[41,46,45,46],[41,48,45,48],[41,50,45,51],[41,53,45,54],[53,40,57,40],[53,42,57,42],[53,44,57,44],[53,46,57,46],[53,48,57,48],[41,8,45,13],[41,15,45,22],[41,24,45,26],[41,28,45,30],[41,32,45,32],[41,34,45,34],[41,36,45,36],[41,38,45,38],[41,40,45,40],[28,53,32,54],[35,8,39,13],[35,15,39,22],[35,24,39,26],[35,28,39,30],[35,32,39,32],[35,34,39,34],[35,36,39,36],[35,38,39,38],[28,40,32,40],[28,42,32,42],[28,44,32,44],[28,46,32,46],[28,48,32,48],[28,50,32,51],[35,53,39,54],[35,40,39,40],[35,42,39,42],[35,44,39,44],[35,46,39,46],[35,48,39,48],[35,50,39,51],[22,3,32,6],[22,8,26,13],[22,50,26,51],[22,53,26,54],[28,8,32,13],[28,15,32,22],[28,24,32,26],[28,28,32,30],[28,32,32,32],[28,34,32,34],[28,36,32,36],[28,38,32,38],[22,38,26,38],[22,40,26,40],[22,42,26,42],[22,44,26,44],[22,46,26,46],[22,48,26,48],[22,15,26,22],[22,24,26,26],[22,28,26,30],[22,32,26,32],[22,34,26,34],[22,36,26,36],[13,50,20,51],[13,53,20,54],[17,3,20,6],[17,8,20,13],[17,15,20,22],[17,24,20,26],[17,28,20,30],[6,32,20,32],[6,34,20,34],[6,36,20,36],[6,38,20,38],[6,40,20,40],[6,42,20,42],[6,44,20,44],[6,46,20,46],[6,48,20,48]]}
[]
[null,"Infrastructure Mapping Resources"]
[]
[]
[]
[]
[null,null,null,null,null,null,null,null,null,null,null,null,null,null,null,null,null,null,null,null,null,null,null,null,null,null,null,null,null,null,null,null,"Accessibility",null,"Language",null,"Ease of use",null,"Flexibility",null,"Data Needs",null,"Data Analysis",null,"Acceptability",null,"One Health",null,"Impact"]
[]
[]
[]
[]
[]
[]
[null,null,null,null,null,null,null,null,null,null,null,null,null,null,null,null,null,null,null,null,null,null,null,null,null,null,null,null,null,null,null,null,null,null,null,null,null,null,null,null,null,null,null,null,null,null,null,null,null,null,"RAW SCORE",null,null,"ADJUSTED SCORE \n(Based on user preferences)"]
[]
[]
[]
[null,"LEVEL 1 RESOURCES",null,"DESIGNATION",null,null,null,null,"RESOURCE NAME",null,null,null,null,null,null,"SHORT DESCRIPTION",null,null,null,null,null,null,null,null,"RESOURCE TYPE",null,null,null,"RESOURCE GENERALITY"]
[]
[]
[]
[null,null,null,null,null,null,null,null,null,null,null,null,null,null,null,null,null,null,null,null,null,null,null,null,null,null,null,null,null,null,null,null,{"$f":"'Attribute Survey'!S22","v":0},null,{"$f":"'Attribute Survey'!S26","v":0},null,{"$f":"'Attribute Survey'!S30","v":0},null,{"$f":"'Attribute Survey'!S34","v":0},null,{"$f":"'Attribute Survey'!S38","v":0},null,{"$f":"'Attribute Survey'!S42","v":0},null,{"$f":"'Attribute Survey'!S46","v":0},null,{"$f":"'Attribute Survey'!S50","v":0},null,{"$f":"'Attribute Survey'!S54","v":0}]
[null,null,null,"Resources Best Fit For Purpose",null,null,null,null,{"$f":"Backbone!A367","v":"The One Health Systems Assessment for Priority Zoonoses (OH-SAPZ)"},null,null,null,null,null,null,"The tool is aimed to facilitate a systematic assessment of national structures for One Health coordination with respect to preventing, detecting, and responding to zoonotic diseases.",null,null,null,null,null,null,null,null,{"$f":"INDEX(Backbone!$R2:$R893,MATCH(I23,Backbone!$A2:$A893,0))","v":"Self-assessment tool"},null,null,null,{"$f":"INDEX(Backbone!$S2:$S893,MATCH(I23,Backbone!$A2:$A893,0))","v":"One Health; Generalized"},null,null,null,{"$f":"INDEX(Backbone!$H2:$H893,MATCH(I23,Backbone!$A2:$A893,0))","v":7.9},null,{"$f":"INDEX(Backbone!$I2:$I893,MATCH(I23,Backbone!$A2:$A893,0))","v":7.3},null,{"$f":"INDEX(Backbone!$J2:$J893,MATCH(I23,Backbone!$A2:$A893,0))","v":7.2},null,{"$f":"INDEX(Backbone!$K2:$K893,MATCH(I23,Backbone!$A2:$A893,0))","v":7.8},null,{"$f":"INDEX(Backbone!$L2:$L893,MATCH(I23,Backbone!$A2:$A893,0))","v":6.5},null,{"$f":"INDEX(Backbone!$M2:$M893,MATCH(I23,Backbone!$A2:$A893,0))","v":5.2},null,{"$f":"INDEX(Backbone!$N2:$N893,MATCH(I23,Backbone!$A2:$A893,0))","v":4},null,{"$f":"INDEX(Backbone!$O2:$O893,MATCH(I23,Backbone!$A2:$A893,0))","v":8.3000000000000007},null,{"$f":"INDEX(Backbone!$P2:$P893,MATCH(I23,Backbone!$A2:$A893,0))","v":9.6999999999999993},null,{"$f":"INDEX(Backbone!$Q2:$Q893,MATCH(I23,Backbone!$A2:$A893,0))","v":0.71000000000000008},null,null,{"$f":"(AG23*$AG$22+AI23*$AI$22+AK23*$AK$22+AM23*$AM$22+AO23*$AO$22+AQ23*$AQ$22+AS23*$AS$22+AU23*$AU$22+AW23*$AW$22)/(SUM($AG$22:$AW$22)*10)","v":{"$error":"#DIV/0!"}},null,null,"Go to \nToolbox: ",null,{"$f":"HYPERLINK(\"#\"&ADDRESS(MATCH(I23,Toolbox!$C$1:$C$300),1,,,\"Toolbox\"),VLOOKUP(I23,Toolbox!$C$1:$C$300,1,FALSE))","v":"The One Health Systems Assessment for Priority Zoonoses (OH-SAPZ)"}]
[]
[]
[]
[]
[]
[null,null,null,null,null,null,null,null,{"$f":"Backbone!A383","v":"One Health Systems Mapping and Analysis Resource Toolkit (OH-SMART)"},null,null,null,null,null,null,"A six-step process that supports stakeholders from multiple sectors to map, analyze and improve any existing system that requires interdisciplinary and multisectoral collaboration.",null,null,null,null,null,null,null,null,{"$f":"INDEX(Backbone!$R7:$R898,MATCH(I29,Backbone!$A7:$A898,0))","v":"Guided/Facilitated tool or process"},null,null,null,{"$f":"INDEX(Backbone!$S7:$S898,MATCH(I29,Backbone!$A7:$A898,0))","v":"One Health; Generalized"},null,null,null,{"$f":"INDEX(Backbone!$H7:$H898,MATCH(I29,Backbone!$A7:$A898,0))","v":8.6999999999999993},null,{"$f":"INDEX(Backbone!$I7:$I898,MATCH(I29,Backbone!$A7:$A898,0))","v":7.3},null,{"$f":"INDEX(Backbone!$J7:$J898,MATCH(I29,Backbone!$A7:$A898,0))","v":8.4},null,{"$f":"INDEX(Backbone!$K7:$K898,MATCH(I29,Backbone!$A7:$A898,0))","v":9.3000000000000007},null,{"$f":"INDEX(Backbone!$L7:$L898,MATCH(I29,Backbone!$A7:$A898,0))","v":8.1999999999999993},null,{"$f":"INDEX(Backbone!$M7:$M898,MATCH(I29,Backbone!$A7:$A898,0))","v":7.4},null,{"$f":"INDEX(Backbone!$N7:$N898,MATCH(I29,Backbone!$A7:$A898,0))","v":9.5},null,{"$f":"INDEX(Backbone!$O7:$O898,MATCH(I29,Backbone!$A7:$A898,0))","v":10},null,{"$f":"INDEX(Backbone!$P7:$P898,MATCH(I29,Backbone!$A7:$A898,0))","v":10},null,{"$f":"INDEX(Backbone!$Q7:$Q898,MATCH(I29,Backbone!$A7:$A898,0))","v":0.87555555555555564},null,null,{"$f":"(AG29*$AG$22+AI29*$AI$22+AK29*$AK$22+AM29*$AM$22+AO29*$AO$22+AQ29*$AQ$22+AS29*$AS$22+AU29*$AU$22+AW29*$AW$22)/(SUM($AG$22:$AW$22)*10)","v":{"$error":"#DIV/0!"}},null,null,"Go to \nToolbox: ",null,{"$f":"HYPERLINK(\"#\"&ADDRESS(MATCH(I29,Toolbox!$C$1:$C$300),1,,,\"Toolbox\"),VLOOKUP(I29,Toolbox!$C$1:$C$300,1,FALSE))","v":"One Health Systems Mapping and Analysis Resource Toolkit (OH-SMART)"}]
[]
[]
[]
[]
[]
[]
[null,null,null,"Other Relevant Resources",null,null,null,null,{"$f":"Backbone!A38","v":"APHL Laboratory Informatics Assessment Tool"},null,null,null,null,null,null,"A tool to gather baseline information from laboratories to record data flow, work flow, infrastructure, workforce and training, equipment available, data management including recording and reporting of data.",null,null,null,null,null,null,null,null,{"$f":"INDEX(Backbone!$R$2:$R$893,MATCH(I36,Backbone!$A$2:$A$893,0))","v":"Guided/Facilitated tool or process"},null,null,null,{"$f":"INDEX(Backbone!$S$2:$S$893,MATCH(I36,Backbone!$A$2:$A$893,0))","v":"Sector Specific; Generalized"},null,null,null,{"$f":"INDEX(Backbone!$H$2:$H$893,MATCH(I36,Backbone!$A$2:$A$893,0))","v":8.4},null,{"$f":"INDEX(Backbone!$I$2:$I$893,MATCH(I36,Backbone!$A$2:$A$893,0))","v":6},null,{"$f":"INDEX(Backbone!$J$2:$J$893,MATCH(I36,Backbone!$A$2:$A$893,0))","v":8},null,{"$f":"INDEX(Backbone!$K$1:$K$893,MATCH(I36,Backbone!$A$1:$A$893,0))","v":10},null,{"$f":"INDEX(Backbone!$L$2:$L$893,MATCH(I36,Backbone!$A$2:$A$893,0))","v":6},null,{"$f":"INDEX(Backbone!$M$2:$M$893,MATCH(I36,Backbone!$A$2:$A$893,0))","v":4.5},null,{"$f":"INDEX(Backbone!$N$2:$N$893,MATCH(I36,Backbone!$A$2:$A$893,0))","v":2},null,{"$f":"INDEX(Backbone!$O$2:$O$893,MATCH(I36,Backbone!$A$2:$A$893,0))","v":2.8},null,{"$f":"INDEX(Backbone!$P$2:$P$893,MATCH(I36,Backbone!$A$2:$A$893,0))","v":6},null,{"$f":"INDEX(Backbone!$Q$2:$Q$893,MATCH(I36,Backbone!$A$2:$A$893,0))","v":0.59666666666666657},null,null,{"$f":"(AG36*$AG$22+AI36*$AI$22+AK36*$AK$22+AM36*$AM$22+AO36*$AO$22+AQ36*$AQ$22+AS36*$AS$22+AU36*$AU$22+AW36*$AW$22)/(SUM($AG$22:$AW$22)*10)","v":{"$error":"#DIV/0!"}},null,null,"Go to \nToolbox: ",null,{"$f":"HYPERLINK(\"#\"&ADDRESS(MATCH(I36,Toolbox!$C$1:$C$300),1,,,\"Toolbox\"),VLOOKUP(I36,Toolbox!$C$1:$C$300,1,FALSE))","v":"APHL Laboratory Informatics Assessment Tool"}]
[]
[]
[]
[]
[]
[null,null,null,null,null,null,null,null,{"$f":"Backbone!A42","v":"APHL Informatics  Self-Assessment Tool"},null,null,null,null,null,null,"A tool that allows public health laboratories to assess strengths and gaps in informatics capability by addressing 19 critical operational areas.",null,null,null,null,null,null,null,null,{"$f":"INDEX(Backbone!$R$2:$R$893,MATCH(I42,Backbone!$A$2:$A$893,0))","v":"Guidance document"},null,null,null,{"$f":"INDEX(Backbone!$S$2:$S$893,MATCH(I42,Backbone!$A$2:$A$893,0))","v":"Sector Specific; Generalized"},null,null,null,{"$f":"INDEX(Backbone!$H$2:$H$893,MATCH(I42,Backbone!$A$2:$A$893,0))","v":9.1},null,{"$f":"INDEX(Backbone!$I$2:$I$893,MATCH(I42,Backbone!$A$2:$A$893,0))","v":6.7},null,{"$f":"INDEX(Backbone!$J$2:$J$893,MATCH(I42,Backbone!$A$2:$A$893,0))","v":8.3000000000000007},null,{"$f":"INDEX(Backbone!$K$1:$K$893,MATCH(I42,Backbone!$A$1:$A$893,0))","v":8.4},null,{"$f":"INDEX(Backbone!$L$2:$L$893,MATCH(I42,Backbone!$A$2:$A$893,0))","v":8.1},null,{"$f":"INDEX(Backbone!$M$2:$M$893,MATCH(I42,Backbone!$A$2:$A$893,0))","v":8.5},null,{"$f":"INDEX(Backbone!$N$2:$N$893,MATCH(I42,Backbone!$A$2:$A$893,0))","v":5},null,{"$f":"INDEX(Backbone!$O$2:$O$893,MATCH(I42,Backbone!$A$2:$A$893,0))","v":6.1},null,{"$f":"INDEX(Backbone!$P$2:$P$893,MATCH(I42,Backbone!$A$2:$A$893,0))","v":4.3},null,{"$f":"INDEX(Backbone!$Q$2:$Q$893,MATCH(I42,Backbone!$A$2:$A$893,0))","v":0.71666666666666667},null,null,{"$f":"(AG42*$AG$22+AI42*$AI$22+AK42*$AK$22+AM42*$AM$22+AO42*$AO$22+AQ42*$AQ$22+AS42*$AS$22+AU42*$AU$22+AW42*$AW$22)/(SUM($AG$22:$AW$22)*10)","v":{"$error":"#DIV/0!"}},null,null,"Go to \nToolbox: ",null,{"$f":"HYPERLINK(\"#\"&ADDRESS(MATCH(I42,Toolbox!$C$1:$C$300),1,,,\"Toolbox\"),VLOOKUP(I42,Toolbox!$C$1:$C$300,1,FALSE))","v":"APHL Informatics  Self-Assessment Tool"}]
[]
[]
[]
[]
[]
[null,null,null,null,null,null,null,null,{"$f":"Backbone!A100","v":"Evaluation of Collaboration in a multisectoral Surveillance system (EcoSur)"},null,null,null,null,null,null,"A tool that aims to evaluate the organization and functioning of collaboration in a multisectoral surveillance system and to analyse strengths and weaknesses of this collaboration.",null,null,null,null,null,null,null,null,{"$f":"INDEX(Backbone!$R$2:$R$893,MATCH(I48,Backbone!$A$2:$A$893,0))","v":"Guided/Facilitated tool or process"},null,null,null,{"$f":"INDEX(Backbone!$S$2:$S$893,MATCH(I48,Backbone!$A$2:$A$893,0))","v":"One Health; Generalized"},null,null,null,{"$f":"INDEX(Backbone!$H$2:$H$893,MATCH(I48,Backbone!$A$2:$A$893,0))","v":8.3000000000000007},null,{"$f":"INDEX(Backbone!$I$2:$I$893,MATCH(I48,Backbone!$A$2:$A$893,0))","v":6},null,{"$f":"INDEX(Backbone!$J$2:$J$893,MATCH(I48,Backbone!$A$2:$A$893,0))","v":8.5},null,{"$f":"INDEX(Backbone!$K$1:$K$893,MATCH(I48,Backbone!$A$1:$A$893,0))","v":7.8},null,{"$f":"INDEX(Backbone!$L$2:$L$893,MATCH(I48,Backbone!$A$2:$A$893,0))","v":8.3000000000000007},null,{"$f":"INDEX(Backbone!$M$2:$M$893,MATCH(I48,Backbone!$A$2:$A$893,0))","v":6.7},null,{"$f":"INDEX(Backbone!$N$2:$N$893,MATCH(I48,Backbone!$A$2:$A$893,0))","v":3.3},null,{"$f":"INDEX(Backbone!$O$2:$O$893,MATCH(I48,Backbone!$A$2:$A$893,0))","v":9.1},null,{"$f":"INDEX(Backbone!$P$2:$P$893,MATCH(I48,Backbone!$A$2:$A$893,0))","v":4.7},null,{"$f":"INDEX(Backbone!$Q$2:$Q$893,MATCH(I48,Backbone!$A$2:$A$893,0))","v":0.69666666666666677},null,null,{"$f":"(AG48*$AG$22+AI48*$AI$22+AK48*$AK$22+AM48*$AM$22+AO48*$AO$22+AQ48*$AQ$22+AS48*$AS$22+AU48*$AU$22+AW48*$AW$22)/(SUM($AG$22:$AW$22)*10)","v":{"$error":"#DIV/0!"}},null,null,"Go to \nToolbox: ",null,{"$f":"HYPERLINK(\"#\"&ADDRESS(MATCH(I48,Toolbox!$C$1:$C$300),1,,,\"Toolbox\"),VLOOKUP(I48,Toolbox!$C$1:$C$300,1,FALSE))","v":"Evaluation of Collaboration in a multisectoral Surveillance system (EcoSur)"}]
[]
[]
[]
[]
[]
[null,null,null,null,null,null,null,null,{"$f":"Backbone!A239","v":"IHR-PVS National Bridging Workshop"},null,null,null,null,null,null,"A workshop where One Health (OH) stakeholders explore possible overlapping areas addressed in the OIE (PVS Pathway) and IHR (IHR Monitoring and Evaluation Framework) capacity frameworks and develop, where relevant, appropriate bridges to facilitate coordination between sectors.  ",null,null,null,null,null,null,null,null,{"$f":"INDEX(Backbone!$R$2:$R$893,MATCH(I54,Backbone!$A$2:$A$893,0))","v":"Guided/Facilitated tool or process"},null,null,null,{"$f":"INDEX(Backbone!$S$2:$S$893,MATCH(I54,Backbone!$A$2:$A$893,0))","v":"One Health; Generalized"},null,null,null,{"$f":"INDEX(Backbone!$H$2:$H$893,MATCH(I54,Backbone!$A$2:$A$893,0))","v":8.6},null,{"$f":"INDEX(Backbone!$I$2:$I$893,MATCH(I54,Backbone!$A$2:$A$893,0))","v":10},null,{"$f":"INDEX(Backbone!$J$2:$J$893,MATCH(I54,Backbone!$A$2:$A$893,0))","v":6.2},null,{"$f":"INDEX(Backbone!$K$1:$K$893,MATCH(I54,Backbone!$A$1:$A$893,0))","v":10},null,{"$f":"INDEX(Backbone!$L$2:$L$893,MATCH(I54,Backbone!$A$2:$A$893,0))","v":6},null,{"$f":"INDEX(Backbone!$M$2:$M$893,MATCH(I54,Backbone!$A$2:$A$893,0))","v":7},null,{"$f":"INDEX(Backbone!$N$2:$N$893,MATCH(I54,Backbone!$A$2:$A$893,0))","v":9},null,{"$f":"INDEX(Backbone!$O$2:$O$893,MATCH(I54,Backbone!$A$2:$A$893,0))","v":8.1999999999999993},null,{"$f":"INDEX(Backbone!$P$2:$P$893,MATCH(I54,Backbone!$A$2:$A$893,0))","v":10},null,{"$f":"INDEX(Backbone!$Q$2:$Q$893,MATCH(I54,Backbone!$A$2:$A$893,0))","v":0.83333333333333337},null,null,{"$f":"(AG54*$AG$22+AI54*$AI$22+AK54*$AK$22+AM54*$AM$22+AO54*$AO$22+AQ54*$AQ$22+AS54*$AS$22+AU54*$AU$22+AW54*$AW$22)/(SUM($AG$22:$AW$22)*10)","v":{"$error":"#DIV/0!"}},null,null,"Go to \nToolbox: ",null,{"$f":"HYPERLINK(\"#\"&ADDRESS(MATCH(I54,Toolbox!$C$1:$C$300),1,,,\"Toolbox\"),VLOOKUP(I54,Toolbox!$C$1:$C$300,1,FALSE))","v":"IHR-PVS National Bridging Workshop"}]
[]
[]
[]
[]
[]
[null,null,null,null,null,null,null,null,{"$f":"Backbone!A271","v":"Laboratory Infrastructure Network Analysis (LINA)"},null,null,null,null,null,null,"An easy-to-use web-based application providing sophisticated computational modeling and data analytics functionality with easy visualization based on maps regarding capacities and capabilities of the national laboratory network and each laboratory itself. ",null,null,null,null,null,null,null,null,{"$f":"INDEX(Backbone!$R$2:$R$893,MATCH(I60,Backbone!$A$2:$A$893,0))","v":"Hardware or Software"},null,null,null,{"$f":"INDEX(Backbone!$S$2:$S$893,MATCH(I60,Backbone!$A$2:$A$893,0))","v":"One Health; Generalized"},null,null,null,{"$f":"INDEX(Backbone!$H$2:$H$893,MATCH(I60,Backbone!$A$2:$A$893,0))","v":9.6},null,{"$f":"INDEX(Backbone!$I$2:$I$893,MATCH(I60,Backbone!$A$2:$A$893,0))","v":6},null,{"$f":"INDEX(Backbone!$J$2:$J$893,MATCH(I60,Backbone!$A$2:$A$893,0))","v":7.6},null,{"$f":"INDEX(Backbone!$K$1:$K$893,MATCH(I60,Backbone!$A$1:$A$893,0))","v":9},null,{"$f":"INDEX(Backbone!$L$2:$L$893,MATCH(I60,Backbone!$A$2:$A$893,0))","v":8.3000000000000007},null,{"$f":"INDEX(Backbone!$M$2:$M$893,MATCH(I60,Backbone!$A$2:$A$893,0))","v":7},null,{"$f":"INDEX(Backbone!$N$2:$N$893,MATCH(I60,Backbone!$A$2:$A$893,0))","v":3},null,{"$f":"INDEX(Backbone!$O$2:$O$893,MATCH(I60,Backbone!$A$2:$A$893,0))","v":9.1},null,{"$f":"INDEX(Backbone!$P$2:$P$893,MATCH(I60,Backbone!$A$2:$A$893,0))","v":4},null,{"$f":"INDEX(Backbone!$Q$2:$Q$893,MATCH(I60,Backbone!$A$2:$A$893,0))","v":0.69555555555555559},null,null,{"$f":"(AG60*$AG$22+AI60*$AI$22+AK60*$AK$22+AM60*$AM$22+AO60*$AO$22+AQ60*$AQ$22+AS60*$AS$22+AU60*$AU$22+AW60*$AW$22)/(SUM($AG$22:$AW$22)*10)","v":{"$error":"#DIV/0!"}},null,null,"Go to \nToolbox: ",null,{"$f":"HYPERLINK(\"#\"&ADDRESS(MATCH(I60,Toolbox!$C$1:$C$300),1,,,\"Toolbox\"),VLOOKUP(I60,Toolbox!$C$1:$C$300,1,FALSE))","v":"Laboratory Infrastructure Network Analysis (LINA)"}]
[]
[]
[]
[]
[]
[null,null,null,null,null,null,null,null,{"$f":"Backbone!A303","v":"National Action Plan for Health Security (NAPHS)"},null,null,null,null,null,null,"A country owned planning process that can accelerate the implementation of International Health Regulations (IHR) core capacities and is based on the One Health and wholeof-government approach for all hazards.",null,null,null,null,null,null,null,null,{"$f":"INDEX(Backbone!$R$2:$R$893,MATCH(I66,Backbone!$A$2:$A$893,0))","v":"Guidance document"},null,null,null,{"$f":"INDEX(Backbone!$S$2:$S$893,MATCH(I66,Backbone!$A$2:$A$893,0))","v":"One Health; Generalized"},null,null,null,{"$f":"INDEX(Backbone!$H$2:$H$893,MATCH(I66,Backbone!$A$2:$A$893,0))","v":8},null,{"$f":"INDEX(Backbone!$I$2:$I$893,MATCH(I66,Backbone!$A$2:$A$893,0))","v":9},null,{"$f":"INDEX(Backbone!$J$2:$J$893,MATCH(I66,Backbone!$A$2:$A$893,0))","v":7.8},null,{"$f":"INDEX(Backbone!$K$1:$K$893,MATCH(I66,Backbone!$A$1:$A$893,0))","v":10},null,{"$f":"INDEX(Backbone!$L$2:$L$893,MATCH(I66,Backbone!$A$2:$A$893,0))","v":8},null,{"$f":"INDEX(Backbone!$M$2:$M$893,MATCH(I66,Backbone!$A$2:$A$893,0))","v":4.5},null,{"$f":"INDEX(Backbone!$N$2:$N$893,MATCH(I66,Backbone!$A$2:$A$893,0))","v":10},null,{"$f":"INDEX(Backbone!$O$2:$O$893,MATCH(I66,Backbone!$A$2:$A$893,0))","v":10},null,{"$f":"INDEX(Backbone!$P$2:$P$893,MATCH(I66,Backbone!$A$2:$A$893,0))","v":10},null,{"$f":"INDEX(Backbone!$Q$2:$Q$893,MATCH(I66,Backbone!$A$2:$A$893,0))","v":0.85888888888888881},null,null,{"$f":"(AG66*$AG$22+AI66*$AI$22+AK66*$AK$22+AM66*$AM$22+AO66*$AO$22+AQ66*$AQ$22+AS66*$AS$22+AU66*$AU$22+AW66*$AW$22)/(SUM($AG$22:$AW$22)*10)","v":{"$error":"#DIV/0!"}},null,null,"Go to \nToolbox: ",null,{"$f":"HYPERLINK(\"#\"&ADDRESS(MATCH(I66,Toolbox!$C$1:$C$300),1,,,\"Toolbox\"),VLOOKUP(I66,Toolbox!$C$1:$C$300,1,FALSE))","v":"National Action Plan for Health Security (NAPHS)"}]
[]
[]
[]
[]
[]
[null,null,null,null,null,null,null,null,{"$f":"Backbone!A332","v":"Network for Evaluation of One Health (NEOH)"},null,null,null,null,null,null,"An excel-based tool assessing the One Health-ness (or strength of One Health, OH) of a OH surveillance system. ",null,null,null,null,null,null,null,null,{"$f":"INDEX(Backbone!$R$2:$R$893,MATCH(I72,Backbone!$A$2:$A$893,0))","v":"Guidance document"},null,null,null,{"$f":"INDEX(Backbone!$S$2:$S$893,MATCH(I72,Backbone!$A$2:$A$893,0))","v":"One Health; Generalized"},null,null,null,{"$f":"INDEX(Backbone!$H$2:$H$893,MATCH(I72,Backbone!$A$2:$A$893,0))","v":8.3000000000000007},null,{"$f":"INDEX(Backbone!$I$2:$I$893,MATCH(I72,Backbone!$A$2:$A$893,0))","v":7.7},null,{"$f":"INDEX(Backbone!$J$2:$J$893,MATCH(I72,Backbone!$A$2:$A$893,0))","v":5.3},null,{"$f":"INDEX(Backbone!$K$1:$K$893,MATCH(I72,Backbone!$A$1:$A$893,0))","v":8.9},null,{"$f":"INDEX(Backbone!$L$2:$L$893,MATCH(I72,Backbone!$A$2:$A$893,0))","v":7.8},null,{"$f":"INDEX(Backbone!$M$2:$M$893,MATCH(I72,Backbone!$A$2:$A$893,0))","v":4.7},null,{"$f":"INDEX(Backbone!$N$2:$N$893,MATCH(I72,Backbone!$A$2:$A$893,0))","v":5.3},null,{"$f":"INDEX(Backbone!$O$2:$O$893,MATCH(I72,Backbone!$A$2:$A$893,0))","v":8},null,{"$f":"INDEX(Backbone!$P$2:$P$893,MATCH(I72,Backbone!$A$2:$A$893,0))","v":5.3},null,{"$f":"INDEX(Backbone!$Q$2:$Q$893,MATCH(I72,Backbone!$A$2:$A$893,0))","v":0.68111111111111111},null,null,{"$f":"(AG72*$AG$22+AI72*$AI$22+AK72*$AK$22+AM72*$AM$22+AO72*$AO$22+AQ72*$AQ$22+AS72*$AS$22+AU72*$AU$22+AW72*$AW$22)/(SUM($AG$22:$AW$22)*10)","v":{"$error":"#DIV/0!"}},null,null,"Go to \nToolbox: ",null,{"$f":"HYPERLINK(\"#\"&ADDRESS(MATCH(I72,Toolbox!$C$1:$C$300),1,,,\"Toolbox\"),VLOOKUP(I72,Toolbox!$C$1:$C$300,1,FALSE))","v":"Network for Evaluation of One Health (NEOH)"}]
[]
[]
[]
[]
[]
[null,null,null,null,null,null,null,null,{"$f":"Backbone!A420","v":"World Organisation for Animal Health (WOAH) PVS Gap Analysis"},null,null,null,null,null,null,"Supports countries in detailed planning based on their PVS Evaluation results.",null,null,null,null,null,null,null,null,{"$f":"INDEX(Backbone!$R$2:$R$893,MATCH(I78,Backbone!$A$2:$A$893,0))","v":"Guided/Facilitated tool or process"},null,null,null,{"$f":"INDEX(Backbone!$S$2:$S$893,MATCH(I78,Backbone!$A$2:$A$893,0))","v":"Sector Specific; Generalized"},null,null,null,{"$f":"INDEX(Backbone!$H$2:$H$893,MATCH(I78,Backbone!$A$2:$A$893,0))","v":6.8},null,{"$f":"INDEX(Backbone!$I$2:$I$893,MATCH(I78,Backbone!$A$2:$A$893,0))","v":8},null,{"$f":"INDEX(Backbone!$J$2:$J$893,MATCH(I78,Backbone!$A$2:$A$893,0))","v":5.6},null,{"$f":"INDEX(Backbone!$K$1:$K$893,MATCH(I78,Backbone!$A$1:$A$893,0))","v":10},null,{"$f":"INDEX(Backbone!$L$2:$L$893,MATCH(I78,Backbone!$A$2:$A$893,0))","v":6},null,{"$f":"INDEX(Backbone!$M$2:$M$893,MATCH(I78,Backbone!$A$2:$A$893,0))","v":4.3},null,{"$f":"INDEX(Backbone!$N$2:$N$893,MATCH(I78,Backbone!$A$2:$A$893,0))","v":9.5},null,{"$f":"INDEX(Backbone!$O$2:$O$893,MATCH(I78,Backbone!$A$2:$A$893,0))","v":4.7},null,{"$f":"INDEX(Backbone!$P$2:$P$893,MATCH(I78,Backbone!$A$2:$A$893,0))","v":7},null,{"$f":"INDEX(Backbone!$Q$2:$Q$893,MATCH(I78,Backbone!$A$2:$A$893,0))","v":0.68777777777777771},null,null,{"$f":"(AG78*$AG$22+AI78*$AI$22+AK78*$AK$22+AM78*$AM$22+AO78*$AO$22+AQ78*$AQ$22+AS78*$AS$22+AU78*$AU$22+AW78*$AW$22)/(SUM($AG$22:$AW$22)*10)","v":{"$error":"#DIV/0!"}},null,null,"Go to \nToolbox: ",null,{"$f":"HYPERLINK(\"#\"&ADDRESS(MATCH(I78,Toolbox!$C$1:$C$300),1,,,\"Toolbox\"),VLOOKUP(I78,Toolbox!$C$1:$C$300,1,FALSE))","v":"World Organisation for Animal Health (WOAH) PVS Gap Analysis"}]
[]
[]
[]
[]
[]
[null,null,null,null,null,null,null,null,{"$f":"Backbone!A437","v":"Policy Field Analysis (PFA)"},null,null,null,null,null,null,"A specialized stakeholder mapping that allows to visualize the system of organizations as they interact for a given policy issue.",null,null,null,null,null,null,null,null,{"$f":"INDEX(Backbone!$R$2:$R$893,MATCH(I84,Backbone!$A$2:$A$893,0))","v":"Guidance document"},null,null,null,{"$f":"INDEX(Backbone!$S$2:$S$893,MATCH(I84,Backbone!$A$2:$A$893,0))","v":"One Health; Generalized"},null,null,null,{"$f":"INDEX(Backbone!$H$2:$H$893,MATCH(I84,Backbone!$A$2:$A$893,0))","v":7.8},null,{"$f":"INDEX(Backbone!$I$2:$I$893,MATCH(I84,Backbone!$A$2:$A$893,0))","v":8},null,{"$f":"INDEX(Backbone!$J$2:$J$893,MATCH(I84,Backbone!$A$2:$A$893,0))","v":9.8000000000000007},null,{"$f":"INDEX(Backbone!$K$1:$K$893,MATCH(I84,Backbone!$A$1:$A$893,0))","v":10},null,{"$f":"INDEX(Backbone!$L$2:$L$893,MATCH(I84,Backbone!$A$2:$A$893,0))","v":7.1},null,{"$f":"INDEX(Backbone!$M$2:$M$893,MATCH(I84,Backbone!$A$2:$A$893,0))","v":4},null,{"$f":"INDEX(Backbone!$N$2:$N$893,MATCH(I84,Backbone!$A$2:$A$893,0))","v":7},null,{"$f":"INDEX(Backbone!$O$2:$O$893,MATCH(I84,Backbone!$A$2:$A$893,0))","v":8.8000000000000007},null,{"$f":"INDEX(Backbone!$P$2:$P$893,MATCH(I84,Backbone!$A$2:$A$893,0))","v":5},null,{"$f":"INDEX(Backbone!$Q$2:$Q$893,MATCH(I84,Backbone!$A$2:$A$893,0))","v":0.75},null,null,{"$f":"(AG84*$AG$22+AI84*$AI$22+AK84*$AK$22+AM84*$AM$22+AO84*$AO$22+AQ84*$AQ$22+AS84*$AS$22+AU84*$AU$22+AW84*$AW$22)/(SUM($AG$22:$AW$22)*10)","v":{"$error":"#DIV/0!"}},null,null,"Go to \nToolbox: ",null,{"$f":"HYPERLINK(\"#\"&ADDRESS(MATCH(I84,Toolbox!$C$1:$C$300),1,,,\"Toolbox\"),VLOOKUP(I84,Toolbox!$C$1:$C$300,1,FALSE))","v":"Policy Field Analysis (PFA)"}]
[]
[]
[]
[]
[]
[null,null,null,null,null,null,null,null,{"$f":"Backbone!A648","v":"Preparedness and Response Planning Toolkit"},null,null,null,null,null,null,"This toolkit is designed to support countries in their development of multisectoral preparedness and response plans for public health events. ",null,null,null,null,null,null,null,null,{"$f":"INDEX(Backbone!$R$2:$R$893,MATCH(I90,Backbone!$A$2:$A$893,0))","v":"Guidance document"},null,null,null,{"$f":"INDEX(Backbone!$S$2:$S$893,MATCH(I90,Backbone!$A$2:$A$893,0))","v":"One Health; Generalized"},null,null,null,{"$f":"INDEX(Backbone!$H$2:$H$893,MATCH(I90,Backbone!$A$2:$A$893,0))","v":8.4},null,{"$f":"INDEX(Backbone!$I$2:$I$893,MATCH(I90,Backbone!$A$2:$A$893,0))","v":8},null,{"$f":"INDEX(Backbone!$J$2:$J$893,MATCH(I90,Backbone!$A$2:$A$893,0))","v":8.4},null,{"$f":"INDEX(Backbone!$K$1:$K$893,MATCH(I90,Backbone!$A$1:$A$893,0))","v":6.7},null,{"$f":"INDEX(Backbone!$L$2:$L$893,MATCH(I90,Backbone!$A$2:$A$893,0))","v":2},null,{"$f":"INDEX(Backbone!$M$2:$M$893,MATCH(I90,Backbone!$A$2:$A$893,0))","v":3.5},null,{"$f":"INDEX(Backbone!$N$2:$N$893,MATCH(I90,Backbone!$A$2:$A$893,0))","v":4},null,{"$f":"INDEX(Backbone!$O$2:$O$893,MATCH(I90,Backbone!$A$2:$A$893,0))","v":6.4},null,{"$f":"INDEX(Backbone!$P$2:$P$893,MATCH(I90,Backbone!$A$2:$A$893,0))","v":8},null,{"$f":"INDEX(Backbone!$Q$2:$Q$893,MATCH(I90,Backbone!$A$2:$A$893,0))","v":0.61555555555555552},null,null,{"$f":"(AG90*$AG$22+AI90*$AI$22+AK90*$AK$22+AM90*$AM$22+AO90*$AO$22+AQ90*$AQ$22+AS90*$AS$22+AU90*$AU$22+AW90*$AW$22)/(SUM($AG$22:$AW$22)*10)","v":{"$error":"#DIV/0!"}},null,null,"Go to \nToolbox: ",null,{"$f":"HYPERLINK(\"#\"&ADDRESS(MATCH(I90,Toolbox!$C$1:$C$300),1,,,\"Toolbox\"),VLOOKUP(I90,Toolbox!$C$1:$C$300,1,FALSE))","v":"Preparedness and Response Planning Toolkit"}]
[]
[]
[]
[]
[]
[null,null,null,null,null,null,null,null,{"$f":"Backbone!A598","v":"WHO Laboratory Assessment Tool"},null,null,null,null,null,null,"This tool provides guidance and data collection spreadsheets for laboratory assessment, including two parts, system (LAT/System) and facility (LAT/Facility).",null,null,null,null,null,null,null,null,{"$f":"INDEX(Backbone!$R$2:$R$893,MATCH(I96,Backbone!$A$2:$A$893,0))","v":"Self-assessment tool"},null,null,null,{"$f":"INDEX(Backbone!$S$2:$S$893,MATCH(I96,Backbone!$A$2:$A$893,0))","v":"Sector Specific; Generalized"},null,null,null,{"$f":"INDEX(Backbone!$H$2:$H$893,MATCH(I96,Backbone!$A$2:$A$893,0))","v":9},null,{"$f":"INDEX(Backbone!$I$2:$I$893,MATCH(I96,Backbone!$A$2:$A$893,0))","v":10},null,{"$f":"INDEX(Backbone!$J$2:$J$893,MATCH(I96,Backbone!$A$2:$A$893,0))","v":6.4},null,{"$f":"INDEX(Backbone!$K$1:$K$893,MATCH(I96,Backbone!$A$1:$A$893,0))","v":6},null,{"$f":"INDEX(Backbone!$L$2:$L$893,MATCH(I96,Backbone!$A$2:$A$893,0))","v":7.2},null,{"$f":"INDEX(Backbone!$M$2:$M$893,MATCH(I96,Backbone!$A$2:$A$893,0))","v":5.5},null,{"$f":"INDEX(Backbone!$N$2:$N$893,MATCH(I96,Backbone!$A$2:$A$893,0))","v":6},null,{"$f":"INDEX(Backbone!$O$2:$O$893,MATCH(I96,Backbone!$A$2:$A$893,0))","v":5.8},null,{"$f":"INDEX(Backbone!$P$2:$P$893,MATCH(I96,Backbone!$A$2:$A$893,0))","v":4},null,{"$f":"INDEX(Backbone!$Q$2:$Q$893,MATCH(I96,Backbone!$A$2:$A$893,0))","v":0.66555555555555557},null,null,{"$f":"(AG96*$AG$22+AI96*$AI$22+AK96*$AK$22+AM96*$AM$22+AO96*$AO$22+AQ96*$AQ$22+AS96*$AS$22+AU96*$AU$22+AW96*$AW$22)/(SUM($AG$22:$AW$22)*10)","v":{"$error":"#DIV/0!"}},null,null,"Go to \nToolbox: ",null,{"$f":"HYPERLINK(\"#\"&ADDRESS(MATCH(I96,Toolbox!$C$1:$C$300),1,,,\"Toolbox\"),VLOOKUP(I96,Toolbox!$C$1:$C$300,1,FALSE))","v":"WHO Laboratory Assessment Tool"}]
[]
[]
[]
[]
[]
[]
[]
[]
[]
[]
[]
[]
[]
[]
[]
[]
[]
[]
[null,null,null,null,null,null,null,null,null,null,null,null,null,null,null,null,null,null,null,null,null,null,null,null,null,null,null,null,null,null,null,null,"Accessibility",null,"Language",null,"Ease of use",null,"Flexibility",null,"Data Needs",null,"Data Analysis",null,"Acceptability",null,"One Health",null,"Impact"]
[]
[]
[null,"LEVEL 2 RESOURCES"]
[]
[]
[]
[null,null,null,null,null,null,null,null,null,null,null,null,null,null,null,null,null,null,null,null,null,null,null,null,null,null,null,null,null,null,null,null,null,null,null,null,null,null,null,null,null,null,null,null,null,null,null,null,null,null,"RAW SCORE",null,null,"ADJUSTED SCORE \n(Based on user preferences)"]
[]
[]
[]
[null,null,null,"DESIGNATION",null,null,null,null,"RESOURCE NAME",null,null,null,null,null,null,"SHORT DESCRIPTION",null,null,null,null,null,null,null,null,"RESOURCE TYPE",null,null,null,"RESOURCE GENERALITY"]
[]
[]
[]
[null,null,null,null,null,null,null,null,null,null,null,null,null,null,null,null,null,null,null,null,null,null,null,null,null,null,null,null,null,null,null,null,{"$f":"'Attribute Survey'!S105","v":0},null,{"$f":"'Attribute Survey'!S109","v":0},null,{"$f":"'Attribute Survey'!S113","v":0},null,{"$f":"'Attribute Survey'!S117","v":0},null,{"$f":"'Attribute Survey'!S121","v":0},null,{"$f":"'Attribute Survey'!S125","v":0},null,{"$f":"'Attribute Survey'!S129","v":0},null,{"$f":"'Attribute Survey'!S133","v":0},null,{"$f":"'Attribute Survey'!S137","v":0}]
[null,null,null,"Resources Best Fit for Purpose",null,null,null,null,{"$f":"Backbone!A648","v":"Preparedness and Response Planning Toolkit"},null,null,null,null,null,null,"This toolkit is designed to support countries in their development of multisectoral preparedness and response plans for public health events. ",null,null,null,null,null,null,null,null,{"$f":"INDEX(Backbone!$R$2:$R$893,MATCH(I131,Backbone!$A$2:$A$893,0))","v":"Guidance document"},null,null,null,{"$f":"INDEX(Backbone!$S$2:$S$893,MATCH(I131,Backbone!$A$2:$A$893,0))","v":"One Health; Generalized"},null,null,null,{"$f":"INDEX(Backbone!$H$2:$H$893,MATCH(I131,Backbone!$A$2:$A$893,0))","v":8.4},null,{"$f":"INDEX(Backbone!$I$2:$I$893,MATCH(I131,Backbone!$A$2:$A$893,0))","v":8},null,{"$f":"INDEX(Backbone!$J$2:$J$893,MATCH(I131,Backbone!$A$2:$A$893,0))","v":8.4},null,{"$f":"INDEX(Backbone!$K$2:$K$893,MATCH(I131,Backbone!$A$2:$A$893,0))","v":6.7},null,{"$f":"INDEX(Backbone!$L$2:$L$893,MATCH(I131,Backbone!$A$2:$A$893,0))","v":2},null,{"$f":"INDEX(Backbone!$M$2:$M$893,MATCH(I131,Backbone!$A$2:$A$893,0))","v":3.5},null,{"$f":"INDEX(Backbone!$N$2:$N$893,MATCH(I131,Backbone!$A$2:$A$893,0))","v":4},null,{"$f":"INDEX(Backbone!$O$2:$O$893,MATCH(I131,Backbone!$A$2:$A$893,0))","v":6.4},null,{"$f":"INDEX(Backbone!$P$2:$P$893,MATCH(I131,Backbone!$A$2:$A$893,0))","v":8},null,{"$f":"INDEX(Backbone!$Q$2:$Q$893,MATCH(I131,Backbone!$A$2:$A$893,0))","v":0.61555555555555552},null,null,{"$f":"(AG131*$AG$22+AI131*$AI$22+AK131*$AK$22+AM131*$AM$22+AO131*$AO$22+AQ131*$AQ$22+AS131*$AS$22+AU131*$AU$22+AW131*$AW$22)/(SUM($AG$22:$AW$22)*10)","v":{"$error":"#DIV/0!"}},null,null,"Go to \nToolbox: ",null,{"$f":"HYPERLINK(\"#\"&ADDRESS(MATCH(I131,Toolbox!$C$1:$C$300),1,,,\"Toolbox\"),VLOOKUP(I131,Toolbox!$C$1:$C$300,1,FALSE))","v":"Preparedness and Response Planning Toolkit"}]

{"sheet":"A8_tools","index":34,"n_rows":137,"n_cols":59,"rows_kept":137,"cut":false,"hidden":false,"merged":[[136,56,140,57],[136,58,140,62],[77,56,81,57],[77,58,81,62],[83,56,87,57],[83,58,87,62],[89,56,93,57],[89,58,93,62],[95,56,99,57],[95,58,99,62],[101,56,105,57],[101,58,105,62],[46,56,50,57],[46,58,50,62],[52,56,56,57],[52,58,56,62],[58,56,62,57],[58,58,62,62],[64,56,68,57],[64,58,68,62],[71,56,75,57],[71,58,75,62],[1,1,3,62],[22,56,26,57],[22,58,26,62],[28,56,32,57],[28,58,32,62],[34,56,38,57],[34,58,38,62],[40,56,44,57],[40,58,44,62],[6,32,20,32],[6,34,20,34],[6,36,20,36],[6,38,20,38],[6,40,20,40],[6,42,20,42],[6,44,20,44],[6,46,20,46],[6,48,20,48],[13,50,20,51],[13,53,20,54],[17,3,20,6],[17,8,20,13],[17,15,20,22],[17,24,20,26],[17,28,20,30],[17,1,105,1],[58,50,62,51],[58,53,62,54],[95,15,99,22],[95,24,99,26],[95,28,99,30],[95,32,99,32],[22,3,68,6],[22,8,26,13],[22,50,26,51],[22,53,26,54],[28,8,32,13],[28,15,32,22],[28,24,32,26],[28,28,32,30],[28,32,32,32],[28,34,32,34],[28,36,32,36],[28,38,32,38],[22,38,26,38],[22,40,26,40],[22,42,26,42],[22,44,26,44],[22,46,26,46],[22,48,26,48],[22,15,26,22],[22,24,26,26],[22,28,26,30],[22,32,26,32],[22,34,26,34],[22,36,26,36],[46,53,50,54],[34,42,38,42],[34,44,38,44],[34,46,38,46],[34,48,38,48],[34,50,38,51],[34,53,38,54],[28,53,32,54],[28,40,32,40],[28,42,32,42],[28,44,32,44],[28,46,32,46],[28,48,32,48],[28,50,32,51],[46,38,50,38],[40,48,44,48],[34,8,38,13],[34,15,38,22],[34,24,38,26],[34,28,38,30],[34,32,38,32],[34,34,38,34],[34,36,38,36],[34,38,38,38],[34,40,38,40],[40,50,44,51],[40,53,44,54],[46,8,50,13],[46,15,50,22],[46,24,50,26],[46,28,50,30],[46,32,50,32],[46,34,50,34],[46,36,50,36],[40,36,44,36],[40,38,44,38],[40,40,44,40],[40,42,44,42],[40,44,44,44],[40,46,44,46],[40,8,44,13],[40,15,44,22],[40,24,44,26],[40,28,44,30],[40,32,44,32],[40,34,44,34],[46,50,50,51],[46,40,50,40],[46,42,50,42],[58,40,62,40],[58,42,62,42],[58,28,62,30],[58,32,62,32],[58,34,62,34],[58,36,62,36],[52,8,56,13],[52,15,56,22],[52,24,56,26],[52,28,56,30],[52,32,56,32],[52,34,56,34],[52,36,56,36],[52,38,56,38],[52,40,56,40],[58,8,62,13],[58,15,62,22],[58,24,62,26],[58,38,62,38],[46,44,50,44],[46,46,50,46],[46,48,50,48],[64,42,68,42],[64,44,68,44],[64,46,68,46],[64,48,68,48],[64,50,68,51],[64,53,68,54],[52,53,56,54],[52,42,56,42],[52,44,56,44],[52,46,56,46],[52,48,56,48],[52,50,56,51],[58,44,62,44],[58,46,62,46],[58,48,62,48],[64,8,68,13],[64,15,68,22],[64,24,68,26],[64,28,68,30],[64,32,68,32],[64,34,68,34],[64,36,68,36],[64,38,68,38],[64,40,68,40],[71,48,75,48],[71,50,75,51],[71,53,75,54],[77,8,81,13],[77,15,81,22],[77,24,81,26],[77,28,81,30],[77,32,81,32],[77,34,81,34],[71,34,75,34],[71,36,75,36],[71,38,75,38],[71,40,75,40],[71,42,75,42],[71,44,75,44],[71,8,75,13],[71,15,75,22],[71,24,75,26],[71,28,75,30],[71,32,75,32],[77,48,81,48],[77,53,81,54],[89,38,93,38],[83,38,87,38],[89,40,93,40],[89,42,93,42],[77,36,81,36],[77,38,81,38],[71,46,75,46],[77,40,81,40],[77,42,81,42],[77,44,81,44],[77,46,81,46],[83,40,87,40],[83,42,87,42],[83,44,87,44],[83,46,87,46],[83,8,87,13],[83,15,87,22],[83,24,87,26],[83,28,87,30],[83,32,87,32],[83,34,87,34],[83,36,87,36],[89,8,93,13],[89,15,93,22],[89,24,93,26],[89,28,93,30],[89,32,93,32],[89,34,93,34],[89,36,93,36],[95,44,99,44],[95,46,99,46],[95,48,99,48],[95,50,99,51],[95,53,99,54],[89,53,93,54],[83,50,87,51],[77,50,81,51],[83,53,87,54],[89,48,93,48],[89,50,93,51],[83,48,87,48],[120,48,134,48],[127,50,134,51],[127,53,134,54],[120,40,134,40],[120,42,134,42],[120,44,134,44],[120,46,134,46],[136,48,140,48],[136,50,140,51],[136,53,140,54],[136,40,140,40],[136,42,140,42],[136,44,140,44],[136,46,140,46],[101,53,105,54],[136,38,140,38],[101,38,105,38],[71,3,105,6],[101,40,105,40],[101,42,105,42],[101,44,105,44],[101,46,105,46],[101,48,105,48],[101,50,105,51],[101,8,105,13],[101,15,105,22],[101,24,105,26],[101,28,105,30],[101,32,105,32],[101,34,105,34],[101,36,105,36],[95,8,99,13],[95,34,99,34],[95,36,99,36],[95,38,99,38],[95,40,99,40],[89,44,93,44],[89,46,93,46],[95,42,99,42],[131,3,134,6],[131,8,134,13],[131,15,134,22],[131,24,134,26],[131,28,134,30],[120,32,134,32],[123,1,148,1],[136,3,140,6],[136,8,140,13],[136,15,140,22],[136,24,140,26],[136,28,140,30],[136,32,140,32],[136,34,140,34],[136,36,140,36],[120,34,134,34],[120,36,134,36],[120,38,134,38]]}
[]
[null,"Economic Needs Assessment Resources"]
[]
[]
[]
[]
[null,null,null,null,null,null,null,null,null,null,null,null,null,null,null,null,null,null,null,null,null,null,null,null,null,null,null,null,null,null,null,null,"Accessibility",null,"Language",null,"Ease of use",null,"Flexibility",null,"Data Needs",null,"Data Analysis",null,"Acceptability",null,"One Health",null,"Impact"]
[]
[]
[]
[]
[]
[]
[null,null,null,null,null,null,null,null,null,null,null,null,null,null,null,null,null,null,null,null,null,null,null,null,null,null,null,null,null,null,null,null,null,null,null,null,null,null,null,null,null,null,null,null,null,null,null,null,null,null,"RAW SCORE",null,null,"ADJUSTED SCORE \n(Based on user preferences)"]
[]
[]
[]
[null,"LEVEL 1 RESOURCES",null,"DESIGNATION",null,null,null,null,"RESOURCE NAME",null,null,null,null,null,null,"SHORT DESCRIPTION",null,null,null,null,null,null,null,null,"RESOURCE TYPE",null,null,null,"RESOURCE GENERALITY"]
[]
[]
[]
[null,null,null,null,null,null,null,null,null,null,null,null,null,null,null,null,null,null,null,null,null,null,null,null,null,null,null,null,null,null,null,null,{"$f":"'Attribute Survey'!S22","v":0},null,{"$f":"'Attribute Survey'!S26","v":0},null,{"$f":"'Attribute Survey'!S30","v":0},null,{"$f":"'Attribute Survey'!S34","v":0},null,{"$f":"'Attribute Survey'!S38","v":0},null,{"$f":"'Attribute Survey'!S42","v":0},null,{"$f":"'Attribute Survey'!S46","v":0},null,{"$f":"'Attribute Survey'!S50","v":0},null,{"$f":"'Attribute Survey'!S54","v":0}]
[null,null,null,"Resources Best Fit For Purpose",null,null,null,null,{"$f":"Backbone!A447","v":"Animal Rabies Surveillance Cost Effectiveness Assessment Tool"},null,null,null,null,null,null,"An Excel-based tool to estimate the costs and effectiveness of rabies prevention programs.",null,null,null,null,null,null,null,null,{"$f":"INDEX(Backbone!$R2:$R893,MATCH(I23,Backbone!$A2:$A893,0))","v":"Self-assessment tool"},null,null,null,{"$f":"INDEX(Backbone!$S2:$S893,MATCH(I23,Backbone!$A2:$A893,0))","v":"One Health; Disease/Threat Specific "},null,null,null,{"$f":"INDEX(Backbone!$H2:$H893,MATCH(I23,Backbone!$A2:$A893,0))","v":9.6},null,{"$f":"INDEX(Backbone!$I2:$I893,MATCH(I23,Backbone!$A2:$A893,0))","v":6},null,{"$f":"INDEX(Backbone!$J2:$J893,MATCH(I23,Backbone!$A2:$A893,0))","v":7},null,{"$f":"INDEX(Backbone!$K2:$K893,MATCH(I23,Backbone!$A2:$A893,0))","v":8.6999999999999993},null,{"$f":"INDEX(Backbone!$L2:$L893,MATCH(I23,Backbone!$A2:$A893,0))","v":6.7},null,{"$f":"INDEX(Backbone!$M2:$M893,MATCH(I23,Backbone!$A2:$A893,0))","v":6.8},null,{"$f":"INDEX(Backbone!$N2:$N893,MATCH(I23,Backbone!$A2:$A893,0))","v":6},null,{"$f":"INDEX(Backbone!$O2:$O893,MATCH(I23,Backbone!$A2:$A893,0))","v":8.8000000000000007},null,{"$f":"INDEX(Backbone!$P2:$P893,MATCH(I23,Backbone!$A2:$A893,0))","v":8},null,{"$f":"INDEX(Backbone!$Q2:$Q893,MATCH(I23,Backbone!$A2:$A893,0))","v":0.75111111111111106},null,null,{"$f":"(AG23*$AG$22+AI23*$AI$22+AK23*$AK$22+AM23*$AM$22+AO23*$AO$22+AQ23*$AQ$22+AS23*$AS$22+AU23*$AU$22+AW23*$AW$22)/(SUM($AG$22:$AW$22)*10)","v":{"$error":"#DIV/0!"}},null,null,"Go to \nToolbox: ",null,{"$f":"HYPERLINK(\"#\"&ADDRESS(MATCH(I23,Toolbox!$C$1:$C$300),1,,,\"Toolbox\"),VLOOKUP(I23,Toolbox!$C$1:$C$300,1,FALSE))","v":"Animal Rabies Surveillance Cost Effectiveness Assessment Tool"}]
[]
[]
[]
[]
[]
[null,null,null,null,null,null,null,null,{"$f":"Backbone!A100","v":"Evaluation of Collaboration in a multisectoral Surveillance system (EcoSur)"},null,null,null,null,null,null,"A tool that aims to evaluate the organization and functioning of collaboration in a multisectoral surveillance system and to analyse strengths and weaknesses of this collaboration.",null,null,null,null,null,null,null,null,{"$f":"INDEX(Backbone!$R$2:$R$893,MATCH(I29,Backbone!$A$2:$A$893,0))","v":"Guided/Facilitated tool or process"},null,null,null,{"$f":"INDEX(Backbone!$S$2:$S$893,MATCH(I29,Backbone!$A$2:$A$893,0))","v":"One Health; Generalized"},null,null,null,{"$f":"INDEX(Backbone!$H$2:$H$893,MATCH(I29,Backbone!$A$2:$A$893,0))","v":8.3000000000000007},null,{"$f":"INDEX(Backbone!$I$2:$I$893,MATCH(I29,Backbone!$A$2:$A$893,0))","v":6},null,{"$f":"INDEX(Backbone!$J$2:$J$893,MATCH(I29,Backbone!$A$2:$A$893,0))","v":8.5},null,{"$f":"INDEX(Backbone!$K$2:$K$893,MATCH(I29,Backbone!$A$2:$A$893,0))","v":7.8},null,{"$f":"INDEX(Backbone!$L$2:$L$893,MATCH(I29,Backbone!$A$2:$A$893,0))","v":8.3000000000000007},null,{"$f":"INDEX(Backbone!$M$2:$M$893,MATCH(I29,Backbone!$A$2:$A$893,0))","v":6.7},null,{"$f":"INDEX(Backbone!$N$2:$N$893,MATCH(I29,Backbone!$A$2:$A$893,0))","v":3.3},null,{"$f":"INDEX(Backbone!$O$2:$O$893,MATCH(I29,Backbone!$A$2:$A$893,0))","v":9.1},null,{"$f":"INDEX(Backbone!$P$2:$P$893,MATCH(I29,Backbone!$A$2:$A$893,0))","v":4.7},null,{"$f":"INDEX(Backbone!$Q$2:$Q$893,MATCH(I29,Backbone!$A$2:$A$893,0))","v":0.69666666666666677},null,null,{"$f":"(AG29*$AG$22+AI29*$AI$22+AK29*$AK$22+AM29*$AM$22+AO29*$AO$22+AQ29*$AQ$22+AS29*$AS$22+AU29*$AU$22+AW29*$AW$22)/(SUM($AG$22:$AW$22)*10)","v":{"$error":"#DIV/0!"}},null,null,"Go to \nToolbox: ",null,{"$f":"HYPERLINK(\"#\"&ADDRESS(MATCH(I29,Toolbox!$C$1:$C$300),1,,,\"Toolbox\"),VLOOKUP(I29,Toolbox!$C$1:$C$300,1,FALSE))","v":"Evaluation of Collaboration in a multisectoral Surveillance system (EcoSur)"}]
[]
[]
[]
[]
[]
[null,null,null,null,null,null,null,null,{"$f":"Backbone!A184","v":"Global Dog Rabies Elimination Pathway (GDREP)"},null,null,null,null,null,null,"An Excel-based tool providing an easy-to-use interface including different aspects of a dog rabies elimination programme, broken down into two main categories for the epidemiological/logistical and financial aspects respectively.",null,null,null,null,null,null,null,null,{"$f":"INDEX(Backbone!$R$2:$R$893,MATCH(I35,Backbone!$A$2:$A$893,0))","v":"Self-assessment tool"},null,null,null,{"$f":"INDEX(Backbone!$S$2:$S$893,MATCH(I35,Backbone!$A$2:$A$893,0))","v":"One Health; Disease/Threat Specific "},null,null,null,{"$f":"INDEX(Backbone!$H$2:$H$893,MATCH(I35,Backbone!$A$2:$A$893,0))","v":9.1},null,{"$f":"INDEX(Backbone!$I$2:$I$893,MATCH(I35,Backbone!$A$2:$A$893,0))","v":7.3},null,{"$f":"INDEX(Backbone!$J$2:$J$893,MATCH(I35,Backbone!$A$2:$A$893,0))","v":8.6999999999999993},null,{"$f":"INDEX(Backbone!$K$1:$K$893,MATCH(I35,Backbone!$A$1:$A$893,0))","v":6},null,{"$f":"INDEX(Backbone!$L$2:$L$893,MATCH(I35,Backbone!$A$2:$A$893,0))","v":7.9},null,{"$f":"INDEX(Backbone!$M$2:$M$893,MATCH(I35,Backbone!$A$2:$A$893,0))","v":6},null,{"$f":"INDEX(Backbone!$N$2:$N$893,MATCH(I35,Backbone!$A$2:$A$893,0))","v":7},null,{"$f":"INDEX(Backbone!$O$2:$O$893,MATCH(I35,Backbone!$A$2:$A$893,0))","v":6.3},null,{"$f":"INDEX(Backbone!$P$2:$P$893,MATCH(I35,Backbone!$A$2:$A$893,0))","v":7},null,{"$f":"INDEX(Backbone!$Q$2:$Q$893,MATCH(I35,Backbone!$A$2:$A$893,0))","v":0.72555555555555551},null,null,{"$f":"(AG35*$AG$22+AI35*$AI$22+AK35*$AK$22+AM35*$AM$22+AO35*$AO$22+AQ35*$AQ$22+AS35*$AS$22+AU35*$AU$22+AW35*$AW$22)/(SUM($AG$22:$AW$22)*10)","v":{"$error":"#DIV/0!"}},null,null,"Go to \nToolbox: ",null,{"$f":"HYPERLINK(\"#\"&ADDRESS(MATCH(I35,Toolbox!$C$1:$C$300),1,,,\"Toolbox\"),VLOOKUP(I35,Toolbox!$C$1:$C$300,1,FALSE))","v":"Global Dog Rabies Elimination Pathway (GDREP)"}]
[]
[]
[]
[]
[]
[null,null,null,null,null,null,null,null,{"$f":"Backbone!A234","v":"Georgetown University International Health Regulation (IHR) Costing Tool"},null,null,null,null,null,null,"This tool helps users develop cost estimates for sustainable capacity development under the International Health Regulations (IHR).\n\n",null,null,null,null,null,null,null,null,{"$f":"INDEX(Backbone!$R$2:$R$893,MATCH(I41,Backbone!$A$2:$A$893,0))","v":"Self-assessment tool"},null,null,null,{"$f":"INDEX(Backbone!$S$2:$S$893,MATCH(I41,Backbone!$A$2:$A$893,0))","v":"Sector Specific; Generalized"},null,null,null,{"$f":"INDEX(Backbone!$H$2:$H$893,MATCH(I41,Backbone!$A$2:$A$893,0))","v":9.6},null,{"$f":"INDEX(Backbone!$I$2:$I$893,MATCH(I41,Backbone!$A$2:$A$893,0))","v":6},null,{"$f":"INDEX(Backbone!$J$2:$J$893,MATCH(I41,Backbone!$A$2:$A$893,0))","v":9.3000000000000007},null,{"$f":"INDEX(Backbone!$K$1:$K$893,MATCH(I41,Backbone!$A$1:$A$893,0))","v":7.3},null,{"$f":"INDEX(Backbone!$L$2:$L$893,MATCH(I41,Backbone!$A$2:$A$893,0))","v":7.1},null,{"$f":"INDEX(Backbone!$M$2:$M$893,MATCH(I41,Backbone!$A$2:$A$893,0))","v":8.8000000000000007},null,{"$f":"INDEX(Backbone!$N$2:$N$893,MATCH(I41,Backbone!$A$2:$A$893,0))","v":9.3000000000000007},null,{"$f":"INDEX(Backbone!$O$2:$O$893,MATCH(I41,Backbone!$A$2:$A$893,0))","v":7.5},null,{"$f":"INDEX(Backbone!$P$2:$P$893,MATCH(I41,Backbone!$A$2:$A$893,0))","v":8},null,{"$f":"INDEX(Backbone!$Q$2:$Q$893,MATCH(I41,Backbone!$A$2:$A$893,0))","v":0.80999999999999994},null,null,{"$f":"(AG41*$AG$22+AI41*$AI$22+AK41*$AK$22+AM41*$AM$22+AO41*$AO$22+AQ41*$AQ$22+AS41*$AS$22+AU41*$AU$22+AW41*$AW$22)/(SUM($AG$22:$AW$22)*10)","v":{"$error":"#DIV/0!"}},null,null,"Go to \nToolbox: ",null,{"$f":"HYPERLINK(\"#\"&ADDRESS(MATCH(I41,Toolbox!$C$1:$C$300),1,,,\"Toolbox\"),VLOOKUP(I41,Toolbox!$C$1:$C$300,1,FALSE))","v":"Georgetown University International Health Regulation (IHR) Costing Tool"}]
[]
[]
[]
[]
[]
[null,null,null,null,null,null,null,null,{"$f":"Backbone!A430","v":"Outbreak costing tool"},null,null,null,null,null,null,"An Excel-based data collection tool that can be used to estimate the costs of routine outbreak investigations and response efforts in a country.",null,null,null,null,null,null,null,null,{"$f":"INDEX(Backbone!$R$2:$R$893,MATCH(I47,Backbone!$A$2:$A$893,0))","v":"Self-assessment tool"},null,null,null,{"$f":"INDEX(Backbone!$S$2:$S$893,MATCH(I47,Backbone!$A$2:$A$893,0))","v":"One Health; Generalized"},null,null,null,{"$f":"INDEX(Backbone!$H$2:$H$893,MATCH(I47,Backbone!$A$2:$A$893,0))","v":8.5},null,{"$f":"INDEX(Backbone!$I$2:$I$893,MATCH(I47,Backbone!$A$2:$A$893,0))","v":7.3},null,{"$f":"INDEX(Backbone!$J$2:$J$893,MATCH(I47,Backbone!$A$2:$A$893,0))","v":9.3000000000000007},null,{"$f":"INDEX(Backbone!$K$1:$K$893,MATCH(I47,Backbone!$A$1:$A$893,0))","v":9.1},null,{"$f":"INDEX(Backbone!$L$2:$L$893,MATCH(I47,Backbone!$A$2:$A$893,0))","v":7.8},null,{"$f":"INDEX(Backbone!$M$2:$M$893,MATCH(I47,Backbone!$A$2:$A$893,0))","v":7.2},null,{"$f":"INDEX(Backbone!$N$2:$N$893,MATCH(I47,Backbone!$A$2:$A$893,0))","v":2.9},null,{"$f":"INDEX(Backbone!$O$2:$O$893,MATCH(I47,Backbone!$A$2:$A$893,0))","v":8.3000000000000007},null,{"$f":"INDEX(Backbone!$P$2:$P$893,MATCH(I47,Backbone!$A$2:$A$893,0))","v":7.3},null,{"$f":"INDEX(Backbone!$Q$2:$Q$893,MATCH(I47,Backbone!$A$2:$A$893,0))","v":0.75222222222222224},null,null,{"$f":"(AG47*$AG$22+AI47*$AI$22+AK47*$AK$22+AM47*$AM$22+AO47*$AO$22+AQ47*$AQ$22+AS47*$AS$22+AU47*$AU$22+AW47*$AW$22)/(SUM($AG$22:$AW$22)*10)","v":{"$error":"#DIV/0!"}},null,null,"Go to \nToolbox: ",null,{"$f":"HYPERLINK(\"#\"&ADDRESS(MATCH(I47,Toolbox!$C$1:$C$300),1,,,\"Toolbox\"),VLOOKUP(I47,Toolbox!$C$1:$C$300,1,FALSE))","v":"Outbreak costing tool"}]
[]
[]
[]
[]
[]
[null,null,null,null,null,null,null,null,{"$f":"Backbone!A483","v":"Surveillance Webtools (SURVTOOLS) "},null,null,null,null,null,null,"Unites surveillance design and evaluation tools targeting competent, technical users who design, implement or evaluate animal health surveillance.",null,null,null,null,null,null,null,null,{"$f":"INDEX(Backbone!$R$2:$R$893,MATCH(I53,Backbone!$A$2:$A$893,0))","v":"Hardware or Software"},null,null,null,{"$f":"INDEX(Backbone!$S$2:$S$893,MATCH(I53,Backbone!$A$2:$A$893,0))","v":"Sector Specific; Generalized"},null,null,null,{"$f":"INDEX(Backbone!$H$2:$H$893,MATCH(I53,Backbone!$A$2:$A$893,0))","v":9.6},null,{"$f":"INDEX(Backbone!$I$2:$I$893,MATCH(I53,Backbone!$A$2:$A$893,0))","v":2},null,{"$f":"INDEX(Backbone!$J$2:$J$893,MATCH(I53,Backbone!$A$2:$A$893,0))","v":6.7},null,{"$f":"INDEX(Backbone!$K$1:$K$893,MATCH(I53,Backbone!$A$1:$A$893,0))","v":6.7},null,{"$f":"INDEX(Backbone!$L$2:$L$893,MATCH(I53,Backbone!$A$2:$A$893,0))","v":6.6},null,{"$f":"INDEX(Backbone!$M$2:$M$893,MATCH(I53,Backbone!$A$2:$A$893,0))","v":3.5},null,{"$f":"INDEX(Backbone!$N$2:$N$893,MATCH(I53,Backbone!$A$2:$A$893,0))","v":6.7},null,{"$f":"INDEX(Backbone!$O$2:$O$893,MATCH(I53,Backbone!$A$2:$A$893,0))","v":4.9000000000000004},null,{"$f":"INDEX(Backbone!$P$2:$P$893,MATCH(I53,Backbone!$A$2:$A$893,0))","v":4.7},null,{"$f":"INDEX(Backbone!$Q$2:$Q$893,MATCH(I53,Backbone!$A$2:$A$893,0))","v":0.57111111111111112},null,null,{"$f":"(AG53*$AG$22+AI53*$AI$22+AK53*$AK$22+AM53*$AM$22+AO53*$AO$22+AQ53*$AQ$22+AS53*$AS$22+AU53*$AU$22+AW53*$AW$22)/(SUM($AG$22:$AW$22)*10)","v":{"$error":"#DIV/0!"}},null,null,"Go to \nToolbox: ",null,{"$f":"HYPERLINK(\"#\"&ADDRESS(MATCH(I53,Toolbox!$C$1:$C$300),1,,,\"Toolbox\"),VLOOKUP(I53,Toolbox!$C$1:$C$300,1,FALSE))","v":"Surveillance Webtools (SURVTOOLS) "}]
[]
[]
[]
[]
[]
[null,null,null,null,null,null,null,null,{"$f":"Backbone!A686","v":"Sustainable Funding Strategy for One Health Toolkit"},null,null,null,null,null,null,"This toolkit supports One Health platforms and other coordination mechanisms in requesting and receiving funds to support operations of the platform and its activities in the long term.",null,null,null,null,null,null,null,null,{"$f":"INDEX(Backbone!$R$2:$R$893,MATCH(I59,Backbone!$A$2:$A$893,0))","v":"Guidance document"},null,null,null,{"$f":"INDEX(Backbone!$S$2:$S$893,MATCH(I59,Backbone!$A$2:$A$893,0))","v":"One Health; Generalized"},null,null,null,{"$f":"INDEX(Backbone!$H$2:$H$893,MATCH(I59,Backbone!$A$2:$A$893,0))","v":8.4},null,{"$f":"INDEX(Backbone!$I$2:$I$893,MATCH(I59,Backbone!$A$2:$A$893,0))","v":8},null,{"$f":"INDEX(Backbone!$J$2:$J$893,MATCH(I59,Backbone!$A$2:$A$893,0))","v":8.4},null,{"$f":"INDEX(Backbone!$K$1:$K$893,MATCH(I59,Backbone!$A$1:$A$893,0))","v":6.7},null,{"$f":"INDEX(Backbone!$L$2:$L$893,MATCH(I59,Backbone!$A$2:$A$893,0))","v":2},null,{"$f":"INDEX(Backbone!$M$2:$M$893,MATCH(I59,Backbone!$A$2:$A$893,0))","v":3.5},null,{"$f":"INDEX(Backbone!$N$2:$N$893,MATCH(I59,Backbone!$A$2:$A$893,0))","v":4},null,{"$f":"INDEX(Backbone!$O$2:$O$893,MATCH(I59,Backbone!$A$2:$A$893,0))","v":6.4},null,{"$f":"INDEX(Backbone!$P$2:$P$893,MATCH(I59,Backbone!$A$2:$A$893,0))","v":8},null,{"$f":"INDEX(Backbone!$Q$2:$Q$893,MATCH(I59,Backbone!$A$2:$A$893,0))","v":0.61555555555555552},null,null,{"$f":"(AG59*$AG$22+AI59*$AI$22+AK59*$AK$22+AM59*$AM$22+AO59*$AO$22+AQ59*$AQ$22+AS59*$AS$22+AU59*$AU$22+AW59*$AW$22)/(SUM($AG$22:$AW$22)*10)","v":{"$error":"#DIV/0!"}},null,null,"Go to \nToolbox: ",null,{"$f":"HYPERLINK(\"#\"&ADDRESS(MATCH(I59,Toolbox!$C$1:$C$300),1,,,\"Toolbox\"),VLOOKUP(I59,Toolbox!$C$1:$C$300,1,FALSE))","v":"Sustainable Funding Strategy for One Health Toolkit"}]
[]
[]
[]
[]
[]
[null,null,null,null,null,null,null,null,{"$f":"Backbone!A567","v":"SurvCost: A tool to Estimate the Cost of Integrated Disease Surveillance and Response"},null,null,null,null,null,null,"An excel-based tool designed to estimate the costs of Integrated Disease Surveillance and Response (IDSR) system.",null,null,null,null,null,null,null,null,{"$f":"INDEX(Backbone!$R$2:$R$893,MATCH(I65,Backbone!$A$2:$A$893,0))","v":"Self-assessment tool"},null,null,null,{"$f":"INDEX(Backbone!$S$2:$S$893,MATCH(I65,Backbone!$A$2:$A$893,0))","v":"Sector Specific; Generalized"},null,null,null,{"$f":"INDEX(Backbone!$H$2:$H$893,MATCH(I65,Backbone!$A$2:$A$893,0))","v":9.8000000000000007},null,{"$f":"INDEX(Backbone!$I$2:$I$893,MATCH(I65,Backbone!$A$2:$A$893,0))","v":8},null,{"$f":"INDEX(Backbone!$J$2:$J$893,MATCH(I65,Backbone!$A$2:$A$893,0))","v":7.6},null,{"$f":"INDEX(Backbone!$K$1:$K$893,MATCH(I65,Backbone!$A$1:$A$893,0))","v":9.6999999999999993},null,{"$f":"INDEX(Backbone!$L$2:$L$893,MATCH(I65,Backbone!$A$2:$A$893,0))","v":7.7},null,{"$f":"INDEX(Backbone!$M$2:$M$893,MATCH(I65,Backbone!$A$2:$A$893,0))","v":5.8},null,{"$f":"INDEX(Backbone!$N$2:$N$893,MATCH(I65,Backbone!$A$2:$A$893,0))","v":7},null,{"$f":"INDEX(Backbone!$O$2:$O$893,MATCH(I65,Backbone!$A$2:$A$893,0))","v":7.3},null,{"$f":"INDEX(Backbone!$P$2:$P$893,MATCH(I65,Backbone!$A$2:$A$893,0))","v":8},null,{"$f":"INDEX(Backbone!$Q$2:$Q$893,MATCH(I65,Backbone!$A$2:$A$893,0))","v":0.78777777777777769},null,null,{"$f":"(AG65*$AG$22+AI65*$AI$22+AK65*$AK$22+AM65*$AM$22+AO65*$AO$22+AQ65*$AQ$22+AS65*$AS$22+AU65*$AU$22+AW65*$AW$22)/(SUM($AG$22:$AW$22)*10)","v":{"$error":"#DIV/0!"}},null,null,"Go to \nToolbox: ",null,{"$f":"HYPERLINK(\"#\"&ADDRESS(MATCH(I65,Toolbox!$C$1:$C$300),1,,,\"Toolbox\"),VLOOKUP(I65,Toolbox!$C$1:$C$300,1,FALSE))","v":"SurvCost: A tool to Estimate the Cost of Integrated Disease Surveillance and Response"}]
[]
[]
[]
[]
[]
[]
[null,null,null,"Other Relevant Resources",null,null,null,null,{"$f":"Backbone!A303","v":"National Action Plan for Health Security (NAPHS)"},null,null,null,null,null,null,"A country owned planning process that can accelerate the implementation of International Health Regulations (IHR) core capacities and is based on the One Health and wholeof-government approach for all hazards.",null,null,null,null,null,null,null,null,{"$f":"INDEX(Backbone!$R$2:$R$893,MATCH(I72,Backbone!$A$2:$A$893,0))","v":"Guidance document"},null,null,null,{"$f":"INDEX(Backbone!$S$2:$S$893,MATCH(I72,Backbone!$A$2:$A$893,0))","v":"One Health; Generalized"},null,null,null,{"$f":"INDEX(Backbone!$H$2:$H$893,MATCH(I72,Backbone!$A$2:$A$893,0))","v":8},null,{"$f":"INDEX(Backbone!$I$2:$I$893,MATCH(I72,Backbone!$A$2:$A$893,0))","v":9},null,{"$f":"INDEX(Backbone!$J$2:$J$893,MATCH(I72,Backbone!$A$2:$A$893,0))","v":7.8},null,{"$f":"INDEX(Backbone!$K$1:$K$893,MATCH(I72,Backbone!$A$1:$A$893,0))","v":10},null,{"$f":"INDEX(Backbone!$L$2:$L$893,MATCH(I72,Backbone!$A$2:$A$893,0))","v":8},null,{"$f":"INDEX(Backbone!$M$2:$M$893,MATCH(I72,Backbone!$A$2:$A$893,0))","v":4.5},null,{"$f":"INDEX(Backbone!$N$2:$N$893,MATCH(I72,Backbone!$A$2:$A$893,0))","v":10},null,{"$f":"INDEX(Backbone!$O$2:$O$893,MATCH(I72,Backbone!$A$2:$A$893,0))","v":10},null,{"$f":"INDEX(Backbone!$P$2:$P$893,MATCH(I72,Backbone!$A$2:$A$893,0))","v":10},null,{"$f":"INDEX(Backbone!$Q$2:$Q$893,MATCH(I72,Backbone!$A$2:$A$893,0))","v":0.85888888888888881},null,null,{"$f":"(AG72*$AG$22+AI72*$AI$22+AK72*$AK$22+AM72*$AM$22+AO72*$AO$22+AQ72*$AQ$22+AS72*$AS$22+AU72*$AU$22+AW72*$AW$22)/(SUM($AG$22:$AW$22)*10)","v":{"$error":"#DIV/0!"}},null,null,"Go to \nToolbox: ",null,{"$f":"HYPERLINK(\"#\"&ADDRESS(MATCH(I72,Toolbox!$C$1:$C$300),1,,,\"Toolbox\"),VLOOKUP(I72,Toolbox!$C$1:$C$300,1,FALSE))","v":"National Action Plan for Health Security (NAPHS)"}]
[]
[]
[]
[]
[]
[null,null,null,null,null,null,null,null,{"$f":"Backbone!A332","v":"Network for Evaluation of One Health (NEOH)"},null,null,null,null,null,null,"An excel-based tool assessing the One Health-ness (or strength of One Health, OH) of a OH surveillance system. ",null,null,null,null,null,null,null,null,{"$f":"INDEX(Backbone!$R$2:$R$893,MATCH(I78,Backbone!$A$2:$A$893,0))","v":"Guidance document"},null,null,null,{"$f":"INDEX(Backbone!$S$2:$S$893,MATCH(I78,Backbone!$A$2:$A$893,0))","v":"One Health; Generalized"},null,null,null,{"$f":"INDEX(Backbone!$H$2:$H$893,MATCH(I78,Backbone!$A$2:$A$893,0))","v":8.3000000000000007},null,{"$f":"INDEX(Backbone!$I$2:$I$893,MATCH(I78,Backbone!$A$2:$A$893,0))","v":7.7},null,{"$f":"INDEX(Backbone!$J$2:$J$893,MATCH(I78,Backbone!$A$2:$A$893,0))","v":5.3},null,{"$f":"INDEX(Backbone!$K$1:$K$893,MATCH(I78,Backbone!$A$1:$A$893,0))","v":8.9},null,{"$f":"INDEX(Backbone!$L$2:$L$893,MATCH(I78,Backbone!$A$2:$A$893,0))","v":7.8},null,{"$f":"INDEX(Backbone!$M$2:$M$893,MATCH(I78,Backbone!$A$2:$A$893,0))","v":4.7},null,{"$f":"INDEX(Backbone!$N$2:$N$893,MATCH(I78,Backbone!$A$2:$A$893,0))","v":5.3},null,{"$f":"INDEX(Backbone!$O$2:$O$893,MATCH(I78,Backbone!$A$2:$A$893,0))","v":8},null,{"$f":"INDEX(Backbone!$P$2:$P$893,MATCH(I78,Backbone!$A$2:$A$893,0))","v":5.3},null,{"$f":"INDEX(Backbone!$Q$2:$Q$893,MATCH(I78,Backbone!$A$2:$A$893,0))","v":0.68111111111111111},null,null,{"$f":"(AG78*$AG$22+AI78*$AI$22+AK78*$AK$22+AM78*$AM$22+AO78*$AO$22+AQ78*$AQ$22+AS78*$AS$22+AU78*$AU$22+AW78*$AW$22)/(SUM($AG$22:$AW$22)*10)","v":{"$error":"#DIV/0!"}},null,null,"Go to \nToolbox: ",null,{"$f":"HYPERLINK(\"#\"&ADDRESS(MATCH(I78,Toolbox!$C$1:$C$300),1,,,\"Toolbox\"),VLOOKUP(I78,Toolbox!$C$1:$C$300,1,FALSE))","v":"Network for Evaluation of One Health (NEOH)"}]
[]
[]
[]
[]
[]
[null,null,null,null,null,null,null,null,{"$f":"Backbone!A420","v":"World Organisation for Animal Health (WOAH) PVS Gap Analysis"},null,null,null,null,null,null,"Supports countries in detailed planning based on their PVS Evaluation results.\n\n",null,null,null,null,null,null,null,null,{"$f":"INDEX(Backbone!$R$2:$R$893,MATCH(I84,Backbone!$A$2:$A$893,0))","v":"Guided/Facilitated tool or process"},null,null,null,{"$f":"INDEX(Backbone!$S$2:$S$893,MATCH(I84,Backbone!$A$2:$A$893,0))","v":"Sector Specific; Generalized"},null,null,null,{"$f":"INDEX(Backbone!$H$2:$H$893,MATCH(I84,Backbone!$A$2:$A$893,0))","v":6.8},null,{"$f":"INDEX(Backbone!$I$2:$I$893,MATCH(I84,Backbone!$A$2:$A$893,0))","v":8},null,{"$f":"INDEX(Backbone!$J$2:$J$893,MATCH(I84,Backbone!$A$2:$A$893,0))","v":5.6},null,{"$f":"INDEX(Backbone!$K$1:$K$893,MATCH(I84,Backbone!$A$1:$A$893,0))","v":10},null,{"$f":"INDEX(Backbone!$L$2:$L$893,MATCH(I84,Backbone!$A$2:$A$893,0))","v":6},null,{"$f":"INDEX(Backbone!$M$2:$M$893,MATCH(I84,Backbone!$A$2:$A$893,0))","v":4.3},null,{"$f":"INDEX(Backbone!$N$2:$N$893,MATCH(I84,Backbone!$A$2:$A$893,0))","v":9.5},null,{"$f":"INDEX(Backbone!$O$2:$O$893,MATCH(I84,Backbone!$A$2:$A$893,0))","v":4.7},null,{"$f":"INDEX(Backbone!$P$2:$P$893,MATCH(I84,Backbone!$A$2:$A$893,0))","v":7},null,{"$f":"INDEX(Backbone!$Q$2:$Q$893,MATCH(I84,Backbone!$A$2:$A$893,0))","v":0.68777777777777771},null,null,{"$f":"(AG84*$AG$22+AI84*$AI$22+AK84*$AK$22+AM84*$AM$22+AO84*$AO$22+AQ84*$AQ$22+AS84*$AS$22+AU84*$AU$22+AW84*$AW$22)/(SUM($AG$22:$AW$22)*10)","v":{"$error":"#DIV/0!"}},null,null,"Go to \nToolbox: ",null,{"$f":"HYPERLINK(\"#\"&ADDRESS(MATCH(I84,Toolbox!$C$1:$C$300),1,,,\"Toolbox\"),VLOOKUP(I84,Toolbox!$C$1:$C$300,1,FALSE))","v":"World Organisation for Animal Health (WOAH) PVS Gap Analysis"}]
[]
[]
[]
[]
[]
[null,null,null,null,null,null,null,null,{"$f":"Backbone!A445","v":"Rabies ECON "},null,null,null,null,null,null,"An Excel-based tool to estimate the epidemiologic burden of dog rabies and potential epidemiologic and economic impact of a dog rabies vaccination program.",null,null,null,null,null,null,null,null,{"$f":"INDEX(Backbone!$R$2:$R$893,MATCH(I90,Backbone!$A$2:$A$893,0))","v":"Self-assessment tool"},null,null,null,{"$f":"INDEX(Backbone!$S$2:$S$893,MATCH(I90,Backbone!$A$2:$A$893,0))","v":"One Health; Disease/Threat Specific "},null,null,null,{"$f":"INDEX(Backbone!$H$2:$H$893,MATCH(I90,Backbone!$A$2:$A$893,0))","v":9.1999999999999993},null,{"$f":"INDEX(Backbone!$I$2:$I$893,MATCH(I90,Backbone!$A$2:$A$893,0))","v":6},null,{"$f":"INDEX(Backbone!$J$2:$J$893,MATCH(I90,Backbone!$A$2:$A$893,0))","v":6.6},null,{"$f":"INDEX(Backbone!$K$1:$K$893,MATCH(I90,Backbone!$A$1:$A$893,0))","v":4},null,{"$f":"INDEX(Backbone!$L$2:$L$893,MATCH(I90,Backbone!$A$2:$A$893,0))","v":7.1},null,{"$f":"INDEX(Backbone!$M$2:$M$893,MATCH(I90,Backbone!$A$2:$A$893,0))","v":5.5},null,{"$f":"INDEX(Backbone!$N$2:$N$893,MATCH(I90,Backbone!$A$2:$A$893,0))","v":4},null,{"$f":"INDEX(Backbone!$O$2:$O$893,MATCH(I90,Backbone!$A$2:$A$893,0))","v":7.6},null,{"$f":"INDEX(Backbone!$P$2:$P$893,MATCH(I90,Backbone!$A$2:$A$893,0))","v":8},null,{"$f":"INDEX(Backbone!$Q$2:$Q$893,MATCH(I90,Backbone!$A$2:$A$893,0))","v":0.64444444444444449},null,null,{"$f":"(AG90*$AG$22+AI90*$AI$22+AK90*$AK$22+AM90*$AM$22+AO90*$AO$22+AQ90*$AQ$22+AS90*$AS$22+AU90*$AU$22+AW90*$AW$22)/(SUM($AG$22:$AW$22)*10)","v":{"$error":"#DIV/0!"}},null,null,"Go to \nToolbox: ",null,{"$f":"HYPERLINK(\"#\"&ADDRESS(MATCH(I90,Toolbox!$C$1:$C$300),1,,,\"Toolbox\"),VLOOKUP(I90,Toolbox!$C$1:$C$300,1,FALSE))","v":"Rabies ECON "}]
[]
[]
[]
[]
[]
[null,null,null,null,null,null,null,null,{"$f":"Backbone!A510","v":"SuRveillance EVALuation framework (SERVAL)"},null,null,null,null,null,null,"A stepwise instruction on how to plan, structure and conduct assessment of animal health surveillance systems.",null,null,null,null,null,null,null,null,{"$f":"INDEX(Backbone!$R$2:$R$893,MATCH(I96,Backbone!$A$2:$A$893,0))","v":"Guidance document"},null,null,null,{"$f":"INDEX(Backbone!$S$2:$S$893,MATCH(I96,Backbone!$A$2:$A$893,0))","v":"Sector Specific; Generalized"},null,null,null,{"$f":"INDEX(Backbone!$H$2:$H$893,MATCH(I96,Backbone!$A$2:$A$893,0))","v":8.8000000000000007},null,{"$f":"INDEX(Backbone!$I$2:$I$893,MATCH(I96,Backbone!$A$2:$A$893,0))","v":9},null,{"$f":"INDEX(Backbone!$J$2:$J$893,MATCH(I96,Backbone!$A$2:$A$893,0))","v":9},null,{"$f":"INDEX(Backbone!$K$1:$K$893,MATCH(I96,Backbone!$A$1:$A$893,0))","v":10},null,{"$f":"INDEX(Backbone!$L$2:$L$893,MATCH(I96,Backbone!$A$2:$A$893,0))","v":8.1},null,{"$f":"INDEX(Backbone!$M$2:$M$893,MATCH(I96,Backbone!$A$2:$A$893,0))","v":3.3},null,{"$f":"INDEX(Backbone!$N$2:$N$893,MATCH(I96,Backbone!$A$2:$A$893,0))","v":4},null,{"$f":"INDEX(Backbone!$O$2:$O$893,MATCH(I96,Backbone!$A$2:$A$893,0))","v":6.8},null,{"$f":"INDEX(Backbone!$P$2:$P$893,MATCH(I96,Backbone!$A$2:$A$893,0))","v":8},null,{"$f":"INDEX(Backbone!$Q$2:$Q$893,MATCH(I96,Backbone!$A$2:$A$893,0))","v":0.74444444444444446},null,null,{"$f":"(AG96*$AG$22+AI96*$AI$22+AK96*$AK$22+AM96*$AM$22+AO96*$AO$22+AQ96*$AQ$22+AS96*$AS$22+AU96*$AU$22+AW96*$AW$22)/(SUM($AG$22:$AW$22)*10)","v":{"$error":"#DIV/0!"}},null,null,"Go to \nToolbox: ",null,{"$f":"HYPERLINK(\"#\"&ADDRESS(MATCH(I96,Toolbox!$C$1:$C$300),1,,,\"Toolbox\"),VLOOKUP(I96,Toolbox!$C$1:$C$300,1,FALSE))","v":"SuRveillance EVALuation framework (SERVAL)"}]
[]
[]
[]
[]
[]
[null,null,null,null,null,null,null,null,{"$f":"Backbone!A592","v":"WHO CHOICE"},null,null,null,null,null,null,"A program that helps countries decide health system priorities based on considerations of costs and impacts.",null,null,null,null,null,null,null,null,{"$f":"INDEX(Backbone!$R$2:$R$893,MATCH(I102,Backbone!$A$2:$A$893,0))","v":"Self-assessment tool"},null,null,null,{"$f":"INDEX(Backbone!$S$2:$S$893,MATCH(I102,Backbone!$A$2:$A$893,0))","v":"Sector Specific; Generalized"},null,null,null,{"$f":"INDEX(Backbone!$H$2:$H$893,MATCH(I102,Backbone!$A$2:$A$893,0))","v":9.6},null,{"$f":"INDEX(Backbone!$I$2:$I$893,MATCH(I102,Backbone!$A$2:$A$893,0))","v":8},null,{"$f":"INDEX(Backbone!$J$2:$J$893,MATCH(I102,Backbone!$A$2:$A$893,0))","v":7.4},null,{"$f":"INDEX(Backbone!$K$1:$K$893,MATCH(I102,Backbone!$A$1:$A$893,0))","v":5.3},null,{"$f":"INDEX(Backbone!$L$2:$L$893,MATCH(I102,Backbone!$A$2:$A$893,0))","v":7.3},null,{"$f":"INDEX(Backbone!$M$2:$M$893,MATCH(I102,Backbone!$A$2:$A$893,0))","v":5},null,{"$f":"INDEX(Backbone!$N$2:$N$893,MATCH(I102,Backbone!$A$2:$A$893,0))","v":8.5},null,{"$f":"INDEX(Backbone!$O$2:$O$893,MATCH(I102,Backbone!$A$2:$A$893,0))","v":5},null,{"$f":"INDEX(Backbone!$P$2:$P$893,MATCH(I102,Backbone!$A$2:$A$893,0))","v":9},null,{"$f":"INDEX(Backbone!$Q$2:$Q$893,MATCH(I102,Backbone!$A$2:$A$893,0))","v":0.72333333333333327},null,null,{"$f":"(AG102*$AG$22+AI102*$AI$22+AK102*$AK$22+AM102*$AM$22+AO102*$AO$22+AQ102*$AQ$22+AS102*$AS$22+AU102*$AU$22+AW102*$AW$22)/(SUM($AG$22:$AW$22)*10)","v":{"$error":"#DIV/0!"}},null,null,"Go to \nToolbox: ",null,{"$f":"HYPERLINK(\"#\"&ADDRESS(MATCH(I102,Toolbox!$C$1:$C$300),1,,,\"Toolbox\"),VLOOKUP(I102,Toolbox!$C$1:$C$300,1,FALSE))","v":"WHO CHOICE"}]
[]
[]
[]
[]
[]
[]
[]
[]
[]
[]
[]
[]
[]
[]
[]
[]
[]
[]
[null,null,null,null,null,null,null,null,null,null,null,null,null,null,null,null,null,null,null,null,null,null,null,null,null,null,null,null,null,null,null,null,"Accessibility",null,"Language",null,"Ease of use",null,"Flexibility",null,"Data Needs",null,"Data Analysis",null,"Acceptability",null,"One Health",null,"Impact"]
[]
[]
[null,"LEVEL 3 RESOURCES"]
[]
[]
[]
[null,null,null,null,null,null,null,null,null,null,null,null,null,null,null,null,null,null,null,null,null,null,null,null,null,null,null,null,null,null,null,null,null,null,null,null,null,null,null,null,null,null,null,null,null,null,null,null,null,null,"RAW SCORE",null,null,"ADJUSTED SCORE \n(Based on user preferences)"]
[]
[]
[]
[null,null,null,"DESIGNATION",null,null,null,null,"RESOURCE NAME",null,null,null,null,null,null,"SHORT DESCRIPTION",null,null,null,null,null,null,null,null,"RESOURCE TYPE",null,null,null,"RESOURCE GENERALITY"]
[]
[]
[]
[null,null,null,null,null,null,null,null,null,null,null,null,null,null,null,null,null,null,null,null,null,null,null,null,null,null,null,null,null,null,null,null,{"$f":"'Attribute Survey'!S231","v":0},null,{"$f":"'Attribute Survey'!S235","v":0},null,{"$f":"'Attribute Survey'!S239","v":0},null,{"$f":"'Attribute Survey'!S243","v":0},null,{"$f":"'Attribute Survey'!S247","v":0},null,{"$f":"'Attribute Survey'!S251","v":0},null,{"$f":"'Attribute Survey'!S255","v":0},null,{"$f":"'Attribute Survey'!S259","v":0},null,{"$f":"'Attribute Survey'!S263","v":0}]
[null,null,null,"Resources Best Fit for Purpose",null,null,null,null,{"$f":"Backbone!A686","v":"Sustainable Funding Strategy for One Health Toolkit"},null,null,null,null,null,null,"This toolkit supports One Health platforms and other coordination mechanisms in requesting and receiving funds to support operations of the platform and its activities in the long term.",null,null,null,null,null,null,null,null,{"$f":"INDEX(Backbone!$R$2:$R$893,MATCH(I137,Backbone!$A$2:$A$893,0))","v":"Guidance document"},null,null,null,{"$f":"INDEX(Backbone!$S$2:$S$893,MATCH(I137,Backbone!$A$2:$A$893,0))","v":"One Health; Generalized"},null,null,null,{"$f":"INDEX(Backbone!$H$2:$H$893,MATCH(I137,Backbone!$A$2:$A$893,0))","v":8.4},null,{"$f":"INDEX(Backbone!$I$2:$I$893,MATCH(I137,Backbone!$A$2:$A$893,0))","v":8},null,{"$f":"INDEX(Backbone!$J$2:$J$893,MATCH(I137,Backbone!$A$2:$A$893,0))","v":8.4},null,{"$f":"INDEX(Backbone!$K$2:$K$893,MATCH(I137,Backbone!$A$2:$A$893,0))","v":6.7},null,{"$f":"INDEX(Backbone!$L$2:$L$893,MATCH(I137,Backbone!$A$2:$A$893,0))","v":2},null,{"$f":"INDEX(Backbone!$M$2:$M$893,MATCH(I137,Backbone!$A$2:$A$893,0))","v":3.5},null,{"$f":"INDEX(Backbone!$N$2:$N$893,MATCH(I137,Backbone!$A$2:$A$893,0))","v":4},null,{"$f":"INDEX(Backbone!$O$2:$O$893,MATCH(I137,Backbone!$A$2:$A$893,0))","v":6.4},null,{"$f":"INDEX(Backbone!$P$2:$P$893,MATCH(I137,Backbone!$A$2:$A$893,0))","v":8},null,{"$f":"INDEX(Backbone!$Q$2:$Q$893,MATCH(I137,Backbone!$A$2:$A$893,0))","v":0.61555555555555552},null,null,{"$f":"(AG137*$AG$22+AI137*$AI$22+AK137*$AK$22+AM137*$AM$22+AO137*$AO$22+AQ137*$AQ$22+AS137*$AS$22+AU137*$AU$22+AW137*$AW$22)/(SUM($AG$22:$AW$22)*10)","v":{"$error":"#DIV/0!"}},null,null,"Go to \nToolbox: ",null,{"$f":"HYPERLINK(\"#\"&ADDRESS(MATCH(I137,Toolbox!$C$1:$C$300),1,,,\"Toolbox\"),VLOOKUP(I137,Toolbox!$C$1:$C$300,1,FALSE))","v":"Sustainable Funding Strategy for One Health Toolkit"}]

{"sheet":"A9_tools","index":35,"n_rows":131,"n_cols":59,"rows_kept":131,"cut":false,"hidden":false,"merged":[[83,56,87,57],[83,58,87,62],[89,56,93,57],[89,58,93,62],[95,56,99,57],[95,58,99,62],[130,56,134,57],[130,58,134,62],[53,56,57,57],[53,58,57,62],[59,56,63,57],[59,58,63,62],[65,56,69,57],[65,58,69,62],[71,56,75,57],[71,58,75,62],[77,56,81,57],[77,58,81,62],[22,56,26,57],[22,58,26,62],[28,56,32,57],[28,58,32,62],[34,56,38,57],[34,58,38,62],[40,56,44,57],[40,58,44,62],[46,56,50,57],[46,58,50,62],[22,50,26,51],[22,53,26,54],[28,8,32,13],[28,15,32,22],[28,32,32,32],[28,34,32,34],[28,36,32,36],[28,38,32,38],[22,38,26,38],[22,40,26,40],[22,42,26,42],[22,44,26,44],[22,46,26,46],[22,48,26,48],[22,15,26,22],[22,24,26,26],[22,28,26,30],[22,32,26,32],[22,34,26,34],[22,36,26,36],[28,44,32,44],[28,46,32,46],[28,48,32,48],[28,50,32,51],[6,32,20,32],[6,34,20,34],[6,36,20,36],[6,38,20,38],[6,40,20,40],[6,42,20,42],[6,44,20,44],[6,46,20,46],[6,48,20,48],[13,50,20,51],[13,53,20,54],[17,3,20,6],[17,8,20,13],[17,15,20,22],[17,24,20,26],[17,28,20,30],[1,1,3,62],[34,46,38,46],[34,48,38,48],[34,50,38,51],[34,53,38,54],[28,53,32,54],[34,8,38,13],[34,15,38,22],[34,24,38,26],[34,28,38,30],[34,32,38,32],[34,34,38,34],[34,36,38,36],[34,38,38,38],[34,40,38,40],[28,40,32,40],[28,42,32,42],[28,24,32,26],[28,28,32,30],[40,48,44,48],[40,50,44,51],[40,53,44,54],[40,40,44,40],[40,42,44,42],[40,44,44,44],[40,46,44,46],[46,8,50,13],[46,15,50,22],[46,24,50,26],[46,28,50,30],[46,32,50,32],[46,34,50,34],[46,36,50,36],[40,36,44,36],[40,38,44,38],[40,8,44,13],[40,15,44,22],[40,24,44,26],[40,28,44,30],[40,32,44,32],[40,34,44,34],[46,50,50,51],[46,53,50,54],[46,44,50,44],[46,46,50,46],[46,48,50,48],[59,40,63,40],[59,42,63,42],[59,44,63,44],[59,46,63,46],[59,48,63,48],[53,48,57,48],[53,50,57,51],[53,53,57,54],[53,40,57,40],[53,42,57,42],[53,44,57,44],[53,46,57,46],[59,50,63,51],[59,53,63,54],[59,8,63,13],[59,15,63,22],[59,24,63,26],[59,28,63,30],[59,32,63,32],[59,34,63,34],[59,36,63,36],[53,36,57,36],[53,38,57,38],[53,8,57,13],[53,15,57,22],[53,24,57,26],[53,28,57,30],[53,32,57,32],[53,34,57,34],[71,46,75,46],[71,48,75,48],[71,50,75,51],[71,53,75,54],[65,53,69,54],[71,8,75,13],[71,15,75,22],[71,24,75,26],[71,28,75,30],[71,32,75,32],[71,34,75,34],[71,36,75,36],[71,38,75,38],[71,40,75,40],[65,40,69,40],[65,42,69,42],[65,44,69,44],[65,46,69,46],[65,48,69,48],[65,50,69,51],[65,8,69,13],[65,15,69,22],[65,36,69,36],[65,38,69,38],[77,48,81,48],[77,50,81,51],[77,53,81,54],[83,8,87,13],[83,15,87,22],[83,24,87,26],[83,28,87,30],[83,32,87,32],[83,34,87,34],[83,36,87,36],[77,36,81,36],[77,38,81,38],[77,40,81,40],[77,42,81,42],[77,44,81,44],[77,46,81,46],[77,8,81,13],[77,15,81,22],[77,24,81,26],[77,28,81,30],[83,50,87,51],[83,53,87,54],[83,48,87,48],[130,50,134,51],[130,53,134,54],[125,3,128,6],[125,8,128,13],[125,15,128,22],[125,24,128,26],[125,28,128,30],[89,44,93,44],[114,32,128,32],[114,34,128,34],[114,36,128,36],[114,38,128,38],[114,40,128,40],[114,42,128,42],[114,44,128,44],[53,3,99,6],[89,8,93,13],[89,15,93,22],[89,24,93,26],[89,28,93,30],[89,32,93,32],[89,34,93,34],[89,36,93,36],[65,24,69,26],[114,48,128,48],[121,50,128,51],[121,53,128,54],[114,46,128,46],[83,38,87,38],[83,40,87,40],[83,42,87,42],[83,44,87,44],[83,46,87,46],[95,53,99,54],[89,53,93,54],[95,50,99,51],[89,50,93,51],[89,48,93,48],[130,48,134,48],[89,38,93,38],[89,40,93,40],[89,42,93,42],[130,24,134,26],[130,46,134,46],[130,8,134,13],[130,15,134,22],[77,32,81,32],[77,34,81,34],[130,28,134,30],[130,32,134,32],[130,34,134,34],[95,46,99,46],[95,48,99,48],[95,8,99,13],[95,15,99,22],[95,24,99,26],[95,28,99,30],[95,32,99,32],[95,34,99,34],[95,36,99,36],[95,38,99,38],[89,46,93,46],[130,36,134,36],[130,38,134,38],[130,40,134,40],[130,42,134,42],[130,44,134,44],[114,1,144,1],[95,40,99,40],[95,42,99,42],[95,44,99,44],[130,3,134,6],[17,1,99,1],[22,3,50,6],[22,8,26,13],[65,28,69,30],[65,32,69,32],[65,34,69,34],[71,42,75,42],[71,44,75,44],[59,38,63,38],[34,42,38,42],[34,44,38,44],[46,38,50,38],[46,40,50,40],[46,42,50,42]]}
[]
[null,"Laboratory Capacity Assessment Resources"]
[]
[]
[]
[]
[null,null,null,null,null,null,null,null,null,null,null,null,null,null,null,null,null,null,null,null,null,null,null,null,null,null,null,null,null,null,null,null,"Accessibility",null,"Language",null,"Ease of use",null,"Flexibility",null,"Data Needs",null,"Data Analysis",null,"Acceptability",null,"One Health",null,"Impact"]
[]
[]
[]
[]
[]
[]
[null,null,null,null,null,null,null,null,null,null,null,null,null,null,null,null,null,null,null,null,null,null,null,null,null,null,null,null,null,null,null,null,null,null,null,null,null,null,null,null,null,null,null,null,null,null,null,null,null,null,"RAW SCORE",null,null,"ADJUSTED SCORE \n(Based on user preferences)"]
[]
[]
[]
[null,"LEVEL 1 RESOURCES",null,"DESIGNATION",null,null,null,null,"RESOURCE NAME",null,null,null,null,null,null,"SHORT DESCRIPTION",null,null,null,null,null,null,null,null,"RESOURCE TYPE",null,null,null,"RESOURCE GENERALITY"]
[]
[]
[]
[null,null,null,null,null,null,null,null,null,null,null,null,null,null,null,null,null,null,null,null,null,null,null,null,null,null,null,null,null,null,null,null,{"$f":"'Attribute Survey'!S22","v":0},null,{"$f":"'Attribute Survey'!S26","v":0},null,{"$f":"'Attribute Survey'!S30","v":0},null,{"$f":"'Attribute Survey'!S34","v":0},null,{"$f":"'Attribute Survey'!S38","v":0},null,{"$f":"'Attribute Survey'!S42","v":0},null,{"$f":"'Attribute Survey'!S46","v":0},null,{"$f":"'Attribute Survey'!S50","v":0},null,{"$f":"'Attribute Survey'!S54","v":0}]
[null,null,null,"Resources Best Fit For Purpose",null,null,null,null,{"$f":"Backbone!A100","v":"Evaluation of Collaboration in a multisectoral Surveillance system (EcoSur)"},null,null,null,null,null,null,"A tool that aims to evaluate the organization and functioning of collaboration in a multisectoral surveillance system and to analyse strengths and weaknesses of this collaboration.\n\n",null,null,null,null,null,null,null,null,{"$f":"INDEX(Backbone!$R2:$R893,MATCH(I23,Backbone!$A2:$A893,0))","v":"Guided/Facilitated tool or process"},null,null,null,{"$f":"INDEX(Backbone!$S2:$S893,MATCH(I23,Backbone!$A2:$A893,0))","v":"One Health; Generalized"},null,null,null,{"$f":"INDEX(Backbone!$H2:$H893,MATCH(I23,Backbone!$A2:$A893,0))","v":8.3000000000000007},null,{"$f":"INDEX(Backbone!$I2:$I893,MATCH(I23,Backbone!$A2:$A893,0))","v":6},null,{"$f":"INDEX(Backbone!$J2:$J893,MATCH(I23,Backbone!$A2:$A893,0))","v":8.5},null,{"$f":"INDEX(Backbone!$K2:$K893,MATCH(I23,Backbone!$A2:$A893,0))","v":7.8},null,{"$f":"INDEX(Backbone!$L2:$L893,MATCH(I23,Backbone!$A2:$A893,0))","v":8.3000000000000007},null,{"$f":"INDEX(Backbone!$M2:$M893,MATCH(I23,Backbone!$A2:$A893,0))","v":6.7},null,{"$f":"INDEX(Backbone!$N2:$N893,MATCH(I23,Backbone!$A2:$A893,0))","v":3.3},null,{"$f":"INDEX(Backbone!$O2:$O893,MATCH(I23,Backbone!$A2:$A893,0))","v":9.1},null,{"$f":"INDEX(Backbone!$P2:$P893,MATCH(I23,Backbone!$A2:$A893,0))","v":4.7},null,{"$f":"INDEX(Backbone!$Q2:$Q893,MATCH(I23,Backbone!$A2:$A893,0))","v":0.69666666666666677},null,null,{"$f":"(AG23*$AG$22+AI23*$AI$22+AK23*$AK$22+AM23*$AM$22+AO23*$AO$22+AQ23*$AQ$22+AS23*$AS$22+AU23*$AU$22+AW23*$AW$22)/(SUM($AG$22:$AW$22)*10)","v":{"$error":"#DIV/0!"}},null,null,"Go to \nToolbox: ",null,{"$f":"HYPERLINK(\"#\"&ADDRESS(MATCH(I23,Toolbox!$C$1:$C$300),1,,,\"Toolbox\"),VLOOKUP(I23,Toolbox!$C$1:$C$300,1,FALSE))","v":"Evaluation of Collaboration in a multisectoral Surveillance system (EcoSur)"}]
[]
[]
[]
[]
[]
[null,null,null,null,null,null,null,null,{"$f":"Backbone!A268","v":"FAO Laboratory Mapping Tool (LMT)"},null,null,null,null,null,null,"This Excel-based tool assesses the functionality of veterinary laboratories. ",null,null,null,null,null,null,null,null,{"$f":"INDEX(Backbone!$R$2:$R$893,MATCH(I29,Backbone!$A$2:$A$893,0))","v":"Self-assessment tool"},null,null,null,{"$f":"INDEX(Backbone!$S$2:$S$893,MATCH(I29,Backbone!$A$2:$A$893,0))","v":"Sector Specific; Generalized"},null,null,null,{"$f":"INDEX(Backbone!$H$2:$H$893,MATCH(I29,Backbone!$A$2:$A$893,0))","v":9.8000000000000007},null,{"$f":"INDEX(Backbone!$I$2:$I$893,MATCH(I29,Backbone!$A$2:$A$893,0))","v":10},null,{"$f":"INDEX(Backbone!$J$2:$J$893,MATCH(I29,Backbone!$A$2:$A$893,0))","v":9.1999999999999993},null,{"$f":"INDEX(Backbone!$K$2:$K$893,MATCH(I29,Backbone!$A$2:$A$893,0))","v":7.8},null,{"$f":"INDEX(Backbone!$L$2:$L$893,MATCH(I29,Backbone!$A$2:$A$893,0))","v":7.2},null,{"$f":"INDEX(Backbone!$M$2:$M$893,MATCH(I29,Backbone!$A$2:$A$893,0))","v":7.1},null,{"$f":"INDEX(Backbone!$N$2:$N$893,MATCH(I29,Backbone!$A$2:$A$893,0))","v":9.6999999999999993},null,{"$f":"INDEX(Backbone!$O$2:$O$893,MATCH(I29,Backbone!$A$2:$A$893,0))","v":3},null,{"$f":"INDEX(Backbone!$P$2:$P$893,MATCH(I29,Backbone!$A$2:$A$893,0))","v":4.7},null,{"$f":"INDEX(Backbone!$Q$2:$Q$893,MATCH(I29,Backbone!$A$2:$A$893,0))","v":0.76111111111111107},null,null,{"$f":"(AG29*$AG$22+AI29*$AI$22+AK29*$AK$22+AM29*$AM$22+AO29*$AO$22+AQ29*$AQ$22+AS29*$AS$22+AU29*$AU$22+AW29*$AW$22)/(SUM($AG$22:$AW$22)*10)","v":{"$error":"#DIV/0!"}},null,null,"Go to \nToolbox: ",null,{"$f":"HYPERLINK(\"#\"&ADDRESS(MATCH(I29,Toolbox!$C$1:$C$300),1,,,\"Toolbox\"),VLOOKUP(I29,Toolbox!$C$1:$C$300,1,FALSE))","v":"FAO Laboratory Mapping Tool (LMT)"}]
[]
[]
[]
[]
[]
[null,null,null,null,null,null,null,null,{"$f":"Backbone!A271","v":"Laboratory Infrastructure Network Analysis (LINA)"},null,null,null,null,null,null,"An easy-to-use web-based application providing sophisticated computational modeling and data analytics functionality with easy visualization based on maps regarding capacities and capabilities of the national laboratory network and each laboratory itself.",null,null,null,null,null,null,null,null,{"$f":"INDEX(Backbone!$R$2:$R$893,MATCH(I35,Backbone!$A$2:$A$893,0))","v":"Hardware or Software"},null,null,null,{"$f":"INDEX(Backbone!$S$2:$S$893,MATCH(I35,Backbone!$A$2:$A$893,0))","v":"One Health; Generalized"},null,null,null,{"$f":"INDEX(Backbone!$H$2:$H$893,MATCH(I35,Backbone!$A$2:$A$893,0))","v":9.6},null,{"$f":"INDEX(Backbone!$I$2:$I$893,MATCH(I35,Backbone!$A$2:$A$893,0))","v":6},null,{"$f":"INDEX(Backbone!$J$2:$J$893,MATCH(I35,Backbone!$A$2:$A$893,0))","v":7.6},null,{"$f":"INDEX(Backbone!$K$1:$K$893,MATCH(I35,Backbone!$A$1:$A$893,0))","v":9},null,{"$f":"INDEX(Backbone!$L$2:$L$893,MATCH(I35,Backbone!$A$2:$A$893,0))","v":8.3000000000000007},null,{"$f":"INDEX(Backbone!$M$2:$M$893,MATCH(I35,Backbone!$A$2:$A$893,0))","v":7},null,{"$f":"INDEX(Backbone!$N$2:$N$893,MATCH(I35,Backbone!$A$2:$A$893,0))","v":3},null,{"$f":"INDEX(Backbone!$O$2:$O$893,MATCH(I35,Backbone!$A$2:$A$893,0))","v":9.1},null,{"$f":"INDEX(Backbone!$P$2:$P$893,MATCH(I35,Backbone!$A$2:$A$893,0))","v":4},null,{"$f":"INDEX(Backbone!$Q$2:$Q$893,MATCH(I35,Backbone!$A$2:$A$893,0))","v":0.69555555555555559},null,null,{"$f":"(AG35*$AG$22+AI35*$AI$22+AK35*$AK$22+AM35*$AM$22+AO35*$AO$22+AQ35*$AQ$22+AS35*$AS$22+AU35*$AU$22+AW35*$AW$22)/(SUM($AG$22:$AW$22)*10)","v":{"$error":"#DIV/0!"}},null,null,"Go to \nToolbox: ",null,{"$f":"HYPERLINK(\"#\"&ADDRESS(MATCH(I35,Toolbox!$C$1:$C$300),1,,,\"Toolbox\"),VLOOKUP(I35,Toolbox!$C$1:$C$300,1,FALSE))","v":"Laboratory Infrastructure Network Analysis (LINA)"}]
[]
[]
[]
[]
[]
[null,null,null,null,null,null,null,null,{"$f":"Backbone!A351","v":"Surveillance network assessment tool (OASIS)"},null,null,null,null,null,null,"A standardized semi-quantitative tool for the assessment of surveillance systems on zoonosis and animal diseases.",null,null,null,null,null,null,null,null,{"$f":"INDEX(Backbone!$R$2:$R$893,MATCH(I41,Backbone!$A$2:$A$893,0))","v":"Self-assessment tool"},null,null,null,{"$f":"INDEX(Backbone!$S$2:$S$893,MATCH(I41,Backbone!$A$2:$A$893,0))","v":"Sector Specific; Generalized"},null,null,null,{"$f":"INDEX(Backbone!$H$2:$H$893,MATCH(I41,Backbone!$A$2:$A$893,0))","v":8.1999999999999993},null,{"$f":"INDEX(Backbone!$I$2:$I$893,MATCH(I41,Backbone!$A$2:$A$893,0))","v":7},null,{"$f":"INDEX(Backbone!$J$2:$J$893,MATCH(I41,Backbone!$A$2:$A$893,0))","v":8},null,{"$f":"INDEX(Backbone!$K$1:$K$893,MATCH(I41,Backbone!$A$1:$A$893,0))","v":8.3000000000000007},null,{"$f":"INDEX(Backbone!$L$2:$L$893,MATCH(I41,Backbone!$A$2:$A$893,0))","v":7},null,{"$f":"INDEX(Backbone!$M$2:$M$893,MATCH(I41,Backbone!$A$2:$A$893,0))","v":6.5},null,{"$f":"INDEX(Backbone!$N$2:$N$893,MATCH(I41,Backbone!$A$2:$A$893,0))","v":4.5},null,{"$f":"INDEX(Backbone!$O$2:$O$893,MATCH(I41,Backbone!$A$2:$A$893,0))","v":5.0999999999999996},null,{"$f":"INDEX(Backbone!$P$2:$P$893,MATCH(I41,Backbone!$A$2:$A$893,0))","v":4.5},null,{"$f":"INDEX(Backbone!$Q$2:$Q$893,MATCH(I41,Backbone!$A$2:$A$893,0))","v":0.65666666666666673},null,null,{"$f":"(AG41*$AG$22+AI41*$AI$22+AK41*$AK$22+AM41*$AM$22+AO41*$AO$22+AQ41*$AQ$22+AS41*$AS$22+AU41*$AU$22+AW41*$AW$22)/(SUM($AG$22:$AW$22)*10)","v":{"$error":"#DIV/0!"}},null,null,"Go to \nToolbox: ",null,{"$f":"HYPERLINK(\"#\"&ADDRESS(MATCH(I41,Toolbox!$C$1:$C$300),1,,,\"Toolbox\"),VLOOKUP(I41,Toolbox!$C$1:$C$300,1,FALSE))","v":"Surveillance network assessment tool (OASIS)"}]
[]
[]
[]
[]
[]
[null,null,null,null,null,null,null,null,{"$f":"Backbone!A598","v":"WHO Laboratory Assessment Tool"},null,null,null,null,null,null,"This tool provides guidance and data collection spreadsheets for laboratory assessment, including two parts, system (LAT/System) and facility (LAT/Facility).",null,null,null,null,null,null,null,null,{"$f":"INDEX(Backbone!$R$2:$R$893,MATCH(I47,Backbone!$A$2:$A$893,0))","v":"Self-assessment tool"},null,null,null,{"$f":"INDEX(Backbone!$S$2:$S$893,MATCH(I47,Backbone!$A$2:$A$893,0))","v":"Sector Specific; Generalized"},null,null,null,{"$f":"INDEX(Backbone!$H$2:$H$893,MATCH(I47,Backbone!$A$2:$A$893,0))","v":9},null,{"$f":"INDEX(Backbone!$I$2:$I$893,MATCH(I47,Backbone!$A$2:$A$893,0))","v":10},null,{"$f":"INDEX(Backbone!$J$2:$J$893,MATCH(I47,Backbone!$A$2:$A$893,0))","v":6.4},null,{"$f":"INDEX(Backbone!$K$1:$K$893,MATCH(I47,Backbone!$A$1:$A$893,0))","v":6},null,{"$f":"INDEX(Backbone!$L$2:$L$893,MATCH(I47,Backbone!$A$2:$A$893,0))","v":7.2},null,{"$f":"INDEX(Backbone!$M$2:$M$893,MATCH(I47,Backbone!$A$2:$A$893,0))","v":5.5},null,{"$f":"INDEX(Backbone!$N$2:$N$893,MATCH(I47,Backbone!$A$2:$A$893,0))","v":6},null,{"$f":"INDEX(Backbone!$O$2:$O$893,MATCH(I47,Backbone!$A$2:$A$893,0))","v":5.8},null,{"$f":"INDEX(Backbone!$P$2:$P$893,MATCH(I47,Backbone!$A$2:$A$893,0))","v":4},null,{"$f":"INDEX(Backbone!$Q$2:$Q$893,MATCH(I47,Backbone!$A$2:$A$893,0))","v":0.66555555555555557},null,null,{"$f":"(AG47*$AG$22+AI47*$AI$22+AK47*$AK$22+AM47*$AM$22+AO47*$AO$22+AQ47*$AQ$22+AS47*$AS$22+AU47*$AU$22+AW47*$AW$22)/(SUM($AG$22:$AW$22)*10)","v":{"$error":"#DIV/0!"}},null,null,"Go to \nToolbox: ",null,{"$f":"HYPERLINK(\"#\"&ADDRESS(MATCH(I47,Toolbox!$C$1:$C$300),1,,,\"Toolbox\"),VLOOKUP(I47,Toolbox!$C$1:$C$300,1,FALSE))","v":"WHO Laboratory Assessment Tool"}]
[]
[]
[]
[]
[]
[]
[null,null,null,"Other Relevant Resources",null,null,null,null,{"$f":"Backbone!A33","v":"Framework for Enhancing Anthrax Prevention and Control "},null,null,null,null,null,null,"The Framework gives anthrax background and how to improve anthrax prevention and control in animals and people.",null,null,null,null,null,null,null,null,{"$f":"INDEX(Backbone!$R$2:$R$893,MATCH(I54,Backbone!$A$2:$A$893,0))","v":"Guidance document"},null,null,null,{"$f":"INDEX(Backbone!$S$2:$S$893,MATCH(I54,Backbone!$A$2:$A$893,0))","v":"One Health; Disease/Threat Specific "},null,null,null,{"$f":"INDEX(Backbone!$H$2:$H$893,MATCH(I54,Backbone!$A$2:$A$893,0))","v":9.1},null,{"$f":"INDEX(Backbone!$I$2:$I$893,MATCH(I54,Backbone!$A$2:$A$893,0))","v":10},null,{"$f":"INDEX(Backbone!$J$2:$J$893,MATCH(I54,Backbone!$A$2:$A$893,0))","v":8.6},null,{"$f":"INDEX(Backbone!$K$1:$K$893,MATCH(I54,Backbone!$A$1:$A$893,0))","v":4.7},null,{"$f":"INDEX(Backbone!$L$2:$L$893,MATCH(I54,Backbone!$A$2:$A$893,0))","v":9.1999999999999993},null,{"$f":"INDEX(Backbone!$M$2:$M$893,MATCH(I54,Backbone!$A$2:$A$893,0))","v":2},null,{"$f":"INDEX(Backbone!$N$2:$N$893,MATCH(I54,Backbone!$A$2:$A$893,0))","v":6.3},null,{"$f":"INDEX(Backbone!$O$2:$O$893,MATCH(I54,Backbone!$A$2:$A$893,0))","v":4.3},null,{"$f":"INDEX(Backbone!$P$2:$P$893,MATCH(I54,Backbone!$A$2:$A$893,0))","v":6},null,{"$f":"INDEX(Backbone!$Q$2:$Q$893,MATCH(I54,Backbone!$A$2:$A$893,0))","v":0.66888888888888887},null,null,{"$f":"(AG54*$AG$22+AI54*$AI$22+AK54*$AK$22+AM54*$AM$22+AO54*$AO$22+AQ54*$AQ$22+AS54*$AS$22+AU54*$AU$22+AW54*$AW$22)/(SUM($AG$22:$AW$22)*10)","v":{"$error":"#DIV/0!"}},null,null,"Go to \nToolbox: ",null,{"$f":"HYPERLINK(\"#\"&ADDRESS(MATCH(I54,Toolbox!$C$1:$C$300),1,,,\"Toolbox\"),VLOOKUP(I54,Toolbox!$C$1:$C$300,1,FALSE))","v":"Framework for Enhancing Anthrax Prevention and Control "}]
[]
[]
[]
[]
[]
[null,null,null,null,null,null,null,null,{"$f":"Backbone!A195","v":"Integrated Disease Surveillance and Response (IDSR)"},null,null,null,null,null,null,"A strategy aimed at strengthening capacities for detection, confirmation and response to suspected cases and outbreaks, and for use of information to predict and plan for public health events.",null,null,null,null,null,null,null,null,{"$f":"INDEX(Backbone!$R$2:$R$893,MATCH(I60,Backbone!$A$2:$A$893,0))","v":"Guidance document"},null,null,null,{"$f":"INDEX(Backbone!$S$2:$S$893,MATCH(I60,Backbone!$A$2:$A$893,0))","v":"Sector Specific; Generalized"},null,null,null,{"$f":"INDEX(Backbone!$H$2:$H$893,MATCH(I60,Backbone!$A$2:$A$893,0))","v":7.4},null,{"$f":"INDEX(Backbone!$I$2:$I$893,MATCH(I60,Backbone!$A$2:$A$893,0))","v":10},null,{"$f":"INDEX(Backbone!$J$2:$J$893,MATCH(I60,Backbone!$A$2:$A$893,0))","v":7.4},null,{"$f":"INDEX(Backbone!$K$1:$K$893,MATCH(I60,Backbone!$A$1:$A$893,0))","v":8.6999999999999993},null,{"$f":"INDEX(Backbone!$L$2:$L$893,MATCH(I60,Backbone!$A$2:$A$893,0))","v":6.7},null,{"$f":"INDEX(Backbone!$M$2:$M$893,MATCH(I60,Backbone!$A$2:$A$893,0))","v":4.5},null,{"$f":"INDEX(Backbone!$N$2:$N$893,MATCH(I60,Backbone!$A$2:$A$893,0))","v":8},null,{"$f":"INDEX(Backbone!$O$2:$O$893,MATCH(I60,Backbone!$A$2:$A$893,0))","v":7.2},null,{"$f":"INDEX(Backbone!$P$2:$P$893,MATCH(I60,Backbone!$A$2:$A$893,0))","v":8.5},null,{"$f":"INDEX(Backbone!$Q$2:$Q$893,MATCH(I60,Backbone!$A$2:$A$893,0))","v":0.76},null,null,{"$f":"(AG60*$AG$22+AI60*$AI$22+AK60*$AK$22+AM60*$AM$22+AO60*$AO$22+AQ60*$AQ$22+AS60*$AS$22+AU60*$AU$22+AW60*$AW$22)/(SUM($AG$22:$AW$22)*10)","v":{"$error":"#DIV/0!"}},null,null,"Go to \nToolbox: ",null,{"$f":"HYPERLINK(\"#\"&ADDRESS(MATCH(I60,Toolbox!$C$1:$C$300),1,,,\"Toolbox\"),VLOOKUP(I60,Toolbox!$C$1:$C$300,1,FALSE))","v":"Integrated Disease Surveillance and Response (IDSR)"}]
[]
[]
[]
[]
[]
[null,null,null,null,null,null,null,null,{"$f":"Backbone!A256","v":"Joint External Evaluation tool (JEE ) "},null,null,null,null,null,null,"The process of external evaluation of country capacity to prevent, detect and rapidly respond to public health threats available for WHO Member States.",null,null,null,null,null,null,null,null,{"$f":"INDEX(Backbone!$R$2:$R$893,MATCH(I66,Backbone!$A$2:$A$893,0))","v":"Guided/Facilitated tool or process"},null,null,null,{"$f":"INDEX(Backbone!$S$2:$S$893,MATCH(I66,Backbone!$A$2:$A$893,0))","v":"One Health; Generalized"},null,null,null,{"$f":"INDEX(Backbone!$H$2:$H$893,MATCH(I66,Backbone!$A$2:$A$893,0))","v":8.6999999999999993},null,{"$f":"INDEX(Backbone!$I$2:$I$893,MATCH(I66,Backbone!$A$2:$A$893,0))","v":10},null,{"$f":"INDEX(Backbone!$J$2:$J$893,MATCH(I66,Backbone!$A$2:$A$893,0))","v":7},null,{"$f":"INDEX(Backbone!$K$1:$K$893,MATCH(I66,Backbone!$A$1:$A$893,0))","v":6.3},null,{"$f":"INDEX(Backbone!$L$2:$L$893,MATCH(I66,Backbone!$A$2:$A$893,0))","v":7.7},null,{"$f":"INDEX(Backbone!$M$2:$M$893,MATCH(I66,Backbone!$A$2:$A$893,0))","v":4.7},null,{"$f":"INDEX(Backbone!$N$2:$N$893,MATCH(I66,Backbone!$A$2:$A$893,0))","v":6},null,{"$f":"INDEX(Backbone!$O$2:$O$893,MATCH(I66,Backbone!$A$2:$A$893,0))","v":9.5},null,{"$f":"INDEX(Backbone!$P$2:$P$893,MATCH(I66,Backbone!$A$2:$A$893,0))","v":10},null,{"$f":"INDEX(Backbone!$Q$2:$Q$893,MATCH(I66,Backbone!$A$2:$A$893,0))","v":0.77666666666666673},null,null,{"$f":"(AG66*$AG$22+AI66*$AI$22+AK66*$AK$22+AM66*$AM$22+AO66*$AO$22+AQ66*$AQ$22+AS66*$AS$22+AU66*$AU$22+AW66*$AW$22)/(SUM($AG$22:$AW$22)*10)","v":{"$error":"#DIV/0!"}},null,null,"Go to \nToolbox: ",null,{"$f":"HYPERLINK(\"#\"&ADDRESS(MATCH(I66,Toolbox!$C$1:$C$300),1,,,\"Toolbox\"),VLOOKUP(I66,Toolbox!$C$1:$C$300,1,FALSE))","v":"Joint External Evaluation tool (JEE ) "}]
[]
[]
[]
[]
[]
[null,null,null,null,null,null,null,null,{"$f":"Backbone!A367","v":"The One Health Systems Assessment for Priority Zoonoses (OH-SAPZ)"},null,null,null,null,null,null,"The tool is aimed to facilitate a systematic assessment of national structures for One Health coordination with respect to preventing, detecting, and responding to zoonotic diseases.",null,null,null,null,null,null,null,null,{"$f":"INDEX(Backbone!$R$2:$R$893,MATCH(I72,Backbone!$A$2:$A$893,0))","v":"Self-assessment tool"},null,null,null,{"$f":"INDEX(Backbone!$S$2:$S$893,MATCH(I72,Backbone!$A$2:$A$893,0))","v":"One Health; Generalized"},null,null,null,{"$f":"INDEX(Backbone!$H$2:$H$893,MATCH(I72,Backbone!$A$2:$A$893,0))","v":7.9},null,{"$f":"INDEX(Backbone!$I$2:$I$893,MATCH(I72,Backbone!$A$2:$A$893,0))","v":7.3},null,{"$f":"INDEX(Backbone!$J$2:$J$893,MATCH(I72,Backbone!$A$2:$A$893,0))","v":7.2},null,{"$f":"INDEX(Backbone!$K$1:$K$893,MATCH(I72,Backbone!$A$1:$A$893,0))","v":7.8},null,{"$f":"INDEX(Backbone!$L$2:$L$893,MATCH(I72,Backbone!$A$2:$A$893,0))","v":6.5},null,{"$f":"INDEX(Backbone!$M$2:$M$893,MATCH(I72,Backbone!$A$2:$A$893,0))","v":5.2},null,{"$f":"INDEX(Backbone!$N$2:$N$893,MATCH(I72,Backbone!$A$2:$A$893,0))","v":4},null,{"$f":"INDEX(Backbone!$O$2:$O$893,MATCH(I72,Backbone!$A$2:$A$893,0))","v":8.3000000000000007},null,{"$f":"INDEX(Backbone!$P$2:$P$893,MATCH(I72,Backbone!$A$2:$A$893,0))","v":9.6999999999999993},null,{"$f":"INDEX(Backbone!$Q$2:$Q$893,MATCH(I72,Backbone!$A$2:$A$893,0))","v":0.71000000000000008},null,null,{"$f":"(AG72*$AG$22+AI72*$AI$22+AK72*$AK$22+AM72*$AM$22+AO72*$AO$22+AQ72*$AQ$22+AS72*$AS$22+AU72*$AU$22+AW72*$AW$22)/(SUM($AG$22:$AW$22)*10)","v":{"$error":"#DIV/0!"}},null,null,"Go to \nToolbox: ",null,{"$f":"HYPERLINK(\"#\"&ADDRESS(MATCH(I72,Toolbox!$C$1:$C$300),1,,,\"Toolbox\"),VLOOKUP(I72,Toolbox!$C$1:$C$300,1,FALSE))","v":"The One Health Systems Assessment for Priority Zoonoses (OH-SAPZ)"}]
[]
[]
[]
[]
[]
[null,null,null,null,null,null,null,null,{"$f":"Backbone!A427","v":"World Organisation for Animal Health (WOAH) PVS Laboratory Mission"},null,null,null,null,null,null,"OIE mission to determine the resources needed by the national laboratory network and to evaluate the pertinence of its structure and viability in the national context.",null,null,null,null,null,null,null,null,{"$f":"INDEX(Backbone!$R$2:$R$893,MATCH(I78,Backbone!$A$2:$A$893,0))","v":"Guided/Facilitated tool or process"},null,null,null,{"$f":"INDEX(Backbone!$S$2:$S$893,MATCH(I78,Backbone!$A$2:$A$893,0))","v":"Sector Specific; Generalized"},null,null,null,{"$f":"INDEX(Backbone!$H$2:$H$893,MATCH(I78,Backbone!$A$2:$A$893,0))","v":7.6},null,{"$f":"INDEX(Backbone!$I$2:$I$893,MATCH(I78,Backbone!$A$2:$A$893,0))","v":9},null,{"$f":"INDEX(Backbone!$J$2:$J$893,MATCH(I78,Backbone!$A$2:$A$893,0))","v":5.4},null,{"$f":"INDEX(Backbone!$K$1:$K$893,MATCH(I78,Backbone!$A$1:$A$893,0))","v":3.3},null,{"$f":"INDEX(Backbone!$L$2:$L$893,MATCH(I78,Backbone!$A$2:$A$893,0))","v":7.6},null,{"$f":"INDEX(Backbone!$M$2:$M$893,MATCH(I78,Backbone!$A$2:$A$893,0))","v":4},null,{"$f":"INDEX(Backbone!$N$2:$N$893,MATCH(I78,Backbone!$A$2:$A$893,0))","v":6},null,{"$f":"INDEX(Backbone!$O$2:$O$893,MATCH(I78,Backbone!$A$2:$A$893,0))","v":4.3},null,{"$f":"INDEX(Backbone!$P$2:$P$893,MATCH(I78,Backbone!$A$2:$A$893,0))","v":4},null,{"$f":"INDEX(Backbone!$Q$2:$Q$893,MATCH(I78,Backbone!$A$2:$A$893,0))","v":0.56888888888888889},null,null,{"$f":"(AG78*$AG$22+AI78*$AI$22+AK78*$AK$22+AM78*$AM$22+AO78*$AO$22+AQ78*$AQ$22+AS78*$AS$22+AU78*$AU$22+AW78*$AW$22)/(SUM($AG$22:$AW$22)*10)","v":{"$error":"#DIV/0!"}},null,null,"Go to \nToolbox: ",null,{"$f":"HYPERLINK(\"#\"&ADDRESS(MATCH(I78,Toolbox!$C$1:$C$300),1,,,\"Toolbox\"),VLOOKUP(I78,Toolbox!$C$1:$C$300,1,FALSE))","v":"World Organisation for Animal Health (WOAH) PVS Laboratory Mission"}]
[]
[]
[]
[]
[]
[null,null,null,null,null,null,null,null,{"$f":"Backbone!A648","v":"Preparedness and Response Planning Toolkit"},null,null,null,null,null,null,"This toolkit is designed to support countries in their development of multisectoral preparedness and response plans for public health events.",null,null,null,null,null,null,null,null,{"$f":"INDEX(Backbone!$R$2:$R$893,MATCH(I84,Backbone!$A$2:$A$893,0))","v":"Guidance document"},null,null,null,{"$f":"INDEX(Backbone!$S$2:$S$893,MATCH(I84,Backbone!$A$2:$A$893,0))","v":"One Health; Generalized"},null,null,null,{"$f":"INDEX(Backbone!$H$2:$H$893,MATCH(I84,Backbone!$A$2:$A$893,0))","v":8.4},null,{"$f":"INDEX(Backbone!$I$2:$I$893,MATCH(I84,Backbone!$A$2:$A$893,0))","v":8},null,{"$f":"INDEX(Backbone!$J$2:$J$893,MATCH(I84,Backbone!$A$2:$A$893,0))","v":8.4},null,{"$f":"INDEX(Backbone!$K$1:$K$893,MATCH(I84,Backbone!$A$1:$A$893,0))","v":6.7},null,{"$f":"INDEX(Backbone!$L$2:$L$893,MATCH(I84,Backbone!$A$2:$A$893,0))","v":2},null,{"$f":"INDEX(Backbone!$M$2:$M$893,MATCH(I84,Backbone!$A$2:$A$893,0))","v":3.5},null,{"$f":"INDEX(Backbone!$N$2:$N$893,MATCH(I84,Backbone!$A$2:$A$893,0))","v":4},null,{"$f":"INDEX(Backbone!$O$2:$O$893,MATCH(I84,Backbone!$A$2:$A$893,0))","v":6.4},null,{"$f":"INDEX(Backbone!$P$2:$P$893,MATCH(I84,Backbone!$A$2:$A$893,0))","v":8},null,{"$f":"INDEX(Backbone!$Q$2:$Q$893,MATCH(I84,Backbone!$A$2:$A$893,0))","v":0.61555555555555552},null,null,{"$f":"(AG84*$AG$22+AI84*$AI$22+AK84*$AK$22+AM84*$AM$22+AO84*$AO$22+AQ84*$AQ$22+AS84*$AS$22+AU84*$AU$22+AW84*$AW$22)/(SUM($AG$22:$AW$22)*10)","v":{"$error":"#DIV/0!"}},null,null,"Go to \nToolbox: ",null,{"$f":"HYPERLINK(\"#\"&ADDRESS(MATCH(I84,Toolbox!$C$1:$C$300),1,,,\"Toolbox\"),VLOOKUP(I84,Toolbox!$C$1:$C$300,1,FALSE))","v":"Preparedness and Response Planning Toolkit"}]
[]
[]
[]
[]
[]
[null,null,null,null,null,null,null,null,{"$f":"Backbone!A557","v":"Staged Tool for the Elimination of Brucellosis (STEB)"},null,null,null,null,null,null,"A spreadsheet-based self-assessment tool developed to assist countries in evaluating their current capacity to prevent, control and eliminate brucellosis.",null,null,null,null,null,null,null,null,{"$f":"INDEX(Backbone!$R$2:$R$893,MATCH(I90,Backbone!$A$2:$A$893,0))","v":"Guided/Facilitated tool or process"},null,null,null,{"$f":"INDEX(Backbone!$S$2:$S$893,MATCH(I90,Backbone!$A$2:$A$893,0))","v":"One Health; Disease/Threat Specific "},null,null,null,{"$f":"INDEX(Backbone!$H$2:$H$893,MATCH(I90,Backbone!$A$2:$A$893,0))","v":9},null,{"$f":"INDEX(Backbone!$I$2:$I$893,MATCH(I90,Backbone!$A$2:$A$893,0))","v":10},null,{"$f":"INDEX(Backbone!$J$2:$J$893,MATCH(I90,Backbone!$A$2:$A$893,0))","v":7.6},null,{"$f":"INDEX(Backbone!$K$1:$K$893,MATCH(I90,Backbone!$A$1:$A$893,0))","v":3.7},null,{"$f":"INDEX(Backbone!$L$2:$L$893,MATCH(I90,Backbone!$A$2:$A$893,0))","v":5.7},null,{"$f":"INDEX(Backbone!$M$2:$M$893,MATCH(I90,Backbone!$A$2:$A$893,0))","v":7.3},null,{"$f":"INDEX(Backbone!$N$2:$N$893,MATCH(I90,Backbone!$A$2:$A$893,0))","v":7},null,{"$f":"INDEX(Backbone!$O$2:$O$893,MATCH(I90,Backbone!$A$2:$A$893,0))","v":8.6},null,{"$f":"INDEX(Backbone!$P$2:$P$893,MATCH(I90,Backbone!$A$2:$A$893,0))","v":8},null,{"$f":"INDEX(Backbone!$Q$2:$Q$893,MATCH(I90,Backbone!$A$2:$A$893,0))","v":0.7433333333333334},null,null,{"$f":"(AG90*$AG$22+AI90*$AI$22+AK90*$AK$22+AM90*$AM$22+AO90*$AO$22+AQ90*$AQ$22+AS90*$AS$22+AU90*$AU$22+AW90*$AW$22)/(SUM($AG$22:$AW$22)*10)","v":{"$error":"#DIV/0!"}},null,null,"Go to \nToolbox: ",null,{"$f":"HYPERLINK(\"#\"&ADDRESS(MATCH(I90,Toolbox!$C$1:$C$300),1,,,\"Toolbox\"),VLOOKUP(I90,Toolbox!$C$1:$C$300,1,FALSE))","v":"Staged Tool for the Elimination of Brucellosis (STEB)"}]
[]
[]
[]
[]
[]
[null,null,null,null,null,null,null,null,{"$f":"Backbone!A453","v":"Stepwise Approach towards Rabies Elimination (SARE)"},null,null,null,null,null,null,"A practical planning, monitoring and evaluation tool to guide, develop and refine rabies control programmes.",null,null,null,null,null,null,null,null,{"$f":"INDEX(Backbone!$R$2:$R$893,MATCH(I96,Backbone!$A$2:$A$893,0))","v":"Self-assessment tool"},null,null,null,{"$f":"INDEX(Backbone!$S$2:$S$893,MATCH(I96,Backbone!$A$2:$A$893,0))","v":"One Health; Disease/Threat Specific "},null,null,null,{"$f":"INDEX(Backbone!$H$2:$H$893,MATCH(I96,Backbone!$A$2:$A$893,0))","v":8},null,{"$f":"INDEX(Backbone!$I$2:$I$893,MATCH(I96,Backbone!$A$2:$A$893,0))","v":9},null,{"$f":"INDEX(Backbone!$J$2:$J$893,MATCH(I96,Backbone!$A$2:$A$893,0))","v":6.6},null,{"$f":"INDEX(Backbone!$K$1:$K$893,MATCH(I96,Backbone!$A$1:$A$893,0))","v":3.3},null,{"$f":"INDEX(Backbone!$L$2:$L$893,MATCH(I96,Backbone!$A$2:$A$893,0))","v":5.7},null,{"$f":"INDEX(Backbone!$M$2:$M$893,MATCH(I96,Backbone!$A$2:$A$893,0))","v":6.8},null,{"$f":"INDEX(Backbone!$N$2:$N$893,MATCH(I96,Backbone!$A$2:$A$893,0))","v":8},null,{"$f":"INDEX(Backbone!$O$2:$O$893,MATCH(I96,Backbone!$A$2:$A$893,0))","v":8.6},null,{"$f":"INDEX(Backbone!$P$2:$P$893,MATCH(I96,Backbone!$A$2:$A$893,0))","v":9.5},null,{"$f":"INDEX(Backbone!$Q$2:$Q$893,MATCH(I96,Backbone!$A$2:$A$893,0))","v":0.72777777777777775},null,null,{"$f":"(AG96*$AG$22+AI96*$AI$22+AK96*$AK$22+AM96*$AM$22+AO96*$AO$22+AQ96*$AQ$22+AS96*$AS$22+AU96*$AU$22+AW96*$AW$22)/(SUM($AG$22:$AW$22)*10)","v":{"$error":"#DIV/0!"}},null,null,"Go to \nToolbox: ",null,{"$f":"HYPERLINK(\"#\"&ADDRESS(MATCH(I96,Toolbox!$C$1:$C$300),1,,,\"Toolbox\"),VLOOKUP(I96,Toolbox!$C$1:$C$300,1,FALSE))","v":"Stepwise Approach towards Rabies Elimination (SARE)"}]
[]
[]
[]
[]
[]
[]
[]
[]
[]
[]
[]
[]
[]
[]
[]
[]
[]
[]
[null,"LEVEL 2 RESOURCES",null,null,null,null,null,null,null,null,null,null,null,null,null,null,null,null,null,null,null,null,null,null,null,null,null,null,null,null,null,null,"Accessibility",null,"Language",null,"Ease of use",null,"Flexibility",null,"Data Needs",null,"Data Analysis",null,"Acceptability",null,"One Health",null,"Impact"]
[]
[]
[]
[]
[]
[]
[null,null,null,null,null,null,null,null,null,null,null,null,null,null,null,null,null,null,null,null,null,null,null,null,null,null,null,null,null,null,null,null,null,null,null,null,null,null,null,null,null,null,null,null,null,null,null,null,null,null,"RAW SCORE",null,null,"ADJUSTED SCORE \n(Based on user preferences)"]
[]
[]
[]
[null,null,null,"DESIGNATION",null,null,null,null,"RESOURCE NAME",null,null,null,null,null,null,"SHORT DESCRIPTION",null,null,null,null,null,null,null,null,"RESOURCE TYPE",null,null,null,"RESOURCE GENERALITY"]
[]
[]
[]
[null,null,null,null,null,null,null,null,null,null,null,null,null,null,null,null,null,null,null,null,null,null,null,null,null,null,null,null,null,null,null,null,{"$f":"'Attribute Survey'!S231","v":0},null,{"$f":"'Attribute Survey'!S235","v":0},null,{"$f":"'Attribute Survey'!S239","v":0},null,{"$f":"'Attribute Survey'!S243","v":0},null,{"$f":"'Attribute Survey'!S247","v":0},null,{"$f":"'Attribute Survey'!S251","v":0},null,{"$f":"'Attribute Survey'!S255","v":0},null,{"$f":"'Attribute Survey'!S259","v":0},null,{"$f":"'Attribute Survey'!S263","v":0}]
[null,null,null,"Resources Best Fit for Purpose",null,null,null,null,{"$f":"Backbone!A303","v":"National Action Plan for Health Security (NAPHS)"},null,null,null,null,null,null,"A country owned planning process that can accelerate the implementation of International Health Regulations (IHR) core capacities and is based on the One Health and whole-of-government approach for all hazards.",null,null,null,null,null,null,null,null,{"$f":"INDEX(Backbone!$R$2:$R$893,MATCH(I131,Backbone!$A$2:$A$893,0))","v":"Guidance document"},null,null,null,{"$f":"INDEX(Backbone!$S$2:$S$893,MATCH(I131,Backbone!$A$2:$A$893,0))","v":"One Health; Generalized"},null,null,null,{"$f":"INDEX(Backbone!$H$2:$H$893,MATCH(I131,Backbone!$A$2:$A$893,0))","v":8},null,{"$f":"INDEX(Backbone!$I$2:$I$893,MATCH(I131,Backbone!$A$2:$A$893,0))","v":9},null,{"$f":"INDEX(Backbone!$J$2:$J$893,MATCH(I131,Backbone!$A$2:$A$893,0))","v":7.8},null,{"$f":"INDEX(Backbone!$K$2:$K$893,MATCH(I131,Backbone!$A$2:$A$893,0))","v":10},null,{"$f":"INDEX(Backbone!$L$2:$L$893,MATCH(I131,Backbone!$A$2:$A$893,0))","v":8},null,{"$f":"INDEX(Backbone!$M$2:$M$893,MATCH(I131,Backbone!$A$2:$A$893,0))","v":4.5},null,{"$f":"INDEX(Backbone!$N$2:$N$893,MATCH(I131,Backbone!$A$2:$A$893,0))","v":10},null,{"$f":"INDEX(Backbone!$O$2:$O$893,MATCH(I131,Backbone!$A$2:$A$893,0))","v":10},null,{"$f":"INDEX(Backbone!$P$2:$P$893,MATCH(I131,Backbone!$A$2:$A$893,0))","v":10},null,{"$f":"INDEX(Backbone!$Q$2:$Q$893,MATCH(I131,Backbone!$A$2:$A$893,0))","v":0.85888888888888881},null,null,{"$f":"(AG131*$AG$22+AI131*$AI$22+AK131*$AK$22+AM131*$AM$22+AO131*$AO$22+AQ131*$AQ$22+AS131*$AS$22+AU131*$AU$22+AW131*$AW$22)/(SUM($AG$22:$AW$22)*10)","v":{"$error":"#DIV/0!"}},null,null,"Go to \nToolbox: ",null,{"$f":"HYPERLINK(\"#\"&ADDRESS(MATCH(I131,Toolbox!$C$1:$C$300),1,,,\"Toolbox\"),VLOOKUP(I131,Toolbox!$C$1:$C$300,1,FALSE))","v":"National Action Plan for Health Security (NAPHS)"}]

{"sheet":"A10_tools","index":36,"n_rows":89,"n_cols":59,"rows_kept":89,"cut":false,"hidden":false,"merged":[[47,56,51,57],[47,58,51,62],[53,56,57,57],[53,58,57,62],[88,56,92,57],[88,58,92,62],[1,1,3,62],[22,56,26,57],[22,58,26,62],[28,56,32,57],[28,58,32,62],[34,56,38,57],[34,58,38,62],[41,56,45,57],[41,58,45,62],[22,50,26,51],[22,53,26,54],[28,8,32,13],[28,15,32,22],[28,34,32,34],[28,36,32,36],[28,38,32,38],[22,38,26,38],[22,40,26,40],[22,42,26,42],[22,32,26,32],[22,34,26,34],[22,36,26,36],[6,32,20,32],[6,34,20,34],[6,36,20,36],[6,38,20,38],[6,40,20,40],[6,42,20,42],[6,44,20,44],[6,46,20,46],[6,48,20,48],[13,50,20,51],[13,53,20,54],[17,1,57,1],[17,3,20,6],[17,8,20,13],[17,15,20,22],[17,24,20,26],[17,28,20,30],[22,44,26,44],[22,46,26,46],[22,48,26,48],[22,15,26,22],[22,24,26,26],[22,28,26,30],[34,44,38,44],[34,46,38,46],[34,48,38,48],[34,50,38,51],[34,53,38,54],[28,53,32,54],[34,8,38,13],[34,15,38,22],[34,24,38,26],[34,28,38,30],[34,32,38,32],[34,34,38,34],[34,36,38,36],[34,38,38,38],[34,40,38,40],[28,40,32,40],[28,42,32,42],[28,44,32,44],[28,46,32,46],[28,48,32,48],[28,50,32,51],[28,24,32,26],[28,28,32,30],[28,32,32,32],[41,3,57,6],[41,8,45,13],[41,15,45,22],[41,24,45,26],[41,28,45,30],[41,32,45,32],[41,34,45,34],[41,36,45,36],[34,42,38,42],[53,42,57,42],[22,3,38,6],[22,8,26,13],[41,50,45,51],[53,44,57,44],[53,46,57,46],[53,48,57,48],[41,53,45,54],[47,8,51,13],[47,15,51,22],[47,24,51,26],[47,28,51,30],[47,32,51,32],[47,34,51,34],[47,36,51,36],[47,38,51,38],[41,38,45,38],[41,40,45,40],[41,42,45,42],[41,44,45,44],[41,46,45,46],[41,48,45,48],[53,50,57,51],[53,53,57,54],[47,53,51,54],[53,8,57,13],[53,15,57,22],[53,24,57,26],[53,28,57,30],[53,32,57,32],[53,34,57,34],[53,36,57,36],[53,38,57,38],[53,40,57,40],[47,40,51,40],[47,42,51,42],[47,44,51,44],[47,46,51,46],[47,48,51,48],[47,50,51,51],[79,50,86,51],[79,53,86,54],[83,3,86,6],[83,8,86,13],[83,15,86,22],[83,24,86,26],[83,28,86,30],[72,1,102,1],[72,32,86,32],[72,34,86,34],[72,36,86,36],[72,38,86,38],[72,40,86,40],[72,42,86,42],[88,3,92,6],[88,8,92,13],[88,15,92,22],[88,24,92,26],[88,28,92,30],[88,32,92,32],[72,44,86,44],[72,46,86,46],[72,48,86,48],[88,46,92,46],[88,48,92,48],[88,50,92,51],[88,53,92,54],[88,34,92,34],[88,36,92,36],[88,38,92,38],[88,40,92,40],[88,42,92,42],[88,44,92,44]]}
[]
[null,"Laboratory Transport and Interpretation Assessment Resources"]
[]
[]
[]
[]
[null,null,null,null,null,null,null,null,null,null,null,null,null,null,null,null,null,null,null,null,null,null,null,null,null,null,null,null,null,null,null,null,"Accessibility",null,"Language",null,"Ease of use",null,"Flexibility",null,"Data Needs",null,"Data Analysis",null,"Acceptability",null,"One Health",null,"Impact"]
[]
[]
[]
[]
[]
[]
[null,null,null,null,null,null,null,null,null,null,null,null,null,null,null,null,null,null,null,null,null,null,null,null,null,null,null,null,null,null,null,null,null,null,null,null,null,null,null,null,null,null,null,null,null,null,null,null,null,null,"RAW SCORE",null,null,"ADJUSTED SCORE \n(Based on user preferences)"]
[]
[]
[]
[null,"LEVEL 1 RESOURCES",null,"DESIGNATION",null,null,null,null,"RESOURCE NAME",null,null,null,null,null,null,"SHORT DESCRIPTION",null,null,null,null,null,null,null,null,"RESOURCE TYPE",null,null,null,"RESOURCE GENERALITY"]
[]
[]
[]
[null,null,null,null,null,null,null,null,null,null,null,null,null,null,null,null,null,null,null,null,null,null,null,null,null,null,null,null,null,null,null,null,{"$f":"'Attribute Survey'!S22","v":0},null,{"$f":"'Attribute Survey'!S26","v":0},null,{"$f":"'Attribute Survey'!S30","v":0},null,{"$f":"'Attribute Survey'!S34","v":0},null,{"$f":"'Attribute Survey'!S38","v":0},null,{"$f":"'Attribute Survey'!S42","v":0},null,{"$f":"'Attribute Survey'!S46","v":0},null,{"$f":"'Attribute Survey'!S50","v":0},null,{"$f":"'Attribute Survey'!S54","v":0}]
[null,null,null,"Resources Best Fit For Purpose",null,null,null,null,{"$f":"Backbone!A100","v":"Evaluation of Collaboration in a multisectoral Surveillance system (EcoSur)"},null,null,null,null,null,null,"A tool that aims to evaluate the organization and functioning of collaboration in a multisectoral surveillance system and to analyse strengths and weaknesses of this collaboration.\n\n",null,null,null,null,null,null,null,null,{"$f":"INDEX(Backbone!$R2:$R893,MATCH(I23,Backbone!$A2:$A893,0))","v":"Guided/Facilitated tool or process"},null,null,null,{"$f":"INDEX(Backbone!$S2:$S893,MATCH(I23,Backbone!$A2:$A893,0))","v":"One Health; Generalized"},null,null,null,{"$f":"INDEX(Backbone!$H2:$H893,MATCH(I23,Backbone!$A2:$A893,0))","v":8.3000000000000007},null,{"$f":"INDEX(Backbone!$I2:$I893,MATCH(I23,Backbone!$A2:$A893,0))","v":6},null,{"$f":"INDEX(Backbone!$J2:$J893,MATCH(I23,Backbone!$A2:$A893,0))","v":8.5},null,{"$f":"INDEX(Backbone!$K2:$K893,MATCH(I23,Backbone!$A2:$A893,0))","v":7.8},null,{"$f":"INDEX(Backbone!$L2:$L893,MATCH(I23,Backbone!$A2:$A893,0))","v":8.3000000000000007},null,{"$f":"INDEX(Backbone!$M2:$M893,MATCH(I23,Backbone!$A2:$A893,0))","v":6.7},null,{"$f":"INDEX(Backbone!$N2:$N893,MATCH(I23,Backbone!$A2:$A893,0))","v":3.3},null,{"$f":"INDEX(Backbone!$O2:$O893,MATCH(I23,Backbone!$A2:$A893,0))","v":9.1},null,{"$f":"INDEX(Backbone!$P2:$P893,MATCH(I23,Backbone!$A2:$A893,0))","v":4.7},null,{"$f":"INDEX(Backbone!$Q2:$Q893,MATCH(I23,Backbone!$A2:$A893,0))","v":0.69666666666666677},null,null,{"$f":"(AG23*$AG$22+AI23*$AI$22+AK23*$AK$22+AM23*$AM$22+AO23*$AO$22+AQ23*$AQ$22+AS23*$AS$22+AU23*$AU$22+AW23*$AW$22)/(SUM($AG$22:$AW$22)*10)","v":{"$error":"#DIV/0!"}},null,null,"Go to \nToolbox: ",null,{"$f":"HYPERLINK(\"#\"&ADDRESS(MATCH(I23,Toolbox!$C$1:$C$300),1,,,\"Toolbox\"),VLOOKUP(I23,Toolbox!$C$1:$C$300,1,FALSE))","v":"Evaluation of Collaboration in a multisectoral Surveillance system (EcoSur)"}]
[]
[]
[]
[]
[]
[null,null,null,null,null,null,null,null,{"$f":"Backbone!A271","v":"Laboratory Infrastructure Network Analysis (LINA)"},null,null,null,null,null,null,"An easy-to-use web-based application providing sophisticated computational modeling and data analytics functionality with easy visualization based on maps regarding capacities and capabilities of the national laboratory network and each laboratory itself. ",null,null,null,null,null,null,null,null,{"$f":"INDEX(Backbone!$R$2:$R$893,MATCH(I29,Backbone!$A$2:$A$893,0))","v":"Hardware or Software"},null,null,null,{"$f":"INDEX(Backbone!$S$2:$S$893,MATCH(I29,Backbone!$A$2:$A$893,0))","v":"One Health; Generalized"},null,null,null,{"$f":"INDEX(Backbone!$H$2:$H$893,MATCH(I29,Backbone!$A$2:$A$893,0))","v":9.6},null,{"$f":"INDEX(Backbone!$I$2:$I$893,MATCH(I29,Backbone!$A$2:$A$893,0))","v":6},null,{"$f":"INDEX(Backbone!$J$2:$J$893,MATCH(I29,Backbone!$A$2:$A$893,0))","v":7.6},null,{"$f":"INDEX(Backbone!$K$2:$K$893,MATCH(I29,Backbone!$A$2:$A$893,0))","v":9},null,{"$f":"INDEX(Backbone!$L$2:$L$893,MATCH(I29,Backbone!$A$2:$A$893,0))","v":8.3000000000000007},null,{"$f":"INDEX(Backbone!$M$2:$M$893,MATCH(I29,Backbone!$A$2:$A$893,0))","v":7},null,{"$f":"INDEX(Backbone!$N$2:$N$893,MATCH(I29,Backbone!$A$2:$A$893,0))","v":3},null,{"$f":"INDEX(Backbone!$O$2:$O$893,MATCH(I29,Backbone!$A$2:$A$893,0))","v":9.1},null,{"$f":"INDEX(Backbone!$P$2:$P$893,MATCH(I29,Backbone!$A$2:$A$893,0))","v":4},null,{"$f":"INDEX(Backbone!$Q$2:$Q$893,MATCH(I29,Backbone!$A$2:$A$893,0))","v":0.69555555555555559},null,null,{"$f":"(AG29*$AG$22+AI29*$AI$22+AK29*$AK$22+AM29*$AM$22+AO29*$AO$22+AQ29*$AQ$22+AS29*$AS$22+AU29*$AU$22+AW29*$AW$22)/(SUM($AG$22:$AW$22)*10)","v":{"$error":"#DIV/0!"}},null,null,"Go to \nToolbox: ",null,{"$f":"HYPERLINK(\"#\"&ADDRESS(MATCH(I29,Toolbox!$C$1:$C$300),1,,,\"Toolbox\"),VLOOKUP(I29,Toolbox!$C$1:$C$300,1,FALSE))","v":"Laboratory Infrastructure Network Analysis (LINA)"}]
[]
[]
[]
[]
[]
[null,null,null,null,null,null,null,null,{"$f":"Backbone!A351","v":"Surveillance network assessment tool (OASIS)"},null,null,null,null,null,null,"A standardized semi-quantitative tool for the assessment of surveillance systems on zoonosis and animal diseases.",null,null,null,null,null,null,null,null,{"$f":"INDEX(Backbone!$R$2:$R$893,MATCH(I35,Backbone!$A$2:$A$893,0))","v":"Self-assessment tool"},null,null,null,{"$f":"INDEX(Backbone!$S$2:$S$893,MATCH(I35,Backbone!$A$2:$A$893,0))","v":"Sector Specific; Generalized"},null,null,null,{"$f":"INDEX(Backbone!$H$2:$H$893,MATCH(I35,Backbone!$A$2:$A$893,0))","v":8.1999999999999993},null,{"$f":"INDEX(Backbone!$I$2:$I$893,MATCH(I35,Backbone!$A$2:$A$893,0))","v":7},null,{"$f":"INDEX(Backbone!$J$2:$J$893,MATCH(I35,Backbone!$A$2:$A$893,0))","v":8},null,{"$f":"INDEX(Backbone!$K$1:$K$893,MATCH(I35,Backbone!$A$1:$A$893,0))","v":8.3000000000000007},null,{"$f":"INDEX(Backbone!$L$2:$L$893,MATCH(I35,Backbone!$A$2:$A$893,0))","v":7},null,{"$f":"INDEX(Backbone!$M$2:$M$893,MATCH(I35,Backbone!$A$2:$A$893,0))","v":6.5},null,{"$f":"INDEX(Backbone!$N$2:$N$893,MATCH(I35,Backbone!$A$2:$A$893,0))","v":4.5},null,{"$f":"INDEX(Backbone!$O$2:$O$893,MATCH(I35,Backbone!$A$2:$A$893,0))","v":5.0999999999999996},null,{"$f":"INDEX(Backbone!$P$2:$P$893,MATCH(I35,Backbone!$A$2:$A$893,0))","v":4.5},null,{"$f":"INDEX(Backbone!$Q$2:$Q$893,MATCH(I35,Backbone!$A$2:$A$893,0))","v":0.65666666666666673},null,null,{"$f":"(AG35*$AG$22+AI35*$AI$22+AK35*$AK$22+AM35*$AM$22+AO35*$AO$22+AQ35*$AQ$22+AS35*$AS$22+AU35*$AU$22+AW35*$AW$22)/(SUM($AG$22:$AW$22)*10)","v":{"$error":"#DIV/0!"}},null,null,"Go to \nToolbox: ",null,{"$f":"HYPERLINK(\"#\"&ADDRESS(MATCH(I35,Toolbox!$C$1:$C$300),1,,,\"Toolbox\"),VLOOKUP(I35,Toolbox!$C$1:$C$300,1,FALSE))","v":"Surveillance network assessment tool (OASIS)"}]
[]
[]
[]
[]
[]
[]
[null,null,null,"Other Relevant Resources",null,null,null,null,{"$f":"Backbone!A38","v":"APHL Laboratory Informatics Assessment Tool"},null,null,null,null,null,null,"A tool to gather baseline information from laboratories to record data flow, work flow, infrastructure, workforce and training, equipment available, data management including recording and reporting of data.",null,null,null,null,null,null,null,null,{"$f":"INDEX(Backbone!$R$2:$R$893,MATCH(I42,Backbone!$A$2:$A$893,0))","v":"Guided/Facilitated tool or process"},null,null,null,{"$f":"INDEX(Backbone!$S$2:$S$893,MATCH(I42,Backbone!$A$2:$A$893,0))","v":"Sector Specific; Generalized"},null,null,null,{"$f":"INDEX(Backbone!$H$2:$H$893,MATCH(I42,Backbone!$A$2:$A$893,0))","v":8.4},null,{"$f":"INDEX(Backbone!$I$2:$I$893,MATCH(I42,Backbone!$A$2:$A$893,0))","v":6},null,{"$f":"INDEX(Backbone!$J$2:$J$893,MATCH(I42,Backbone!$A$2:$A$893,0))","v":8},null,{"$f":"INDEX(Backbone!$K$1:$K$893,MATCH(I42,Backbone!$A$1:$A$893,0))","v":10},null,{"$f":"INDEX(Backbone!$L$2:$L$893,MATCH(I42,Backbone!$A$2:$A$893,0))","v":6},null,{"$f":"INDEX(Backbone!$M$2:$M$893,MATCH(I42,Backbone!$A$2:$A$893,0))","v":4.5},null,{"$f":"INDEX(Backbone!$N$2:$N$893,MATCH(I42,Backbone!$A$2:$A$893,0))","v":2},null,{"$f":"INDEX(Backbone!$O$2:$O$893,MATCH(I42,Backbone!$A$2:$A$893,0))","v":2.8},null,{"$f":"INDEX(Backbone!$P$2:$P$893,MATCH(I42,Backbone!$A$2:$A$893,0))","v":6},null,{"$f":"INDEX(Backbone!$Q$2:$Q$893,MATCH(I42,Backbone!$A$2:$A$893,0))","v":0.59666666666666657},null,null,{"$f":"(AG42*$AG$22+AI42*$AI$22+AK42*$AK$22+AM42*$AM$22+AO42*$AO$22+AQ42*$AQ$22+AS42*$AS$22+AU42*$AU$22+AW42*$AW$22)/(SUM($AG$22:$AW$22)*10)","v":{"$error":"#DIV/0!"}},null,null,"Go to \nToolbox: ",null,{"$f":"HYPERLINK(\"#\"&ADDRESS(MATCH(I42,Toolbox!$C$1:$C$300),1,,,\"Toolbox\"),VLOOKUP(I42,Toolbox!$C$1:$C$300,1,FALSE))","v":"APHL Laboratory Informatics Assessment Tool"}]
[]
[]
[]
[]
[]
[null,null,null,null,null,null,null,null,{"$f":"Backbone!A420","v":"World Organisation for Animal Health (WOAH) PVS Gap Analysis"},null,null,null,null,null,null,"Supports countries in detailed planning based on their PVS Evaluation results.\n\n",null,null,null,null,null,null,null,null,{"$f":"INDEX(Backbone!$R$2:$R$893,MATCH(I48,Backbone!$A$2:$A$893,0))","v":"Guided/Facilitated tool or process"},null,null,null,{"$f":"INDEX(Backbone!$S$2:$S$893,MATCH(I48,Backbone!$A$2:$A$893,0))","v":"Sector Specific; Generalized"},null,null,null,{"$f":"INDEX(Backbone!$H$2:$H$893,MATCH(I48,Backbone!$A$2:$A$893,0))","v":6.8},null,{"$f":"INDEX(Backbone!$I$2:$I$893,MATCH(I48,Backbone!$A$2:$A$893,0))","v":8},null,{"$f":"INDEX(Backbone!$J$2:$J$893,MATCH(I48,Backbone!$A$2:$A$893,0))","v":5.6},null,{"$f":"INDEX(Backbone!$K$1:$K$893,MATCH(I48,Backbone!$A$1:$A$893,0))","v":10},null,{"$f":"INDEX(Backbone!$L$2:$L$893,MATCH(I48,Backbone!$A$2:$A$893,0))","v":6},null,{"$f":"INDEX(Backbone!$M$2:$M$893,MATCH(I48,Backbone!$A$2:$A$893,0))","v":4.3},null,{"$f":"INDEX(Backbone!$N$2:$N$893,MATCH(I48,Backbone!$A$2:$A$893,0))","v":9.5},null,{"$f":"INDEX(Backbone!$O$2:$O$893,MATCH(I48,Backbone!$A$2:$A$893,0))","v":4.7},null,{"$f":"INDEX(Backbone!$P$2:$P$893,MATCH(I48,Backbone!$A$2:$A$893,0))","v":7},null,{"$f":"INDEX(Backbone!$Q$2:$Q$893,MATCH(I48,Backbone!$A$2:$A$893,0))","v":0.68777777777777771},null,null,{"$f":"(AG48*$AG$22+AI48*$AI$22+AK48*$AK$22+AM48*$AM$22+AO48*$AO$22+AQ48*$AQ$22+AS48*$AS$22+AU48*$AU$22+AW48*$AW$22)/(SUM($AG$22:$AW$22)*10)","v":{"$error":"#DIV/0!"}},null,null,"Go to \nToolbox: ",null,{"$f":"HYPERLINK(\"#\"&ADDRESS(MATCH(I48,Toolbox!$C$1:$C$300),1,,,\"Toolbox\"),VLOOKUP(I48,Toolbox!$C$1:$C$300,1,FALSE))","v":"World Organisation for Animal Health (WOAH) PVS Gap Analysis"}]
[]
[]
[]
[]
[]
[null,null,null,null,null,null,null,null,{"$f":"Backbone!A648","v":"Preparedness and Response Planning Toolkit"},null,null,null,null,null,null,"This toolkit is designed to support countries in their development of multisectoral preparedness and response plans for public health events. ",null,null,null,null,null,null,null,null,{"$f":"INDEX(Backbone!$R$2:$R$893,MATCH(I54,Backbone!$A$2:$A$893,0))","v":"Guidance document"},null,null,null,{"$f":"INDEX(Backbone!$S$2:$S$893,MATCH(I54,Backbone!$A$2:$A$893,0))","v":"One Health; Generalized"},null,null,null,{"$f":"INDEX(Backbone!$H$2:$H$893,MATCH(I54,Backbone!$A$2:$A$893,0))","v":8.4},null,{"$f":"INDEX(Backbone!$I$2:$I$893,MATCH(I54,Backbone!$A$2:$A$893,0))","v":8},null,{"$f":"INDEX(Backbone!$J$2:$J$893,MATCH(I54,Backbone!$A$2:$A$893,0))","v":8.4},null,{"$f":"INDEX(Backbone!$K$1:$K$893,MATCH(I54,Backbone!$A$1:$A$893,0))","v":6.7},null,{"$f":"INDEX(Backbone!$L$2:$L$893,MATCH(I54,Backbone!$A$2:$A$893,0))","v":2},null,{"$f":"INDEX(Backbone!$M$2:$M$893,MATCH(I54,Backbone!$A$2:$A$893,0))","v":3.5},null,{"$f":"INDEX(Backbone!$N$2:$N$893,MATCH(I54,Backbone!$A$2:$A$893,0))","v":4},null,{"$f":"INDEX(Backbone!$O$2:$O$893,MATCH(I54,Backbone!$A$2:$A$893,0))","v":6.4},null,{"$f":"INDEX(Backbone!$P$2:$P$893,MATCH(I54,Backbone!$A$2:$A$893,0))","v":8},null,{"$f":"INDEX(Backbone!$Q$2:$Q$893,MATCH(I54,Backbone!$A$2:$A$893,0))","v":0.61555555555555552},null,null,{"$f":"(AG54*$AG$22+AI54*$AI$22+AK54*$AK$22+AM54*$AM$22+AO54*$AO$22+AQ54*$AQ$22+AS54*$AS$22+AU54*$AU$22+AW54*$AW$22)/(SUM($AG$22:$AW$22)*10)","v":{"$error":"#DIV/0!"}},null,null,"Go to \nToolbox: ",null,{"$f":"HYPERLINK(\"#\"&ADDRESS(MATCH(I54,Toolbox!$C$1:$C$300),1,,,\"Toolbox\"),VLOOKUP(I54,Toolbox!$C$1:$C$300,1,FALSE))","v":"Preparedness and Response Planning Toolkit"}]
[]
[]
[]
[]
[]
[]
[]
[]
[]
[]
[]
[]
[]
[]
[]
[]
[]
[]
[null,"LEVEL 2 RESOURCES",null,null,null,null,null,null,null,null,null,null,null,null,null,null,null,null,null,null,null,null,null,null,null,null,null,null,null,null,null,null,"Accessibility",null,"Language",null,"Ease of use",null,"Flexibility",null,"Data Needs",null,"Data Analysis",null,"Acceptability",null,"One Health",null,"Impact"]
[]
[]
[]
[]
[]
[]
[null,null,null,null,null,null,null,null,null,null,null,null,null,null,null,null,null,null,null,null,null,null,null,null,null,null,null,null,null,null,null,null,null,null,null,null,null,null,null,null,null,null,null,null,null,null,null,null,null,null,"RAW SCORE",null,null,"ADJUSTED SCORE \n(Based on user preferences)"]
[]
[]
[]
[null,null,null,"DESIGNATION",null,null,null,null,"RESOURCE NAME",null,null,null,null,null,null,"SHORT DESCRIPTION",null,null,null,null,null,null,null,null,"RESOURCE TYPE",null,null,null,"RESOURCE GENERALITY"]
[]
[]
[]
[null,null,null,null,null,null,null,null,null,null,null,null,null,null,null,null,null,null,null,null,null,null,null,null,null,null,null,null,null,null,null,null,{"$f":"'Attribute Survey'!S231","v":0},null,{"$f":"'Attribute Survey'!S235","v":0},null,{"$f":"'Attribute Survey'!S239","v":0},null,{"$f":"'Attribute Survey'!S243","v":0},null,{"$f":"'Attribute Survey'!S247","v":0},null,{"$f":"'Attribute Survey'!S251","v":0},null,{"$f":"'Attribute Survey'!S255","v":0},null,{"$f":"'Attribute Survey'!S259","v":0},null,{"$f":"'Attribute Survey'!S263","v":0}]
[null,null,null,"Resources Best Fit for Purpose",null,null,null,null,{"$f":"Backbone!A648","v":"Preparedness and Response Planning Toolkit"},null,null,null,null,null,null,"This toolkit is designed to support countries in their development of multisectoral preparedness and response plans for public health events. ",null,null,null,null,null,null,null,null,{"$f":"INDEX(Backbone!$R$2:$R$893,MATCH(I89,Backbone!$A$2:$A$893,0))","v":"Guidance document"},null,null,null,{"$f":"INDEX(Backbone!$S$2:$S$893,MATCH(I89,Backbone!$A$2:$A$893,0))","v":"One Health; Generalized"},null,null,null,{"$f":"INDEX(Backbone!$H$2:$H$893,MATCH(I89,Backbone!$A$2:$A$893,0))","v":8.4},null,{"$f":"INDEX(Backbone!$I$2:$I$893,MATCH(I89,Backbone!$A$2:$A$893,0))","v":8},null,{"$f":"INDEX(Backbone!$J$2:$J$893,MATCH(I89,Backbone!$A$2:$A$893,0))","v":8.4},null,{"$f":"INDEX(Backbone!$K$2:$K$893,MATCH(I89,Backbone!$A$2:$A$893,0))","v":6.7},null,{"$f":"INDEX(Backbone!$L$2:$L$893,MATCH(I89,Backbone!$A$2:$A$893,0))","v":2},null,{"$f":"INDEX(Backbone!$M$2:$M$893,MATCH(I89,Backbone!$A$2:$A$893,0))","v":3.5},null,{"$f":"INDEX(Backbone!$N$2:$N$893,MATCH(I89,Backbone!$A$2:$A$893,0))","v":4},null,{"$f":"INDEX(Backbone!$O$2:$O$893,MATCH(I89,Backbone!$A$2:$A$893,0))","v":6.4},null,{"$f":"INDEX(Backbone!$P$2:$P$893,MATCH(I89,Backbone!$A$2:$A$893,0))","v":8},null,{"$f":"INDEX(Backbone!$Q$2:$Q$893,MATCH(I89,Backbone!$A$2:$A$893,0))","v":0.61555555555555552},null,null,{"$f":"(AG89*$AG$22+AI89*$AI$22+AK89*$AK$22+AM89*$AM$22+AO89*$AO$22+AQ89*$AQ$22+AS89*$AS$22+AU89*$AU$22+AW89*$AW$22)/(SUM($AG$22:$AW$22)*10)","v":{"$error":"#DIV/0!"}},null,null,"Go to \nToolbox: ",null,{"$f":"HYPERLINK(\"#\"&ADDRESS(MATCH(I89,Toolbox!$C$1:$C$300),1,,,\"Toolbox\"),VLOOKUP(I89,Toolbox!$C$1:$C$300,1,FALSE))","v":"Preparedness and Response Planning Toolkit"}]

{"sheet":"A11_tools","index":37,"n_rows":132,"n_cols":59,"rows_kept":132,"cut":false,"hidden":false,"merged":[[125,53,129,54],[125,56,129,57],[125,58,129,62],[65,32,69,32],[65,34,69,34],[65,36,69,36],[119,56,123,57],[119,58,123,62],[131,56,135,57],[131,58,135,62],[96,48,110,48],[103,50,110,51],[103,53,110,54],[96,38,110,38],[96,40,110,40],[96,42,110,42],[96,44,110,44],[96,46,110,46],[112,50,116,51],[112,53,116,54],[112,38,116,38],[112,40,116,40],[112,42,116,42],[112,44,116,44],[125,38,129,38],[125,40,129,40],[125,42,129,42],[125,44,129,44],[125,46,129,46],[125,48,129,48],[46,56,50,57],[46,58,50,62],[52,56,56,57],[52,58,56,62],[58,56,62,57],[58,58,62,62],[71,56,75,57],[71,58,75,62],[112,56,116,57],[112,58,116,62],[65,56,69,57],[65,58,69,62],[46,44,50,44],[46,46,50,46],[46,48,50,48],[58,48,62,48],[58,50,62,51],[58,53,62,54],[1,1,3,62],[22,56,26,57],[22,58,26,62],[28,56,32,57],[28,58,32,62],[34,56,38,57],[34,58,38,62],[40,56,44,57],[40,58,44,62],[17,28,20,30],[22,3,62,6],[22,8,26,13],[22,50,26,51],[22,53,26,54],[28,8,32,13],[28,15,32,22],[28,32,32,32],[28,34,32,34],[28,36,32,36],[28,38,32,38],[22,38,26,38],[22,40,26,40],[22,42,26,42],[22,34,26,34],[22,36,26,36],[34,42,38,42],[34,44,38,44],[34,46,38,46],[34,48,38,48],[34,50,38,51],[34,53,38,54],[28,53,32,54],[34,8,38,13],[28,44,32,44],[28,46,32,46],[28,48,32,48],[28,50,32,51],[28,24,32,26],[28,28,32,30],[6,32,20,32],[6,34,20,34],[6,36,20,36],[6,38,20,38],[6,40,20,40],[6,42,20,42],[6,44,20,44],[6,46,20,46],[6,48,20,48],[13,50,20,51],[13,53,20,54],[17,1,75,1],[17,3,20,6],[17,8,20,13],[17,15,20,22],[17,24,20,26],[22,44,26,44],[22,46,26,46],[22,48,26,48],[22,15,26,22],[22,24,26,26],[22,28,26,30],[22,32,26,32],[34,15,38,22],[34,24,38,26],[34,28,38,30],[34,32,38,32],[34,34,38,34],[34,36,38,36],[34,38,38,38],[34,40,38,40],[28,40,32,40],[28,42,32,42],[40,48,44,48],[40,50,44,51],[40,53,44,54],[46,8,50,13],[46,15,50,22],[46,24,50,26],[46,28,50,30],[46,32,50,32],[46,34,50,34],[46,36,50,36],[40,36,44,36],[40,38,44,38],[40,40,44,40],[40,42,44,42],[40,44,44,44],[40,46,44,46],[40,8,44,13],[40,15,44,22],[40,24,44,26],[40,28,44,30],[40,32,44,32],[40,34,44,34],[46,50,50,51],[46,53,50,54],[52,8,56,13],[52,15,56,22],[52,24,56,26],[52,28,56,30],[52,32,56,32],[52,34,56,34],[52,36,56,36],[52,38,56,38],[46,38,50,38],[52,53,56,54],[52,40,56,40],[52,42,56,42],[52,44,56,44],[52,46,56,46],[52,48,56,48],[52,50,56,51],[46,40,50,40],[46,42,50,42],[58,42,62,42],[58,44,62,44],[58,46,62,46],[71,46,75,46],[58,8,62,13],[58,15,62,22],[58,24,62,26],[58,28,62,30],[58,32,62,32],[58,34,62,34],[58,36,62,36],[58,38,62,38],[58,40,62,40],[65,38,69,38],[65,40,69,40],[65,42,69,42],[65,44,69,44],[65,46,69,46],[65,3,75,6],[65,8,69,13],[65,15,69,22],[65,24,69,26],[65,28,69,30],[71,48,75,48],[71,50,75,51],[71,53,75,54],[71,34,75,34],[71,36,75,36],[71,38,75,38],[71,40,75,40],[71,42,75,42],[71,44,75,44],[71,8,75,13],[71,15,75,22],[71,24,75,26],[71,28,75,30],[71,32,75,32],[65,48,69,48],[65,50,69,51],[65,53,69,54],[107,3,110,6],[107,8,110,13],[107,15,110,22],[107,24,110,26],[107,28,110,30],[112,3,116,6],[96,32,110,32],[96,34,110,34],[96,36,110,36],[112,36,116,36],[119,15,123,22],[119,24,123,26],[119,28,123,30],[119,32,123,32],[112,48,116,48],[131,48,135,48],[131,50,135,51],[112,46,116,46],[112,8,116,13],[112,15,116,22],[112,24,116,26],[112,28,116,30],[112,32,116,32],[112,34,116,34],[119,42,123,42],[119,44,123,44],[125,8,129,13],[125,15,129,22],[125,24,129,26],[125,28,129,30],[125,32,129,32],[125,34,129,34],[125,36,129,36],[125,50,129,51],[131,53,135,54],[105,1,137,1],[131,36,135,36],[131,38,135,38],[131,40,135,40],[131,42,135,42],[131,44,135,44],[131,46,135,46],[119,46,123,46],[119,48,123,48],[119,50,123,51],[119,53,123,54],[131,8,135,13],[131,15,135,22],[131,24,135,26],[131,28,135,30],[131,32,135,32],[131,34,135,34],[119,34,123,34],[119,36,123,36],[119,38,123,38],[119,40,123,40],[119,3,135,6],[119,8,123,13]]}
[]
[null,"Workforce Assessment Resources"]
[]
[]
[]
[]
[null,null,null,null,null,null,null,null,null,null,null,null,null,null,null,null,null,null,null,null,null,null,null,null,null,null,null,null,null,null,null,null,"Accessibility",null,"Language",null,"Ease of use",null,"Flexibility",null,"Data Needs",null,"Data Analysis",null,"Acceptability",null,"One Health",null,"Impact"]
[]
[]
[]
[]
[]
[]
[null,null,null,null,null,null,null,null,null,null,null,null,null,null,null,null,null,null,null,null,null,null,null,null,null,null,null,null,null,null,null,null,null,null,null,null,null,null,null,null,null,null,null,null,null,null,null,null,null,null,"RAW SCORE",null,null,"ADJUSTED SCORE \n(Based on user preferences)"]
[]
[]
[]
[null,"LEVEL 1 RESOURCES",null,"DESIGNATION",null,null,null,null,"RESOURCE NAME",null,null,null,null,null,null,"SHORT DESCRIPTION",null,null,null,null,null,null,null,null,"RESOURCE TYPE",null,null,null,"RESOURCE GENERALITY"]
[]
[]
[]
[null,null,null,null,null,null,null,null,null,null,null,null,null,null,null,null,null,null,null,null,null,null,null,null,null,null,null,null,null,null,null,null,{"$f":"'Attribute Survey'!S22","v":0},null,{"$f":"'Attribute Survey'!S26","v":0},null,{"$f":"'Attribute Survey'!S30","v":0},null,{"$f":"'Attribute Survey'!S34","v":0},null,{"$f":"'Attribute Survey'!S38","v":0},null,{"$f":"'Attribute Survey'!S42","v":0},null,{"$f":"'Attribute Survey'!S46","v":0},null,{"$f":"'Attribute Survey'!S50","v":0},null,{"$f":"'Attribute Survey'!S54","v":0}]
[null,null,null,"Resources Best Fit For Purpose",null,null,null,null,"Border Health Capacity Discussion Guide (BHCDG)",null,null,null,null,null,null,"Template tools to lead facilitated discussions with national-, district-, and ground crossing-level representatives on border health system.",null,null,null,null,null,null,null,null,{"$f":"INDEX(Backbone!$R2:$R893,MATCH(I23,Backbone!$A2:$A893,0))","v":"Guidance document"},null,null,null,{"$f":"INDEX(Backbone!$S2:$S893,MATCH(I23,Backbone!$A2:$A893,0))","v":"One Health; Disease/Threat Specific "},null,null,null,{"$f":"INDEX(Backbone!$H2:$H893,MATCH(I23,Backbone!$A2:$A893,0))","v":8.8000000000000007},null,{"$f":"INDEX(Backbone!$I2:$I893,MATCH(I23,Backbone!$A2:$A893,0))","v":6.7},null,{"$f":"INDEX(Backbone!$J2:$J893,MATCH(I23,Backbone!$A2:$A893,0))","v":7.6},null,{"$f":"INDEX(Backbone!$K2:$K893,MATCH(I23,Backbone!$A2:$A893,0))","v":9},null,{"$f":"INDEX(Backbone!$L2:$L893,MATCH(I23,Backbone!$A2:$A893,0))","v":7},null,{"$f":"INDEX(Backbone!$M2:$M893,MATCH(I23,Backbone!$A2:$A893,0))","v":3.8},null,{"$f":"INDEX(Backbone!$N2:$N893,MATCH(I23,Backbone!$A2:$A893,0))","v":8},null,{"$f":"INDEX(Backbone!$O2:$O893,MATCH(I23,Backbone!$A2:$A893,0))","v":8.4},null,{"$f":"INDEX(Backbone!$P2:$P893,MATCH(I23,Backbone!$A2:$A893,0))","v":6},null,{"$f":"INDEX(Backbone!$Q2:$Q893,MATCH(I23,Backbone!$A2:$A893,0))","v":0.72555555555555551},null,null,{"$f":"(AG23*$AG$22+AI23*$AI$22+AK23*$AK$22+AM23*$AM$22+AO23*$AO$22+AQ23*$AQ$22+AS23*$AS$22+AU23*$AU$22+AW23*$AW$22)/(SUM($AG$22:$AW$22)*10)","v":{"$error":"#DIV/0!"}},null,null,"Go to \nToolbox: ",null,{"$f":"HYPERLINK(\"#\"&ADDRESS(MATCH(I23,Toolbox!$C$1:$C$300),1,,,\"Toolbox\"),VLOOKUP(I23,Toolbox!$C$1:$C$300,1,FALSE))","v":"Border Health Capacity Discussion Guide (BHCDG)"}]
[]
[]
[]
[]
[]
[null,null,null,null,null,null,null,null,{"$f":"Backbone!A174","v":"Epidemiology Mapping Tool (EMT)"},null,null,null,null,null,null," A workshop to enable the animal health and the human health sectors in countries to explore overlapping areas and develop, where relevant, appropriate bridges to facilitate coordination. ",null,null,null,null,null,null,null,null,{"$f":"INDEX(Backbone!$R$2:$R$893,MATCH(I29,Backbone!$A$2:$A$893,0))","v":"Guided/Facilitated tool or process"},null,null,null,{"$f":"INDEX(Backbone!$S$2:$S$893,MATCH(I29,Backbone!$A$2:$A$893,0))","v":"Sector Specific; Generalized"},null,null,null,{"$f":"INDEX(Backbone!$H$2:$H$893,MATCH(I29,Backbone!$A$2:$A$893,0))","v":6.6},null,{"$f":"INDEX(Backbone!$I$2:$I$893,MATCH(I29,Backbone!$A$2:$A$893,0))","v":8},null,{"$f":"INDEX(Backbone!$J$2:$J$893,MATCH(I29,Backbone!$A$2:$A$893,0))","v":7.4},null,{"$f":"INDEX(Backbone!$K$2:$K$893,MATCH(I29,Backbone!$A$2:$A$893,0))","v":7.3},null,{"$f":"INDEX(Backbone!$L$2:$L$893,MATCH(I29,Backbone!$A$2:$A$893,0))","v":6.9},null,{"$f":"INDEX(Backbone!$M$2:$M$893,MATCH(I29,Backbone!$A$2:$A$893,0))","v":5},null,{"$f":"INDEX(Backbone!$N$2:$N$893,MATCH(I29,Backbone!$A$2:$A$893,0))","v":3.5},null,{"$f":"INDEX(Backbone!$O$2:$O$893,MATCH(I29,Backbone!$A$2:$A$893,0))","v":6.8},null,{"$f":"INDEX(Backbone!$P$2:$P$893,MATCH(I29,Backbone!$A$2:$A$893,0))","v":5.5},null,{"$f":"INDEX(Backbone!$Q$2:$Q$893,MATCH(I29,Backbone!$A$2:$A$893,0))","v":0.6333333333333333},null,null,{"$f":"(AG29*$AG$22+AI29*$AI$22+AK29*$AK$22+AM29*$AM$22+AO29*$AO$22+AQ29*$AQ$22+AS29*$AS$22+AU29*$AU$22+AW29*$AW$22)/(SUM($AG$22:$AW$22)*10)","v":{"$error":"#DIV/0!"}},null,null,"Go to \nToolbox: ",null,{"$f":"HYPERLINK(\"#\"&ADDRESS(MATCH(I29,Toolbox!$C$1:$C$300),1,,,\"Toolbox\"),VLOOKUP(I29,Toolbox!$C$1:$C$300,1,FALSE))","v":"Epidemiology Mapping Tool (EMT)"}]
[]
[]
[]
[]
[]
[null,null,null,null,null,null,null,null,{"$f":"Backbone!A100","v":"Evaluation of Collaboration in a multisectoral Surveillance system (EcoSur)"},null,null,null,null,null,null,"A readiness and requirements assessment tool used to determine country readiness and gather requirements to develop a One Health surveillance system based on critical success factors.",null,null,null,null,null,null,null,null,{"$f":"INDEX(Backbone!$R$2:$R$893,MATCH(I35,Backbone!$A$2:$A$893,0))","v":"Guided/Facilitated tool or process"},null,null,null,{"$f":"INDEX(Backbone!$S$2:$S$893,MATCH(I35,Backbone!$A$2:$A$893,0))","v":"One Health; Generalized"},null,null,null,{"$f":"INDEX(Backbone!$H$2:$H$893,MATCH(I35,Backbone!$A$2:$A$893,0))","v":8.3000000000000007},null,{"$f":"INDEX(Backbone!$I$2:$I$893,MATCH(I35,Backbone!$A$2:$A$893,0))","v":6},null,{"$f":"INDEX(Backbone!$J$2:$J$893,MATCH(I35,Backbone!$A$2:$A$893,0))","v":8.5},null,{"$f":"INDEX(Backbone!$K$1:$K$893,MATCH(I35,Backbone!$A$1:$A$893,0))","v":7.8},null,{"$f":"INDEX(Backbone!$L$2:$L$893,MATCH(I35,Backbone!$A$2:$A$893,0))","v":8.3000000000000007},null,{"$f":"INDEX(Backbone!$M$2:$M$893,MATCH(I35,Backbone!$A$2:$A$893,0))","v":6.7},null,{"$f":"INDEX(Backbone!$N$2:$N$893,MATCH(I35,Backbone!$A$2:$A$893,0))","v":3.3},null,{"$f":"INDEX(Backbone!$O$2:$O$893,MATCH(I35,Backbone!$A$2:$A$893,0))","v":9.1},null,{"$f":"INDEX(Backbone!$P$2:$P$893,MATCH(I35,Backbone!$A$2:$A$893,0))","v":4.7},null,{"$f":"INDEX(Backbone!$Q$2:$Q$893,MATCH(I35,Backbone!$A$2:$A$893,0))","v":0.69666666666666677},null,null,{"$f":"(AG35*$AG$22+AI35*$AI$22+AK35*$AK$22+AM35*$AM$22+AO35*$AO$22+AQ35*$AQ$22+AS35*$AS$22+AU35*$AU$22+AW35*$AW$22)/(SUM($AG$22:$AW$22)*10)","v":{"$error":"#DIV/0!"}},null,null,"Go to \nToolbox: ",null,{"$f":"HYPERLINK(\"#\"&ADDRESS(MATCH(I35,Toolbox!$C$1:$C$300),1,,,\"Toolbox\"),VLOOKUP(I35,Toolbox!$C$1:$C$300,1,FALSE))","v":"Evaluation of Collaboration in a multisectoral Surveillance system (EcoSur)"}]
[]
[]
[]
[]
[]
[null,null,null,null,null,null,null,null,{"$f":"Backbone!A184","v":"Global Dog Rabies Elimination Pathway (GDREP)"},null,null,null,null,null,null,"The tool is aimed to facilitate a systematic assessment of national structures for One Health coordination with respect to preventing, detecting, and responding to zoonotic diseases.  ",null,null,null,null,null,null,null,null,{"$f":"INDEX(Backbone!$R$2:$R$893,MATCH(I41,Backbone!$A$2:$A$893,0))","v":"Self-assessment tool"},null,null,null,{"$f":"INDEX(Backbone!$S$2:$S$893,MATCH(I41,Backbone!$A$2:$A$893,0))","v":"One Health; Disease/Threat Specific "},null,null,null,{"$f":"INDEX(Backbone!$H$2:$H$893,MATCH(I41,Backbone!$A$2:$A$893,0))","v":9.1},null,{"$f":"INDEX(Backbone!$I$2:$I$893,MATCH(I41,Backbone!$A$2:$A$893,0))","v":7.3},null,{"$f":"INDEX(Backbone!$J$2:$J$893,MATCH(I41,Backbone!$A$2:$A$893,0))","v":8.6999999999999993},null,{"$f":"INDEX(Backbone!$K$1:$K$893,MATCH(I41,Backbone!$A$1:$A$893,0))","v":6},null,{"$f":"INDEX(Backbone!$L$2:$L$893,MATCH(I41,Backbone!$A$2:$A$893,0))","v":7.9},null,{"$f":"INDEX(Backbone!$M$2:$M$893,MATCH(I41,Backbone!$A$2:$A$893,0))","v":6},null,{"$f":"INDEX(Backbone!$N$2:$N$893,MATCH(I41,Backbone!$A$2:$A$893,0))","v":7},null,{"$f":"INDEX(Backbone!$O$2:$O$893,MATCH(I41,Backbone!$A$2:$A$893,0))","v":6.3},null,{"$f":"INDEX(Backbone!$P$2:$P$893,MATCH(I41,Backbone!$A$2:$A$893,0))","v":7},null,{"$f":"INDEX(Backbone!$Q$2:$Q$893,MATCH(I41,Backbone!$A$2:$A$893,0))","v":0.72555555555555551},null,null,{"$f":"(AG41*$AG$22+AI41*$AI$22+AK41*$AK$22+AM41*$AM$22+AO41*$AO$22+AQ41*$AQ$22+AS41*$AS$22+AU41*$AU$22+AW41*$AW$22)/(SUM($AG$22:$AW$22)*10)","v":{"$error":"#DIV/0!"}},null,null,"Go to \nToolbox: ",null,{"$f":"HYPERLINK(\"#\"&ADDRESS(MATCH(I41,Toolbox!$C$1:$C$300),1,,,\"Toolbox\"),VLOOKUP(I41,Toolbox!$C$1:$C$300,1,FALSE))","v":"Global Dog Rabies Elimination Pathway (GDREP)"}]
[]
[]
[]
[]
[]
[null,null,null,null,null,null,null,null,{"$f":"Backbone!A265","v":"Laboratory Leadership Competency Framework (GLLP)"},null,null,null,null,null,null,"A process that supports stakeholders from multiple sectors to map, analyze and improve any existing system that requires interdisciplinary and multisectoral collaboration.",null,null,null,null,null,null,null,null,{"$f":"INDEX(Backbone!$R$2:$R$893,MATCH(I47,Backbone!$A$2:$A$893,0))","v":"Guidance document"},null,null,null,{"$f":"INDEX(Backbone!$S$2:$S$893,MATCH(I47,Backbone!$A$2:$A$893,0))","v":"One Health; Generalized"},null,null,null,{"$f":"INDEX(Backbone!$H$2:$H$893,MATCH(I47,Backbone!$A$2:$A$893,0))","v":9.6},null,{"$f":"INDEX(Backbone!$I$2:$I$893,MATCH(I47,Backbone!$A$2:$A$893,0))","v":8},null,{"$f":"INDEX(Backbone!$J$2:$J$893,MATCH(I47,Backbone!$A$2:$A$893,0))","v":8.4},null,{"$f":"INDEX(Backbone!$K$1:$K$893,MATCH(I47,Backbone!$A$1:$A$893,0))","v":9.6999999999999993},null,{"$f":"INDEX(Backbone!$L$2:$L$893,MATCH(I47,Backbone!$A$2:$A$893,0))","v":7.3},null,{"$f":"INDEX(Backbone!$M$2:$M$893,MATCH(I47,Backbone!$A$2:$A$893,0))","v":2.2999999999999998},null,{"$f":"INDEX(Backbone!$N$2:$N$893,MATCH(I47,Backbone!$A$2:$A$893,0))","v":5},null,{"$f":"INDEX(Backbone!$O$2:$O$893,MATCH(I47,Backbone!$A$2:$A$893,0))","v":8.9},null,{"$f":"INDEX(Backbone!$P$2:$P$893,MATCH(I47,Backbone!$A$2:$A$893,0))","v":4},null,{"$f":"INDEX(Backbone!$Q$2:$Q$893,MATCH(I47,Backbone!$A$2:$A$893,0))","v":0.70222222222222219},null,null,{"$f":"(AG47*$AG$22+AI47*$AI$22+AK47*$AK$22+AM47*$AM$22+AO47*$AO$22+AQ47*$AQ$22+AS47*$AS$22+AU47*$AU$22+AW47*$AW$22)/(SUM($AG$22:$AW$22)*10)","v":{"$error":"#DIV/0!"}},null,null,"Go to \nToolbox: ",null,{"$f":"HYPERLINK(\"#\"&ADDRESS(MATCH(I47,Toolbox!$C$1:$C$300),1,,,\"Toolbox\"),VLOOKUP(I47,Toolbox!$C$1:$C$300,1,FALSE))","v":"Laboratory Leadership Competency Framework (GLLP)"}]
[]
[]
[]
[]
[]
[null,null,null,null,null,null,null,null,{"$f":"Backbone!A383","v":"One Health Systems Mapping and Analysis Resource Toolkit (OH-SMART)"},null,null,null,null,null,null,"A specialized stakeholder mapping that allows to visualize the system of organizations as they interact for a given policy issue. ",null,null,null,null,null,null,null,null,{"$f":"INDEX(Backbone!$R$2:$R$893,MATCH(I53,Backbone!$A$2:$A$893,0))","v":"Guided/Facilitated tool or process"},null,null,null,{"$f":"INDEX(Backbone!$S$2:$S$893,MATCH(I53,Backbone!$A$2:$A$893,0))","v":"One Health; Generalized"},null,null,null,{"$f":"INDEX(Backbone!$H$2:$H$893,MATCH(I53,Backbone!$A$2:$A$893,0))","v":8.6999999999999993},null,{"$f":"INDEX(Backbone!$I$2:$I$893,MATCH(I53,Backbone!$A$2:$A$893,0))","v":7.3},null,{"$f":"INDEX(Backbone!$J$2:$J$893,MATCH(I53,Backbone!$A$2:$A$893,0))","v":8.4},null,{"$f":"INDEX(Backbone!$K$1:$K$893,MATCH(I53,Backbone!$A$1:$A$893,0))","v":9.3000000000000007},null,{"$f":"INDEX(Backbone!$L$2:$L$893,MATCH(I53,Backbone!$A$2:$A$893,0))","v":8.1999999999999993},null,{"$f":"INDEX(Backbone!$M$2:$M$893,MATCH(I53,Backbone!$A$2:$A$893,0))","v":7.4},null,{"$f":"INDEX(Backbone!$N$2:$N$893,MATCH(I53,Backbone!$A$2:$A$893,0))","v":9.5},null,{"$f":"INDEX(Backbone!$O$2:$O$893,MATCH(I53,Backbone!$A$2:$A$893,0))","v":10},null,{"$f":"INDEX(Backbone!$P$2:$P$893,MATCH(I53,Backbone!$A$2:$A$893,0))","v":10},null,{"$f":"INDEX(Backbone!$Q$2:$Q$893,MATCH(I53,Backbone!$A$2:$A$893,0))","v":0.87555555555555564},null,null,{"$f":"(AG53*$AG$22+AI53*$AI$22+AK53*$AK$22+AM53*$AM$22+AO53*$AO$22+AQ53*$AQ$22+AS53*$AS$22+AU53*$AU$22+AW53*$AW$22)/(SUM($AG$22:$AW$22)*10)","v":{"$error":"#DIV/0!"}},null,null,"Go to \nToolbox: ",null,{"$f":"HYPERLINK(\"#\"&ADDRESS(MATCH(I53,Toolbox!$C$1:$C$300),1,,,\"Toolbox\"),VLOOKUP(I53,Toolbox!$C$1:$C$300,1,FALSE))","v":"One Health Systems Mapping and Analysis Resource Toolkit (OH-SMART)"}]
[]
[]
[]
[]
[]
[null,null,null,null,null,null,null,null,{"$f":"Backbone!A351","v":"Surveillance network assessment tool (OASIS)"},null,null,null,null,null,null,"An excel based practical planning, monitoring and evaluation tool to guide, develop and refine rabies control programmes. ",null,null,null,null,null,null,null,null,{"$f":"INDEX(Backbone!$R$2:$R$893,MATCH(I59,Backbone!$A$2:$A$893,0))","v":"Self-assessment tool"},null,null,null,{"$f":"INDEX(Backbone!$S$2:$S$893,MATCH(I59,Backbone!$A$2:$A$893,0))","v":"Sector Specific; Generalized"},null,null,null,{"$f":"INDEX(Backbone!$H$2:$H$893,MATCH(I59,Backbone!$A$2:$A$893,0))","v":8.1999999999999993},null,{"$f":"INDEX(Backbone!$I$2:$I$893,MATCH(I59,Backbone!$A$2:$A$893,0))","v":7},null,{"$f":"INDEX(Backbone!$J$2:$J$893,MATCH(I59,Backbone!$A$2:$A$893,0))","v":8},null,{"$f":"INDEX(Backbone!$K$1:$K$893,MATCH(I59,Backbone!$A$1:$A$893,0))","v":8.3000000000000007},null,{"$f":"INDEX(Backbone!$L$2:$L$893,MATCH(I59,Backbone!$A$2:$A$893,0))","v":7},null,{"$f":"INDEX(Backbone!$M$2:$M$893,MATCH(I59,Backbone!$A$2:$A$893,0))","v":6.5},null,{"$f":"INDEX(Backbone!$N$2:$N$893,MATCH(I59,Backbone!$A$2:$A$893,0))","v":4.5},null,{"$f":"INDEX(Backbone!$O$2:$O$893,MATCH(I59,Backbone!$A$2:$A$893,0))","v":5.0999999999999996},null,{"$f":"INDEX(Backbone!$P$2:$P$893,MATCH(I59,Backbone!$A$2:$A$893,0))","v":4.5},null,{"$f":"INDEX(Backbone!$Q$2:$Q$893,MATCH(I59,Backbone!$A$2:$A$893,0))","v":0.65666666666666673},null,null,{"$f":"(AG59*$AG$22+AI59*$AI$22+AK59*$AK$22+AM59*$AM$22+AO59*$AO$22+AQ59*$AQ$22+AS59*$AS$22+AU59*$AU$22+AW59*$AW$22)/(SUM($AG$22:$AW$22)*10)","v":{"$error":"#DIV/0!"}},null,null,"Go to \nToolbox: ",null,{"$f":"HYPERLINK(\"#\"&ADDRESS(MATCH(I59,Toolbox!$C$1:$C$300),1,,,\"Toolbox\"),VLOOKUP(I59,Toolbox!$C$1:$C$300,1,FALSE))","v":"Surveillance network assessment tool (OASIS)"}]
[]
[]
[]
[]
[]
[]
[null,null,null,"Other Relevant Resources",null,null,null,null,{"$f":"Backbone!A59","v":"Competency Guidelines for Public Health Laboratory Professionals: CDC and the Association of Public Health Laboratories"},null,null,null,null,null,null,"The guidelines that provide an outline of the knowledge, skills, and abilities necessary for public health laboratory (PHL) professionals to deliver the core services of PHLs efficiently and effectively.  ",null,null,null,null,null,null,null,null,{"$f":"INDEX(Backbone!$R$2:$R$893,MATCH(I66,Backbone!$A$2:$A$893,0))","v":"Guidance document"},null,null,null,{"$f":"INDEX(Backbone!$S$2:$S$893,MATCH(I66,Backbone!$A$2:$A$893,0))","v":"Sector Specific; Generalized"},null,null,null,{"$f":"INDEX(Backbone!$H$2:$H$893,MATCH(I66,Backbone!$A$2:$A$893,0))","v":9},null,{"$f":"INDEX(Backbone!$I$2:$I$893,MATCH(I66,Backbone!$A$2:$A$893,0))","v":7.8},null,{"$f":"INDEX(Backbone!$J$2:$J$893,MATCH(I66,Backbone!$A$2:$A$893,0))","v":9.1999999999999993},null,{"$f":"INDEX(Backbone!$K$1:$K$893,MATCH(I66,Backbone!$A$1:$A$893,0))","v":9.1},null,{"$f":"INDEX(Backbone!$L$2:$L$893,MATCH(I66,Backbone!$A$2:$A$893,0))","v":6.3},null,{"$f":"INDEX(Backbone!$M$2:$M$893,MATCH(I66,Backbone!$A$2:$A$893,0))","v":3},null,{"$f":"INDEX(Backbone!$N$2:$N$893,MATCH(I66,Backbone!$A$2:$A$893,0))","v":2},null,{"$f":"INDEX(Backbone!$O$2:$O$893,MATCH(I66,Backbone!$A$2:$A$893,0))","v":7.8},null,{"$f":"INDEX(Backbone!$P$2:$P$893,MATCH(I66,Backbone!$A$2:$A$893,0))","v":4},null,{"$f":"INDEX(Backbone!$Q$2:$Q$893,MATCH(I66,Backbone!$A$2:$A$893,0))","v":0.64666666666666661},null,null,{"$f":"(AG66*$AG$22+AI66*$AI$22+AK66*$AK$22+AM66*$AM$22+AO66*$AO$22+AQ66*$AQ$22+AS66*$AS$22+AU66*$AU$22+AW66*$AW$22)/(SUM($AG$22:$AW$22)*10)","v":{"$error":"#DIV/0!"}},null,null,"Go to \nToolbox: ",null,{"$f":"HYPERLINK(\"#\"&ADDRESS(MATCH(I66,Toolbox!$C$1:$C$300),1,,,\"Toolbox\"),VLOOKUP(I66,Toolbox!$C$1:$C$300,1,FALSE))","v":"Competency Guidelines for Public Health Laboratory Professionals: CDC and the Association of Public Health Laboratories"}]
[]
[]
[]
[]
[]
[null,null,null,null,null,null,null,null,{"$f":"Backbone!A303","v":"National Action Plan for Health Security (NAPHS)"},null,null,null,null,null,null,"A tool that aims to evaluate the organization and functioning of collaboration in a multisectoral surveillance system and to analyse strengths and weaknesses of this collaboration. ",null,null,null,null,null,null,null,null,{"$f":"INDEX(Backbone!$R$2:$R$893,MATCH(I72,Backbone!$A$2:$A$893,0))","v":"Guidance document"},null,null,null,{"$f":"INDEX(Backbone!$S$2:$S$893,MATCH(I72,Backbone!$A$2:$A$893,0))","v":"One Health; Generalized"},null,null,null,{"$f":"INDEX(Backbone!$H$2:$H$893,MATCH(I72,Backbone!$A$2:$A$893,0))","v":8},null,{"$f":"INDEX(Backbone!$I$2:$I$893,MATCH(I72,Backbone!$A$2:$A$893,0))","v":9},null,{"$f":"INDEX(Backbone!$J$2:$J$893,MATCH(I72,Backbone!$A$2:$A$893,0))","v":7.8},null,{"$f":"INDEX(Backbone!$K$1:$K$893,MATCH(I72,Backbone!$A$1:$A$893,0))","v":10},null,{"$f":"INDEX(Backbone!$L$2:$L$893,MATCH(I72,Backbone!$A$2:$A$893,0))","v":8},null,{"$f":"INDEX(Backbone!$M$2:$M$893,MATCH(I72,Backbone!$A$2:$A$893,0))","v":4.5},null,{"$f":"INDEX(Backbone!$N$2:$N$893,MATCH(I72,Backbone!$A$2:$A$893,0))","v":10},null,{"$f":"INDEX(Backbone!$O$2:$O$893,MATCH(I72,Backbone!$A$2:$A$893,0))","v":10},null,{"$f":"INDEX(Backbone!$P$2:$P$893,MATCH(I72,Backbone!$A$2:$A$893,0))","v":10},null,{"$f":"INDEX(Backbone!$Q$2:$Q$893,MATCH(I72,Backbone!$A$2:$A$893,0))","v":0.85888888888888881},null,null,{"$f":"(AG72*$AG$22+AI72*$AI$22+AK72*$AK$22+AM72*$AM$22+AO72*$AO$22+AQ72*$AQ$22+AS72*$AS$22+AU72*$AU$22+AW72*$AW$22)/(SUM($AG$22:$AW$22)*10)","v":{"$error":"#DIV/0!"}},null,null,"Go to \nToolbox: ",null,{"$f":"HYPERLINK(\"#\"&ADDRESS(MATCH(I72,Toolbox!$C$1:$C$300),1,,,\"Toolbox\"),VLOOKUP(I72,Toolbox!$C$1:$C$300,1,FALSE))","v":"National Action Plan for Health Security (NAPHS)"}]
[]
[]
[]
[]
[]
[]
[]
[]
[]
[]
[]
[]
[]
[]
[]
[]
[]
[]
[]
[]
[]
[]
[]
[]
[null,null,null,null,null,null,null,null,null,null,null,null,null,null,null,null,null,null,null,null,null,null,null,null,null,null,null,null,null,null,null,null,"Accessibility",null,"Language",null,"Ease of use",null,"Flexibility",null,"Data Needs",null,"Data Analysis",null,"Acceptability",null,"One Health",null,"Impact"]
[]
[]
[]
[]
[]
[]
[null,null,null,null,null,null,null,null,null,null,null,null,null,null,null,null,null,null,null,null,null,null,null,null,null,null,null,null,null,null,null,null,null,null,null,null,null,null,null,null,null,null,null,null,null,null,null,null,null,null,"RAW SCORE",null,null,"ADJUSTED SCORE \n(Based on user preferences)"]
[]
[null,"LEVEL 3  RESOURCES"]
[]
[null,null,null,"DESIGNATION",null,null,null,null,"RESOURCE NAME",null,null,null,null,null,null,"SHORT DESCRIPTION",null,null,null,null,null,null,null,null,"RESOURCE TYPE",null,null,null,"RESOURCE GENERALITY"]
[]
[]
[]
[null,null,null,null,null,null,null,null,null,null,null,null,null,null,null,null,null,null,null,null,null,null,null,null,null,null,null,null,null,null,null,null,{"$f":"'Attribute Survey'!S231","v":0},null,{"$f":"'Attribute Survey'!S235","v":0},null,{"$f":"'Attribute Survey'!S239","v":0},null,{"$f":"'Attribute Survey'!S243","v":0},null,{"$f":"'Attribute Survey'!S247","v":0},null,{"$f":"'Attribute Survey'!S251","v":0},null,{"$f":"'Attribute Survey'!S255","v":0},null,{"$f":"'Attribute Survey'!S259","v":0},null,{"$f":"'Attribute Survey'!S263","v":0}]
[null,null,null,"Resources Best Fit for Purpose",null,null,null,null,{"$f":"Backbone!A100","v":"Evaluation of Collaboration in a multisectoral Surveillance system (EcoSur)"},null,null,null,null,null,null," A workshop to enable the animal health and the human health sectors in countries to explore overlapping areas and develop, where relevant, appropriate bridges to facilitate coordination. ",null,null,null,null,null,null,null,null,{"$f":"INDEX(Backbone!$R$2:$R$893,MATCH(I113,Backbone!$A$2:$A$893,0))","v":"Guided/Facilitated tool or process"},null,null,null,{"$f":"INDEX(Backbone!$S$2:$S$893,MATCH(I113,Backbone!$A$2:$A$893,0))","v":"One Health; Generalized"},null,null,null,{"$f":"INDEX(Backbone!$H$2:$H$893,MATCH(I113,Backbone!$A$2:$A$893,0))","v":8.3000000000000007},null,{"$f":"INDEX(Backbone!$I$2:$I$893,MATCH(I113,Backbone!$A$2:$A$893,0))","v":6},null,{"$f":"INDEX(Backbone!$J$2:$J$893,MATCH(I113,Backbone!$A$2:$A$893,0))","v":8.5},null,{"$f":"INDEX(Backbone!$K$2:$K$893,MATCH(I113,Backbone!$A$2:$A$893,0))","v":7.8},null,{"$f":"INDEX(Backbone!$L$2:$L$893,MATCH(I113,Backbone!$A$2:$A$893,0))","v":8.3000000000000007},null,{"$f":"INDEX(Backbone!$M$2:$M$893,MATCH(I113,Backbone!$A$2:$A$893,0))","v":6.7},null,{"$f":"INDEX(Backbone!$N$2:$N$893,MATCH(I113,Backbone!$A$2:$A$893,0))","v":3.3},null,{"$f":"INDEX(Backbone!$O$2:$O$893,MATCH(I113,Backbone!$A$2:$A$893,0))","v":9.1},null,{"$f":"INDEX(Backbone!$P$2:$P$893,MATCH(I113,Backbone!$A$2:$A$893,0))","v":4.7},null,{"$f":"INDEX(Backbone!$Q$2:$Q$893,MATCH(I113,Backbone!$A$2:$A$893,0))","v":0.69666666666666677},null,null,{"$f":"(AG113*$AG$22+AI113*$AI$22+AK113*$AK$22+AM113*$AM$22+AO113*$AO$22+AQ113*$AQ$22+AS113*$AS$22+AU113*$AU$22+AW113*$AW$22)/(SUM($AG$22:$AW$22)*10)","v":{"$error":"#DIV/0!"}},null,null,"Go to \nToolbox: ",null,{"$f":"HYPERLINK(\"#\"&ADDRESS(MATCH(I113,Toolbox!$C$1:$C$300),1,,,\"Toolbox\"),VLOOKUP(I113,Toolbox!$C$1:$C$300,1,FALSE))","v":"Evaluation of Collaboration in a multisectoral Surveillance system (EcoSur)"}]
[]
[]
[]
[]
[]
[]
[null,null,null,"Other Relevant Resources",null,null,null,null,{"$f":"Backbone!A2","v":"Africa CDC Event Based Surveillance Framework"},null,null,null,null,null,null,"A tool that aims to evaluate the organization and functioning of collaboration in a multisectoral surveillance system and to analyse strengths and weaknesses of this collaboration. ",null,null,null,null,null,null,null,null,{"$f":"INDEX(Backbone!$R$2:$R$893,MATCH(I120,Backbone!$A$2:$A$893,0))","v":"Guidance document"},null,null,null,{"$f":"INDEX(Backbone!$S$2:$S$893,MATCH(I120,Backbone!$A$2:$A$893,0))","v":"One Health; Generalized "},null,null,null,{"$f":"INDEX(Backbone!$H$2:$H$893,MATCH(I120,Backbone!$A$2:$A$893,0))","v":8},null,{"$f":"INDEX(Backbone!$I$2:$I$893,MATCH(I120,Backbone!$A$2:$A$893,0))","v":6},null,{"$f":"INDEX(Backbone!$J$2:$J$893,MATCH(I120,Backbone!$A$2:$A$893,0))","v":8.1999999999999993},null,{"$f":"INDEX(Backbone!$K$1:$K$893,MATCH(I120,Backbone!$A$1:$A$893,0))","v":8.3000000000000007},null,{"$f":"INDEX(Backbone!$L$2:$L$893,MATCH(I120,Backbone!$A$2:$A$893,0))","v":6.1},null,{"$f":"INDEX(Backbone!$M$2:$M$893,MATCH(I120,Backbone!$A$2:$A$893,0))","v":3.5},null,{"$f":"INDEX(Backbone!$N$2:$N$893,MATCH(I120,Backbone!$A$2:$A$893,0))","v":4},null,{"$f":"INDEX(Backbone!$O$2:$O$893,MATCH(I120,Backbone!$A$2:$A$893,0))","v":7},null,{"$f":"INDEX(Backbone!$P$2:$P$893,MATCH(I120,Backbone!$A$2:$A$893,0))","v":6},null,{"$f":"INDEX(Backbone!$Q$2:$Q$893,MATCH(I120,Backbone!$A$2:$A$893,0))","v":0.63222222222222224},null,null,{"$f":"(AG120*$AG$22+AI120*$AI$22+AK120*$AK$22+AM120*$AM$22+AO120*$AO$22+AQ120*$AQ$22+AS120*$AS$22+AU120*$AU$22+AW120*$AW$22)/(SUM($AG$22:$AW$22)*10)","v":{"$error":"#DIV/0!"}},null,null,"Go to \nToolbox: ",null,{"$f":"HYPERLINK(\"#\"&ADDRESS(MATCH(I120,Toolbox!$C$1:$C$300),1,,,\"Toolbox\"),VLOOKUP(I120,Toolbox!$C$1:$C$300,1,FALSE))","v":"Africa CDC Event Based Surveillance Framework"}]
[]
[]
[]
[]
[]
[null,null,null,null,null,null,null,null,{"$f":"Backbone!A59","v":"Competency Guidelines for Public Health Laboratory Professionals: CDC and the Association of Public Health Laboratories"},null,null,null,null,null,null,"The guidelines that provide an outline of the knowledge, skills, and abilities necessary for public health laboratory (PHL) professionals to deliver the core services of PHLs efficiently and effectively.",null,null,null,null,null,null,null,null,{"$f":"INDEX(Backbone!$R$2:$R$893,MATCH(I126,Backbone!$A$2:$A$893,0))","v":"Guidance document"},null,null,null,{"$f":"INDEX(Backbone!$S$2:$S$893,MATCH(I126,Backbone!$A$2:$A$893,0))","v":"Sector Specific; Generalized"},null,null,null,{"$f":"INDEX(Backbone!$H$2:$H$893,MATCH(I126,Backbone!$A$2:$A$893,0))","v":9},null,{"$f":"INDEX(Backbone!$I$2:$I$893,MATCH(I126,Backbone!$A$2:$A$893,0))","v":7.8},null,{"$f":"INDEX(Backbone!$J$2:$J$893,MATCH(I126,Backbone!$A$2:$A$893,0))","v":9.1999999999999993},null,{"$f":"INDEX(Backbone!$K$1:$K$893,MATCH(I126,Backbone!$A$1:$A$893,0))","v":9.1},null,{"$f":"INDEX(Backbone!$L$2:$L$893,MATCH(I126,Backbone!$A$2:$A$893,0))","v":6.3},null,{"$f":"INDEX(Backbone!$M$2:$M$893,MATCH(I126,Backbone!$A$2:$A$893,0))","v":3},null,{"$f":"INDEX(Backbone!$N$2:$N$893,MATCH(I126,Backbone!$A$2:$A$893,0))","v":2},null,{"$f":"INDEX(Backbone!$O$2:$O$893,MATCH(I126,Backbone!$A$2:$A$893,0))","v":7.8},null,{"$f":"INDEX(Backbone!$P$2:$P$893,MATCH(I126,Backbone!$A$2:$A$893,0))","v":4},null,{"$f":"INDEX(Backbone!$Q$2:$Q$893,MATCH(I126,Backbone!$A$2:$A$893,0))","v":0.64666666666666661},null,null,{"$f":"(AG126*$AG$22+AI126*$AI$22+AK126*$AK$22+AM126*$AM$22+AO126*$AO$22+AQ126*$AQ$22+AS126*$AS$22+AU126*$AU$22+AW126*$AW$22)/(SUM($AG$22:$AW$22)*10)","v":{"$error":"#DIV/0!"}},null,null,"Go to \nToolbox: ",null,{"$f":"HYPERLINK(\"#\"&ADDRESS(MATCH(I126,Toolbox!$C$1:$C$300),1,,,\"Toolbox\"),VLOOKUP(I126,Toolbox!$C$1:$C$300,1,FALSE))","v":"Competency Guidelines for Public Health Laboratory Professionals: CDC and the Association of Public Health Laboratories"}]
[]
[]
[]
[]
[]
[null,null,null,null,null,null,null,null,{"$f":"Backbone!A195","v":"Integrated Disease Surveillance and Response (IDSR)"},null,null,null,null,null,null,"A strategy aimed at strengthening capacities for detection, confirmation and response to suspected cases and outbreaks, and for use of information to predict and plan for public health events. ",null,null,null,null,null,null,null,null,{"$f":"INDEX(Backbone!$R$2:$R$893,MATCH(I132,Backbone!$A$2:$A$893,0))","v":"Guidance document"},null,null,null,{"$f":"INDEX(Backbone!$S$2:$S$893,MATCH(I132,Backbone!$A$2:$A$893,0))","v":"Sector Specific; Generalized"},null,null,null,{"$f":"INDEX(Backbone!$H$2:$H$893,MATCH(I132,Backbone!$A$2:$A$893,0))","v":7.4},null,{"$f":"INDEX(Backbone!$I$2:$I$893,MATCH(I132,Backbone!$A$2:$A$893,0))","v":10},null,{"$f":"INDEX(Backbone!$J$2:$J$893,MATCH(I132,Backbone!$A$2:$A$893,0))","v":7.4},null,{"$f":"INDEX(Backbone!$K$1:$K$893,MATCH(I132,Backbone!$A$1:$A$893,0))","v":8.6999999999999993},null,{"$f":"INDEX(Backbone!$L$2:$L$893,MATCH(I132,Backbone!$A$2:$A$893,0))","v":6.7},null,{"$f":"INDEX(Backbone!$M$2:$M$893,MATCH(I132,Backbone!$A$2:$A$893,0))","v":4.5},null,{"$f":"INDEX(Backbone!$N$2:$N$893,MATCH(I132,Backbone!$A$2:$A$893,0))","v":8},null,{"$f":"INDEX(Backbone!$O$2:$O$893,MATCH(I132,Backbone!$A$2:$A$893,0))","v":7.2},null,{"$f":"INDEX(Backbone!$P$2:$P$893,MATCH(I132,Backbone!$A$2:$A$893,0))","v":8.5},null,{"$f":"INDEX(Backbone!$Q$2:$Q$893,MATCH(I132,Backbone!$A$2:$A$893,0))","v":0.76},null,null,{"$f":"(AG132*$AG$22+AI132*$AI$22+AK132*$AK$22+AM132*$AM$22+AO132*$AO$22+AQ132*$AQ$22+AS132*$AS$22+AU132*$AU$22+AW132*$AW$22)/(SUM($AG$22:$AW$22)*10)","v":{"$error":"#DIV/0!"}},null,null,"Go to \nToolbox: ",null,{"$f":"HYPERLINK(\"#\"&ADDRESS(MATCH(I132,Toolbox!$C$1:$C$300),1,,,\"Toolbox\"),VLOOKUP(I132,Toolbox!$C$1:$C$300,1,FALSE))","v":"Integrated Disease Surveillance and Response (IDSR)"}]

{"sheet":"P1_tools","index":38,"n_rows":148,"n_cols":59,"rows_kept":148,"cut":false,"hidden":false,"merged":[[147,56,151,57],[147,58,151,62],[47,56,51,57],[47,58,51,62],[88,56,92,57],[88,58,92,62],[95,56,99,57],[95,58,99,62],[101,56,105,57],[101,58,105,62],[140,56,144,57],[140,58,144,62],[1,1,3,62],[23,56,27,57],[23,58,27,62],[29,56,33,57],[29,58,33,62],[35,56,39,57],[35,58,39,62],[41,56,45,57],[41,58,45,62],[23,53,27,54],[29,8,33,13],[29,15,33,22],[29,50,33,51],[29,53,33,54],[29,40,33,40],[29,42,33,42],[29,44,33,44],[29,46,33,46],[29,36,33,36],[29,38,33,38],[23,34,27,34],[23,36,27,36],[23,38,27,38],[23,44,27,44],[23,3,51,6],[23,8,27,13],[23,15,27,22],[23,24,27,26],[23,28,27,30],[23,32,27,32],[23,46,27,46],[23,48,27,48],[47,46,51,46],[47,48,51,48],[23,50,27,51],[29,24,33,26],[29,28,33,30],[29,32,33,32],[29,34,33,34],[23,40,27,40],[23,42,27,42],[41,32,45,32],[41,34,45,34],[41,36,45,36],[41,38,45,38],[35,38,39,38],[35,40,39,40],[35,42,39,42],[35,44,39,44],[35,46,39,46],[29,48,33,48],[6,32,20,32],[6,34,20,34],[6,36,20,36],[6,38,20,38],[6,40,20,40],[6,42,20,42],[6,44,20,44],[6,46,20,46],[6,48,20,48],[13,50,20,51],[13,53,20,54],[17,1,51,1],[17,3,20,6],[17,8,20,13],[17,15,20,22],[17,24,20,26],[17,28,20,30],[35,50,39,51],[35,53,39,54],[41,8,45,13],[41,15,45,22],[41,24,45,26],[41,28,45,30],[35,48,39,48],[35,8,39,13],[35,15,39,22],[35,24,39,26],[35,28,39,30],[35,32,39,32],[35,34,39,34],[35,36,39,36],[47,42,51,42],[47,44,51,44],[47,50,51,51],[47,53,51,54],[41,53,45,54],[47,8,51,13],[47,15,51,22],[47,24,51,26],[47,28,51,30],[47,32,51,32],[47,34,51,34],[47,36,51,36],[47,38,51,38],[47,40,51,40],[41,40,45,40],[41,42,45,42],[41,44,45,44],[41,46,45,46],[41,48,45,48],[41,50,45,51],[88,53,92,54],[88,32,92,32],[88,34,92,34],[88,36,92,36],[88,38,92,38],[88,40,92,40],[88,42,92,42],[83,28,86,30],[88,8,92,13],[88,15,92,22],[88,24,92,26],[88,28,92,30],[72,44,86,44],[72,46,86,46],[72,48,86,48],[79,50,86,51],[79,53,86,54],[72,42,86,42],[83,8,86,13],[83,15,86,22],[83,24,86,26],[72,32,86,32],[72,34,86,34],[72,36,86,36],[95,53,99,54],[101,8,105,13],[101,15,105,22],[101,24,105,26],[101,28,105,30],[101,32,105,32],[95,32,99,32],[95,34,99,34],[95,36,99,36],[95,38,99,38],[95,40,99,40],[95,42,99,42],[101,46,105,46],[101,48,105,48],[101,50,105,51],[101,53,105,54],[101,34,105,34],[101,36,105,36],[101,38,105,38],[101,40,105,40],[101,42,105,42],[101,44,105,44],[95,8,99,13],[95,15,99,22],[131,53,138,54],[135,3,138,6],[135,8,138,13],[135,15,138,22],[135,24,138,26],[135,28,138,30],[140,3,144,6],[124,32,138,32],[124,34,138,34],[124,36,138,36],[124,38,138,38],[124,40,138,40],[124,42,138,42],[124,44,138,44],[124,46,138,46],[140,40,144,40],[140,42,144,42],[140,44,144,44],[140,46,144,46],[140,8,144,13],[140,15,144,22],[140,24,144,26],[140,53,144,54],[140,36,144,36],[88,3,92,6],[80,1,108,1],[131,1,155,1],[147,46,151,46],[147,48,151,48],[147,50,151,51],[140,48,144,48],[140,50,144,51],[124,48,138,48],[131,50,138,51],[95,3,105,6],[95,24,99,26],[95,28,99,30],[88,44,92,44],[88,46,92,46],[88,48,92,48],[88,50,92,51],[95,44,99,44],[95,46,99,46],[95,48,99,48],[95,50,99,51],[83,3,86,6],[72,38,86,38],[72,40,86,40],[140,38,144,38],[147,53,151,54],[147,34,151,34],[147,36,151,36],[147,38,151,38],[147,40,151,40],[147,42,151,42],[147,44,151,44],[147,3,151,6],[147,8,151,13],[147,15,151,22],[147,24,151,26],[147,28,151,30],[147,32,151,32],[140,28,144,30],[140,32,144,32],[140,34,144,34]]}
[]
[null,"Political Will Resources"]
[]
[]
[]
[]
[null,null,null,null,null,null,null,null,null,null,null,null,null,null,null,null,null,null,null,null,null,null,null,null,null,null,null,null,null,null,null,null,"Accessibility",null,"Language",null,"Ease of use",null,"Flexibility",null,"Data Needs",null,"Data Analysis",null,"Acceptability",null,"One Health",null,"Impact"]
[]
[]
[]
[]
[]
[]
[null,null,null,null,null,null,null,null,null,null,null,null,null,null,null,null,null,null,null,null,null,null,null,null,null,null,null,null,null,null,null,null,null,null,null,null,null,null,null,null,null,null,null,null,null,null,null,null,null,null,"RAW SCORE",null,null,"ADJUSTED SCORE \n(Based on user preferences)"]
[]
[]
[]
[null,"LEVEL 1 RESOURCES",null,"DESIGNATION",null,null,null,null,"RESOURCE NAME",null,null,null,null,null,null,"SHORT DESCRIPTION",null,null,null,null,null,null,null,null,"RESOURCE TYPE",null,null,null,"RESOURCE GENERALITY"]
[]
[]
[]
[null,null,null,null,null,null,null,null,null,null,null,null,null,null,null,null,null,null,null,null,null,null,null,null,null,null,null,null,null,null,null,null,{"$f":"'Attribute Survey'!S22","v":0},null,{"$f":"'Attribute Survey'!S26","v":0},null,{"$f":"'Attribute Survey'!S30","v":0},null,{"$f":"'Attribute Survey'!S34","v":0},null,{"$f":"'Attribute Survey'!S38","v":0},null,{"$f":"'Attribute Survey'!S42","v":0},null,{"$f":"'Attribute Survey'!S46","v":0},null,{"$f":"'Attribute Survey'!S50","v":0},null,{"$f":"'Attribute Survey'!S54","v":0}]
[]
[null,null,null,"Other Relevant Resources",null,null,null,null,"Evaluation of Collaboration in a multisectoral Surveillance system (EcoSur)",null,null,null,null,null,null,"A tool that aims to evaluate the organization and functioning of collaboration in a multisectoral surveillance system and to analyse strengths and weaknesses of this collaboration. ",null,null,null,null,null,null,null,null,{"$f":"INDEX(Backbone!$R$2:$R$893,MATCH(I24,Backbone!$A$2:$A$893,0))","v":"Guided/Facilitated tool or process"},null,null,null,{"$f":"INDEX(Backbone!$S$2:$S$893,MATCH(I24,Backbone!$A$2:$A$893,0))","v":"One Health; Generalized"},null,null,null,{"$f":"INDEX(Backbone!$H$2:$H$893,MATCH(I24,Backbone!$A$2:$A$893,0))","v":8.3000000000000007},null,{"$f":"INDEX(Backbone!$I$2:$I$893,MATCH(I24,Backbone!$A$2:$A$893,0))","v":6},null,{"$f":"INDEX(Backbone!$J$2:$J$893,MATCH(I24,Backbone!$A$2:$A$893,0))","v":8.5},null,{"$f":"INDEX(Backbone!$K$1:$K$893,MATCH(I24,Backbone!$A$1:$A$893,0))","v":7.8},null,{"$f":"INDEX(Backbone!$L$2:$L$893,MATCH(I24,Backbone!$A$2:$A$893,0))","v":8.3000000000000007},null,{"$f":"INDEX(Backbone!$M$2:$M$893,MATCH(I24,Backbone!$A$2:$A$893,0))","v":6.7},null,{"$f":"INDEX(Backbone!$N$2:$N$893,MATCH(I24,Backbone!$A$2:$A$893,0))","v":3.3},null,{"$f":"INDEX(Backbone!$O$2:$O$893,MATCH(I24,Backbone!$A$2:$A$893,0))","v":9.1},null,{"$f":"INDEX(Backbone!$P$2:$P$893,MATCH(I24,Backbone!$A$2:$A$893,0))","v":4.7},null,{"$f":"INDEX(Backbone!$Q$2:$Q$893,MATCH(I24,Backbone!$A$2:$A$893,0))","v":0.69666666666666677},null,null,{"$f":"(AG24*$AG$22+AI24*$AI$22+AK24*$AK$22+AM24*$AM$22+AO24*$AO$22+AQ24*$AQ$22+AS24*$AS$22+AU24*$AU$22+AW24*$AW$22)/(SUM($AG$22:$AW$22)*10)","v":{"$error":"#DIV/0!"}},null,null,"Go to \nToolbox: ",null,{"$f":"HYPERLINK(\"#\"&ADDRESS(MATCH(I24,Toolbox!$C$1:$C$300),1,,,\"Toolbox\"),VLOOKUP(I24,Toolbox!$C$1:$C$300,1,FALSE))","v":"Evaluation of Collaboration in a multisectoral Surveillance system (EcoSur)"}]
[]
[]
[]
[]
[]
[null,null,null,null,null,null,null,null,"Integrated Disease Surveillance and Response (IDSR)",null,null,null,null,null,null,"A strategy aimed at strengthening capacities for detection, confirmation and response to suspected cases and outbreaks, and for use of information to predict and plan for public health events. ",null,null,null,null,null,null,null,null,{"$f":"INDEX(Backbone!$R$2:$R$893,MATCH(I30,Backbone!$A$2:$A$893,0))","v":"Guidance document"},null,null,null,{"$f":"INDEX(Backbone!$S$2:$S$893,MATCH(I30,Backbone!$A$2:$A$893,0))","v":"Sector Specific; Generalized"},null,null,null,{"$f":"INDEX(Backbone!$H$2:$H$893,MATCH(I30,Backbone!$A$2:$A$893,0))","v":7.4},null,{"$f":"INDEX(Backbone!$I$2:$I$893,MATCH(I30,Backbone!$A$2:$A$893,0))","v":10},null,{"$f":"INDEX(Backbone!$J$2:$J$893,MATCH(I30,Backbone!$A$2:$A$893,0))","v":7.4},null,{"$f":"INDEX(Backbone!$K$1:$K$893,MATCH(I30,Backbone!$A$1:$A$893,0))","v":8.6999999999999993},null,{"$f":"INDEX(Backbone!$L$2:$L$893,MATCH(I30,Backbone!$A$2:$A$893,0))","v":6.7},null,{"$f":"INDEX(Backbone!$M$2:$M$893,MATCH(I30,Backbone!$A$2:$A$893,0))","v":4.5},null,{"$f":"INDEX(Backbone!$N$2:$N$893,MATCH(I30,Backbone!$A$2:$A$893,0))","v":8},null,{"$f":"INDEX(Backbone!$O$2:$O$893,MATCH(I30,Backbone!$A$2:$A$893,0))","v":7.2},null,{"$f":"INDEX(Backbone!$P$2:$P$893,MATCH(I30,Backbone!$A$2:$A$893,0))","v":8.5},null,{"$f":"INDEX(Backbone!$Q$2:$Q$893,MATCH(I30,Backbone!$A$2:$A$893,0))","v":0.76},null,null,{"$f":"(AG30*$AG$22+AI30*$AI$22+AK30*$AK$22+AM30*$AM$22+AO30*$AO$22+AQ30*$AQ$22+AS30*$AS$22+AU30*$AU$22+AW30*$AW$22)/(SUM($AG$22:$AW$22)*10)","v":{"$error":"#DIV/0!"}},null,null,"Go to \nToolbox: ",null,{"$f":"HYPERLINK(\"#\"&ADDRESS(MATCH(I30,Toolbox!$C$1:$C$300),1,,,\"Toolbox\"),VLOOKUP(I30,Toolbox!$C$1:$C$300,1,FALSE))","v":"Integrated Disease Surveillance and Response (IDSR)"}]
[]
[]
[]
[]
[]
[null,null,null,null,null,null,null,null,{"$f":"Backbone!A291","v":"Methodology to analyse AMR-relevant legislation in the food and agriculture sector"},null,null,null,null,null,null,"A methodology designed to guide the analyses of national legislation relevant for AMR in the food and agriculture sectors.",null,null,null,null,null,null,null,null,{"$f":"INDEX(Backbone!$R$2:$R$893,MATCH(I36,Backbone!$A$2:$A$893,0))","v":"Guidance document"},null,null,null,{"$f":"INDEX(Backbone!$S$2:$S$893,MATCH(I36,Backbone!$A$2:$A$893,0))","v":"One Health; Generalized"},null,null,null,{"$f":"INDEX(Backbone!$H$2:$H$893,MATCH(I36,Backbone!$A$2:$A$893,0))","v":7.4},null,{"$f":"INDEX(Backbone!$I$2:$I$893,MATCH(I36,Backbone!$A$2:$A$893,0))","v":5.5},null,{"$f":"INDEX(Backbone!$J$2:$J$893,MATCH(I36,Backbone!$A$2:$A$893,0))","v":7.6},null,{"$f":"INDEX(Backbone!$K$1:$K$893,MATCH(I36,Backbone!$A$1:$A$893,0))","v":4},null,{"$f":"INDEX(Backbone!$L$2:$L$893,MATCH(I36,Backbone!$A$2:$A$893,0))","v":8.1999999999999993},null,{"$f":"INDEX(Backbone!$M$2:$M$893,MATCH(I36,Backbone!$A$2:$A$893,0))","v":4.5},null,{"$f":"INDEX(Backbone!$N$2:$N$893,MATCH(I36,Backbone!$A$2:$A$893,0))","v":4.5},null,{"$f":"INDEX(Backbone!$O$2:$O$893,MATCH(I36,Backbone!$A$2:$A$893,0))","v":6.6},null,{"$f":"INDEX(Backbone!$P$2:$P$893,MATCH(I36,Backbone!$A$2:$A$893,0))","v":4.5},null,{"$f":"INDEX(Backbone!$Q$2:$Q$893,MATCH(I36,Backbone!$A$2:$A$893,0))","v":0.58666666666666667},null,null,{"$f":"(AG36*$AG$22+AI36*$AI$22+AK36*$AK$22+AM36*$AM$22+AO36*$AO$22+AQ36*$AQ$22+AS36*$AS$22+AU36*$AU$22+AW36*$AW$22)/(SUM($AG$22:$AW$22)*10)","v":{"$error":"#DIV/0!"}},null,null,"Go to \nToolbox: ",null,{"$f":"HYPERLINK(\"#\"&ADDRESS(MATCH(I36,Toolbox!$C$1:$C$300),1,,,\"Toolbox\"),VLOOKUP(I36,Toolbox!$C$1:$C$300,1,FALSE))","v":"Methodology to analyse AMR-relevant legislation in the food and agriculture sector"}]
[]
[]
[]
[]
[]
[null,null,null,null,null,null,null,null,{"$f":"Backbone!A437","v":"Policy Field Analysis (PFA)"},null,null,null,null,null,null,"A specialized stakeholder mapping that allows to visualize the system of organizations as they interact for a given policy issue.",null,null,null,null,null,null,null,null,{"$f":"INDEX(Backbone!$R$2:$R$893,MATCH(I42,Backbone!$A$2:$A$893,0))","v":"Guidance document"},null,null,null,{"$f":"INDEX(Backbone!$S$2:$S$893,MATCH(I42,Backbone!$A$2:$A$893,0))","v":"One Health; Generalized"},null,null,null,{"$f":"INDEX(Backbone!$H$2:$H$893,MATCH(I42,Backbone!$A$2:$A$893,0))","v":7.8},null,{"$f":"INDEX(Backbone!$I$2:$I$893,MATCH(I42,Backbone!$A$2:$A$893,0))","v":8},null,{"$f":"INDEX(Backbone!$J$2:$J$893,MATCH(I42,Backbone!$A$2:$A$893,0))","v":9.8000000000000007},null,{"$f":"INDEX(Backbone!$K$1:$K$893,MATCH(I42,Backbone!$A$1:$A$893,0))","v":10},null,{"$f":"INDEX(Backbone!$L$2:$L$893,MATCH(I42,Backbone!$A$2:$A$893,0))","v":7.1},null,{"$f":"INDEX(Backbone!$M$2:$M$893,MATCH(I42,Backbone!$A$2:$A$893,0))","v":4},null,{"$f":"INDEX(Backbone!$N$2:$N$893,MATCH(I42,Backbone!$A$2:$A$893,0))","v":7},null,{"$f":"INDEX(Backbone!$O$2:$O$893,MATCH(I42,Backbone!$A$2:$A$893,0))","v":8.8000000000000007},null,{"$f":"INDEX(Backbone!$P$2:$P$893,MATCH(I42,Backbone!$A$2:$A$893,0))","v":5},null,{"$f":"INDEX(Backbone!$Q$2:$Q$893,MATCH(I42,Backbone!$A$2:$A$893,0))","v":0.75},null,null,{"$f":"(AG42*$AG$22+AI42*$AI$22+AK42*$AK$22+AM42*$AM$22+AO42*$AO$22+AQ42*$AQ$22+AS42*$AS$22+AU42*$AU$22+AW42*$AW$22)/(SUM($AG$22:$AW$22)*10)","v":{"$error":"#DIV/0!"}},null,null,"Go to \nToolbox: ",null,{"$f":"HYPERLINK(\"#\"&ADDRESS(MATCH(I42,Toolbox!$C$1:$C$300),1,,,\"Toolbox\"),VLOOKUP(I42,Toolbox!$C$1:$C$300,1,FALSE))","v":"Policy Field Analysis (PFA)"}]
[]
[]
[]
[]
[]
[null,null,null,null,null,null,null,null,{"$f":"Backbone!A453","v":"Stepwise Approach towards Rabies Elimination (SARE)"},null,null,null,null,null,null,"A practical planning, monitoring and evaluation tool to guide, develop and refine rabies control programmes.",null,null,null,null,null,null,null,null,{"$f":"INDEX(Backbone!$R$2:$R$893,MATCH(I48,Backbone!$A$2:$A$893,0))","v":"Self-assessment tool"},null,null,null,{"$f":"INDEX(Backbone!$S$2:$S$893,MATCH(I48,Backbone!$A$2:$A$893,0))","v":"One Health; Disease/Threat Specific "},null,null,null,{"$f":"INDEX(Backbone!$H$2:$H$893,MATCH(I48,Backbone!$A$2:$A$893,0))","v":8},null,{"$f":"INDEX(Backbone!$I$2:$I$893,MATCH(I48,Backbone!$A$2:$A$893,0))","v":9},null,{"$f":"INDEX(Backbone!$J$2:$J$893,MATCH(I48,Backbone!$A$2:$A$893,0))","v":6.6},null,{"$f":"INDEX(Backbone!$K$1:$K$893,MATCH(I48,Backbone!$A$1:$A$893,0))","v":3.3},null,{"$f":"INDEX(Backbone!$L$2:$L$893,MATCH(I48,Backbone!$A$2:$A$893,0))","v":5.7},null,{"$f":"INDEX(Backbone!$M$2:$M$893,MATCH(I48,Backbone!$A$2:$A$893,0))","v":6.8},null,{"$f":"INDEX(Backbone!$N$2:$N$893,MATCH(I48,Backbone!$A$2:$A$893,0))","v":8},null,{"$f":"INDEX(Backbone!$O$2:$O$893,MATCH(I48,Backbone!$A$2:$A$893,0))","v":8.6},null,{"$f":"INDEX(Backbone!$P$2:$P$893,MATCH(I48,Backbone!$A$2:$A$893,0))","v":9.5},null,{"$f":"INDEX(Backbone!$Q$2:$Q$893,MATCH(I48,Backbone!$A$2:$A$893,0))","v":0.72777777777777775},null,null,{"$f":"(AG48*$AG$22+AI48*$AI$22+AK48*$AK$22+AM48*$AM$22+AO48*$AO$22+AQ48*$AQ$22+AS48*$AS$22+AU48*$AU$22+AW48*$AW$22)/(SUM($AG$22:$AW$22)*10)","v":{"$error":"#DIV/0!"}},null,null,"Go to \nToolbox: ",null,{"$f":"HYPERLINK(\"#\"&ADDRESS(MATCH(I48,Toolbox!$C$1:$C$300),1,,,\"Toolbox\"),VLOOKUP(I48,Toolbox!$C$1:$C$300,1,FALSE))","v":"Stepwise Approach towards Rabies Elimination (SARE)"}]
[]
[]
[]
[]
[]
[]
[]
[]
[]
[]
[]
[]
[]
[]
[]
[]
[]
[]
[]
[]
[]
[]
[]
[]
[null,null,null,null,null,null,null,null,null,null,null,null,null,null,null,null,null,null,null,null,null,null,null,null,null,null,null,null,null,null,null,null,"Accessibility",null,"Language",null,"Ease of use",null,"Flexibility",null,"Data Needs",null,"Data Analysis",null,"Acceptability",null,"One Health",null,"Impact"]
[]
[]
[]
[]
[]
[]
[null,null,null,null,null,null,null,null,null,null,null,null,null,null,null,null,null,null,null,null,null,null,null,null,null,null,null,null,null,null,null,null,null,null,null,null,null,null,null,null,null,null,null,null,null,null,null,null,null,null,"RAW SCORE",null,null,"ADJUSTED SCORE \n(Based on user preferences)"]
[null,"LEVEL 2 RESOURCES"]
[]
[]
[null,null,null,"DESIGNATION",null,null,null,null,"RESOURCE NAME",null,null,null,null,null,null,"SHORT DESCRIPTION",null,null,null,null,null,null,null,null,"RESOURCE TYPE",null,null,null,"RESOURCE GENERALITY"]
[]
[]
[]
[null,null,null,null,null,null,null,null,null,null,null,null,null,null,null,null,null,null,null,null,null,null,null,null,null,null,null,null,null,null,null,null,{"$f":"'Attribute Survey'!S130","v":0},null,{"$f":"'Attribute Survey'!S134","v":0},null,{"$f":"'Attribute Survey'!S138","v":0},null,{"$f":"'Attribute Survey'!S142","v":0},null,{"$f":"'Attribute Survey'!S146","v":0},null,{"$f":"'Attribute Survey'!S150","v":0},null,{"$f":"'Attribute Survey'!S154","v":0},null,{"$f":"'Attribute Survey'!S158","v":0},null,{"$f":"'Attribute Survey'!S162","v":0}]
[null,null,null,"Resources Best Fit For Purpose",null,null,null,null,{"$f":"Backbone!A683","v":"One Health Policy Advocacy Toolkit"},null,null,null,null,null,null,"This toolkit helps One Health stakeholders develop and implement a policy advocacy strategy. ",null,null,null,null,null,null,null,null,{"$f":"INDEX(Backbone!$R2:$R893,MATCH(I89,Backbone!$A2:$A893,0))","v":"Guidance document"},null,null,null,{"$f":"INDEX(Backbone!S2:S893,MATCH(I89,Backbone!A2:A893,0))","v":"One Health; Generalized"},null,null,null,{"$f":"INDEX(Backbone!H2:H893,MATCH(I89,Backbone!A2:A893,0))","v":8.4},null,{"$f":"INDEX(Backbone!I2:I893,MATCH(I89,Backbone!A2:A893,0))","v":8},null,{"$f":"INDEX(Backbone!J2:J893,MATCH(I89,Backbone!A2:A893,0))","v":8.4},null,{"$f":"INDEX(Backbone!K2:K893,MATCH(I89,Backbone!A2:A893,0))","v":6.7},null,{"$f":"INDEX(Backbone!L2:L893,MATCH(I89,Backbone!A2:A893,0))","v":2},null,{"$f":"INDEX(Backbone!M2:M893,MATCH(I89,Backbone!A2:A893,0))","v":3.5},null,{"$f":"INDEX(Backbone!N2:N893,MATCH(I89,Backbone!A2:A893,0))","v":4},null,{"$f":"INDEX(Backbone!O2:O893,MATCH(I89,Backbone!A2:A893,0))","v":6.4},null,{"$f":"INDEX(Backbone!P2:P893,MATCH(I89,Backbone!A2:A893,0))","v":8},null,{"$f":"INDEX(Backbone!Q2:Q893,MATCH(I89,Backbone!A2:A893,0))","v":0.61555555555555552},null,null,{"$f":"(AG89*$AG$22+AI89*$AI$22+AK89*$AK$22+AM89*$AM$22+AO89*$AO$22+AQ89*$AQ$22+AS89*$AS$22+AU89*$AU$22+AW89*$AW$22)/(SUM($AG$22:$AW$22)*10)","v":{"$error":"#DIV/0!"}},null,null,"Go to \nToolbox: ",null,{"$f":"HYPERLINK(\"#\"&ADDRESS(MATCH(I89,Toolbox!$C$1:$C$300),1,,,\"Toolbox\"),VLOOKUP(I89,Toolbox!$C$1:$C$300,1,FALSE))","v":"One Health Policy Advocacy Toolkit"}]
[]
[]
[]
[]
[]
[]
[null,null,null,"Other Relevant Resources",null,null,null,null,{"$f":"Backbone!A332","v":"Network for Evaluation of One Health (NEOH)"},null,null,null,null,null,null,"An excel-based tool assessing the One Health-ness (or strength of One Health, OH) of a OH surveillance system. ",null,null,null,null,null,null,null,null,{"$f":"INDEX(Backbone!$R$2:$R$893,MATCH(I96,Backbone!$A$2:$A$893,0))","v":"Guidance document"},null,null,null,{"$f":"INDEX(Backbone!$S$2:$S$893,MATCH(I96,Backbone!$A$2:$A$893,0))","v":"One Health; Generalized"},null,null,null,{"$f":"INDEX(Backbone!$H$2:$H$893,MATCH(I96,Backbone!$A$2:$A$893,0))","v":8.3000000000000007},null,{"$f":"INDEX(Backbone!$I$2:$I$893,MATCH(I96,Backbone!$A$2:$A$893,0))","v":7.7},null,{"$f":"INDEX(Backbone!$J$2:$J$893,MATCH(I96,Backbone!$A$2:$A$893,0))","v":5.3},null,{"$f":"INDEX(Backbone!$K$1:$K$893,MATCH(I96,Backbone!$A$1:$A$893,0))","v":8.9},null,{"$f":"INDEX(Backbone!$L$2:$L$893,MATCH(I96,Backbone!$A$2:$A$893,0))","v":7.8},null,{"$f":"INDEX(Backbone!$M$2:$M$893,MATCH(I96,Backbone!$A$2:$A$893,0))","v":4.7},null,{"$f":"INDEX(Backbone!$N$2:$N$893,MATCH(I96,Backbone!$A$2:$A$893,0))","v":5.3},null,{"$f":"INDEX(Backbone!$O$2:$O$893,MATCH(I96,Backbone!$A$2:$A$893,0))","v":8},null,{"$f":"INDEX(Backbone!$P$2:$P$893,MATCH(I96,Backbone!$A$2:$A$893,0))","v":5.3},null,{"$f":"INDEX(Backbone!$Q$2:$Q$893,MATCH(I96,Backbone!$A$2:$A$893,0))","v":0.68111111111111111},null,null,{"$f":"(AG96*$AG$22+AI96*$AI$22+AK96*$AK$22+AM96*$AM$22+AO96*$AO$22+AQ96*$AQ$22+AS96*$AS$22+AU96*$AU$22+AW96*$AW$22)/(SUM($AG$22:$AW$22)*10)","v":{"$error":"#DIV/0!"}},null,null,"Go to \nToolbox: ",null,{"$f":"HYPERLINK(\"#\"&ADDRESS(MATCH(I96,Toolbox!$C$1:$C$300),1,,,\"Toolbox\"),VLOOKUP(I96,Toolbox!$C$1:$C$300,1,FALSE))","v":"Network for Evaluation of One Health (NEOH)"}]
[]
[]
[]
[]
[]
[null,null,null,null,null,null,null,null,{"$f":"Backbone!A685","v":"One Health Policy Model Toolkit"},null,null,null,null,null,null,"This toolkit is designed to help decision-makers understand the nature and scale of how changes in the livestock and human populations might impact veterinary, human, and environmental health, including some of the available policy options.",null,null,null,null,null,null,null,null,{"$f":"INDEX(Backbone!$R$2:$R$893,MATCH(I102,Backbone!$A$2:$A$893,0))","v":"Guidance document"},null,null,null,{"$f":"INDEX(Backbone!$S$2:$S$893,MATCH(I102,Backbone!$A$2:$A$893,0))","v":"One Health; Generalized"},null,null,null,{"$f":"INDEX(Backbone!$H$2:$H$893,MATCH(I102,Backbone!$A$2:$A$893,0))","v":8.4},null,{"$f":"INDEX(Backbone!$I$2:$I$893,MATCH(I102,Backbone!$A$2:$A$893,0))","v":8},null,{"$f":"INDEX(Backbone!$J$2:$J$893,MATCH(I102,Backbone!$A$2:$A$893,0))","v":8.4},null,{"$f":"INDEX(Backbone!$K$1:$K$893,MATCH(I102,Backbone!$A$1:$A$893,0))","v":6.7},null,{"$f":"INDEX(Backbone!$L$2:$L$893,MATCH(I102,Backbone!$A$2:$A$893,0))","v":2},null,{"$f":"INDEX(Backbone!$M$2:$M$893,MATCH(I102,Backbone!$A$2:$A$893,0))","v":3.5},null,{"$f":"INDEX(Backbone!$N$2:$N$893,MATCH(I102,Backbone!$A$2:$A$893,0))","v":4},null,{"$f":"INDEX(Backbone!$O$2:$O$893,MATCH(I102,Backbone!$A$2:$A$893,0))","v":6.4},null,{"$f":"INDEX(Backbone!$P$2:$P$893,MATCH(I102,Backbone!$A$2:$A$893,0))","v":8},null,{"$f":"INDEX(Backbone!$Q$2:$Q$893,MATCH(I102,Backbone!$A$2:$A$893,0))","v":0.61555555555555552},null,null,{"$f":"(AG102*$AG$22+AI102*$AI$22+AK102*$AK$22+AM102*$AM$22+AO102*$AO$22+AQ102*$AQ$22+AS102*$AS$22+AU102*$AU$22+AW102*$AW$22)/(SUM($AG$22:$AW$22)*10)","v":{"$error":"#DIV/0!"}},null,null,"Go to \nToolbox: ",null,{"$f":"HYPERLINK(\"#\"&ADDRESS(MATCH(I102,Toolbox!$C$1:$C$300),1,,,\"Toolbox\"),VLOOKUP(I102,Toolbox!$C$1:$C$300,1,FALSE))","v":"One Health Policy Model Toolkit"}]
[]
[]
[]
[]
[]
[]
[]
[]
[]
[]
[]
[]
[]
[]
[]
[]
[]
[]
[]
[]
[]
[]
[null,null,null,null,null,null,null,null,null,null,null,null,null,null,null,null,null,null,null,null,null,null,null,null,null,null,null,null,null,null,null,null,"Accessibility",null,"Language",null,"Ease of use",null,"Flexibility",null,"Data Needs",null,"Data Analysis",null,"Acceptability",null,"One Health",null,"Impact"]
[]
[]
[]
[]
[]
[]
[null,"LEVEL 3  RESOURCES",null,null,null,null,null,null,null,null,null,null,null,null,null,null,null,null,null,null,null,null,null,null,null,null,null,null,null,null,null,null,null,null,null,null,null,null,null,null,null,null,null,null,null,null,null,null,null,null,"RAW SCORE",null,null,"ADJUSTED SCORE \n(Based on user preferences)"]
[]
[]
[]
[null,null,null,"DESIGNATION",null,null,null,null,"RESOURCE NAME",null,null,null,null,null,null,"SHORT DESCRIPTION",null,null,null,null,null,null,null,null,"RESOURCE TYPE",null,null,null,"RESOURCE GENERALITY"]
[]
[]
[]
[null,null,null,null,null,null,null,null,null,null,null,null,null,null,null,null,null,null,null,null,null,null,null,null,null,null,null,null,null,null,null,null,{"$f":"'Attribute Survey'!S231","v":0},null,{"$f":"'Attribute Survey'!S235","v":0},null,{"$f":"'Attribute Survey'!S239","v":0},null,{"$f":"'Attribute Survey'!S243","v":0},null,{"$f":"'Attribute Survey'!S247","v":0},null,{"$f":"'Attribute Survey'!S251","v":0},null,{"$f":"'Attribute Survey'!S255","v":0},null,{"$f":"'Attribute Survey'!S259","v":0},null,{"$f":"'Attribute Survey'!S263","v":0}]
[null,null,null,"Resources Best Fit for Purpose",null,null,null,null,{"$f":"Backbone!A683","v":"One Health Policy Advocacy Toolkit"},null,null,null,null,null,null,"This toolkit helps One Health stakeholders develop and implement a policy advocacy strategy ",null,null,null,null,null,null,null,null,{"$f":"INDEX(Backbone!$R$2:$R$893,MATCH(I141,Backbone!$A$2:$A$893,0))","v":"Guidance document"},null,null,null,{"$f":"INDEX(Backbone!$S$2:$S$893,MATCH(I141,Backbone!$A$2:$A$893,0))","v":"One Health; Generalized"},null,null,null,{"$f":"INDEX(Backbone!$H$2:$H$893,MATCH(I141,Backbone!$A$2:$A$893,0))","v":8.4},null,{"$f":"INDEX(Backbone!$I$2:$I$893,MATCH(I141,Backbone!$A$2:$A$893,0))","v":8},null,{"$f":"INDEX(Backbone!$J$2:$J$893,MATCH(I141,Backbone!$A$2:$A$893,0))","v":8.4},null,{"$f":"INDEX(Backbone!$K$2:$K$893,MATCH(I141,Backbone!$A$2:$A$893,0))","v":6.7},null,{"$f":"INDEX(Backbone!$L$2:$L$893,MATCH(I141,Backbone!$A$2:$A$893,0))","v":2},null,{"$f":"INDEX(Backbone!$M$2:$M$893,MATCH(I141,Backbone!$A$2:$A$893,0))","v":3.5},null,{"$f":"INDEX(Backbone!$N$2:$N$893,MATCH(I141,Backbone!$A$2:$A$893,0))","v":4},null,{"$f":"INDEX(Backbone!$O$2:$O$893,MATCH(I141,Backbone!$A$2:$A$893,0))","v":6.4},null,{"$f":"INDEX(Backbone!$P$2:$P$893,MATCH(I141,Backbone!$A$2:$A$893,0))","v":8},null,{"$f":"INDEX(Backbone!$Q$2:$Q$893,MATCH(I141,Backbone!$A$2:$A$893,0))","v":0.61555555555555552},null,null,{"$f":"(AG141*$AG$22+AI141*$AI$22+AK141*$AK$22+AM141*$AM$22+AO141*$AO$22+AQ141*$AQ$22+AS141*$AS$22+AU141*$AU$22+AW141*$AW$22)/(SUM($AG$22:$AW$22)*10)","v":{"$error":"#DIV/0!"}},null,null,"Go to \nToolbox: ",null,{"$f":"HYPERLINK(\"#\"&ADDRESS(MATCH(I141,Toolbox!$C$1:$C$300),1,,,\"Toolbox\"),VLOOKUP(I141,Toolbox!$C$1:$C$300,1,FALSE))","v":"One Health Policy Advocacy Toolkit"}]
[]
[]
[]
[]
[]
[]
[null,null,null,"Other Relevant Resources",null,null,null,null,{"$f":"Backbone!A303","v":"National Action Plan for Health Security (NAPHS)"},null,null,null,null,null,null,"A tool that aims to evaluate the organization and functioning of collaboration in a multisectoral surveillance system and to analyse strengths and weaknesses of this collaboration. ",null,null,null,null,null,null,null,null,{"$f":"INDEX(Backbone!$R$2:$R$893,MATCH(I148,Backbone!$A$2:$A$893,0))","v":"Guidance document"},null,null,null,{"$f":"INDEX(Backbone!$S$2:$S$893,MATCH(I148,Backbone!$A$2:$A$893,0))","v":"One Health; Generalized"},null,null,null,{"$f":"INDEX(Backbone!$H$2:$H$893,MATCH(I148,Backbone!$A$2:$A$893,0))","v":8},null,{"$f":"INDEX(Backbone!$I$2:$I$893,MATCH(I148,Backbone!$A$2:$A$893,0))","v":9},null,{"$f":"INDEX(Backbone!$J$2:$J$893,MATCH(I148,Backbone!$A$2:$A$893,0))","v":7.8},null,{"$f":"INDEX(Backbone!$K$1:$K$893,MATCH(I148,Backbone!$A$1:$A$893,0))","v":10},null,{"$f":"INDEX(Backbone!$L$2:$L$893,MATCH(I148,Backbone!$A$2:$A$893,0))","v":8},null,{"$f":"INDEX(Backbone!$M$2:$M$893,MATCH(I148,Backbone!$A$2:$A$893,0))","v":4.5},null,{"$f":"INDEX(Backbone!$N$2:$N$893,MATCH(I148,Backbone!$A$2:$A$893,0))","v":10},null,{"$f":"INDEX(Backbone!$O$2:$O$893,MATCH(I148,Backbone!$A$2:$A$893,0))","v":10},null,{"$f":"INDEX(Backbone!$P$2:$P$893,MATCH(I148,Backbone!$A$2:$A$893,0))","v":10},null,{"$f":"INDEX(Backbone!$Q$2:$Q$893,MATCH(I148,Backbone!$A$2:$A$893,0))","v":0.85888888888888881},null,null,{"$f":"(AG148*$AG$22+AI148*$AI$22+AK148*$AK$22+AM148*$AM$22+AO148*$AO$22+AQ148*$AQ$22+AS148*$AS$22+AU148*$AU$22+AW148*$AW$22)/(SUM($AG$22:$AW$22)*10)","v":{"$error":"#DIV/0!"}},null,null,"Go to \nToolbox: ",null,{"$f":"HYPERLINK(\"#\"&ADDRESS(MATCH(I148,Toolbox!$C$1:$C$300),1,,,\"Toolbox\"),VLOOKUP(I148,Toolbox!$C$1:$C$300,1,FALSE))","v":"National Action Plan for Health Security (NAPHS)"}]

{"sheet":"P2_tools","index":39,"n_rows":135,"n_cols":59,"rows_kept":135,"cut":false,"hidden":false,"merged":[[81,56,85,57],[81,58,85,62],[121,56,125,57],[121,58,125,62],[128,56,132,57],[128,58,132,62],[134,56,138,57],[134,58,138,62],[22,56,26,57],[22,58,26,62],[28,56,32,57],[28,58,32,62],[34,56,38,57],[34,58,38,62],[40,56,44,57],[40,58,44,62],[75,56,79,57],[75,58,79,62],[13,50,20,51],[13,53,20,54],[17,3,20,6],[17,8,20,13],[17,15,20,22],[17,24,20,26],[17,28,20,30],[6,32,20,32],[6,34,20,34],[6,36,20,36],[6,38,20,38],[6,40,20,40],[6,42,20,42],[6,44,20,44],[6,46,20,46],[6,48,20,48],[1,1,3,62],[22,50,26,51],[22,53,26,54],[28,8,32,13],[28,15,32,22],[28,24,32,26],[28,28,32,30],[28,32,32,32],[28,34,32,34],[28,36,32,36],[28,38,32,38],[22,38,26,38],[22,40,26,40],[22,42,26,42],[22,44,26,44],[22,46,26,46],[22,48,26,48],[22,8,26,13],[22,15,26,22],[22,24,26,26],[22,28,26,30],[22,32,26,32],[22,34,26,34],[22,36,26,36],[34,42,38,42],[34,44,38,44],[34,46,38,46],[34,48,38,48],[34,50,38,51],[34,53,38,54],[28,53,32,54],[34,8,38,13],[34,15,38,22],[34,24,38,26],[34,28,38,30],[34,32,38,32],[34,34,38,34],[34,36,38,36],[34,38,38,38],[34,40,38,40],[28,40,32,40],[28,42,32,42],[28,44,32,44],[28,46,32,46],[28,48,32,48],[28,50,32,51],[59,48,73,48],[66,50,73,51],[66,53,73,54],[70,3,73,6],[70,8,73,13],[70,15,73,22],[70,24,73,26],[59,32,73,32],[59,34,73,34],[59,36,73,36],[59,38,73,38],[59,40,73,40],[59,42,73,42],[75,42,79,42],[75,3,85,6],[75,8,79,13],[75,15,79,22],[75,24,79,26],[75,28,79,30],[70,28,73,30],[59,44,73,44],[59,46,73,46],[111,50,118,51],[111,53,118,54],[115,1,138,1],[115,3,118,6],[115,8,118,13],[115,15,118,22],[115,24,118,26],[81,46,85,46],[81,48,85,48],[81,50,85,51],[81,53,85,54],[104,32,118,32],[104,34,118,34],[104,36,118,36],[104,38,118,38],[104,40,118,40],[104,42,118,42],[81,34,85,34],[81,36,85,36],[81,38,85,38],[81,40,85,40],[81,42,85,42],[81,44,85,44],[81,8,85,13],[115,28,118,30],[120,3,125,6],[121,8,125,13],[121,15,125,22],[121,24,125,26],[121,28,125,30],[104,44,118,44],[104,46,118,46],[104,48,118,48],[121,46,125,46],[121,48,125,48],[121,50,125,51],[121,53,125,54],[128,3,138,6],[128,8,132,13],[128,15,132,22],[128,24,132,26],[128,28,132,30],[121,32,125,32],[121,34,125,34],[121,36,125,36],[121,38,125,38],[121,40,125,40],[121,42,125,42],[134,28,138,30],[134,32,138,32],[128,32,132,32],[128,34,132,34],[128,36,132,36],[128,38,132,38],[128,40,132,40],[128,42,132,42],[121,44,125,44],[134,46,138,46],[134,48,138,48],[134,50,138,51],[134,53,138,54],[40,8,44,13],[40,15,44,22],[40,24,44,26],[40,28,44,30],[40,32,44,32],[40,34,44,34],[134,34,138,34],[134,36,138,36],[134,38,138,38],[134,40,138,40],[134,42,138,42],[134,44,138,44],[128,44,132,44],[128,46,132,46],[128,48,132,48],[128,50,132,51],[128,53,132,54],[134,8,138,13],[134,15,138,22],[134,24,138,26],[40,48,44,48],[40,50,44,51],[40,53,44,54],[22,3,44,6],[17,1,44,1],[67,1,89,1],[40,36,44,36],[40,38,44,38],[40,40,44,40],[40,42,44,42],[40,44,44,44],[40,46,44,46],[75,44,79,44],[75,46,79,46],[75,48,79,48],[75,50,79,51],[75,53,79,54],[81,15,85,22],[81,24,85,26],[81,28,85,30],[81,32,85,32],[75,32,79,32],[75,34,79,34],[75,36,79,36],[75,38,79,38],[75,40,79,40]]}
[]
[null,"Common Data Elements Resources"]
[]
[]
[]
[]
[null,null,null,null,null,null,null,null,null,null,null,null,null,null,null,null,null,null,null,null,null,null,null,null,null,null,null,null,null,null,null,null,"Accessibility",null,"Language",null,"Ease of use",null,"Flexibility",null,"Data Needs",null,"Data Analysis",null,"Acceptability",null,"One Health",null,"Impact"]
[]
[]
[]
[]
[]
[]
[null,null,null,null,null,null,null,null,null,null,null,null,null,null,null,null,null,null,null,null,null,null,null,null,null,null,null,null,null,null,null,null,null,null,null,null,null,null,null,null,null,null,null,null,null,null,null,null,null,null,"RAW SCORE",null,null,"ADJUSTED SCORE \n(Based on user preferences)"]
[]
[]
[]
[null,"LEVEL 1 RESOURCES",null,"DESIGNATION",null,null,null,null,"RESOURCE NAME",null,null,null,null,null,null,"SHORT DESCRIPTION",null,null,null,null,null,null,null,null,"RESOURCE TYPE",null,null,null,"RESOURCE GENERALITY"]
[]
[]
[]
[null,null,null,null,null,null,null,null,null,null,null,null,null,null,null,null,null,null,null,null,null,null,null,null,null,null,null,null,null,null,null,null,{"$f":"'Attribute Survey'!S22","v":0},null,{"$f":"'Attribute Survey'!S26","v":0},null,{"$f":"'Attribute Survey'!S30","v":0},null,{"$f":"'Attribute Survey'!S34","v":0},null,{"$f":"'Attribute Survey'!S38","v":0},null,{"$f":"'Attribute Survey'!S42","v":0},null,{"$f":"'Attribute Survey'!S46","v":0},null,{"$f":"'Attribute Survey'!S50","v":0},null,{"$f":"'Attribute Survey'!S54","v":0}]
[null,null,null,"Other Relevant Resources",null,null,null,null,{"$f":"Backbone!A100","v":"Evaluation of Collaboration in a multisectoral Surveillance system (EcoSur)"},null,null,null,null,null,null,"A tool that aims to evaluate the organization and functioning of collaboration in a multisectoral surveillance system and to analyse strengths and weaknesses of this collaboration.",null,null,null,null,null,null,null,null,{"$f":"INDEX(Backbone!$R$2:$R$893,MATCH(I23,Backbone!$A$2:$A$893,0))","v":"Guided/Facilitated tool or process"},null,null,null,{"$f":"INDEX(Backbone!$S$2:$S$893,MATCH(I23,Backbone!$A$2:$A$893,0))","v":"One Health; Generalized"},null,null,null,{"$f":"INDEX(Backbone!$H$2:$H$893,MATCH(I23,Backbone!$A$2:$A$893,0))","v":8.3000000000000007},null,{"$f":"INDEX(Backbone!$I$2:$I$893,MATCH(I23,Backbone!$A$2:$A$893,0))","v":6},null,{"$f":"INDEX(Backbone!$J$2:$J$893,MATCH(I23,Backbone!$A$2:$A$893,0))","v":8.5},null,{"$f":"INDEX(Backbone!$K$1:$K$893,MATCH(I23,Backbone!$A$1:$A$893,0))","v":7.8},null,{"$f":"INDEX(Backbone!$L$2:$L$893,MATCH(I23,Backbone!$A$2:$A$893,0))","v":8.3000000000000007},null,{"$f":"INDEX(Backbone!$M$2:$M$893,MATCH(I23,Backbone!$A$2:$A$893,0))","v":6.7},null,{"$f":"INDEX(Backbone!$N$2:$N$893,MATCH(I23,Backbone!$A$2:$A$893,0))","v":3.3},null,{"$f":"INDEX(Backbone!$O$2:$O$893,MATCH(I23,Backbone!$A$2:$A$893,0))","v":9.1},null,{"$f":"INDEX(Backbone!$P$2:$P$893,MATCH(I23,Backbone!$A$2:$A$893,0))","v":4.7},null,{"$f":"INDEX(Backbone!$Q$2:$Q$893,MATCH(I23,Backbone!$A$2:$A$893,0))","v":0.69666666666666677},null,null,{"$f":"(AG23*$AG$22+AI23*$AI$22+AK23*$AK$22+AM23*$AM$22+AO23*$AO$22+AQ23*$AQ$22+AS23*$AS$22+AU23*$AU$22+AW23*$AW$22)/(SUM($AG$22:$AW$22)*10)","v":{"$error":"#DIV/0!"}},null,null,"Go to \nToolbox: ",null,{"$f":"HYPERLINK(\"#\"&ADDRESS(MATCH(I23,Toolbox!$C$1:$C$300),1,,,\"Toolbox\"),VLOOKUP(I23,Toolbox!$C$1:$C$300,1,FALSE))","v":"Evaluation of Collaboration in a multisectoral Surveillance system (EcoSur)"}]
[]
[]
[]
[]
[]
[null,null,null,null,null,null,null,null,{"$f":"Backbone!A33","v":"Framework for Enhancing Anthrax Prevention and Control "},null,null,null,null,null,null,"The Framework gives anthrax background and how to improve anthrax prevention and control in animals and people.",null,null,null,null,null,null,null,null,{"$f":"INDEX(Backbone!$R$2:$R$893,MATCH(I29,Backbone!$A$2:$A$893,0))","v":"Guidance document"},null,null,null,{"$f":"INDEX(Backbone!$S$2:$S$893,MATCH(I29,Backbone!$A$2:$A$893,0))","v":"One Health; Disease/Threat Specific "},null,null,null,{"$f":"INDEX(Backbone!$H$2:$H$893,MATCH(I29,Backbone!$A$2:$A$893,0))","v":9.1},null,{"$f":"INDEX(Backbone!$I$2:$I$893,MATCH(I29,Backbone!$A$2:$A$893,0))","v":10},null,{"$f":"INDEX(Backbone!$J$2:$J$893,MATCH(I29,Backbone!$A$2:$A$893,0))","v":8.6},null,{"$f":"INDEX(Backbone!$K$1:$K$893,MATCH(I29,Backbone!$A$1:$A$893,0))","v":4.7},null,{"$f":"INDEX(Backbone!$L$2:$L$893,MATCH(I29,Backbone!$A$2:$A$893,0))","v":9.1999999999999993},null,{"$f":"INDEX(Backbone!$M$2:$M$893,MATCH(I29,Backbone!$A$2:$A$893,0))","v":2},null,{"$f":"INDEX(Backbone!$N$2:$N$893,MATCH(I29,Backbone!$A$2:$A$893,0))","v":6.3},null,{"$f":"INDEX(Backbone!$O$2:$O$893,MATCH(I29,Backbone!$A$2:$A$893,0))","v":4.3},null,{"$f":"INDEX(Backbone!$P$2:$P$893,MATCH(I29,Backbone!$A$2:$A$893,0))","v":6},null,{"$f":"INDEX(Backbone!$Q$2:$Q$893,MATCH(I29,Backbone!$A$2:$A$893,0))","v":0.66888888888888887},null,null,{"$f":"(AG29*$AG$22+AI29*$AI$22+AK29*$AK$22+AM29*$AM$22+AO29*$AO$22+AQ29*$AQ$22+AS29*$AS$22+AU29*$AU$22+AW29*$AW$22)/(SUM($AG$22:$AW$22)*10)","v":{"$error":"#DIV/0!"}},null,null,"Go to \nToolbox: ",null,{"$f":"HYPERLINK(\"#\"&ADDRESS(MATCH(I29,Toolbox!$C$1:$C$300),1,,,\"Toolbox\"),VLOOKUP(I29,Toolbox!$C$1:$C$300,1,FALSE))","v":"Framework for Enhancing Anthrax Prevention and Control "}]
[]
[]
[]
[]
[]
[null,null,null,null,null,null,null,null,{"$f":"Backbone!A239","v":"IHR-PVS National Bridging Workshop"},null,null,null,null,null,null,"A workshop where One Health (OH) stakeholders explore possible overlapping areas addressed in the OIE (PVS Pathway) and IHR (IHR Monitoring and Evaluation Framework) capacity frameworks and develop, where relevant, appropriate bridges to facilitate coordination between sectors.  \n\n",null,null,null,null,null,null,null,null,{"$f":"INDEX(Backbone!$R$2:$R$893,MATCH(I35,Backbone!$A$2:$A$893,0))","v":"Guided/Facilitated tool or process"},null,null,null,{"$f":"INDEX(Backbone!$S$2:$S$893,MATCH(I35,Backbone!$A$2:$A$893,0))","v":"One Health; Generalized"},null,null,null,{"$f":"INDEX(Backbone!$H$2:$H$893,MATCH(I35,Backbone!$A$2:$A$893,0))","v":8.6},null,{"$f":"INDEX(Backbone!$I$2:$I$893,MATCH(I35,Backbone!$A$2:$A$893,0))","v":10},null,{"$f":"INDEX(Backbone!$J$2:$J$893,MATCH(I35,Backbone!$A$2:$A$893,0))","v":6.2},null,{"$f":"INDEX(Backbone!$K$1:$K$893,MATCH(I35,Backbone!$A$1:$A$893,0))","v":10},null,{"$f":"INDEX(Backbone!$L$2:$L$893,MATCH(I35,Backbone!$A$2:$A$893,0))","v":6},null,{"$f":"INDEX(Backbone!$M$2:$M$893,MATCH(I35,Backbone!$A$2:$A$893,0))","v":7},null,{"$f":"INDEX(Backbone!$N$2:$N$893,MATCH(I35,Backbone!$A$2:$A$893,0))","v":9},null,{"$f":"INDEX(Backbone!$O$2:$O$893,MATCH(I35,Backbone!$A$2:$A$893,0))","v":8.1999999999999993},null,{"$f":"INDEX(Backbone!$P$2:$P$893,MATCH(I35,Backbone!$A$2:$A$893,0))","v":10},null,{"$f":"INDEX(Backbone!$Q$2:$Q$893,MATCH(I35,Backbone!$A$2:$A$893,0))","v":0.83333333333333337},null,null,{"$f":"(AG35*$AG$22+AI35*$AI$22+AK35*$AK$22+AM35*$AM$22+AO35*$AO$22+AQ35*$AQ$22+AS35*$AS$22+AU35*$AU$22+AW35*$AW$22)/(SUM($AG$22:$AW$22)*10)","v":{"$error":"#DIV/0!"}},null,null,"Go to \nToolbox: ",null,{"$f":"HYPERLINK(\"#\"&ADDRESS(MATCH(I35,Toolbox!$C$1:$C$300),1,,,\"Toolbox\"),VLOOKUP(I35,Toolbox!$C$1:$C$300,1,FALSE))","v":"IHR-PVS National Bridging Workshop"}]
[]
[]
[]
[]
[]
[null,null,null,null,null,null,null,null,{"$f":"Backbone!A195","v":"Integrated Disease Surveillance and Response (IDSR)"},null,null,null,null,null,null,"A strategy aimed at strengthening capacities for detection, confirmation and response to suspected cases and outbreaks, and for use of information to predict and plan for public health events.",null,null,null,null,null,null,null,null,{"$f":"INDEX(Backbone!$R$2:$R$893,MATCH(I41,Backbone!$A$2:$A$893,0))","v":"Guidance document"},null,null,null,{"$f":"INDEX(Backbone!$S$2:$S$893,MATCH(I41,Backbone!$A$2:$A$893,0))","v":"Sector Specific; Generalized"},null,null,null,{"$f":"INDEX(Backbone!$H$2:$H$893,MATCH(I41,Backbone!$A$2:$A$893,0))","v":7.4},null,{"$f":"INDEX(Backbone!$I$2:$I$893,MATCH(I41,Backbone!$A$2:$A$893,0))","v":10},null,{"$f":"INDEX(Backbone!$J$2:$J$893,MATCH(I41,Backbone!$A$2:$A$893,0))","v":7.4},null,{"$f":"INDEX(Backbone!$K$1:$K$893,MATCH(I41,Backbone!$A$1:$A$893,0))","v":8.6999999999999993},null,{"$f":"INDEX(Backbone!$L$2:$L$893,MATCH(I41,Backbone!$A$2:$A$893,0))","v":6.7},null,{"$f":"INDEX(Backbone!$M$2:$M$893,MATCH(I41,Backbone!$A$2:$A$893,0))","v":4.5},null,{"$f":"INDEX(Backbone!$N$2:$N$893,MATCH(I41,Backbone!$A$2:$A$893,0))","v":8},null,{"$f":"INDEX(Backbone!$O$2:$O$893,MATCH(I41,Backbone!$A$2:$A$893,0))","v":7.2},null,{"$f":"INDEX(Backbone!$P$2:$P$893,MATCH(I41,Backbone!$A$2:$A$893,0))","v":8.5},null,{"$f":"INDEX(Backbone!$Q$2:$Q$893,MATCH(I41,Backbone!$A$2:$A$893,0))","v":0.76},null,null,{"$f":"(AG41*$AG$22+AI41*$AI$22+AK41*$AK$22+AM41*$AM$22+AO41*$AO$22+AQ41*$AQ$22+AS41*$AS$22+AU41*$AU$22+AW41*$AW$22)/(SUM($AG$22:$AW$22)*10)","v":{"$error":"#DIV/0!"}},null,null,"Go to \nToolbox: ",null,{"$f":"HYPERLINK(\"#\"&ADDRESS(MATCH(I41,Toolbox!$C$1:$C$300),1,,,\"Toolbox\"),VLOOKUP(I41,Toolbox!$C$1:$C$300,1,FALSE))","v":"Integrated Disease Surveillance and Response (IDSR)"}]
[]
[]
[]
[]
[]
[]
[]
[]
[]
[]
[]
[]
[]
[]
[]
[]
[]
[]
[null,null,null,null,null,null,null,null,null,null,null,null,null,null,null,null,null,null,null,null,null,null,null,null,null,null,null,null,null,null,null,null,"Accessibility",null,"Language",null,"Ease of use",null,"Flexibility",null,"Data Needs",null,"Data Analysis",null,"Acceptability",null,"One Health",null,"Impact"]
[]
[]
[]
[]
[]
[]
[null,null,null,null,null,null,null,null,null,null,null,null,null,null,null,null,null,null,null,null,null,null,null,null,null,null,null,null,null,null,null,null,null,null,null,null,null,null,null,null,null,null,null,null,null,null,null,null,null,null,"RAW SCORE",null,null,"ADJUSTED SCORE \n(Based on user preferences)"]
[null,"LEVEL 2 RESOURCES"]
[]
[]
[null,null,null,"DESIGNATION",null,null,null,null,"RESOURCE NAME",null,null,null,null,null,null,"SHORT DESCRIPTION",null,null,null,null,null,null,null,null,"RESOURCE TYPE",null,null,null,"RESOURCE GENERALITY"]
[]
[]
[]
[null,null,null,null,null,null,null,null,null,null,null,null,null,null,null,null,null,null,null,null,null,null,null,null,null,null,null,null,null,null,null,null,{"$f":"'Attribute Survey'!S130","v":0},null,{"$f":"'Attribute Survey'!S134","v":0},null,{"$f":"'Attribute Survey'!S138","v":0},null,{"$f":"'Attribute Survey'!S142","v":0},null,{"$f":"'Attribute Survey'!S146","v":0},null,{"$f":"'Attribute Survey'!S150","v":0},null,{"$f":"'Attribute Survey'!S154","v":0},null,{"$f":"'Attribute Survey'!S158","v":0},null,{"$f":"'Attribute Survey'!S162","v":0}]
[null,null,null,"Other Relevant Resources",null,null,null,null,{"$f":"Backbone!A100","v":"Evaluation of Collaboration in a multisectoral Surveillance system (EcoSur)"},null,null,null,null,null,null,"A tool that aims to evaluate the organization and functioning of collaboration in a multisectoral surveillance system and to analyse strengths and weaknesses of this collaboration.",null,null,null,null,null,null,null,null,{"$f":"INDEX(Backbone!$R$2:$R$893,MATCH(I76,Backbone!$A$2:$A$893,0))","v":"Guided/Facilitated tool or process"},null,null,null,{"$f":"INDEX(Backbone!$S$2:$S$893,MATCH(I76,Backbone!$A$2:$A$893,0))","v":"One Health; Generalized"},null,null,null,{"$f":"INDEX(Backbone!$H$2:$H$893,MATCH(I76,Backbone!$A$2:$A$893,0))","v":8.3000000000000007},null,{"$f":"INDEX(Backbone!$I$2:$I$893,MATCH(I76,Backbone!$A$2:$A$893,0))","v":6},null,{"$f":"INDEX(Backbone!$J$2:$J$893,MATCH(I76,Backbone!$A$2:$A$893,0))","v":8.5},null,{"$f":"INDEX(Backbone!$K$1:$K$893,MATCH(I76,Backbone!$A$1:$A$893,0))","v":7.8},null,{"$f":"INDEX(Backbone!$L$2:$L$893,MATCH(I76,Backbone!$A$2:$A$893,0))","v":8.3000000000000007},null,{"$f":"INDEX(Backbone!$M$2:$M$893,MATCH(I76,Backbone!$A$2:$A$893,0))","v":6.7},null,{"$f":"INDEX(Backbone!$N$2:$N$893,MATCH(I76,Backbone!$A$2:$A$893,0))","v":3.3},null,{"$f":"INDEX(Backbone!$O$2:$O$893,MATCH(I76,Backbone!$A$2:$A$893,0))","v":9.1},null,{"$f":"INDEX(Backbone!$P$2:$P$893,MATCH(I76,Backbone!$A$2:$A$893,0))","v":4.7},null,{"$f":"INDEX(Backbone!$Q$2:$Q$893,MATCH(I76,Backbone!$A$2:$A$893,0))","v":0.69666666666666677},null,null,{"$f":"(AG76*$AG$22+AI76*$AI$22+AK76*$AK$22+AM76*$AM$22+AO76*$AO$22+AQ76*$AQ$22+AS76*$AS$22+AU76*$AU$22+AW76*$AW$22)/(SUM($AG$22:$AW$22)*10)","v":{"$error":"#DIV/0!"}},null,null,"Go to \nToolbox: ",null,{"$f":"HYPERLINK(\"#\"&ADDRESS(MATCH(I76,Toolbox!$C$1:$C$300),1,,,\"Toolbox\"),VLOOKUP(I76,Toolbox!$C$1:$C$300,1,FALSE))","v":"Evaluation of Collaboration in a multisectoral Surveillance system (EcoSur)"}]
[]
[]
[]
[]
[]
[null,null,null,null,null,null,null,null,{"$f":"Backbone!A137","v":"EFSA Data Collection Framework"},null,null,null,null,null,null,"Web-based tool for data collection purposes submitted by all  EU Member states.",null,null,null,null,null,null,null,null,{"$f":"INDEX(Backbone!$R$2:$R$893,MATCH(I82,Backbone!$A$2:$A$893,0))","v":"Hardware or Software"},null,null,null,{"$f":"INDEX(Backbone!$S$2:$S$893,MATCH(I82,Backbone!$A$2:$A$893,0))","v":"One Health; Generalized"},null,null,null,{"$f":"INDEX(Backbone!$H$2:$H$893,MATCH(I82,Backbone!$A$2:$A$893,0))","v":8.5},null,{"$f":"INDEX(Backbone!$I$2:$I$893,MATCH(I82,Backbone!$A$2:$A$893,0))","v":4},null,{"$f":"INDEX(Backbone!$J$2:$J$893,MATCH(I82,Backbone!$A$2:$A$893,0))","v":6.8},null,{"$f":"INDEX(Backbone!$K$1:$K$893,MATCH(I82,Backbone!$A$1:$A$893,0))","v":9.3000000000000007},null,{"$f":"INDEX(Backbone!$L$2:$L$893,MATCH(I82,Backbone!$A$2:$A$893,0))","v":7.1},null,{"$f":"INDEX(Backbone!$M$2:$M$893,MATCH(I82,Backbone!$A$2:$A$893,0))","v":5.5},null,{"$f":"INDEX(Backbone!$N$2:$N$893,MATCH(I82,Backbone!$A$2:$A$893,0))","v":5},null,{"$f":"INDEX(Backbone!$O$2:$O$893,MATCH(I82,Backbone!$A$2:$A$893,0))","v":8.3000000000000007},null,{"$f":"INDEX(Backbone!$P$2:$P$893,MATCH(I82,Backbone!$A$2:$A$893,0))","v":10},null,{"$f":"INDEX(Backbone!$Q$2:$Q$893,MATCH(I82,Backbone!$A$2:$A$893,0))","v":0.71666666666666667},null,null,{"$f":"(AG82*$AG$22+AI82*$AI$22+AK82*$AK$22+AM82*$AM$22+AO82*$AO$22+AQ82*$AQ$22+AS82*$AS$22+AU82*$AU$22+AW82*$AW$22)/(SUM($AG$22:$AW$22)*10)","v":{"$error":"#DIV/0!"}},null,null,"Go to \nToolbox: ",null,{"$f":"HYPERLINK(\"#\"&ADDRESS(MATCH(I82,Toolbox!$C$1:$C$300),1,,,\"Toolbox\"),VLOOKUP(I82,Toolbox!$C$1:$C$300,1,FALSE))","v":"EFSA Data Collection Framework"}]
[]
[]
[]
[]
[]
[]
[]
[]
[]
[]
[]
[]
[]
[]
[]
[]
[]
[]
[]
[]
[]
[]
[null,null,null,null,null,null,null,null,null,null,null,null,null,null,null,null,null,null,null,null,null,null,null,null,null,null,null,null,null,null,null,null,"Accessibility",null,"Language",null,"Ease of use",null,"Flexibility",null,"Data Needs",null,"Data Analysis",null,"Acceptability",null,"One Health",null,"Impact"]
[]
[]
[]
[]
[]
[]
[null,null,null,null,null,null,null,null,null,null,null,null,null,null,null,null,null,null,null,null,null,null,null,null,null,null,null,null,null,null,null,null,null,null,null,null,null,null,null,null,null,null,null,null,null,null,null,null,null,null,"RAW SCORE",null,null,"ADJUSTED SCORE \n(Based on user preferences)"]
[]
[]
[]
[null,"LEVEL 3  RESOURCES",null,"DESIGNATION",null,null,null,null,"RESOURCE NAME",null,null,null,null,null,null,"SHORT DESCRIPTION",null,null,null,null,null,null,null,null,"RESOURCE TYPE",null,null,null,"RESOURCE GENERALITY"]
[]
[]
[]
[null,null,null,null,null,null,null,null,null,null,null,null,null,null,null,null,null,null,null,null,null,null,null,null,null,null,null,null,null,null,null,null,{"$f":"'Attribute Survey'!S231","v":0},null,{"$f":"'Attribute Survey'!S235","v":0},null,{"$f":"'Attribute Survey'!S239","v":0},null,{"$f":"'Attribute Survey'!S243","v":0},null,{"$f":"'Attribute Survey'!S247","v":0},null,{"$f":"'Attribute Survey'!S251","v":0},null,{"$f":"'Attribute Survey'!S255","v":0},null,{"$f":"'Attribute Survey'!S259","v":0},null,{"$f":"'Attribute Survey'!S263","v":0}]
[null,null,null,"Resources Best Fit For Purpose"]
[null,null,null,null,null,null,null,null,{"$f":"Backbone!A396","v":"One Health Surveillance (OHS) Codex "},null,null,null,null,null,null,"A high-level framework that supports collaboration, mutual understanding, knowledge exchange and data interoperability among One Health surveillance sectors.",null,null,null,null,null,null,null,null,{"$f":"INDEX(Backbone!$R$2:$R$893,MATCH(I122,Backbone!$A$2:$A$893,0))","v":"Self-assessment tool"},null,null,null,{"$f":"INDEX(Backbone!$S$2:$S$893,MATCH(I122,Backbone!$A$2:$A$893,0))","v":"One Health; Generalized"},null,null,null,{"$f":"INDEX(Backbone!$H$2:$H$893,MATCH(I122,Backbone!$A$2:$A$893,0))","v":9},null,{"$f":"INDEX(Backbone!$I$2:$I$893,MATCH(I122,Backbone!$A$2:$A$893,0))","v":6},null,{"$f":"INDEX(Backbone!$J$2:$J$893,MATCH(I122,Backbone!$A$2:$A$893,0))","v":8.5},null,{"$f":"INDEX(Backbone!$K$1:$K$893,MATCH(I122,Backbone!$A$1:$A$893,0))","v":8.6999999999999993},null,{"$f":"INDEX(Backbone!$L$2:$L$893,MATCH(I122,Backbone!$A$2:$A$893,0))","v":8.1},null,{"$f":"INDEX(Backbone!$M$2:$M$893,MATCH(I122,Backbone!$A$2:$A$893,0))","v":2.8},null,{"$f":"INDEX(Backbone!$N$2:$N$893,MATCH(I122,Backbone!$A$2:$A$893,0))","v":2},null,{"$f":"INDEX(Backbone!$O$2:$O$893,MATCH(I122,Backbone!$A$2:$A$893,0))","v":6},null,{"$f":"INDEX(Backbone!$P$2:$P$893,MATCH(I122,Backbone!$A$2:$A$893,0))","v":5},null,{"$f":"INDEX(Backbone!$Q$2:$Q$893,MATCH(I122,Backbone!$A$2:$A$893,0))","v":0.62333333333333329},null,null,{"$f":"(AG122*$AG$22+AI122*$AI$22+AK122*$AK$22+AM122*$AM$22+AO122*$AO$22+AQ122*$AQ$22+AS122*$AS$22+AU122*$AU$22+AW122*$AW$22)/(SUM($AG$22:$AW$22)*10)","v":{"$error":"#DIV/0!"}},null,null,"Go to \nToolbox: ",null,{"$f":"HYPERLINK(\"#\"&ADDRESS(MATCH(I122,Toolbox!$C$1:$C$300),1,,,\"Toolbox\"),VLOOKUP(I122,Toolbox!$C$1:$C$300,1,FALSE))","v":"One Health Surveillance (OHS) Codex "}]
[]
[]
[]
[]
[]
[]
[null,null,null,"Other Relevant Resources",null,null,null,null,{"$f":"Backbone!A61","v":"Cross Border Multisectoral Communication and Coordination Strategies"},null,null,null,null,null,null,"A workshop guiding stakeholders through the process of determining sector specific information sharing mechanisms, and creating multi-sectoral or cross-border information sharing mechanisms.",null,null,null,null,null,null,null,null,{"$f":"INDEX(Backbone!$R$2:$R$893,MATCH(I129,Backbone!$A$2:$A$893,0))","v":"Guided/Facilitated tool or process"},null,null,null,{"$f":"INDEX(Backbone!$S$2:$S$893,MATCH(I129,Backbone!$A$2:$A$893,0))","v":"One Health; Generalized "},null,null,null,{"$f":"INDEX(Backbone!$H$2:$H$893,MATCH(I129,Backbone!$A$2:$A$893,0))","v":8.9},null,{"$f":"INDEX(Backbone!$I$2:$I$893,MATCH(I129,Backbone!$A$2:$A$893,0))","v":6},null,{"$f":"INDEX(Backbone!$J$2:$J$893,MATCH(I129,Backbone!$A$2:$A$893,0))","v":7.6},null,{"$f":"INDEX(Backbone!$K$1:$K$893,MATCH(I129,Backbone!$A$1:$A$893,0))","v":9},null,{"$f":"INDEX(Backbone!$L$2:$L$893,MATCH(I129,Backbone!$A$2:$A$893,0))","v":5.6},null,{"$f":"INDEX(Backbone!$M$2:$M$893,MATCH(I129,Backbone!$A$2:$A$893,0))","v":3.5},null,{"$f":"INDEX(Backbone!$N$2:$N$893,MATCH(I129,Backbone!$A$2:$A$893,0))","v":4},null,{"$f":"INDEX(Backbone!$O$2:$O$893,MATCH(I129,Backbone!$A$2:$A$893,0))","v":8.3000000000000007},null,{"$f":"INDEX(Backbone!$P$2:$P$893,MATCH(I129,Backbone!$A$2:$A$893,0))","v":8},null,{"$f":"INDEX(Backbone!$Q$2:$Q$893,MATCH(I129,Backbone!$A$2:$A$893,0))","v":0.67666666666666675},null,null,{"$f":"(AG129*$AG$22+AI129*$AI$22+AK129*$AK$22+AM129*$AM$22+AO129*$AO$22+AQ129*$AQ$22+AS129*$AS$22+AU129*$AU$22+AW129*$AW$22)/(SUM($AG$22:$AW$22)*10)","v":{"$error":"#DIV/0!"}},null,null,"Go to \nToolbox: ",null,{"$f":"HYPERLINK(\"#\"&ADDRESS(MATCH(I129,Toolbox!$C$1:$C$300),1,,,\"Toolbox\"),VLOOKUP(I129,Toolbox!$C$1:$C$300,1,FALSE))","v":"Cross Border Multisectoral Communication and Coordination Strategies"}]
[]
[]
[]
[]
[]
[null,null,null,null,null,null,null,null,{"$f":"Backbone!A400","v":"One Health Surveillance Readiness and Requirements Tool (OHSRRT)"},null,null,null,null,null,null,"A readiness and requirements assessment tool used to determine country readiness and gather requirements to develop a One Health surveillance system based on critical success factors. ",null,null,null,null,null,null,null,null,{"$f":"INDEX(Backbone!$R$2:$R$893,MATCH(I135,Backbone!$A$2:$A$893,0))","v":"Self-assessment tool"},null,null,null,{"$f":"INDEX(Backbone!$S$2:$S$893,MATCH(I135,Backbone!$A$2:$A$893,0))","v":"One Health; Generalized"},null,null,null,{"$f":"INDEX(Backbone!$H$2:$H$893,MATCH(I135,Backbone!$A$2:$A$893,0))","v":8},null,{"$f":"INDEX(Backbone!$I$2:$I$893,MATCH(I135,Backbone!$A$2:$A$893,0))","v":6},null,{"$f":"INDEX(Backbone!$J$2:$J$893,MATCH(I135,Backbone!$A$2:$A$893,0))","v":7.4},null,{"$f":"INDEX(Backbone!$K$1:$K$893,MATCH(I135,Backbone!$A$1:$A$893,0))","v":8.6999999999999993},null,{"$f":"INDEX(Backbone!$L$2:$L$893,MATCH(I135,Backbone!$A$2:$A$893,0))","v":6},null,{"$f":"INDEX(Backbone!$M$2:$M$893,MATCH(I135,Backbone!$A$2:$A$893,0))","v":2.5},null,{"$f":"INDEX(Backbone!$N$2:$N$893,MATCH(I135,Backbone!$A$2:$A$893,0))","v":2},null,{"$f":"INDEX(Backbone!$O$2:$O$893,MATCH(I135,Backbone!$A$2:$A$893,0))","v":9.6},null,{"$f":"INDEX(Backbone!$P$2:$P$893,MATCH(I135,Backbone!$A$2:$A$893,0))","v":5.5},null,{"$f":"INDEX(Backbone!$Q$2:$Q$893,MATCH(I135,Backbone!$A$2:$A$893,0))","v":0.61888888888888882},null,null,{"$f":"(AG135*$AG$22+AI135*$AI$22+AK135*$AK$22+AM135*$AM$22+AO135*$AO$22+AQ135*$AQ$22+AS135*$AS$22+AU135*$AU$22+AW135*$AW$22)/(SUM($AG$22:$AW$22)*10)","v":{"$error":"#DIV/0!"}},null,null,"Go to \nToolbox: ",null,{"$f":"HYPERLINK(\"#\"&ADDRESS(MATCH(I135,Toolbox!$C$1:$C$300),1,,,\"Toolbox\"),VLOOKUP(I135,Toolbox!$C$1:$C$300,1,FALSE))","v":"One Health Surveillance Readiness and Requirements Tool (OHSRRT)"}]

{"sheet":"P3_tools","index":40,"n_rows":219,"n_cols":59,"rows_kept":219,"cut":false,"hidden":false,"merged":[[218,56,222,57],[218,58,222,62],[112,56,116,57],[112,58,116,62],[118,56,122,57],[118,58,122,62],[130,56,134,57],[130,58,134,62],[171,56,175,57],[171,58,175,62],[212,56,216,57],[212,58,216,62],[124,58,128,62],[76,56,80,57],[76,58,80,62],[82,56,86,57],[82,58,86,62],[94,56,98,57],[94,58,98,62],[100,56,104,57],[100,58,104,62],[106,56,110,57],[106,58,110,62],[88,58,92,62],[22,56,26,57],[22,58,26,62],[28,56,32,57],[28,58,32,62],[34,56,38,57],[34,58,38,62],[58,56,62,57],[58,58,62,62],[64,56,68,57],[64,58,68,62],[52,58,56,62],[40,58,44,62],[34,36,38,36],[28,42,32,42],[28,44,32,44],[28,46,32,46],[34,50,38,51],[13,53,20,54],[17,3,20,6],[17,8,20,13],[17,15,20,22],[17,24,20,26],[17,28,20,30],[6,32,20,32],[6,34,20,34],[6,36,20,36],[6,38,20,38],[6,40,20,40],[6,42,20,42],[6,44,20,44],[6,46,20,46],[6,48,20,48],[22,53,26,54],[28,8,32,13],[28,15,32,22],[28,24,32,26],[76,42,80,42],[76,44,80,44],[76,46,80,46],[76,48,80,48],[76,50,80,51],[1,1,3,62],[76,8,80,13],[76,15,80,22],[76,24,80,26],[76,28,80,30],[76,32,80,32],[76,34,80,34],[76,36,80,36],[76,38,80,38],[13,50,20,51],[22,46,26,46],[22,48,26,48],[22,50,26,51],[34,8,38,13],[34,15,38,22],[34,24,38,26],[34,28,38,30],[34,32,38,32],[34,34,38,34],[22,8,26,13],[22,15,26,22],[22,24,26,26],[22,28,26,30],[22,32,26,32],[28,48,32,48],[28,50,32,51],[28,53,32,54],[28,36,32,36],[28,38,32,38],[28,40,32,40],[28,28,32,30],[28,32,32,32],[28,34,32,34],[22,34,26,34],[22,36,26,36],[22,38,26,38],[22,40,26,40],[22,42,26,42],[22,44,26,44],[34,53,38,54],[58,8,62,13],[58,15,62,22],[58,24,62,26],[58,28,62,30],[58,32,62,32],[58,34,62,34],[58,36,62,36],[58,38,62,38],[34,38,38,38],[34,40,38,40],[34,42,38,42],[34,44,38,44],[34,46,38,46],[34,48,38,48],[58,53,62,54],[58,40,62,40],[58,42,62,42],[58,44,62,44],[58,46,62,46],[58,48,62,48],[58,50,62,51],[40,8,44,13],[40,15,44,22],[64,8,68,13],[64,15,68,22],[64,24,68,26],[64,28,68,30],[64,32,68,32],[64,34,68,34],[64,36,68,36],[64,38,68,38],[64,40,68,40],[166,28,169,30],[155,44,169,44],[155,46,169,46],[155,48,169,48],[162,50,169,51],[162,53,169,54],[166,3,169,6],[166,8,169,13],[166,15,169,22],[166,24,169,26],[155,32,169,32],[155,34,169,34],[155,36,169,36],[155,38,169,38],[155,40,169,40],[155,42,169,42],[171,32,175,32],[171,34,175,34],[171,36,175,36],[171,38,175,38],[171,40,175,40],[171,42,175,42],[171,3,175,6],[171,8,175,13],[171,15,175,22],[171,24,175,26],[171,28,175,30],[212,3,222,6],[212,8,216,13],[212,15,216,22],[212,24,216,26],[212,28,216,30],[212,32,216,32],[196,48,210,48],[203,50,210,51],[203,53,210,54],[207,3,210,6],[207,8,210,13],[207,15,210,22],[207,24,210,26],[207,28,210,30],[196,32,210,32],[196,34,210,34],[196,36,210,36],[196,38,210,38],[196,40,210,40],[196,42,210,42],[196,44,210,44],[196,46,210,46],[218,8,222,13],[218,15,222,22],[218,24,222,26],[218,28,222,30],[218,32,222,32],[218,34,222,34],[212,34,216,34],[212,36,216,36],[212,38,216,38],[218,36,222,36],[218,38,222,38],[218,42,222,42],[218,44,222,44],[218,46,222,46],[212,46,216,46],[212,48,216,48],[212,50,216,51],[212,40,216,40],[212,42,216,42],[212,44,216,44],[94,53,98,54],[94,38,98,38],[94,40,98,40],[94,42,98,42],[94,44,98,44],[94,46,98,46],[94,48,98,48],[218,48,222,48],[218,50,222,51],[218,53,222,54],[212,53,216,54],[171,44,175,44],[171,46,175,46],[171,48,175,48],[171,50,175,51],[171,53,175,54],[106,42,110,42],[106,44,110,44],[106,46,110,46],[106,48,110,48],[106,50,110,51],[106,53,110,54],[100,53,104,54],[218,40,222,40],[88,34,92,34],[88,36,92,36],[100,40,104,40],[100,42,104,42],[100,44,104,44],[100,46,104,46],[100,48,104,48],[100,50,104,51],[100,28,104,30],[100,32,104,32],[100,34,104,34],[100,36,104,36],[100,38,104,38],[94,50,98,51],[112,24,116,26],[112,28,116,30],[112,32,116,32],[112,34,116,34],[112,36,116,36],[94,36,98,36],[82,8,86,13],[82,15,86,22],[82,24,86,26],[82,28,86,30],[82,32,86,32],[82,34,86,34],[82,36,86,36],[94,8,98,13],[94,15,98,22],[94,24,98,26],[94,28,98,30],[94,32,98,32],[94,34,98,34],[88,8,92,13],[88,15,92,22],[88,24,92,26],[88,28,92,30],[88,32,92,32],[124,8,128,13],[124,15,128,22],[124,24,128,26],[124,28,128,30],[124,32,128,32],[124,34,128,34],[124,36,128,36],[112,53,116,54],[118,8,122,13],[118,15,122,22],[118,24,122,26],[118,28,122,30],[118,32,122,32],[118,34,122,34],[118,36,122,36],[118,38,122,38],[112,38,116,38],[112,40,116,40],[112,42,116,42],[112,44,116,44],[112,46,116,46],[112,48,116,48],[112,8,116,13],[112,15,116,22],[106,28,110,30],[106,32,110,32],[106,34,110,34],[82,38,86,38],[82,40,86,40],[100,8,104,13],[100,15,104,22],[100,24,104,26],[130,53,134,54],[118,53,122,54],[130,8,134,13],[130,15,134,22],[130,24,134,26],[130,28,134,30],[130,32,134,32],[130,34,134,34],[130,36,134,36],[130,38,134,38],[130,40,134,40],[118,40,122,40],[118,42,122,42],[118,44,122,44],[118,46,122,46],[118,48,122,48],[130,42,134,42],[130,44,134,44],[130,46,134,46],[130,48,134,48],[130,50,134,51],[112,50,116,51],[106,36,110,36],[106,38,110,38],[106,40,110,40],[118,50,122,51],[124,46,128,46],[124,48,128,48],[124,50,128,51],[124,38,128,38],[124,40,128,40],[124,42,128,42],[124,44,128,44],[124,53,128,54],[124,56,128,57],[52,8,56,13],[52,15,56,22],[52,24,56,26],[52,28,56,30],[52,32,56,32],[52,34,56,34],[52,36,56,36],[52,38,56,38],[52,40,56,40],[52,42,56,42],[52,44,56,44],[52,46,56,46],[52,48,56,48],[52,50,56,51],[52,53,56,54],[52,56,56,57],[106,8,110,13],[106,15,110,22],[106,24,110,26],[70,46,74,46],[70,48,74,48],[70,50,74,51],[40,32,44,32],[40,34,44,34],[64,42,68,42],[82,42,86,42],[82,44,86,44],[64,44,68,44],[70,42,74,42],[70,44,74,44],[70,58,74,62],[46,40,50,40],[64,46,68,46],[64,48,68,48],[64,50,68,51],[64,53,68,54],[46,42,50,42],[70,53,74,54],[70,56,74,57],[46,58,50,62],[82,46,86,46],[82,48,86,48],[82,50,86,51],[82,53,86,54],[76,53,80,54],[76,40,80,40],[46,53,50,54],[46,56,50,57],[200,1,220,1],[46,8,50,13],[46,15,50,22],[46,24,50,26],[46,28,50,30],[46,32,50,32],[46,34,50,34],[46,36,50,36],[46,38,50,38],[17,1,134,1],[150,1,178,1],[88,38,92,38],[70,8,74,13],[70,15,74,22],[70,24,74,26],[70,28,74,30],[40,36,44,36],[40,38,44,38],[70,36,74,36],[70,38,74,38],[40,24,44,26],[40,28,44,30],[22,3,134,6],[88,40,92,40],[88,42,92,42],[88,44,92,44],[88,46,92,46],[88,48,92,48],[88,50,92,51],[88,53,92,54],[88,56,92,57],[40,46,44,46],[40,48,44,48],[40,50,44,51],[40,53,44,54],[40,56,44,57],[70,40,74,40],[70,32,74,32],[70,34,74,34],[40,40,44,40],[40,42,44,42],[40,44,44,44],[46,44,50,44],[46,46,50,46],[46,48,50,48],[46,50,50,51]]}
[]
[null,"Frameworks and Strategic Plans Resources"]
[]
[]
[]
[]
[null,null,null,null,null,null,null,null,null,null,null,null,null,null,null,null,null,null,null,null,null,null,null,null,null,null,null,null,null,null,null,null,"Accessibility",null,"Language",null,"Ease of use",null,"Flexibility",null,"Data Needs",null,"Data Analysis",null,"Acceptability",null,"One Health",null,"Impact"]
[]
[]
[]
[]
[]
[]
[null,null,null,null,null,null,null,null,null,null,null,null,null,null,null,null,null,null,null,null,null,null,null,null,null,null,null,null,null,null,null,null,null,null,null,null,null,null,null,null,null,null,null,null,null,null,null,null,null,null,"RAW SCORE",null,null,"ADJUSTED SCORE \n(Based on user preferences)"]
[]
[]
[]
[null,"LEVEL 1 RESOURCES",null,"DESIGNATION",null,null,null,null,"RESOURCE NAME",null,null,null,null,null,null,"SHORT DESCRIPTION",null,null,null,null,null,null,null,null,"RESOURCE TYPE",null,null,null,"RESOURCE GENERALITY"]
[]
[]
[]
[null,null,null,null,null,null,null,null,null,null,null,null,null,null,null,null,null,null,null,null,null,null,null,null,null,null,null,null,null,null,null,null,{"$f":"'Attribute Survey'!S22","v":0},null,{"$f":"'Attribute Survey'!S26","v":0},null,{"$f":"'Attribute Survey'!S30","v":0},null,{"$f":"'Attribute Survey'!S34","v":0},null,{"$f":"'Attribute Survey'!S38","v":0},null,{"$f":"'Attribute Survey'!S42","v":0},null,{"$f":"'Attribute Survey'!S46","v":0},null,{"$f":"'Attribute Survey'!S50","v":0},null,{"$f":"'Attribute Survey'!S54","v":0}]
[null,null,null,"Other Relevant Resources",null,null,null,null,{"$f":"Backbone!A2","v":"Africa CDC Event Based Surveillance Framework"},null,null,null,null,null,null,"A guidance to public health practitioners seeking to implement event-based surveillance at each administrative level.",null,null,null,null,null,null,null,null,{"$f":"INDEX(Backbone!$R$2:$R$893,MATCH(I23,Backbone!$A$2:$A$893,0))","v":"Guidance document"},null,null,null,{"$f":"INDEX(Backbone!$S$2:$S$893,MATCH(I23,Backbone!$A$2:$A$893,0))","v":"One Health; Generalized "},null,null,null,{"$f":"INDEX(Backbone!$H$2:$H$893,MATCH(I23,Backbone!$A$2:$A$893,0))","v":8},null,{"$f":"INDEX(Backbone!$I$2:$I$893,MATCH(I23,Backbone!$A$2:$A$893,0))","v":6},null,{"$f":"INDEX(Backbone!$J$2:$J$893,MATCH(I23,Backbone!$A$2:$A$893,0))","v":8.1999999999999993},null,{"$f":"INDEX(Backbone!$K$1:$K$893,MATCH(I23,Backbone!$A$1:$A$893,0))","v":8.3000000000000007},null,{"$f":"INDEX(Backbone!$L$2:$L$893,MATCH(I23,Backbone!$A$2:$A$893,0))","v":6.1},null,{"$f":"INDEX(Backbone!$M$2:$M$893,MATCH(I23,Backbone!$A$2:$A$893,0))","v":3.5},null,{"$f":"INDEX(Backbone!$N$2:$N$893,MATCH(I23,Backbone!$A$2:$A$893,0))","v":4},null,{"$f":"INDEX(Backbone!$O$2:$O$893,MATCH(I23,Backbone!$A$2:$A$893,0))","v":7},null,{"$f":"INDEX(Backbone!$P$2:$P$893,MATCH(I23,Backbone!$A$2:$A$893,0))","v":6},null,{"$f":"INDEX(Backbone!$Q$2:$Q$893,MATCH(I23,Backbone!$A$2:$A$893,0))","v":0.63222222222222224},null,null,{"$f":"(AG23*$AG$22+AI23*$AI$22+AK23*$AK$22+AM23*$AM$22+AO23*$AO$22+AQ23*$AQ$22+AS23*$AS$22+AU23*$AU$22+AW23*$AW$22)/(SUM($AG$22:$AW$22)*10)","v":{"$error":"#DIV/0!"}},null,null,"Go to \nToolbox: ",null,{"$f":"HYPERLINK(\"#\"&ADDRESS(MATCH(I23,Toolbox!$C$1:$C$300),1,,,\"Toolbox\"),VLOOKUP(I23,Toolbox!$C$1:$C$300,1,FALSE))","v":"Africa CDC Event Based Surveillance Framework"}]
[]
[]
[]
[]
[]
[null,null,null,null,null,null,null,null,{"$f":"Backbone!A575","v":"Antimicrobial resistance: a manual for developing national action plans"},null,null,null,null,null,null,"The manual for developing national action plans to address Antimicrobial Resistance.",null,null,null,null,null,null,null,null,{"$f":"INDEX(Backbone!$R$2:$R$893,MATCH(I29,Backbone!$A$2:$A$893,0))","v":"Guidance document"},null,null,null,{"$f":"INDEX(Backbone!$S$2:$S$893,MATCH(I29,Backbone!$A$2:$A$893,0))","v":"One Health; Disease/Threat Specific "},null,null,null,{"$f":"INDEX(Backbone!$H$2:$H$893,MATCH(I29,Backbone!$A$2:$A$893,0))","v":10},null,{"$f":"INDEX(Backbone!$I$2:$I$893,MATCH(I29,Backbone!$A$2:$A$893,0))","v":6},null,{"$f":"INDEX(Backbone!$J$2:$J$893,MATCH(I29,Backbone!$A$2:$A$893,0))","v":6.6},null,{"$f":"INDEX(Backbone!$K$1:$K$893,MATCH(I29,Backbone!$A$1:$A$893,0))","v":8.6999999999999993},null,{"$f":"INDEX(Backbone!$L$2:$L$893,MATCH(I29,Backbone!$A$2:$A$893,0))","v":8},null,{"$f":"INDEX(Backbone!$M$2:$M$893,MATCH(I29,Backbone!$A$2:$A$893,0))","v":3.8},null,{"$f":"INDEX(Backbone!$N$2:$N$893,MATCH(I29,Backbone!$A$2:$A$893,0))","v":4.5},null,{"$f":"INDEX(Backbone!$O$2:$O$893,MATCH(I29,Backbone!$A$2:$A$893,0))","v":9},null,{"$f":"INDEX(Backbone!$P$2:$P$893,MATCH(I29,Backbone!$A$2:$A$893,0))","v":10},null,{"$f":"INDEX(Backbone!$Q$2:$Q$893,MATCH(I29,Backbone!$A$2:$A$893,0))","v":0.74},null,null,{"$f":"(AG29*$AG$22+AI29*$AI$22+AK29*$AK$22+AM29*$AM$22+AO29*$AO$22+AQ29*$AQ$22+AS29*$AS$22+AU29*$AU$22+AW29*$AW$22)/(SUM($AG$22:$AW$22)*10)","v":{"$error":"#DIV/0!"}},null,null,"Go to \nToolbox: ",null,{"$f":"HYPERLINK(\"#\"&ADDRESS(MATCH(I29,Toolbox!$C$1:$C$300),1,,,\"Toolbox\"),VLOOKUP(I29,Toolbox!$C$1:$C$300,1,FALSE))","v":"Antimicrobial resistance: a manual for developing national action plans"}]
[]
[]
[]
[]
[]
[null,null,null,null,null,null,null,null,{"$f":"Backbone!A51","v":"Border Health Capacity Discussion Guide (BHCDG)"},null,null,null,null,null,null,"Includes template tools to lead facilitated discussions with national-, district-, and ground crossing-level representatives on seven border health system topics.",null,null,null,null,null,null,null,null,{"$f":"INDEX(Backbone!$R$2:$R$893,MATCH(I35,Backbone!$A$2:$A$893,0))","v":"Guidance document"},null,null,null,{"$f":"INDEX(Backbone!$S$2:$S$893,MATCH(I35,Backbone!$A$2:$A$893,0))","v":"One Health; Disease/Threat Specific "},null,null,null,{"$f":"INDEX(Backbone!$H$2:$H$893,MATCH(I35,Backbone!$A$2:$A$893,0))","v":8.8000000000000007},null,{"$f":"INDEX(Backbone!$I$2:$I$893,MATCH(I35,Backbone!$A$2:$A$893,0))","v":6.7},null,{"$f":"INDEX(Backbone!$J$2:$J$893,MATCH(I35,Backbone!$A$2:$A$893,0))","v":7.6},null,{"$f":"INDEX(Backbone!$K$1:$K$893,MATCH(I35,Backbone!$A$1:$A$893,0))","v":9},null,{"$f":"INDEX(Backbone!$L$2:$L$893,MATCH(I35,Backbone!$A$2:$A$893,0))","v":7},null,{"$f":"INDEX(Backbone!$M$2:$M$893,MATCH(I35,Backbone!$A$2:$A$893,0))","v":3.8},null,{"$f":"INDEX(Backbone!$N$2:$N$893,MATCH(I35,Backbone!$A$2:$A$893,0))","v":8},null,{"$f":"INDEX(Backbone!$O$2:$O$893,MATCH(I35,Backbone!$A$2:$A$893,0))","v":8.4},null,{"$f":"INDEX(Backbone!$P$2:$P$893,MATCH(I35,Backbone!$A$2:$A$893,0))","v":6},null,{"$f":"INDEX(Backbone!$Q$2:$Q$893,MATCH(I35,Backbone!$A$2:$A$893,0))","v":0.72555555555555551},null,null,{"$f":"(AG35*$AG$22+AI35*$AI$22+AK35*$AK$22+AM35*$AM$22+AO35*$AO$22+AQ35*$AQ$22+AS35*$AS$22+AU35*$AU$22+AW35*$AW$22)/(SUM($AG$22:$AW$22)*10)","v":{"$error":"#DIV/0!"}},null,null,"Go to \nToolbox: ",null,{"$f":"HYPERLINK(\"#\"&ADDRESS(MATCH(I35,Toolbox!$C$1:$C$300),1,,,\"Toolbox\"),VLOOKUP(I35,Toolbox!$C$1:$C$300,1,FALSE))","v":"Border Health Capacity Discussion Guide (BHCDG)"}]
[]
[]
[]
[]
[]
[null,null,null,null,null,null,null,null,{"$f":"Backbone!A100","v":"Evaluation of Collaboration in a multisectoral Surveillance system (EcoSur)"},null,null,null,null,null,null,"A tool that aims to evaluate the organization and functioning of collaboration in a multisectoral surveillance system and to analyse strengths and weaknesses of this collaboration.",null,null,null,null,null,null,null,null,{"$f":"INDEX(Backbone!$R$2:$R$893,MATCH(I41,Backbone!$A$2:$A$893,0))","v":"Guided/Facilitated tool or process"},null,null,null,{"$f":"INDEX(Backbone!$S$2:$S$893,MATCH(I41,Backbone!$A$2:$A$893,0))","v":"One Health; Generalized"},null,null,null,{"$f":"INDEX(Backbone!$H$2:$H$893,MATCH(I41,Backbone!$A$2:$A$893,0))","v":8.3000000000000007},null,{"$f":"INDEX(Backbone!$I$2:$I$893,MATCH(I41,Backbone!$A$2:$A$893,0))","v":6},null,{"$f":"INDEX(Backbone!$J$2:$J$893,MATCH(I41,Backbone!$A$2:$A$893,0))","v":8.5},null,{"$f":"INDEX(Backbone!$K$1:$K$893,MATCH(I41,Backbone!$A$1:$A$893,0))","v":7.8},null,{"$f":"INDEX(Backbone!$L$2:$L$893,MATCH(I41,Backbone!$A$2:$A$893,0))","v":8.3000000000000007},null,{"$f":"INDEX(Backbone!$M$2:$M$893,MATCH(I41,Backbone!$A$2:$A$893,0))","v":6.7},null,{"$f":"INDEX(Backbone!$N$2:$N$893,MATCH(I41,Backbone!$A$2:$A$893,0))","v":3.3},null,{"$f":"INDEX(Backbone!$O$2:$O$893,MATCH(I41,Backbone!$A$2:$A$893,0))","v":9.1},null,{"$f":"INDEX(Backbone!$P$2:$P$893,MATCH(I41,Backbone!$A$2:$A$893,0))","v":4.7},null,{"$f":"INDEX(Backbone!$Q$2:$Q$893,MATCH(I41,Backbone!$A$2:$A$893,0))","v":0.69666666666666677},null,null,{"$f":"(AG41*$AG$22+AI41*$AI$22+AK41*$AK$22+AM41*$AM$22+AO41*$AO$22+AQ41*$AQ$22+AS41*$AS$22+AU41*$AU$22+AW41*$AW$22)/(SUM($AG$22:$AW$22)*10)","v":{"$error":"#DIV/0!"}},null,null,"Go to \nToolbox: ",null,{"$f":"HYPERLINK(\"#\"&ADDRESS(MATCH(I41,Toolbox!$C$1:$C$300),1,,,\"Toolbox\"),VLOOKUP(I41,Toolbox!$C$1:$C$300,1,FALSE))","v":"Evaluation of Collaboration in a multisectoral Surveillance system (EcoSur)"}]
[]
[]
[]
[]
[]
[null,null,null,null,null,null,null,null,{"$f":"Backbone!A183","v":"Framework for Evaluating Public Health Surveillance Systems for Early Detection of Outbreaks "},null,null,null,null,null,null,"A tool that aims to evaluate the organization and functioning of collaboration in a multisectoral surveillance system and to analyse strengths and weaknesses of this collaboration.",null,null,null,null,null,null,null,null,{"$f":"INDEX(Backbone!$R$2:$R$893,MATCH(I47,Backbone!$A$2:$A$893,0))","v":"Guidance document"},null,null,null,{"$f":"INDEX(Backbone!$S$2:$S$893,MATCH(I47,Backbone!$A$2:$A$893,0))","v":"Sector Specific; Generalized"},null,null,null,{"$f":"INDEX(Backbone!$H$2:$H$893,MATCH(I47,Backbone!$A$2:$A$893,0))","v":9.1999999999999993},null,{"$f":"INDEX(Backbone!$I$2:$I$893,MATCH(I47,Backbone!$A$2:$A$893,0))","v":6.7},null,{"$f":"INDEX(Backbone!$J$2:$J$893,MATCH(I47,Backbone!$A$2:$A$893,0))","v":8.4},null,{"$f":"INDEX(Backbone!$K$1:$K$893,MATCH(I47,Backbone!$A$1:$A$893,0))","v":8.6999999999999993},null,{"$f":"INDEX(Backbone!$L$2:$L$893,MATCH(I47,Backbone!$A$2:$A$893,0))","v":7.1},null,{"$f":"INDEX(Backbone!$M$2:$M$893,MATCH(I47,Backbone!$A$2:$A$893,0))","v":2},null,{"$f":"INDEX(Backbone!$N$2:$N$893,MATCH(I47,Backbone!$A$2:$A$893,0))","v":2.5},null,{"$f":"INDEX(Backbone!$O$2:$O$893,MATCH(I47,Backbone!$A$2:$A$893,0))","v":8.1999999999999993},null,{"$f":"INDEX(Backbone!$P$2:$P$893,MATCH(I47,Backbone!$A$2:$A$893,0))","v":6},null,{"$f":"INDEX(Backbone!$Q$2:$Q$893,MATCH(I47,Backbone!$A$2:$A$893,0))","v":0.65333333333333332},null,null,{"$f":"(AG47*$AG$22+AI47*$AI$22+AK47*$AK$22+AM47*$AM$22+AO47*$AO$22+AQ47*$AQ$22+AS47*$AS$22+AU47*$AU$22+AW47*$AW$22)/(SUM($AG$22:$AW$22)*10)","v":{"$error":"#DIV/0!"}},null,null,"Go to \nToolbox: ",null,{"$f":"HYPERLINK(\"#\"&ADDRESS(MATCH(I47,Toolbox!$C$1:$C$300),1,,,\"Toolbox\"),VLOOKUP(I47,Toolbox!$C$1:$C$300,1,FALSE))","v":"Framework for Evaluating Public Health Surveillance Systems for Early Detection of Outbreaks "}]
[]
[]
[]
[]
[]
[null,null,null,null,null,null,null,null,{"$f":"Backbone!A33","v":"Framework for Enhancing Anthrax Prevention and Control "},null,null,null,null,null,null,"An operational planning and evaluation framework for syndromic surveillance systems. ",null,null,null,null,null,null,null,null,{"$f":"INDEX(Backbone!$R$2:$R$893,MATCH(I53,Backbone!$A$2:$A$893,0))","v":"Guidance document"},null,null,null,{"$f":"INDEX(Backbone!$S$2:$S$893,MATCH(I53,Backbone!$A$2:$A$893,0))","v":"One Health; Disease/Threat Specific "},null,null,null,{"$f":"INDEX(Backbone!$H$2:$H$893,MATCH(I53,Backbone!$A$2:$A$893,0))","v":9.1},null,{"$f":"INDEX(Backbone!$I$2:$I$893,MATCH(I53,Backbone!$A$2:$A$893,0))","v":10},null,{"$f":"INDEX(Backbone!$J$2:$J$893,MATCH(I53,Backbone!$A$2:$A$893,0))","v":8.6},null,{"$f":"INDEX(Backbone!$K$1:$K$893,MATCH(I53,Backbone!$A$1:$A$893,0))","v":4.7},null,{"$f":"INDEX(Backbone!$L$2:$L$893,MATCH(I53,Backbone!$A$2:$A$893,0))","v":9.1999999999999993},null,{"$f":"INDEX(Backbone!$M$2:$M$893,MATCH(I53,Backbone!$A$2:$A$893,0))","v":2},null,{"$f":"INDEX(Backbone!$N$2:$N$893,MATCH(I53,Backbone!$A$2:$A$893,0))","v":6.3},null,{"$f":"INDEX(Backbone!$O$2:$O$893,MATCH(I53,Backbone!$A$2:$A$893,0))","v":4.3},null,{"$f":"INDEX(Backbone!$P$2:$P$893,MATCH(I53,Backbone!$A$2:$A$893,0))","v":6},null,{"$f":"INDEX(Backbone!$Q$2:$Q$893,MATCH(I53,Backbone!$A$2:$A$893,0))","v":0.66888888888888887},null,null,{"$f":"(AG53*$AG$22+AI53*$AI$22+AK53*$AK$22+AM53*$AM$22+AO53*$AO$22+AQ53*$AQ$22+AS53*$AS$22+AU53*$AU$22+AW53*$AW$22)/(SUM($AG$22:$AW$22)*10)","v":{"$error":"#DIV/0!"}},null,null,"Go to \nToolbox: ",null,{"$f":"HYPERLINK(\"#\"&ADDRESS(MATCH(I53,Toolbox!$C$1:$C$300),1,,,\"Toolbox\"),VLOOKUP(I53,Toolbox!$C$1:$C$300,1,FALSE))","v":"Framework for Enhancing Anthrax Prevention and Control "}]
[]
[]
[]
[]
[]
[null,null,null,null,null,null,null,null,{"$f":"Backbone!A239","v":"IHR-PVS National Bridging Workshop"},null,null,null,null,null,null,"A workshop where One Health (OH) stakeholders explore possible overlapping areas addressed in the OIE (PVS Pathway) and IHR (IHR Monitoring and Evaluation Framework) capacity frameworks and develop, where relevant, appropriate bridges to facilitate coordination between sectors.  ",null,null,null,null,null,null,null,null,{"$f":"INDEX(Backbone!$R$2:$R$893,MATCH(I59,Backbone!$A$2:$A$893,0))","v":"Guided/Facilitated tool or process"},null,null,null,{"$f":"INDEX(Backbone!$S$2:$S$893,MATCH(I59,Backbone!$A$2:$A$893,0))","v":"One Health; Generalized"},null,null,null,{"$f":"INDEX(Backbone!$H$2:$H$893,MATCH(I59,Backbone!$A$2:$A$893,0))","v":8.6},null,{"$f":"INDEX(Backbone!$I$2:$I$893,MATCH(I59,Backbone!$A$2:$A$893,0))","v":10},null,{"$f":"INDEX(Backbone!$J$2:$J$893,MATCH(I59,Backbone!$A$2:$A$893,0))","v":6.2},null,{"$f":"INDEX(Backbone!$K$1:$K$893,MATCH(I59,Backbone!$A$1:$A$893,0))","v":10},null,{"$f":"INDEX(Backbone!$L$2:$L$893,MATCH(I59,Backbone!$A$2:$A$893,0))","v":6},null,{"$f":"INDEX(Backbone!$M$2:$M$893,MATCH(I59,Backbone!$A$2:$A$893,0))","v":7},null,{"$f":"INDEX(Backbone!$N$2:$N$893,MATCH(I59,Backbone!$A$2:$A$893,0))","v":9},null,{"$f":"INDEX(Backbone!$O$2:$O$893,MATCH(I59,Backbone!$A$2:$A$893,0))","v":8.1999999999999993},null,{"$f":"INDEX(Backbone!$P$2:$P$893,MATCH(I59,Backbone!$A$2:$A$893,0))","v":10},null,{"$f":"INDEX(Backbone!$Q$2:$Q$893,MATCH(I59,Backbone!$A$2:$A$893,0))","v":0.83333333333333337},null,null,{"$f":"(AG59*$AG$22+AI59*$AI$22+AK59*$AK$22+AM59*$AM$22+AO59*$AO$22+AQ59*$AQ$22+AS59*$AS$22+AU59*$AU$22+AW59*$AW$22)/(SUM($AG$22:$AW$22)*10)","v":{"$error":"#DIV/0!"}},null,null,"Go to \nToolbox: ",null,{"$f":"HYPERLINK(\"#\"&ADDRESS(MATCH(I59,Toolbox!$C$1:$C$300),1,,,\"Toolbox\"),VLOOKUP(I59,Toolbox!$C$1:$C$300,1,FALSE))","v":"IHR-PVS National Bridging Workshop"}]
[]
[]
[]
[]
[]
[null,null,null,null,null,null,null,null,{"$f":"Backbone!A195","v":"Integrated Disease Surveillance and Response (IDSR)"},null,null,null,null,null,null,"A strategy aimed at strengthening capacities for detection, confirmation and response to suspected cases and outbreaks, and for use of information to predict and plan for public health events.",null,null,null,null,null,null,null,null,{"$f":"INDEX(Backbone!$R$2:$R$893,MATCH(I65,Backbone!$A$2:$A$893,0))","v":"Guidance document"},null,null,null,{"$f":"INDEX(Backbone!$S$2:$S$893,MATCH(I65,Backbone!$A$2:$A$893,0))","v":"Sector Specific; Generalized"},null,null,null,{"$f":"INDEX(Backbone!$H$2:$H$893,MATCH(I65,Backbone!$A$2:$A$893,0))","v":7.4},null,{"$f":"INDEX(Backbone!$I$2:$I$893,MATCH(I65,Backbone!$A$2:$A$893,0))","v":10},null,{"$f":"INDEX(Backbone!$J$2:$J$893,MATCH(I65,Backbone!$A$2:$A$893,0))","v":7.4},null,{"$f":"INDEX(Backbone!$K$1:$K$893,MATCH(I65,Backbone!$A$1:$A$893,0))","v":8.6999999999999993},null,{"$f":"INDEX(Backbone!$L$2:$L$893,MATCH(I65,Backbone!$A$2:$A$893,0))","v":6.7},null,{"$f":"INDEX(Backbone!$M$2:$M$893,MATCH(I65,Backbone!$A$2:$A$893,0))","v":4.5},null,{"$f":"INDEX(Backbone!$N$2:$N$893,MATCH(I65,Backbone!$A$2:$A$893,0))","v":8},null,{"$f":"INDEX(Backbone!$O$2:$O$893,MATCH(I65,Backbone!$A$2:$A$893,0))","v":7.2},null,{"$f":"INDEX(Backbone!$P$2:$P$893,MATCH(I65,Backbone!$A$2:$A$893,0))","v":8.5},null,{"$f":"INDEX(Backbone!$Q$2:$Q$893,MATCH(I65,Backbone!$A$2:$A$893,0))","v":0.76},null,null,{"$f":"(AG65*$AG$22+AI65*$AI$22+AK65*$AK$22+AM65*$AM$22+AO65*$AO$22+AQ65*$AQ$22+AS65*$AS$22+AU65*$AU$22+AW65*$AW$22)/(SUM($AG$22:$AW$22)*10)","v":{"$error":"#DIV/0!"}},null,null,"Go to \nToolbox: ",null,{"$f":"HYPERLINK(\"#\"&ADDRESS(MATCH(I65,Toolbox!$C$1:$C$300),1,,,\"Toolbox\"),VLOOKUP(I65,Toolbox!$C$1:$C$300,1,FALSE))","v":"Integrated Disease Surveillance and Response (IDSR)"}]
[]
[]
[]
[]
[]
[null,null,null,null,null,null,null,null,{"$f":"Backbone!A256","v":"Joint External Evaluation tool (JEE ) "},null,null,null,null,null,null,"The process of external evaluation of country capacity to prevent, detect and rapidly respond to public health threats available for WHO Member States.",null,null,null,null,null,null,null,null,{"$f":"INDEX(Backbone!$R$2:$R$893,MATCH(I71,Backbone!$A$2:$A$893,0))","v":"Guided/Facilitated tool or process"},null,null,null,{"$f":"INDEX(Backbone!$S$2:$S$893,MATCH(I71,Backbone!$A$2:$A$893,0))","v":"One Health; Generalized"},null,null,null,{"$f":"INDEX(Backbone!$H$2:$H$893,MATCH(I71,Backbone!$A$2:$A$893,0))","v":8.6999999999999993},null,{"$f":"INDEX(Backbone!$I$2:$I$893,MATCH(I71,Backbone!$A$2:$A$893,0))","v":10},null,{"$f":"INDEX(Backbone!$J$2:$J$893,MATCH(I71,Backbone!$A$2:$A$893,0))","v":7},null,{"$f":"INDEX(Backbone!$K$1:$K$893,MATCH(I71,Backbone!$A$1:$A$893,0))","v":6.3},null,{"$f":"INDEX(Backbone!$L$2:$L$893,MATCH(I71,Backbone!$A$2:$A$893,0))","v":7.7},null,{"$f":"INDEX(Backbone!$M$2:$M$893,MATCH(I71,Backbone!$A$2:$A$893,0))","v":4.7},null,{"$f":"INDEX(Backbone!$N$2:$N$893,MATCH(I71,Backbone!$A$2:$A$893,0))","v":6},null,{"$f":"INDEX(Backbone!$O$2:$O$893,MATCH(I71,Backbone!$A$2:$A$893,0))","v":9.5},null,{"$f":"INDEX(Backbone!$P$2:$P$893,MATCH(I71,Backbone!$A$2:$A$893,0))","v":10},null,{"$f":"INDEX(Backbone!$Q$2:$Q$893,MATCH(I71,Backbone!$A$2:$A$893,0))","v":0.77666666666666673},null,null,{"$f":"(AG71*$AG$22+AI71*$AI$22+AK71*$AK$22+AM71*$AM$22+AO71*$AO$22+AQ71*$AQ$22+AS71*$AS$22+AU71*$AU$22+AW71*$AW$22)/(SUM($AG$22:$AW$22)*10)","v":{"$error":"#DIV/0!"}},null,null,"Go to \nToolbox: ",null,{"$f":"HYPERLINK(\"#\"&ADDRESS(MATCH(I71,Toolbox!$C$1:$C$300),1,,,\"Toolbox\"),VLOOKUP(I71,Toolbox!$C$1:$C$300,1,FALSE))","v":"Joint External Evaluation tool (JEE ) "}]
[]
[]
[]
[]
[]
[null,null,null,null,null,null,null,null,{"$f":"Backbone!A291","v":"Methodology to analyse AMR-relevant legislation in the food and agriculture sector"},null,null,null,null,null,null,"A methodology designed to guide the analyses of national legislation relevant for AMR in the food and agriculture sectors.",null,null,null,null,null,null,null,null,{"$f":"INDEX(Backbone!$R$2:$R$893,MATCH(I77,Backbone!$A$2:$A$893,0))","v":"Guidance document"},null,null,null,{"$f":"INDEX(Backbone!$S$2:$S$893,MATCH(I77,Backbone!$A$2:$A$893,0))","v":"One Health; Generalized"},null,null,null,{"$f":"INDEX(Backbone!$H$2:$H$893,MATCH(I77,Backbone!$A$2:$A$893,0))","v":7.4},null,{"$f":"INDEX(Backbone!$I$2:$I$893,MATCH(I77,Backbone!$A$2:$A$893,0))","v":5.5},null,{"$f":"INDEX(Backbone!$J$2:$J$893,MATCH(I77,Backbone!$A$2:$A$893,0))","v":7.6},null,{"$f":"INDEX(Backbone!$K$1:$K$893,MATCH(I77,Backbone!$A$1:$A$893,0))","v":4},null,{"$f":"INDEX(Backbone!$L$2:$L$893,MATCH(I77,Backbone!$A$2:$A$893,0))","v":8.1999999999999993},null,{"$f":"INDEX(Backbone!$M$2:$M$893,MATCH(I77,Backbone!$A$2:$A$893,0))","v":4.5},null,{"$f":"INDEX(Backbone!$N$2:$N$893,MATCH(I77,Backbone!$A$2:$A$893,0))","v":4.5},null,{"$f":"INDEX(Backbone!$O$2:$O$893,MATCH(I77,Backbone!$A$2:$A$893,0))","v":6.6},null,{"$f":"INDEX(Backbone!$P$2:$P$893,MATCH(I77,Backbone!$A$2:$A$893,0))","v":4.5},null,{"$f":"INDEX(Backbone!$Q$2:$Q$893,MATCH(I77,Backbone!$A$2:$A$893,0))","v":0.58666666666666667},null,null,{"$f":"(AG77*$AG$22+AI77*$AI$22+AK77*$AK$22+AM77*$AM$22+AO77*$AO$22+AQ77*$AQ$22+AS77*$AS$22+AU77*$AU$22+AW77*$AW$22)/(SUM($AG$22:$AW$22)*10)","v":{"$error":"#DIV/0!"}},null,null,"Go to \nToolbox: ",null,{"$f":"HYPERLINK(\"#\"&ADDRESS(MATCH(I77,Toolbox!$C$1:$C$300),1,,,\"Toolbox\"),VLOOKUP(I77,Toolbox!$C$1:$C$300,1,FALSE))","v":"Methodology to analyse AMR-relevant legislation in the food and agriculture sector"}]
[]
[]
[]
[]
[]
[null,null,null,null,null,null,null,null,{"$f":"Backbone!A303","v":"National Action Plan for Health Security (NAPHS)"},null,null,null,null,null,null,"A country owned planning process that can accelerate the implementation of International Health Regulations (IHR) core capacities and is based on the One Health and wholeof-government approach for all hazards.",null,null,null,null,null,null,null,null,{"$f":"INDEX(Backbone!$R$2:$R$893,MATCH(I83,Backbone!$A$2:$A$893,0))","v":"Guidance document"},null,null,null,{"$f":"INDEX(Backbone!$S$2:$S$893,MATCH(I83,Backbone!$A$2:$A$893,0))","v":"One Health; Generalized"},null,null,null,{"$f":"INDEX(Backbone!$H$2:$H$893,MATCH(I83,Backbone!$A$2:$A$893,0))","v":8},null,{"$f":"INDEX(Backbone!$I$2:$I$893,MATCH(I83,Backbone!$A$2:$A$893,0))","v":9},null,{"$f":"INDEX(Backbone!$J$2:$J$893,MATCH(I83,Backbone!$A$2:$A$893,0))","v":7.8},null,{"$f":"INDEX(Backbone!$K$1:$K$893,MATCH(I83,Backbone!$A$1:$A$893,0))","v":10},null,{"$f":"INDEX(Backbone!$L$2:$L$893,MATCH(I83,Backbone!$A$2:$A$893,0))","v":8},null,{"$f":"INDEX(Backbone!$M$2:$M$893,MATCH(I83,Backbone!$A$2:$A$893,0))","v":4.5},null,{"$f":"INDEX(Backbone!$N$2:$N$893,MATCH(I83,Backbone!$A$2:$A$893,0))","v":10},null,{"$f":"INDEX(Backbone!$O$2:$O$893,MATCH(I83,Backbone!$A$2:$A$893,0))","v":10},null,{"$f":"INDEX(Backbone!$P$2:$P$893,MATCH(I83,Backbone!$A$2:$A$893,0))","v":10},null,{"$f":"INDEX(Backbone!$Q$2:$Q$893,MATCH(I83,Backbone!$A$2:$A$893,0))","v":0.85888888888888881},null,null,{"$f":"(AG83*$AG$22+AI83*$AI$22+AK83*$AK$22+AM83*$AM$22+AO83*$AO$22+AQ83*$AQ$22+AS83*$AS$22+AU83*$AU$22+AW83*$AW$22)/(SUM($AG$22:$AW$22)*10)","v":{"$error":"#DIV/0!"}},null,null,"Go to \nToolbox: ",null,{"$f":"HYPERLINK(\"#\"&ADDRESS(MATCH(I83,Toolbox!$C$1:$C$300),1,,,\"Toolbox\"),VLOOKUP(I83,Toolbox!$C$1:$C$300,1,FALSE))","v":"National Action Plan for Health Security (NAPHS)"}]
[]
[]
[]
[]
[]
[null,null,null,null,null,null,null,null,{"$f":"Backbone!A332","v":"Network for Evaluation of One Health (NEOH)"},null,null,null,null,null,null,"An Excel-based tool assessing the One Health-ness (or strength of One Health, OH) of a OH surveillance system. ",null,null,null,null,null,null,null,null,{"$f":"INDEX(Backbone!$R$2:$R$893,MATCH(I89,Backbone!$A$2:$A$893,0))","v":"Guidance document"},null,null,null,{"$f":"INDEX(Backbone!$S$2:$S$893,MATCH(I89,Backbone!$A$2:$A$893,0))","v":"One Health; Generalized"},null,null,null,{"$f":"INDEX(Backbone!$H$2:$H$893,MATCH(I89,Backbone!$A$2:$A$893,0))","v":8.3000000000000007},null,{"$f":"INDEX(Backbone!$I$2:$I$893,MATCH(I89,Backbone!$A$2:$A$893,0))","v":7.7},null,{"$f":"INDEX(Backbone!$J$2:$J$893,MATCH(I89,Backbone!$A$2:$A$893,0))","v":5.3},null,{"$f":"INDEX(Backbone!$K$1:$K$893,MATCH(I89,Backbone!$A$1:$A$893,0))","v":8.9},null,{"$f":"INDEX(Backbone!$L$2:$L$893,MATCH(I89,Backbone!$A$2:$A$893,0))","v":7.8},null,{"$f":"INDEX(Backbone!$M$2:$M$893,MATCH(I89,Backbone!$A$2:$A$893,0))","v":4.7},null,{"$f":"INDEX(Backbone!$N$2:$N$893,MATCH(I89,Backbone!$A$2:$A$893,0))","v":5.3},null,{"$f":"INDEX(Backbone!$O$2:$O$893,MATCH(I89,Backbone!$A$2:$A$893,0))","v":8},null,{"$f":"INDEX(Backbone!$P$2:$P$893,MATCH(I89,Backbone!$A$2:$A$893,0))","v":5.3},null,{"$f":"INDEX(Backbone!$Q$2:$Q$893,MATCH(I89,Backbone!$A$2:$A$893,0))","v":0.68111111111111111},null,null,{"$f":"(AG89*$AG$22+AI89*$AI$22+AK89*$AK$22+AM89*$AM$22+AO89*$AO$22+AQ89*$AQ$22+AS89*$AS$22+AU89*$AU$22+AW89*$AW$22)/(SUM($AG$22:$AW$22)*10)","v":{"$error":"#DIV/0!"}},null,null,"Go to \nToolbox: ",null,{"$f":"HYPERLINK(\"#\"&ADDRESS(MATCH(I89,Toolbox!$C$1:$C$300),1,,,\"Toolbox\"),VLOOKUP(I89,Toolbox!$C$1:$C$300,1,FALSE))","v":"Network for Evaluation of One Health (NEOH)"}]
[]
[]
[]
[]
[]
[null,null,null,null,null,null,null,null,{"$f":"Backbone!A420","v":"World Organisation for Animal Health (WOAH) PVS Gap Analysis"},null,null,null,null,null,null,"Supports countries in detailed planning based on their PVS Evaluation results.",null,null,null,null,null,null,null,null,{"$f":"INDEX(Backbone!$R$2:$R$893,MATCH(I95,Backbone!$A$2:$A$893,0))","v":"Guided/Facilitated tool or process"},null,null,null,{"$f":"INDEX(Backbone!$S$2:$S$893,MATCH(I95,Backbone!$A$2:$A$893,0))","v":"Sector Specific; Generalized"},null,null,null,{"$f":"INDEX(Backbone!$H$2:$H$893,MATCH(I95,Backbone!$A$2:$A$893,0))","v":6.8},null,{"$f":"INDEX(Backbone!$I$2:$I$893,MATCH(I95,Backbone!$A$2:$A$893,0))","v":8},null,{"$f":"INDEX(Backbone!$J$2:$J$893,MATCH(I95,Backbone!$A$2:$A$893,0))","v":5.6},null,{"$f":"INDEX(Backbone!$K$1:$K$893,MATCH(I95,Backbone!$A$1:$A$893,0))","v":10},null,{"$f":"INDEX(Backbone!$L$2:$L$893,MATCH(I95,Backbone!$A$2:$A$893,0))","v":6},null,{"$f":"INDEX(Backbone!$M$2:$M$893,MATCH(I95,Backbone!$A$2:$A$893,0))","v":4.3},null,{"$f":"INDEX(Backbone!$N$2:$N$893,MATCH(I95,Backbone!$A$2:$A$893,0))","v":9.5},null,{"$f":"INDEX(Backbone!$O$2:$O$893,MATCH(I95,Backbone!$A$2:$A$893,0))","v":4.7},null,{"$f":"INDEX(Backbone!$P$2:$P$893,MATCH(I95,Backbone!$A$2:$A$893,0))","v":7},null,{"$f":"INDEX(Backbone!$Q$2:$Q$893,MATCH(I95,Backbone!$A$2:$A$893,0))","v":0.68777777777777771},null,null,{"$f":"(AG95*$AG$22+AI95*$AI$22+AK95*$AK$22+AM95*$AM$22+AO95*$AO$22+AQ95*$AQ$22+AS95*$AS$22+AU95*$AU$22+AW95*$AW$22)/(SUM($AG$22:$AW$22)*10)","v":{"$error":"#DIV/0!"}},null,null,"Go to \nToolbox: ",null,{"$f":"HYPERLINK(\"#\"&ADDRESS(MATCH(I95,Toolbox!$C$1:$C$300),1,,,\"Toolbox\"),VLOOKUP(I95,Toolbox!$C$1:$C$300,1,FALSE))","v":"World Organisation for Animal Health (WOAH) PVS Gap Analysis"}]
[]
[]
[]
[]
[]
[null,null,null,null,null,null,null,null,{"$f":"Backbone!A643","v":"One Health Strategic Plan Development"},null,null,null,null,null,null,"This toolkit guides through the step-by-step process of developing a national One Health Strategic Plan, using a participatory, stakeholder-driven approach.",null,null,null,null,null,null,null,null,{"$f":"INDEX(Backbone!$R$2:$R$893,MATCH(I101,Backbone!$A$2:$A$893,0))","v":"Guidance document"},null,null,null,{"$f":"INDEX(Backbone!$S$2:$S$893,MATCH(I101,Backbone!$A$2:$A$893,0))","v":"One Health; Generalized"},null,null,null,{"$f":"INDEX(Backbone!$H$2:$H$893,MATCH(I101,Backbone!$A$2:$A$893,0))","v":8.4},null,{"$f":"INDEX(Backbone!$I$2:$I$893,MATCH(I101,Backbone!$A$2:$A$893,0))","v":8},null,{"$f":"INDEX(Backbone!$J$2:$J$893,MATCH(I101,Backbone!$A$2:$A$893,0))","v":8.4},null,{"$f":"INDEX(Backbone!$K$1:$K$893,MATCH(I101,Backbone!$A$1:$A$893,0))","v":6.7},null,{"$f":"INDEX(Backbone!$L$2:$L$893,MATCH(I101,Backbone!$A$2:$A$893,0))","v":2},null,{"$f":"INDEX(Backbone!$M$2:$M$893,MATCH(I101,Backbone!$A$2:$A$893,0))","v":3.5},null,{"$f":"INDEX(Backbone!$N$2:$N$893,MATCH(I101,Backbone!$A$2:$A$893,0))","v":4},null,{"$f":"INDEX(Backbone!$O$2:$O$893,MATCH(I101,Backbone!$A$2:$A$893,0))","v":6.4},null,{"$f":"INDEX(Backbone!$P$2:$P$893,MATCH(I101,Backbone!$A$2:$A$893,0))","v":8},null,{"$f":"INDEX(Backbone!$Q$2:$Q$893,MATCH(I101,Backbone!$A$2:$A$893,0))","v":0.61555555555555552},null,null,{"$f":"(AG101*$AG$22+AI101*$AI$22+AK101*$AK$22+AM101*$AM$22+AO101*$AO$22+AQ101*$AQ$22+AS101*$AS$22+AU101*$AU$22+AW101*$AW$22)/(SUM($AG$22:$AW$22)*10)","v":{"$error":"#DIV/0!"}},null,null,"Go to \nToolbox: ",null,{"$f":"HYPERLINK(\"#\"&ADDRESS(MATCH(I101,Toolbox!$C$1:$C$300),1,,,\"Toolbox\"),VLOOKUP(I101,Toolbox!$C$1:$C$300,1,FALSE))","v":"One Health Strategic Plan Development"}]
[]
[]
[]
[]
[]
[null,null,null,null,null,null,null,null,{"$f":"Backbone!A413","v":"One Health Systems Mapping and Analysis Resource Toolkit (OH-SMART)"},null,null,null,null,null,null,"A six-step process that supports stakeholders from multiple sectors to map, analyze and improve any existing system that requires interdisciplinary and multisectoral collaboration.",null,null,null,null,null,null,null,null,{"$f":"INDEX(Backbone!$R$2:$R$893,MATCH(I107,Backbone!$A$2:$A$893,0))","v":"Guided/Facilitated tool or process"},null,null,null,{"$f":"INDEX(Backbone!$S$2:$S$893,MATCH(I107,Backbone!$A$2:$A$893,0))","v":"One Health; Generalized"},null,null,null,{"$f":"INDEX(Backbone!$H$2:$H$893,MATCH(I107,Backbone!$A$2:$A$893,0))","v":8.6999999999999993},null,{"$f":"INDEX(Backbone!$I$2:$I$893,MATCH(I107,Backbone!$A$2:$A$893,0))","v":7.3},null,{"$f":"INDEX(Backbone!$J$2:$J$893,MATCH(I107,Backbone!$A$2:$A$893,0))","v":8.4},null,{"$f":"INDEX(Backbone!$K$1:$K$893,MATCH(I107,Backbone!$A$1:$A$893,0))","v":9.3000000000000007},null,{"$f":"INDEX(Backbone!$L$2:$L$893,MATCH(I107,Backbone!$A$2:$A$893,0))","v":8.1999999999999993},null,{"$f":"INDEX(Backbone!$M$2:$M$893,MATCH(I107,Backbone!$A$2:$A$893,0))","v":7.4},null,{"$f":"INDEX(Backbone!$N$2:$N$893,MATCH(I107,Backbone!$A$2:$A$893,0))","v":9.5},null,{"$f":"INDEX(Backbone!$O$2:$O$893,MATCH(I107,Backbone!$A$2:$A$893,0))","v":10},null,{"$f":"INDEX(Backbone!$P$2:$P$893,MATCH(I107,Backbone!$A$2:$A$893,0))","v":10},null,{"$f":"INDEX(Backbone!$Q$2:$Q$893,MATCH(I107,Backbone!$A$2:$A$893,0))","v":0.87555555555555564},null,null,{"$f":"(AG107*$AG$22+AI107*$AI$22+AK107*$AK$22+AM107*$AM$22+AO107*$AO$22+AQ107*$AQ$22+AS107*$AS$22+AU107*$AU$22+AW107*$AW$22)/(SUM($AG$22:$AW$22)*10)","v":{"$error":"#DIV/0!"}},null,null,"Go to \nToolbox: ",null,{"$f":"HYPERLINK(\"#\"&ADDRESS(MATCH(I107,Toolbox!$C$1:$C$300),1,,,\"Toolbox\"),VLOOKUP(I107,Toolbox!$C$1:$C$300,1,FALSE))","v":"One Health Systems Mapping and Analysis Resource Toolkit (OH-SMART)"}]
[]
[]
[]
[]
[]
[null,null,null,null,null,null,null,null,{"$f":"Backbone!A557","v":"Staged Tool for the Elimination of Brucellosis (STEB)"},null,null,null,null,null,null,"A spreadsheet-based self-assessment tool developed to assist countries in evaluating their current capacity to prevent, control and eliminate brucellosis.",null,null,null,null,null,null,null,null,{"$f":"INDEX(Backbone!$R$2:$R$893,MATCH(I113,Backbone!$A$2:$A$893,0))","v":"Guided/Facilitated tool or process"},null,null,null,{"$f":"INDEX(Backbone!$S$2:$S$893,MATCH(I113,Backbone!$A$2:$A$893,0))","v":"One Health; Disease/Threat Specific "},null,null,null,{"$f":"INDEX(Backbone!$H$2:$H$893,MATCH(I113,Backbone!$A$2:$A$893,0))","v":9},null,{"$f":"INDEX(Backbone!$I$2:$I$893,MATCH(I113,Backbone!$A$2:$A$893,0))","v":10},null,{"$f":"INDEX(Backbone!$J$2:$J$893,MATCH(I113,Backbone!$A$2:$A$893,0))","v":7.6},null,{"$f":"INDEX(Backbone!$K$1:$K$893,MATCH(I113,Backbone!$A$1:$A$893,0))","v":3.7},null,{"$f":"INDEX(Backbone!$L$2:$L$893,MATCH(I113,Backbone!$A$2:$A$893,0))","v":5.7},null,{"$f":"INDEX(Backbone!$M$2:$M$893,MATCH(I113,Backbone!$A$2:$A$893,0))","v":7.3},null,{"$f":"INDEX(Backbone!$N$2:$N$893,MATCH(I113,Backbone!$A$2:$A$893,0))","v":7},null,{"$f":"INDEX(Backbone!$O$2:$O$893,MATCH(I113,Backbone!$A$2:$A$893,0))","v":8.6},null,{"$f":"INDEX(Backbone!$P$2:$P$893,MATCH(I113,Backbone!$A$2:$A$893,0))","v":8},null,{"$f":"INDEX(Backbone!$Q$2:$Q$893,MATCH(I113,Backbone!$A$2:$A$893,0))","v":0.7433333333333334},null,null,{"$f":"(AG113*$AG$22+AI113*$AI$22+AK113*$AK$22+AM113*$AM$22+AO113*$AO$22+AQ113*$AQ$22+AS113*$AS$22+AU113*$AU$22+AW113*$AW$22)/(SUM($AG$22:$AW$22)*10)","v":{"$error":"#DIV/0!"}},null,null,"Go to \nToolbox: ",null,{"$f":"HYPERLINK(\"#\"&ADDRESS(MATCH(I113,Toolbox!$C$1:$C$300),1,,,\"Toolbox\"),VLOOKUP(I113,Toolbox!$C$1:$C$300,1,FALSE))","v":"Staged Tool for the Elimination of Brucellosis (STEB)"}]
[]
[]
[]
[]
[]
[null,null,null,null,null,null,null,null,{"$f":"Backbone!A453","v":"Stepwise Approach towards Rabies Elimination (SARE)"},null,null,null,null,null,null,"A practical planning, monitoring and evaluation tool to guide, develop and refine rabies control programmes.",null,null,null,null,null,null,null,null,{"$f":"INDEX(Backbone!$R$2:$R$893,MATCH(I119,Backbone!$A$2:$A$893,0))","v":"Self-assessment tool"},null,null,null,{"$f":"INDEX(Backbone!$S$2:$S$893,MATCH(I119,Backbone!$A$2:$A$893,0))","v":"One Health; Disease/Threat Specific "},null,null,null,{"$f":"INDEX(Backbone!$H$2:$H$893,MATCH(I119,Backbone!$A$2:$A$893,0))","v":8},null,{"$f":"INDEX(Backbone!$I$2:$I$893,MATCH(I119,Backbone!$A$2:$A$893,0))","v":9},null,{"$f":"INDEX(Backbone!$J$2:$J$893,MATCH(I119,Backbone!$A$2:$A$893,0))","v":6.6},null,{"$f":"INDEX(Backbone!$K$1:$K$893,MATCH(I119,Backbone!$A$1:$A$893,0))","v":3.3},null,{"$f":"INDEX(Backbone!$L$2:$L$893,MATCH(I119,Backbone!$A$2:$A$893,0))","v":5.7},null,{"$f":"INDEX(Backbone!$M$2:$M$893,MATCH(I119,Backbone!$A$2:$A$893,0))","v":6.8},null,{"$f":"INDEX(Backbone!$N$2:$N$893,MATCH(I119,Backbone!$A$2:$A$893,0))","v":8},null,{"$f":"INDEX(Backbone!$O$2:$O$893,MATCH(I119,Backbone!$A$2:$A$893,0))","v":8.6},null,{"$f":"INDEX(Backbone!$P$2:$P$893,MATCH(I119,Backbone!$A$2:$A$893,0))","v":9.5},null,{"$f":"INDEX(Backbone!$Q$2:$Q$893,MATCH(I119,Backbone!$A$2:$A$893,0))","v":0.72777777777777775},null,null,{"$f":"(AG119*$AG$22+AI119*$AI$22+AK119*$AK$22+AM119*$AM$22+AO119*$AO$22+AQ119*$AQ$22+AS119*$AS$22+AU119*$AU$22+AW119*$AW$22)/(SUM($AG$22:$AW$22)*10)","v":{"$error":"#DIV/0!"}},null,null,"Go to \nToolbox: ",null,{"$f":"HYPERLINK(\"#\"&ADDRESS(MATCH(I119,Toolbox!$C$1:$C$300),1,,,\"Toolbox\"),VLOOKUP(I119,Toolbox!$C$1:$C$300,1,FALSE))","v":"Stepwise Approach towards Rabies Elimination (SARE)"}]
[]
[]
[]
[]
[]
[null,null,null,null,null,null,null,null,{"$f":"Backbone!A367","v":"The One Health Systems Assessment for Priority Zoonoses (OH-SAPZ)"},null,null,null,null,null,null,"A tool is aimed to facilitate a systematic assessment of national structures for One Health coordination with respect to preventing, detecting, and responding to zoonotic diseases.",null,null,null,null,null,null,null,null,{"$f":"INDEX(Backbone!$R$2:$R$893,MATCH(I125,Backbone!$A$2:$A$893,0))","v":"Self-assessment tool"},null,null,null,{"$f":"INDEX(Backbone!$S$2:$S$893,MATCH(I125,Backbone!$A$2:$A$893,0))","v":"One Health; Generalized"},null,null,null,{"$f":"INDEX(Backbone!$H$2:$H$893,MATCH(I125,Backbone!$A$2:$A$893,0))","v":7.9},null,{"$f":"INDEX(Backbone!$I$2:$I$893,MATCH(I125,Backbone!$A$2:$A$893,0))","v":7.3},null,{"$f":"INDEX(Backbone!$J$2:$J$893,MATCH(I125,Backbone!$A$2:$A$893,0))","v":7.2},null,{"$f":"INDEX(Backbone!$K$1:$K$893,MATCH(I125,Backbone!$A$1:$A$893,0))","v":7.8},null,{"$f":"INDEX(Backbone!$L$2:$L$893,MATCH(I125,Backbone!$A$2:$A$893,0))","v":6.5},null,{"$f":"INDEX(Backbone!$M$2:$M$893,MATCH(I125,Backbone!$A$2:$A$893,0))","v":5.2},null,{"$f":"INDEX(Backbone!$N$2:$N$893,MATCH(I125,Backbone!$A$2:$A$893,0))","v":4},null,{"$f":"INDEX(Backbone!$O$2:$O$893,MATCH(I125,Backbone!$A$2:$A$893,0))","v":8.3000000000000007},null,{"$f":"INDEX(Backbone!$P$2:$P$893,MATCH(I125,Backbone!$A$2:$A$893,0))","v":9.6999999999999993},null,{"$f":"INDEX(Backbone!$Q$2:$Q$893,MATCH(I125,Backbone!$A$2:$A$893,0))","v":0.71000000000000008},null,null,{"$f":"(AG125*$AG$22+AI125*$AI$22+AK125*$AK$22+AM125*$AM$22+AO125*$AO$22+AQ125*$AQ$22+AS125*$AS$22+AU125*$AU$22+AW125*$AW$22)/(SUM($AG$22:$AW$22)*10)","v":{"$error":"#DIV/0!"}},null,null,"Go to \nToolbox: ",null,{"$f":"HYPERLINK(\"#\"&ADDRESS(MATCH(I125,Toolbox!$C$1:$C$300),1,,,\"Toolbox\"),VLOOKUP(I125,Toolbox!$C$1:$C$300,1,FALSE))","v":"The One Health Systems Assessment for Priority Zoonoses (OH-SAPZ)"}]
[]
[]
[]
[]
[]
[null,null,null,null,null,null,null,null,{"$f":"Backbone!A592","v":"WHO CHOICE"},null,null,null,null,null,null," A program that helps countries decide health system priorities based on considerations of costs and impacts.",null,null,null,null,null,null,null,null,{"$f":"INDEX(Backbone!$R$2:$R$893,MATCH(I131,Backbone!$A$2:$A$893,0))","v":"Self-assessment tool"},null,null,null,{"$f":"INDEX(Backbone!$S$2:$S$893,MATCH(I131,Backbone!$A$2:$A$893,0))","v":"Sector Specific; Generalized"},null,null,null,{"$f":"INDEX(Backbone!$H$2:$H$893,MATCH(I131,Backbone!$A$2:$A$893,0))","v":9.6},null,{"$f":"INDEX(Backbone!$I$2:$I$893,MATCH(I131,Backbone!$A$2:$A$893,0))","v":8},null,{"$f":"INDEX(Backbone!$J$2:$J$893,MATCH(I131,Backbone!$A$2:$A$893,0))","v":7.4},null,{"$f":"INDEX(Backbone!$K$1:$K$893,MATCH(I131,Backbone!$A$1:$A$893,0))","v":5.3},null,{"$f":"INDEX(Backbone!$L$2:$L$893,MATCH(I131,Backbone!$A$2:$A$893,0))","v":7.3},null,{"$f":"INDEX(Backbone!$M$2:$M$893,MATCH(I131,Backbone!$A$2:$A$893,0))","v":5},null,{"$f":"INDEX(Backbone!$N$2:$N$893,MATCH(I131,Backbone!$A$2:$A$893,0))","v":8.5},null,{"$f":"INDEX(Backbone!$O$2:$O$893,MATCH(I131,Backbone!$A$2:$A$893,0))","v":5},null,{"$f":"INDEX(Backbone!$P$2:$P$893,MATCH(I131,Backbone!$A$2:$A$893,0))","v":9},null,{"$f":"INDEX(Backbone!$Q$2:$Q$893,MATCH(I131,Backbone!$A$2:$A$893,0))","v":0.72333333333333327},null,null,{"$f":"(AG131*$AG$22+AI131*$AI$22+AK131*$AK$22+AM131*$AM$22+AO131*$AO$22+AQ131*$AQ$22+AS131*$AS$22+AU131*$AU$22+AW131*$AW$22)/(SUM($AG$22:$AW$22)*10)","v":{"$error":"#DIV/0!"}},null,null,"Go to \nToolbox: ",null,{"$f":"HYPERLINK(\"#\"&ADDRESS(MATCH(I131,Toolbox!$C$1:$C$300),1,,,\"Toolbox\"),VLOOKUP(I131,Toolbox!$C$1:$C$300,1,FALSE))","v":"WHO CHOICE"}]
[]
[]
[]
[]
[]
[]
[]
[]
[]
[]
[]
[]
[]
[]
[]
[]
[]
[]
[]
[null,"LEVEL 2 RESOURCES"]
[]
[]
[]
[]
[null,null,null,null,null,null,null,null,null,null,null,null,null,null,null,null,null,null,null,null,null,null,null,null,null,null,null,null,null,null,null,null,"Accessibility",null,"Language",null,"Ease of use",null,"Flexibility",null,"Data Needs",null,"Data Analysis",null,"Acceptability",null,"One Health",null,"Impact"]
[]
[]
[]
[]
[]
[]
[null,null,null,null,null,null,null,null,null,null,null,null,null,null,null,null,null,null,null,null,null,null,null,null,null,null,null,null,null,null,null,null,null,null,null,null,null,null,null,null,null,null,null,null,null,null,null,null,null,null,"RAW SCORE",null,null,"ADJUSTED SCORE \n(Based on user preferences)"]
[]
[]
[]
[null,null,null,"DESIGNATION",null,null,null,null,"RESOURCE NAME",null,null,null,null,null,null,"SHORT DESCRIPTION",null,null,null,null,null,null,null,null,"RESOURCE TYPE",null,null,null,"RESOURCE GENERALITY"]
[]
[]
[]
[null,null,null,null,null,null,null,null,null,null,null,null,null,null,null,null,null,null,null,null,null,null,null,null,null,null,null,null,null,null,null,null,{"$f":"'Attribute Survey'!S130","v":0},null,{"$f":"'Attribute Survey'!S134","v":0},null,{"$f":"'Attribute Survey'!S138","v":0},null,{"$f":"'Attribute Survey'!S142","v":0},null,{"$f":"'Attribute Survey'!S146","v":0},null,{"$f":"'Attribute Survey'!S150","v":0},null,{"$f":"'Attribute Survey'!S154","v":0},null,{"$f":"'Attribute Survey'!S158","v":0},null,{"$f":"'Attribute Survey'!S162","v":0}]
[null,null,null,"Other Relevant Resources",null,null,null,null,{"$f":"Backbone!A643","v":"One Health Strategic Plan Development"},null,null,null,null,null,null,"This toolkit guides through the step-by-step process of developing a national One Health Strategic Plan, using a participatory, stakeholder-driven approach.",null,null,null,null,null,null,null,null,{"$f":"INDEX(Backbone!$R$2:$R$893,MATCH(I172,Backbone!$A$2:$A$893,0))","v":"Guidance document"},null,null,null,{"$f":"INDEX(Backbone!$S$2:$S$893,MATCH(I172,Backbone!$A$2:$A$893,0))","v":"One Health; Generalized"},null,null,null,{"$f":"INDEX(Backbone!$H$2:$H$893,MATCH(I172,Backbone!$A$2:$A$893,0))","v":8.4},null,{"$f":"INDEX(Backbone!$I$2:$I$893,MATCH(I172,Backbone!$A$2:$A$893,0))","v":8},null,{"$f":"INDEX(Backbone!$J$2:$J$893,MATCH(I172,Backbone!$A$2:$A$893,0))","v":8.4},null,{"$f":"INDEX(Backbone!$K$1:$K$893,MATCH(I172,Backbone!$A$1:$A$893,0))","v":6.7},null,{"$f":"INDEX(Backbone!$L$2:$L$893,MATCH(I172,Backbone!$A$2:$A$893,0))","v":2},null,{"$f":"INDEX(Backbone!$M$2:$M$893,MATCH(I172,Backbone!$A$2:$A$893,0))","v":3.5},null,{"$f":"INDEX(Backbone!$N$2:$N$893,MATCH(I172,Backbone!$A$2:$A$893,0))","v":4},null,{"$f":"INDEX(Backbone!$O$2:$O$893,MATCH(I172,Backbone!$A$2:$A$893,0))","v":6.4},null,{"$f":"INDEX(Backbone!$P$2:$P$893,MATCH(I172,Backbone!$A$2:$A$893,0))","v":8},null,{"$f":"INDEX(Backbone!$Q$2:$Q$893,MATCH(I172,Backbone!$A$2:$A$893,0))","v":0.61555555555555552},null,null,{"$f":"(AG172*$AG$22+AI172*$AI$22+AK172*$AK$22+AM172*$AM$22+AO172*$AO$22+AQ172*$AQ$22+AS172*$AS$22+AU172*$AU$22+AW172*$AW$22)/(SUM($AG$22:$AW$22)*10)","v":{"$error":"#DIV/0!"}},null,null,"Go to \nToolbox: ",null,{"$f":"HYPERLINK(\"#\"&ADDRESS(MATCH(I172,Toolbox!$C$1:$C$300),1,,,\"Toolbox\"),VLOOKUP(I172,Toolbox!$C$1:$C$300,1,FALSE))","v":"One Health Strategic Plan Development"}]
[]
[]
[]
[]
[]
[]
[]
[]
[]
[]
[]
[]
[]
[]
[]
[]
[]
[]
[]
[]
[]
[]
[]
[]
[null,null,null,null,null,null,null,null,null,null,null,null,null,null,null,null,null,null,null,null,null,null,null,null,null,null,null,null,null,null,null,null,"Accessibility",null,"Language",null,"Ease of use",null,"Flexibility",null,"Data Needs",null,"Data Analysis",null,"Acceptability",null,"One Health",null,"Impact"]
[]
[]
[]
[null,"LEVEL 3  RESOURCES"]
[]
[]
[null,null,null,null,null,null,null,null,null,null,null,null,null,null,null,null,null,null,null,null,null,null,null,null,null,null,null,null,null,null,null,null,null,null,null,null,null,null,null,null,null,null,null,null,null,null,null,null,null,null,"RAW SCORE",null,null,"ADJUSTED SCORE \n(Based on user preferences)"]
[]
[]
[]
[null,null,null,"DESIGNATION",null,null,null,null,"RESOURCE NAME",null,null,null,null,null,null,"SHORT DESCRIPTION",null,null,null,null,null,null,null,null,"RESOURCE TYPE",null,null,null,"RESOURCE GENERALITY"]
[]
[]
[]
[null,null,null,null,null,null,null,null,null,null,null,null,null,null,null,null,null,null,null,null,null,null,null,null,null,null,null,null,null,null,null,null,{"$f":"'Attribute Survey'!S231","v":0},null,{"$f":"'Attribute Survey'!S235","v":0},null,{"$f":"'Attribute Survey'!S239","v":0},null,{"$f":"'Attribute Survey'!S243","v":0},null,{"$f":"'Attribute Survey'!S247","v":0},null,{"$f":"'Attribute Survey'!S251","v":0},null,{"$f":"'Attribute Survey'!S255","v":0},null,{"$f":"'Attribute Survey'!S259","v":0},null,{"$f":"'Attribute Survey'!S263","v":0}]
[null,null,null,"Other Relevant Resources",null,null,null,null,{"$f":"Backbone!A61","v":"Cross Border Multisectoral Communication and Coordination Strategies"},null,null,null,null,null,null,"A workshop guiding stakeholders through the process of determining sector specific information sharing mechanisms, and creating multi-sectoral or cross-border information sharing mechanisms",null,null,null,null,null,null,null,null,{"$f":"INDEX(Backbone!$R$2:$R$893,MATCH(I213,Backbone!$A$2:$A$893,0))","v":"Guided/Facilitated tool or process"},null,null,null,{"$f":"INDEX(Backbone!$S$2:$S$893,MATCH(I213,Backbone!$A$2:$A$893,0))","v":"One Health; Generalized "},null,null,null,{"$f":"INDEX(Backbone!$H$2:$H$893,MATCH(I213,Backbone!$A$2:$A$893,0))","v":8.9},null,{"$f":"INDEX(Backbone!$I$2:$I$893,MATCH(I213,Backbone!$A$2:$A$893,0))","v":6},null,{"$f":"INDEX(Backbone!$J$2:$J$893,MATCH(I213,Backbone!$A$2:$A$893,0))","v":7.6},null,{"$f":"INDEX(Backbone!$K$1:$K$893,MATCH(I213,Backbone!$A$1:$A$893,0))","v":9},null,{"$f":"INDEX(Backbone!$L$2:$L$893,MATCH(I213,Backbone!$A$2:$A$893,0))","v":5.6},null,{"$f":"INDEX(Backbone!$M$2:$M$893,MATCH(I213,Backbone!$A$2:$A$893,0))","v":3.5},null,{"$f":"INDEX(Backbone!$N$2:$N$893,MATCH(I213,Backbone!$A$2:$A$893,0))","v":4},null,{"$f":"INDEX(Backbone!$O$2:$O$893,MATCH(I213,Backbone!$A$2:$A$893,0))","v":8.3000000000000007},null,{"$f":"INDEX(Backbone!$P$2:$P$893,MATCH(I213,Backbone!$A$2:$A$893,0))","v":8},null,{"$f":"INDEX(Backbone!$Q$2:$Q$893,MATCH(I213,Backbone!$A$2:$A$893,0))","v":0.67666666666666675},null,null,{"$f":"(AG213*$AG$22+AI213*$AI$22+AK213*$AK$22+AM213*$AM$22+AO213*$AO$22+AQ213*$AQ$22+AS213*$AS$22+AU213*$AU$22+AW213*$AW$22)/(SUM($AG$22:$AW$22)*10)","v":{"$error":"#DIV/0!"}},null,null,"Go to \nToolbox: ",null,{"$f":"HYPERLINK(\"#\"&ADDRESS(MATCH(I213,Toolbox!$C$1:$C$300),1,,,\"Toolbox\"),VLOOKUP(I213,Toolbox!$C$1:$C$300,1,FALSE))","v":"Cross Border Multisectoral Communication and Coordination Strategies"}]
[]
[]
[]
[]
[]
[null,null,null,null,null,null,null,null,{"$f":"Backbone!A643","v":"One Health Strategic Plan Development"},null,null,null,null,null,null,"This toolkit guides through the step-by-step process of developing a national One Health Strategic Plan, using a participatory, stakeholder-driven approach",null,null,null,null,null,null,null,null,{"$f":"INDEX(Backbone!$R$2:$R$893,MATCH(I219,Backbone!$A$2:$A$893,0))","v":"Guidance document"},null,null,null,{"$f":"INDEX(Backbone!$S$2:$S$893,MATCH(I219,Backbone!$A$2:$A$893,0))","v":"One Health; Generalized"},null,null,null,{"$f":"INDEX(Backbone!$H$2:$H$893,MATCH(I219,Backbone!$A$2:$A$893,0))","v":8.4},null,{"$f":"INDEX(Backbone!$I$2:$I$893,MATCH(I219,Backbone!$A$2:$A$893,0))","v":8},null,{"$f":"INDEX(Backbone!$J$2:$J$893,MATCH(I219,Backbone!$A$2:$A$893,0))","v":8.4},null,{"$f":"INDEX(Backbone!$K$1:$K$893,MATCH(I219,Backbone!$A$1:$A$893,0))","v":6.7},null,{"$f":"INDEX(Backbone!$L$2:$L$893,MATCH(I219,Backbone!$A$2:$A$893,0))","v":2},null,{"$f":"INDEX(Backbone!$M$2:$M$893,MATCH(I219,Backbone!$A$2:$A$893,0))","v":3.5},null,{"$f":"INDEX(Backbone!$N$2:$N$893,MATCH(I219,Backbone!$A$2:$A$893,0))","v":4},null,{"$f":"INDEX(Backbone!$O$2:$O$893,MATCH(I219,Backbone!$A$2:$A$893,0))","v":6.4},null,{"$f":"INDEX(Backbone!$P$2:$P$893,MATCH(I219,Backbone!$A$2:$A$893,0))","v":8},null,{"$f":"INDEX(Backbone!$Q$2:$Q$893,MATCH(I219,Backbone!$A$2:$A$893,0))","v":0.61555555555555552},null,null,{"$f":"(AG219*$AG$22+AI219*$AI$22+AK219*$AK$22+AM219*$AM$22+AO219*$AO$22+AQ219*$AQ$22+AS219*$AS$22+AU219*$AU$22+AW219*$AW$22)/(SUM($AG$22:$AW$22)*10)","v":{"$error":"#DIV/0!"}},null,null,"Go to \nToolbox: ",null,{"$f":"HYPERLINK(\"#\"&ADDRESS(MATCH(I219,Toolbox!$C$1:$C$300),1,,,\"Toolbox\"),VLOOKUP(I219,Toolbox!$C$1:$C$300,1,FALSE))","v":"One Health Strategic Plan Development"}]

{"sheet":"P4_tools","index":41,"n_rows":221,"n_cols":59,"rows_kept":221,"cut":false,"hidden":false,"merged":[[113,56,117,57],[113,58,117,62],[23,3,129,6],[17,1,131,1],[214,3,224,6],[207,3,211,6],[166,3,176,6],[161,1,184,1],[161,3,164,6],[202,1,228,1],[95,42,99,42],[95,44,99,44],[95,46,99,46],[95,48,99,48],[95,50,99,51],[95,53,99,54],[95,56,99,57],[95,58,99,62],[113,8,117,13],[113,15,117,22],[113,24,117,26],[113,28,117,30],[113,32,117,32],[113,34,117,34],[113,44,117,44],[113,46,117,46],[113,48,117,48],[113,50,117,51],[95,8,99,13],[95,15,99,22],[95,24,99,26],[95,28,99,30],[95,32,99,32],[95,34,99,34],[95,36,99,36],[95,38,99,38],[95,40,99,40],[101,48,105,48],[101,50,105,51],[220,56,224,57],[220,58,224,62],[125,56,129,57],[125,58,129,62],[166,56,170,57],[166,58,170,62],[172,56,176,57],[172,58,176,62],[207,56,211,57],[207,58,211,62],[214,56,218,57],[214,58,218,62],[71,56,75,57],[71,58,75,62],[83,56,87,57],[83,58,87,62],[89,56,93,57],[89,58,93,62],[101,56,105,57],[101,58,105,62],[107,56,111,57],[107,58,111,62],[65,56,69,57],[65,58,69,62],[6,32,20,32],[6,34,20,34],[6,36,20,36],[6,38,20,38],[6,40,20,40],[6,42,20,42],[6,44,20,44],[6,46,20,46],[6,48,20,48],[13,50,20,51],[13,53,20,54],[35,53,39,54],[29,44,33,44],[29,46,33,46],[29,48,33,48],[29,50,33,51],[29,53,33,54],[29,56,33,57],[29,58,33,62],[41,56,45,57],[41,58,45,62],[47,46,51,46],[59,8,63,13],[59,15,63,22],[59,24,63,26],[1,1,3,62],[23,56,27,57],[23,58,27,62],[35,56,39,57],[35,58,39,62],[59,56,63,57],[59,58,63,62],[17,3,20,6],[17,8,20,13],[17,15,20,22],[47,44,51,44],[17,24,20,26],[17,28,20,30],[23,8,27,13],[23,50,27,51],[23,53,27,54],[35,8,39,13],[35,15,39,22],[23,44,27,44],[23,46,27,46],[23,48,27,48],[23,15,27,22],[23,24,27,26],[23,28,27,30],[23,32,27,32],[23,34,27,34],[23,36,27,36],[23,38,27,38],[23,40,27,40],[23,42,27,42],[71,40,75,40],[71,42,75,42],[71,44,75,44],[71,46,75,46],[71,48,75,48],[35,46,39,46],[35,48,39,48],[35,50,39,51],[35,24,39,26],[35,28,39,30],[35,32,39,32],[35,34,39,34],[35,36,39,36],[35,38,39,38],[59,28,63,30],[59,32,63,32],[59,34,63,34],[59,36,63,36],[59,38,63,38],[59,40,63,40],[35,40,39,40],[35,42,39,42],[35,44,39,44],[53,42,57,42],[71,38,75,38],[65,48,69,48],[65,50,69,51],[65,53,69,54],[71,8,75,13],[71,15,75,22],[71,24,75,26],[71,28,75,30],[71,32,75,32],[71,34,75,34],[71,36,75,36],[65,36,69,36],[65,38,69,38],[65,40,69,40],[65,42,69,42],[65,44,69,44],[65,46,69,46],[65,8,69,13],[65,15,69,22],[65,24,69,26],[65,28,69,30],[65,32,69,32],[65,34,69,34],[71,50,75,51],[83,40,87,40],[83,42,87,42],[83,44,87,44],[83,46,87,46],[83,48,87,48],[83,50,87,51],[83,8,87,13],[83,15,87,22],[83,36,87,36],[83,38,87,38],[83,24,87,26],[83,28,87,30],[83,32,87,32],[83,34,87,34],[89,8,93,13],[89,15,93,22],[89,24,93,26],[89,28,93,30],[89,32,93,32],[89,34,93,34],[89,36,93,36],[89,38,93,38],[89,40,93,40],[101,53,105,54],[107,8,111,13],[107,15,111,22],[107,24,111,26],[107,28,111,30],[107,32,111,32],[107,34,111,34],[107,36,111,36],[101,36,105,36],[101,38,105,38],[101,40,105,40],[101,42,105,42],[101,44,105,44],[101,46,105,46],[101,8,105,13],[101,15,105,22],[101,24,105,26],[101,28,105,30],[101,32,105,32],[101,34,105,34],[125,8,129,13],[125,15,129,22],[125,24,129,26],[125,28,129,30],[125,32,129,32],[125,34,129,34],[125,36,129,36],[125,38,129,38],[107,38,111,38],[119,8,123,13],[119,15,123,22],[119,24,123,26],[119,28,123,30],[119,32,123,32],[119,34,123,34],[119,36,123,36],[119,38,123,38],[113,36,117,36],[113,38,117,38],[125,53,129,54],[125,40,129,40],[125,42,129,42],[125,44,129,44],[125,46,129,46],[125,48,129,48],[125,50,129,51],[107,50,111,51],[107,53,111,54],[107,40,111,40],[107,42,111,42],[107,44,111,44],[107,46,111,46],[107,48,111,48],[113,53,117,54],[119,42,123,42],[119,44,123,44],[119,46,123,46],[119,48,123,48],[119,50,123,51],[119,53,123,54],[119,40,123,40],[113,40,117,40],[113,42,117,42],[214,48,218,48],[161,8,164,13],[161,15,164,22],[161,24,164,26],[161,28,164,30],[150,32,164,32],[150,34,164,34],[150,36,164,36],[166,8,170,13],[166,15,170,22],[166,24,170,26],[166,28,170,30],[166,32,170,32],[166,34,170,34],[166,36,170,36],[172,8,176,13],[172,15,176,22],[172,24,176,26],[172,28,176,30],[150,48,164,48],[214,50,218,51],[214,53,218,54],[220,8,224,13],[214,42,218,42],[214,44,218,44],[207,8,211,13],[207,15,211,22],[207,24,211,26],[207,28,211,30],[220,50,224,51],[220,53,224,54],[220,28,224,30],[220,32,224,32],[220,34,224,34],[214,34,218,34],[214,36,218,36],[214,38,218,38],[214,40,218,40],[220,15,224,22],[220,24,224,26],[207,44,211,44],[207,46,211,46],[207,48,211,48],[207,50,211,51],[220,48,224,48],[220,36,224,36],[220,38,224,38],[220,40,224,40],[220,42,224,42],[220,44,224,44],[220,46,224,46],[202,8,205,13],[202,15,205,22],[202,24,205,26],[202,28,205,30],[191,32,205,32],[191,34,205,34],[191,36,205,36],[191,38,205,38],[191,40,205,40],[214,8,218,13],[214,15,218,22],[214,24,218,26],[214,28,218,30],[214,32,218,32],[191,46,205,46],[191,48,205,48],[214,46,218,46],[157,50,164,51],[157,53,164,54],[150,38,164,38],[150,40,164,40],[150,42,164,42],[150,44,164,44],[150,46,164,46],[166,40,170,40],[166,42,170,42],[166,50,170,51],[166,53,170,54],[166,46,170,46],[166,48,170,48],[166,38,170,38],[166,44,170,44],[207,53,211,54],[207,32,211,32],[207,34,211,34],[207,36,211,36],[207,38,211,38],[207,40,211,40],[207,42,211,42],[172,34,176,34],[191,44,205,44],[198,50,205,51],[191,42,205,42],[172,44,176,44],[172,46,176,46],[172,36,176,36],[172,38,176,38],[198,53,205,54],[172,48,176,48],[172,50,176,51],[172,53,176,54],[172,42,176,42],[172,40,176,40],[172,32,176,32],[119,56,123,57],[119,58,123,62],[47,58,51,62],[89,42,93,42],[89,44,93,44],[89,46,93,46],[89,48,93,48],[89,50,93,51],[89,53,93,54],[83,53,87,54],[71,53,75,54],[59,42,63,42],[59,44,63,44],[59,46,63,46],[59,48,63,48],[59,50,63,51],[59,53,63,54],[53,44,57,44],[53,46,57,46],[53,48,57,48],[53,50,57,51],[53,53,57,54],[53,56,57,57],[53,58,57,62],[53,38,57,38],[53,40,57,40],[29,42,33,42],[47,36,51,36],[47,38,51,38],[47,40,51,40],[47,42,51,42],[29,8,33,13],[29,15,33,22],[29,24,33,26],[29,28,33,30],[29,32,33,32],[29,34,33,34],[29,36,33,36],[29,38,33,38],[29,40,33,40],[47,8,51,13],[47,15,51,22],[47,24,51,26],[47,28,51,30],[47,32,51,32],[47,34,51,34],[77,42,81,42],[77,44,81,44],[77,46,81,46],[77,48,81,48],[77,50,81,51],[77,53,81,54],[77,56,81,57],[77,58,81,62],[53,8,57,13],[77,8,81,13],[77,15,81,22],[77,24,81,26],[77,28,81,30],[77,32,81,32],[77,34,81,34],[77,36,81,36],[77,38,81,38],[77,40,81,40],[53,15,57,22],[53,24,57,26],[53,28,57,30],[53,32,57,32],[53,34,57,34],[53,36,57,36],[47,48,51,48],[47,50,51,51],[47,53,51,54],[47,56,51,57],[41,8,45,13],[41,15,45,22],[41,24,45,26],[41,28,45,30],[41,32,45,32],[41,34,45,34],[41,36,45,36],[41,38,45,38],[41,40,45,40],[41,42,45,42],[41,44,45,44],[41,46,45,46],[41,48,45,48],[41,50,45,51],[41,53,45,54]]}
[]
[null,"National Operational Plans Resources"]
[]
[]
[]
[]
[null,null,null,null,null,null,null,null,null,null,null,null,null,null,null,null,null,null,null,null,null,null,null,null,null,null,null,null,null,null,null,null,"Accessibility",null,"Language",null,"Ease of use",null,"Flexibility",null,"Data Needs",null,"Data Analysis",null,"Acceptability",null,"One Health",null,"Impact"]
[]
[]
[]
[]
[]
[]
[null,null,null,null,null,null,null,null,null,null,null,null,null,null,null,null,null,null,null,null,null,null,null,null,null,null,null,null,null,null,null,null,null,null,null,null,null,null,null,null,null,null,null,null,null,null,null,null,null,null,"RAW SCORE",null,null,"ADJUSTED SCORE \n(Based on user preferences)"]
[]
[]
[]
[null,"LEVEL 1 RESOURCES",null,"DESIGNATION",null,null,null,null,"RESOURCE NAME",null,null,null,null,null,null,"SHORT DESCRIPTION",null,null,null,null,null,null,null,null,"RESOURCE TYPE",null,null,null,"RESOURCE GENERALITY"]
[]
[]
[]
[]
[null,null,null,null,null,null,null,null,null,null,null,null,null,null,null,null,null,null,null,null,null,null,null,null,null,null,null,null,null,null,null,null,{"$f":"'Attribute Survey'!S22","v":0},null,{"$f":"'Attribute Survey'!S26","v":0},null,{"$f":"'Attribute Survey'!S30","v":0},null,{"$f":"'Attribute Survey'!S34","v":0},null,{"$f":"'Attribute Survey'!S38","v":0},null,{"$f":"'Attribute Survey'!S42","v":0},null,{"$f":"'Attribute Survey'!S46","v":0},null,{"$f":"'Attribute Survey'!S50","v":0},null,{"$f":"'Attribute Survey'!S54","v":0}]
[null,null,null,"Other Relevant Resources",null,null,null,null,{"$f":"Backbone!A2","v":"Africa CDC Event Based Surveillance Framework"},null,null,null,null,null,null,"A guidance to public health practitioners seeking to implement event-based surveillance at each administrative level.",null,null,null,null,null,null,null,null,{"$f":"INDEX(Backbone!$R$2:$R$893,MATCH(I24,Backbone!$A$2:$A$893,0))","v":"Guidance document"},null,null,null,{"$f":"INDEX(Backbone!$S$2:$S$893,MATCH(I24,Backbone!$A$2:$A$893,0))","v":"One Health; Generalized "},null,null,null,{"$f":"INDEX(Backbone!$H$2:$H$893,MATCH(I24,Backbone!$A$2:$A$893,0))","v":8},null,{"$f":"INDEX(Backbone!$I$2:$I$893,MATCH(I24,Backbone!$A$2:$A$893,0))","v":6},null,{"$f":"INDEX(Backbone!$J$2:$J$893,MATCH(I24,Backbone!$A$2:$A$893,0))","v":8.1999999999999993},null,{"$f":"INDEX(Backbone!$K$1:$K$893,MATCH(I24,Backbone!$A$1:$A$893,0))","v":8.3000000000000007},null,{"$f":"INDEX(Backbone!$L$2:$L$893,MATCH(I24,Backbone!$A$2:$A$893,0))","v":6.1},null,{"$f":"INDEX(Backbone!$M$2:$M$893,MATCH(I24,Backbone!$A$2:$A$893,0))","v":3.5},null,{"$f":"INDEX(Backbone!$N$2:$N$893,MATCH(I24,Backbone!$A$2:$A$893,0))","v":4},null,{"$f":"INDEX(Backbone!$O$2:$O$893,MATCH(I24,Backbone!$A$2:$A$893,0))","v":7},null,{"$f":"INDEX(Backbone!$P$2:$P$893,MATCH(I24,Backbone!$A$2:$A$893,0))","v":6},null,{"$f":"INDEX(Backbone!$Q$2:$Q$893,MATCH(I24,Backbone!$A$2:$A$893,0))","v":0.63222222222222224},null,null,{"$f":"(AG24*$AG$23+AI24*$AI$23+AK24*$AK$23+AM24*$AM$23+AO24*$AO$23+AQ24*$AQ$23+AS24*$AS$23+AU24*$AU$23+AW24*$AW$23)/(SUM($AG$23:$AW$23)*10)","v":{"$error":"#DIV/0!"}},null,null,"Go to \nToolbox: ",null,{"$f":"HYPERLINK(\"#\"&ADDRESS(MATCH(I24,Toolbox!$C$1:$C$300),1,,,\"Toolbox\"),VLOOKUP(I24,Toolbox!$C$1:$C$300,1,FALSE))","v":"Africa CDC Event Based Surveillance Framework"}]
[]
[]
[]
[]
[]
[null,null,null,null,null,null,null,null,{"$f":"Backbone!A51","v":"Border Health Capacity Discussion Guide (BHCDG)"},null,null,null,null,null,null,"Template tools to lead facilitated discussions with national-, district-, and ground crossing-level representatives on border health system. ",null,null,null,null,null,null,null,null,{"$f":"INDEX(Backbone!$R$2:$R$893,MATCH(I30,Backbone!$A$2:$A$893,0))","v":"Guidance document"},null,null,null,{"$f":"INDEX(Backbone!$S$2:$S$893,MATCH(I30,Backbone!$A$2:$A$893,0))","v":"One Health; Disease/Threat Specific "},null,null,null,{"$f":"INDEX(Backbone!$H$2:$H$893,MATCH(I30,Backbone!$A$2:$A$893,0))","v":8.8000000000000007},null,{"$f":"INDEX(Backbone!$I$2:$I$893,MATCH(I30,Backbone!$A$2:$A$893,0))","v":6.7},null,{"$f":"INDEX(Backbone!$J$2:$J$893,MATCH(I30,Backbone!$A$2:$A$893,0))","v":7.6},null,{"$f":"INDEX(Backbone!$K$1:$K$893,MATCH(I30,Backbone!$A$1:$A$893,0))","v":9},null,{"$f":"INDEX(Backbone!$L$2:$L$893,MATCH(I30,Backbone!$A$2:$A$893,0))","v":7},null,{"$f":"INDEX(Backbone!$M$2:$M$893,MATCH(I30,Backbone!$A$2:$A$893,0))","v":3.8},null,{"$f":"INDEX(Backbone!$N$2:$N$893,MATCH(I30,Backbone!$A$2:$A$893,0))","v":8},null,{"$f":"INDEX(Backbone!$O$2:$O$893,MATCH(I30,Backbone!$A$2:$A$893,0))","v":8.4},null,{"$f":"INDEX(Backbone!$P$2:$P$893,MATCH(I30,Backbone!$A$2:$A$893,0))","v":6},null,{"$f":"INDEX(Backbone!$Q$2:$Q$893,MATCH(I30,Backbone!$A$2:$A$893,0))","v":0.72555555555555551},null,null,{"$f":"(AG30*$AG$23+AI30*$AI$23+AK30*$AK$23+AM30*$AM$23+AO30*$AO$23+AQ30*$AQ$23+AS30*$AS$23+AU30*$AU$23+AW30*$AW$23)/(SUM($AG$23:$AW$23)*10)","v":{"$error":"#DIV/0!"}},null,null,"Go to \nToolbox: ",null,{"$f":"HYPERLINK(\"#\"&ADDRESS(MATCH(I30,Toolbox!$C$1:$C$300),1,,,\"Toolbox\"),VLOOKUP(I30,Toolbox!$C$1:$C$300,1,FALSE))","v":"Border Health Capacity Discussion Guide (BHCDG)"}]
[]
[]
[]
[]
[]
[null,null,null,null,null,null,null,null,{"$f":"Backbone!A83","v":"ECDC Data quality monitoring and surveillance system evaluation - A handbook of methods and applications "},null,null,null,null,null,null,"A handbook on monitoring the quality of disease surveillance data for public health professionals.",null,null,null,null,null,null,null,null,{"$f":"INDEX(Backbone!$R$2:$R$893,MATCH(I36,Backbone!$A$2:$A$893,0))","v":"Guidance document"},null,null,null,{"$f":"INDEX(Backbone!$S$2:$S$893,MATCH(I36,Backbone!$A$2:$A$893,0))","v":"Sector Specific; Generalized"},null,null,null,{"$f":"INDEX(Backbone!$H$2:$H$893,MATCH(I36,Backbone!$A$2:$A$893,0))","v":8.1999999999999993},null,{"$f":"INDEX(Backbone!$I$2:$I$893,MATCH(I36,Backbone!$A$2:$A$893,0))","v":6},null,{"$f":"INDEX(Backbone!$J$2:$J$893,MATCH(I36,Backbone!$A$2:$A$893,0))","v":6.4},null,{"$f":"INDEX(Backbone!$K$1:$K$893,MATCH(I36,Backbone!$A$1:$A$893,0))","v":7.3},null,{"$f":"INDEX(Backbone!$L$2:$L$893,MATCH(I36,Backbone!$A$2:$A$893,0))","v":7.7},null,{"$f":"INDEX(Backbone!$M$2:$M$893,MATCH(I36,Backbone!$A$2:$A$893,0))","v":4.5},null,{"$f":"INDEX(Backbone!$N$2:$N$893,MATCH(I36,Backbone!$A$2:$A$893,0))","v":5.3},null,{"$f":"INDEX(Backbone!$O$2:$O$893,MATCH(I36,Backbone!$A$2:$A$893,0))","v":6.2},null,{"$f":"INDEX(Backbone!$P$2:$P$893,MATCH(I36,Backbone!$A$2:$A$893,0))","v":8},null,{"$f":"INDEX(Backbone!$Q$2:$Q$893,MATCH(I36,Backbone!$A$2:$A$893,0))","v":0.66222222222222227},null,null,{"$f":"(AG36*$AG$23+AI36*$AI$23+AK36*$AK$23+AM36*$AM$23+AO36*$AO$23+AQ36*$AQ$23+AS36*$AS$23+AU36*$AU$23+AW36*$AW$23)/(SUM($AG$23:$AW$23)*10)","v":{"$error":"#DIV/0!"}},null,null,"Go to \nToolbox: ",null,{"$f":"HYPERLINK(\"#\"&ADDRESS(MATCH(I36,Toolbox!$C$1:$C$300),1,,,\"Toolbox\"),VLOOKUP(I36,Toolbox!$C$1:$C$300,1,FALSE))","v":"ECDC Data quality monitoring and surveillance system evaluation - A handbook of methods and applications "}]
[]
[]
[]
[]
[]
[null,null,null,null,null,null,null,null,{"$f":"Backbone!A174","v":"Epidemiology Mapping Tool (EMT)"},null,null,null,null,null,null,"Excel-based tool assessing national epidemiology capacities of veterinary services.",null,null,null,null,null,null,null,null,{"$f":"INDEX([1]Backbone!$R$2:$R$893,MATCH(I42,[1]Backbone!$A$2:$A$893,0))","v":"Guided/Facilitated tool or process"},null,null,null,{"$f":"INDEX([1]Backbone!$S$2:$S$893,MATCH(I42,[1]Backbone!$A$2:$A$893,0))","v":"Sector Specific; Generalized"},null,null,null,{"$f":"INDEX([1]Backbone!$H$2:$H$893,MATCH(I42,[1]Backbone!$A$2:$A$893,0))","v":6.6},null,{"$f":"INDEX([1]Backbone!$I$2:$I$893,MATCH(I42,[1]Backbone!$A$2:$A$893,0))","v":8},null,{"$f":"INDEX([1]Backbone!$J$2:$J$893,MATCH(I42,[1]Backbone!$A$2:$A$893,0))","v":7.4},null,{"$f":"INDEX([1]Backbone!$K$1:$K$893,MATCH(I42,[1]Backbone!$A$1:$A$893,0))","v":7.3},null,{"$f":"INDEX([1]Backbone!$L$2:$L$893,MATCH(I42,[1]Backbone!$A$2:$A$893,0))","v":6.9},null,{"$f":"INDEX([1]Backbone!$M$2:$M$893,MATCH(I42,[1]Backbone!$A$2:$A$893,0))","v":5},null,{"$f":"INDEX([1]Backbone!$N$2:$N$893,MATCH(I42,[1]Backbone!$A$2:$A$893,0))","v":3.5},null,{"$f":"INDEX([1]Backbone!$O$2:$O$893,MATCH(I42,[1]Backbone!$A$2:$A$893,0))","v":6.8},null,{"$f":"INDEX([1]Backbone!$P$2:$P$893,MATCH(I42,[1]Backbone!$A$2:$A$893,0))","v":5.5},null,{"$f":"INDEX([1]Backbone!$Q$2:$Q$893,MATCH(I42,[1]Backbone!$A$2:$A$893,0))","v":0.6333333333333333},null,null,{"$f":"(AG42*$AG$23+AI42*$AI$23+AK42*$AK$23+AM42*$AM$23+AO42*$AO$23+AQ42*$AQ$23+AS42*$AS$23+AU42*$AU$23+AW42*$AW$23)/(SUM($AG$23:$AW$23)*10)","v":{"$error":"#DIV/0!"}},null,null,"Go to \nToolbox: ",null,{"$f":"HYPERLINK(\"#\"&ADDRESS(MATCH(I42,[1]Toolbox!$C$1:$C$300),1,,,\"Toolbox\"),VLOOKUP(I42,[1]Toolbox!$C$1:$C$300,1,FALSE))","v":"Epidemiology Mapping Tool (EMT)"}]
[]
[]
[]
[]
[]
[null,null,null,null,null,null,null,null,{"$f":"Backbone!A100","v":"Evaluation of Collaboration in a multisectoral Surveillance system (EcoSur)"},null,null,null,null,null,null,"A tool that aims to evaluate the organization and functioning of collaboration in a multisectoral surveillance system and to analyse strengths and weaknesses of this collaboration.",null,null,null,null,null,null,null,null,{"$f":"INDEX(Backbone!$R$2:$R$893,MATCH(I48,Backbone!$A$2:$A$893,0))","v":"Guided/Facilitated tool or process"},null,null,null,{"$f":"INDEX(Backbone!$S$2:$S$893,MATCH(I48,Backbone!$A$2:$A$893,0))","v":"One Health; Generalized"},null,null,null,{"$f":"INDEX(Backbone!$H$2:$H$893,MATCH(I48,Backbone!$A$2:$A$893,0))","v":8.3000000000000007},null,{"$f":"INDEX(Backbone!$I$2:$I$893,MATCH(I48,Backbone!$A$2:$A$893,0))","v":6},null,{"$f":"INDEX(Backbone!$J$2:$J$893,MATCH(I48,Backbone!$A$2:$A$893,0))","v":8.5},null,{"$f":"INDEX(Backbone!$K$1:$K$893,MATCH(I48,Backbone!$A$1:$A$893,0))","v":7.8},null,{"$f":"INDEX(Backbone!$L$2:$L$893,MATCH(I48,Backbone!$A$2:$A$893,0))","v":8.3000000000000007},null,{"$f":"INDEX(Backbone!$M$2:$M$893,MATCH(I48,Backbone!$A$2:$A$893,0))","v":6.7},null,{"$f":"INDEX(Backbone!$N$2:$N$893,MATCH(I48,Backbone!$A$2:$A$893,0))","v":3.3},null,{"$f":"INDEX(Backbone!$O$2:$O$893,MATCH(I48,Backbone!$A$2:$A$893,0))","v":9.1},null,{"$f":"INDEX(Backbone!$P$2:$P$893,MATCH(I48,Backbone!$A$2:$A$893,0))","v":4.7},null,{"$f":"INDEX(Backbone!$Q$2:$Q$893,MATCH(I48,Backbone!$A$2:$A$893,0))","v":0.69666666666666677},null,null,{"$f":"(AG48*$AG$23+AI48*$AI$23+AK48*$AK$23+AM48*$AM$23+AO48*$AO$23+AQ48*$AQ$23+AS48*$AS$23+AU48*$AU$23+AW48*$AW$23)/(SUM($AG$23:$AW$23)*10)","v":{"$error":"#DIV/0!"}},null,null,"Go to \nToolbox: ",null,{"$f":"HYPERLINK(\"#\"&ADDRESS(MATCH(I48,Toolbox!$C$1:$C$300),1,,,\"Toolbox\"),VLOOKUP(I48,Toolbox!$C$1:$C$300,1,FALSE))","v":"Evaluation of Collaboration in a multisectoral Surveillance system (EcoSur)"}]
[]
[]
[]
[]
[]
[null,null,null,null,null,null,null,null,{"$f":"Backbone!A517","v":"FAO Surveillance Evaluation Tool (SET)"},null,null,null,null,null,null,"Assesses national animal disease surveillance systems using a comprehensive and repeatable methodology.",null,null,null,null,null,null,null,null,{"$f":"INDEX(Backbone!$R$2:$R$893,MATCH(I54,Backbone!$A$2:$A$893,0))","v":"Guided/Facilitated tool or process"},null,null,null,{"$f":"INDEX(Backbone!$S$2:$S$893,MATCH(I54,Backbone!$A$2:$A$893,0))","v":"Sector Specific; Generalized"},null,null,null,{"$f":"INDEX(Backbone!$H$2:$H$893,MATCH(I54,Backbone!$A$2:$A$893,0))","v":8.1999999999999993},null,{"$f":"INDEX(Backbone!$I$2:$I$893,MATCH(I54,Backbone!$A$2:$A$893,0))","v":8.3000000000000007},null,{"$f":"INDEX(Backbone!$J$2:$J$893,MATCH(I54,Backbone!$A$2:$A$893,0))","v":7},null,{"$f":"INDEX(Backbone!$K$1:$K$893,MATCH(I54,Backbone!$A$1:$A$893,0))","v":7.7},null,{"$f":"INDEX(Backbone!$L$2:$L$893,MATCH(I54,Backbone!$A$2:$A$893,0))","v":6.7},null,{"$f":"INDEX(Backbone!$M$2:$M$893,MATCH(I54,Backbone!$A$2:$A$893,0))","v":6.3},null,{"$f":"INDEX(Backbone!$N$2:$N$893,MATCH(I54,Backbone!$A$2:$A$893,0))","v":8},null,{"$f":"INDEX(Backbone!$O$2:$O$893,MATCH(I54,Backbone!$A$2:$A$893,0))","v":6.8},null,{"$f":"INDEX(Backbone!$P$2:$P$893,MATCH(I54,Backbone!$A$2:$A$893,0))","v":8.5},null,{"$f":"INDEX(Backbone!$Q$2:$Q$893,MATCH(I54,Backbone!$A$2:$A$893,0))","v":0.75},null,null,{"$f":"(AG54*$AG$23+AI54*$AI$23+AK54*$AK$23+AM54*$AM$23+AO54*$AO$23+AQ54*$AQ$23+AS54*$AS$23+AU54*$AU$23+AW54*$AW$23)/(SUM($AG$23:$AW$23)*10)","v":{"$error":"#DIV/0!"}},null,null,"Go to \nToolbox: ",null,{"$f":"HYPERLINK(\"#\"&ADDRESS(MATCH(I54,Toolbox!$C$1:$C$300),1,,,\"Toolbox\"),VLOOKUP(I54,Toolbox!$C$1:$C$300,1,FALSE))","v":"FAO Surveillance Evaluation Tool (SET)"}]
[]
[]
[]
[]
[]
[null,null,null,null,null,null,null,null,{"$f":"Backbone!A33","v":"Framework for Enhancing Anthrax Prevention and Control "},null,null,null,null,null,null,"The Framework gives anthrax background and how to improve anthrax prevention and control in animals and people.",null,null,null,null,null,null,null,null,{"$f":"INDEX(Backbone!$R$2:$R$893,MATCH(I60,Backbone!$A$2:$A$893,0))","v":"Guidance document"},null,null,null,{"$f":"INDEX(Backbone!$S$2:$S$893,MATCH(I60,Backbone!$A$2:$A$893,0))","v":"One Health; Disease/Threat Specific "},null,null,null,{"$f":"INDEX(Backbone!$H$2:$H$893,MATCH(I60,Backbone!$A$2:$A$893,0))","v":9.1},null,{"$f":"INDEX(Backbone!$I$2:$I$893,MATCH(I60,Backbone!$A$2:$A$893,0))","v":10},null,{"$f":"INDEX(Backbone!$J$2:$J$893,MATCH(I60,Backbone!$A$2:$A$893,0))","v":8.6},null,{"$f":"INDEX(Backbone!$K$1:$K$893,MATCH(I60,Backbone!$A$1:$A$893,0))","v":4.7},null,{"$f":"INDEX(Backbone!$L$2:$L$893,MATCH(I60,Backbone!$A$2:$A$893,0))","v":9.1999999999999993},null,{"$f":"INDEX(Backbone!$M$2:$M$893,MATCH(I60,Backbone!$A$2:$A$893,0))","v":2},null,{"$f":"INDEX(Backbone!$N$2:$N$893,MATCH(I60,Backbone!$A$2:$A$893,0))","v":6.3},null,{"$f":"INDEX(Backbone!$O$2:$O$893,MATCH(I60,Backbone!$A$2:$A$893,0))","v":4.3},null,{"$f":"INDEX(Backbone!$P$2:$P$893,MATCH(I60,Backbone!$A$2:$A$893,0))","v":6},null,{"$f":"INDEX(Backbone!$Q$2:$Q$893,MATCH(I60,Backbone!$A$2:$A$893,0))","v":0.66888888888888887},null,null,{"$f":"(AG60*$AG$23+AI60*$AI$23+AK60*$AK$23+AM60*$AM$23+AO60*$AO$23+AQ60*$AQ$23+AS60*$AS$23+AU60*$AU$23+AW60*$AW$23)/(SUM($AG$23:$AW$23)*10)","v":{"$error":"#DIV/0!"}},null,null,"Go to \nToolbox: ",null,{"$f":"HYPERLINK(\"#\"&ADDRESS(MATCH(I60,Toolbox!$C$1:$C$300),1,,,\"Toolbox\"),VLOOKUP(I60,Toolbox!$C$1:$C$300,1,FALSE))","v":"Framework for Enhancing Anthrax Prevention and Control "}]
[]
[]
[]
[]
[]
[null,null,null,null,null,null,null,null,{"$f":"Backbone!A176","v":"Guidelines for designing\nanimal disease\nsurveillance plans\n"},null,null,null,null,null,null,"The general template with the framework for the  surveillance plan for infectious diseases.",null,null,null,null,null,null,null,null,{"$f":"INDEX(Backbone!$R$2:$R$893,MATCH(I66,Backbone!$A$2:$A$893,0))","v":"Template"},null,null,null,{"$f":"INDEX(Backbone!$S$2:$S$893,MATCH(I66,Backbone!$A$2:$A$893,0))","v":"Sector Specific; Generalized"},null,null,null,{"$f":"INDEX(Backbone!$H$2:$H$893,MATCH(I66,Backbone!$A$2:$A$893,0))","v":9.1999999999999993},null,{"$f":"INDEX(Backbone!$I$2:$I$893,MATCH(I66,Backbone!$A$2:$A$893,0))","v":10},null,{"$f":"INDEX(Backbone!$J$2:$J$893,MATCH(I66,Backbone!$A$2:$A$893,0))","v":7.5},null,{"$f":"INDEX(Backbone!$K$1:$K$893,MATCH(I66,Backbone!$A$1:$A$893,0))","v":8.6999999999999993},null,{"$f":"INDEX(Backbone!$L$2:$L$893,MATCH(I66,Backbone!$A$2:$A$893,0))","v":5.7},null,{"$f":"INDEX(Backbone!$M$2:$M$893,MATCH(I66,Backbone!$A$2:$A$893,0))","v":2.5},null,{"$f":"INDEX(Backbone!$N$2:$N$893,MATCH(I66,Backbone!$A$2:$A$893,0))","v":3.3},null,{"$f":"INDEX(Backbone!$O$2:$O$893,MATCH(I66,Backbone!$A$2:$A$893,0))","v":5.0999999999999996},null,{"$f":"INDEX(Backbone!$P$2:$P$893,MATCH(I66,Backbone!$A$2:$A$893,0))","v":4},null,{"$f":"INDEX(Backbone!$Q$2:$Q$893,MATCH(I66,Backbone!$A$2:$A$893,0))","v":0.62222222222222223},null,null,{"$f":"(AG66*$AG$23+AI66*$AI$23+AK66*$AK$23+AM66*$AM$23+AO66*$AO$23+AQ66*$AQ$23+AS66*$AS$23+AU66*$AU$23+AW66*$AW$23)/(SUM($AG$23:$AW$23)*10)","v":{"$error":"#DIV/0!"}},null,null,"Go to \nToolbox: ",null,{"$f":"HYPERLINK(\"#\"&ADDRESS(MATCH(I66,Toolbox!$C$1:$C$300),1,,,\"Toolbox\"),VLOOKUP(I66,Toolbox!$C$1:$C$300,1,FALSE))","v":"Guidelines for designing\nanimal disease\nsurveillance plans\n"}]
[]
[]
[]
[]
[]
[null,null,null,null,null,null,null,null,{"$f":"Backbone!A239","v":"IHR-PVS National Bridging Workshop"},null,null,null,null,null,null,"A workshop where One Health (OH) stakeholders explore possible overlapping areas addressed in the OIE (PVS Pathway ) and IHR (IHR Monitoring and Evaluation Framework) capacity frameworks and develop, where relevant, appropriate bridges to facilitate coordination between sectors.  ",null,null,null,null,null,null,null,null,{"$f":"INDEX(Backbone!$R$2:$R$893,MATCH(I72,Backbone!$A$2:$A$893,0))","v":"Guided/Facilitated tool or process"},null,null,null,{"$f":"INDEX(Backbone!$S$2:$S$893,MATCH(I72,Backbone!$A$2:$A$893,0))","v":"One Health; Generalized"},null,null,null,{"$f":"INDEX(Backbone!$H$2:$H$893,MATCH(I72,Backbone!$A$2:$A$893,0))","v":8.6},null,{"$f":"INDEX(Backbone!$I$2:$I$893,MATCH(I72,Backbone!$A$2:$A$893,0))","v":10},null,{"$f":"INDEX(Backbone!$J$2:$J$893,MATCH(I72,Backbone!$A$2:$A$893,0))","v":6.2},null,{"$f":"INDEX(Backbone!$K$1:$K$893,MATCH(I72,Backbone!$A$1:$A$893,0))","v":10},null,{"$f":"INDEX(Backbone!$L$2:$L$893,MATCH(I72,Backbone!$A$2:$A$893,0))","v":6},null,{"$f":"INDEX(Backbone!$M$2:$M$893,MATCH(I72,Backbone!$A$2:$A$893,0))","v":7},null,{"$f":"INDEX(Backbone!$N$2:$N$893,MATCH(I72,Backbone!$A$2:$A$893,0))","v":9},null,{"$f":"INDEX(Backbone!$O$2:$O$893,MATCH(I72,Backbone!$A$2:$A$893,0))","v":8.1999999999999993},null,{"$f":"INDEX(Backbone!$P$2:$P$893,MATCH(I72,Backbone!$A$2:$A$893,0))","v":10},null,{"$f":"INDEX(Backbone!$Q$2:$Q$893,MATCH(I72,Backbone!$A$2:$A$893,0))","v":0.83333333333333337},null,null,{"$f":"(AG72*$AG$23+AI72*$AI$23+AK72*$AK$23+AM72*$AM$23+AO72*$AO$23+AQ72*$AQ$23+AS72*$AS$23+AU72*$AU$23+AW72*$AW$23)/(SUM($AG$23:$AW$23)*10)","v":{"$error":"#DIV/0!"}},null,null,"Go to \nToolbox: ",null,{"$f":"HYPERLINK(\"#\"&ADDRESS(MATCH(I72,Toolbox!$C$1:$C$300),1,,,\"Toolbox\"),VLOOKUP(I72,Toolbox!$C$1:$C$300,1,FALSE))","v":"IHR-PVS National Bridging Workshop"}]
[]
[]
[]
[]
[]
[null,null,null,null,null,null,null,null,{"$f":"Backbone!A195","v":"Integrated Disease Surveillance and Response (IDSR)"},null,null,null,null,null,null,"A strategy aimed at strengthening capacities for detection, confirmation and response to suspected cases and outbreaks, and for use of information to predict and plan for public health events.",null,null,null,null,null,null,null,null,{"$f":"INDEX([1]Backbone!$R45:$R936,MATCH(I78,[1]Backbone!$A45:$A936,0))","v":"Guidance document"},null,null,null,{"$f":"INDEX([1]Backbone!$S45:$S936,MATCH(I78,[1]Backbone!$A45:$A936,0))","v":"Sector Specific; Generalized"},null,null,null,{"$f":"INDEX([1]Backbone!$H45:$H936,MATCH(I78,[1]Backbone!$A45:$A936,0))","v":7.4},null,{"$f":"INDEX([1]Backbone!$I45:$I936,MATCH(I78,[1]Backbone!$A45:$A936,0))","v":10},null,{"$f":"INDEX([1]Backbone!$J45:$J936,MATCH(I78,[1]Backbone!$A45:$A936,0))","v":7.4},null,{"$f":"INDEX([1]Backbone!$K45:$K936,MATCH(I78,[1]Backbone!$A45:$A936,0))","v":8.6999999999999993},null,{"$f":"INDEX([1]Backbone!$L45:$L936,MATCH(I78,[1]Backbone!$A45:$A936,0))","v":6.7},null,{"$f":"INDEX([1]Backbone!$M45:$M936,MATCH(I78,[1]Backbone!$A45:$A936,0))","v":4.5},null,{"$f":"INDEX([1]Backbone!$N45:$N936,MATCH(I78,[1]Backbone!$A45:$A936,0))","v":8},null,{"$f":"INDEX([1]Backbone!$O45:$O936,MATCH(I78,[1]Backbone!$A45:$A936,0))","v":7.2},null,{"$f":"INDEX([1]Backbone!$P45:$P936,MATCH(I78,[1]Backbone!$A45:$A936,0))","v":8.5},null,{"$f":"INDEX([1]Backbone!$Q45:$Q936,MATCH(I78,[1]Backbone!$A45:$A936,0))","v":0.76},null,null,{"$f":"(AG78*$AG$23+AI78*$AI$23+AK78*$AK$23+AM78*$AM$23+AO78*$AO$23+AQ78*$AQ$23+AS78*$AS$23+AU78*$AU$23+AW78*$AW$23)/(SUM($AG$23:$AW$23)*10)","v":{"$error":"#DIV/0!"}},null,null,"Go to \nToolbox: ",null,{"$f":"HYPERLINK(\"#\"&ADDRESS(MATCH(I78,[1]Toolbox!$C$1:$C$300),1,,,\"Toolbox\"),VLOOKUP(I78,[1]Toolbox!$C$1:$C$300,1,FALSE))","v":"Integrated Disease Surveillance and Response (IDSR)"}]
[]
[]
[]
[]
[]
[null,null,null,null,null,null,null,null,{"$f":"Backbone!A291","v":"Methodology to analyse AMR-relevant legislation in the food and agriculture sector"},null,null,null,null,null,null,"A methodology designed to guide the analyses of national legislation relevant for AMR in the food and agriculture sectors.",null,null,null,null,null,null,null,null,{"$f":"INDEX(Backbone!$R$2:$R$893,MATCH(I84,Backbone!$A$2:$A$893,0))","v":"Guidance document"},null,null,null,{"$f":"INDEX(Backbone!$S$2:$S$893,MATCH(I84,Backbone!$A$2:$A$893,0))","v":"One Health; Generalized"},null,null,null,{"$f":"INDEX(Backbone!$H$2:$H$893,MATCH(I84,Backbone!$A$2:$A$893,0))","v":7.4},null,{"$f":"INDEX(Backbone!$I$2:$I$893,MATCH(I84,Backbone!$A$2:$A$893,0))","v":5.5},null,{"$f":"INDEX(Backbone!$J$2:$J$893,MATCH(I84,Backbone!$A$2:$A$893,0))","v":7.6},null,{"$f":"INDEX(Backbone!$K$1:$K$893,MATCH(I84,Backbone!$A$1:$A$893,0))","v":4},null,{"$f":"INDEX(Backbone!$L$2:$L$893,MATCH(I84,Backbone!$A$2:$A$893,0))","v":8.1999999999999993},null,{"$f":"INDEX(Backbone!$M$2:$M$893,MATCH(I84,Backbone!$A$2:$A$893,0))","v":4.5},null,{"$f":"INDEX(Backbone!$N$2:$N$893,MATCH(I84,Backbone!$A$2:$A$893,0))","v":4.5},null,{"$f":"INDEX(Backbone!$O$2:$O$893,MATCH(I84,Backbone!$A$2:$A$893,0))","v":6.6},null,{"$f":"INDEX(Backbone!$P$2:$P$893,MATCH(I84,Backbone!$A$2:$A$893,0))","v":4.5},null,{"$f":"INDEX(Backbone!$Q$2:$Q$893,MATCH(I84,Backbone!$A$2:$A$893,0))","v":0.58666666666666667},null,null,{"$f":"(AG84*$AG$23+AI84*$AI$23+AK84*$AK$23+AM84*$AM$23+AO84*$AO$23+AQ84*$AQ$23+AS84*$AS$23+AU84*$AU$23+AW84*$AW$23)/(SUM($AG$23:$AW$23)*10)","v":{"$error":"#DIV/0!"}},null,null,"Go to \nToolbox: ",null,{"$f":"HYPERLINK(\"#\"&ADDRESS(MATCH(I84,Toolbox!$C$1:$C$300),1,,,\"Toolbox\"),VLOOKUP(I84,Toolbox!$C$1:$C$300,1,FALSE))","v":"Methodology to analyse AMR-relevant legislation in the food and agriculture sector"}]
[]
[]
[]
[]
[]
[null,null,null,null,null,null,null,null,{"$f":"Backbone!A303","v":"National Action Plan for Health Security (NAPHS)"},null,null,null,null,null,null,"A country owned planning process that can accelerate the implementation of International Health Regulations (IHR) core capacities and is based on the One Health and whole-of-government approach for all hazards.",null,null,null,null,null,null,null,null,{"$f":"INDEX(Backbone!$R$2:$R$893,MATCH(I90,Backbone!$A$2:$A$893,0))","v":"Guidance document"},null,null,null,{"$f":"INDEX(Backbone!$S$2:$S$893,MATCH(I90,Backbone!$A$2:$A$893,0))","v":"One Health; Generalized"},null,null,null,{"$f":"INDEX(Backbone!$H$2:$H$893,MATCH(I90,Backbone!$A$2:$A$893,0))","v":8},null,{"$f":"INDEX(Backbone!$I$2:$I$893,MATCH(I90,Backbone!$A$2:$A$893,0))","v":9},null,{"$f":"INDEX(Backbone!$J$2:$J$893,MATCH(I90,Backbone!$A$2:$A$893,0))","v":7.8},null,{"$f":"INDEX(Backbone!$K$1:$K$893,MATCH(I90,Backbone!$A$1:$A$893,0))","v":10},null,{"$f":"INDEX(Backbone!$L$2:$L$893,MATCH(I90,Backbone!$A$2:$A$893,0))","v":8},null,{"$f":"INDEX(Backbone!$M$2:$M$893,MATCH(I90,Backbone!$A$2:$A$893,0))","v":4.5},null,{"$f":"INDEX(Backbone!$N$2:$N$893,MATCH(I90,Backbone!$A$2:$A$893,0))","v":10},null,{"$f":"INDEX(Backbone!$O$2:$O$893,MATCH(I90,Backbone!$A$2:$A$893,0))","v":10},null,{"$f":"INDEX(Backbone!$P$2:$P$893,MATCH(I90,Backbone!$A$2:$A$893,0))","v":10},null,{"$f":"INDEX(Backbone!$Q$2:$Q$893,MATCH(I90,Backbone!$A$2:$A$893,0))","v":0.85888888888888881},null,null,{"$f":"(AG90*$AG$23+AI90*$AI$23+AK90*$AK$23+AM90*$AM$23+AO90*$AO$23+AQ90*$AQ$23+AS90*$AS$23+AU90*$AU$23+AW90*$AW$23)/(SUM($AG$23:$AW$23)*10)","v":{"$error":"#DIV/0!"}},null,null,"Go to \nToolbox: ",null,{"$f":"HYPERLINK(\"#\"&ADDRESS(MATCH(I90,Toolbox!$C$1:$C$300),1,,,\"Toolbox\"),VLOOKUP(I90,Toolbox!$C$1:$C$300,1,FALSE))","v":"National Action Plan for Health Security (NAPHS)"}]
[]
[]
[]
[]
[]
[null,null,null,null,null,null,null,null,{"$f":"Backbone!A400","v":"One Health Surveillance Readiness and Requirements Tool (OHSRRT)"},null,null,null,null,null,null,"A readiness and requirements assessment tool used to determine country readiness and gather requirements to develop a One Health surveillance system based on critical success factors.",null,null,null,null,null,null,null,null,{"$f":"INDEX(Backbone!$R$2:$R$893,MATCH(I96,Backbone!$A$2:$A$893,0))","v":"Self-assessment tool"},null,null,null,{"$f":"INDEX(Backbone!$S$2:$S$893,MATCH(I96,Backbone!$A$2:$A$893,0))","v":"One Health; Generalized"},null,null,null,{"$f":"INDEX(Backbone!$H$2:$H$893,MATCH(I96,Backbone!$A$2:$A$893,0))","v":8},null,{"$f":"INDEX(Backbone!$I$2:$I$893,MATCH(I96,Backbone!$A$2:$A$893,0))","v":6},null,{"$f":"INDEX(Backbone!$J$2:$J$893,MATCH(I96,Backbone!$A$2:$A$893,0))","v":7.4},null,{"$f":"INDEX(Backbone!$K$1:$K$893,MATCH(I96,Backbone!$A$1:$A$893,0))","v":8.6999999999999993},null,{"$f":"INDEX(Backbone!$L$2:$L$893,MATCH(I96,Backbone!$A$2:$A$893,0))","v":6},null,{"$f":"INDEX(Backbone!$M$2:$M$893,MATCH(I96,Backbone!$A$2:$A$893,0))","v":2.5},null,{"$f":"INDEX(Backbone!$N$2:$N$893,MATCH(I96,Backbone!$A$2:$A$893,0))","v":2},null,{"$f":"INDEX(Backbone!$O$2:$O$893,MATCH(I96,Backbone!$A$2:$A$893,0))","v":9.6},null,{"$f":"INDEX(Backbone!$P$2:$P$893,MATCH(I96,Backbone!$A$2:$A$893,0))","v":5.5},null,{"$f":"INDEX(Backbone!$Q$2:$Q$893,MATCH(I96,Backbone!$A$2:$A$893,0))","v":0.61888888888888882},null,null,{"$f":"(AG96*$AG$23+AI96*$AI$23+AK96*$AK$23+AM96*$AM$23+AO96*$AO$23+AQ96*$AQ$23+AS96*$AS$23+AU96*$AU$23+AW96*$AW$23)/(SUM($AG$23:$AW$23)*10)","v":{"$error":"#DIV/0!"}},null,null,"Go to \nToolbox: ",null,{"$f":"HYPERLINK(\"#\"&ADDRESS(MATCH(I96,Toolbox!$C$1:$C$300),1,,,\"Toolbox\"),VLOOKUP(I96,Toolbox!$C$1:$C$300,1,FALSE))","v":"One Health Surveillance Readiness and Requirements Tool (OHSRRT)"}]
[]
[]
[]
[]
[]
[null,null,null,null,null,null,null,null,{"$f":"Backbone!A648","v":"Preparedness and Response Planning Toolkit"},null,null,null,null,null,null,"This toolkit is designed to support countries in their development of multisectoral preparedness and response plans for public health events. ",null,null,null,null,null,null,null,null,{"$f":"INDEX(Backbone!$R$2:$R$893,MATCH(I102,Backbone!$A$2:$A$893,0))","v":"Guidance document"},null,null,null,{"$f":"INDEX(Backbone!$S$2:$S$893,MATCH(I102,Backbone!$A$2:$A$893,0))","v":"One Health; Generalized"},null,null,null,{"$f":"INDEX(Backbone!$H$2:$H$893,MATCH(I102,Backbone!$A$2:$A$893,0))","v":8.4},null,{"$f":"INDEX(Backbone!$I$2:$I$893,MATCH(I102,Backbone!$A$2:$A$893,0))","v":8},null,{"$f":"INDEX(Backbone!$J$2:$J$893,MATCH(I102,Backbone!$A$2:$A$893,0))","v":8.4},null,{"$f":"INDEX(Backbone!$K$1:$K$893,MATCH(I102,Backbone!$A$1:$A$893,0))","v":6.7},null,{"$f":"INDEX(Backbone!$L$2:$L$893,MATCH(I102,Backbone!$A$2:$A$893,0))","v":2},null,{"$f":"INDEX(Backbone!$M$2:$M$893,MATCH(I102,Backbone!$A$2:$A$893,0))","v":3.5},null,{"$f":"INDEX(Backbone!$N$2:$N$893,MATCH(I102,Backbone!$A$2:$A$893,0))","v":4},null,{"$f":"INDEX(Backbone!$O$2:$O$893,MATCH(I102,Backbone!$A$2:$A$893,0))","v":6.4},null,{"$f":"INDEX(Backbone!$P$2:$P$893,MATCH(I102,Backbone!$A$2:$A$893,0))","v":8},null,{"$f":"INDEX(Backbone!$Q$2:$Q$893,MATCH(I102,Backbone!$A$2:$A$893,0))","v":0.61555555555555552},null,null,{"$f":"(AG102*$AG$23+AI102*$AI$23+AK102*$AK$23+AM102*$AM$23+AO102*$AO$23+AQ102*$AQ$23+AS102*$AS$23+AU102*$AU$23+AW102*$AW$23)/(SUM($AG$23:$AW$23)*10)","v":{"$error":"#DIV/0!"}},null,null,"Go to \nToolbox: ",null,{"$f":"HYPERLINK(\"#\"&ADDRESS(MATCH(I102,Toolbox!$C$1:$C$300),1,,,\"Toolbox\"),VLOOKUP(I102,Toolbox!$C$1:$C$300,1,FALSE))","v":"Preparedness and Response Planning Toolkit"}]
[]
[]
[]
[]
[]
[null,null,null,null,null,null,null,null,{"$f":"Backbone!A453","v":"Stepwise Approach towards Rabies Elimination (SARE)"},null,null,null,null,null,null,"A practical planning, monitoring and evaluation tool to guide, develop and refine rabies control programmes.",null,null,null,null,null,null,null,null,{"$f":"INDEX(Backbone!$R$2:$R$893,MATCH(I108,Backbone!$A$2:$A$893,0))","v":"Self-assessment tool"},null,null,null,{"$f":"INDEX(Backbone!$S$2:$S$893,MATCH(I108,Backbone!$A$2:$A$893,0))","v":"One Health; Disease/Threat Specific "},null,null,null,{"$f":"INDEX(Backbone!$H$2:$H$893,MATCH(I108,Backbone!$A$2:$A$893,0))","v":8},null,{"$f":"INDEX(Backbone!$I$2:$I$893,MATCH(I108,Backbone!$A$2:$A$893,0))","v":9},null,{"$f":"INDEX(Backbone!$J$2:$J$893,MATCH(I108,Backbone!$A$2:$A$893,0))","v":6.6},null,{"$f":"INDEX(Backbone!$K$1:$K$893,MATCH(I108,Backbone!$A$1:$A$893,0))","v":3.3},null,{"$f":"INDEX(Backbone!$L$2:$L$893,MATCH(I108,Backbone!$A$2:$A$893,0))","v":5.7},null,{"$f":"INDEX(Backbone!$M$2:$M$893,MATCH(I108,Backbone!$A$2:$A$893,0))","v":6.8},null,{"$f":"INDEX(Backbone!$N$2:$N$893,MATCH(I108,Backbone!$A$2:$A$893,0))","v":8},null,{"$f":"INDEX(Backbone!$O$2:$O$893,MATCH(I108,Backbone!$A$2:$A$893,0))","v":8.6},null,{"$f":"INDEX(Backbone!$P$2:$P$893,MATCH(I108,Backbone!$A$2:$A$893,0))","v":9.5},null,{"$f":"INDEX(Backbone!$Q$2:$Q$893,MATCH(I108,Backbone!$A$2:$A$893,0))","v":0.72777777777777775},null,null,{"$f":"(AG108*$AG$23+AI108*$AI$23+AK108*$AK$23+AM108*$AM$23+AO108*$AO$23+AQ108*$AQ$23+AS108*$AS$23+AU108*$AU$23+AW108*$AW$23)/(SUM($AG$23:$AW$23)*10)","v":{"$error":"#DIV/0!"}},null,null,"Go to \nToolbox: ",null,{"$f":"HYPERLINK(\"#\"&ADDRESS(MATCH(I108,Toolbox!$C$1:$C$300),1,,,\"Toolbox\"),VLOOKUP(I108,Toolbox!$C$1:$C$300,1,FALSE))","v":"Stepwise Approach towards Rabies Elimination (SARE)"}]
[]
[]
[]
[]
[]
[null,null,null,null,null,null,null,null,{"$f":"Backbone!A510","v":"SuRveillance EVALuation framework (SERVAL)"},null,null,null,null,null,null,"A stepwise instruction on how to plan, structure and conduct assessment of animal health surveillance systems.",null,null,null,null,null,null,null,null,{"$f":"INDEX(Backbone!$R$2:$R$893,MATCH(I114,Backbone!$A$2:$A$893,0))","v":"Guidance document"},null,null,null,{"$f":"INDEX(Backbone!$S$2:$S$893,MATCH(I114,Backbone!$A$2:$A$893,0))","v":"Sector Specific; Generalized"},null,null,null,{"$f":"INDEX(Backbone!$H$2:$H$893,MATCH(I114,Backbone!$A$2:$A$893,0))","v":8.8000000000000007},null,{"$f":"INDEX(Backbone!$I$2:$I$893,MATCH(I114,Backbone!$A$2:$A$893,0))","v":9},null,{"$f":"INDEX(Backbone!$J$2:$J$893,MATCH(I114,Backbone!$A$2:$A$893,0))","v":9},null,{"$f":"INDEX(Backbone!$K$1:$K$893,MATCH(I114,Backbone!$A$1:$A$893,0))","v":10},null,{"$f":"INDEX(Backbone!$L$2:$L$893,MATCH(I114,Backbone!$A$2:$A$893,0))","v":8.1},null,{"$f":"INDEX(Backbone!$M$2:$M$893,MATCH(I114,Backbone!$A$2:$A$893,0))","v":3.3},null,{"$f":"INDEX(Backbone!$N$2:$N$893,MATCH(I114,Backbone!$A$2:$A$893,0))","v":4},null,{"$f":"INDEX(Backbone!$O$2:$O$893,MATCH(I114,Backbone!$A$2:$A$893,0))","v":6.8},null,{"$f":"INDEX(Backbone!$P$2:$P$893,MATCH(I114,Backbone!$A$2:$A$893,0))","v":8},null,{"$f":"INDEX(Backbone!$Q$2:$Q$893,MATCH(I114,Backbone!$A$2:$A$893,0))","v":0.74444444444444446},null,null,{"$f":"(AG114*$AG$23+AI114*$AI$23+AK114*$AK$23+AM114*$AM$23+AO114*$AO$23+AQ114*$AQ$23+AS114*$AS$23+AU114*$AU$23+AW114*$AW$23)/(SUM($AG$23:$AW$23)*10)","v":{"$error":"#DIV/0!"}},null,null,"Go to \nToolbox: ",null,{"$f":"HYPERLINK(\"#\"&ADDRESS(MATCH(I114,Toolbox!$C$1:$C$300),1,,,\"Toolbox\"),VLOOKUP(I114,Toolbox!$C$1:$C$300,1,FALSE))","v":"SuRveillance EVALuation framework (SERVAL)"}]
[]
[]
[]
[]
[]
[null,null,null,null,null,null,null,null,{"$f":"Backbone!A351","v":"Surveillance network assessment tool (OASIS)"},null,null,null,null,null,null,"A standardized semi-quantitative tool for the assessment of surveillance systems on zoonosis and animal diseases.",null,null,null,null,null,null,null,null,{"$f":"INDEX(Backbone!$R$2:$R$893,MATCH(I120,Backbone!$A$2:$A$893,0))","v":"Self-assessment tool"},null,null,null,{"$f":"INDEX(Backbone!$S$2:$S$893,MATCH(I120,Backbone!$A$2:$A$893,0))","v":"Sector Specific; Generalized"},null,null,null,{"$f":"INDEX(Backbone!$H$2:$H$893,MATCH(I120,Backbone!$A$2:$A$893,0))","v":8.1999999999999993},null,{"$f":"INDEX(Backbone!$I$2:$I$893,MATCH(I120,Backbone!$A$2:$A$893,0))","v":7},null,{"$f":"INDEX(Backbone!$J$2:$J$893,MATCH(I120,Backbone!$A$2:$A$893,0))","v":8},null,{"$f":"INDEX(Backbone!$K$1:$K$893,MATCH(I120,Backbone!$A$1:$A$893,0))","v":8.3000000000000007},null,{"$f":"INDEX(Backbone!$L$2:$L$893,MATCH(I120,Backbone!$A$2:$A$893,0))","v":7},null,{"$f":"INDEX(Backbone!$M$2:$M$893,MATCH(I120,Backbone!$A$2:$A$893,0))","v":6.5},null,{"$f":"INDEX(Backbone!$N$2:$N$893,MATCH(I120,Backbone!$A$2:$A$893,0))","v":4.5},null,{"$f":"INDEX(Backbone!$O$2:$O$893,MATCH(I120,Backbone!$A$2:$A$893,0))","v":5.0999999999999996},null,{"$f":"INDEX(Backbone!$P$2:$P$893,MATCH(I120,Backbone!$A$2:$A$893,0))","v":4.5},null,{"$f":"INDEX(Backbone!$Q$2:$Q$893,MATCH(I120,Backbone!$A$2:$A$893,0))","v":0.65666666666666673},null,null,{"$f":"(AG120*$AG$23+AI120*$AI$23+AK120*$AK$23+AM120*$AM$23+AO120*$AO$23+AQ120*$AQ$23+AS120*$AS$23+AU120*$AU$23+AW120*$AW$23)/(SUM($AG$23:$AW$23)*10)","v":{"$error":"#DIV/0!"}},null,null,"Go to \nToolbox: ",null,{"$f":"HYPERLINK(\"#\"&ADDRESS(MATCH(I120,Toolbox!$C$1:$C$300),1,,,\"Toolbox\"),VLOOKUP(I120,Toolbox!$C$1:$C$300,1,FALSE))","v":"Surveillance network assessment tool (OASIS)"}]
[]
[]
[]
[]
[]
[null,null,null,null,null,null,null,null,{"$f":"Backbone!A483","v":"Surveillance Webtools (SURVTOOLS) "},null,null,null,null,null,null,"Unite surveillance design and evaluation tools targeting competent, technical users who design, implement or evaluate animal health surveillance.",null,null,null,null,null,null,null,null,{"$f":"INDEX(Backbone!$R$2:$R$893,MATCH(I126,Backbone!$A$2:$A$893,0))","v":"Hardware or Software"},null,null,null,{"$f":"INDEX(Backbone!$S$2:$S$893,MATCH(I126,Backbone!$A$2:$A$893,0))","v":"Sector Specific; Generalized"},null,null,null,{"$f":"INDEX(Backbone!$H$2:$H$893,MATCH(I126,Backbone!$A$2:$A$893,0))","v":9.6},null,{"$f":"INDEX(Backbone!$I$2:$I$893,MATCH(I126,Backbone!$A$2:$A$893,0))","v":2},null,{"$f":"INDEX(Backbone!$J$2:$J$893,MATCH(I126,Backbone!$A$2:$A$893,0))","v":6.7},null,{"$f":"INDEX(Backbone!$K$1:$K$893,MATCH(I126,Backbone!$A$1:$A$893,0))","v":6.7},null,{"$f":"INDEX(Backbone!$L$2:$L$893,MATCH(I126,Backbone!$A$2:$A$893,0))","v":6.6},null,{"$f":"INDEX(Backbone!$M$2:$M$893,MATCH(I126,Backbone!$A$2:$A$893,0))","v":3.5},null,{"$f":"INDEX(Backbone!$N$2:$N$893,MATCH(I126,Backbone!$A$2:$A$893,0))","v":6.7},null,{"$f":"INDEX(Backbone!$O$2:$O$893,MATCH(I126,Backbone!$A$2:$A$893,0))","v":4.9000000000000004},null,{"$f":"INDEX(Backbone!$P$2:$P$893,MATCH(I126,Backbone!$A$2:$A$893,0))","v":4.7},null,{"$f":"INDEX(Backbone!$Q$2:$Q$893,MATCH(I126,Backbone!$A$2:$A$893,0))","v":0.57111111111111112},null,null,{"$f":"(AG126*$AG$23+AI126*$AI$23+AK126*$AK$23+AM126*$AM$23+AO126*$AO$23+AQ126*$AQ$23+AS126*$AS$23+AU126*$AU$23+AW126*$AW$23)/(SUM($AG$23:$AW$23)*10)","v":{"$error":"#DIV/0!"}},null,null,"Go to \nToolbox: ",null,{"$f":"HYPERLINK(\"#\"&ADDRESS(MATCH(I126,Toolbox!$C$1:$C$300),1,,,\"Toolbox\"),VLOOKUP(I126,Toolbox!$C$1:$C$300,1,FALSE))","v":"Surveillance Webtools (SURVTOOLS) "}]
[]
[]
[]
[]
[]
[]
[]
[]
[]
[]
[]
[]
[]
[]
[]
[]
[]
[]
[]
[]
[]
[]
[]
[]
[null,null,null,null,null,null,null,null,null,null,null,null,null,null,null,null,null,null,null,null,null,null,null,null,null,null,null,null,null,null,null,null,"Accessibility",null,"Language",null,"Ease of use",null,"Flexibility",null,"Data Needs",null,"Data Analysis",null,"Acceptability",null,"One Health",null,"Impact"]
[]
[]
[]
[]
[]
[]
[null,null,null,null,null,null,null,null,null,null,null,null,null,null,null,null,null,null,null,null,null,null,null,null,null,null,null,null,null,null,null,null,null,null,null,null,null,null,null,null,null,null,null,null,null,null,null,null,null,null,"RAW SCORE",null,null,"ADJUSTED SCORE \n(Based on user preferences)"]
[]
[]
[]
[null,"LEVEL 2 RESOURCES",null,"DESIGNATION",null,null,null,null,"RESOURCE NAME",null,null,null,null,null,null,"SHORT DESCRIPTION",null,null,null,null,null,null,null,null,"RESOURCE TYPE",null,null,null,"RESOURCE GENERALITY"]
[]
[]
[]
[null,null,null,null,null,null,null,null,null,null,null,null,null,null,null,null,null,null,null,null,null,null,null,null,null,null,null,null,null,null,null,null,{"$f":"'Attribute Survey'!S130","v":0},null,{"$f":"'Attribute Survey'!S134","v":0},null,{"$f":"'Attribute Survey'!S138","v":0},null,{"$f":"'Attribute Survey'!S142","v":0},null,{"$f":"'Attribute Survey'!S146","v":0},null,{"$f":"'Attribute Survey'!S150","v":0},null,{"$f":"'Attribute Survey'!S154","v":0},null,{"$f":"'Attribute Survey'!S158","v":0},null,{"$f":"'Attribute Survey'!S162","v":0}]
[null,null,null,"Other Relevant Resources",null,null,null,null,{"$f":"Backbone!A176","v":"Guidelines for designing\nanimal disease\nsurveillance plans\n"},null,null,null,null,null,null,"The general template with the framework for the  surveillance plan for infectious diseases.",null,null,null,null,null,null,null,null,{"$f":"INDEX(Backbone!$R$2:$R$893,MATCH(I167,Backbone!$A$2:$A$893,0))","v":"Template"},null,null,null,{"$f":"INDEX(Backbone!$S$2:$S$893,MATCH(I167,Backbone!$A$2:$A$893,0))","v":"Sector Specific; Generalized"},null,null,null,{"$f":"INDEX(Backbone!$H$2:$H$893,MATCH(I167,Backbone!$A$2:$A$893,0))","v":9.1999999999999993},null,{"$f":"INDEX(Backbone!$I$2:$I$893,MATCH(I167,Backbone!$A$2:$A$893,0))","v":10},null,{"$f":"INDEX(Backbone!$J$2:$J$893,MATCH(I167,Backbone!$A$2:$A$893,0))","v":7.5},null,{"$f":"INDEX(Backbone!$K$1:$K$893,MATCH(I167,Backbone!$A$1:$A$893,0))","v":8.6999999999999993},null,{"$f":"INDEX(Backbone!$L$2:$L$893,MATCH(I167,Backbone!$A$2:$A$893,0))","v":5.7},null,{"$f":"INDEX(Backbone!$M$2:$M$893,MATCH(I167,Backbone!$A$2:$A$893,0))","v":2.5},null,{"$f":"INDEX(Backbone!$N$2:$N$893,MATCH(I167,Backbone!$A$2:$A$893,0))","v":3.3},null,{"$f":"INDEX(Backbone!$O$2:$O$893,MATCH(I167,Backbone!$A$2:$A$893,0))","v":5.0999999999999996},null,{"$f":"INDEX(Backbone!$P$2:$P$893,MATCH(I167,Backbone!$A$2:$A$893,0))","v":4},null,{"$f":"INDEX(Backbone!$Q$2:$Q$893,MATCH(I167,Backbone!$A$2:$A$893,0))","v":0.62222222222222223},null,null,{"$f":"(AG167*$AG$23+AI167*$AI$23+AK167*$AK$23+AM167*$AM$23+AO167*$AO$23+AQ167*$AQ$23+AS167*$AS$23+AU167*$AU$23+AW167*$AW$23)/(SUM($AG$23:$AW$23)*10)","v":{"$error":"#DIV/0!"}},null,null,"Go to \nToolbox: ",null,{"$f":"HYPERLINK(\"#\"&ADDRESS(MATCH(I167,Toolbox!$C$1:$C$300),1,,,\"Toolbox\"),VLOOKUP(I167,Toolbox!$C$1:$C$300,1,FALSE))","v":"Guidelines for designing\nanimal disease\nsurveillance plans\n"}]
[]
[]
[]
[]
[]
[null,null,null,null,null,null,null,null,{"$f":"Backbone!A648","v":"Preparedness and Response Planning Toolkit"},null,null,null,null,null,null,"This toolkit is designed to support countries in their development of multisectoral preparedness and response plans for public health events. ",null,null,null,null,null,null,null,null,{"$f":"INDEX(Backbone!$R$2:$R$893,MATCH(I173,Backbone!$A$2:$A$893,0))","v":"Guidance document"},null,null,null,{"$f":"INDEX(Backbone!$S$2:$S$893,MATCH(I173,Backbone!$A$2:$A$893,0))","v":"One Health; Generalized"},null,null,null,{"$f":"INDEX(Backbone!$H$2:$H$893,MATCH(I173,Backbone!$A$2:$A$893,0))","v":8.4},null,{"$f":"INDEX(Backbone!$I$2:$I$893,MATCH(I173,Backbone!$A$2:$A$893,0))","v":8},null,{"$f":"INDEX(Backbone!$J$2:$J$893,MATCH(I173,Backbone!$A$2:$A$893,0))","v":8.4},null,{"$f":"INDEX(Backbone!$K$1:$K$893,MATCH(I173,Backbone!$A$1:$A$893,0))","v":6.7},null,{"$f":"INDEX(Backbone!$L$2:$L$893,MATCH(I173,Backbone!$A$2:$A$893,0))","v":2},null,{"$f":"INDEX(Backbone!$M$2:$M$893,MATCH(I173,Backbone!$A$2:$A$893,0))","v":3.5},null,{"$f":"INDEX(Backbone!$N$2:$N$893,MATCH(I173,Backbone!$A$2:$A$893,0))","v":4},null,{"$f":"INDEX(Backbone!$O$2:$O$893,MATCH(I173,Backbone!$A$2:$A$893,0))","v":6.4},null,{"$f":"INDEX(Backbone!$P$2:$P$893,MATCH(I173,Backbone!$A$2:$A$893,0))","v":8},null,{"$f":"INDEX(Backbone!$Q$2:$Q$893,MATCH(I173,Backbone!$A$2:$A$893,0))","v":0.61555555555555552},null,null,{"$f":"(AG173*$AG$23+AI173*$AI$23+AK173*$AK$23+AM173*$AM$23+AO173*$AO$23+AQ173*$AQ$23+AS173*$AS$23+AU173*$AU$23+AW173*$AW$23)/(SUM($AG$23:$AW$23)*10)","v":{"$error":"#DIV/0!"}},null,null,"Go to \nToolbox: ",null,{"$f":"HYPERLINK(\"#\"&ADDRESS(MATCH(I173,Toolbox!$C$1:$C$300),1,,,\"Toolbox\"),VLOOKUP(I173,Toolbox!$C$1:$C$300,1,FALSE))","v":"Preparedness and Response Planning Toolkit"}]
[]
[]
[]
[]
[]
[]
[]
[]
[]
[]
[]
[]
[]
[]
[]
[]
[]
[]
[null,null,null,null,null,null,null,null,null,null,null,null,null,null,null,null,null,null,null,null,null,null,null,null,null,null,null,null,null,null,null,null,"Accessibility",null,"Language",null,"Ease of use",null,"Flexibility",null,"Data Needs",null,"Data Analysis",null,"Acceptability",null,"One Health",null,"Impact"]
[]
[]
[]
[]
[]
[]
[null,null,null,null,null,null,null,null,null,null,null,null,null,null,null,null,null,null,null,null,null,null,null,null,null,null,null,null,null,null,null,null,null,null,null,null,null,null,null,null,null,null,null,null,null,null,null,null,null,null,"RAW SCORE",null,null,"ADJUSTED SCORE \n(Based on user preferences)"]
[]
[]
[]
[null,"LEVEL 3  RESOURCES",null,"DESIGNATION",null,null,null,null,"RESOURCE NAME",null,null,null,null,null,null,"SHORT DESCRIPTION",null,null,null,null,null,null,null,null,"RESOURCE TYPE",null,null,null,"RESOURCE GENERALITY"]
[]
[]
[]
[null,null,null,null,null,null,null,null,null,null,null,null,null,null,null,null,null,null,null,null,null,null,null,null,null,null,null,null,null,null,null,null,{"$f":"'Attribute Survey'!S231","v":0},null,{"$f":"'Attribute Survey'!S235","v":0},null,{"$f":"'Attribute Survey'!S239","v":0},null,{"$f":"'Attribute Survey'!S243","v":0},null,{"$f":"'Attribute Survey'!S247","v":0},null,{"$f":"'Attribute Survey'!S251","v":0},null,{"$f":"'Attribute Survey'!S255","v":0},null,{"$f":"'Attribute Survey'!S259","v":0},null,{"$f":"'Attribute Survey'!S263","v":0}]
[null,null,null,"Resources Best Fit for Purpose",null,null,null,null,{"$f":"Backbone!A396","v":"One Health Surveillance (OHS) Codex "},null,null,null,null,null,null,"A high-level framework that supports collaboration, mutual understanding, knowledge exchange and data interoperability among One Health surveillance sectors.",null,null,null,null,null,null,null,null,{"$f":"INDEX(Backbone!$R$2:$R$893,MATCH(I208,Backbone!$A$2:$A$893,0))","v":"Self-assessment tool"},null,null,null,{"$f":"INDEX(Backbone!$S$2:$S$893,MATCH(I208,Backbone!$A$2:$A$893,0))","v":"One Health; Generalized"},null,null,null,{"$f":"INDEX(Backbone!$H$2:$H$893,MATCH(I208,Backbone!$A$2:$A$893,0))","v":9},null,{"$f":"INDEX(Backbone!$I$2:$I$893,MATCH(I208,Backbone!$A$2:$A$893,0))","v":6},null,{"$f":"INDEX(Backbone!$J$2:$J$893,MATCH(I208,Backbone!$A$2:$A$893,0))","v":8.5},null,{"$f":"INDEX(Backbone!$K$2:$K$893,MATCH(I208,Backbone!$A$2:$A$893,0))","v":8.6999999999999993},null,{"$f":"INDEX(Backbone!$L$2:$L$893,MATCH(I208,Backbone!$A$2:$A$893,0))","v":8.1},null,{"$f":"INDEX(Backbone!$M$2:$M$893,MATCH(I208,Backbone!$A$2:$A$893,0))","v":2.8},null,{"$f":"INDEX(Backbone!$N$2:$N$893,MATCH(I208,Backbone!$A$2:$A$893,0))","v":2},null,{"$f":"INDEX(Backbone!$O$2:$O$893,MATCH(I208,Backbone!$A$2:$A$893,0))","v":6},null,{"$f":"INDEX(Backbone!$P$2:$P$893,MATCH(I208,Backbone!$A$2:$A$893,0))","v":5},null,{"$f":"INDEX(Backbone!$Q$2:$Q$893,MATCH(I208,Backbone!$A$2:$A$893,0))","v":0.62333333333333329},null,null,{"$f":"(AG208*$AG$23+AI208*$AI$23+AK208*$AK$23+AM208*$AM$23+AO208*$AO$23+AQ208*$AQ$23+AS208*$AS$23+AU208*$AU$23+AW208*$AW$23)/(SUM($AG$23:$AW$23)*10)","v":{"$error":"#DIV/0!"}},null,null,"Go to \nToolbox: ",null,{"$f":"HYPERLINK(\"#\"&ADDRESS(MATCH(I208,Toolbox!$C$1:$C$300),1,,,\"Toolbox\"),VLOOKUP(I208,Toolbox!$C$1:$C$300,1,FALSE))","v":"One Health Surveillance (OHS) Codex "}]
[]
[]
[]
[]
[]
[]
[null,null,null,"Other Relevant Resources",null,null,null,null,{"$f":"Backbone!A176","v":"Guidelines for designing\nanimal disease\nsurveillance plans\n"},null,null,null,null,null,null,"The general template with the framework for the  surveillance plan for infectious diseases.",null,null,null,null,null,null,null,null,{"$f":"INDEX(Backbone!$R$2:$R$893,MATCH(I215,Backbone!$A$2:$A$893,0))","v":"Template"},null,null,null,{"$f":"INDEX(Backbone!$S$2:$S$893,MATCH(I215,Backbone!$A$2:$A$893,0))","v":"Sector Specific; Generalized"},null,null,null,{"$f":"INDEX(Backbone!$H$2:$H$893,MATCH(I215,Backbone!$A$2:$A$893,0))","v":9.1999999999999993},null,{"$f":"INDEX(Backbone!$I$2:$I$893,MATCH(I215,Backbone!$A$2:$A$893,0))","v":10},null,{"$f":"INDEX(Backbone!$J$2:$J$893,MATCH(I215,Backbone!$A$2:$A$893,0))","v":7.5},null,{"$f":"INDEX(Backbone!$K$1:$K$893,MATCH(I215,Backbone!$A$1:$A$893,0))","v":8.6999999999999993},null,{"$f":"INDEX(Backbone!$L$2:$L$893,MATCH(I215,Backbone!$A$2:$A$893,0))","v":5.7},null,{"$f":"INDEX(Backbone!$M$2:$M$893,MATCH(I215,Backbone!$A$2:$A$893,0))","v":2.5},null,{"$f":"INDEX(Backbone!$N$2:$N$893,MATCH(I215,Backbone!$A$2:$A$893,0))","v":3.3},null,{"$f":"INDEX(Backbone!$O$2:$O$893,MATCH(I215,Backbone!$A$2:$A$893,0))","v":5.0999999999999996},null,{"$f":"INDEX(Backbone!$P$2:$P$893,MATCH(I215,Backbone!$A$2:$A$893,0))","v":4},null,{"$f":"INDEX(Backbone!$Q$2:$Q$893,MATCH(I215,Backbone!$A$2:$A$893,0))","v":0.62222222222222223},null,null,{"$f":"(AG215*$AG$23+AI215*$AI$23+AK215*$AK$23+AM215*$AM$23+AO215*$AO$23+AQ215*$AQ$23+AS215*$AS$23+AU215*$AU$23+AW215*$AW$23)/(SUM($AG$23:$AW$23)*10)","v":{"$error":"#DIV/0!"}},null,null,"Go to \nToolbox: ",null,{"$f":"HYPERLINK(\"#\"&ADDRESS(MATCH(I215,Toolbox!$C$1:$C$300),1,,,\"Toolbox\"),VLOOKUP(I215,Toolbox!$C$1:$C$300,1,FALSE))","v":"Guidelines for designing\nanimal disease\nsurveillance plans\n"}]
[]
[]
[]
[]
[]
[null,null,null,null,null,null,null,null,{"$f":"Backbone!A648","v":"Preparedness and Response Planning Toolkit"},null,null,null,null,null,null,"This toolkit is designed to support countries in their development of multisectoral preparedness and response plans for public health events. ",null,null,null,null,null,null,null,null,{"$f":"INDEX(Backbone!$R$2:$R$893,MATCH(I221,Backbone!$A$2:$A$893,0))","v":"Guidance document"},null,null,null,{"$f":"INDEX(Backbone!$S$2:$S$893,MATCH(I221,Backbone!$A$2:$A$893,0))","v":"One Health; Generalized"},null,null,null,{"$f":"INDEX(Backbone!$H$2:$H$893,MATCH(I221,Backbone!$A$2:$A$893,0))","v":8.4},null,{"$f":"INDEX(Backbone!$I$2:$I$893,MATCH(I221,Backbone!$A$2:$A$893,0))","v":8},null,{"$f":"INDEX(Backbone!$J$2:$J$893,MATCH(I221,Backbone!$A$2:$A$893,0))","v":8.4},null,{"$f":"INDEX(Backbone!$K$1:$K$893,MATCH(I221,Backbone!$A$1:$A$893,0))","v":6.7},null,{"$f":"INDEX(Backbone!$L$2:$L$893,MATCH(I221,Backbone!$A$2:$A$893,0))","v":2},null,{"$f":"INDEX(Backbone!$M$2:$M$893,MATCH(I221,Backbone!$A$2:$A$893,0))","v":3.5},null,{"$f":"INDEX(Backbone!$N$2:$N$893,MATCH(I221,Backbone!$A$2:$A$893,0))","v":4},null,{"$f":"INDEX(Backbone!$O$2:$O$893,MATCH(I221,Backbone!$A$2:$A$893,0))","v":6.4},null,{"$f":"INDEX(Backbone!$P$2:$P$893,MATCH(I221,Backbone!$A$2:$A$893,0))","v":8},null,{"$f":"INDEX(Backbone!$Q$2:$Q$893,MATCH(I221,Backbone!$A$2:$A$893,0))","v":0.61555555555555552},null,null,{"$f":"(AG221*$AG$23+AI221*$AI$23+AK221*$AK$23+AM221*$AM$23+AO221*$AO$23+AQ221*$AQ$23+AS221*$AS$23+AU221*$AU$23+AW221*$AW$23)/(SUM($AG$23:$AW$23)*10)","v":{"$error":"#DIV/0!"}},null,null,"Go to \nToolbox: ",null,{"$f":"HYPERLINK(\"#\"&ADDRESS(MATCH(I221,Toolbox!$C$1:$C$300),1,,,\"Toolbox\"),VLOOKUP(I221,Toolbox!$C$1:$C$300,1,FALSE))","v":"Preparedness and Response Planning Toolkit"}]

{"sheet":"P5_tools","index":42,"n_rows":53,"n_cols":59,"rows_kept":53,"cut":false,"hidden":false,"merged":[[52,58,56,62],[6,32,20,32],[6,34,20,34],[6,36,20,36],[6,38,20,38],[6,40,20,40],[6,42,20,42],[6,44,20,44],[6,46,20,46],[6,48,20,48],[13,50,20,51],[13,53,20,54],[34,38,38,38],[34,40,38,40],[34,42,38,42],[22,53,26,54],[22,40,26,40],[22,42,26,42],[22,44,26,44],[22,48,26,48],[22,38,26,38],[22,34,26,34],[22,36,26,36],[34,34,38,34],[1,1,3,62],[22,56,26,57],[22,58,26,62],[28,56,32,57],[28,58,32,62],[34,56,38,57],[34,58,38,62],[40,56,44,57],[17,24,20,26],[17,28,20,30],[22,3,56,6],[22,8,26,13],[22,46,26,46],[46,34,50,34],[40,42,44,42],[40,44,44,44],[40,46,44,46],[34,8,38,13],[34,15,38,22],[34,24,38,26],[40,58,44,62],[46,56,50,57],[46,58,50,62],[52,56,56,57],[46,8,50,13],[46,15,50,22],[46,24,50,26],[46,28,50,30],[46,32,50,32],[17,1,56,1],[17,3,20,6],[17,8,20,13],[17,15,20,22],[22,15,26,22],[22,24,26,26],[22,28,26,30],[22,32,26,32],[34,28,38,30],[34,32,38,32],[34,36,38,36],[34,44,38,44],[28,8,32,13],[28,15,32,22],[28,24,32,26],[28,28,32,30],[28,32,32,32],[28,34,32,34],[28,36,32,36],[28,38,32,38],[52,46,56,46],[28,48,32,48],[28,50,32,51],[22,50,26,51],[40,50,44,51],[40,53,44,54],[28,53,32,54],[40,8,44,13],[40,15,44,22],[40,24,44,26],[40,28,44,30],[40,32,44,32],[40,34,44,34],[40,36,44,36],[40,38,44,38],[40,40,44,40],[28,40,32,40],[28,42,32,42],[28,44,32,44],[28,46,32,46],[40,48,44,48],[34,48,38,48],[34,50,38,51],[34,53,38,54],[52,48,56,48],[34,46,38,46],[46,48,50,48],[46,50,50,51],[46,53,50,54],[52,8,56,13],[52,15,56,22],[52,24,56,26],[52,28,56,30],[52,32,56,32],[52,34,56,34],[52,36,56,36],[46,36,50,36],[46,38,50,38],[46,40,50,40],[46,42,50,42],[46,44,50,44],[46,46,50,46],[52,50,56,51],[52,53,56,54],[52,38,56,38],[52,40,56,40],[52,42,56,42],[52,44,56,44]]}
[]
[null,"Financial Planning Resources"]
[]
[]
[]
[]
[null,null,null,null,null,null,null,null,null,null,null,null,null,null,null,null,null,null,null,null,null,null,null,null,null,null,null,null,null,null,null,null,"Accessibility",null,"Language",null,"Ease of use",null,"Flexibility",null,"Data Needs",null,"Data Analysis",null,"Acceptability",null,"One Health",null,"Impact"]
[]
[]
[]
[]
[]
[]
[null,null,null,null,null,null,null,null,null,null,null,null,null,null,null,null,null,null,null,null,null,null,null,null,null,null,null,null,null,null,null,null,null,null,null,null,null,null,null,null,null,null,null,null,null,null,null,null,null,null,"RAW SCORE",null,null,"ADJUSTED SCORE \n(Based on user preferences)"]
[]
[]
[]
[null,"LEVEL 1 RESOURCES",null,"DESIGNATION",null,null,null,null,"RESOURCE NAME",null,null,null,null,null,null,"SHORT DESCRIPTION",null,null,null,null,null,null,null,null,"RESOURCE TYPE",null,null,null,"RESOURCE GENERALITY"]
[]
[]
[]
[null,null,null,null,null,null,null,null,null,null,null,null,null,null,null,null,null,null,null,null,null,null,null,null,null,null,null,null,null,null,null,null,{"$f":"'Attribute Survey'!S22","v":0},null,{"$f":"'Attribute Survey'!S26","v":0},null,{"$f":"'Attribute Survey'!S30","v":0},null,{"$f":"'Attribute Survey'!S34","v":0},null,{"$f":"'Attribute Survey'!S38","v":0},null,{"$f":"'Attribute Survey'!S42","v":0},null,{"$f":"'Attribute Survey'!S46","v":0},null,{"$f":"'Attribute Survey'!S50","v":0},null,{"$f":"'Attribute Survey'!S54","v":0}]
[null,null,null,"Other Relevant Resources",null,null,null,null,{"$f":"Backbone!A2","v":"Africa CDC Event Based Surveillance Framework"},null,null,null,null,null,null,"A guidance to public health practitioners seeking to implement event-based surveillance at each administrative level.",null,null,null,null,null,null,null,null,{"$f":"INDEX(Backbone!$R$2:$R$893,MATCH(I23,Backbone!$A$2:$A$893,0))","v":"Guidance document"},null,null,null,{"$f":"INDEX(Backbone!$S$2:$S$893,MATCH(I23,Backbone!$A$2:$A$893,0))","v":"One Health; Generalized "},null,null,null,{"$f":"INDEX(Backbone!$H$2:$H$893,MATCH(I23,Backbone!$A$2:$A$893,0))","v":8},null,{"$f":"INDEX(Backbone!$I$2:$I$893,MATCH(I23,Backbone!$A$2:$A$893,0))","v":6},null,{"$f":"INDEX(Backbone!$J$2:$J$893,MATCH(I23,Backbone!$A$2:$A$893,0))","v":8.1999999999999993},null,{"$f":"INDEX(Backbone!$K$1:$K$893,MATCH(I23,Backbone!$A$1:$A$893,0))","v":8.3000000000000007},null,{"$f":"INDEX(Backbone!$L$2:$L$893,MATCH(I23,Backbone!$A$2:$A$893,0))","v":6.1},null,{"$f":"INDEX(Backbone!$M$2:$M$893,MATCH(I23,Backbone!$A$2:$A$893,0))","v":3.5},null,{"$f":"INDEX(Backbone!$N$2:$N$893,MATCH(I23,Backbone!$A$2:$A$893,0))","v":4},null,{"$f":"INDEX(Backbone!$O$2:$O$893,MATCH(I23,Backbone!$A$2:$A$893,0))","v":7},null,{"$f":"INDEX(Backbone!$P$2:$P$893,MATCH(I23,Backbone!$A$2:$A$893,0))","v":6},null,{"$f":"INDEX(Backbone!$Q$2:$Q$893,MATCH(I23,Backbone!$A$2:$A$893,0))","v":0.63222222222222224},null,null,{"$f":"(AG23*$AG$22+AI23*$AI$22+AK23*$AK$22+AM23*$AM$22+AO23*$AO$22+AQ23*$AQ$22+AS23*$AS$22+AU23*$AU$22+AW23*$AW$22)/(SUM($AG$22:$AW$22)*10)","v":{"$error":"#DIV/0!"}},null,null,"Go to \nToolbox: ",null,{"$f":"HYPERLINK(\"#\"&ADDRESS(MATCH(I23,Toolbox!$C$1:$C$300),1,,,\"Toolbox\"),VLOOKUP(I23,Toolbox!$C$1:$C$300,1,FALSE))","v":"Africa CDC Event Based Surveillance Framework"}]
[]
[]
[]
[]
[]
[null,null,null,null,null,null,null,null,{"$f":"Backbone!A83","v":"ECDC Data quality monitoring and surveillance system evaluation - A handbook of methods and applications "},null,null,null,null,null,null,"A handbook on monitoring the quality of disease surveillance data for public health professionals.",null,null,null,null,null,null,null,null,{"$f":"INDEX(Backbone!$R$2:$R$893,MATCH(I29,Backbone!$A$2:$A$893,0))","v":"Guidance document"},null,null,null,{"$f":"INDEX(Backbone!$S$2:$S$893,MATCH(I29,Backbone!$A$2:$A$893,0))","v":"Sector Specific; Generalized"},null,null,null,{"$f":"INDEX(Backbone!$H$2:$H$893,MATCH(I29,Backbone!$A$2:$A$893,0))","v":8.1999999999999993},null,{"$f":"INDEX(Backbone!$I$2:$I$893,MATCH(I29,Backbone!$A$2:$A$893,0))","v":6},null,{"$f":"INDEX(Backbone!$J$2:$J$893,MATCH(I29,Backbone!$A$2:$A$893,0))","v":6.4},null,{"$f":"INDEX(Backbone!$K$1:$K$893,MATCH(I29,Backbone!$A$1:$A$893,0))","v":7.3},null,{"$f":"INDEX(Backbone!$L$2:$L$893,MATCH(I29,Backbone!$A$2:$A$893,0))","v":7.7},null,{"$f":"INDEX(Backbone!$M$2:$M$893,MATCH(I29,Backbone!$A$2:$A$893,0))","v":4.5},null,{"$f":"INDEX(Backbone!$N$2:$N$893,MATCH(I29,Backbone!$A$2:$A$893,0))","v":5.3},null,{"$f":"INDEX(Backbone!$O$2:$O$893,MATCH(I29,Backbone!$A$2:$A$893,0))","v":6.2},null,{"$f":"INDEX(Backbone!$P$2:$P$893,MATCH(I29,Backbone!$A$2:$A$893,0))","v":8},null,{"$f":"INDEX(Backbone!$Q$2:$Q$893,MATCH(I29,Backbone!$A$2:$A$893,0))","v":0.66222222222222227},null,null,{"$f":"(AG29*$AG$22+AI29*$AI$22+AK29*$AK$22+AM29*$AM$22+AO29*$AO$22+AQ29*$AQ$22+AS29*$AS$22+AU29*$AU$22+AW29*$AW$22)/(SUM($AG$22:$AW$22)*10)","v":{"$error":"#DIV/0!"}},null,null,"Go to \nToolbox: ",null,{"$f":"HYPERLINK(\"#\"&ADDRESS(MATCH(I29,Toolbox!$C$1:$C$300),1,,,\"Toolbox\"),VLOOKUP(I29,Toolbox!$C$1:$C$300,1,FALSE))","v":"ECDC Data quality monitoring and surveillance system evaluation - A handbook of methods and applications "}]
[]
[]
[]
[]
[]
[null,null,null,null,null,null,null,null,{"$f":"Backbone!A234","v":"Georgetown University International Health Regulation (IHR) Costing Tool"},null,null,null,null,null,null,"The general template with the framework for the  surveillance plan for infectious diseases.\n\n",null,null,null,null,null,null,null,null,{"$f":"INDEX(Backbone!$R$2:$R$893,MATCH(I35,Backbone!$A$2:$A$893,0))","v":"Self-assessment tool"},null,null,null,{"$f":"INDEX(Backbone!$S$2:$S$893,MATCH(I35,Backbone!$A$2:$A$893,0))","v":"Sector Specific; Generalized"},null,null,null,{"$f":"INDEX(Backbone!$H$2:$H$893,MATCH(I35,Backbone!$A$2:$A$893,0))","v":9.6},null,{"$f":"INDEX(Backbone!$I$2:$I$893,MATCH(I35,Backbone!$A$2:$A$893,0))","v":6},null,{"$f":"INDEX(Backbone!$J$2:$J$893,MATCH(I35,Backbone!$A$2:$A$893,0))","v":9.3000000000000007},null,{"$f":"INDEX(Backbone!$K$1:$K$893,MATCH(I35,Backbone!$A$1:$A$893,0))","v":7.3},null,{"$f":"INDEX(Backbone!$L$2:$L$893,MATCH(I35,Backbone!$A$2:$A$893,0))","v":7.1},null,{"$f":"INDEX(Backbone!$M$2:$M$893,MATCH(I35,Backbone!$A$2:$A$893,0))","v":8.8000000000000007},null,{"$f":"INDEX(Backbone!$N$2:$N$893,MATCH(I35,Backbone!$A$2:$A$893,0))","v":9.3000000000000007},null,{"$f":"INDEX(Backbone!$O$2:$O$893,MATCH(I35,Backbone!$A$2:$A$893,0))","v":7.5},null,{"$f":"INDEX(Backbone!$P$2:$P$893,MATCH(I35,Backbone!$A$2:$A$893,0))","v":8},null,{"$f":"INDEX(Backbone!$Q$2:$Q$893,MATCH(I35,Backbone!$A$2:$A$893,0))","v":0.80999999999999994},null,null,{"$f":"(AG35*$AG$22+AI35*$AI$22+AK35*$AK$22+AM35*$AM$22+AO35*$AO$22+AQ35*$AQ$22+AS35*$AS$22+AU35*$AU$22+AW35*$AW$22)/(SUM($AG$22:$AW$22)*10)","v":{"$error":"#DIV/0!"}},null,null,"Go to \nToolbox: ",null,{"$f":"HYPERLINK(\"#\"&ADDRESS(MATCH(I35,Toolbox!$C$1:$C$300),1,,,\"Toolbox\"),VLOOKUP(I35,Toolbox!$C$1:$C$300,1,FALSE))","v":"Georgetown University International Health Regulation (IHR) Costing Tool"}]
[]
[]
[]
[]
[]
[null,null,null,null,null,null,null,null,{"$f":"Backbone!A176","v":"Guidelines for designing\nanimal disease\nsurveillance plans\n"},null,null,null,null,null,null,"The general template with the framework for the  surveillance plan for infectious diseases.\n\n",null,null,null,null,null,null,null,null,{"$f":"INDEX(Backbone!$R$2:$R$893,MATCH(I41,Backbone!$A$2:$A$893,0))","v":"Template"},null,null,null,{"$f":"INDEX(Backbone!$S$2:$S$893,MATCH(I41,Backbone!$A$2:$A$893,0))","v":"Sector Specific; Generalized"},null,null,null,{"$f":"INDEX(Backbone!$H$2:$H$893,MATCH(I41,Backbone!$A$2:$A$893,0))","v":9.1999999999999993},null,{"$f":"INDEX(Backbone!$I$2:$I$893,MATCH(I41,Backbone!$A$2:$A$893,0))","v":10},null,{"$f":"INDEX(Backbone!$J$2:$J$893,MATCH(I41,Backbone!$A$2:$A$893,0))","v":7.5},null,{"$f":"INDEX(Backbone!$K$1:$K$893,MATCH(I41,Backbone!$A$1:$A$893,0))","v":8.6999999999999993},null,{"$f":"INDEX(Backbone!$L$2:$L$893,MATCH(I41,Backbone!$A$2:$A$893,0))","v":5.7},null,{"$f":"INDEX(Backbone!$M$2:$M$893,MATCH(I41,Backbone!$A$2:$A$893,0))","v":2.5},null,{"$f":"INDEX(Backbone!$N$2:$N$893,MATCH(I41,Backbone!$A$2:$A$893,0))","v":3.3},null,{"$f":"INDEX(Backbone!$O$2:$O$893,MATCH(I41,Backbone!$A$2:$A$893,0))","v":5.0999999999999996},null,{"$f":"INDEX(Backbone!$P$2:$P$893,MATCH(I41,Backbone!$A$2:$A$893,0))","v":4},null,{"$f":"INDEX(Backbone!$Q$2:$Q$893,MATCH(I41,Backbone!$A$2:$A$893,0))","v":0.62222222222222223},null,null,{"$f":"(AG41*$AG$22+AI41*$AI$22+AK41*$AK$22+AM41*$AM$22+AO41*$AO$22+AQ41*$AQ$22+AS41*$AS$22+AU41*$AU$22+AW41*$AW$22)/(SUM($AG$22:$AW$22)*10)","v":{"$error":"#DIV/0!"}},null,null,"Go to \nToolbox: ",null,{"$f":"HYPERLINK(\"#\"&ADDRESS(MATCH(I41,Toolbox!$C$1:$C$300),1,,,\"Toolbox\"),VLOOKUP(I41,Toolbox!$C$1:$C$300,1,FALSE))","v":"Guidelines for designing\nanimal disease\nsurveillance plans\n"}]
[]
[]
[]
[]
[]
[null,null,null,null,null,null,null,null,{"$f":"Backbone!A33","v":"Framework for Enhancing Anthrax Prevention and Control "},null,null,null,null,null,null,"The Framework gives anthrax background and how to improve anthrax prevention and control in animals and people.",null,null,null,null,null,null,null,null,{"$f":"INDEX(Backbone!$R$2:$R$893,MATCH(I47,Backbone!$A$2:$A$893,0))","v":"Guidance document"},null,null,null,{"$f":"INDEX(Backbone!$S$2:$S$893,MATCH(I47,Backbone!$A$2:$A$893,0))","v":"One Health; Disease/Threat Specific "},null,null,null,{"$f":"INDEX(Backbone!$H$2:$H$893,MATCH(I47,Backbone!$A$2:$A$893,0))","v":9.1},null,{"$f":"INDEX(Backbone!$I$2:$I$893,MATCH(I47,Backbone!$A$2:$A$893,0))","v":10},null,{"$f":"INDEX(Backbone!$J$2:$J$893,MATCH(I47,Backbone!$A$2:$A$893,0))","v":8.6},null,{"$f":"INDEX(Backbone!$K$1:$K$893,MATCH(I47,Backbone!$A$1:$A$893,0))","v":4.7},null,{"$f":"INDEX(Backbone!$L$2:$L$893,MATCH(I47,Backbone!$A$2:$A$893,0))","v":9.1999999999999993},null,{"$f":"INDEX(Backbone!$M$2:$M$893,MATCH(I47,Backbone!$A$2:$A$893,0))","v":2},null,{"$f":"INDEX(Backbone!$N$2:$N$893,MATCH(I47,Backbone!$A$2:$A$893,0))","v":6.3},null,{"$f":"INDEX(Backbone!$O$2:$O$893,MATCH(I47,Backbone!$A$2:$A$893,0))","v":4.3},null,{"$f":"INDEX(Backbone!$P$2:$P$893,MATCH(I47,Backbone!$A$2:$A$893,0))","v":6},null,{"$f":"INDEX(Backbone!$Q$2:$Q$893,MATCH(I47,Backbone!$A$2:$A$893,0))","v":0.66888888888888887},null,null,{"$f":"(AG47*$AG$22+AI47*$AI$22+AK47*$AK$22+AM47*$AM$22+AO47*$AO$22+AQ47*$AQ$22+AS47*$AS$22+AU47*$AU$22+AW47*$AW$22)/(SUM($AG$22:$AW$22)*10)","v":{"$error":"#DIV/0!"}},null,null,"Go to \nToolbox: ",null,{"$f":"HYPERLINK(\"#\"&ADDRESS(MATCH(I47,Toolbox!$C$1:$C$300),1,,,\"Toolbox\"),VLOOKUP(I47,Toolbox!$C$1:$C$300,1,FALSE))","v":"Framework for Enhancing Anthrax Prevention and Control "}]
[]
[]
[]
[]
[]
[null,null,null,null,null,null,null,null,{"$f":"Backbone!A195","v":"Integrated Disease Surveillance and Response (IDSR)"},null,null,null,null,null,null,"A strategy aimed at strengthening capacities for detection, confirmation and response to suspected cases and outbreaks, and for use of information to predict and plan for public health events.",null,null,null,null,null,null,null,null,{"$f":"INDEX(Backbone!$R$2:$R$893,MATCH(I53,Backbone!$A$2:$A$893,0))","v":"Guidance document"},null,null,null,{"$f":"INDEX(Backbone!$S$2:$S$893,MATCH(I53,Backbone!$A$2:$A$893,0))","v":"Sector Specific; Generalized"},null,null,null,{"$f":"INDEX(Backbone!$H$2:$H$893,MATCH(I53,Backbone!$A$2:$A$893,0))","v":7.4},null,{"$f":"INDEX(Backbone!$I$2:$I$893,MATCH(I53,Backbone!$A$2:$A$893,0))","v":10},null,{"$f":"INDEX(Backbone!$J$2:$J$893,MATCH(I53,Backbone!$A$2:$A$893,0))","v":7.4},null,{"$f":"INDEX(Backbone!$K$1:$K$893,MATCH(I53,Backbone!$A$1:$A$893,0))","v":8.6999999999999993},null,{"$f":"INDEX(Backbone!$L$2:$L$893,MATCH(I53,Backbone!$A$2:$A$893,0))","v":6.7},null,{"$f":"INDEX(Backbone!$M$2:$M$893,MATCH(I53,Backbone!$A$2:$A$893,0))","v":4.5},null,{"$f":"INDEX(Backbone!$N$2:$N$893,MATCH(I53,Backbone!$A$2:$A$893,0))","v":8},null,{"$f":"INDEX(Backbone!$O$2:$O$893,MATCH(I53,Backbone!$A$2:$A$893,0))","v":7.2},null,{"$f":"INDEX(Backbone!$P$2:$P$893,MATCH(I53,Backbone!$A$2:$A$893,0))","v":8.5},null,{"$f":"INDEX(Backbone!$Q$2:$Q$893,MATCH(I53,Backbone!$A$2:$A$893,0))","v":0.76},null,null,{"$f":"(AG53*$AG$22+AI53*$AI$22+AK53*$AK$22+AM53*$AM$22+AO53*$AO$22+AQ53*$AQ$22+AS53*$AS$22+AU53*$AU$22+AW53*$AW$22)/(SUM($AG$22:$AW$22)*10)","v":{"$error":"#DIV/0!"}},null,null,"Go to \nToolbox: ",null,{"$f":"HYPERLINK(\"#\"&ADDRESS(MATCH(I53,Toolbox!$C$1:$C$300),1,,,\"Toolbox\"),VLOOKUP(I53,Toolbox!$C$1:$C$300,1,FALSE))","v":"Integrated Disease Surveillance and Response (IDSR)"}]

{"sheet":"P6_tools","index":43,"n_rows":36,"n_cols":59,"rows_kept":36,"cut":false,"hidden":false,"merged":[[35,56,39,57],[35,58,39,62],[1,1,3,62],[22,56,26,57],[22,58,26,62],[29,56,33,57],[29,58,33,62],[6,32,20,32],[6,34,20,34],[6,36,20,36],[6,38,20,38],[6,40,20,40],[6,42,20,42],[6,44,20,44],[6,46,20,46],[6,48,20,48],[13,50,20,51],[13,53,20,54],[17,3,20,6],[17,8,20,13],[17,15,20,22],[17,24,20,26],[22,53,26,54],[22,38,26,38],[22,40,26,40],[22,42,26,42],[22,44,26,44],[22,46,26,46],[22,48,26,48],[22,50,26,51],[29,38,33,38],[29,40,33,40],[29,42,33,42],[29,44,33,44],[29,3,39,6],[29,8,33,13],[29,15,33,22],[29,24,33,26],[29,28,33,30],[35,24,39,26],[35,28,39,30],[35,34,39,34],[29,34,33,34],[29,32,33,32],[17,1,40,1],[29,36,33,36],[22,36,26,36],[22,3,26,6],[22,8,26,13],[22,15,26,22],[22,24,26,26],[22,28,26,30],[22,32,26,32],[22,34,26,34],[17,28,20,30],[29,46,33,46],[29,48,33,48],[29,50,33,51],[29,53,33,54],[35,8,39,13],[35,15,39,22],[35,48,39,48],[35,50,39,51],[35,53,39,54],[35,36,39,36],[35,38,39,38],[35,40,39,40],[35,42,39,42],[35,44,39,44],[35,46,39,46],[35,32,39,32]]}
[]
[null,"Workforce Planning Resources"]
[]
[]
[]
[]
[null,null,null,null,null,null,null,null,null,null,null,null,null,null,null,null,null,null,null,null,null,null,null,null,null,null,null,null,null,null,null,null,"Accessibility",null,"Language",null,"Ease of use",null,"Flexibility",null,"Data Needs",null,"Data Analysis",null,"Acceptability",null,"One Health",null,"Impact"]
[]
[]
[]
[]
[]
[]
[null,null,null,null,null,null,null,null,null,null,null,null,null,null,null,null,null,null,null,null,null,null,null,null,null,null,null,null,null,null,null,null,null,null,null,null,null,null,null,null,null,null,null,null,null,null,null,null,null,null,"RAW SCORE",null,null,"ADJUSTED SCORE \n(Based on user preferences)"]
[]
[]
[]
[null,"LEVEL 1 RESOURCES",null,"DESIGNATION",null,null,null,null,"RESOURCE NAME",null,null,null,null,null,null,"SHORT DESCRIPTION",null,null,null,null,null,null,null,null,"RESOURCE TYPE",null,null,null,"RESOURCE GENERALITY"]
[]
[]
[]
[null,null,null,null,null,null,null,null,null,null,null,null,null,null,null,null,null,null,null,null,null,null,null,null,null,null,null,null,null,null,null,null,{"$f":"'Attribute Survey'!S22","v":0},null,{"$f":"'Attribute Survey'!S26","v":0},null,{"$f":"'Attribute Survey'!S30","v":0},null,{"$f":"'Attribute Survey'!S34","v":0},null,{"$f":"'Attribute Survey'!S38","v":0},null,{"$f":"'Attribute Survey'!S42","v":0},null,{"$f":"'Attribute Survey'!S46","v":0},null,{"$f":"'Attribute Survey'!S50","v":0},null,{"$f":"'Attribute Survey'!S54","v":0}]
[null,null,null,"Resources Best Fit For Purpose",null,null,null,null,{"$f":"Backbone!A195","v":"Integrated Disease Surveillance and Response (IDSR)"},null,null,null,null,null,null,"A strategy aimed at strengthening capacities for detection, confirmation and response to suspected cases and outbreaks, and for use of information to predict and plan for public health events.",null,null,null,null,null,null,null,null,{"$f":"INDEX(Backbone!$R2:$R893,MATCH(I23,Backbone!$A2:$A893,0))","v":"Guidance document"},null,null,null,{"$f":"INDEX(Backbone!$S2:$S893,MATCH(I23,Backbone!$A2:$A893,0))","v":"Sector Specific; Generalized"},null,null,null,{"$f":"INDEX(Backbone!$H2:$H893,MATCH(I23,Backbone!$A2:$A893,0))","v":7.4},null,{"$f":"INDEX(Backbone!$I2:$I893,MATCH(I23,Backbone!$A2:$A893,0))","v":10},null,{"$f":"INDEX(Backbone!$J2:$J893,MATCH(I23,Backbone!$A2:$A893,0))","v":7.4},null,{"$f":"INDEX(Backbone!$K2:$K893,MATCH(I23,Backbone!$A2:$A893,0))","v":8.6999999999999993},null,{"$f":"INDEX(Backbone!$L2:$L893,MATCH(I23,Backbone!$A2:$A893,0))","v":6.7},null,{"$f":"INDEX(Backbone!$M2:$M893,MATCH(I23,Backbone!$A2:$A893,0))","v":4.5},null,{"$f":"INDEX(Backbone!$N2:$N893,MATCH(I23,Backbone!$A2:$A893,0))","v":8},null,{"$f":"INDEX(Backbone!$O2:$O893,MATCH(I23,Backbone!$A2:$A893,0))","v":7.2},null,{"$f":"INDEX(Backbone!$P2:$P893,MATCH(I23,Backbone!$A2:$A893,0))","v":8.5},null,{"$f":"INDEX(Backbone!$Q2:$Q893,MATCH(I23,Backbone!$A2:$A893,0))","v":0.76},null,null,{"$f":"(AG23*$AG$22+AI23*$AI$22+AK23*$AK$22+AM23*$AM$22+AO23*$AO$22+AQ23*$AQ$22+AS23*$AS$22+AU23*$AU$22+AW23*$AW$22)/(SUM($AG$22:$AW$22)*10)","v":{"$error":"#DIV/0!"}},null,null,"Go to \nToolbox: ",null,{"$f":"HYPERLINK(\"#\"&ADDRESS(MATCH(I23,Toolbox!$C$1:$C$300),1,,,\"Toolbox\"),VLOOKUP(I23,Toolbox!$C$1:$C$300,1,FALSE))","v":"Integrated Disease Surveillance and Response (IDSR)"}]
[]
[]
[]
[]
[]
[]
[null,null,null,"Other Relevant Resources",null,null,null,null,{"$f":"Backbone!A184","v":"Global Dog Rabies Elimination Pathway (GDREP)"},null,null,null,null,null,null,"An Excel-based tool providing an easy-to-use interface including different aspects of a dog rabies elimination programme, broken down into two main categories for the epidemiological/logistical and financial aspects respectively.",null,null,null,null,null,null,null,null,{"$f":"INDEX(Backbone!$R$2:$R$893,MATCH(I30,Backbone!$A$2:$A$893,0))","v":"Self-assessment tool"},null,null,null,{"$f":"INDEX(Backbone!$S$2:$S$893,MATCH(I30,Backbone!$A$2:$A$893,0))","v":"One Health; Disease/Threat Specific "},null,null,null,{"$f":"INDEX(Backbone!$H$2:$H$893,MATCH(I30,Backbone!$A$2:$A$893,0))","v":9.1},null,{"$f":"INDEX(Backbone!$I$2:$I$893,MATCH(I30,Backbone!$A$2:$A$893,0))","v":7.3},null,{"$f":"INDEX(Backbone!$J$2:$J$893,MATCH(I30,Backbone!$A$2:$A$893,0))","v":8.6999999999999993},null,{"$f":"INDEX(Backbone!$K$1:$K$893,MATCH(I30,Backbone!$A$1:$A$893,0))","v":6},null,{"$f":"INDEX(Backbone!$L$2:$L$893,MATCH(I30,Backbone!$A$2:$A$893,0))","v":7.9},null,{"$f":"INDEX(Backbone!$M$2:$M$893,MATCH(I30,Backbone!$A$2:$A$893,0))","v":6},null,{"$f":"INDEX(Backbone!$N$2:$N$893,MATCH(I30,Backbone!$A$2:$A$893,0))","v":7},null,{"$f":"INDEX(Backbone!$O$2:$O$893,MATCH(I30,Backbone!$A$2:$A$893,0))","v":6.3},null,{"$f":"INDEX(Backbone!$P$2:$P$893,MATCH(I30,Backbone!$A$2:$A$893,0))","v":7},null,{"$f":"INDEX(Backbone!$Q$2:$Q$893,MATCH(I30,Backbone!$A$2:$A$893,0))","v":0.72555555555555551},null,null,{"$f":"(AG30*$AG$22+AI30*$AI$22+AK30*$AK$22+AM30*$AM$22+AO30*$AO$22+AQ30*$AQ$22+AS30*$AS$22+AU30*$AU$22+AW30*$AW$22)/(SUM($AG$22:$AW$22)*10)","v":{"$error":"#DIV/0!"}},null,null,"Go to \nToolbox: ",null,{"$f":"HYPERLINK(\"#\"&ADDRESS(MATCH(I30,Toolbox!$C$1:$C$300),1,,,\"Toolbox\"),VLOOKUP(I30,Toolbox!$C$1:$C$300,1,FALSE))","v":"Global Dog Rabies Elimination Pathway (GDREP)"}]
[]
[]
[]
[]
[]
[null,null,null,null,null,null,null,null,{"$f":"Backbone!A265","v":"Laboratory Leadership Competency Framework (GLLP)"},null,null,null,null,null,null,"The Framework that outlines the essential nine competencies needed to build and direct “National Health Laboratory System”, including human, animal, environmental, agricultural, food and chemical laboratories.",null,null,null,null,null,null,null,null,{"$f":"INDEX(Backbone!$R$2:$R$893,MATCH(I36,Backbone!$A$2:$A$893,0))","v":"Guidance document"},null,null,null,{"$f":"INDEX(Backbone!$S$2:$S$893,MATCH(I36,Backbone!$A$2:$A$893,0))","v":"One Health; Generalized"},null,null,null,{"$f":"INDEX(Backbone!$H$2:$H$893,MATCH(I36,Backbone!$A$2:$A$893,0))","v":9.6},null,{"$f":"INDEX(Backbone!$I$2:$I$893,MATCH(I36,Backbone!$A$2:$A$893,0))","v":8},null,{"$f":"INDEX(Backbone!$J$2:$J$893,MATCH(I36,Backbone!$A$2:$A$893,0))","v":8.4},null,{"$f":"INDEX(Backbone!$K$1:$K$893,MATCH(I36,Backbone!$A$1:$A$893,0))","v":9.6999999999999993},null,{"$f":"INDEX(Backbone!$L$2:$L$893,MATCH(I36,Backbone!$A$2:$A$893,0))","v":7.3},null,{"$f":"INDEX(Backbone!$M$2:$M$893,MATCH(I36,Backbone!$A$2:$A$893,0))","v":2.2999999999999998},null,{"$f":"INDEX(Backbone!$N$2:$N$893,MATCH(I36,Backbone!$A$2:$A$893,0))","v":5},null,{"$f":"INDEX(Backbone!$O$2:$O$893,MATCH(I36,Backbone!$A$2:$A$893,0))","v":8.9},null,{"$f":"INDEX(Backbone!$P$2:$P$893,MATCH(I36,Backbone!$A$2:$A$893,0))","v":4},null,{"$f":"INDEX(Backbone!$Q$2:$Q$893,MATCH(I36,Backbone!$A$2:$A$893,0))","v":0.70222222222222219},null,null,{"$f":"(AG36*$AG$22+AI36*$AI$22+AK36*$AK$22+AM36*$AM$22+AO36*$AO$22+AQ36*$AQ$22+AS36*$AS$22+AU36*$AU$22+AW36*$AW$22)/(SUM($AG$22:$AW$22)*10)","v":{"$error":"#DIV/0!"}},null,null,"Go to \nToolbox: ",null,{"$f":"HYPERLINK(\"#\"&ADDRESS(MATCH(I36,Toolbox!$C$1:$C$300),1,,,\"Toolbox\"),VLOOKUP(I36,Toolbox!$C$1:$C$300,1,FALSE))","v":"Laboratory Leadership Competency Framework (GLLP)"}]

{"sheet":"P7_tools","index":44,"n_rows":89,"n_cols":59,"rows_kept":89,"cut":false,"hidden":false,"merged":[[81,56,85,57],[81,58,85,62],[88,56,92,57],[88,58,92,62],[1,1,3,62],[22,56,26,57],[22,58,26,62],[28,56,32,57],[28,58,32,62],[34,56,38,57],[34,58,38,62],[40,56,44,57],[40,58,44,62],[34,50,38,51],[34,53,38,54],[28,53,32,54],[34,8,38,13],[34,24,38,26],[22,50,26,51],[22,53,26,54],[28,8,32,13],[28,15,32,22],[28,32,32,32],[28,34,32,34],[28,36,32,36],[28,38,32,38],[22,38,26,38],[22,40,26,40],[22,42,26,42],[22,34,26,34],[22,36,26,36],[22,44,26,44],[22,46,26,46],[22,48,26,48],[22,15,26,22],[22,24,26,26],[22,28,26,30],[22,32,26,32],[17,28,20,30],[22,3,44,6],[22,8,26,13],[34,42,38,42],[34,44,38,44],[34,46,38,46],[34,48,38,48],[34,32,38,32],[34,34,38,34],[34,36,38,36],[34,38,38,38],[34,40,38,40],[28,40,32,40],[34,15,38,22],[34,28,38,30],[6,32,20,32],[6,34,20,34],[6,36,20,36],[6,38,20,38],[6,40,20,40],[6,42,20,42],[6,44,20,44],[6,46,20,46],[6,48,20,48],[13,50,20,51],[13,53,20,54],[17,1,44,1],[17,3,20,6],[17,8,20,13],[17,15,20,22],[28,42,32,42],[17,24,20,26],[28,44,32,44],[28,46,32,46],[28,48,32,48],[28,50,32,51],[28,24,32,26],[28,28,32,30],[40,53,44,54],[40,24,44,26],[40,28,44,30],[40,32,44,32],[40,34,44,34],[81,34,85,34],[45,1,55,1],[40,48,44,48],[40,50,44,51],[81,40,85,40],[72,50,79,51],[72,1,96,1],[88,48,92,48],[88,50,92,51],[88,3,92,6],[88,8,92,13],[88,15,92,22],[88,24,92,26],[88,28,92,30],[88,32,92,32],[88,34,92,34],[40,36,44,36],[40,38,44,38],[40,40,44,40],[40,42,44,42],[40,44,44,44],[40,46,44,46],[40,8,44,13],[40,15,44,22],[72,53,79,54],[76,3,79,6],[76,8,79,13],[76,15,79,22],[76,24,79,26],[76,28,79,30],[81,3,85,6],[65,32,79,32],[65,34,79,34],[65,36,79,36],[65,38,79,38],[65,40,79,40],[65,42,79,42],[65,44,79,44],[65,46,79,46],[81,44,85,44],[81,46,85,46],[81,8,85,13],[81,15,85,22],[81,24,85,26],[81,28,85,30],[81,32,85,32],[81,42,85,42],[65,48,79,48],[88,53,92,54],[88,36,92,36],[88,38,92,38],[88,40,92,40],[88,42,92,42],[88,44,92,44],[88,46,92,46],[81,48,85,48],[81,50,85,51],[81,53,85,54],[81,36,85,36],[81,38,85,38]]}
[]
[null,"Legal Frameworks Planning Resources"]
[]
[]
[]
[]
[null,null,null,null,null,null,null,null,null,null,null,null,null,null,null,null,null,null,null,null,null,null,null,null,null,null,null,null,null,null,null,null,"Accessibility",null,"Language",null,"Ease of use",null,"Flexibility",null,"Data Needs",null,"Data Analysis",null,"Acceptability",null,"One Health",null,"Impact"]
[]
[]
[]
[]
[]
[]
[null,null,null,null,null,null,null,null,null,null,null,null,null,null,null,null,null,null,null,null,null,null,null,null,null,null,null,null,null,null,null,null,null,null,null,null,null,null,null,null,null,null,null,null,null,null,null,null,null,null,"RAW SCORE",null,null,"ADJUSTED SCORE \n(Based on user preferences)"]
[]
[]
[]
[null,"LEVEL 1 RESOURCES",null,"DESIGNATION",null,null,null,null,"RESOURCE NAME",null,null,null,null,null,null,"SHORT DESCRIPTION",null,null,null,null,null,null,null,null,"RESOURCE TYPE",null,null,null,"RESOURCE GENERALITY"]
[]
[]
[]
[null,null,null,null,null,null,null,null,null,null,null,null,null,null,null,null,null,null,null,null,null,null,null,null,null,null,null,null,null,null,null,null,{"$f":"'Attribute Survey'!S22","v":0},null,{"$f":"'Attribute Survey'!S26","v":0},null,{"$f":"'Attribute Survey'!S30","v":0},null,{"$f":"'Attribute Survey'!S34","v":0},null,{"$f":"'Attribute Survey'!S38","v":0},null,{"$f":"'Attribute Survey'!S42","v":0},null,{"$f":"'Attribute Survey'!S46","v":0},null,{"$f":"'Attribute Survey'!S50","v":0},null,{"$f":"'Attribute Survey'!S54","v":0}]
[null,null,null,"Other Relevant Resources",null,null,null,null,{"$f":"Backbone!A184","v":"Global Dog Rabies Elimination Pathway (GDREP)"},null,null,null,null,null,null,"An Excel-based tool providing an easy-to-use interface including different aspects of a dog rabies elimination programme, broken down into two main categories for the epidemiological/logistical and financial aspects respectively.",null,null,null,null,null,null,null,null,{"$f":"INDEX(Backbone!$R$2:$R$893,MATCH(I23,Backbone!$A$2:$A$893,0))","v":"Self-assessment tool"},null,null,null,{"$f":"INDEX(Backbone!$S$2:$S$893,MATCH(I23,Backbone!$A$2:$A$893,0))","v":"One Health; Disease/Threat Specific "},null,null,null,{"$f":"INDEX(Backbone!$H$2:$H$893,MATCH(I23,Backbone!$A$2:$A$893,0))","v":9.1},null,{"$f":"INDEX(Backbone!$I$2:$I$893,MATCH(I23,Backbone!$A$2:$A$893,0))","v":7.3},null,{"$f":"INDEX(Backbone!$J$2:$J$893,MATCH(I23,Backbone!$A$2:$A$893,0))","v":8.6999999999999993},null,{"$f":"INDEX(Backbone!$K$1:$K$893,MATCH(I23,Backbone!$A$1:$A$893,0))","v":6},null,{"$f":"INDEX(Backbone!$L$2:$L$893,MATCH(I23,Backbone!$A$2:$A$893,0))","v":7.9},null,{"$f":"INDEX(Backbone!$M$2:$M$893,MATCH(I23,Backbone!$A$2:$A$893,0))","v":6},null,{"$f":"INDEX(Backbone!$N$2:$N$893,MATCH(I23,Backbone!$A$2:$A$893,0))","v":7},null,{"$f":"INDEX(Backbone!$O$2:$O$893,MATCH(I23,Backbone!$A$2:$A$893,0))","v":6.3},null,{"$f":"INDEX(Backbone!$P$2:$P$893,MATCH(I23,Backbone!$A$2:$A$893,0))","v":7},null,{"$f":"INDEX(Backbone!$Q$2:$Q$893,MATCH(I23,Backbone!$A$2:$A$893,0))","v":0.72555555555555551},null,null,{"$f":"(AG23*$AG$22+AI23*$AI$22+AK23*$AK$22+AM23*$AM$22+AO23*$AO$22+AQ23*$AQ$22+AS23*$AS$22+AU23*$AU$22+AW23*$AW$22)/(SUM($AG$22:$AW$22)*10)","v":{"$error":"#DIV/0!"}},null,null,"Go to \nToolbox: ",null,{"$f":"HYPERLINK(\"#\"&ADDRESS(MATCH(I23,Toolbox!$C$1:$C$300),1,,,\"Toolbox\"),VLOOKUP(I23,Toolbox!$C$1:$C$300,1,FALSE))","v":"Global Dog Rabies Elimination Pathway (GDREP)"}]
[]
[]
[]
[]
[]
[null,null,null,null,null,null,null,null,{"$f":"Backbone!A291","v":"Methodology to analyse AMR-relevant legislation in the food and agriculture sector"},null,null,null,null,null,null,"A methodology designed to guide the analyses of national legislation relevant for AMR in the food and agriculture sectors.",null,null,null,null,null,null,null,null,{"$f":"INDEX(Backbone!$R$2:$R$893,MATCH(I29,Backbone!$A$2:$A$893,0))","v":"Guidance document"},null,null,null,{"$f":"INDEX(Backbone!$S$2:$S$893,MATCH(I29,Backbone!$A$2:$A$893,0))","v":"One Health; Generalized"},null,null,null,{"$f":"INDEX(Backbone!$H$2:$H$893,MATCH(I29,Backbone!$A$2:$A$893,0))","v":7.4},null,{"$f":"INDEX(Backbone!$I$2:$I$893,MATCH(I29,Backbone!$A$2:$A$893,0))","v":5.5},null,{"$f":"INDEX(Backbone!$J$2:$J$893,MATCH(I29,Backbone!$A$2:$A$893,0))","v":7.6},null,{"$f":"INDEX(Backbone!$K$1:$K$893,MATCH(I29,Backbone!$A$1:$A$893,0))","v":4},null,{"$f":"INDEX(Backbone!$L$2:$L$893,MATCH(I29,Backbone!$A$2:$A$893,0))","v":8.1999999999999993},null,{"$f":"INDEX(Backbone!$M$2:$M$893,MATCH(I29,Backbone!$A$2:$A$893,0))","v":4.5},null,{"$f":"INDEX(Backbone!$N$2:$N$893,MATCH(I29,Backbone!$A$2:$A$893,0))","v":4.5},null,{"$f":"INDEX(Backbone!$O$2:$O$893,MATCH(I29,Backbone!$A$2:$A$893,0))","v":6.6},null,{"$f":"INDEX(Backbone!$P$2:$P$893,MATCH(I29,Backbone!$A$2:$A$893,0))","v":4.5},null,{"$f":"INDEX(Backbone!$Q$2:$Q$893,MATCH(I29,Backbone!$A$2:$A$893,0))","v":0.58666666666666667},null,null,{"$f":"(AG29*$AG$22+AI29*$AI$22+AK29*$AK$22+AM29*$AM$22+AO29*$AO$22+AQ29*$AQ$22+AS29*$AS$22+AU29*$AU$22+AW29*$AW$22)/(SUM($AG$22:$AW$22)*10)","v":{"$error":"#DIV/0!"}},null,null,"Go to \nToolbox: ",null,{"$f":"HYPERLINK(\"#\"&ADDRESS(MATCH(I29,Toolbox!$C$1:$C$300),1,,,\"Toolbox\"),VLOOKUP(I29,Toolbox!$C$1:$C$300,1,FALSE))","v":"Methodology to analyse AMR-relevant legislation in the food and agriculture sector"}]
[]
[]
[]
[]
[]
[null,null,null,null,null,null,null,null,{"$f":"Backbone!A420","v":"World Organisation for Animal Health (WOAH) PVS Gap Analysis"},null,null,null,null,null,null,"Supports countries in detailed planning based on their PVS Evaluation results.",null,null,null,null,null,null,null,null,{"$f":"INDEX(Backbone!$R$2:$R$893,MATCH(I35,Backbone!$A$2:$A$893,0))","v":"Guided/Facilitated tool or process"},null,null,null,{"$f":"INDEX(Backbone!$S$2:$S$893,MATCH(I35,Backbone!$A$2:$A$893,0))","v":"Sector Specific; Generalized"},null,null,null,{"$f":"INDEX(Backbone!$H$2:$H$893,MATCH(I35,Backbone!$A$2:$A$893,0))","v":6.8},null,{"$f":"INDEX(Backbone!$I$2:$I$893,MATCH(I35,Backbone!$A$2:$A$893,0))","v":8},null,{"$f":"INDEX(Backbone!$J$2:$J$893,MATCH(I35,Backbone!$A$2:$A$893,0))","v":5.6},null,{"$f":"INDEX(Backbone!$K$1:$K$893,MATCH(I35,Backbone!$A$1:$A$893,0))","v":10},null,{"$f":"INDEX(Backbone!$L$2:$L$893,MATCH(I35,Backbone!$A$2:$A$893,0))","v":6},null,{"$f":"INDEX(Backbone!$M$2:$M$893,MATCH(I35,Backbone!$A$2:$A$893,0))","v":4.3},null,{"$f":"INDEX(Backbone!$N$2:$N$893,MATCH(I35,Backbone!$A$2:$A$893,0))","v":9.5},null,{"$f":"INDEX(Backbone!$O$2:$O$893,MATCH(I35,Backbone!$A$2:$A$893,0))","v":4.7},null,{"$f":"INDEX(Backbone!$P$2:$P$893,MATCH(I35,Backbone!$A$2:$A$893,0))","v":7},null,{"$f":"INDEX(Backbone!$Q$2:$Q$893,MATCH(I35,Backbone!$A$2:$A$893,0))","v":0.68777777777777771},null,null,{"$f":"(AG35*$AG$22+AI35*$AI$22+AK35*$AK$22+AM35*$AM$22+AO35*$AO$22+AQ35*$AQ$22+AS35*$AS$22+AU35*$AU$22+AW35*$AW$22)/(SUM($AG$22:$AW$22)*10)","v":{"$error":"#DIV/0!"}},null,null,"Go to \nToolbox: ",null,{"$f":"HYPERLINK(\"#\"&ADDRESS(MATCH(I35,Toolbox!$C$1:$C$300),1,,,\"Toolbox\"),VLOOKUP(I35,Toolbox!$C$1:$C$300,1,FALSE))","v":"World Organisation for Animal Health (WOAH) PVS Gap Analysis"}]
[]
[]
[]
[]
[]
[null,null,null,null,null,null,null,null,{"$f":"Backbone!A453","v":"Stepwise Approach towards Rabies Elimination (SARE)"},null,null,null,null,null,null,"A practical planning, monitoring and evaluation tool to guide, develop and refine rabies control programmes.",null,null,null,null,null,null,null,null,{"$f":"INDEX(Backbone!$R$2:$R$893,MATCH(I41,Backbone!$A$2:$A$893,0))","v":"Self-assessment tool"},null,null,null,{"$f":"INDEX(Backbone!$S$2:$S$893,MATCH(I41,Backbone!$A$2:$A$893,0))","v":"One Health; Disease/Threat Specific "},null,null,null,{"$f":"INDEX(Backbone!$H$2:$H$893,MATCH(I41,Backbone!$A$2:$A$893,0))","v":8},null,{"$f":"INDEX(Backbone!$I$2:$I$893,MATCH(I41,Backbone!$A$2:$A$893,0))","v":9},null,{"$f":"INDEX(Backbone!$J$2:$J$893,MATCH(I41,Backbone!$A$2:$A$893,0))","v":6.6},null,{"$f":"INDEX(Backbone!$K$1:$K$893,MATCH(I41,Backbone!$A$1:$A$893,0))","v":3.3},null,{"$f":"INDEX(Backbone!$L$2:$L$893,MATCH(I41,Backbone!$A$2:$A$893,0))","v":5.7},null,{"$f":"INDEX(Backbone!$M$2:$M$893,MATCH(I41,Backbone!$A$2:$A$893,0))","v":6.8},null,{"$f":"INDEX(Backbone!$N$2:$N$893,MATCH(I41,Backbone!$A$2:$A$893,0))","v":8},null,{"$f":"INDEX(Backbone!$O$2:$O$893,MATCH(I41,Backbone!$A$2:$A$893,0))","v":8.6},null,{"$f":"INDEX(Backbone!$P$2:$P$893,MATCH(I41,Backbone!$A$2:$A$893,0))","v":9.5},null,{"$f":"INDEX(Backbone!$Q$2:$Q$893,MATCH(I41,Backbone!$A$2:$A$893,0))","v":0.72777777777777775},null,null,{"$f":"(AG41*$AG$22+AI41*$AI$22+AK41*$AK$22+AM41*$AM$22+AO41*$AO$22+AQ41*$AQ$22+AS41*$AS$22+AU41*$AU$22+AW41*$AW$22)/(SUM($AG$22:$AW$22)*10)","v":{"$error":"#DIV/0!"}},null,null,"Go to \nToolbox: ",null,{"$f":"HYPERLINK(\"#\"&ADDRESS(MATCH(I41,Toolbox!$C$1:$C$300),1,,,\"Toolbox\"),VLOOKUP(I41,Toolbox!$C$1:$C$300,1,FALSE))","v":"Stepwise Approach towards Rabies Elimination (SARE)"}]
[]
[]
[]
[]
[]
[]
[]
[]
[]
[]
[]
[]
[]
[]
[]
[]
[]
[]
[]
[]
[]
[]
[]
[]
[null,null,null,null,null,null,null,null,null,null,null,null,null,null,null,null,null,null,null,null,null,null,null,null,null,null,null,null,null,null,null,null,"Accessibility",null,"Language",null,"Ease of use",null,"Flexibility",null,"Data Needs",null,"Data Analysis",null,"Acceptability",null,"One Health",null,"Impact"]
[]
[]
[]
[]
[]
[]
[null,"LEVEL 3  RESOURCES",null,null,null,null,null,null,null,null,null,null,null,null,null,null,null,null,null,null,null,null,null,null,null,null,null,null,null,null,null,null,null,null,null,null,null,null,null,null,null,null,null,null,null,null,null,null,null,null,"RAW SCORE",null,null,"ADJUSTED SCORE \n(Based on user preferences)"]
[]
[]
[]
[null,null,null,"DESIGNATION",null,null,null,null,"RESOURCE NAME",null,null,null,null,null,null,"SHORT DESCRIPTION",null,null,null,null,null,null,null,null,"RESOURCE TYPE",null,null,null,"RESOURCE GENERALITY"]
[]
[]
[]
[null,null,null,null,null,null,null,null,null,null,null,null,null,null,null,null,null,null,null,null,null,null,null,null,null,null,null,null,null,null,null,null,{"$f":"'Attribute Survey'!S231","v":0},null,{"$f":"'Attribute Survey'!S235","v":0},null,{"$f":"'Attribute Survey'!S239","v":0},null,{"$f":"'Attribute Survey'!S243","v":0},null,{"$f":"'Attribute Survey'!S247","v":0},null,{"$f":"'Attribute Survey'!S251","v":0},null,{"$f":"'Attribute Survey'!S255","v":0},null,{"$f":"'Attribute Survey'!S259","v":0},null,{"$f":"'Attribute Survey'!S263","v":0}]
[null,null,null,"Resources Best Fit for Purpose",null,null,null,null,{"$f":"Backbone!A61","v":"Cross Border Multisectoral Communication and Coordination Strategies"},null,null,null,null,null,null,"A workshop guiding stakeholders through the process of determining sector specific information sharing mechanisms, and creating multi-sectoral or cross-border information sharing mechanisms.",null,null,null,null,null,null,null,null,{"$f":"INDEX(Backbone!$R$2:$R$893,MATCH(I82,Backbone!$A$2:$A$893,0))","v":"Guided/Facilitated tool or process"},null,null,null,{"$f":"INDEX(Backbone!$S$2:$S$893,MATCH(I82,Backbone!$A$2:$A$893,0))","v":"One Health; Generalized "},null,null,null,{"$f":"INDEX(Backbone!$H$2:$H$893,MATCH(I82,Backbone!$A$2:$A$893,0))","v":8.9},null,{"$f":"INDEX(Backbone!$I$2:$I$893,MATCH(I82,Backbone!$A$2:$A$893,0))","v":6},null,{"$f":"INDEX(Backbone!$J$2:$J$893,MATCH(I82,Backbone!$A$2:$A$893,0))","v":7.6},null,{"$f":"INDEX(Backbone!$K$2:$K$893,MATCH(I82,Backbone!$A$2:$A$893,0))","v":9},null,{"$f":"INDEX(Backbone!$L$2:$L$893,MATCH(I82,Backbone!$A$2:$A$893,0))","v":5.6},null,{"$f":"INDEX(Backbone!$M$2:$M$893,MATCH(I82,Backbone!$A$2:$A$893,0))","v":3.5},null,{"$f":"INDEX(Backbone!$N$2:$N$893,MATCH(I82,Backbone!$A$2:$A$893,0))","v":4},null,{"$f":"INDEX(Backbone!$O$2:$O$893,MATCH(I82,Backbone!$A$2:$A$893,0))","v":8.3000000000000007},null,{"$f":"INDEX(Backbone!$P$2:$P$893,MATCH(I82,Backbone!$A$2:$A$893,0))","v":8},null,{"$f":"INDEX(Backbone!$Q$2:$Q$893,MATCH(I82,Backbone!$A$2:$A$893,0))","v":0.67666666666666675},null,null,{"$f":"(AG82*$AG$22+AI82*$AI$22+AK82*$AK$22+AM82*$AM$22+AO82*$AO$22+AQ82*$AQ$22+AS82*$AS$22+AU82*$AU$22+AW82*$AW$22)/(SUM($AG$22:$AW$22)*10)","v":{"$error":"#DIV/0!"}},null,null,"Go to \nToolbox: ",null,{"$f":"HYPERLINK(\"#\"&ADDRESS(MATCH(I82,Toolbox!$C$1:$C$300),1,,,\"Toolbox\"),VLOOKUP(I82,Toolbox!$C$1:$C$300,1,FALSE))","v":"Cross Border Multisectoral Communication and Coordination Strategies"}]
[]
[]
[]
[]
[]
[]
[null,null,null,"Other Relevant Resources",null,null,null,null,{"$f":"Backbone!A418","v":"One-stop border post sourcebook"},null,null,null,null,null,null,"This resource, provides a comprehensive description of a number of considerations that national level agencies, in two neighboring countries, should address when establishing a shared system for managing cross-border movement of humans and goods at priority ground crossings.",null,null,null,null,null,null,null,null,{"$f":"INDEX(Backbone!$R$2:$R$893,MATCH(I89,Backbone!$A$2:$A$893,0))","v":"Guidance document"},null,null,null,{"$f":"INDEX(Backbone!$S$2:$S$893,MATCH(I89,Backbone!$A$2:$A$893,0))","v":"One Health; Disease/Threat Specific "},null,null,null,{"$f":"INDEX(Backbone!$H$2:$H$893,MATCH(I89,Backbone!$A$2:$A$893,0))","v":8.4},null,{"$f":"INDEX(Backbone!$I$2:$I$893,MATCH(I89,Backbone!$A$2:$A$893,0))","v":2},null,{"$f":"INDEX(Backbone!$J$2:$J$893,MATCH(I89,Backbone!$A$2:$A$893,0))","v":6},null,{"$f":"INDEX(Backbone!$K$1:$K$893,MATCH(I89,Backbone!$A$1:$A$893,0))","v":10},null,{"$f":"INDEX(Backbone!$L$2:$L$893,MATCH(I89,Backbone!$A$2:$A$893,0))","v":8.6},null,{"$f":"INDEX(Backbone!$M$2:$M$893,MATCH(I89,Backbone!$A$2:$A$893,0))","v":2},null,{"$f":"INDEX(Backbone!$N$2:$N$893,MATCH(I89,Backbone!$A$2:$A$893,0))","v":8},null,{"$f":"INDEX(Backbone!$O$2:$O$893,MATCH(I89,Backbone!$A$2:$A$893,0))","v":5.5},null,{"$f":"INDEX(Backbone!$P$2:$P$893,MATCH(I89,Backbone!$A$2:$A$893,0))","v":8},null,{"$f":"INDEX(Backbone!$Q$2:$Q$893,MATCH(I89,Backbone!$A$2:$A$893,0))","v":0.65},null,null,{"$f":"(AG89*$AG$22+AI89*$AI$22+AK89*$AK$22+AM89*$AM$22+AO89*$AO$22+AQ89*$AQ$22+AS89*$AS$22+AU89*$AU$22+AW89*$AW$22)/(SUM($AG$22:$AW$22)*10)","v":{"$error":"#DIV/0!"}},null,null,"Go to \nToolbox: ",null,{"$f":"HYPERLINK(\"#\"&ADDRESS(MATCH(I89,Toolbox!$C$1:$C$300),1,,,\"Toolbox\"),VLOOKUP(I89,Toolbox!$C$1:$C$300,1,FALSE))","v":"One-stop border post sourcebook"}]

{"sheet":"P8_tools","index":45,"n_rows":134,"n_cols":59,"rows_kept":134,"cut":false,"hidden":false,"merged":[[82,56,86,57],[82,58,86,62],[88,56,92,57],[88,58,92,62],[127,56,131,57],[127,58,131,62],[133,56,137,57],[133,58,137,62],[1,1,3,62],[22,56,26,57],[22,58,26,62],[28,56,32,57],[28,58,32,62],[34,56,38,57],[34,58,38,62],[41,56,45,57],[41,58,45,62],[22,50,26,51],[22,53,26,54],[28,8,32,13],[28,15,32,22],[28,38,32,38],[22,38,26,38],[22,40,26,40],[22,42,26,42],[6,32,20,32],[6,34,20,34],[6,36,20,36],[6,38,20,38],[6,40,20,40],[6,42,20,42],[6,44,20,44],[6,46,20,46],[6,48,20,48],[13,50,20,51],[13,53,20,54],[17,1,45,1],[17,3,20,6],[17,8,20,13],[17,15,20,22],[17,24,20,26],[17,28,20,30],[22,3,38,6],[22,8,26,13],[22,44,26,44],[22,46,26,46],[22,48,26,48],[22,15,26,22],[22,24,26,26],[22,28,26,30],[22,32,26,32],[22,34,26,34],[22,36,26,36],[34,48,38,48],[34,50,38,51],[34,53,38,54],[28,53,32,54],[28,40,32,40],[28,42,32,42],[28,44,32,44],[28,46,32,46],[28,48,32,48],[28,50,32,51],[28,24,32,26],[28,28,32,30],[28,32,32,32],[28,34,32,34],[28,36,32,36],[41,3,45,6],[41,8,45,13],[41,15,45,22],[41,24,45,26],[41,28,45,30],[41,32,45,32],[34,42,38,42],[34,44,38,44],[34,46,38,46],[41,46,45,46],[34,8,38,13],[34,15,38,22],[34,24,38,26],[34,28,38,30],[34,32,38,32],[34,34,38,34],[34,36,38,36],[34,38,38,38],[34,40,38,40],[41,48,45,48],[41,50,45,51],[41,53,45,54],[41,34,45,34],[41,36,45,36],[41,38,45,38],[41,40,45,40],[41,42,45,42],[41,44,45,44],[73,50,80,51],[73,53,80,54],[77,3,80,6],[77,8,80,13],[77,15,80,22],[77,24,80,26],[66,32,80,32],[66,34,80,34],[66,36,80,36],[66,38,80,38],[66,40,80,40],[66,42,80,42],[77,28,80,30],[82,3,92,6],[82,8,86,13],[82,15,86,22],[82,24,86,26],[82,28,86,30],[66,44,80,44],[66,46,80,46],[66,48,80,48],[82,44,86,44],[82,46,86,46],[82,48,86,48],[127,34,131,34],[82,50,86,51],[82,53,86,54],[88,8,92,13],[88,15,92,22],[88,24,92,26],[88,28,92,30],[88,32,92,32],[82,32,86,32],[82,34,86,34],[82,36,86,36],[82,38,86,38],[82,40,86,40],[82,42,86,42],[88,46,92,46],[88,48,92,48],[88,50,92,51],[88,53,92,54],[88,34,92,34],[88,36,92,36],[88,38,92,38],[88,40,92,40],[88,42,92,42],[88,44,92,44],[127,40,131,40],[118,50,125,51],[118,53,125,54],[122,3,125,6],[122,8,125,13],[122,15,125,22],[122,24,125,26],[122,28,125,30],[127,3,137,6],[111,32,125,32],[111,34,125,34],[111,36,125,36],[111,38,125,38],[111,40,125,40],[111,42,125,42],[111,44,125,44],[111,46,125,46],[127,44,131,44],[127,46,131,46],[127,8,131,13],[127,15,131,22],[127,24,131,26],[127,28,131,30],[127,32,131,32],[127,42,131,42],[111,48,125,48],[70,1,99,1],[117,1,142,1],[133,50,137,51],[133,53,137,54],[133,38,137,38],[133,40,137,40],[133,42,137,42],[133,44,137,44],[133,46,137,46],[133,48,137,48],[127,48,131,48],[127,50,131,51],[127,53,131,54],[133,8,137,13],[133,15,137,22],[133,24,137,26],[133,28,137,30],[133,32,137,32],[133,34,137,34],[133,36,137,36],[127,36,131,36],[127,38,131,38]]}
[]
[null,"Coordinated Communication Planning Resources"]
[]
[]
[]
[]
[null,null,null,null,null,null,null,null,null,null,null,null,null,null,null,null,null,null,null,null,null,null,null,null,null,null,null,null,null,null,null,null,"Accessibility",null,"Language",null,"Ease of use",null,"Flexibility",null,"Data Needs",null,"Data Analysis",null,"Acceptability",null,"One Health",null,"Impact"]
[]
[]
[]
[]
[]
[]
[null,null,null,null,null,null,null,null,null,null,null,null,null,null,null,null,null,null,null,null,null,null,null,null,null,null,null,null,null,null,null,null,null,null,null,null,null,null,null,null,null,null,null,null,null,null,null,null,null,null,"RAW SCORE",null,null,"ADJUSTED SCORE \n(Based on user preferences)"]
[]
[]
[]
[null,"LEVEL 1 RESOURCES",null,"DESIGNATION",null,null,null,null,"RESOURCE NAME",null,null,null,null,null,null,"SHORT DESCRIPTION",null,null,null,null,null,null,null,null,"RESOURCE TYPE",null,null,null,"RESOURCE GENERALITY"]
[]
[]
[]
[null,null,null,null,null,null,null,null,null,null,null,null,null,null,null,null,null,null,null,null,null,null,null,null,null,null,null,null,null,null,null,null,{"$f":"'Attribute Survey'!S22","v":0},null,{"$f":"'Attribute Survey'!S26","v":0},null,{"$f":"'Attribute Survey'!S30","v":0},null,{"$f":"'Attribute Survey'!S34","v":0},null,{"$f":"'Attribute Survey'!S38","v":0},null,{"$f":"'Attribute Survey'!S42","v":0},null,{"$f":"'Attribute Survey'!S46","v":0},null,{"$f":"'Attribute Survey'!S50","v":0},null,{"$f":"'Attribute Survey'!S54","v":0}]
[null,null,null,"Resources Best Fit For Purpose",null,null,null,null,{"$f":"Backbone!A433","v":"One Health European Joint Program (OHEJP) Glossary"},null,null,null,null,null,null,"The web-based community driven One Health glossary of different One Health or sector specific terms from public health, animal health and food safety.",null,null,null,null,null,null,null,null,{"$f":"INDEX(Backbone!$R2:$R893,MATCH(I23,Backbone!$A2:$A893,0))","v":"Hardware or Software"},null,null,null,{"$f":"INDEX(Backbone!$S2:$S893,MATCH(I23,Backbone!$A2:$A893,0))","v":"One Health; Generalized"},null,null,null,{"$f":"INDEX(Backbone!$H2:$H893,MATCH(I23,Backbone!$A2:$A893,0))","v":8.8000000000000007},null,{"$f":"INDEX(Backbone!$I2:$I893,MATCH(I23,Backbone!$A2:$A893,0))","v":6},null,{"$f":"INDEX(Backbone!$J2:$J893,MATCH(I23,Backbone!$A2:$A893,0))","v":8.4},null,{"$f":"INDEX(Backbone!$K2:$K893,MATCH(I23,Backbone!$A2:$A893,0))","v":7},null,{"$f":"INDEX(Backbone!$L2:$L893,MATCH(I23,Backbone!$A2:$A893,0))","v":9.1999999999999993},null,{"$f":"INDEX(Backbone!$M2:$M893,MATCH(I23,Backbone!$A2:$A893,0))","v":7.6},null,{"$f":"INDEX(Backbone!$N2:$N893,MATCH(I23,Backbone!$A2:$A893,0))","v":7},null,{"$f":"INDEX(Backbone!$O2:$O893,MATCH(I23,Backbone!$A2:$A893,0))","v":7.1},null,{"$f":"INDEX(Backbone!$P2:$P893,MATCH(I23,Backbone!$A2:$A893,0))","v":5},null,{"$f":"INDEX(Backbone!$Q2:$Q893,MATCH(I23,Backbone!$A2:$A893,0))","v":0.73444444444444457},null,null,{"$f":"(AG23*$AG$22+AI23*$AI$22+AK23*$AK$22+AM23*$AM$22+AO23*$AO$22+AQ23*$AQ$22+AS23*$AS$22+AU23*$AU$22+AW23*$AW$22)/(SUM($AG$22:$AW$22)*10)","v":{"$error":"#DIV/0!"}},null,null,"Go to \nToolbox: ",null,{"$f":"HYPERLINK(\"#\"&ADDRESS(MATCH(I23,Toolbox!$C$1:$C$300),1,,,\"Toolbox\"),VLOOKUP(I23,Toolbox!$C$1:$C$300,1,FALSE))","v":"One Health European Joint Program (OHEJP) Glossary"}]
[]
[]
[]
[]
[]
[null,null,null,null,null,null,null,null,{"$f":"Backbone!A396","v":"One Health Surveillance (OHS) Codex "},null,null,null,null,null,null,"A high-level framework that supports collaboration, mutual understanding, knowledge exchange and data interoperability among One Health surveillance sectors.",null,null,null,null,null,null,null,null,{"$f":"INDEX(Backbone!$R$2:$R$893,MATCH(I29,Backbone!$A$2:$A$893,0))","v":"Self-assessment tool"},null,null,null,{"$f":"INDEX(Backbone!$S$2:$S$893,MATCH(I29,Backbone!$A$2:$A$893,0))","v":"One Health; Generalized"},null,null,null,{"$f":"INDEX(Backbone!$H$2:$H$893,MATCH(I29,Backbone!$A$2:$A$893,0))","v":9},null,{"$f":"INDEX(Backbone!$I$2:$I$893,MATCH(I29,Backbone!$A$2:$A$893,0))","v":6},null,{"$f":"INDEX(Backbone!$J$2:$J$893,MATCH(I29,Backbone!$A$2:$A$893,0))","v":8.5},null,{"$f":"INDEX(Backbone!$K$2:$K$893,MATCH(I29,Backbone!$A$2:$A$893,0))","v":8.6999999999999993},null,{"$f":"INDEX(Backbone!$L$2:$L$893,MATCH(I29,Backbone!$A$2:$A$893,0))","v":8.1},null,{"$f":"INDEX(Backbone!$M$2:$M$893,MATCH(I29,Backbone!$A$2:$A$893,0))","v":2.8},null,{"$f":"INDEX(Backbone!$N$2:$N$893,MATCH(I29,Backbone!$A$2:$A$893,0))","v":2},null,{"$f":"INDEX(Backbone!$O$2:$O$893,MATCH(I29,Backbone!$A$2:$A$893,0))","v":6},null,{"$f":"INDEX(Backbone!$P$2:$P$893,MATCH(I29,Backbone!$A$2:$A$893,0))","v":5},null,{"$f":"INDEX(Backbone!$Q$2:$Q$893,MATCH(I29,Backbone!$A$2:$A$893,0))","v":0.62333333333333329},null,null,{"$f":"(AG29*$AG$22+AI29*$AI$22+AK29*$AK$22+AM29*$AM$22+AO29*$AO$22+AQ29*$AQ$22+AS29*$AS$22+AU29*$AU$22+AW29*$AW$22)/(SUM($AG$22:$AW$22)*10)","v":{"$error":"#DIV/0!"}},null,null,"Go to \nToolbox: ",null,{"$f":"HYPERLINK(\"#\"&ADDRESS(MATCH(I29,Toolbox!$C$1:$C$300),1,,,\"Toolbox\"),VLOOKUP(I29,Toolbox!$C$1:$C$300,1,FALSE))","v":"One Health Surveillance (OHS) Codex "}]
[]
[]
[]
[]
[]
[null,null,null,null,null,null,null,null,{"$f":"Backbone!A648","v":"Preparedness and Response Planning Toolkit"},null,null,null,null,null,null,"This toolkit is designed to support countries in their development of multisectoral preparedness and response plans for public health events.",null,null,null,null,null,null,null,null,{"$f":"INDEX(Backbone!$R$2:$R$893,MATCH(I35,Backbone!$A$2:$A$893,0))","v":"Guidance document"},null,null,null,{"$f":"INDEX(Backbone!$S$2:$S$893,MATCH(I35,Backbone!$A$2:$A$893,0))","v":"One Health; Generalized"},null,null,null,{"$f":"INDEX(Backbone!$H$2:$H$893,MATCH(I35,Backbone!$A$2:$A$893,0))","v":8.4},null,{"$f":"INDEX(Backbone!$I$2:$I$893,MATCH(I35,Backbone!$A$2:$A$893,0))","v":8},null,{"$f":"INDEX(Backbone!$J$2:$J$893,MATCH(I35,Backbone!$A$2:$A$893,0))","v":8.4},null,{"$f":"INDEX(Backbone!$K$1:$K$893,MATCH(I35,Backbone!$A$1:$A$893,0))","v":6.7},null,{"$f":"INDEX(Backbone!$L$2:$L$893,MATCH(I35,Backbone!$A$2:$A$893,0))","v":2},null,{"$f":"INDEX(Backbone!$M$2:$M$893,MATCH(I35,Backbone!$A$2:$A$893,0))","v":3.5},null,{"$f":"INDEX(Backbone!$N$2:$N$893,MATCH(I35,Backbone!$A$2:$A$893,0))","v":4},null,{"$f":"INDEX(Backbone!$O$2:$O$893,MATCH(I35,Backbone!$A$2:$A$893,0))","v":6.4},null,{"$f":"INDEX(Backbone!$P$2:$P$893,MATCH(I35,Backbone!$A$2:$A$893,0))","v":8},null,{"$f":"INDEX(Backbone!$Q$2:$Q$893,MATCH(I35,Backbone!$A$2:$A$893,0))","v":0.61555555555555552},null,null,{"$f":"(AG35*$AG$22+AI35*$AI$22+AK35*$AK$22+AM35*$AM$22+AO35*$AO$22+AQ35*$AQ$22+AS35*$AS$22+AU35*$AU$22+AW35*$AW$22)/(SUM($AG$22:$AW$22)*10)","v":{"$error":"#DIV/0!"}},null,null,"Go to \nToolbox: ",null,{"$f":"HYPERLINK(\"#\"&ADDRESS(MATCH(I35,Toolbox!$C$1:$C$300),1,,,\"Toolbox\"),VLOOKUP(I35,Toolbox!$C$1:$C$300,1,FALSE))","v":"Preparedness and Response Planning Toolkit"}]
[]
[]
[]
[]
[]
[]
[null,null,null,"Other Relevant Resources",null,null,null,null,{"$f":"Backbone!A453","v":"Stepwise Approach towards Rabies Elimination (SARE)"},null,null,null,null,null,null,"A practical planning, monitoring and evaluation tool to guide, develop and refine rabies control programmes.",null,null,null,null,null,null,null,null,{"$f":"INDEX(Backbone!$R$2:$R$893,MATCH(I42,Backbone!$A$2:$A$893,0))","v":"Self-assessment tool"},null,null,null,{"$f":"INDEX(Backbone!$S$2:$S$893,MATCH(I42,Backbone!$A$2:$A$893,0))","v":"One Health; Disease/Threat Specific "},null,null,null,{"$f":"INDEX(Backbone!$H$2:$H$893,MATCH(I42,Backbone!$A$2:$A$893,0))","v":8},null,{"$f":"INDEX(Backbone!$I$2:$I$893,MATCH(I42,Backbone!$A$2:$A$893,0))","v":9},null,{"$f":"INDEX(Backbone!$J$2:$J$893,MATCH(I42,Backbone!$A$2:$A$893,0))","v":6.6},null,{"$f":"INDEX(Backbone!$K$1:$K$893,MATCH(I42,Backbone!$A$1:$A$893,0))","v":3.3},null,{"$f":"INDEX(Backbone!$L$2:$L$893,MATCH(I42,Backbone!$A$2:$A$893,0))","v":5.7},null,{"$f":"INDEX(Backbone!$M$2:$M$893,MATCH(I42,Backbone!$A$2:$A$893,0))","v":6.8},null,{"$f":"INDEX(Backbone!$N$2:$N$893,MATCH(I42,Backbone!$A$2:$A$893,0))","v":8},null,{"$f":"INDEX(Backbone!$O$2:$O$893,MATCH(I42,Backbone!$A$2:$A$893,0))","v":8.6},null,{"$f":"INDEX(Backbone!$P$2:$P$893,MATCH(I42,Backbone!$A$2:$A$893,0))","v":9.5},null,{"$f":"INDEX(Backbone!$Q$2:$Q$893,MATCH(I42,Backbone!$A$2:$A$893,0))","v":0.72777777777777775},null,null,{"$f":"(AG42*$AG$22+AI42*$AI$22+AK42*$AK$22+AM42*$AM$22+AO42*$AO$22+AQ42*$AQ$22+AS42*$AS$22+AU42*$AU$22+AW42*$AW$22)/(SUM($AG$22:$AW$22)*10)","v":{"$error":"#DIV/0!"}},null,null,"Go to \nToolbox: ",null,{"$f":"HYPERLINK(\"#\"&ADDRESS(MATCH(I42,Toolbox!$C$1:$C$300),1,,,\"Toolbox\"),VLOOKUP(I42,Toolbox!$C$1:$C$300,1,FALSE))","v":"Stepwise Approach towards Rabies Elimination (SARE)"}]
[]
[]
[]
[]
[]
[]
[]
[]
[]
[]
[]
[]
[]
[]
[]
[]
[]
[]
[]
[]
[]
[]
[]
[]
[null,null,null,null,null,null,null,null,null,null,null,null,null,null,null,null,null,null,null,null,null,null,null,null,null,null,null,null,null,null,null,null,"Accessibility",null,"Language",null,"Ease of use",null,"Flexibility",null,"Data Needs",null,"Data Analysis",null,"Acceptability",null,"One Health",null,"Impact"]
[]
[]
[]
[null,"LEVEL 2 RESOURCES"]
[]
[]
[null,null,null,null,null,null,null,null,null,null,null,null,null,null,null,null,null,null,null,null,null,null,null,null,null,null,null,null,null,null,null,null,null,null,null,null,null,null,null,null,null,null,null,null,null,null,null,null,null,null,"RAW SCORE",null,null,"ADJUSTED SCORE \n(Based on user preferences)"]
[]
[]
[]
[null,null,null,"DESIGNATION",null,null,null,null,"RESOURCE NAME",null,null,null,null,null,null,"SHORT DESCRIPTION",null,null,null,null,null,null,null,null,"RESOURCE TYPE",null,null,null,"RESOURCE GENERALITY"]
[]
[]
[]
[null,null,null,null,null,null,null,null,null,null,null,null,null,null,null,null,null,null,null,null,null,null,null,null,null,null,null,null,null,null,null,null,{"$f":"'Attribute Survey'!S130","v":0},null,{"$f":"'Attribute Survey'!S134","v":0},null,{"$f":"'Attribute Survey'!S138","v":0},null,{"$f":"'Attribute Survey'!S142","v":0},null,{"$f":"'Attribute Survey'!S146","v":0},null,{"$f":"'Attribute Survey'!S150","v":0},null,{"$f":"'Attribute Survey'!S154","v":0},null,{"$f":"'Attribute Survey'!S158","v":0},null,{"$f":"'Attribute Survey'!S162","v":0}]
[null,null,null,"Resources Best Fit For Purpose",null,null,null,null,{"$f":"Backbone!A433","v":"One Health European Joint Program (OHEJP) Glossary"},null,null,null,null,null,null,"The web-based community driven One Health glossary of different One Health or sector specific terms from public health, animal health and food safety.",null,null,null,null,null,null,null,null,{"$f":"INDEX(Backbone!$R2:$R893,MATCH(I83,Backbone!$A2:$A893,0))","v":"Hardware or Software"},null,null,null,{"$f":"INDEX(Backbone!S2:S893,MATCH(I83,Backbone!A2:A893,0))","v":"One Health; Generalized"},null,null,null,{"$f":"INDEX(Backbone!H2:H893,MATCH(I83,Backbone!A2:A893,0))","v":8.8000000000000007},null,{"$f":"INDEX(Backbone!I2:I893,MATCH(I83,Backbone!A2:A893,0))","v":6},null,{"$f":"INDEX(Backbone!J2:J893,MATCH(I83,Backbone!A2:A893,0))","v":8.4},null,{"$f":"INDEX(Backbone!K2:K893,MATCH(I83,Backbone!A2:A893,0))","v":7},null,{"$f":"INDEX(Backbone!L2:L893,MATCH(I83,Backbone!A2:A893,0))","v":9.1999999999999993},null,{"$f":"INDEX(Backbone!M2:M893,MATCH(I83,Backbone!A2:A893,0))","v":7.6},null,{"$f":"INDEX(Backbone!N2:N893,MATCH(I83,Backbone!A2:A893,0))","v":7},null,{"$f":"INDEX(Backbone!O2:O893,MATCH(I83,Backbone!A2:A893,0))","v":7.1},null,{"$f":"INDEX(Backbone!P2:P893,MATCH(I83,Backbone!A2:A893,0))","v":5},null,{"$f":"INDEX(Backbone!Q2:Q893,MATCH(I83,Backbone!A2:A893,0))","v":0.73444444444444457},null,null,{"$f":"(AG83*AG22+AI23*AI22+AK83*AK22+AM83*AM22+AO83*AO22+AQ83*AQ22+AS83*AS22+AU83*AU22+AW83*AW22)/(SUM(AG22:AW22)*10)","v":{"$error":"#DIV/0!"}},null,null,"Go to \nToolbox: ",null,{"$f":"HYPERLINK(\"#\"&ADDRESS(MATCH(I83,Toolbox!$C$1:$C$300),1,,,\"Toolbox\"),VLOOKUP(I83,Toolbox!$C$1:$C$300,1,FALSE))","v":"One Health European Joint Program (OHEJP) Glossary"}]
[]
[]
[]
[]
[]
[null,null,null,null,null,null,null,null,{"$f":"Backbone!A648","v":"Preparedness and Response Planning Toolkit"},null,null,null,null,null,null,"This toolkit is designed to support countries in their development of multisectoral preparedness and response plans for public health events. ",null,null,null,null,null,null,null,null,{"$f":"INDEX(Backbone!$R$2:$R$893,MATCH(I89,Backbone!$A$2:$A$893,0))","v":"Guidance document"},null,null,null,{"$f":"INDEX(Backbone!$S$2:$S$893,MATCH(I89,Backbone!$A$2:$A$893,0))","v":"One Health; Generalized"},null,null,null,{"$f":"INDEX(Backbone!$H$2:$H$893,MATCH(I89,Backbone!$A$2:$A$893,0))","v":8.4},null,{"$f":"INDEX(Backbone!$I$2:$I$893,MATCH(I89,Backbone!$A$2:$A$893,0))","v":8},null,{"$f":"INDEX(Backbone!$J$2:$J$893,MATCH(I89,Backbone!$A$2:$A$893,0))","v":8.4},null,{"$f":"INDEX(Backbone!$K$2:$K$893,MATCH(I89,Backbone!$A$2:$A$893,0))","v":6.7},null,{"$f":"INDEX(Backbone!$L$2:$L$893,MATCH(I89,Backbone!$A$2:$A$893,0))","v":2},null,{"$f":"INDEX(Backbone!$M$2:$M$893,MATCH(I89,Backbone!$A$2:$A$893,0))","v":3.5},null,{"$f":"INDEX(Backbone!$N$2:$N$893,MATCH(I89,Backbone!$A$2:$A$893,0))","v":4},null,{"$f":"INDEX(Backbone!$O$2:$O$893,MATCH(I89,Backbone!$A$2:$A$893,0))","v":6.4},null,{"$f":"INDEX(Backbone!$P$2:$P$893,MATCH(I89,Backbone!$A$2:$A$893,0))","v":8},null,{"$f":"INDEX(Backbone!$Q$2:$Q$893,MATCH(I89,Backbone!$A$2:$A$893,0))","v":0.61555555555555552},null,null,{"$f":"(AG89*$AG$22+AI89*$AI$22+AK89*$AK$22+AM89*$AM$22+AO89*$AO$22+AQ89*$AQ$22+AS89*$AS$22+AU89*$AU$22+AW89*$AW$22)/(SUM($AG$22:$AW$22)*10)","v":{"$error":"#DIV/0!"}},null,null,"Go to \nToolbox: ",null,{"$f":"HYPERLINK(\"#\"&ADDRESS(MATCH(I89,Toolbox!$C$1:$C$300),1,,,\"Toolbox\"),VLOOKUP(I89,Toolbox!$C$1:$C$300,1,FALSE))","v":"Preparedness and Response Planning Toolkit"}]
[]
[]
[]
[]
[]
[]
[]
[]
[]
[]
[]
[]
[]
[]
[]
[]
[]
[]
[]
[]
[]
[]
[null,null,null,null,null,null,null,null,null,null,null,null,null,null,null,null,null,null,null,null,null,null,null,null,null,null,null,null,null,null,null,null,"Accessibility",null,"Language",null,"Ease of use",null,"Flexibility",null,"Data Needs",null,"Data Analysis",null,"Acceptability",null,"One Health",null,"Impact"]
[]
[]
[]
[]
[]
[null,"LEVEL 3  RESOURCES"]
[null,null,null,null,null,null,null,null,null,null,null,null,null,null,null,null,null,null,null,null,null,null,null,null,null,null,null,null,null,null,null,null,null,null,null,null,null,null,null,null,null,null,null,null,null,null,null,null,null,null,"RAW SCORE",null,null,"ADJUSTED SCORE \n(Based on user preferences)"]
[]
[]
[]
[null,null,null,"DESIGNATION",null,null,null,null,"RESOURCE NAME",null,null,null,null,null,null,"SHORT DESCRIPTION",null,null,null,null,null,null,null,null,"RESOURCE TYPE",null,null,null,"RESOURCE GENERALITY"]
[]
[]
[]
[null,null,null,null,null,null,null,null,null,null,null,null,null,null,null,null,null,null,null,null,null,null,null,null,null,null,null,null,null,null,null,null,{"$f":"'Attribute Survey'!S231","v":0},null,{"$f":"'Attribute Survey'!S235","v":0},null,{"$f":"'Attribute Survey'!S239","v":0},null,{"$f":"'Attribute Survey'!S243","v":0},null,{"$f":"'Attribute Survey'!S247","v":0},null,{"$f":"'Attribute Survey'!S251","v":0},null,{"$f":"'Attribute Survey'!S255","v":0},null,{"$f":"'Attribute Survey'!S259","v":0},null,{"$f":"'Attribute Survey'!S263","v":0}]
[null,null,null,"Resources Best Fit for Purpose",null,null,null,null,{"$f":"Backbone!A61","v":"Cross Border Multisectoral Communication and Coordination Strategies"},null,null,null,null,null,null,"A workshop guiding stakeholders through the process of determining sector specific information sharing mechanisms, and creating multi-sectoral or cross-border information sharing mechanisms.",null,null,null,null,null,null,null,null,{"$f":"INDEX(Backbone!$R$2:$R$893,MATCH(I128,Backbone!$A$2:$A$893,0))","v":"Guided/Facilitated tool or process"},null,null,null,{"$f":"INDEX(Backbone!$S$2:$S$893,MATCH(I128,Backbone!$A$2:$A$893,0))","v":"One Health; Generalized "},null,null,null,{"$f":"INDEX(Backbone!$H$2:$H$893,MATCH(I128,Backbone!$A$2:$A$893,0))","v":8.9},null,{"$f":"INDEX(Backbone!$I$2:$I$893,MATCH(I128,Backbone!$A$2:$A$893,0))","v":6},null,{"$f":"INDEX(Backbone!$J$2:$J$893,MATCH(I128,Backbone!$A$2:$A$893,0))","v":7.6},null,{"$f":"INDEX(Backbone!$K$2:$K$893,MATCH(I128,Backbone!$A$2:$A$893,0))","v":9},null,{"$f":"INDEX(Backbone!$L$2:$L$893,MATCH(I128,Backbone!$A$2:$A$893,0))","v":5.6},null,{"$f":"INDEX(Backbone!$M$2:$M$893,MATCH(I128,Backbone!$A$2:$A$893,0))","v":3.5},null,{"$f":"INDEX(Backbone!$N$2:$N$893,MATCH(I128,Backbone!$A$2:$A$893,0))","v":4},null,{"$f":"INDEX(Backbone!$O$2:$O$893,MATCH(I128,Backbone!$A$2:$A$893,0))","v":8.3000000000000007},null,{"$f":"INDEX(Backbone!$P$2:$P$893,MATCH(I128,Backbone!$A$2:$A$893,0))","v":8},null,{"$f":"INDEX(Backbone!$Q$2:$Q$893,MATCH(I128,Backbone!$A$2:$A$893,0))","v":0.67666666666666675},null,null,{"$f":"(AG128*$AG$22+AI128*$AI$22+AK128*$AK$22+AM128*$AM$22+AO128*$AO$22+AQ128*$AQ$22+AS128*$AS$22+AU128*$AU$22+AW128*$AW$22)/(SUM($AG$22:$AW$22)*10)","v":{"$error":"#DIV/0!"}},null,null,"Go to \nToolbox: ",null,{"$f":"HYPERLINK(\"#\"&ADDRESS(MATCH(I128,Toolbox!$C$1:$C$300),1,,,\"Toolbox\"),VLOOKUP(I128,Toolbox!$C$1:$C$300,1,FALSE))","v":"Cross Border Multisectoral Communication and Coordination Strategies"}]
[]
[]
[]
[]
[]
[null,null,null,null,null,null,null,null,{"$f":"Backbone!A648","v":"Preparedness and Response Planning Toolkit"},null,null,null,null,null,null,"This toolkit is designed to support countries in their development of multisectoral preparedness and response plans for public health events. ",null,null,null,null,null,null,null,null,{"$f":"INDEX(Backbone!$R$2:$R$893,MATCH(I134,Backbone!$A$2:$A$893,0))","v":"Guidance document"},null,null,null,{"$f":"INDEX(Backbone!$S$2:$S$893,MATCH(I134,Backbone!$A$2:$A$893,0))","v":"One Health; Generalized"},null,null,null,{"$f":"INDEX(Backbone!$H$2:$H$893,MATCH(I134,Backbone!$A$2:$A$893,0))","v":8.4},null,{"$f":"INDEX(Backbone!$I$2:$I$893,MATCH(I134,Backbone!$A$2:$A$893,0))","v":8},null,{"$f":"INDEX(Backbone!$J$2:$J$893,MATCH(I134,Backbone!$A$2:$A$893,0))","v":8.4},null,{"$f":"INDEX(Backbone!$K$1:$K$893,MATCH(I134,Backbone!$A$1:$A$893,0))","v":6.7},null,{"$f":"INDEX(Backbone!$L$2:$L$893,MATCH(I134,Backbone!$A$2:$A$893,0))","v":2},null,{"$f":"INDEX(Backbone!$M$2:$M$893,MATCH(I134,Backbone!$A$2:$A$893,0))","v":3.5},null,{"$f":"INDEX(Backbone!$N$2:$N$893,MATCH(I134,Backbone!$A$2:$A$893,0))","v":4},null,{"$f":"INDEX(Backbone!$O$2:$O$893,MATCH(I134,Backbone!$A$2:$A$893,0))","v":6.4},null,{"$f":"INDEX(Backbone!$P$2:$P$893,MATCH(I134,Backbone!$A$2:$A$893,0))","v":8},null,{"$f":"INDEX(Backbone!$Q$2:$Q$893,MATCH(I134,Backbone!$A$2:$A$893,0))","v":0.61555555555555552},null,null,{"$f":"(AG134*$AG$22+AI134*$AI$22+AK134*$AK$22+AM134*$AM$22+AO134*$AO$22+AQ134*$AQ$22+AS134*$AS$22+AU134*$AU$22+AW134*$AW$22)/(SUM($AG$22:$AW$22)*10)","v":{"$error":"#DIV/0!"}},null,null,"Go to \nToolbox: ",null,{"$f":"HYPERLINK(\"#\"&ADDRESS(MATCH(I134,Toolbox!$C$1:$C$300),1,,,\"Toolbox\"),VLOOKUP(I134,Toolbox!$C$1:$C$300,1,FALSE))","v":"Preparedness and Response Planning Toolkit"}]

{"sheet":"I1_tools","index":46,"n_rows":121,"n_cols":59,"rows_kept":121,"cut":false,"hidden":false,"merged":[[120,56,124,57],[120,58,124,62],[22,56,26,57],[22,58,26,62],[29,56,33,57],[29,58,33,62],[35,56,39,57],[35,58,39,62],[41,56,45,57],[41,58,45,62],[81,56,85,57],[81,58,85,62],[1,1,3,62],[22,50,26,51],[22,53,26,54],[22,42,26,42],[22,44,26,44],[22,46,26,46],[22,48,26,48],[6,32,20,32],[6,34,20,34],[6,36,20,36],[6,38,20,38],[6,40,20,40],[6,42,20,42],[6,44,20,44],[6,46,20,46],[6,48,20,48],[22,32,26,32],[22,34,26,34],[22,36,26,36],[13,50,20,51],[13,53,20,54],[17,3,20,6],[17,8,20,13],[17,15,20,22],[17,24,20,26],[17,28,20,30],[35,48,39,48],[35,50,39,51],[35,8,39,13],[29,8,33,13],[29,15,33,22],[29,24,33,26],[29,28,33,30],[29,32,33,32],[29,34,33,34],[29,36,33,36],[17,1,45,1],[65,32,79,32],[65,34,79,34],[65,36,79,36],[65,38,79,38],[29,50,33,51],[29,53,33,54],[29,40,33,40],[29,48,33,48],[41,48,45,48],[41,50,45,51],[41,53,45,54],[35,53,39,54],[41,8,45,13],[41,15,45,22],[41,24,45,26],[41,28,45,30],[41,32,45,32],[41,34,45,34],[41,36,45,36],[41,38,45,38],[41,40,45,40],[35,40,39,40],[35,42,39,42],[41,42,45,42],[41,44,45,44],[41,46,45,46],[22,3,26,6],[22,8,26,13],[29,42,33,42],[29,44,33,44],[29,46,33,46],[35,32,39,32],[35,34,39,34],[35,36,39,36],[35,38,39,38],[29,38,33,38],[35,15,39,22],[35,24,39,26],[35,28,39,30],[29,3,45,6],[35,44,39,44],[35,46,39,46],[22,38,26,38],[22,40,26,40],[22,15,26,22],[22,24,26,26],[22,28,26,30],[72,53,79,54],[76,3,79,6],[76,8,79,13],[76,15,79,22],[76,24,79,26],[76,28,79,30],[81,3,85,6],[81,8,85,13],[81,15,85,22],[65,40,79,40],[65,42,79,42],[65,44,79,44],[65,46,79,46],[65,48,79,48],[72,50,79,51],[104,46,118,46],[81,53,85,54],[81,40,85,40],[81,42,85,42],[81,44,85,44],[81,46,85,46],[81,48,85,48],[81,50,85,51],[81,24,85,26],[81,28,85,30],[81,32,85,32],[81,34,85,34],[81,36,85,36],[81,38,85,38],[120,3,124,6],[66,1,93,1],[104,32,118,32],[104,34,118,34],[104,36,118,36],[104,38,118,38],[104,40,118,40],[104,42,118,42],[104,44,118,44],[120,48,124,48],[120,50,124,51],[120,53,124,54],[108,1,132,1],[120,36,124,36],[120,38,124,38],[120,40,124,40],[120,42,124,42],[120,44,124,44],[120,46,124,46],[120,8,124,13],[120,15,124,22],[120,24,124,26],[120,28,124,30],[120,32,124,32],[120,34,124,34],[104,48,118,48],[111,50,118,51],[111,53,118,54],[115,3,118,6],[115,8,118,13],[115,15,118,22],[115,24,118,26],[115,28,118,30]]}
[]
[null,"Mobilizing Financial Resources"]
[]
[]
[]
[]
[null,null,null,null,null,null,null,null,null,null,null,null,null,null,null,null,null,null,null,null,null,null,null,null,null,null,null,null,null,null,null,null,"Accessibility",null,"Language",null,"Ease of use",null,"Flexibility",null,"Data Needs",null,"Data Analysis",null,"Acceptability",null,"One Health",null,"Impact"]
[]
[]
[]
[]
[]
[]
[null,null,null,null,null,null,null,null,null,null,null,null,null,null,null,null,null,null,null,null,null,null,null,null,null,null,null,null,null,null,null,null,null,null,null,null,null,null,null,null,null,null,null,null,null,null,null,null,null,null,"RAW SCORE",null,null,"ADJUSTED SCORE \n(Based on user preferences)"]
[]
[]
[]
[null,"LEVEl 1 RESOURCES",null,"DESIGNATION",null,null,null,null,"RESOURCE NAME",null,null,null,null,null,null,"SHORT DESCRIPTION",null,null,null,null,null,null,null,null,"RESOURCE TYPE",null,null,null,"RESOURCE GENERALITY"]
[]
[]
[]
[null,null,null,null,null,null,null,null,null,null,null,null,null,null,null,null,null,null,null,null,null,null,null,null,null,null,null,null,null,null,null,null,{"$f":"'Attribute Survey'!S22","v":0},null,{"$f":"'Attribute Survey'!S26","v":0},null,{"$f":"'Attribute Survey'!S30","v":0},null,{"$f":"'Attribute Survey'!S34","v":0},null,{"$f":"'Attribute Survey'!S38","v":0},null,{"$f":"'Attribute Survey'!S42","v":0},null,{"$f":"'Attribute Survey'!S46","v":0},null,{"$f":"'Attribute Survey'!S50","v":0},null,{"$f":"'Attribute Survey'!S54","v":0}]
[null,null,null,"Resources Best Fit For Purpose",null,null,null,null,{"$f":"Backbone!A686","v":"Sustainable Funding Strategy for One Health Toolkit"},null,null,null,null,null,null,"This toolkit supports One Health platforms and other coordination mechanisms in requesting and receiving funds to support operations of the platform and its activities in the long term.",null,null,null,null,null,null,null,null,{"$f":"INDEX(Backbone!$R2:$R893,MATCH(I23,Backbone!$A2:$A893,0))","v":"Guidance document"},null,null,null,{"$f":"INDEX(Backbone!$S2:$S893,MATCH(I23,Backbone!$A2:$A893,0))","v":"One Health; Generalized"},null,null,null,{"$f":"INDEX(Backbone!$H2:$H893,MATCH(I23,Backbone!$A2:$A893,0))","v":8.4},null,{"$f":"INDEX(Backbone!$I2:$I893,MATCH(I23,Backbone!$A2:$A893,0))","v":8},null,{"$f":"INDEX(Backbone!$J2:$J893,MATCH(I23,Backbone!$A2:$A893,0))","v":8.4},null,{"$f":"INDEX(Backbone!$K2:$K893,MATCH(I23,Backbone!$A2:$A893,0))","v":6.7},null,{"$f":"INDEX(Backbone!$L2:$L893,MATCH(I23,Backbone!$A2:$A893,0))","v":2},null,{"$f":"INDEX(Backbone!$M2:$M893,MATCH(I23,Backbone!$A2:$A893,0))","v":3.5},null,{"$f":"INDEX(Backbone!$N2:$N893,MATCH(I23,Backbone!$A2:$A893,0))","v":4},null,{"$f":"INDEX(Backbone!$O2:$O893,MATCH(I23,Backbone!$A2:$A893,0))","v":6.4},null,{"$f":"INDEX(Backbone!$P2:$P893,MATCH(I23,Backbone!$A2:$A893,0))","v":8},null,{"$f":"INDEX(Backbone!$Q2:$Q893,MATCH(I23,Backbone!$A2:$A893,0))","v":0.61555555555555552},null,null,{"$f":"(AG23*$AG$22+AI23*$AI$22+AK23*$AK$22+AM23*$AM$22+AO23*$AO$22+AQ23*$AQ$22+AS23*$AS$22+AU23*$AU$22+AW23*$AW$22)/(SUM($AG$22:$AW$22)*10)","v":{"$error":"#DIV/0!"}},null,null,"Go to \nToolbox: ",null,{"$f":"HYPERLINK(\"#\"&ADDRESS(MATCH(I23,Toolbox!$C$1:$C$300),1,,,\"Toolbox\"),VLOOKUP(I23,Toolbox!$C$1:$C$300,1,FALSE))","v":"Sustainable Funding Strategy for One Health Toolkit"}]
[]
[]
[]
[]
[]
[]
[null,null,null,"Other Relevant Resources",null,null,null,null,{"$f":"Backbone!A567","v":"SurvCost: A tool to Estimate the Cost of Integrated Disease Surveillance and Response"},null,null,null,null,null,null,"An excel-based tool designed to estimate the costs of Integrated Disease Surveillance and Response (IDSR) system.",null,null,null,null,null,null,null,null,{"$f":"INDEX(Backbone!$R$2:$R$893,MATCH(I30,Backbone!$A$2:$A$893,0))","v":"Self-assessment tool"},null,null,null,{"$f":"INDEX(Backbone!$S$2:$S$893,MATCH(I30,Backbone!$A$2:$A$893,0))","v":"Sector Specific; Generalized"},null,null,null,{"$f":"INDEX(Backbone!$H$2:$H$893,MATCH(I30,Backbone!$A$2:$A$893,0))","v":9.8000000000000007},null,{"$f":"INDEX(Backbone!$I$2:$I$893,MATCH(I30,Backbone!$A$2:$A$893,0))","v":8},null,{"$f":"INDEX(Backbone!$J$2:$J$893,MATCH(I30,Backbone!$A$2:$A$893,0))","v":7.6},null,{"$f":"INDEX(Backbone!$K$1:$K$893,MATCH(I30,Backbone!$A$1:$A$893,0))","v":9.6999999999999993},null,{"$f":"INDEX(Backbone!$L$2:$L$893,MATCH(I30,Backbone!$A$2:$A$893,0))","v":7.7},null,{"$f":"INDEX(Backbone!$M$2:$M$893,MATCH(I30,Backbone!$A$2:$A$893,0))","v":5.8},null,{"$f":"INDEX(Backbone!$N$2:$N$893,MATCH(I30,Backbone!$A$2:$A$893,0))","v":7},null,{"$f":"INDEX(Backbone!$O$2:$O$893,MATCH(I30,Backbone!$A$2:$A$893,0))","v":7.3},null,{"$f":"INDEX(Backbone!$P$2:$P$893,MATCH(I30,Backbone!$A$2:$A$893,0))","v":8},null,{"$f":"INDEX(Backbone!$Q$2:$Q$893,MATCH(I30,Backbone!$A$2:$A$893,0))","v":0.78777777777777769},null,null,{"$f":"(AG30*$AG$22+AI30*$AI$22+AK30*$AK$22+AM30*$AM$22+AO30*$AO$22+AQ30*$AQ$22+AS30*$AS$22+AU30*$AU$22+AW30*$AW$22)/(SUM($AG$22:$AW$22)*10)","v":{"$error":"#DIV/0!"}},null,null,"Go to \nToolbox: ",null,{"$f":"HYPERLINK(\"#\"&ADDRESS(MATCH(I30,Toolbox!$C$1:$C$300),1,,,\"Toolbox\"),VLOOKUP(I30,Toolbox!$C$1:$C$300,1,FALSE))","v":"SurvCost: A tool to Estimate the Cost of Integrated Disease Surveillance and Response"}]
[]
[]
[]
[]
[]
[null,null,null,null,null,null,null,null,{"$f":"Backbone!A447","v":"Animal Rabies Surveillance Cost Effectiveness Assessment Tool"},null,null,null,null,null,null,"An Excel-based tool to estimate the costs and effectiveness of rabies prevention programs.",null,null,null,null,null,null,null,null,{"$f":"INDEX(Backbone!$R$2:$R$893,MATCH(I36,Backbone!$A$2:$A$893,0))","v":"Self-assessment tool"},null,null,null,{"$f":"INDEX(Backbone!$S$2:$S$893,MATCH(I36,Backbone!$A$2:$A$893,0))","v":"One Health; Disease/Threat Specific "},null,null,null,{"$f":"INDEX(Backbone!$H$2:$H$893,MATCH(I36,Backbone!$A$2:$A$893,0))","v":9.6},null,{"$f":"INDEX(Backbone!$I$2:$I$893,MATCH(I36,Backbone!$A$2:$A$893,0))","v":6},null,{"$f":"INDEX(Backbone!$J$2:$J$893,MATCH(I36,Backbone!$A$2:$A$893,0))","v":7},null,{"$f":"INDEX(Backbone!$K$1:$K$893,MATCH(I36,Backbone!$A$1:$A$893,0))","v":8.6999999999999993},null,{"$f":"INDEX(Backbone!$L$2:$L$893,MATCH(I36,Backbone!$A$2:$A$893,0))","v":6.7},null,{"$f":"INDEX(Backbone!$M$2:$M$893,MATCH(I36,Backbone!$A$2:$A$893,0))","v":6.8},null,{"$f":"INDEX(Backbone!$N$2:$N$893,MATCH(I36,Backbone!$A$2:$A$893,0))","v":6},null,{"$f":"INDEX(Backbone!$O$2:$O$893,MATCH(I36,Backbone!$A$2:$A$893,0))","v":8.8000000000000007},null,{"$f":"INDEX(Backbone!$P$2:$P$893,MATCH(I36,Backbone!$A$2:$A$893,0))","v":8},null,{"$f":"INDEX(Backbone!$Q$2:$Q$893,MATCH(I36,Backbone!$A$2:$A$893,0))","v":0.75111111111111106},null,null,{"$f":"(AG36*$AG$22+AI36*$AI$22+AK36*$AK$22+AM36*$AM$22+AO36*$AO$22+AQ36*$AQ$22+AS36*$AS$22+AU36*$AU$22+AW36*$AW$22)/(SUM($AG$22:$AW$22)*10)","v":{"$error":"#DIV/0!"}},null,null,"Go to \nToolbox: ",null,{"$f":"HYPERLINK(\"#\"&ADDRESS(MATCH(I36,Toolbox!$C$1:$C$300),1,,,\"Toolbox\"),VLOOKUP(I36,Toolbox!$C$1:$C$300,1,FALSE))","v":"Animal Rabies Surveillance Cost Effectiveness Assessment Tool"}]
[]
[]
[]
[]
[]
[null,null,null,null,null,null,null,null,{"$f":"Backbone!A234","v":"Georgetown University International Health Regulation (IHR) Costing Tool"},null,null,null,null,null,null,"This tool helps users develop cost estimates for sustainable capacity development under the International Health Regulations (IHR).",null,null,null,null,null,null,null,null,{"$f":"INDEX(Backbone!$R$2:$R$893,MATCH(I42,Backbone!$A$2:$A$893,0))","v":"Self-assessment tool"},null,null,null,{"$f":"INDEX(Backbone!$S$2:$S$893,MATCH(I42,Backbone!$A$2:$A$893,0))","v":"Sector Specific; Generalized"},null,null,null,{"$f":"INDEX(Backbone!$H$2:$H$893,MATCH(I42,Backbone!$A$2:$A$893,0))","v":9.6},null,{"$f":"INDEX(Backbone!$I$2:$I$893,MATCH(I42,Backbone!$A$2:$A$893,0))","v":6},null,{"$f":"INDEX(Backbone!$J$2:$J$893,MATCH(I42,Backbone!$A$2:$A$893,0))","v":9.3000000000000007},null,{"$f":"INDEX(Backbone!$K$1:$K$893,MATCH(I42,Backbone!$A$1:$A$893,0))","v":7.3},null,{"$f":"INDEX(Backbone!$L$2:$L$893,MATCH(I42,Backbone!$A$2:$A$893,0))","v":7.1},null,{"$f":"INDEX(Backbone!$M$2:$M$893,MATCH(I42,Backbone!$A$2:$A$893,0))","v":8.8000000000000007},null,{"$f":"INDEX(Backbone!$N$2:$N$893,MATCH(I42,Backbone!$A$2:$A$893,0))","v":9.3000000000000007},null,{"$f":"INDEX(Backbone!$O$2:$O$893,MATCH(I42,Backbone!$A$2:$A$893,0))","v":7.5},null,{"$f":"INDEX(Backbone!$P$2:$P$893,MATCH(I42,Backbone!$A$2:$A$893,0))","v":8},null,{"$f":"INDEX(Backbone!$Q$2:$Q$893,MATCH(I42,Backbone!$A$2:$A$893,0))","v":0.80999999999999994},null,null,{"$f":"(AG42*$AG$22+AI42*$AI$22+AK42*$AK$22+AM42*$AM$22+AO42*$AO$22+AQ42*$AQ$22+AS42*$AS$22+AU42*$AU$22+AW42*$AW$22)/(SUM($AG$22:$AW$22)*10)","v":{"$error":"#DIV/0!"}},null,null,"Go to \nToolbox: ",null,{"$f":"HYPERLINK(\"#\"&ADDRESS(MATCH(I42,Toolbox!$C$1:$C$300),1,,,\"Toolbox\"),VLOOKUP(I42,Toolbox!$C$1:$C$300,1,FALSE))","v":"Georgetown University International Health Regulation (IHR) Costing Tool"}]
[]
[]
[]
[]
[]
[]
[]
[]
[]
[]
[]
[]
[]
[]
[]
[]
[]
[]
[]
[]
[]
[]
[]
[null,null,null,null,null,null,null,null,null,null,null,null,null,null,null,null,null,null,null,null,null,null,null,null,null,null,null,null,null,null,null,null,"Accessibility",null,"Language",null,"Ease of use",null,"Flexibility",null,"Data Needs",null,"Data Analysis",null,"Acceptability",null,"One Health",null,"Impact"]
[null,"LEVEL 2 RESOURCES"]
[]
[]
[]
[]
[]
[null,null,null,null,null,null,null,null,null,null,null,null,null,null,null,null,null,null,null,null,null,null,null,null,null,null,null,null,null,null,null,null,null,null,null,null,null,null,null,null,null,null,null,null,null,null,null,null,null,null,"RAW SCORE",null,null,"ADJUSTED SCORE \n(Based on user preferences)"]
[]
[]
[]
[null,null,null,"DESIGNATION",null,null,null,null,"RESOURCE NAME",null,null,null,null,null,null,"SHORT DESCRIPTION",null,null,null,null,null,null,null,null,"RESOURCE TYPE",null,null,null,"RESOURCE GENERALITY"]
[]
[]
[]
[null,null,null,null,null,null,null,null,null,null,null,null,null,null,null,null,null,null,null,null,null,null,null,null,null,null,null,null,null,null,null,null,{"$f":"'Attribute Survey'!S81","v":0},null,{"$f":"'Attribute Survey'!S85","v":0},null,{"$f":"'Attribute Survey'!S89","v":0},null,{"$f":"'Attribute Survey'!S93","v":0},null,{"$f":"'Attribute Survey'!S97","v":0},null,{"$f":"'Attribute Survey'!S101","v":0},null,{"$f":"'Attribute Survey'!S105","v":0},null,{"$f":"'Attribute Survey'!S109","v":0},null,{"$f":"'Attribute Survey'!S113","v":0}]
[null,null,null,"Resources Best Fit For Purpose",null,null,null,null,{"$f":"Backbone!A686","v":"Sustainable Funding Strategy for One Health Toolkit"},null,null,null,null,null,null,"This toolkit supports One Health platforms and other coordination mechanisms in requesting and receiving funds to support operations of the platform and its activities in the long term.",null,null,null,null,null,null,null,null,{"$f":"INDEX(Backbone!$R61:$R952,MATCH(I82,Backbone!$A61:$A952,0))","v":"Guidance document"},null,null,null,{"$f":"INDEX(Backbone!$S61:$S952,MATCH(I82,Backbone!$A61:$A952,0))","v":"One Health; Generalized"},null,null,null,{"$f":"INDEX(Backbone!$H61:$H952,MATCH(I82,Backbone!$A61:$A952,0))","v":8.4},null,{"$f":"INDEX(Backbone!$I61:$I952,MATCH(I82,Backbone!$A61:$A952,0))","v":8},null,{"$f":"INDEX(Backbone!$J61:$J952,MATCH(I82,Backbone!$A61:$A952,0))","v":8.4},null,{"$f":"INDEX(Backbone!$K61:$K952,MATCH(I82,Backbone!$A61:$A952,0))","v":6.7},null,{"$f":"INDEX(Backbone!$L61:$L952,MATCH(I82,Backbone!$A61:$A952,0))","v":2},null,{"$f":"INDEX(Backbone!$M61:$M952,MATCH(I82,Backbone!$A61:$A952,0))","v":3.5},null,{"$f":"INDEX(Backbone!$N61:$N952,MATCH(I82,Backbone!$A61:$A952,0))","v":4},null,{"$f":"INDEX(Backbone!$O61:$O952,MATCH(I82,Backbone!$A61:$A952,0))","v":6.4},null,{"$f":"INDEX(Backbone!$P61:$P952,MATCH(I82,Backbone!$A61:$A952,0))","v":8},null,{"$f":"INDEX(Backbone!$Q61:$Q952,MATCH(I82,Backbone!$A61:$A952,0))","v":0.61555555555555552},null,null,{"$f":"(AG82*$AG$22+AI82*$AI$22+AK82*$AK$22+AM82*$AM$22+AO82*$AO$22+AQ82*$AQ$22+AS82*$AS$22+AU82*$AU$22+AW82*$AW$22)/(SUM($AG$22:$AW$22)*10)","v":{"$error":"#DIV/0!"}},null,null,"Go to \nToolbox: ",null,{"$f":"HYPERLINK(\"#\"&ADDRESS(MATCH(I82,Toolbox!$C$1:$C$300),1,,,\"Toolbox\"),VLOOKUP(I82,Toolbox!$C$1:$C$300,1,FALSE))","v":"Sustainable Funding Strategy for One Health Toolkit"}]
[]
[]
[]
[]
[]
[]
[]
[]
[]
[]
[]
[]
[]
[]
[]
[]
[]
[]
[]
[]
[]
[]
[null,null,null,null,null,null,null,null,null,null,null,null,null,null,null,null,null,null,null,null,null,null,null,null,null,null,null,null,null,null,null,null,"Accessibility",null,"Language",null,"Ease of use",null,"Flexibility",null,"Data Needs",null,"Data Analysis",null,"Acceptability",null,"One Health",null,"Impact"]
[]
[]
[]
[null,"LEVEL 3 RESOURCES"]
[]
[]
[null,null,null,null,null,null,null,null,null,null,null,null,null,null,null,null,null,null,null,null,null,null,null,null,null,null,null,null,null,null,null,null,null,null,null,null,null,null,null,null,null,null,null,null,null,null,null,null,null,null,"RAW SCORE",null,null,"ADJUSTED SCORE \n(Based on user preferences)"]
[]
[]
[]
[null,null,null,"DESIGNATION",null,null,null,null,"RESOURCE NAME",null,null,null,null,null,null,"SHORT DESCRIPTION",null,null,null,null,null,null,null,null,"RESOURCE TYPE",null,null,null,"RESOURCE GENERALITY"]
[]
[]
[]
[null,null,null,null,null,null,null,null,null,null,null,null,null,null,null,null,null,null,null,null,null,null,null,null,null,null,null,null,null,null,null,null,{"$f":"'Attribute Survey'!S120","v":0},null,{"$f":"'Attribute Survey'!S124","v":0},null,{"$f":"'Attribute Survey'!S128","v":0},null,{"$f":"'Attribute Survey'!S132","v":0},null,{"$f":"'Attribute Survey'!S136","v":0},null,{"$f":"'Attribute Survey'!S140","v":0},null,{"$f":"'Attribute Survey'!S144","v":0},null,{"$f":"'Attribute Survey'!S148","v":0},null,{"$f":"'Attribute Survey'!S152","v":0}]
[null,null,null,"Resources Best Fit For Purpose",null,null,null,null,{"$f":"Backbone!A686","v":"Sustainable Funding Strategy for One Health Toolkit"},null,null,null,null,null,null,"This toolkit supports One Health platforms and other coordination mechanisms in requesting and receiving funds to support operations of the platform and its activities in the long term",null,null,null,null,null,null,null,null,{"$f":"INDEX(Backbone!$R100:$R991,MATCH(I121,Backbone!$A100:$A991,0))","v":"Guidance document"},null,null,null,{"$f":"INDEX(Backbone!$S100:$S991,MATCH(I121,Backbone!$A100:$A991,0))","v":"One Health; Generalized"},null,null,null,{"$f":"INDEX(Backbone!$H100:$H991,MATCH(I121,Backbone!$A100:$A991,0))","v":8.4},null,{"$f":"INDEX(Backbone!$I100:$I991,MATCH(I121,Backbone!$A100:$A991,0))","v":8},null,{"$f":"INDEX(Backbone!$J100:$J991,MATCH(I121,Backbone!$A100:$A991,0))","v":8.4},null,{"$f":"INDEX(Backbone!$K100:$K991,MATCH(I121,Backbone!$A100:$A991,0))","v":6.7},null,{"$f":"INDEX(Backbone!$L100:$L991,MATCH(I121,Backbone!$A100:$A991,0))","v":2},null,{"$f":"INDEX(Backbone!$M100:$M991,MATCH(I121,Backbone!$A100:$A991,0))","v":3.5},null,{"$f":"INDEX(Backbone!$N100:$N991,MATCH(I121,Backbone!$A100:$A991,0))","v":4},null,{"$f":"INDEX(Backbone!$O100:$O991,MATCH(I121,Backbone!$A100:$A991,0))","v":6.4},null,{"$f":"INDEX(Backbone!$P100:$P991,MATCH(I121,Backbone!$A100:$A991,0))","v":8},null,{"$f":"INDEX(Backbone!$Q100:$Q991,MATCH(I121,Backbone!$A100:$A991,0))","v":0.61555555555555552},null,null,{"$f":"(AG121*$AG$22+AI121*$AI$22+AK121*$AK$22+AM121*$AM$22+AO121*$AO$22+AQ121*$AQ$22+AS121*$AS$22+AU121*$AU$22+AW121*$AW$22)/(SUM($AG$22:$AW$22)*10)","v":{"$error":"#DIV/0!"}},null,null,"Go to \nToolbox: ",null,{"$f":"HYPERLINK(\"#\"&ADDRESS(MATCH(I121,Toolbox!$C$1:$C$300),1,,,\"Toolbox\"),VLOOKUP(I121,Toolbox!$C$1:$C$300,1,FALSE))","v":"Sustainable Funding Strategy for One Health Toolkit"}]

{"sheet":"I2_tools","index":47,"n_rows":148,"n_cols":59,"rows_kept":148,"cut":false,"hidden":false,"merged":[[147,56,151,57],[147,58,151,62],[82,56,86,57],[82,58,86,62],[88,56,92,57],[88,58,92,62],[128,56,132,57],[128,58,132,62],[135,56,139,57],[135,58,139,62],[141,56,145,57],[141,58,145,62],[1,1,3,62],[22,56,26,57],[22,58,26,62],[29,56,33,57],[29,58,33,62],[35,56,39,57],[35,58,39,62],[75,56,79,57],[75,58,79,62],[13,53,20,54],[17,3,20,6],[17,8,20,13],[17,15,20,22],[17,24,20,26],[17,28,20,30],[22,3,26,6],[22,8,26,13],[6,32,20,32],[6,34,20,34],[6,36,20,36],[6,38,20,38],[6,40,20,40],[6,42,20,42],[6,44,20,44],[6,46,20,46],[6,48,20,48],[22,53,26,54],[22,38,26,38],[22,40,26,40],[22,42,26,42],[22,44,26,44],[22,46,26,46],[22,24,26,26],[22,28,26,30],[22,32,26,32],[22,34,26,34],[22,36,26,36],[128,3,132,6],[128,8,132,13],[128,15,132,22],[29,46,33,46],[82,42,86,42],[82,44,86,44],[112,44,126,44],[112,46,126,46],[128,44,132,44],[128,46,132,46],[29,53,33,54],[29,34,33,34],[29,36,33,36],[29,38,33,38],[29,40,33,40],[29,42,33,42],[29,44,33,44],[29,8,33,13],[29,15,33,22],[29,24,33,26],[29,28,33,30],[29,32,33,32],[29,48,33,48],[35,53,39,54],[35,36,39,36],[35,38,39,38],[35,40,39,40],[35,42,39,42],[35,44,39,44],[35,46,39,46],[35,8,39,13],[35,15,39,22],[35,24,39,26],[35,28,39,30],[35,32,39,32],[35,34,39,34],[17,1,39,1],[59,32,73,32],[75,3,79,6],[75,8,79,13],[75,15,79,22],[75,24,79,26],[29,3,39,6],[35,48,39,48],[35,50,39,51],[75,42,79,42],[75,44,79,44],[22,50,26,51],[13,50,20,51],[59,46,73,46],[59,48,73,48],[66,50,73,51],[75,46,79,46],[75,48,79,48],[75,50,79,51],[68,1,95,1],[82,50,86,51],[29,50,33,51],[22,48,26,48],[22,15,26,22],[66,53,73,54],[70,3,73,6],[70,8,73,13],[70,15,73,22],[70,24,73,26],[70,28,73,30],[59,34,73,34],[59,36,73,36],[59,38,73,38],[59,40,73,40],[59,42,73,42],[59,44,73,44],[75,53,79,54],[82,3,92,6],[82,8,86,13],[82,15,86,22],[82,24,86,26],[82,28,86,30],[82,32,86,32],[75,28,79,30],[75,32,79,32],[75,34,79,34],[75,36,79,36],[75,38,79,38],[75,40,79,40],[88,48,92,48],[88,50,92,51],[88,53,92,54],[88,36,92,36],[88,38,92,38],[88,40,92,40],[88,42,92,42],[88,44,92,44],[88,46,92,46],[82,46,86,46],[82,48,86,48],[82,53,86,54],[88,8,92,13],[88,15,92,22],[88,24,92,26],[88,28,92,30],[88,32,92,32],[88,34,92,34],[82,34,86,34],[82,36,86,36],[82,38,86,38],[82,40,86,40],[119,50,126,51],[119,53,126,54],[123,3,126,6],[123,8,126,13],[123,15,126,22],[123,24,126,26],[112,34,126,34],[112,36,126,36],[112,38,126,38],[112,40,126,40],[112,32,126,32],[112,42,126,42],[123,28,126,30],[112,48,126,48],[128,50,132,51],[128,53,132,54],[135,8,139,13],[135,15,139,22],[135,24,139,26],[135,28,139,30],[128,24,132,26],[128,28,132,30],[128,32,132,32],[128,34,132,34],[128,36,132,36],[128,38,132,38],[128,40,132,40],[128,42,132,42],[128,48,132,48],[141,40,145,40],[141,42,145,42],[141,44,145,44],[135,44,139,44],[135,46,139,46],[135,48,139,48],[135,50,139,51],[135,53,139,54],[141,8,145,13],[141,15,145,22],[141,24,145,26],[141,28,145,30],[141,32,145,32],[135,32,139,32],[135,34,139,34],[135,36,139,36],[135,38,139,38],[135,40,139,40],[135,42,139,42],[147,46,151,46],[147,48,151,48],[147,50,151,51],[147,53,151,54],[123,1,151,1],[135,3,151,6],[147,34,151,34],[147,36,151,36],[147,38,151,38],[147,40,151,40],[147,42,151,42],[147,44,151,44],[141,46,145,46],[141,48,145,48],[141,50,145,51],[141,53,145,54],[147,8,151,13],[147,15,151,22],[147,24,151,26],[147,28,151,30],[147,32,151,32],[141,34,145,34],[141,36,145,36],[141,38,145,38]]}
[]
[null,"Mobilizing Human Resources and Stakeholders Resources"]
[]
[]
[]
[]
[null,null,null,null,null,null,null,null,null,null,null,null,null,null,null,null,null,null,null,null,null,null,null,null,null,null,null,null,null,null,null,null,"Accessibility",null,"Language",null,"Ease of use",null,"Flexibility",null,"Data Needs",null,"Data Analysis",null,"Acceptability",null,"One Health",null,"Impact"]
[]
[]
[]
[]
[]
[]
[null,null,null,null,null,null,null,null,null,null,null,null,null,null,null,null,null,null,null,null,null,null,null,null,null,null,null,null,null,null,null,null,null,null,null,null,null,null,null,null,null,null,null,null,null,null,null,null,null,null,"RAW SCORE",null,null,"ADJUSTED SCORE \n(Based on user preferences)"]
[]
[]
[]
[null,"LEVEL 1 RESOURCES",null,"DESIGNATION",null,null,null,null,"RESOURCE NAME",null,null,null,null,null,null,"SHORT DESCRIPTION",null,null,null,null,null,null,null,null,"RESOURCE TYPE",null,null,null,"RESOURCE GENERALITY"]
[]
[]
[]
[null,null,null,null,null,null,null,null,null,null,null,null,null,null,null,null,null,null,null,null,null,null,null,null,null,null,null,null,null,null,null,null,{"$f":"'Attribute Survey'!S22","v":0},null,{"$f":"'Attribute Survey'!S26","v":0},null,{"$f":"'Attribute Survey'!S30","v":0},null,{"$f":"'Attribute Survey'!S34","v":0},null,{"$f":"'Attribute Survey'!S38","v":0},null,{"$f":"'Attribute Survey'!S42","v":0},null,{"$f":"'Attribute Survey'!S46","v":0},null,{"$f":"'Attribute Survey'!S50","v":0},null,{"$f":"'Attribute Survey'!S54","v":0}]
[null,null,null,"Resources Best Fit For Purpose",null,null,null,null,{"$f":"Backbone!A634","v":"Governance Manual Toolkit"},null,null,null,null,null,null,"A toolkit that provides an overview of how to develop a governance manual for a One Health platform.",null,null,null,null,null,null,null,null,{"$f":"INDEX(Backbone!$R2:$R893,MATCH(I23,Backbone!$A2:$A893,0))","v":"Guidance document"},null,null,null,{"$f":"INDEX(Backbone!$S2:$S893,MATCH(I23,Backbone!$A2:$A893,0))","v":"One Health; Generalized"},null,null,null,{"$f":"INDEX(Backbone!$H2:$H893,MATCH(I23,Backbone!$A2:$A893,0))","v":8.4},null,{"$f":"INDEX(Backbone!$I2:$I893,MATCH(I23,Backbone!$A2:$A893,0))","v":8},null,{"$f":"INDEX(Backbone!$J2:$J893,MATCH(I23,Backbone!$A2:$A893,0))","v":8.4},null,{"$f":"INDEX(Backbone!$K2:$K893,MATCH(I23,Backbone!$A2:$A893,0))","v":6.7},null,{"$f":"INDEX(Backbone!$L2:$L893,MATCH(I23,Backbone!$A2:$A893,0))","v":2},null,{"$f":"INDEX(Backbone!$M2:$M893,MATCH(I23,Backbone!$A2:$A893,0))","v":3.5},null,{"$f":"INDEX(Backbone!$N2:$N893,MATCH(I23,Backbone!$A2:$A893,0))","v":4},null,{"$f":"INDEX(Backbone!$O2:$O893,MATCH(I23,Backbone!$A2:$A893,0))","v":6.4},null,{"$f":"INDEX(Backbone!$P2:$P893,MATCH(I23,Backbone!$A2:$A893,0))","v":8},null,{"$f":"INDEX(Backbone!$Q2:$Q893,MATCH(I23,Backbone!$A2:$A893,0))","v":0.61555555555555552},null,null,{"$f":"(AG23*$AG$22+AI23*$AI$22+AK23*$AK$22+AM23*$AM$22+AO23*$AO$22+AQ23*$AQ$22+AS23*$AS$22+AU23*$AU$22+AW23*$AW$22)/(SUM($AG$22:$AW$22)*10)","v":{"$error":"#DIV/0!"}},null,null,"Go to \nToolbox: ",null,{"$f":"HYPERLINK(\"#\"&ADDRESS(MATCH(I23,Toolbox!$C$1:$C$300),1,,,\"Toolbox\"),VLOOKUP(I23,Toolbox!$C$1:$C$300,1,FALSE))","v":"Governance Manual Toolkit"}]
[]
[]
[]
[]
[]
[]
[null,null,null,"Other Relevant Resources",null,null,null,null,{"$f":"Backbone!A2","v":"Africa CDC Event Based Surveillance Framework"},null,null,null,null,null,null,"A guidance to public health practitioners seeking to implement event-based surveillance at each administrative level.",null,null,null,null,null,null,null,null,{"$f":"INDEX(Backbone!$R$2:$R$893,MATCH(I30,Backbone!$A$2:$A$893,0))","v":"Guidance document"},null,null,null,{"$f":"INDEX(Backbone!$S$2:$S$893,MATCH(I30,Backbone!$A$2:$A$893,0))","v":"One Health; Generalized "},null,null,null,{"$f":"INDEX(Backbone!$H$2:$H$893,MATCH(I30,Backbone!$A$2:$A$893,0))","v":8},null,{"$f":"INDEX(Backbone!$I$2:$I$893,MATCH(I30,Backbone!$A$2:$A$893,0))","v":6},null,{"$f":"INDEX(Backbone!$J$2:$J$893,MATCH(I30,Backbone!$A$2:$A$893,0))","v":8.1999999999999993},null,{"$f":"INDEX(Backbone!$K$1:$K$893,MATCH(I30,Backbone!$A$1:$A$893,0))","v":8.3000000000000007},null,{"$f":"INDEX(Backbone!$L$2:$L$893,MATCH(I30,Backbone!$A$2:$A$893,0))","v":6.1},null,{"$f":"INDEX(Backbone!$M$2:$M$893,MATCH(I30,Backbone!$A$2:$A$893,0))","v":3.5},null,{"$f":"INDEX(Backbone!$N$2:$N$893,MATCH(I30,Backbone!$A$2:$A$893,0))","v":4},null,{"$f":"INDEX(Backbone!$O$2:$O$893,MATCH(I30,Backbone!$A$2:$A$893,0))","v":7},null,{"$f":"INDEX(Backbone!$P$2:$P$893,MATCH(I30,Backbone!$A$2:$A$893,0))","v":6},null,{"$f":"INDEX(Backbone!$Q$2:$Q$893,MATCH(I30,Backbone!$A$2:$A$893,0))","v":0.63222222222222224},null,null,{"$f":"(AG30*$AG$22+AI30*$AI$22+AK30*$AK$22+AM30*$AM$22+AO30*$AO$22+AQ30*$AQ$22+AS30*$AS$22+AU30*$AU$22+AW30*$AW$22)/(SUM($AG$22:$AW$22)*10)","v":{"$error":"#DIV/0!"}},null,null,"Go to \nToolbox: ",null,{"$f":"HYPERLINK(\"#\"&ADDRESS(MATCH(I30,Toolbox!$C$1:$C$300),1,,,\"Toolbox\"),VLOOKUP(I30,Toolbox!$C$1:$C$300,1,FALSE))","v":"Africa CDC Event Based Surveillance Framework"}]
[]
[]
[]
[]
[]
[null,null,null,null,null,null,null,null,{"$f":"Backbone!A680","v":"Disease Outbreak After Action Report Toolkit"},null,null,null,null,null,null,"This toolkit guides One Health Platform representatives through the step-by-step process of planning and executing an After Action Report (AAR) following a disease outbreak.",null,null,null,null,null,null,null,null,{"$f":"INDEX(Backbone!$R$2:$R$893,MATCH(I36,Backbone!$A$2:$A$893,0))","v":"Guidance document"},null,null,null,{"$f":"INDEX(Backbone!$S$2:$S$893,MATCH(I36,Backbone!$A$2:$A$893,0))","v":"One Health; Generalized"},null,null,null,{"$f":"INDEX(Backbone!$H$2:$H$893,MATCH(I36,Backbone!$A$2:$A$893,0))","v":8.4},null,{"$f":"INDEX(Backbone!$I$2:$I$893,MATCH(I36,Backbone!$A$2:$A$893,0))","v":8},null,{"$f":"INDEX(Backbone!$J$2:$J$893,MATCH(I36,Backbone!$A$2:$A$893,0))","v":8.4},null,{"$f":"INDEX(Backbone!$K$1:$K$893,MATCH(I36,Backbone!$A$1:$A$893,0))","v":6.7},null,{"$f":"INDEX(Backbone!$L$2:$L$893,MATCH(I36,Backbone!$A$2:$A$893,0))","v":2},null,{"$f":"INDEX(Backbone!$M$2:$M$893,MATCH(I36,Backbone!$A$2:$A$893,0))","v":3.5},null,{"$f":"INDEX(Backbone!$N$2:$N$893,MATCH(I36,Backbone!$A$2:$A$893,0))","v":4},null,{"$f":"INDEX(Backbone!$O$2:$O$893,MATCH(I36,Backbone!$A$2:$A$893,0))","v":6.4},null,{"$f":"INDEX(Backbone!$P$2:$P$893,MATCH(I36,Backbone!$A$2:$A$893,0))","v":8},null,{"$f":"INDEX(Backbone!$Q$2:$Q$893,MATCH(I36,Backbone!$A$2:$A$893,0))","v":0.61555555555555552},null,null,{"$f":"(AG36*$AG$22+AI36*$AI$22+AK36*$AK$22+AM36*$AM$22+AO36*$AO$22+AQ36*$AQ$22+AS36*$AS$22+AU36*$AU$22+AW36*$AW$22)/(SUM($AG$22:$AW$22)*10)","v":{"$error":"#DIV/0!"}},null,null,"Go to \nToolbox: ",null,{"$f":"HYPERLINK(\"#\"&ADDRESS(MATCH(I36,Toolbox!$C$1:$C$300),1,,,\"Toolbox\"),VLOOKUP(I36,Toolbox!$C$1:$C$300,1,FALSE))","v":"Disease Outbreak After Action Report Toolkit"}]
[]
[]
[]
[]
[]
[]
[]
[]
[]
[]
[]
[]
[]
[]
[]
[]
[]
[]
[]
[]
[]
[]
[]
[null,null,null,null,null,null,null,null,null,null,null,null,null,null,null,null,null,null,null,null,null,null,null,null,null,null,null,null,null,null,null,null,"Accessibility",null,"Language",null,"Ease of use",null,"Flexibility",null,"Data Needs",null,"Data Analysis",null,"Acceptability",null,"One Health",null,"Impact"]
[]
[]
[]
[]
[]
[]
[null,null,null,null,null,null,null,null,null,null,null,null,null,null,null,null,null,null,null,null,null,null,null,null,null,null,null,null,null,null,null,null,null,null,null,null,null,null,null,null,null,null,null,null,null,null,null,null,null,null,"RAW SCORE",null,null,"ADJUSTED SCORE \n(Based on user preferences)"]
[]
[null,"LEVEL 2 RESOURCES"]
[]
[null,null,null,"DESIGNATION",null,null,null,null,"RESOURCE NAME",null,null,null,null,null,null,"SHORT DESCRIPTION",null,null,null,null,null,null,null,null,"RESOURCE TYPE",null,null,null,"RESOURCE GENERALITY"]
[]
[]
[]
[null,null,null,null,null,null,null,null,null,null,null,null,null,null,null,null,null,null,null,null,null,null,null,null,null,null,null,null,null,null,null,null,{"$f":"'Attribute Survey'!S75","v":0},null,{"$f":"'Attribute Survey'!S79","v":0},null,{"$f":"'Attribute Survey'!S83","v":0},null,{"$f":"'Attribute Survey'!S87","v":0},null,{"$f":"'Attribute Survey'!S91","v":0},null,{"$f":"'Attribute Survey'!S95","v":0},null,{"$f":"'Attribute Survey'!S99","v":0},null,{"$f":"'Attribute Survey'!S103","v":0},null,{"$f":"'Attribute Survey'!S107","v":0}]
[null,null,null,"Resources Best Fit For Purpose",null,null,null,null,{"$f":"Backbone!A634","v":"Governance Manual Toolkit"},null,null,null,null,null,null,"A toolkit that provides an overview of how to develop a governance manual for a One Health platform.",null,null,null,null,null,null,null,null,{"$f":"INDEX(Backbone!$R55:$R946,MATCH(I76,Backbone!$A55:$A946,0))","v":"Guidance document"},null,null,null,{"$f":"INDEX(Backbone!$S55:$S946,MATCH(I76,Backbone!$A55:$A946,0))","v":"One Health; Generalized"},null,null,null,{"$f":"INDEX(Backbone!$H55:$H946,MATCH(I76,Backbone!$A55:$A946,0))","v":8.4},null,{"$f":"INDEX(Backbone!$I55:$I946,MATCH(I76,Backbone!$A55:$A946,0))","v":8},null,{"$f":"INDEX(Backbone!$J55:$J946,MATCH(I76,Backbone!$A55:$A946,0))","v":8.4},null,{"$f":"INDEX(Backbone!$K55:$K946,MATCH(I76,Backbone!$A55:$A946,0))","v":6.7},null,{"$f":"INDEX(Backbone!$L55:$L946,MATCH(I76,Backbone!$A55:$A946,0))","v":2},null,{"$f":"INDEX(Backbone!$M55:$M946,MATCH(I76,Backbone!$A55:$A946,0))","v":3.5},null,{"$f":"INDEX(Backbone!$N55:$N946,MATCH(I76,Backbone!$A55:$A946,0))","v":4},null,{"$f":"INDEX(Backbone!$O55:$O946,MATCH(I76,Backbone!$A55:$A946,0))","v":6.4},null,{"$f":"INDEX(Backbone!$P55:$P946,MATCH(I76,Backbone!$A55:$A946,0))","v":8},null,{"$f":"INDEX(Backbone!$Q55:$Q946,MATCH(I76,Backbone!$A55:$A946,0))","v":0.61555555555555552},null,null,{"$f":"(AG76*$AG$22+AI76*$AI$22+AK76*$AK$22+AM76*$AM$22+AO76*$AO$22+AQ76*$AQ$22+AS76*$AS$22+AU76*$AU$22+AW76*$AW$22)/(SUM($AG$22:$AW$22)*10)","v":{"$error":"#DIV/0!"}},null,null,"Go to \nToolbox: ",null,{"$f":"HYPERLINK(\"#\"&ADDRESS(MATCH(I76,Toolbox!$C$1:$C$300),1,,,\"Toolbox\"),VLOOKUP(I76,Toolbox!$C$1:$C$300,1,FALSE))","v":"Governance Manual Toolkit"}]
[]
[]
[]
[]
[]
[]
[null,null,null,"Other Relevant Resources",null,null,null,null,{"$f":"Backbone!A2","v":"Africa CDC Event Based Surveillance Framework"},null,null,null,null,null,null,"A guidance to public health practitioners seeking to implement event-based surveillance at each administrative level.",null,null,null,null,null,null,null,null,{"$f":"INDEX(Backbone!$R$2:$R$893,MATCH(I83,Backbone!$A$2:$A$893,0))","v":"Guidance document"},null,null,null,{"$f":"INDEX(Backbone!$S$2:$S$893,MATCH(I83,Backbone!$A$2:$A$893,0))","v":"One Health; Generalized "},null,null,null,{"$f":"INDEX(Backbone!$H$2:$H$893,MATCH(I83,Backbone!$A$2:$A$893,0))","v":8},null,{"$f":"INDEX(Backbone!$I$2:$I$893,MATCH(I83,Backbone!$A$2:$A$893,0))","v":6},null,{"$f":"INDEX(Backbone!$J$2:$J$893,MATCH(I83,Backbone!$A$2:$A$893,0))","v":8.1999999999999993},null,{"$f":"INDEX(Backbone!$K$1:$K$893,MATCH(I83,Backbone!$A$1:$A$893,0))","v":8.3000000000000007},null,{"$f":"INDEX(Backbone!$L$2:$L$893,MATCH(I83,Backbone!$A$2:$A$893,0))","v":6.1},null,{"$f":"INDEX(Backbone!$M$2:$M$893,MATCH(I83,Backbone!$A$2:$A$893,0))","v":3.5},null,{"$f":"INDEX(Backbone!$N$2:$N$893,MATCH(I83,Backbone!$A$2:$A$893,0))","v":4},null,{"$f":"INDEX(Backbone!$O$2:$O$893,MATCH(I83,Backbone!$A$2:$A$893,0))","v":7},null,{"$f":"INDEX(Backbone!$P$2:$P$893,MATCH(I83,Backbone!$A$2:$A$893,0))","v":6},null,{"$f":"INDEX(Backbone!$Q$2:$Q$893,MATCH(I83,Backbone!$A$2:$A$893,0))","v":0.63222222222222224},null,null,{"$f":"(AG83*$AG$22+AI83*$AI$22+AK83*$AK$22+AM83*$AM$22+AO83*$AO$22+AQ83*$AQ$22+AS83*$AS$22+AU83*$AU$22+AW83*$AW$22)/(SUM($AG$22:$AW$22)*10)","v":{"$error":"#DIV/0!"}},null,null,"Go to \nToolbox: ",null,{"$f":"HYPERLINK(\"#\"&ADDRESS(MATCH(I83,Toolbox!$C$1:$C$300),1,,,\"Toolbox\"),VLOOKUP(I83,Toolbox!$C$1:$C$300,1,FALSE))","v":"Africa CDC Event Based Surveillance Framework"}]
[]
[]
[]
[]
[]
[null,null,null,null,null,null,null,null,{"$f":"Backbone!A680","v":"Disease Outbreak After Action Report Toolkit"},null,null,null,null,null,null,"This toolkit guides One Health Platform representatives through the step-by-step process of planning and executing an After Action Report (AAR) following a disease outbreak.",null,null,null,null,null,null,null,null,{"$f":"INDEX(Backbone!$R$2:$R$893,MATCH(I89,Backbone!$A$2:$A$893,0))","v":"Guidance document"},null,null,null,{"$f":"INDEX(Backbone!$S$2:$S$893,MATCH(I89,Backbone!$A$2:$A$893,0))","v":"One Health; Generalized"},null,null,null,{"$f":"INDEX(Backbone!$H$2:$H$893,MATCH(I89,Backbone!$A$2:$A$893,0))","v":8.4},null,{"$f":"INDEX(Backbone!$I$2:$I$893,MATCH(I89,Backbone!$A$2:$A$893,0))","v":8},null,{"$f":"INDEX(Backbone!$J$2:$J$893,MATCH(I89,Backbone!$A$2:$A$893,0))","v":8.4},null,{"$f":"INDEX(Backbone!$K$1:$K$893,MATCH(I89,Backbone!$A$1:$A$893,0))","v":6.7},null,{"$f":"INDEX(Backbone!$L$2:$L$893,MATCH(I89,Backbone!$A$2:$A$893,0))","v":2},null,{"$f":"INDEX(Backbone!$M$2:$M$893,MATCH(I89,Backbone!$A$2:$A$893,0))","v":3.5},null,{"$f":"INDEX(Backbone!$N$2:$N$893,MATCH(I89,Backbone!$A$2:$A$893,0))","v":4},null,{"$f":"INDEX(Backbone!$O$2:$O$893,MATCH(I89,Backbone!$A$2:$A$893,0))","v":6.4},null,{"$f":"INDEX(Backbone!$P$2:$P$893,MATCH(I89,Backbone!$A$2:$A$893,0))","v":8},null,{"$f":"INDEX(Backbone!$Q$2:$Q$893,MATCH(I89,Backbone!$A$2:$A$893,0))","v":0.61555555555555552},null,null,{"$f":"(AG89*$AG$22+AI89*$AI$22+AK89*$AK$22+AM89*$AM$22+AO89*$AO$22+AQ89*$AQ$22+AS89*$AS$22+AU89*$AU$22+AW89*$AW$22)/(SUM($AG$22:$AW$22)*10)","v":{"$error":"#DIV/0!"}},null,null,"Go to \nToolbox: ",null,{"$f":"HYPERLINK(\"#\"&ADDRESS(MATCH(I89,Toolbox!$C$1:$C$300),1,,,\"Toolbox\"),VLOOKUP(I89,Toolbox!$C$1:$C$300,1,FALSE))","v":"Disease Outbreak After Action Report Toolkit"}]
[]
[]
[]
[]
[]
[]
[]
[]
[]
[]
[]
[]
[]
[]
[]
[]
[]
[]
[]
[]
[]
[]
[]
[null,null,null,null,null,null,null,null,null,null,null,null,null,null,null,null,null,null,null,null,null,null,null,null,null,null,null,null,null,null,null,null,"Accessibility",null,"Language",null,"Ease of use",null,"Flexibility",null,"Data Needs",null,"Data Analysis",null,"Acceptability",null,"One Health",null,"Impact"]
[]
[]
[]
[]
[]
[]
[null,null,null,null,null,null,null,null,null,null,null,null,null,null,null,null,null,null,null,null,null,null,null,null,null,null,null,null,null,null,null,null,null,null,null,null,null,null,null,null,null,null,null,null,null,null,null,null,null,null,"RAW SCORE",null,null,"ADJUSTED SCORE \n(Based on user preferences)"]
[]
[]
[]
[null,"LEVEL 3 RESOURCES",null,"DESIGNATION",null,null,null,null,"RESOURCE NAME",null,null,null,null,null,null,"SHORT DESCRIPTION",null,null,null,null,null,null,null,null,"RESOURCE TYPE",null,null,null,"RESOURCE GENERALITY"]
[]
[]
[]
[null,null,null,null,null,null,null,null,null,null,null,null,null,null,null,null,null,null,null,null,null,null,null,null,null,null,null,null,null,null,null,null,{"$f":"'Attribute Survey'!S128","v":0},null,{"$f":"'Attribute Survey'!S132","v":0},null,{"$f":"'Attribute Survey'!S136","v":0},null,{"$f":"'Attribute Survey'!S140","v":0},null,{"$f":"'Attribute Survey'!S144","v":0},null,{"$f":"'Attribute Survey'!S148","v":0},null,{"$f":"'Attribute Survey'!S152","v":0},null,{"$f":"'Attribute Survey'!S156","v":0},null,{"$f":"'Attribute Survey'!S160","v":0}]
[null,null,null,"Resources Best Fit For Purpose",null,null,null,null,{"$f":"Backbone!A634","v":"Governance Manual Toolkit"},null,null,null,null,null,null,"A toolkit that provides an overview of how to develop a governance manual for a One Health platform.",null,null,null,null,null,null,null,null,{"$f":"INDEX(Backbone!$R108:$R999,MATCH(I129,Backbone!$A108:$A999,0))","v":"Guidance document"},null,null,null,{"$f":"INDEX(Backbone!$S108:$S999,MATCH(I129,Backbone!$A108:$A999,0))","v":"One Health; Generalized"},null,null,null,{"$f":"INDEX(Backbone!$H108:$H999,MATCH(I129,Backbone!$A108:$A999,0))","v":8.4},null,{"$f":"INDEX(Backbone!$I108:$I999,MATCH(I129,Backbone!$A108:$A999,0))","v":8},null,{"$f":"INDEX(Backbone!$J108:$J999,MATCH(I129,Backbone!$A108:$A999,0))","v":8.4},null,{"$f":"INDEX(Backbone!$K108:$K999,MATCH(I129,Backbone!$A108:$A999,0))","v":6.7},null,{"$f":"INDEX(Backbone!$L108:$L999,MATCH(I129,Backbone!$A108:$A999,0))","v":2},null,{"$f":"INDEX(Backbone!$M108:$M999,MATCH(I129,Backbone!$A108:$A999,0))","v":3.5},null,{"$f":"INDEX(Backbone!$N108:$N999,MATCH(I129,Backbone!$A108:$A999,0))","v":4},null,{"$f":"INDEX(Backbone!$O108:$O999,MATCH(I129,Backbone!$A108:$A999,0))","v":6.4},null,{"$f":"INDEX(Backbone!$P108:$P999,MATCH(I129,Backbone!$A108:$A999,0))","v":8},null,{"$f":"INDEX(Backbone!$Q108:$Q999,MATCH(I129,Backbone!$A108:$A999,0))","v":0.61555555555555552},null,null,{"$f":"(AG129*$AG$22+AI129*$AI$22+AK129*$AK$22+AM129*$AM$22+AO129*$AO$22+AQ129*$AQ$22+AS129*$AS$22+AU129*$AU$22+AW129*$AW$22)/(SUM($AG$22:$AW$22)*10)","v":{"$error":"#DIV/0!"}},null,null,"Go to \nToolbox: ",null,{"$f":"HYPERLINK(\"#\"&ADDRESS(MATCH(I129,Toolbox!$C$1:$C$300),1,,,\"Toolbox\"),VLOOKUP(I129,Toolbox!$C$1:$C$300,1,FALSE))","v":"Governance Manual Toolkit"}]
[]
[]
[]
[]
[]
[]
[null,null,null,"Other Relevant Resources",null,null,null,null,{"$f":"Backbone!A2","v":"Africa CDC Event Based Surveillance Framework"},null,null,null,null,null,null,"A guidance to public health practitioners seeking to implement event-based surveillance at each administrative level.",null,null,null,null,null,null,null,null,{"$f":"INDEX(Backbone!$R$2:$R$893,MATCH(I136,Backbone!$A$2:$A$893,0))","v":"Guidance document"},null,null,null,{"$f":"INDEX(Backbone!$S$2:$S$893,MATCH(I136,Backbone!$A$2:$A$893,0))","v":"One Health; Generalized "},null,null,null,{"$f":"INDEX(Backbone!$H$2:$H$893,MATCH(I136,Backbone!$A$2:$A$893,0))","v":8},null,{"$f":"INDEX(Backbone!$I$2:$I$893,MATCH(I136,Backbone!$A$2:$A$893,0))","v":6},null,{"$f":"INDEX(Backbone!$J$2:$J$893,MATCH(I136,Backbone!$A$2:$A$893,0))","v":8.1999999999999993},null,{"$f":"INDEX(Backbone!$K$1:$K$893,MATCH(I136,Backbone!$A$1:$A$893,0))","v":8.3000000000000007},null,{"$f":"INDEX(Backbone!$L$2:$L$893,MATCH(I136,Backbone!$A$2:$A$893,0))","v":6.1},null,{"$f":"INDEX(Backbone!$M$2:$M$893,MATCH(I136,Backbone!$A$2:$A$893,0))","v":3.5},null,{"$f":"INDEX(Backbone!$N$2:$N$893,MATCH(I136,Backbone!$A$2:$A$893,0))","v":4},null,{"$f":"INDEX(Backbone!$O$2:$O$893,MATCH(I136,Backbone!$A$2:$A$893,0))","v":7},null,{"$f":"INDEX(Backbone!$P$2:$P$893,MATCH(I136,Backbone!$A$2:$A$893,0))","v":6},null,{"$f":"INDEX(Backbone!$Q$2:$Q$893,MATCH(I136,Backbone!$A$2:$A$893,0))","v":0.63222222222222224},null,null,{"$f":"(AG136*$AG$22+AI136*$AI$22+AK136*$AK$22+AM136*$AM$22+AO136*$AO$22+AQ136*$AQ$22+AS136*$AS$22+AU136*$AU$22+AW136*$AW$22)/(SUM($AG$22:$AW$22)*10)","v":{"$error":"#DIV/0!"}},null,null,"Go to \nToolbox: ",null,{"$f":"HYPERLINK(\"#\"&ADDRESS(MATCH(I136,Toolbox!$C$1:$C$300),1,,,\"Toolbox\"),VLOOKUP(I136,Toolbox!$C$1:$C$300,1,FALSE))","v":"Africa CDC Event Based Surveillance Framework"}]
[]
[]
[]
[]
[]
[null,null,null,null,null,null,null,null,{"$f":"Backbone!A680","v":"Disease Outbreak After Action Report Toolkit"},null,null,null,null,null,null,"This toolkit guides One Health Platform representatives through the step-by-step process of planning and executing an After Action Report following a disease outbreak.",null,null,null,null,null,null,null,null,{"$f":"INDEX(Backbone!$R$2:$R$893,MATCH(I142,Backbone!$A$2:$A$893,0))","v":"Guidance document"},null,null,null,{"$f":"INDEX(Backbone!$S$2:$S$893,MATCH(I142,Backbone!$A$2:$A$893,0))","v":"One Health; Generalized"},null,null,null,{"$f":"INDEX(Backbone!$H$2:$H$893,MATCH(I142,Backbone!$A$2:$A$893,0))","v":8.4},null,{"$f":"INDEX(Backbone!$I$2:$I$893,MATCH(I142,Backbone!$A$2:$A$893,0))","v":8},null,{"$f":"INDEX(Backbone!$J$2:$J$893,MATCH(I142,Backbone!$A$2:$A$893,0))","v":8.4},null,{"$f":"INDEX(Backbone!$K$1:$K$893,MATCH(I142,Backbone!$A$1:$A$893,0))","v":6.7},null,{"$f":"INDEX(Backbone!$L$2:$L$893,MATCH(I142,Backbone!$A$2:$A$893,0))","v":2},null,{"$f":"INDEX(Backbone!$M$2:$M$893,MATCH(I142,Backbone!$A$2:$A$893,0))","v":3.5},null,{"$f":"INDEX(Backbone!$N$2:$N$893,MATCH(I142,Backbone!$A$2:$A$893,0))","v":4},null,{"$f":"INDEX(Backbone!$O$2:$O$893,MATCH(I142,Backbone!$A$2:$A$893,0))","v":6.4},null,{"$f":"INDEX(Backbone!$P$2:$P$893,MATCH(I142,Backbone!$A$2:$A$893,0))","v":8},null,{"$f":"INDEX(Backbone!$Q$2:$Q$893,MATCH(I142,Backbone!$A$2:$A$893,0))","v":0.61555555555555552},null,null,{"$f":"(AG142*$AG$22+AI142*$AI$22+AK142*$AK$22+AM142*$AM$22+AO142*$AO$22+AQ142*$AQ$22+AS142*$AS$22+AU142*$AU$22+AW142*$AW$22)/(SUM($AG$22:$AW$22)*10)","v":{"$error":"#DIV/0!"}},null,null,"Go to \nToolbox: ",null,{"$f":"HYPERLINK(\"#\"&ADDRESS(MATCH(I142,Toolbox!$C$1:$C$300),1,,,\"Toolbox\"),VLOOKUP(I142,Toolbox!$C$1:$C$300,1,FALSE))","v":"Disease Outbreak After Action Report Toolkit"}]
[]
[]
[]
[]
[]
[null,null,null,null,null,null,null,null,{"$f":"Backbone!A648","v":"Preparedness and Response Planning Toolkit"},null,null,null,null,null,null,"This toolkit is designed to support countries in their development of multisectoral preparedness and response plans for public health events. ",null,null,null,null,null,null,null,null,{"$f":"INDEX(Backbone!$R$2:$R$893,MATCH(I148,Backbone!$A$2:$A$893,0))","v":"Guidance document"},null,null,null,{"$f":"INDEX(Backbone!$S$2:$S$893,MATCH(I148,Backbone!$A$2:$A$893,0))","v":"One Health; Generalized"},null,null,null,{"$f":"INDEX(Backbone!$H$2:$H$893,MATCH(I148,Backbone!$A$2:$A$893,0))","v":8.4},null,{"$f":"INDEX(Backbone!$I$2:$I$893,MATCH(I148,Backbone!$A$2:$A$893,0))","v":8},null,{"$f":"INDEX(Backbone!$J$2:$J$893,MATCH(I148,Backbone!$A$2:$A$893,0))","v":8.4},null,{"$f":"INDEX(Backbone!$K$1:$K$893,MATCH(I148,Backbone!$A$1:$A$893,0))","v":6.7},null,{"$f":"INDEX(Backbone!$L$2:$L$893,MATCH(I148,Backbone!$A$2:$A$893,0))","v":2},null,{"$f":"INDEX(Backbone!$M$2:$M$893,MATCH(I148,Backbone!$A$2:$A$893,0))","v":3.5},null,{"$f":"INDEX(Backbone!$N$2:$N$893,MATCH(I148,Backbone!$A$2:$A$893,0))","v":4},null,{"$f":"INDEX(Backbone!$O$2:$O$893,MATCH(I148,Backbone!$A$2:$A$893,0))","v":6.4},null,{"$f":"INDEX(Backbone!$P$2:$P$893,MATCH(I148,Backbone!$A$2:$A$893,0))","v":8},null,{"$f":"INDEX(Backbone!$Q$2:$Q$893,MATCH(I148,Backbone!$A$2:$A$893,0))","v":0.61555555555555552},null,null,{"$f":"(AG148*$AG$22+AI148*$AI$22+AK148*$AK$22+AM148*$AM$22+AO148*$AO$22+AQ148*$AQ$22+AS148*$AS$22+AU148*$AU$22+AW148*$AW$22)/(SUM($AG$22:$AW$22)*10)","v":{"$error":"#DIV/0!"}},null,null,"Go to \nToolbox: ",null,{"$f":"HYPERLINK(\"#\"&ADDRESS(MATCH(I148,Toolbox!$C$1:$C$300),1,,,\"Toolbox\"),VLOOKUP(I148,Toolbox!$C$1:$C$300,1,FALSE))","v":"Preparedness and Response Planning Toolkit"}]

{"sheet":"I3_tools","index":48,"n_rows":243,"n_cols":59,"rows_kept":243,"cut":false,"hidden":false,"merged":[[236,56,240,57],[236,58,240,62],[242,56,246,57],[242,58,246,62],[171,56,175,57],[171,58,175,62],[211,56,215,57],[211,58,215,62],[217,56,221,57],[217,58,221,62],[223,56,227,57],[223,58,227,62],[229,56,233,57],[229,58,233,62],[141,56,145,57],[141,58,145,62],[147,56,151,57],[147,58,151,62],[153,56,157,57],[153,58,157,62],[159,56,163,57],[159,58,163,62],[165,56,169,57],[165,58,169,62],[77,56,81,57],[77,58,81,62],[83,56,87,57],[83,58,87,62],[89,56,93,57],[89,58,93,62],[95,56,99,57],[95,58,99,62],[135,56,139,57],[135,58,139,62],[46,56,50,57],[46,58,50,62],[52,56,56,57],[52,58,56,62],[59,56,63,57],[59,58,63,62],[65,56,69,57],[65,58,69,62],[71,56,75,57],[71,58,75,62],[1,1,3,62],[22,56,26,57],[22,58,26,62],[28,56,32,57],[28,58,32,62],[34,56,38,57],[34,58,38,62],[40,56,44,57],[40,58,44,62],[17,28,20,30],[22,3,56,6],[22,8,26,13],[22,50,26,51],[22,53,26,54],[28,8,32,13],[28,15,32,22],[28,32,32,32],[28,34,32,34],[28,36,32,36],[28,38,32,38],[22,38,26,38],[22,40,26,40],[22,42,26,42],[22,34,26,34],[22,36,26,36],[34,42,38,42],[34,44,38,44],[34,46,38,46],[34,48,38,48],[34,50,38,51],[34,53,38,54],[28,53,32,54],[34,8,38,13],[28,44,32,44],[28,46,32,46],[28,48,32,48],[28,50,32,51],[28,24,32,26],[28,28,32,30],[6,32,20,32],[6,34,20,34],[6,36,20,36],[6,38,20,38],[6,40,20,40],[6,42,20,42],[6,44,20,44],[6,46,20,46],[6,48,20,48],[13,50,20,51],[13,53,20,54],[17,1,99,1],[17,3,20,6],[17,8,20,13],[17,15,20,22],[17,24,20,26],[22,44,26,44],[22,46,26,46],[22,48,26,48],[22,15,26,22],[22,24,26,26],[22,28,26,30],[22,32,26,32],[34,15,38,22],[34,24,38,26],[34,28,38,30],[34,32,38,32],[34,34,38,34],[34,36,38,36],[34,38,38,38],[34,40,38,40],[28,40,32,40],[28,42,32,42],[95,40,99,40],[40,48,44,48],[40,50,44,51],[40,53,44,54],[52,8,56,13],[52,15,56,22],[52,24,56,26],[52,28,56,30],[52,32,56,32],[52,34,56,34],[52,36,56,36],[40,36,44,36],[40,38,44,38],[40,40,44,40],[40,42,44,42],[40,44,44,44],[40,46,44,46],[40,8,44,13],[40,15,44,22],[40,24,44,26],[40,28,44,30],[40,32,44,32],[40,34,44,34],[52,50,56,51],[59,3,99,6],[59,8,63,13],[59,15,63,22],[59,24,63,26],[59,28,63,30],[59,32,63,32],[59,34,63,34],[59,36,63,36],[52,38,56,38],[95,8,99,13],[95,15,99,22],[95,24,99,26],[95,28,99,30],[95,32,99,32],[95,34,99,34],[95,36,99,36],[95,38,99,38],[52,46,56,46],[52,48,56,48],[59,50,63,51],[59,53,63,54],[65,8,69,13],[65,15,69,22],[65,24,69,26],[65,28,69,30],[65,32,69,32],[65,34,69,34],[65,36,69,36],[65,38,69,38],[59,38,63,38],[59,40,63,40],[59,42,63,42],[59,44,63,44],[59,46,63,46],[59,48,63,48],[52,40,56,40],[52,42,56,42],[52,44,56,44],[52,53,56,54],[71,46,75,46],[71,48,75,48],[71,50,75,51],[71,53,75,54],[65,53,69,54],[71,8,75,13],[71,15,75,22],[71,24,75,26],[71,28,75,30],[71,32,75,32],[71,34,75,34],[71,36,75,36],[71,38,75,38],[71,40,75,40],[65,40,69,40],[65,42,69,42],[65,44,69,44],[65,46,69,46],[65,48,69,48],[65,50,69,51],[71,42,75,42],[71,44,75,44],[77,48,81,48],[77,50,81,51],[77,53,81,54],[83,8,87,13],[83,15,87,22],[83,24,87,26],[83,28,87,30],[83,32,87,32],[83,34,87,34],[83,36,87,36],[77,36,81,36],[77,38,81,38],[77,40,81,40],[77,42,81,42],[77,44,81,44],[77,46,81,46],[77,8,81,13],[77,15,81,22],[77,24,81,26],[77,28,81,30],[77,32,81,32],[77,34,81,34],[89,48,93,48],[89,50,93,51],[83,50,87,51],[83,53,87,54],[89,8,93,13],[89,15,93,22],[89,24,93,26],[89,28,93,30],[89,32,93,32],[89,34,93,34],[89,36,93,36],[89,38,93,38],[83,38,87,38],[83,40,87,40],[83,42,87,42],[83,44,87,44],[83,46,87,46],[83,48,87,48],[46,8,50,13],[46,15,50,22],[46,24,50,26],[46,28,50,30],[46,32,50,32],[46,34,50,34],[46,36,50,36],[46,38,50,38],[46,40,50,40],[46,46,50,46],[46,48,50,48],[46,50,50,51],[46,53,50,54],[119,32,133,32],[119,34,133,34],[119,36,133,36],[119,38,133,38],[119,40,133,40],[119,42,133,42],[46,42,50,42],[46,44,50,44],[119,44,133,44],[95,42,99,42],[95,44,99,44],[95,46,99,46],[95,48,99,48],[95,50,99,51],[95,53,99,54],[89,53,93,54],[89,40,93,40],[89,42,93,42],[89,44,93,44],[89,46,93,46],[119,46,133,46],[119,48,133,48],[126,50,133,51],[126,53,133,54],[130,1,175,1],[130,3,133,6],[130,8,133,13],[130,15,133,22],[130,24,133,26],[130,28,133,30],[135,3,175,6],[135,8,139,13],[135,15,139,22],[135,24,139,26],[135,28,139,30],[135,32,139,32],[171,8,175,13],[171,15,175,22],[171,24,175,26],[171,28,175,30],[135,46,139,46],[135,48,139,48],[135,50,139,51],[135,53,139,54],[141,8,145,13],[141,15,145,22],[141,24,145,26],[141,28,145,30],[141,32,145,32],[141,34,145,34],[135,34,139,34],[135,36,139,36],[135,38,139,38],[135,40,139,40],[135,42,139,42],[135,44,139,44],[141,48,145,48],[141,50,145,51],[141,53,145,54],[147,8,151,13],[147,15,151,22],[147,24,151,26],[147,28,151,30],[147,32,151,32],[147,34,151,34],[147,36,151,36],[141,36,145,36],[141,38,145,38],[141,40,145,40],[141,42,145,42],[141,44,145,44],[141,46,145,46],[147,50,151,51],[147,53,151,54],[147,40,151,40],[147,42,151,42],[147,44,151,44],[147,46,151,46],[147,48,151,48],[159,8,163,13],[159,15,163,22],[159,24,163,26],[159,28,163,30],[159,32,163,32],[159,34,163,34],[159,36,163,36],[159,38,163,38],[159,40,163,40],[153,8,157,13],[153,15,157,22],[153,24,157,26],[153,28,157,30],[153,32,157,32],[153,34,157,34],[153,36,157,36],[153,38,157,38],[147,38,151,38],[171,42,175,42],[159,42,163,42],[159,44,163,44],[159,46,163,46],[159,48,163,48],[159,50,163,51],[159,53,163,54],[153,53,157,54],[153,40,157,40],[153,42,157,42],[153,44,157,44],[153,46,157,46],[153,48,157,48],[153,50,157,51],[165,50,169,51],[165,53,169,54],[165,48,169,48],[171,44,175,44],[171,46,175,46],[171,48,175,48],[171,50,175,51],[171,53,175,54],[171,32,175,32],[171,34,175,34],[171,36,175,36],[171,38,175,38],[195,32,209,32],[195,34,209,34],[195,36,209,36],[195,38,209,38],[171,40,175,40],[165,38,169,38],[165,40,169,40],[165,42,169,42],[165,44,169,44],[165,46,169,46],[165,8,169,13],[165,15,169,22],[165,24,169,26],[165,28,169,30],[165,32,169,32],[165,34,169,34],[165,36,169,36],[206,1,246,1],[206,3,209,6],[206,8,209,13],[206,15,209,22],[206,24,209,26],[206,28,209,30],[211,3,233,6],[211,8,215,13],[211,15,215,22],[211,24,215,26],[223,8,227,13],[223,15,227,22],[223,24,227,26],[223,28,227,30],[229,8,233,13],[229,15,233,22],[229,24,233,26],[229,28,233,30],[211,28,215,30],[236,3,246,6],[236,8,240,13],[236,15,240,22],[236,24,240,26],[236,28,240,30],[211,46,215,46],[211,48,215,48],[211,50,215,51],[211,53,215,54],[217,8,221,13],[217,15,221,22],[195,40,209,40],[195,42,209,42],[195,44,209,44],[217,34,221,34],[211,40,215,40],[211,42,215,42],[211,44,215,44],[217,48,221,48],[217,50,221,51],[195,48,209,48],[202,50,209,51],[202,53,209,54],[195,46,209,46],[211,36,215,36],[211,38,215,38],[217,53,221,54],[211,32,215,32],[211,34,215,34],[223,48,227,48],[217,24,221,26],[217,28,221,30],[217,32,221,32],[223,32,227,32],[223,34,227,34],[223,36,227,36],[217,36,221,36],[217,38,221,38],[217,40,221,40],[217,42,221,42],[217,44,221,44],[217,46,221,46],[223,38,227,38],[223,50,227,51],[242,50,246,51],[242,53,246,54],[242,38,246,38],[242,40,246,40],[242,42,246,42],[242,44,246,44],[242,46,246,46],[242,48,246,48],[229,38,233,38],[236,48,240,48],[236,50,240,51],[236,53,240,54],[236,40,240,40],[236,42,240,42],[236,44,240,44],[236,46,240,46],[229,53,233,54],[229,40,233,40],[223,53,227,54],[223,40,227,40],[223,42,227,42],[223,44,227,44],[223,46,227,46],[229,42,233,42],[229,44,233,44],[229,46,233,46],[229,48,233,48],[229,50,233,51],[242,8,246,13],[242,15,246,22],[242,24,246,26],[242,28,246,30],[242,32,246,32],[242,34,246,34],[242,36,246,36],[236,36,240,36],[236,38,240,38],[236,32,240,32],[236,34,240,34],[229,32,233,32],[229,34,233,34],[229,36,233,36]]}
[]
[null,"Data Exchange and Information Sharing Resources"]
[]
[]
[]
[]
[null,null,null,null,null,null,null,null,null,null,null,null,null,null,null,null,null,null,null,null,null,null,null,null,null,null,null,null,null,null,null,null,"Accessibility",null,"Language",null,"Ease of use",null,"Flexibility",null,"Data Needs",null,"Data Analysis",null,"Acceptability",null,"One Health",null,"Impact"]
[]
[]
[]
[]
[]
[]
[null,null,null,null,null,null,null,null,null,null,null,null,null,null,null,null,null,null,null,null,null,null,null,null,null,null,null,null,null,null,null,null,null,null,null,null,null,null,null,null,null,null,null,null,null,null,null,null,null,null,"RAW SCORE",null,null,"ADJUSTED SCORE \n(Based on user preferences)"]
[]
[]
[]
[null,"LEVEL 1 RESOURCES",null,"DESIGNATION",null,null,null,null,"RESOURCE NAME",null,null,null,null,null,null,"SHORT DESCRIPTION",null,null,null,null,null,null,null,null,"RESOURCE TYPE",null,null,null,"RESOURCE GENERALITY"]
[]
[]
[]
[null,null,null,null,null,null,null,null,null,null,null,null,null,null,null,null,null,null,null,null,null,null,null,null,null,null,null,null,null,null,null,null,{"$f":"'Attribute Survey'!S22","v":0},null,{"$f":"'Attribute Survey'!S26","v":0},null,{"$f":"'Attribute Survey'!S30","v":0},null,{"$f":"'Attribute Survey'!S34","v":0},null,{"$f":"'Attribute Survey'!S38","v":0},null,{"$f":"'Attribute Survey'!S42","v":0},null,{"$f":"'Attribute Survey'!S46","v":0},null,{"$f":"'Attribute Survey'!S50","v":0},null,{"$f":"'Attribute Survey'!S54","v":0}]
[null,null,null,"Resources Best Fit For Purpose",null,null,null,null,{"$f":"Backbone!A21","v":"AfyaData"},null,null,null,null,null,null,"A One Health disease surveillance tool, designed to cater for Human, animal and environmental surveillance needs, comprised of Mobile and Web Apps.",null,null,null,null,null,null,null,null,{"$f":"INDEX(Backbone!$R$2:$R$893,MATCH(I23,Backbone!$A$2:$A$893,0))","v":"Hardware or Software"},null,null,null,{"$f":"INDEX(Backbone!$S$2:$S$893,MATCH(I23,Backbone!$A$2:$A$893,0))","v":"One Health; Generalized "},null,null,null,{"$f":"INDEX(Backbone!$H$2:$H$893,MATCH(I23,Backbone!$A$2:$A$893,0))","v":7.3},null,{"$f":"INDEX(Backbone!$I$2:$I$893,MATCH(I23,Backbone!$A$2:$A$893,0))","v":10},null,{"$f":"INDEX(Backbone!$J$2:$J$893,MATCH(I23,Backbone!$A$2:$A$893,0))","v":8.1999999999999993},null,{"$f":"INDEX(Backbone!$K$2:$K$893,MATCH(I23,Backbone!$A$2:$A$893,0))","v":7.3},null,{"$f":"INDEX(Backbone!$L$2:$L$893,MATCH(I23,Backbone!$A$2:$A$893,0))","v":7.6},null,{"$f":"INDEX(Backbone!$M$2:$M$893,MATCH(I23,Backbone!$A$2:$A$893,0))","v":8.8000000000000007},null,{"$f":"INDEX(Backbone!$N$2:$N$893,MATCH(I23,Backbone!$A$2:$A$893,0))","v":5.5},null,{"$f":"INDEX(Backbone!$O$2:$O$893,MATCH(I23,Backbone!$A$2:$A$893,0))","v":7.6},null,{"$f":"INDEX(Backbone!$P$2:$P$893,MATCH(I23,Backbone!$A$2:$A$893,0))","v":7},null,{"$f":"INDEX(Backbone!$Q$2:$Q$893,MATCH(I23,Backbone!$A$2:$A$893,0))","v":0.77000000000000013},null,null,{"$f":"(AG23*$AG$22+AI23*$AI$22+AK23*$AK$22+AM23*$AM$22+AO23*$AO$22+AQ23*$AQ$22+AS23*$AS$22+AU23*$AU$22+AW23*$AW$22)/(SUM($AG$22:$AW$22)*10)","v":{"$error":"#DIV/0!"}},null,null,"Go to \nToolbox: ",null,{"$f":"HYPERLINK(\"#\"&ADDRESS(MATCH(I23,Toolbox!$C$1:$C$300),1,,,\"Toolbox\"),VLOOKUP(I23,Toolbox!$C$1:$C$300,1,FALSE))","v":"AfyaData"}]
[]
[]
[]
[]
[]
[null,null,null,null,null,null,null,null,{"$f":"Backbone!A65","v":"District Health Information Software 2 (DHIS2) "},null,null,null,null,null,null,"An open source, web-based health management information system  platform.",null,null,null,null,null,null,null,null,{"$f":"INDEX(Backbone!$R$2:$R$893,MATCH(I29,Backbone!$A$2:$A$893,0))","v":"Hardware or Software"},null,null,null,{"$f":"INDEX(Backbone!$S$2:$S$893,MATCH(I29,Backbone!$A$2:$A$893,0))","v":"Sector Specific; Generalized"},null,null,null,{"$f":"INDEX(Backbone!$H$2:$H$893,MATCH(I29,Backbone!$A$2:$A$893,0))","v":8.8000000000000007},null,{"$f":"INDEX(Backbone!$I$2:$I$893,MATCH(I29,Backbone!$A$2:$A$893,0))","v":8.6999999999999993},null,{"$f":"INDEX(Backbone!$J$2:$J$893,MATCH(I29,Backbone!$A$2:$A$893,0))","v":8},null,{"$f":"INDEX(Backbone!$K$2:$K$893,MATCH(I29,Backbone!$A$2:$A$893,0))","v":8.6999999999999993},null,{"$f":"INDEX(Backbone!$L$2:$L$893,MATCH(I29,Backbone!$A$2:$A$893,0))","v":9.3000000000000007},null,{"$f":"INDEX(Backbone!$M$2:$M$893,MATCH(I29,Backbone!$A$2:$A$893,0))","v":9},null,{"$f":"INDEX(Backbone!$N$2:$N$893,MATCH(I29,Backbone!$A$2:$A$893,0))","v":10},null,{"$f":"INDEX(Backbone!$O$2:$O$893,MATCH(I29,Backbone!$A$2:$A$893,0))","v":7.8},null,{"$f":"INDEX(Backbone!$P$2:$P$893,MATCH(I29,Backbone!$A$2:$A$893,0))","v":7},null,{"$f":"INDEX(Backbone!$Q$2:$Q$893,MATCH(I29,Backbone!$A$2:$A$893,0))","v":0.85888888888888881},null,null,{"$f":"(AG29*$AG$22+AI29*$AI$22+AK29*$AK$22+AM29*$AM$22+AO29*$AO$22+AQ29*$AQ$22+AS29*$AS$22+AU29*$AU$22+AW29*$AW$22)/(SUM($AG$22:$AW$22)*10)","v":{"$error":"#DIV/0!"}},null,null,"Go to \nToolbox: ",null,{"$f":"HYPERLINK(\"#\"&ADDRESS(MATCH(I29,Toolbox!$C$1:$C$300),1,,,\"Toolbox\"),VLOOKUP(I29,Toolbox!$C$1:$C$300,1,FALSE))","v":"District Health Information Software 2 (DHIS2) "}]
[]
[]
[]
[]
[]
[null,null,null,null,null,null,null,null,{"$f":"Backbone!A138","v":"Electronic Integrated Disease Surveillance System (EIDSS)"},null,null,null,null,null,null,"A customizable web-based electronic disease reporting system that can support passive and active human and veterinary health surveillance, laboratory diagnostics, vector surveillance, and outbreak management. ",null,null,null,null,null,null,null,null,{"$f":"INDEX(Backbone!$R$2:$R$893,MATCH(I35,Backbone!$A$2:$A$893,0))","v":"Hardware or Software"},null,null,null,{"$f":"INDEX(Backbone!$S$2:$S$893,MATCH(I35,Backbone!$A$2:$A$893,0))","v":"One Health; Generalized"},null,null,null,{"$f":"INDEX(Backbone!$H$2:$H$893,MATCH(I35,Backbone!$A$2:$A$893,0))","v":6.8},null,{"$f":"INDEX(Backbone!$I$2:$I$893,MATCH(I35,Backbone!$A$2:$A$893,0))","v":10},null,{"$f":"INDEX(Backbone!$J$2:$J$893,MATCH(I35,Backbone!$A$2:$A$893,0))","v":8.4},null,{"$f":"INDEX(Backbone!$K$1:$K$893,MATCH(I35,Backbone!$A$1:$A$893,0))","v":8.6999999999999993},null,{"$f":"INDEX(Backbone!$L$2:$L$893,MATCH(I35,Backbone!$A$2:$A$893,0))","v":9.1},null,{"$f":"INDEX(Backbone!$M$2:$M$893,MATCH(I35,Backbone!$A$2:$A$893,0))","v":8},null,{"$f":"INDEX(Backbone!$N$2:$N$893,MATCH(I35,Backbone!$A$2:$A$893,0))","v":7},null,{"$f":"INDEX(Backbone!$O$2:$O$893,MATCH(I35,Backbone!$A$2:$A$893,0))","v":7.2},null,{"$f":"INDEX(Backbone!$P$2:$P$893,MATCH(I35,Backbone!$A$2:$A$893,0))","v":10},null,{"$f":"INDEX(Backbone!$Q$2:$Q$893,MATCH(I35,Backbone!$A$2:$A$893,0))","v":0.83555555555555561},null,null,{"$f":"(AG35*$AG$22+AI35*$AI$22+AK35*$AK$22+AM35*$AM$22+AO35*$AO$22+AQ35*$AQ$22+AS35*$AS$22+AU35*$AU$22+AW35*$AW$22)/(SUM($AG$22:$AW$22)*10)","v":{"$error":"#DIV/0!"}},null,null,"Go to \nToolbox: ",null,{"$f":"HYPERLINK(\"#\"&ADDRESS(MATCH(I35,Toolbox!$C$1:$C$300),1,,,\"Toolbox\"),VLOOKUP(I35,Toolbox!$C$1:$C$300,1,FALSE))","v":"Electronic Integrated Disease Surveillance System (EIDSS)"}]
[]
[]
[]
[]
[]
[null,null,null,null,null,null,null,null,{"$f":"Backbone!A604","v":"Rabies Exposure and Case Tracker Application (React)"},null,null,null,null,null,null,"A tool to support implementation of Integrated Bite Case Management programs.",null,null,null,null,null,null,null,null,{"$f":"INDEX(Backbone!$R$2:$R$893,MATCH(I41,Backbone!$A$2:$A$893,0))","v":"Hardware or Software"},null,null,null,{"$f":"INDEX(Backbone!$S$2:$S$893,MATCH(I41,Backbone!$A$2:$A$893,0))","v":"One Health; Disease/Threat Specific "},null,null,null,{"$f":"INDEX(Backbone!$H$2:$H$893,MATCH(I41,Backbone!$A$2:$A$893,0))","v":8.6},null,{"$f":"INDEX(Backbone!$I$2:$I$893,MATCH(I41,Backbone!$A$2:$A$893,0))","v":8.6},null,{"$f":"INDEX(Backbone!$J$2:$J$893,MATCH(I41,Backbone!$A$2:$A$893,0))","v":8},null,{"$f":"INDEX(Backbone!$K$1:$K$893,MATCH(I41,Backbone!$A$1:$A$893,0))","v":8.6},null,{"$f":"INDEX(Backbone!$L$2:$L$893,MATCH(I41,Backbone!$A$2:$A$893,0))","v":9.4},null,{"$f":"INDEX(Backbone!$M$2:$M$893,MATCH(I41,Backbone!$A$2:$A$893,0))","v":9.5},null,{"$f":"INDEX(Backbone!$N$2:$N$893,MATCH(I41,Backbone!$A$2:$A$893,0))","v":9},null,{"$f":"INDEX(Backbone!$O$2:$O$893,MATCH(I41,Backbone!$A$2:$A$893,0))","v":9.1999999999999993},null,{"$f":"INDEX(Backbone!$P$2:$P$893,MATCH(I41,Backbone!$A$2:$A$893,0))","v":9},null,{"$f":"INDEX(Backbone!$Q$2:$Q$893,MATCH(I41,Backbone!$A$2:$A$893,0))","v":0.88777777777777767},null,null,{"$f":"(AG41*$AG$22+AI41*$AI$22+AK41*$AK$22+AM41*$AM$22+AO41*$AO$22+AQ41*$AQ$22+AS41*$AS$22+AU41*$AU$22+AW41*$AW$22)/(SUM($AG$22:$AW$22)*10)","v":{"$error":"#DIV/0!"}},null,null,"Go to \nToolbox: ",null,{"$f":"HYPERLINK(\"#\"&ADDRESS(MATCH(I41,Toolbox!$C$1:$C$300),1,,,\"Toolbox\"),VLOOKUP(I41,Toolbox!$C$1:$C$300,1,FALSE))","v":"Rabies Exposure and Case Tracker Application (React)"}]
[]
[]
[]
[]
[]
[null,null,null,null,null,null,null,null,{"$f":"Backbone!A489","v":"The Suite for Automated Global Electronic BioSurveillance (SAGES)"},null,null,null,null,null,null,"A suite of open source software tools designed to enhance electronic disease surveillance in resource-limited settings.",null,null,null,null,null,null,null,null,{"$f":"INDEX(Backbone!$R$2:$R$893,MATCH(I47,Backbone!$A$2:$A$893,0))","v":"Hardware or Software"},null,null,null,{"$f":"INDEX(Backbone!$S$2:$S$893,MATCH(I47,Backbone!$A$2:$A$893,0))","v":"One Health; Generalized"},null,null,null,{"$f":"INDEX(Backbone!$H$2:$H$893,MATCH(I47,Backbone!$A$2:$A$893,0))","v":9.8000000000000007},null,{"$f":"INDEX(Backbone!$I$2:$I$893,MATCH(I47,Backbone!$A$2:$A$893,0))","v":10},null,{"$f":"INDEX(Backbone!$J$2:$J$893,MATCH(I47,Backbone!$A$2:$A$893,0))","v":10},null,{"$f":"INDEX(Backbone!$K$1:$K$893,MATCH(I47,Backbone!$A$1:$A$893,0))","v":9.3000000000000007},null,{"$f":"INDEX(Backbone!$L$2:$L$893,MATCH(I47,Backbone!$A$2:$A$893,0))","v":8.5},null,{"$f":"INDEX(Backbone!$M$2:$M$893,MATCH(I47,Backbone!$A$2:$A$893,0))","v":9},null,{"$f":"INDEX(Backbone!$N$2:$N$893,MATCH(I47,Backbone!$A$2:$A$893,0))","v":5.5},null,{"$f":"INDEX(Backbone!$O$2:$O$893,MATCH(I47,Backbone!$A$2:$A$893,0))","v":9.5},null,{"$f":"INDEX(Backbone!$P$2:$P$893,MATCH(I47,Backbone!$A$2:$A$893,0))","v":7},null,{"$f":"INDEX(Backbone!$Q$2:$Q$893,MATCH(I47,Backbone!$A$2:$A$893,0))","v":0.87333333333333329},null,null,{"$f":"(AG47*$AG$22+AI47*$AI$22+AK47*$AK$22+AM47*$AM$22+AO47*$AO$22+AQ47*$AQ$22+AS47*$AS$22+AU47*$AU$22+AW47*$AW$22)/(SUM($AG$22:$AW$22)*10)","v":{"$error":"#DIV/0!"}},null,null,"Go to \nToolbox: ",null,{"$f":"HYPERLINK(\"#\"&ADDRESS(MATCH(I47,Toolbox!$C$1:$C$300),1,,,\"Toolbox\"),VLOOKUP(I47,Toolbox!$C$1:$C$300,1,FALSE))","v":"The Suite for Automated Global Electronic BioSurveillance (SAGES)"}]
[]
[]
[]
[]
[]
[null,null,null,null,null,null,null,null,{"$f":"Backbone!A540","v":"Surveillance Outbreak Response Management and Analysis System (SORMAS)"},null,null,null,null,null,null,"An open source mobile eHealth System that processes disease control and outbreak management procedures in addition to surveillance and early detection of outbreaks through real-time digital surveillance.",null,null,null,null,null,null,null,null,{"$f":"INDEX(Backbone!$R$2:$R$893,MATCH(I53,Backbone!$A$2:$A$893,0))","v":"Hardware or Software"},null,null,null,{"$f":"INDEX(Backbone!$S$2:$S$893,MATCH(I53,Backbone!$A$2:$A$893,0))","v":"Sector Specific; Generalized"},null,null,null,{"$f":"INDEX(Backbone!$H$2:$H$893,MATCH(I53,Backbone!$A$2:$A$893,0))","v":9.1999999999999993},null,{"$f":"INDEX(Backbone!$I$2:$I$893,MATCH(I53,Backbone!$A$2:$A$893,0))","v":8},null,{"$f":"INDEX(Backbone!$J$2:$J$893,MATCH(I53,Backbone!$A$2:$A$893,0))","v":9.3000000000000007},null,{"$f":"INDEX(Backbone!$K$1:$K$893,MATCH(I53,Backbone!$A$1:$A$893,0))","v":9.1},null,{"$f":"INDEX(Backbone!$L$2:$L$893,MATCH(I53,Backbone!$A$2:$A$893,0))","v":9.3000000000000007},null,{"$f":"INDEX(Backbone!$M$2:$M$893,MATCH(I53,Backbone!$A$2:$A$893,0))","v":9.3000000000000007},null,{"$f":"INDEX(Backbone!$N$2:$N$893,MATCH(I53,Backbone!$A$2:$A$893,0))","v":6.8},null,{"$f":"INDEX(Backbone!$O$2:$O$893,MATCH(I53,Backbone!$A$2:$A$893,0))","v":3.9},null,{"$f":"INDEX(Backbone!$P$2:$P$893,MATCH(I53,Backbone!$A$2:$A$893,0))","v":5.3},null,{"$f":"INDEX(Backbone!$Q$2:$Q$893,MATCH(I53,Backbone!$A$2:$A$893,0))","v":0.78},null,null,{"$f":"(AG53*$AG$22+AI53*$AI$22+AK53*$AK$22+AM53*$AM$22+AO53*$AO$22+AQ53*$AQ$22+AS53*$AS$22+AU53*$AU$22+AW53*$AW$22)/(SUM($AG$22:$AW$22)*10)","v":{"$error":"#DIV/0!"}},null,null,"Go to \nToolbox: ",null,{"$f":"HYPERLINK(\"#\"&ADDRESS(MATCH(I53,Toolbox!$C$1:$C$300),1,,,\"Toolbox\"),VLOOKUP(I53,Toolbox!$C$1:$C$300,1,FALSE))","v":"Surveillance Outbreak Response Management and Analysis System (SORMAS)"}]
[]
[]
[]
[]
[]
[]
[null,null,null,"Other Relevant Resources",null,null,null,null,{"$f":"Backbone!A166","v":"EMPRES Global Animal Disease Information System (EMPRES-i)"},null,null,null,null,null,null,"A web-based secure information system to support country level veterinary services by facilitating regional and global disease and a global reference database for animal diseases including zoonosis.",null,null,null,null,null,null,null,null,{"$f":"INDEX(Backbone!$R$2:$R$893,MATCH(I60,Backbone!$A$2:$A$893,0))","v":"Hardware or Software"},null,null,null,{"$f":"INDEX(Backbone!$S$2:$S$893,MATCH(I60,Backbone!$A$2:$A$893,0))","v":"Sector Specific; Generalized"},null,null,null,{"$f":"INDEX(Backbone!$H$2:$H$893,MATCH(I60,Backbone!$A$2:$A$893,0))","v":9},null,{"$f":"INDEX(Backbone!$I$2:$I$893,MATCH(I60,Backbone!$A$2:$A$893,0))","v":8.3000000000000007},null,{"$f":"INDEX(Backbone!$J$2:$J$893,MATCH(I60,Backbone!$A$2:$A$893,0))","v":8.9},null,{"$f":"INDEX(Backbone!$K$1:$K$893,MATCH(I60,Backbone!$A$1:$A$893,0))","v":8.6999999999999993},null,{"$f":"INDEX(Backbone!$L$2:$L$893,MATCH(I60,Backbone!$A$2:$A$893,0))","v":8},null,{"$f":"INDEX(Backbone!$M$2:$M$893,MATCH(I60,Backbone!$A$2:$A$893,0))","v":7.8},null,{"$f":"INDEX(Backbone!$N$2:$N$893,MATCH(I60,Backbone!$A$2:$A$893,0))","v":7.4},null,{"$f":"INDEX(Backbone!$O$2:$O$893,MATCH(I60,Backbone!$A$2:$A$893,0))","v":4.8},null,{"$f":"INDEX(Backbone!$P$2:$P$893,MATCH(I60,Backbone!$A$2:$A$893,0))","v":4.7},null,{"$f":"INDEX(Backbone!$Q$2:$Q$893,MATCH(I60,Backbone!$A$2:$A$893,0))","v":0.75111111111111106},null,null,{"$f":"(AG60*$AG$22+AI60*$AI$22+AK60*$AK$22+AM60*$AM$22+AO60*$AO$22+AQ60*$AQ$22+AS60*$AS$22+AU60*$AU$22+AW60*$AW$22)/(SUM($AG$22:$AW$22)*10)","v":{"$error":"#DIV/0!"}},null,null,"Go to \nToolbox: ",null,{"$f":"HYPERLINK(\"#\"&ADDRESS(MATCH(I60,Toolbox!$C$1:$C$300),1,,,\"Toolbox\"),VLOOKUP(I60,Toolbox!$C$1:$C$300,1,FALSE))","v":"EMPRES Global Animal Disease Information System (EMPRES-i)"}]
[]
[]
[]
[]
[]
[null,null,null,null,null,null,null,null,{"$f":"Backbone!A155","v":"The Epidemic Intelligence from Open Sources (EIOS)"},null,null,null,null,null,null,"EIOS Initiative is a unique collaboration between WHO and various stakeholders that brings together new and existing initiatives, networks and systems to create a unified all-hazards, One Health approach to early detection, verification and assessment of public health risks and threats using open source information.",null,null,null,null,null,null,null,null,{"$f":"INDEX(Backbone!$R$2:$R$893,MATCH(I66,Backbone!$A$2:$A$893,0))","v":"Hardware or Software"},null,null,null,{"$f":"INDEX(Backbone!$S$2:$S$893,MATCH(I66,Backbone!$A$2:$A$893,0))","v":"One Health; Generalized"},null,null,null,{"$f":"INDEX(Backbone!$H$2:$H$893,MATCH(I66,Backbone!$A$2:$A$893,0))","v":8.4},null,{"$f":"INDEX(Backbone!$I$2:$I$893,MATCH(I66,Backbone!$A$2:$A$893,0))","v":9},null,{"$f":"INDEX(Backbone!$J$2:$J$893,MATCH(I66,Backbone!$A$2:$A$893,0))","v":7.4},null,{"$f":"INDEX(Backbone!$K$1:$K$893,MATCH(I66,Backbone!$A$1:$A$893,0))","v":9},null,{"$f":"INDEX(Backbone!$L$2:$L$893,MATCH(I66,Backbone!$A$2:$A$893,0))","v":8.8000000000000007},null,{"$f":"INDEX(Backbone!$M$2:$M$893,MATCH(I66,Backbone!$A$2:$A$893,0))","v":8},null,{"$f":"INDEX(Backbone!$N$2:$N$893,MATCH(I66,Backbone!$A$2:$A$893,0))","v":5.5},null,{"$f":"INDEX(Backbone!$O$2:$O$893,MATCH(I66,Backbone!$A$2:$A$893,0))","v":9.1999999999999993},null,{"$f":"INDEX(Backbone!$P$2:$P$893,MATCH(I66,Backbone!$A$2:$A$893,0))","v":6},null,{"$f":"INDEX(Backbone!$Q$2:$Q$893,MATCH(I66,Backbone!$A$2:$A$893,0))","v":0.79222222222222216},null,null,{"$f":"(AG66*$AG$22+AI66*$AI$22+AK66*$AK$22+AM66*$AM$22+AO66*$AO$22+AQ66*$AQ$22+AS66*$AS$22+AU66*$AU$22+AW66*$AW$22)/(SUM($AG$22:$AW$22)*10)","v":{"$error":"#DIV/0!"}},null,null,"Go to \nToolbox: ",null,{"$f":"HYPERLINK(\"#\"&ADDRESS(MATCH(I66,Toolbox!$C$1:$C$300),1,,,\"Toolbox\"),VLOOKUP(I66,Toolbox!$C$1:$C$300,1,FALSE))","v":"The Epidemic Intelligence from Open Sources (EIOS)"}]
[]
[]
[]
[]
[]
[null,null,null,null,null,null,null,null,{"$f":"Backbone!A163","v":"Event Mobile Application (EMAi)"},null,null,null,null,null,null,"A real-time reporting application used to collect animal disease information from the field, that generates georeferenced reports, which are transmitted to the country user interface under the FAO’s Global Animal Disease Information System (EMPRES-i).\n\n",null,null,null,null,null,null,null,null,{"$f":"INDEX(Backbone!$R$2:$R$893,MATCH(I72,Backbone!$A$2:$A$893,0))","v":"Hardware or Software"},null,null,null,{"$f":"INDEX(Backbone!$S$2:$S$893,MATCH(I72,Backbone!$A$2:$A$893,0))","v":"Sector Specific; Generalized"},null,null,null,{"$f":"INDEX(Backbone!$H$2:$H$893,MATCH(I72,Backbone!$A$2:$A$893,0))","v":8.9},null,{"$f":"INDEX(Backbone!$I$2:$I$893,MATCH(I72,Backbone!$A$2:$A$893,0))","v":7.7},null,{"$f":"INDEX(Backbone!$J$2:$J$893,MATCH(I72,Backbone!$A$2:$A$893,0))","v":9.1},null,{"$f":"INDEX(Backbone!$K$1:$K$893,MATCH(I72,Backbone!$A$1:$A$893,0))","v":6},null,{"$f":"INDEX(Backbone!$L$2:$L$893,MATCH(I72,Backbone!$A$2:$A$893,0))","v":8.3000000000000007},null,{"$f":"INDEX(Backbone!$M$2:$M$893,MATCH(I72,Backbone!$A$2:$A$893,0))","v":9.3000000000000007},null,{"$f":"INDEX(Backbone!$N$2:$N$893,MATCH(I72,Backbone!$A$2:$A$893,0))","v":6.7},null,{"$f":"INDEX(Backbone!$O$2:$O$893,MATCH(I72,Backbone!$A$2:$A$893,0))","v":4.5},null,{"$f":"INDEX(Backbone!$P$2:$P$893,MATCH(I72,Backbone!$A$2:$A$893,0))","v":5.7},null,{"$f":"INDEX(Backbone!$Q$2:$Q$893,MATCH(I72,Backbone!$A$2:$A$893,0))","v":0.73555555555555563},null,null,{"$f":"(AG72*$AG$22+AI72*$AI$22+AK72*$AK$22+AM72*$AM$22+AO72*$AO$22+AQ72*$AQ$22+AS72*$AS$22+AU72*$AU$22+AW72*$AW$22)/(SUM($AG$22:$AW$22)*10)","v":{"$error":"#DIV/0!"}},null,null,"Go to \nToolbox: ",null,{"$f":"HYPERLINK(\"#\"&ADDRESS(MATCH(I72,Toolbox!$C$1:$C$300),1,,,\"Toolbox\"),VLOOKUP(I72,Toolbox!$C$1:$C$300,1,FALSE))","v":"Event Mobile Application (EMAi)"}]
[]
[]
[]
[]
[]
[null,null,null,null,null,null,null,null,{"$f":"Backbone!A179","v":"FoodChain-Lab (FCL) "},null,null,null,null,null,null,"A free open-source tracing software, providing trace-back and trace-forward analyses for food items to identify the source of a contamination causing foodborne disease outbreaks or other food-related incidents.",null,null,null,null,null,null,null,null,{"$f":"INDEX(Backbone!$R$2:$R$893,MATCH(I78,Backbone!$A$2:$A$893,0))","v":"Hardware or Software"},null,null,null,{"$f":"INDEX(Backbone!$S$2:$S$893,MATCH(I78,Backbone!$A$2:$A$893,0))","v":"One Health; Disease/Threat Specific "},null,null,null,{"$f":"INDEX(Backbone!$H$2:$H$893,MATCH(I78,Backbone!$A$2:$A$893,0))","v":9.6999999999999993},null,{"$f":"INDEX(Backbone!$I$2:$I$893,MATCH(I78,Backbone!$A$2:$A$893,0))","v":6},null,{"$f":"INDEX(Backbone!$J$2:$J$893,MATCH(I78,Backbone!$A$2:$A$893,0))","v":7.9},null,{"$f":"INDEX(Backbone!$K$1:$K$893,MATCH(I78,Backbone!$A$1:$A$893,0))","v":7.8},null,{"$f":"INDEX(Backbone!$L$2:$L$893,MATCH(I78,Backbone!$A$2:$A$893,0))","v":8.1},null,{"$f":"INDEX(Backbone!$M$2:$M$893,MATCH(I78,Backbone!$A$2:$A$893,0))","v":8},null,{"$f":"INDEX(Backbone!$N$2:$N$893,MATCH(I78,Backbone!$A$2:$A$893,0))","v":7.9},null,{"$f":"INDEX(Backbone!$O$2:$O$893,MATCH(I78,Backbone!$A$2:$A$893,0))","v":8.4},null,{"$f":"INDEX(Backbone!$P$2:$P$893,MATCH(I78,Backbone!$A$2:$A$893,0))","v":9.6999999999999993},null,{"$f":"INDEX(Backbone!$Q$2:$Q$893,MATCH(I78,Backbone!$A$2:$A$893,0))","v":0.81666666666666665},null,null,{"$f":"(AG78*$AG$22+AI78*$AI$22+AK78*$AK$22+AM78*$AM$22+AO78*$AO$22+AQ78*$AQ$22+AS78*$AS$22+AU78*$AU$22+AW78*$AW$22)/(SUM($AG$22:$AW$22)*10)","v":{"$error":"#DIV/0!"}},null,null,"Go to \nToolbox: ",null,{"$f":"HYPERLINK(\"#\"&ADDRESS(MATCH(I78,Toolbox!$C$1:$C$300),1,,,\"Toolbox\"),VLOOKUP(I78,Toolbox!$C$1:$C$300,1,FALSE))","v":"FoodChain-Lab (FCL) "}]
[]
[]
[]
[]
[]
[null,null,null,null,null,null,null,null,{"$f":"Backbone!A531","v":"Laboratory Information Management System Light (MiniLIMS)"},null,null,null,null,null,null,"An information system for the management of an analysis laboratory which have a simple organization.",null,null,null,null,null,null,null,null,{"$f":"INDEX(Backbone!$R$2:$R$893,MATCH(I84,Backbone!$A$2:$A$893,0))","v":"Hardware or Software"},null,null,null,{"$f":"INDEX(Backbone!$S$2:$S$893,MATCH(I84,Backbone!$A$2:$A$893,0))","v":"Sector Specific; Generalized"},null,null,null,{"$f":"INDEX(Backbone!$H$2:$H$893,MATCH(I84,Backbone!$A$2:$A$893,0))","v":9},null,{"$f":"INDEX(Backbone!$I$2:$I$893,MATCH(I84,Backbone!$A$2:$A$893,0))","v":7.3},null,{"$f":"INDEX(Backbone!$J$2:$J$893,MATCH(I84,Backbone!$A$2:$A$893,0))","v":8.4},null,{"$f":"INDEX(Backbone!$K$1:$K$893,MATCH(I84,Backbone!$A$1:$A$893,0))","v":9.3000000000000007},null,{"$f":"INDEX(Backbone!$L$2:$L$893,MATCH(I84,Backbone!$A$2:$A$893,0))","v":7.2},null,{"$f":"INDEX(Backbone!$M$2:$M$893,MATCH(I84,Backbone!$A$2:$A$893,0))","v":6.5},null,{"$f":"INDEX(Backbone!$N$2:$N$893,MATCH(I84,Backbone!$A$2:$A$893,0))","v":2},null,{"$f":"INDEX(Backbone!$O$2:$O$893,MATCH(I84,Backbone!$A$2:$A$893,0))","v":4.4000000000000004},null,{"$f":"INDEX(Backbone!$P$2:$P$893,MATCH(I84,Backbone!$A$2:$A$893,0))","v":4},null,{"$f":"INDEX(Backbone!$Q$2:$Q$893,MATCH(I84,Backbone!$A$2:$A$893,0))","v":0.64555555555555555},null,null,{"$f":"(AG84*$AG$22+AI84*$AI$22+AK84*$AK$22+AM84*$AM$22+AO84*$AO$22+AQ84*$AQ$22+AS84*$AS$22+AU84*$AU$22+AW84*$AW$22)/(SUM($AG$22:$AW$22)*10)","v":{"$error":"#DIV/0!"}},null,null,"Go to \nToolbox: ",null,{"$f":"HYPERLINK(\"#\"&ADDRESS(MATCH(I84,Toolbox!$C$1:$C$300),1,,,\"Toolbox\"),VLOOKUP(I84,Toolbox!$C$1:$C$300,1,FALSE))","v":"Laboratory Information Management System Light (MiniLIMS)"}]
[]
[]
[]
[]
[]
[null,null,null,null,null,null,null,null,{"$f":"Backbone!A522","v":"Laboratory Information Management System “SILAB for Africa” (SILABFA)"},null,null,null,null,null,null,"A Laboratory Information Management System (LIMS) able to trace all diagnostic steps from Samples Reception up to the Final Reports.",null,null,null,null,null,null,null,null,{"$f":"INDEX(Backbone!$R$2:$R$893,MATCH(I90,Backbone!$A$2:$A$893,0))","v":"Hardware or Software"},null,null,null,{"$f":"INDEX(Backbone!$S$2:$S$893,MATCH(I90,Backbone!$A$2:$A$893,0))","v":"Sector Specific; Generalized"},null,null,null,{"$f":"INDEX(Backbone!$H$2:$H$893,MATCH(I90,Backbone!$A$2:$A$893,0))","v":9.3000000000000007},null,{"$f":"INDEX(Backbone!$I$2:$I$893,MATCH(I90,Backbone!$A$2:$A$893,0))","v":10},null,{"$f":"INDEX(Backbone!$J$2:$J$893,MATCH(I90,Backbone!$A$2:$A$893,0))","v":6.8},null,{"$f":"INDEX(Backbone!$K$1:$K$893,MATCH(I90,Backbone!$A$1:$A$893,0))","v":9.3000000000000007},null,{"$f":"INDEX(Backbone!$L$2:$L$893,MATCH(I90,Backbone!$A$2:$A$893,0))","v":8},null,{"$f":"INDEX(Backbone!$M$2:$M$893,MATCH(I90,Backbone!$A$2:$A$893,0))","v":6.5},null,{"$f":"INDEX(Backbone!$N$2:$N$893,MATCH(I90,Backbone!$A$2:$A$893,0))","v":8},null,{"$f":"INDEX(Backbone!$O$2:$O$893,MATCH(I90,Backbone!$A$2:$A$893,0))","v":7.2},null,{"$f":"INDEX(Backbone!$P$2:$P$893,MATCH(I90,Backbone!$A$2:$A$893,0))","v":8},null,{"$f":"INDEX(Backbone!$Q$2:$Q$893,MATCH(I90,Backbone!$A$2:$A$893,0))","v":0.81222222222222229},null,null,{"$f":"(AG90*$AG$22+AI90*$AI$22+AK90*$AK$22+AM90*$AM$22+AO90*$AO$22+AQ90*$AQ$22+AS90*$AS$22+AU90*$AU$22+AW90*$AW$22)/(SUM($AG$22:$AW$22)*10)","v":{"$error":"#DIV/0!"}},null,null,"Go to \nToolbox: ",null,{"$f":"HYPERLINK(\"#\"&ADDRESS(MATCH(I90,Toolbox!$C$1:$C$300),1,,,\"Toolbox\"),VLOOKUP(I90,Toolbox!$C$1:$C$300,1,FALSE))","v":"Laboratory Information Management System “SILAB for Africa” (SILABFA)"}]
[]
[]
[]
[]
[]
[null,null,null,null,null,null,null,null,{"$f":"Backbone!A648","v":"Preparedness and Response Planning Toolkit"},null,null,null,null,null,null,"This toolkit is designed to support countries in their development of multisectoral preparedness and response plans for public health events. ",null,null,null,null,null,null,null,null,{"$f":"INDEX(Backbone!$R$2:$R$893,MATCH(I96,Backbone!$A$2:$A$893,0))","v":"Guidance document"},null,null,null,{"$f":"INDEX(Backbone!$S$2:$S$893,MATCH(I96,Backbone!$A$2:$A$893,0))","v":"One Health; Generalized"},null,null,null,{"$f":"INDEX(Backbone!$H$2:$H$893,MATCH(I96,Backbone!$A$2:$A$893,0))","v":8.4},null,{"$f":"INDEX(Backbone!$I$2:$I$893,MATCH(I96,Backbone!$A$2:$A$893,0))","v":8},null,{"$f":"INDEX(Backbone!$J$2:$J$893,MATCH(I96,Backbone!$A$2:$A$893,0))","v":8.4},null,{"$f":"INDEX(Backbone!$K$1:$K$893,MATCH(I96,Backbone!$A$1:$A$893,0))","v":6.7},null,{"$f":"INDEX(Backbone!$L$2:$L$893,MATCH(I96,Backbone!$A$2:$A$893,0))","v":2},null,{"$f":"INDEX(Backbone!$M$2:$M$893,MATCH(I96,Backbone!$A$2:$A$893,0))","v":3.5},null,{"$f":"INDEX(Backbone!$N$2:$N$893,MATCH(I96,Backbone!$A$2:$A$893,0))","v":4},null,{"$f":"INDEX(Backbone!$O$2:$O$893,MATCH(I96,Backbone!$A$2:$A$893,0))","v":6.4},null,{"$f":"INDEX(Backbone!$P$2:$P$893,MATCH(I96,Backbone!$A$2:$A$893,0))","v":8},null,{"$f":"INDEX(Backbone!$Q$2:$Q$893,MATCH(I96,Backbone!$A$2:$A$893,0))","v":0.61555555555555552},null,null,{"$f":"(AG96*$AG$22+AI96*$AI$22+AK96*$AK$22+AM96*$AM$22+AO96*$AO$22+AQ96*$AQ$22+AS96*$AS$22+AU96*$AU$22+AW96*$AW$22)/(SUM($AG$22:$AW$22)*10)","v":{"$error":"#DIV/0!"}},null,null,"Go to \nToolbox: ",null,{"$f":"HYPERLINK(\"#\"&ADDRESS(MATCH(I96,Toolbox!$C$1:$C$300),1,,,\"Toolbox\"),VLOOKUP(I96,Toolbox!$C$1:$C$300,1,FALSE))","v":"Preparedness and Response Planning Toolkit"}]
[]
[]
[]
[]
[]
[]
[]
[]
[]
[]
[]
[]
[]
[]
[]
[]
[]
[]
[]
[]
[]
[]
[]
[null,null,null,null,null,null,null,null,null,null,null,null,null,null,null,null,null,null,null,null,null,null,null,null,null,null,null,null,null,null,null,null,"Accessibility",null,"Language",null,"Ease of use",null,"Flexibility",null,"Data Needs",null,"Data Analysis",null,"Acceptability",null,"One Health",null,"Impact"]
[]
[]
[]
[]
[]
[]
[null,null,null,null,null,null,null,null,null,null,null,null,null,null,null,null,null,null,null,null,null,null,null,null,null,null,null,null,null,null,null,null,null,null,null,null,null,null,null,null,null,null,null,null,null,null,null,null,null,null,"RAW SCORE",null,null,"ADJUSTED SCORE \n(Based on user preferences)"]
[]
[]
[]
[null,"LEVEL 2 RESOURCES",null,"DESIGNATION",null,null,null,null,"RESOURCE NAME",null,null,null,null,null,null,"SHORT DESCRIPTION",null,null,null,null,null,null,null,null,"RESOURCE TYPE",null,null,null,"RESOURCE GENERALITY"]
[]
[]
[]
[null,null,null,null,null,null,null,null,null,null,null,null,null,null,null,null,null,null,null,null,null,null,null,null,null,null,null,null,null,null,null,null,{"$f":"'Attribute Survey'!S135","v":0},null,{"$f":"'Attribute Survey'!S139","v":0},null,{"$f":"'Attribute Survey'!S143","v":0},null,{"$f":"'Attribute Survey'!S147","v":0},null,{"$f":"'Attribute Survey'!S151","v":0},null,{"$f":"'Attribute Survey'!S155","v":0},null,{"$f":"'Attribute Survey'!S159","v":0},null,{"$f":"'Attribute Survey'!S163","v":0},null,{"$f":"'Attribute Survey'!S167","v":0}]
[null,null,null,"Resources Best Fit For Purpose",null,null,null,null,{"$f":"Backbone!A21","v":"AfyaData"},null,null,null,null,null,null,"A One Health disease surveillance tool, designed to cater for Human, animal and environmental surveillance needs, comprised of Mobile and Web Apps.",null,null,null,null,null,null,null,null,{"$f":"INDEX(Backbone!$R$2:$R$893,MATCH(I136,Backbone!$A$2:$A$893,0))","v":"Hardware or Software"},null,null,null,{"$f":"INDEX(Backbone!$S$2:$S$893,MATCH(I136,Backbone!$A$2:$A$893,0))","v":"One Health; Generalized "},null,null,null,{"$f":"INDEX(Backbone!$H$2:$H$893,MATCH(I136,Backbone!$A$2:$A$893,0))","v":7.3},null,{"$f":"INDEX(Backbone!$I$2:$I$893,MATCH(I136,Backbone!$A$2:$A$893,0))","v":10},null,{"$f":"INDEX(Backbone!$J$2:$J$893,MATCH(I136,Backbone!$A$2:$A$893,0))","v":8.1999999999999993},null,{"$f":"INDEX(Backbone!$K$2:$K$893,MATCH(I136,Backbone!$A$2:$A$893,0))","v":7.3},null,{"$f":"INDEX(Backbone!$L$2:$L$893,MATCH(I136,Backbone!$A$2:$A$893,0))","v":7.6},null,{"$f":"INDEX(Backbone!$M$2:$M$893,MATCH(I136,Backbone!$A$2:$A$893,0))","v":8.8000000000000007},null,{"$f":"INDEX(Backbone!$N$2:$N$893,MATCH(I136,Backbone!$A$2:$A$893,0))","v":5.5},null,{"$f":"INDEX(Backbone!$O$2:$O$893,MATCH(I136,Backbone!$A$2:$A$893,0))","v":7.6},null,{"$f":"INDEX(Backbone!$P$2:$P$893,MATCH(I136,Backbone!$A$2:$A$893,0))","v":7},null,{"$f":"INDEX(Backbone!$Q$2:$Q$893,MATCH(I136,Backbone!$A$2:$A$893,0))","v":0.77000000000000013},null,null,{"$f":"(AG136*$AG$22+AI136*$AI$22+AK136*$AK$22+AM136*$AM$22+AO136*$AO$22+AQ136*$AQ$22+AS136*$AS$22+AU136*$AU$22+AW136*$AW$22)/(SUM($AG$22:$AW$22)*10)","v":{"$error":"#DIV/0!"}},null,null,"Go to \nToolbox: ",null,{"$f":"HYPERLINK(\"#\"&ADDRESS(MATCH(I136,Toolbox!$C$1:$C$300),1,,,\"Toolbox\"),VLOOKUP(I136,Toolbox!$C$1:$C$300,1,FALSE))","v":"AfyaData"}]
[]
[]
[]
[]
[]
[null,null,null,null,null,null,null,null,{"$f":"Backbone!A65","v":"District Health Information Software 2 (DHIS2) "},null,null,null,null,null,null,"An open source, web-based health management information system  platform.",null,null,null,null,null,null,null,null,{"$f":"INDEX(Backbone!$R$2:$R$893,MATCH(I142,Backbone!$A$2:$A$893,0))","v":"Hardware or Software"},null,null,null,{"$f":"INDEX(Backbone!$S$2:$S$893,MATCH(I142,Backbone!$A$2:$A$893,0))","v":"Sector Specific; Generalized"},null,null,null,{"$f":"INDEX(Backbone!$H$2:$H$893,MATCH(I142,Backbone!$A$2:$A$893,0))","v":8.8000000000000007},null,{"$f":"INDEX(Backbone!$I$2:$I$893,MATCH(I142,Backbone!$A$2:$A$893,0))","v":8.6999999999999993},null,{"$f":"INDEX(Backbone!$J$2:$J$893,MATCH(I142,Backbone!$A$2:$A$893,0))","v":8},null,{"$f":"INDEX(Backbone!$K$2:$K$893,MATCH(I142,Backbone!$A$2:$A$893,0))","v":8.6999999999999993},null,{"$f":"INDEX(Backbone!$L$2:$L$893,MATCH(I142,Backbone!$A$2:$A$893,0))","v":9.3000000000000007},null,{"$f":"INDEX(Backbone!$M$2:$M$893,MATCH(I142,Backbone!$A$2:$A$893,0))","v":9},null,{"$f":"INDEX(Backbone!$N$2:$N$893,MATCH(I142,Backbone!$A$2:$A$893,0))","v":10},null,{"$f":"INDEX(Backbone!$O$2:$O$893,MATCH(I142,Backbone!$A$2:$A$893,0))","v":7.8},null,{"$f":"INDEX(Backbone!$P$2:$P$893,MATCH(I142,Backbone!$A$2:$A$893,0))","v":7},null,{"$f":"INDEX(Backbone!$Q$2:$Q$893,MATCH(I142,Backbone!$A$2:$A$893,0))","v":0.85888888888888881},null,null,{"$f":"(AG142*$AG$22+AI142*$AI$22+AK142*$AK$22+AM142*$AM$22+AO142*$AO$22+AQ142*$AQ$22+AS142*$AS$22+AU142*$AU$22+AW142*$AW$22)/(SUM($AG$22:$AW$22)*10)","v":{"$error":"#DIV/0!"}},null,null,"Go to \nToolbox: ",null,{"$f":"HYPERLINK(\"#\"&ADDRESS(MATCH(I142,Toolbox!$C$1:$C$300),1,,,\"Toolbox\"),VLOOKUP(I142,Toolbox!$C$1:$C$300,1,FALSE))","v":"District Health Information Software 2 (DHIS2) "}]
[]
[]
[]
[]
[]
[null,null,null,null,null,null,null,null,{"$f":"Backbone!A138","v":"Electronic Integrated Disease Surveillance System (EIDSS)"},null,null,null,null,null,null,"A customizable web-based electronic disease reporting system that can support passive and active human and veterinary health surveillance, laboratory diagnostics, vector surveillance, and outbreak management.",null,null,null,null,null,null,null,null,{"$f":"INDEX(Backbone!$R$2:$R$893,MATCH(I148,Backbone!$A$2:$A$893,0))","v":"Hardware or Software"},null,null,null,{"$f":"INDEX(Backbone!$S$2:$S$893,MATCH(I148,Backbone!$A$2:$A$893,0))","v":"One Health; Generalized"},null,null,null,{"$f":"INDEX(Backbone!$H$2:$H$893,MATCH(I148,Backbone!$A$2:$A$893,0))","v":6.8},null,{"$f":"INDEX(Backbone!$I$2:$I$893,MATCH(I148,Backbone!$A$2:$A$893,0))","v":10},null,{"$f":"INDEX(Backbone!$J$2:$J$893,MATCH(I148,Backbone!$A$2:$A$893,0))","v":8.4},null,{"$f":"INDEX(Backbone!$K$1:$K$893,MATCH(I148,Backbone!$A$1:$A$893,0))","v":8.6999999999999993},null,{"$f":"INDEX(Backbone!$L$2:$L$893,MATCH(I148,Backbone!$A$2:$A$893,0))","v":9.1},null,{"$f":"INDEX(Backbone!$M$2:$M$893,MATCH(I148,Backbone!$A$2:$A$893,0))","v":8},null,{"$f":"INDEX(Backbone!$N$2:$N$893,MATCH(I148,Backbone!$A$2:$A$893,0))","v":7},null,{"$f":"INDEX(Backbone!$O$2:$O$893,MATCH(I148,Backbone!$A$2:$A$893,0))","v":7.2},null,{"$f":"INDEX(Backbone!$P$2:$P$893,MATCH(I148,Backbone!$A$2:$A$893,0))","v":10},null,{"$f":"INDEX(Backbone!$Q$2:$Q$893,MATCH(I148,Backbone!$A$2:$A$893,0))","v":0.83555555555555561},null,null,{"$f":"(AG148*$AG$22+AI148*$AI$22+AK148*$AK$22+AM148*$AM$22+AO148*$AO$22+AQ148*$AQ$22+AS148*$AS$22+AU148*$AU$22+AW148*$AW$22)/(SUM($AG$22:$AW$22)*10)","v":{"$error":"#DIV/0!"}},null,null,"Go to \nToolbox: ",null,{"$f":"HYPERLINK(\"#\"&ADDRESS(MATCH(I148,Toolbox!$C$1:$C$300),1,,,\"Toolbox\"),VLOOKUP(I148,Toolbox!$C$1:$C$300,1,FALSE))","v":"Electronic Integrated Disease Surveillance System (EIDSS)"}]
[]
[]
[]
[]
[]
[null,null,null,null,null,null,null,null,{"$f":"Backbone!A166","v":"EMPRES Global Animal Disease Information System (EMPRES-i)"},null,null,null,null,null,null,"A web-based secure information system to support country level veterinary services by facilitating regional and global disease and a global reference database for animal diseases including zoonosis.",null,null,null,null,null,null,null,null,{"$f":"INDEX(Backbone!$R$2:$R$893,MATCH(I154,Backbone!$A$2:$A$893,0))","v":"Hardware or Software"},null,null,null,{"$f":"INDEX(Backbone!$S$2:$S$893,MATCH(I154,Backbone!$A$2:$A$893,0))","v":"Sector Specific; Generalized"},null,null,null,{"$f":"INDEX(Backbone!$H$2:$H$893,MATCH(I154,Backbone!$A$2:$A$893,0))","v":9},null,{"$f":"INDEX(Backbone!$I$2:$I$893,MATCH(I154,Backbone!$A$2:$A$893,0))","v":8.3000000000000007},null,{"$f":"INDEX(Backbone!$J$2:$J$893,MATCH(I154,Backbone!$A$2:$A$893,0))","v":8.9},null,{"$f":"INDEX(Backbone!$K$1:$K$893,MATCH(I154,Backbone!$A$1:$A$893,0))","v":8.6999999999999993},null,{"$f":"INDEX(Backbone!$L$2:$L$893,MATCH(I154,Backbone!$A$2:$A$893,0))","v":8},null,{"$f":"INDEX(Backbone!$M$2:$M$893,MATCH(I154,Backbone!$A$2:$A$893,0))","v":7.8},null,{"$f":"INDEX(Backbone!$N$2:$N$893,MATCH(I154,Backbone!$A$2:$A$893,0))","v":7.4},null,{"$f":"INDEX(Backbone!$O$2:$O$893,MATCH(I154,Backbone!$A$2:$A$893,0))","v":4.8},null,{"$f":"INDEX(Backbone!$P$2:$P$893,MATCH(I154,Backbone!$A$2:$A$893,0))","v":4.7},null,{"$f":"INDEX(Backbone!$Q$2:$Q$893,MATCH(I154,Backbone!$A$2:$A$893,0))","v":0.75111111111111106},null,null,{"$f":"(AG154*$AG$22+AI154*$AI$22+AK154*$AK$22+AM154*$AM$22+AO154*$AO$22+AQ154*$AQ$22+AS154*$AS$22+AU154*$AU$22+AW154*$AW$22)/(SUM($AG$22:$AW$22)*10)","v":{"$error":"#DIV/0!"}},null,null,"Go to \nToolbox: ",null,{"$f":"HYPERLINK(\"#\"&ADDRESS(MATCH(I154,Toolbox!$C$1:$C$300),1,,,\"Toolbox\"),VLOOKUP(I154,Toolbox!$C$1:$C$300,1,FALSE))","v":"EMPRES Global Animal Disease Information System (EMPRES-i)"}]
[]
[]
[]
[]
[]
[null,null,null,null,null,null,null,null,{"$f":"Backbone!A604","v":"Rabies Exposure and Case Tracker Application (React)"},null,null,null,null,null,null,"A tool to support implementation of Integrated Bite Case Management programs.",null,null,null,null,null,null,null,null,{"$f":"INDEX(Backbone!$R$2:$R$893,MATCH(I160,Backbone!$A$2:$A$893,0))","v":"Hardware or Software"},null,null,null,{"$f":"INDEX(Backbone!$S$2:$S$893,MATCH(I160,Backbone!$A$2:$A$893,0))","v":"One Health; Disease/Threat Specific "},null,null,null,{"$f":"INDEX(Backbone!$H$2:$H$893,MATCH(I160,Backbone!$A$2:$A$893,0))","v":8.6},null,{"$f":"INDEX(Backbone!$I$2:$I$893,MATCH(I160,Backbone!$A$2:$A$893,0))","v":8.6},null,{"$f":"INDEX(Backbone!$J$2:$J$893,MATCH(I160,Backbone!$A$2:$A$893,0))","v":8},null,{"$f":"INDEX(Backbone!$K$1:$K$893,MATCH(I160,Backbone!$A$1:$A$893,0))","v":8.6},null,{"$f":"INDEX(Backbone!$L$2:$L$893,MATCH(I160,Backbone!$A$2:$A$893,0))","v":9.4},null,{"$f":"INDEX(Backbone!$M$2:$M$893,MATCH(I160,Backbone!$A$2:$A$893,0))","v":9.5},null,{"$f":"INDEX(Backbone!$N$2:$N$893,MATCH(I160,Backbone!$A$2:$A$893,0))","v":9},null,{"$f":"INDEX(Backbone!$O$2:$O$893,MATCH(I160,Backbone!$A$2:$A$893,0))","v":9.1999999999999993},null,{"$f":"INDEX(Backbone!$P$2:$P$893,MATCH(I160,Backbone!$A$2:$A$893,0))","v":9},null,{"$f":"INDEX(Backbone!$Q$2:$Q$893,MATCH(I160,Backbone!$A$2:$A$893,0))","v":0.88777777777777767},null,null,{"$f":"(AG160*$AG$22+AI160*$AI$22+AK160*$AK$22+AM160*$AM$22+AO160*$AO$22+AQ160*$AQ$22+AS160*$AS$22+AU160*$AU$22+AW160*$AW$22)/(SUM($AG$22:$AW$22)*10)","v":{"$error":"#DIV/0!"}},null,null,"Go to \nToolbox: ",null,{"$f":"HYPERLINK(\"#\"&ADDRESS(MATCH(I160,Toolbox!$C$1:$C$300),1,,,\"Toolbox\"),VLOOKUP(I160,Toolbox!$C$1:$C$300,1,FALSE))","v":"Rabies Exposure and Case Tracker Application (React)"}]
[]
[]
[]
[]
[]
[null,null,null,null,null,null,null,null,{"$f":"Backbone!A489","v":"The Suite for Automated Global Electronic BioSurveillance (SAGES)"},null,null,null,null,null,null,"A suite of open source software tools designed to enhance electronic disease surveillance in resource-limited settings.",null,null,null,null,null,null,null,null,{"$f":"INDEX(Backbone!$R$2:$R$893,MATCH(I166,Backbone!$A$2:$A$893,0))","v":"Hardware or Software"},null,null,null,{"$f":"INDEX(Backbone!$S$2:$S$893,MATCH(I166,Backbone!$A$2:$A$893,0))","v":"One Health; Generalized"},null,null,null,{"$f":"INDEX(Backbone!$H$2:$H$893,MATCH(I166,Backbone!$A$2:$A$893,0))","v":9.8000000000000007},null,{"$f":"INDEX(Backbone!$I$2:$I$893,MATCH(I166,Backbone!$A$2:$A$893,0))","v":10},null,{"$f":"INDEX(Backbone!$J$2:$J$893,MATCH(I166,Backbone!$A$2:$A$893,0))","v":10},null,{"$f":"INDEX(Backbone!$K$1:$K$893,MATCH(I166,Backbone!$A$1:$A$893,0))","v":9.3000000000000007},null,{"$f":"INDEX(Backbone!$L$2:$L$893,MATCH(I166,Backbone!$A$2:$A$893,0))","v":8.5},null,{"$f":"INDEX(Backbone!$M$2:$M$893,MATCH(I166,Backbone!$A$2:$A$893,0))","v":9},null,{"$f":"INDEX(Backbone!$N$2:$N$893,MATCH(I166,Backbone!$A$2:$A$893,0))","v":5.5},null,{"$f":"INDEX(Backbone!$O$2:$O$893,MATCH(I166,Backbone!$A$2:$A$893,0))","v":9.5},null,{"$f":"INDEX(Backbone!$P$2:$P$893,MATCH(I166,Backbone!$A$2:$A$893,0))","v":7},null,{"$f":"INDEX(Backbone!$Q$2:$Q$893,MATCH(I166,Backbone!$A$2:$A$893,0))","v":0.87333333333333329},null,null,{"$f":"(AG166*$AG$22+AI166*$AI$22+AK166*$AK$22+AM166*$AM$22+AO166*$AO$22+AQ166*$AQ$22+AS166*$AS$22+AU166*$AU$22+AW166*$AW$22)/(SUM($AG$22:$AW$22)*10)","v":{"$error":"#DIV/0!"}},null,null,"Go to \nToolbox: ",null,{"$f":"HYPERLINK(\"#\"&ADDRESS(MATCH(I166,Toolbox!$C$1:$C$300),1,,,\"Toolbox\"),VLOOKUP(I166,Toolbox!$C$1:$C$300,1,FALSE))","v":"The Suite for Automated Global Electronic BioSurveillance (SAGES)"}]
[]
[]
[]
[]
[]
[null,null,null,null,null,null,null,null,{"$f":"Backbone!A540","v":"Surveillance Outbreak Response Management and Analysis System (SORMAS)"},null,null,null,null,null,null,"An open source mobile eHealth System that processes disease control and outbreak management procedures in addition to surveillance and early detection of outbreaks through real-time digital surveillance.",null,null,null,null,null,null,null,null,{"$f":"INDEX(Backbone!$R$2:$R$893,MATCH(I172,Backbone!$A$2:$A$893,0))","v":"Hardware or Software"},null,null,null,{"$f":"INDEX(Backbone!$S$2:$S$893,MATCH(I172,Backbone!$A$2:$A$893,0))","v":"Sector Specific; Generalized"},null,null,null,{"$f":"INDEX(Backbone!$H$2:$H$893,MATCH(I172,Backbone!$A$2:$A$893,0))","v":9.1999999999999993},null,{"$f":"INDEX(Backbone!$I$2:$I$893,MATCH(I172,Backbone!$A$2:$A$893,0))","v":8},null,{"$f":"INDEX(Backbone!$J$2:$J$893,MATCH(I172,Backbone!$A$2:$A$893,0))","v":9.3000000000000007},null,{"$f":"INDEX(Backbone!$K$1:$K$893,MATCH(I172,Backbone!$A$1:$A$893,0))","v":9.1},null,{"$f":"INDEX(Backbone!$L$2:$L$893,MATCH(I172,Backbone!$A$2:$A$893,0))","v":9.3000000000000007},null,{"$f":"INDEX(Backbone!$M$2:$M$893,MATCH(I172,Backbone!$A$2:$A$893,0))","v":9.3000000000000007},null,{"$f":"INDEX(Backbone!$N$2:$N$893,MATCH(I172,Backbone!$A$2:$A$893,0))","v":6.8},null,{"$f":"INDEX(Backbone!$O$2:$O$893,MATCH(I172,Backbone!$A$2:$A$893,0))","v":3.9},null,{"$f":"INDEX(Backbone!$P$2:$P$893,MATCH(I172,Backbone!$A$2:$A$893,0))","v":5.3},null,{"$f":"INDEX(Backbone!$Q$2:$Q$893,MATCH(I172,Backbone!$A$2:$A$893,0))","v":0.78},null,null,{"$f":"(AG172*$AG$22+AI172*$AI$22+AK172*$AK$22+AM172*$AM$22+AO172*$AO$22+AQ172*$AQ$22+AS172*$AS$22+AU172*$AU$22+AW172*$AW$22)/(SUM($AG$22:$AW$22)*10)","v":{"$error":"#DIV/0!"}},null,null,"Go to \nToolbox: ",null,{"$f":"HYPERLINK(\"#\"&ADDRESS(MATCH(I172,Toolbox!$C$1:$C$300),1,,,\"Toolbox\"),VLOOKUP(I172,Toolbox!$C$1:$C$300,1,FALSE))","v":"Surveillance Outbreak Response Management and Analysis System (SORMAS)"}]
[]
[]
[]
[]
[]
[]
[]
[]
[]
[]
[]
[]
[]
[]
[]
[]
[]
[]
[]
[]
[]
[]
[]
[null,null,null,null,null,null,null,null,null,null,null,null,null,null,null,null,null,null,null,null,null,null,null,null,null,null,null,null,null,null,null,null,"Accessibility",null,"Language",null,"Ease of use",null,"Flexibility",null,"Data Needs",null,"Data Analysis",null,"Acceptability",null,"One Health",null,"Impact"]
[]
[]
[]
[]
[]
[]
[null,null,null,null,null,null,null,null,null,null,null,null,null,null,null,null,null,null,null,null,null,null,null,null,null,null,null,null,null,null,null,null,null,null,null,null,null,null,null,null,null,null,null,null,null,null,null,null,null,null,"RAW SCORE",null,null,"ADJUSTED SCORE \n(Based on user preferences)"]
[]
[]
[]
[null,"LEVEL 3 RESOURCES",null,"DESIGNATION",null,null,null,null,"RESOURCE NAME",null,null,null,null,null,null,"SHORT DESCRIPTION",null,null,null,null,null,null,null,null,"RESOURCE TYPE",null,null,null,"RESOURCE GENERALITY"]
[]
[]
[]
[null,null,null,null,null,null,null,null,null,null,null,null,null,null,null,null,null,null,null,null,null,null,null,null,null,null,null,null,null,null,null,null,{"$f":"'Attribute Survey'!S211","v":0},null,{"$f":"'Attribute Survey'!S215","v":0},null,{"$f":"'Attribute Survey'!S219","v":0},null,{"$f":"'Attribute Survey'!S223","v":0},null,{"$f":"'Attribute Survey'!S227","v":0},null,{"$f":"'Attribute Survey'!S231","v":0},null,{"$f":"'Attribute Survey'!S235","v":0},null,{"$f":"'Attribute Survey'!S239","v":0},null,{"$f":"'Attribute Survey'!S243","v":0}]
[null,null,null,"Resources Best Fit For Purpose",null,null,null,null,{"$f":"Backbone!A138","v":"Electronic Integrated Disease Surveillance System (EIDSS)"},null,null,null,null,null,null,"A customizable web-based electronic disease reporting system that can support passive and active human and veterinary health surveillance, laboratory diagnostics, vector surveillance, and outbreak management.",null,null,null,null,null,null,null,null,{"$f":"INDEX(Backbone!$R$2:$R$893,MATCH(I212,Backbone!$A$2:$A$893,0))","v":"Hardware or Software"},null,null,null,{"$f":"INDEX(Backbone!$S$2:$S$893,MATCH(I212,Backbone!$A$2:$A$893,0))","v":"One Health; Generalized"},null,null,null,{"$f":"INDEX(Backbone!$H$2:$H$893,MATCH(I212,Backbone!$A$2:$A$893,0))","v":6.8},null,{"$f":"INDEX(Backbone!$I$2:$I$893,MATCH(I212,Backbone!$A$2:$A$893,0))","v":10},null,{"$f":"INDEX(Backbone!$J$2:$J$893,MATCH(I212,Backbone!$A$2:$A$893,0))","v":8.4},null,{"$f":"INDEX(Backbone!$K$2:$K$893,MATCH(I212,Backbone!$A$2:$A$893,0))","v":8.6999999999999993},null,{"$f":"INDEX(Backbone!$L$2:$L$893,MATCH(I212,Backbone!$A$2:$A$893,0))","v":9.1},null,{"$f":"INDEX(Backbone!$M$2:$M$893,MATCH(I212,Backbone!$A$2:$A$893,0))","v":8},null,{"$f":"INDEX(Backbone!$N$2:$N$893,MATCH(I212,Backbone!$A$2:$A$893,0))","v":7},null,{"$f":"INDEX(Backbone!$O$2:$O$893,MATCH(I212,Backbone!$A$2:$A$893,0))","v":7.2},null,{"$f":"INDEX(Backbone!$P$2:$P$893,MATCH(I212,Backbone!$A$2:$A$893,0))","v":10},null,{"$f":"INDEX(Backbone!$Q$2:$Q$893,MATCH(I212,Backbone!$A$2:$A$893,0))","v":0.83555555555555561},null,null,{"$f":"(AG212*$AG$22+AI212*$AI$22+AK212*$AK$22+AM212*$AM$22+AO212*$AO$22+AQ212*$AQ$22+AS212*$AS$22+AU212*$AU$22+AW212*$AW$22)/(SUM($AG$22:$AW$22)*10)","v":{"$error":"#DIV/0!"}},null,null,"Go to \nToolbox: ",null,{"$f":"HYPERLINK(\"#\"&ADDRESS(MATCH(I212,Toolbox!$C$1:$C$300),1,,,\"Toolbox\"),VLOOKUP(I212,Toolbox!$C$1:$C$300,1,FALSE))","v":"Electronic Integrated Disease Surveillance System (EIDSS)"}]
[]
[]
[]
[]
[]
[null,null,null,null,null,null,null,null,{"$f":"Backbone!A604","v":"Rabies Exposure and Case Tracker Application (React)"},null,null,null,null,null,null,"A tool to support implementation of Integrated Bite Case Management programs.",null,null,null,null,null,null,null,null,{"$f":"INDEX(Backbone!$R$2:$R$893,MATCH(I218,Backbone!$A$2:$A$893,0))","v":"Hardware or Software"},null,null,null,{"$f":"INDEX(Backbone!$S$2:$S$893,MATCH(I218,Backbone!$A$2:$A$893,0))","v":"One Health; Disease/Threat Specific "},null,null,null,{"$f":"INDEX(Backbone!$H$2:$H$893,MATCH(I218,Backbone!$A$2:$A$893,0))","v":8.6},null,{"$f":"INDEX(Backbone!$I$2:$I$893,MATCH(I218,Backbone!$A$2:$A$893,0))","v":8.6},null,{"$f":"INDEX(Backbone!$J$2:$J$893,MATCH(I218,Backbone!$A$2:$A$893,0))","v":8},null,{"$f":"INDEX(Backbone!$K$2:$K$893,MATCH(I218,Backbone!$A$2:$A$893,0))","v":8.6},null,{"$f":"INDEX(Backbone!$L$2:$L$893,MATCH(I218,Backbone!$A$2:$A$893,0))","v":9.4},null,{"$f":"INDEX(Backbone!$M$2:$M$893,MATCH(I218,Backbone!$A$2:$A$893,0))","v":9.5},null,{"$f":"INDEX(Backbone!$N$2:$N$893,MATCH(I218,Backbone!$A$2:$A$893,0))","v":9},null,{"$f":"INDEX(Backbone!$O$2:$O$893,MATCH(I218,Backbone!$A$2:$A$893,0))","v":9.1999999999999993},null,{"$f":"INDEX(Backbone!$P$2:$P$893,MATCH(I218,Backbone!$A$2:$A$893,0))","v":9},null,{"$f":"INDEX(Backbone!$Q$2:$Q$893,MATCH(I218,Backbone!$A$2:$A$893,0))","v":0.88777777777777767},null,null,{"$f":"(AG218*$AG$22+AI218*$AI$22+AK218*$AK$22+AM218*$AM$22+AO218*$AO$22+AQ218*$AQ$22+AS218*$AS$22+AU218*$AU$22+AW218*$AW$22)/(SUM($AG$22:$AW$22)*10)","v":{"$error":"#DIV/0!"}},null,null,"Go to \nToolbox: ",null,{"$f":"HYPERLINK(\"#\"&ADDRESS(MATCH(I218,Toolbox!$C$1:$C$300),1,,,\"Toolbox\"),VLOOKUP(I218,Toolbox!$C$1:$C$300,1,FALSE))","v":"Rabies Exposure and Case Tracker Application (React)"}]
[]
[]
[]
[]
[]
[null,null,null,null,null,null,null,null,{"$f":"Backbone!A489","v":"The Suite for Automated Global Electronic BioSurveillance (SAGES)"},null,null,null,null,null,null,"A suite of open source software tools designed to enhance electronic disease surveillance in resource-limited settings.",null,null,null,null,null,null,null,null,{"$f":"INDEX(Backbone!$R$2:$R$893,MATCH(I224,Backbone!$A$2:$A$893,0))","v":"Hardware or Software"},null,null,null,{"$f":"INDEX(Backbone!$S$2:$S$893,MATCH(I224,Backbone!$A$2:$A$893,0))","v":"One Health; Generalized"},null,null,null,{"$f":"INDEX(Backbone!$H$2:$H$893,MATCH(I224,Backbone!$A$2:$A$893,0))","v":9.8000000000000007},null,{"$f":"INDEX(Backbone!$I$2:$I$893,MATCH(I224,Backbone!$A$2:$A$893,0))","v":10},null,{"$f":"INDEX(Backbone!$J$2:$J$893,MATCH(I224,Backbone!$A$2:$A$893,0))","v":10},null,{"$f":"INDEX(Backbone!$K$1:$K$893,MATCH(I224,Backbone!$A$1:$A$893,0))","v":9.3000000000000007},null,{"$f":"INDEX(Backbone!$L$2:$L$893,MATCH(I224,Backbone!$A$2:$A$893,0))","v":8.5},null,{"$f":"INDEX(Backbone!$M$2:$M$893,MATCH(I224,Backbone!$A$2:$A$893,0))","v":9},null,{"$f":"INDEX(Backbone!$N$2:$N$893,MATCH(I224,Backbone!$A$2:$A$893,0))","v":5.5},null,{"$f":"INDEX(Backbone!$O$2:$O$893,MATCH(I224,Backbone!$A$2:$A$893,0))","v":9.5},null,{"$f":"INDEX(Backbone!$P$2:$P$893,MATCH(I224,Backbone!$A$2:$A$893,0))","v":7},null,{"$f":"INDEX(Backbone!$Q$2:$Q$893,MATCH(I224,Backbone!$A$2:$A$893,0))","v":0.87333333333333329},null,null,{"$f":"(AG224*$AG$22+AI224*$AI$22+AK224*$AK$22+AM224*$AM$22+AO224*$AO$22+AQ224*$AQ$22+AS224*$AS$22+AU224*$AU$22+AW224*$AW$22)/(SUM($AG$22:$AW$22)*10)","v":{"$error":"#DIV/0!"}},null,null,"Go to \nToolbox: ",null,{"$f":"HYPERLINK(\"#\"&ADDRESS(MATCH(I224,Toolbox!$C$1:$C$300),1,,,\"Toolbox\"),VLOOKUP(I224,Toolbox!$C$1:$C$300,1,FALSE))","v":"The Suite for Automated Global Electronic BioSurveillance (SAGES)"}]
[]
[]
[]
[]
[]
[null,null,null,null,null,null,null,null,{"$f":"Backbone!A540","v":"Surveillance Outbreak Response Management and Analysis System (SORMAS)"},null,null,null,null,null,null,"An open source mobile eHealth System that processes disease control and outbreak management procedures in addition to surveillance and early detection of outbreaks through real-time digital surveillance.",null,null,null,null,null,null,null,null,{"$f":"INDEX(Backbone!$R$2:$R$893,MATCH(I230,Backbone!$A$2:$A$893,0))","v":"Hardware or Software"},null,null,null,{"$f":"INDEX(Backbone!$S$2:$S$893,MATCH(I230,Backbone!$A$2:$A$893,0))","v":"Sector Specific; Generalized"},null,null,null,{"$f":"INDEX(Backbone!$H$2:$H$893,MATCH(I230,Backbone!$A$2:$A$893,0))","v":9.1999999999999993},null,{"$f":"INDEX(Backbone!$I$2:$I$893,MATCH(I230,Backbone!$A$2:$A$893,0))","v":8},null,{"$f":"INDEX(Backbone!$J$2:$J$893,MATCH(I230,Backbone!$A$2:$A$893,0))","v":9.3000000000000007},null,{"$f":"INDEX(Backbone!$K$1:$K$893,MATCH(I230,Backbone!$A$1:$A$893,0))","v":9.1},null,{"$f":"INDEX(Backbone!$L$2:$L$893,MATCH(I230,Backbone!$A$2:$A$893,0))","v":9.3000000000000007},null,{"$f":"INDEX(Backbone!$M$2:$M$893,MATCH(I230,Backbone!$A$2:$A$893,0))","v":9.3000000000000007},null,{"$f":"INDEX(Backbone!$N$2:$N$893,MATCH(I230,Backbone!$A$2:$A$893,0))","v":6.8},null,{"$f":"INDEX(Backbone!$O$2:$O$893,MATCH(I230,Backbone!$A$2:$A$893,0))","v":3.9},null,{"$f":"INDEX(Backbone!$P$2:$P$893,MATCH(I230,Backbone!$A$2:$A$893,0))","v":5.3},null,{"$f":"INDEX(Backbone!$Q$2:$Q$893,MATCH(I230,Backbone!$A$2:$A$893,0))","v":0.78},null,null,{"$f":"(AG230*$AG$22+AI230*$AI$22+AK230*$AK$22+AM230*$AM$22+AO230*$AO$22+AQ230*$AQ$22+AS230*$AS$22+AU230*$AU$22+AW230*$AW$22)/(SUM($AG$22:$AW$22)*10)","v":{"$error":"#DIV/0!"}},null,null,"Go to \nToolbox: ",null,{"$f":"HYPERLINK(\"#\"&ADDRESS(MATCH(I230,Toolbox!$C$1:$C$300),1,,,\"Toolbox\"),VLOOKUP(I230,Toolbox!$C$1:$C$300,1,FALSE))","v":"Surveillance Outbreak Response Management and Analysis System (SORMAS)"}]
[]
[]
[]
[]
[]
[]
[null,null,null,"Other Relevant Resources",null,null,null,null,{"$f":"Backbone!A65","v":"District Health Information Software 2 (DHIS2) "},null,null,null,null,null,null,"An open source, web-based health management information system  platform.",null,null,null,null,null,null,null,null,{"$f":"INDEX(Backbone!$R$2:$R$893,MATCH(I237,Backbone!$A$2:$A$893,0))","v":"Hardware or Software"},null,null,null,{"$f":"INDEX(Backbone!$S$2:$S$893,MATCH(I237,Backbone!$A$2:$A$893,0))","v":"Sector Specific; Generalized"},null,null,null,{"$f":"INDEX(Backbone!$H$2:$H$893,MATCH(I237,Backbone!$A$2:$A$893,0))","v":8.8000000000000007},null,{"$f":"INDEX(Backbone!$I$2:$I$893,MATCH(I237,Backbone!$A$2:$A$893,0))","v":8.6999999999999993},null,{"$f":"INDEX(Backbone!$J$2:$J$893,MATCH(I237,Backbone!$A$2:$A$893,0))","v":8},null,{"$f":"INDEX(Backbone!$K$1:$K$893,MATCH(I237,Backbone!$A$1:$A$893,0))","v":8.6999999999999993},null,{"$f":"INDEX(Backbone!$L$2:$L$893,MATCH(I237,Backbone!$A$2:$A$893,0))","v":9.3000000000000007},null,{"$f":"INDEX(Backbone!$M$2:$M$893,MATCH(I237,Backbone!$A$2:$A$893,0))","v":9},null,{"$f":"INDEX(Backbone!$N$2:$N$893,MATCH(I237,Backbone!$A$2:$A$893,0))","v":10},null,{"$f":"INDEX(Backbone!$O$2:$O$893,MATCH(I237,Backbone!$A$2:$A$893,0))","v":7.8},null,{"$f":"INDEX(Backbone!$P$2:$P$893,MATCH(I237,Backbone!$A$2:$A$893,0))","v":7},null,{"$f":"INDEX(Backbone!$Q$2:$Q$893,MATCH(I237,Backbone!$A$2:$A$893,0))","v":0.85888888888888881},null,null,{"$f":"(AG237*$AG$22+AI237*$AI$22+AK237*$AK$22+AM237*$AM$22+AO237*$AO$22+AQ237*$AQ$22+AS237*$AS$22+AU237*$AU$22+AW237*$AW$22)/(SUM($AG$22:$AW$22)*10)","v":{"$error":"#DIV/0!"}},null,null,"Go to \nToolbox: ",null,{"$f":"HYPERLINK(\"#\"&ADDRESS(MATCH(I237,Toolbox!$C$1:$C$300),1,,,\"Toolbox\"),VLOOKUP(I237,Toolbox!$C$1:$C$300,1,FALSE))","v":"District Health Information Software 2 (DHIS2) "}]
[]
[]
[]
[]
[]
[null,null,null,null,null,null,null,null,{"$f":"Backbone!A155","v":"The Epidemic Intelligence from Open Sources (EIOS)"},null,null,null,null,null,null,"EIOS Initiative is a unique collaboration between WHO and various stakeholders that brings together new and existing initiatives, networks and systems to create a unified all-hazards, One Health approach to early detection, verification and assessment of public health risks and threats using open source information.",null,null,null,null,null,null,null,null,{"$f":"INDEX(Backbone!$R$2:$R$893,MATCH(I243,Backbone!$A$2:$A$893,0))","v":"Hardware or Software"},null,null,null,{"$f":"INDEX(Backbone!$S$2:$S$893,MATCH(I243,Backbone!$A$2:$A$893,0))","v":"One Health; Generalized"},null,null,null,{"$f":"INDEX(Backbone!$H$2:$H$893,MATCH(I243,Backbone!$A$2:$A$893,0))","v":8.4},null,{"$f":"INDEX(Backbone!$I$2:$I$893,MATCH(I243,Backbone!$A$2:$A$893,0))","v":9},null,{"$f":"INDEX(Backbone!$J$2:$J$893,MATCH(I243,Backbone!$A$2:$A$893,0))","v":7.4},null,{"$f":"INDEX(Backbone!$K$1:$K$893,MATCH(I243,Backbone!$A$1:$A$893,0))","v":9},null,{"$f":"INDEX(Backbone!$L$2:$L$893,MATCH(I243,Backbone!$A$2:$A$893,0))","v":8.8000000000000007},null,{"$f":"INDEX(Backbone!$M$2:$M$893,MATCH(I243,Backbone!$A$2:$A$893,0))","v":8},null,{"$f":"INDEX(Backbone!$N$2:$N$893,MATCH(I243,Backbone!$A$2:$A$893,0))","v":5.5},null,{"$f":"INDEX(Backbone!$O$2:$O$893,MATCH(I243,Backbone!$A$2:$A$893,0))","v":9.1999999999999993},null,{"$f":"INDEX(Backbone!$P$2:$P$893,MATCH(I243,Backbone!$A$2:$A$893,0))","v":6},null,{"$f":"INDEX(Backbone!$Q$2:$Q$893,MATCH(I243,Backbone!$A$2:$A$893,0))","v":0.79222222222222216},null,null,{"$f":"(AG243*$AG$22+AI243*$AI$22+AK243*$AK$22+AM243*$AM$22+AO243*$AO$22+AQ243*$AQ$22+AS243*$AS$22+AU243*$AU$22+AW243*$AW$22)/(SUM($AG$22:$AW$22)*10)","v":{"$error":"#DIV/0!"}},null,null,"Go to \nToolbox: ",null,{"$f":"HYPERLINK(\"#\"&ADDRESS(MATCH(I243,Toolbox!$C$1:$C$300),1,,,\"Toolbox\"),VLOOKUP(I243,Toolbox!$C$1:$C$300,1,FALSE))","v":"The Epidemic Intelligence from Open Sources (EIOS)"}]

{"sheet":"I4_tools","index":49,"n_rows":245,"n_cols":59,"rows_kept":245,"cut":false,"hidden":false,"merged":[[244,56,248,57],[244,58,248,62],[213,56,217,57],[213,58,217,62],[219,56,223,57],[219,58,223,62],[226,56,230,57],[226,58,230,62],[232,56,236,57],[232,58,236,62],[238,56,242,57],[238,58,242,62],[149,56,153,57],[149,58,153,62],[155,56,159,57],[155,58,159,62],[161,56,165,57],[161,58,165,62],[201,56,205,57],[201,58,205,62],[207,56,211,57],[207,58,211,62],[118,56,122,57],[118,58,122,62],[124,56,128,57],[124,58,128,62],[130,56,134,57],[130,58,134,62],[136,56,140,57],[136,58,140,62],[143,56,147,57],[143,58,147,62],[53,56,57,57],[53,58,57,62],[59,56,63,57],[59,58,63,62],[65,56,69,57],[65,58,69,62],[71,56,75,57],[71,58,75,62],[112,56,116,57],[112,58,116,62],[22,56,26,57],[22,58,26,62],[28,56,32,57],[28,58,32,62],[34,56,38,57],[34,58,38,62],[40,56,44,57],[40,58,44,62],[46,56,50,57],[46,58,50,62],[1,1,3,61],[6,32,20,32],[6,34,20,34],[6,36,20,36],[6,38,20,38],[6,40,20,40],[6,42,20,42],[6,44,20,44],[6,46,20,46],[6,48,20,48],[13,50,20,51],[13,53,20,54],[17,1,75,1],[17,3,20,6],[17,8,20,13],[17,15,20,22],[17,24,20,26],[17,28,20,30],[22,3,50,6],[22,8,26,13],[22,50,26,51],[22,53,26,54],[22,38,26,38],[22,40,26,40],[22,42,26,42],[22,44,26,44],[22,46,26,46],[22,48,26,48],[22,15,26,22],[22,24,26,26],[22,28,26,30],[22,32,26,32],[22,34,26,34],[22,36,26,36],[28,42,32,42],[28,44,32,44],[28,46,32,46],[28,48,32,48],[28,50,32,51],[28,53,32,54],[28,8,32,13],[28,15,32,22],[28,24,32,26],[28,28,32,30],[28,32,32,32],[28,34,32,34],[28,36,32,36],[28,38,32,38],[28,40,32,40],[34,48,38,48],[34,50,38,51],[34,53,38,54],[40,8,44,13],[40,15,44,22],[40,24,44,26],[40,28,44,30],[40,32,44,32],[40,34,44,34],[40,36,44,36],[34,36,38,36],[34,38,38,38],[34,40,38,40],[34,42,38,42],[34,44,38,44],[34,46,38,46],[34,8,38,13],[34,15,38,22],[34,24,38,26],[34,28,38,30],[34,32,38,32],[34,34,38,34],[40,50,44,51],[40,53,44,54],[46,8,50,13],[46,15,50,22],[46,24,50,26],[46,28,50,30],[46,32,50,32],[46,34,50,34],[46,36,50,36],[46,38,50,38],[40,38,44,38],[40,40,44,40],[40,42,44,42],[40,44,44,44],[40,46,44,46],[40,48,44,48],[46,53,50,54],[53,3,75,6],[53,8,57,13],[53,15,57,22],[53,24,57,26],[53,28,57,30],[53,32,57,32],[53,34,57,34],[53,36,57,36],[53,38,57,38],[46,40,50,40],[46,42,50,42],[46,44,50,44],[46,46,50,46],[46,48,50,48],[46,50,50,51],[59,42,63,42],[59,44,63,44],[59,46,63,46],[59,48,63,48],[59,50,63,51],[59,53,63,54],[53,53,57,54],[59,8,63,13],[59,15,63,22],[59,24,63,26],[59,28,63,30],[59,32,63,32],[59,34,63,34],[59,36,63,36],[59,38,63,38],[59,40,63,40],[53,40,57,40],[53,42,57,42],[53,44,57,44],[53,46,57,46],[53,48,57,48],[53,50,57,51],[71,8,75,13],[71,15,75,22],[71,24,75,26],[71,28,75,30],[71,32,75,32],[71,34,75,34],[71,36,75,36],[65,36,69,36],[65,38,69,38],[65,8,69,13],[65,15,69,22],[65,24,69,26],[65,28,69,30],[65,32,69,32],[65,34,69,34],[71,50,75,51],[71,53,75,54],[71,38,75,38],[71,40,75,40],[71,42,75,42],[71,44,75,44],[71,46,75,46],[71,48,75,48],[65,48,69,48],[65,50,69,51],[65,53,69,54],[65,40,69,40],[65,42,69,42],[65,44,69,44],[65,46,69,46],[96,46,110,46],[96,48,110,48],[103,50,110,51],[103,53,110,54],[107,1,165,1],[107,3,110,6],[107,8,110,13],[107,15,110,22],[107,24,110,26],[107,28,110,30],[96,32,110,32],[96,34,110,34],[96,36,110,36],[96,38,110,38],[96,40,110,40],[96,42,110,42],[96,44,110,44],[112,46,116,46],[112,48,116,48],[112,50,116,51],[112,53,116,54],[118,8,122,13],[118,15,122,22],[118,24,122,26],[118,53,122,54],[124,8,128,13],[124,15,128,22],[124,24,128,26],[124,28,128,30],[124,32,128,32],[124,34,128,34],[124,36,128,36],[118,36,122,36],[118,38,122,38],[118,40,122,40],[118,42,122,42],[118,44,122,44],[118,46,122,46],[124,50,128,51],[124,53,128,54],[124,40,128,40],[118,28,122,30],[118,32,122,32],[118,34,122,34],[124,38,128,38],[124,48,128,48],[112,8,116,13],[112,15,116,22],[112,24,116,26],[112,28,116,30],[112,32,116,32],[118,48,122,48],[118,50,122,51],[112,34,116,34],[112,36,116,36],[112,38,116,38],[112,40,116,40],[112,42,116,42],[112,44,116,44],[136,48,140,48],[136,50,140,51],[136,53,140,54],[130,53,134,54],[136,8,140,13],[136,15,140,22],[136,24,140,26],[136,28,140,30],[136,32,140,32],[136,34,140,34],[136,36,140,36],[136,38,140,38],[136,40,140,40],[130,40,134,40],[130,42,134,42],[130,44,134,44],[130,46,134,46],[130,48,134,48],[130,50,134,51],[130,8,134,13],[130,15,134,22],[130,24,134,26],[130,28,134,30],[130,38,134,38],[143,3,165,6],[143,8,147,13],[143,15,147,22],[143,24,147,26],[143,28,147,30],[143,32,147,32],[136,42,140,42],[136,44,140,44],[136,46,140,46],[112,3,140,6],[143,46,147,46],[155,8,159,13],[155,15,159,22],[155,24,159,26],[155,28,159,30],[155,32,159,32],[155,34,159,34],[155,36,159,36],[124,42,128,42],[124,44,128,44],[124,46,128,46],[130,32,134,32],[130,34,134,34],[130,36,134,36],[143,48,147,48],[143,50,147,51],[143,53,147,54],[149,8,153,13],[149,15,153,22],[149,24,153,26],[149,28,153,30],[149,32,153,32],[149,34,153,34],[143,34,147,34],[143,36,147,36],[143,38,147,38],[143,40,147,40],[143,42,147,42],[143,44,147,44],[149,48,153,48],[149,50,153,51],[149,53,153,54],[149,36,153,36],[149,38,153,38],[149,40,153,40],[149,42,153,42],[149,44,153,44],[149,46,153,46],[155,50,159,51],[155,53,159,54],[161,8,165,13],[161,15,165,22],[161,24,165,26],[161,28,165,30],[161,32,165,32],[161,34,165,34],[161,36,165,36],[161,38,165,38],[155,38,159,38],[155,40,159,40],[155,42,159,42],[155,44,159,44],[155,46,159,46],[155,48,159,48],[161,53,165,54],[161,40,165,40],[161,42,165,42],[161,44,165,44],[161,46,165,46],[161,48,165,48],[161,50,165,51],[185,32,199,32],[185,34,199,34],[185,36,199,36],[185,38,199,38],[185,40,199,40],[185,42,199,42],[185,44,199,44],[185,46,199,46],[185,48,199,48],[192,50,199,51],[192,53,199,54],[196,1,248,1],[196,3,199,6],[196,8,199,13],[196,15,199,22],[196,24,199,26],[196,28,199,30],[201,3,223,6],[201,8,205,13],[201,50,205,51],[201,53,205,54],[207,8,211,13],[207,15,211,22],[207,24,211,26],[207,28,211,30],[207,32,211,32],[207,34,211,34],[207,36,211,36],[207,38,211,38],[201,38,205,38],[201,40,205,40],[201,42,205,42],[201,44,205,44],[201,46,205,46],[201,48,205,48],[201,15,205,22],[201,24,205,26],[201,28,205,30],[201,32,205,32],[201,34,205,34],[201,36,205,36],[213,42,217,42],[213,44,217,44],[213,46,217,46],[213,48,217,48],[213,50,217,51],[213,53,217,54],[207,53,211,54],[213,8,217,13],[213,15,217,22],[213,24,217,26],[213,28,217,30],[213,32,217,32],[213,34,217,34],[213,36,217,36],[213,38,217,38],[213,40,217,40],[207,40,211,40],[207,42,211,42],[207,44,211,44],[207,46,211,46],[207,48,211,48],[207,50,211,51],[219,50,223,51],[219,53,223,54],[219,36,223,36],[219,38,223,38],[219,40,223,40],[219,42,223,42],[219,44,223,44],[219,46,223,46],[219,8,223,13],[219,15,223,22],[219,24,223,26],[219,28,223,30],[219,32,223,32],[219,34,223,34],[226,3,248,6],[226,8,230,13],[226,15,230,22],[226,24,230,26],[226,28,230,30],[226,32,230,32],[226,34,230,34],[226,36,230,36],[219,48,223,48],[238,48,242,48],[244,8,248,13],[244,15,248,22],[244,24,248,26],[244,28,248,30],[244,32,248,32],[244,34,248,34],[244,48,248,48],[238,8,242,13],[238,15,242,22],[238,24,242,26],[238,28,242,30],[238,32,242,32],[238,34,242,34],[238,36,242,36],[226,50,230,51],[226,53,230,54],[232,8,236,13],[232,15,236,22],[232,24,236,26],[232,28,236,30],[232,32,236,32],[232,34,236,34],[232,36,236,36],[232,38,236,38],[226,38,230,38],[226,40,230,40],[226,42,230,42],[226,44,230,44],[226,46,230,46],[226,48,230,48],[232,53,236,54],[232,40,236,40],[232,42,236,42],[232,44,236,44],[232,46,236,46],[232,48,236,48],[232,50,236,51],[238,42,242,42],[238,44,242,44],[238,46,242,46],[244,50,248,51],[244,53,248,54],[244,36,248,36],[244,38,248,38],[244,40,248,40],[244,42,248,42],[244,44,248,44],[244,46,248,46],[238,50,242,51],[238,53,242,54],[238,38,242,38],[238,40,242,40]]}
[]
[null,"Data Storage Resources"]
[]
[]
[]
[]
[null,null,null,null,null,null,null,null,null,null,null,null,null,null,null,null,null,null,null,null,null,null,null,null,null,null,null,null,null,null,null,null,"Accessibility",null,"Language",null,"Ease of use",null,"Flexibility",null,"Data Needs",null,"Data Analysis",null,"Acceptability",null,"One Health",null,"Impact"]
[]
[]
[]
[]
[]
[]
[null,null,null,null,null,null,null,null,null,null,null,null,null,null,null,null,null,null,null,null,null,null,null,null,null,null,null,null,null,null,null,null,null,null,null,null,null,null,null,null,null,null,null,null,null,null,null,null,null,null,"RAW SCORE",null,null,"ADJUSTED SCORE \n(Based on user preferences)"]
[]
[]
[]
[null,"LEVEL 1 RESOURCES",null,"DESIGNATION",null,null,null,null,"RESOURCE NAME",null,null,null,null,null,null,"SHORT DESCRIPTION",null,null,null,null,null,null,null,null,"RESOURCE TYPE",null,null,null,"RESOURCE GENERALITY"]
[]
[]
[]
[null,null,null,null,null,null,null,null,null,null,null,null,null,null,null,null,null,null,null,null,null,null,null,null,null,null,null,null,null,null,null,null,{"$f":"'Attribute Survey'!S22","v":0},null,{"$f":"'Attribute Survey'!S26","v":0},null,{"$f":"'Attribute Survey'!S30","v":0},null,{"$f":"'Attribute Survey'!S34","v":0},null,{"$f":"'Attribute Survey'!S38","v":0},null,{"$f":"'Attribute Survey'!S42","v":0},null,{"$f":"'Attribute Survey'!S46","v":0},null,{"$f":"'Attribute Survey'!S50","v":0},null,{"$f":"'Attribute Survey'!S54","v":0}]
[null,null,null,"Resources Best Fit For Purpose",null,null,null,null,{"$f":"Backbone!A21","v":"AfyaData"},null,null,null,null,null,null,"A One Health disease surveillance tool, designed to cater for Human, animal and environmental surveillance needs, comprised of Mobile and Web Apps.",null,null,null,null,null,null,null,null,{"$f":"INDEX(Backbone!$R$2:$R$893,MATCH(I23,Backbone!$A$2:$A$893,0))","v":"Hardware or Software"},null,null,null,{"$f":"INDEX(Backbone!$S$2:$S$893,MATCH(I23,Backbone!$A$2:$A$893,0))","v":"One Health; Generalized "},null,null,null,{"$f":"INDEX(Backbone!$H$2:$H$893,MATCH(I23,Backbone!$A$2:$A$893,0))","v":7.3},null,{"$f":"INDEX(Backbone!$I$2:$I$893,MATCH(I23,Backbone!$A$2:$A$893,0))","v":10},null,{"$f":"INDEX(Backbone!$J$2:$J$893,MATCH(I23,Backbone!$A$2:$A$893,0))","v":8.1999999999999993},null,{"$f":"INDEX(Backbone!$K$2:$K$893,MATCH(I23,Backbone!$A$2:$A$893,0))","v":7.3},null,{"$f":"INDEX(Backbone!$L$2:$L$893,MATCH(I23,Backbone!$A$2:$A$893,0))","v":7.6},null,{"$f":"INDEX(Backbone!$M$2:$M$893,MATCH(I23,Backbone!$A$2:$A$893,0))","v":8.8000000000000007},null,{"$f":"INDEX(Backbone!$N$2:$N$893,MATCH(I23,Backbone!$A$2:$A$893,0))","v":5.5},null,{"$f":"INDEX(Backbone!$O$2:$O$893,MATCH(I23,Backbone!$A$2:$A$893,0))","v":7.6},null,{"$f":"INDEX(Backbone!$P$2:$P$893,MATCH(I23,Backbone!$A$2:$A$893,0))","v":7},null,{"$f":"INDEX(Backbone!$Q$2:$Q$893,MATCH(I23,Backbone!$A$2:$A$893,0))","v":0.77000000000000013},null,null,{"$f":"(AG23*$AG$22+AI23*$AI$22+AK23*$AK$22+AM23*$AM$22+AO23*$AO$22+AQ23*$AQ$22+AS23*$AS$22+AU23*$AU$22+AW23*$AW$22)/(SUM($AG$22:$AW$22)*10)","v":{"$error":"#DIV/0!"}},null,null,"Go to \nToolbox: ",null,{"$f":"HYPERLINK(\"#\"&ADDRESS(MATCH(I23,Toolbox!$C$1:$C$300),1,,,\"Toolbox\"),VLOOKUP(I23,Toolbox!$C$1:$C$300,1,FALSE))","v":"AfyaData"}]
[]
[]
[]
[]
[]
[null,null,null,null,null,null,null,null,{"$f":"Backbone!A138","v":"Electronic Integrated Disease Surveillance System (EIDSS)"},null,null,null,null,null,null,"A customizable web-based electronic disease reporting system that can support passive and active human and veterinary health surveillance, laboratory diagnostics, vector surveillance, and outbreak management. ",null,null,null,null,null,null,null,null,{"$f":"INDEX(Backbone!$R$2:$R$893,MATCH(I29,Backbone!$A$2:$A$893,0))","v":"Hardware or Software"},null,null,null,{"$f":"INDEX(Backbone!$S$2:$S$893,MATCH(I29,Backbone!$A$2:$A$893,0))","v":"One Health; Generalized"},null,null,null,{"$f":"INDEX(Backbone!$H$2:$H$893,MATCH(I29,Backbone!$A$2:$A$893,0))","v":6.8},null,{"$f":"INDEX(Backbone!$I$2:$I$893,MATCH(I29,Backbone!$A$2:$A$893,0))","v":10},null,{"$f":"INDEX(Backbone!$J$2:$J$893,MATCH(I29,Backbone!$A$2:$A$893,0))","v":8.4},null,{"$f":"INDEX(Backbone!$K$1:$K$893,MATCH(I29,Backbone!$A$1:$A$893,0))","v":8.6999999999999993},null,{"$f":"INDEX(Backbone!$L$2:$L$893,MATCH(I29,Backbone!$A$2:$A$893,0))","v":9.1},null,{"$f":"INDEX(Backbone!$M$2:$M$893,MATCH(I29,Backbone!$A$2:$A$893,0))","v":8},null,{"$f":"INDEX(Backbone!$N$2:$N$893,MATCH(I29,Backbone!$A$2:$A$893,0))","v":7},null,{"$f":"INDEX(Backbone!$O$2:$O$893,MATCH(I29,Backbone!$A$2:$A$893,0))","v":7.2},null,{"$f":"INDEX(Backbone!$P$2:$P$893,MATCH(I29,Backbone!$A$2:$A$893,0))","v":10},null,{"$f":"INDEX(Backbone!$Q$2:$Q$893,MATCH(I29,Backbone!$A$2:$A$893,0))","v":0.83555555555555561},null,null,{"$f":"(AG29*$AG$22+AI29*$AI$22+AK29*$AK$22+AM29*$AM$22+AO29*$AO$22+AQ29*$AQ$22+AS29*$AS$22+AU29*$AU$22+AW29*$AW$22)/(SUM($AG$22:$AW$22)*10)","v":{"$error":"#DIV/0!"}},null,null,"Go to \nToolbox: ",null,{"$f":"HYPERLINK(\"#\"&ADDRESS(MATCH(I29,Toolbox!$C$1:$C$300),1,,,\"Toolbox\"),VLOOKUP(I29,Toolbox!$C$1:$C$300,1,FALSE))","v":"Electronic Integrated Disease Surveillance System (EIDSS)"}]
[]
[]
[]
[]
[]
[null,null,null,null,null,null,null,null,{"$f":"Backbone!A604","v":"Rabies Exposure and Case Tracker Application (React)"},null,null,null,null,null,null,"A tool to support implementation of Integrated Bite Case Management programs.",null,null,null,null,null,null,null,null,{"$f":"INDEX(Backbone!$R$2:$R$893,MATCH(I35,Backbone!$A$2:$A$893,0))","v":"Hardware or Software"},null,null,null,{"$f":"INDEX(Backbone!$S$2:$S$893,MATCH(I35,Backbone!$A$2:$A$893,0))","v":"One Health; Disease/Threat Specific "},null,null,null,{"$f":"INDEX(Backbone!$H$2:$H$893,MATCH(I35,Backbone!$A$2:$A$893,0))","v":8.6},null,{"$f":"INDEX(Backbone!$I$2:$I$893,MATCH(I35,Backbone!$A$2:$A$893,0))","v":8.6},null,{"$f":"INDEX(Backbone!$J$2:$J$893,MATCH(I35,Backbone!$A$2:$A$893,0))","v":8},null,{"$f":"INDEX(Backbone!$K$1:$K$893,MATCH(I35,Backbone!$A$1:$A$893,0))","v":8.6},null,{"$f":"INDEX(Backbone!$L$2:$L$893,MATCH(I35,Backbone!$A$2:$A$893,0))","v":9.4},null,{"$f":"INDEX(Backbone!$M$2:$M$893,MATCH(I35,Backbone!$A$2:$A$893,0))","v":9.5},null,{"$f":"INDEX(Backbone!$N$2:$N$893,MATCH(I35,Backbone!$A$2:$A$893,0))","v":9},null,{"$f":"INDEX(Backbone!$O$2:$O$893,MATCH(I35,Backbone!$A$2:$A$893,0))","v":9.1999999999999993},null,{"$f":"INDEX(Backbone!$P$2:$P$893,MATCH(I35,Backbone!$A$2:$A$893,0))","v":9},null,{"$f":"INDEX(Backbone!$Q$2:$Q$893,MATCH(I35,Backbone!$A$2:$A$893,0))","v":0.88777777777777767},null,null,{"$f":"(AG35*$AG$22+AI35*$AI$22+AK35*$AK$22+AM35*$AM$22+AO35*$AO$22+AQ35*$AQ$22+AS35*$AS$22+AU35*$AU$22+AW35*$AW$22)/(SUM($AG$22:$AW$22)*10)","v":{"$error":"#DIV/0!"}},null,null,"Go to \nToolbox: ",null,{"$f":"HYPERLINK(\"#\"&ADDRESS(MATCH(I35,Toolbox!$C$1:$C$300),1,,,\"Toolbox\"),VLOOKUP(I35,Toolbox!$C$1:$C$300,1,FALSE))","v":"Rabies Exposure and Case Tracker Application (React)"}]
[]
[]
[]
[]
[]
[null,null,null,null,null,null,null,null,{"$f":"Backbone!A489","v":"The Suite for Automated Global Electronic BioSurveillance (SAGES)"},null,null,null,null,null,null,"A suite of open source software tools designed to enhance electronic disease surveillance in resource-limited settings.",null,null,null,null,null,null,null,null,{"$f":"INDEX(Backbone!$R$2:$R$893,MATCH(I41,Backbone!$A$2:$A$893,0))","v":"Hardware or Software"},null,null,null,{"$f":"INDEX(Backbone!$S$2:$S$893,MATCH(I41,Backbone!$A$2:$A$893,0))","v":"One Health; Generalized"},null,null,null,{"$f":"INDEX(Backbone!$H$2:$H$893,MATCH(I41,Backbone!$A$2:$A$893,0))","v":9.8000000000000007},null,{"$f":"INDEX(Backbone!$I$2:$I$893,MATCH(I41,Backbone!$A$2:$A$893,0))","v":10},null,{"$f":"INDEX(Backbone!$J$2:$J$893,MATCH(I41,Backbone!$A$2:$A$893,0))","v":10},null,{"$f":"INDEX(Backbone!$K$1:$K$893,MATCH(I41,Backbone!$A$1:$A$893,0))","v":9.3000000000000007},null,{"$f":"INDEX(Backbone!$L$2:$L$893,MATCH(I41,Backbone!$A$2:$A$893,0))","v":8.5},null,{"$f":"INDEX(Backbone!$M$2:$M$893,MATCH(I41,Backbone!$A$2:$A$893,0))","v":9},null,{"$f":"INDEX(Backbone!$N$2:$N$893,MATCH(I41,Backbone!$A$2:$A$893,0))","v":5.5},null,{"$f":"INDEX(Backbone!$O$2:$O$893,MATCH(I41,Backbone!$A$2:$A$893,0))","v":9.5},null,{"$f":"INDEX(Backbone!$P$2:$P$893,MATCH(I41,Backbone!$A$2:$A$893,0))","v":7},null,{"$f":"INDEX(Backbone!$Q$2:$Q$893,MATCH(I41,Backbone!$A$2:$A$893,0))","v":0.87333333333333329},null,null,{"$f":"(AG41*$AG$22+AI41*$AI$22+AK41*$AK$22+AM41*$AM$22+AO41*$AO$22+AQ41*$AQ$22+AS41*$AS$22+AU41*$AU$22+AW41*$AW$22)/(SUM($AG$22:$AW$22)*10)","v":{"$error":"#DIV/0!"}},null,null,"Go to \nToolbox: ",null,{"$f":"HYPERLINK(\"#\"&ADDRESS(MATCH(I41,Toolbox!$C$1:$C$300),1,,,\"Toolbox\"),VLOOKUP(I41,Toolbox!$C$1:$C$300,1,FALSE))","v":"The Suite for Automated Global Electronic BioSurveillance (SAGES)"}]
[]
[]
[]
[]
[]
[null,null,null,null,null,null,null,null,{"$f":"Backbone!A540","v":"Surveillance Outbreak Response Management and Analysis System (SORMAS)"},null,null,null,null,null,null,"An open source mobile eHealth System that processes disease control and outbreak management procedures in addition to surveillance and early detection of outbreaks through real-time digital surveillance.",null,null,null,null,null,null,null,null,{"$f":"INDEX(Backbone!$R$2:$R$893,MATCH(I47,Backbone!$A$2:$A$893,0))","v":"Hardware or Software"},null,null,null,{"$f":"INDEX(Backbone!$S$2:$S$893,MATCH(I47,Backbone!$A$2:$A$893,0))","v":"Sector Specific; Generalized"},null,null,null,{"$f":"INDEX(Backbone!$H$2:$H$893,MATCH(I47,Backbone!$A$2:$A$893,0))","v":9.1999999999999993},null,{"$f":"INDEX(Backbone!$I$2:$I$893,MATCH(I47,Backbone!$A$2:$A$893,0))","v":8},null,{"$f":"INDEX(Backbone!$J$2:$J$893,MATCH(I47,Backbone!$A$2:$A$893,0))","v":9.3000000000000007},null,{"$f":"INDEX(Backbone!$K$1:$K$893,MATCH(I47,Backbone!$A$1:$A$893,0))","v":9.1},null,{"$f":"INDEX(Backbone!$L$2:$L$893,MATCH(I47,Backbone!$A$2:$A$893,0))","v":9.3000000000000007},null,{"$f":"INDEX(Backbone!$M$2:$M$893,MATCH(I47,Backbone!$A$2:$A$893,0))","v":9.3000000000000007},null,{"$f":"INDEX(Backbone!$N$2:$N$893,MATCH(I47,Backbone!$A$2:$A$893,0))","v":6.8},null,{"$f":"INDEX(Backbone!$O$2:$O$893,MATCH(I47,Backbone!$A$2:$A$893,0))","v":3.9},null,{"$f":"INDEX(Backbone!$P$2:$P$893,MATCH(I47,Backbone!$A$2:$A$893,0))","v":5.3},null,{"$f":"INDEX(Backbone!$Q$2:$Q$893,MATCH(I47,Backbone!$A$2:$A$893,0))","v":0.78},null,null,{"$f":"(AG47*$AG$22+AI47*$AI$22+AK47*$AK$22+AM47*$AM$22+AO47*$AO$22+AQ47*$AQ$22+AS47*$AS$22+AU47*$AU$22+AW47*$AW$22)/(SUM($AG$22:$AW$22)*10)","v":{"$error":"#DIV/0!"}},null,null,"Go to \nToolbox: ",null,{"$f":"HYPERLINK(\"#\"&ADDRESS(MATCH(I47,Toolbox!$C$1:$C$300),1,,,\"Toolbox\"),VLOOKUP(I47,Toolbox!$C$1:$C$300,1,FALSE))","v":"Surveillance Outbreak Response Management and Analysis System (SORMAS)"}]
[]
[]
[]
[]
[]
[]
[null,null,null,"Other Relevant Resources",null,null,null,null,{"$f":"Backbone!A65","v":"District Health Information Software 2 (DHIS2) "},null,null,null,null,null,null,"An open source, web-based health management information system  platform.",null,null,null,null,null,null,null,null,{"$f":"INDEX(Backbone!$R$2:$R$893,MATCH(I54,Backbone!$A$2:$A$893,0))","v":"Hardware or Software"},null,null,null,{"$f":"INDEX(Backbone!$S$2:$S$893,MATCH(I54,Backbone!$A$2:$A$893,0))","v":"Sector Specific; Generalized"},null,null,null,{"$f":"INDEX(Backbone!$H$2:$H$893,MATCH(I54,Backbone!$A$2:$A$893,0))","v":8.8000000000000007},null,{"$f":"INDEX(Backbone!$I$2:$I$893,MATCH(I54,Backbone!$A$2:$A$893,0))","v":8.6999999999999993},null,{"$f":"INDEX(Backbone!$J$2:$J$893,MATCH(I54,Backbone!$A$2:$A$893,0))","v":8},null,{"$f":"INDEX(Backbone!$K$1:$K$893,MATCH(I54,Backbone!$A$1:$A$893,0))","v":8.6999999999999993},null,{"$f":"INDEX(Backbone!$L$2:$L$893,MATCH(I54,Backbone!$A$2:$A$893,0))","v":9.3000000000000007},null,{"$f":"INDEX(Backbone!$M$2:$M$893,MATCH(I54,Backbone!$A$2:$A$893,0))","v":9},null,{"$f":"INDEX(Backbone!$N$2:$N$893,MATCH(I54,Backbone!$A$2:$A$893,0))","v":10},null,{"$f":"INDEX(Backbone!$O$2:$O$893,MATCH(I54,Backbone!$A$2:$A$893,0))","v":7.8},null,{"$f":"INDEX(Backbone!$P$2:$P$893,MATCH(I54,Backbone!$A$2:$A$893,0))","v":7},null,{"$f":"INDEX(Backbone!$Q$2:$Q$893,MATCH(I54,Backbone!$A$2:$A$893,0))","v":0.85888888888888881},null,null,{"$f":"(AG54*$AG$22+AI54*$AI$22+AK54*$AK$22+AM54*$AM$22+AO54*$AO$22+AQ54*$AQ$22+AS54*$AS$22+AU54*$AU$22+AW54*$AW$22)/(SUM($AG$22:$AW$22)*10)","v":{"$error":"#DIV/0!"}},null,null,"Go to \nToolbox: ",null,{"$f":"HYPERLINK(\"#\"&ADDRESS(MATCH(I54,Toolbox!$C$1:$C$300),1,,,\"Toolbox\"),VLOOKUP(I54,Toolbox!$C$1:$C$300,1,FALSE))","v":"District Health Information Software 2 (DHIS2) "}]
[]
[]
[]
[]
[]
[null,null,null,null,null,null,null,null,{"$f":"Backbone!A166","v":"EMPRES Global Animal Disease Information System (EMPRES-i)"},null,null,null,null,null,null,"A web-based secure information system to support country level veterinary services by facilitating regional and global disease and a global reference database for animal diseases including zoonosis.",null,null,null,null,null,null,null,null,{"$f":"INDEX(Backbone!$R$2:$R$893,MATCH(I60,Backbone!$A$2:$A$893,0))","v":"Hardware or Software"},null,null,null,{"$f":"INDEX(Backbone!$S$2:$S$893,MATCH(I60,Backbone!$A$2:$A$893,0))","v":"Sector Specific; Generalized"},null,null,null,{"$f":"INDEX(Backbone!$H$2:$H$893,MATCH(I60,Backbone!$A$2:$A$893,0))","v":9},null,{"$f":"INDEX(Backbone!$I$2:$I$893,MATCH(I60,Backbone!$A$2:$A$893,0))","v":8.3000000000000007},null,{"$f":"INDEX(Backbone!$J$2:$J$893,MATCH(I60,Backbone!$A$2:$A$893,0))","v":8.9},null,{"$f":"INDEX(Backbone!$K$1:$K$893,MATCH(I60,Backbone!$A$1:$A$893,0))","v":8.6999999999999993},null,{"$f":"INDEX(Backbone!$L$2:$L$893,MATCH(I60,Backbone!$A$2:$A$893,0))","v":8},null,{"$f":"INDEX(Backbone!$M$2:$M$893,MATCH(I60,Backbone!$A$2:$A$893,0))","v":7.8},null,{"$f":"INDEX(Backbone!$N$2:$N$893,MATCH(I60,Backbone!$A$2:$A$893,0))","v":7.4},null,{"$f":"INDEX(Backbone!$O$2:$O$893,MATCH(I60,Backbone!$A$2:$A$893,0))","v":4.8},null,{"$f":"INDEX(Backbone!$P$2:$P$893,MATCH(I60,Backbone!$A$2:$A$893,0))","v":4.7},null,{"$f":"INDEX(Backbone!$Q$2:$Q$893,MATCH(I60,Backbone!$A$2:$A$893,0))","v":0.75111111111111106},null,null,{"$f":"(AG60*$AG$22+AI60*$AI$22+AK60*$AK$22+AM60*$AM$22+AO60*$AO$22+AQ60*$AQ$22+AS60*$AS$22+AU60*$AU$22+AW60*$AW$22)/(SUM($AG$22:$AW$22)*10)","v":{"$error":"#DIV/0!"}},null,null,"Go to \nToolbox: ",null,{"$f":"HYPERLINK(\"#\"&ADDRESS(MATCH(I60,Toolbox!$C$1:$C$300),1,,,\"Toolbox\"),VLOOKUP(I60,Toolbox!$C$1:$C$300,1,FALSE))","v":"EMPRES Global Animal Disease Information System (EMPRES-i)"}]
[]
[]
[]
[]
[]
[null,null,null,null,null,null,null,null,{"$f":"Backbone!A531","v":"Laboratory Information Management System Light (MiniLIMS)"},null,null,null,null,null,null,"An information system for the management of an analysis laboratory which have a simple organization.",null,null,null,null,null,null,null,null,{"$f":"INDEX(Backbone!$R$2:$R$893,MATCH(I66,Backbone!$A$2:$A$893,0))","v":"Hardware or Software"},null,null,null,{"$f":"INDEX(Backbone!$S$2:$S$893,MATCH(I66,Backbone!$A$2:$A$893,0))","v":"Sector Specific; Generalized"},null,null,null,{"$f":"INDEX(Backbone!$H$2:$H$893,MATCH(I66,Backbone!$A$2:$A$893,0))","v":9},null,{"$f":"INDEX(Backbone!$I$2:$I$893,MATCH(I66,Backbone!$A$2:$A$893,0))","v":7.3},null,{"$f":"INDEX(Backbone!$J$2:$J$893,MATCH(I66,Backbone!$A$2:$A$893,0))","v":8.4},null,{"$f":"INDEX(Backbone!$K$1:$K$893,MATCH(I66,Backbone!$A$1:$A$893,0))","v":9.3000000000000007},null,{"$f":"INDEX(Backbone!$L$2:$L$893,MATCH(I66,Backbone!$A$2:$A$893,0))","v":7.2},null,{"$f":"INDEX(Backbone!$M$2:$M$893,MATCH(I66,Backbone!$A$2:$A$893,0))","v":6.5},null,{"$f":"INDEX(Backbone!$N$2:$N$893,MATCH(I66,Backbone!$A$2:$A$893,0))","v":2},null,{"$f":"INDEX(Backbone!$O$2:$O$893,MATCH(I66,Backbone!$A$2:$A$893,0))","v":4.4000000000000004},null,{"$f":"INDEX(Backbone!$P$2:$P$893,MATCH(I66,Backbone!$A$2:$A$893,0))","v":4},null,{"$f":"INDEX(Backbone!$Q$2:$Q$893,MATCH(I66,Backbone!$A$2:$A$893,0))","v":0.64555555555555555},null,null,{"$f":"(AG66*$AG$22+AI66*$AI$22+AK66*$AK$22+AM66*$AM$22+AO66*$AO$22+AQ66*$AQ$22+AS66*$AS$22+AU66*$AU$22+AW66*$AW$22)/(SUM($AG$22:$AW$22)*10)","v":{"$error":"#DIV/0!"}},null,null,"Go to \nToolbox: ",null,{"$f":"HYPERLINK(\"#\"&ADDRESS(MATCH(I66,Toolbox!$C$1:$C$300),1,,,\"Toolbox\"),VLOOKUP(I66,Toolbox!$C$1:$C$300,1,FALSE))","v":"Laboratory Information Management System Light (MiniLIMS)"}]
[]
[]
[]
[]
[]
[null,null,null,null,null,null,null,null,{"$f":"Backbone!A522","v":"Laboratory Information Management System “SILAB for Africa” (SILABFA)"},null,null,null,null,null,null,"A Laboratory Information Management System (LIMS) able to trace all diagnostic steps from Samples Reception up to the Final Reports.",null,null,null,null,null,null,null,null,{"$f":"INDEX(Backbone!$R$2:$R$893,MATCH(I72,Backbone!$A$2:$A$893,0))","v":"Hardware or Software"},null,null,null,{"$f":"INDEX(Backbone!$S$2:$S$893,MATCH(I72,Backbone!$A$2:$A$893,0))","v":"Sector Specific; Generalized"},null,null,null,{"$f":"INDEX(Backbone!$H$2:$H$893,MATCH(I72,Backbone!$A$2:$A$893,0))","v":9.3000000000000007},null,{"$f":"INDEX(Backbone!$I$2:$I$893,MATCH(I72,Backbone!$A$2:$A$893,0))","v":10},null,{"$f":"INDEX(Backbone!$J$2:$J$893,MATCH(I72,Backbone!$A$2:$A$893,0))","v":6.8},null,{"$f":"INDEX(Backbone!$K$1:$K$893,MATCH(I72,Backbone!$A$1:$A$893,0))","v":9.3000000000000007},null,{"$f":"INDEX(Backbone!$L$2:$L$893,MATCH(I72,Backbone!$A$2:$A$893,0))","v":8},null,{"$f":"INDEX(Backbone!$M$2:$M$893,MATCH(I72,Backbone!$A$2:$A$893,0))","v":6.5},null,{"$f":"INDEX(Backbone!$N$2:$N$893,MATCH(I72,Backbone!$A$2:$A$893,0))","v":8},null,{"$f":"INDEX(Backbone!$O$2:$O$893,MATCH(I72,Backbone!$A$2:$A$893,0))","v":7.2},null,{"$f":"INDEX(Backbone!$P$2:$P$893,MATCH(I72,Backbone!$A$2:$A$893,0))","v":8},null,{"$f":"INDEX(Backbone!$Q$2:$Q$893,MATCH(I72,Backbone!$A$2:$A$893,0))","v":0.81222222222222229},null,null,{"$f":"(AG72*$AG$22+AI72*$AI$22+AK72*$AK$22+AM72*$AM$22+AO72*$AO$22+AQ72*$AQ$22+AS72*$AS$22+AU72*$AU$22+AW72*$AW$22)/(SUM($AG$22:$AW$22)*10)","v":{"$error":"#DIV/0!"}},null,null,"Go to \nToolbox: ",null,{"$f":"HYPERLINK(\"#\"&ADDRESS(MATCH(I72,Toolbox!$C$1:$C$300),1,,,\"Toolbox\"),VLOOKUP(I72,Toolbox!$C$1:$C$300,1,FALSE))","v":"Laboratory Information Management System “SILAB for Africa” (SILABFA)"}]
[]
[]
[]
[]
[]
[]
[]
[]
[]
[]
[]
[]
[]
[]
[]
[]
[]
[]
[]
[]
[]
[]
[]
[]
[null,null,null,null,null,null,null,null,null,null,null,null,null,null,null,null,null,null,null,null,null,null,null,null,null,null,null,null,null,null,null,null,"Accessibility",null,"Language",null,"Ease of use",null,"Flexibility",null,"Data Needs",null,"Data Analysis",null,"Acceptability",null,"One Health",null,"Impact"]
[]
[]
[]
[]
[]
[]
[null,null,null,null,null,null,null,null,null,null,null,null,null,null,null,null,null,null,null,null,null,null,null,null,null,null,null,null,null,null,null,null,null,null,null,null,null,null,null,null,null,null,null,null,null,null,null,null,null,null,"RAW SCORE",null,null,"ADJUSTED SCORE \n(Based on user preferences)"]
[]
[]
[]
[null,"LEVEL 2 RESOURCES",null,"DESIGNATION",null,null,null,null,"RESOURCE NAME",null,null,null,null,null,null,"SHORT DESCRIPTION",null,null,null,null,null,null,null,null,"RESOURCE TYPE",null,null,null,"RESOURCE GENERALITY"]
[]
[]
[]
[null,null,null,null,null,null,null,null,null,null,null,null,null,null,null,null,null,null,null,null,null,null,null,null,null,null,null,null,null,null,null,null,{"$f":"'Attribute Survey'!S112","v":0},null,{"$f":"'Attribute Survey'!S116","v":0},null,{"$f":"'Attribute Survey'!S120","v":0},null,{"$f":"'Attribute Survey'!S124","v":0},null,{"$f":"'Attribute Survey'!S128","v":0},null,{"$f":"'Attribute Survey'!S132","v":0},null,{"$f":"'Attribute Survey'!S136","v":0},null,{"$f":"'Attribute Survey'!S140","v":0},null,{"$f":"'Attribute Survey'!S144","v":0}]
[null,null,null,"Resources Best Fit For Purpose",null,null,null,null,{"$f":"Backbone!A21","v":"AfyaData"},null,null,null,null,null,null,"A One Health disease surveillance tool, designed to cater for Human, animal and environmental surveillance needs, comprised of Mobile and Web Apps.",null,null,null,null,null,null,null,null,{"$f":"INDEX(Backbone!$R$2:$R$893,MATCH(I113,Backbone!$A$2:$A$893,0))","v":"Hardware or Software"},null,null,null,{"$f":"INDEX(Backbone!$S$2:$S$893,MATCH(I113,Backbone!$A$2:$A$893,0))","v":"One Health; Generalized "},null,null,null,{"$f":"INDEX(Backbone!$H$2:$H$893,MATCH(I113,Backbone!$A$2:$A$893,0))","v":7.3},null,{"$f":"INDEX(Backbone!$I$2:$I$893,MATCH(I113,Backbone!$A$2:$A$893,0))","v":10},null,{"$f":"INDEX(Backbone!$J$2:$J$893,MATCH(I113,Backbone!$A$2:$A$893,0))","v":8.1999999999999993},null,{"$f":"INDEX(Backbone!$K$2:$K$893,MATCH(I113,Backbone!$A$2:$A$893,0))","v":7.3},null,{"$f":"INDEX(Backbone!$L$2:$L$893,MATCH(I113,Backbone!$A$2:$A$893,0))","v":7.6},null,{"$f":"INDEX(Backbone!$M$2:$M$893,MATCH(I113,Backbone!$A$2:$A$893,0))","v":8.8000000000000007},null,{"$f":"INDEX(Backbone!$N$2:$N$893,MATCH(I113,Backbone!$A$2:$A$893,0))","v":5.5},null,{"$f":"INDEX(Backbone!$O$2:$O$893,MATCH(I113,Backbone!$A$2:$A$893,0))","v":7.6},null,{"$f":"INDEX(Backbone!$P$2:$P$893,MATCH(I113,Backbone!$A$2:$A$893,0))","v":7},null,{"$f":"INDEX(Backbone!$Q$2:$Q$893,MATCH(I113,Backbone!$A$2:$A$893,0))","v":0.77000000000000013},null,null,{"$f":"(AG113*$AG$22+AI113*$AI$22+AK113*$AK$22+AM113*$AM$22+AO113*$AO$22+AQ113*$AQ$22+AS113*$AS$22+AU113*$AU$22+AW113*$AW$22)/(SUM($AG$22:$AW$22)*10)","v":{"$error":"#DIV/0!"}},null,null,"Go to \nToolbox: ",null,{"$f":"HYPERLINK(\"#\"&ADDRESS(MATCH(I113,Toolbox!$C$1:$C$300),1,,,\"Toolbox\"),VLOOKUP(I113,Toolbox!$C$1:$C$300,1,FALSE))","v":"AfyaData"}]
[]
[]
[]
[]
[]
[null,null,null,null,null,null,null,null,{"$f":"Backbone!A138","v":"Electronic Integrated Disease Surveillance System (EIDSS)"},null,null,null,null,null,null,"A customizable web-based electronic disease reporting system that can support passive and active human and veterinary health surveillance, laboratory diagnostics, vector surveillance, and outbreak management. ",null,null,null,null,null,null,null,null,{"$f":"INDEX(Backbone!$R$2:$R$893,MATCH(I119,Backbone!$A$2:$A$893,0))","v":"Hardware or Software"},null,null,null,{"$f":"INDEX(Backbone!$S$2:$S$893,MATCH(I119,Backbone!$A$2:$A$893,0))","v":"One Health; Generalized"},null,null,null,{"$f":"INDEX(Backbone!$H$2:$H$893,MATCH(I119,Backbone!$A$2:$A$893,0))","v":6.8},null,{"$f":"INDEX(Backbone!$I$2:$I$893,MATCH(I119,Backbone!$A$2:$A$893,0))","v":10},null,{"$f":"INDEX(Backbone!$J$2:$J$893,MATCH(I119,Backbone!$A$2:$A$893,0))","v":8.4},null,{"$f":"INDEX(Backbone!$K$1:$K$893,MATCH(I119,Backbone!$A$1:$A$893,0))","v":8.6999999999999993},null,{"$f":"INDEX(Backbone!$L$2:$L$893,MATCH(I119,Backbone!$A$2:$A$893,0))","v":9.1},null,{"$f":"INDEX(Backbone!$M$2:$M$893,MATCH(I119,Backbone!$A$2:$A$893,0))","v":8},null,{"$f":"INDEX(Backbone!$N$2:$N$893,MATCH(I119,Backbone!$A$2:$A$893,0))","v":7},null,{"$f":"INDEX(Backbone!$O$2:$O$893,MATCH(I119,Backbone!$A$2:$A$893,0))","v":7.2},null,{"$f":"INDEX(Backbone!$P$2:$P$893,MATCH(I119,Backbone!$A$2:$A$893,0))","v":10},null,{"$f":"INDEX(Backbone!$Q$2:$Q$893,MATCH(I119,Backbone!$A$2:$A$893,0))","v":0.83555555555555561},null,null,{"$f":"(AG119*$AG$22+AI119*$AI$22+AK119*$AK$22+AM119*$AM$22+AO119*$AO$22+AQ119*$AQ$22+AS119*$AS$22+AU119*$AU$22+AW119*$AW$22)/(SUM($AG$22:$AW$22)*10)","v":{"$error":"#DIV/0!"}},null,null,"Go to \nToolbox: ",null,{"$f":"HYPERLINK(\"#\"&ADDRESS(MATCH(I119,Toolbox!$C$1:$C$300),1,,,\"Toolbox\"),VLOOKUP(I119,Toolbox!$C$1:$C$300,1,FALSE))","v":"Electronic Integrated Disease Surveillance System (EIDSS)"}]
[]
[]
[]
[]
[]
[null,null,null,null,null,null,null,null,{"$f":"Backbone!A604","v":"Rabies Exposure and Case Tracker Application (React)"},null,null,null,null,null,null,"A tool to support implementation of Integrated Bite Case Management programs.",null,null,null,null,null,null,null,null,{"$f":"INDEX(Backbone!$R$2:$R$893,MATCH(I125,Backbone!$A$2:$A$893,0))","v":"Hardware or Software"},null,null,null,{"$f":"INDEX(Backbone!$S$2:$S$893,MATCH(I125,Backbone!$A$2:$A$893,0))","v":"One Health; Disease/Threat Specific "},null,null,null,{"$f":"INDEX(Backbone!$H$2:$H$893,MATCH(I125,Backbone!$A$2:$A$893,0))","v":8.6},null,{"$f":"INDEX(Backbone!$I$2:$I$893,MATCH(I125,Backbone!$A$2:$A$893,0))","v":8.6},null,{"$f":"INDEX(Backbone!$J$2:$J$893,MATCH(I125,Backbone!$A$2:$A$893,0))","v":8},null,{"$f":"INDEX(Backbone!$K$1:$K$893,MATCH(I125,Backbone!$A$1:$A$893,0))","v":8.6},null,{"$f":"INDEX(Backbone!$L$2:$L$893,MATCH(I125,Backbone!$A$2:$A$893,0))","v":9.4},null,{"$f":"INDEX(Backbone!$M$2:$M$893,MATCH(I125,Backbone!$A$2:$A$893,0))","v":9.5},null,{"$f":"INDEX(Backbone!$N$2:$N$893,MATCH(I125,Backbone!$A$2:$A$893,0))","v":9},null,{"$f":"INDEX(Backbone!$O$2:$O$893,MATCH(I125,Backbone!$A$2:$A$893,0))","v":9.1999999999999993},null,{"$f":"INDEX(Backbone!$P$2:$P$893,MATCH(I125,Backbone!$A$2:$A$893,0))","v":9},null,{"$f":"INDEX(Backbone!$Q$2:$Q$893,MATCH(I125,Backbone!$A$2:$A$893,0))","v":0.88777777777777767},null,null,{"$f":"(AG125*$AG$22+AI125*$AI$22+AK125*$AK$22+AM125*$AM$22+AO125*$AO$22+AQ125*$AQ$22+AS125*$AS$22+AU125*$AU$22+AW125*$AW$22)/(SUM($AG$22:$AW$22)*10)","v":{"$error":"#DIV/0!"}},null,null,"Go to \nToolbox: ",null,{"$f":"HYPERLINK(\"#\"&ADDRESS(MATCH(I125,Toolbox!$C$1:$C$300),1,,,\"Toolbox\"),VLOOKUP(I125,Toolbox!$C$1:$C$300,1,FALSE))","v":"Rabies Exposure and Case Tracker Application (React)"}]
[]
[]
[]
[]
[]
[null,null,null,null,null,null,null,null,{"$f":"Backbone!A489","v":"The Suite for Automated Global Electronic BioSurveillance (SAGES)"},null,null,null,null,null,null,"A suite of open source software tools designed to enhance electronic disease surveillance in resource-limited settings.",null,null,null,null,null,null,null,null,{"$f":"INDEX(Backbone!$R$2:$R$893,MATCH(I131,Backbone!$A$2:$A$893,0))","v":"Hardware or Software"},null,null,null,{"$f":"INDEX(Backbone!$S$2:$S$893,MATCH(I131,Backbone!$A$2:$A$893,0))","v":"One Health; Generalized"},null,null,null,{"$f":"INDEX(Backbone!$H$2:$H$893,MATCH(I131,Backbone!$A$2:$A$893,0))","v":9.8000000000000007},null,{"$f":"INDEX(Backbone!$I$2:$I$893,MATCH(I131,Backbone!$A$2:$A$893,0))","v":10},null,{"$f":"INDEX(Backbone!$J$2:$J$893,MATCH(I131,Backbone!$A$2:$A$893,0))","v":10},null,{"$f":"INDEX(Backbone!$K$1:$K$893,MATCH(I131,Backbone!$A$1:$A$893,0))","v":9.3000000000000007},null,{"$f":"INDEX(Backbone!$L$2:$L$893,MATCH(I131,Backbone!$A$2:$A$893,0))","v":8.5},null,{"$f":"INDEX(Backbone!$M$2:$M$893,MATCH(I131,Backbone!$A$2:$A$893,0))","v":9},null,{"$f":"INDEX(Backbone!$N$2:$N$893,MATCH(I131,Backbone!$A$2:$A$893,0))","v":5.5},null,{"$f":"INDEX(Backbone!$O$2:$O$893,MATCH(I131,Backbone!$A$2:$A$893,0))","v":9.5},null,{"$f":"INDEX(Backbone!$P$2:$P$893,MATCH(I131,Backbone!$A$2:$A$893,0))","v":7},null,{"$f":"INDEX(Backbone!$Q$2:$Q$893,MATCH(I131,Backbone!$A$2:$A$893,0))","v":0.87333333333333329},null,null,{"$f":"(AG131*$AG$22+AI131*$AI$22+AK131*$AK$22+AM131*$AM$22+AO131*$AO$22+AQ131*$AQ$22+AS131*$AS$22+AU131*$AU$22+AW131*$AW$22)/(SUM($AG$22:$AW$22)*10)","v":{"$error":"#DIV/0!"}},null,null,"Go to \nToolbox: ",null,{"$f":"HYPERLINK(\"#\"&ADDRESS(MATCH(I131,Toolbox!$C$1:$C$300),1,,,\"Toolbox\"),VLOOKUP(I131,Toolbox!$C$1:$C$300,1,FALSE))","v":"The Suite for Automated Global Electronic BioSurveillance (SAGES)"}]
[]
[]
[]
[]
[]
[null,null,null,null,null,null,null,null,{"$f":"Backbone!A540","v":"Surveillance Outbreak Response Management and Analysis System (SORMAS)"},null,null,null,null,null,null,"An open source mobile eHealth System that processes disease control and outbreak management procedures in addition to surveillance and early detection of outbreaks through real-time digital surveillance.",null,null,null,null,null,null,null,null,{"$f":"INDEX(Backbone!$R$2:$R$893,MATCH(I137,Backbone!$A$2:$A$893,0))","v":"Hardware or Software"},null,null,null,{"$f":"INDEX(Backbone!$S$2:$S$893,MATCH(I137,Backbone!$A$2:$A$893,0))","v":"Sector Specific; Generalized"},null,null,null,{"$f":"INDEX(Backbone!$H$2:$H$893,MATCH(I137,Backbone!$A$2:$A$893,0))","v":9.1999999999999993},null,{"$f":"INDEX(Backbone!$I$2:$I$893,MATCH(I137,Backbone!$A$2:$A$893,0))","v":8},null,{"$f":"INDEX(Backbone!$J$2:$J$893,MATCH(I137,Backbone!$A$2:$A$893,0))","v":9.3000000000000007},null,{"$f":"INDEX(Backbone!$K$1:$K$893,MATCH(I137,Backbone!$A$1:$A$893,0))","v":9.1},null,{"$f":"INDEX(Backbone!$L$2:$L$893,MATCH(I137,Backbone!$A$2:$A$893,0))","v":9.3000000000000007},null,{"$f":"INDEX(Backbone!$M$2:$M$893,MATCH(I137,Backbone!$A$2:$A$893,0))","v":9.3000000000000007},null,{"$f":"INDEX(Backbone!$N$2:$N$893,MATCH(I137,Backbone!$A$2:$A$893,0))","v":6.8},null,{"$f":"INDEX(Backbone!$O$2:$O$893,MATCH(I137,Backbone!$A$2:$A$893,0))","v":3.9},null,{"$f":"INDEX(Backbone!$P$2:$P$893,MATCH(I137,Backbone!$A$2:$A$893,0))","v":5.3},null,{"$f":"INDEX(Backbone!$Q$2:$Q$893,MATCH(I137,Backbone!$A$2:$A$893,0))","v":0.78},null,null,{"$f":"(AG137*$AG$22+AI137*$AI$22+AK137*$AK$22+AM137*$AM$22+AO137*$AO$22+AQ137*$AQ$22+AS137*$AS$22+AU137*$AU$22+AW137*$AW$22)/(SUM($AG$22:$AW$22)*10)","v":{"$error":"#DIV/0!"}},null,null,"Go to \nToolbox: ",null,{"$f":"HYPERLINK(\"#\"&ADDRESS(MATCH(I137,Toolbox!$C$1:$C$300),1,,,\"Toolbox\"),VLOOKUP(I137,Toolbox!$C$1:$C$300,1,FALSE))","v":"Surveillance Outbreak Response Management and Analysis System (SORMAS)"}]
[]
[]
[]
[]
[]
[]
[null,null,null,"Other Relevant Resources",null,null,null,null,{"$f":"Backbone!A65","v":"District Health Information Software 2 (DHIS2) "},null,null,null,null,null,null,"An open source, web-based health management information system  platform.",null,null,null,null,null,null,null,null,{"$f":"INDEX(Backbone!$R$2:$R$893,MATCH(I144,Backbone!$A$2:$A$893,0))","v":"Hardware or Software"},null,null,null,{"$f":"INDEX(Backbone!$S$2:$S$893,MATCH(I144,Backbone!$A$2:$A$893,0))","v":"Sector Specific; Generalized"},null,null,null,{"$f":"INDEX(Backbone!$H$2:$H$893,MATCH(I144,Backbone!$A$2:$A$893,0))","v":8.8000000000000007},null,{"$f":"INDEX(Backbone!$I$2:$I$893,MATCH(I144,Backbone!$A$2:$A$893,0))","v":8.6999999999999993},null,{"$f":"INDEX(Backbone!$J$2:$J$893,MATCH(I144,Backbone!$A$2:$A$893,0))","v":8},null,{"$f":"INDEX(Backbone!$K$1:$K$893,MATCH(I144,Backbone!$A$1:$A$893,0))","v":8.6999999999999993},null,{"$f":"INDEX(Backbone!$L$2:$L$893,MATCH(I144,Backbone!$A$2:$A$893,0))","v":9.3000000000000007},null,{"$f":"INDEX(Backbone!$M$2:$M$893,MATCH(I144,Backbone!$A$2:$A$893,0))","v":9},null,{"$f":"INDEX(Backbone!$N$2:$N$893,MATCH(I144,Backbone!$A$2:$A$893,0))","v":10},null,{"$f":"INDEX(Backbone!$O$2:$O$893,MATCH(I144,Backbone!$A$2:$A$893,0))","v":7.8},null,{"$f":"INDEX(Backbone!$P$2:$P$893,MATCH(I144,Backbone!$A$2:$A$893,0))","v":7},null,{"$f":"INDEX(Backbone!$Q$2:$Q$893,MATCH(I144,Backbone!$A$2:$A$893,0))","v":0.85888888888888881},null,null,{"$f":"(AG144*$AG$22+AI144*$AI$22+AK144*$AK$22+AM144*$AM$22+AO144*$AO$22+AQ144*$AQ$22+AS144*$AS$22+AU144*$AU$22+AW144*$AW$22)/(SUM($AG$22:$AW$22)*10)","v":{"$error":"#DIV/0!"}},null,null,"Go to \nToolbox: ",null,{"$f":"HYPERLINK(\"#\"&ADDRESS(MATCH(I144,Toolbox!$C$1:$C$300),1,,,\"Toolbox\"),VLOOKUP(I144,Toolbox!$C$1:$C$300,1,FALSE))","v":"District Health Information Software 2 (DHIS2) "}]
[]
[]
[]
[]
[]
[null,null,null,null,null,null,null,null,{"$f":"Backbone!A166","v":"EMPRES Global Animal Disease Information System (EMPRES-i)"},null,null,null,null,null,null,"A web-based secure information system to support country level veterinary services by facilitating regional and global disease and a global reference database for animal diseases including zoonosis.",null,null,null,null,null,null,null,null,{"$f":"INDEX(Backbone!$R$2:$R$893,MATCH(I150,Backbone!$A$2:$A$893,0))","v":"Hardware or Software"},null,null,null,{"$f":"INDEX(Backbone!$S$2:$S$893,MATCH(I150,Backbone!$A$2:$A$893,0))","v":"Sector Specific; Generalized"},null,null,null,{"$f":"INDEX(Backbone!$H$2:$H$893,MATCH(I150,Backbone!$A$2:$A$893,0))","v":9},null,{"$f":"INDEX(Backbone!$I$2:$I$893,MATCH(I150,Backbone!$A$2:$A$893,0))","v":8.3000000000000007},null,{"$f":"INDEX(Backbone!$J$2:$J$893,MATCH(I150,Backbone!$A$2:$A$893,0))","v":8.9},null,{"$f":"INDEX(Backbone!$K$1:$K$893,MATCH(I150,Backbone!$A$1:$A$893,0))","v":8.6999999999999993},null,{"$f":"INDEX(Backbone!$L$2:$L$893,MATCH(I150,Backbone!$A$2:$A$893,0))","v":8},null,{"$f":"INDEX(Backbone!$M$2:$M$893,MATCH(I150,Backbone!$A$2:$A$893,0))","v":7.8},null,{"$f":"INDEX(Backbone!$N$2:$N$893,MATCH(I150,Backbone!$A$2:$A$893,0))","v":7.4},null,{"$f":"INDEX(Backbone!$O$2:$O$893,MATCH(I150,Backbone!$A$2:$A$893,0))","v":4.8},null,{"$f":"INDEX(Backbone!$P$2:$P$893,MATCH(I150,Backbone!$A$2:$A$893,0))","v":4.7},null,{"$f":"INDEX(Backbone!$Q$2:$Q$893,MATCH(I150,Backbone!$A$2:$A$893,0))","v":0.75111111111111106},null,null,{"$f":"(AG150*$AG$22+AI150*$AI$22+AK150*$AK$22+AM150*$AM$22+AO150*$AO$22+AQ150*$AQ$22+AS150*$AS$22+AU150*$AU$22+AW150*$AW$22)/(SUM($AG$22:$AW$22)*10)","v":{"$error":"#DIV/0!"}},null,null,"Go to \nToolbox: ",null,{"$f":"HYPERLINK(\"#\"&ADDRESS(MATCH(I150,Toolbox!$C$1:$C$300),1,,,\"Toolbox\"),VLOOKUP(I150,Toolbox!$C$1:$C$300,1,FALSE))","v":"EMPRES Global Animal Disease Information System (EMPRES-i)"}]
[]
[]
[]
[]
[]
[null,null,null,null,null,null,null,null,{"$f":"Backbone!A531","v":"Laboratory Information Management System Light (MiniLIMS)"},null,null,null,null,null,null,"An information system for the management of an analysis laboratory which have a simple organization.",null,null,null,null,null,null,null,null,{"$f":"INDEX(Backbone!$R$2:$R$893,MATCH(I156,Backbone!$A$2:$A$893,0))","v":"Hardware or Software"},null,null,null,{"$f":"INDEX(Backbone!$S$2:$S$893,MATCH(I156,Backbone!$A$2:$A$893,0))","v":"Sector Specific; Generalized"},null,null,null,{"$f":"INDEX(Backbone!$H$2:$H$893,MATCH(I156,Backbone!$A$2:$A$893,0))","v":9},null,{"$f":"INDEX(Backbone!$I$2:$I$893,MATCH(I156,Backbone!$A$2:$A$893,0))","v":7.3},null,{"$f":"INDEX(Backbone!$J$2:$J$893,MATCH(I156,Backbone!$A$2:$A$893,0))","v":8.4},null,{"$f":"INDEX(Backbone!$K$1:$K$893,MATCH(I156,Backbone!$A$1:$A$893,0))","v":9.3000000000000007},null,{"$f":"INDEX(Backbone!$L$2:$L$893,MATCH(I156,Backbone!$A$2:$A$893,0))","v":7.2},null,{"$f":"INDEX(Backbone!$M$2:$M$893,MATCH(I156,Backbone!$A$2:$A$893,0))","v":6.5},null,{"$f":"INDEX(Backbone!$N$2:$N$893,MATCH(I156,Backbone!$A$2:$A$893,0))","v":2},null,{"$f":"INDEX(Backbone!$O$2:$O$893,MATCH(I156,Backbone!$A$2:$A$893,0))","v":4.4000000000000004},null,{"$f":"INDEX(Backbone!$P$2:$P$893,MATCH(I156,Backbone!$A$2:$A$893,0))","v":4},null,{"$f":"INDEX(Backbone!$Q$2:$Q$893,MATCH(I156,Backbone!$A$2:$A$893,0))","v":0.64555555555555555},null,null,{"$f":"(AG156*$AG$22+AI156*$AI$22+AK156*$AK$22+AM156*$AM$22+AO156*$AO$22+AQ156*$AQ$22+AS156*$AS$22+AU156*$AU$22+AW156*$AW$22)/(SUM($AG$22:$AW$22)*10)","v":{"$error":"#DIV/0!"}},null,null,"Go to \nToolbox: ",null,{"$f":"HYPERLINK(\"#\"&ADDRESS(MATCH(I156,Toolbox!$C$1:$C$300),1,,,\"Toolbox\"),VLOOKUP(I156,Toolbox!$C$1:$C$300,1,FALSE))","v":"Laboratory Information Management System Light (MiniLIMS)"}]
[]
[]
[]
[]
[]
[null,null,null,null,null,null,null,null,{"$f":"Backbone!A522","v":"Laboratory Information Management System “SILAB for Africa” (SILABFA)"},null,null,null,null,null,null,"A Laboratory Information Management System (LIMS) able to trace all diagnostic steps from Samples Reception up to the Final Reports.",null,null,null,null,null,null,null,null,{"$f":"INDEX(Backbone!$R$2:$R$893,MATCH(I162,Backbone!$A$2:$A$893,0))","v":"Hardware or Software"},null,null,null,{"$f":"INDEX(Backbone!$S$2:$S$893,MATCH(I162,Backbone!$A$2:$A$893,0))","v":"Sector Specific; Generalized"},null,null,null,{"$f":"INDEX(Backbone!$H$2:$H$893,MATCH(I162,Backbone!$A$2:$A$893,0))","v":9.3000000000000007},null,{"$f":"INDEX(Backbone!$I$2:$I$893,MATCH(I162,Backbone!$A$2:$A$893,0))","v":10},null,{"$f":"INDEX(Backbone!$J$2:$J$893,MATCH(I162,Backbone!$A$2:$A$893,0))","v":6.8},null,{"$f":"INDEX(Backbone!$K$1:$K$893,MATCH(I162,Backbone!$A$1:$A$893,0))","v":9.3000000000000007},null,{"$f":"INDEX(Backbone!$L$2:$L$893,MATCH(I162,Backbone!$A$2:$A$893,0))","v":8},null,{"$f":"INDEX(Backbone!$M$2:$M$893,MATCH(I162,Backbone!$A$2:$A$893,0))","v":6.5},null,{"$f":"INDEX(Backbone!$N$2:$N$893,MATCH(I162,Backbone!$A$2:$A$893,0))","v":8},null,{"$f":"INDEX(Backbone!$O$2:$O$893,MATCH(I162,Backbone!$A$2:$A$893,0))","v":7.2},null,{"$f":"INDEX(Backbone!$P$2:$P$893,MATCH(I162,Backbone!$A$2:$A$893,0))","v":8},null,{"$f":"INDEX(Backbone!$Q$2:$Q$893,MATCH(I162,Backbone!$A$2:$A$893,0))","v":0.81222222222222229},null,null,{"$f":"(AG162*$AG$22+AI162*$AI$22+AK162*$AK$22+AM162*$AM$22+AO162*$AO$22+AQ162*$AQ$22+AS162*$AS$22+AU162*$AU$22+AW162*$AW$22)/(SUM($AG$22:$AW$22)*10)","v":{"$error":"#DIV/0!"}},null,null,"Go to \nToolbox: ",null,{"$f":"HYPERLINK(\"#\"&ADDRESS(MATCH(I162,Toolbox!$C$1:$C$300),1,,,\"Toolbox\"),VLOOKUP(I162,Toolbox!$C$1:$C$300,1,FALSE))","v":"Laboratory Information Management System “SILAB for Africa” (SILABFA)"}]
[]
[]
[]
[]
[]
[]
[]
[]
[]
[]
[]
[]
[]
[]
[]
[]
[]
[]
[]
[]
[]
[]
[]
[null,null,null,null,null,null,null,null,null,null,null,null,null,null,null,null,null,null,null,null,null,null,null,null,null,null,null,null,null,null,null,null,"Accessibility",null,"Language",null,"Ease of use",null,"Flexibility",null,"Data Needs",null,"Data Analysis",null,"Acceptability",null,"One Health",null,"Impact"]
[]
[]
[]
[]
[]
[]
[null,null,null,null,null,null,null,null,null,null,null,null,null,null,null,null,null,null,null,null,null,null,null,null,null,null,null,null,null,null,null,null,null,null,null,null,null,null,null,null,null,null,null,null,null,null,null,null,null,null,"RAW SCORE",null,null,"ADJUSTED SCORE \n(Based on user preferences)"]
[]
[]
[]
[null,"LEVEL 3 RESOURCES",null,"DESIGNATION",null,null,null,null,"RESOURCE NAME",null,null,null,null,null,null,"SHORT DESCRIPTION",null,null,null,null,null,null,null,null,"RESOURCE TYPE",null,null,null,"RESOURCE GENERALITY"]
[]
[]
[]
[null,null,null,null,null,null,null,null,null,null,null,null,null,null,null,null,null,null,null,null,null,null,null,null,null,null,null,null,null,null,null,null,{"$f":"'Attribute Survey'!S201","v":0},null,{"$f":"'Attribute Survey'!S205","v":0},null,{"$f":"'Attribute Survey'!S209","v":0},null,{"$f":"'Attribute Survey'!S213","v":0},null,{"$f":"'Attribute Survey'!S217","v":0},null,{"$f":"'Attribute Survey'!S221","v":0},null,{"$f":"'Attribute Survey'!S225","v":0},null,{"$f":"'Attribute Survey'!S229","v":0},null,{"$f":"'Attribute Survey'!S233","v":0}]
[null,null,null,"Resources Best Fit For Purpose",null,null,null,null,{"$f":"Backbone!A138","v":"Electronic Integrated Disease Surveillance System (EIDSS)"},null,null,null,null,null,null,"A customizable web-based electronic disease reporting system that can support passive and active human and veterinary health surveillance, laboratory diagnostics, vector surveillance, and outbreak management. ",null,null,null,null,null,null,null,null,{"$f":"INDEX(Backbone!$R$2:$R$893,MATCH(I202,Backbone!$A$2:$A$893,0))","v":"Hardware or Software"},null,null,null,{"$f":"INDEX(Backbone!$S$2:$S$893,MATCH(I202,Backbone!$A$2:$A$893,0))","v":"One Health; Generalized"},null,null,null,{"$f":"INDEX(Backbone!$H$2:$H$893,MATCH(I202,Backbone!$A$2:$A$893,0))","v":6.8},null,{"$f":"INDEX(Backbone!$I$2:$I$893,MATCH(I202,Backbone!$A$2:$A$893,0))","v":10},null,{"$f":"INDEX(Backbone!$J$2:$J$893,MATCH(I202,Backbone!$A$2:$A$893,0))","v":8.4},null,{"$f":"INDEX(Backbone!$K$2:$K$893,MATCH(I202,Backbone!$A$2:$A$893,0))","v":8.6999999999999993},null,{"$f":"INDEX(Backbone!$L$2:$L$893,MATCH(I202,Backbone!$A$2:$A$893,0))","v":9.1},null,{"$f":"INDEX(Backbone!$M$2:$M$893,MATCH(I202,Backbone!$A$2:$A$893,0))","v":8},null,{"$f":"INDEX(Backbone!$N$2:$N$893,MATCH(I202,Backbone!$A$2:$A$893,0))","v":7},null,{"$f":"INDEX(Backbone!$O$2:$O$893,MATCH(I202,Backbone!$A$2:$A$893,0))","v":7.2},null,{"$f":"INDEX(Backbone!$P$2:$P$893,MATCH(I202,Backbone!$A$2:$A$893,0))","v":10},null,{"$f":"INDEX(Backbone!$Q$2:$Q$893,MATCH(I202,Backbone!$A$2:$A$893,0))","v":0.83555555555555561},null,null,{"$f":"(AG202*$AG$22+AI202*$AI$22+AK202*$AK$22+AM202*$AM$22+AO202*$AO$22+AQ202*$AQ$22+AS202*$AS$22+AU202*$AU$22+AW202*$AW$22)/(SUM($AG$22:$AW$22)*10)","v":{"$error":"#DIV/0!"}},null,null,"Go to \nToolbox: ",null,{"$f":"HYPERLINK(\"#\"&ADDRESS(MATCH(I202,Toolbox!$C$1:$C$300),1,,,\"Toolbox\"),VLOOKUP(I202,Toolbox!$C$1:$C$300,1,FALSE))","v":"Electronic Integrated Disease Surveillance System (EIDSS)"}]
[]
[]
[]
[]
[]
[null,null,null,null,null,null,null,null,{"$f":"Backbone!A604","v":"Rabies Exposure and Case Tracker Application (React)"},null,null,null,null,null,null,"A tool to support implementation of Integrated Bite Case Management programs.",null,null,null,null,null,null,null,null,{"$f":"INDEX(Backbone!$R$2:$R$893,MATCH(I208,Backbone!$A$2:$A$893,0))","v":"Hardware or Software"},null,null,null,{"$f":"INDEX(Backbone!$S$2:$S$893,MATCH(I208,Backbone!$A$2:$A$893,0))","v":"One Health; Disease/Threat Specific "},null,null,null,{"$f":"INDEX(Backbone!$H$2:$H$893,MATCH(I208,Backbone!$A$2:$A$893,0))","v":8.6},null,{"$f":"INDEX(Backbone!$I$2:$I$893,MATCH(I208,Backbone!$A$2:$A$893,0))","v":8.6},null,{"$f":"INDEX(Backbone!$J$2:$J$893,MATCH(I208,Backbone!$A$2:$A$893,0))","v":8},null,{"$f":"INDEX(Backbone!$K$1:$K$893,MATCH(I208,Backbone!$A$1:$A$893,0))","v":8.6},null,{"$f":"INDEX(Backbone!$L$2:$L$893,MATCH(I208,Backbone!$A$2:$A$893,0))","v":9.4},null,{"$f":"INDEX(Backbone!$M$2:$M$893,MATCH(I208,Backbone!$A$2:$A$893,0))","v":9.5},null,{"$f":"INDEX(Backbone!$N$2:$N$893,MATCH(I208,Backbone!$A$2:$A$893,0))","v":9},null,{"$f":"INDEX(Backbone!$O$2:$O$893,MATCH(I208,Backbone!$A$2:$A$893,0))","v":9.1999999999999993},null,{"$f":"INDEX(Backbone!$P$2:$P$893,MATCH(I208,Backbone!$A$2:$A$893,0))","v":9},null,{"$f":"INDEX(Backbone!$Q$2:$Q$893,MATCH(I208,Backbone!$A$2:$A$893,0))","v":0.88777777777777767},null,null,{"$f":"(AG208*$AG$22+AI208*$AI$22+AK208*$AK$22+AM208*$AM$22+AO208*$AO$22+AQ208*$AQ$22+AS208*$AS$22+AU208*$AU$22+AW208*$AW$22)/(SUM($AG$22:$AW$22)*10)","v":{"$error":"#DIV/0!"}},null,null,"Go to \nToolbox: ",null,{"$f":"HYPERLINK(\"#\"&ADDRESS(MATCH(I208,Toolbox!$C$1:$C$300),1,,,\"Toolbox\"),VLOOKUP(I208,Toolbox!$C$1:$C$300,1,FALSE))","v":"Rabies Exposure and Case Tracker Application (React)"}]
[]
[]
[]
[]
[]
[null,null,null,null,null,null,null,null,{"$f":"Backbone!A489","v":"The Suite for Automated Global Electronic BioSurveillance (SAGES)"},null,null,null,null,null,null,"A suite of open source software tools designed to enhance electronic disease surveillance in resource-limited settings.",null,null,null,null,null,null,null,null,{"$f":"INDEX(Backbone!$R$2:$R$893,MATCH(I214,Backbone!$A$2:$A$893,0))","v":"Hardware or Software"},null,null,null,{"$f":"INDEX(Backbone!$S$2:$S$893,MATCH(I214,Backbone!$A$2:$A$893,0))","v":"One Health; Generalized"},null,null,null,{"$f":"INDEX(Backbone!$H$2:$H$893,MATCH(I214,Backbone!$A$2:$A$893,0))","v":9.8000000000000007},null,{"$f":"INDEX(Backbone!$I$2:$I$893,MATCH(I214,Backbone!$A$2:$A$893,0))","v":10},null,{"$f":"INDEX(Backbone!$J$2:$J$893,MATCH(I214,Backbone!$A$2:$A$893,0))","v":10},null,{"$f":"INDEX(Backbone!$K$1:$K$893,MATCH(I214,Backbone!$A$1:$A$893,0))","v":9.3000000000000007},null,{"$f":"INDEX(Backbone!$L$2:$L$893,MATCH(I214,Backbone!$A$2:$A$893,0))","v":8.5},null,{"$f":"INDEX(Backbone!$M$2:$M$893,MATCH(I214,Backbone!$A$2:$A$893,0))","v":9},null,{"$f":"INDEX(Backbone!$N$2:$N$893,MATCH(I214,Backbone!$A$2:$A$893,0))","v":5.5},null,{"$f":"INDEX(Backbone!$O$2:$O$893,MATCH(I214,Backbone!$A$2:$A$893,0))","v":9.5},null,{"$f":"INDEX(Backbone!$P$2:$P$893,MATCH(I214,Backbone!$A$2:$A$893,0))","v":7},null,{"$f":"INDEX(Backbone!$Q$2:$Q$893,MATCH(I214,Backbone!$A$2:$A$893,0))","v":0.87333333333333329},null,null,{"$f":"(AG214*$AG$22+AI214*$AI$22+AK214*$AK$22+AM214*$AM$22+AO214*$AO$22+AQ214*$AQ$22+AS214*$AS$22+AU214*$AU$22+AW214*$AW$22)/(SUM($AG$22:$AW$22)*10)","v":{"$error":"#DIV/0!"}},null,null,"Go to \nToolbox: ",null,{"$f":"HYPERLINK(\"#\"&ADDRESS(MATCH(I214,Toolbox!$C$1:$C$300),1,,,\"Toolbox\"),VLOOKUP(I214,Toolbox!$C$1:$C$300,1,FALSE))","v":"The Suite for Automated Global Electronic BioSurveillance (SAGES)"}]
[]
[]
[]
[]
[]
[null,null,null,null,null,null,null,null,{"$f":"Backbone!A540","v":"Surveillance Outbreak Response Management and Analysis System (SORMAS)"},null,null,null,null,null,null,"An open source mobile eHealth System that processes disease control and outbreak management procedures in addition to surveillance and early detection of outbreaks through real-time digital surveillance.",null,null,null,null,null,null,null,null,{"$f":"INDEX(Backbone!$R$2:$R$893,MATCH(I220,Backbone!$A$2:$A$893,0))","v":"Hardware or Software"},null,null,null,{"$f":"INDEX(Backbone!$S$2:$S$893,MATCH(I220,Backbone!$A$2:$A$893,0))","v":"Sector Specific; Generalized"},null,null,null,{"$f":"INDEX(Backbone!$H$2:$H$893,MATCH(I220,Backbone!$A$2:$A$893,0))","v":9.1999999999999993},null,{"$f":"INDEX(Backbone!$I$2:$I$893,MATCH(I220,Backbone!$A$2:$A$893,0))","v":8},null,{"$f":"INDEX(Backbone!$J$2:$J$893,MATCH(I220,Backbone!$A$2:$A$893,0))","v":9.3000000000000007},null,{"$f":"INDEX(Backbone!$K$1:$K$893,MATCH(I220,Backbone!$A$1:$A$893,0))","v":9.1},null,{"$f":"INDEX(Backbone!$L$2:$L$893,MATCH(I220,Backbone!$A$2:$A$893,0))","v":9.3000000000000007},null,{"$f":"INDEX(Backbone!$M$2:$M$893,MATCH(I220,Backbone!$A$2:$A$893,0))","v":9.3000000000000007},null,{"$f":"INDEX(Backbone!$N$2:$N$893,MATCH(I220,Backbone!$A$2:$A$893,0))","v":6.8},null,{"$f":"INDEX(Backbone!$O$2:$O$893,MATCH(I220,Backbone!$A$2:$A$893,0))","v":3.9},null,{"$f":"INDEX(Backbone!$P$2:$P$893,MATCH(I220,Backbone!$A$2:$A$893,0))","v":5.3},null,{"$f":"INDEX(Backbone!$Q$2:$Q$893,MATCH(I220,Backbone!$A$2:$A$893,0))","v":0.78},null,null,{"$f":"(AG220*$AG$22+AI220*$AI$22+AK220*$AK$22+AM220*$AM$22+AO220*$AO$22+AQ220*$AQ$22+AS220*$AS$22+AU220*$AU$22+AW220*$AW$22)/(SUM($AG$22:$AW$22)*10)","v":{"$error":"#DIV/0!"}},null,null,"Go to \nToolbox: ",null,{"$f":"HYPERLINK(\"#\"&ADDRESS(MATCH(I220,Toolbox!$C$1:$C$300),1,,,\"Toolbox\"),VLOOKUP(I220,Toolbox!$C$1:$C$300,1,FALSE))","v":"Surveillance Outbreak Response Management and Analysis System (SORMAS)"}]
[]
[]
[]
[]
[]
[]
[null,null,null,"Other Relevant Resources",null,null,null,null,{"$f":"Backbone!A65","v":"District Health Information Software 2 (DHIS2) "},null,null,null,null,null,null,"An open source, web-based health management information system  platform.",null,null,null,null,null,null,null,null,{"$f":"INDEX(Backbone!$R$2:$R$893,MATCH(I227,Backbone!$A$2:$A$893,0))","v":"Hardware or Software"},null,null,null,{"$f":"INDEX(Backbone!$S$2:$S$893,MATCH(I227,Backbone!$A$2:$A$893,0))","v":"Sector Specific; Generalized"},null,null,null,{"$f":"INDEX(Backbone!$H$2:$H$893,MATCH(I227,Backbone!$A$2:$A$893,0))","v":8.8000000000000007},null,{"$f":"INDEX(Backbone!$I$2:$I$893,MATCH(I227,Backbone!$A$2:$A$893,0))","v":8.6999999999999993},null,{"$f":"INDEX(Backbone!$J$2:$J$893,MATCH(I227,Backbone!$A$2:$A$893,0))","v":8},null,{"$f":"INDEX(Backbone!$K$1:$K$893,MATCH(I227,Backbone!$A$1:$A$893,0))","v":8.6999999999999993},null,{"$f":"INDEX(Backbone!$L$2:$L$893,MATCH(I227,Backbone!$A$2:$A$893,0))","v":9.3000000000000007},null,{"$f":"INDEX(Backbone!$M$2:$M$893,MATCH(I227,Backbone!$A$2:$A$893,0))","v":9},null,{"$f":"INDEX(Backbone!$N$2:$N$893,MATCH(I227,Backbone!$A$2:$A$893,0))","v":10},null,{"$f":"INDEX(Backbone!$O$2:$O$893,MATCH(I227,Backbone!$A$2:$A$893,0))","v":7.8},null,{"$f":"INDEX(Backbone!$P$2:$P$893,MATCH(I227,Backbone!$A$2:$A$893,0))","v":7},null,{"$f":"INDEX(Backbone!$Q$2:$Q$893,MATCH(I227,Backbone!$A$2:$A$893,0))","v":0.85888888888888881},null,null,{"$f":"(AG227*$AG$22+AI227*$AI$22+AK227*$AK$22+AM227*$AM$22+AO227*$AO$22+AQ227*$AQ$22+AS227*$AS$22+AU227*$AU$22+AW227*$AW$22)/(SUM($AG$22:$AW$22)*10)","v":{"$error":"#DIV/0!"}},null,null,"Go to \nToolbox: ",null,{"$f":"HYPERLINK(\"#\"&ADDRESS(MATCH(I227,Toolbox!$C$1:$C$300),1,,,\"Toolbox\"),VLOOKUP(I227,Toolbox!$C$1:$C$300,1,FALSE))","v":"District Health Information Software 2 (DHIS2) "}]
[]
[]
[]
[]
[]
[null,null,null,null,null,null,null,null,{"$f":"Backbone!A166","v":"EMPRES Global Animal Disease Information System (EMPRES-i)"},null,null,null,null,null,null,"A web-based secure information system to support country level veterinary services by facilitating regional and global disease and a global reference database for animal diseases including zoonosis.",null,null,null,null,null,null,null,null,{"$f":"INDEX(Backbone!$R$2:$R$893,MATCH(I233,Backbone!$A$2:$A$893,0))","v":"Hardware or Software"},null,null,null,{"$f":"INDEX(Backbone!$S$2:$S$893,MATCH(I233,Backbone!$A$2:$A$893,0))","v":"Sector Specific; Generalized"},null,null,null,{"$f":"INDEX(Backbone!$H$2:$H$893,MATCH(I233,Backbone!$A$2:$A$893,0))","v":9},null,{"$f":"INDEX(Backbone!$I$2:$I$893,MATCH(I233,Backbone!$A$2:$A$893,0))","v":8.3000000000000007},null,{"$f":"INDEX(Backbone!$J$2:$J$893,MATCH(I233,Backbone!$A$2:$A$893,0))","v":8.9},null,{"$f":"INDEX(Backbone!$K$1:$K$893,MATCH(I233,Backbone!$A$1:$A$893,0))","v":8.6999999999999993},null,{"$f":"INDEX(Backbone!$L$2:$L$893,MATCH(I233,Backbone!$A$2:$A$893,0))","v":8},null,{"$f":"INDEX(Backbone!$M$2:$M$893,MATCH(I233,Backbone!$A$2:$A$893,0))","v":7.8},null,{"$f":"INDEX(Backbone!$N$2:$N$893,MATCH(I233,Backbone!$A$2:$A$893,0))","v":7.4},null,{"$f":"INDEX(Backbone!$O$2:$O$893,MATCH(I233,Backbone!$A$2:$A$893,0))","v":4.8},null,{"$f":"INDEX(Backbone!$P$2:$P$893,MATCH(I233,Backbone!$A$2:$A$893,0))","v":4.7},null,{"$f":"INDEX(Backbone!$Q$2:$Q$893,MATCH(I233,Backbone!$A$2:$A$893,0))","v":0.75111111111111106},null,null,{"$f":"(AG233*$AG$22+AI233*$AI$22+AK233*$AK$22+AM233*$AM$22+AO233*$AO$22+AQ233*$AQ$22+AS233*$AS$22+AU233*$AU$22+AW233*$AW$22)/(SUM($AG$22:$AW$22)*10)","v":{"$error":"#DIV/0!"}},null,null,"Go to \nToolbox: ",null,{"$f":"HYPERLINK(\"#\"&ADDRESS(MATCH(I233,Toolbox!$C$1:$C$300),1,,,\"Toolbox\"),VLOOKUP(I233,Toolbox!$C$1:$C$300,1,FALSE))","v":"EMPRES Global Animal Disease Information System (EMPRES-i)"}]
[]
[]
[]
[]
[]
[null,null,null,null,null,null,null,null,{"$f":"Backbone!A531","v":"Laboratory Information Management System Light (MiniLIMS)"},null,null,null,null,null,null,"An information system for the management of an analysis laboratory which have a simple organization.",null,null,null,null,null,null,null,null,{"$f":"INDEX(Backbone!$R$2:$R$893,MATCH(I239,Backbone!$A$2:$A$893,0))","v":"Hardware or Software"},null,null,null,{"$f":"INDEX(Backbone!$S$2:$S$893,MATCH(I239,Backbone!$A$2:$A$893,0))","v":"Sector Specific; Generalized"},null,null,null,{"$f":"INDEX(Backbone!$H$2:$H$893,MATCH(I239,Backbone!$A$2:$A$893,0))","v":9},null,{"$f":"INDEX(Backbone!$I$2:$I$893,MATCH(I239,Backbone!$A$2:$A$893,0))","v":7.3},null,{"$f":"INDEX(Backbone!$J$2:$J$893,MATCH(I239,Backbone!$A$2:$A$893,0))","v":8.4},null,{"$f":"INDEX(Backbone!$K$1:$K$893,MATCH(I239,Backbone!$A$1:$A$893,0))","v":9.3000000000000007},null,{"$f":"INDEX(Backbone!$L$2:$L$893,MATCH(I239,Backbone!$A$2:$A$893,0))","v":7.2},null,{"$f":"INDEX(Backbone!$M$2:$M$893,MATCH(I239,Backbone!$A$2:$A$893,0))","v":6.5},null,{"$f":"INDEX(Backbone!$N$2:$N$893,MATCH(I239,Backbone!$A$2:$A$893,0))","v":2},null,{"$f":"INDEX(Backbone!$O$2:$O$893,MATCH(I239,Backbone!$A$2:$A$893,0))","v":4.4000000000000004},null,{"$f":"INDEX(Backbone!$P$2:$P$893,MATCH(I239,Backbone!$A$2:$A$893,0))","v":4},null,{"$f":"INDEX(Backbone!$Q$2:$Q$893,MATCH(I239,Backbone!$A$2:$A$893,0))","v":0.64555555555555555},null,null,{"$f":"(AG239*$AG$22+AI239*$AI$22+AK239*$AK$22+AM239*$AM$22+AO239*$AO$22+AQ239*$AQ$22+AS239*$AS$22+AU239*$AU$22+AW239*$AW$22)/(SUM($AG$22:$AW$22)*10)","v":{"$error":"#DIV/0!"}},null,null,"Go to \nToolbox: ",null,{"$f":"HYPERLINK(\"#\"&ADDRESS(MATCH(I239,Toolbox!$C$1:$C$300),1,,,\"Toolbox\"),VLOOKUP(I239,Toolbox!$C$1:$C$300,1,FALSE))","v":"Laboratory Information Management System Light (MiniLIMS)"}]
[]
[]
[]
[]
[]
[null,null,null,null,null,null,null,null,{"$f":"Backbone!A522","v":"Laboratory Information Management System “SILAB for Africa” (SILABFA)"},null,null,null,null,null,null,"A Laboratory Information Management System (LIMS) able to trace all diagnostic steps from Samples Reception up to the Final Reports.",null,null,null,null,null,null,null,null,{"$f":"INDEX(Backbone!$R$2:$R$893,MATCH(I245,Backbone!$A$2:$A$893,0))","v":"Hardware or Software"},null,null,null,{"$f":"INDEX(Backbone!$S$2:$S$893,MATCH(I245,Backbone!$A$2:$A$893,0))","v":"Sector Specific; Generalized"},null,null,null,{"$f":"INDEX(Backbone!$H$2:$H$893,MATCH(I245,Backbone!$A$2:$A$893,0))","v":9.3000000000000007},null,{"$f":"INDEX(Backbone!$I$2:$I$893,MATCH(I245,Backbone!$A$2:$A$893,0))","v":10},null,{"$f":"INDEX(Backbone!$J$2:$J$893,MATCH(I245,Backbone!$A$2:$A$893,0))","v":6.8},null,{"$f":"INDEX(Backbone!$K$1:$K$893,MATCH(I245,Backbone!$A$1:$A$893,0))","v":9.3000000000000007},null,{"$f":"INDEX(Backbone!$L$2:$L$893,MATCH(I245,Backbone!$A$2:$A$893,0))","v":8},null,{"$f":"INDEX(Backbone!$M$2:$M$893,MATCH(I245,Backbone!$A$2:$A$893,0))","v":6.5},null,{"$f":"INDEX(Backbone!$N$2:$N$893,MATCH(I245,Backbone!$A$2:$A$893,0))","v":8},null,{"$f":"INDEX(Backbone!$O$2:$O$893,MATCH(I245,Backbone!$A$2:$A$893,0))","v":7.2},null,{"$f":"INDEX(Backbone!$P$2:$P$893,MATCH(I245,Backbone!$A$2:$A$893,0))","v":8},null,{"$f":"INDEX(Backbone!$Q$2:$Q$893,MATCH(I245,Backbone!$A$2:$A$893,0))","v":0.81222222222222229},null,null,{"$f":"(AG245*$AG$22+AI245*$AI$22+AK245*$AK$22+AM245*$AM$22+AO245*$AO$22+AQ245*$AQ$22+AS245*$AS$22+AU245*$AU$22+AW245*$AW$22)/(SUM($AG$22:$AW$22)*10)","v":{"$error":"#DIV/0!"}},null,null,"Go to \nToolbox: ",null,{"$f":"HYPERLINK(\"#\"&ADDRESS(MATCH(I245,Toolbox!$C$1:$C$300),1,,,\"Toolbox\"),VLOOKUP(I245,Toolbox!$C$1:$C$300,1,FALSE))","v":"Laboratory Information Management System “SILAB for Africa” (SILABFA)"}]

{"sheet":"I5_tools","index":50,"n_rows":233,"n_cols":59,"rows_kept":233,"cut":false,"hidden":false,"merged":[[213,56,217,57],[213,58,217,62],[219,56,223,57],[219,58,223,62],[225,56,229,57],[225,58,229,62],[232,56,236,57],[232,58,236,62],[148,56,152,57],[148,58,152,62],[154,56,158,57],[154,58,158,62],[160,56,164,57],[160,58,164,62],[201,56,205,57],[201,58,205,62],[207,56,211,57],[207,58,211,62],[117,56,121,57],[117,58,121,62],[123,56,127,57],[123,58,127,62],[129,56,133,57],[129,58,133,62],[135,56,139,57],[135,58,139,62],[142,56,146,57],[142,58,146,62],[53,56,57,57],[53,58,57,62],[59,56,63,57],[59,58,63,62],[65,56,69,57],[65,58,69,62],[71,56,75,57],[71,58,75,62],[111,56,115,57],[111,58,115,62],[22,56,26,57],[22,58,26,62],[28,56,32,57],[28,58,32,62],[34,56,38,57],[34,58,38,62],[40,56,44,57],[40,58,44,62],[46,56,50,57],[46,58,50,62],[1,1,3,61],[6,32,20,32],[6,34,20,34],[6,36,20,36],[6,38,20,38],[6,40,20,40],[6,42,20,42],[6,44,20,44],[6,46,20,46],[6,48,20,48],[13,50,20,51],[13,53,20,54],[17,1,75,1],[17,3,20,6],[17,8,20,13],[17,15,20,22],[17,24,20,26],[17,28,20,30],[22,3,50,6],[28,42,32,42],[28,44,32,44],[28,46,32,46],[28,48,32,48],[28,50,32,51],[22,53,26,54],[28,8,32,13],[28,15,32,22],[22,44,26,44],[22,46,26,46],[22,48,26,48],[22,50,26,51],[22,8,26,13],[22,15,26,22],[22,40,26,40],[22,42,26,42],[22,24,26,26],[22,28,26,30],[22,32,26,32],[22,34,26,34],[22,36,26,36],[22,38,26,38],[34,48,38,48],[34,50,38,51],[34,53,38,54],[34,40,38,40],[34,42,38,42],[34,44,38,44],[34,46,38,46],[28,24,32,26],[28,28,32,30],[28,32,32,32],[28,34,32,34],[28,36,32,36],[28,38,32,38],[28,40,32,40],[28,53,32,54],[40,15,44,22],[40,24,44,26],[40,28,44,30],[40,32,44,32],[40,34,44,34],[40,36,44,36],[34,36,38,36],[34,38,38,38],[34,8,38,13],[34,15,38,22],[34,24,38,26],[34,28,38,30],[34,32,38,32],[34,34,38,34],[40,50,44,51],[40,53,44,54],[46,8,50,13],[46,15,50,22],[46,24,50,26],[46,28,50,30],[46,32,50,32],[46,34,50,34],[46,36,50,36],[46,38,50,38],[40,38,44,38],[40,40,44,40],[40,42,44,42],[40,44,44,44],[40,46,44,46],[40,48,44,48],[46,53,50,54],[46,40,50,40],[46,42,50,42],[46,44,50,44],[46,46,50,46],[46,48,50,48],[46,50,50,51],[40,8,44,13],[53,3,75,6],[53,8,57,13],[53,15,57,22],[53,24,57,26],[53,28,57,30],[53,32,57,32],[53,34,57,34],[53,36,57,36],[53,38,57,38],[71,8,75,13],[71,15,75,22],[71,24,75,26],[71,28,75,30],[71,32,75,32],[71,34,75,34],[71,36,75,36],[65,36,69,36],[65,38,69,38],[65,8,69,13],[65,15,69,22],[65,24,69,26],[65,28,69,30],[65,32,69,32],[65,34,69,34],[59,42,63,42],[59,44,63,44],[59,46,63,46],[59,48,63,48],[59,50,63,51],[59,53,63,54],[53,53,57,54],[59,8,63,13],[59,15,63,22],[59,24,63,26],[59,28,63,30],[59,32,63,32],[59,34,63,34],[59,36,63,36],[59,38,63,38],[59,40,63,40],[53,40,57,40],[53,42,57,42],[53,44,57,44],[53,46,57,46],[53,48,57,48],[53,50,57,51],[71,50,75,51],[71,53,75,54],[71,38,75,38],[71,40,75,40],[71,42,75,42],[71,44,75,44],[71,46,75,46],[71,48,75,48],[65,48,69,48],[65,50,69,51],[65,53,69,54],[65,40,69,40],[65,42,69,42],[65,44,69,44],[65,46,69,46],[95,46,109,46],[95,48,109,48],[102,50,109,51],[102,53,109,54],[106,1,164,1],[106,3,109,6],[106,8,109,13],[106,15,109,22],[106,24,109,26],[106,28,109,30],[95,32,109,32],[95,34,109,34],[95,36,109,36],[95,38,109,38],[95,40,109,40],[95,42,109,42],[95,44,109,44],[111,46,115,46],[111,48,115,48],[111,50,115,51],[111,53,115,54],[117,8,121,13],[117,15,121,22],[117,24,121,26],[117,53,121,54],[123,8,127,13],[123,15,127,22],[123,24,127,26],[123,28,127,30],[123,32,127,32],[123,34,127,34],[123,36,127,36],[117,36,121,36],[117,38,121,38],[117,40,121,40],[117,42,121,42],[117,44,121,44],[117,46,121,46],[123,50,127,51],[123,53,127,54],[123,40,127,40],[117,28,121,30],[117,32,121,32],[117,34,121,34],[123,38,127,38],[123,48,127,48],[111,8,115,13],[111,15,115,22],[111,24,115,26],[111,28,115,30],[111,32,115,32],[117,48,121,48],[117,50,121,51],[111,34,115,34],[111,36,115,36],[111,38,115,38],[111,40,115,40],[111,42,115,42],[111,44,115,44],[135,48,139,48],[135,50,139,51],[135,53,139,54],[129,53,133,54],[135,8,139,13],[135,15,139,22],[135,24,139,26],[135,28,139,30],[135,32,139,32],[135,34,139,34],[135,36,139,36],[135,38,139,38],[135,40,139,40],[129,40,133,40],[129,42,133,42],[129,44,133,44],[129,46,133,46],[129,48,133,48],[129,50,133,51],[129,8,133,13],[129,15,133,22],[129,24,133,26],[129,28,133,30],[129,38,133,38],[142,3,164,6],[142,8,146,13],[142,15,146,22],[142,24,146,26],[142,28,146,30],[142,32,146,32],[135,42,139,42],[135,44,139,44],[135,46,139,46],[111,3,139,6],[142,46,146,46],[154,8,158,13],[154,15,158,22],[154,24,158,26],[154,28,158,30],[154,32,158,32],[154,34,158,34],[154,36,158,36],[123,42,127,42],[123,44,127,44],[123,46,127,46],[129,32,133,32],[129,34,133,34],[129,36,133,36],[142,48,146,48],[142,50,146,51],[142,53,146,54],[148,8,152,13],[148,15,152,22],[148,24,152,26],[148,28,152,30],[148,32,152,32],[148,34,152,34],[142,34,146,34],[142,36,146,36],[142,38,146,38],[142,40,146,40],[142,42,146,42],[142,44,146,44],[148,48,152,48],[148,50,152,51],[148,53,152,54],[148,36,152,36],[148,38,152,38],[148,40,152,40],[148,42,152,42],[148,44,152,44],[148,46,152,46],[154,50,158,51],[154,53,158,54],[160,8,164,13],[160,15,164,22],[160,24,164,26],[160,28,164,30],[160,32,164,32],[160,34,164,34],[160,36,164,36],[160,38,164,38],[154,38,158,38],[154,40,158,40],[154,42,158,42],[154,44,158,44],[154,46,158,46],[154,48,158,48],[160,53,164,54],[160,40,164,40],[160,42,164,42],[160,44,164,44],[160,46,164,46],[160,48,164,48],[160,50,164,51],[185,32,199,32],[185,34,199,34],[185,36,199,36],[185,38,199,38],[185,40,199,40],[185,42,199,42],[185,44,199,44],[185,46,199,46],[185,48,199,48],[192,50,199,51],[192,53,199,54],[196,1,236,1],[196,3,199,6],[196,8,199,13],[196,15,199,22],[196,24,199,26],[196,28,199,30],[201,3,229,6],[201,8,205,13],[201,50,205,51],[201,53,205,54],[207,8,211,13],[207,15,211,22],[207,24,211,26],[207,28,211,30],[207,32,211,32],[207,34,211,34],[207,36,211,36],[207,38,211,38],[201,38,205,38],[201,40,205,40],[201,42,205,42],[201,44,205,44],[201,46,205,46],[201,48,205,48],[201,15,205,22],[201,24,205,26],[201,28,205,30],[201,32,205,32],[201,34,205,34],[201,36,205,36],[213,42,217,42],[213,44,217,44],[213,46,217,46],[213,48,217,48],[213,50,217,51],[213,53,217,54],[207,53,211,54],[213,8,217,13],[213,15,217,22],[213,24,217,26],[213,28,217,30],[213,32,217,32],[213,34,217,34],[213,36,217,36],[213,38,217,38],[213,40,217,40],[207,40,211,40],[207,42,211,42],[207,44,211,44],[207,46,211,46],[207,48,211,48],[207,50,211,51],[219,48,223,48],[219,50,223,51],[219,53,223,54],[225,8,229,13],[225,15,229,22],[225,24,229,26],[225,28,229,30],[225,32,229,32],[225,34,229,34],[225,36,229,36],[219,36,223,36],[219,38,223,38],[219,40,223,40],[219,42,223,42],[219,44,223,44],[219,46,223,46],[219,8,223,13],[219,15,223,22],[219,24,223,26],[219,28,223,30],[219,32,223,32],[219,34,223,34],[232,3,236,6],[232,8,236,13],[232,15,236,22],[232,24,236,26],[232,28,236,30],[232,32,236,32],[232,34,236,34],[232,36,236,36],[225,38,229,38],[232,50,236,51],[232,53,236,54],[232,38,236,38],[232,40,236,40],[232,42,236,42],[232,44,236,44],[232,46,236,46],[232,48,236,48],[225,50,229,51],[225,53,229,54],[225,40,229,40],[225,42,229,42],[225,44,229,44],[225,46,229,46],[225,48,229,48]]}
[]
[null,"Data Privacy and Security Measures Resources"]
[]
[]
[]
[]
[null,null,null,null,null,null,null,null,null,null,null,null,null,null,null,null,null,null,null,null,null,null,null,null,null,null,null,null,null,null,null,null,"Accessibility",null,"Language",null,"Ease of use",null,"Flexibility",null,"Data Needs",null,"Data Analysis",null,"Acceptability",null,"One Health",null,"Impact"]
[]
[]
[]
[]
[]
[]
[null,null,null,null,null,null,null,null,null,null,null,null,null,null,null,null,null,null,null,null,null,null,null,null,null,null,null,null,null,null,null,null,null,null,null,null,null,null,null,null,null,null,null,null,null,null,null,null,null,null,"RAW SCORE",null,null,"ADJUSTED SCORE \n(Based on user preferences)"]
[]
[]
[]
[null,"LEVEL 1 RESOURCES",null,"DESIGNATION",null,null,null,null,"RESOURCE NAME",null,null,null,null,null,null,"SHORT DESCRIPTION",null,null,null,null,null,null,null,null,"RESOURCE TYPE",null,null,null,"RESOURCE GENERALITY"]
[]
[]
[]
[null,null,null,null,null,null,null,null,null,null,null,null,null,null,null,null,null,null,null,null,null,null,null,null,null,null,null,null,null,null,null,null,{"$f":"'Attribute Survey'!S22","v":0},null,{"$f":"'Attribute Survey'!S26","v":0},null,{"$f":"'Attribute Survey'!S30","v":0},null,{"$f":"'Attribute Survey'!S34","v":0},null,{"$f":"'Attribute Survey'!S38","v":0},null,{"$f":"'Attribute Survey'!S42","v":0},null,{"$f":"'Attribute Survey'!S46","v":0},null,{"$f":"'Attribute Survey'!S50","v":0},null,{"$f":"'Attribute Survey'!S54","v":0}]
[null,null,null,"Resources Best Fit for Purpose",null,null,null,null,{"$f":"Backbone!A65","v":"District Health Information Software 2 (DHIS2) "},null,null,null,null,null,null,"An open source, web-based health management information system  platform.",null,null,null,null,null,null,null,null,{"$f":"INDEX(Backbone!$R$2:$R$893,MATCH(I23,Backbone!$A$2:$A$893,0))","v":"Hardware or Software"},null,null,null,{"$f":"INDEX(Backbone!$S$2:$S$893,MATCH(I23,Backbone!$A$2:$A$893,0))","v":"Sector Specific; Generalized"},null,null,null,{"$f":"INDEX(Backbone!$H$2:$H$893,MATCH(I23,Backbone!$A$2:$A$893,0))","v":8.8000000000000007},null,{"$f":"INDEX(Backbone!$I$2:$I$893,MATCH(I23,Backbone!$A$2:$A$893,0))","v":8.6999999999999993},null,{"$f":"INDEX(Backbone!$J$2:$J$893,MATCH(I23,Backbone!$A$2:$A$893,0))","v":8},null,{"$f":"INDEX(Backbone!$K$2:$K$893,MATCH(I23,Backbone!$A$2:$A$893,0))","v":8.6999999999999993},null,{"$f":"INDEX(Backbone!$L$2:$L$893,MATCH(I23,Backbone!$A$2:$A$893,0))","v":9.3000000000000007},null,{"$f":"INDEX(Backbone!$M$2:$M$893,MATCH(I23,Backbone!$A$2:$A$893,0))","v":9},null,{"$f":"INDEX(Backbone!$N$2:$N$893,MATCH(I23,Backbone!$A$2:$A$893,0))","v":10},null,{"$f":"INDEX(Backbone!$O$2:$O$893,MATCH(I23,Backbone!$A$2:$A$893,0))","v":7.8},null,{"$f":"INDEX(Backbone!$P$2:$P$893,MATCH(I23,Backbone!$A$2:$A$893,0))","v":7},null,{"$f":"INDEX(Backbone!$Q$2:$Q$893,MATCH(I23,Backbone!$A$2:$A$893,0))","v":0.85888888888888881},null,null,{"$f":"(AG23*$AG$22+AI23*$AI$22+AK23*$AK$22+AM23*$AM$22+AO23*$AO$22+AQ23*$AQ$22+AS23*$AS$22+AU23*$AU$22+AW23*$AW$22)/(SUM($AG$22:$AW$22)*10)","v":{"$error":"#DIV/0!"}},null,null,"Go to \nToolbox: ",null,{"$f":"HYPERLINK(\"#\"&ADDRESS(MATCH(I23,Toolbox!$C$1:$C$300),1,,,\"Toolbox\"),VLOOKUP(I23,Toolbox!$C$1:$C$300,1,FALSE))","v":"District Health Information Software 2 (DHIS2) "}]
[]
[]
[]
[]
[]
[null,null,null,null,null,null,null,null,{"$f":"Backbone!A138","v":"Electronic Integrated Disease Surveillance System (EIDSS)"},null,null,null,null,null,null,"A customizable web-based electronic disease reporting system that can support passive and active human and veterinary health surveillance, laboratory diagnostics, vector surveillance, and outbreak management. ",null,null,null,null,null,null,null,null,{"$f":"INDEX(Backbone!$R$2:$R$893,MATCH(I29,Backbone!$A$2:$A$893,0))","v":"Hardware or Software"},null,null,null,{"$f":"INDEX(Backbone!$S$2:$S$893,MATCH(I29,Backbone!$A$2:$A$893,0))","v":"One Health; Generalized"},null,null,null,{"$f":"INDEX(Backbone!$H$2:$H$893,MATCH(I29,Backbone!$A$2:$A$893,0))","v":6.8},null,{"$f":"INDEX(Backbone!$I$2:$I$893,MATCH(I29,Backbone!$A$2:$A$893,0))","v":10},null,{"$f":"INDEX(Backbone!$J$2:$J$893,MATCH(I29,Backbone!$A$2:$A$893,0))","v":8.4},null,{"$f":"INDEX(Backbone!$K$1:$K$893,MATCH(I29,Backbone!$A$1:$A$893,0))","v":8.6999999999999993},null,{"$f":"INDEX(Backbone!$L$2:$L$893,MATCH(I29,Backbone!$A$2:$A$893,0))","v":9.1},null,{"$f":"INDEX(Backbone!$M$2:$M$893,MATCH(I29,Backbone!$A$2:$A$893,0))","v":8},null,{"$f":"INDEX(Backbone!$N$2:$N$893,MATCH(I29,Backbone!$A$2:$A$893,0))","v":7},null,{"$f":"INDEX(Backbone!$O$2:$O$893,MATCH(I29,Backbone!$A$2:$A$893,0))","v":7.2},null,{"$f":"INDEX(Backbone!$P$2:$P$893,MATCH(I29,Backbone!$A$2:$A$893,0))","v":10},null,{"$f":"INDEX(Backbone!$Q$2:$Q$893,MATCH(I29,Backbone!$A$2:$A$893,0))","v":0.83555555555555561},null,null,{"$f":"(AG29*$AG$22+AI29*$AI$22+AK29*$AK$22+AM29*$AM$22+AO29*$AO$22+AQ29*$AQ$22+AS29*$AS$22+AU29*$AU$22+AW29*$AW$22)/(SUM($AG$22:$AW$22)*10)","v":{"$error":"#DIV/0!"}},null,null,"Go to \nToolbox: ",null,{"$f":"HYPERLINK(\"#\"&ADDRESS(MATCH(I29,Toolbox!$C$1:$C$300),1,,,\"Toolbox\"),VLOOKUP(I29,Toolbox!$C$1:$C$300,1,FALSE))","v":"Electronic Integrated Disease Surveillance System (EIDSS)"}]
[]
[]
[]
[]
[]
[null,null,null,null,null,null,null,null,{"$f":"Backbone!A604","v":"Rabies Exposure and Case Tracker Application (React)"},null,null,null,null,null,null,"A tool to support implementation of Integrated Bite Case Management programs.",null,null,null,null,null,null,null,null,{"$f":"INDEX(Backbone!$R$2:$R$893,MATCH(I35,Backbone!$A$2:$A$893,0))","v":"Hardware or Software"},null,null,null,{"$f":"INDEX(Backbone!$S$2:$S$893,MATCH(I35,Backbone!$A$2:$A$893,0))","v":"One Health; Disease/Threat Specific "},null,null,null,{"$f":"INDEX(Backbone!$H$2:$H$893,MATCH(I35,Backbone!$A$2:$A$893,0))","v":8.6},null,{"$f":"INDEX(Backbone!$I$2:$I$893,MATCH(I35,Backbone!$A$2:$A$893,0))","v":8.6},null,{"$f":"INDEX(Backbone!$J$2:$J$893,MATCH(I35,Backbone!$A$2:$A$893,0))","v":8},null,{"$f":"INDEX(Backbone!$K$1:$K$893,MATCH(I35,Backbone!$A$1:$A$893,0))","v":8.6},null,{"$f":"INDEX(Backbone!$L$2:$L$893,MATCH(I35,Backbone!$A$2:$A$893,0))","v":9.4},null,{"$f":"INDEX(Backbone!$M$2:$M$893,MATCH(I35,Backbone!$A$2:$A$893,0))","v":9.5},null,{"$f":"INDEX(Backbone!$N$2:$N$893,MATCH(I35,Backbone!$A$2:$A$893,0))","v":9},null,{"$f":"INDEX(Backbone!$O$2:$O$893,MATCH(I35,Backbone!$A$2:$A$893,0))","v":9.1999999999999993},null,{"$f":"INDEX(Backbone!$P$2:$P$893,MATCH(I35,Backbone!$A$2:$A$893,0))","v":9},null,{"$f":"INDEX(Backbone!$Q$2:$Q$893,MATCH(I35,Backbone!$A$2:$A$893,0))","v":0.88777777777777767},null,null,{"$f":"(AG35*$AG$22+AI35*$AI$22+AK35*$AK$22+AM35*$AM$22+AO35*$AO$22+AQ35*$AQ$22+AS35*$AS$22+AU35*$AU$22+AW35*$AW$22)/(SUM($AG$22:$AW$22)*10)","v":{"$error":"#DIV/0!"}},null,null,"Go to \nToolbox: ",null,{"$f":"HYPERLINK(\"#\"&ADDRESS(MATCH(I35,Toolbox!$C$1:$C$300),1,,,\"Toolbox\"),VLOOKUP(I35,Toolbox!$C$1:$C$300,1,FALSE))","v":"Rabies Exposure and Case Tracker Application (React)"}]
[]
[]
[]
[]
[]
[null,null,null,null,null,null,null,null,{"$f":"Backbone!A489","v":"The Suite for Automated Global Electronic BioSurveillance (SAGES)"},null,null,null,null,null,null,"A suite of open source software tools designed to enhance electronic disease surveillance in resource-limited settings.",null,null,null,null,null,null,null,null,{"$f":"INDEX(Backbone!$R$2:$R$893,MATCH(I41,Backbone!$A$2:$A$893,0))","v":"Hardware or Software"},null,null,null,{"$f":"INDEX(Backbone!$S$2:$S$893,MATCH(I41,Backbone!$A$2:$A$893,0))","v":"One Health; Generalized"},null,null,null,{"$f":"INDEX(Backbone!$H$2:$H$893,MATCH(I41,Backbone!$A$2:$A$893,0))","v":9.8000000000000007},null,{"$f":"INDEX(Backbone!$I$2:$I$893,MATCH(I41,Backbone!$A$2:$A$893,0))","v":10},null,{"$f":"INDEX(Backbone!$J$2:$J$893,MATCH(I41,Backbone!$A$2:$A$893,0))","v":10},null,{"$f":"INDEX(Backbone!$K$1:$K$893,MATCH(I41,Backbone!$A$1:$A$893,0))","v":9.3000000000000007},null,{"$f":"INDEX(Backbone!$L$2:$L$893,MATCH(I41,Backbone!$A$2:$A$893,0))","v":8.5},null,{"$f":"INDEX(Backbone!$M$2:$M$893,MATCH(I41,Backbone!$A$2:$A$893,0))","v":9},null,{"$f":"INDEX(Backbone!$N$2:$N$893,MATCH(I41,Backbone!$A$2:$A$893,0))","v":5.5},null,{"$f":"INDEX(Backbone!$O$2:$O$893,MATCH(I41,Backbone!$A$2:$A$893,0))","v":9.5},null,{"$f":"INDEX(Backbone!$P$2:$P$893,MATCH(I41,Backbone!$A$2:$A$893,0))","v":7},null,{"$f":"INDEX(Backbone!$Q$2:$Q$893,MATCH(I41,Backbone!$A$2:$A$893,0))","v":0.87333333333333329},null,null,{"$f":"(AG41*$AG$22+AI41*$AI$22+AK41*$AK$22+AM41*$AM$22+AO41*$AO$22+AQ41*$AQ$22+AS41*$AS$22+AU41*$AU$22+AW41*$AW$22)/(SUM($AG$22:$AW$22)*10)","v":{"$error":"#DIV/0!"}},null,null,"Go to \nToolbox: ",null,{"$f":"HYPERLINK(\"#\"&ADDRESS(MATCH(I41,Toolbox!$C$1:$C$300),1,,,\"Toolbox\"),VLOOKUP(I41,Toolbox!$C$1:$C$300,1,FALSE))","v":"The Suite for Automated Global Electronic BioSurveillance (SAGES)"}]
[]
[]
[]
[]
[]
[null,null,null,null,null,null,null,null,{"$f":"Backbone!A540","v":"Surveillance Outbreak Response Management and Analysis System (SORMAS)"},null,null,null,null,null,null,"An open source mobile eHealth System that processes disease control and outbreak management procedures in addition to surveillance and early detection of outbreaks through real-time digital surveillance.",null,null,null,null,null,null,null,null,{"$f":"INDEX(Backbone!$R$2:$R$893,MATCH(I47,Backbone!$A$2:$A$893,0))","v":"Hardware or Software"},null,null,null,{"$f":"INDEX(Backbone!$S$2:$S$893,MATCH(I47,Backbone!$A$2:$A$893,0))","v":"Sector Specific; Generalized"},null,null,null,{"$f":"INDEX(Backbone!$H$2:$H$893,MATCH(I47,Backbone!$A$2:$A$893,0))","v":9.1999999999999993},null,{"$f":"INDEX(Backbone!$I$2:$I$893,MATCH(I47,Backbone!$A$2:$A$893,0))","v":8},null,{"$f":"INDEX(Backbone!$J$2:$J$893,MATCH(I47,Backbone!$A$2:$A$893,0))","v":9.3000000000000007},null,{"$f":"INDEX(Backbone!$K$1:$K$893,MATCH(I47,Backbone!$A$1:$A$893,0))","v":9.1},null,{"$f":"INDEX(Backbone!$L$2:$L$893,MATCH(I47,Backbone!$A$2:$A$893,0))","v":9.3000000000000007},null,{"$f":"INDEX(Backbone!$M$2:$M$893,MATCH(I47,Backbone!$A$2:$A$893,0))","v":9.3000000000000007},null,{"$f":"INDEX(Backbone!$N$2:$N$893,MATCH(I47,Backbone!$A$2:$A$893,0))","v":6.8},null,{"$f":"INDEX(Backbone!$O$2:$O$893,MATCH(I47,Backbone!$A$2:$A$893,0))","v":3.9},null,{"$f":"INDEX(Backbone!$P$2:$P$893,MATCH(I47,Backbone!$A$2:$A$893,0))","v":5.3},null,{"$f":"INDEX(Backbone!$Q$2:$Q$893,MATCH(I47,Backbone!$A$2:$A$893,0))","v":0.78},null,null,{"$f":"(AG47*$AG$22+AI47*$AI$22+AK47*$AK$22+AM47*$AM$22+AO47*$AO$22+AQ47*$AQ$22+AS47*$AS$22+AU47*$AU$22+AW47*$AW$22)/(SUM($AG$22:$AW$22)*10)","v":{"$error":"#DIV/0!"}},null,null,"Go to \nToolbox: ",null,{"$f":"HYPERLINK(\"#\"&ADDRESS(MATCH(I47,Toolbox!$C$1:$C$300),1,,,\"Toolbox\"),VLOOKUP(I47,Toolbox!$C$1:$C$300,1,FALSE))","v":"Surveillance Outbreak Response Management and Analysis System (SORMAS)"}]
[]
[]
[]
[]
[]
[]
[null,null,null,"Other Relevant Resources",null,null,null,null,{"$f":"Backbone!A42","v":"APHL Informatics  Self-Assessment Tool"},null,null,null,null,null,null,"A tool that allows public health laboratories to assess strengths and gaps in informatics capability by addressing 19 critical operational areas.",null,null,null,null,null,null,null,null,{"$f":"INDEX(Backbone!$R$2:$R$893,MATCH(I54,Backbone!$A$2:$A$893,0))","v":"Guidance document"},null,null,null,{"$f":"INDEX(Backbone!$S$2:$S$893,MATCH(I54,Backbone!$A$2:$A$893,0))","v":"Sector Specific; Generalized"},null,null,null,{"$f":"INDEX(Backbone!$H$2:$H$893,MATCH(I54,Backbone!$A$2:$A$893,0))","v":9.1},null,{"$f":"INDEX(Backbone!$I$2:$I$893,MATCH(I54,Backbone!$A$2:$A$893,0))","v":6.7},null,{"$f":"INDEX(Backbone!$J$2:$J$893,MATCH(I54,Backbone!$A$2:$A$893,0))","v":8.3000000000000007},null,{"$f":"INDEX(Backbone!$K$1:$K$893,MATCH(I54,Backbone!$A$1:$A$893,0))","v":8.4},null,{"$f":"INDEX(Backbone!$L$2:$L$893,MATCH(I54,Backbone!$A$2:$A$893,0))","v":8.1},null,{"$f":"INDEX(Backbone!$M$2:$M$893,MATCH(I54,Backbone!$A$2:$A$893,0))","v":8.5},null,{"$f":"INDEX(Backbone!$N$2:$N$893,MATCH(I54,Backbone!$A$2:$A$893,0))","v":5},null,{"$f":"INDEX(Backbone!$O$2:$O$893,MATCH(I54,Backbone!$A$2:$A$893,0))","v":6.1},null,{"$f":"INDEX(Backbone!$P$2:$P$893,MATCH(I54,Backbone!$A$2:$A$893,0))","v":4.3},null,{"$f":"INDEX(Backbone!$Q$2:$Q$893,MATCH(I54,Backbone!$A$2:$A$893,0))","v":0.71666666666666667},null,null,{"$f":"(AG54*$AG$22+AI54*$AI$22+AK54*$AK$22+AM54*$AM$22+AO54*$AO$22+AQ54*$AQ$22+AS54*$AS$22+AU54*$AU$22+AW54*$AW$22)/(SUM($AG$22:$AW$22)*10)","v":{"$error":"#DIV/0!"}},null,null,"Go to \nToolbox: ",null,{"$f":"HYPERLINK(\"#\"&ADDRESS(MATCH(I54,Toolbox!$C$1:$C$300),1,,,\"Toolbox\"),VLOOKUP(I54,Toolbox!$C$1:$C$300,1,FALSE))","v":"APHL Informatics  Self-Assessment Tool"}]
[]
[]
[]
[]
[]
[null,null,null,null,null,null,null,null,{"$f":"Backbone!A166","v":"EMPRES Global Animal Disease Information System (EMPRES-i)"},null,null,null,null,null,null,"A web-based secure information system to support country level veterinary services by facilitating regional and global disease and a global reference database for animal diseases including zoonosis.",null,null,null,null,null,null,null,null,{"$f":"INDEX(Backbone!$R$2:$R$893,MATCH(I60,Backbone!$A$2:$A$893,0))","v":"Hardware or Software"},null,null,null,{"$f":"INDEX(Backbone!$S$2:$S$893,MATCH(I60,Backbone!$A$2:$A$893,0))","v":"Sector Specific; Generalized"},null,null,null,{"$f":"INDEX(Backbone!$H$2:$H$893,MATCH(I60,Backbone!$A$2:$A$893,0))","v":9},null,{"$f":"INDEX(Backbone!$I$2:$I$893,MATCH(I60,Backbone!$A$2:$A$893,0))","v":8.3000000000000007},null,{"$f":"INDEX(Backbone!$J$2:$J$893,MATCH(I60,Backbone!$A$2:$A$893,0))","v":8.9},null,{"$f":"INDEX(Backbone!$K$1:$K$893,MATCH(I60,Backbone!$A$1:$A$893,0))","v":8.6999999999999993},null,{"$f":"INDEX(Backbone!$L$2:$L$893,MATCH(I60,Backbone!$A$2:$A$893,0))","v":8},null,{"$f":"INDEX(Backbone!$M$2:$M$893,MATCH(I60,Backbone!$A$2:$A$893,0))","v":7.8},null,{"$f":"INDEX(Backbone!$N$2:$N$893,MATCH(I60,Backbone!$A$2:$A$893,0))","v":7.4},null,{"$f":"INDEX(Backbone!$O$2:$O$893,MATCH(I60,Backbone!$A$2:$A$893,0))","v":4.8},null,{"$f":"INDEX(Backbone!$P$2:$P$893,MATCH(I60,Backbone!$A$2:$A$893,0))","v":4.7},null,{"$f":"INDEX(Backbone!$Q$2:$Q$893,MATCH(I60,Backbone!$A$2:$A$893,0))","v":0.75111111111111106},null,null,{"$f":"(AG60*$AG$22+AI60*$AI$22+AK60*$AK$22+AM60*$AM$22+AO60*$AO$22+AQ60*$AQ$22+AS60*$AS$22+AU60*$AU$22+AW60*$AW$22)/(SUM($AG$22:$AW$22)*10)","v":{"$error":"#DIV/0!"}},null,null,"Go to \nToolbox: ",null,{"$f":"HYPERLINK(\"#\"&ADDRESS(MATCH(I60,Toolbox!$C$1:$C$300),1,,,\"Toolbox\"),VLOOKUP(I60,Toolbox!$C$1:$C$300,1,FALSE))","v":"EMPRES Global Animal Disease Information System (EMPRES-i)"}]
[]
[]
[]
[]
[]
[null,null,null,null,null,null,null,null,{"$f":"Backbone!A531","v":"Laboratory Information Management System Light (MiniLIMS)"},null,null,null,null,null,null,"An information system for the management of an analysis laboratory which have a simple organization.",null,null,null,null,null,null,null,null,{"$f":"INDEX(Backbone!$R$2:$R$893,MATCH(I66,Backbone!$A$2:$A$893,0))","v":"Hardware or Software"},null,null,null,{"$f":"INDEX(Backbone!$S$2:$S$893,MATCH(I66,Backbone!$A$2:$A$893,0))","v":"Sector Specific; Generalized"},null,null,null,{"$f":"INDEX(Backbone!$H$2:$H$893,MATCH(I66,Backbone!$A$2:$A$893,0))","v":9},null,{"$f":"INDEX(Backbone!$I$2:$I$893,MATCH(I66,Backbone!$A$2:$A$893,0))","v":7.3},null,{"$f":"INDEX(Backbone!$J$2:$J$893,MATCH(I66,Backbone!$A$2:$A$893,0))","v":8.4},null,{"$f":"INDEX(Backbone!$K$1:$K$893,MATCH(I66,Backbone!$A$1:$A$893,0))","v":9.3000000000000007},null,{"$f":"INDEX(Backbone!$L$2:$L$893,MATCH(I66,Backbone!$A$2:$A$893,0))","v":7.2},null,{"$f":"INDEX(Backbone!$M$2:$M$893,MATCH(I66,Backbone!$A$2:$A$893,0))","v":6.5},null,{"$f":"INDEX(Backbone!$N$2:$N$893,MATCH(I66,Backbone!$A$2:$A$893,0))","v":2},null,{"$f":"INDEX(Backbone!$O$2:$O$893,MATCH(I66,Backbone!$A$2:$A$893,0))","v":4.4000000000000004},null,{"$f":"INDEX(Backbone!$P$2:$P$893,MATCH(I66,Backbone!$A$2:$A$893,0))","v":4},null,{"$f":"INDEX(Backbone!$Q$2:$Q$893,MATCH(I66,Backbone!$A$2:$A$893,0))","v":0.64555555555555555},null,null,{"$f":"(AG66*$AG$22+AI66*$AI$22+AK66*$AK$22+AM66*$AM$22+AO66*$AO$22+AQ66*$AQ$22+AS66*$AS$22+AU66*$AU$22+AW66*$AW$22)/(SUM($AG$22:$AW$22)*10)","v":{"$error":"#DIV/0!"}},null,null,"Go to \nToolbox: ",null,{"$f":"HYPERLINK(\"#\"&ADDRESS(MATCH(I66,Toolbox!$C$1:$C$300),1,,,\"Toolbox\"),VLOOKUP(I66,Toolbox!$C$1:$C$300,1,FALSE))","v":"Laboratory Information Management System Light (MiniLIMS)"}]
[]
[]
[]
[]
[]
[null,null,null,null,null,null,null,null,{"$f":"Backbone!A522","v":"Laboratory Information Management System “SILAB for Africa” (SILABFA)"},null,null,null,null,null,null,"A Laboratory Information Management System (LIMS) able to trace all diagnostic steps from Samples Reception up to the Final Reports.",null,null,null,null,null,null,null,null,{"$f":"INDEX(Backbone!$R$2:$R$893,MATCH(I72,Backbone!$A$2:$A$893,0))","v":"Hardware or Software"},null,null,null,{"$f":"INDEX(Backbone!$S$2:$S$893,MATCH(I72,Backbone!$A$2:$A$893,0))","v":"Sector Specific; Generalized"},null,null,null,{"$f":"INDEX(Backbone!$H$2:$H$893,MATCH(I72,Backbone!$A$2:$A$893,0))","v":9.3000000000000007},null,{"$f":"INDEX(Backbone!$I$2:$I$893,MATCH(I72,Backbone!$A$2:$A$893,0))","v":10},null,{"$f":"INDEX(Backbone!$J$2:$J$893,MATCH(I72,Backbone!$A$2:$A$893,0))","v":6.8},null,{"$f":"INDEX(Backbone!$K$1:$K$893,MATCH(I72,Backbone!$A$1:$A$893,0))","v":9.3000000000000007},null,{"$f":"INDEX(Backbone!$L$2:$L$893,MATCH(I72,Backbone!$A$2:$A$893,0))","v":8},null,{"$f":"INDEX(Backbone!$M$2:$M$893,MATCH(I72,Backbone!$A$2:$A$893,0))","v":6.5},null,{"$f":"INDEX(Backbone!$N$2:$N$893,MATCH(I72,Backbone!$A$2:$A$893,0))","v":8},null,{"$f":"INDEX(Backbone!$O$2:$O$893,MATCH(I72,Backbone!$A$2:$A$893,0))","v":7.2},null,{"$f":"INDEX(Backbone!$P$2:$P$893,MATCH(I72,Backbone!$A$2:$A$893,0))","v":8},null,{"$f":"INDEX(Backbone!$Q$2:$Q$893,MATCH(I72,Backbone!$A$2:$A$893,0))","v":0.81222222222222229},null,null,{"$f":"(AG72*$AG$22+AI72*$AI$22+AK72*$AK$22+AM72*$AM$22+AO72*$AO$22+AQ72*$AQ$22+AS72*$AS$22+AU72*$AU$22+AW72*$AW$22)/(SUM($AG$22:$AW$22)*10)","v":{"$error":"#DIV/0!"}},null,null,"Go to \nToolbox: ",null,{"$f":"HYPERLINK(\"#\"&ADDRESS(MATCH(I72,Toolbox!$C$1:$C$300),1,,,\"Toolbox\"),VLOOKUP(I72,Toolbox!$C$1:$C$300,1,FALSE))","v":"Laboratory Information Management System “SILAB for Africa” (SILABFA)"}]
[]
[]
[]
[]
[]
[]
[]
[]
[]
[]
[]
[]
[]
[]
[]
[]
[]
[]
[]
[]
[]
[]
[]
[null,null,null,null,null,null,null,null,null,null,null,null,null,null,null,null,null,null,null,null,null,null,null,null,null,null,null,null,null,null,null,null,"Accessibility",null,"Language",null,"Ease of use",null,"Flexibility",null,"Data Needs",null,"Data Analysis",null,"Acceptability",null,"One Health",null,"Impact"]
[]
[]
[]
[]
[]
[]
[null,null,null,null,null,null,null,null,null,null,null,null,null,null,null,null,null,null,null,null,null,null,null,null,null,null,null,null,null,null,null,null,null,null,null,null,null,null,null,null,null,null,null,null,null,null,null,null,null,null,"RAW SCORE",null,null,"ADJUSTED SCORE \n(Based on user preferences)"]
[]
[]
[]
[null,"LEVEL 2 RESOURCES",null,"DESIGNATION",null,null,null,null,"RESOURCE NAME",null,null,null,null,null,null,"SHORT DESCRIPTION",null,null,null,null,null,null,null,null,"RESOURCE TYPE",null,null,null,"RESOURCE GENERALITY"]
[]
[]
[]
[null,null,null,null,null,null,null,null,null,null,null,null,null,null,null,null,null,null,null,null,null,null,null,null,null,null,null,null,null,null,null,null,{"$f":"'Attribute Survey'!S111","v":0},null,{"$f":"'Attribute Survey'!S115","v":0},null,{"$f":"'Attribute Survey'!S119","v":0},null,{"$f":"'Attribute Survey'!S123","v":0},null,{"$f":"'Attribute Survey'!S127","v":0},null,{"$f":"'Attribute Survey'!S131","v":0},null,{"$f":"'Attribute Survey'!S135","v":0},null,{"$f":"'Attribute Survey'!S139","v":0},null,{"$f":"'Attribute Survey'!S143","v":0}]
[null,null,null,"Resources Best Fit for Purpose",null,null,null,null,{"$f":"Backbone!A65","v":"District Health Information Software 2 (DHIS2) "},null,null,null,null,null,null,"An open source, web-based health management information system  platform.",null,null,null,null,null,null,null,null,{"$f":"INDEX(Backbone!$R$2:$R$893,MATCH(I112,Backbone!$A$2:$A$893,0))","v":"Hardware or Software"},null,null,null,{"$f":"INDEX(Backbone!$S$2:$S$893,MATCH(I112,Backbone!$A$2:$A$893,0))","v":"Sector Specific; Generalized"},null,null,null,{"$f":"INDEX(Backbone!$H$2:$H$893,MATCH(I112,Backbone!$A$2:$A$893,0))","v":8.8000000000000007},null,{"$f":"INDEX(Backbone!$I$2:$I$893,MATCH(I112,Backbone!$A$2:$A$893,0))","v":8.6999999999999993},null,{"$f":"INDEX(Backbone!$J$2:$J$893,MATCH(I112,Backbone!$A$2:$A$893,0))","v":8},null,{"$f":"INDEX(Backbone!$K$2:$K$893,MATCH(I112,Backbone!$A$2:$A$893,0))","v":8.6999999999999993},null,{"$f":"INDEX(Backbone!$L$2:$L$893,MATCH(I112,Backbone!$A$2:$A$893,0))","v":9.3000000000000007},null,{"$f":"INDEX(Backbone!$M$2:$M$893,MATCH(I112,Backbone!$A$2:$A$893,0))","v":9},null,{"$f":"INDEX(Backbone!$N$2:$N$893,MATCH(I112,Backbone!$A$2:$A$893,0))","v":10},null,{"$f":"INDEX(Backbone!$O$2:$O$893,MATCH(I112,Backbone!$A$2:$A$893,0))","v":7.8},null,{"$f":"INDEX(Backbone!$P$2:$P$893,MATCH(I112,Backbone!$A$2:$A$893,0))","v":7},null,{"$f":"INDEX(Backbone!$Q$2:$Q$893,MATCH(I112,Backbone!$A$2:$A$893,0))","v":0.85888888888888881},null,null,{"$f":"(AG112*$AG$22+AI112*$AI$22+AK112*$AK$22+AM112*$AM$22+AO112*$AO$22+AQ112*$AQ$22+AS112*$AS$22+AU112*$AU$22+AW112*$AW$22)/(SUM($AG$22:$AW$22)*10)","v":{"$error":"#DIV/0!"}},null,null,"Go to \nToolbox: ",null,{"$f":"HYPERLINK(\"#\"&ADDRESS(MATCH(I112,Toolbox!$C$1:$C$300),1,,,\"Toolbox\"),VLOOKUP(I112,Toolbox!$C$1:$C$300,1,FALSE))","v":"District Health Information Software 2 (DHIS2) "}]
[]
[]
[]
[]
[]
[null,null,null,null,null,null,null,null,{"$f":"Backbone!A138","v":"Electronic Integrated Disease Surveillance System (EIDSS)"},null,null,null,null,null,null,"A customizable web-based electronic disease reporting system that can support passive and active human and veterinary health surveillance, laboratory diagnostics, vector surveillance, and outbreak management. ",null,null,null,null,null,null,null,null,{"$f":"INDEX(Backbone!$R$2:$R$893,MATCH(I118,Backbone!$A$2:$A$893,0))","v":"Hardware or Software"},null,null,null,{"$f":"INDEX(Backbone!$S$2:$S$893,MATCH(I118,Backbone!$A$2:$A$893,0))","v":"One Health; Generalized"},null,null,null,{"$f":"INDEX(Backbone!$H$2:$H$893,MATCH(I118,Backbone!$A$2:$A$893,0))","v":6.8},null,{"$f":"INDEX(Backbone!$I$2:$I$893,MATCH(I118,Backbone!$A$2:$A$893,0))","v":10},null,{"$f":"INDEX(Backbone!$J$2:$J$893,MATCH(I118,Backbone!$A$2:$A$893,0))","v":8.4},null,{"$f":"INDEX(Backbone!$K$1:$K$893,MATCH(I118,Backbone!$A$1:$A$893,0))","v":8.6999999999999993},null,{"$f":"INDEX(Backbone!$L$2:$L$893,MATCH(I118,Backbone!$A$2:$A$893,0))","v":9.1},null,{"$f":"INDEX(Backbone!$M$2:$M$893,MATCH(I118,Backbone!$A$2:$A$893,0))","v":8},null,{"$f":"INDEX(Backbone!$N$2:$N$893,MATCH(I118,Backbone!$A$2:$A$893,0))","v":7},null,{"$f":"INDEX(Backbone!$O$2:$O$893,MATCH(I118,Backbone!$A$2:$A$893,0))","v":7.2},null,{"$f":"INDEX(Backbone!$P$2:$P$893,MATCH(I118,Backbone!$A$2:$A$893,0))","v":10},null,{"$f":"INDEX(Backbone!$Q$2:$Q$893,MATCH(I118,Backbone!$A$2:$A$893,0))","v":0.83555555555555561},null,null,{"$f":"(AG118*$AG$22+AI118*$AI$22+AK118*$AK$22+AM118*$AM$22+AO118*$AO$22+AQ118*$AQ$22+AS118*$AS$22+AU118*$AU$22+AW118*$AW$22)/(SUM($AG$22:$AW$22)*10)","v":{"$error":"#DIV/0!"}},null,null,"Go to \nToolbox: ",null,{"$f":"HYPERLINK(\"#\"&ADDRESS(MATCH(I118,Toolbox!$C$1:$C$300),1,,,\"Toolbox\"),VLOOKUP(I118,Toolbox!$C$1:$C$300,1,FALSE))","v":"Electronic Integrated Disease Surveillance System (EIDSS)"}]
[]
[]
[]
[]
[]
[null,null,null,null,null,null,null,null,{"$f":"Backbone!A604","v":"Rabies Exposure and Case Tracker Application (React)"},null,null,null,null,null,null,"A tool to support implementation of Integrated Bite Case Management programs.",null,null,null,null,null,null,null,null,{"$f":"INDEX(Backbone!$R$2:$R$893,MATCH(I124,Backbone!$A$2:$A$893,0))","v":"Hardware or Software"},null,null,null,{"$f":"INDEX(Backbone!$S$2:$S$893,MATCH(I124,Backbone!$A$2:$A$893,0))","v":"One Health; Disease/Threat Specific "},null,null,null,{"$f":"INDEX(Backbone!$H$2:$H$893,MATCH(I124,Backbone!$A$2:$A$893,0))","v":8.6},null,{"$f":"INDEX(Backbone!$I$2:$I$893,MATCH(I124,Backbone!$A$2:$A$893,0))","v":8.6},null,{"$f":"INDEX(Backbone!$J$2:$J$893,MATCH(I124,Backbone!$A$2:$A$893,0))","v":8},null,{"$f":"INDEX(Backbone!$K$1:$K$893,MATCH(I124,Backbone!$A$1:$A$893,0))","v":8.6},null,{"$f":"INDEX(Backbone!$L$2:$L$893,MATCH(I124,Backbone!$A$2:$A$893,0))","v":9.4},null,{"$f":"INDEX(Backbone!$M$2:$M$893,MATCH(I124,Backbone!$A$2:$A$893,0))","v":9.5},null,{"$f":"INDEX(Backbone!$N$2:$N$893,MATCH(I124,Backbone!$A$2:$A$893,0))","v":9},null,{"$f":"INDEX(Backbone!$O$2:$O$893,MATCH(I124,Backbone!$A$2:$A$893,0))","v":9.1999999999999993},null,{"$f":"INDEX(Backbone!$P$2:$P$893,MATCH(I124,Backbone!$A$2:$A$893,0))","v":9},null,{"$f":"INDEX(Backbone!$Q$2:$Q$893,MATCH(I124,Backbone!$A$2:$A$893,0))","v":0.88777777777777767},null,null,{"$f":"(AG124*$AG$22+AI124*$AI$22+AK124*$AK$22+AM124*$AM$22+AO124*$AO$22+AQ124*$AQ$22+AS124*$AS$22+AU124*$AU$22+AW124*$AW$22)/(SUM($AG$22:$AW$22)*10)","v":{"$error":"#DIV/0!"}},null,null,"Go to \nToolbox: ",null,{"$f":"HYPERLINK(\"#\"&ADDRESS(MATCH(I124,Toolbox!$C$1:$C$300),1,,,\"Toolbox\"),VLOOKUP(I124,Toolbox!$C$1:$C$300,1,FALSE))","v":"Rabies Exposure and Case Tracker Application (React)"}]
[]
[]
[]
[]
[]
[null,null,null,null,null,null,null,null,{"$f":"Backbone!A489","v":"The Suite for Automated Global Electronic BioSurveillance (SAGES)"},null,null,null,null,null,null,"A suite of open source software tools designed to enhance electronic disease surveillance in resource-limited settings.",null,null,null,null,null,null,null,null,{"$f":"INDEX(Backbone!$R$2:$R$893,MATCH(I130,Backbone!$A$2:$A$893,0))","v":"Hardware or Software"},null,null,null,{"$f":"INDEX(Backbone!$S$2:$S$893,MATCH(I130,Backbone!$A$2:$A$893,0))","v":"One Health; Generalized"},null,null,null,{"$f":"INDEX(Backbone!$H$2:$H$893,MATCH(I130,Backbone!$A$2:$A$893,0))","v":9.8000000000000007},null,{"$f":"INDEX(Backbone!$I$2:$I$893,MATCH(I130,Backbone!$A$2:$A$893,0))","v":10},null,{"$f":"INDEX(Backbone!$J$2:$J$893,MATCH(I130,Backbone!$A$2:$A$893,0))","v":10},null,{"$f":"INDEX(Backbone!$K$1:$K$893,MATCH(I130,Backbone!$A$1:$A$893,0))","v":9.3000000000000007},null,{"$f":"INDEX(Backbone!$L$2:$L$893,MATCH(I130,Backbone!$A$2:$A$893,0))","v":8.5},null,{"$f":"INDEX(Backbone!$M$2:$M$893,MATCH(I130,Backbone!$A$2:$A$893,0))","v":9},null,{"$f":"INDEX(Backbone!$N$2:$N$893,MATCH(I130,Backbone!$A$2:$A$893,0))","v":5.5},null,{"$f":"INDEX(Backbone!$O$2:$O$893,MATCH(I130,Backbone!$A$2:$A$893,0))","v":9.5},null,{"$f":"INDEX(Backbone!$P$2:$P$893,MATCH(I130,Backbone!$A$2:$A$893,0))","v":7},null,{"$f":"INDEX(Backbone!$Q$2:$Q$893,MATCH(I130,Backbone!$A$2:$A$893,0))","v":0.87333333333333329},null,null,{"$f":"(AG130*$AG$22+AI130*$AI$22+AK130*$AK$22+AM130*$AM$22+AO130*$AO$22+AQ130*$AQ$22+AS130*$AS$22+AU130*$AU$22+AW130*$AW$22)/(SUM($AG$22:$AW$22)*10)","v":{"$error":"#DIV/0!"}},null,null,"Go to \nToolbox: ",null,{"$f":"HYPERLINK(\"#\"&ADDRESS(MATCH(I130,Toolbox!$C$1:$C$300),1,,,\"Toolbox\"),VLOOKUP(I130,Toolbox!$C$1:$C$300,1,FALSE))","v":"The Suite for Automated Global Electronic BioSurveillance (SAGES)"}]
[]
[]
[]
[]
[]
[null,null,null,null,null,null,null,null,{"$f":"Backbone!A540","v":"Surveillance Outbreak Response Management and Analysis System (SORMAS)"},null,null,null,null,null,null,"An open source mobile eHealth System that processes disease control and outbreak management procedures in addition to surveillance and early detection of outbreaks through real-time digital surveillance.",null,null,null,null,null,null,null,null,{"$f":"INDEX(Backbone!$R$2:$R$893,MATCH(I136,Backbone!$A$2:$A$893,0))","v":"Hardware or Software"},null,null,null,{"$f":"INDEX(Backbone!$S$2:$S$893,MATCH(I136,Backbone!$A$2:$A$893,0))","v":"Sector Specific; Generalized"},null,null,null,{"$f":"INDEX(Backbone!$H$2:$H$893,MATCH(I136,Backbone!$A$2:$A$893,0))","v":9.1999999999999993},null,{"$f":"INDEX(Backbone!$I$2:$I$893,MATCH(I136,Backbone!$A$2:$A$893,0))","v":8},null,{"$f":"INDEX(Backbone!$J$2:$J$893,MATCH(I136,Backbone!$A$2:$A$893,0))","v":9.3000000000000007},null,{"$f":"INDEX(Backbone!$K$1:$K$893,MATCH(I136,Backbone!$A$1:$A$893,0))","v":9.1},null,{"$f":"INDEX(Backbone!$L$2:$L$893,MATCH(I136,Backbone!$A$2:$A$893,0))","v":9.3000000000000007},null,{"$f":"INDEX(Backbone!$M$2:$M$893,MATCH(I136,Backbone!$A$2:$A$893,0))","v":9.3000000000000007},null,{"$f":"INDEX(Backbone!$N$2:$N$893,MATCH(I136,Backbone!$A$2:$A$893,0))","v":6.8},null,{"$f":"INDEX(Backbone!$O$2:$O$893,MATCH(I136,Backbone!$A$2:$A$893,0))","v":3.9},null,{"$f":"INDEX(Backbone!$P$2:$P$893,MATCH(I136,Backbone!$A$2:$A$893,0))","v":5.3},null,{"$f":"INDEX(Backbone!$Q$2:$Q$893,MATCH(I136,Backbone!$A$2:$A$893,0))","v":0.78},null,null,{"$f":"(AG136*$AG$22+AI136*$AI$22+AK136*$AK$22+AM136*$AM$22+AO136*$AO$22+AQ136*$AQ$22+AS136*$AS$22+AU136*$AU$22+AW136*$AW$22)/(SUM($AG$22:$AW$22)*10)","v":{"$error":"#DIV/0!"}},null,null,"Go to \nToolbox: ",null,{"$f":"HYPERLINK(\"#\"&ADDRESS(MATCH(I136,Toolbox!$C$1:$C$300),1,,,\"Toolbox\"),VLOOKUP(I136,Toolbox!$C$1:$C$300,1,FALSE))","v":"Surveillance Outbreak Response Management and Analysis System (SORMAS)"}]
[]
[]
[]
[]
[]
[]
[null,null,null,"Other Relevant Resources",null,null,null,null,{"$f":"Backbone!A42","v":"APHL Informatics  Self-Assessment Tool"},null,null,null,null,null,null,"A tool that allows public health laboratories to assess strengths and gaps in informatics capability by addressing 19 critical operational areas.",null,null,null,null,null,null,null,null,{"$f":"INDEX(Backbone!$R$2:$R$893,MATCH(I143,Backbone!$A$2:$A$893,0))","v":"Guidance document"},null,null,null,{"$f":"INDEX(Backbone!$S$2:$S$893,MATCH(I143,Backbone!$A$2:$A$893,0))","v":"Sector Specific; Generalized"},null,null,null,{"$f":"INDEX(Backbone!$H$2:$H$893,MATCH(I143,Backbone!$A$2:$A$893,0))","v":9.1},null,{"$f":"INDEX(Backbone!$I$2:$I$893,MATCH(I143,Backbone!$A$2:$A$893,0))","v":6.7},null,{"$f":"INDEX(Backbone!$J$2:$J$893,MATCH(I143,Backbone!$A$2:$A$893,0))","v":8.3000000000000007},null,{"$f":"INDEX(Backbone!$K$1:$K$893,MATCH(I143,Backbone!$A$1:$A$893,0))","v":8.4},null,{"$f":"INDEX(Backbone!$L$2:$L$893,MATCH(I143,Backbone!$A$2:$A$893,0))","v":8.1},null,{"$f":"INDEX(Backbone!$M$2:$M$893,MATCH(I143,Backbone!$A$2:$A$893,0))","v":8.5},null,{"$f":"INDEX(Backbone!$N$2:$N$893,MATCH(I143,Backbone!$A$2:$A$893,0))","v":5},null,{"$f":"INDEX(Backbone!$O$2:$O$893,MATCH(I143,Backbone!$A$2:$A$893,0))","v":6.1},null,{"$f":"INDEX(Backbone!$P$2:$P$893,MATCH(I143,Backbone!$A$2:$A$893,0))","v":4.3},null,{"$f":"INDEX(Backbone!$Q$2:$Q$893,MATCH(I143,Backbone!$A$2:$A$893,0))","v":0.71666666666666667},null,null,{"$f":"(AG143*$AG$22+AI143*$AI$22+AK143*$AK$22+AM143*$AM$22+AO143*$AO$22+AQ143*$AQ$22+AS143*$AS$22+AU143*$AU$22+AW143*$AW$22)/(SUM($AG$22:$AW$22)*10)","v":{"$error":"#DIV/0!"}},null,null,"Go to \nToolbox: ",null,{"$f":"HYPERLINK(\"#\"&ADDRESS(MATCH(I143,Toolbox!$C$1:$C$300),1,,,\"Toolbox\"),VLOOKUP(I143,Toolbox!$C$1:$C$300,1,FALSE))","v":"APHL Informatics  Self-Assessment Tool"}]
[]
[]
[]
[]
[]
[null,null,null,null,null,null,null,null,{"$f":"Backbone!A166","v":"EMPRES Global Animal Disease Information System (EMPRES-i)"},null,null,null,null,null,null,"A web-based secure information system to support country level veterinary services by facilitating regional and global disease and a global reference database for animal diseases including zoonosis.",null,null,null,null,null,null,null,null,{"$f":"INDEX(Backbone!$R$2:$R$893,MATCH(I149,Backbone!$A$2:$A$893,0))","v":"Hardware or Software"},null,null,null,{"$f":"INDEX(Backbone!$S$2:$S$893,MATCH(I149,Backbone!$A$2:$A$893,0))","v":"Sector Specific; Generalized"},null,null,null,{"$f":"INDEX(Backbone!$H$2:$H$893,MATCH(I149,Backbone!$A$2:$A$893,0))","v":9},null,{"$f":"INDEX(Backbone!$I$2:$I$893,MATCH(I149,Backbone!$A$2:$A$893,0))","v":8.3000000000000007},null,{"$f":"INDEX(Backbone!$J$2:$J$893,MATCH(I149,Backbone!$A$2:$A$893,0))","v":8.9},null,{"$f":"INDEX(Backbone!$K$1:$K$893,MATCH(I149,Backbone!$A$1:$A$893,0))","v":8.6999999999999993},null,{"$f":"INDEX(Backbone!$L$2:$L$893,MATCH(I149,Backbone!$A$2:$A$893,0))","v":8},null,{"$f":"INDEX(Backbone!$M$2:$M$893,MATCH(I149,Backbone!$A$2:$A$893,0))","v":7.8},null,{"$f":"INDEX(Backbone!$N$2:$N$893,MATCH(I149,Backbone!$A$2:$A$893,0))","v":7.4},null,{"$f":"INDEX(Backbone!$O$2:$O$893,MATCH(I149,Backbone!$A$2:$A$893,0))","v":4.8},null,{"$f":"INDEX(Backbone!$P$2:$P$893,MATCH(I149,Backbone!$A$2:$A$893,0))","v":4.7},null,{"$f":"INDEX(Backbone!$Q$2:$Q$893,MATCH(I149,Backbone!$A$2:$A$893,0))","v":0.75111111111111106},null,null,{"$f":"(AG149*$AG$22+AI149*$AI$22+AK149*$AK$22+AM149*$AM$22+AO149*$AO$22+AQ149*$AQ$22+AS149*$AS$22+AU149*$AU$22+AW149*$AW$22)/(SUM($AG$22:$AW$22)*10)","v":{"$error":"#DIV/0!"}},null,null,"Go to \nToolbox: ",null,{"$f":"HYPERLINK(\"#\"&ADDRESS(MATCH(I149,Toolbox!$C$1:$C$300),1,,,\"Toolbox\"),VLOOKUP(I149,Toolbox!$C$1:$C$300,1,FALSE))","v":"EMPRES Global Animal Disease Information System (EMPRES-i)"}]
[]
[]
[]
[]
[]
[null,null,null,null,null,null,null,null,{"$f":"Backbone!A531","v":"Laboratory Information Management System Light (MiniLIMS)"},null,null,null,null,null,null,"An information system for the management of an analysis laboratory which have a simple organization.",null,null,null,null,null,null,null,null,{"$f":"INDEX(Backbone!$R$2:$R$893,MATCH(I155,Backbone!$A$2:$A$893,0))","v":"Hardware or Software"},null,null,null,{"$f":"INDEX(Backbone!$S$2:$S$893,MATCH(I155,Backbone!$A$2:$A$893,0))","v":"Sector Specific; Generalized"},null,null,null,{"$f":"INDEX(Backbone!$H$2:$H$893,MATCH(I155,Backbone!$A$2:$A$893,0))","v":9},null,{"$f":"INDEX(Backbone!$I$2:$I$893,MATCH(I155,Backbone!$A$2:$A$893,0))","v":7.3},null,{"$f":"INDEX(Backbone!$J$2:$J$893,MATCH(I155,Backbone!$A$2:$A$893,0))","v":8.4},null,{"$f":"INDEX(Backbone!$K$1:$K$893,MATCH(I155,Backbone!$A$1:$A$893,0))","v":9.3000000000000007},null,{"$f":"INDEX(Backbone!$L$2:$L$893,MATCH(I155,Backbone!$A$2:$A$893,0))","v":7.2},null,{"$f":"INDEX(Backbone!$M$2:$M$893,MATCH(I155,Backbone!$A$2:$A$893,0))","v":6.5},null,{"$f":"INDEX(Backbone!$N$2:$N$893,MATCH(I155,Backbone!$A$2:$A$893,0))","v":2},null,{"$f":"INDEX(Backbone!$O$2:$O$893,MATCH(I155,Backbone!$A$2:$A$893,0))","v":4.4000000000000004},null,{"$f":"INDEX(Backbone!$P$2:$P$893,MATCH(I155,Backbone!$A$2:$A$893,0))","v":4},null,{"$f":"INDEX(Backbone!$Q$2:$Q$893,MATCH(I155,Backbone!$A$2:$A$893,0))","v":0.64555555555555555},null,null,{"$f":"(AG155*$AG$22+AI155*$AI$22+AK155*$AK$22+AM155*$AM$22+AO155*$AO$22+AQ155*$AQ$22+AS155*$AS$22+AU155*$AU$22+AW155*$AW$22)/(SUM($AG$22:$AW$22)*10)","v":{"$error":"#DIV/0!"}},null,null,"Go to \nToolbox: ",null,{"$f":"HYPERLINK(\"#\"&ADDRESS(MATCH(I155,Toolbox!$C$1:$C$300),1,,,\"Toolbox\"),VLOOKUP(I155,Toolbox!$C$1:$C$300,1,FALSE))","v":"Laboratory Information Management System Light (MiniLIMS)"}]
[]
[]
[]
[]
[]
[null,null,null,null,null,null,null,null,{"$f":"Backbone!A522","v":"Laboratory Information Management System “SILAB for Africa” (SILABFA)"},null,null,null,null,null,null,"A Laboratory Information Management System (LIMS) able to trace all diagnostic steps from Samples Reception up to the Final Reports.",null,null,null,null,null,null,null,null,{"$f":"INDEX(Backbone!$R$2:$R$893,MATCH(I161,Backbone!$A$2:$A$893,0))","v":"Hardware or Software"},null,null,null,{"$f":"INDEX(Backbone!$S$2:$S$893,MATCH(I161,Backbone!$A$2:$A$893,0))","v":"Sector Specific; Generalized"},null,null,null,{"$f":"INDEX(Backbone!$H$2:$H$893,MATCH(I161,Backbone!$A$2:$A$893,0))","v":9.3000000000000007},null,{"$f":"INDEX(Backbone!$I$2:$I$893,MATCH(I161,Backbone!$A$2:$A$893,0))","v":10},null,{"$f":"INDEX(Backbone!$J$2:$J$893,MATCH(I161,Backbone!$A$2:$A$893,0))","v":6.8},null,{"$f":"INDEX(Backbone!$K$1:$K$893,MATCH(I161,Backbone!$A$1:$A$893,0))","v":9.3000000000000007},null,{"$f":"INDEX(Backbone!$L$2:$L$893,MATCH(I161,Backbone!$A$2:$A$893,0))","v":8},null,{"$f":"INDEX(Backbone!$M$2:$M$893,MATCH(I161,Backbone!$A$2:$A$893,0))","v":6.5},null,{"$f":"INDEX(Backbone!$N$2:$N$893,MATCH(I161,Backbone!$A$2:$A$893,0))","v":8},null,{"$f":"INDEX(Backbone!$O$2:$O$893,MATCH(I161,Backbone!$A$2:$A$893,0))","v":7.2},null,{"$f":"INDEX(Backbone!$P$2:$P$893,MATCH(I161,Backbone!$A$2:$A$893,0))","v":8},null,{"$f":"INDEX(Backbone!$Q$2:$Q$893,MATCH(I161,Backbone!$A$2:$A$893,0))","v":0.81222222222222229},null,null,{"$f":"(AG161*$AG$22+AI161*$AI$22+AK161*$AK$22+AM161*$AM$22+AO161*$AO$22+AQ161*$AQ$22+AS161*$AS$22+AU161*$AU$22+AW161*$AW$22)/(SUM($AG$22:$AW$22)*10)","v":{"$error":"#DIV/0!"}},null,null,"Go to \nToolbox: ",null,{"$f":"HYPERLINK(\"#\"&ADDRESS(MATCH(I161,Toolbox!$C$1:$C$300),1,,,\"Toolbox\"),VLOOKUP(I161,Toolbox!$C$1:$C$300,1,FALSE))","v":"Laboratory Information Management System “SILAB for Africa” (SILABFA)"}]
[]
[]
[]
[]
[]
[]
[]
[]
[]
[]
[]
[]
[]
[]
[]
[]
[]
[]
[]
[]
[]
[]
[]
[]
[null,null,null,null,null,null,null,null,null,null,null,null,null,null,null,null,null,null,null,null,null,null,null,null,null,null,null,null,null,null,null,null,"Accessibility",null,"Language",null,"Ease of use",null,"Flexibility",null,"Data Needs",null,"Data Analysis",null,"Acceptability",null,"One Health",null,"Impact"]
[]
[]
[]
[]
[]
[]
[null,null,null,null,null,null,null,null,null,null,null,null,null,null,null,null,null,null,null,null,null,null,null,null,null,null,null,null,null,null,null,null,null,null,null,null,null,null,null,null,null,null,null,null,null,null,null,null,null,null,"RAW SCORE",null,null,"ADJUSTED SCORE \n(Based on user preferences)"]
[]
[]
[]
[null,"LEVEL 3 RESOURCES",null,"DESIGNATION",null,null,null,null,"RESOURCE NAME",null,null,null,null,null,null,"SHORT DESCRIPTION",null,null,null,null,null,null,null,null,"RESOURCE TYPE",null,null,null,"RESOURCE GENERALITY"]
[]
[]
[]
[null,null,null,null,null,null,null,null,null,null,null,null,null,null,null,null,null,null,null,null,null,null,null,null,null,null,null,null,null,null,null,null,{"$f":"'Attribute Survey'!S201","v":0},null,{"$f":"'Attribute Survey'!S205","v":0},null,{"$f":"'Attribute Survey'!S209","v":0},null,{"$f":"'Attribute Survey'!S213","v":0},null,{"$f":"'Attribute Survey'!S217","v":0},null,{"$f":"'Attribute Survey'!S221","v":0},null,{"$f":"'Attribute Survey'!S225","v":0},null,{"$f":"'Attribute Survey'!S229","v":0},null,{"$f":"'Attribute Survey'!S233","v":0}]
[null,null,null,"Resources Best Fit for Purpose",null,null,null,null,{"$f":"Backbone!A65","v":"District Health Information Software 2 (DHIS2) "},null,null,null,null,null,null,"An open source, web-based health management information system  platform.",null,null,null,null,null,null,null,null,{"$f":"INDEX(Backbone!$R$2:$R$893,MATCH(I202,Backbone!$A$2:$A$893,0))","v":"Hardware or Software"},null,null,null,{"$f":"INDEX(Backbone!$S$2:$S$893,MATCH(I202,Backbone!$A$2:$A$893,0))","v":"Sector Specific; Generalized"},null,null,null,{"$f":"INDEX(Backbone!$H$2:$H$893,MATCH(I202,Backbone!$A$2:$A$893,0))","v":8.8000000000000007},null,{"$f":"INDEX(Backbone!$I$2:$I$893,MATCH(I202,Backbone!$A$2:$A$893,0))","v":8.6999999999999993},null,{"$f":"INDEX(Backbone!$J$2:$J$893,MATCH(I202,Backbone!$A$2:$A$893,0))","v":8},null,{"$f":"INDEX(Backbone!$K$2:$K$893,MATCH(I202,Backbone!$A$2:$A$893,0))","v":8.6999999999999993},null,{"$f":"INDEX(Backbone!$L$2:$L$893,MATCH(I202,Backbone!$A$2:$A$893,0))","v":9.3000000000000007},null,{"$f":"INDEX(Backbone!$M$2:$M$893,MATCH(I202,Backbone!$A$2:$A$893,0))","v":9},null,{"$f":"INDEX(Backbone!$N$2:$N$893,MATCH(I202,Backbone!$A$2:$A$893,0))","v":10},null,{"$f":"INDEX(Backbone!$O$2:$O$893,MATCH(I202,Backbone!$A$2:$A$893,0))","v":7.8},null,{"$f":"INDEX(Backbone!$P$2:$P$893,MATCH(I202,Backbone!$A$2:$A$893,0))","v":7},null,{"$f":"INDEX(Backbone!$Q$2:$Q$893,MATCH(I202,Backbone!$A$2:$A$893,0))","v":0.85888888888888881},null,null,{"$f":"(AG202*$AG$22+AI202*$AI$22+AK202*$AK$22+AM202*$AM$22+AO202*$AO$22+AQ202*$AQ$22+AS202*$AS$22+AU202*$AU$22+AW202*$AW$22)/(SUM($AG$22:$AW$22)*10)","v":{"$error":"#DIV/0!"}},null,null,"Go to \nToolbox: ",null,{"$f":"HYPERLINK(\"#\"&ADDRESS(MATCH(I202,Toolbox!$C$1:$C$300),1,,,\"Toolbox\"),VLOOKUP(I202,Toolbox!$C$1:$C$300,1,FALSE))","v":"District Health Information Software 2 (DHIS2) "}]
[]
[]
[]
[]
[]
[null,null,null,null,null,null,null,null,{"$f":"Backbone!A138","v":"Electronic Integrated Disease Surveillance System (EIDSS)"},null,null,null,null,null,null,"A customizable web-based electronic disease reporting system that can support passive and active human and veterinary health surveillance, laboratory diagnostics, vector surveillance, and outbreak management. ",null,null,null,null,null,null,null,null,{"$f":"INDEX(Backbone!$R$2:$R$893,MATCH(I208,Backbone!$A$2:$A$893,0))","v":"Hardware or Software"},null,null,null,{"$f":"INDEX(Backbone!$S$2:$S$893,MATCH(I208,Backbone!$A$2:$A$893,0))","v":"One Health; Generalized"},null,null,null,{"$f":"INDEX(Backbone!$H$2:$H$893,MATCH(I208,Backbone!$A$2:$A$893,0))","v":6.8},null,{"$f":"INDEX(Backbone!$I$2:$I$893,MATCH(I208,Backbone!$A$2:$A$893,0))","v":10},null,{"$f":"INDEX(Backbone!$J$2:$J$893,MATCH(I208,Backbone!$A$2:$A$893,0))","v":8.4},null,{"$f":"INDEX(Backbone!$K$1:$K$893,MATCH(I208,Backbone!$A$1:$A$893,0))","v":8.6999999999999993},null,{"$f":"INDEX(Backbone!$L$2:$L$893,MATCH(I208,Backbone!$A$2:$A$893,0))","v":9.1},null,{"$f":"INDEX(Backbone!$M$2:$M$893,MATCH(I208,Backbone!$A$2:$A$893,0))","v":8},null,{"$f":"INDEX(Backbone!$N$2:$N$893,MATCH(I208,Backbone!$A$2:$A$893,0))","v":7},null,{"$f":"INDEX(Backbone!$O$2:$O$893,MATCH(I208,Backbone!$A$2:$A$893,0))","v":7.2},null,{"$f":"INDEX(Backbone!$P$2:$P$893,MATCH(I208,Backbone!$A$2:$A$893,0))","v":10},null,{"$f":"INDEX(Backbone!$Q$2:$Q$893,MATCH(I208,Backbone!$A$2:$A$893,0))","v":0.83555555555555561},null,null,{"$f":"(AG208*$AG$22+AI208*$AI$22+AK208*$AK$22+AM208*$AM$22+AO208*$AO$22+AQ208*$AQ$22+AS208*$AS$22+AU208*$AU$22+AW208*$AW$22)/(SUM($AG$22:$AW$22)*10)","v":{"$error":"#DIV/0!"}},null,null,"Go to \nToolbox: ",null,{"$f":"HYPERLINK(\"#\"&ADDRESS(MATCH(I208,Toolbox!$C$1:$C$300),1,,,\"Toolbox\"),VLOOKUP(I208,Toolbox!$C$1:$C$300,1,FALSE))","v":"Electronic Integrated Disease Surveillance System (EIDSS)"}]
[]
[]
[]
[]
[]
[null,null,null,null,null,null,null,null,{"$f":"Backbone!A604","v":"Rabies Exposure and Case Tracker Application (React)"},null,null,null,null,null,null,"A tool to support implementation of Integrated Bite Case Management programs.",null,null,null,null,null,null,null,null,{"$f":"INDEX(Backbone!$R$2:$R$893,MATCH(I214,Backbone!$A$2:$A$893,0))","v":"Hardware or Software"},null,null,null,{"$f":"INDEX(Backbone!$S$2:$S$893,MATCH(I214,Backbone!$A$2:$A$893,0))","v":"One Health; Disease/Threat Specific "},null,null,null,{"$f":"INDEX(Backbone!$H$2:$H$893,MATCH(I214,Backbone!$A$2:$A$893,0))","v":8.6},null,{"$f":"INDEX(Backbone!$I$2:$I$893,MATCH(I214,Backbone!$A$2:$A$893,0))","v":8.6},null,{"$f":"INDEX(Backbone!$J$2:$J$893,MATCH(I214,Backbone!$A$2:$A$893,0))","v":8},null,{"$f":"INDEX(Backbone!$K$1:$K$893,MATCH(I214,Backbone!$A$1:$A$893,0))","v":8.6},null,{"$f":"INDEX(Backbone!$L$2:$L$893,MATCH(I214,Backbone!$A$2:$A$893,0))","v":9.4},null,{"$f":"INDEX(Backbone!$M$2:$M$893,MATCH(I214,Backbone!$A$2:$A$893,0))","v":9.5},null,{"$f":"INDEX(Backbone!$N$2:$N$893,MATCH(I214,Backbone!$A$2:$A$893,0))","v":9},null,{"$f":"INDEX(Backbone!$O$2:$O$893,MATCH(I214,Backbone!$A$2:$A$893,0))","v":9.1999999999999993},null,{"$f":"INDEX(Backbone!$P$2:$P$893,MATCH(I214,Backbone!$A$2:$A$893,0))","v":9},null,{"$f":"INDEX(Backbone!$Q$2:$Q$893,MATCH(I214,Backbone!$A$2:$A$893,0))","v":0.88777777777777767},null,null,{"$f":"(AG214*$AG$22+AI214*$AI$22+AK214*$AK$22+AM214*$AM$22+AO214*$AO$22+AQ214*$AQ$22+AS214*$AS$22+AU214*$AU$22+AW214*$AW$22)/(SUM($AG$22:$AW$22)*10)","v":{"$error":"#DIV/0!"}},null,null,"Go to \nToolbox: ",null,{"$f":"HYPERLINK(\"#\"&ADDRESS(MATCH(I214,Toolbox!$C$1:$C$300),1,,,\"Toolbox\"),VLOOKUP(I214,Toolbox!$C$1:$C$300,1,FALSE))","v":"Rabies Exposure and Case Tracker Application (React)"}]
[]
[]
[]
[]
[]
[null,null,null,null,null,null,null,null,{"$f":"Backbone!A489","v":"The Suite for Automated Global Electronic BioSurveillance (SAGES)"},null,null,null,null,null,null,"A suite of open source software tools designed to enhance electronic disease surveillance in resource-limited settings.",null,null,null,null,null,null,null,null,{"$f":"INDEX(Backbone!$R$2:$R$893,MATCH(I220,Backbone!$A$2:$A$893,0))","v":"Hardware or Software"},null,null,null,{"$f":"INDEX(Backbone!$S$2:$S$893,MATCH(I220,Backbone!$A$2:$A$893,0))","v":"One Health; Generalized"},null,null,null,{"$f":"INDEX(Backbone!$H$2:$H$893,MATCH(I220,Backbone!$A$2:$A$893,0))","v":9.8000000000000007},null,{"$f":"INDEX(Backbone!$I$2:$I$893,MATCH(I220,Backbone!$A$2:$A$893,0))","v":10},null,{"$f":"INDEX(Backbone!$J$2:$J$893,MATCH(I220,Backbone!$A$2:$A$893,0))","v":10},null,{"$f":"INDEX(Backbone!$K$1:$K$893,MATCH(I220,Backbone!$A$1:$A$893,0))","v":9.3000000000000007},null,{"$f":"INDEX(Backbone!$L$2:$L$893,MATCH(I220,Backbone!$A$2:$A$893,0))","v":8.5},null,{"$f":"INDEX(Backbone!$M$2:$M$893,MATCH(I220,Backbone!$A$2:$A$893,0))","v":9},null,{"$f":"INDEX(Backbone!$N$2:$N$893,MATCH(I220,Backbone!$A$2:$A$893,0))","v":5.5},null,{"$f":"INDEX(Backbone!$O$2:$O$893,MATCH(I220,Backbone!$A$2:$A$893,0))","v":9.5},null,{"$f":"INDEX(Backbone!$P$2:$P$893,MATCH(I220,Backbone!$A$2:$A$893,0))","v":7},null,{"$f":"INDEX(Backbone!$Q$2:$Q$893,MATCH(I220,Backbone!$A$2:$A$893,0))","v":0.87333333333333329},null,null,{"$f":"(AG220*$AG$22+AI220*$AI$22+AK220*$AK$22+AM220*$AM$22+AO220*$AO$22+AQ220*$AQ$22+AS220*$AS$22+AU220*$AU$22+AW220*$AW$22)/(SUM($AG$22:$AW$22)*10)","v":{"$error":"#DIV/0!"}},null,null,"Go to \nToolbox: ",null,{"$f":"HYPERLINK(\"#\"&ADDRESS(MATCH(I220,Toolbox!$C$1:$C$300),1,,,\"Toolbox\"),VLOOKUP(I220,Toolbox!$C$1:$C$300,1,FALSE))","v":"The Suite for Automated Global Electronic BioSurveillance (SAGES)"}]
[]
[]
[]
[]
[]
[null,null,null,null,null,null,null,null,{"$f":"Backbone!A540","v":"Surveillance Outbreak Response Management and Analysis System (SORMAS)"},null,null,null,null,null,null,"An open source mobile eHealth System that processes disease control and outbreak management procedures in addition to surveillance and early detection of outbreaks through real-time digital surveillance.",null,null,null,null,null,null,null,null,{"$f":"INDEX(Backbone!$R$2:$R$893,MATCH(I226,Backbone!$A$2:$A$893,0))","v":"Hardware or Software"},null,null,null,{"$f":"INDEX(Backbone!$S$2:$S$893,MATCH(I226,Backbone!$A$2:$A$893,0))","v":"Sector Specific; Generalized"},null,null,null,{"$f":"INDEX(Backbone!$H$2:$H$893,MATCH(I226,Backbone!$A$2:$A$893,0))","v":9.1999999999999993},null,{"$f":"INDEX(Backbone!$I$2:$I$893,MATCH(I226,Backbone!$A$2:$A$893,0))","v":8},null,{"$f":"INDEX(Backbone!$J$2:$J$893,MATCH(I226,Backbone!$A$2:$A$893,0))","v":9.3000000000000007},null,{"$f":"INDEX(Backbone!$K$1:$K$893,MATCH(I226,Backbone!$A$1:$A$893,0))","v":9.1},null,{"$f":"INDEX(Backbone!$L$2:$L$893,MATCH(I226,Backbone!$A$2:$A$893,0))","v":9.3000000000000007},null,{"$f":"INDEX(Backbone!$M$2:$M$893,MATCH(I226,Backbone!$A$2:$A$893,0))","v":9.3000000000000007},null,{"$f":"INDEX(Backbone!$N$2:$N$893,MATCH(I226,Backbone!$A$2:$A$893,0))","v":6.8},null,{"$f":"INDEX(Backbone!$O$2:$O$893,MATCH(I226,Backbone!$A$2:$A$893,0))","v":3.9},null,{"$f":"INDEX(Backbone!$P$2:$P$893,MATCH(I226,Backbone!$A$2:$A$893,0))","v":5.3},null,{"$f":"INDEX(Backbone!$Q$2:$Q$893,MATCH(I226,Backbone!$A$2:$A$893,0))","v":0.78},null,null,{"$f":"(AG226*$AG$22+AI226*$AI$22+AK226*$AK$22+AM226*$AM$22+AO226*$AO$22+AQ226*$AQ$22+AS226*$AS$22+AU226*$AU$22+AW226*$AW$22)/(SUM($AG$22:$AW$22)*10)","v":{"$error":"#DIV/0!"}},null,null,"Go to \nToolbox: ",null,{"$f":"HYPERLINK(\"#\"&ADDRESS(MATCH(I226,Toolbox!$C$1:$C$300),1,,,\"Toolbox\"),VLOOKUP(I226,Toolbox!$C$1:$C$300,1,FALSE))","v":"Surveillance Outbreak Response Management and Analysis System (SORMAS)"}]
[]
[]
[]
[]
[]
[]
[null,null,null,"Other Relevant Resources",null,null,null,null,{"$f":"Backbone!A42","v":"APHL Informatics  Self-Assessment Tool"},null,null,null,null,null,null,"A tool that allows public health laboratories to assess strengths and gaps in informatics capability by addressing 19 critical operational areas.",null,null,null,null,null,null,null,null,{"$f":"INDEX(Backbone!$R$2:$R$893,MATCH(I233,Backbone!$A$2:$A$893,0))","v":"Guidance document"},null,null,null,{"$f":"INDEX(Backbone!$S$2:$S$893,MATCH(I233,Backbone!$A$2:$A$893,0))","v":"Sector Specific; Generalized"},null,null,null,{"$f":"INDEX(Backbone!$H$2:$H$893,MATCH(I233,Backbone!$A$2:$A$893,0))","v":9.1},null,{"$f":"INDEX(Backbone!$I$2:$I$893,MATCH(I233,Backbone!$A$2:$A$893,0))","v":6.7},null,{"$f":"INDEX(Backbone!$J$2:$J$893,MATCH(I233,Backbone!$A$2:$A$893,0))","v":8.3000000000000007},null,{"$f":"INDEX(Backbone!$K$1:$K$893,MATCH(I233,Backbone!$A$1:$A$893,0))","v":8.4},null,{"$f":"INDEX(Backbone!$L$2:$L$893,MATCH(I233,Backbone!$A$2:$A$893,0))","v":8.1},null,{"$f":"INDEX(Backbone!$M$2:$M$893,MATCH(I233,Backbone!$A$2:$A$893,0))","v":8.5},null,{"$f":"INDEX(Backbone!$N$2:$N$893,MATCH(I233,Backbone!$A$2:$A$893,0))","v":5},null,{"$f":"INDEX(Backbone!$O$2:$O$893,MATCH(I233,Backbone!$A$2:$A$893,0))","v":6.1},null,{"$f":"INDEX(Backbone!$P$2:$P$893,MATCH(I233,Backbone!$A$2:$A$893,0))","v":4.3},null,{"$f":"INDEX(Backbone!$Q$2:$Q$893,MATCH(I233,Backbone!$A$2:$A$893,0))","v":0.71666666666666667},null,null,{"$f":"(AG233*$AG$22+AI233*$AI$22+AK233*$AK$22+AM233*$AM$22+AO233*$AO$22+AQ233*$AQ$22+AS233*$AS$22+AU233*$AU$22+AW233*$AW$22)/(SUM($AG$22:$AW$22)*10)","v":{"$error":"#DIV/0!"}},null,null,"Go to \nToolbox: ",null,{"$f":"HYPERLINK(\"#\"&ADDRESS(MATCH(I233,Toolbox!$C$1:$C$300),1,,,\"Toolbox\"),VLOOKUP(I233,Toolbox!$C$1:$C$300,1,FALSE))","v":"APHL Informatics  Self-Assessment Tool"}]

{"sheet":"I6_tools","index":51,"n_rows":241,"n_cols":59,"rows_kept":241,"cut":false,"hidden":false,"merged":[[234,56,238,57],[234,58,238,62],[240,56,244,57],[240,58,244,62],[204,56,208,57],[204,58,208,62],[210,56,214,57],[210,58,214,62],[216,56,220,57],[216,58,220,62],[222,56,226,57],[222,58,226,62],[228,56,232,57],[228,58,232,62],[140,56,144,57],[140,58,144,62],[146,56,150,57],[146,58,150,62],[152,56,156,57],[152,58,156,62],[158,56,162,57],[158,58,162,62],[198,56,202,57],[198,58,202,62],[110,56,114,57],[110,58,114,62],[116,56,120,57],[116,58,120,62],[122,56,126,57],[122,58,126,62],[128,56,132,57],[128,58,132,62],[134,56,138,57],[134,58,138,62],[46,56,50,57],[46,58,50,62],[52,56,56,57],[52,58,56,62],[58,56,62,57],[58,58,62,62],[64,56,68,57],[64,58,68,62],[70,56,74,57],[70,58,74,62],[22,56,26,57],[22,58,26,62],[1,1,3,62],[28,56,32,57],[28,58,32,62],[34,56,38,57],[34,58,38,62],[40,56,44,57],[40,58,44,62],[17,3,20,6],[17,8,20,13],[17,15,20,22],[17,24,20,26],[17,28,20,30],[6,32,20,32],[6,34,20,34],[6,36,20,36],[6,38,20,38],[6,40,20,40],[6,42,20,42],[6,44,20,44],[6,46,20,46],[6,48,20,48],[22,48,26,48],[46,8,50,13],[46,15,50,22],[46,24,50,26],[46,28,50,30],[46,32,50,32],[46,34,50,34],[46,36,50,36],[13,50,20,51],[13,53,20,54],[22,50,26,51],[22,53,26,54],[28,8,32,13],[28,15,32,22],[28,24,32,26],[28,28,32,30],[28,32,32,32],[28,34,32,34],[28,36,32,36],[28,38,32,38],[22,38,26,38],[22,40,26,40],[22,42,26,42],[22,44,26,44],[22,46,26,46],[22,8,26,13],[22,15,26,22],[22,24,26,26],[22,28,26,30],[22,32,26,32],[22,34,26,34],[22,36,26,36],[34,48,38,48],[34,50,38,51],[34,53,38,54],[28,53,32,54],[34,8,38,13],[34,15,38,22],[34,24,38,26],[34,28,38,30],[34,32,38,32],[34,34,38,34],[34,36,38,36],[34,38,38,38],[34,40,38,40],[28,40,32,40],[28,42,32,42],[28,44,32,44],[28,46,32,46],[28,48,32,48],[28,50,32,51],[40,8,44,13],[40,15,44,22],[40,24,44,26],[40,28,44,30],[40,32,44,32],[40,34,44,34],[34,42,38,42],[34,44,38,44],[34,46,38,46],[110,38,114,38],[110,40,114,40],[110,32,114,32],[116,32,120,32],[40,48,44,48],[40,50,44,51],[40,53,44,54],[40,36,44,36],[40,38,44,38],[40,40,44,40],[40,42,44,42],[40,44,44,44],[40,46,44,46],[46,50,50,51],[46,53,50,54],[46,38,50,38],[46,40,50,40],[46,42,50,42],[46,44,50,44],[46,46,50,46],[46,48,50,48],[58,42,62,42],[58,44,62,44],[52,32,56,32],[52,34,56,34],[52,36,56,36],[52,38,56,38],[228,38,232,38],[228,40,232,40],[228,42,232,42],[222,38,226,38],[222,40,226,40],[222,42,226,42],[216,42,220,42],[210,42,214,42],[198,38,202,38],[198,40,202,40],[198,42,202,42],[198,36,202,36],[204,36,208,36],[158,40,162,40],[158,42,162,42],[146,36,150,36],[146,38,150,38],[146,40,150,40],[110,34,114,34],[110,36,114,36],[64,40,68,40],[58,46,62,46],[58,48,62,48],[58,50,62,51],[58,53,62,54],[52,53,56,54],[58,8,62,13],[58,15,62,22],[58,24,62,26],[58,28,62,30],[58,32,62,32],[58,34,62,34],[58,36,62,36],[58,38,62,38],[58,40,62,40],[52,40,56,40],[52,42,56,42],[52,44,56,44],[52,46,56,46],[52,48,56,48],[52,50,56,51],[52,8,56,13],[52,15,56,22],[52,24,56,26],[52,28,56,30],[64,42,68,42],[64,44,68,44],[64,46,68,46],[64,8,68,13],[64,15,68,22],[64,24,68,26],[64,28,68,30],[64,32,68,32],[64,34,68,34],[70,8,74,13],[70,15,74,22],[70,24,74,26],[70,28,74,30],[70,32,74,32],[70,34,74,34],[70,36,74,36],[64,36,68,36],[64,38,68,38],[105,1,162,1],[105,3,108,6],[105,8,108,13],[105,15,108,22],[105,24,108,26],[70,50,74,51],[70,53,74,54],[22,3,74,6],[17,1,74,1],[94,32,108,32],[94,34,108,34],[94,36,108,36],[94,38,108,38],[94,40,108,40],[94,42,108,42],[70,38,74,38],[70,40,74,40],[70,42,74,42],[70,44,74,44],[70,46,74,46],[70,48,74,48],[64,48,68,48],[64,50,68,51],[64,53,68,54],[110,42,114,42],[110,44,114,44],[110,46,114,46],[110,48,114,48],[110,50,114,51],[110,53,114,54],[105,28,108,30],[110,3,162,6],[110,8,114,13],[110,15,114,22],[110,24,114,26],[110,28,114,30],[116,8,120,13],[116,15,120,22],[116,24,120,26],[116,28,120,30],[94,44,108,44],[94,46,108,46],[94,48,108,48],[101,50,108,51],[101,53,108,54],[158,44,162,44],[158,46,162,46],[152,48,156,48],[116,34,120,34],[116,36,120,36],[116,38,120,38],[116,40,120,40],[116,42,120,42],[116,44,120,44],[122,38,126,38],[122,40,126,40],[122,42,126,42],[122,44,126,44],[116,48,120,48],[116,50,120,51],[116,53,120,54],[116,46,120,46],[122,46,126,46],[122,48,126,48],[122,50,126,51],[122,53,126,54],[128,48,132,48],[128,50,132,51],[128,53,132,54],[128,46,132,46],[122,8,126,13],[122,15,126,22],[122,24,126,26],[122,28,126,30],[122,32,126,32],[122,34,126,34],[122,36,126,36],[134,50,138,51],[140,42,144,42],[140,44,144,44],[128,8,132,13],[128,15,132,22],[128,24,132,26],[128,28,132,30],[128,32,132,32],[128,34,132,34],[134,42,138,42],[134,44,138,44],[128,36,132,36],[128,38,132,38],[128,40,132,40],[128,42,132,42],[128,44,132,44],[140,46,144,46],[140,48,144,48],[140,50,144,51],[140,53,144,54],[134,8,138,13],[134,15,138,22],[134,24,138,26],[134,28,138,30],[134,32,138,32],[134,34,138,34],[134,36,138,36],[140,8,144,13],[140,15,144,22],[140,24,144,26],[140,28,144,30],[140,32,144,32],[140,34,144,34],[140,36,144,36],[140,38,144,38],[140,40,144,40],[134,38,138,38],[134,40,138,40],[134,46,138,46],[134,48,138,48],[134,53,138,54],[146,48,150,48],[146,50,150,51],[146,53,150,54],[152,8,156,13],[152,15,156,22],[152,24,156,26],[152,28,156,30],[152,32,156,32],[152,34,156,34],[152,50,156,51],[152,53,156,54],[152,40,156,40],[152,42,156,42],[152,44,156,44],[152,46,156,46],[146,8,150,13],[146,15,150,22],[146,24,150,26],[146,28,150,30],[146,32,150,32],[146,34,150,34],[146,42,150,42],[146,44,150,44],[146,46,150,46],[158,8,162,13],[158,15,162,22],[158,24,162,26],[158,28,162,30],[158,32,162,32],[158,34,162,34],[158,36,162,36],[158,38,162,38],[152,36,156,36],[152,38,156,38],[158,48,162,48],[158,50,162,51],[158,53,162,54],[182,32,196,32],[182,34,196,34],[182,36,196,36],[182,38,196,38],[182,40,196,40],[182,42,196,42],[182,44,196,44],[182,46,196,46],[182,48,196,48],[189,50,196,51],[189,53,196,54],[198,50,202,51],[193,1,244,1],[193,3,196,6],[193,8,196,13],[193,15,196,22],[193,24,196,26],[193,28,196,30],[198,3,244,6],[228,44,232,44],[222,44,226,44],[216,44,220,44],[210,8,214,13],[210,15,214,22],[210,24,214,26],[210,28,214,30],[210,32,214,32],[210,34,214,34],[210,36,214,36],[210,38,214,38],[210,40,214,40],[222,8,226,13],[222,15,226,22],[222,24,226,26],[222,28,226,30],[198,53,202,54],[204,8,208,13],[204,15,208,22],[204,24,208,26],[204,28,208,30],[204,32,208,32],[204,34,208,34],[198,8,202,13],[198,15,202,22],[198,24,202,26],[198,28,202,30],[198,32,202,32],[198,34,202,34],[204,53,208,54],[204,38,208,38],[204,40,208,40],[204,42,208,42],[204,44,208,44],[204,46,208,46],[204,48,208,48],[204,50,208,51],[198,44,202,44],[198,46,202,46],[198,48,202,48],[210,53,214,54],[216,8,220,13],[216,15,220,22],[216,24,220,26],[216,28,220,30],[216,32,220,32],[216,34,220,34],[216,36,220,36],[216,38,220,38],[216,40,220,40],[216,48,220,48],[216,50,220,51],[216,53,220,54],[216,46,220,46],[210,44,214,44],[210,46,214,46],[210,48,214,48],[210,50,214,51],[222,34,226,34],[222,36,226,36],[222,48,226,48],[222,50,226,51],[222,53,226,54],[228,8,232,13],[228,15,232,22],[228,24,232,26],[228,28,232,30],[228,32,232,32],[228,34,232,34],[228,36,232,36],[228,46,232,46],[228,48,232,48],[228,50,232,51],[228,53,232,54],[222,46,226,46],[222,32,226,32],[234,8,238,13],[234,15,238,22],[234,24,238,26],[234,28,238,30],[234,32,238,32],[234,34,238,34],[240,8,244,13],[240,15,244,22],[240,24,244,26],[240,28,244,30],[240,32,244,32],[240,34,244,34],[240,36,244,36],[234,36,238,36],[234,38,238,38],[240,50,244,51],[240,53,244,54],[240,38,244,38],[240,40,244,40],[240,42,244,42],[240,44,244,44],[240,46,244,46],[240,48,244,48],[234,48,238,48],[234,50,238,51],[234,53,238,54],[234,40,238,40],[234,42,238,42],[234,44,238,44],[234,46,238,46]]}
[]
[null,"Coordinated Surveillance System Implementation Resources"]
[]
[]
[]
[]
[null,null,null,null,null,null,null,null,null,null,null,null,null,null,null,null,null,null,null,null,null,null,null,null,null,null,null,null,null,null,null,null,"Accessibility",null,"Language",null,"Ease of use",null,"Flexibility",null,"Data Needs",null,"Data Analysis",null,"Acceptability",null,"One Health",null,"Impact"]
[]
[]
[]
[]
[]
[]
[null,null,null,null,null,null,null,null,null,null,null,null,null,null,null,null,null,null,null,null,null,null,null,null,null,null,null,null,null,null,null,null,null,null,null,null,null,null,null,null,null,null,null,null,null,null,null,null,null,null,"RAW SCORE",null,null,"ADJUSTED SCORE \n(Based on user preferences)"]
[]
[]
[]
[null,"LEVEL 1 RESOURCES",null,"DESIGNATION",null,null,null,null,"RESOURCE NAME",null,null,null,null,null,null,"SHORT DESCRIPTION",null,null,null,null,null,null,null,null,"RESOURCE TYPE",null,null,null,"RESOURCE GENERALITY"]
[]
[]
[]
[null,null,null,null,null,null,null,null,null,null,null,null,null,null,null,null,null,null,null,null,null,null,null,null,null,null,null,null,null,null,null,null,{"$f":"'Attribute Survey'!S22","v":0},null,{"$f":"'Attribute Survey'!S26","v":0},null,{"$f":"'Attribute Survey'!S30","v":0},null,{"$f":"'Attribute Survey'!S34","v":0},null,{"$f":"'Attribute Survey'!S38","v":0},null,{"$f":"'Attribute Survey'!S42","v":0},null,{"$f":"'Attribute Survey'!S46","v":0},null,{"$f":"'Attribute Survey'!S50","v":0},null,{"$f":"'Attribute Survey'!S54","v":0}]
[null,null,null,"Other Relevant Resources",null,null,null,null,{"$f":"Backbone!A2","v":"Africa CDC Event Based Surveillance Framework"},null,null,null,null,null,null,"A guidance to public health practitioners seeking to implement event-based surveillance at each administrative level.",null,null,null,null,null,null,null,null,{"$f":"INDEX(Backbone!$R$2:$R$893,MATCH(I23,Backbone!$A$2:$A$893,0))","v":"Guidance document"},null,null,null,{"$f":"INDEX(Backbone!$S$2:$S$893,MATCH(I23,Backbone!$A$2:$A$893,0))","v":"One Health; Generalized "},null,null,null,{"$f":"INDEX(Backbone!$H$2:$H$893,MATCH(I23,Backbone!$A$2:$A$893,0))","v":8},null,{"$f":"INDEX(Backbone!$I$2:$I$893,MATCH(I23,Backbone!$A$2:$A$893,0))","v":6},null,{"$f":"INDEX(Backbone!$J$2:$J$893,MATCH(I23,Backbone!$A$2:$A$893,0))","v":8.1999999999999993},null,{"$f":"INDEX(Backbone!$K$1:$K$893,MATCH(I23,Backbone!$A$1:$A$893,0))","v":8.3000000000000007},null,{"$f":"INDEX(Backbone!$L$2:$L$893,MATCH(I23,Backbone!$A$2:$A$893,0))","v":6.1},null,{"$f":"INDEX(Backbone!$M$2:$M$893,MATCH(I23,Backbone!$A$2:$A$893,0))","v":3.5},null,{"$f":"INDEX(Backbone!$N$2:$N$893,MATCH(I23,Backbone!$A$2:$A$893,0))","v":4},null,{"$f":"INDEX(Backbone!$O$2:$O$893,MATCH(I23,Backbone!$A$2:$A$893,0))","v":7},null,{"$f":"INDEX(Backbone!$P$2:$P$893,MATCH(I23,Backbone!$A$2:$A$893,0))","v":6},null,{"$f":"INDEX(Backbone!$Q$2:$Q$893,MATCH(I23,Backbone!$A$2:$A$893,0))","v":0.63222222222222224},null,null,{"$f":"(AG23*$AG$22+AI23*$AI$22+AK23*$AK$22+AM23*$AM$22+AO23*$AO$22+AQ23*$AQ$22+AS23*$AS$22+AU23*$AU$22+AW23*$AW$22)/(SUM($AG$22:$AW$22)*10)","v":{"$error":"#DIV/0!"}},null,null,"Go to \nToolbox: ",null,{"$f":"HYPERLINK(\"#\"&ADDRESS(MATCH(I23,Toolbox!$C$1:$C$300),1,,,\"Toolbox\"),VLOOKUP(I23,Toolbox!$C$1:$C$300,1,FALSE))","v":"Africa CDC Event Based Surveillance Framework"}]
[]
[]
[]
[]
[]
[null,null,null,null,null,null,null,null,{"$f":"Backbone!A21","v":"AfyaData"},null,null,null,null,null,null,"A One Health disease surveillance tool, designed to cater for Human, animal and environmental surveillance needs, comprised of Mobile and Web Apps.",null,null,null,null,null,null,null,null,{"$f":"INDEX(Backbone!$R$2:$R$893,MATCH(I29,Backbone!$A$2:$A$893,0))","v":"Hardware or Software"},null,null,null,{"$f":"INDEX(Backbone!$S$2:$S$893,MATCH(I29,Backbone!$A$2:$A$893,0))","v":"One Health; Generalized "},null,null,null,{"$f":"INDEX(Backbone!$H$2:$H$893,MATCH(I29,Backbone!$A$2:$A$893,0))","v":7.3},null,{"$f":"INDEX(Backbone!$I$2:$I$893,MATCH(I29,Backbone!$A$2:$A$893,0))","v":10},null,{"$f":"INDEX(Backbone!$J$2:$J$893,MATCH(I29,Backbone!$A$2:$A$893,0))","v":8.1999999999999993},null,{"$f":"INDEX(Backbone!$K$1:$K$893,MATCH(I29,Backbone!$A$1:$A$893,0))","v":7.3},null,{"$f":"INDEX(Backbone!$L$2:$L$893,MATCH(I29,Backbone!$A$2:$A$893,0))","v":7.6},null,{"$f":"INDEX(Backbone!$M$2:$M$893,MATCH(I29,Backbone!$A$2:$A$893,0))","v":8.8000000000000007},null,{"$f":"INDEX(Backbone!$N$2:$N$893,MATCH(I29,Backbone!$A$2:$A$893,0))","v":5.5},null,{"$f":"INDEX(Backbone!$O$2:$O$893,MATCH(I29,Backbone!$A$2:$A$893,0))","v":7.6},null,{"$f":"INDEX(Backbone!$P$2:$P$893,MATCH(I29,Backbone!$A$2:$A$893,0))","v":7},null,{"$f":"INDEX(Backbone!$Q$2:$Q$893,MATCH(I29,Backbone!$A$2:$A$893,0))","v":0.77000000000000013},null,null,{"$f":"(AG29*$AG$22+AI29*$AI$22+AK29*$AK$22+AM29*$AM$22+AO29*$AO$22+AQ29*$AQ$22+AS29*$AS$22+AU29*$AU$22+AW29*$AW$22)/(SUM($AG$22:$AW$22)*10)","v":{"$error":"#DIV/0!"}},null,null,"Go to \nToolbox: ",null,{"$f":"HYPERLINK(\"#\"&ADDRESS(MATCH(I29,Toolbox!$C$1:$C$300),1,,,\"Toolbox\"),VLOOKUP(I29,Toolbox!$C$1:$C$300,1,FALSE))","v":"AfyaData"}]
[]
[]
[]
[]
[]
[null,null,null,null,null,null,null,null,{"$f":"Backbone!A138","v":"Electronic Integrated Disease Surveillance System (EIDSS)"},null,null,null,null,null,null,"A customizable web-based electronic disease reporting system that can support passive and active human and veterinary health surveillance, laboratory diagnostics, vector surveillance, and outbreak management. ",null,null,null,null,null,null,null,null,{"$f":"INDEX(Backbone!$R$2:$R$893,MATCH(I35,Backbone!$A$2:$A$893,0))","v":"Hardware or Software"},null,null,null,{"$f":"INDEX(Backbone!$S$2:$S$893,MATCH(I35,Backbone!$A$2:$A$893,0))","v":"One Health; Generalized"},null,null,null,{"$f":"INDEX(Backbone!$H$2:$H$893,MATCH(I35,Backbone!$A$2:$A$893,0))","v":6.8},null,{"$f":"INDEX(Backbone!$I$2:$I$893,MATCH(I35,Backbone!$A$2:$A$893,0))","v":10},null,{"$f":"INDEX(Backbone!$J$2:$J$893,MATCH(I35,Backbone!$A$2:$A$893,0))","v":8.4},null,{"$f":"INDEX(Backbone!$K$1:$K$893,MATCH(I35,Backbone!$A$1:$A$893,0))","v":8.6999999999999993},null,{"$f":"INDEX(Backbone!$L$2:$L$893,MATCH(I35,Backbone!$A$2:$A$893,0))","v":9.1},null,{"$f":"INDEX(Backbone!$M$2:$M$893,MATCH(I35,Backbone!$A$2:$A$893,0))","v":8},null,{"$f":"INDEX(Backbone!$N$2:$N$893,MATCH(I35,Backbone!$A$2:$A$893,0))","v":7},null,{"$f":"INDEX(Backbone!$O$2:$O$893,MATCH(I35,Backbone!$A$2:$A$893,0))","v":7.2},null,{"$f":"INDEX(Backbone!$P$2:$P$893,MATCH(I35,Backbone!$A$2:$A$893,0))","v":10},null,{"$f":"INDEX(Backbone!$Q$2:$Q$893,MATCH(I35,Backbone!$A$2:$A$893,0))","v":0.83555555555555561},null,null,{"$f":"(AG35*$AG$22+AI35*$AI$22+AK35*$AK$22+AM35*$AM$22+AO35*$AO$22+AQ35*$AQ$22+AS35*$AS$22+AU35*$AU$22+AW35*$AW$22)/(SUM($AG$22:$AW$22)*10)","v":{"$error":"#DIV/0!"}},null,null,"Go to \nToolbox: ",null,{"$f":"HYPERLINK(\"#\"&ADDRESS(MATCH(I35,Toolbox!$C$1:$C$300),1,,,\"Toolbox\"),VLOOKUP(I35,Toolbox!$C$1:$C$300,1,FALSE))","v":"Electronic Integrated Disease Surveillance System (EIDSS)"}]
[]
[]
[]
[]
[]
[null,null,null,null,null,null,null,null,{"$f":"Backbone!A531","v":"Laboratory Information Management System Light (MiniLIMS)"},null,null,null,null,null,null,"An information system for the management of an analysis laboratory which have a simple organization.",null,null,null,null,null,null,null,null,{"$f":"INDEX(Backbone!$R$2:$R$893,MATCH(I41,Backbone!$A$2:$A$893,0))","v":"Hardware or Software"},null,null,null,{"$f":"INDEX(Backbone!$S$2:$S$893,MATCH(I41,Backbone!$A$2:$A$893,0))","v":"Sector Specific; Generalized"},null,null,null,{"$f":"INDEX(Backbone!$H$2:$H$893,MATCH(I41,Backbone!$A$2:$A$893,0))","v":9},null,{"$f":"INDEX(Backbone!$I$2:$I$893,MATCH(I41,Backbone!$A$2:$A$893,0))","v":7.3},null,{"$f":"INDEX(Backbone!$J$2:$J$893,MATCH(I41,Backbone!$A$2:$A$893,0))","v":8.4},null,{"$f":"INDEX(Backbone!$K$1:$K$893,MATCH(I41,Backbone!$A$1:$A$893,0))","v":9.3000000000000007},null,{"$f":"INDEX(Backbone!$L$2:$L$893,MATCH(I41,Backbone!$A$2:$A$893,0))","v":7.2},null,{"$f":"INDEX(Backbone!$M$2:$M$893,MATCH(I41,Backbone!$A$2:$A$893,0))","v":6.5},null,{"$f":"INDEX(Backbone!$N$2:$N$893,MATCH(I41,Backbone!$A$2:$A$893,0))","v":2},null,{"$f":"INDEX(Backbone!$O$2:$O$893,MATCH(I41,Backbone!$A$2:$A$893,0))","v":4.4000000000000004},null,{"$f":"INDEX(Backbone!$P$2:$P$893,MATCH(I41,Backbone!$A$2:$A$893,0))","v":4},null,{"$f":"INDEX(Backbone!$Q$2:$Q$893,MATCH(I41,Backbone!$A$2:$A$893,0))","v":0.64555555555555555},null,null,{"$f":"(AG41*$AG$22+AI41*$AI$22+AK41*$AK$22+AM41*$AM$22+AO41*$AO$22+AQ41*$AQ$22+AS41*$AS$22+AU41*$AU$22+AW41*$AW$22)/(SUM($AG$22:$AW$22)*10)","v":{"$error":"#DIV/0!"}},null,null,"Go to \nToolbox: ",null,{"$f":"HYPERLINK(\"#\"&ADDRESS(MATCH(I41,Toolbox!$C$1:$C$300),1,,,\"Toolbox\"),VLOOKUP(I41,Toolbox!$C$1:$C$300,1,FALSE))","v":"Laboratory Information Management System Light (MiniLIMS)"}]
[]
[]
[]
[]
[]
[null,null,null,null,null,null,null,null,{"$f":"Backbone!A522","v":"Laboratory Information Management System “SILAB for Africa” (SILABFA)"},null,null,null,null,null,null,"A Laboratory Information Management System (LIMS) able to trace all diagnostic steps from Samples Reception up to the Final Reports.",null,null,null,null,null,null,null,null,{"$f":"INDEX(Backbone!$R$2:$R$893,MATCH(I47,Backbone!$A$2:$A$893,0))","v":"Hardware or Software"},null,null,null,{"$f":"INDEX(Backbone!$S$2:$S$893,MATCH(I47,Backbone!$A$2:$A$893,0))","v":"Sector Specific; Generalized"},null,null,null,{"$f":"INDEX(Backbone!$H$2:$H$893,MATCH(I47,Backbone!$A$2:$A$893,0))","v":9.3000000000000007},null,{"$f":"INDEX(Backbone!$I$2:$I$893,MATCH(I47,Backbone!$A$2:$A$893,0))","v":10},null,{"$f":"INDEX(Backbone!$J$2:$J$893,MATCH(I47,Backbone!$A$2:$A$893,0))","v":6.8},null,{"$f":"INDEX(Backbone!$K$1:$K$893,MATCH(I47,Backbone!$A$1:$A$893,0))","v":9.3000000000000007},null,{"$f":"INDEX(Backbone!$L$2:$L$893,MATCH(I47,Backbone!$A$2:$A$893,0))","v":8},null,{"$f":"INDEX(Backbone!$M$2:$M$893,MATCH(I47,Backbone!$A$2:$A$893,0))","v":6.5},null,{"$f":"INDEX(Backbone!$N$2:$N$893,MATCH(I47,Backbone!$A$2:$A$893,0))","v":8},null,{"$f":"INDEX(Backbone!$O$2:$O$893,MATCH(I47,Backbone!$A$2:$A$893,0))","v":7.2},null,{"$f":"INDEX(Backbone!$P$2:$P$893,MATCH(I47,Backbone!$A$2:$A$893,0))","v":8},null,{"$f":"INDEX(Backbone!$Q$2:$Q$893,MATCH(I47,Backbone!$A$2:$A$893,0))","v":0.81222222222222229},null,null,{"$f":"(AG47*$AG$22+AI47*$AI$22+AK47*$AK$22+AM47*$AM$22+AO47*$AO$22+AQ47*$AQ$22+AS47*$AS$22+AU47*$AU$22+AW47*$AW$22)/(SUM($AG$22:$AW$22)*10)","v":{"$error":"#DIV/0!"}},null,null,"Go to \nToolbox: ",null,{"$f":"HYPERLINK(\"#\"&ADDRESS(MATCH(I47,Toolbox!$C$1:$C$300),1,,,\"Toolbox\"),VLOOKUP(I47,Toolbox!$C$1:$C$300,1,FALSE))","v":"Laboratory Information Management System “SILAB for Africa” (SILABFA)"}]
[]
[]
[]
[]
[]
[null,null,null,null,null,null,null,null,{"$f":"Backbone!A271","v":"Laboratory Infrastructure Network Analysis (LINA)"},null,null,null,null,null,null,"An easy-to-use web-based application providing sophisticated computational modeling and data analytics functionality with easy visualization based on maps regarding capacities and capabilities of the national laboratory network and each laboratory itself.",null,null,null,null,null,null,null,null,{"$f":"INDEX(Backbone!$R$2:$R$893,MATCH(I53,Backbone!$A$2:$A$893,0))","v":"Hardware or Software"},null,null,null,{"$f":"INDEX(Backbone!$S$2:$S$893,MATCH(I53,Backbone!$A$2:$A$893,0))","v":"One Health; Generalized"},null,null,null,{"$f":"INDEX(Backbone!$H$2:$H$893,MATCH(I53,Backbone!$A$2:$A$893,0))","v":9.6},null,{"$f":"INDEX(Backbone!$I$2:$I$893,MATCH(I53,Backbone!$A$2:$A$893,0))","v":6},null,{"$f":"INDEX(Backbone!$J$2:$J$893,MATCH(I53,Backbone!$A$2:$A$893,0))","v":7.6},null,{"$f":"INDEX(Backbone!$K$1:$K$893,MATCH(I53,Backbone!$A$1:$A$893,0))","v":9},null,{"$f":"INDEX(Backbone!$L$2:$L$893,MATCH(I53,Backbone!$A$2:$A$893,0))","v":8.3000000000000007},null,{"$f":"INDEX(Backbone!$M$2:$M$893,MATCH(I53,Backbone!$A$2:$A$893,0))","v":7},null,{"$f":"INDEX(Backbone!$N$2:$N$893,MATCH(I53,Backbone!$A$2:$A$893,0))","v":3},null,{"$f":"INDEX(Backbone!$O$2:$O$893,MATCH(I53,Backbone!$A$2:$A$893,0))","v":9.1},null,{"$f":"INDEX(Backbone!$P$2:$P$893,MATCH(I53,Backbone!$A$2:$A$893,0))","v":4},null,{"$f":"INDEX(Backbone!$Q$2:$Q$893,MATCH(I53,Backbone!$A$2:$A$893,0))","v":0.69555555555555559},null,null,{"$f":"(AG53*$AG$22+AI53*$AI$22+AK53*$AK$22+AM53*$AM$22+AO53*$AO$22+AQ53*$AQ$22+AS53*$AS$22+AU53*$AU$22+AW53*$AW$22)/(SUM($AG$22:$AW$22)*10)","v":{"$error":"#DIV/0!"}},null,null,"Go to \nToolbox: ",null,{"$f":"HYPERLINK(\"#\"&ADDRESS(MATCH(I53,Toolbox!$C$1:$C$300),1,,,\"Toolbox\"),VLOOKUP(I53,Toolbox!$C$1:$C$300,1,FALSE))","v":"Laboratory Infrastructure Network Analysis (LINA)"}]
[]
[]
[]
[]
[]
[null,null,null,null,null,null,null,null,{"$f":"Backbone!A604","v":"Rabies Exposure and Case Tracker Application (React)"},null,null,null,null,null,null,"A tool to support implementation of Integrated Bite Case Management programs.",null,null,null,null,null,null,null,null,{"$f":"INDEX(Backbone!$R$2:$R$893,MATCH(I59,Backbone!$A$2:$A$893,0))","v":"Hardware or Software"},null,null,null,{"$f":"INDEX(Backbone!$S$2:$S$893,MATCH(I59,Backbone!$A$2:$A$893,0))","v":"One Health; Disease/Threat Specific "},null,null,null,{"$f":"INDEX(Backbone!$H$2:$H$893,MATCH(I59,Backbone!$A$2:$A$893,0))","v":8.6},null,{"$f":"INDEX(Backbone!$I$2:$I$893,MATCH(I59,Backbone!$A$2:$A$893,0))","v":8.6},null,{"$f":"INDEX(Backbone!$J$2:$J$893,MATCH(I59,Backbone!$A$2:$A$893,0))","v":8},null,{"$f":"INDEX(Backbone!$K$1:$K$893,MATCH(I59,Backbone!$A$1:$A$893,0))","v":8.6},null,{"$f":"INDEX(Backbone!$L$2:$L$893,MATCH(I59,Backbone!$A$2:$A$893,0))","v":9.4},null,{"$f":"INDEX(Backbone!$M$2:$M$893,MATCH(I59,Backbone!$A$2:$A$893,0))","v":9.5},null,{"$f":"INDEX(Backbone!$N$2:$N$893,MATCH(I59,Backbone!$A$2:$A$893,0))","v":9},null,{"$f":"INDEX(Backbone!$O$2:$O$893,MATCH(I59,Backbone!$A$2:$A$893,0))","v":9.1999999999999993},null,{"$f":"INDEX(Backbone!$P$2:$P$893,MATCH(I59,Backbone!$A$2:$A$893,0))","v":9},null,{"$f":"INDEX(Backbone!$Q$2:$Q$893,MATCH(I59,Backbone!$A$2:$A$893,0))","v":0.88777777777777767},null,null,{"$f":"(AG59*$AG$22+AI59*$AI$22+AK59*$AK$22+AM59*$AM$22+AO59*$AO$22+AQ59*$AQ$22+AS59*$AS$22+AU59*$AU$22+AW59*$AW$22)/(SUM($AG$22:$AW$22)*10)","v":{"$error":"#DIV/0!"}},null,null,"Go to \nToolbox: ",null,{"$f":"HYPERLINK(\"#\"&ADDRESS(MATCH(I59,Toolbox!$C$1:$C$300),1,,,\"Toolbox\"),VLOOKUP(I59,Toolbox!$C$1:$C$300,1,FALSE))","v":"Rabies Exposure and Case Tracker Application (React)"}]
[]
[]
[]
[]
[]
[null,null,null,null,null,null,null,null,{"$f":"Backbone!A489","v":"The Suite for Automated Global Electronic BioSurveillance (SAGES)"},null,null,null,null,null,null,"A suite of open source software tools designed to enhance electronic disease surveillance in resource-limited settings.",null,null,null,null,null,null,null,null,{"$f":"INDEX(Backbone!$R$2:$R$893,MATCH(I65,Backbone!$A$2:$A$893,0))","v":"Hardware or Software"},null,null,null,{"$f":"INDEX(Backbone!$S$2:$S$893,MATCH(I65,Backbone!$A$2:$A$893,0))","v":"One Health; Generalized"},null,null,null,{"$f":"INDEX(Backbone!$H$2:$H$893,MATCH(I65,Backbone!$A$2:$A$893,0))","v":9.8000000000000007},null,{"$f":"INDEX(Backbone!$I$2:$I$893,MATCH(I65,Backbone!$A$2:$A$893,0))","v":10},null,{"$f":"INDEX(Backbone!$J$2:$J$893,MATCH(I65,Backbone!$A$2:$A$893,0))","v":10},null,{"$f":"INDEX(Backbone!$K$1:$K$893,MATCH(I65,Backbone!$A$1:$A$893,0))","v":9.3000000000000007},null,{"$f":"INDEX(Backbone!$L$2:$L$893,MATCH(I65,Backbone!$A$2:$A$893,0))","v":8.5},null,{"$f":"INDEX(Backbone!$M$2:$M$893,MATCH(I65,Backbone!$A$2:$A$893,0))","v":9},null,{"$f":"INDEX(Backbone!$N$2:$N$893,MATCH(I65,Backbone!$A$2:$A$893,0))","v":5.5},null,{"$f":"INDEX(Backbone!$O$2:$O$893,MATCH(I65,Backbone!$A$2:$A$893,0))","v":9.5},null,{"$f":"INDEX(Backbone!$P$2:$P$893,MATCH(I65,Backbone!$A$2:$A$893,0))","v":7},null,{"$f":"INDEX(Backbone!$Q$2:$Q$893,MATCH(I65,Backbone!$A$2:$A$893,0))","v":0.87333333333333329},null,null,{"$f":"(AG65*$AG$22+AI65*$AI$22+AK65*$AK$22+AM65*$AM$22+AO65*$AO$22+AQ65*$AQ$22+AS65*$AS$22+AU65*$AU$22+AW65*$AW$22)/(SUM($AG$22:$AW$22)*10)","v":{"$error":"#DIV/0!"}},null,null,"Go to \nToolbox: ",null,{"$f":"HYPERLINK(\"#\"&ADDRESS(MATCH(I65,Toolbox!$C$1:$C$300),1,,,\"Toolbox\"),VLOOKUP(I65,Toolbox!$C$1:$C$300,1,FALSE))","v":"The Suite for Automated Global Electronic BioSurveillance (SAGES)"}]
[]
[]
[]
[]
[]
[null,null,null,null,null,null,null,null,{"$f":"Backbone!A450","v":"Tool for Assessing Progress towards Elimination of Rabies (TAPER)"},null,null,null,null,null,null,"This tool supports the evaluation of routinely collected rabies surveillance data to provide up-to-date locally tailored management guidance.",null,null,null,null,null,null,null,null,{"$f":"INDEX(Backbone!$R$2:$R$893,MATCH(I71,Backbone!$A$2:$A$893,0))","v":"Hardware or Software"},null,null,null,{"$f":"INDEX(Backbone!$S$2:$S$893,MATCH(I71,Backbone!$A$2:$A$893,0))","v":"One Health; Disease/Threat Specific "},null,null,null,{"$f":"INDEX(Backbone!$H$2:$H$893,MATCH(I71,Backbone!$A$2:$A$893,0))","v":9.6},null,{"$f":"INDEX(Backbone!$I$2:$I$893,MATCH(I71,Backbone!$A$2:$A$893,0))","v":10},null,{"$f":"INDEX(Backbone!$J$2:$J$893,MATCH(I71,Backbone!$A$2:$A$893,0))","v":7.3},null,{"$f":"INDEX(Backbone!$K$1:$K$893,MATCH(I71,Backbone!$A$1:$A$893,0))","v":8},null,{"$f":"INDEX(Backbone!$L$2:$L$893,MATCH(I71,Backbone!$A$2:$A$893,0))","v":8.8000000000000007},null,{"$f":"INDEX(Backbone!$M$2:$M$893,MATCH(I71,Backbone!$A$2:$A$893,0))","v":5.5},null,{"$f":"INDEX(Backbone!$N$2:$N$893,MATCH(I71,Backbone!$A$2:$A$893,0))","v":4.3},null,{"$f":"INDEX(Backbone!$O$2:$O$893,MATCH(I71,Backbone!$A$2:$A$893,0))","v":7.9},null,{"$f":"INDEX(Backbone!$P$2:$P$893,MATCH(I71,Backbone!$A$2:$A$893,0))","v":6},null,{"$f":"INDEX(Backbone!$Q$2:$Q$893,MATCH(I71,Backbone!$A$2:$A$893,0))","v":0.74888888888888894},null,null,{"$f":"(AG71*$AG$22+AI71*$AI$22+AK71*$AK$22+AM71*$AM$22+AO71*$AO$22+AQ71*$AQ$22+AS71*$AS$22+AU71*$AU$22+AW71*$AW$22)/(SUM($AG$22:$AW$22)*10)","v":{"$error":"#DIV/0!"}},null,null,"Go to \nToolbox: ",null,{"$f":"HYPERLINK(\"#\"&ADDRESS(MATCH(I71,Toolbox!$C$1:$C$300),1,,,\"Toolbox\"),VLOOKUP(I71,Toolbox!$C$1:$C$300,1,FALSE))","v":"Tool for Assessing Progress towards Elimination of Rabies (TAPER)"}]
[]
[]
[]
[]
[]
[]
[]
[]
[]
[]
[]
[]
[]
[]
[]
[]
[]
[]
[]
[]
[]
[]
[]
[null,null,null,null,null,null,null,null,null,null,null,null,null,null,null,null,null,null,null,null,null,null,null,null,null,null,null,null,null,null,null,null,"Accessibility",null,"Language",null,"Ease of use",null,"Flexibility",null,"Data Needs",null,"Data Analysis",null,"Acceptability",null,"One Health",null,"Impact"]
[]
[]
[]
[]
[]
[]
[null,null,null,null,null,null,null,null,null,null,null,null,null,null,null,null,null,null,null,null,null,null,null,null,null,null,null,null,null,null,null,null,null,null,null,null,null,null,null,null,null,null,null,null,null,null,null,null,null,null,"RAW SCORE",null,null,"ADJUSTED SCORE \n(Based on user preferences)"]
[]
[]
[]
[null,"LEVEL 2 RESOURCES",null,"DESIGNATION",null,null,null,null,"RESOURCE NAME",null,null,null,null,null,null,"SHORT DESCRIPTION",null,null,null,null,null,null,null,null,"RESOURCE TYPE",null,null,null,"RESOURCE GENERALITY"]
[]
[]
[]
[null,null,null,null,null,null,null,null,null,null,null,null,null,null,null,null,null,null,null,null,null,null,null,null,null,null,null,null,null,null,null,null,{"$f":"'Attribute Survey'!S110","v":0},null,{"$f":"'Attribute Survey'!S114","v":0},null,{"$f":"'Attribute Survey'!S118","v":0},null,{"$f":"'Attribute Survey'!S122","v":0},null,{"$f":"'Attribute Survey'!S126","v":0},null,{"$f":"'Attribute Survey'!S130","v":0},null,{"$f":"'Attribute Survey'!S134","v":0},null,{"$f":"'Attribute Survey'!S138","v":0},null,{"$f":"'Attribute Survey'!S142","v":0}]
[null,null,null,"Other Relevant Resources",null,null,null,null,{"$f":"Backbone!A2","v":"Africa CDC Event Based Surveillance Framework"},null,null,null,null,null,null,"A guidance to public health practitioners seeking to implement event-based surveillance at each administrative level.",null,null,null,null,null,null,null,null,{"$f":"INDEX(Backbone!$R$2:$R$893,MATCH(I111,Backbone!$A$2:$A$893,0))","v":"Guidance document"},null,null,null,{"$f":"INDEX(Backbone!$S$2:$S$893,MATCH(I111,Backbone!$A$2:$A$893,0))","v":"One Health; Generalized "},null,null,null,{"$f":"INDEX(Backbone!$H$2:$H$893,MATCH(I111,Backbone!$A$2:$A$893,0))","v":8},null,{"$f":"INDEX(Backbone!$I$2:$I$893,MATCH(I111,Backbone!$A$2:$A$893,0))","v":6},null,{"$f":"INDEX(Backbone!$J$2:$J$893,MATCH(I111,Backbone!$A$2:$A$893,0))","v":8.1999999999999993},null,{"$f":"INDEX(Backbone!$K$1:$K$893,MATCH(I111,Backbone!$A$1:$A$893,0))","v":8.3000000000000007},null,{"$f":"INDEX(Backbone!$L$2:$L$893,MATCH(I111,Backbone!$A$2:$A$893,0))","v":6.1},null,{"$f":"INDEX(Backbone!$M$2:$M$893,MATCH(I111,Backbone!$A$2:$A$893,0))","v":3.5},null,{"$f":"INDEX(Backbone!$N$2:$N$893,MATCH(I111,Backbone!$A$2:$A$893,0))","v":4},null,{"$f":"INDEX(Backbone!$O$2:$O$893,MATCH(I111,Backbone!$A$2:$A$893,0))","v":7},null,{"$f":"INDEX(Backbone!$P$2:$P$893,MATCH(I111,Backbone!$A$2:$A$893,0))","v":6},null,{"$f":"INDEX(Backbone!$Q$2:$Q$893,MATCH(I111,Backbone!$A$2:$A$893,0))","v":0.63222222222222224},null,null,{"$f":"(AG111*$AG$22+AI111*$AI$22+AK111*$AK$22+AM111*$AM$22+AO111*$AO$22+AQ111*$AQ$22+AS111*$AS$22+AU111*$AU$22+AW111*$AW$22)/(SUM($AG$22:$AW$22)*10)","v":{"$error":"#DIV/0!"}},null,null,"Go to \nToolbox: ",null,{"$f":"HYPERLINK(\"#\"&ADDRESS(MATCH(I111,Toolbox!$C$1:$C$300),1,,,\"Toolbox\"),VLOOKUP(I111,Toolbox!$C$1:$C$300,1,FALSE))","v":"Africa CDC Event Based Surveillance Framework"}]
[]
[]
[]
[]
[]
[null,null,null,null,null,null,null,null,{"$f":"Backbone!A21","v":"AfyaData"},null,null,null,null,null,null,"A One Health disease surveillance tool, designed to cater for Human, animal and environmental surveillance needs, comprised of Mobile and Web Apps.",null,null,null,null,null,null,null,null,{"$f":"INDEX(Backbone!$R$2:$R$893,MATCH(I117,Backbone!$A$2:$A$893,0))","v":"Hardware or Software"},null,null,null,{"$f":"INDEX(Backbone!$S$2:$S$893,MATCH(I117,Backbone!$A$2:$A$893,0))","v":"One Health; Generalized "},null,null,null,{"$f":"INDEX(Backbone!$H$2:$H$893,MATCH(I117,Backbone!$A$2:$A$893,0))","v":7.3},null,{"$f":"INDEX(Backbone!$I$2:$I$893,MATCH(I117,Backbone!$A$2:$A$893,0))","v":10},null,{"$f":"INDEX(Backbone!$J$2:$J$893,MATCH(I117,Backbone!$A$2:$A$893,0))","v":8.1999999999999993},null,{"$f":"INDEX(Backbone!$K$1:$K$893,MATCH(I117,Backbone!$A$1:$A$893,0))","v":7.3},null,{"$f":"INDEX(Backbone!$L$2:$L$893,MATCH(I117,Backbone!$A$2:$A$893,0))","v":7.6},null,{"$f":"INDEX(Backbone!$M$2:$M$893,MATCH(I117,Backbone!$A$2:$A$893,0))","v":8.8000000000000007},null,{"$f":"INDEX(Backbone!$N$2:$N$893,MATCH(I117,Backbone!$A$2:$A$893,0))","v":5.5},null,{"$f":"INDEX(Backbone!$O$2:$O$893,MATCH(I117,Backbone!$A$2:$A$893,0))","v":7.6},null,{"$f":"INDEX(Backbone!$P$2:$P$893,MATCH(I117,Backbone!$A$2:$A$893,0))","v":7},null,{"$f":"INDEX(Backbone!$Q$2:$Q$893,MATCH(I117,Backbone!$A$2:$A$893,0))","v":0.77000000000000013},null,null,{"$f":"(AG117*$AG$22+AI117*$AI$22+AK117*$AK$22+AM117*$AM$22+AO117*$AO$22+AQ117*$AQ$22+AS117*$AS$22+AU117*$AU$22+AW117*$AW$22)/(SUM($AG$22:$AW$22)*10)","v":{"$error":"#DIV/0!"}},null,null,"Go to \nToolbox: ",null,{"$f":"HYPERLINK(\"#\"&ADDRESS(MATCH(I117,Toolbox!$C$1:$C$300),1,,,\"Toolbox\"),VLOOKUP(I117,Toolbox!$C$1:$C$300,1,FALSE))","v":"AfyaData"}]
[]
[]
[]
[]
[]
[null,null,null,null,null,null,null,null,{"$f":"Backbone!A138","v":"Electronic Integrated Disease Surveillance System (EIDSS)"},null,null,null,null,null,null,"A customizable web-based electronic disease reporting system that can support passive and active human and veterinary health surveillance, laboratory diagnostics, vector surveillance, and outbreak management. ",null,null,null,null,null,null,null,null,{"$f":"INDEX(Backbone!$R$2:$R$893,MATCH(I123,Backbone!$A$2:$A$893,0))","v":"Hardware or Software"},null,null,null,{"$f":"INDEX(Backbone!$S$2:$S$893,MATCH(I123,Backbone!$A$2:$A$893,0))","v":"One Health; Generalized"},null,null,null,{"$f":"INDEX(Backbone!$H$2:$H$893,MATCH(I123,Backbone!$A$2:$A$893,0))","v":6.8},null,{"$f":"INDEX(Backbone!$I$2:$I$893,MATCH(I123,Backbone!$A$2:$A$893,0))","v":10},null,{"$f":"INDEX(Backbone!$J$2:$J$893,MATCH(I123,Backbone!$A$2:$A$893,0))","v":8.4},null,{"$f":"INDEX(Backbone!$K$1:$K$893,MATCH(I123,Backbone!$A$1:$A$893,0))","v":8.6999999999999993},null,{"$f":"INDEX(Backbone!$L$2:$L$893,MATCH(I123,Backbone!$A$2:$A$893,0))","v":9.1},null,{"$f":"INDEX(Backbone!$M$2:$M$893,MATCH(I123,Backbone!$A$2:$A$893,0))","v":8},null,{"$f":"INDEX(Backbone!$N$2:$N$893,MATCH(I123,Backbone!$A$2:$A$893,0))","v":7},null,{"$f":"INDEX(Backbone!$O$2:$O$893,MATCH(I123,Backbone!$A$2:$A$893,0))","v":7.2},null,{"$f":"INDEX(Backbone!$P$2:$P$893,MATCH(I123,Backbone!$A$2:$A$893,0))","v":10},null,{"$f":"INDEX(Backbone!$Q$2:$Q$893,MATCH(I123,Backbone!$A$2:$A$893,0))","v":0.83555555555555561},null,null,{"$f":"(AG123*$AG$22+AI123*$AI$22+AK123*$AK$22+AM123*$AM$22+AO123*$AO$22+AQ123*$AQ$22+AS123*$AS$22+AU123*$AU$22+AW123*$AW$22)/(SUM($AG$22:$AW$22)*10)","v":{"$error":"#DIV/0!"}},null,null,"Go to \nToolbox: ",null,{"$f":"HYPERLINK(\"#\"&ADDRESS(MATCH(I123,Toolbox!$C$1:$C$300),1,,,\"Toolbox\"),VLOOKUP(I123,Toolbox!$C$1:$C$300,1,FALSE))","v":"Electronic Integrated Disease Surveillance System (EIDSS)"}]
[]
[]
[]
[]
[]
[null,null,null,null,null,null,null,null,{"$f":"Backbone!A531","v":"Laboratory Information Management System Light (MiniLIMS)"},null,null,null,null,null,null,"An information system for the management of an analysis laboratory which have a simple organization.",null,null,null,null,null,null,null,null,{"$f":"INDEX(Backbone!$R$2:$R$893,MATCH(I129,Backbone!$A$2:$A$893,0))","v":"Hardware or Software"},null,null,null,{"$f":"INDEX(Backbone!$S$2:$S$893,MATCH(I129,Backbone!$A$2:$A$893,0))","v":"Sector Specific; Generalized"},null,null,null,{"$f":"INDEX(Backbone!$H$2:$H$893,MATCH(I129,Backbone!$A$2:$A$893,0))","v":9},null,{"$f":"INDEX(Backbone!$I$2:$I$893,MATCH(I129,Backbone!$A$2:$A$893,0))","v":7.3},null,{"$f":"INDEX(Backbone!$J$2:$J$893,MATCH(I129,Backbone!$A$2:$A$893,0))","v":8.4},null,{"$f":"INDEX(Backbone!$K$1:$K$893,MATCH(I129,Backbone!$A$1:$A$893,0))","v":9.3000000000000007},null,{"$f":"INDEX(Backbone!$L$2:$L$893,MATCH(I129,Backbone!$A$2:$A$893,0))","v":7.2},null,{"$f":"INDEX(Backbone!$M$2:$M$893,MATCH(I129,Backbone!$A$2:$A$893,0))","v":6.5},null,{"$f":"INDEX(Backbone!$N$2:$N$893,MATCH(I129,Backbone!$A$2:$A$893,0))","v":2},null,{"$f":"INDEX(Backbone!$O$2:$O$893,MATCH(I129,Backbone!$A$2:$A$893,0))","v":4.4000000000000004},null,{"$f":"INDEX(Backbone!$P$2:$P$893,MATCH(I129,Backbone!$A$2:$A$893,0))","v":4},null,{"$f":"INDEX(Backbone!$Q$2:$Q$893,MATCH(I129,Backbone!$A$2:$A$893,0))","v":0.64555555555555555},null,null,{"$f":"(AG129*$AG$22+AI129*$AI$22+AK129*$AK$22+AM129*$AM$22+AO129*$AO$22+AQ129*$AQ$22+AS129*$AS$22+AU129*$AU$22+AW129*$AW$22)/(SUM($AG$22:$AW$22)*10)","v":{"$error":"#DIV/0!"}},null,null,"Go to \nToolbox: ",null,{"$f":"HYPERLINK(\"#\"&ADDRESS(MATCH(I129,Toolbox!$C$1:$C$300),1,,,\"Toolbox\"),VLOOKUP(I129,Toolbox!$C$1:$C$300,1,FALSE))","v":"Laboratory Information Management System Light (MiniLIMS)"}]
[]
[]
[]
[]
[]
[null,null,null,null,null,null,null,null,{"$f":"Backbone!A522","v":"Laboratory Information Management System “SILAB for Africa” (SILABFA)"},null,null,null,null,null,null,"A Laboratory Information Management System (LIMS) able to trace all diagnostic steps from Samples Reception up to the Final Reports.",null,null,null,null,null,null,null,null,{"$f":"INDEX(Backbone!$R$2:$R$893,MATCH(I135,Backbone!$A$2:$A$893,0))","v":"Hardware or Software"},null,null,null,{"$f":"INDEX(Backbone!$S$2:$S$893,MATCH(I135,Backbone!$A$2:$A$893,0))","v":"Sector Specific; Generalized"},null,null,null,{"$f":"INDEX(Backbone!$H$2:$H$893,MATCH(I135,Backbone!$A$2:$A$893,0))","v":9.3000000000000007},null,{"$f":"INDEX(Backbone!$I$2:$I$893,MATCH(I135,Backbone!$A$2:$A$893,0))","v":10},null,{"$f":"INDEX(Backbone!$J$2:$J$893,MATCH(I135,Backbone!$A$2:$A$893,0))","v":6.8},null,{"$f":"INDEX(Backbone!$K$1:$K$893,MATCH(I135,Backbone!$A$1:$A$893,0))","v":9.3000000000000007},null,{"$f":"INDEX(Backbone!$L$2:$L$893,MATCH(I135,Backbone!$A$2:$A$893,0))","v":8},null,{"$f":"INDEX(Backbone!$M$2:$M$893,MATCH(I135,Backbone!$A$2:$A$893,0))","v":6.5},null,{"$f":"INDEX(Backbone!$N$2:$N$893,MATCH(I135,Backbone!$A$2:$A$893,0))","v":8},null,{"$f":"INDEX(Backbone!$O$2:$O$893,MATCH(I135,Backbone!$A$2:$A$893,0))","v":7.2},null,{"$f":"INDEX(Backbone!$P$2:$P$893,MATCH(I135,Backbone!$A$2:$A$893,0))","v":8},null,{"$f":"INDEX(Backbone!$Q$2:$Q$893,MATCH(I135,Backbone!$A$2:$A$893,0))","v":0.81222222222222229},null,null,{"$f":"(AG135*$AG$22+AI135*$AI$22+AK135*$AK$22+AM135*$AM$22+AO135*$AO$22+AQ135*$AQ$22+AS135*$AS$22+AU135*$AU$22+AW135*$AW$22)/(SUM($AG$22:$AW$22)*10)","v":{"$error":"#DIV/0!"}},null,null,"Go to \nToolbox: ",null,{"$f":"HYPERLINK(\"#\"&ADDRESS(MATCH(I135,Toolbox!$C$1:$C$300),1,,,\"Toolbox\"),VLOOKUP(I135,Toolbox!$C$1:$C$300,1,FALSE))","v":"Laboratory Information Management System “SILAB for Africa” (SILABFA)"}]
[]
[]
[]
[]
[]
[null,null,null,null,null,null,null,null,{"$f":"Backbone!A271","v":"Laboratory Infrastructure Network Analysis (LINA)"},null,null,null,null,null,null,"An easy-to-use web-based application providing sophisticated computational modeling and data analytics functionality with easy visualization based on maps regarding capacities and capabilities of the national laboratory network and each laboratory itself .",null,null,null,null,null,null,null,null,{"$f":"INDEX(Backbone!$R$2:$R$893,MATCH(I141,Backbone!$A$2:$A$893,0))","v":"Hardware or Software"},null,null,null,{"$f":"INDEX(Backbone!$S$2:$S$893,MATCH(I141,Backbone!$A$2:$A$893,0))","v":"One Health; Generalized"},null,null,null,{"$f":"INDEX(Backbone!$H$2:$H$893,MATCH(I141,Backbone!$A$2:$A$893,0))","v":9.6},null,{"$f":"INDEX(Backbone!$I$2:$I$893,MATCH(I141,Backbone!$A$2:$A$893,0))","v":6},null,{"$f":"INDEX(Backbone!$J$2:$J$893,MATCH(I141,Backbone!$A$2:$A$893,0))","v":7.6},null,{"$f":"INDEX(Backbone!$K$1:$K$893,MATCH(I141,Backbone!$A$1:$A$893,0))","v":9},null,{"$f":"INDEX(Backbone!$L$2:$L$893,MATCH(I141,Backbone!$A$2:$A$893,0))","v":8.3000000000000007},null,{"$f":"INDEX(Backbone!$M$2:$M$893,MATCH(I141,Backbone!$A$2:$A$893,0))","v":7},null,{"$f":"INDEX(Backbone!$N$2:$N$893,MATCH(I141,Backbone!$A$2:$A$893,0))","v":3},null,{"$f":"INDEX(Backbone!$O$2:$O$893,MATCH(I141,Backbone!$A$2:$A$893,0))","v":9.1},null,{"$f":"INDEX(Backbone!$P$2:$P$893,MATCH(I141,Backbone!$A$2:$A$893,0))","v":4},null,{"$f":"INDEX(Backbone!$Q$2:$Q$893,MATCH(I141,Backbone!$A$2:$A$893,0))","v":0.69555555555555559},null,null,{"$f":"(AG141*$AG$22+AI141*$AI$22+AK141*$AK$22+AM141*$AM$22+AO141*$AO$22+AQ141*$AQ$22+AS141*$AS$22+AU141*$AU$22+AW141*$AW$22)/(SUM($AG$22:$AW$22)*10)","v":{"$error":"#DIV/0!"}},null,null,"Go to \nToolbox: ",null,{"$f":"HYPERLINK(\"#\"&ADDRESS(MATCH(I141,Toolbox!$C$1:$C$300),1,,,\"Toolbox\"),VLOOKUP(I141,Toolbox!$C$1:$C$300,1,FALSE))","v":"Laboratory Infrastructure Network Analysis (LINA)"}]
[]
[]
[]
[]
[]
[null,null,null,null,null,null,null,null,{"$f":"Backbone!A604","v":"Rabies Exposure and Case Tracker Application (React)"},null,null,null,null,null,null,"A tool to support implementation of Integrated Bite Case Management programs.",null,null,null,null,null,null,null,null,{"$f":"INDEX(Backbone!$R$2:$R$893,MATCH(I147,Backbone!$A$2:$A$893,0))","v":"Hardware or Software"},null,null,null,{"$f":"INDEX(Backbone!$S$2:$S$893,MATCH(I147,Backbone!$A$2:$A$893,0))","v":"One Health; Disease/Threat Specific "},null,null,null,{"$f":"INDEX(Backbone!$H$2:$H$893,MATCH(I147,Backbone!$A$2:$A$893,0))","v":8.6},null,{"$f":"INDEX(Backbone!$I$2:$I$893,MATCH(I147,Backbone!$A$2:$A$893,0))","v":8.6},null,{"$f":"INDEX(Backbone!$J$2:$J$893,MATCH(I147,Backbone!$A$2:$A$893,0))","v":8},null,{"$f":"INDEX(Backbone!$K$1:$K$893,MATCH(I147,Backbone!$A$1:$A$893,0))","v":8.6},null,{"$f":"INDEX(Backbone!$L$2:$L$893,MATCH(I147,Backbone!$A$2:$A$893,0))","v":9.4},null,{"$f":"INDEX(Backbone!$M$2:$M$893,MATCH(I147,Backbone!$A$2:$A$893,0))","v":9.5},null,{"$f":"INDEX(Backbone!$N$2:$N$893,MATCH(I147,Backbone!$A$2:$A$893,0))","v":9},null,{"$f":"INDEX(Backbone!$O$2:$O$893,MATCH(I147,Backbone!$A$2:$A$893,0))","v":9.1999999999999993},null,{"$f":"INDEX(Backbone!$P$2:$P$893,MATCH(I147,Backbone!$A$2:$A$893,0))","v":9},null,{"$f":"INDEX(Backbone!$Q$2:$Q$893,MATCH(I147,Backbone!$A$2:$A$893,0))","v":0.88777777777777767},null,null,{"$f":"(AG147*$AG$22+AI147*$AI$22+AK147*$AK$22+AM147*$AM$22+AO147*$AO$22+AQ147*$AQ$22+AS147*$AS$22+AU147*$AU$22+AW147*$AW$22)/(SUM($AG$22:$AW$22)*10)","v":{"$error":"#DIV/0!"}},null,null,"Go to \nToolbox: ",null,{"$f":"HYPERLINK(\"#\"&ADDRESS(MATCH(I147,Toolbox!$C$1:$C$300),1,,,\"Toolbox\"),VLOOKUP(I147,Toolbox!$C$1:$C$300,1,FALSE))","v":"Rabies Exposure and Case Tracker Application (React)"}]
[]
[]
[]
[]
[]
[null,null,null,null,null,null,null,null,{"$f":"Backbone!A489","v":"The Suite for Automated Global Electronic BioSurveillance (SAGES)"},null,null,null,null,null,null,"A suite of open source software tools designed to enhance electronic disease surveillance in resource-limited settings.",null,null,null,null,null,null,null,null,{"$f":"INDEX(Backbone!$R$2:$R$893,MATCH(I153,Backbone!$A$2:$A$893,0))","v":"Hardware or Software"},null,null,null,{"$f":"INDEX(Backbone!$S$2:$S$893,MATCH(I153,Backbone!$A$2:$A$893,0))","v":"One Health; Generalized"},null,null,null,{"$f":"INDEX(Backbone!$H$2:$H$893,MATCH(I153,Backbone!$A$2:$A$893,0))","v":9.8000000000000007},null,{"$f":"INDEX(Backbone!$I$2:$I$893,MATCH(I153,Backbone!$A$2:$A$893,0))","v":10},null,{"$f":"INDEX(Backbone!$J$2:$J$893,MATCH(I153,Backbone!$A$2:$A$893,0))","v":10},null,{"$f":"INDEX(Backbone!$K$1:$K$893,MATCH(I153,Backbone!$A$1:$A$893,0))","v":9.3000000000000007},null,{"$f":"INDEX(Backbone!$L$2:$L$893,MATCH(I153,Backbone!$A$2:$A$893,0))","v":8.5},null,{"$f":"INDEX(Backbone!$M$2:$M$893,MATCH(I153,Backbone!$A$2:$A$893,0))","v":9},null,{"$f":"INDEX(Backbone!$N$2:$N$893,MATCH(I153,Backbone!$A$2:$A$893,0))","v":5.5},null,{"$f":"INDEX(Backbone!$O$2:$O$893,MATCH(I153,Backbone!$A$2:$A$893,0))","v":9.5},null,{"$f":"INDEX(Backbone!$P$2:$P$893,MATCH(I153,Backbone!$A$2:$A$893,0))","v":7},null,{"$f":"INDEX(Backbone!$Q$2:$Q$893,MATCH(I153,Backbone!$A$2:$A$893,0))","v":0.87333333333333329},null,null,{"$f":"(AG153*$AG$22+AI153*$AI$22+AK153*$AK$22+AM153*$AM$22+AO153*$AO$22+AQ153*$AQ$22+AS153*$AS$22+AU153*$AU$22+AW153*$AW$22)/(SUM($AG$22:$AW$22)*10)","v":{"$error":"#DIV/0!"}},null,null,"Go to \nToolbox: ",null,{"$f":"HYPERLINK(\"#\"&ADDRESS(MATCH(I153,Toolbox!$C$1:$C$300),1,,,\"Toolbox\"),VLOOKUP(I153,Toolbox!$C$1:$C$300,1,FALSE))","v":"The Suite for Automated Global Electronic BioSurveillance (SAGES)"}]
[]
[]
[]
[]
[]
[null,null,null,null,null,null,null,null,{"$f":"Backbone!A450","v":"Tool for Assessing Progress towards Elimination of Rabies (TAPER)"},null,null,null,null,null,null,"This tool supports the evaluation of routinely collected rabies surveillance data to provide up-to-date locally tailored management guidance.",null,null,null,null,null,null,null,null,{"$f":"INDEX(Backbone!$R$2:$R$893,MATCH(I159,Backbone!$A$2:$A$893,0))","v":"Hardware or Software"},null,null,null,{"$f":"INDEX(Backbone!$S$2:$S$893,MATCH(I159,Backbone!$A$2:$A$893,0))","v":"One Health; Disease/Threat Specific "},null,null,null,{"$f":"INDEX(Backbone!$H$2:$H$893,MATCH(I159,Backbone!$A$2:$A$893,0))","v":9.6},null,{"$f":"INDEX(Backbone!$I$2:$I$893,MATCH(I159,Backbone!$A$2:$A$893,0))","v":10},null,{"$f":"INDEX(Backbone!$J$2:$J$893,MATCH(I159,Backbone!$A$2:$A$893,0))","v":7.3},null,{"$f":"INDEX(Backbone!$K$1:$K$893,MATCH(I159,Backbone!$A$1:$A$893,0))","v":8},null,{"$f":"INDEX(Backbone!$L$2:$L$893,MATCH(I159,Backbone!$A$2:$A$893,0))","v":8.8000000000000007},null,{"$f":"INDEX(Backbone!$M$2:$M$893,MATCH(I159,Backbone!$A$2:$A$893,0))","v":5.5},null,{"$f":"INDEX(Backbone!$N$2:$N$893,MATCH(I159,Backbone!$A$2:$A$893,0))","v":4.3},null,{"$f":"INDEX(Backbone!$O$2:$O$893,MATCH(I159,Backbone!$A$2:$A$893,0))","v":7.9},null,{"$f":"INDEX(Backbone!$P$2:$P$893,MATCH(I159,Backbone!$A$2:$A$893,0))","v":6},null,{"$f":"INDEX(Backbone!$Q$2:$Q$893,MATCH(I159,Backbone!$A$2:$A$893,0))","v":0.74888888888888894},null,null,{"$f":"(AG159*$AG$22+AI159*$AI$22+AK159*$AK$22+AM159*$AM$22+AO159*$AO$22+AQ159*$AQ$22+AS159*$AS$22+AU159*$AU$22+AW159*$AW$22)/(SUM($AG$22:$AW$22)*10)","v":{"$error":"#DIV/0!"}},null,null,"Go to \nToolbox: ",null,{"$f":"HYPERLINK(\"#\"&ADDRESS(MATCH(I159,Toolbox!$C$1:$C$300),1,,,\"Toolbox\"),VLOOKUP(I159,Toolbox!$C$1:$C$300,1,FALSE))","v":"Tool for Assessing Progress towards Elimination of Rabies (TAPER)"}]
[]
[]
[]
[]
[]
[]
[]
[]
[]
[]
[]
[]
[]
[]
[]
[]
[]
[]
[]
[]
[]
[]
[]
[null,null,null,null,null,null,null,null,null,null,null,null,null,null,null,null,null,null,null,null,null,null,null,null,null,null,null,null,null,null,null,null,"Accessibility",null,"Language",null,"Ease of use",null,"Flexibility",null,"Data Needs",null,"Data Analysis",null,"Acceptability",null,"One Health",null,"Impact"]
[]
[]
[]
[]
[]
[]
[null,null,null,null,null,null,null,null,null,null,null,null,null,null,null,null,null,null,null,null,null,null,null,null,null,null,null,null,null,null,null,null,null,null,null,null,null,null,null,null,null,null,null,null,null,null,null,null,null,null,"RAW SCORE",null,null,"ADJUSTED SCORE \n(Based on user preferences)"]
[]
[]
[]
[null,"LEVEL 3 RESOURCES",null,"DESIGNATION",null,null,null,null,"RESOURCE NAME",null,null,null,null,null,null,"SHORT DESCRIPTION",null,null,null,null,null,null,null,null,"RESOURCE TYPE",null,null,null,"RESOURCE GENERALITY"]
[]
[]
[]
[null,null,null,null,null,null,null,null,null,null,null,null,null,null,null,null,null,null,null,null,null,null,null,null,null,null,null,null,null,null,null,null,{"$f":"'Attribute Survey'!S198","v":0},null,{"$f":"'Attribute Survey'!S202","v":0},null,{"$f":"'Attribute Survey'!S206","v":0},null,{"$f":"'Attribute Survey'!S210","v":0},null,{"$f":"'Attribute Survey'!S214","v":0},null,{"$f":"'Attribute Survey'!S218","v":0},null,{"$f":"'Attribute Survey'!S222","v":0},null,{"$f":"'Attribute Survey'!S226","v":0},null,{"$f":"'Attribute Survey'!S230","v":0}]
[null,null,null,"Other Relevant Resources",null,null,null,null,{"$f":"Backbone!A2","v":"Africa CDC Event Based Surveillance Framework"},null,null,null,null,null,null,"A guidance to public health practitioners seeking to implement event-based surveillance at each administrative level.",null,null,null,null,null,null,null,null,{"$f":"INDEX(Backbone!$R$2:$R$893,MATCH(I199,Backbone!$A$2:$A$893,0))","v":"Guidance document"},null,null,null,{"$f":"INDEX(Backbone!$S$2:$S$893,MATCH(I199,Backbone!$A$2:$A$893,0))","v":"One Health; Generalized "},null,null,null,{"$f":"INDEX(Backbone!$H$2:$H$893,MATCH(I199,Backbone!$A$2:$A$893,0))","v":8},null,{"$f":"INDEX(Backbone!$I$2:$I$893,MATCH(I199,Backbone!$A$2:$A$893,0))","v":6},null,{"$f":"INDEX(Backbone!$J$2:$J$893,MATCH(I199,Backbone!$A$2:$A$893,0))","v":8.1999999999999993},null,{"$f":"INDEX(Backbone!$K$1:$K$893,MATCH(I199,Backbone!$A$1:$A$893,0))","v":8.3000000000000007},null,{"$f":"INDEX(Backbone!$L$2:$L$893,MATCH(I199,Backbone!$A$2:$A$893,0))","v":6.1},null,{"$f":"INDEX(Backbone!$M$2:$M$893,MATCH(I199,Backbone!$A$2:$A$893,0))","v":3.5},null,{"$f":"INDEX(Backbone!$N$2:$N$893,MATCH(I199,Backbone!$A$2:$A$893,0))","v":4},null,{"$f":"INDEX(Backbone!$O$2:$O$893,MATCH(I199,Backbone!$A$2:$A$893,0))","v":7},null,{"$f":"INDEX(Backbone!$P$2:$P$893,MATCH(I199,Backbone!$A$2:$A$893,0))","v":6},null,{"$f":"INDEX(Backbone!$Q$2:$Q$893,MATCH(I199,Backbone!$A$2:$A$893,0))","v":0.63222222222222224},null,null,{"$f":"(AG199*$AG$22+AI199*$AI$22+AK199*$AK$22+AM199*$AM$22+AO199*$AO$22+AQ199*$AQ$22+AS199*$AS$22+AU199*$AU$22+AW199*$AW$22)/(SUM($AG$22:$AW$22)*10)","v":{"$error":"#DIV/0!"}},null,null,"Go to \nToolbox: ",null,{"$f":"HYPERLINK(\"#\"&ADDRESS(MATCH(I199,Toolbox!$C$1:$C$300),1,,,\"Toolbox\"),VLOOKUP(I199,Toolbox!$C$1:$C$300,1,FALSE))","v":"Africa CDC Event Based Surveillance Framework"}]
[]
[]
[]
[]
[]
[null,null,null,null,null,null,null,null,{"$f":"Backbone!A138","v":"Electronic Integrated Disease Surveillance System (EIDSS)"},null,null,null,null,null,null,"A customizable web-based electronic disease reporting system that can support passive and active human and veterinary health surveillance, laboratory diagnostics, vector surveillance, and outbreak management. ",null,null,null,null,null,null,null,null,{"$f":"INDEX(Backbone!$R$2:$R$893,MATCH(I205,Backbone!$A$2:$A$893,0))","v":"Hardware or Software"},null,null,null,{"$f":"INDEX(Backbone!$S$2:$S$893,MATCH(I205,Backbone!$A$2:$A$893,0))","v":"One Health; Generalized"},null,null,null,{"$f":"INDEX(Backbone!$H$2:$H$893,MATCH(I205,Backbone!$A$2:$A$893,0))","v":6.8},null,{"$f":"INDEX(Backbone!$I$2:$I$893,MATCH(I205,Backbone!$A$2:$A$893,0))","v":10},null,{"$f":"INDEX(Backbone!$J$2:$J$893,MATCH(I205,Backbone!$A$2:$A$893,0))","v":8.4},null,{"$f":"INDEX(Backbone!$K$1:$K$893,MATCH(I205,Backbone!$A$1:$A$893,0))","v":8.6999999999999993},null,{"$f":"INDEX(Backbone!$L$2:$L$893,MATCH(I205,Backbone!$A$2:$A$893,0))","v":9.1},null,{"$f":"INDEX(Backbone!$M$2:$M$893,MATCH(I205,Backbone!$A$2:$A$893,0))","v":8},null,{"$f":"INDEX(Backbone!$N$2:$N$893,MATCH(I205,Backbone!$A$2:$A$893,0))","v":7},null,{"$f":"INDEX(Backbone!$O$2:$O$893,MATCH(I205,Backbone!$A$2:$A$893,0))","v":7.2},null,{"$f":"INDEX(Backbone!$P$2:$P$893,MATCH(I205,Backbone!$A$2:$A$893,0))","v":10},null,{"$f":"INDEX(Backbone!$Q$2:$Q$893,MATCH(I205,Backbone!$A$2:$A$893,0))","v":0.83555555555555561},null,null,{"$f":"(AG205*$AG$22+AI205*$AI$22+AK205*$AK$22+AM205*$AM$22+AO205*$AO$22+AQ205*$AQ$22+AS205*$AS$22+AU205*$AU$22+AW205*$AW$22)/(SUM($AG$22:$AW$22)*10)","v":{"$error":"#DIV/0!"}},null,null,"Go to \nToolbox: ",null,{"$f":"HYPERLINK(\"#\"&ADDRESS(MATCH(I205,Toolbox!$C$1:$C$300),1,,,\"Toolbox\"),VLOOKUP(I205,Toolbox!$C$1:$C$300,1,FALSE))","v":"Electronic Integrated Disease Surveillance System (EIDSS)"}]
[]
[]
[]
[]
[]
[null,null,null,null,null,null,null,null,{"$f":"Backbone!A531","v":"Laboratory Information Management System Light (MiniLIMS)"},null,null,null,null,null,null,"An information system for the management of an analysis laboratory which have a simple organization.",null,null,null,null,null,null,null,null,{"$f":"INDEX(Backbone!$R$2:$R$893,MATCH(I211,Backbone!$A$2:$A$893,0))","v":"Hardware or Software"},null,null,null,{"$f":"INDEX(Backbone!$S$2:$S$893,MATCH(I211,Backbone!$A$2:$A$893,0))","v":"Sector Specific; Generalized"},null,null,null,{"$f":"INDEX(Backbone!$H$2:$H$893,MATCH(I211,Backbone!$A$2:$A$893,0))","v":9},null,{"$f":"INDEX(Backbone!$I$2:$I$893,MATCH(I211,Backbone!$A$2:$A$893,0))","v":7.3},null,{"$f":"INDEX(Backbone!$J$2:$J$893,MATCH(I211,Backbone!$A$2:$A$893,0))","v":8.4},null,{"$f":"INDEX(Backbone!$K$1:$K$893,MATCH(I211,Backbone!$A$1:$A$893,0))","v":9.3000000000000007},null,{"$f":"INDEX(Backbone!$L$2:$L$893,MATCH(I211,Backbone!$A$2:$A$893,0))","v":7.2},null,{"$f":"INDEX(Backbone!$M$2:$M$893,MATCH(I211,Backbone!$A$2:$A$893,0))","v":6.5},null,{"$f":"INDEX(Backbone!$N$2:$N$893,MATCH(I211,Backbone!$A$2:$A$893,0))","v":2},null,{"$f":"INDEX(Backbone!$O$2:$O$893,MATCH(I211,Backbone!$A$2:$A$893,0))","v":4.4000000000000004},null,{"$f":"INDEX(Backbone!$P$2:$P$893,MATCH(I211,Backbone!$A$2:$A$893,0))","v":4},null,{"$f":"INDEX(Backbone!$Q$2:$Q$893,MATCH(I211,Backbone!$A$2:$A$893,0))","v":0.64555555555555555},null,null,{"$f":"(AG211*$AG$22+AI211*$AI$22+AK211*$AK$22+AM211*$AM$22+AO211*$AO$22+AQ211*$AQ$22+AS211*$AS$22+AU211*$AU$22+AW211*$AW$22)/(SUM($AG$22:$AW$22)*10)","v":{"$error":"#DIV/0!"}},null,null,"Go to \nToolbox: ",null,{"$f":"HYPERLINK(\"#\"&ADDRESS(MATCH(I211,Toolbox!$C$1:$C$300),1,,,\"Toolbox\"),VLOOKUP(I211,Toolbox!$C$1:$C$300,1,FALSE))","v":"Laboratory Information Management System Light (MiniLIMS)"}]
[]
[]
[]
[]
[]
[null,null,null,null,null,null,null,null,{"$f":"Backbone!A522","v":"Laboratory Information Management System “SILAB for Africa” (SILABFA)"},null,null,null,null,null,null,"A Laboratory Information Management System (LIMS) able to trace all diagnostic steps from Samples Reception up to the Final Reports.",null,null,null,null,null,null,null,null,{"$f":"INDEX(Backbone!$R$2:$R$893,MATCH(I217,Backbone!$A$2:$A$893,0))","v":"Hardware or Software"},null,null,null,{"$f":"INDEX(Backbone!$S$2:$S$893,MATCH(I217,Backbone!$A$2:$A$893,0))","v":"Sector Specific; Generalized"},null,null,null,{"$f":"INDEX(Backbone!$H$2:$H$893,MATCH(I217,Backbone!$A$2:$A$893,0))","v":9.3000000000000007},null,{"$f":"INDEX(Backbone!$I$2:$I$893,MATCH(I217,Backbone!$A$2:$A$893,0))","v":10},null,{"$f":"INDEX(Backbone!$J$2:$J$893,MATCH(I217,Backbone!$A$2:$A$893,0))","v":6.8},null,{"$f":"INDEX(Backbone!$K$1:$K$893,MATCH(I217,Backbone!$A$1:$A$893,0))","v":9.3000000000000007},null,{"$f":"INDEX(Backbone!$L$2:$L$893,MATCH(I217,Backbone!$A$2:$A$893,0))","v":8},null,{"$f":"INDEX(Backbone!$M$2:$M$893,MATCH(I217,Backbone!$A$2:$A$893,0))","v":6.5},null,{"$f":"INDEX(Backbone!$N$2:$N$893,MATCH(I217,Backbone!$A$2:$A$893,0))","v":8},null,{"$f":"INDEX(Backbone!$O$2:$O$893,MATCH(I217,Backbone!$A$2:$A$893,0))","v":7.2},null,{"$f":"INDEX(Backbone!$P$2:$P$893,MATCH(I217,Backbone!$A$2:$A$893,0))","v":8},null,{"$f":"INDEX(Backbone!$Q$2:$Q$893,MATCH(I217,Backbone!$A$2:$A$893,0))","v":0.81222222222222229},null,null,{"$f":"(AG217*$AG$22+AI217*$AI$22+AK217*$AK$22+AM217*$AM$22+AO217*$AO$22+AQ217*$AQ$22+AS217*$AS$22+AU217*$AU$22+AW217*$AW$22)/(SUM($AG$22:$AW$22)*10)","v":{"$error":"#DIV/0!"}},null,null,"Go to \nToolbox: ",null,{"$f":"HYPERLINK(\"#\"&ADDRESS(MATCH(I217,Toolbox!$C$1:$C$300),1,,,\"Toolbox\"),VLOOKUP(I217,Toolbox!$C$1:$C$300,1,FALSE))","v":"Laboratory Information Management System “SILAB for Africa” (SILABFA)"}]
[]
[]
[]
[]
[]
[null,null,null,null,null,null,null,null,{"$f":"Backbone!A271","v":"Laboratory Infrastructure Network Analysis (LINA)"},null,null,null,null,null,null,"An easy-to-use web-based application providing sophisticated computational modeling and data analytics functionality with easy visualization based on maps regarding capacities and capabilities of the national laboratory network and each laboratory itself. ",null,null,null,null,null,null,null,null,{"$f":"INDEX(Backbone!$R$2:$R$893,MATCH(I223,Backbone!$A$2:$A$893,0))","v":"Hardware or Software"},null,null,null,{"$f":"INDEX(Backbone!$S$2:$S$893,MATCH(I223,Backbone!$A$2:$A$893,0))","v":"One Health; Generalized"},null,null,null,{"$f":"INDEX(Backbone!$H$2:$H$893,MATCH(I223,Backbone!$A$2:$A$893,0))","v":9.6},null,{"$f":"INDEX(Backbone!$I$2:$I$893,MATCH(I223,Backbone!$A$2:$A$893,0))","v":6},null,{"$f":"INDEX(Backbone!$J$2:$J$893,MATCH(I223,Backbone!$A$2:$A$893,0))","v":7.6},null,{"$f":"INDEX(Backbone!$K$1:$K$893,MATCH(I223,Backbone!$A$1:$A$893,0))","v":9},null,{"$f":"INDEX(Backbone!$L$2:$L$893,MATCH(I223,Backbone!$A$2:$A$893,0))","v":8.3000000000000007},null,{"$f":"INDEX(Backbone!$M$2:$M$893,MATCH(I223,Backbone!$A$2:$A$893,0))","v":7},null,{"$f":"INDEX(Backbone!$N$2:$N$893,MATCH(I223,Backbone!$A$2:$A$893,0))","v":3},null,{"$f":"INDEX(Backbone!$O$2:$O$893,MATCH(I223,Backbone!$A$2:$A$893,0))","v":9.1},null,{"$f":"INDEX(Backbone!$P$2:$P$893,MATCH(I223,Backbone!$A$2:$A$893,0))","v":4},null,{"$f":"INDEX(Backbone!$Q$2:$Q$893,MATCH(I223,Backbone!$A$2:$A$893,0))","v":0.69555555555555559},null,null,{"$f":"(AG223*$AG$22+AI223*$AI$22+AK223*$AK$22+AM223*$AM$22+AO223*$AO$22+AQ223*$AQ$22+AS223*$AS$22+AU223*$AU$22+AW223*$AW$22)/(SUM($AG$22:$AW$22)*10)","v":{"$error":"#DIV/0!"}},null,null,"Go to \nToolbox: ",null,{"$f":"HYPERLINK(\"#\"&ADDRESS(MATCH(I223,Toolbox!$C$1:$C$300),1,,,\"Toolbox\"),VLOOKUP(I223,Toolbox!$C$1:$C$300,1,FALSE))","v":"Laboratory Infrastructure Network Analysis (LINA)"}]
[]
[]
[]
[]
[]
[null,null,null,null,null,null,null,null,{"$f":"Backbone!A604","v":"Rabies Exposure and Case Tracker Application (React)"},null,null,null,null,null,null,"A tool to support implementation of Integrated Bite Case Management programs.",null,null,null,null,null,null,null,null,{"$f":"INDEX(Backbone!$R$2:$R$893,MATCH(I229,Backbone!$A$2:$A$893,0))","v":"Hardware or Software"},null,null,null,{"$f":"INDEX(Backbone!$S$2:$S$893,MATCH(I229,Backbone!$A$2:$A$893,0))","v":"One Health; Disease/Threat Specific "},null,null,null,{"$f":"INDEX(Backbone!$H$2:$H$893,MATCH(I229,Backbone!$A$2:$A$893,0))","v":8.6},null,{"$f":"INDEX(Backbone!$I$2:$I$893,MATCH(I229,Backbone!$A$2:$A$893,0))","v":8.6},null,{"$f":"INDEX(Backbone!$J$2:$J$893,MATCH(I229,Backbone!$A$2:$A$893,0))","v":8},null,{"$f":"INDEX(Backbone!$K$1:$K$893,MATCH(I229,Backbone!$A$1:$A$893,0))","v":8.6},null,{"$f":"INDEX(Backbone!$L$2:$L$893,MATCH(I229,Backbone!$A$2:$A$893,0))","v":9.4},null,{"$f":"INDEX(Backbone!$M$2:$M$893,MATCH(I229,Backbone!$A$2:$A$893,0))","v":9.5},null,{"$f":"INDEX(Backbone!$N$2:$N$893,MATCH(I229,Backbone!$A$2:$A$893,0))","v":9},null,{"$f":"INDEX(Backbone!$O$2:$O$893,MATCH(I229,Backbone!$A$2:$A$893,0))","v":9.1999999999999993},null,{"$f":"INDEX(Backbone!$P$2:$P$893,MATCH(I229,Backbone!$A$2:$A$893,0))","v":9},null,{"$f":"INDEX(Backbone!$Q$2:$Q$893,MATCH(I229,Backbone!$A$2:$A$893,0))","v":0.88777777777777767},null,null,{"$f":"(AG229*$AG$22+AI229*$AI$22+AK229*$AK$22+AM229*$AM$22+AO229*$AO$22+AQ229*$AQ$22+AS229*$AS$22+AU229*$AU$22+AW229*$AW$22)/(SUM($AG$22:$AW$22)*10)","v":{"$error":"#DIV/0!"}},null,null,"Go to \nToolbox: ",null,{"$f":"HYPERLINK(\"#\"&ADDRESS(MATCH(I229,Toolbox!$C$1:$C$300),1,,,\"Toolbox\"),VLOOKUP(I229,Toolbox!$C$1:$C$300,1,FALSE))","v":"Rabies Exposure and Case Tracker Application (React)"}]
[]
[]
[]
[]
[]
[null,null,null,null,null,null,null,null,{"$f":"Backbone!A489","v":"The Suite for Automated Global Electronic BioSurveillance (SAGES)"},null,null,null,null,null,null,"A suite of open source software tools designed to enhance electronic disease surveillance in resource-limited settings.",null,null,null,null,null,null,null,null,{"$f":"INDEX(Backbone!$R$2:$R$893,MATCH(I235,Backbone!$A$2:$A$893,0))","v":"Hardware or Software"},null,null,null,{"$f":"INDEX(Backbone!$S$2:$S$893,MATCH(I235,Backbone!$A$2:$A$893,0))","v":"One Health; Generalized"},null,null,null,{"$f":"INDEX(Backbone!$H$2:$H$893,MATCH(I235,Backbone!$A$2:$A$893,0))","v":9.8000000000000007},null,{"$f":"INDEX(Backbone!$I$2:$I$893,MATCH(I235,Backbone!$A$2:$A$893,0))","v":10},null,{"$f":"INDEX(Backbone!$J$2:$J$893,MATCH(I235,Backbone!$A$2:$A$893,0))","v":10},null,{"$f":"INDEX(Backbone!$K$1:$K$893,MATCH(I235,Backbone!$A$1:$A$893,0))","v":9.3000000000000007},null,{"$f":"INDEX(Backbone!$L$2:$L$893,MATCH(I235,Backbone!$A$2:$A$893,0))","v":8.5},null,{"$f":"INDEX(Backbone!$M$2:$M$893,MATCH(I235,Backbone!$A$2:$A$893,0))","v":9},null,{"$f":"INDEX(Backbone!$N$2:$N$893,MATCH(I235,Backbone!$A$2:$A$893,0))","v":5.5},null,{"$f":"INDEX(Backbone!$O$2:$O$893,MATCH(I235,Backbone!$A$2:$A$893,0))","v":9.5},null,{"$f":"INDEX(Backbone!$P$2:$P$893,MATCH(I235,Backbone!$A$2:$A$893,0))","v":7},null,{"$f":"INDEX(Backbone!$Q$2:$Q$893,MATCH(I235,Backbone!$A$2:$A$893,0))","v":0.87333333333333329},null,null,{"$f":"(AG235*$AG$22+AI235*$AI$22+AK235*$AK$22+AM235*$AM$22+AO235*$AO$22+AQ235*$AQ$22+AS235*$AS$22+AU235*$AU$22+AW235*$AW$22)/(SUM($AG$22:$AW$22)*10)","v":{"$error":"#DIV/0!"}},null,null,"Go to \nToolbox: ",null,{"$f":"HYPERLINK(\"#\"&ADDRESS(MATCH(I235,Toolbox!$C$1:$C$300),1,,,\"Toolbox\"),VLOOKUP(I235,Toolbox!$C$1:$C$300,1,FALSE))","v":"The Suite for Automated Global Electronic BioSurveillance (SAGES)"}]
[]
[]
[]
[]
[]
[null,null,null,null,null,null,null,null,{"$f":"Backbone!A450","v":"Tool for Assessing Progress towards Elimination of Rabies (TAPER)"},null,null,null,null,null,null,"This tool supports the evaluation of routinely collected rabies surveillance data to provide up-to-date locally tailored management guidance.",null,null,null,null,null,null,null,null,{"$f":"INDEX(Backbone!$R$2:$R$893,MATCH(I241,Backbone!$A$2:$A$893,0))","v":"Hardware or Software"},null,null,null,{"$f":"INDEX(Backbone!$S$2:$S$893,MATCH(I241,Backbone!$A$2:$A$893,0))","v":"One Health; Disease/Threat Specific "},null,null,null,{"$f":"INDEX(Backbone!$H$2:$H$893,MATCH(I241,Backbone!$A$2:$A$893,0))","v":9.6},null,{"$f":"INDEX(Backbone!$I$2:$I$893,MATCH(I241,Backbone!$A$2:$A$893,0))","v":10},null,{"$f":"INDEX(Backbone!$J$2:$J$893,MATCH(I241,Backbone!$A$2:$A$893,0))","v":7.3},null,{"$f":"INDEX(Backbone!$K$1:$K$893,MATCH(I241,Backbone!$A$1:$A$893,0))","v":8},null,{"$f":"INDEX(Backbone!$L$2:$L$893,MATCH(I241,Backbone!$A$2:$A$893,0))","v":8.8000000000000007},null,{"$f":"INDEX(Backbone!$M$2:$M$893,MATCH(I241,Backbone!$A$2:$A$893,0))","v":5.5},null,{"$f":"INDEX(Backbone!$N$2:$N$893,MATCH(I241,Backbone!$A$2:$A$893,0))","v":4.3},null,{"$f":"INDEX(Backbone!$O$2:$O$893,MATCH(I241,Backbone!$A$2:$A$893,0))","v":7.9},null,{"$f":"INDEX(Backbone!$P$2:$P$893,MATCH(I241,Backbone!$A$2:$A$893,0))","v":6},null,{"$f":"INDEX(Backbone!$Q$2:$Q$893,MATCH(I241,Backbone!$A$2:$A$893,0))","v":0.74888888888888894},null,null,{"$f":"(AG241*$AG$22+AI241*$AI$22+AK241*$AK$22+AM241*$AM$22+AO241*$AO$22+AQ241*$AQ$22+AS241*$AS$22+AU241*$AU$22+AW241*$AW$22)/(SUM($AG$22:$AW$22)*10)","v":{"$error":"#DIV/0!"}},null,null,"Go to \nToolbox: ",null,{"$f":"HYPERLINK(\"#\"&ADDRESS(MATCH(I241,Toolbox!$C$1:$C$300),1,,,\"Toolbox\"),VLOOKUP(I241,Toolbox!$C$1:$C$300,1,FALSE))","v":"Tool for Assessing Progress towards Elimination of Rabies (TAPER)"}]

{"sheet":"I7_tools","index":52,"n_rows":220,"n_cols":59,"rows_kept":220,"cut":false,"hidden":false,"merged":[[200,56,204,57],[200,58,204,62],[207,56,211,57],[207,58,211,62],[213,56,217,57],[213,58,217,62],[219,56,223,57],[219,58,223,62],[136,56,140,57],[136,58,140,62],[142,56,146,57],[142,58,146,62],[148,56,152,57],[148,58,152,62],[188,56,192,57],[188,58,192,62],[194,56,198,57],[194,58,198,62],[105,56,109,57],[105,58,109,62],[111,56,115,57],[111,58,115,62],[117,56,121,57],[117,58,121,62],[123,56,127,57],[123,58,127,62],[129,56,133,57],[129,58,133,62],[40,56,44,57],[40,58,44,62],[46,56,50,57],[46,58,50,62],[53,56,57,57],[53,58,57,62],[59,56,63,57],[59,58,63,62],[65,56,69,57],[65,58,69,62],[1,1,3,62],[22,56,26,57],[22,58,26,62],[28,56,32,57],[28,58,32,62],[34,56,38,57],[34,58,38,62],[28,53,32,54],[34,8,38,13],[34,24,38,26],[22,50,26,51],[22,53,26,54],[28,8,32,13],[28,15,32,22],[28,32,32,32],[28,34,32,34],[28,36,32,36],[28,38,32,38],[22,38,26,38],[22,40,26,40],[22,42,26,42],[22,34,26,34],[22,36,26,36],[22,44,26,44],[22,46,26,46],[22,48,26,48],[22,15,26,22],[22,24,26,26],[22,28,26,30],[22,32,26,32],[17,28,20,30],[22,3,50,6],[22,8,26,13],[34,42,38,42],[34,44,38,44],[34,46,38,46],[34,48,38,48],[34,32,38,32],[34,34,38,34],[34,36,38,36],[34,38,38,38],[34,40,38,40],[28,40,32,40],[46,8,50,13],[46,15,50,22],[46,24,50,26],[46,28,50,30],[46,32,50,32],[46,34,50,34],[46,36,50,36],[40,36,44,36],[40,38,44,38],[40,8,44,13],[40,15,44,22],[6,32,20,32],[6,34,20,34],[6,36,20,36],[6,38,20,38],[34,15,38,22],[34,28,38,30],[6,40,20,40],[6,42,20,42],[6,44,20,44],[6,46,20,46],[6,48,20,48],[13,50,20,51],[13,53,20,54],[17,1,69,1],[17,3,20,6],[17,8,20,13],[17,15,20,22],[28,42,32,42],[17,24,20,26],[28,44,32,44],[28,46,32,46],[28,48,32,48],[28,50,32,51],[28,24,32,26],[28,28,32,30],[40,24,44,26],[40,28,44,30],[40,32,44,32],[40,34,44,34],[46,50,50,51],[46,53,50,54],[46,38,50,38],[46,40,50,40],[46,42,50,42],[46,44,50,44],[46,46,50,46],[46,48,50,48],[40,48,44,48],[40,50,44,51],[40,53,44,54],[40,40,44,40],[40,42,44,42],[40,44,44,44],[40,46,44,46],[34,50,38,51],[34,53,38,54],[53,3,69,6],[53,8,57,13],[53,15,57,22],[53,24,57,26],[53,28,57,30],[53,32,57,32],[53,34,57,34],[53,36,57,36],[53,38,57,38],[65,8,69,13],[65,15,69,22],[65,24,69,26],[65,28,69,30],[65,32,69,32],[65,34,69,34],[59,48,63,48],[59,50,63,51],[59,53,63,54],[53,53,57,54],[59,8,63,13],[59,15,63,22],[59,24,63,26],[59,28,63,30],[59,32,63,32],[59,34,63,34],[59,36,63,36],[59,38,63,38],[59,40,63,40],[53,40,57,40],[53,42,57,42],[53,44,57,44],[53,46,57,46],[53,48,57,48],[53,50,57,51],[59,42,63,42],[59,44,63,44],[59,46,63,46],[65,48,69,48],[65,50,69,51],[65,53,69,54],[65,36,69,36],[65,38,69,38],[65,40,69,40],[65,42,69,42],[65,44,69,44],[65,46,69,46],[89,48,103,48],[96,50,103,51],[96,53,103,54],[89,42,103,42],[100,3,103,6],[100,8,103,13],[100,15,103,22],[100,24,103,26],[89,32,103,32],[89,34,103,34],[89,36,103,36],[89,38,103,38],[89,40,103,40],[105,48,109,48],[105,50,109,51],[105,53,109,54],[111,8,115,13],[111,15,115,22],[111,24,115,26],[111,28,115,30],[111,32,115,32],[105,32,109,32],[105,34,109,34],[105,36,109,36],[105,38,109,38],[105,40,109,40],[105,42,109,42],[105,8,109,13],[105,15,109,22],[105,24,109,26],[105,28,109,30],[111,48,115,48],[111,50,115,51],[111,53,115,54],[111,40,115,40],[111,42,115,42],[111,44,115,44],[117,8,121,13],[117,15,121,22],[117,24,121,26],[117,28,121,30],[117,32,121,32],[117,34,121,34],[111,34,115,34],[111,36,115,36],[111,38,115,38],[117,48,121,48],[117,50,121,51],[117,53,121,54],[129,8,133,13],[129,15,133,22],[129,24,133,26],[129,28,133,30],[129,32,133,32],[129,34,133,34],[129,36,133,36],[117,36,121,36],[117,38,121,38],[117,40,121,40],[117,42,121,42],[117,44,121,44],[117,46,121,46],[123,53,127,54],[123,40,127,40],[123,42,127,42],[123,44,127,44],[123,46,127,46],[123,48,127,48],[123,50,127,51],[123,8,127,13],[136,8,140,13],[136,15,140,22],[136,24,140,26],[136,28,140,30],[136,32,140,32],[136,34,140,34],[136,36,140,36],[129,38,133,38],[129,40,133,40],[136,40,140,40],[142,24,146,26],[142,28,146,30],[142,32,146,32],[142,34,146,34],[142,36,146,36],[142,38,146,38],[136,38,140,38],[129,50,133,51],[129,53,133,54],[129,42,133,42],[129,44,133,44],[129,46,133,46],[129,48,133,48],[136,50,140,51],[136,53,140,54],[136,42,140,42],[136,44,140,44],[136,46,140,46],[136,48,140,48],[123,34,127,34],[123,36,127,36],[123,38,127,38],[148,48,152,48],[148,50,152,51],[148,53,152,54],[142,53,146,54],[148,8,152,13],[148,15,152,22],[148,24,152,26],[148,28,152,30],[148,32,152,32],[148,34,152,34],[148,36,152,36],[148,38,152,38],[148,40,152,40],[142,40,146,40],[142,42,146,42],[142,44,146,44],[142,46,146,46],[142,48,146,48],[142,50,146,51],[142,8,146,13],[142,15,146,22],[188,53,192,54],[194,8,198,13],[194,15,198,22],[194,24,198,26],[136,3,152,6],[100,1,152,1],[172,32,186,32],[172,34,186,34],[172,36,186,36],[172,38,186,38],[148,42,152,42],[148,44,152,44],[148,46,152,46],[111,46,115,46],[105,44,109,44],[105,46,109,46],[100,28,103,30],[105,3,133,6],[89,44,103,44],[89,46,103,46],[123,15,127,22],[123,24,127,26],[123,28,127,30],[123,32,127,32],[194,40,198,40],[188,40,192,40],[188,42,192,42],[188,44,192,44],[188,38,192,38],[179,53,186,54],[183,1,223,1],[183,3,186,6],[183,8,186,13],[183,15,186,22],[183,24,186,26],[183,28,186,30],[188,3,204,6],[188,8,192,13],[188,15,192,22],[172,40,186,40],[172,42,186,42],[172,44,186,44],[172,46,186,46],[172,48,186,48],[179,50,186,51],[194,48,198,48],[194,50,198,51],[194,53,198,54],[188,46,192,46],[188,48,192,48],[188,50,192,51],[188,24,192,26],[188,28,192,30],[188,32,192,32],[188,34,192,34],[188,36,192,36],[200,8,204,13],[200,15,204,22],[200,24,204,26],[200,28,204,30],[200,32,204,32],[200,34,204,34],[194,42,198,42],[194,44,198,44],[194,46,198,46],[200,48,204,48],[200,50,204,51],[194,28,198,30],[194,32,198,32],[194,34,198,34],[194,36,198,36],[194,38,198,38],[200,53,204,54],[200,36,204,36],[200,38,204,38],[200,40,204,40],[200,42,204,42],[200,44,204,44],[200,46,204,46],[207,3,223,6],[207,8,211,13],[207,15,211,22],[207,24,211,26],[207,28,211,30],[207,32,211,32],[207,34,211,34],[207,36,211,36],[207,38,211,38],[213,48,217,48],[213,50,217,51],[213,53,217,54],[207,53,211,54],[213,8,217,13],[213,15,217,22],[213,24,217,26],[213,28,217,30],[219,8,223,13],[219,15,223,22],[219,24,223,26],[219,28,223,30],[219,32,223,32],[219,34,223,34],[213,42,217,42],[213,44,217,44],[213,46,217,46],[213,32,217,32],[213,34,217,34],[213,36,217,36],[213,38,217,38],[213,40,217,40],[219,53,223,54],[219,36,223,36],[219,38,223,38],[219,40,223,40],[219,42,223,42],[219,44,223,44],[219,46,223,46],[207,48,211,48],[207,50,211,51],[219,48,223,48],[219,50,223,51],[207,40,211,40],[207,42,211,42],[207,44,211,44],[207,46,211,46]]}
[]
[null,"Data Sharing Resources"]
[]
[]
[]
[]
[null,null,null,null,null,null,null,null,null,null,null,null,null,null,null,null,null,null,null,null,null,null,null,null,null,null,null,null,null,null,null,null,"Accessibility",null,"Language",null,"Ease of use",null,"Flexibility",null,"Data Needs",null,"Data Analysis",null,"Acceptability",null,"One Health",null,"Impact"]
[]
[]
[]
[]
[]
[]
[null,null,null,null,null,null,null,null,null,null,null,null,null,null,null,null,null,null,null,null,null,null,null,null,null,null,null,null,null,null,null,null,null,null,null,null,null,null,null,null,null,null,null,null,null,null,null,null,null,null,"RAW SCORE",null,null,"ADJUSTED SCORE \n(Based on user preferences)"]
[]
[]
[]
[null,"LEVEL 1 RESOURCES",null,"DESIGNATION",null,null,null,null,"RESOURCE NAME",null,null,null,null,null,null,"SHORT DESCRIPTION",null,null,null,null,null,null,null,null,"RESOURCE TYPE",null,null,null,"RESOURCE GENERALITY"]
[]
[]
[]
[null,null,null,null,null,null,null,null,null,null,null,null,null,null,null,null,null,null,null,null,null,null,null,null,null,null,null,null,null,null,null,null,{"$f":"'Attribute Survey'!S22","v":0},null,{"$f":"'Attribute Survey'!S26","v":0},null,{"$f":"'Attribute Survey'!S30","v":0},null,{"$f":"'Attribute Survey'!S34","v":0},null,{"$f":"'Attribute Survey'!S38","v":0},null,{"$f":"'Attribute Survey'!S42","v":0},null,{"$f":"'Attribute Survey'!S46","v":0},null,{"$f":"'Attribute Survey'!S50","v":0},null,{"$f":"'Attribute Survey'!S54","v":0}]
[null,null,null,"Resources Best Fit For Purpose",null,null,null,null,{"$f":"Backbone!A21","v":"AfyaData"},null,null,null,null,null,null,"A One Health disease surveillance tool, designed to cater for Human, animal and environmental surveillance needs, comprised of Mobile and Web Apps.",null,null,null,null,null,null,null,null,{"$f":"INDEX(Backbone!$R$2:$R$893,MATCH(I23,Backbone!$A$2:$A$893,0))","v":"Hardware or Software"},null,null,null,{"$f":"INDEX(Backbone!$S$2:$S$893,MATCH(I23,Backbone!$A$2:$A$893,0))","v":"One Health; Generalized "},null,null,null,{"$f":"INDEX(Backbone!$H$2:$H$893,MATCH(I23,Backbone!$A$2:$A$893,0))","v":7.3},null,{"$f":"INDEX(Backbone!$I$2:$I$893,MATCH(I23,Backbone!$A$2:$A$893,0))","v":10},null,{"$f":"INDEX(Backbone!$J$2:$J$893,MATCH(I23,Backbone!$A$2:$A$893,0))","v":8.1999999999999993},null,{"$f":"INDEX(Backbone!$K$2:$K$893,MATCH(I23,Backbone!$A$2:$A$893,0))","v":7.3},null,{"$f":"INDEX(Backbone!$L$2:$L$893,MATCH(I23,Backbone!$A$2:$A$893,0))","v":7.6},null,{"$f":"INDEX(Backbone!$M$2:$M$893,MATCH(I23,Backbone!$A$2:$A$893,0))","v":8.8000000000000007},null,{"$f":"INDEX(Backbone!$N$2:$N$893,MATCH(I23,Backbone!$A$2:$A$893,0))","v":5.5},null,{"$f":"INDEX(Backbone!$O$2:$O$893,MATCH(I23,Backbone!$A$2:$A$893,0))","v":7.6},null,{"$f":"INDEX(Backbone!$P$2:$P$893,MATCH(I23,Backbone!$A$2:$A$893,0))","v":7},null,{"$f":"INDEX(Backbone!$Q$2:$Q$893,MATCH(I23,Backbone!$A$2:$A$893,0))","v":0.77000000000000013},null,null,{"$f":"(AG23*$AG$22+AI23*$AI$22+AK23*$AK$22+AM23*$AM$22+AO23*$AO$22+AQ23*$AQ$22+AS23*$AS$22+AU23*$AU$22+AW23*$AW$22)/(SUM($AG$22:$AW$22)*10)","v":{"$error":"#DIV/0!"}},null,null,"Go to \nToolbox: ",null,{"$f":"HYPERLINK(\"#\"&ADDRESS(MATCH(I23,Toolbox!$C$1:$C$300),1,,,\"Toolbox\"),VLOOKUP(I23,Toolbox!$C$1:$C$300,1,FALSE))","v":"AfyaData"}]
[]
[]
[]
[]
[]
[null,null,null,null,null,null,null,null,{"$f":"Backbone!A65","v":"District Health Information Software 2 (DHIS2) "},null,null,null,null,null,null,"An open source, web-based health management information system  platform.",null,null,null,null,null,null,null,null,{"$f":"INDEX(Backbone!$R$2:$R$893,MATCH(I29,Backbone!$A$2:$A$893,0))","v":"Hardware or Software"},null,null,null,{"$f":"INDEX(Backbone!$S$2:$S$893,MATCH(I29,Backbone!$A$2:$A$893,0))","v":"Sector Specific; Generalized"},null,null,null,{"$f":"INDEX(Backbone!$H$2:$H$893,MATCH(I29,Backbone!$A$2:$A$893,0))","v":8.8000000000000007},null,{"$f":"INDEX(Backbone!$I$2:$I$893,MATCH(I29,Backbone!$A$2:$A$893,0))","v":8.6999999999999993},null,{"$f":"INDEX(Backbone!$J$2:$J$893,MATCH(I29,Backbone!$A$2:$A$893,0))","v":8},null,{"$f":"INDEX(Backbone!$K$2:$K$893,MATCH(I29,Backbone!$A$2:$A$893,0))","v":8.6999999999999993},null,{"$f":"INDEX(Backbone!$L$2:$L$893,MATCH(I29,Backbone!$A$2:$A$893,0))","v":9.3000000000000007},null,{"$f":"INDEX(Backbone!$M$2:$M$893,MATCH(I29,Backbone!$A$2:$A$893,0))","v":9},null,{"$f":"INDEX(Backbone!$N$2:$N$893,MATCH(I29,Backbone!$A$2:$A$893,0))","v":10},null,{"$f":"INDEX(Backbone!$O$2:$O$893,MATCH(I29,Backbone!$A$2:$A$893,0))","v":7.8},null,{"$f":"INDEX(Backbone!$P$2:$P$893,MATCH(I29,Backbone!$A$2:$A$893,0))","v":7},null,{"$f":"INDEX(Backbone!$Q$2:$Q$893,MATCH(I29,Backbone!$A$2:$A$893,0))","v":0.85888888888888881},null,null,{"$f":"(AG29*$AG$22+AI29*$AI$22+AK29*$AK$22+AM29*$AM$22+AO29*$AO$22+AQ29*$AQ$22+AS29*$AS$22+AU29*$AU$22+AW29*$AW$22)/(SUM($AG$22:$AW$22)*10)","v":{"$error":"#DIV/0!"}},null,null,"Go to \nToolbox: ",null,{"$f":"HYPERLINK(\"#\"&ADDRESS(MATCH(I29,Toolbox!$C$1:$C$300),1,,,\"Toolbox\"),VLOOKUP(I29,Toolbox!$C$1:$C$300,1,FALSE))","v":"District Health Information Software 2 (DHIS2) "}]
[]
[]
[]
[]
[]
[null,null,null,null,null,null,null,null,{"$f":"Backbone!A138","v":"Electronic Integrated Disease Surveillance System (EIDSS)"},null,null,null,null,null,null,"A customizable web-based electronic disease reporting system that can support passive and active human and veterinary health surveillance, laboratory diagnostics, vector surveillance, and outbreak management. ",null,null,null,null,null,null,null,null,{"$f":"INDEX(Backbone!$R$2:$R$893,MATCH(I35,Backbone!$A$2:$A$893,0))","v":"Hardware or Software"},null,null,null,{"$f":"INDEX(Backbone!$S$2:$S$893,MATCH(I35,Backbone!$A$2:$A$893,0))","v":"One Health; Generalized"},null,null,null,{"$f":"INDEX(Backbone!$H$2:$H$893,MATCH(I35,Backbone!$A$2:$A$893,0))","v":6.8},null,{"$f":"INDEX(Backbone!$I$2:$I$893,MATCH(I35,Backbone!$A$2:$A$893,0))","v":10},null,{"$f":"INDEX(Backbone!$J$2:$J$893,MATCH(I35,Backbone!$A$2:$A$893,0))","v":8.4},null,{"$f":"INDEX(Backbone!$K$1:$K$893,MATCH(I35,Backbone!$A$1:$A$893,0))","v":8.6999999999999993},null,{"$f":"INDEX(Backbone!$L$2:$L$893,MATCH(I35,Backbone!$A$2:$A$893,0))","v":9.1},null,{"$f":"INDEX(Backbone!$M$2:$M$893,MATCH(I35,Backbone!$A$2:$A$893,0))","v":8},null,{"$f":"INDEX(Backbone!$N$2:$N$893,MATCH(I35,Backbone!$A$2:$A$893,0))","v":7},null,{"$f":"INDEX(Backbone!$O$2:$O$893,MATCH(I35,Backbone!$A$2:$A$893,0))","v":7.2},null,{"$f":"INDEX(Backbone!$P$2:$P$893,MATCH(I35,Backbone!$A$2:$A$893,0))","v":10},null,{"$f":"INDEX(Backbone!$Q$2:$Q$893,MATCH(I35,Backbone!$A$2:$A$893,0))","v":0.83555555555555561},null,null,{"$f":"(AG35*$AG$22+AI35*$AI$22+AK35*$AK$22+AM35*$AM$22+AO35*$AO$22+AQ35*$AQ$22+AS35*$AS$22+AU35*$AU$22+AW35*$AW$22)/(SUM($AG$22:$AW$22)*10)","v":{"$error":"#DIV/0!"}},null,null,"Go to \nToolbox: ",null,{"$f":"HYPERLINK(\"#\"&ADDRESS(MATCH(I35,Toolbox!$C$1:$C$300),1,,,\"Toolbox\"),VLOOKUP(I35,Toolbox!$C$1:$C$300,1,FALSE))","v":"Electronic Integrated Disease Surveillance System (EIDSS)"}]
[]
[]
[]
[]
[]
[null,null,null,null,null,null,null,null,{"$f":"Backbone!A195","v":"Integrated Disease Surveillance and Response (IDSR)"},null,null,null,null,null,null,"A strategy aimed at strengthening capacities for detection, confirmation and response to suspected cases and outbreaks, and for use of information to predict and plan for public health events.",null,null,null,null,null,null,null,null,{"$f":"INDEX(Backbone!$R$2:$R$893,MATCH(I41,Backbone!$A$2:$A$893,0))","v":"Guidance document"},null,null,null,{"$f":"INDEX(Backbone!$S$2:$S$893,MATCH(I41,Backbone!$A$2:$A$893,0))","v":"Sector Specific; Generalized"},null,null,null,{"$f":"INDEX(Backbone!$H$2:$H$893,MATCH(I41,Backbone!$A$2:$A$893,0))","v":7.4},null,{"$f":"INDEX(Backbone!$I$2:$I$893,MATCH(I41,Backbone!$A$2:$A$893,0))","v":10},null,{"$f":"INDEX(Backbone!$J$2:$J$893,MATCH(I41,Backbone!$A$2:$A$893,0))","v":7.4},null,{"$f":"INDEX(Backbone!$K$1:$K$893,MATCH(I41,Backbone!$A$1:$A$893,0))","v":8.6999999999999993},null,{"$f":"INDEX(Backbone!$L$2:$L$893,MATCH(I41,Backbone!$A$2:$A$893,0))","v":6.7},null,{"$f":"INDEX(Backbone!$M$2:$M$893,MATCH(I41,Backbone!$A$2:$A$893,0))","v":4.5},null,{"$f":"INDEX(Backbone!$N$2:$N$893,MATCH(I41,Backbone!$A$2:$A$893,0))","v":8},null,{"$f":"INDEX(Backbone!$O$2:$O$893,MATCH(I41,Backbone!$A$2:$A$893,0))","v":7.2},null,{"$f":"INDEX(Backbone!$P$2:$P$893,MATCH(I41,Backbone!$A$2:$A$893,0))","v":8.5},null,{"$f":"INDEX(Backbone!$Q$2:$Q$893,MATCH(I41,Backbone!$A$2:$A$893,0))","v":0.76},null,null,{"$f":"(AG41*$AG$22+AI41*$AI$22+AK41*$AK$22+AM41*$AM$22+AO41*$AO$22+AQ41*$AQ$22+AS41*$AS$22+AU41*$AU$22+AW41*$AW$22)/(SUM($AG$22:$AW$22)*10)","v":{"$error":"#DIV/0!"}},null,null,"Go to \nToolbox: ",null,{"$f":"HYPERLINK(\"#\"&ADDRESS(MATCH(I41,Toolbox!$C$1:$C$300),1,,,\"Toolbox\"),VLOOKUP(I41,Toolbox!$C$1:$C$300,1,FALSE))","v":"Integrated Disease Surveillance and Response (IDSR)"}]
[]
[]
[]
[]
[]
[null,null,null,null,null,null,null,null,{"$f":"Backbone!A489","v":"The Suite for Automated Global Electronic BioSurveillance (SAGES)"},null,null,null,null,null,null,"A suite of open source software tools designed to enhance electronic disease surveillance in resource-limited settings.",null,null,null,null,null,null,null,null,{"$f":"INDEX(Backbone!$R$2:$R$893,MATCH(I47,Backbone!$A$2:$A$893,0))","v":"Hardware or Software"},null,null,null,{"$f":"INDEX(Backbone!$S$2:$S$893,MATCH(I47,Backbone!$A$2:$A$893,0))","v":"One Health; Generalized"},null,null,null,{"$f":"INDEX(Backbone!$H$2:$H$893,MATCH(I47,Backbone!$A$2:$A$893,0))","v":9.8000000000000007},null,{"$f":"INDEX(Backbone!$I$2:$I$893,MATCH(I47,Backbone!$A$2:$A$893,0))","v":10},null,{"$f":"INDEX(Backbone!$J$2:$J$893,MATCH(I47,Backbone!$A$2:$A$893,0))","v":10},null,{"$f":"INDEX(Backbone!$K$1:$K$893,MATCH(I47,Backbone!$A$1:$A$893,0))","v":9.3000000000000007},null,{"$f":"INDEX(Backbone!$L$2:$L$893,MATCH(I47,Backbone!$A$2:$A$893,0))","v":8.5},null,{"$f":"INDEX(Backbone!$M$2:$M$893,MATCH(I47,Backbone!$A$2:$A$893,0))","v":9},null,{"$f":"INDEX(Backbone!$N$2:$N$893,MATCH(I47,Backbone!$A$2:$A$893,0))","v":5.5},null,{"$f":"INDEX(Backbone!$O$2:$O$893,MATCH(I47,Backbone!$A$2:$A$893,0))","v":9.5},null,{"$f":"INDEX(Backbone!$P$2:$P$893,MATCH(I47,Backbone!$A$2:$A$893,0))","v":7},null,{"$f":"INDEX(Backbone!$Q$2:$Q$893,MATCH(I47,Backbone!$A$2:$A$893,0))","v":0.87333333333333329},null,null,{"$f":"(AG47*$AG$22+AI47*$AI$22+AK47*$AK$22+AM47*$AM$22+AO47*$AO$22+AQ47*$AQ$22+AS47*$AS$22+AU47*$AU$22+AW47*$AW$22)/(SUM($AG$22:$AW$22)*10)","v":{"$error":"#DIV/0!"}},null,null,"Go to \nToolbox: ",null,{"$f":"HYPERLINK(\"#\"&ADDRESS(MATCH(I47,Toolbox!$C$1:$C$300),1,,,\"Toolbox\"),VLOOKUP(I47,Toolbox!$C$1:$C$300,1,FALSE))","v":"The Suite for Automated Global Electronic BioSurveillance (SAGES)"}]
[]
[]
[]
[]
[]
[]
[null,null,null,"Other Relevant Resources",null,null,null,null,{"$f":"Backbone!A155","v":"The Epidemic Intelligence from Open Sources (EIOS)"},null,null,null,null,null,null,"EIOS Initiative is a unique collaboration between WHO and various stakeholders that brings together new and existing initiatives, networks and systems to create a unified all-hazards, One Health approach to early detection, verification and assessment of public health risks and threats using open source information.",null,null,null,null,null,null,null,null,{"$f":"INDEX(Backbone!$R$2:$R$893,MATCH(I54,Backbone!$A$2:$A$893,0))","v":"Hardware or Software"},null,null,null,{"$f":"INDEX(Backbone!$S$2:$S$893,MATCH(I54,Backbone!$A$2:$A$893,0))","v":"One Health; Generalized"},null,null,null,{"$f":"INDEX(Backbone!$H$2:$H$893,MATCH(I54,Backbone!$A$2:$A$893,0))","v":8.4},null,{"$f":"INDEX(Backbone!$I$2:$I$893,MATCH(I54,Backbone!$A$2:$A$893,0))","v":9},null,{"$f":"INDEX(Backbone!$J$2:$J$893,MATCH(I54,Backbone!$A$2:$A$893,0))","v":7.4},null,{"$f":"INDEX(Backbone!$K$1:$K$893,MATCH(I54,Backbone!$A$1:$A$893,0))","v":9},null,{"$f":"INDEX(Backbone!$L$2:$L$893,MATCH(I54,Backbone!$A$2:$A$893,0))","v":8.8000000000000007},null,{"$f":"INDEX(Backbone!$M$2:$M$893,MATCH(I54,Backbone!$A$2:$A$893,0))","v":8},null,{"$f":"INDEX(Backbone!$N$2:$N$893,MATCH(I54,Backbone!$A$2:$A$893,0))","v":5.5},null,{"$f":"INDEX(Backbone!$O$2:$O$893,MATCH(I54,Backbone!$A$2:$A$893,0))","v":9.1999999999999993},null,{"$f":"INDEX(Backbone!$P$2:$P$893,MATCH(I54,Backbone!$A$2:$A$893,0))","v":6},null,{"$f":"INDEX(Backbone!$Q$2:$Q$893,MATCH(I54,Backbone!$A$2:$A$893,0))","v":0.79222222222222216},null,null,{"$f":"(AG54*$AG$22+AI54*$AI$22+AK54*$AK$22+AM54*$AM$22+AO54*$AO$22+AQ54*$AQ$22+AS54*$AS$22+AU54*$AU$22+AW54*$AW$22)/(SUM($AG$22:$AW$22)*10)","v":{"$error":"#DIV/0!"}},null,null,"Go to \nToolbox: ",null,{"$f":"HYPERLINK(\"#\"&ADDRESS(MATCH(I54,Toolbox!$C$1:$C$300),1,,,\"Toolbox\"),VLOOKUP(I54,Toolbox!$C$1:$C$300,1,FALSE))","v":"The Epidemic Intelligence from Open Sources (EIOS)"}]
[]
[]
[]
[]
[]
[null,null,null,null,null,null,null,null,{"$f":"Backbone!A648","v":"Preparedness and Response Planning Toolkit"},null,null,null,null,null,null,"This toolkit is designed to support countries in their development of multisectoral preparedness and response plans for public health events. ",null,null,null,null,null,null,null,null,{"$f":"INDEX(Backbone!$R$2:$R$893,MATCH(I60,Backbone!$A$2:$A$893,0))","v":"Guidance document"},null,null,null,{"$f":"INDEX(Backbone!$S$2:$S$893,MATCH(I60,Backbone!$A$2:$A$893,0))","v":"One Health; Generalized"},null,null,null,{"$f":"INDEX(Backbone!$H$2:$H$893,MATCH(I60,Backbone!$A$2:$A$893,0))","v":8.4},null,{"$f":"INDEX(Backbone!$I$2:$I$893,MATCH(I60,Backbone!$A$2:$A$893,0))","v":8},null,{"$f":"INDEX(Backbone!$J$2:$J$893,MATCH(I60,Backbone!$A$2:$A$893,0))","v":8.4},null,{"$f":"INDEX(Backbone!$K$1:$K$893,MATCH(I60,Backbone!$A$1:$A$893,0))","v":6.7},null,{"$f":"INDEX(Backbone!$L$2:$L$893,MATCH(I60,Backbone!$A$2:$A$893,0))","v":2},null,{"$f":"INDEX(Backbone!$M$2:$M$893,MATCH(I60,Backbone!$A$2:$A$893,0))","v":3.5},null,{"$f":"INDEX(Backbone!$N$2:$N$893,MATCH(I60,Backbone!$A$2:$A$893,0))","v":4},null,{"$f":"INDEX(Backbone!$O$2:$O$893,MATCH(I60,Backbone!$A$2:$A$893,0))","v":6.4},null,{"$f":"INDEX(Backbone!$P$2:$P$893,MATCH(I60,Backbone!$A$2:$A$893,0))","v":8},null,{"$f":"INDEX(Backbone!$Q$2:$Q$893,MATCH(I60,Backbone!$A$2:$A$893,0))","v":0.61555555555555552},null,null,{"$f":"(AG60*$AG$22+AI60*$AI$22+AK60*$AK$22+AM60*$AM$22+AO60*$AO$22+AQ60*$AQ$22+AS60*$AS$22+AU60*$AU$22+AW60*$AW$22)/(SUM($AG$22:$AW$22)*10)","v":{"$error":"#DIV/0!"}},null,null,"Go to \nToolbox: ",null,{"$f":"HYPERLINK(\"#\"&ADDRESS(MATCH(I60,Toolbox!$C$1:$C$300),1,,,\"Toolbox\"),VLOOKUP(I60,Toolbox!$C$1:$C$300,1,FALSE))","v":"Preparedness and Response Planning Toolkit"}]
[]
[]
[]
[]
[]
[null,null,null,null,null,null,null,null,{"$f":"Backbone!A604","v":"Rabies Exposure and Case Tracker Application (React)"},null,null,null,null,null,null,"A tool to support implementation of Integrated Bite Case Management programs.",null,null,null,null,null,null,null,null,{"$f":"INDEX(Backbone!$R$2:$R$893,MATCH(I66,Backbone!$A$2:$A$893,0))","v":"Hardware or Software"},null,null,null,{"$f":"INDEX(Backbone!$S$2:$S$893,MATCH(I66,Backbone!$A$2:$A$893,0))","v":"One Health; Disease/Threat Specific "},null,null,null,{"$f":"INDEX(Backbone!$H$2:$H$893,MATCH(I66,Backbone!$A$2:$A$893,0))","v":8.6},null,{"$f":"INDEX(Backbone!$I$2:$I$893,MATCH(I66,Backbone!$A$2:$A$893,0))","v":8.6},null,{"$f":"INDEX(Backbone!$J$2:$J$893,MATCH(I66,Backbone!$A$2:$A$893,0))","v":8},null,{"$f":"INDEX(Backbone!$K$1:$K$893,MATCH(I66,Backbone!$A$1:$A$893,0))","v":8.6},null,{"$f":"INDEX(Backbone!$L$2:$L$893,MATCH(I66,Backbone!$A$2:$A$893,0))","v":9.4},null,{"$f":"INDEX(Backbone!$M$2:$M$893,MATCH(I66,Backbone!$A$2:$A$893,0))","v":9.5},null,{"$f":"INDEX(Backbone!$N$2:$N$893,MATCH(I66,Backbone!$A$2:$A$893,0))","v":9},null,{"$f":"INDEX(Backbone!$O$2:$O$893,MATCH(I66,Backbone!$A$2:$A$893,0))","v":9.1999999999999993},null,{"$f":"INDEX(Backbone!$P$2:$P$893,MATCH(I66,Backbone!$A$2:$A$893,0))","v":9},null,{"$f":"INDEX(Backbone!$Q$2:$Q$893,MATCH(I66,Backbone!$A$2:$A$893,0))","v":0.88777777777777767},null,null,{"$f":"(AG66*$AG$22+AI66*$AI$22+AK66*$AK$22+AM66*$AM$22+AO66*$AO$22+AQ66*$AQ$22+AS66*$AS$22+AU66*$AU$22+AW66*$AW$22)/(SUM($AG$22:$AW$22)*10)","v":{"$error":"#DIV/0!"}},null,null,"Go to \nToolbox: ",null,{"$f":"HYPERLINK(\"#\"&ADDRESS(MATCH(I66,Toolbox!$C$1:$C$300),1,,,\"Toolbox\"),VLOOKUP(I66,Toolbox!$C$1:$C$300,1,FALSE))","v":"Rabies Exposure and Case Tracker Application (React)"}]
[]
[]
[]
[]
[]
[]
[]
[]
[]
[]
[]
[]
[]
[]
[]
[]
[]
[]
[]
[]
[]
[]
[]
[null,null,null,null,null,null,null,null,null,null,null,null,null,null,null,null,null,null,null,null,null,null,null,null,null,null,null,null,null,null,null,null,"Accessibility",null,"Language",null,"Ease of use",null,"Flexibility",null,"Data Needs",null,"Data Analysis",null,"Acceptability",null,"One Health",null,"Impact"]
[]
[]
[]
[]
[]
[]
[null,null,null,null,null,null,null,null,null,null,null,null,null,null,null,null,null,null,null,null,null,null,null,null,null,null,null,null,null,null,null,null,null,null,null,null,null,null,null,null,null,null,null,null,null,null,null,null,null,null,"RAW SCORE",null,null,"ADJUSTED SCORE \n(Based on user preferences)"]
[]
[]
[]
[null,"LEVEL 2 RESOURCES",null,"DESIGNATION",null,null,null,null,"RESOURCE NAME",null,null,null,null,null,null,"SHORT DESCRIPTION",null,null,null,null,null,null,null,null,"RESOURCE TYPE",null,null,null,"RESOURCE GENERALITY"]
[]
[]
[]
[null,null,null,null,null,null,null,null,null,null,null,null,null,null,null,null,null,null,null,null,null,null,null,null,null,null,null,null,null,null,null,null,{"$f":"'Attribute Survey'!S211","v":0},null,{"$f":"'Attribute Survey'!S215","v":0},null,{"$f":"'Attribute Survey'!S219","v":0},null,{"$f":"'Attribute Survey'!S223","v":0},null,{"$f":"'Attribute Survey'!S227","v":0},null,{"$f":"'Attribute Survey'!S231","v":0},null,{"$f":"'Attribute Survey'!S235","v":0},null,{"$f":"'Attribute Survey'!S239","v":0},null,{"$f":"'Attribute Survey'!S243","v":0}]
[null,null,null,"Resources Best Fit For Purpose",null,null,null,null,{"$f":"Backbone!A21","v":"AfyaData"},null,null,null,null,null,null,"A One Health disease surveillance tool, designed to cater for Human, animal and environmental surveillance needs, comprised of Mobile and Web Apps.",null,null,null,null,null,null,null,null,{"$f":"INDEX(Backbone!$R$2:$R$893,MATCH(I106,Backbone!$A$2:$A$893,0))","v":"Hardware or Software"},null,null,null,{"$f":"INDEX(Backbone!$S$2:$S$893,MATCH(I106,Backbone!$A$2:$A$893,0))","v":"One Health; Generalized "},null,null,null,{"$f":"INDEX(Backbone!$H$2:$H$893,MATCH(I106,Backbone!$A$2:$A$893,0))","v":7.3},null,{"$f":"INDEX(Backbone!$I$2:$I$893,MATCH(I106,Backbone!$A$2:$A$893,0))","v":10},null,{"$f":"INDEX(Backbone!$J$2:$J$893,MATCH(I106,Backbone!$A$2:$A$893,0))","v":8.1999999999999993},null,{"$f":"INDEX(Backbone!$K$2:$K$893,MATCH(I106,Backbone!$A$2:$A$893,0))","v":7.3},null,{"$f":"INDEX(Backbone!$L$2:$L$893,MATCH(I106,Backbone!$A$2:$A$893,0))","v":7.6},null,{"$f":"INDEX(Backbone!$M$2:$M$893,MATCH(I106,Backbone!$A$2:$A$893,0))","v":8.8000000000000007},null,{"$f":"INDEX(Backbone!$N$2:$N$893,MATCH(I106,Backbone!$A$2:$A$893,0))","v":5.5},null,{"$f":"INDEX(Backbone!$O$2:$O$893,MATCH(I106,Backbone!$A$2:$A$893,0))","v":7.6},null,{"$f":"INDEX(Backbone!$P$2:$P$893,MATCH(I106,Backbone!$A$2:$A$893,0))","v":7},null,{"$f":"INDEX(Backbone!$Q$2:$Q$893,MATCH(I106,Backbone!$A$2:$A$893,0))","v":0.77000000000000013},null,null,{"$f":"(AG106*$AG$22+AI106*$AI$22+AK106*$AK$22+AM106*$AM$22+AO106*$AO$22+AQ106*$AQ$22+AS106*$AS$22+AU106*$AU$22+AW106*$AW$22)/(SUM($AG$22:$AW$22)*10)","v":{"$error":"#DIV/0!"}},null,null,"Go to \nToolbox: ",null,{"$f":"HYPERLINK(\"#\"&ADDRESS(MATCH(I106,Toolbox!$C$1:$C$300),1,,,\"Toolbox\"),VLOOKUP(I106,Toolbox!$C$1:$C$300,1,FALSE))","v":"AfyaData"}]
[]
[]
[]
[]
[]
[null,null,null,null,null,null,null,null,{"$f":"Backbone!A65","v":"District Health Information Software 2 (DHIS2) "},null,null,null,null,null,null,"An open source, web-based health management information system  platform.",null,null,null,null,null,null,null,null,{"$f":"INDEX(Backbone!$R$2:$R$893,MATCH(I112,Backbone!$A$2:$A$893,0))","v":"Hardware or Software"},null,null,null,{"$f":"INDEX(Backbone!$S$2:$S$893,MATCH(I112,Backbone!$A$2:$A$893,0))","v":"Sector Specific; Generalized"},null,null,null,{"$f":"INDEX(Backbone!$H$2:$H$893,MATCH(I112,Backbone!$A$2:$A$893,0))","v":8.8000000000000007},null,{"$f":"INDEX(Backbone!$I$2:$I$893,MATCH(I112,Backbone!$A$2:$A$893,0))","v":8.6999999999999993},null,{"$f":"INDEX(Backbone!$J$2:$J$893,MATCH(I112,Backbone!$A$2:$A$893,0))","v":8},null,{"$f":"INDEX(Backbone!$K$2:$K$893,MATCH(I112,Backbone!$A$2:$A$893,0))","v":8.6999999999999993},null,{"$f":"INDEX(Backbone!$L$2:$L$893,MATCH(I112,Backbone!$A$2:$A$893,0))","v":9.3000000000000007},null,{"$f":"INDEX(Backbone!$M$2:$M$893,MATCH(I112,Backbone!$A$2:$A$893,0))","v":9},null,{"$f":"INDEX(Backbone!$N$2:$N$893,MATCH(I112,Backbone!$A$2:$A$893,0))","v":10},null,{"$f":"INDEX(Backbone!$O$2:$O$893,MATCH(I112,Backbone!$A$2:$A$893,0))","v":7.8},null,{"$f":"INDEX(Backbone!$P$2:$P$893,MATCH(I112,Backbone!$A$2:$A$893,0))","v":7},null,{"$f":"INDEX(Backbone!$Q$2:$Q$893,MATCH(I112,Backbone!$A$2:$A$893,0))","v":0.85888888888888881},null,null,{"$f":"(AG112*$AG$22+AI112*$AI$22+AK112*$AK$22+AM112*$AM$22+AO112*$AO$22+AQ112*$AQ$22+AS112*$AS$22+AU112*$AU$22+AW112*$AW$22)/(SUM($AG$22:$AW$22)*10)","v":{"$error":"#DIV/0!"}},null,null,"Go to \nToolbox: ",null,{"$f":"HYPERLINK(\"#\"&ADDRESS(MATCH(I112,Toolbox!$C$1:$C$300),1,,,\"Toolbox\"),VLOOKUP(I112,Toolbox!$C$1:$C$300,1,FALSE))","v":"District Health Information Software 2 (DHIS2) "}]
[]
[]
[]
[]
[]
[null,null,null,null,null,null,null,null,{"$f":"Backbone!A138","v":"Electronic Integrated Disease Surveillance System (EIDSS)"},null,null,null,null,null,null,"A customizable web-based electronic disease reporting system that can support passive and active human and veterinary health surveillance, laboratory diagnostics, vector surveillance, and outbreak management.",null,null,null,null,null,null,null,null,{"$f":"INDEX(Backbone!$R$2:$R$893,MATCH(I118,Backbone!$A$2:$A$893,0))","v":"Hardware or Software"},null,null,null,{"$f":"INDEX(Backbone!$S$2:$S$893,MATCH(I118,Backbone!$A$2:$A$893,0))","v":"One Health; Generalized"},null,null,null,{"$f":"INDEX(Backbone!$H$2:$H$893,MATCH(I118,Backbone!$A$2:$A$893,0))","v":6.8},null,{"$f":"INDEX(Backbone!$I$2:$I$893,MATCH(I118,Backbone!$A$2:$A$893,0))","v":10},null,{"$f":"INDEX(Backbone!$J$2:$J$893,MATCH(I118,Backbone!$A$2:$A$893,0))","v":8.4},null,{"$f":"INDEX(Backbone!$K$1:$K$893,MATCH(I118,Backbone!$A$1:$A$893,0))","v":8.6999999999999993},null,{"$f":"INDEX(Backbone!$L$2:$L$893,MATCH(I118,Backbone!$A$2:$A$893,0))","v":9.1},null,{"$f":"INDEX(Backbone!$M$2:$M$893,MATCH(I118,Backbone!$A$2:$A$893,0))","v":8},null,{"$f":"INDEX(Backbone!$N$2:$N$893,MATCH(I118,Backbone!$A$2:$A$893,0))","v":7},null,{"$f":"INDEX(Backbone!$O$2:$O$893,MATCH(I118,Backbone!$A$2:$A$893,0))","v":7.2},null,{"$f":"INDEX(Backbone!$P$2:$P$893,MATCH(I118,Backbone!$A$2:$A$893,0))","v":10},null,{"$f":"INDEX(Backbone!$Q$2:$Q$893,MATCH(I118,Backbone!$A$2:$A$893,0))","v":0.83555555555555561},null,null,{"$f":"(AG118*$AG$22+AI118*$AI$22+AK118*$AK$22+AM118*$AM$22+AO118*$AO$22+AQ118*$AQ$22+AS118*$AS$22+AU118*$AU$22+AW118*$AW$22)/(SUM($AG$22:$AW$22)*10)","v":{"$error":"#DIV/0!"}},null,null,"Go to \nToolbox: ",null,{"$f":"HYPERLINK(\"#\"&ADDRESS(MATCH(I118,Toolbox!$C$1:$C$300),1,,,\"Toolbox\"),VLOOKUP(I118,Toolbox!$C$1:$C$300,1,FALSE))","v":"Electronic Integrated Disease Surveillance System (EIDSS)"}]
[]
[]
[]
[]
[]
[null,null,null,null,null,null,null,null,{"$f":"Backbone!A195","v":"Integrated Disease Surveillance and Response (IDSR)"},null,null,null,null,null,null,"A strategy aimed at strengthening capacities for detection, confirmation and response to suspected cases and outbreaks, and for use of information to predict and plan for public health events.",null,null,null,null,null,null,null,null,{"$f":"INDEX(Backbone!$R$2:$R$893,MATCH(I124,Backbone!$A$2:$A$893,0))","v":"Guidance document"},null,null,null,{"$f":"INDEX(Backbone!$S$2:$S$893,MATCH(I124,Backbone!$A$2:$A$893,0))","v":"Sector Specific; Generalized"},null,null,null,{"$f":"INDEX(Backbone!$H$2:$H$893,MATCH(I124,Backbone!$A$2:$A$893,0))","v":7.4},null,{"$f":"INDEX(Backbone!$I$2:$I$893,MATCH(I124,Backbone!$A$2:$A$893,0))","v":10},null,{"$f":"INDEX(Backbone!$J$2:$J$893,MATCH(I124,Backbone!$A$2:$A$893,0))","v":7.4},null,{"$f":"INDEX(Backbone!$K$1:$K$893,MATCH(I124,Backbone!$A$1:$A$893,0))","v":8.6999999999999993},null,{"$f":"INDEX(Backbone!$L$2:$L$893,MATCH(I124,Backbone!$A$2:$A$893,0))","v":6.7},null,{"$f":"INDEX(Backbone!$M$2:$M$893,MATCH(I124,Backbone!$A$2:$A$893,0))","v":4.5},null,{"$f":"INDEX(Backbone!$N$2:$N$893,MATCH(I124,Backbone!$A$2:$A$893,0))","v":8},null,{"$f":"INDEX(Backbone!$O$2:$O$893,MATCH(I124,Backbone!$A$2:$A$893,0))","v":7.2},null,{"$f":"INDEX(Backbone!$P$2:$P$893,MATCH(I124,Backbone!$A$2:$A$893,0))","v":8.5},null,{"$f":"INDEX(Backbone!$Q$2:$Q$893,MATCH(I124,Backbone!$A$2:$A$893,0))","v":0.76},null,null,{"$f":"(AG124*$AG$22+AI124*$AI$22+AK124*$AK$22+AM124*$AM$22+AO124*$AO$22+AQ124*$AQ$22+AS124*$AS$22+AU124*$AU$22+AW124*$AW$22)/(SUM($AG$22:$AW$22)*10)","v":{"$error":"#DIV/0!"}},null,null,"Go to \nToolbox: ",null,{"$f":"HYPERLINK(\"#\"&ADDRESS(MATCH(I124,Toolbox!$C$1:$C$300),1,,,\"Toolbox\"),VLOOKUP(I124,Toolbox!$C$1:$C$300,1,FALSE))","v":"Integrated Disease Surveillance and Response (IDSR)"}]
[]
[]
[]
[]
[]
[null,null,null,null,null,null,null,null,{"$f":"Backbone!A489","v":"The Suite for Automated Global Electronic BioSurveillance (SAGES)"},null,null,null,null,null,null,"A suite of open source software tools designed to enhance electronic disease surveillance in resource-limited settings.",null,null,null,null,null,null,null,null,{"$f":"INDEX(Backbone!$R$2:$R$893,MATCH(I130,Backbone!$A$2:$A$893,0))","v":"Hardware or Software"},null,null,null,{"$f":"INDEX(Backbone!$S$2:$S$893,MATCH(I130,Backbone!$A$2:$A$893,0))","v":"One Health; Generalized"},null,null,null,{"$f":"INDEX(Backbone!$H$2:$H$893,MATCH(I130,Backbone!$A$2:$A$893,0))","v":9.8000000000000007},null,{"$f":"INDEX(Backbone!$I$2:$I$893,MATCH(I130,Backbone!$A$2:$A$893,0))","v":10},null,{"$f":"INDEX(Backbone!$J$2:$J$893,MATCH(I130,Backbone!$A$2:$A$893,0))","v":10},null,{"$f":"INDEX(Backbone!$K$1:$K$893,MATCH(I130,Backbone!$A$1:$A$893,0))","v":9.3000000000000007},null,{"$f":"INDEX(Backbone!$L$2:$L$893,MATCH(I130,Backbone!$A$2:$A$893,0))","v":8.5},null,{"$f":"INDEX(Backbone!$M$2:$M$893,MATCH(I130,Backbone!$A$2:$A$893,0))","v":9},null,{"$f":"INDEX(Backbone!$N$2:$N$893,MATCH(I130,Backbone!$A$2:$A$893,0))","v":5.5},null,{"$f":"INDEX(Backbone!$O$2:$O$893,MATCH(I130,Backbone!$A$2:$A$893,0))","v":9.5},null,{"$f":"INDEX(Backbone!$P$2:$P$893,MATCH(I130,Backbone!$A$2:$A$893,0))","v":7},null,{"$f":"INDEX(Backbone!$Q$2:$Q$893,MATCH(I130,Backbone!$A$2:$A$893,0))","v":0.87333333333333329},null,null,{"$f":"(AG130*$AG$22+AI130*$AI$22+AK130*$AK$22+AM130*$AM$22+AO130*$AO$22+AQ130*$AQ$22+AS130*$AS$22+AU130*$AU$22+AW130*$AW$22)/(SUM($AG$22:$AW$22)*10)","v":{"$error":"#DIV/0!"}},null,null,"Go to \nToolbox: ",null,{"$f":"HYPERLINK(\"#\"&ADDRESS(MATCH(I130,Toolbox!$C$1:$C$300),1,,,\"Toolbox\"),VLOOKUP(I130,Toolbox!$C$1:$C$300,1,FALSE))","v":"The Suite for Automated Global Electronic BioSurveillance (SAGES)"}]
[]
[]
[]
[]
[]
[]
[null,null,null,"Other Relevant Resources",null,null,null,null,{"$f":"Backbone!A155","v":"The Epidemic Intelligence from Open Sources (EIOS)"},null,null,null,null,null,null,"EIOS Initiative is a unique collaboration between WHO and various stakeholders that brings together new and existing initiatives, networks and systems to create a unified all-hazards, One Health approach to early detection, verification and assessment of public health risks and threats using open source information.",null,null,null,null,null,null,null,null,{"$f":"INDEX(Backbone!$R$2:$R$893,MATCH(I137,Backbone!$A$2:$A$893,0))","v":"Hardware or Software"},null,null,null,{"$f":"INDEX(Backbone!$S$2:$S$893,MATCH(I137,Backbone!$A$2:$A$893,0))","v":"One Health; Generalized"},null,null,null,{"$f":"INDEX(Backbone!$H$2:$H$893,MATCH(I137,Backbone!$A$2:$A$893,0))","v":8.4},null,{"$f":"INDEX(Backbone!$I$2:$I$893,MATCH(I137,Backbone!$A$2:$A$893,0))","v":9},null,{"$f":"INDEX(Backbone!$J$2:$J$893,MATCH(I137,Backbone!$A$2:$A$893,0))","v":7.4},null,{"$f":"INDEX(Backbone!$K$1:$K$893,MATCH(I137,Backbone!$A$1:$A$893,0))","v":9},null,{"$f":"INDEX(Backbone!$L$2:$L$893,MATCH(I137,Backbone!$A$2:$A$893,0))","v":8.8000000000000007},null,{"$f":"INDEX(Backbone!$M$2:$M$893,MATCH(I137,Backbone!$A$2:$A$893,0))","v":8},null,{"$f":"INDEX(Backbone!$N$2:$N$893,MATCH(I137,Backbone!$A$2:$A$893,0))","v":5.5},null,{"$f":"INDEX(Backbone!$O$2:$O$893,MATCH(I137,Backbone!$A$2:$A$893,0))","v":9.1999999999999993},null,{"$f":"INDEX(Backbone!$P$2:$P$893,MATCH(I137,Backbone!$A$2:$A$893,0))","v":6},null,{"$f":"INDEX(Backbone!$Q$2:$Q$893,MATCH(I137,Backbone!$A$2:$A$893,0))","v":0.79222222222222216},null,null,{"$f":"(AG137*$AG$22+AI137*$AI$22+AK137*$AK$22+AM137*$AM$22+AO137*$AO$22+AQ137*$AQ$22+AS137*$AS$22+AU137*$AU$22+AW137*$AW$22)/(SUM($AG$22:$AW$22)*10)","v":{"$error":"#DIV/0!"}},null,null,"Go to \nToolbox: ",null,{"$f":"HYPERLINK(\"#\"&ADDRESS(MATCH(I137,Toolbox!$C$1:$C$300),1,,,\"Toolbox\"),VLOOKUP(I137,Toolbox!$C$1:$C$300,1,FALSE))","v":"The Epidemic Intelligence from Open Sources (EIOS)"}]
[]
[]
[]
[]
[]
[null,null,null,null,null,null,null,null,{"$f":"Backbone!A648","v":"Preparedness and Response Planning Toolkit"},null,null,null,null,null,null,"This toolkit is designed to support countries in their development of multisectoral preparedness and response plans for public health events. ",null,null,null,null,null,null,null,null,{"$f":"INDEX(Backbone!$R$2:$R$893,MATCH(I143,Backbone!$A$2:$A$893,0))","v":"Guidance document"},null,null,null,{"$f":"INDEX(Backbone!$S$2:$S$893,MATCH(I143,Backbone!$A$2:$A$893,0))","v":"One Health; Generalized"},null,null,null,{"$f":"INDEX(Backbone!$H$2:$H$893,MATCH(I143,Backbone!$A$2:$A$893,0))","v":8.4},null,{"$f":"INDEX(Backbone!$I$2:$I$893,MATCH(I143,Backbone!$A$2:$A$893,0))","v":8},null,{"$f":"INDEX(Backbone!$J$2:$J$893,MATCH(I143,Backbone!$A$2:$A$893,0))","v":8.4},null,{"$f":"INDEX(Backbone!$K$1:$K$893,MATCH(I143,Backbone!$A$1:$A$893,0))","v":6.7},null,{"$f":"INDEX(Backbone!$L$2:$L$893,MATCH(I143,Backbone!$A$2:$A$893,0))","v":2},null,{"$f":"INDEX(Backbone!$M$2:$M$893,MATCH(I143,Backbone!$A$2:$A$893,0))","v":3.5},null,{"$f":"INDEX(Backbone!$N$2:$N$893,MATCH(I143,Backbone!$A$2:$A$893,0))","v":4},null,{"$f":"INDEX(Backbone!$O$2:$O$893,MATCH(I143,Backbone!$A$2:$A$893,0))","v":6.4},null,{"$f":"INDEX(Backbone!$P$2:$P$893,MATCH(I143,Backbone!$A$2:$A$893,0))","v":8},null,{"$f":"INDEX(Backbone!$Q$2:$Q$893,MATCH(I143,Backbone!$A$2:$A$893,0))","v":0.61555555555555552},null,null,{"$f":"(AG143*$AG$22+AI143*$AI$22+AK143*$AK$22+AM143*$AM$22+AO143*$AO$22+AQ143*$AQ$22+AS143*$AS$22+AU143*$AU$22+AW143*$AW$22)/(SUM($AG$22:$AW$22)*10)","v":{"$error":"#DIV/0!"}},null,null,"Go to \nToolbox: ",null,{"$f":"HYPERLINK(\"#\"&ADDRESS(MATCH(I143,Toolbox!$C$1:$C$300),1,,,\"Toolbox\"),VLOOKUP(I143,Toolbox!$C$1:$C$300,1,FALSE))","v":"Preparedness and Response Planning Toolkit"}]
[]
[]
[]
[]
[]
[null,null,null,null,null,null,null,null,{"$f":"Backbone!A604","v":"Rabies Exposure and Case Tracker Application (React)"},null,null,null,null,null,null,"A tool to support implementation of Integrated Bite Case Management programs.",null,null,null,null,null,null,null,null,{"$f":"INDEX(Backbone!$R$2:$R$893,MATCH(I149,Backbone!$A$2:$A$893,0))","v":"Hardware or Software"},null,null,null,{"$f":"INDEX(Backbone!$S$2:$S$893,MATCH(I149,Backbone!$A$2:$A$893,0))","v":"One Health; Disease/Threat Specific "},null,null,null,{"$f":"INDEX(Backbone!$H$2:$H$893,MATCH(I149,Backbone!$A$2:$A$893,0))","v":8.6},null,{"$f":"INDEX(Backbone!$I$2:$I$893,MATCH(I149,Backbone!$A$2:$A$893,0))","v":8.6},null,{"$f":"INDEX(Backbone!$J$2:$J$893,MATCH(I149,Backbone!$A$2:$A$893,0))","v":8},null,{"$f":"INDEX(Backbone!$K$1:$K$893,MATCH(I149,Backbone!$A$1:$A$893,0))","v":8.6},null,{"$f":"INDEX(Backbone!$L$2:$L$893,MATCH(I149,Backbone!$A$2:$A$893,0))","v":9.4},null,{"$f":"INDEX(Backbone!$M$2:$M$893,MATCH(I149,Backbone!$A$2:$A$893,0))","v":9.5},null,{"$f":"INDEX(Backbone!$N$2:$N$893,MATCH(I149,Backbone!$A$2:$A$893,0))","v":9},null,{"$f":"INDEX(Backbone!$O$2:$O$893,MATCH(I149,Backbone!$A$2:$A$893,0))","v":9.1999999999999993},null,{"$f":"INDEX(Backbone!$P$2:$P$893,MATCH(I149,Backbone!$A$2:$A$893,0))","v":9},null,{"$f":"INDEX(Backbone!$Q$2:$Q$893,MATCH(I149,Backbone!$A$2:$A$893,0))","v":0.88777777777777767},null,null,{"$f":"(AG149*$AG$22+AI149*$AI$22+AK149*$AK$22+AM149*$AM$22+AO149*$AO$22+AQ149*$AQ$22+AS149*$AS$22+AU149*$AU$22+AW149*$AW$22)/(SUM($AG$22:$AW$22)*10)","v":{"$error":"#DIV/0!"}},null,null,"Go to \nToolbox: ",null,{"$f":"HYPERLINK(\"#\"&ADDRESS(MATCH(I149,Toolbox!$C$1:$C$300),1,,,\"Toolbox\"),VLOOKUP(I149,Toolbox!$C$1:$C$300,1,FALSE))","v":"Rabies Exposure and Case Tracker Application (React)"}]
[]
[]
[]
[]
[]
[]
[]
[]
[]
[]
[]
[]
[]
[]
[]
[]
[]
[]
[]
[]
[]
[]
[]
[null,null,null,null,null,null,null,null,null,null,null,null,null,null,null,null,null,null,null,null,null,null,null,null,null,null,null,null,null,null,null,null,"Accessibility",null,"Language",null,"Ease of use",null,"Flexibility",null,"Data Needs",null,"Data Analysis",null,"Acceptability",null,"One Health",null,"Impact"]
[]
[]
[]
[]
[]
[]
[null,null,null,null,null,null,null,null,null,null,null,null,null,null,null,null,null,null,null,null,null,null,null,null,null,null,null,null,null,null,null,null,null,null,null,null,null,null,null,null,null,null,null,null,null,null,null,null,null,null,"RAW SCORE",null,null,"ADJUSTED SCORE \n(Based on user preferences)"]
[]
[]
[]
[null,"LEVEL 3 RESOURCES",null,"DESIGNATION",null,null,null,null,"RESOURCE NAME",null,null,null,null,null,null,"SHORT DESCRIPTION",null,null,null,null,null,null,null,null,"RESOURCE TYPE",null,null,null,"RESOURCE GENERALITY"]
[]
[]
[]
[null,null,null,null,null,null,null,null,null,null,null,null,null,null,null,null,null,null,null,null,null,null,null,null,null,null,null,null,null,null,null,null,{"$f":"'Attribute Survey'!S294","v":0},null,{"$f":"'Attribute Survey'!S298","v":0},null,{"$f":"'Attribute Survey'!S302","v":0},null,{"$f":"'Attribute Survey'!S306","v":0},null,{"$f":"'Attribute Survey'!S310","v":0},null,{"$f":"'Attribute Survey'!S314","v":0},null,{"$f":"'Attribute Survey'!S318","v":0},null,{"$f":"'Attribute Survey'!S322","v":0},null,{"$f":"'Attribute Survey'!S326","v":0}]
[null,null,null,"Resources Best Fit For Purpose",null,null,null,null,{"$f":"Backbone!A65","v":"District Health Information Software 2 (DHIS2) "},null,null,null,null,null,null,"An open source, web-based health management information system  platform.",null,null,null,null,null,null,null,null,{"$f":"INDEX(Backbone!$R$2:$R$893,MATCH(I189,Backbone!$A$2:$A$893,0))","v":"Hardware or Software"},null,null,null,{"$f":"INDEX(Backbone!$S$2:$S$893,MATCH(I189,Backbone!$A$2:$A$893,0))","v":"Sector Specific; Generalized"},null,null,null,{"$f":"INDEX(Backbone!$H$2:$H$893,MATCH(I189,Backbone!$A$2:$A$893,0))","v":8.8000000000000007},null,{"$f":"INDEX(Backbone!$I$2:$I$893,MATCH(I189,Backbone!$A$2:$A$893,0))","v":8.6999999999999993},null,{"$f":"INDEX(Backbone!$J$2:$J$893,MATCH(I189,Backbone!$A$2:$A$893,0))","v":8},null,{"$f":"INDEX(Backbone!$K$2:$K$893,MATCH(I189,Backbone!$A$2:$A$893,0))","v":8.6999999999999993},null,{"$f":"INDEX(Backbone!$L$2:$L$893,MATCH(I189,Backbone!$A$2:$A$893,0))","v":9.3000000000000007},null,{"$f":"INDEX(Backbone!$M$2:$M$893,MATCH(I189,Backbone!$A$2:$A$893,0))","v":9},null,{"$f":"INDEX(Backbone!$N$2:$N$893,MATCH(I189,Backbone!$A$2:$A$893,0))","v":10},null,{"$f":"INDEX(Backbone!$O$2:$O$893,MATCH(I189,Backbone!$A$2:$A$893,0))","v":7.8},null,{"$f":"INDEX(Backbone!$P$2:$P$893,MATCH(I189,Backbone!$A$2:$A$893,0))","v":7},null,{"$f":"INDEX(Backbone!$Q$2:$Q$893,MATCH(I189,Backbone!$A$2:$A$893,0))","v":0.85888888888888881},null,null,{"$f":"(AG189*$AG$22+AI189*$AI$22+AK189*$AK$22+AM189*$AM$22+AO189*$AO$22+AQ189*$AQ$22+AS189*$AS$22+AU189*$AU$22+AW189*$AW$22)/(SUM($AG$22:$AW$22)*10)","v":{"$error":"#DIV/0!"}},null,null,"Go to \nToolbox: ",null,{"$f":"HYPERLINK(\"#\"&ADDRESS(MATCH(I189,Toolbox!$C$1:$C$300),1,,,\"Toolbox\"),VLOOKUP(I189,Toolbox!$C$1:$C$300,1,FALSE))","v":"District Health Information Software 2 (DHIS2) "}]
[]
[]
[]
[]
[]
[null,null,null,null,null,null,null,null,{"$f":"Backbone!A138","v":"Electronic Integrated Disease Surveillance System (EIDSS)"},null,null,null,null,null,null,"A customizable web-based electronic disease reporting system that can support passive and active human and veterinary health surveillance, laboratory diagnostics, vector surveillance, and outbreak management. ",null,null,null,null,null,null,null,null,{"$f":"INDEX(Backbone!$R$2:$R$893,MATCH(I195,Backbone!$A$2:$A$893,0))","v":"Hardware or Software"},null,null,null,{"$f":"INDEX(Backbone!$S$2:$S$893,MATCH(I195,Backbone!$A$2:$A$893,0))","v":"One Health; Generalized"},null,null,null,{"$f":"INDEX(Backbone!$H$2:$H$893,MATCH(I195,Backbone!$A$2:$A$893,0))","v":6.8},null,{"$f":"INDEX(Backbone!$I$2:$I$893,MATCH(I195,Backbone!$A$2:$A$893,0))","v":10},null,{"$f":"INDEX(Backbone!$J$2:$J$893,MATCH(I195,Backbone!$A$2:$A$893,0))","v":8.4},null,{"$f":"INDEX(Backbone!$K$2:$K$893,MATCH(I195,Backbone!$A$2:$A$893,0))","v":8.6999999999999993},null,{"$f":"INDEX(Backbone!$L$2:$L$893,MATCH(I195,Backbone!$A$2:$A$893,0))","v":9.1},null,{"$f":"INDEX(Backbone!$M$2:$M$893,MATCH(I195,Backbone!$A$2:$A$893,0))","v":8},null,{"$f":"INDEX(Backbone!$N$2:$N$893,MATCH(I195,Backbone!$A$2:$A$893,0))","v":7},null,{"$f":"INDEX(Backbone!$O$2:$O$893,MATCH(I195,Backbone!$A$2:$A$893,0))","v":7.2},null,{"$f":"INDEX(Backbone!$P$2:$P$893,MATCH(I195,Backbone!$A$2:$A$893,0))","v":10},null,{"$f":"INDEX(Backbone!$Q$2:$Q$893,MATCH(I195,Backbone!$A$2:$A$893,0))","v":0.83555555555555561},null,null,{"$f":"(AG195*$AG$22+AI195*$AI$22+AK195*$AK$22+AM195*$AM$22+AO195*$AO$22+AQ195*$AQ$22+AS195*$AS$22+AU195*$AU$22+AW195*$AW$22)/(SUM($AG$22:$AW$22)*10)","v":{"$error":"#DIV/0!"}},null,null,"Go to \nToolbox: ",null,{"$f":"HYPERLINK(\"#\"&ADDRESS(MATCH(I195,Toolbox!$C$1:$C$300),1,,,\"Toolbox\"),VLOOKUP(I195,Toolbox!$C$1:$C$300,1,FALSE))","v":"Electronic Integrated Disease Surveillance System (EIDSS)"}]
[]
[]
[]
[]
[]
[null,null,null,null,null,null,null,null,{"$f":"Backbone!A489","v":"The Suite for Automated Global Electronic BioSurveillance (SAGES)"},null,null,null,null,null,null,"A suite of open source software tools designed to enhance electronic disease surveillance in resource-limited settings.",null,null,null,null,null,null,null,null,{"$f":"INDEX(Backbone!$R$2:$R$893,MATCH(I201,Backbone!$A$2:$A$893,0))","v":"Hardware or Software"},null,null,null,{"$f":"INDEX(Backbone!$S$2:$S$893,MATCH(I201,Backbone!$A$2:$A$893,0))","v":"One Health; Generalized"},null,null,null,{"$f":"INDEX(Backbone!$H$2:$H$893,MATCH(I201,Backbone!$A$2:$A$893,0))","v":9.8000000000000007},null,{"$f":"INDEX(Backbone!$I$2:$I$893,MATCH(I201,Backbone!$A$2:$A$893,0))","v":10},null,{"$f":"INDEX(Backbone!$J$2:$J$893,MATCH(I201,Backbone!$A$2:$A$893,0))","v":10},null,{"$f":"INDEX(Backbone!$K$1:$K$893,MATCH(I201,Backbone!$A$1:$A$893,0))","v":9.3000000000000007},null,{"$f":"INDEX(Backbone!$L$2:$L$893,MATCH(I201,Backbone!$A$2:$A$893,0))","v":8.5},null,{"$f":"INDEX(Backbone!$M$2:$M$893,MATCH(I201,Backbone!$A$2:$A$893,0))","v":9},null,{"$f":"INDEX(Backbone!$N$2:$N$893,MATCH(I201,Backbone!$A$2:$A$893,0))","v":5.5},null,{"$f":"INDEX(Backbone!$O$2:$O$893,MATCH(I201,Backbone!$A$2:$A$893,0))","v":9.5},null,{"$f":"INDEX(Backbone!$P$2:$P$893,MATCH(I201,Backbone!$A$2:$A$893,0))","v":7},null,{"$f":"INDEX(Backbone!$Q$2:$Q$893,MATCH(I201,Backbone!$A$2:$A$893,0))","v":0.87333333333333329},null,null,{"$f":"(AG201*$AG$22+AI201*$AI$22+AK201*$AK$22+AM201*$AM$22+AO201*$AO$22+AQ201*$AQ$22+AS201*$AS$22+AU201*$AU$22+AW201*$AW$22)/(SUM($AG$22:$AW$22)*10)","v":{"$error":"#DIV/0!"}},null,null,"Go to \nToolbox: ",null,{"$f":"HYPERLINK(\"#\"&ADDRESS(MATCH(I201,Toolbox!$C$1:$C$300),1,,,\"Toolbox\"),VLOOKUP(I201,Toolbox!$C$1:$C$300,1,FALSE))","v":"The Suite for Automated Global Electronic BioSurveillance (SAGES)"}]
[]
[]
[]
[]
[]
[]
[null,null,null,"Other Relevant Resources",null,null,null,null,{"$f":"Backbone!A155","v":"The Epidemic Intelligence from Open Sources (EIOS)"},null,null,null,null,null,null,"EIOS Initiative is a unique collaboration between WHO and various stakeholders that brings together new and existing initiatives, networks and systems to create a unified all-hazards, One Health approach to early detection, verification and assessment of public health risks and threats using open source information.",null,null,null,null,null,null,null,null,{"$f":"INDEX(Backbone!$R$2:$R$893,MATCH(I208,Backbone!$A$2:$A$893,0))","v":"Hardware or Software"},null,null,null,{"$f":"INDEX(Backbone!$S$2:$S$893,MATCH(I208,Backbone!$A$2:$A$893,0))","v":"One Health; Generalized"},null,null,null,{"$f":"INDEX(Backbone!$H$2:$H$893,MATCH(I208,Backbone!$A$2:$A$893,0))","v":8.4},null,{"$f":"INDEX(Backbone!$I$2:$I$893,MATCH(I208,Backbone!$A$2:$A$893,0))","v":9},null,{"$f":"INDEX(Backbone!$J$2:$J$893,MATCH(I208,Backbone!$A$2:$A$893,0))","v":7.4},null,{"$f":"INDEX(Backbone!$K$1:$K$893,MATCH(I208,Backbone!$A$1:$A$893,0))","v":9},null,{"$f":"INDEX(Backbone!$L$2:$L$893,MATCH(I208,Backbone!$A$2:$A$893,0))","v":8.8000000000000007},null,{"$f":"INDEX(Backbone!$M$2:$M$893,MATCH(I208,Backbone!$A$2:$A$893,0))","v":8},null,{"$f":"INDEX(Backbone!$N$2:$N$893,MATCH(I208,Backbone!$A$2:$A$893,0))","v":5.5},null,{"$f":"INDEX(Backbone!$O$2:$O$893,MATCH(I208,Backbone!$A$2:$A$893,0))","v":9.1999999999999993},null,{"$f":"INDEX(Backbone!$P$2:$P$893,MATCH(I208,Backbone!$A$2:$A$893,0))","v":6},null,{"$f":"INDEX(Backbone!$Q$2:$Q$893,MATCH(I208,Backbone!$A$2:$A$893,0))","v":0.79222222222222216},null,null,{"$f":"(AG208*$AG$22+AI208*$AI$22+AK208*$AK$22+AM208*$AM$22+AO208*$AO$22+AQ208*$AQ$22+AS208*$AS$22+AU208*$AU$22+AW208*$AW$22)/(SUM($AG$22:$AW$22)*10)","v":{"$error":"#DIV/0!"}},null,null,"Go to \nToolbox: ",null,{"$f":"HYPERLINK(\"#\"&ADDRESS(MATCH(I208,Toolbox!$C$1:$C$300),1,,,\"Toolbox\"),VLOOKUP(I208,Toolbox!$C$1:$C$300,1,FALSE))","v":"The Epidemic Intelligence from Open Sources (EIOS)"}]
[]
[]
[]
[]
[]
[null,null,null,null,null,null,null,null,{"$f":"Backbone!A648","v":"Preparedness and Response Planning Toolkit"},null,null,null,null,null,null,"This toolkit is designed to support countries in their development of multisectoral preparedness and response plans for public health events. ",null,null,null,null,null,null,null,null,{"$f":"INDEX(Backbone!$R$2:$R$893,MATCH(I214,Backbone!$A$2:$A$893,0))","v":"Guidance document"},null,null,null,{"$f":"INDEX(Backbone!$S$2:$S$893,MATCH(I214,Backbone!$A$2:$A$893,0))","v":"One Health; Generalized"},null,null,null,{"$f":"INDEX(Backbone!$H$2:$H$893,MATCH(I214,Backbone!$A$2:$A$893,0))","v":8.4},null,{"$f":"INDEX(Backbone!$I$2:$I$893,MATCH(I214,Backbone!$A$2:$A$893,0))","v":8},null,{"$f":"INDEX(Backbone!$J$2:$J$893,MATCH(I214,Backbone!$A$2:$A$893,0))","v":8.4},null,{"$f":"INDEX(Backbone!$K$1:$K$893,MATCH(I214,Backbone!$A$1:$A$893,0))","v":6.7},null,{"$f":"INDEX(Backbone!$L$2:$L$893,MATCH(I214,Backbone!$A$2:$A$893,0))","v":2},null,{"$f":"INDEX(Backbone!$M$2:$M$893,MATCH(I214,Backbone!$A$2:$A$893,0))","v":3.5},null,{"$f":"INDEX(Backbone!$N$2:$N$893,MATCH(I214,Backbone!$A$2:$A$893,0))","v":4},null,{"$f":"INDEX(Backbone!$O$2:$O$893,MATCH(I214,Backbone!$A$2:$A$893,0))","v":6.4},null,{"$f":"INDEX(Backbone!$P$2:$P$893,MATCH(I214,Backbone!$A$2:$A$893,0))","v":8},null,{"$f":"INDEX(Backbone!$Q$2:$Q$893,MATCH(I214,Backbone!$A$2:$A$893,0))","v":0.61555555555555552},null,null,{"$f":"(AG214*$AG$22+AI214*$AI$22+AK214*$AK$22+AM214*$AM$22+AO214*$AO$22+AQ214*$AQ$22+AS214*$AS$22+AU214*$AU$22+AW214*$AW$22)/(SUM($AG$22:$AW$22)*10)","v":{"$error":"#DIV/0!"}},null,null,"Go to \nToolbox: ",null,{"$f":"HYPERLINK(\"#\"&ADDRESS(MATCH(I214,Toolbox!$C$1:$C$300),1,,,\"Toolbox\"),VLOOKUP(I214,Toolbox!$C$1:$C$300,1,FALSE))","v":"Preparedness and Response Planning Toolkit"}]
[]
[]
[]
[]
[]
[null,null,null,null,null,null,null,null,{"$f":"Backbone!A604","v":"Rabies Exposure and Case Tracker Application (React)"},null,null,null,null,null,null,"A tool to support implementation of Integrated Bite Case Management programs.",null,null,null,null,null,null,null,null,{"$f":"INDEX(Backbone!$R$2:$R$893,MATCH(I220,Backbone!$A$2:$A$893,0))","v":"Hardware or Software"},null,null,null,{"$f":"INDEX(Backbone!$S$2:$S$893,MATCH(I220,Backbone!$A$2:$A$893,0))","v":"One Health; Disease/Threat Specific "},null,null,null,{"$f":"INDEX(Backbone!$H$2:$H$893,MATCH(I220,Backbone!$A$2:$A$893,0))","v":8.6},null,{"$f":"INDEX(Backbone!$I$2:$I$893,MATCH(I220,Backbone!$A$2:$A$893,0))","v":8.6},null,{"$f":"INDEX(Backbone!$J$2:$J$893,MATCH(I220,Backbone!$A$2:$A$893,0))","v":8},null,{"$f":"INDEX(Backbone!$K$1:$K$893,MATCH(I220,Backbone!$A$1:$A$893,0))","v":8.6},null,{"$f":"INDEX(Backbone!$L$2:$L$893,MATCH(I220,Backbone!$A$2:$A$893,0))","v":9.4},null,{"$f":"INDEX(Backbone!$M$2:$M$893,MATCH(I220,Backbone!$A$2:$A$893,0))","v":9.5},null,{"$f":"INDEX(Backbone!$N$2:$N$893,MATCH(I220,Backbone!$A$2:$A$893,0))","v":9},null,{"$f":"INDEX(Backbone!$O$2:$O$893,MATCH(I220,Backbone!$A$2:$A$893,0))","v":9.1999999999999993},null,{"$f":"INDEX(Backbone!$P$2:$P$893,MATCH(I220,Backbone!$A$2:$A$893,0))","v":9},null,{"$f":"INDEX(Backbone!$Q$2:$Q$893,MATCH(I220,Backbone!$A$2:$A$893,0))","v":0.88777777777777767},null,null,{"$f":"(AG220*$AG$22+AI220*$AI$22+AK220*$AK$22+AM220*$AM$22+AO220*$AO$22+AQ220*$AQ$22+AS220*$AS$22+AU220*$AU$22+AW220*$AW$22)/(SUM($AG$22:$AW$22)*10)","v":{"$error":"#DIV/0!"}},null,null,"Go to \nToolbox: ",null,{"$f":"HYPERLINK(\"#\"&ADDRESS(MATCH(I220,Toolbox!$C$1:$C$300),1,,,\"Toolbox\"),VLOOKUP(I220,Toolbox!$C$1:$C$300,1,FALSE))","v":"Rabies Exposure and Case Tracker Application (React)"}]

{"sheet":"I8_tools","index":53,"n_rows":166,"n_cols":59,"rows_kept":166,"cut":false,"hidden":false,"merged":[[112,56,116,57],[112,58,116,62],[152,56,156,57],[152,58,156,62],[159,56,163,57],[159,58,163,62],[165,56,169,57],[165,58,169,62],[47,56,51,57],[47,58,51,62],[53,56,57,57],[53,58,57,62],[93,56,97,57],[93,58,97,62],[99,56,103,57],[99,58,103,62],[106,56,110,57],[106,58,110,62],[1,1,3,62],[22,56,26,57],[22,58,26,62],[28,56,32,57],[28,58,32,62],[34,56,38,57],[34,58,38,62],[41,56,45,57],[41,58,45,62],[6,32,20,32],[6,34,20,34],[6,36,20,36],[6,38,20,38],[6,40,20,40],[6,42,20,42],[6,44,20,44],[6,46,20,46],[6,48,20,48],[13,50,20,51],[13,53,20,54],[17,1,57,1],[17,3,20,6],[17,8,20,13],[17,15,20,22],[17,24,20,26],[17,28,20,30],[22,3,38,6],[22,8,26,13],[28,8,32,13],[28,15,32,22],[28,24,32,26],[28,28,32,30],[28,32,32,32],[28,34,32,34],[28,36,32,36],[28,38,32,38],[22,38,26,38],[22,15,26,22],[22,24,26,26],[22,28,26,30],[22,32,26,32],[22,34,26,34],[22,36,26,36],[28,53,32,54],[28,40,32,40],[28,42,32,42],[28,44,32,44],[28,46,32,46],[28,48,32,48],[28,50,32,51],[22,50,26,51],[22,53,26,54],[22,40,26,40],[22,42,26,42],[22,44,26,44],[22,46,26,46],[22,48,26,48],[34,50,38,51],[34,53,38,54],[34,36,38,36],[34,38,38,38],[34,40,38,40],[34,42,38,42],[34,44,38,44],[34,46,38,46],[34,8,38,13],[34,15,38,22],[34,24,38,26],[34,28,38,30],[34,32,38,32],[34,34,38,34],[41,3,57,6],[41,8,45,13],[41,15,45,22],[41,24,45,26],[41,28,45,30],[41,32,45,32],[41,34,45,34],[41,36,45,36],[34,48,38,48],[53,42,57,42],[53,44,57,44],[53,46,57,46],[53,48,57,48],[41,50,45,51],[41,53,45,54],[47,8,51,13],[47,15,51,22],[47,24,51,26],[47,28,51,30],[47,32,51,32],[47,34,51,34],[47,36,51,36],[47,38,51,38],[41,38,45,38],[41,40,45,40],[41,42,45,42],[41,44,45,44],[41,46,45,46],[41,48,45,48],[53,50,57,51],[53,53,57,54],[47,53,51,54],[53,8,57,13],[53,15,57,22],[53,24,57,26],[53,28,57,30],[53,32,57,32],[53,34,57,34],[53,36,57,36],[53,38,57,38],[53,40,57,40],[47,40,51,40],[47,42,51,42],[47,44,51,44],[47,46,51,46],[47,48,51,48],[47,50,51,51],[77,48,91,48],[84,50,91,51],[84,53,91,54],[88,1,116,1],[88,3,91,6],[88,8,91,13],[88,15,91,22],[88,24,91,26],[77,32,91,32],[77,34,91,34],[77,36,91,36],[77,38,91,38],[77,40,91,40],[77,42,91,42],[93,8,97,13],[93,15,97,22],[93,24,97,26],[93,28,97,30],[93,32,97,32],[88,28,91,30],[93,3,103,6],[77,44,91,44],[77,46,91,46],[93,46,97,46],[93,48,97,48],[93,50,97,51],[93,53,97,54],[93,34,97,34],[93,36,97,36],[93,38,97,38],[93,40,97,40],[93,42,97,42],[93,44,97,44],[99,50,103,51],[99,53,103,54],[99,38,103,38],[99,40,103,40],[99,42,103,42],[99,44,103,44],[99,46,103,46],[99,48,103,48],[99,8,103,13],[99,15,103,22],[99,24,103,26],[99,28,103,30],[99,32,103,32],[99,34,103,34],[99,36,103,36],[106,3,116,6],[106,8,110,13],[106,15,110,22],[106,24,110,26],[106,28,110,30],[106,32,110,32],[106,34,110,34],[106,36,110,36],[106,38,110,38],[112,8,116,13],[112,15,116,22],[112,24,116,26],[112,28,116,30],[112,32,116,32],[112,34,116,34],[112,36,116,36],[112,38,116,38],[112,40,116,40],[112,42,116,42],[112,44,116,44],[106,53,110,54],[106,40,110,40],[106,42,110,42],[106,44,110,44],[106,46,110,46],[106,48,110,48],[106,50,110,51],[112,48,116,48],[112,50,116,51],[112,53,116,54],[112,46,116,46],[136,46,150,46],[136,48,150,48],[143,50,150,51],[143,53,150,54],[147,3,150,6],[147,8,150,13],[147,15,150,22],[147,24,150,26],[147,28,150,30],[136,32,150,32],[136,34,150,34],[136,36,150,36],[136,38,150,38],[136,40,150,40],[136,42,150,42],[136,44,150,44],[152,48,156,48],[152,50,156,51],[152,53,156,54],[152,34,156,34],[152,36,156,36],[152,38,156,38],[152,40,156,40],[152,42,156,42],[152,44,156,44],[159,3,169,6],[159,8,163,13],[159,15,163,22],[159,24,163,26],[159,28,163,30],[159,32,163,32],[159,34,163,34],[159,36,163,36],[152,46,156,46],[152,3,156,6],[152,8,156,13],[152,15,156,22],[152,24,156,26],[152,28,156,30],[152,32,156,32],[146,1,170,1],[165,53,169,54],[165,40,169,40],[165,42,169,42],[165,44,169,44],[165,46,169,46],[165,48,169,48],[165,50,169,51],[159,50,163,51],[159,53,163,54],[165,8,169,13],[165,15,169,22],[165,24,169,26],[165,28,169,30],[165,32,169,32],[165,34,169,34],[165,36,169,36],[165,38,169,38],[159,38,163,38],[159,40,163,40],[159,42,163,42],[159,44,163,44],[159,46,163,46],[159,48,163,48]]}
[]
[null,"Communication and Data Use Resources"]
[]
[]
[]
[]
[null,null,null,null,null,null,null,null,null,null,null,null,null,null,null,null,null,null,null,null,null,null,null,null,null,null,null,null,null,null,null,null,"Accessibility",null,"Language",null,"Ease of use",null,"Flexibility",null,"Data Needs",null,"Data Analysis",null,"Acceptability",null,"One Health",null,"Impact"]
[]
[]
[]
[]
[]
[]
[null,null,null,null,null,null,null,null,null,null,null,null,null,null,null,null,null,null,null,null,null,null,null,null,null,null,null,null,null,null,null,null,null,null,null,null,null,null,null,null,null,null,null,null,null,null,null,null,null,null,"RAW SCORE",null,null,"ADJUSTED SCORE \n(Based on user preferences)"]
[]
[]
[]
[null,"LEVEL 1 RESOURCES",null,"DESIGNATION",null,null,null,null,"RESOURCE NAME",null,null,null,null,null,null,"SHORT DESCRIPTION",null,null,null,null,null,null,null,null,"RESOURCE TYPE",null,null,null,"RESOURCE GENERALITY"]
[]
[]
[]
[null,null,null,null,null,null,null,null,null,null,null,null,null,null,null,null,null,null,null,null,null,null,null,null,null,null,null,null,null,null,null,null,{"$f":"'Attribute Survey'!S22","v":0},null,{"$f":"'Attribute Survey'!S26","v":0},null,{"$f":"'Attribute Survey'!S30","v":0},null,{"$f":"'Attribute Survey'!S34","v":0},null,{"$f":"'Attribute Survey'!S38","v":0},null,{"$f":"'Attribute Survey'!S42","v":0},null,{"$f":"'Attribute Survey'!S46","v":0},null,{"$f":"'Attribute Survey'!S50","v":0},null,{"$f":"'Attribute Survey'!S54","v":0}]
[null,null,null,"Resources Best Fit For Purpose",null,null,null,null,{"$f":"Backbone!A21","v":"AfyaData"},null,null,null,null,null,null,"A One Health disease surveillance tool, designed to cater for Human, animal and environmental surveillance needs, comprised of Mobile and Web Apps.",null,null,null,null,null,null,null,null,{"$f":"INDEX(Backbone!$R$2:$R$893,MATCH(I23,Backbone!$A$2:$A$893,0))","v":"Hardware or Software"},null,null,null,{"$f":"INDEX(Backbone!$S$2:$S$893,MATCH(I23,Backbone!$A$2:$A$893,0))","v":"One Health; Generalized "},null,null,null,{"$f":"INDEX(Backbone!$H$2:$H$893,MATCH(I23,Backbone!$A$2:$A$893,0))","v":7.3},null,{"$f":"INDEX(Backbone!$I$2:$I$893,MATCH(I23,Backbone!$A$2:$A$893,0))","v":10},null,{"$f":"INDEX(Backbone!$J$2:$J$893,MATCH(I23,Backbone!$A$2:$A$893,0))","v":8.1999999999999993},null,{"$f":"INDEX(Backbone!$K$2:$K$893,MATCH(I23,Backbone!$A$2:$A$893,0))","v":7.3},null,{"$f":"INDEX(Backbone!$L$2:$L$893,MATCH(I23,Backbone!$A$2:$A$893,0))","v":7.6},null,{"$f":"INDEX(Backbone!$M$2:$M$893,MATCH(I23,Backbone!$A$2:$A$893,0))","v":8.8000000000000007},null,{"$f":"INDEX(Backbone!$N$2:$N$893,MATCH(I23,Backbone!$A$2:$A$893,0))","v":5.5},null,{"$f":"INDEX(Backbone!$O$2:$O$893,MATCH(I23,Backbone!$A$2:$A$893,0))","v":7.6},null,{"$f":"INDEX(Backbone!$P$2:$P$893,MATCH(I23,Backbone!$A$2:$A$893,0))","v":7},null,{"$f":"INDEX(Backbone!$Q$2:$Q$893,MATCH(I23,Backbone!$A$2:$A$893,0))","v":0.77000000000000013},null,null,{"$f":"(AG23*$AG$22+AI23*$AI$22+AK23*$AK$22+AM23*$AM$22+AO23*$AO$22+AQ23*$AQ$22+AS23*$AS$22+AU23*$AU$22+AW23*$AW$22)/(SUM($AG$22:$AW$22)*10)","v":{"$error":"#DIV/0!"}},null,null,"Go to \nToolbox: ",null,{"$f":"HYPERLINK(\"#\"&ADDRESS(MATCH(I23,Toolbox!$C$1:$C$300),1,,,\"Toolbox\"),VLOOKUP(I23,Toolbox!$C$1:$C$300,1,FALSE))","v":"AfyaData"}]
[]
[]
[]
[]
[]
[null,null,null,null,null,null,null,null,{"$f":"Backbone!A65","v":"District Health Information Software 2 (DHIS2) "},null,null,null,null,null,null,"An open source, web-based health management information system  platform.",null,null,null,null,null,null,null,null,{"$f":"INDEX(Backbone!$R$2:$R$893,MATCH(I29,Backbone!$A$2:$A$893,0))","v":"Hardware or Software"},null,null,null,{"$f":"INDEX(Backbone!$S$2:$S$893,MATCH(I29,Backbone!$A$2:$A$893,0))","v":"Sector Specific; Generalized"},null,null,null,{"$f":"INDEX(Backbone!$H$2:$H$893,MATCH(I29,Backbone!$A$2:$A$893,0))","v":8.8000000000000007},null,{"$f":"INDEX(Backbone!$I$2:$I$893,MATCH(I29,Backbone!$A$2:$A$893,0))","v":8.6999999999999993},null,{"$f":"INDEX(Backbone!$J$2:$J$893,MATCH(I29,Backbone!$A$2:$A$893,0))","v":8},null,{"$f":"INDEX(Backbone!$K$2:$K$893,MATCH(I29,Backbone!$A$2:$A$893,0))","v":8.6999999999999993},null,{"$f":"INDEX(Backbone!$L$2:$L$893,MATCH(I29,Backbone!$A$2:$A$893,0))","v":9.3000000000000007},null,{"$f":"INDEX(Backbone!$M$2:$M$893,MATCH(I29,Backbone!$A$2:$A$893,0))","v":9},null,{"$f":"INDEX(Backbone!$N$2:$N$893,MATCH(I29,Backbone!$A$2:$A$893,0))","v":10},null,{"$f":"INDEX(Backbone!$O$2:$O$893,MATCH(I29,Backbone!$A$2:$A$893,0))","v":7.8},null,{"$f":"INDEX(Backbone!$P$2:$P$893,MATCH(I29,Backbone!$A$2:$A$893,0))","v":7},null,{"$f":"INDEX(Backbone!$Q$2:$Q$893,MATCH(I29,Backbone!$A$2:$A$893,0))","v":0.85888888888888881},null,null,{"$f":"(AG29*$AG$22+AI29*$AI$22+AK29*$AK$22+AM29*$AM$22+AO29*$AO$22+AQ29*$AQ$22+AS29*$AS$22+AU29*$AU$22+AW29*$AW$22)/(SUM($AG$22:$AW$22)*10)","v":{"$error":"#DIV/0!"}},null,null,"Go to \nToolbox: ",null,{"$f":"HYPERLINK(\"#\"&ADDRESS(MATCH(I29,Toolbox!$C$1:$C$300),1,,,\"Toolbox\"),VLOOKUP(I29,Toolbox!$C$1:$C$300,1,FALSE))","v":"District Health Information Software 2 (DHIS2) "}]
[]
[]
[]
[]
[]
[null,null,null,null,null,null,null,null,{"$f":"Backbone!A195","v":"Integrated Disease Surveillance and Response (IDSR)"},null,null,null,null,null,null,"A strategy aimed at strengthening capacities for detection, confirmation and response to suspected cases and outbreaks, and for use of information to predict and plan for public health events.",null,null,null,null,null,null,null,null,{"$f":"INDEX(Backbone!$R$2:$R$893,MATCH(I35,Backbone!$A$2:$A$893,0))","v":"Guidance document"},null,null,null,{"$f":"INDEX(Backbone!$S$2:$S$893,MATCH(I35,Backbone!$A$2:$A$893,0))","v":"Sector Specific; Generalized"},null,null,null,{"$f":"INDEX(Backbone!$H$2:$H$893,MATCH(I35,Backbone!$A$2:$A$893,0))","v":7.4},null,{"$f":"INDEX(Backbone!$I$2:$I$893,MATCH(I35,Backbone!$A$2:$A$893,0))","v":10},null,{"$f":"INDEX(Backbone!$J$2:$J$893,MATCH(I35,Backbone!$A$2:$A$893,0))","v":7.4},null,{"$f":"INDEX(Backbone!$K$1:$K$893,MATCH(I35,Backbone!$A$1:$A$893,0))","v":8.6999999999999993},null,{"$f":"INDEX(Backbone!$L$2:$L$893,MATCH(I35,Backbone!$A$2:$A$893,0))","v":6.7},null,{"$f":"INDEX(Backbone!$M$2:$M$893,MATCH(I35,Backbone!$A$2:$A$893,0))","v":4.5},null,{"$f":"INDEX(Backbone!$N$2:$N$893,MATCH(I35,Backbone!$A$2:$A$893,0))","v":8},null,{"$f":"INDEX(Backbone!$O$2:$O$893,MATCH(I35,Backbone!$A$2:$A$893,0))","v":7.2},null,{"$f":"INDEX(Backbone!$P$2:$P$893,MATCH(I35,Backbone!$A$2:$A$893,0))","v":8.5},null,{"$f":"INDEX(Backbone!$Q$2:$Q$893,MATCH(I35,Backbone!$A$2:$A$893,0))","v":0.76},null,null,{"$f":"(AG35*$AG$22+AI35*$AI$22+AK35*$AK$22+AM35*$AM$22+AO35*$AO$22+AQ35*$AQ$22+AS35*$AS$22+AU35*$AU$22+AW35*$AW$22)/(SUM($AG$22:$AW$22)*10)","v":{"$error":"#DIV/0!"}},null,null,"Go to \nToolbox: ",null,{"$f":"HYPERLINK(\"#\"&ADDRESS(MATCH(I35,Toolbox!$C$1:$C$300),1,,,\"Toolbox\"),VLOOKUP(I35,Toolbox!$C$1:$C$300,1,FALSE))","v":"Integrated Disease Surveillance and Response (IDSR)"}]
[]
[]
[]
[]
[]
[]
[null,null,null,"Other Relevant Resources",null,null,null,null,{"$f":"Backbone!A155","v":"The Epidemic Intelligence from Open Sources (EIOS)"},null,null,null,null,null,null,"EIOS Initiative is a unique collaboration between WHO and various stakeholders that brings together new and existing initiatives, networks and systems to create a unified all-hazards, One Health approach to early detection, verification and assessment of public health risks and threats using open source information.",null,null,null,null,null,null,null,null,{"$f":"INDEX(Backbone!$R$2:$R$893,MATCH(I42,Backbone!$A$2:$A$893,0))","v":"Hardware or Software"},null,null,null,{"$f":"INDEX(Backbone!$S$2:$S$893,MATCH(I42,Backbone!$A$2:$A$893,0))","v":"One Health; Generalized"},null,null,null,{"$f":"INDEX(Backbone!$H$2:$H$893,MATCH(I42,Backbone!$A$2:$A$893,0))","v":8.4},null,{"$f":"INDEX(Backbone!$I$2:$I$893,MATCH(I42,Backbone!$A$2:$A$893,0))","v":9},null,{"$f":"INDEX(Backbone!$J$2:$J$893,MATCH(I42,Backbone!$A$2:$A$893,0))","v":7.4},null,{"$f":"INDEX(Backbone!$K$1:$K$893,MATCH(I42,Backbone!$A$1:$A$893,0))","v":9},null,{"$f":"INDEX(Backbone!$L$2:$L$893,MATCH(I42,Backbone!$A$2:$A$893,0))","v":8.8000000000000007},null,{"$f":"INDEX(Backbone!$M$2:$M$893,MATCH(I42,Backbone!$A$2:$A$893,0))","v":8},null,{"$f":"INDEX(Backbone!$N$2:$N$893,MATCH(I42,Backbone!$A$2:$A$893,0))","v":5.5},null,{"$f":"INDEX(Backbone!$O$2:$O$893,MATCH(I42,Backbone!$A$2:$A$893,0))","v":9.1999999999999993},null,{"$f":"INDEX(Backbone!$P$2:$P$893,MATCH(I42,Backbone!$A$2:$A$893,0))","v":6},null,{"$f":"INDEX(Backbone!$Q$2:$Q$893,MATCH(I42,Backbone!$A$2:$A$893,0))","v":0.79222222222222216},null,null,{"$f":"(AG42*$AG$22+AI42*$AI$22+AK42*$AK$22+AM42*$AM$22+AO42*$AO$22+AQ42*$AQ$22+AS42*$AS$22+AU42*$AU$22+AW42*$AW$22)/(SUM($AG$22:$AW$22)*10)","v":{"$error":"#DIV/0!"}},null,null,"Go to \nToolbox: ",null,{"$f":"HYPERLINK(\"#\"&ADDRESS(MATCH(I42,Toolbox!$C$1:$C$300),1,,,\"Toolbox\"),VLOOKUP(I42,Toolbox!$C$1:$C$300,1,FALSE))","v":"The Epidemic Intelligence from Open Sources (EIOS)"}]
[]
[]
[]
[]
[]
[null,null,null,null,null,null,null,null,{"$f":"Backbone!A166","v":"EMPRES Global Animal Disease Information System (EMPRES-i)"},null,null,null,null,null,null,"A web-based secure information system to support country level veterinary services by facilitating regional and global disease and a global reference database for animal diseases including zoonosis.",null,null,null,null,null,null,null,null,{"$f":"INDEX(Backbone!$R$2:$R$893,MATCH(I48,Backbone!$A$2:$A$893,0))","v":"Hardware or Software"},null,null,null,{"$f":"INDEX(Backbone!$S$2:$S$893,MATCH(I48,Backbone!$A$2:$A$893,0))","v":"Sector Specific; Generalized"},null,null,null,{"$f":"INDEX(Backbone!$H$2:$H$893,MATCH(I48,Backbone!$A$2:$A$893,0))","v":9},null,{"$f":"INDEX(Backbone!$I$2:$I$893,MATCH(I48,Backbone!$A$2:$A$893,0))","v":8.3000000000000007},null,{"$f":"INDEX(Backbone!$J$2:$J$893,MATCH(I48,Backbone!$A$2:$A$893,0))","v":8.9},null,{"$f":"INDEX(Backbone!$K$1:$K$893,MATCH(I48,Backbone!$A$1:$A$893,0))","v":8.6999999999999993},null,{"$f":"INDEX(Backbone!$L$2:$L$893,MATCH(I48,Backbone!$A$2:$A$893,0))","v":8},null,{"$f":"INDEX(Backbone!$M$2:$M$893,MATCH(I48,Backbone!$A$2:$A$893,0))","v":7.8},null,{"$f":"INDEX(Backbone!$N$2:$N$893,MATCH(I48,Backbone!$A$2:$A$893,0))","v":7.4},null,{"$f":"INDEX(Backbone!$O$2:$O$893,MATCH(I48,Backbone!$A$2:$A$893,0))","v":4.8},null,{"$f":"INDEX(Backbone!$P$2:$P$893,MATCH(I48,Backbone!$A$2:$A$893,0))","v":4.7},null,{"$f":"INDEX(Backbone!$Q$2:$Q$893,MATCH(I48,Backbone!$A$2:$A$893,0))","v":0.75111111111111106},null,null,{"$f":"(AG48*$AG$22+AI48*$AI$22+AK48*$AK$22+AM48*$AM$22+AO48*$AO$22+AQ48*$AQ$22+AS48*$AS$22+AU48*$AU$22+AW48*$AW$22)/(SUM($AG$22:$AW$22)*10)","v":{"$error":"#DIV/0!"}},null,null,"Go to \nToolbox: ",null,{"$f":"HYPERLINK(\"#\"&ADDRESS(MATCH(I48,Toolbox!$C$1:$C$300),1,,,\"Toolbox\"),VLOOKUP(I48,Toolbox!$C$1:$C$300,1,FALSE))","v":"EMPRES Global Animal Disease Information System (EMPRES-i)"}]
[]
[]
[]
[]
[]
[null,null,null,null,null,null,null,null,{"$f":"Backbone!A604","v":"Rabies Exposure and Case Tracker Application (React)"},null,null,null,null,null,null,"A tool to support implementation of Integrated Bite Case Management programs.",null,null,null,null,null,null,null,null,{"$f":"INDEX(Backbone!$R$2:$R$893,MATCH(I54,Backbone!$A$2:$A$893,0))","v":"Hardware or Software"},null,null,null,{"$f":"INDEX(Backbone!$S$2:$S$893,MATCH(I54,Backbone!$A$2:$A$893,0))","v":"One Health; Disease/Threat Specific "},null,null,null,{"$f":"INDEX(Backbone!$H$2:$H$893,MATCH(I54,Backbone!$A$2:$A$893,0))","v":8.6},null,{"$f":"INDEX(Backbone!$I$2:$I$893,MATCH(I54,Backbone!$A$2:$A$893,0))","v":8.6},null,{"$f":"INDEX(Backbone!$J$2:$J$893,MATCH(I54,Backbone!$A$2:$A$893,0))","v":8},null,{"$f":"INDEX(Backbone!$K$1:$K$893,MATCH(I54,Backbone!$A$1:$A$893,0))","v":8.6},null,{"$f":"INDEX(Backbone!$L$2:$L$893,MATCH(I54,Backbone!$A$2:$A$893,0))","v":9.4},null,{"$f":"INDEX(Backbone!$M$2:$M$893,MATCH(I54,Backbone!$A$2:$A$893,0))","v":9.5},null,{"$f":"INDEX(Backbone!$N$2:$N$893,MATCH(I54,Backbone!$A$2:$A$893,0))","v":9},null,{"$f":"INDEX(Backbone!$O$2:$O$893,MATCH(I54,Backbone!$A$2:$A$893,0))","v":9.1999999999999993},null,{"$f":"INDEX(Backbone!$P$2:$P$893,MATCH(I54,Backbone!$A$2:$A$893,0))","v":9},null,{"$f":"INDEX(Backbone!$Q$2:$Q$893,MATCH(I54,Backbone!$A$2:$A$893,0))","v":0.88777777777777767},null,null,{"$f":"(AG54*$AG$22+AI54*$AI$22+AK54*$AK$22+AM54*$AM$22+AO54*$AO$22+AQ54*$AQ$22+AS54*$AS$22+AU54*$AU$22+AW54*$AW$22)/(SUM($AG$22:$AW$22)*10)","v":{"$error":"#DIV/0!"}},null,null,"Go to \nToolbox: ",null,{"$f":"HYPERLINK(\"#\"&ADDRESS(MATCH(I54,Toolbox!$C$1:$C$300),1,,,\"Toolbox\"),VLOOKUP(I54,Toolbox!$C$1:$C$300,1,FALSE))","v":"Rabies Exposure and Case Tracker Application (React)"}]
[]
[]
[]
[]
[]
[]
[]
[]
[]
[]
[]
[]
[]
[]
[]
[]
[]
[]
[]
[]
[]
[]
[]
[null,null,null,null,null,null,null,null,null,null,null,null,null,null,null,null,null,null,null,null,null,null,null,null,null,null,null,null,null,null,null,null,"Accessibility",null,"Language",null,"Ease of use",null,"Flexibility",null,"Data Needs",null,"Data Analysis",null,"Acceptability",null,"One Health",null,"Impact"]
[]
[]
[]
[]
[]
[]
[null,null,null,null,null,null,null,null,null,null,null,null,null,null,null,null,null,null,null,null,null,null,null,null,null,null,null,null,null,null,null,null,null,null,null,null,null,null,null,null,null,null,null,null,null,null,null,null,null,null,"RAW SCORE",null,null,"ADJUSTED SCORE \n(Based on user preferences)"]
[]
[]
[]
[null,"LEVEL 2 RESOURCES",null,"DESIGNATION",null,null,null,null,"RESOURCE NAME",null,null,null,null,null,null,"SHORT DESCRIPTION",null,null,null,null,null,null,null,null,"RESOURCE TYPE",null,null,null,"RESOURCE GENERALITY"]
[]
[]
[]
[null,null,null,null,null,null,null,null,null,null,null,null,null,null,null,null,null,null,null,null,null,null,null,null,null,null,null,null,null,null,null,null,{"$f":"'Attribute Survey'!S211","v":0},null,{"$f":"'Attribute Survey'!S215","v":0},null,{"$f":"'Attribute Survey'!S219","v":0},null,{"$f":"'Attribute Survey'!S223","v":0},null,{"$f":"'Attribute Survey'!S227","v":0},null,{"$f":"'Attribute Survey'!S231","v":0},null,{"$f":"'Attribute Survey'!S235","v":0},null,{"$f":"'Attribute Survey'!S239","v":0},null,{"$f":"'Attribute Survey'!S243","v":0}]
[null,null,null,"Resources Best Fit For Purpose",null,null,null,null,{"$f":"Backbone!A65","v":"District Health Information Software 2 (DHIS2) "},null,null,null,null,null,null,"An open source, web-based health management information system  platform.",null,null,null,null,null,null,null,null,{"$f":"INDEX(Backbone!$R$2:$R$893,MATCH(I94,Backbone!$A$2:$A$893,0))","v":"Hardware or Software"},null,null,null,{"$f":"INDEX(Backbone!$S$2:$S$893,MATCH(I94,Backbone!$A$2:$A$893,0))","v":"Sector Specific; Generalized"},null,null,null,{"$f":"INDEX(Backbone!$H$2:$H$893,MATCH(I94,Backbone!$A$2:$A$893,0))","v":8.8000000000000007},null,{"$f":"INDEX(Backbone!$I$2:$I$893,MATCH(I94,Backbone!$A$2:$A$893,0))","v":8.6999999999999993},null,{"$f":"INDEX(Backbone!$J$2:$J$893,MATCH(I94,Backbone!$A$2:$A$893,0))","v":8},null,{"$f":"INDEX(Backbone!$K$2:$K$893,MATCH(I94,Backbone!$A$2:$A$893,0))","v":8.6999999999999993},null,{"$f":"INDEX(Backbone!$L$2:$L$893,MATCH(I94,Backbone!$A$2:$A$893,0))","v":9.3000000000000007},null,{"$f":"INDEX(Backbone!$M$2:$M$893,MATCH(I94,Backbone!$A$2:$A$893,0))","v":9},null,{"$f":"INDEX(Backbone!$N$2:$N$893,MATCH(I94,Backbone!$A$2:$A$893,0))","v":10},null,{"$f":"INDEX(Backbone!$O$2:$O$893,MATCH(I94,Backbone!$A$2:$A$893,0))","v":7.8},null,{"$f":"INDEX(Backbone!$P$2:$P$893,MATCH(I94,Backbone!$A$2:$A$893,0))","v":7},null,{"$f":"INDEX(Backbone!$Q$2:$Q$893,MATCH(I94,Backbone!$A$2:$A$893,0))","v":0.85888888888888881},null,null,{"$f":"(AG94*$AG$22+AI94*$AI$22+AK94*$AK$22+AM94*$AM$22+AO94*$AO$22+AQ94*$AQ$22+AS94*$AS$22+AU94*$AU$22+AW94*$AW$22)/(SUM($AG$22:$AW$22)*10)","v":{"$error":"#DIV/0!"}},null,null,"Go to \nToolbox: ",null,{"$f":"HYPERLINK(\"#\"&ADDRESS(MATCH(I94,Toolbox!$C$1:$C$300),1,,,\"Toolbox\"),VLOOKUP(I94,Toolbox!$C$1:$C$300,1,FALSE))","v":"District Health Information Software 2 (DHIS2) "}]
[]
[]
[]
[]
[]
[null,null,null,null,null,null,null,null,{"$f":"Backbone!A195","v":"Integrated Disease Surveillance and Response (IDSR)"},null,null,null,null,null,null,"A strategy aimed at strengthening capacities for detection, confirmation and response to suspected cases and outbreaks, and for use of information to predict and plan for public health events.",null,null,null,null,null,null,null,null,{"$f":"INDEX(Backbone!$R$2:$R$893,MATCH(I100,Backbone!$A$2:$A$893,0))","v":"Guidance document"},null,null,null,{"$f":"INDEX(Backbone!$S$2:$S$893,MATCH(I100,Backbone!$A$2:$A$893,0))","v":"Sector Specific; Generalized"},null,null,null,{"$f":"INDEX(Backbone!$H$2:$H$893,MATCH(I100,Backbone!$A$2:$A$893,0))","v":7.4},null,{"$f":"INDEX(Backbone!$I$2:$I$893,MATCH(I100,Backbone!$A$2:$A$893,0))","v":10},null,{"$f":"INDEX(Backbone!$J$2:$J$893,MATCH(I100,Backbone!$A$2:$A$893,0))","v":7.4},null,{"$f":"INDEX(Backbone!$K$1:$K$893,MATCH(I100,Backbone!$A$1:$A$893,0))","v":8.6999999999999993},null,{"$f":"INDEX(Backbone!$L$2:$L$893,MATCH(I100,Backbone!$A$2:$A$893,0))","v":6.7},null,{"$f":"INDEX(Backbone!$M$2:$M$893,MATCH(I100,Backbone!$A$2:$A$893,0))","v":4.5},null,{"$f":"INDEX(Backbone!$N$2:$N$893,MATCH(I100,Backbone!$A$2:$A$893,0))","v":8},null,{"$f":"INDEX(Backbone!$O$2:$O$893,MATCH(I100,Backbone!$A$2:$A$893,0))","v":7.2},null,{"$f":"INDEX(Backbone!$P$2:$P$893,MATCH(I100,Backbone!$A$2:$A$893,0))","v":8.5},null,{"$f":"INDEX(Backbone!$Q$2:$Q$893,MATCH(I100,Backbone!$A$2:$A$893,0))","v":0.76},null,null,{"$f":"(AG100*$AG$22+AI100*$AI$22+AK100*$AK$22+AM100*$AM$22+AO100*$AO$22+AQ100*$AQ$22+AS100*$AS$22+AU100*$AU$22+AW100*$AW$22)/(SUM($AG$22:$AW$22)*10)","v":{"$error":"#DIV/0!"}},null,null,"Go to \nToolbox: ",null,{"$f":"HYPERLINK(\"#\"&ADDRESS(MATCH(I100,Toolbox!$C$1:$C$300),1,,,\"Toolbox\"),VLOOKUP(I100,Toolbox!$C$1:$C$300,1,FALSE))","v":"Integrated Disease Surveillance and Response (IDSR)"}]
[]
[]
[]
[]
[]
[]
[null,null,null,"Other Relevant Resources",null,null,null,null,{"$f":"Backbone!A155","v":"The Epidemic Intelligence from Open Sources (EIOS)"},null,null,null,null,null,null,"EIOS Initiative is a unique collaboration between WHO and various stakeholders that brings together new and existing initiatives, networks and systems to create a unified all-hazards, One Health approach to early detection, verification and assessment of public health risks and threats using open source information.",null,null,null,null,null,null,null,null,{"$f":"INDEX(Backbone!$R$2:$R$893,MATCH(I107,Backbone!$A$2:$A$893,0))","v":"Hardware or Software"},null,null,null,{"$f":"INDEX(Backbone!$S$2:$S$893,MATCH(I107,Backbone!$A$2:$A$893,0))","v":"One Health; Generalized"},null,null,null,{"$f":"INDEX(Backbone!$H$2:$H$893,MATCH(I107,Backbone!$A$2:$A$893,0))","v":8.4},null,{"$f":"INDEX(Backbone!$I$2:$I$893,MATCH(I107,Backbone!$A$2:$A$893,0))","v":9},null,{"$f":"INDEX(Backbone!$J$2:$J$893,MATCH(I107,Backbone!$A$2:$A$893,0))","v":7.4},null,{"$f":"INDEX(Backbone!$K$1:$K$893,MATCH(I107,Backbone!$A$1:$A$893,0))","v":9},null,{"$f":"INDEX(Backbone!$L$2:$L$893,MATCH(I107,Backbone!$A$2:$A$893,0))","v":8.8000000000000007},null,{"$f":"INDEX(Backbone!$M$2:$M$893,MATCH(I107,Backbone!$A$2:$A$893,0))","v":8},null,{"$f":"INDEX(Backbone!$N$2:$N$893,MATCH(I107,Backbone!$A$2:$A$893,0))","v":5.5},null,{"$f":"INDEX(Backbone!$O$2:$O$893,MATCH(I107,Backbone!$A$2:$A$893,0))","v":9.1999999999999993},null,{"$f":"INDEX(Backbone!$P$2:$P$893,MATCH(I107,Backbone!$A$2:$A$893,0))","v":6},null,{"$f":"INDEX(Backbone!$Q$2:$Q$893,MATCH(I107,Backbone!$A$2:$A$893,0))","v":0.79222222222222216},null,null,{"$f":"(AG107*$AG$22+AI107*$AI$22+AK107*$AK$22+AM107*$AM$22+AO107*$AO$22+AQ107*$AQ$22+AS107*$AS$22+AU107*$AU$22+AW107*$AW$22)/(SUM($AG$22:$AW$22)*10)","v":{"$error":"#DIV/0!"}},null,null,"Go to \nToolbox: ",null,{"$f":"HYPERLINK(\"#\"&ADDRESS(MATCH(I107,Toolbox!$C$1:$C$300),1,,,\"Toolbox\"),VLOOKUP(I107,Toolbox!$C$1:$C$300,1,FALSE))","v":"The Epidemic Intelligence from Open Sources (EIOS)"}]
[]
[]
[]
[]
[]
[null,null,null,null,null,null,null,null,{"$f":"Backbone!A604","v":"Rabies Exposure and Case Tracker Application (React)"},null,null,null,null,null,null,"A tool to support implementation of Integrated Bite Case Management programs.",null,null,null,null,null,null,null,null,{"$f":"INDEX(Backbone!$R$2:$R$893,MATCH(I113,Backbone!$A$2:$A$893,0))","v":"Hardware or Software"},null,null,null,{"$f":"INDEX(Backbone!$S$2:$S$893,MATCH(I113,Backbone!$A$2:$A$893,0))","v":"One Health; Disease/Threat Specific "},null,null,null,{"$f":"INDEX(Backbone!$H$2:$H$893,MATCH(I113,Backbone!$A$2:$A$893,0))","v":8.6},null,{"$f":"INDEX(Backbone!$I$2:$I$893,MATCH(I113,Backbone!$A$2:$A$893,0))","v":8.6},null,{"$f":"INDEX(Backbone!$J$2:$J$893,MATCH(I113,Backbone!$A$2:$A$893,0))","v":8},null,{"$f":"INDEX(Backbone!$K$1:$K$893,MATCH(I113,Backbone!$A$1:$A$893,0))","v":8.6},null,{"$f":"INDEX(Backbone!$L$2:$L$893,MATCH(I113,Backbone!$A$2:$A$893,0))","v":9.4},null,{"$f":"INDEX(Backbone!$M$2:$M$893,MATCH(I113,Backbone!$A$2:$A$893,0))","v":9.5},null,{"$f":"INDEX(Backbone!$N$2:$N$893,MATCH(I113,Backbone!$A$2:$A$893,0))","v":9},null,{"$f":"INDEX(Backbone!$O$2:$O$893,MATCH(I113,Backbone!$A$2:$A$893,0))","v":9.1999999999999993},null,{"$f":"INDEX(Backbone!$P$2:$P$893,MATCH(I113,Backbone!$A$2:$A$893,0))","v":9},null,{"$f":"INDEX(Backbone!$Q$2:$Q$893,MATCH(I113,Backbone!$A$2:$A$893,0))","v":0.88777777777777767},null,null,{"$f":"(AG113*$AG$22+AI113*$AI$22+AK113*$AK$22+AM113*$AM$22+AO113*$AO$22+AQ113*$AQ$22+AS113*$AS$22+AU113*$AU$22+AW113*$AW$22)/(SUM($AG$22:$AW$22)*10)","v":{"$error":"#DIV/0!"}},null,null,"Go to \nToolbox: ",null,{"$f":"HYPERLINK(\"#\"&ADDRESS(MATCH(I113,Toolbox!$C$1:$C$300),1,,,\"Toolbox\"),VLOOKUP(I113,Toolbox!$C$1:$C$300,1,FALSE))","v":"Rabies Exposure and Case Tracker Application (React)"}]
[]
[]
[]
[]
[]
[]
[]
[]
[]
[]
[]
[]
[]
[]
[]
[]
[]
[]
[]
[]
[]
[]
[]
[null,null,null,null,null,null,null,null,null,null,null,null,null,null,null,null,null,null,null,null,null,null,null,null,null,null,null,null,null,null,null,null,"Accessibility",null,"Language",null,"Ease of use",null,"Flexibility",null,"Data Needs",null,"Data Analysis",null,"Acceptability",null,"One Health",null,"Impact"]
[]
[]
[]
[]
[]
[]
[null,null,null,null,null,null,null,null,null,null,null,null,null,null,null,null,null,null,null,null,null,null,null,null,null,null,null,null,null,null,null,null,null,null,null,null,null,null,null,null,null,null,null,null,null,null,null,null,null,null,"RAW SCORE",null,null,"ADJUSTED SCORE \n(Based on user preferences)"]
[]
[]
[null,"LEVEL 3 RESOURCES"]
[null,null,null,"DESIGNATION",null,null,null,null,"RESOURCE NAME",null,null,null,null,null,null,"SHORT DESCRIPTION",null,null,null,null,null,null,null,null,"RESOURCE TYPE",null,null,null,"RESOURCE GENERALITY"]
[]
[]
[]
[null,null,null,null,null,null,null,null,null,null,null,null,null,null,null,null,null,null,null,null,null,null,null,null,null,null,null,null,null,null,null,null,{"$f":"'Attribute Survey'!S294","v":0},null,{"$f":"'Attribute Survey'!S298","v":0},null,{"$f":"'Attribute Survey'!S302","v":0},null,{"$f":"'Attribute Survey'!S306","v":0},null,{"$f":"'Attribute Survey'!S310","v":0},null,{"$f":"'Attribute Survey'!S314","v":0},null,{"$f":"'Attribute Survey'!S318","v":0},null,{"$f":"'Attribute Survey'!S322","v":0},null,{"$f":"'Attribute Survey'!S326","v":0}]
[null,null,null,"Resources Best Fit For Purpose",null,null,null,null,{"$f":"Backbone!A195","v":"Integrated Disease Surveillance and Response (IDSR)"},null,null,null,null,null,null,"A strategy aimed at strengthening capacities for detection, confirmation and response to suspected cases and outbreaks, and for use of information to predict and plan for public health events.",null,null,null,null,null,null,null,null,{"$f":"INDEX(Backbone!$R$2:$R$893,MATCH(I153,Backbone!$A$2:$A$893,0))","v":"Guidance document"},null,null,null,{"$f":"INDEX(Backbone!$S$2:$S$893,MATCH(I153,Backbone!$A$2:$A$893,0))","v":"Sector Specific; Generalized"},null,null,null,{"$f":"INDEX(Backbone!$H$2:$H$893,MATCH(I153,Backbone!$A$2:$A$893,0))","v":7.4},null,{"$f":"INDEX(Backbone!$I$2:$I$893,MATCH(I153,Backbone!$A$2:$A$893,0))","v":10},null,{"$f":"INDEX(Backbone!$J$2:$J$893,MATCH(I153,Backbone!$A$2:$A$893,0))","v":7.4},null,{"$f":"INDEX(Backbone!$K$2:$K$893,MATCH(I153,Backbone!$A$2:$A$893,0))","v":8.6999999999999993},null,{"$f":"INDEX(Backbone!$L$2:$L$893,MATCH(I153,Backbone!$A$2:$A$893,0))","v":6.7},null,{"$f":"INDEX(Backbone!$M$2:$M$893,MATCH(I153,Backbone!$A$2:$A$893,0))","v":4.5},null,{"$f":"INDEX(Backbone!$N$2:$N$893,MATCH(I153,Backbone!$A$2:$A$893,0))","v":8},null,{"$f":"INDEX(Backbone!$O$2:$O$893,MATCH(I153,Backbone!$A$2:$A$893,0))","v":7.2},null,{"$f":"INDEX(Backbone!$P$2:$P$893,MATCH(I153,Backbone!$A$2:$A$893,0))","v":8.5},null,{"$f":"INDEX(Backbone!$Q$2:$Q$893,MATCH(I153,Backbone!$A$2:$A$893,0))","v":0.76},null,null,{"$f":"(AG153*$AG$22+AI153*$AI$22+AK153*$AK$22+AM153*$AM$22+AO153*$AO$22+AQ153*$AQ$22+AS153*$AS$22+AU153*$AU$22+AW153*$AW$22)/(SUM($AG$22:$AW$22)*10)","v":{"$error":"#DIV/0!"}},null,null,"Go to \nToolbox: ",null,{"$f":"HYPERLINK(\"#\"&ADDRESS(MATCH(I153,Toolbox!$C$1:$C$300),1,,,\"Toolbox\"),VLOOKUP(I153,Toolbox!$C$1:$C$300,1,FALSE))","v":"Integrated Disease Surveillance and Response (IDSR)"}]
[]
[]
[]
[]
[]
[]
[null,null,null,"Other Relevant Resources",null,null,null,null,{"$f":"Backbone!A65","v":"District Health Information Software 2 (DHIS2) "},null,null,null,null,null,null,"An open source, web-based health management information system  platform.",null,null,null,null,null,null,null,null,{"$f":"INDEX(Backbone!$R$2:$R$893,MATCH(I160,Backbone!$A$2:$A$893,0))","v":"Hardware or Software"},null,null,null,{"$f":"INDEX(Backbone!$S$2:$S$893,MATCH(I160,Backbone!$A$2:$A$893,0))","v":"Sector Specific; Generalized"},null,null,null,{"$f":"INDEX(Backbone!$H$2:$H$893,MATCH(I160,Backbone!$A$2:$A$893,0))","v":8.8000000000000007},null,{"$f":"INDEX(Backbone!$I$2:$I$893,MATCH(I160,Backbone!$A$2:$A$893,0))","v":8.6999999999999993},null,{"$f":"INDEX(Backbone!$J$2:$J$893,MATCH(I160,Backbone!$A$2:$A$893,0))","v":8},null,{"$f":"INDEX(Backbone!$K$1:$K$893,MATCH(I160,Backbone!$A$1:$A$893,0))","v":8.6999999999999993},null,{"$f":"INDEX(Backbone!$L$2:$L$893,MATCH(I160,Backbone!$A$2:$A$893,0))","v":9.3000000000000007},null,{"$f":"INDEX(Backbone!$M$2:$M$893,MATCH(I160,Backbone!$A$2:$A$893,0))","v":9},null,{"$f":"INDEX(Backbone!$N$2:$N$893,MATCH(I160,Backbone!$A$2:$A$893,0))","v":10},null,{"$f":"INDEX(Backbone!$O$2:$O$893,MATCH(I160,Backbone!$A$2:$A$893,0))","v":7.8},null,{"$f":"INDEX(Backbone!$P$2:$P$893,MATCH(I160,Backbone!$A$2:$A$893,0))","v":7},null,{"$f":"INDEX(Backbone!$Q$2:$Q$893,MATCH(I160,Backbone!$A$2:$A$893,0))","v":0.85888888888888881},null,null,{"$f":"(AG160*$AG$22+AI160*$AI$22+AK160*$AK$22+AM160*$AM$22+AO160*$AO$22+AQ160*$AQ$22+AS160*$AS$22+AU160*$AU$22+AW160*$AW$22)/(SUM($AG$22:$AW$22)*10)","v":{"$error":"#DIV/0!"}},null,null,"Go to \nToolbox: ",null,{"$f":"HYPERLINK(\"#\"&ADDRESS(MATCH(I160,Toolbox!$C$1:$C$300),1,,,\"Toolbox\"),VLOOKUP(I160,Toolbox!$C$1:$C$300,1,FALSE))","v":"District Health Information Software 2 (DHIS2) "}]
[]
[]
[]
[]
[]
[null,null,null,null,null,null,null,null,{"$f":"Backbone!A155","v":"The Epidemic Intelligence from Open Sources (EIOS)"},null,null,null,null,null,null,"EIOS Initiative is a unique collaboration between WHO and various stakeholders that brings together new and existing initiatives, networks and systems to create a unified all-hazards, One Health approach to early detection, verification and assessment of public health risks and threats using open source information.",null,null,null,null,null,null,null,null,{"$f":"INDEX(Backbone!$R$2:$R$893,MATCH(I166,Backbone!$A$2:$A$893,0))","v":"Hardware or Software"},null,null,null,{"$f":"INDEX(Backbone!$S$2:$S$893,MATCH(I166,Backbone!$A$2:$A$893,0))","v":"One Health; Generalized"},null,null,null,{"$f":"INDEX(Backbone!$H$2:$H$893,MATCH(I166,Backbone!$A$2:$A$893,0))","v":8.4},null,{"$f":"INDEX(Backbone!$I$2:$I$893,MATCH(I166,Backbone!$A$2:$A$893,0))","v":9},null,{"$f":"INDEX(Backbone!$J$2:$J$893,MATCH(I166,Backbone!$A$2:$A$893,0))","v":7.4},null,{"$f":"INDEX(Backbone!$K$1:$K$893,MATCH(I166,Backbone!$A$1:$A$893,0))","v":9},null,{"$f":"INDEX(Backbone!$L$2:$L$893,MATCH(I166,Backbone!$A$2:$A$893,0))","v":8.8000000000000007},null,{"$f":"INDEX(Backbone!$M$2:$M$893,MATCH(I166,Backbone!$A$2:$A$893,0))","v":8},null,{"$f":"INDEX(Backbone!$N$2:$N$893,MATCH(I166,Backbone!$A$2:$A$893,0))","v":5.5},null,{"$f":"INDEX(Backbone!$O$2:$O$893,MATCH(I166,Backbone!$A$2:$A$893,0))","v":9.1999999999999993},null,{"$f":"INDEX(Backbone!$P$2:$P$893,MATCH(I166,Backbone!$A$2:$A$893,0))","v":6},null,{"$f":"INDEX(Backbone!$Q$2:$Q$893,MATCH(I166,Backbone!$A$2:$A$893,0))","v":0.79222222222222216},null,null,{"$f":"(AG166*$AG$22+AI166*$AI$22+AK166*$AK$22+AM166*$AM$22+AO166*$AO$22+AQ166*$AQ$22+AS166*$AS$22+AU166*$AU$22+AW166*$AW$22)/(SUM($AG$22:$AW$22)*10)","v":{"$error":"#DIV/0!"}},null,null,"Go to \nToolbox: ",null,{"$f":"HYPERLINK(\"#\"&ADDRESS(MATCH(I166,Toolbox!$C$1:$C$300),1,,,\"Toolbox\"),VLOOKUP(I166,Toolbox!$C$1:$C$300,1,FALSE))","v":"The Epidemic Intelligence from Open Sources (EIOS)"}]

{"sheet":"I9_tools","index":54,"n_rows":41,"n_cols":59,"rows_kept":41,"cut":false,"hidden":false,"merged":[[34,56,38,57],[34,58,38,62],[40,56,44,57],[40,58,44,62],[1,1,3,62],[22,56,26,57],[22,58,26,62],[28,56,32,57],[28,58,32,62],[6,32,20,32],[6,34,20,34],[6,36,20,36],[6,38,20,38],[6,40,20,40],[6,42,20,42],[6,44,20,44],[6,46,20,46],[6,48,20,48],[13,50,20,51],[13,53,20,54],[17,1,44,1],[17,3,20,6],[17,8,20,13],[17,15,20,22],[17,24,20,26],[17,28,20,30],[22,3,44,6],[22,8,26,13],[22,46,26,46],[40,34,44,34],[34,42,38,42],[34,44,38,44],[34,46,38,46],[22,48,26,48],[22,15,26,22],[22,24,26,26],[22,28,26,30],[22,32,26,32],[22,34,26,34],[22,36,26,36],[28,48,32,48],[34,48,38,48],[28,50,32,51],[22,50,26,51],[22,53,26,54],[28,8,32,13],[28,15,32,22],[28,24,32,26],[28,28,32,30],[28,32,32,32],[28,34,32,34],[28,36,32,36],[28,38,32,38],[22,38,26,38],[22,40,26,40],[22,42,26,42],[22,44,26,44],[34,50,38,51],[34,53,38,54],[28,53,32,54],[34,8,38,13],[34,15,38,22],[34,24,38,26],[34,28,38,30],[34,32,38,32],[34,34,38,34],[34,36,38,36],[34,38,38,38],[34,40,38,40],[28,40,32,40],[28,42,32,42],[28,44,32,44],[28,46,32,46],[40,8,44,13],[40,15,44,22],[40,24,44,26],[40,28,44,30],[40,32,44,32],[40,48,44,48],[40,50,44,51],[40,53,44,54],[40,36,44,36],[40,38,44,38],[40,40,44,40],[40,42,44,42],[40,44,44,44],[40,46,44,46]]}
[]
[null,"International Notification Requirements Resources"]
[]
[]
[]
[]
[null,null,null,null,null,null,null,null,null,null,null,null,null,null,null,null,null,null,null,null,null,null,null,null,null,null,null,null,null,null,null,null,"Accessibility",null,"Language",null,"Ease of use",null,"Flexibility",null,"Data Needs",null,"Data Analysis",null,"Acceptability",null,"One Health",null,"Impact"]
[]
[]
[]
[]
[]
[]
[null,null,null,null,null,null,null,null,null,null,null,null,null,null,null,null,null,null,null,null,null,null,null,null,null,null,null,null,null,null,null,null,null,null,null,null,null,null,null,null,null,null,null,null,null,null,null,null,null,null,"RAW SCORE",null,null,"ADJUSTED SCORE \n(Based on user preferences)"]
[]
[]
[]
[null,"LEVEL 1 RESOURCES",null,"DESIGNATION",null,null,null,null,"RESOURCE NAME",null,null,null,null,null,null,"SHORT DESCRIPTION",null,null,null,null,null,null,null,null,"RESOURCE TYPE",null,null,null,"RESOURCE GENERALITY"]
[]
[]
[]
[null,null,null,null,null,null,null,null,null,null,null,null,null,null,null,null,null,null,null,null,null,null,null,null,null,null,null,null,null,null,null,null,{"$f":"'Attribute Survey'!S22","v":0},null,{"$f":"'Attribute Survey'!S26","v":0},null,{"$f":"'Attribute Survey'!S30","v":0},null,{"$f":"'Attribute Survey'!S34","v":0},null,{"$f":"'Attribute Survey'!S38","v":0},null,{"$f":"'Attribute Survey'!S42","v":0},null,{"$f":"'Attribute Survey'!S46","v":0},null,{"$f":"'Attribute Survey'!S50","v":0},null,{"$f":"'Attribute Survey'!S54","v":0}]
[null,null,null,"Other Relevant Resources",null,null,null,null,{"$f":"Backbone!A163","v":"Event Mobile Application (EMAi)"},null,null,null,null,null,null,"A real-time reporting application used to collect animal disease information from the field, that generates georeferenced reports, which are transmitted to the country user interface under the FAO’s Global Animal Disease Information System (EMPRES-i).",null,null,null,null,null,null,null,null,{"$f":"INDEX(Backbone!$R$2:$R$893,MATCH(I23,Backbone!$A$2:$A$893,0))","v":"Hardware or Software"},null,null,null,{"$f":"INDEX(Backbone!$S$2:$S$893,MATCH(I23,Backbone!$A$2:$A$893,0))","v":"Sector Specific; Generalized"},null,null,null,{"$f":"INDEX(Backbone!$H$2:$H$893,MATCH(I23,Backbone!$A$2:$A$893,0))","v":8.9},null,{"$f":"INDEX(Backbone!$I$2:$I$893,MATCH(I23,Backbone!$A$2:$A$893,0))","v":7.7},null,{"$f":"INDEX(Backbone!$J$2:$J$893,MATCH(I23,Backbone!$A$2:$A$893,0))","v":9.1},null,{"$f":"INDEX(Backbone!$K$1:$K$893,MATCH(I23,Backbone!$A$1:$A$893,0))","v":6},null,{"$f":"INDEX(Backbone!$L$2:$L$893,MATCH(I23,Backbone!$A$2:$A$893,0))","v":8.3000000000000007},null,{"$f":"INDEX(Backbone!$M$2:$M$893,MATCH(I23,Backbone!$A$2:$A$893,0))","v":9.3000000000000007},null,{"$f":"INDEX(Backbone!$N$2:$N$893,MATCH(I23,Backbone!$A$2:$A$893,0))","v":6.7},null,{"$f":"INDEX(Backbone!$O$2:$O$893,MATCH(I23,Backbone!$A$2:$A$893,0))","v":4.5},null,{"$f":"INDEX(Backbone!$P$2:$P$893,MATCH(I23,Backbone!$A$2:$A$893,0))","v":5.7},null,{"$f":"INDEX(Backbone!$Q$2:$Q$893,MATCH(I23,Backbone!$A$2:$A$893,0))","v":0.73555555555555563},null,null,{"$f":"(AG23*$AG$22+AI23*$AI$22+AK23*$AK$22+AM23*$AM$22+AO23*$AO$22+AQ23*$AQ$22+AS23*$AS$22+AU23*$AU$22+AW23*$AW$22)/(SUM($AG$22:$AW$22)*10)","v":{"$error":"#DIV/0!"}},null,null,"Go to \nToolbox: ",null,{"$f":"HYPERLINK(\"#\"&ADDRESS(MATCH(I23,Toolbox!$C$1:$C$300),1,,,\"Toolbox\"),VLOOKUP(I23,Toolbox!$C$1:$C$300,1,FALSE))","v":"Event Mobile Application (EMAi)"}]
[]
[]
[]
[]
[]
[null,null,null,null,null,null,null,null,{"$f":"Backbone!A195","v":"Integrated Disease Surveillance and Response (IDSR)"},null,null,null,null,null,null,"A strategy aimed at strengthening capacities for detection, confirmation and response to suspected cases and outbreaks, and for use of information to predict and plan for public health events.",null,null,null,null,null,null,null,null,{"$f":"INDEX(Backbone!$R$2:$R$893,MATCH(I29,Backbone!$A$2:$A$893,0))","v":"Guidance document"},null,null,null,{"$f":"INDEX(Backbone!$S$2:$S$893,MATCH(I29,Backbone!$A$2:$A$893,0))","v":"Sector Specific; Generalized"},null,null,null,{"$f":"INDEX(Backbone!$H$2:$H$893,MATCH(I29,Backbone!$A$2:$A$893,0))","v":7.4},null,{"$f":"INDEX(Backbone!$I$2:$I$893,MATCH(I29,Backbone!$A$2:$A$893,0))","v":10},null,{"$f":"INDEX(Backbone!$J$2:$J$893,MATCH(I29,Backbone!$A$2:$A$893,0))","v":7.4},null,{"$f":"INDEX(Backbone!$K$1:$K$893,MATCH(I29,Backbone!$A$1:$A$893,0))","v":8.6999999999999993},null,{"$f":"INDEX(Backbone!$L$2:$L$893,MATCH(I29,Backbone!$A$2:$A$893,0))","v":6.7},null,{"$f":"INDEX(Backbone!$M$2:$M$893,MATCH(I29,Backbone!$A$2:$A$893,0))","v":4.5},null,{"$f":"INDEX(Backbone!$N$2:$N$893,MATCH(I29,Backbone!$A$2:$A$893,0))","v":8},null,{"$f":"INDEX(Backbone!$O$2:$O$893,MATCH(I29,Backbone!$A$2:$A$893,0))","v":7.2},null,{"$f":"INDEX(Backbone!$P$2:$P$893,MATCH(I29,Backbone!$A$2:$A$893,0))","v":8.5},null,{"$f":"INDEX(Backbone!$Q$2:$Q$893,MATCH(I29,Backbone!$A$2:$A$893,0))","v":0.76},null,null,{"$f":"(AG29*$AG$22+AI29*$AI$22+AK29*$AK$22+AM29*$AM$22+AO29*$AO$22+AQ29*$AQ$22+AS29*$AS$22+AU29*$AU$22+AW29*$AW$22)/(SUM($AG$22:$AW$22)*10)","v":{"$error":"#DIV/0!"}},null,null,"Go to \nToolbox: ",null,{"$f":"HYPERLINK(\"#\"&ADDRESS(MATCH(I29,Toolbox!$C$1:$C$300),1,,,\"Toolbox\"),VLOOKUP(I29,Toolbox!$C$1:$C$300,1,FALSE))","v":"Integrated Disease Surveillance and Response (IDSR)"}]
[]
[]
[]
[]
[]
[null,null,null,null,null,null,null,null,{"$f":"Backbone!A256","v":"Joint External Evaluation tool (JEE ) "},null,null,null,null,null,null,"The process of external evaluation of country capacity to prevent, detect and rapidly respond to public health threats available for WHO Member States.",null,null,null,null,null,null,null,null,{"$f":"INDEX(Backbone!$R$2:$R$893,MATCH(I35,Backbone!$A$2:$A$893,0))","v":"Guided/Facilitated tool or process"},null,null,null,{"$f":"INDEX(Backbone!$S$2:$S$893,MATCH(I35,Backbone!$A$2:$A$893,0))","v":"One Health; Generalized"},null,null,null,{"$f":"INDEX(Backbone!$H$2:$H$893,MATCH(I35,Backbone!$A$2:$A$893,0))","v":8.6999999999999993},null,{"$f":"INDEX(Backbone!$I$2:$I$893,MATCH(I35,Backbone!$A$2:$A$893,0))","v":10},null,{"$f":"INDEX(Backbone!$J$2:$J$893,MATCH(I35,Backbone!$A$2:$A$893,0))","v":7},null,{"$f":"INDEX(Backbone!$K$1:$K$893,MATCH(I35,Backbone!$A$1:$A$893,0))","v":6.3},null,{"$f":"INDEX(Backbone!$L$2:$L$893,MATCH(I35,Backbone!$A$2:$A$893,0))","v":7.7},null,{"$f":"INDEX(Backbone!$M$2:$M$893,MATCH(I35,Backbone!$A$2:$A$893,0))","v":4.7},null,{"$f":"INDEX(Backbone!$N$2:$N$893,MATCH(I35,Backbone!$A$2:$A$893,0))","v":6},null,{"$f":"INDEX(Backbone!$O$2:$O$893,MATCH(I35,Backbone!$A$2:$A$893,0))","v":9.5},null,{"$f":"INDEX(Backbone!$P$2:$P$893,MATCH(I35,Backbone!$A$2:$A$893,0))","v":10},null,{"$f":"INDEX(Backbone!$Q$2:$Q$893,MATCH(I35,Backbone!$A$2:$A$893,0))","v":0.77666666666666673},null,null,{"$f":"(AG35*$AG$22+AI35*$AI$22+AK35*$AK$22+AM35*$AM$22+AO35*$AO$22+AQ35*$AQ$22+AS35*$AS$22+AU35*$AU$22+AW35*$AW$22)/(SUM($AG$22:$AW$22)*10)","v":{"$error":"#DIV/0!"}},null,null,"Go to \nToolbox: ",null,{"$f":"HYPERLINK(\"#\"&ADDRESS(MATCH(I35,Toolbox!$C$1:$C$300),1,,,\"Toolbox\"),VLOOKUP(I35,Toolbox!$C$1:$C$300,1,FALSE))","v":"Joint External Evaluation tool (JEE ) "}]
[]
[]
[]
[]
[]
[null,null,null,null,null,null,null,null,{"$f":"Backbone!A571","v":"World Organisation for Animal Health (WOAH) WAHIS Alert application"},null,null,null,null,null,null,"Application that allows its users to receive on their mobile phones or tablets the animal health alerts (immediate notifications) and the follow-up reports as soon as they are published by the OIE.",null,null,null,null,null,null,null,null,{"$f":"INDEX(Backbone!$R$2:$R$893,MATCH(I41,Backbone!$A$2:$A$893,0))","v":"Hardware or Software"},null,null,null,{"$f":"INDEX(Backbone!$S$2:$S$893,MATCH(I41,Backbone!$A$2:$A$893,0))","v":"Sector Specific; Generalized"},null,null,null,{"$f":"INDEX(Backbone!$H$2:$H$893,MATCH(I41,Backbone!$A$2:$A$893,0))","v":9.6999999999999993},null,{"$f":"INDEX(Backbone!$I$2:$I$893,MATCH(I41,Backbone!$A$2:$A$893,0))","v":10},null,{"$f":"INDEX(Backbone!$J$2:$J$893,MATCH(I41,Backbone!$A$2:$A$893,0))","v":8.8000000000000007},null,{"$f":"INDEX(Backbone!$K$1:$K$893,MATCH(I41,Backbone!$A$1:$A$893,0))","v":8.6999999999999993},null,{"$f":"INDEX(Backbone!$L$2:$L$893,MATCH(I41,Backbone!$A$2:$A$893,0))","v":8.3000000000000007},null,{"$f":"INDEX(Backbone!$M$2:$M$893,MATCH(I41,Backbone!$A$2:$A$893,0))","v":5},null,{"$f":"INDEX(Backbone!$N$2:$N$893,MATCH(I41,Backbone!$A$2:$A$893,0))","v":7.5},null,{"$f":"INDEX(Backbone!$O$2:$O$893,MATCH(I41,Backbone!$A$2:$A$893,0))","v":3.3},null,{"$f":"INDEX(Backbone!$P$2:$P$893,MATCH(I41,Backbone!$A$2:$A$893,0))","v":6},null,{"$f":"INDEX(Backbone!$Q$2:$Q$893,MATCH(I41,Backbone!$A$2:$A$893,0))","v":0.74777777777777776},null,null,{"$f":"(AG41*$AG$22+AI41*$AI$22+AK41*$AK$22+AM41*$AM$22+AO41*$AO$22+AQ41*$AQ$22+AS41*$AS$22+AU41*$AU$22+AW41*$AW$22)/(SUM($AG$22:$AW$22)*10)","v":{"$error":"#DIV/0!"}},null,null,"Go to \nToolbox: ",null,{"$f":"HYPERLINK(\"#\"&ADDRESS(MATCH(I41,Toolbox!$C$1:$C$300),1,,,\"Toolbox\"),VLOOKUP(I41,Toolbox!$C$1:$C$300,1,FALSE))","v":"World Organisation for Animal Health (WOAH) WAHIS Alert application"}]

{"sheet":"I10_tools","index":55,"n_rows":209,"n_cols":59,"rows_kept":209,"cut":false,"hidden":false,"merged":[[1,1,3,62],[148,56,152,57],[148,58,152,62],[189,56,193,57],[189,58,193,62],[195,56,199,57],[195,58,199,62],[201,56,205,57],[201,58,205,62],[52,56,56,57],[52,58,56,62],[58,56,62,57],[58,58,62,62],[65,56,69,57],[65,58,69,62],[71,56,75,57],[71,58,75,62],[77,56,81,57],[77,58,81,62],[22,56,26,57],[22,58,26,62],[28,56,32,57],[28,58,32,62],[34,56,38,57],[208,56,212,57],[208,58,212,62],[117,56,121,57],[117,58,121,62],[123,56,127,57],[123,58,127,62],[129,56,133,57],[129,58,133,62],[135,56,139,57],[135,58,139,62],[142,56,146,57],[142,58,146,62],[34,58,38,62],[40,56,44,57],[40,58,44,62],[46,56,50,57],[46,58,50,62],[6,32,20,32],[6,34,20,34],[6,36,20,36],[6,38,20,38],[6,40,20,40],[6,42,20,42],[6,44,20,44],[6,46,20,46],[6,48,20,48],[13,50,20,51],[13,53,20,54],[22,53,26,54],[46,50,50,51],[46,53,50,54],[28,53,32,54],[28,50,32,51],[40,50,44,51],[40,53,44,54],[34,53,38,54],[17,1,81,1],[17,3,20,6],[17,8,20,13],[17,15,20,22],[17,24,20,26],[17,28,20,30],[22,3,62,6],[22,8,26,13],[22,50,26,51],[28,8,32,13],[28,15,32,22],[28,24,32,26],[28,28,32,30],[28,32,32,32],[28,34,32,34],[28,36,32,36],[28,38,32,38],[22,38,26,38],[22,40,26,40],[22,42,26,42],[22,44,26,44],[22,46,26,46],[22,48,26,48],[22,15,26,22],[22,24,26,26],[22,28,26,30],[22,32,26,32],[22,34,26,34],[22,36,26,36],[46,42,50,42],[46,44,50,44],[46,46,50,46],[46,48,50,48],[28,40,32,40],[28,42,32,42],[28,44,32,44],[28,46,32,46],[28,48,32,48],[40,42,44,42],[40,44,44,44],[40,46,44,46],[40,48,44,48],[34,40,38,40],[34,42,38,42],[34,44,38,44],[34,46,38,46],[34,48,38,48],[46,8,50,13],[46,15,50,22],[46,24,50,26],[46,28,50,30],[46,32,50,32],[46,34,50,34],[46,36,50,36],[46,38,50,38],[46,40,50,40],[52,48,56,48],[52,50,56,51],[52,53,56,54],[58,8,62,13],[58,15,62,22],[58,24,62,26],[58,28,62,30],[58,32,62,32],[58,34,62,34],[58,36,62,36],[52,36,56,36],[52,38,56,38],[52,40,56,40],[52,42,56,42],[52,44,56,44],[52,46,56,46],[52,8,56,13],[52,15,56,22],[52,24,56,26],[52,28,56,30],[52,32,56,32],[52,34,56,34],[58,50,62,51],[58,53,62,54],[65,3,81,6],[65,8,69,13],[65,15,69,22],[65,24,69,26],[65,28,69,30],[65,32,69,32],[65,34,69,34],[65,36,69,36],[58,38,62,38],[58,40,62,40],[58,42,62,42],[58,44,62,44],[58,46,62,46],[58,48,62,48],[65,50,69,51],[65,53,69,54],[71,8,75,13],[71,15,75,22],[71,24,75,26],[71,28,75,30],[71,32,75,32],[71,34,75,34],[71,36,75,36],[71,38,75,38],[65,38,69,38],[65,40,69,40],[65,42,69,42],[65,44,69,44],[65,46,69,46],[65,48,69,48],[77,42,81,42],[77,44,81,44],[77,46,81,46],[77,48,81,48],[77,50,81,51],[77,53,81,54],[71,53,75,54],[77,8,81,13],[77,15,81,22],[77,24,81,26],[77,28,81,30],[77,32,81,32],[77,34,81,34],[77,36,81,36],[77,38,81,38],[77,40,81,40],[71,40,75,40],[71,42,75,42],[71,44,75,44],[71,46,75,46],[71,48,75,48],[71,50,75,51],[101,46,115,46],[101,48,115,48],[108,50,115,51],[108,53,115,54],[112,1,152,1],[112,3,115,6],[112,8,115,13],[112,15,115,22],[112,24,115,26],[112,28,115,30],[101,32,115,32],[101,34,115,34],[101,36,115,36],[101,38,115,38],[101,40,115,40],[101,42,115,42],[101,44,115,44],[117,46,121,46],[117,48,121,48],[117,50,121,51],[117,53,121,54],[123,8,127,13],[123,15,127,22],[123,24,127,26],[117,32,121,32],[129,34,133,34],[129,36,133,36],[129,38,133,38],[123,48,127,48],[129,8,133,13],[129,15,133,22],[129,24,133,26],[129,28,133,30],[129,32,133,32],[123,28,127,30],[123,32,127,32],[123,34,127,34],[117,34,121,34],[117,36,121,36],[117,38,121,38],[117,40,121,40],[117,42,121,42],[117,44,121,44],[123,50,127,51],[123,53,127,54],[123,36,127,36],[123,38,127,38],[123,40,127,40],[123,42,127,42],[123,44,127,44],[123,46,127,46],[135,48,139,48],[135,50,139,51],[135,53,139,54],[129,53,133,54],[129,40,133,40],[129,42,133,42],[129,44,133,44],[129,46,133,46],[129,48,133,48],[129,50,133,51],[142,3,152,6],[142,8,146,13],[142,15,146,22],[142,24,146,26],[142,28,146,30],[142,32,146,32],[135,42,139,42],[135,44,139,44],[135,46,139,46],[117,3,139,6],[142,46,146,46],[135,8,139,13],[135,15,139,22],[135,24,139,26],[135,28,139,30],[135,32,139,32],[135,34,139,34],[135,36,139,36],[135,38,139,38],[135,40,139,40],[117,8,121,13],[117,15,121,22],[117,24,121,26],[117,28,121,30],[142,48,146,48],[142,50,146,51],[142,53,146,54],[148,8,152,13],[148,15,152,22],[148,24,152,26],[148,28,152,30],[148,32,152,32],[148,34,152,34],[142,34,146,34],[142,36,146,36],[142,38,146,38],[142,40,146,40],[142,42,146,42],[142,44,146,44],[148,48,152,48],[148,50,152,51],[148,53,152,54],[148,36,152,36],[148,38,152,38],[148,40,152,40],[148,42,152,42],[148,44,152,44],[148,46,152,46],[180,50,187,51],[180,53,187,54],[184,1,212,1],[184,3,187,6],[184,8,187,13],[184,15,187,22],[184,24,187,26],[184,28,187,30],[189,3,205,6],[189,8,193,13],[173,32,187,32],[173,34,187,34],[173,36,187,36],[173,38,187,38],[173,40,187,40],[173,42,187,42],[173,44,187,44],[173,46,187,46],[173,48,187,48],[195,40,199,40],[195,42,199,42],[195,44,199,44],[195,46,199,46],[195,48,199,48],[195,50,199,51],[189,50,193,51],[189,53,193,54],[195,8,199,13],[195,15,199,22],[195,24,199,26],[195,28,199,30],[195,32,199,32],[195,34,199,34],[195,36,199,36],[195,38,199,38],[189,38,193,38],[189,40,193,40],[189,42,193,42],[189,44,193,44],[189,46,193,46],[189,48,193,48],[189,15,193,22],[189,24,193,26],[189,28,193,30],[189,32,193,32],[189,34,193,34],[189,36,193,36],[208,3,212,6],[208,8,212,13],[208,15,212,22],[208,24,212,26],[208,28,212,30],[208,32,212,32],[208,34,212,34],[208,36,212,36],[201,38,205,38],[201,8,205,13],[201,15,205,22],[201,24,205,26],[201,28,205,30],[201,32,205,32],[201,34,205,34],[201,36,205,36],[208,50,212,51],[208,53,212,54],[34,8,38,13],[34,15,38,22],[34,24,38,26],[34,28,38,30],[34,32,38,32],[34,34,38,34],[34,36,38,36],[34,38,38,38],[208,38,212,38],[208,40,212,40],[208,42,212,42],[208,44,212,44],[208,46,212,46],[208,48,212,48],[201,50,205,51],[201,53,205,54],[201,40,205,40],[201,42,205,42],[201,44,205,44],[201,46,205,46],[201,48,205,48],[195,53,199,54],[34,50,38,51],[40,8,44,13],[40,15,44,22],[40,24,44,26],[40,28,44,30],[40,32,44,32],[40,34,44,34],[40,36,44,36],[40,38,44,38],[40,40,44,40]]}
[]
[null,"Coordinated Data Visualization and Analysis Resources"]
[]
[]
[]
[]
[null,null,null,null,null,null,null,null,null,null,null,null,null,null,null,null,null,null,null,null,null,null,null,null,null,null,null,null,null,null,null,null,"Accessibility",null,"Language",null,"Ease of use",null,"Flexibility",null,"Data Needs",null,"Data Analysis",null,"Acceptability",null,"One Health",null,"Impact"]
[]
[]
[]
[]
[]
[]
[null,null,null,null,null,null,null,null,null,null,null,null,null,null,null,null,null,null,null,null,null,null,null,null,null,null,null,null,null,null,null,null,null,null,null,null,null,null,null,null,null,null,null,null,null,null,null,null,null,null,"RAW SCORE",null,null,"ADJUSTED SCORE \n(Based on user preferences)"]
[]
[]
[]
[null,"LEVEL 1 RESOURCES",null,"DESIGNATION",null,null,null,null,"RESOURCE NAME",null,null,null,null,null,null,"SHORT DESCRIPTION",null,null,null,null,null,null,null,null,"RESOURCE TYPE",null,null,null,"RESOURCE GENERALITY"]
[]
[]
[]
[null,null,null,null,null,null,null,null,null,null,null,null,null,null,null,null,null,null,null,null,null,null,null,null,null,null,null,null,null,null,null,null,{"$f":"'Attribute Survey'!S22","v":0},null,{"$f":"'Attribute Survey'!S26","v":0},null,{"$f":"'Attribute Survey'!S30","v":0},null,{"$f":"'Attribute Survey'!S34","v":0},null,{"$f":"'Attribute Survey'!S38","v":0},null,{"$f":"'Attribute Survey'!S42","v":0},null,{"$f":"'Attribute Survey'!S46","v":0},null,{"$f":"'Attribute Survey'!S50","v":0},null,{"$f":"'Attribute Survey'!S54","v":0}]
[null,null,null,"Resources Best Fit for Purpose",null,null,null,null,{"$f":"Backbone!A21","v":"AfyaData"},null,null,null,null,null,null,"A One Health disease surveillance tool, designed to cater for Human, animal and environmental surveillance needs, comprised of Mobile and Web Apps.",null,null,null,null,null,null,null,null,{"$f":"INDEX(Backbone!$R$2:$R$893,MATCH(I23,Backbone!$A$2:$A$893,0))","v":"Hardware or Software"},null,null,null,{"$f":"INDEX(Backbone!$S$2:$S$893,MATCH(I23,Backbone!$A$2:$A$893,0))","v":"One Health; Generalized "},null,null,null,{"$f":"INDEX(Backbone!$H$2:$H$893,MATCH(I23,Backbone!$A$2:$A$893,0))","v":7.3},null,{"$f":"INDEX(Backbone!$I$2:$I$893,MATCH(I23,Backbone!$A$2:$A$893,0))","v":10},null,{"$f":"INDEX(Backbone!$J$2:$J$893,MATCH(I23,Backbone!$A$2:$A$893,0))","v":8.1999999999999993},null,{"$f":"INDEX(Backbone!$K$2:$K$893,MATCH(I23,Backbone!$A$2:$A$893,0))","v":7.3},null,{"$f":"INDEX(Backbone!$L$2:$L$893,MATCH(I23,Backbone!$A$2:$A$893,0))","v":7.6},null,{"$f":"INDEX(Backbone!$M$2:$M$893,MATCH(I23,Backbone!$A$2:$A$893,0))","v":8.8000000000000007},null,{"$f":"INDEX(Backbone!$N$2:$N$893,MATCH(I23,Backbone!$A$2:$A$893,0))","v":5.5},null,{"$f":"INDEX(Backbone!$O$2:$O$893,MATCH(I23,Backbone!$A$2:$A$893,0))","v":7.6},null,{"$f":"INDEX(Backbone!$P$2:$P$893,MATCH(I23,Backbone!$A$2:$A$893,0))","v":7},null,{"$f":"INDEX(Backbone!$Q$2:$Q$893,MATCH(I23,Backbone!$A$2:$A$893,0))","v":0.77000000000000013},null,null,{"$f":"(AG23*$AG$22+AI23*$AI$22+AK23*$AK$22+AM23*$AM$22+AO23*$AO$22+AQ23*$AQ$22+AS23*$AS$22+AU23*$AU$22+AW23*$AW$22)/(SUM($AG$22:$AW$22)*10)","v":{"$error":"#DIV/0!"}},null,null,"Go to \nToolbox: ",null,{"$f":"HYPERLINK(\"#\"&ADDRESS(MATCH(I23,Toolbox!$C$1:$C$300),1,,,\"Toolbox\"),VLOOKUP(I23,Toolbox!$C$1:$C$300,1,FALSE))","v":"AfyaData"}]
[]
[]
[]
[]
[]
[null,null,null,null,null,null,null,null,{"$f":"Backbone!A65","v":"District Health Information Software 2 (DHIS2) "},null,null,null,null,null,null,"An open source, web-based health management information system  platform.",null,null,null,null,null,null,null,null,{"$f":"INDEX(Backbone!$R$2:$R$893,MATCH(I29,Backbone!$A$2:$A$893,0))","v":"Hardware or Software"},null,null,null,{"$f":"INDEX(Backbone!$S$2:$S$893,MATCH(I29,Backbone!$A$2:$A$893,0))","v":"Sector Specific; Generalized"},null,null,null,{"$f":"INDEX(Backbone!$H$2:$H$893,MATCH(I29,Backbone!$A$2:$A$893,0))","v":8.8000000000000007},null,{"$f":"INDEX(Backbone!$I$2:$I$893,MATCH(I29,Backbone!$A$2:$A$893,0))","v":8.6999999999999993},null,{"$f":"INDEX(Backbone!$J$2:$J$893,MATCH(I29,Backbone!$A$2:$A$893,0))","v":8},null,{"$f":"INDEX(Backbone!$K$1:$K$893,MATCH(I29,Backbone!$A$1:$A$893,0))","v":8.6999999999999993},null,{"$f":"INDEX(Backbone!$L$2:$L$893,MATCH(I29,Backbone!$A$2:$A$893,0))","v":9.3000000000000007},null,{"$f":"INDEX(Backbone!$M$2:$M$893,MATCH(I29,Backbone!$A$2:$A$893,0))","v":9},null,{"$f":"INDEX(Backbone!$N$2:$N$893,MATCH(I29,Backbone!$A$2:$A$893,0))","v":10},null,{"$f":"INDEX(Backbone!$O$2:$O$893,MATCH(I29,Backbone!$A$2:$A$893,0))","v":7.8},null,{"$f":"INDEX(Backbone!$P$2:$P$893,MATCH(I29,Backbone!$A$2:$A$893,0))","v":7},null,{"$f":"INDEX(Backbone!$Q$2:$Q$893,MATCH(I29,Backbone!$A$2:$A$893,0))","v":0.85888888888888881},null,null,{"$f":"(AG29*$AG$22+AI29*$AI$22+AK29*$AK$22+AM29*$AM$22+AO29*$AO$22+AQ29*$AQ$22+AS29*$AS$22+AU29*$AU$22+AW29*$AW$22)/(SUM($AG$22:$AW$22)*10)","v":{"$error":"#DIV/0!"}},null,null,"Go to \nToolbox: ",null,{"$f":"HYPERLINK(\"#\"&ADDRESS(MATCH(I29,Toolbox!$C$1:$C$300),1,,,\"Toolbox\"),VLOOKUP(I29,Toolbox!$C$1:$C$300,1,FALSE))","v":"District Health Information Software 2 (DHIS2) "}]
[]
[]
[]
[]
[]
[null,null,null,null,null,null,null,null,{"$f":"Backbone!A138","v":"Electronic Integrated Disease Surveillance System (EIDSS)"},null,null,null,null,null,null,"A customizable web-based electronic disease reporting system that can support passive and active human and veterinary health surveillance, laboratory diagnostics, vector surveillance, and outbreak management. ",null,null,null,null,null,null,null,null,{"$f":"INDEX(Backbone!$R$2:$R$893,MATCH(I35,Backbone!$A$2:$A$893,0))","v":"Hardware or Software"},null,null,null,{"$f":"INDEX(Backbone!$S$2:$S$893,MATCH(I35,Backbone!$A$2:$A$893,0))","v":"One Health; Generalized"},null,null,null,{"$f":"INDEX(Backbone!$H$2:$H$893,MATCH(I35,Backbone!$A$2:$A$893,0))","v":6.8},null,{"$f":"INDEX(Backbone!$I$2:$I$893,MATCH(I35,Backbone!$A$2:$A$893,0))","v":10},null,{"$f":"INDEX(Backbone!$J$2:$J$893,MATCH(I35,Backbone!$A$2:$A$893,0))","v":8.4},null,{"$f":"INDEX(Backbone!$K$1:$K$893,MATCH(I35,Backbone!$A$1:$A$893,0))","v":8.6999999999999993},null,{"$f":"INDEX(Backbone!$L$2:$L$893,MATCH(I35,Backbone!$A$2:$A$893,0))","v":9.1},null,{"$f":"INDEX(Backbone!$M$2:$M$893,MATCH(I35,Backbone!$A$2:$A$893,0))","v":8},null,{"$f":"INDEX(Backbone!$N$2:$N$893,MATCH(I35,Backbone!$A$2:$A$893,0))","v":7},null,{"$f":"INDEX(Backbone!$O$2:$O$893,MATCH(I35,Backbone!$A$2:$A$893,0))","v":7.2},null,{"$f":"INDEX(Backbone!$P$2:$P$893,MATCH(I35,Backbone!$A$2:$A$893,0))","v":10},null,{"$f":"INDEX(Backbone!$Q$2:$Q$893,MATCH(I35,Backbone!$A$2:$A$893,0))","v":0.83555555555555561},null,null,{"$f":"(AG35*$AG$22+AI35*$AI$22+AK35*$AK$22+AM35*$AM$22+AO35*$AO$22+AQ35*$AQ$22+AS35*$AS$22+AU35*$AU$22+AW35*$AW$22)/(SUM($AG$22:$AW$22)*10)","v":{"$error":"#DIV/0!"}},null,null,"Go to \nToolbox: ",null,{"$f":"HYPERLINK(\"#\"&ADDRESS(MATCH(I35,Toolbox!$C$1:$C$300),1,,,\"Toolbox\"),VLOOKUP(I35,Toolbox!$C$1:$C$300,1,FALSE))","v":"Electronic Integrated Disease Surveillance System (EIDSS)"}]
[]
[]
[]
[]
[]
[null,null,null,null,null,null,null,null,{"$f":"Backbone!A195","v":"Integrated Disease Surveillance and Response (IDSR)"},null,null,null,null,null,null,"A strategy aimed at strengthening capacities for detection, confirmation and response to suspected cases and outbreaks, and for use of information to predict and plan for public health events.",null,null,null,null,null,null,null,null,{"$f":"INDEX(Backbone!$R$2:$R$893,MATCH(I41,Backbone!$A$2:$A$893,0))","v":"Guidance document"},null,null,null,{"$f":"INDEX(Backbone!$S$2:$S$893,MATCH(I41,Backbone!$A$2:$A$893,0))","v":"Sector Specific; Generalized"},null,null,null,{"$f":"INDEX(Backbone!$H$2:$H$893,MATCH(I41,Backbone!$A$2:$A$893,0))","v":7.4},null,{"$f":"INDEX(Backbone!$I$2:$I$893,MATCH(I41,Backbone!$A$2:$A$893,0))","v":10},null,{"$f":"INDEX(Backbone!$J$2:$J$893,MATCH(I41,Backbone!$A$2:$A$893,0))","v":7.4},null,{"$f":"INDEX(Backbone!$K$1:$K$893,MATCH(I41,Backbone!$A$1:$A$893,0))","v":8.6999999999999993},null,{"$f":"INDEX(Backbone!$L$2:$L$893,MATCH(I41,Backbone!$A$2:$A$893,0))","v":6.7},null,{"$f":"INDEX(Backbone!$M$2:$M$893,MATCH(I41,Backbone!$A$2:$A$893,0))","v":4.5},null,{"$f":"INDEX(Backbone!$N$2:$N$893,MATCH(I41,Backbone!$A$2:$A$893,0))","v":8},null,{"$f":"INDEX(Backbone!$O$2:$O$893,MATCH(I41,Backbone!$A$2:$A$893,0))","v":7.2},null,{"$f":"INDEX(Backbone!$P$2:$P$893,MATCH(I41,Backbone!$A$2:$A$893,0))","v":8.5},null,{"$f":"INDEX(Backbone!$Q$2:$Q$893,MATCH(I41,Backbone!$A$2:$A$893,0))","v":0.76},null,null,{"$f":"(AG41*$AG$22+AI41*$AI$22+AK41*$AK$22+AM41*$AM$22+AO41*$AO$22+AQ41*$AQ$22+AS41*$AS$22+AU41*$AU$22+AW41*$AW$22)/(SUM($AG$22:$AW$22)*10)","v":{"$error":"#DIV/0!"}},null,null,"Go to \nToolbox: ",null,{"$f":"HYPERLINK(\"#\"&ADDRESS(MATCH(I41,Toolbox!$C$1:$C$300),1,,,\"Toolbox\"),VLOOKUP(I41,Toolbox!$C$1:$C$300,1,FALSE))","v":"Integrated Disease Surveillance and Response (IDSR)"}]
[]
[]
[]
[]
[]
[null,null,null,null,null,null,null,null,{"$f":"Backbone!A271","v":"Laboratory Infrastructure Network Analysis (LINA)"},null,null,null,null,null,null,"An easy-to-use web-based application providing sophisticated computational modeling and data analytics functionality with easy visualization based on maps regarding capacities and capabilities of the national laboratory network and each laboratory itself.\n\n\n",null,null,null,null,null,null,null,null,{"$f":"INDEX(Backbone!$R$2:$R$893,MATCH(I47,Backbone!$A$2:$A$893,0))","v":"Hardware or Software"},null,null,null,{"$f":"INDEX(Backbone!$S$2:$S$893,MATCH(I47,Backbone!$A$2:$A$893,0))","v":"One Health; Generalized"},null,null,null,{"$f":"INDEX(Backbone!$H$2:$H$893,MATCH(I47,Backbone!$A$2:$A$893,0))","v":9.6},null,{"$f":"INDEX(Backbone!$I$2:$I$893,MATCH(I47,Backbone!$A$2:$A$893,0))","v":6},null,{"$f":"INDEX(Backbone!$J$2:$J$893,MATCH(I47,Backbone!$A$2:$A$893,0))","v":7.6},null,{"$f":"INDEX(Backbone!$K$1:$K$893,MATCH(I47,Backbone!$A$1:$A$893,0))","v":9},null,{"$f":"INDEX(Backbone!$L$2:$L$893,MATCH(I47,Backbone!$A$2:$A$893,0))","v":8.3000000000000007},null,{"$f":"INDEX(Backbone!$M$2:$M$893,MATCH(I47,Backbone!$A$2:$A$893,0))","v":7},null,{"$f":"INDEX(Backbone!$N$2:$N$893,MATCH(I47,Backbone!$A$2:$A$893,0))","v":3},null,{"$f":"INDEX(Backbone!$O$2:$O$893,MATCH(I47,Backbone!$A$2:$A$893,0))","v":9.1},null,{"$f":"INDEX(Backbone!$P$2:$P$893,MATCH(I47,Backbone!$A$2:$A$893,0))","v":4},null,{"$f":"INDEX(Backbone!$Q$2:$Q$893,MATCH(I47,Backbone!$A$2:$A$893,0))","v":0.69555555555555559},null,null,{"$f":"(AG47*$AG$22+AI47*$AI$22+AK47*$AK$22+AM47*$AM$22+AO47*$AO$22+AQ47*$AQ$22+AS47*$AS$22+AU47*$AU$22+AW47*$AW$22)/(SUM($AG$22:$AW$22)*10)","v":{"$error":"#DIV/0!"}},null,null,"Go to \nToolbox: ",null,{"$f":"HYPERLINK(\"#\"&ADDRESS(MATCH(I47,Toolbox!$C$1:$C$300),1,,,\"Toolbox\"),VLOOKUP(I47,Toolbox!$C$1:$C$300,1,FALSE))","v":"Laboratory Infrastructure Network Analysis (LINA)"}]
[]
[]
[]
[]
[]
[null,null,null,null,null,null,null,null,{"$f":"Backbone!A489","v":"The Suite for Automated Global Electronic BioSurveillance (SAGES)"},null,null,null,null,null,null,"A suite of open source software tools designed to enhance electronic disease surveillance in resource-limited settings.",null,null,null,null,null,null,null,null,{"$f":"INDEX(Backbone!$R$2:$R$893,MATCH(I53,Backbone!$A$2:$A$893,0))","v":"Hardware or Software"},null,null,null,{"$f":"INDEX(Backbone!$S$2:$S$893,MATCH(I53,Backbone!$A$2:$A$893,0))","v":"One Health; Generalized"},null,null,null,{"$f":"INDEX(Backbone!$H$2:$H$893,MATCH(I53,Backbone!$A$2:$A$893,0))","v":9.8000000000000007},null,{"$f":"INDEX(Backbone!$I$2:$I$893,MATCH(I53,Backbone!$A$2:$A$893,0))","v":10},null,{"$f":"INDEX(Backbone!$J$2:$J$893,MATCH(I53,Backbone!$A$2:$A$893,0))","v":10},null,{"$f":"INDEX(Backbone!$K$1:$K$893,MATCH(I53,Backbone!$A$1:$A$893,0))","v":9.3000000000000007},null,{"$f":"INDEX(Backbone!$L$2:$L$893,MATCH(I53,Backbone!$A$2:$A$893,0))","v":8.5},null,{"$f":"INDEX(Backbone!$M$2:$M$893,MATCH(I53,Backbone!$A$2:$A$893,0))","v":9},null,{"$f":"INDEX(Backbone!$N$2:$N$893,MATCH(I53,Backbone!$A$2:$A$893,0))","v":5.5},null,{"$f":"INDEX(Backbone!$O$2:$O$893,MATCH(I53,Backbone!$A$2:$A$893,0))","v":9.5},null,{"$f":"INDEX(Backbone!$P$2:$P$893,MATCH(I53,Backbone!$A$2:$A$893,0))","v":7},null,{"$f":"INDEX(Backbone!$Q$2:$Q$893,MATCH(I53,Backbone!$A$2:$A$893,0))","v":0.87333333333333329},null,null,{"$f":"(AG53*$AG$22+AI53*$AI$22+AK53*$AK$22+AM53*$AM$22+AO53*$AO$22+AQ53*$AQ$22+AS53*$AS$22+AU53*$AU$22+AW53*$AW$22)/(SUM($AG$22:$AW$22)*10)","v":{"$error":"#DIV/0!"}},null,null,"Go to \nToolbox: ",null,{"$f":"HYPERLINK(\"#\"&ADDRESS(MATCH(I53,Toolbox!$C$1:$C$300),1,,,\"Toolbox\"),VLOOKUP(I53,Toolbox!$C$1:$C$300,1,FALSE))","v":"The Suite for Automated Global Electronic BioSurveillance (SAGES)"}]
[]
[]
[]
[]
[]
[null,null,null,null,null,null,null,null,{"$f":"Backbone!A540","v":"Surveillance Outbreak Response Management and Analysis System (SORMAS)"},null,null,null,null,null,null,"An open source mobile eHealth System that processes disease control and outbreak management procedures in addition to surveillance and early detection of outbreaks through real-time digital surveillance.",null,null,null,null,null,null,null,null,{"$f":"INDEX(Backbone!$R$2:$R$893,MATCH(I59,Backbone!$A$2:$A$893,0))","v":"Hardware or Software"},null,null,null,{"$f":"INDEX(Backbone!$S$2:$S$893,MATCH(I59,Backbone!$A$2:$A$893,0))","v":"Sector Specific; Generalized"},null,null,null,{"$f":"INDEX(Backbone!$H$2:$H$893,MATCH(I59,Backbone!$A$2:$A$893,0))","v":9.1999999999999993},null,{"$f":"INDEX(Backbone!$I$2:$I$893,MATCH(I59,Backbone!$A$2:$A$893,0))","v":8},null,{"$f":"INDEX(Backbone!$J$2:$J$893,MATCH(I59,Backbone!$A$2:$A$893,0))","v":9.3000000000000007},null,{"$f":"INDEX(Backbone!$K$1:$K$893,MATCH(I59,Backbone!$A$1:$A$893,0))","v":9.1},null,{"$f":"INDEX(Backbone!$L$2:$L$893,MATCH(I59,Backbone!$A$2:$A$893,0))","v":9.3000000000000007},null,{"$f":"INDEX(Backbone!$M$2:$M$893,MATCH(I59,Backbone!$A$2:$A$893,0))","v":9.3000000000000007},null,{"$f":"INDEX(Backbone!$N$2:$N$893,MATCH(I59,Backbone!$A$2:$A$893,0))","v":6.8},null,{"$f":"INDEX(Backbone!$O$2:$O$893,MATCH(I59,Backbone!$A$2:$A$893,0))","v":3.9},null,{"$f":"INDEX(Backbone!$P$2:$P$893,MATCH(I59,Backbone!$A$2:$A$893,0))","v":5.3},null,{"$f":"INDEX(Backbone!$Q$2:$Q$893,MATCH(I59,Backbone!$A$2:$A$893,0))","v":0.78},null,null,{"$f":"(AG59*$AG$22+AI59*$AI$22+AK59*$AK$22+AM59*$AM$22+AO59*$AO$22+AQ59*$AQ$22+AS59*$AS$22+AU59*$AU$22+AW59*$AW$22)/(SUM($AG$22:$AW$22)*10)","v":{"$error":"#DIV/0!"}},null,null,"Go to \nToolbox: ",null,{"$f":"HYPERLINK(\"#\"&ADDRESS(MATCH(I59,Toolbox!$C$1:$C$300),1,,,\"Toolbox\"),VLOOKUP(I59,Toolbox!$C$1:$C$300,1,FALSE))","v":"Surveillance Outbreak Response Management and Analysis System (SORMAS)"}]
[]
[]
[]
[]
[]
[]
[null,null,null,"Other Relevant Resources",null,null,null,null,{"$f":"Backbone!A179","v":"FoodChain-Lab (FCL) "},null,null,null,null,null,null,"A free open-source tracing software, providing trace-back and trace-forward analyses for food items to identify the source of a contamination causing foodborne disease outbreaks or other food-related incidents.",null,null,null,null,null,null,null,null,{"$f":"INDEX(Backbone!$R$2:$R$893,MATCH(I66,Backbone!$A$2:$A$893,0))","v":"Hardware or Software"},null,null,null,{"$f":"INDEX(Backbone!$S$2:$S$893,MATCH(I66,Backbone!$A$2:$A$893,0))","v":"One Health; Disease/Threat Specific "},null,null,null,{"$f":"INDEX(Backbone!$H$2:$H$893,MATCH(I66,Backbone!$A$2:$A$893,0))","v":9.6999999999999993},null,{"$f":"INDEX(Backbone!$I$2:$I$893,MATCH(I66,Backbone!$A$2:$A$893,0))","v":6},null,{"$f":"INDEX(Backbone!$J$2:$J$893,MATCH(I66,Backbone!$A$2:$A$893,0))","v":7.9},null,{"$f":"INDEX(Backbone!$K$1:$K$893,MATCH(I66,Backbone!$A$1:$A$893,0))","v":7.8},null,{"$f":"INDEX(Backbone!$L$2:$L$893,MATCH(I66,Backbone!$A$2:$A$893,0))","v":8.1},null,{"$f":"INDEX(Backbone!$M$2:$M$893,MATCH(I66,Backbone!$A$2:$A$893,0))","v":8},null,{"$f":"INDEX(Backbone!$N$2:$N$893,MATCH(I66,Backbone!$A$2:$A$893,0))","v":7.9},null,{"$f":"INDEX(Backbone!$O$2:$O$893,MATCH(I66,Backbone!$A$2:$A$893,0))","v":8.4},null,{"$f":"INDEX(Backbone!$P$2:$P$893,MATCH(I66,Backbone!$A$2:$A$893,0))","v":9.6999999999999993},null,{"$f":"INDEX(Backbone!$Q$2:$Q$893,MATCH(I66,Backbone!$A$2:$A$893,0))","v":0.81666666666666665},null,null,{"$f":"(AG66*$AG$22+AI66*$AI$22+AK66*$AK$22+AM66*$AM$22+AO66*$AO$22+AQ66*$AQ$22+AS66*$AS$22+AU66*$AU$22+AW66*$AW$22)/(SUM($AG$22:$AW$22)*10)","v":{"$error":"#DIV/0!"}},null,null,"Go to \nToolbox: ",null,{"$f":"HYPERLINK(\"#\"&ADDRESS(MATCH(I66,Toolbox!$C$1:$C$300),1,,,\"Toolbox\"),VLOOKUP(I66,Toolbox!$C$1:$C$300,1,FALSE))","v":"FoodChain-Lab (FCL) "}]
[]
[]
[]
[]
[]
[null,null,null,null,null,null,null,null,{"$f":"Backbone!A571","v":"World Organisation for Animal Health (WOAH) WAHIS Alert application"},null,null,null,null,null,null,"Application that allows its users to receive on their mobile phones or tablets the animal health alerts (immediate notifications) and the follow-up reports as soon as they are published by the OIE.",null,null,null,null,null,null,null,null,{"$f":"INDEX(Backbone!$R$2:$R$893,MATCH(I72,Backbone!$A$2:$A$893,0))","v":"Hardware or Software"},null,null,null,{"$f":"INDEX(Backbone!$S$2:$S$893,MATCH(I72,Backbone!$A$2:$A$893,0))","v":"Sector Specific; Generalized"},null,null,null,{"$f":"INDEX(Backbone!$H$2:$H$893,MATCH(I72,Backbone!$A$2:$A$893,0))","v":9.6999999999999993},null,{"$f":"INDEX(Backbone!$I$2:$I$893,MATCH(I72,Backbone!$A$2:$A$893,0))","v":10},null,{"$f":"INDEX(Backbone!$J$2:$J$893,MATCH(I72,Backbone!$A$2:$A$893,0))","v":8.8000000000000007},null,{"$f":"INDEX(Backbone!$K$1:$K$893,MATCH(I72,Backbone!$A$1:$A$893,0))","v":8.6999999999999993},null,{"$f":"INDEX(Backbone!$L$2:$L$893,MATCH(I72,Backbone!$A$2:$A$893,0))","v":8.3000000000000007},null,{"$f":"INDEX(Backbone!$M$2:$M$893,MATCH(I72,Backbone!$A$2:$A$893,0))","v":5},null,{"$f":"INDEX(Backbone!$N$2:$N$893,MATCH(I72,Backbone!$A$2:$A$893,0))","v":7.5},null,{"$f":"INDEX(Backbone!$O$2:$O$893,MATCH(I72,Backbone!$A$2:$A$893,0))","v":3.3},null,{"$f":"INDEX(Backbone!$P$2:$P$893,MATCH(I72,Backbone!$A$2:$A$893,0))","v":6},null,{"$f":"INDEX(Backbone!$Q$2:$Q$893,MATCH(I72,Backbone!$A$2:$A$893,0))","v":0.74777777777777776},null,null,{"$f":"(AG72*$AG$22+AI72*$AI$22+AK72*$AK$22+AM72*$AM$22+AO72*$AO$22+AQ72*$AQ$22+AS72*$AS$22+AU72*$AU$22+AW72*$AW$22)/(SUM($AG$22:$AW$22)*10)","v":{"$error":"#DIV/0!"}},null,null,"Go to \nToolbox: ",null,{"$f":"HYPERLINK(\"#\"&ADDRESS(MATCH(I72,Toolbox!$C$1:$C$300),1,,,\"Toolbox\"),VLOOKUP(I72,Toolbox!$C$1:$C$300,1,FALSE))","v":"World Organisation for Animal Health (WOAH) WAHIS Alert application"}]
[]
[]
[]
[]
[]
[null,null,null,null,null,null,null,null,{"$f":"Backbone!A604","v":"Rabies Exposure and Case Tracker Application (React)"},null,null,null,null,null,null,"A tool to support implementation of Integrated Bite Case Management programs.",null,null,null,null,null,null,null,null,{"$f":"INDEX(Backbone!$R$2:$R$893,MATCH(I78,Backbone!$A$2:$A$893,0))","v":"Hardware or Software"},null,null,null,{"$f":"INDEX(Backbone!$S$2:$S$893,MATCH(I78,Backbone!$A$2:$A$893,0))","v":"One Health; Disease/Threat Specific "},null,null,null,{"$f":"INDEX(Backbone!$H$2:$H$893,MATCH(I78,Backbone!$A$2:$A$893,0))","v":8.6},null,{"$f":"INDEX(Backbone!$I$2:$I$893,MATCH(I78,Backbone!$A$2:$A$893,0))","v":8.6},null,{"$f":"INDEX(Backbone!$J$2:$J$893,MATCH(I78,Backbone!$A$2:$A$893,0))","v":8},null,{"$f":"INDEX(Backbone!$K$1:$K$893,MATCH(I78,Backbone!$A$1:$A$893,0))","v":8.6},null,{"$f":"INDEX(Backbone!$L$2:$L$893,MATCH(I78,Backbone!$A$2:$A$893,0))","v":9.4},null,{"$f":"INDEX(Backbone!$M$2:$M$893,MATCH(I78,Backbone!$A$2:$A$893,0))","v":9.5},null,{"$f":"INDEX(Backbone!$N$2:$N$893,MATCH(I78,Backbone!$A$2:$A$893,0))","v":9},null,{"$f":"INDEX(Backbone!$O$2:$O$893,MATCH(I78,Backbone!$A$2:$A$893,0))","v":9.1999999999999993},null,{"$f":"INDEX(Backbone!$P$2:$P$893,MATCH(I78,Backbone!$A$2:$A$893,0))","v":9},null,{"$f":"INDEX(Backbone!$Q$2:$Q$893,MATCH(I78,Backbone!$A$2:$A$893,0))","v":0.88777777777777767},null,null,{"$f":"(AG78*$AG$22+AI78*$AI$22+AK78*$AK$22+AM78*$AM$22+AO78*$AO$22+AQ78*$AQ$22+AS78*$AS$22+AU78*$AU$22+AW78*$AW$22)/(SUM($AG$22:$AW$22)*10)","v":{"$error":"#DIV/0!"}},null,null,"Go to \nToolbox: ",null,{"$f":"HYPERLINK(\"#\"&ADDRESS(MATCH(I78,Toolbox!$C$1:$C$300),1,,,\"Toolbox\"),VLOOKUP(I78,Toolbox!$C$1:$C$300,1,FALSE))","v":"Rabies Exposure and Case Tracker Application (React)"}]
[]
[]
[]
[]
[]
[]
[]
[]
[]
[]
[]
[]
[]
[]
[]
[]
[]
[]
[]
[]
[]
[]
[]
[null,null,null,null,null,null,null,null,null,null,null,null,null,null,null,null,null,null,null,null,null,null,null,null,null,null,null,null,null,null,null,null,"Accessibility",null,"Language",null,"Ease of use",null,"Flexibility",null,"Data Needs",null,"Data Analysis",null,"Acceptability",null,"One Health",null,"Impact"]
[]
[]
[]
[]
[]
[]
[null,null,null,null,null,null,null,null,null,null,null,null,null,null,null,null,null,null,null,null,null,null,null,null,null,null,null,null,null,null,null,null,null,null,null,null,null,null,null,null,null,null,null,null,null,null,null,null,null,null,"RAW SCORE",null,null,"ADJUSTED SCORE \n(Based on user preferences)"]
[]
[]
[]
[null,"LEVEL 2 RESOURCES",null,"DESIGNATION",null,null,null,null,"RESOURCE NAME",null,null,null,null,null,null,"SHORT DESCRIPTION",null,null,null,null,null,null,null,null,"RESOURCE TYPE",null,null,null,"RESOURCE GENERALITY"]
[]
[]
[]
[null,null,null,null,null,null,null,null,null,null,null,null,null,null,null,null,null,null,null,null,null,null,null,null,null,null,null,null,null,null,null,null,{"$f":"'Attribute Survey'!S111","v":0},null,{"$f":"'Attribute Survey'!S115","v":0},null,{"$f":"'Attribute Survey'!S119","v":0},null,{"$f":"'Attribute Survey'!S123","v":0},null,{"$f":"'Attribute Survey'!S127","v":0},null,{"$f":"'Attribute Survey'!S131","v":0},null,{"$f":"'Attribute Survey'!S135","v":0},null,{"$f":"'Attribute Survey'!S139","v":0},null,{"$f":"'Attribute Survey'!S143","v":0}]
[null,null,null,"Resources Best Fit for Purpose",null,null,null,null,{"$f":"Backbone!A195","v":"Integrated Disease Surveillance and Response (IDSR)"},null,null,null,null,null,null,"A strategy aimed at strengthening capacities for detection, confirmation and response to suspected cases and outbreaks, and for use of information to predict and plan for public health events.",null,null,null,null,null,null,null,null,{"$f":"INDEX(Backbone!$R$2:$R$893,MATCH(I118,Backbone!$A$2:$A$893,0))","v":"Guidance document"},null,null,null,{"$f":"INDEX(Backbone!$S$2:$S$893,MATCH(I118,Backbone!$A$2:$A$893,0))","v":"Sector Specific; Generalized"},null,null,null,{"$f":"INDEX(Backbone!$H$2:$H$893,MATCH(I118,Backbone!$A$2:$A$893,0))","v":7.4},null,{"$f":"INDEX(Backbone!$I$2:$I$893,MATCH(I118,Backbone!$A$2:$A$893,0))","v":10},null,{"$f":"INDEX(Backbone!$J$2:$J$893,MATCH(I118,Backbone!$A$2:$A$893,0))","v":7.4},null,{"$f":"INDEX(Backbone!$K$2:$K$893,MATCH(I118,Backbone!$A$2:$A$893,0))","v":8.6999999999999993},null,{"$f":"INDEX(Backbone!$L$2:$L$893,MATCH(I118,Backbone!$A$2:$A$893,0))","v":6.7},null,{"$f":"INDEX(Backbone!$M$2:$M$893,MATCH(I118,Backbone!$A$2:$A$893,0))","v":4.5},null,{"$f":"INDEX(Backbone!$N$2:$N$893,MATCH(I118,Backbone!$A$2:$A$893,0))","v":8},null,{"$f":"INDEX(Backbone!$O$2:$O$893,MATCH(I118,Backbone!$A$2:$A$893,0))","v":7.2},null,{"$f":"INDEX(Backbone!$P$2:$P$893,MATCH(I118,Backbone!$A$2:$A$893,0))","v":8.5},null,{"$f":"INDEX(Backbone!$Q$2:$Q$893,MATCH(I118,Backbone!$A$2:$A$893,0))","v":0.76},null,null,{"$f":"(AG118*$AG$22+AI118*$AI$22+AK118*$AK$22+AM118*$AM$22+AO118*$AO$22+AQ118*$AQ$22+AS118*$AS$22+AU118*$AU$22+AW118*$AW$22)/(SUM($AG$22:$AW$22)*10)","v":{"$error":"#DIV/0!"}},null,null,"Go to \nToolbox: ",null,{"$f":"HYPERLINK(\"#\"&ADDRESS(MATCH(I118,Toolbox!$C$1:$C$300),1,,,\"Toolbox\"),VLOOKUP(I118,Toolbox!$C$1:$C$300,1,FALSE))","v":"Integrated Disease Surveillance and Response (IDSR)"}]
[]
[]
[]
[]
[]
[null,null,null,null,null,null,null,null,{"$f":"Backbone!A271","v":"Laboratory Infrastructure Network Analysis (LINA)"},null,null,null,null,null,null,"An easy-to-use web-based application providing sophisticated computational modeling and data analytics functionality with easy visualization based on maps regarding capacities and capabilities of the national laboratory network and each laboratory itself.\n\n\n",null,null,null,null,null,null,null,null,{"$f":"INDEX(Backbone!$R$2:$R$893,MATCH(I124,Backbone!$A$2:$A$893,0))","v":"Hardware or Software"},null,null,null,{"$f":"INDEX(Backbone!$S$2:$S$893,MATCH(I124,Backbone!$A$2:$A$893,0))","v":"One Health; Generalized"},null,null,null,{"$f":"INDEX(Backbone!$H$2:$H$893,MATCH(I124,Backbone!$A$2:$A$893,0))","v":9.6},null,{"$f":"INDEX(Backbone!$I$2:$I$893,MATCH(I124,Backbone!$A$2:$A$893,0))","v":6},null,{"$f":"INDEX(Backbone!$J$2:$J$893,MATCH(I124,Backbone!$A$2:$A$893,0))","v":7.6},null,{"$f":"INDEX(Backbone!$K$1:$K$893,MATCH(I124,Backbone!$A$1:$A$893,0))","v":9},null,{"$f":"INDEX(Backbone!$L$2:$L$893,MATCH(I124,Backbone!$A$2:$A$893,0))","v":8.3000000000000007},null,{"$f":"INDEX(Backbone!$M$2:$M$893,MATCH(I124,Backbone!$A$2:$A$893,0))","v":7},null,{"$f":"INDEX(Backbone!$N$2:$N$893,MATCH(I124,Backbone!$A$2:$A$893,0))","v":3},null,{"$f":"INDEX(Backbone!$O$2:$O$893,MATCH(I124,Backbone!$A$2:$A$893,0))","v":9.1},null,{"$f":"INDEX(Backbone!$P$2:$P$893,MATCH(I124,Backbone!$A$2:$A$893,0))","v":4},null,{"$f":"INDEX(Backbone!$Q$2:$Q$893,MATCH(I124,Backbone!$A$2:$A$893,0))","v":0.69555555555555559},null,null,{"$f":"(AG124*$AG$22+AI124*$AI$22+AK124*$AK$22+AM124*$AM$22+AO124*$AO$22+AQ124*$AQ$22+AS124*$AS$22+AU124*$AU$22+AW124*$AW$22)/(SUM($AG$22:$AW$22)*10)","v":{"$error":"#DIV/0!"}},null,null,"Go to \nToolbox: ",null,{"$f":"HYPERLINK(\"#\"&ADDRESS(MATCH(I124,Toolbox!$C$1:$C$300),1,,,\"Toolbox\"),VLOOKUP(I124,Toolbox!$C$1:$C$300,1,FALSE))","v":"Laboratory Infrastructure Network Analysis (LINA)"}]
[]
[]
[]
[]
[]
[null,null,null,null,null,null,null,null,{"$f":"Backbone!A489","v":"The Suite for Automated Global Electronic BioSurveillance (SAGES)"},null,null,null,null,null,null,"A suite of open source software tools designed to enhance electronic disease surveillance in resource-limited settings.",null,null,null,null,null,null,null,null,{"$f":"INDEX(Backbone!$R$2:$R$893,MATCH(I130,Backbone!$A$2:$A$893,0))","v":"Hardware or Software"},null,null,null,{"$f":"INDEX(Backbone!$S$2:$S$893,MATCH(I130,Backbone!$A$2:$A$893,0))","v":"One Health; Generalized"},null,null,null,{"$f":"INDEX(Backbone!$H$2:$H$893,MATCH(I130,Backbone!$A$2:$A$893,0))","v":9.8000000000000007},null,{"$f":"INDEX(Backbone!$I$2:$I$893,MATCH(I130,Backbone!$A$2:$A$893,0))","v":10},null,{"$f":"INDEX(Backbone!$J$2:$J$893,MATCH(I130,Backbone!$A$2:$A$893,0))","v":10},null,{"$f":"INDEX(Backbone!$K$1:$K$893,MATCH(I130,Backbone!$A$1:$A$893,0))","v":9.3000000000000007},null,{"$f":"INDEX(Backbone!$L$2:$L$893,MATCH(I130,Backbone!$A$2:$A$893,0))","v":8.5},null,{"$f":"INDEX(Backbone!$M$2:$M$893,MATCH(I130,Backbone!$A$2:$A$893,0))","v":9},null,{"$f":"INDEX(Backbone!$N$2:$N$893,MATCH(I130,Backbone!$A$2:$A$893,0))","v":5.5},null,{"$f":"INDEX(Backbone!$O$2:$O$893,MATCH(I130,Backbone!$A$2:$A$893,0))","v":9.5},null,{"$f":"INDEX(Backbone!$P$2:$P$893,MATCH(I130,Backbone!$A$2:$A$893,0))","v":7},null,{"$f":"INDEX(Backbone!$Q$2:$Q$893,MATCH(I130,Backbone!$A$2:$A$893,0))","v":0.87333333333333329},null,null,{"$f":"(AG130*$AG$22+AI130*$AI$22+AK130*$AK$22+AM130*$AM$22+AO130*$AO$22+AQ130*$AQ$22+AS130*$AS$22+AU130*$AU$22+AW130*$AW$22)/(SUM($AG$22:$AW$22)*10)","v":{"$error":"#DIV/0!"}},null,null,"Go to \nToolbox: ",null,{"$f":"HYPERLINK(\"#\"&ADDRESS(MATCH(I130,Toolbox!$C$1:$C$300),1,,,\"Toolbox\"),VLOOKUP(I130,Toolbox!$C$1:$C$300,1,FALSE))","v":"The Suite for Automated Global Electronic BioSurveillance (SAGES)"}]
[]
[]
[]
[]
[]
[null,null,null,null,null,null,null,null,{"$f":"Backbone!A540","v":"Surveillance Outbreak Response Management and Analysis System (SORMAS)"},null,null,null,null,null,null,"An open source mobile eHealth System that processes disease control and outbreak management procedures in addition to surveillance and early detection of outbreaks through real-time digital surveillance.",null,null,null,null,null,null,null,null,{"$f":"INDEX(Backbone!$R$2:$R$893,MATCH(I136,Backbone!$A$2:$A$893,0))","v":"Hardware or Software"},null,null,null,{"$f":"INDEX(Backbone!$S$2:$S$893,MATCH(I136,Backbone!$A$2:$A$893,0))","v":"Sector Specific; Generalized"},null,null,null,{"$f":"INDEX(Backbone!$H$2:$H$893,MATCH(I136,Backbone!$A$2:$A$893,0))","v":9.1999999999999993},null,{"$f":"INDEX(Backbone!$I$2:$I$893,MATCH(I136,Backbone!$A$2:$A$893,0))","v":8},null,{"$f":"INDEX(Backbone!$J$2:$J$893,MATCH(I136,Backbone!$A$2:$A$893,0))","v":9.3000000000000007},null,{"$f":"INDEX(Backbone!$K$1:$K$893,MATCH(I136,Backbone!$A$1:$A$893,0))","v":9.1},null,{"$f":"INDEX(Backbone!$L$2:$L$893,MATCH(I136,Backbone!$A$2:$A$893,0))","v":9.3000000000000007},null,{"$f":"INDEX(Backbone!$M$2:$M$893,MATCH(I136,Backbone!$A$2:$A$893,0))","v":9.3000000000000007},null,{"$f":"INDEX(Backbone!$N$2:$N$893,MATCH(I136,Backbone!$A$2:$A$893,0))","v":6.8},null,{"$f":"INDEX(Backbone!$O$2:$O$893,MATCH(I136,Backbone!$A$2:$A$893,0))","v":3.9},null,{"$f":"INDEX(Backbone!$P$2:$P$893,MATCH(I136,Backbone!$A$2:$A$893,0))","v":5.3},null,{"$f":"INDEX(Backbone!$Q$2:$Q$893,MATCH(I136,Backbone!$A$2:$A$893,0))","v":0.78},null,null,{"$f":"(AG136*$AG$22+AI136*$AI$22+AK136*$AK$22+AM136*$AM$22+AO136*$AO$22+AQ136*$AQ$22+AS136*$AS$22+AU136*$AU$22+AW136*$AW$22)/(SUM($AG$22:$AW$22)*10)","v":{"$error":"#DIV/0!"}},null,null,"Go to \nToolbox: ",null,{"$f":"HYPERLINK(\"#\"&ADDRESS(MATCH(I136,Toolbox!$C$1:$C$300),1,,,\"Toolbox\"),VLOOKUP(I136,Toolbox!$C$1:$C$300,1,FALSE))","v":"Surveillance Outbreak Response Management and Analysis System (SORMAS)"}]
[]
[]
[]
[]
[]
[]
[null,null,null,"Other Relevant Resources",null,null,null,null,{"$f":"Backbone!A571","v":"World Organisation for Animal Health (WOAH) WAHIS Alert application"},null,null,null,null,null,null,"Application that allows its users to receive on their mobile phones or tablets the animal health alerts (immediate notifications) and the follow-up reports as soon as they are published by the OIE.",null,null,null,null,null,null,null,null,{"$f":"INDEX(Backbone!$R$2:$R$893,MATCH(I143,Backbone!$A$2:$A$893,0))","v":"Hardware or Software"},null,null,null,{"$f":"INDEX(Backbone!$S$2:$S$893,MATCH(I143,Backbone!$A$2:$A$893,0))","v":"Sector Specific; Generalized"},null,null,null,{"$f":"INDEX(Backbone!$H$2:$H$893,MATCH(I143,Backbone!$A$2:$A$893,0))","v":9.6999999999999993},null,{"$f":"INDEX(Backbone!$I$2:$I$893,MATCH(I143,Backbone!$A$2:$A$893,0))","v":10},null,{"$f":"INDEX(Backbone!$J$2:$J$893,MATCH(I143,Backbone!$A$2:$A$893,0))","v":8.8000000000000007},null,{"$f":"INDEX(Backbone!$K$1:$K$893,MATCH(I143,Backbone!$A$1:$A$893,0))","v":8.6999999999999993},null,{"$f":"INDEX(Backbone!$L$2:$L$893,MATCH(I143,Backbone!$A$2:$A$893,0))","v":8.3000000000000007},null,{"$f":"INDEX(Backbone!$M$2:$M$893,MATCH(I143,Backbone!$A$2:$A$893,0))","v":5},null,{"$f":"INDEX(Backbone!$N$2:$N$893,MATCH(I143,Backbone!$A$2:$A$893,0))","v":7.5},null,{"$f":"INDEX(Backbone!$O$2:$O$893,MATCH(I143,Backbone!$A$2:$A$893,0))","v":3.3},null,{"$f":"INDEX(Backbone!$P$2:$P$893,MATCH(I143,Backbone!$A$2:$A$893,0))","v":6},null,{"$f":"INDEX(Backbone!$Q$2:$Q$893,MATCH(I143,Backbone!$A$2:$A$893,0))","v":0.74777777777777776},null,null,{"$f":"(AG143*$AG$22+AI143*$AI$22+AK143*$AK$22+AM143*$AM$22+AO143*$AO$22+AQ143*$AQ$22+AS143*$AS$22+AU143*$AU$22+AW143*$AW$22)/(SUM($AG$22:$AW$22)*10)","v":{"$error":"#DIV/0!"}},null,null,"Go to \nToolbox: ",null,{"$f":"HYPERLINK(\"#\"&ADDRESS(MATCH(I143,Toolbox!$C$1:$C$300),1,,,\"Toolbox\"),VLOOKUP(I143,Toolbox!$C$1:$C$300,1,FALSE))","v":"World Organisation for Animal Health (WOAH) WAHIS Alert application"}]
[]
[]
[]
[]
[]
[null,null,null,null,null,null,null,null,{"$f":"Backbone!A604","v":"Rabies Exposure and Case Tracker Application (React)"},null,null,null,null,null,null,"A tool to support implementation of Integrated Bite Case Management programs.",null,null,null,null,null,null,null,null,{"$f":"INDEX(Backbone!$R$2:$R$893,MATCH(I149,Backbone!$A$2:$A$893,0))","v":"Hardware or Software"},null,null,null,{"$f":"INDEX(Backbone!$S$2:$S$893,MATCH(I149,Backbone!$A$2:$A$893,0))","v":"One Health; Disease/Threat Specific "},null,null,null,{"$f":"INDEX(Backbone!$H$2:$H$893,MATCH(I149,Backbone!$A$2:$A$893,0))","v":8.6},null,{"$f":"INDEX(Backbone!$I$2:$I$893,MATCH(I149,Backbone!$A$2:$A$893,0))","v":8.6},null,{"$f":"INDEX(Backbone!$J$2:$J$893,MATCH(I149,Backbone!$A$2:$A$893,0))","v":8},null,{"$f":"INDEX(Backbone!$K$1:$K$893,MATCH(I149,Backbone!$A$1:$A$893,0))","v":8.6},null,{"$f":"INDEX(Backbone!$L$2:$L$893,MATCH(I149,Backbone!$A$2:$A$893,0))","v":9.4},null,{"$f":"INDEX(Backbone!$M$2:$M$893,MATCH(I149,Backbone!$A$2:$A$893,0))","v":9.5},null,{"$f":"INDEX(Backbone!$N$2:$N$893,MATCH(I149,Backbone!$A$2:$A$893,0))","v":9},null,{"$f":"INDEX(Backbone!$O$2:$O$893,MATCH(I149,Backbone!$A$2:$A$893,0))","v":9.1999999999999993},null,{"$f":"INDEX(Backbone!$P$2:$P$893,MATCH(I149,Backbone!$A$2:$A$893,0))","v":9},null,{"$f":"INDEX(Backbone!$Q$2:$Q$893,MATCH(I149,Backbone!$A$2:$A$893,0))","v":0.88777777777777767},null,null,{"$f":"(AG149*$AG$22+AI149*$AI$22+AK149*$AK$22+AM149*$AM$22+AO149*$AO$22+AQ149*$AQ$22+AS149*$AS$22+AU149*$AU$22+AW149*$AW$22)/(SUM($AG$22:$AW$22)*10)","v":{"$error":"#DIV/0!"}},null,null,"Go to \nToolbox: ",null,{"$f":"HYPERLINK(\"#\"&ADDRESS(MATCH(I149,Toolbox!$C$1:$C$300),1,,,\"Toolbox\"),VLOOKUP(I149,Toolbox!$C$1:$C$300,1,FALSE))","v":"Rabies Exposure and Case Tracker Application (React)"}]
[]
[]
[]
[]
[]
[]
[]
[]
[]
[]
[]
[]
[]
[]
[]
[]
[]
[]
[]
[]
[]
[]
[]
[]
[null,null,null,null,null,null,null,null,null,null,null,null,null,null,null,null,null,null,null,null,null,null,null,null,null,null,null,null,null,null,null,null,"Accessibility",null,"Language",null,"Ease of use",null,"Flexibility",null,"Data Needs",null,"Data Analysis",null,"Acceptability",null,"One Health",null,"Impact"]
[]
[]
[]
[]
[]
[]
[null,null,null,null,null,null,null,null,null,null,null,null,null,null,null,null,null,null,null,null,null,null,null,null,null,null,null,null,null,null,null,null,null,null,null,null,null,null,null,null,null,null,null,null,null,null,null,null,null,null,"RAW SCORE",null,null,"ADJUSTED SCORE \n(Based on user preferences)"]
[]
[]
[]
[null,"LEVEL 3 RESOURCES",null,"DESIGNATION",null,null,null,null,"RESOURCE NAME",null,null,null,null,null,null,"SHORT DESCRIPTION",null,null,null,null,null,null,null,null,"RESOURCE TYPE",null,null,null,"RESOURCE GENERALITY"]
[]
[]
[]
[null,null,null,null,null,null,null,null,null,null,null,null,null,null,null,null,null,null,null,null,null,null,null,null,null,null,null,null,null,null,null,null,{"$f":"'Attribute Survey'!S201","v":0},null,{"$f":"'Attribute Survey'!S205","v":0},null,{"$f":"'Attribute Survey'!S209","v":0},null,{"$f":"'Attribute Survey'!S213","v":0},null,{"$f":"'Attribute Survey'!S217","v":0},null,{"$f":"'Attribute Survey'!S221","v":0},null,{"$f":"'Attribute Survey'!S225","v":0},null,{"$f":"'Attribute Survey'!S229","v":0},null,{"$f":"'Attribute Survey'!S233","v":0}]
[null,null,null,"Resources Best Fit for Purpose",null,null,null,null,{"$f":"Backbone!A195","v":"Integrated Disease Surveillance and Response (IDSR)"},null,null,null,null,null,null,"A strategy aimed at strengthening capacities for detection, confirmation and response to suspected cases and outbreaks, and for use of information to predict and plan for public health events.",null,null,null,null,null,null,null,null,{"$f":"INDEX(Backbone!$R$2:$R$893,MATCH(I190,Backbone!$A$2:$A$893,0))","v":"Guidance document"},null,null,null,{"$f":"INDEX(Backbone!$S$2:$S$893,MATCH(I190,Backbone!$A$2:$A$893,0))","v":"Sector Specific; Generalized"},null,null,null,{"$f":"INDEX(Backbone!$H$2:$H$893,MATCH(I190,Backbone!$A$2:$A$893,0))","v":7.4},null,{"$f":"INDEX(Backbone!$I$2:$I$893,MATCH(I190,Backbone!$A$2:$A$893,0))","v":10},null,{"$f":"INDEX(Backbone!$J$2:$J$893,MATCH(I190,Backbone!$A$2:$A$893,0))","v":7.4},null,{"$f":"INDEX(Backbone!$K$2:$K$893,MATCH(I190,Backbone!$A$2:$A$893,0))","v":8.6999999999999993},null,{"$f":"INDEX(Backbone!$L$2:$L$893,MATCH(I190,Backbone!$A$2:$A$893,0))","v":6.7},null,{"$f":"INDEX(Backbone!$M$2:$M$893,MATCH(I190,Backbone!$A$2:$A$893,0))","v":4.5},null,{"$f":"INDEX(Backbone!$N$2:$N$893,MATCH(I190,Backbone!$A$2:$A$893,0))","v":8},null,{"$f":"INDEX(Backbone!$O$2:$O$893,MATCH(I190,Backbone!$A$2:$A$893,0))","v":7.2},null,{"$f":"INDEX(Backbone!$P$2:$P$893,MATCH(I190,Backbone!$A$2:$A$893,0))","v":8.5},null,{"$f":"INDEX(Backbone!$Q$2:$Q$893,MATCH(I190,Backbone!$A$2:$A$893,0))","v":0.76},null,null,{"$f":"(AG190*$AG$22+AI190*$AI$22+AK190*$AK$22+AM190*$AM$22+AO190*$AO$22+AQ190*$AQ$22+AS190*$AS$22+AU190*$AU$22+AW190*$AW$22)/(SUM($AG$22:$AW$22)*10)","v":{"$error":"#DIV/0!"}},null,null,"Go to \nToolbox: ",null,{"$f":"HYPERLINK(\"#\"&ADDRESS(MATCH(I190,Toolbox!$C$1:$C$300),1,,,\"Toolbox\"),VLOOKUP(I190,Toolbox!$C$1:$C$300,1,FALSE))","v":"Integrated Disease Surveillance and Response (IDSR)"}]
[]
[]
[]
[]
[]
[null,null,null,null,null,null,null,null,{"$f":"Backbone!A271","v":"Laboratory Infrastructure Network Analysis (LINA)"},null,null,null,null,null,null,"An easy-to-use web-based application providing sophisticated computational modeling and data analytics functionality with easy visualization based on maps regarding capacities and capabilities of the national laboratory network and each laboratory itself. \n\n\n",null,null,null,null,null,null,null,null,{"$f":"INDEX(Backbone!$R$2:$R$893,MATCH(I196,Backbone!$A$2:$A$893,0))","v":"Hardware or Software"},null,null,null,{"$f":"INDEX(Backbone!$S$2:$S$893,MATCH(I196,Backbone!$A$2:$A$893,0))","v":"One Health; Generalized"},null,null,null,{"$f":"INDEX(Backbone!$H$2:$H$893,MATCH(I196,Backbone!$A$2:$A$893,0))","v":9.6},null,{"$f":"INDEX(Backbone!$I$2:$I$893,MATCH(I196,Backbone!$A$2:$A$893,0))","v":6},null,{"$f":"INDEX(Backbone!$J$2:$J$893,MATCH(I196,Backbone!$A$2:$A$893,0))","v":7.6},null,{"$f":"INDEX(Backbone!$K$1:$K$893,MATCH(I196,Backbone!$A$1:$A$893,0))","v":9},null,{"$f":"INDEX(Backbone!$L$2:$L$893,MATCH(I196,Backbone!$A$2:$A$893,0))","v":8.3000000000000007},null,{"$f":"INDEX(Backbone!$M$2:$M$893,MATCH(I196,Backbone!$A$2:$A$893,0))","v":7},null,{"$f":"INDEX(Backbone!$N$2:$N$893,MATCH(I196,Backbone!$A$2:$A$893,0))","v":3},null,{"$f":"INDEX(Backbone!$O$2:$O$893,MATCH(I196,Backbone!$A$2:$A$893,0))","v":9.1},null,{"$f":"INDEX(Backbone!$P$2:$P$893,MATCH(I196,Backbone!$A$2:$A$893,0))","v":4},null,{"$f":"INDEX(Backbone!$Q$2:$Q$893,MATCH(I196,Backbone!$A$2:$A$893,0))","v":0.69555555555555559},null,null,{"$f":"(AG196*$AG$22+AI196*$AI$22+AK196*$AK$22+AM196*$AM$22+AO196*$AO$22+AQ196*$AQ$22+AS196*$AS$22+AU196*$AU$22+AW196*$AW$22)/(SUM($AG$22:$AW$22)*10)","v":{"$error":"#DIV/0!"}},null,null,"Go to \nToolbox: ",null,{"$f":"HYPERLINK(\"#\"&ADDRESS(MATCH(I196,Toolbox!$C$1:$C$300),1,,,\"Toolbox\"),VLOOKUP(I196,Toolbox!$C$1:$C$300,1,FALSE))","v":"Laboratory Infrastructure Network Analysis (LINA)"}]
[]
[]
[]
[]
[]
[null,null,null,null,null,null,null,null,{"$f":"Backbone!A540","v":"Surveillance Outbreak Response Management and Analysis System (SORMAS)"},null,null,null,null,null,null,"An open source mobile eHealth System that processes disease control and outbreak management procedures in addition to surveillance and early detection of outbreaks through real-time digital surveillance.",null,null,null,null,null,null,null,null,{"$f":"INDEX(Backbone!$R$2:$R$893,MATCH(I202,Backbone!$A$2:$A$893,0))","v":"Hardware or Software"},null,null,null,{"$f":"INDEX(Backbone!$S$2:$S$893,MATCH(I202,Backbone!$A$2:$A$893,0))","v":"Sector Specific; Generalized"},null,null,null,{"$f":"INDEX(Backbone!$H$2:$H$893,MATCH(I202,Backbone!$A$2:$A$893,0))","v":9.1999999999999993},null,{"$f":"INDEX(Backbone!$I$2:$I$893,MATCH(I202,Backbone!$A$2:$A$893,0))","v":8},null,{"$f":"INDEX(Backbone!$J$2:$J$893,MATCH(I202,Backbone!$A$2:$A$893,0))","v":9.3000000000000007},null,{"$f":"INDEX(Backbone!$K$1:$K$893,MATCH(I202,Backbone!$A$1:$A$893,0))","v":9.1},null,{"$f":"INDEX(Backbone!$L$2:$L$893,MATCH(I202,Backbone!$A$2:$A$893,0))","v":9.3000000000000007},null,{"$f":"INDEX(Backbone!$M$2:$M$893,MATCH(I202,Backbone!$A$2:$A$893,0))","v":9.3000000000000007},null,{"$f":"INDEX(Backbone!$N$2:$N$893,MATCH(I202,Backbone!$A$2:$A$893,0))","v":6.8},null,{"$f":"INDEX(Backbone!$O$2:$O$893,MATCH(I202,Backbone!$A$2:$A$893,0))","v":3.9},null,{"$f":"INDEX(Backbone!$P$2:$P$893,MATCH(I202,Backbone!$A$2:$A$893,0))","v":5.3},null,{"$f":"INDEX(Backbone!$Q$2:$Q$893,MATCH(I202,Backbone!$A$2:$A$893,0))","v":0.78},null,null,{"$f":"(AG202*$AG$22+AI202*$AI$22+AK202*$AK$22+AM202*$AM$22+AO202*$AO$22+AQ202*$AQ$22+AS202*$AS$22+AU202*$AU$22+AW202*$AW$22)/(SUM($AG$22:$AW$22)*10)","v":{"$error":"#DIV/0!"}},null,null,"Go to \nToolbox: ",null,{"$f":"HYPERLINK(\"#\"&ADDRESS(MATCH(I202,Toolbox!$C$1:$C$300),1,,,\"Toolbox\"),VLOOKUP(I202,Toolbox!$C$1:$C$300,1,FALSE))","v":"Surveillance Outbreak Response Management and Analysis System (SORMAS)"}]
[]
[]
[]
[]
[]
[]
[null,null,null,"Other Relevant Resources",null,null,null,null,{"$f":"Backbone!A604","v":"Rabies Exposure and Case Tracker Application (React)"},null,null,null,null,null,null,"A tool to support implementation of Integrated Bite Case Management programs.",null,null,null,null,null,null,null,null,{"$f":"INDEX(Backbone!$R$2:$R$893,MATCH(I209,Backbone!$A$2:$A$893,0))","v":"Hardware or Software"},null,null,null,{"$f":"INDEX(Backbone!$S$2:$S$893,MATCH(I209,Backbone!$A$2:$A$893,0))","v":"One Health; Disease/Threat Specific "},null,null,null,{"$f":"INDEX(Backbone!$H$2:$H$893,MATCH(I209,Backbone!$A$2:$A$893,0))","v":8.6},null,{"$f":"INDEX(Backbone!$I$2:$I$893,MATCH(I209,Backbone!$A$2:$A$893,0))","v":8.6},null,{"$f":"INDEX(Backbone!$J$2:$J$893,MATCH(I209,Backbone!$A$2:$A$893,0))","v":8},null,{"$f":"INDEX(Backbone!$K$1:$K$893,MATCH(I209,Backbone!$A$1:$A$893,0))","v":8.6},null,{"$f":"INDEX(Backbone!$L$2:$L$893,MATCH(I209,Backbone!$A$2:$A$893,0))","v":9.4},null,{"$f":"INDEX(Backbone!$M$2:$M$893,MATCH(I209,Backbone!$A$2:$A$893,0))","v":9.5},null,{"$f":"INDEX(Backbone!$N$2:$N$893,MATCH(I209,Backbone!$A$2:$A$893,0))","v":9},null,{"$f":"INDEX(Backbone!$O$2:$O$893,MATCH(I209,Backbone!$A$2:$A$893,0))","v":9.1999999999999993},null,{"$f":"INDEX(Backbone!$P$2:$P$893,MATCH(I209,Backbone!$A$2:$A$893,0))","v":9},null,{"$f":"INDEX(Backbone!$Q$2:$Q$893,MATCH(I209,Backbone!$A$2:$A$893,0))","v":0.88777777777777767},null,null,{"$f":"(AG209*$AG$22+AI209*$AI$22+AK209*$AK$22+AM209*$AM$22+AO209*$AO$22+AQ209*$AQ$22+AS209*$AS$22+AU209*$AU$22+AW209*$AW$22)/(SUM($AG$22:$AW$22)*10)","v":{"$error":"#DIV/0!"}},null,null,"Go to \nToolbox: ",null,{"$f":"HYPERLINK(\"#\"&ADDRESS(MATCH(I209,Toolbox!$C$1:$C$300),1,,,\"Toolbox\"),VLOOKUP(I209,Toolbox!$C$1:$C$300,1,FALSE))","v":"Rabies Exposure and Case Tracker Application (React)"}]

{"sheet":"ME1_tools","index":56,"n_rows":154,"n_cols":59,"rows_kept":154,"cut":false,"hidden":false,"merged":[[147,56,151,57],[147,58,151,62],[153,56,157,57],[153,58,157,62],[81,56,85,57],[81,58,85,62],[88,56,92,57],[88,58,92,62],[94,56,98,57],[94,58,98,62],[100,56,104,57],[100,58,104,62],[141,56,145,57],[141,58,145,62],[1,1,3,62],[22,56,26,57],[22,58,26,62],[29,56,33,57],[29,58,33,62],[35,56,39,57],[35,58,39,62],[41,56,45,57],[41,58,45,62],[17,24,20,26],[17,28,20,30],[22,3,26,6],[22,8,26,13],[29,3,45,6],[29,8,33,13],[29,15,33,22],[29,24,33,26],[22,53,26,54],[22,38,26,38],[22,40,26,40],[22,42,26,42],[22,44,26,44],[22,46,26,46],[22,48,26,48],[6,46,20,46],[6,48,20,48],[29,53,33,54],[22,50,26,51],[29,34,33,34],[29,36,33,36],[29,38,33,38],[22,15,26,22],[22,24,26,26],[22,28,26,30],[22,32,26,32],[41,32,45,32],[41,34,45,34],[6,32,20,32],[6,34,20,34],[6,36,20,36],[6,38,20,38],[6,40,20,40],[6,42,20,42],[6,44,20,44],[41,50,45,51],[41,53,45,54],[41,48,45,48],[35,48,39,48],[13,50,20,51],[13,53,20,54],[17,1,45,1],[17,3,20,6],[17,8,20,13],[17,15,20,22],[29,46,33,46],[29,48,33,48],[29,50,33,51],[29,40,33,40],[29,42,33,42],[29,44,33,44],[29,28,33,30],[29,32,33,32],[22,34,26,34],[22,36,26,36],[35,50,39,51],[35,53,39,54],[41,8,45,13],[41,15,45,22],[35,8,39,13],[35,15,39,22],[35,24,39,26],[35,28,39,30],[35,32,39,32],[35,34,39,34],[65,42,79,42],[65,44,79,44],[65,46,79,46],[41,38,45,38],[41,40,45,40],[41,42,45,42],[41,44,45,44],[41,46,45,46],[65,40,79,40],[41,36,45,36],[35,36,39,36],[35,38,39,38],[35,40,39,40],[35,42,39,42],[35,44,39,44],[35,46,39,46],[41,24,45,26],[41,28,45,30],[94,53,98,54],[65,48,79,48],[72,50,79,51],[72,53,79,54],[76,3,79,6],[76,8,79,13],[76,15,79,22],[76,24,79,26],[76,28,79,30],[81,3,85,6],[81,48,85,48],[81,50,85,51],[81,53,85,54],[81,36,85,36],[81,38,85,38],[81,40,85,40],[81,42,85,42],[81,44,85,44],[81,46,85,46],[65,32,79,32],[65,34,79,34],[65,36,79,36],[65,38,79,38],[94,44,98,44],[88,46,92,46],[88,48,92,48],[88,50,92,51],[88,53,92,54],[94,8,98,13],[94,15,98,22],[94,24,98,26],[94,28,98,30],[94,32,98,32],[94,34,98,34],[88,34,92,34],[88,36,92,36],[88,38,92,38],[88,40,92,40],[88,42,92,42],[88,44,92,44],[88,8,92,13],[88,15,92,22],[88,24,92,26],[88,28,92,30],[88,32,92,32],[94,48,98,48],[94,50,98,51],[94,46,98,46],[131,50,138,51],[131,53,138,54],[135,3,138,6],[135,8,138,13],[135,15,138,22],[135,24,138,26],[135,28,138,30],[100,44,104,44],[100,46,104,46],[100,48,104,48],[100,50,104,51],[124,32,138,32],[124,34,138,34],[124,36,138,36],[124,38,138,38],[124,40,138,40],[124,42,138,42],[124,44,138,44],[94,36,98,36],[94,38,98,38],[141,53,145,54],[100,8,104,13],[100,15,104,22],[100,24,104,26],[100,28,104,30],[100,32,104,32],[100,34,104,34],[100,36,104,36],[100,38,104,38],[141,38,145,38],[141,40,145,40],[141,42,145,42],[141,44,145,44],[141,46,145,46],[141,48,145,48],[141,8,145,13],[141,15,145,22],[141,24,145,26],[141,28,145,30],[100,53,104,54],[124,46,138,46],[124,48,138,48],[76,1,104,1],[147,8,151,13],[147,15,151,22],[147,24,151,26],[147,28,151,30],[147,32,151,32],[134,1,158,1],[100,40,104,40],[100,42,104,42],[141,32,145,32],[141,34,145,34],[141,36,145,36],[153,38,157,38],[153,40,157,40],[153,42,157,42],[88,3,104,6],[81,8,85,13],[81,15,85,22],[81,24,85,26],[81,28,85,30],[81,32,85,32],[81,34,85,34],[94,40,98,40],[94,42,98,42],[153,46,157,46],[153,48,157,48],[153,50,157,51],[153,53,157,54],[141,3,157,6],[147,48,151,48],[147,50,151,51],[147,53,151,54],[153,8,157,13],[153,15,157,22],[153,24,157,26],[153,28,157,30],[153,32,157,32],[153,34,157,34],[153,36,157,36],[147,34,151,34],[147,36,151,36],[147,38,151,38],[147,40,151,40],[147,42,151,42],[147,44,151,44],[153,44,157,44],[147,46,151,46],[141,50,145,51]]}
[]
[null,"Simulation Exercises Resources"]
[]
[]
[]
[]
[null,null,null,null,null,null,null,null,null,null,null,null,null,null,null,null,null,null,null,null,null,null,null,null,null,null,null,null,null,null,null,null,"Accessibility",null,"Language",null,"Ease of use",null,"Flexibility",null,"Data Needs",null,"Data Analysis",null,"Acceptability",null,"One Health",null,"Impact"]
[]
[]
[]
[]
[]
[]
[null,null,null,null,null,null,null,null,null,null,null,null,null,null,null,null,null,null,null,null,null,null,null,null,null,null,null,null,null,null,null,null,null,null,null,null,null,null,null,null,null,null,null,null,null,null,null,null,null,null,"RAW SCORE",null,null,"ADJUSTED SCORE \n(Based on user preferences)"]
[]
[]
[]
[null,"LEVEL 1 RESOURCES",null,"DESIGNATION",null,null,null,null,"RESOURCE NAME",null,null,null,null,null,null,"SHORT DESCRIPTION",null,null,null,null,null,null,null,null,"RESOURCE TYPE",null,null,null,"RESOURCE GENERALITY"]
[]
[]
[]
[null,null,null,null,null,null,null,null,null,null,null,null,null,null,null,null,null,null,null,null,null,null,null,null,null,null,null,null,null,null,null,null,{"$f":"'Attribute Survey'!S22","v":0},null,{"$f":"'Attribute Survey'!S26","v":0},null,{"$f":"'Attribute Survey'!S30","v":0},null,{"$f":"'Attribute Survey'!S34","v":0},null,{"$f":"'Attribute Survey'!S38","v":0},null,{"$f":"'Attribute Survey'!S42","v":0},null,{"$f":"'Attribute Survey'!S46","v":0},null,{"$f":"'Attribute Survey'!S50","v":0},null,{"$f":"'Attribute Survey'!S54","v":0}]
[null,null,null,"Resources Best Fit for Purpose",null,null,null,null,{"$f":"Backbone!A677","v":"Simulation Toolkit"},null,null,null,null,null,null,"This toolkit helps One Health platforms and other stakeholders choose the right type of simulation and design and implement an effective simulation.",null,null,null,null,null,null,null,null,{"$f":"INDEX(Backbone!$R$2:$R$893,MATCH(I23,Backbone!$A$2:$A$893,0))","v":"Guidance document"},null,null,null,{"$f":"INDEX(Backbone!$S$2:$S$893,MATCH(I23,Backbone!$A$2:$A$893,0))","v":"One Health; Generalized"},null,null,null,{"$f":"INDEX(Backbone!$H$2:$H$893,MATCH(I23,Backbone!$A$2:$A$893,0))","v":8.4},null,{"$f":"INDEX(Backbone!$I$2:$I$893,MATCH(I23,Backbone!$A$2:$A$893,0))","v":8},null,{"$f":"INDEX(Backbone!$J$2:$J$893,MATCH(I23,Backbone!$A$2:$A$893,0))","v":8.4},null,{"$f":"INDEX(Backbone!$K$2:$K$893,MATCH(I23,Backbone!$A$2:$A$893,0))","v":6.7},null,{"$f":"INDEX(Backbone!$L$2:$L$893,MATCH(I23,Backbone!$A$2:$A$893,0))","v":2},null,{"$f":"INDEX(Backbone!$M$2:$M$893,MATCH(I23,Backbone!$A$2:$A$893,0))","v":3.5},null,{"$f":"INDEX(Backbone!$N$2:$N$893,MATCH(I23,Backbone!$A$2:$A$893,0))","v":4},null,{"$f":"INDEX(Backbone!$O$2:$O$893,MATCH(I23,Backbone!$A$2:$A$893,0))","v":6.4},null,{"$f":"INDEX(Backbone!$P$2:$P$893,MATCH(I23,Backbone!$A$2:$A$893,0))","v":8},null,{"$f":"INDEX(Backbone!$Q$2:$Q$893,MATCH(I23,Backbone!$A$2:$A$893,0))","v":0.61555555555555552},null,null,{"$f":"(AG23*$AG$22+AI23*$AI$22+AK23*$AK$22+AM23*$AM$22+AO23*$AO$22+AQ23*$AQ$22+AS23*$AS$22+AU23*$AU$22+AW23*$AW$22)/(SUM($AG$22:$AW$22)*10)","v":{"$error":"#DIV/0!"}},null,null,"Go to \nToolbox: ",null,{"$f":"HYPERLINK(\"#\"&ADDRESS(MATCH(I23,Toolbox!$C$1:$C$300),1,,,\"Toolbox\"),VLOOKUP(I23,Toolbox!$C$1:$C$300,1,FALSE))","v":"Simulation Toolkit"}]
[]
[]
[]
[]
[]
[]
[null,null,null,"Other Relevant Resources",null,null,null,null,{"$f":"Backbone!A271","v":"Laboratory Infrastructure Network Analysis (LINA)"},null,null,null,null,null,null,"An easy-to-use web-based application providing sophisticated computational modeling and data analytics functionality with easy visualization based on maps regarding capacities and capabilities of the national laboratory network and each laboratory itself.",null,null,null,null,null,null,null,null,{"$f":"INDEX(Backbone!$R$2:$R$893,MATCH(I30,Backbone!$A$2:$A$893,0))","v":"Hardware or Software"},null,null,null,{"$f":"INDEX(Backbone!$S$2:$S$893,MATCH(I30,Backbone!$A$2:$A$893,0))","v":"One Health; Generalized"},null,null,null,{"$f":"INDEX(Backbone!$H$2:$H$893,MATCH(I30,Backbone!$A$2:$A$893,0))","v":9.6},null,{"$f":"INDEX(Backbone!$I$2:$I$893,MATCH(I30,Backbone!$A$2:$A$893,0))","v":6},null,{"$f":"INDEX(Backbone!$J$2:$J$893,MATCH(I30,Backbone!$A$2:$A$893,0))","v":7.6},null,{"$f":"INDEX(Backbone!$K$1:$K$893,MATCH(I30,Backbone!$A$1:$A$893,0))","v":9},null,{"$f":"INDEX(Backbone!$L$2:$L$893,MATCH(I30,Backbone!$A$2:$A$893,0))","v":8.3000000000000007},null,{"$f":"INDEX(Backbone!$M$2:$M$893,MATCH(I30,Backbone!$A$2:$A$893,0))","v":7},null,{"$f":"INDEX(Backbone!$N$2:$N$893,MATCH(I30,Backbone!$A$2:$A$893,0))","v":3},null,{"$f":"INDEX(Backbone!$O$2:$O$893,MATCH(I30,Backbone!$A$2:$A$893,0))","v":9.1},null,{"$f":"INDEX(Backbone!$P$2:$P$893,MATCH(I30,Backbone!$A$2:$A$893,0))","v":4},null,{"$f":"INDEX(Backbone!$Q$2:$Q$893,MATCH(I30,Backbone!$A$2:$A$893,0))","v":0.69555555555555559},null,null,{"$f":"(AG30*$AG$22+AI30*$AI$22+AK30*$AK$22+AM30*$AM$22+AO30*$AO$22+AQ30*$AQ$22+AS30*$AS$22+AU30*$AU$22+AW30*$AW$22)/(SUM($AG$22:$AW$22)*10)","v":{"$error":"#DIV/0!"}},null,null,"Go to \nToolbox: ",null,{"$f":"HYPERLINK(\"#\"&ADDRESS(MATCH(I30,Toolbox!$C$1:$C$300),1,,,\"Toolbox\"),VLOOKUP(I30,Toolbox!$C$1:$C$300,1,FALSE))","v":"Laboratory Infrastructure Network Analysis (LINA)"}]
[]
[]
[]
[]
[]
[null,null,null,null,null,null,null,null,{"$f":"Backbone!A383","v":"One Health Systems Mapping and Analysis Resource Toolkit (OH-SMART)"},null,null,null,null,null,null,"A six-step process that supports stakeholders from multiple sectors to map, analyze and improve any existing system that requires interdisciplinary and multisectoral collaboration.",null,null,null,null,null,null,null,null,{"$f":"INDEX(Backbone!$R$2:$R$893,MATCH(I36,Backbone!$A$2:$A$893,0))","v":"Guided/Facilitated tool or process"},null,null,null,{"$f":"INDEX(Backbone!$S$2:$S$893,MATCH(I36,Backbone!$A$2:$A$893,0))","v":"One Health; Generalized"},null,null,null,{"$f":"INDEX(Backbone!$H$2:$H$893,MATCH(I36,Backbone!$A$2:$A$893,0))","v":8.6999999999999993},null,{"$f":"INDEX(Backbone!$I$2:$I$893,MATCH(I36,Backbone!$A$2:$A$893,0))","v":7.3},null,{"$f":"INDEX(Backbone!$J$2:$J$893,MATCH(I36,Backbone!$A$2:$A$893,0))","v":8.4},null,{"$f":"INDEX(Backbone!$K$1:$K$893,MATCH(I36,Backbone!$A$1:$A$893,0))","v":9.3000000000000007},null,{"$f":"INDEX(Backbone!$L$2:$L$893,MATCH(I36,Backbone!$A$2:$A$893,0))","v":8.1999999999999993},null,{"$f":"INDEX(Backbone!$M$2:$M$893,MATCH(I36,Backbone!$A$2:$A$893,0))","v":7.4},null,{"$f":"INDEX(Backbone!$N$2:$N$893,MATCH(I36,Backbone!$A$2:$A$893,0))","v":9.5},null,{"$f":"INDEX(Backbone!$O$2:$O$893,MATCH(I36,Backbone!$A$2:$A$893,0))","v":10},null,{"$f":"INDEX(Backbone!$P$2:$P$893,MATCH(I36,Backbone!$A$2:$A$893,0))","v":10},null,{"$f":"INDEX(Backbone!$Q$2:$Q$893,MATCH(I36,Backbone!$A$2:$A$893,0))","v":0.87555555555555564},null,null,{"$f":"(AG36*$AG$22+AI36*$AI$22+AK36*$AK$22+AM36*$AM$22+AO36*$AO$22+AQ36*$AQ$22+AS36*$AS$22+AU36*$AU$22+AW36*$AW$22)/(SUM($AG$22:$AW$22)*10)","v":{"$error":"#DIV/0!"}},null,null,"Go to \nToolbox: ",null,{"$f":"HYPERLINK(\"#\"&ADDRESS(MATCH(I36,Toolbox!$C$1:$C$300),1,,,\"Toolbox\"),VLOOKUP(I36,Toolbox!$C$1:$C$300,1,FALSE))","v":"One Health Systems Mapping and Analysis Resource Toolkit (OH-SMART)"}]
[]
[]
[]
[]
[]
[null,null,null,null,null,null,null,null,{"$f":"Backbone!A489","v":"The Suite for Automated Global Electronic BioSurveillance (SAGES)"},null,null,null,null,null,null,"A suite of open source software tools designed to enhance electronic disease surveillance in resource-limited settings.",null,null,null,null,null,null,null,null,{"$f":"INDEX(Backbone!$R$2:$R$893,MATCH(I42,Backbone!$A$2:$A$893,0))","v":"Hardware or Software"},null,null,null,{"$f":"INDEX(Backbone!$S$2:$S$893,MATCH(I42,Backbone!$A$2:$A$893,0))","v":"One Health; Generalized"},null,null,null,{"$f":"INDEX(Backbone!$H$2:$H$893,MATCH(I42,Backbone!$A$2:$A$893,0))","v":9.8000000000000007},null,{"$f":"INDEX(Backbone!$I$2:$I$893,MATCH(I42,Backbone!$A$2:$A$893,0))","v":10},null,{"$f":"INDEX(Backbone!$J$2:$J$893,MATCH(I42,Backbone!$A$2:$A$893,0))","v":10},null,{"$f":"INDEX(Backbone!$K$1:$K$893,MATCH(I42,Backbone!$A$1:$A$893,0))","v":9.3000000000000007},null,{"$f":"INDEX(Backbone!$L$2:$L$893,MATCH(I42,Backbone!$A$2:$A$893,0))","v":8.5},null,{"$f":"INDEX(Backbone!$M$2:$M$893,MATCH(I42,Backbone!$A$2:$A$893,0))","v":9},null,{"$f":"INDEX(Backbone!$N$2:$N$893,MATCH(I42,Backbone!$A$2:$A$893,0))","v":5.5},null,{"$f":"INDEX(Backbone!$O$2:$O$893,MATCH(I42,Backbone!$A$2:$A$893,0))","v":9.5},null,{"$f":"INDEX(Backbone!$P$2:$P$893,MATCH(I42,Backbone!$A$2:$A$893,0))","v":7},null,{"$f":"INDEX(Backbone!$Q$2:$Q$893,MATCH(I42,Backbone!$A$2:$A$893,0))","v":0.87333333333333329},null,null,{"$f":"(AG42*$AG$22+AI42*$AI$22+AK42*$AK$22+AM42*$AM$22+AO42*$AO$22+AQ42*$AQ$22+AS42*$AS$22+AU42*$AU$22+AW42*$AW$22)/(SUM($AG$22:$AW$22)*10)","v":{"$error":"#DIV/0!"}},null,null,"Go to \nToolbox: ",null,{"$f":"HYPERLINK(\"#\"&ADDRESS(MATCH(I42,Toolbox!$C$1:$C$300),1,,,\"Toolbox\"),VLOOKUP(I42,Toolbox!$C$1:$C$300,1,FALSE))","v":"The Suite for Automated Global Electronic BioSurveillance (SAGES)"}]
[]
[]
[]
[]
[]
[]
[]
[]
[]
[]
[]
[]
[]
[]
[]
[]
[]
[]
[]
[]
[]
[]
[]
[null,null,null,null,null,null,null,null,null,null,null,null,null,null,null,null,null,null,null,null,null,null,null,null,null,null,null,null,null,null,null,null,"Accessibility",null,"Language",null,"Ease of use",null,"Flexibility",null,"Data Needs",null,"Data Analysis",null,"Acceptability",null,"One Health",null,"Impact"]
[]
[]
[]
[]
[]
[]
[null,null,null,null,null,null,null,null,null,null,null,null,null,null,null,null,null,null,null,null,null,null,null,null,null,null,null,null,null,null,null,null,null,null,null,null,null,null,null,null,null,null,null,null,null,null,null,null,null,null,"RAW SCORE",null,null,"ADJUSTED SCORE \n(Based on user preferences)"]
[]
[]
[]
[null,"LEVEL 2 RESOURCES",null,"DESIGNATION",null,null,null,null,"RESOURCE NAME",null,null,null,null,null,null,"SHORT DESCRIPTION",null,null,null,null,null,null,null,null,"RESOURCE TYPE",null,null,null,"RESOURCE GENERALITY"]
[]
[]
[]
[null,null,null,null,null,null,null,null,null,null,null,null,null,null,null,null,null,null,null,null,null,null,null,null,null,null,null,null,null,null,null,null,{"$f":"'Attribute Survey'!S111","v":0},null,{"$f":"'Attribute Survey'!S115","v":0},null,{"$f":"'Attribute Survey'!S119","v":0},null,{"$f":"'Attribute Survey'!S123","v":0},null,{"$f":"'Attribute Survey'!S127","v":0},null,{"$f":"'Attribute Survey'!S131","v":0},null,{"$f":"'Attribute Survey'!S135","v":0},null,{"$f":"'Attribute Survey'!S139","v":0},null,{"$f":"'Attribute Survey'!S143","v":0}]
[null,null,null,"Resources Best Fit for Purpose",null,null,null,null,{"$f":"Backbone!A677","v":"Simulation Toolkit"},null,null,null,null,null,null,"This toolkit helps One Health platforms and other stakeholders choose the right type of simulation and design and implement an effective simulation.",null,null,null,null,null,null,null,null,{"$f":"INDEX(Backbone!$R$2:$R$893,MATCH(I82,Backbone!$A$2:$A$893,0))","v":"Guidance document"},null,null,null,{"$f":"INDEX(Backbone!$S$2:$S$893,MATCH(I82,Backbone!$A$2:$A$893,0))","v":"One Health; Generalized"},null,null,null,{"$f":"INDEX(Backbone!$H$2:$H$893,MATCH(I82,Backbone!$A$2:$A$893,0))","v":8.4},null,{"$f":"INDEX(Backbone!$I$2:$I$893,MATCH(I82,Backbone!$A$2:$A$893,0))","v":8},null,{"$f":"INDEX(Backbone!$J$2:$J$893,MATCH(I82,Backbone!$A$2:$A$893,0))","v":8.4},null,{"$f":"INDEX(Backbone!$K$2:$K$893,MATCH(I82,Backbone!$A$2:$A$893,0))","v":6.7},null,{"$f":"INDEX(Backbone!$L$2:$L$893,MATCH(I82,Backbone!$A$2:$A$893,0))","v":2},null,{"$f":"INDEX(Backbone!$M$2:$M$893,MATCH(I82,Backbone!$A$2:$A$893,0))","v":3.5},null,{"$f":"INDEX(Backbone!$N$2:$N$893,MATCH(I82,Backbone!$A$2:$A$893,0))","v":4},null,{"$f":"INDEX(Backbone!$O$2:$O$893,MATCH(I82,Backbone!$A$2:$A$893,0))","v":6.4},null,{"$f":"INDEX(Backbone!$P$2:$P$893,MATCH(I82,Backbone!$A$2:$A$893,0))","v":8},null,{"$f":"INDEX(Backbone!$Q$2:$Q$893,MATCH(I82,Backbone!$A$2:$A$893,0))","v":0.61555555555555552},null,null,{"$f":"(AG82*$AG$22+AI82*$AI$22+AK82*$AK$22+AM82*$AM$22+AO82*$AO$22+AQ82*$AQ$22+AS82*$AS$22+AU82*$AU$22+AW82*$AW$22)/(SUM($AG$22:$AW$22)*10)","v":{"$error":"#DIV/0!"}},null,null,"Go to \nToolbox: ",null,{"$f":"HYPERLINK(\"#\"&ADDRESS(MATCH(I82,Toolbox!$C$1:$C$300),1,,,\"Toolbox\"),VLOOKUP(I82,Toolbox!$C$1:$C$300,1,FALSE))","v":"Simulation Toolkit"}]
[]
[]
[]
[]
[]
[]
[null,null,null,"Other Relevant Resources",null,null,null,null,{"$f":"Backbone!A271","v":"Laboratory Infrastructure Network Analysis (LINA)"},null,null,null,null,null,null,"An easy-to-use web-based application providing sophisticated computational modeling and data analytics functionality with easy visualization based on maps regarding capacities and capabilities of the national laboratory network and each laboratory itself.\n\n\n",null,null,null,null,null,null,null,null,{"$f":"INDEX(Backbone!$R$2:$R$893,MATCH(I89,Backbone!$A$2:$A$893,0))","v":"Hardware or Software"},null,null,null,{"$f":"INDEX(Backbone!$S$2:$S$893,MATCH(I89,Backbone!$A$2:$A$893,0))","v":"One Health; Generalized"},null,null,null,{"$f":"INDEX(Backbone!$H$2:$H$893,MATCH(I89,Backbone!$A$2:$A$893,0))","v":9.6},null,{"$f":"INDEX(Backbone!$I$2:$I$893,MATCH(I89,Backbone!$A$2:$A$893,0))","v":6},null,{"$f":"INDEX(Backbone!$J$2:$J$893,MATCH(I89,Backbone!$A$2:$A$893,0))","v":7.6},null,{"$f":"INDEX(Backbone!$K$1:$K$893,MATCH(I89,Backbone!$A$1:$A$893,0))","v":9},null,{"$f":"INDEX(Backbone!$L$2:$L$893,MATCH(I89,Backbone!$A$2:$A$893,0))","v":8.3000000000000007},null,{"$f":"INDEX(Backbone!$M$2:$M$893,MATCH(I89,Backbone!$A$2:$A$893,0))","v":7},null,{"$f":"INDEX(Backbone!$N$2:$N$893,MATCH(I89,Backbone!$A$2:$A$893,0))","v":3},null,{"$f":"INDEX(Backbone!$O$2:$O$893,MATCH(I89,Backbone!$A$2:$A$893,0))","v":9.1},null,{"$f":"INDEX(Backbone!$P$2:$P$893,MATCH(I89,Backbone!$A$2:$A$893,0))","v":4},null,{"$f":"INDEX(Backbone!$Q$2:$Q$893,MATCH(I89,Backbone!$A$2:$A$893,0))","v":0.69555555555555559},null,null,{"$f":"(AG89*$AG$22+AI89*$AI$22+AK89*$AK$22+AM89*$AM$22+AO89*$AO$22+AQ89*$AQ$22+AS89*$AS$22+AU89*$AU$22+AW89*$AW$22)/(SUM($AG$22:$AW$22)*10)","v":{"$error":"#DIV/0!"}},null,null,"Go to \nToolbox: ",null,{"$f":"HYPERLINK(\"#\"&ADDRESS(MATCH(I89,Toolbox!$C$1:$C$300),1,,,\"Toolbox\"),VLOOKUP(I89,Toolbox!$C$1:$C$300,1,FALSE))","v":"Laboratory Infrastructure Network Analysis (LINA)"}]
[]
[]
[]
[]
[]
[null,null,null,null,null,null,null,null,{"$f":"Backbone!A383","v":"One Health Systems Mapping and Analysis Resource Toolkit (OH-SMART)"},null,null,null,null,null,null,"A six-step process that supports stakeholders from multiple sectors to map, analyze and improve any existing system that requires interdisciplinary and multisectoral collaboration. ",null,null,null,null,null,null,null,null,{"$f":"INDEX(Backbone!$R$2:$R$893,MATCH(I95,Backbone!$A$2:$A$893,0))","v":"Guided/Facilitated tool or process"},null,null,null,{"$f":"INDEX(Backbone!$S$2:$S$893,MATCH(I95,Backbone!$A$2:$A$893,0))","v":"One Health; Generalized"},null,null,null,{"$f":"INDEX(Backbone!$H$2:$H$893,MATCH(I95,Backbone!$A$2:$A$893,0))","v":8.6999999999999993},null,{"$f":"INDEX(Backbone!$I$2:$I$893,MATCH(I95,Backbone!$A$2:$A$893,0))","v":7.3},null,{"$f":"INDEX(Backbone!$J$2:$J$893,MATCH(I95,Backbone!$A$2:$A$893,0))","v":8.4},null,{"$f":"INDEX(Backbone!$K$1:$K$893,MATCH(I95,Backbone!$A$1:$A$893,0))","v":9.3000000000000007},null,{"$f":"INDEX(Backbone!$L$2:$L$893,MATCH(I95,Backbone!$A$2:$A$893,0))","v":8.1999999999999993},null,{"$f":"INDEX(Backbone!$M$2:$M$893,MATCH(I95,Backbone!$A$2:$A$893,0))","v":7.4},null,{"$f":"INDEX(Backbone!$N$2:$N$893,MATCH(I95,Backbone!$A$2:$A$893,0))","v":9.5},null,{"$f":"INDEX(Backbone!$O$2:$O$893,MATCH(I95,Backbone!$A$2:$A$893,0))","v":10},null,{"$f":"INDEX(Backbone!$P$2:$P$893,MATCH(I95,Backbone!$A$2:$A$893,0))","v":10},null,{"$f":"INDEX(Backbone!$Q$2:$Q$893,MATCH(I95,Backbone!$A$2:$A$893,0))","v":0.87555555555555564},null,null,{"$f":"(AG95*$AG$22+AI95*$AI$22+AK95*$AK$22+AM95*$AM$22+AO95*$AO$22+AQ95*$AQ$22+AS95*$AS$22+AU95*$AU$22+AW95*$AW$22)/(SUM($AG$22:$AW$22)*10)","v":{"$error":"#DIV/0!"}},null,null,"Go to \nToolbox: ",null,{"$f":"HYPERLINK(\"#\"&ADDRESS(MATCH(I95,Toolbox!$C$1:$C$300),1,,,\"Toolbox\"),VLOOKUP(I95,Toolbox!$C$1:$C$300,1,FALSE))","v":"One Health Systems Mapping and Analysis Resource Toolkit (OH-SMART)"}]
[]
[]
[]
[]
[]
[null,null,null,null,null,null,null,null,{"$f":"Backbone!A489","v":"The Suite for Automated Global Electronic BioSurveillance (SAGES)"},null,null,null,null,null,null,"A suite of open source software tools designed to enhance electronic disease surveillance in resource-limited settings.",null,null,null,null,null,null,null,null,{"$f":"INDEX(Backbone!$R$2:$R$893,MATCH(I101,Backbone!$A$2:$A$893,0))","v":"Hardware or Software"},null,null,null,{"$f":"INDEX(Backbone!$S$2:$S$893,MATCH(I101,Backbone!$A$2:$A$893,0))","v":"One Health; Generalized"},null,null,null,{"$f":"INDEX(Backbone!$H$2:$H$893,MATCH(I101,Backbone!$A$2:$A$893,0))","v":9.8000000000000007},null,{"$f":"INDEX(Backbone!$I$2:$I$893,MATCH(I101,Backbone!$A$2:$A$893,0))","v":10},null,{"$f":"INDEX(Backbone!$J$2:$J$893,MATCH(I101,Backbone!$A$2:$A$893,0))","v":10},null,{"$f":"INDEX(Backbone!$K$1:$K$893,MATCH(I101,Backbone!$A$1:$A$893,0))","v":9.3000000000000007},null,{"$f":"INDEX(Backbone!$L$2:$L$893,MATCH(I101,Backbone!$A$2:$A$893,0))","v":8.5},null,{"$f":"INDEX(Backbone!$M$2:$M$893,MATCH(I101,Backbone!$A$2:$A$893,0))","v":9},null,{"$f":"INDEX(Backbone!$N$2:$N$893,MATCH(I101,Backbone!$A$2:$A$893,0))","v":5.5},null,{"$f":"INDEX(Backbone!$O$2:$O$893,MATCH(I101,Backbone!$A$2:$A$893,0))","v":9.5},null,{"$f":"INDEX(Backbone!$P$2:$P$893,MATCH(I101,Backbone!$A$2:$A$893,0))","v":7},null,{"$f":"INDEX(Backbone!$Q$2:$Q$893,MATCH(I101,Backbone!$A$2:$A$893,0))","v":0.87333333333333329},null,null,{"$f":"(AG101*$AG$22+AI101*$AI$22+AK101*$AK$22+AM101*$AM$22+AO101*$AO$22+AQ101*$AQ$22+AS101*$AS$22+AU101*$AU$22+AW101*$AW$22)/(SUM($AG$22:$AW$22)*10)","v":{"$error":"#DIV/0!"}},null,null,"Go to \nToolbox: ",null,{"$f":"HYPERLINK(\"#\"&ADDRESS(MATCH(I101,Toolbox!$C$1:$C$300),1,,,\"Toolbox\"),VLOOKUP(I101,Toolbox!$C$1:$C$300,1,FALSE))","v":"The Suite for Automated Global Electronic BioSurveillance (SAGES)"}]
[]
[]
[]
[]
[]
[]
[]
[]
[]
[]
[]
[]
[]
[]
[]
[]
[]
[]
[]
[]
[]
[]
[]
[null,null,null,null,null,null,null,null,null,null,null,null,null,null,null,null,null,null,null,null,null,null,null,null,null,null,null,null,null,null,null,null,"Accessibility",null,"Language",null,"Ease of use",null,"Flexibility",null,"Data Needs",null,"Data Analysis",null,"Acceptability",null,"One Health",null,"Impact"]
[]
[]
[]
[]
[]
[]
[null,null,null,null,null,null,null,null,null,null,null,null,null,null,null,null,null,null,null,null,null,null,null,null,null,null,null,null,null,null,null,null,null,null,null,null,null,null,null,null,null,null,null,null,null,null,null,null,null,null,"RAW SCORE",null,null,"ADJUSTED SCORE \n(Based on user preferences)"]
[]
[]
[null,"LEVEL 3 RESOURCES"]
[null,null,null,"DESIGNATION",null,null,null,null,"RESOURCE NAME",null,null,null,null,null,null,"SHORT DESCRIPTION",null,null,null,null,null,null,null,null,"RESOURCE TYPE",null,null,null,"RESOURCE GENERALITY"]
[]
[]
[]
[null,null,null,null,null,null,null,null,null,null,null,null,null,null,null,null,null,null,null,null,null,null,null,null,null,null,null,null,null,null,null,null,{"$f":"'Attribute Survey'!S201","v":0},null,{"$f":"'Attribute Survey'!S205","v":0},null,{"$f":"'Attribute Survey'!S209","v":0},null,{"$f":"'Attribute Survey'!S213","v":0},null,{"$f":"'Attribute Survey'!S217","v":0},null,{"$f":"'Attribute Survey'!S221","v":0},null,{"$f":"'Attribute Survey'!S225","v":0},null,{"$f":"'Attribute Survey'!S229","v":0},null,{"$f":"'Attribute Survey'!S233","v":0}]
[]
[null,null,null,"Other Relevant Resources",null,null,null,null,{"$f":"Backbone!A383","v":"One Health Systems Mapping and Analysis Resource Toolkit (OH-SMART)"},null,null,null,null,null,null,"A six-step process that supports stakeholders from multiple sectors to map, analyze and improve any existing system that requires interdisciplinary and multisectoral collaboration.",null,null,null,null,null,null,null,null,{"$f":"INDEX(Backbone!$R$2:$R$893,MATCH(I142,Backbone!$A$2:$A$893,0))","v":"Guided/Facilitated tool or process"},null,null,null,{"$f":"INDEX(Backbone!$S$2:$S$893,MATCH(I142,Backbone!$A$2:$A$893,0))","v":"One Health; Generalized"},null,null,null,{"$f":"INDEX(Backbone!$H$2:$H$893,MATCH(I142,Backbone!$A$2:$A$893,0))","v":8.6999999999999993},null,{"$f":"INDEX(Backbone!$I$2:$I$893,MATCH(I142,Backbone!$A$2:$A$893,0))","v":7.3},null,{"$f":"INDEX(Backbone!$J$2:$J$893,MATCH(I142,Backbone!$A$2:$A$893,0))","v":8.4},null,{"$f":"INDEX(Backbone!$K$1:$K$893,MATCH(I142,Backbone!$A$1:$A$893,0))","v":9.3000000000000007},null,{"$f":"INDEX(Backbone!$L$2:$L$893,MATCH(I142,Backbone!$A$2:$A$893,0))","v":8.1999999999999993},null,{"$f":"INDEX(Backbone!$M$2:$M$893,MATCH(I142,Backbone!$A$2:$A$893,0))","v":7.4},null,{"$f":"INDEX(Backbone!$N$2:$N$893,MATCH(I142,Backbone!$A$2:$A$893,0))","v":9.5},null,{"$f":"INDEX(Backbone!$O$2:$O$893,MATCH(I142,Backbone!$A$2:$A$893,0))","v":10},null,{"$f":"INDEX(Backbone!$P$2:$P$893,MATCH(I142,Backbone!$A$2:$A$893,0))","v":10},null,{"$f":"INDEX(Backbone!$Q$2:$Q$893,MATCH(I142,Backbone!$A$2:$A$893,0))","v":0.87555555555555564},null,null,{"$f":"(AG142*$AG$22+AI142*$AI$22+AK142*$AK$22+AM142*$AM$22+AO142*$AO$22+AQ142*$AQ$22+AS142*$AS$22+AU142*$AU$22+AW142*$AW$22)/(SUM($AG$22:$AW$22)*10)","v":{"$error":"#DIV/0!"}},null,null,"Go to \nToolbox: ",null,{"$f":"HYPERLINK(\"#\"&ADDRESS(MATCH(I142,Toolbox!$C$1:$C$300),1,,,\"Toolbox\"),VLOOKUP(I142,Toolbox!$C$1:$C$300,1,FALSE))","v":"One Health Systems Mapping and Analysis Resource Toolkit (OH-SMART)"}]
[]
[]
[]
[]
[]
[null,null,null,null,null,null,null,null,{"$f":"Backbone!A677","v":"Simulation Toolkit"},null,null,null,null,null,null,"This toolkit helps One Health platforms and other stakeholders choose the right type of simulation and design and implement an effective simulation.",null,null,null,null,null,null,null,null,{"$f":"INDEX(Backbone!$R$2:$R$893,MATCH(I148,Backbone!$A$2:$A$893,0))","v":"Guidance document"},null,null,null,{"$f":"INDEX(Backbone!$S$2:$S$893,MATCH(I148,Backbone!$A$2:$A$893,0))","v":"One Health; Generalized"},null,null,null,{"$f":"INDEX(Backbone!$H$2:$H$893,MATCH(I148,Backbone!$A$2:$A$893,0))","v":8.4},null,{"$f":"INDEX(Backbone!$I$2:$I$893,MATCH(I148,Backbone!$A$2:$A$893,0))","v":8},null,{"$f":"INDEX(Backbone!$J$2:$J$893,MATCH(I148,Backbone!$A$2:$A$893,0))","v":8.4},null,{"$f":"INDEX(Backbone!$K$1:$K$893,MATCH(I148,Backbone!$A$1:$A$893,0))","v":6.7},null,{"$f":"INDEX(Backbone!$L$2:$L$893,MATCH(I148,Backbone!$A$2:$A$893,0))","v":2},null,{"$f":"INDEX(Backbone!$M$2:$M$893,MATCH(I148,Backbone!$A$2:$A$893,0))","v":3.5},null,{"$f":"INDEX(Backbone!$N$2:$N$893,MATCH(I148,Backbone!$A$2:$A$893,0))","v":4},null,{"$f":"INDEX(Backbone!$O$2:$O$893,MATCH(I148,Backbone!$A$2:$A$893,0))","v":6.4},null,{"$f":"INDEX(Backbone!$P$2:$P$893,MATCH(I148,Backbone!$A$2:$A$893,0))","v":8},null,{"$f":"INDEX(Backbone!$Q$2:$Q$893,MATCH(I148,Backbone!$A$2:$A$893,0))","v":0.61555555555555552},null,null,{"$f":"(AG148*$AG$22+AI148*$AI$22+AK148*$AK$22+AM148*$AM$22+AO148*$AO$22+AQ148*$AQ$22+AS148*$AS$22+AU148*$AU$22+AW148*$AW$22)/(SUM($AG$22:$AW$22)*10)","v":{"$error":"#DIV/0!"}},null,null,"Go to \nToolbox: ",null,{"$f":"HYPERLINK(\"#\"&ADDRESS(MATCH(I148,Toolbox!$C$1:$C$300),1,,,\"Toolbox\"),VLOOKUP(I148,Toolbox!$C$1:$C$300,1,FALSE))","v":"Simulation Toolkit"}]
[]
[]
[]
[]
[]
[null,null,null,null,null,null,null,null,{"$f":"Backbone!A489","v":"The Suite for Automated Global Electronic BioSurveillance (SAGES)"},null,null,null,null,null,null,"A suite of open source software tools designed to enhance electronic disease surveillance in resource-limited settings.",null,null,null,null,null,null,null,null,{"$f":"INDEX(Backbone!$R$2:$R$893,MATCH(I154,Backbone!$A$2:$A$893,0))","v":"Hardware or Software"},null,null,null,{"$f":"INDEX(Backbone!$S$2:$S$893,MATCH(I154,Backbone!$A$2:$A$893,0))","v":"One Health; Generalized"},null,null,null,{"$f":"INDEX(Backbone!$H$2:$H$893,MATCH(I154,Backbone!$A$2:$A$893,0))","v":9.8000000000000007},null,{"$f":"INDEX(Backbone!$I$2:$I$893,MATCH(I154,Backbone!$A$2:$A$893,0))","v":10},null,{"$f":"INDEX(Backbone!$J$2:$J$893,MATCH(I154,Backbone!$A$2:$A$893,0))","v":10},null,{"$f":"INDEX(Backbone!$K$1:$K$893,MATCH(I154,Backbone!$A$1:$A$893,0))","v":9.3000000000000007},null,{"$f":"INDEX(Backbone!$L$2:$L$893,MATCH(I154,Backbone!$A$2:$A$893,0))","v":8.5},null,{"$f":"INDEX(Backbone!$M$2:$M$893,MATCH(I154,Backbone!$A$2:$A$893,0))","v":9},null,{"$f":"INDEX(Backbone!$N$2:$N$893,MATCH(I154,Backbone!$A$2:$A$893,0))","v":5.5},null,{"$f":"INDEX(Backbone!$O$2:$O$893,MATCH(I154,Backbone!$A$2:$A$893,0))","v":9.5},null,{"$f":"INDEX(Backbone!$P$2:$P$893,MATCH(I154,Backbone!$A$2:$A$893,0))","v":7},null,{"$f":"INDEX(Backbone!$Q$2:$Q$893,MATCH(I154,Backbone!$A$2:$A$893,0))","v":0.87333333333333329},null,null,{"$f":"(AG154*$AG$22+AI154*$AI$22+AK154*$AK$22+AM154*$AM$22+AO154*$AO$22+AQ154*$AQ$22+AS154*$AS$22+AU154*$AU$22+AW154*$AW$22)/(SUM($AG$22:$AW$22)*10)","v":{"$error":"#DIV/0!"}},null,null,"Go to \nToolbox: ",null,{"$f":"HYPERLINK(\"#\"&ADDRESS(MATCH(I154,Toolbox!$C$1:$C$300),1,,,\"Toolbox\"),VLOOKUP(I154,Toolbox!$C$1:$C$300,1,FALSE))","v":"The Suite for Automated Global Electronic BioSurveillance (SAGES)"}]

{"sheet":"ME2_tools","index":57,"n_rows":178,"n_cols":59,"rows_kept":178,"cut":false,"hidden":false,"merged":[[118,56,122,57],[118,58,122,62],[159,56,163,57],[159,58,163,62],[165,56,169,57],[165,58,169,62],[171,56,175,57],[171,58,175,62],[177,56,181,57],[177,58,181,62],[53,56,57,57],[53,58,57,62],[93,56,97,57],[93,58,97,62],[100,56,104,57],[100,58,104,62],[106,56,110,57],[106,58,110,62],[112,56,116,57],[112,58,116,62],[22,56,26,57],[22,58,26,62],[29,56,33,57],[29,58,33,62],[35,56,39,57],[35,58,39,62],[41,56,45,57],[41,58,45,62],[47,56,51,57],[47,58,51,62],[13,53,20,54],[17,3,20,6],[17,8,20,13],[17,15,20,22],[17,24,20,26],[17,28,20,30],[1,1,3,62],[22,3,26,6],[22,8,26,13],[22,50,26,51],[22,53,26,54],[22,42,26,42],[22,44,26,44],[22,46,26,46],[22,48,26,48],[6,32,20,32],[6,34,20,34],[6,36,20,36],[6,38,20,38],[6,40,20,40],[6,42,20,42],[6,44,20,44],[6,46,20,46],[6,48,20,48],[22,38,26,38],[22,40,26,40],[22,15,26,22],[22,24,26,26],[22,28,26,30],[22,32,26,32],[22,34,26,34],[22,36,26,36],[13,50,20,51],[29,50,33,51],[29,53,33,54],[35,8,39,13],[35,15,39,22],[35,24,39,26],[35,28,39,30],[35,32,39,32],[35,34,39,34],[35,36,39,36],[35,38,39,38],[29,38,33,38],[29,40,33,40],[29,42,33,42],[29,44,33,44],[29,46,33,46],[29,48,33,48],[29,8,33,13],[29,15,33,22],[29,24,33,26],[29,28,33,30],[29,32,33,32],[29,34,33,34],[29,36,33,36],[41,42,45,42],[41,44,45,44],[41,46,45,46],[41,48,45,48],[41,50,45,51],[41,53,45,54],[35,53,39,54],[41,8,45,13],[41,15,45,22],[41,24,45,26],[41,28,45,30],[41,32,45,32],[41,34,45,34],[41,36,45,36],[41,38,45,38],[41,40,45,40],[35,40,39,40],[35,42,39,42],[35,44,39,44],[35,46,39,46],[35,48,39,48],[35,50,39,51],[84,50,91,51],[84,53,91,54],[88,3,91,6],[88,8,91,13],[88,15,91,22],[88,24,91,26],[77,32,91,32],[77,34,91,34],[77,36,91,36],[77,38,91,38],[77,40,91,40],[77,42,91,42],[88,28,91,30],[93,3,97,6],[93,8,97,13],[93,15,97,22],[93,24,97,26],[93,28,97,30],[77,44,91,44],[77,46,91,46],[77,48,91,48],[93,44,97,44],[93,46,97,46],[93,48,97,48],[93,50,97,51],[93,53,97,54],[100,8,104,13],[100,15,104,22],[100,24,104,26],[100,28,104,30],[93,32,97,32],[93,34,97,34],[93,36,97,36],[93,38,97,38],[93,40,97,40],[93,42,97,42],[106,42,110,42],[106,44,110,44],[100,44,104,44],[100,46,104,46],[100,48,104,48],[100,50,104,51],[100,53,104,54],[106,8,110,13],[106,15,110,22],[106,24,110,26],[106,28,110,30],[106,32,110,32],[100,32,104,32],[100,34,104,34],[100,36,104,36],[100,38,104,38],[100,40,104,40],[100,42,104,42],[142,46,156,46],[142,48,156,48],[149,50,156,51],[149,53,156,54],[153,3,156,6],[153,8,156,13],[153,15,156,22],[153,24,156,26],[153,28,156,30],[142,32,156,32],[142,34,156,34],[142,36,156,36],[142,38,156,38],[142,40,156,40],[142,42,156,42],[142,44,156,44],[159,46,163,46],[159,48,163,48],[159,50,163,51],[159,53,163,54],[165,8,169,13],[165,15,169,22],[165,24,169,26],[165,28,169,30],[165,32,169,32],[165,34,169,34],[159,34,163,34],[159,36,163,36],[159,38,163,38],[159,40,163,40],[159,42,163,42],[159,44,163,44],[159,8,163,13],[159,15,163,22],[159,24,163,26],[159,28,163,30],[159,32,163,32],[171,48,175,48],[165,48,169,48],[165,50,169,51],[165,53,169,54],[171,8,175,13],[171,15,175,22],[171,24,175,26],[171,28,175,30],[171,32,175,32],[171,34,175,34],[171,36,175,36],[165,36,169,36],[165,38,169,38],[165,40,169,40],[165,42,169,42],[165,44,169,44],[165,46,169,46],[53,46,57,46],[53,48,57,48],[53,50,57,51],[53,53,57,54],[47,53,51,54],[53,8,57,13],[53,15,57,22],[53,24,57,26],[53,28,57,30],[53,32,57,32],[53,34,57,34],[53,36,57,36],[53,38,57,38],[53,40,57,40],[47,40,51,40],[47,42,51,42],[47,44,51,44],[47,46,51,46],[47,48,51,48],[47,50,51,51],[47,8,51,13],[47,15,51,22],[47,24,51,26],[47,28,51,30],[29,3,57,6],[17,1,57,1],[118,8,122,13],[118,15,122,22],[118,24,122,26],[118,28,122,30],[88,1,122,1],[53,42,57,42],[53,44,57,44],[47,32,51,32],[47,34,51,34],[47,36,51,36],[47,38,51,38],[112,36,116,36],[112,38,116,38],[112,40,116,40],[112,42,116,42],[112,44,116,44],[112,8,116,13],[112,15,116,22],[112,24,116,26],[112,28,116,30],[112,32,116,32],[112,34,116,34],[118,44,122,44],[118,46,122,46],[118,48,122,48],[118,50,122,51],[118,53,122,54],[100,3,122,6],[118,32,122,32],[118,34,122,34],[118,36,122,36],[118,38,122,38],[118,40,122,40],[118,42,122,42],[112,48,116,48],[112,50,116,51],[112,53,116,54],[112,46,116,46],[106,46,110,46],[106,48,110,48],[106,50,110,51],[106,53,110,54],[106,34,110,34],[106,36,110,36],[106,38,110,38],[106,40,110,40],[177,48,181,48],[177,50,181,51],[177,53,181,54],[159,3,181,6],[152,1,181,1],[177,36,181,36],[177,38,181,38],[177,40,181,40],[177,42,181,42],[177,44,181,44],[177,46,181,46],[177,8,181,13],[177,15,181,22],[177,24,181,26],[177,28,181,30],[177,32,181,32],[177,34,181,34],[171,50,175,51],[171,53,175,54],[171,38,175,38],[171,40,175,40],[171,42,175,42],[171,44,175,44],[171,46,175,46]]}
[]
[null,"Monitoring and Evaluation Planning Resources"]
[]
[]
[]
[]
[null,null,null,null,null,null,null,null,null,null,null,null,null,null,null,null,null,null,null,null,null,null,null,null,null,null,null,null,null,null,null,null,"Accessibility",null,"Language",null,"Ease of use",null,"Flexibility",null,"Data Needs",null,"Data Analysis",null,"Acceptability",null,"One Health",null,"Impact"]
[]
[]
[]
[]
[]
[]
[null,null,null,null,null,null,null,null,null,null,null,null,null,null,null,null,null,null,null,null,null,null,null,null,null,null,null,null,null,null,null,null,null,null,null,null,null,null,null,null,null,null,null,null,null,null,null,null,null,null,"RAW SCORE",null,null,"ADJUSTED SCORE \n(Based on user preferences)"]
[]
[]
[]
[null,"LEVEL 1 RESOURCES",null,"DESIGNATION",null,null,null,null,"RESOURCE NAME",null,null,null,null,null,null,"SHORT DESCRIPTION",null,null,null,null,null,null,null,null,"RESOURCE TYPE",null,null,null,"RESOURCE GENERALITY"]
[]
[]
[]
[null,null,null,null,null,null,null,null,null,null,null,null,null,null,null,null,null,null,null,null,null,null,null,null,null,null,null,null,null,null,null,null,{"$f":"'Attribute Survey'!S22","v":0},null,{"$f":"'Attribute Survey'!S26","v":0},null,{"$f":"'Attribute Survey'!S30","v":0},null,{"$f":"'Attribute Survey'!S34","v":0},null,{"$f":"'Attribute Survey'!S38","v":0},null,{"$f":"'Attribute Survey'!S42","v":0},null,{"$f":"'Attribute Survey'!S46","v":0},null,{"$f":"'Attribute Survey'!S50","v":0},null,{"$f":"'Attribute Survey'!S54","v":0}]
[null,null,null,"Resources Best Fit for Purpose",null,null,null,null,{"$f":"Backbone!A561","v":"Surveillance Evaluation Framework (SurF)"},null,null,null,null,null,null,"An assessment framework for surveillance systems that can be used for biosecurity, plant or animal health. ",null,null,null,null,null,null,null,null,{"$f":"INDEX(Backbone!$R$2:$R$893,MATCH(I23,Backbone!$A$2:$A$893,0))","v":"Guidance document"},null,null,null,{"$f":"INDEX(Backbone!$S$2:$S$893,MATCH(I23,Backbone!$A$2:$A$893,0))","v":"One Health; Generalized"},null,null,null,{"$f":"INDEX(Backbone!$H$2:$H$893,MATCH(I23,Backbone!$A$2:$A$893,0))","v":7.6},null,{"$f":"INDEX(Backbone!$I$2:$I$893,MATCH(I23,Backbone!$A$2:$A$893,0))","v":6},null,{"$f":"INDEX(Backbone!$J$2:$J$893,MATCH(I23,Backbone!$A$2:$A$893,0))","v":8},null,{"$f":"INDEX(Backbone!$K$2:$K$893,MATCH(I23,Backbone!$A$2:$A$893,0))","v":8.6999999999999993},null,{"$f":"INDEX(Backbone!$L$2:$L$893,MATCH(I23,Backbone!$A$2:$A$893,0))","v":8.6},null,{"$f":"INDEX(Backbone!$M$2:$M$893,MATCH(I23,Backbone!$A$2:$A$893,0))","v":4.0999999999999996},null,{"$f":"INDEX(Backbone!$N$2:$N$893,MATCH(I23,Backbone!$A$2:$A$893,0))","v":4},null,{"$f":"INDEX(Backbone!$O$2:$O$893,MATCH(I23,Backbone!$A$2:$A$893,0))","v":8},null,{"$f":"INDEX(Backbone!$P$2:$P$893,MATCH(I23,Backbone!$A$2:$A$893,0))","v":4},null,{"$f":"INDEX(Backbone!$Q$2:$Q$893,MATCH(I23,Backbone!$A$2:$A$893,0))","v":0.65555555555555556},null,null,{"$f":"(AG23*$AG$22+AI23*$AI$22+AK23*$AK$22+AM23*$AM$22+AO23*$AO$22+AQ23*$AQ$22+AS23*$AS$22+AU23*$AU$22+AW23*$AW$22)/(SUM($AG$22:$AW$22)*10)","v":{"$error":"#DIV/0!"}},null,null,"Go to \nToolbox: ",null,{"$f":"HYPERLINK(\"#\"&ADDRESS(MATCH(I23,Toolbox!$C$1:$C$300),1,,,\"Toolbox\"),VLOOKUP(I23,Toolbox!$C$1:$C$300,1,FALSE))","v":"Surveillance Evaluation Framework (SurF)"}]
[]
[]
[]
[]
[]
[]
[null,null,null,"Other Relevant Resources",null,null,null,null,{"$f":"Backbone!A575","v":"Antimicrobial resistance: a manual for developing national action plans"},null,null,null,null,null,null,"The manual for developing national action plans to address Antimicrobial Resistance.",null,null,null,null,null,null,null,null,{"$f":"INDEX(Backbone!$R$2:$R$893,MATCH(I30,Backbone!$A$2:$A$893,0))","v":"Guidance document"},null,null,null,{"$f":"INDEX(Backbone!$S$2:$S$893,MATCH(I30,Backbone!$A$2:$A$893,0))","v":"One Health; Disease/Threat Specific "},null,null,null,{"$f":"INDEX(Backbone!$H$2:$H$893,MATCH(I30,Backbone!$A$2:$A$893,0))","v":10},null,{"$f":"INDEX(Backbone!$I$2:$I$893,MATCH(I30,Backbone!$A$2:$A$893,0))","v":6},null,{"$f":"INDEX(Backbone!$J$2:$J$893,MATCH(I30,Backbone!$A$2:$A$893,0))","v":6.6},null,{"$f":"INDEX(Backbone!$K$1:$K$893,MATCH(I30,Backbone!$A$1:$A$893,0))","v":8.6999999999999993},null,{"$f":"INDEX(Backbone!$L$2:$L$893,MATCH(I30,Backbone!$A$2:$A$893,0))","v":8},null,{"$f":"INDEX(Backbone!$M$2:$M$893,MATCH(I30,Backbone!$A$2:$A$893,0))","v":3.8},null,{"$f":"INDEX(Backbone!$N$2:$N$893,MATCH(I30,Backbone!$A$2:$A$893,0))","v":4.5},null,{"$f":"INDEX(Backbone!$O$2:$O$893,MATCH(I30,Backbone!$A$2:$A$893,0))","v":9},null,{"$f":"INDEX(Backbone!$P$2:$P$893,MATCH(I30,Backbone!$A$2:$A$893,0))","v":10},null,{"$f":"INDEX(Backbone!$Q$2:$Q$893,MATCH(I30,Backbone!$A$2:$A$893,0))","v":0.74},null,null,{"$f":"(AG30*$AG$22+AI30*$AI$22+AK30*$AK$22+AM30*$AM$22+AO30*$AO$22+AQ30*$AQ$22+AS30*$AS$22+AU30*$AU$22+AW30*$AW$22)/(SUM($AG$22:$AW$22)*10)","v":{"$error":"#DIV/0!"}},null,null,"Go to \nToolbox: ",null,{"$f":"HYPERLINK(\"#\"&ADDRESS(MATCH(I30,Toolbox!$C$1:$C$300),1,,,\"Toolbox\"),VLOOKUP(I30,Toolbox!$C$1:$C$300,1,FALSE))","v":"Antimicrobial resistance: a manual for developing national action plans"}]
[]
[]
[]
[]
[]
[null,null,null,null,null,null,null,null,{"$f":"Backbone!A83","v":"ECDC Data quality monitoring and surveillance system evaluation - A handbook of methods and applications "},null,null,null,null,null,null,"A handbook on monitoring the quality of disease surveillance data for public health professionals.",null,null,null,null,null,null,null,null,{"$f":"INDEX(Backbone!$R$2:$R$893,MATCH(I36,Backbone!$A$2:$A$893,0))","v":"Guidance document"},null,null,null,{"$f":"INDEX(Backbone!$S$2:$S$893,MATCH(I36,Backbone!$A$2:$A$893,0))","v":"Sector Specific; Generalized"},null,null,null,{"$f":"INDEX(Backbone!$H$2:$H$893,MATCH(I36,Backbone!$A$2:$A$893,0))","v":8.1999999999999993},null,{"$f":"INDEX(Backbone!$I$2:$I$893,MATCH(I36,Backbone!$A$2:$A$893,0))","v":6},null,{"$f":"INDEX(Backbone!$J$2:$J$893,MATCH(I36,Backbone!$A$2:$A$893,0))","v":6.4},null,{"$f":"INDEX(Backbone!$K$1:$K$893,MATCH(I36,Backbone!$A$1:$A$893,0))","v":7.3},null,{"$f":"INDEX(Backbone!$L$2:$L$893,MATCH(I36,Backbone!$A$2:$A$893,0))","v":7.7},null,{"$f":"INDEX(Backbone!$M$2:$M$893,MATCH(I36,Backbone!$A$2:$A$893,0))","v":4.5},null,{"$f":"INDEX(Backbone!$N$2:$N$893,MATCH(I36,Backbone!$A$2:$A$893,0))","v":5.3},null,{"$f":"INDEX(Backbone!$O$2:$O$893,MATCH(I36,Backbone!$A$2:$A$893,0))","v":6.2},null,{"$f":"INDEX(Backbone!$P$2:$P$893,MATCH(I36,Backbone!$A$2:$A$893,0))","v":8},null,{"$f":"INDEX(Backbone!$Q$2:$Q$893,MATCH(I36,Backbone!$A$2:$A$893,0))","v":0.66222222222222227},null,null,{"$f":"(AG36*$AG$22+AI36*$AI$22+AK36*$AK$22+AM36*$AM$22+AO36*$AO$22+AQ36*$AQ$22+AS36*$AS$22+AU36*$AU$22+AW36*$AW$22)/(SUM($AG$22:$AW$22)*10)","v":{"$error":"#DIV/0!"}},null,null,"Go to \nToolbox: ",null,{"$f":"HYPERLINK(\"#\"&ADDRESS(MATCH(I36,Toolbox!$C$1:$C$300),1,,,\"Toolbox\"),VLOOKUP(I36,Toolbox!$C$1:$C$300,1,FALSE))","v":"ECDC Data quality monitoring and surveillance system evaluation - A handbook of methods and applications "}]
[]
[]
[]
[]
[]
[null,null,null,null,null,null,null,null,{"$f":"Backbone!A510","v":"SuRveillance EVALuation framework (SERVAL)"},null,null,null,null,null,null,"A stepwise instruction on how to plan, structure and conduct assessment of animal health surveillance systems.",null,null,null,null,null,null,null,null,{"$f":"INDEX(Backbone!$R$2:$R$893,MATCH(I42,Backbone!$A$2:$A$893,0))","v":"Guidance document"},null,null,null,{"$f":"INDEX(Backbone!$S$2:$S$893,MATCH(I42,Backbone!$A$2:$A$893,0))","v":"Sector Specific; Generalized"},null,null,null,{"$f":"INDEX(Backbone!$H$2:$H$893,MATCH(I42,Backbone!$A$2:$A$893,0))","v":8.8000000000000007},null,{"$f":"INDEX(Backbone!$I$2:$I$893,MATCH(I42,Backbone!$A$2:$A$893,0))","v":9},null,{"$f":"INDEX(Backbone!$J$2:$J$893,MATCH(I42,Backbone!$A$2:$A$893,0))","v":9},null,{"$f":"INDEX(Backbone!$K$1:$K$893,MATCH(I42,Backbone!$A$1:$A$893,0))","v":10},null,{"$f":"INDEX(Backbone!$L$2:$L$893,MATCH(I42,Backbone!$A$2:$A$893,0))","v":8.1},null,{"$f":"INDEX(Backbone!$M$2:$M$893,MATCH(I42,Backbone!$A$2:$A$893,0))","v":3.3},null,{"$f":"INDEX(Backbone!$N$2:$N$893,MATCH(I42,Backbone!$A$2:$A$893,0))","v":4},null,{"$f":"INDEX(Backbone!$O$2:$O$893,MATCH(I42,Backbone!$A$2:$A$893,0))","v":6.8},null,{"$f":"INDEX(Backbone!$P$2:$P$893,MATCH(I42,Backbone!$A$2:$A$893,0))","v":8},null,{"$f":"INDEX(Backbone!$Q$2:$Q$893,MATCH(I42,Backbone!$A$2:$A$893,0))","v":0.74444444444444446},null,null,{"$f":"(AG42*$AG$22+AI42*$AI$22+AK42*$AK$22+AM42*$AM$22+AO42*$AO$22+AQ42*$AQ$22+AS42*$AS$22+AU42*$AU$22+AW42*$AW$22)/(SUM($AG$22:$AW$22)*10)","v":{"$error":"#DIV/0!"}},null,null,"Go to \nToolbox: ",null,{"$f":"HYPERLINK(\"#\"&ADDRESS(MATCH(I42,Toolbox!$C$1:$C$300),1,,,\"Toolbox\"),VLOOKUP(I42,Toolbox!$C$1:$C$300,1,FALSE))","v":"SuRveillance EVALuation framework (SERVAL)"}]
[]
[]
[]
[]
[]
[null,null,null,null,null,null,null,null,{"$f":"Backbone!A483","v":"Surveillance Webtools (SURVTOOLS) "},null,null,null,null,null,null,"Unites surveillance design and evaluation tools targeting competent, technical users who design, implement or evaluate animal health surveillance.",null,null,null,null,null,null,null,null,{"$f":"INDEX(Backbone!$R$2:$R$893,MATCH(I48,Backbone!$A$2:$A$893,0))","v":"Hardware or Software"},null,null,null,{"$f":"INDEX(Backbone!$S$2:$S$893,MATCH(I48,Backbone!$A$2:$A$893,0))","v":"Sector Specific; Generalized"},null,null,null,{"$f":"INDEX(Backbone!$H$2:$H$893,MATCH(I48,Backbone!$A$2:$A$893,0))","v":9.6},null,{"$f":"INDEX(Backbone!$I$2:$I$893,MATCH(I48,Backbone!$A$2:$A$893,0))","v":2},null,{"$f":"INDEX(Backbone!$J$2:$J$893,MATCH(I48,Backbone!$A$2:$A$893,0))","v":6.7},null,{"$f":"INDEX(Backbone!$K$1:$K$893,MATCH(I48,Backbone!$A$1:$A$893,0))","v":6.7},null,{"$f":"INDEX(Backbone!$L$2:$L$893,MATCH(I48,Backbone!$A$2:$A$893,0))","v":6.6},null,{"$f":"INDEX(Backbone!$M$2:$M$893,MATCH(I48,Backbone!$A$2:$A$893,0))","v":3.5},null,{"$f":"INDEX(Backbone!$N$2:$N$893,MATCH(I48,Backbone!$A$2:$A$893,0))","v":6.7},null,{"$f":"INDEX(Backbone!$O$2:$O$893,MATCH(I48,Backbone!$A$2:$A$893,0))","v":4.9000000000000004},null,{"$f":"INDEX(Backbone!$P$2:$P$893,MATCH(I48,Backbone!$A$2:$A$893,0))","v":4.7},null,{"$f":"INDEX(Backbone!$Q$2:$Q$893,MATCH(I48,Backbone!$A$2:$A$893,0))","v":0.57111111111111112},null,null,{"$f":"(AG48*$AG$22+AI48*$AI$22+AK48*$AK$22+AM48*$AM$22+AO48*$AO$22+AQ48*$AQ$22+AS48*$AS$22+AU48*$AU$22+AW48*$AW$22)/(SUM($AG$22:$AW$22)*10)","v":{"$error":"#DIV/0!"}},null,null,"Go to \nToolbox: ",null,{"$f":"HYPERLINK(\"#\"&ADDRESS(MATCH(I48,Toolbox!$C$1:$C$300),1,,,\"Toolbox\"),VLOOKUP(I48,Toolbox!$C$1:$C$300,1,FALSE))","v":"Surveillance Webtools (SURVTOOLS) "}]
[]
[]
[]
[]
[]
[null,null,null,null,null,null,null,null,{"$f":"Backbone!A296","v":"Updated Guidelines for Evaluating Public Health Surveillance Systems "},null,null,null,null,null,null,"This report provides updated guidelines for evaluating surveillance systems, describing tasks and related activities that can be applied to public health surveillance system.",null,null,null,null,null,null,null,null,{"$f":"INDEX(Backbone!$R$2:$R$893,MATCH(I54,Backbone!$A$2:$A$893,0))","v":"Guidance document"},null,null,null,{"$f":"INDEX(Backbone!$S$2:$S$893,MATCH(I54,Backbone!$A$2:$A$893,0))","v":"Sector Specific; Generalized"},null,null,null,{"$f":"INDEX(Backbone!$H$2:$H$893,MATCH(I54,Backbone!$A$2:$A$893,0))","v":7.6},null,{"$f":"INDEX(Backbone!$I$2:$I$893,MATCH(I54,Backbone!$A$2:$A$893,0))","v":8},null,{"$f":"INDEX(Backbone!$J$2:$J$893,MATCH(I54,Backbone!$A$2:$A$893,0))","v":7.2},null,{"$f":"INDEX(Backbone!$K$1:$K$893,MATCH(I54,Backbone!$A$1:$A$893,0))","v":8.6999999999999993},null,{"$f":"INDEX(Backbone!$L$2:$L$893,MATCH(I54,Backbone!$A$2:$A$893,0))","v":7.7},null,{"$f":"INDEX(Backbone!$M$2:$M$893,MATCH(I54,Backbone!$A$2:$A$893,0))","v":2.2999999999999998},null,{"$f":"INDEX(Backbone!$N$2:$N$893,MATCH(I54,Backbone!$A$2:$A$893,0))","v":4},null,{"$f":"INDEX(Backbone!$O$2:$O$893,MATCH(I54,Backbone!$A$2:$A$893,0))","v":5.8},null,{"$f":"INDEX(Backbone!$P$2:$P$893,MATCH(I54,Backbone!$A$2:$A$893,0))","v":4},null,{"$f":"INDEX(Backbone!$Q$2:$Q$893,MATCH(I54,Backbone!$A$2:$A$893,0))","v":0.61444444444444446},null,null,{"$f":"(AG54*$AG$22+AI54*$AI$22+AK54*$AK$22+AM54*$AM$22+AO54*$AO$22+AQ54*$AQ$22+AS54*$AS$22+AU54*$AU$22+AW54*$AW$22)/(SUM($AG$22:$AW$22)*10)","v":{"$error":"#DIV/0!"}},null,null,"Go to \nToolbox: ",null,{"$f":"HYPERLINK(\"#\"&ADDRESS(MATCH(I54,Toolbox!$C$1:$C$300),1,,,\"Toolbox\"),VLOOKUP(I54,Toolbox!$C$1:$C$300,1,FALSE))","v":"Updated Guidelines for Evaluating Public Health Surveillance Systems "}]
[]
[]
[]
[]
[]
[]
[]
[]
[]
[]
[]
[]
[]
[]
[]
[]
[]
[]
[]
[]
[]
[]
[]
[null,null,null,null,null,null,null,null,null,null,null,null,null,null,null,null,null,null,null,null,null,null,null,null,null,null,null,null,null,null,null,null,"Accessibility",null,"Language",null,"Ease of use",null,"Flexibility",null,"Data Needs",null,"Data Analysis",null,"Acceptability",null,"One Health",null,"Impact"]
[]
[]
[]
[]
[]
[]
[null,null,null,null,null,null,null,null,null,null,null,null,null,null,null,null,null,null,null,null,null,null,null,null,null,null,null,null,null,null,null,null,null,null,null,null,null,null,null,null,null,null,null,null,null,null,null,null,null,null,"RAW SCORE",null,null,"ADJUSTED SCORE \n(Based on user preferences)"]
[]
[]
[]
[null,"LEVEL 2 RESOURCES",null,"DESIGNATION",null,null,null,null,"RESOURCE NAME",null,null,null,null,null,null,"SHORT DESCRIPTION",null,null,null,null,null,null,null,null,"RESOURCE TYPE",null,null,null,"RESOURCE GENERALITY"]
[]
[]
[]
[null,null,null,null,null,null,null,null,null,null,null,null,null,null,null,null,null,null,null,null,null,null,null,null,null,null,null,null,null,null,null,null,{"$f":"'Attribute Survey'!S111","v":0},null,{"$f":"'Attribute Survey'!S115","v":0},null,{"$f":"'Attribute Survey'!S119","v":0},null,{"$f":"'Attribute Survey'!S123","v":0},null,{"$f":"'Attribute Survey'!S127","v":0},null,{"$f":"'Attribute Survey'!S131","v":0},null,{"$f":"'Attribute Survey'!S135","v":0},null,{"$f":"'Attribute Survey'!S139","v":0},null,{"$f":"'Attribute Survey'!S143","v":0}]
[null,null,null,"Resources Best Fit for Purpose",null,null,null,null,{"$f":"Backbone!A561","v":"Surveillance Evaluation Framework (SurF)"},null,null,null,null,null,null,"An assessment framework for surveillance systems that can be used for biosecurity, plant or animal health. ",null,null,null,null,null,null,null,null,{"$f":"INDEX(Backbone!$R$2:$R$893,MATCH(I94,Backbone!$A$2:$A$893,0))","v":"Guidance document"},null,null,null,{"$f":"INDEX(Backbone!$S$2:$S$893,MATCH(I94,Backbone!$A$2:$A$893,0))","v":"One Health; Generalized"},null,null,null,{"$f":"INDEX(Backbone!$H$2:$H$893,MATCH(I94,Backbone!$A$2:$A$893,0))","v":7.6},null,{"$f":"INDEX(Backbone!$I$2:$I$893,MATCH(I94,Backbone!$A$2:$A$893,0))","v":6},null,{"$f":"INDEX(Backbone!$J$2:$J$893,MATCH(I94,Backbone!$A$2:$A$893,0))","v":8},null,{"$f":"INDEX(Backbone!$K$2:$K$893,MATCH(I94,Backbone!$A$2:$A$893,0))","v":8.6999999999999993},null,{"$f":"INDEX(Backbone!$L$2:$L$893,MATCH(I94,Backbone!$A$2:$A$893,0))","v":8.6},null,{"$f":"INDEX(Backbone!$M$2:$M$893,MATCH(I94,Backbone!$A$2:$A$893,0))","v":4.0999999999999996},null,{"$f":"INDEX(Backbone!$N$2:$N$893,MATCH(I94,Backbone!$A$2:$A$893,0))","v":4},null,{"$f":"INDEX(Backbone!$O$2:$O$893,MATCH(I94,Backbone!$A$2:$A$893,0))","v":8},null,{"$f":"INDEX(Backbone!$P$2:$P$893,MATCH(I94,Backbone!$A$2:$A$893,0))","v":4},null,{"$f":"INDEX(Backbone!$Q$2:$Q$893,MATCH(I94,Backbone!$A$2:$A$893,0))","v":0.65555555555555556},null,null,{"$f":"(AG94*$AG$22+AI94*$AI$22+AK94*$AK$22+AM94*$AM$22+AO94*$AO$22+AQ94*$AQ$22+AS94*$AS$22+AU94*$AU$22+AW94*$AW$22)/(SUM($AG$22:$AW$22)*10)","v":{"$error":"#DIV/0!"}},null,null,"Go to \nToolbox: ",null,{"$f":"HYPERLINK(\"#\"&ADDRESS(MATCH(I94,Toolbox!$C$1:$C$300),1,,,\"Toolbox\"),VLOOKUP(I94,Toolbox!$C$1:$C$300,1,FALSE))","v":"Surveillance Evaluation Framework (SurF)"}]
[]
[]
[]
[]
[]
[]
[null,null,null,"Other Relevant Resources",null,null,null,null,{"$f":"Backbone!A83","v":"ECDC Data quality monitoring and surveillance system evaluation - A handbook of methods and applications "},null,null,null,null,null,null,"A handbook on monitoring the quality of disease surveillance data for public health professionals.",null,null,null,null,null,null,null,null,{"$f":"INDEX(Backbone!$R$2:$R$893,MATCH(I101,Backbone!$A$2:$A$893,0))","v":"Guidance document"},null,null,null,{"$f":"INDEX(Backbone!$S$2:$S$893,MATCH(I101,Backbone!$A$2:$A$893,0))","v":"Sector Specific; Generalized"},null,null,null,{"$f":"INDEX(Backbone!$H$2:$H$893,MATCH(I101,Backbone!$A$2:$A$893,0))","v":8.1999999999999993},null,{"$f":"INDEX(Backbone!$I$2:$I$893,MATCH(I101,Backbone!$A$2:$A$893,0))","v":6},null,{"$f":"INDEX(Backbone!$J$2:$J$893,MATCH(I101,Backbone!$A$2:$A$893,0))","v":6.4},null,{"$f":"INDEX(Backbone!$K$1:$K$893,MATCH(I101,Backbone!$A$1:$A$893,0))","v":7.3},null,{"$f":"INDEX(Backbone!$L$2:$L$893,MATCH(I101,Backbone!$A$2:$A$893,0))","v":7.7},null,{"$f":"INDEX(Backbone!$M$2:$M$893,MATCH(I101,Backbone!$A$2:$A$893,0))","v":4.5},null,{"$f":"INDEX(Backbone!$N$2:$N$893,MATCH(I101,Backbone!$A$2:$A$893,0))","v":5.3},null,{"$f":"INDEX(Backbone!$O$2:$O$893,MATCH(I101,Backbone!$A$2:$A$893,0))","v":6.2},null,{"$f":"INDEX(Backbone!$P$2:$P$893,MATCH(I101,Backbone!$A$2:$A$893,0))","v":8},null,{"$f":"INDEX(Backbone!$Q$2:$Q$893,MATCH(I101,Backbone!$A$2:$A$893,0))","v":0.66222222222222227},null,null,{"$f":"(AG101*$AG$22+AI101*$AI$22+AK101*$AK$22+AM101*$AM$22+AO101*$AO$22+AQ101*$AQ$22+AS101*$AS$22+AU101*$AU$22+AW101*$AW$22)/(SUM($AG$22:$AW$22)*10)","v":{"$error":"#DIV/0!"}},null,null,"Go to \nToolbox: ",null,{"$f":"HYPERLINK(\"#\"&ADDRESS(MATCH(I101,Toolbox!$C$1:$C$300),1,,,\"Toolbox\"),VLOOKUP(I101,Toolbox!$C$1:$C$300,1,FALSE))","v":"ECDC Data quality monitoring and surveillance system evaluation - A handbook of methods and applications "}]
[]
[]
[]
[]
[]
[null,null,null,null,null,null,null,null,{"$f":"Backbone!A332","v":"Network for Evaluation of One Health (NEOH)"},null,null,null,null,null,null,"An excel-based tool assessing the One Health-ness (or strength of One Health, OH) of a OH surveillance system. ",null,null,null,null,null,null,null,null,{"$f":"INDEX(Backbone!$R$2:$R$893,MATCH(I107,Backbone!$A$2:$A$893,0))","v":"Guidance document"},null,null,null,{"$f":"INDEX(Backbone!$S$2:$S$893,MATCH(I107,Backbone!$A$2:$A$893,0))","v":"One Health; Generalized"},null,null,null,{"$f":"INDEX(Backbone!$H$2:$H$893,MATCH(I107,Backbone!$A$2:$A$893,0))","v":8.3000000000000007},null,{"$f":"INDEX(Backbone!$I$2:$I$893,MATCH(I107,Backbone!$A$2:$A$893,0))","v":7.7},null,{"$f":"INDEX(Backbone!$J$2:$J$893,MATCH(I107,Backbone!$A$2:$A$893,0))","v":5.3},null,{"$f":"INDEX(Backbone!$K$1:$K$893,MATCH(I107,Backbone!$A$1:$A$893,0))","v":8.9},null,{"$f":"INDEX(Backbone!$L$2:$L$893,MATCH(I107,Backbone!$A$2:$A$893,0))","v":7.8},null,{"$f":"INDEX(Backbone!$M$2:$M$893,MATCH(I107,Backbone!$A$2:$A$893,0))","v":4.7},null,{"$f":"INDEX(Backbone!$N$2:$N$893,MATCH(I107,Backbone!$A$2:$A$893,0))","v":5.3},null,{"$f":"INDEX(Backbone!$O$2:$O$893,MATCH(I107,Backbone!$A$2:$A$893,0))","v":8},null,{"$f":"INDEX(Backbone!$P$2:$P$893,MATCH(I107,Backbone!$A$2:$A$893,0))","v":5.3},null,{"$f":"INDEX(Backbone!$Q$2:$Q$893,MATCH(I107,Backbone!$A$2:$A$893,0))","v":0.68111111111111111},null,null,{"$f":"(AG107*$AG$22+AI107*$AI$22+AK107*$AK$22+AM107*$AM$22+AO107*$AO$22+AQ107*$AQ$22+AS107*$AS$22+AU107*$AU$22+AW107*$AW$22)/(SUM($AG$22:$AW$22)*10)","v":{"$error":"#DIV/0!"}},null,null,"Go to \nToolbox: ",null,{"$f":"HYPERLINK(\"#\"&ADDRESS(MATCH(I107,Toolbox!$C$1:$C$300),1,,,\"Toolbox\"),VLOOKUP(I107,Toolbox!$C$1:$C$300,1,FALSE))","v":"Network for Evaluation of One Health (NEOH)"}]
[]
[]
[]
[]
[]
[null,null,null,null,null,null,null,null,{"$f":"Backbone!A510","v":"SuRveillance EVALuation framework (SERVAL)"},null,null,null,null,null,null,"A stepwise instruction on how to plan, structure and conduct assessment of animal health surveillance systems.",null,null,null,null,null,null,null,null,{"$f":"INDEX(Backbone!$R$2:$R$893,MATCH(I113,Backbone!$A$2:$A$893,0))","v":"Guidance document"},null,null,null,{"$f":"INDEX(Backbone!$S$2:$S$893,MATCH(I113,Backbone!$A$2:$A$893,0))","v":"Sector Specific; Generalized"},null,null,null,{"$f":"INDEX(Backbone!$H$2:$H$893,MATCH(I113,Backbone!$A$2:$A$893,0))","v":8.8000000000000007},null,{"$f":"INDEX(Backbone!$I$2:$I$893,MATCH(I113,Backbone!$A$2:$A$893,0))","v":9},null,{"$f":"INDEX(Backbone!$J$2:$J$893,MATCH(I113,Backbone!$A$2:$A$893,0))","v":9},null,{"$f":"INDEX(Backbone!$K$1:$K$893,MATCH(I113,Backbone!$A$1:$A$893,0))","v":10},null,{"$f":"INDEX(Backbone!$L$2:$L$893,MATCH(I113,Backbone!$A$2:$A$893,0))","v":8.1},null,{"$f":"INDEX(Backbone!$M$2:$M$893,MATCH(I113,Backbone!$A$2:$A$893,0))","v":3.3},null,{"$f":"INDEX(Backbone!$N$2:$N$893,MATCH(I113,Backbone!$A$2:$A$893,0))","v":4},null,{"$f":"INDEX(Backbone!$O$2:$O$893,MATCH(I113,Backbone!$A$2:$A$893,0))","v":6.8},null,{"$f":"INDEX(Backbone!$P$2:$P$893,MATCH(I113,Backbone!$A$2:$A$893,0))","v":8},null,{"$f":"INDEX(Backbone!$Q$2:$Q$893,MATCH(I113,Backbone!$A$2:$A$893,0))","v":0.74444444444444446},null,null,{"$f":"(AG113*$AG$22+AI113*$AI$22+AK113*$AK$22+AM113*$AM$22+AO113*$AO$22+AQ113*$AQ$22+AS113*$AS$22+AU113*$AU$22+AW113*$AW$22)/(SUM($AG$22:$AW$22)*10)","v":{"$error":"#DIV/0!"}},null,null,"Go to \nToolbox: ",null,{"$f":"HYPERLINK(\"#\"&ADDRESS(MATCH(I113,Toolbox!$C$1:$C$300),1,,,\"Toolbox\"),VLOOKUP(I113,Toolbox!$C$1:$C$300,1,FALSE))","v":"SuRveillance EVALuation framework (SERVAL)"}]
[]
[]
[]
[]
[]
[null,null,null,null,null,null,null,null,{"$f":"Backbone!A296","v":"Updated Guidelines for Evaluating Public Health Surveillance Systems "},null,null,null,null,null,null,"This report provides updated guidelines for evaluating surveillance systems, describing tasks and related activities that can be applied to public health surveillance system.",null,null,null,null,null,null,null,null,{"$f":"INDEX(Backbone!$R$2:$R$893,MATCH(I119,Backbone!$A$2:$A$893,0))","v":"Guidance document"},null,null,null,{"$f":"INDEX(Backbone!$S$2:$S$893,MATCH(I119,Backbone!$A$2:$A$893,0))","v":"Sector Specific; Generalized"},null,null,null,{"$f":"INDEX(Backbone!$H$2:$H$893,MATCH(I119,Backbone!$A$2:$A$893,0))","v":7.6},null,{"$f":"INDEX(Backbone!$I$2:$I$893,MATCH(I119,Backbone!$A$2:$A$893,0))","v":8},null,{"$f":"INDEX(Backbone!$J$2:$J$893,MATCH(I119,Backbone!$A$2:$A$893,0))","v":7.2},null,{"$f":"INDEX(Backbone!$K$1:$K$893,MATCH(I119,Backbone!$A$1:$A$893,0))","v":8.6999999999999993},null,{"$f":"INDEX(Backbone!$L$2:$L$893,MATCH(I119,Backbone!$A$2:$A$893,0))","v":7.7},null,{"$f":"INDEX(Backbone!$M$2:$M$893,MATCH(I119,Backbone!$A$2:$A$893,0))","v":2.2999999999999998},null,{"$f":"INDEX(Backbone!$N$2:$N$893,MATCH(I119,Backbone!$A$2:$A$893,0))","v":4},null,{"$f":"INDEX(Backbone!$O$2:$O$893,MATCH(I119,Backbone!$A$2:$A$893,0))","v":5.8},null,{"$f":"INDEX(Backbone!$P$2:$P$893,MATCH(I119,Backbone!$A$2:$A$893,0))","v":4},null,{"$f":"INDEX(Backbone!$Q$2:$Q$893,MATCH(I119,Backbone!$A$2:$A$893,0))","v":0.61444444444444446},null,null,{"$f":"(AG119*$AG$22+AI119*$AI$22+AK119*$AK$22+AM119*$AM$22+AO119*$AO$22+AQ119*$AQ$22+AS119*$AS$22+AU119*$AU$22+AW119*$AW$22)/(SUM($AG$22:$AW$22)*10)","v":{"$error":"#DIV/0!"}},null,null,"Go to \nToolbox: ",null,{"$f":"HYPERLINK(\"#\"&ADDRESS(MATCH(I119,Toolbox!$C$1:$C$300),1,,,\"Toolbox\"),VLOOKUP(I119,Toolbox!$C$1:$C$300,1,FALSE))","v":"Updated Guidelines for Evaluating Public Health Surveillance Systems "}]
[]
[]
[]
[]
[]
[]
[]
[]
[]
[]
[]
[]
[]
[]
[]
[]
[]
[]
[]
[]
[]
[]
[]
[null,null,null,null,null,null,null,null,null,null,null,null,null,null,null,null,null,null,null,null,null,null,null,null,null,null,null,null,null,null,null,null,"Accessibility",null,"Language",null,"Ease of use",null,"Flexibility",null,"Data Needs",null,"Data Analysis",null,"Acceptability",null,"One Health",null,"Impact"]
[]
[]
[]
[]
[]
[]
[null,null,null,null,null,null,null,null,null,null,null,null,null,null,null,null,null,null,null,null,null,null,null,null,null,null,null,null,null,null,null,null,null,null,null,null,null,null,null,null,null,null,null,null,null,null,null,null,null,null,"RAW SCORE",null,null,"ADJUSTED SCORE \n(Based on user preferences)"]
[]
[]
[null,"LEVEL 3 RESOURCES"]
[null,null,null,"DESIGNATION",null,null,null,null,"RESOURCE NAME",null,null,null,null,null,null,"SHORT DESCRIPTION",null,null,null,null,null,null,null,null,"RESOURCE TYPE",null,null,null,"RESOURCE GENERALITY"]
[]
[]
[]
[null,null,null,null,null,null,null,null,null,null,null,null,null,null,null,null,null,null,null,null,null,null,null,null,null,null,null,null,null,null,null,null,{"$f":"'Attribute Survey'!S201","v":0},null,{"$f":"'Attribute Survey'!S205","v":0},null,{"$f":"'Attribute Survey'!S209","v":0},null,{"$f":"'Attribute Survey'!S213","v":0},null,{"$f":"'Attribute Survey'!S217","v":0},null,{"$f":"'Attribute Survey'!S221","v":0},null,{"$f":"'Attribute Survey'!S225","v":0},null,{"$f":"'Attribute Survey'!S229","v":0},null,{"$f":"'Attribute Survey'!S233","v":0}]
[]
[null,null,null,"Other Relevant Resources",null,null,null,null,{"$f":"Backbone!A83","v":"ECDC Data quality monitoring and surveillance system evaluation - A handbook of methods and applications "},null,null,null,null,null,null,"A handbook on monitoring the quality of disease surveillance data for public health professionals.",null,null,null,null,null,null,null,null,{"$f":"INDEX(Backbone!$R$2:$R$893,MATCH(I160,Backbone!$A$2:$A$893,0))","v":"Guidance document"},null,null,null,{"$f":"INDEX(Backbone!$S$2:$S$893,MATCH(I160,Backbone!$A$2:$A$893,0))","v":"Sector Specific; Generalized"},null,null,null,{"$f":"INDEX(Backbone!$H$2:$H$893,MATCH(I160,Backbone!$A$2:$A$893,0))","v":8.1999999999999993},null,{"$f":"INDEX(Backbone!$I$2:$I$893,MATCH(I160,Backbone!$A$2:$A$893,0))","v":6},null,{"$f":"INDEX(Backbone!$J$2:$J$893,MATCH(I160,Backbone!$A$2:$A$893,0))","v":6.4},null,{"$f":"INDEX(Backbone!$K$1:$K$893,MATCH(I160,Backbone!$A$1:$A$893,0))","v":7.3},null,{"$f":"INDEX(Backbone!$L$2:$L$893,MATCH(I160,Backbone!$A$2:$A$893,0))","v":7.7},null,{"$f":"INDEX(Backbone!$M$2:$M$893,MATCH(I160,Backbone!$A$2:$A$893,0))","v":4.5},null,{"$f":"INDEX(Backbone!$N$2:$N$893,MATCH(I160,Backbone!$A$2:$A$893,0))","v":5.3},null,{"$f":"INDEX(Backbone!$O$2:$O$893,MATCH(I160,Backbone!$A$2:$A$893,0))","v":6.2},null,{"$f":"INDEX(Backbone!$P$2:$P$893,MATCH(I160,Backbone!$A$2:$A$893,0))","v":8},null,{"$f":"INDEX(Backbone!$Q$2:$Q$893,MATCH(I160,Backbone!$A$2:$A$893,0))","v":0.66222222222222227},null,null,{"$f":"(AG160*$AG$22+AI160*$AI$22+AK160*$AK$22+AM160*$AM$22+AO160*$AO$22+AQ160*$AQ$22+AS160*$AS$22+AU160*$AU$22+AW160*$AW$22)/(SUM($AG$22:$AW$22)*10)","v":{"$error":"#DIV/0!"}},null,null,"Go to \nToolbox: ",null,{"$f":"HYPERLINK(\"#\"&ADDRESS(MATCH(I160,Toolbox!$C$1:$C$300),1,,,\"Toolbox\"),VLOOKUP(I160,Toolbox!$C$1:$C$300,1,FALSE))","v":"ECDC Data quality monitoring and surveillance system evaluation - A handbook of methods and applications "}]
[]
[]
[]
[]
[]
[null,null,null,null,null,null,null,null,{"$f":"Backbone!A552","v":"International Health Regulations (‎2005):State Party self-assessment annual reporting tool (SPAR)"},null,null,null,null,null,null,"A reporting tool that supports State Parties of the International Health Regulations (IHR) to fulfil their obligation to report annually to the World Health Assembly (WHA) on the implementation of capacity requirements under IHR.",null,null,null,null,null,null,null,null,{"$f":"INDEX(Backbone!$R$2:$R$893,MATCH(I166,Backbone!$A$2:$A$893,0))","v":"Self-assessment tool"},null,null,null,{"$f":"INDEX(Backbone!$S$2:$S$893,MATCH(I166,Backbone!$A$2:$A$893,0))","v":"One Health; Generalized"},null,null,null,{"$f":"INDEX(Backbone!$H$2:$H$893,MATCH(I166,Backbone!$A$2:$A$893,0))","v":9.9},null,{"$f":"INDEX(Backbone!$I$2:$I$893,MATCH(I166,Backbone!$A$2:$A$893,0))","v":10},null,{"$f":"INDEX(Backbone!$J$2:$J$893,MATCH(I166,Backbone!$A$2:$A$893,0))","v":9.3000000000000007},null,{"$f":"INDEX(Backbone!$K$1:$K$893,MATCH(I166,Backbone!$A$1:$A$893,0))","v":7.3},null,{"$f":"INDEX(Backbone!$L$2:$L$893,MATCH(I166,Backbone!$A$2:$A$893,0))","v":9.4},null,{"$f":"INDEX(Backbone!$M$2:$M$893,MATCH(I166,Backbone!$A$2:$A$893,0))","v":9},null,{"$f":"INDEX(Backbone!$N$2:$N$893,MATCH(I166,Backbone!$A$2:$A$893,0))","v":8.5},null,{"$f":"INDEX(Backbone!$O$2:$O$893,MATCH(I166,Backbone!$A$2:$A$893,0))","v":6.3},null,{"$f":"INDEX(Backbone!$P$2:$P$893,MATCH(I166,Backbone!$A$2:$A$893,0))","v":6.7},null,{"$f":"INDEX(Backbone!$Q$2:$Q$893,MATCH(I166,Backbone!$A$2:$A$893,0))","v":0.84888888888888892},null,null,{"$f":"(AG166*$AG$22+AI166*$AI$22+AK166*$AK$22+AM166*$AM$22+AO166*$AO$22+AQ166*$AQ$22+AS166*$AS$22+AU166*$AU$22+AW166*$AW$22)/(SUM($AG$22:$AW$22)*10)","v":{"$error":"#DIV/0!"}},null,null,"Go to \nToolbox: ",null,{"$f":"HYPERLINK(\"#\"&ADDRESS(MATCH(I166,Toolbox!$C$1:$C$300),1,,,\"Toolbox\"),VLOOKUP(I166,Toolbox!$C$1:$C$300,1,FALSE))","v":"International Health Regulations (‎2005):State Party self-assessment annual reporting tool (SPAR)"}]
[]
[]
[]
[]
[]
[null,null,null,null,null,null,null,null,{"$f":"Backbone!A332","v":"Network for Evaluation of One Health (NEOH)"},null,null,null,null,null,null,"An excel-based tool assessing the One Health-ness (or strength of One Health, OH) of a OH surveillance system.",null,null,null,null,null,null,null,null,{"$f":"INDEX(Backbone!$R$2:$R$893,MATCH(I172,Backbone!$A$2:$A$893,0))","v":"Guidance document"},null,null,null,{"$f":"INDEX(Backbone!$S$2:$S$893,MATCH(I172,Backbone!$A$2:$A$893,0))","v":"One Health; Generalized"},null,null,null,{"$f":"INDEX(Backbone!$H$2:$H$893,MATCH(I172,Backbone!$A$2:$A$893,0))","v":8.3000000000000007},null,{"$f":"INDEX(Backbone!$I$2:$I$893,MATCH(I172,Backbone!$A$2:$A$893,0))","v":7.7},null,{"$f":"INDEX(Backbone!$J$2:$J$893,MATCH(I172,Backbone!$A$2:$A$893,0))","v":5.3},null,{"$f":"INDEX(Backbone!$K$1:$K$893,MATCH(I172,Backbone!$A$1:$A$893,0))","v":8.9},null,{"$f":"INDEX(Backbone!$L$2:$L$893,MATCH(I172,Backbone!$A$2:$A$893,0))","v":7.8},null,{"$f":"INDEX(Backbone!$M$2:$M$893,MATCH(I172,Backbone!$A$2:$A$893,0))","v":4.7},null,{"$f":"INDEX(Backbone!$N$2:$N$893,MATCH(I172,Backbone!$A$2:$A$893,0))","v":5.3},null,{"$f":"INDEX(Backbone!$O$2:$O$893,MATCH(I172,Backbone!$A$2:$A$893,0))","v":8},null,{"$f":"INDEX(Backbone!$P$2:$P$893,MATCH(I172,Backbone!$A$2:$A$893,0))","v":5.3},null,{"$f":"INDEX(Backbone!$Q$2:$Q$893,MATCH(I172,Backbone!$A$2:$A$893,0))","v":0.68111111111111111},null,null,{"$f":"(AG172*$AG$22+AI172*$AI$22+AK172*$AK$22+AM172*$AM$22+AO172*$AO$22+AQ172*$AQ$22+AS172*$AS$22+AU172*$AU$22+AW172*$AW$22)/(SUM($AG$22:$AW$22)*10)","v":{"$error":"#DIV/0!"}},null,null,"Go to \nToolbox: ",null,{"$f":"HYPERLINK(\"#\"&ADDRESS(MATCH(I172,Toolbox!$C$1:$C$300),1,,,\"Toolbox\"),VLOOKUP(I172,Toolbox!$C$1:$C$300,1,FALSE))","v":"Network for Evaluation of One Health (NEOH)"}]
[]
[]
[]
[]
[]
[null,null,null,null,null,null,null,null,{"$f":"Backbone!A296","v":"Updated Guidelines for Evaluating Public Health Surveillance Systems "},null,null,null,null,null,null,"This report provides updated guidelines for evaluating surveillance systems, describing tasks and related activities that can be applied to public health surveillance system.",null,null,null,null,null,null,null,null,{"$f":"INDEX(Backbone!$R$2:$R$893,MATCH(I178,Backbone!$A$2:$A$893,0))","v":"Guidance document"},null,null,null,{"$f":"INDEX(Backbone!$S$2:$S$893,MATCH(I178,Backbone!$A$2:$A$893,0))","v":"Sector Specific; Generalized"},null,null,null,{"$f":"INDEX(Backbone!$H$2:$H$893,MATCH(I178,Backbone!$A$2:$A$893,0))","v":7.6},null,{"$f":"INDEX(Backbone!$I$2:$I$893,MATCH(I178,Backbone!$A$2:$A$893,0))","v":8},null,{"$f":"INDEX(Backbone!$J$2:$J$893,MATCH(I178,Backbone!$A$2:$A$893,0))","v":7.2},null,{"$f":"INDEX(Backbone!$K$1:$K$893,MATCH(I178,Backbone!$A$1:$A$893,0))","v":8.6999999999999993},null,{"$f":"INDEX(Backbone!$L$2:$L$893,MATCH(I178,Backbone!$A$2:$A$893,0))","v":7.7},null,{"$f":"INDEX(Backbone!$M$2:$M$893,MATCH(I178,Backbone!$A$2:$A$893,0))","v":2.2999999999999998},null,{"$f":"INDEX(Backbone!$N$2:$N$893,MATCH(I178,Backbone!$A$2:$A$893,0))","v":4},null,{"$f":"INDEX(Backbone!$O$2:$O$893,MATCH(I178,Backbone!$A$2:$A$893,0))","v":5.8},null,{"$f":"INDEX(Backbone!$P$2:$P$893,MATCH(I178,Backbone!$A$2:$A$893,0))","v":4},null,{"$f":"INDEX(Backbone!$Q$2:$Q$893,MATCH(I178,Backbone!$A$2:$A$893,0))","v":0.61444444444444446},null,null,{"$f":"(AG178*$AG$22+AI178*$AI$22+AK178*$AK$22+AM178*$AM$22+AO178*$AO$22+AQ178*$AQ$22+AS178*$AS$22+AU178*$AU$22+AW178*$AW$22)/(SUM($AG$22:$AW$22)*10)","v":{"$error":"#DIV/0!"}},null,null,"Go to \nToolbox: ",null,{"$f":"HYPERLINK(\"#\"&ADDRESS(MATCH(I178,Toolbox!$C$1:$C$300),1,,,\"Toolbox\"),VLOOKUP(I178,Toolbox!$C$1:$C$300,1,FALSE))","v":"Updated Guidelines for Evaluating Public Health Surveillance Systems "}]

{"sheet":"ME3_tools","index":58,"n_rows":196,"n_cols":59,"rows_kept":196,"cut":false,"hidden":false,"merged":[[177,56,181,57],[177,58,181,62],[183,56,187,57],[183,58,187,62],[189,56,193,57],[189,58,193,62],[195,56,199,57],[195,58,199,62],[112,56,116,57],[112,58,116,62],[118,56,122,57],[118,58,122,62],[124,56,128,57],[124,58,128,62],[130,56,134,57],[130,58,134,62],[170,56,174,57],[170,58,174,62],[47,56,51,57],[47,58,51,62],[53,56,57,57],[53,58,57,62],[59,56,63,57],[59,58,63,62],[99,56,103,57],[99,58,103,62],[106,56,110,57],[106,58,110,62],[1,1,3,62],[22,56,26,57],[22,58,26,62],[28,56,32,57],[28,58,32,62],[35,56,39,57],[35,58,39,62],[41,56,45,57],[41,58,45,62],[28,38,32,38],[22,38,26,38],[22,40,26,40],[22,42,26,42],[6,32,20,32],[6,34,20,34],[6,36,20,36],[6,38,20,38],[6,40,20,40],[6,42,20,42],[6,44,20,44],[6,46,20,46],[6,48,20,48],[13,50,20,51],[13,53,20,54],[17,3,20,6],[17,8,20,13],[17,15,20,22],[17,24,20,26],[17,28,20,30],[17,1,63,1],[22,3,32,6],[22,8,26,13],[22,15,26,22],[22,24,26,26],[22,28,26,30],[35,8,39,13],[35,15,39,22],[35,24,39,26],[35,28,39,30],[35,3,63,6],[53,28,57,30],[47,50,51,51],[47,53,51,54],[47,44,51,44],[47,46,51,46],[47,48,51,48],[41,48,45,48],[41,50,45,51],[41,53,45,54],[35,34,39,34],[35,36,39,36],[35,38,39,38],[35,32,39,32],[41,36,45,36],[41,38,45,38],[47,38,51,38],[47,40,51,40],[47,42,51,42],[41,8,45,13],[22,44,26,44],[22,46,26,46],[47,8,51,13],[41,46,45,46],[22,32,26,32],[22,34,26,34],[22,36,26,36],[28,24,32,26],[28,28,32,30],[28,32,32,32],[28,34,32,34],[28,36,32,36],[28,8,32,13],[28,15,32,22],[22,48,26,48],[22,50,26,51],[22,53,26,54],[28,53,32,54],[35,53,39,54],[28,40,32,40],[28,42,32,42],[28,44,32,44],[28,46,32,46],[28,48,32,48],[28,50,32,51],[35,46,39,46],[35,48,39,48],[35,50,39,51],[35,40,39,40],[35,42,39,42],[35,44,39,44],[59,48,63,48],[53,48,57,48],[53,50,57,51],[53,53,57,54],[59,8,63,13],[59,15,63,22],[59,24,63,26],[59,28,63,30],[59,32,63,32],[53,44,57,44],[53,46,57,46],[53,38,57,38],[59,50,63,51],[59,53,63,54],[53,40,57,40],[59,38,63,38],[59,40,63,40],[59,42,63,42],[53,42,57,42],[59,34,63,34],[59,36,63,36],[53,8,57,13],[53,15,57,22],[53,24,57,26],[83,48,97,48],[90,50,97,51],[90,53,97,54],[94,8,97,13],[94,15,97,22],[94,24,97,26],[94,28,97,30],[83,32,97,32],[83,34,97,34],[83,36,97,36],[83,38,97,38],[83,40,97,40],[83,42,97,42],[83,46,97,46],[99,48,103,48],[99,50,103,51],[99,53,103,54],[99,36,103,36],[99,38,103,38],[99,40,103,40],[99,42,103,42],[99,44,103,44],[99,46,103,46],[177,50,181,51],[177,53,181,54],[183,8,187,13],[183,15,187,22],[183,24,187,26],[183,28,187,30],[183,32,187,32],[183,34,187,34],[183,36,187,36],[177,36,181,36],[177,38,181,38],[177,40,181,40],[177,42,181,42],[177,44,181,44],[177,46,181,46],[177,8,181,13],[177,15,181,22],[177,24,181,26],[177,28,181,30],[177,32,181,32],[177,34,181,34],[177,48,181,48],[183,50,187,51],[183,53,187,54],[53,32,57,32],[53,34,57,34],[53,36,57,36],[41,40,45,40],[41,42,45,42],[41,15,45,22],[41,24,45,26],[41,28,45,30],[83,44,97,44],[47,15,51,22],[47,24,51,26],[47,28,51,30],[47,32,51,32],[47,34,51,34],[47,36,51,36],[41,44,45,44],[59,44,63,44],[59,46,63,46],[41,32,45,32],[41,34,45,34],[94,1,134,1],[99,3,103,6],[106,3,134,6],[106,8,110,13],[106,15,110,22],[106,24,110,26],[106,28,110,30],[124,36,128,36],[124,38,128,38],[130,8,134,13],[130,15,134,22],[130,24,134,26],[130,28,134,30],[130,32,134,32],[130,34,134,34],[130,36,134,36],[130,38,134,38],[94,3,97,6],[99,8,103,13],[99,15,103,22],[99,24,103,26],[99,28,103,30],[99,32,103,32],[99,34,103,34],[118,28,122,30],[118,32,122,32],[112,42,116,42],[124,40,128,40],[124,42,128,42],[124,44,128,44],[112,44,116,44],[118,46,122,46],[124,8,128,13],[124,15,128,22],[124,24,128,26],[124,28,128,30],[124,32,128,32],[124,34,128,34],[118,34,122,34],[118,38,122,38],[118,40,122,40],[118,42,122,42],[118,44,122,44],[118,8,122,13],[118,15,122,22],[118,24,122,26],[112,46,116,46],[106,53,110,54],[112,8,116,13],[112,15,116,22],[112,24,116,26],[112,28,116,30],[112,32,116,32],[112,34,116,34],[112,36,116,36],[112,38,116,38],[112,40,116,40],[106,32,110,32],[106,34,110,34],[106,36,110,36],[106,38,110,38],[106,40,110,40],[106,42,110,42],[106,50,110,51],[112,50,116,51],[112,53,116,54],[112,48,116,48],[106,44,110,44],[106,46,110,46],[106,48,110,48],[118,48,122,48],[118,50,122,51],[118,53,122,54],[118,36,122,36],[170,48,174,48],[170,50,174,51],[170,53,174,54],[161,50,168,51],[161,53,168,54],[130,53,134,54],[154,36,168,36],[154,38,168,38],[154,40,168,40],[154,42,168,42],[154,44,168,44],[154,46,168,46],[154,48,168,48],[130,40,134,40],[130,42,134,42],[130,44,134,44],[130,46,134,46],[130,48,134,48],[130,50,134,51],[124,48,128,48],[170,44,174,44],[170,46,174,46],[170,34,174,34],[170,36,174,36],[170,38,174,38],[170,40,174,40],[170,15,174,22],[170,24,174,26],[124,53,128,54],[154,32,168,32],[154,34,168,34],[124,50,128,51],[124,46,128,46],[183,38,187,38],[183,40,187,40],[183,42,187,42],[183,44,187,44],[183,46,187,46],[183,48,187,48],[165,1,199,1],[165,3,168,6],[165,8,168,13],[165,15,168,22],[165,24,168,26],[165,28,168,30],[170,3,174,6],[170,8,174,13],[189,46,193,46],[177,3,199,6],[189,8,193,13],[189,15,193,22],[189,24,193,26],[189,28,193,30],[189,32,193,32],[170,42,174,42],[170,28,174,30],[170,32,174,32],[195,8,199,13],[195,15,199,22],[195,24,199,26],[195,28,199,30],[195,32,199,32],[195,34,199,34],[195,36,199,36],[195,38,199,38],[189,34,193,34],[189,36,193,36],[189,38,193,38],[195,53,199,54],[195,40,199,40],[195,42,199,42],[195,44,199,44],[195,46,199,46],[195,48,199,48],[195,50,199,51],[189,50,193,51],[189,53,193,54],[189,40,193,40],[189,42,193,42],[189,44,193,44],[189,48,193,48]]}
[]
[null,"Data Quality Standards Resources"]
[]
[]
[]
[]
[null,null,null,null,null,null,null,null,null,null,null,null,null,null,null,null,null,null,null,null,null,null,null,null,null,null,null,null,null,null,null,null,"Accessibility",null,"Language",null,"Ease of use",null,"Flexibility",null,"Data Needs",null,"Data Analysis",null,"Acceptability",null,"One Health",null,"Impact"]
[]
[]
[]
[]
[]
[]
[null,null,null,null,null,null,null,null,null,null,null,null,null,null,null,null,null,null,null,null,null,null,null,null,null,null,null,null,null,null,null,null,null,null,null,null,null,null,null,null,null,null,null,null,null,null,null,null,null,null,"RAW SCORE",null,null,"ADJUSTED SCORE \n(Based on user preferences)"]
[]
[]
[]
[null,"LEVEL 1 RESOURCES",null,"DESIGNATION",null,null,null,null,"RESOURCE NAME",null,null,null,null,null,null,"SHORT DESCRIPTION",null,null,null,null,null,null,null,null,"RESOURCE TYPE",null,null,null,"RESOURCE GENERALITY"]
[]
[]
[]
[null,null,null,null,null,null,null,null,null,null,null,null,null,null,null,null,null,null,null,null,null,null,null,null,null,null,null,null,null,null,null,null,{"$f":"'Attribute Survey'!S22","v":0},null,{"$f":"'Attribute Survey'!S26","v":0},null,{"$f":"'Attribute Survey'!S30","v":0},null,{"$f":"'Attribute Survey'!S34","v":0},null,{"$f":"'Attribute Survey'!S38","v":0},null,{"$f":"'Attribute Survey'!S42","v":0},null,{"$f":"'Attribute Survey'!S46","v":0},null,{"$f":"'Attribute Survey'!S50","v":0},null,{"$f":"'Attribute Survey'!S54","v":0}]
[null,null,null,"Resources Best Fit for Purpose",null,null,null,null,{"$f":"Backbone!A595","v":"Data Quality Review (DQR) Toolkit"},null,null,null,null,null,null,"Guidelines and tools that lay the basis for a standardized and holistic approach to data quality that promotes institutionalization of routine data quality assessment in countries.",null,null,null,null,null,null,null,null,{"$f":"INDEX(Backbone!$R$2:$R$893,MATCH(I23,Backbone!$A$2:$A$893,0))","v":"Self-assessment tool"},null,null,null,{"$f":"INDEX(Backbone!$S$2:$S$893,MATCH(I23,Backbone!$A$2:$A$893,0))","v":"Sector Specific; Generalized"},null,null,null,{"$f":"INDEX(Backbone!$H$2:$H$893,MATCH(I23,Backbone!$A$2:$A$893,0))","v":7.7},null,{"$f":"INDEX(Backbone!$I$2:$I$893,MATCH(I23,Backbone!$A$2:$A$893,0))","v":7},null,{"$f":"INDEX(Backbone!$J$2:$J$893,MATCH(I23,Backbone!$A$2:$A$893,0))","v":7.7},null,{"$f":"INDEX(Backbone!$K$2:$K$893,MATCH(I23,Backbone!$A$2:$A$893,0))","v":10},null,{"$f":"INDEX(Backbone!$L$2:$L$893,MATCH(I23,Backbone!$A$2:$A$893,0))","v":6.3},null,{"$f":"INDEX(Backbone!$M$2:$M$893,MATCH(I23,Backbone!$A$2:$A$893,0))","v":4.8},null,{"$f":"INDEX(Backbone!$N$2:$N$893,MATCH(I23,Backbone!$A$2:$A$893,0))","v":5.5},null,{"$f":"INDEX(Backbone!$O$2:$O$893,MATCH(I23,Backbone!$A$2:$A$893,0))","v":5},null,{"$f":"INDEX(Backbone!$P$2:$P$893,MATCH(I23,Backbone!$A$2:$A$893,0))","v":4},null,{"$f":"INDEX(Backbone!$Q$2:$Q$893,MATCH(I23,Backbone!$A$2:$A$893,0))","v":0.64444444444444438},null,null,{"$f":"(AG23*$AG$22+AI23*$AI$22+AK23*$AK$22+AM23*$AM$22+AO23*$AO$22+AQ23*$AQ$22+AS23*$AS$22+AU23*$AU$22+AW23*$AW$22)/(SUM($AG$22:$AW$22)*10)","v":{"$error":"#DIV/0!"}},null,null,"Go to \nToolbox: ",null,{"$f":"HYPERLINK(\"#\"&ADDRESS(MATCH(I23,Toolbox!$C$1:$C$300),1,,,\"Toolbox\"),VLOOKUP(I23,Toolbox!$C$1:$C$300,1,FALSE))","v":"Data Quality Review (DQR) Toolkit"}]
[]
[]
[]
[]
[]
[null,null,null,null,null,null,null,null,{"$f":"Backbone!A83","v":"ECDC Data quality monitoring and surveillance system evaluation - A handbook of methods and applications "},null,null,null,null,null,null,"A handbook on monitoring the quality of disease surveillance data for public health professionals.",null,null,null,null,null,null,null,null,{"$f":"INDEX(Backbone!$R$2:$R$893,MATCH(I29,Backbone!$A$2:$A$893,0))","v":"Guidance document"},null,null,null,{"$f":"INDEX(Backbone!$S$2:$S$893,MATCH(I29,Backbone!$A$2:$A$893,0))","v":"Sector Specific; Generalized"},null,null,null,{"$f":"INDEX(Backbone!$H$2:$H$893,MATCH(I29,Backbone!$A$2:$A$893,0))","v":8.1999999999999993},null,{"$f":"INDEX(Backbone!$I$2:$I$893,MATCH(I29,Backbone!$A$2:$A$893,0))","v":6},null,{"$f":"INDEX(Backbone!$J$2:$J$893,MATCH(I29,Backbone!$A$2:$A$893,0))","v":6.4},null,{"$f":"INDEX(Backbone!$K$1:$K$893,MATCH(I29,Backbone!$A$1:$A$893,0))","v":7.3},null,{"$f":"INDEX(Backbone!$L$2:$L$893,MATCH(I29,Backbone!$A$2:$A$893,0))","v":7.7},null,{"$f":"INDEX(Backbone!$M$2:$M$893,MATCH(I29,Backbone!$A$2:$A$893,0))","v":4.5},null,{"$f":"INDEX(Backbone!$N$2:$N$893,MATCH(I29,Backbone!$A$2:$A$893,0))","v":5.3},null,{"$f":"INDEX(Backbone!$O$2:$O$893,MATCH(I29,Backbone!$A$2:$A$893,0))","v":6.2},null,{"$f":"INDEX(Backbone!$P$2:$P$893,MATCH(I29,Backbone!$A$2:$A$893,0))","v":8},null,{"$f":"INDEX(Backbone!$Q$2:$Q$893,MATCH(I29,Backbone!$A$2:$A$893,0))","v":0.66222222222222227},null,null,{"$f":"(AG29*$AG$22+AI29*$AI$22+AK29*$AK$22+AM29*$AM$22+AO29*$AO$22+AQ29*$AQ$22+AS29*$AS$22+AU29*$AU$22+AW29*$AW$22)/(SUM($AG$22:$AW$22)*10)","v":{"$error":"#DIV/0!"}},null,null,"Go to \nToolbox: ",null,{"$f":"HYPERLINK(\"#\"&ADDRESS(MATCH(I29,Toolbox!$C$1:$C$300),1,,,\"Toolbox\"),VLOOKUP(I29,Toolbox!$C$1:$C$300,1,FALSE))","v":"ECDC Data quality monitoring and surveillance system evaluation - A handbook of methods and applications "}]
[]
[]
[]
[]
[]
[]
[null,null,null,"Other Relevant Resources",null,null,null,null,{"$f":"Backbone!A33","v":"Framework for Enhancing Anthrax Prevention and Control "},null,null,null,null,null,null,"The Framework gives anthrax background and how to improve anthrax prevention and control in animals and people.",null,null,null,null,null,null,null,null,{"$f":"INDEX(Backbone!$R$2:$R$893,MATCH(I36,Backbone!$A$2:$A$893,0))","v":"Guidance document"},null,null,null,{"$f":"INDEX(Backbone!$S$2:$S$893,MATCH(I36,Backbone!$A$2:$A$893,0))","v":"One Health; Disease/Threat Specific "},null,null,null,{"$f":"INDEX(Backbone!$H$2:$H$893,MATCH(I36,Backbone!$A$2:$A$893,0))","v":9.1},null,{"$f":"INDEX(Backbone!$I$2:$I$893,MATCH(I36,Backbone!$A$2:$A$893,0))","v":10},null,{"$f":"INDEX(Backbone!$J$2:$J$893,MATCH(I36,Backbone!$A$2:$A$893,0))","v":8.6},null,{"$f":"INDEX(Backbone!$K$1:$K$893,MATCH(I36,Backbone!$A$1:$A$893,0))","v":4.7},null,{"$f":"INDEX(Backbone!$L$2:$L$893,MATCH(I36,Backbone!$A$2:$A$893,0))","v":9.1999999999999993},null,{"$f":"INDEX(Backbone!$M$2:$M$893,MATCH(I36,Backbone!$A$2:$A$893,0))","v":2},null,{"$f":"INDEX(Backbone!$N$2:$N$893,MATCH(I36,Backbone!$A$2:$A$893,0))","v":6.3},null,{"$f":"INDEX(Backbone!$O$2:$O$893,MATCH(I36,Backbone!$A$2:$A$893,0))","v":4.3},null,{"$f":"INDEX(Backbone!$P$2:$P$893,MATCH(I36,Backbone!$A$2:$A$893,0))","v":6},null,{"$f":"INDEX(Backbone!$Q$2:$Q$893,MATCH(I36,Backbone!$A$2:$A$893,0))","v":0.66888888888888887},null,null,{"$f":"(AG36*$AG$22+AI36*$AI$22+AK36*$AK$22+AM36*$AM$22+AO36*$AO$22+AQ36*$AQ$22+AS36*$AS$22+AU36*$AU$22+AW36*$AW$22)/(SUM($AG$22:$AW$22)*10)","v":{"$error":"#DIV/0!"}},null,null,"Go to \nToolbox: ",null,{"$f":"HYPERLINK(\"#\"&ADDRESS(MATCH(I36,Toolbox!$C$1:$C$300),1,,,\"Toolbox\"),VLOOKUP(I36,Toolbox!$C$1:$C$300,1,FALSE))","v":"Framework for Enhancing Anthrax Prevention and Control "}]
[]
[]
[]
[]
[]
[null,null,null,null,null,null,null,null,{"$f":"Backbone!A195","v":"Integrated Disease Surveillance and Response (IDSR)"},null,null,null,null,null,null,"A strategy aimed at strengthening capacities for detection, confirmation and response to suspected cases and outbreaks, and for use of information to predict and plan for public health events.",null,null,null,null,null,null,null,null,{"$f":"INDEX(Backbone!$R$2:$R$893,MATCH(I42,Backbone!$A$2:$A$893,0))","v":"Guidance document"},null,null,null,{"$f":"INDEX(Backbone!$S$2:$S$893,MATCH(I42,Backbone!$A$2:$A$893,0))","v":"Sector Specific; Generalized"},null,null,null,{"$f":"INDEX(Backbone!$H$2:$H$893,MATCH(I42,Backbone!$A$2:$A$893,0))","v":7.4},null,{"$f":"INDEX(Backbone!$I$2:$I$893,MATCH(I42,Backbone!$A$2:$A$893,0))","v":10},null,{"$f":"INDEX(Backbone!$J$2:$J$893,MATCH(I42,Backbone!$A$2:$A$893,0))","v":7.4},null,{"$f":"INDEX(Backbone!$K$1:$K$893,MATCH(I42,Backbone!$A$1:$A$893,0))","v":8.6999999999999993},null,{"$f":"INDEX(Backbone!$L$2:$L$893,MATCH(I42,Backbone!$A$2:$A$893,0))","v":6.7},null,{"$f":"INDEX(Backbone!$M$2:$M$893,MATCH(I42,Backbone!$A$2:$A$893,0))","v":4.5},null,{"$f":"INDEX(Backbone!$N$2:$N$893,MATCH(I42,Backbone!$A$2:$A$893,0))","v":8},null,{"$f":"INDEX(Backbone!$O$2:$O$893,MATCH(I42,Backbone!$A$2:$A$893,0))","v":7.2},null,{"$f":"INDEX(Backbone!$P$2:$P$893,MATCH(I42,Backbone!$A$2:$A$893,0))","v":8.5},null,{"$f":"INDEX(Backbone!$Q$2:$Q$893,MATCH(I42,Backbone!$A$2:$A$893,0))","v":0.76},null,null,{"$f":"(AG42*$AG$22+AI42*$AI$22+AK42*$AK$22+AM42*$AM$22+AO42*$AO$22+AQ42*$AQ$22+AS42*$AS$22+AU42*$AU$22+AW42*$AW$22)/(SUM($AG$22:$AW$22)*10)","v":{"$error":"#DIV/0!"}},null,null,"Go to \nToolbox: ",null,{"$f":"HYPERLINK(\"#\"&ADDRESS(MATCH(I42,Toolbox!$C$1:$C$300),1,,,\"Toolbox\"),VLOOKUP(I42,Toolbox!$C$1:$C$300,1,FALSE))","v":"Integrated Disease Surveillance and Response (IDSR)"}]
[]
[]
[]
[]
[]
[null,null,null,null,null,null,null,null,{"$f":"Backbone!A510","v":"SuRveillance EVALuation framework (SERVAL)"},null,null,null,null,null,null,"A stepwise instruction on how to plan, structure and conduct assessment of animal health surveillance systems.",null,null,null,null,null,null,null,null,{"$f":"INDEX(Backbone!$R$2:$R$893,MATCH(I48,Backbone!$A$2:$A$893,0))","v":"Guidance document"},null,null,null,{"$f":"INDEX(Backbone!$S$2:$S$893,MATCH(I48,Backbone!$A$2:$A$893,0))","v":"Sector Specific; Generalized"},null,null,null,{"$f":"INDEX(Backbone!$H$2:$H$893,MATCH(I48,Backbone!$A$2:$A$893,0))","v":8.8000000000000007},null,{"$f":"INDEX(Backbone!$I$2:$I$893,MATCH(I48,Backbone!$A$2:$A$893,0))","v":9},null,{"$f":"INDEX(Backbone!$J$2:$J$893,MATCH(I48,Backbone!$A$2:$A$893,0))","v":9},null,{"$f":"INDEX(Backbone!$K$1:$K$893,MATCH(I48,Backbone!$A$1:$A$893,0))","v":10},null,{"$f":"INDEX(Backbone!$L$2:$L$893,MATCH(I48,Backbone!$A$2:$A$893,0))","v":8.1},null,{"$f":"INDEX(Backbone!$M$2:$M$893,MATCH(I48,Backbone!$A$2:$A$893,0))","v":3.3},null,{"$f":"INDEX(Backbone!$N$2:$N$893,MATCH(I48,Backbone!$A$2:$A$893,0))","v":4},null,{"$f":"INDEX(Backbone!$O$2:$O$893,MATCH(I48,Backbone!$A$2:$A$893,0))","v":6.8},null,{"$f":"INDEX(Backbone!$P$2:$P$893,MATCH(I48,Backbone!$A$2:$A$893,0))","v":8},null,{"$f":"INDEX(Backbone!$Q$2:$Q$893,MATCH(I48,Backbone!$A$2:$A$893,0))","v":0.74444444444444446},null,null,{"$f":"(AG48*$AG$22+AI48*$AI$22+AK48*$AK$22+AM48*$AM$22+AO48*$AO$22+AQ48*$AQ$22+AS48*$AS$22+AU48*$AU$22+AW48*$AW$22)/(SUM($AG$22:$AW$22)*10)","v":{"$error":"#DIV/0!"}},null,null,"Go to \nToolbox: ",null,{"$f":"HYPERLINK(\"#\"&ADDRESS(MATCH(I48,Toolbox!$C$1:$C$300),1,,,\"Toolbox\"),VLOOKUP(I48,Toolbox!$C$1:$C$300,1,FALSE))","v":"SuRveillance EVALuation framework (SERVAL)"}]
[]
[]
[]
[]
[]
[null,null,null,null,null,null,null,null,{"$f":"Backbone!A561","v":"Surveillance Evaluation Framework (SurF)"},null,null,null,null,null,null,"An assessment framework for surveillance systems that can be used for biosecurity, plant or animal health. ",null,null,null,null,null,null,null,null,{"$f":"INDEX(Backbone!$R$2:$R$893,MATCH(I54,Backbone!$A$2:$A$893,0))","v":"Guidance document"},null,null,null,{"$f":"INDEX(Backbone!$S$2:$S$893,MATCH(I54,Backbone!$A$2:$A$893,0))","v":"One Health; Generalized"},null,null,null,{"$f":"INDEX(Backbone!$H$2:$H$893,MATCH(I54,Backbone!$A$2:$A$893,0))","v":7.6},null,{"$f":"INDEX(Backbone!$I$2:$I$893,MATCH(I54,Backbone!$A$2:$A$893,0))","v":6},null,{"$f":"INDEX(Backbone!$J$2:$J$893,MATCH(I54,Backbone!$A$2:$A$893,0))","v":8},null,{"$f":"INDEX(Backbone!$K$1:$K$893,MATCH(I54,Backbone!$A$1:$A$893,0))","v":8.6999999999999993},null,{"$f":"INDEX(Backbone!$L$2:$L$893,MATCH(I54,Backbone!$A$2:$A$893,0))","v":8.6},null,{"$f":"INDEX(Backbone!$M$2:$M$893,MATCH(I54,Backbone!$A$2:$A$893,0))","v":4.0999999999999996},null,{"$f":"INDEX(Backbone!$N$2:$N$893,MATCH(I54,Backbone!$A$2:$A$893,0))","v":4},null,{"$f":"INDEX(Backbone!$O$2:$O$893,MATCH(I54,Backbone!$A$2:$A$893,0))","v":8},null,{"$f":"INDEX(Backbone!$P$2:$P$893,MATCH(I54,Backbone!$A$2:$A$893,0))","v":4},null,{"$f":"INDEX(Backbone!$Q$2:$Q$893,MATCH(I54,Backbone!$A$2:$A$893,0))","v":0.65555555555555556},null,null,{"$f":"(AG54*$AG$22+AI54*$AI$22+AK54*$AK$22+AM54*$AM$22+AO54*$AO$22+AQ54*$AQ$22+AS54*$AS$22+AU54*$AU$22+AW54*$AW$22)/(SUM($AG$22:$AW$22)*10)","v":{"$error":"#DIV/0!"}},null,null,"Go to \nToolbox: ",null,{"$f":"HYPERLINK(\"#\"&ADDRESS(MATCH(I54,Toolbox!$C$1:$C$300),1,,,\"Toolbox\"),VLOOKUP(I54,Toolbox!$C$1:$C$300,1,FALSE))","v":"Surveillance Evaluation Framework (SurF)"}]
[]
[]
[]
[]
[]
[null,null,null,null,null,null,null,null,{"$f":"Backbone!A296","v":"Updated Guidelines for Evaluating Public Health Surveillance Systems "},null,null,null,null,null,null,"This report provides updated guidelines for evaluating surveillance systems, describing tasks and related activities that can be applied to public health surveillance system.",null,null,null,null,null,null,null,null,{"$f":"INDEX(Backbone!$R$2:$R$893,MATCH(I60,Backbone!$A$2:$A$893,0))","v":"Guidance document"},null,null,null,{"$f":"INDEX(Backbone!$S$2:$S$893,MATCH(I60,Backbone!$A$2:$A$893,0))","v":"Sector Specific; Generalized"},null,null,null,{"$f":"INDEX(Backbone!$H$2:$H$893,MATCH(I60,Backbone!$A$2:$A$893,0))","v":7.6},null,{"$f":"INDEX(Backbone!$I$2:$I$893,MATCH(I60,Backbone!$A$2:$A$893,0))","v":8},null,{"$f":"INDEX(Backbone!$J$2:$J$893,MATCH(I60,Backbone!$A$2:$A$893,0))","v":7.2},null,{"$f":"INDEX(Backbone!$K$1:$K$893,MATCH(I60,Backbone!$A$1:$A$893,0))","v":8.6999999999999993},null,{"$f":"INDEX(Backbone!$L$2:$L$893,MATCH(I60,Backbone!$A$2:$A$893,0))","v":7.7},null,{"$f":"INDEX(Backbone!$M$2:$M$893,MATCH(I60,Backbone!$A$2:$A$893,0))","v":2.2999999999999998},null,{"$f":"INDEX(Backbone!$N$2:$N$893,MATCH(I60,Backbone!$A$2:$A$893,0))","v":4},null,{"$f":"INDEX(Backbone!$O$2:$O$893,MATCH(I60,Backbone!$A$2:$A$893,0))","v":5.8},null,{"$f":"INDEX(Backbone!$P$2:$P$893,MATCH(I60,Backbone!$A$2:$A$893,0))","v":4},null,{"$f":"INDEX(Backbone!$Q$2:$Q$893,MATCH(I60,Backbone!$A$2:$A$893,0))","v":0.61444444444444446},null,null,{"$f":"(AG60*$AG$22+AI60*$AI$22+AK60*$AK$22+AM60*$AM$22+AO60*$AO$22+AQ60*$AQ$22+AS60*$AS$22+AU60*$AU$22+AW60*$AW$22)/(SUM($AG$22:$AW$22)*10)","v":{"$error":"#DIV/0!"}},null,null,"Go to \nToolbox: ",null,{"$f":"HYPERLINK(\"#\"&ADDRESS(MATCH(I60,Toolbox!$C$1:$C$300),1,,,\"Toolbox\"),VLOOKUP(I60,Toolbox!$C$1:$C$300,1,FALSE))","v":"Updated Guidelines for Evaluating Public Health Surveillance Systems "}]
[]
[]
[]
[]
[]
[]
[]
[]
[]
[]
[]
[]
[]
[]
[]
[]
[]
[]
[]
[]
[]
[]
[]
[null,null,null,null,null,null,null,null,null,null,null,null,null,null,null,null,null,null,null,null,null,null,null,null,null,null,null,null,null,null,null,null,"Accessibility",null,"Language",null,"Ease of use",null,"Flexibility",null,"Data Needs",null,"Data Analysis",null,"Acceptability",null,"One Health",null,"Impact"]
[]
[]
[]
[]
[]
[]
[null,null,null,null,null,null,null,null,null,null,null,null,null,null,null,null,null,null,null,null,null,null,null,null,null,null,null,null,null,null,null,null,null,null,null,null,null,null,null,null,null,null,null,null,null,null,null,null,null,null,"RAW SCORE",null,null,"ADJUSTED SCORE \n(Based on user preferences)"]
[]
[]
[]
[null,"LEVEL 2 RESOURCES",null,"DESIGNATION",null,null,null,null,"RESOURCE NAME",null,null,null,null,null,null,"SHORT DESCRIPTION",null,null,null,null,null,null,null,null,"RESOURCE TYPE",null,null,null,"RESOURCE GENERALITY"]
[]
[]
[]
[null,null,null,null,null,null,null,null,null,null,null,null,null,null,null,null,null,null,null,null,null,null,null,null,null,null,null,null,null,null,null,null,{"$f":"'Attribute Survey'!S99","v":0},null,{"$f":"'Attribute Survey'!S103","v":0},null,{"$f":"'Attribute Survey'!S107","v":0},null,{"$f":"'Attribute Survey'!S111","v":0},null,{"$f":"'Attribute Survey'!S115","v":0},null,{"$f":"'Attribute Survey'!S119","v":0},null,{"$f":"'Attribute Survey'!S123","v":0},null,{"$f":"'Attribute Survey'!S127","v":0},null,{"$f":"'Attribute Survey'!S131","v":0}]
[null,null,null,"Resources Best Fit for Purpose",null,null,null,null,{"$f":"Backbone!A595","v":"Data Quality Review (DQR) Toolkit"},null,null,null,null,null,null,"Guidelines and tools that lay the basis for a standardized and holistic approach to data quality that promotes institutionalization of routine data quality assessment in countries.",null,null,null,null,null,null,null,null,{"$f":"INDEX(Backbone!$R$2:$R$893,MATCH(I100,Backbone!$A$2:$A$893,0))","v":"Self-assessment tool"},null,null,null,{"$f":"INDEX(Backbone!$S$2:$S$893,MATCH(I100,Backbone!$A$2:$A$893,0))","v":"Sector Specific; Generalized"},null,null,null,{"$f":"INDEX(Backbone!$H$2:$H$893,MATCH(I100,Backbone!$A$2:$A$893,0))","v":7.7},null,{"$f":"INDEX(Backbone!$I$2:$I$893,MATCH(I100,Backbone!$A$2:$A$893,0))","v":7},null,{"$f":"INDEX(Backbone!$J$2:$J$893,MATCH(I100,Backbone!$A$2:$A$893,0))","v":7.7},null,{"$f":"INDEX(Backbone!$K$2:$K$893,MATCH(I100,Backbone!$A$2:$A$893,0))","v":10},null,{"$f":"INDEX(Backbone!$L$2:$L$893,MATCH(I100,Backbone!$A$2:$A$893,0))","v":6.3},null,{"$f":"INDEX(Backbone!$M$2:$M$893,MATCH(I100,Backbone!$A$2:$A$893,0))","v":4.8},null,{"$f":"INDEX(Backbone!$N$2:$N$893,MATCH(I100,Backbone!$A$2:$A$893,0))","v":5.5},null,{"$f":"INDEX(Backbone!$O$2:$O$893,MATCH(I100,Backbone!$A$2:$A$893,0))","v":5},null,{"$f":"INDEX(Backbone!$P$2:$P$893,MATCH(I100,Backbone!$A$2:$A$893,0))","v":4},null,{"$f":"INDEX(Backbone!$Q$2:$Q$893,MATCH(I100,Backbone!$A$2:$A$893,0))","v":0.64444444444444438},null,null,{"$f":"(AG100*$AG$22+AI100*$AI$22+AK100*$AK$22+AM100*$AM$22+AO100*$AO$22+AQ100*$AQ$22+AS100*$AS$22+AU100*$AU$22+AW100*$AW$22)/(SUM($AG$22:$AW$22)*10)","v":{"$error":"#DIV/0!"}},null,null,"Go to \nToolbox: ",null,{"$f":"HYPERLINK(\"#\"&ADDRESS(MATCH(I100,Toolbox!$C$1:$C$300),1,,,\"Toolbox\"),VLOOKUP(I100,Toolbox!$C$1:$C$300,1,FALSE))","v":"Data Quality Review (DQR) Toolkit"}]
[]
[]
[]
[]
[]
[]
[null,null,null,"Other Relevant Resources",null,null,null,null,{"$f":"Backbone!A83","v":"ECDC Data quality monitoring and surveillance system evaluation - A handbook of methods and applications "},null,null,null,null,null,null,"A handbook on monitoring the quality of disease surveillance data for public health professionals.",null,null,null,null,null,null,null,null,{"$f":"INDEX(Backbone!$R$2:$R$893,MATCH(I107,Backbone!$A$2:$A$893,0))","v":"Guidance document"},null,null,null,{"$f":"INDEX(Backbone!$S$2:$S$893,MATCH(I107,Backbone!$A$2:$A$893,0))","v":"Sector Specific; Generalized"},null,null,null,{"$f":"INDEX(Backbone!$H$2:$H$893,MATCH(I107,Backbone!$A$2:$A$893,0))","v":8.1999999999999993},null,{"$f":"INDEX(Backbone!$I$2:$I$893,MATCH(I107,Backbone!$A$2:$A$893,0))","v":6},null,{"$f":"INDEX(Backbone!$J$2:$J$893,MATCH(I107,Backbone!$A$2:$A$893,0))","v":6.4},null,{"$f":"INDEX(Backbone!$K$1:$K$893,MATCH(I107,Backbone!$A$1:$A$893,0))","v":7.3},null,{"$f":"INDEX(Backbone!$L$2:$L$893,MATCH(I107,Backbone!$A$2:$A$893,0))","v":7.7},null,{"$f":"INDEX(Backbone!$M$2:$M$893,MATCH(I107,Backbone!$A$2:$A$893,0))","v":4.5},null,{"$f":"INDEX(Backbone!$N$2:$N$893,MATCH(I107,Backbone!$A$2:$A$893,0))","v":5.3},null,{"$f":"INDEX(Backbone!$O$2:$O$893,MATCH(I107,Backbone!$A$2:$A$893,0))","v":6.2},null,{"$f":"INDEX(Backbone!$P$2:$P$893,MATCH(I107,Backbone!$A$2:$A$893,0))","v":8},null,{"$f":"INDEX(Backbone!$Q$2:$Q$893,MATCH(I107,Backbone!$A$2:$A$893,0))","v":0.66222222222222227},null,null,{"$f":"(AG107*$AG$22+AI107*$AI$22+AK107*$AK$22+AM107*$AM$22+AO107*$AO$22+AQ107*$AQ$22+AS107*$AS$22+AU107*$AU$22+AW107*$AW$22)/(SUM($AG$22:$AW$22)*10)","v":{"$error":"#DIV/0!"}},null,null,"Go to \nToolbox: ",null,{"$f":"HYPERLINK(\"#\"&ADDRESS(MATCH(I107,Toolbox!$C$1:$C$300),1,,,\"Toolbox\"),VLOOKUP(I107,Toolbox!$C$1:$C$300,1,FALSE))","v":"ECDC Data quality monitoring and surveillance system evaluation - A handbook of methods and applications "}]
[]
[]
[]
[]
[]
[null,null,null,null,null,null,null,null,{"$f":"Backbone!A195","v":"Integrated Disease Surveillance and Response (IDSR)"},null,null,null,null,null,null,"A strategy aimed at strengthening capacities for detection, confirmation and response to suspected cases and outbreaks, and for use of information to predict and plan for public health events.",null,null,null,null,null,null,null,null,{"$f":"INDEX(Backbone!$R$2:$R$893,MATCH(I113,Backbone!$A$2:$A$893,0))","v":"Guidance document"},null,null,null,{"$f":"INDEX(Backbone!$S$2:$S$893,MATCH(I113,Backbone!$A$2:$A$893,0))","v":"Sector Specific; Generalized"},null,null,null,{"$f":"INDEX(Backbone!$H$2:$H$893,MATCH(I113,Backbone!$A$2:$A$893,0))","v":7.4},null,{"$f":"INDEX(Backbone!$I$2:$I$893,MATCH(I113,Backbone!$A$2:$A$893,0))","v":10},null,{"$f":"INDEX(Backbone!$J$2:$J$893,MATCH(I113,Backbone!$A$2:$A$893,0))","v":7.4},null,{"$f":"INDEX(Backbone!$K$1:$K$893,MATCH(I113,Backbone!$A$1:$A$893,0))","v":8.6999999999999993},null,{"$f":"INDEX(Backbone!$L$2:$L$893,MATCH(I113,Backbone!$A$2:$A$893,0))","v":6.7},null,{"$f":"INDEX(Backbone!$M$2:$M$893,MATCH(I113,Backbone!$A$2:$A$893,0))","v":4.5},null,{"$f":"INDEX(Backbone!$N$2:$N$893,MATCH(I113,Backbone!$A$2:$A$893,0))","v":8},null,{"$f":"INDEX(Backbone!$O$2:$O$893,MATCH(I113,Backbone!$A$2:$A$893,0))","v":7.2},null,{"$f":"INDEX(Backbone!$P$2:$P$893,MATCH(I113,Backbone!$A$2:$A$893,0))","v":8.5},null,{"$f":"INDEX(Backbone!$Q$2:$Q$893,MATCH(I113,Backbone!$A$2:$A$893,0))","v":0.76},null,null,{"$f":"(AG113*$AG$22+AI113*$AI$22+AK113*$AK$22+AM113*$AM$22+AO113*$AO$22+AQ113*$AQ$22+AS113*$AS$22+AU113*$AU$22+AW113*$AW$22)/(SUM($AG$22:$AW$22)*10)","v":{"$error":"#DIV/0!"}},null,null,"Go to \nToolbox: ",null,{"$f":"HYPERLINK(\"#\"&ADDRESS(MATCH(I113,Toolbox!$C$1:$C$300),1,,,\"Toolbox\"),VLOOKUP(I113,Toolbox!$C$1:$C$300,1,FALSE))","v":"Integrated Disease Surveillance and Response (IDSR)"}]
[]
[]
[]
[]
[]
[null,null,null,null,null,null,null,null,{"$f":"Backbone!A489","v":"The Suite for Automated Global Electronic BioSurveillance (SAGES)"},null,null,null,null,null,null,"A suite of open source software tools designed to enhance electronic disease surveillance in resource-limited settings.",null,null,null,null,null,null,null,null,{"$f":"INDEX(Backbone!$R$2:$R$893,MATCH(I119,Backbone!$A$2:$A$893,0))","v":"Hardware or Software"},null,null,null,{"$f":"INDEX(Backbone!$S$2:$S$893,MATCH(I119,Backbone!$A$2:$A$893,0))","v":"One Health; Generalized"},null,null,null,{"$f":"INDEX(Backbone!$H$2:$H$893,MATCH(I119,Backbone!$A$2:$A$893,0))","v":9.8000000000000007},null,{"$f":"INDEX(Backbone!$I$2:$I$893,MATCH(I119,Backbone!$A$2:$A$893,0))","v":10},null,{"$f":"INDEX(Backbone!$J$2:$J$893,MATCH(I119,Backbone!$A$2:$A$893,0))","v":10},null,{"$f":"INDEX(Backbone!$K$1:$K$893,MATCH(I119,Backbone!$A$1:$A$893,0))","v":9.3000000000000007},null,{"$f":"INDEX(Backbone!$L$2:$L$893,MATCH(I119,Backbone!$A$2:$A$893,0))","v":8.5},null,{"$f":"INDEX(Backbone!$M$2:$M$893,MATCH(I119,Backbone!$A$2:$A$893,0))","v":9},null,{"$f":"INDEX(Backbone!$N$2:$N$893,MATCH(I119,Backbone!$A$2:$A$893,0))","v":5.5},null,{"$f":"INDEX(Backbone!$O$2:$O$893,MATCH(I119,Backbone!$A$2:$A$893,0))","v":9.5},null,{"$f":"INDEX(Backbone!$P$2:$P$893,MATCH(I119,Backbone!$A$2:$A$893,0))","v":7},null,{"$f":"INDEX(Backbone!$Q$2:$Q$893,MATCH(I119,Backbone!$A$2:$A$893,0))","v":0.87333333333333329},null,null,{"$f":"(AG119*$AG$22+AI119*$AI$22+AK119*$AK$22+AM119*$AM$22+AO119*$AO$22+AQ119*$AQ$22+AS119*$AS$22+AU119*$AU$22+AW119*$AW$22)/(SUM($AG$22:$AW$22)*10)","v":{"$error":"#DIV/0!"}},null,null,"Go to \nToolbox: ",null,{"$f":"HYPERLINK(\"#\"&ADDRESS(MATCH(I119,Toolbox!$C$1:$C$300),1,,,\"Toolbox\"),VLOOKUP(I119,Toolbox!$C$1:$C$300,1,FALSE))","v":"The Suite for Automated Global Electronic BioSurveillance (SAGES)"}]
[]
[]
[]
[]
[]
[null,null,null,null,null,null,null,null,{"$f":"Backbone!A561","v":"Surveillance Evaluation Framework (SurF)"},null,null,null,null,null,null,"An assessment framework for surveillance systems that can be used for biosecurity, plant or animal health. ",null,null,null,null,null,null,null,null,{"$f":"INDEX(Backbone!$R$2:$R$893,MATCH(I125,Backbone!$A$2:$A$893,0))","v":"Guidance document"},null,null,null,{"$f":"INDEX(Backbone!$S$2:$S$893,MATCH(I125,Backbone!$A$2:$A$893,0))","v":"One Health; Generalized"},null,null,null,{"$f":"INDEX(Backbone!$H$2:$H$893,MATCH(I125,Backbone!$A$2:$A$893,0))","v":7.6},null,{"$f":"INDEX(Backbone!$I$2:$I$893,MATCH(I125,Backbone!$A$2:$A$893,0))","v":6},null,{"$f":"INDEX(Backbone!$J$2:$J$893,MATCH(I125,Backbone!$A$2:$A$893,0))","v":8},null,{"$f":"INDEX(Backbone!$K$1:$K$893,MATCH(I125,Backbone!$A$1:$A$893,0))","v":8.6999999999999993},null,{"$f":"INDEX(Backbone!$L$2:$L$893,MATCH(I125,Backbone!$A$2:$A$893,0))","v":8.6},null,{"$f":"INDEX(Backbone!$M$2:$M$893,MATCH(I125,Backbone!$A$2:$A$893,0))","v":4.0999999999999996},null,{"$f":"INDEX(Backbone!$N$2:$N$893,MATCH(I125,Backbone!$A$2:$A$893,0))","v":4},null,{"$f":"INDEX(Backbone!$O$2:$O$893,MATCH(I125,Backbone!$A$2:$A$893,0))","v":8},null,{"$f":"INDEX(Backbone!$P$2:$P$893,MATCH(I125,Backbone!$A$2:$A$893,0))","v":4},null,{"$f":"INDEX(Backbone!$Q$2:$Q$893,MATCH(I125,Backbone!$A$2:$A$893,0))","v":0.65555555555555556},null,null,{"$f":"(AG125*$AG$22+AI125*$AI$22+AK125*$AK$22+AM125*$AM$22+AO125*$AO$22+AQ125*$AQ$22+AS125*$AS$22+AU125*$AU$22+AW125*$AW$22)/(SUM($AG$22:$AW$22)*10)","v":{"$error":"#DIV/0!"}},null,null,"Go to \nToolbox: ",null,{"$f":"HYPERLINK(\"#\"&ADDRESS(MATCH(I125,Toolbox!$C$1:$C$300),1,,,\"Toolbox\"),VLOOKUP(I125,Toolbox!$C$1:$C$300,1,FALSE))","v":"Surveillance Evaluation Framework (SurF)"}]
[]
[]
[]
[]
[]
[null,null,null,null,null,null,null,null,{"$f":"Backbone!A296","v":"Updated Guidelines for Evaluating Public Health Surveillance Systems "},null,null,null,null,null,null,"This report provides updated guidelines for evaluating surveillance systems, describing tasks and related activities that can be applied to public health surveillance system.",null,null,null,null,null,null,null,null,{"$f":"INDEX(Backbone!$R$2:$R$893,MATCH(I131,Backbone!$A$2:$A$893,0))","v":"Guidance document"},null,null,null,{"$f":"INDEX(Backbone!$S$2:$S$893,MATCH(I131,Backbone!$A$2:$A$893,0))","v":"Sector Specific; Generalized"},null,null,null,{"$f":"INDEX(Backbone!$H$2:$H$893,MATCH(I131,Backbone!$A$2:$A$893,0))","v":7.6},null,{"$f":"INDEX(Backbone!$I$2:$I$893,MATCH(I131,Backbone!$A$2:$A$893,0))","v":8},null,{"$f":"INDEX(Backbone!$J$2:$J$893,MATCH(I131,Backbone!$A$2:$A$893,0))","v":7.2},null,{"$f":"INDEX(Backbone!$K$1:$K$893,MATCH(I131,Backbone!$A$1:$A$893,0))","v":8.6999999999999993},null,{"$f":"INDEX(Backbone!$L$2:$L$893,MATCH(I131,Backbone!$A$2:$A$893,0))","v":7.7},null,{"$f":"INDEX(Backbone!$M$2:$M$893,MATCH(I131,Backbone!$A$2:$A$893,0))","v":2.2999999999999998},null,{"$f":"INDEX(Backbone!$N$2:$N$893,MATCH(I131,Backbone!$A$2:$A$893,0))","v":4},null,{"$f":"INDEX(Backbone!$O$2:$O$893,MATCH(I131,Backbone!$A$2:$A$893,0))","v":5.8},null,{"$f":"INDEX(Backbone!$P$2:$P$893,MATCH(I131,Backbone!$A$2:$A$893,0))","v":4},null,{"$f":"INDEX(Backbone!$Q$2:$Q$893,MATCH(I131,Backbone!$A$2:$A$893,0))","v":0.61444444444444446},null,null,{"$f":"(AG131*$AG$22+AI131*$AI$22+AK131*$AK$22+AM131*$AM$22+AO131*$AO$22+AQ131*$AQ$22+AS131*$AS$22+AU131*$AU$22+AW131*$AW$22)/(SUM($AG$22:$AW$22)*10)","v":{"$error":"#DIV/0!"}},null,null,"Go to \nToolbox: ",null,{"$f":"HYPERLINK(\"#\"&ADDRESS(MATCH(I131,Toolbox!$C$1:$C$300),1,,,\"Toolbox\"),VLOOKUP(I131,Toolbox!$C$1:$C$300,1,FALSE))","v":"Updated Guidelines for Evaluating Public Health Surveillance Systems "}]
[]
[]
[]
[]
[]
[]
[]
[]
[]
[]
[]
[]
[]
[]
[]
[]
[]
[]
[]
[]
[]
[]
[]
[null,null,null,null,null,null,null,null,null,null,null,null,null,null,null,null,null,null,null,null,null,null,null,null,null,null,null,null,null,null,null,null,"Accessibility",null,"Language",null,"Ease of use",null,"Flexibility",null,"Data Needs",null,"Data Analysis",null,"Acceptability",null,"One Health",null,"Impact"]
[]
[]
[]
[]
[]
[]
[null,null,null,null,null,null,null,null,null,null,null,null,null,null,null,null,null,null,null,null,null,null,null,null,null,null,null,null,null,null,null,null,null,null,null,null,null,null,null,null,null,null,null,null,null,null,null,null,null,null,"RAW SCORE",null,null,"ADJUSTED SCORE \n(Based on user preferences)"]
[]
[]
[]
[null,"LEVEL 3 RESOURCES",null,"DESIGNATION",null,null,null,null,"RESOURCE NAME",null,null,null,null,null,null,"SHORT DESCRIPTION",null,null,null,null,null,null,null,null,"RESOURCE TYPE",null,null,null,"RESOURCE GENERALITY"]
[]
[]
[]
[null,null,null,null,null,null,null,null,null,null,null,null,null,null,null,null,null,null,null,null,null,null,null,null,null,null,null,null,null,null,null,null,{"$f":"'Attribute Survey'!S170","v":0},null,{"$f":"'Attribute Survey'!S174","v":0},null,{"$f":"'Attribute Survey'!S178","v":0},null,{"$f":"'Attribute Survey'!S182","v":0},null,{"$f":"'Attribute Survey'!S186","v":0},null,{"$f":"'Attribute Survey'!S190","v":0},null,{"$f":"'Attribute Survey'!S194","v":0},null,{"$f":"'Attribute Survey'!S198","v":0},null,{"$f":"'Attribute Survey'!S202","v":0}]
[null,null,null,"Resources Best Fit for Purpose",null,null,null,null,{"$f":"Backbone!A595","v":"Data Quality Review (DQR) Toolkit"},null,null,null,null,null,null,"Guidelines and tools that lay the basis for a standardized and holistic approach to data quality that promotes institutionalization of routine data quality assessment in countries.",null,null,null,null,null,null,null,null,{"$f":"INDEX(Backbone!$R$2:$R$893,MATCH(I171,Backbone!$A$2:$A$893,0))","v":"Self-assessment tool"},null,null,null,{"$f":"INDEX(Backbone!$S$2:$S$893,MATCH(I171,Backbone!$A$2:$A$893,0))","v":"Sector Specific; Generalized"},null,null,null,{"$f":"INDEX(Backbone!$H$2:$H$893,MATCH(I171,Backbone!$A$2:$A$893,0))","v":7.7},null,{"$f":"INDEX(Backbone!$I$2:$I$893,MATCH(I171,Backbone!$A$2:$A$893,0))","v":7},null,{"$f":"INDEX(Backbone!$J$2:$J$893,MATCH(I171,Backbone!$A$2:$A$893,0))","v":7.7},null,{"$f":"INDEX(Backbone!$K$2:$K$893,MATCH(I171,Backbone!$A$2:$A$893,0))","v":10},null,{"$f":"INDEX(Backbone!$L$2:$L$893,MATCH(I171,Backbone!$A$2:$A$893,0))","v":6.3},null,{"$f":"INDEX(Backbone!$M$2:$M$893,MATCH(I171,Backbone!$A$2:$A$893,0))","v":4.8},null,{"$f":"INDEX(Backbone!$N$2:$N$893,MATCH(I171,Backbone!$A$2:$A$893,0))","v":5.5},null,{"$f":"INDEX(Backbone!$O$2:$O$893,MATCH(I171,Backbone!$A$2:$A$893,0))","v":5},null,{"$f":"INDEX(Backbone!$P$2:$P$893,MATCH(I171,Backbone!$A$2:$A$893,0))","v":4},null,{"$f":"INDEX(Backbone!$Q$2:$Q$893,MATCH(I171,Backbone!$A$2:$A$893,0))","v":0.64444444444444438},null,null,{"$f":"(AG171*$AG$22+AI171*$AI$22+AK171*$AK$22+AM171*$AM$22+AO171*$AO$22+AQ171*$AQ$22+AS171*$AS$22+AU171*$AU$22+AW171*$AW$22)/(SUM($AG$22:$AW$22)*10)","v":{"$error":"#DIV/0!"}},null,null,"Go to \nToolbox: ",null,{"$f":"HYPERLINK(\"#\"&ADDRESS(MATCH(I171,Toolbox!$C$1:$C$300),1,,,\"Toolbox\"),VLOOKUP(I171,Toolbox!$C$1:$C$300,1,FALSE))","v":"Data Quality Review (DQR) Toolkit"}]
[]
[]
[]
[]
[]
[]
[null,null,null,"Other Relevant Resources",null,null,null,null,{"$f":"Backbone!A83","v":"ECDC Data quality monitoring and surveillance system evaluation - A handbook of methods and applications "},null,null,null,null,null,null,"A handbook on monitoring the quality of disease surveillance data for public health professionals.",null,null,null,null,null,null,null,null,{"$f":"INDEX(Backbone!$R$2:$R$893,MATCH(I178,Backbone!$A$2:$A$893,0))","v":"Guidance document"},null,null,null,{"$f":"INDEX(Backbone!$S$2:$S$893,MATCH(I178,Backbone!$A$2:$A$893,0))","v":"Sector Specific; Generalized"},null,null,null,{"$f":"INDEX(Backbone!$H$2:$H$893,MATCH(I178,Backbone!$A$2:$A$893,0))","v":8.1999999999999993},null,{"$f":"INDEX(Backbone!$I$2:$I$893,MATCH(I178,Backbone!$A$2:$A$893,0))","v":6},null,{"$f":"INDEX(Backbone!$J$2:$J$893,MATCH(I178,Backbone!$A$2:$A$893,0))","v":6.4},null,{"$f":"INDEX(Backbone!$K$1:$K$893,MATCH(I178,Backbone!$A$1:$A$893,0))","v":7.3},null,{"$f":"INDEX(Backbone!$L$2:$L$893,MATCH(I178,Backbone!$A$2:$A$893,0))","v":7.7},null,{"$f":"INDEX(Backbone!$M$2:$M$893,MATCH(I178,Backbone!$A$2:$A$893,0))","v":4.5},null,{"$f":"INDEX(Backbone!$N$2:$N$893,MATCH(I178,Backbone!$A$2:$A$893,0))","v":5.3},null,{"$f":"INDEX(Backbone!$O$2:$O$893,MATCH(I178,Backbone!$A$2:$A$893,0))","v":6.2},null,{"$f":"INDEX(Backbone!$P$2:$P$893,MATCH(I178,Backbone!$A$2:$A$893,0))","v":8},null,{"$f":"INDEX(Backbone!$Q$2:$Q$893,MATCH(I178,Backbone!$A$2:$A$893,0))","v":0.66222222222222227},null,null,{"$f":"(AG178*$AG$22+AI178*$AI$22+AK178*$AK$22+AM178*$AM$22+AO178*$AO$22+AQ178*$AQ$22+AS178*$AS$22+AU178*$AU$22+AW178*$AW$22)/(SUM($AG$22:$AW$22)*10)","v":{"$error":"#DIV/0!"}},null,null,"Go to \nToolbox: ",null,{"$f":"HYPERLINK(\"#\"&ADDRESS(MATCH(I178,Toolbox!$C$1:$C$300),1,,,\"Toolbox\"),VLOOKUP(I178,Toolbox!$C$1:$C$300,1,FALSE))","v":"ECDC Data quality monitoring and surveillance system evaluation - A handbook of methods and applications "}]
[]
[]
[]
[]
[]
[null,null,null,null,null,null,null,null,{"$f":"Backbone!A195","v":"Integrated Disease Surveillance and Response (IDSR)"},null,null,null,null,null,null,"A strategy aimed at strengthening capacities for detection, confirmation and response to suspected cases and outbreaks, and for use of information to predict and plan for public health events.",null,null,null,null,null,null,null,null,{"$f":"INDEX(Backbone!$R$2:$R$893,MATCH(I184,Backbone!$A$2:$A$893,0))","v":"Guidance document"},null,null,null,{"$f":"INDEX(Backbone!$S$2:$S$893,MATCH(I184,Backbone!$A$2:$A$893,0))","v":"Sector Specific; Generalized"},null,null,null,{"$f":"INDEX(Backbone!$H$2:$H$893,MATCH(I184,Backbone!$A$2:$A$893,0))","v":7.4},null,{"$f":"INDEX(Backbone!$I$2:$I$893,MATCH(I184,Backbone!$A$2:$A$893,0))","v":10},null,{"$f":"INDEX(Backbone!$J$2:$J$893,MATCH(I184,Backbone!$A$2:$A$893,0))","v":7.4},null,{"$f":"INDEX(Backbone!$K$1:$K$893,MATCH(I184,Backbone!$A$1:$A$893,0))","v":8.6999999999999993},null,{"$f":"INDEX(Backbone!$L$2:$L$893,MATCH(I184,Backbone!$A$2:$A$893,0))","v":6.7},null,{"$f":"INDEX(Backbone!$M$2:$M$893,MATCH(I184,Backbone!$A$2:$A$893,0))","v":4.5},null,{"$f":"INDEX(Backbone!$N$2:$N$893,MATCH(I184,Backbone!$A$2:$A$893,0))","v":8},null,{"$f":"INDEX(Backbone!$O$2:$O$893,MATCH(I184,Backbone!$A$2:$A$893,0))","v":7.2},null,{"$f":"INDEX(Backbone!$P$2:$P$893,MATCH(I184,Backbone!$A$2:$A$893,0))","v":8.5},null,{"$f":"INDEX(Backbone!$Q$2:$Q$893,MATCH(I184,Backbone!$A$2:$A$893,0))","v":0.76},null,null,{"$f":"(AG184*$AG$22+AI184*$AI$22+AK184*$AK$22+AM184*$AM$22+AO184*$AO$22+AQ184*$AQ$22+AS184*$AS$22+AU184*$AU$22+AW184*$AW$22)/(SUM($AG$22:$AW$22)*10)","v":{"$error":"#DIV/0!"}},null,null,"Go to \nToolbox: ",null,{"$f":"HYPERLINK(\"#\"&ADDRESS(MATCH(I184,Toolbox!$C$1:$C$300),1,,,\"Toolbox\"),VLOOKUP(I184,Toolbox!$C$1:$C$300,1,FALSE))","v":"Integrated Disease Surveillance and Response (IDSR)"}]
[]
[]
[]
[]
[]
[null,null,null,null,null,null,null,null,{"$f":"Backbone!A561","v":"Surveillance Evaluation Framework (SurF)"},null,null,null,null,null,null,"An assessment framework for surveillance systems that can be used for biosecurity, plant or animal health. ",null,null,null,null,null,null,null,null,{"$f":"INDEX(Backbone!$R$2:$R$893,MATCH(I190,Backbone!$A$2:$A$893,0))","v":"Guidance document"},null,null,null,{"$f":"INDEX(Backbone!$S$2:$S$893,MATCH(I190,Backbone!$A$2:$A$893,0))","v":"One Health; Generalized"},null,null,null,{"$f":"INDEX(Backbone!$H$2:$H$893,MATCH(I190,Backbone!$A$2:$A$893,0))","v":7.6},null,{"$f":"INDEX(Backbone!$I$2:$I$893,MATCH(I190,Backbone!$A$2:$A$893,0))","v":6},null,{"$f":"INDEX(Backbone!$J$2:$J$893,MATCH(I190,Backbone!$A$2:$A$893,0))","v":8},null,{"$f":"INDEX(Backbone!$K$1:$K$893,MATCH(I190,Backbone!$A$1:$A$893,0))","v":8.6999999999999993},null,{"$f":"INDEX(Backbone!$L$2:$L$893,MATCH(I190,Backbone!$A$2:$A$893,0))","v":8.6},null,{"$f":"INDEX(Backbone!$M$2:$M$893,MATCH(I190,Backbone!$A$2:$A$893,0))","v":4.0999999999999996},null,{"$f":"INDEX(Backbone!$N$2:$N$893,MATCH(I190,Backbone!$A$2:$A$893,0))","v":4},null,{"$f":"INDEX(Backbone!$O$2:$O$893,MATCH(I190,Backbone!$A$2:$A$893,0))","v":8},null,{"$f":"INDEX(Backbone!$P$2:$P$893,MATCH(I190,Backbone!$A$2:$A$893,0))","v":4},null,{"$f":"INDEX(Backbone!$Q$2:$Q$893,MATCH(I190,Backbone!$A$2:$A$893,0))","v":0.65555555555555556},null,null,{"$f":"(AG190*$AG$22+AI190*$AI$22+AK190*$AK$22+AM190*$AM$22+AO190*$AO$22+AQ190*$AQ$22+AS190*$AS$22+AU190*$AU$22+AW190*$AW$22)/(SUM($AG$22:$AW$22)*10)","v":{"$error":"#DIV/0!"}},null,null,"Go to \nToolbox: ",null,{"$f":"HYPERLINK(\"#\"&ADDRESS(MATCH(I190,Toolbox!$C$1:$C$300),1,,,\"Toolbox\"),VLOOKUP(I190,Toolbox!$C$1:$C$300,1,FALSE))","v":"Surveillance Evaluation Framework (SurF)"}]
[]
[]
[]
[]
[]
[null,null,null,null,null,null,null,null,{"$f":"Backbone!A296","v":"Updated Guidelines for Evaluating Public Health Surveillance Systems "},null,null,null,null,null,null,"This report provides updated guidelines for evaluating surveillance systems, describing tasks and related activities that can be applied to public health surveillance system.",null,null,null,null,null,null,null,null,{"$f":"INDEX(Backbone!$R$2:$R$893,MATCH(I196,Backbone!$A$2:$A$893,0))","v":"Guidance document"},null,null,null,{"$f":"INDEX(Backbone!$S$2:$S$893,MATCH(I196,Backbone!$A$2:$A$893,0))","v":"Sector Specific; Generalized"},null,null,null,{"$f":"INDEX(Backbone!$H$2:$H$893,MATCH(I196,Backbone!$A$2:$A$893,0))","v":7.6},null,{"$f":"INDEX(Backbone!$I$2:$I$893,MATCH(I196,Backbone!$A$2:$A$893,0))","v":8},null,{"$f":"INDEX(Backbone!$J$2:$J$893,MATCH(I196,Backbone!$A$2:$A$893,0))","v":7.2},null,{"$f":"INDEX(Backbone!$K$1:$K$893,MATCH(I196,Backbone!$A$1:$A$893,0))","v":8.6999999999999993},null,{"$f":"INDEX(Backbone!$L$2:$L$893,MATCH(I196,Backbone!$A$2:$A$893,0))","v":7.7},null,{"$f":"INDEX(Backbone!$M$2:$M$893,MATCH(I196,Backbone!$A$2:$A$893,0))","v":2.2999999999999998},null,{"$f":"INDEX(Backbone!$N$2:$N$893,MATCH(I196,Backbone!$A$2:$A$893,0))","v":4},null,{"$f":"INDEX(Backbone!$O$2:$O$893,MATCH(I196,Backbone!$A$2:$A$893,0))","v":5.8},null,{"$f":"INDEX(Backbone!$P$2:$P$893,MATCH(I196,Backbone!$A$2:$A$893,0))","v":4},null,{"$f":"INDEX(Backbone!$Q$2:$Q$893,MATCH(I196,Backbone!$A$2:$A$893,0))","v":0.61444444444444446},null,null,{"$f":"(AG196*$AG$22+AI196*$AI$22+AK196*$AK$22+AM196*$AM$22+AO196*$AO$22+AQ196*$AQ$22+AS196*$AS$22+AU196*$AU$22+AW196*$AW$22)/(SUM($AG$22:$AW$22)*10)","v":{"$error":"#DIV/0!"}},null,null,"Go to \nToolbox: ",null,{"$f":"HYPERLINK(\"#\"&ADDRESS(MATCH(I196,Toolbox!$C$1:$C$300),1,,,\"Toolbox\"),VLOOKUP(I196,Toolbox!$C$1:$C$300,1,FALSE))","v":"Updated Guidelines for Evaluating Public Health Surveillance Systems "}]

{"sheet":"Activities","index":59,"n_rows":29,"n_cols":24,"rows_kept":29,"cut":false,"hidden":false,"merged":[[1,21,3,21],[4,21,6,21],[7,21,9,21],[23,6,25,6],[26,6,27,6],[1,11,3,11],[1,16,3,16],[4,16,6,16],[7,16,9,16],[10,16,12,16],[13,16,15,16],[16,16,18,16],[19,16,21,16],[22,16,24,16],[26,16,28,16],[11,6,12,6],[13,6,14,6],[15,6,17,6],[18,6,19,6],[20,6,22,6],[1,1,3,1],[4,1,6,1],[7,1,9,1],[1,6,3,6],[4,6,6,6],[7,6,8,6],[9,6,10,6],[0,0,0,3],[0,5,0,7],[0,10,0,13],[0,15,0,18],[0,20,0,23],[19,11,21,11],[22,11,24,11],[4,11,6,11],[7,11,9,11],[10,11,12,11],[13,11,15,11],[16,11,18,11]]}
["PRE-PLANNING",null,null,null,null,"ASSESSMENT",null,null,null,null,"PLANNING",null,null,null,null,"IMPLEMENTATION",null,null,null,null,"Monitoring and Evaluation"]
["PP-1","PP-1 Identifying Preliminary Stakeholders","Focal points, \"champions\" or technical working groups have been identified in all participating sectors at the national level for planning the implementation of coordinated surveillance","L1",null,"A-1","A-1 Stakeholder Mapping","Stakeholders working in surveillance, epidemiology, laboratory, and information sharing have been identified","L1",null,"Pl-1","Pl-1 Political Will","Decision makers for the coordinated surveillance system have been identified","L1",null,"I-1","I-1 Mobilizing Financial Resources","Funding exists for coordinated surveillance at the national level","L1",null,"ME-1","ME-1 Simulation Exercises","Simulation exercises are conducted to evaluate the efficiency and functionality of the coordinated surveillance system at the national level  ","L1"]
["PP-1",null,"Focal points, \"champions\" or technical working groups have been identified in all participating sectors and at all country levels for planning the implementation of coordinated surveillance","L2",null,"A-1",null,"Stakeholder analysis has been used to identify participants at all country levels ","L2",null,"Pl-1",null,"Political will for the coordinated surveillance system is established, and advocates exists at all country levels","L2",null,"I-1 ",null,"Funding exists for coordinated surveillance at all country levels","L2",null,"ME-1",null,"Simulation exercises are conducted to evaluate the efficiency and functionality of the coordinated surveillance system at all country levels  ","L2"]
["PP-1",null,"Focal points, \"champions\" or technical working groups (including identified focal points or \"champions\") for coordinated surveillance have been institutionalized (e.g. through a governing body such as an MCM)   ","L3",null,"A-1",null,"Roles and responsibilities of stakeholders have been institutionalized and adopted in policy","L3",null,"Pl-1",null,"There is an advocacy strategy that informs communication with decision-makers on the coordinated surveillance system","L3",null,"I-1",null,"Sustainable funding (i.e, included in the national budget) is allocated for coordinated surveillance activities and has been assessed and determined to meet the objectives of the coordinated surveillance system","L3",null,"ME-1",null,"Results of the simulation exercises are used to inform and revise coordinated surveillance plans ","L3"]
["PP-2.1","PP-2 Prioritization","A list of prioritized zoonotic diseases exists for inclusion in a coordinated surveillance system","L1",null,"A-2","A-2 Surveillance System Linkage Assessment","The interlinkages between current prioritized zoonotic disease surveillance systems have been assessed among sectors","L1",null,"PL-2","PL-2 Common Data Elements","The common data elements are identified and agreed upon within each participating sector to meet the common analytical goals of the coordinated surveillance system at the national level","L1",null,"I-2","I-2 Mobilizing Human Resources and Stakeholders","Focal points or technical working groups meet on an ad hoc basis","L1",null,"ME-2","ME-2 Monitoring and Evaluation Planning","There is a monitoring and evaluation plan that meets the objectives of the coordinated surveillance system","L1"]
["PP-2.1",null,"A list of zoonotic diseases is broadly distributed to the subnational and community levels","L2",null,"A-2",null,"The interlinkages between current surveillance systems have been assessed among sectors and at all country levels","L2",null,"PL-2",null,"The common data elements are identified and agreed upon within each participating sector to meet the common analytical goals of the coordinated surveillance system at all country levels","L2",null,"I-2",null,"Focal points or technical working groups meet on a routine basis and to address priority issues as they arise","L2",null,"ME-2",null,"The monitoring and evaluation plan is implemented to track performance and progress of the coordinated surveillance system","L2"]
["PP-2.1",null,"A list of zoonotic diseases is developed using a multisectoral, One Health approach. Such an approach would involve all relevant sectors in an evidence-based, transparent, repeatable prioritization process","L3",null,"A-2",null,"The interlinkages between current surveillance systems have been assessed and determined to meet the objectives of the coordinated surveillance system","L3",null,"PL-2",null,"The common data elements are standardized among participating sectors based on the common analytical goals of the coordinated surveillance system and adhere to international data standards","L3",null,"I-2",null,"Technical working groups regularly review and optimize coordinated surveillance activities ","L3",null,"ME-2",null,"Results of monitoring and evaluation iteratively improve or expand the coordinated surveillance system and align with international standards and recommendations ","L3"]
["PP-3.1","PP-3 Goal Setting","Goal(s), roles, and responsibilities of all participating sectors of the coordinated surveillance system are agreed upon at the national level","L1",null,"A-3","A-3 Legal Frameworks Assessment","The legal frameworks (rules, policies, guidelines and regulations including international standards) that govern the ethical and privacy standards for surveillance and data sharing have been assessed","L1",null,"PL-3","PL-3 Strategic Plans and Frameworks for Coordinated Surveillance","A multi-sectoral collection and review of the national strategic documents (strategies, frameworks and strategic plans) related to the coordinated surveillance system occurred, for the purposes of planning","L1",null,"I-3\n","I-3 Data Exchange & Information Sharing","There is a mechanism to share data between sectors at the national level","L1",null,"ME-3","ME-3 Data Quality Standards ","There is a data quality management methodology","L1"]
["PP-3.1",null,"Goal(s), roles, and responsibilities of all participating sectors of the coordinated surveillance system are agreed upon and expanded to include all country levels","L2",null,"A-3",null,"The legal frameworks (rules, policies, guidelines and regulations including international standards) that govern the ethical and privacy standards for surveillance and data sharing are assessed at all country levels ","L3",null,"PL-3",null,"National strategic documents (strategies, frameworks and strategic plans)  for the coordinated surveillance system consolidated and linked based on assessment at all country levels","L2",null,"I-3 \n",null,"There is a mechanism to share data between sectors at all country levels","L2",null,"ME-3",null,"The data quality has been tested and determined to meet the objectives of the coordinated surveillance system ","L2"]
["PP-3.1",null,"Goal(s), roles and responsibilities of the coordinated surveillance system have been re-evaluated to reflect the current needs of the coordinated surveillance system ","L3",null,null,null,null,null,null,"PL-3",null,"Revised strategic documents (strategies, frameworks and strategic plans) for the coordinated surveillance system  aligned with international standards and recommendations","L3",null,"I-3 \n",null,"There is a mechanism to share data that is accessible, functional, and usable by all participating sectors","L3",null,"ME-3",null,"The data quality aligns with international standards and recommendations ","L3"]
[null,null,null,null,null,null,null,null,null,null,"PL-4","PL-4 National operational plans ","A multi-sectoral collection and review of the national operational plans and other relevant documents (including surveillance plans, case definitions, protocols, and Standard Operating Procedures) related to the coordinated surveillance system occurred for the purposes of planning\n","L1",null,"I-4\n","I-4 Data Storage","There is a structure and location to store and maintain data from multiple sectors at the national level.","L1"]
[null,null,null,null,null,null,null,null,null,null,"PL-4",null,"Revised operational plans and other relevant documents (including surveillance plans, case definitions, protocols, and Standard Operating Procedures) related to the coordinated surveillance and information sharing system are agreed upon by the agencies conducting surveillance at all country levels\n","L2",null,"I-4\n",null,"There is a structure and location to store and maintain data from multiple sectors at all country levels","L2"]
[null,null,null,null,null,null,null,null,null,null,"PL-4",null,"Revised operational  plans (including surveillance plans, case definitions, protocols, and Standard Operating Procedures) for the coordinated surveillance system are aligned with international guidelines and recommendations\n","L3",null,"I-4\n",null,"There is a structure and location to store and maintain data from all relevant sectors conducting surveillance that is accessible, functional, and usable by all participating sectors","L3"]
[null,null,null,null,null,null,null,null,null,null,"PL-5","PL-5 Financial Planning","There is a budgetary plan and a mechanism for distributing funds for coordinated surveillance at the national level","L1",null,"I-5\n","I-5 Data Privacy and Security Measures","There are data privacy and security measures in place to protect coordinated surveillance data at the national level","L1"]
[null,null,null,null,null,null,null,null,null,null,"PL-5",null,"There is a budgetary plan and a mechanism for distributing funds for coordinated surveillance at all country levels","L2",null,"I-5\n",null,"There are data privacy and security measures in place to protect coordinated surveillance data at all country levels","L2"]
[null,null,null,null,null,"A-4","A-4 Infrastructure Mapping","Basic infrastructure mapping exercises (as defined in TZG CH 4.1) have been used to describe the structure and linkages within and between the sectors ","L1",null,"PL-5",null,"The budgetary plan and a mechanism for distributing funds has been assessed and determined to meet the objectives of the coordinated surveillance system ","L3",null,"I-5\n",null,"There are data privacy and security measures in place to protect coordinated surveillance data that has been assessed and determined to meet the objectives of the coordinated surveillance system","L3"]
[null,null,null,null,null,"A-4",null,"Infrastructure mapping has been used to describe the majority of mapping areas (as described in TZG CH 4.1)","L2",null,"PL-6","PL-6 Workforce Planning","An education and training plan for the coordinated surveillance system exists based on workforce assessment at the national level","L1",null,"I-6","I-6 Coordinated Surveillance System Implementation","The coordinated surveillance system is being piloted in target areas","L1"]
[null,null,null,null,null,"A-4",null,"Comprehensive infrastructure mapping has been used to describe all mapping areas (as described in TZG CH 4.1).","L3",null,"PL-6",null,"An education and training plan for the coordinated surveillance system exists based on workforce assessment at all country levels","L2",null,"I-6",null,"The coordinated surveillance system has been expanded to additional areas based on pilot implementations","L2"]
[null,null,null,null,null,"A-5","A-5 Economic Needs Assessment","Economic assessments have been used to determine national financial needs for the coordinated surveillance system ","L1",null,"PL-6",null,"Workforce education and training is linked to national multisectoral workforce planning and is informed by international competencies and assessments\n","L3",null,"I-6",null,"The coordinated surveillance system is a nation-wide program","L3"]
[null,null,null,null,null,"A-5",null,"Economic assessments have been used to determine the financial needs at all country levels for the coordinated surveillance system ","L3",null,"PL-7","PL-7 Legal Frameworks Planning","Necessary legal frameworks (rules, policies, guidelines and regulations including international standards) have been standardized across sectors based on assessment at the national level","L1",null,"I-7","I-7 Surveillance Data Sharing","Surveillance Data are shared informally or formally on an ad hoc basis at the national level","L1"]
[null,null,null,null,null,"A-6","A-6 Laboratory Capacity Assessment","Laboratory assessments have been used to identify qualified national or international reference laboratories that can carry out testing to support the coordinated surveillance activities","L1",null,"PL-7",null,"Necessary legal frameworks (rules, policies, guidelines and regulations including international standards) have been standardized across sectors based on assessment at all country levels","L2",null,"I-7",null,"Surveillance Data are shared informally or formally in a routine and timely fashion at all country levels","L2"]
[null,null,null,null,null,"A-6",null," Laboratory assessments have been used to identify qualified laboratories at all levels (including international) that can carry out testing to support the coordinated surveillance activities","L2",null,"PL-7",null,"Revised legal frameworks for the coordinated surveillance system have been aligned with international standards and recommendations. ","L3",null,"I-7",null,"Surveillance Data are shared systematically in a routine and timely manner between all participating sectors through an interoperable or joint platform(s) ","L3"]
[null,null,null,null,null,"A-6",null,"Laboratory assessments have been used to identify a network of qualified laboratories that can carry out testing to support the coordinated surveillance activities","L3",null,"PL-8","PL-8 Coordinated Communication Planning","Communications terminology and messages are aligning among all sectors participating in the coordinated surveillance system at the national level.","L1",null,"I-8 ","I-8 Communication & Information Sharing","There is ad hoc information sharing and communication with relevant stakeholders","L1"]
[null,null,null,null,null,"A-7","A-7 Laboratory Transport and Interpretation Assessment","Laboratory supply, transport chains and results interpretation have been assessed for harmonization between participating sectors at the national level","L1",null,"PL-8",null,"Communications terminology and messages are aligned among all sectors participating in the coordinated surveillance system and disseminated at all country levels","L2",null,"I-8 ",null,"There is routine information sharing and communication with relevant stakeholders","L2"]
[null,null,null,null,null,"A-7",null,"Laboratory supply, transport chains and results interpretation between participating sectors have been assessed for harmonization at all country levels","L2",null,"PL-8",null,"There is a communications strategy and/or communications plan (which includes terminology and messaging) that informs communication with stakeholders and the public for the coordinated surveillance system","L3",null,"I-8 ",null,"There is routine and timely information sharing with relevant stakeholders including cross-border, regional and international entities","L3"]
[null,null,null,null,null,"A-7",null,"The degree of harmonization in laboratory supply, transport chains and results interpretation between participating sectors have been assessed and determined to meet the objectives of the coordinated surveillance system","L3",null,null,null,null,null,null,"I-9","I-9 International Notification Requirements","Comply with international notification requirements for all zoonotic diseases","L1"]
[null,null,null,null,null,"A-8","A-8 Workforce Assessment","Workforce assessments have been conducted to identify current workforce requirements, competencies, needs and gaps at the national level","L1",null,null,null,null,null,null,"I-10","I-10 Coordinated Data Visualization and Analysis","Coordinated surveillance data are used to generate outputs (e.g. figures, graphics, reports or bulletins) that are shared at the national level","L1"]
[null,null,null,null,null,"A-8",null," Workforce assessment have been conducted to identify current workforce requirements, competencies, needs and gaps at all country levels","L3",null,null,null,null,null,null,"I-10",null,"Coordinated surveillance data are used to generate outputs (e.g. figures, graphics, reports or bulletins) that are disseminated to stakeholders at all country levels","L2"]
[null,null,null,null,null,null,null,null,null,null,null,null,null,null,null,"I-10",null,"Coordinated surveillance data, including M&E reports, are used to generate outputs that inform, response, policy and programming","L3"]