{"text_format":"1","workbook":"xlsx","n_sheets":60,"sheets":["Instructions","Map","Attribute Survey","Results","Resource selection","Prioritization and roadmap","Development plan","Tools by activity","Backbone","Section I","Focal Points","Prioritization","Goal Setting","Section II","Stakeholders","Plans & Organization","Policy & Legal","Budgets & Finances","Workforce","Laboratory","Data Storage & Sharing","Communication & Reporting","Section III","Simulation Exercises","M & E Planning","Data Quality Standards","Toolbox","PP1_tools","PP2_tools","PP3_tools","A1_tools","A2_tools","A3_tools","A7_tools","A8_tools","A9_tools","A10_tools","A11_tools","P1_tools","P2_tools","P3_tools","P4_tools","P5_tools","P6_tools","P7_tools","P8_tools","I1_tools","I2_tools","I3_tools","I4_tools","I5_tools","I6_tools","I7_tools","I8_tools","I9_tools","I10_tools","ME1_tools","ME2_tools","ME3_tools","Activities"],"not_rendered":{"charts":0,"images":2,"macros":1,"external_links":0,"defined_names":3,"comments":14,"pivot_tables":0},"unopened":[],"bounds":{"document_bytes":16777216,"sheet_cells":100000,"rows_first":2000,"rows_last":500,"rows_between":2000,"halvings":0,"cell_chars":16384,"cell_head_chars":4096},"cells_cut":0,"cells_raw":0,"read":"whole","date_system":"1900"}

{"sheet":"Instructions","index":0,"n_rows":135,"n_cols":2,"rows_kept":135,"cut":false,"hidden":false,"merged":[[134,1,134,5],[2,1,2,5],[35,1,132,5],[5,1,5,5],[7,1,7,5],[9,1,32,5],[34,1,34,5]]}
["Version: Juillet 2022"]
[]
[null,"Ce manuel de l'Outil opérationnel de surveillance et de partage d'informations (SIS OT) doit être utilisé conjointement avec le guide SIS OT disponible à l'adresse suivante: https://www.fao.org/documents/card/en/c/cc0716en "]
[]
[]
[null,"Outil opérationnel de surveillance et de partage d'informations"]
[]
[null,"MANUEL SIS OT"]
[]
[null,"\nLe manuel SIS OT est le principal instrument de l'Outil opérationnel de surveillance et de partage d'informations (SIS OT). Le SIS OT aide les autorités nationales à mettre en place ou à renforcer un système de surveillance et de partage d'informations (SIS) coordonné et multisectoriel «Une seule santé» sur les zoonoses. Le SIS OT a été développé dans le cadre d'un effort tripartite conjoint (FAO, OMS et OMSA) visant à mettre en place des outils pratiques aidant les pays à appliquer les orientations du Guide tripartite pour la gestion des zoonoses (GTZ) et à renforcer les approches «Une seule santé» pour lutter contre celles-ci. \nLe manuel SIS OT guide les utilisateurs à travers une évaluation étape par étape du degré de développement de la surveillance et du partage d'informations coordonnés dans un pays, par la définition de cinq jalons visant à renforcer la capacité de surveillance coordonnée des zoonoses, regroupés en trois sections: \nSection 1: Planification préalable; \nSection 2: Évaluation; Planification; et Mise en œuvre; \nSection 3: Suivi et évaluation.  \nCes sections contiennent un total de 32 activités uniques destinées au développement du SIS, regroupées en 14 catégories.\nUne fois l'évaluation de toutes les étapes terminée, le manuel SIS OT oriente les utilisateurs à travers le processus de planification visant à identifier les activités qui permettront de mettre en place ou de renforcer la surveillance et le partage d'informations au niveau national pour les zoonoses, une liste de ressources et d'outils suggérés pour réaliser chaque étape, et l'élaboration d'une feuille de route pour la mise en œuvre de ces activités.\n"]
[]
[]
[]
[]
[]
[]
[]
[]
[]
[]
[]
[]
[]
[]
[]
[]
[]
[]
[]
[]
[]
[]
[]
[]
[null,"Instructions"]
[null,"Les utilisateurs sont vivement encouragés à lire le guide SIS OT et les présentes instructions avant d'utiliser le manuel SIS OT.\n\nÉvaluation \n•  Après avoir lu ces instructions, ouvrez la page «Organigramme» en utilisant le menu de navigation de gauche ou en cliquant sur le bouton «Suivant: Organigramme» situé en haut ou en bas à droite. Cette page offre un aperçu de la procédure d'évaluation et permet d'accéder rapidement aux différentes étapes du processus SIS OT dans le manuel. L'évaluation peut se faire de manière linéaire, en suivant l'ordre des catégories à l'intérieur de chaque section à l'aide des boutons «Suivant» qui se trouvent au bas de la page, ou dans l'ordre souhaité par l'utilisateur en accédant directement aux catégories ciblées à travers l'«Organigramme».\n•  Commencez l'évaluation depuis la Section 1: Étape «Planification préalable» en cliquant sur le bouton «Section I».  \n \n    -  Réalisez le processus d'évaluation de la même manière pour le Niveau 2 et le Niveau 3. Veuillez noter que certaines activités n'ont qu'un ou deux niveaux de capacité, par exemple uniquement le Niveau 1, ou seulement les Niveaux 1 et 3.\n    -  Le champ Commentaires peut être utilisé pour saisir d'importants sujets de discussion afin de s'y référer ultérieurement.\n    -  Une fois terminées toutes les activités de la catégorie, cliquez sur le bouton «Suivant» ou naviguez à travers l'organigramme pour passer à la catégorie suivante. \n    -  Une fois terminées toutes les catégories de la section, cliquez sur le bouton «Suivant» ou naviguez à travers l'organigramme pour accéder à la section suivante et répétez la procédure. Le bouton «Retour» permet aux utilisateurs de revenir à la catégorie précédente.\n    -  Une fois les trois sections terminées, revenez à l'Organigramme pour réviser les évaluations, si nécessaire. \n\nRévision des résultats de l'évaluation\n- Une fois l'évaluation terminée, passez aux «Résultats de l'évaluation» en utilisant le menu de navigation de gauche ou en cliquant sur le bouton «Suivant: Résultats de l'évaluation» dans la page de la dernière catégorie «Normes de qualité des données», ou naviguez à travers l'Organigramme. \n•  Révisez les «Résultats de l'évaluation».  Cette page présente le prochain niveau de capacité (Niveau 1, Niveau 2 ou Niveau 3) des 32 activités évaluées comme étant le «niveau de capacité cible» que le pays doit ensuite atteindre. Par exemple, si pour une activité déterminée, le Niveau 1 de capacité a été atteint, la cible sera le «Niveau 2».  Une activité est considérée comme étant pleinement exécutée et conforme lorsqu'un pays a atteint le Niveau 3.\n•  Si le résultat affiché pour le niveau de capacité cible est «N/A», l'évaluation de cette activité particulière n'est pas terminée. Dans ce cas, retournez à la page d'évaluation de cette activité en cliquant sur le bouton correspondant à droite, à côté de la colonne Guide des ressources. \n\nSélection des outils et des ressources pour favoriser la mise en œuvre des activités\n•  Commencez par vous rendre sur la page «Enquête par attributs» en utilisant le menu de navigation de l'outil.\n\n    -   Donnez une valeur en points (entre 0 et 100) à chacun des neuf attributs utilisés pour décrire les outils et les ressources dans la case correspondante, située à droite de la description de chaque attribut. Saisissez les valeurs de manière à obtenir un total de 100 points répartis entre les neuf attributs, ainsi pondérés en fonction de leur importance relative dans la sélection des ressources selon l'utilisateur.\n •  Une fois l'enquête par attributs terminée, accédez à la page «Résultats de l'évaluation» du manuel SIS OT en utilisant le bouton «Résultats de l'évaluation» du menu de navigation ou en cliquant sur le bouton «Suivant: Résultats de l'évaluation» situé au bas de la page.  \n    -   Les flèches situées à côté de chaque activité dans les résultats de l'évaluation indiquent des liens vers les «pages de ressources» contenant la liste des ressources et des outils recommandés disponibles pour faciliter la progression vers le niveau de capacité cible de cette activité. Pour chaque activité, la page des ressources est accessible via le lien correspondant.\n    -   Les pages de ressources contiennent la liste des ressources pour chaque activité, regroupées en fonction de leur objectif.   Les «ressources les mieux adaptées» sont celles dont l'objet ou la fonction principale est d'aider directement l'utilisateur à terminer l'activité définie, tandis que les «autres ressources intéressantes» sont celles qui l'aident partiellement ou indirectement à le faire. \n    -   Pour chacune des ressources répertoriées, les pages de ressources fournissent une brève description, des informations sur le type et sur le champ d'application de la ressource, en précisant par exemple si celle-ci est spécifique du secteur ou correspond à l'approche «Une seule santé», et encore si elle est spécifique d'une maladie, ou généralisée à toutes les zoonoses ou maladies infectieuses.\n    -   La page présente également les scores d'évaluation de chacun des outils par l'équipe de développement de SIS OT, qui servent à faciliter la sélection. Les scores bruts obtenus dans le cadre du processus de révision de l'outil, ainsi que les scores pondérés basés sur les valeurs accordées par les utilisateurs à chacun des neuf attributs, servent à faciliter la sélection.\n    -   Le bouton «Accéder à la boîte à outils»permet d'obtenir des informations plus détaillées sur la ressource dans la boîte à outils.\n    -   Sélectionnez une ou deux ressources qui pourraient vous aider à mener à bien chaque activité, sur la base des informations présentées pour chaque ressource.\n• Accédez à la page «Sélection des ressources» via le menu de navigation. Enregistrez les ressources sélectionnées dans la colonne «Ressource 1» en utilisant la liste déroulante pour chaque activité. Le cas échéant, pour enregistrer une seconde ressource sélectionnée en option, utilisez la colonne «Ressource 2».\n\nPriorisation et feuille de route\n• Accédez à la page «Priorisation et feuille de route» via le menu de navigation.\n    -  Pour chacune des activités cibles, sélectionnez dans la liste déroulante un délai de mise en œuvre et une priorité (par exemple, «à entreprendre maintenant - dans un an» - priorité élevée; «à commencer dans 2 ou 3 ans» - priorité moyenne; «à commencer dans plus de 3 ans» - priorité faible). Si l'activité est considérée comme étant terminée, sélectionnez «terminé» dans la liste déroulante et ne la prenez pas en compte dans les discussions.\n    -  Déterminez et convenez d'un calendrier (par exemple, trois ans ou cinq ans) pour le plan de développement du SIS. \n    -  Sélectionnez les activités à entreprendre dans le cadre de ce plan de développement du SIS en fonction de leur délai de mise en œuvre et de leur priorité et en tenant compte du calendrier convenu (par exemple, pour un plan sur trois ans, il est possible de sélectionner des activités à priorité élevée et moyenne).\n    -  Pour les activités qu'il a été décidé de ne pas entreprendre, sélectionnez «ne pas entreprendre pour ce plan» dans la liste déroulante.\n    -  Modifiez le diagramme de Gantt en fonction du calendrier du plan de développement sélectionné (par exemple, cinq ans à partir du premier trimestre de l'année 2020).\n    -  Pour chaque activité cible sélectionnée dans le cadre du plan de développement du SIS, déterminez le calendrier de mise en œuvre, en précisant à la fois la durée de l'activité (par exemple, un trimestre, deux trimestres ou jusqu'à la fin de la période de planification) et le moment de son démarrage (par exemple, le premier trimestre de l'année 1), sur la base du calendrier et de la priorité de mise en œuvre précédemment sélectionnés. Indiquez ce calendrier sur le diagramme de Gantt en utilisant des couleurs et en vous servant des listes déroulantes des colonnes «Trimestre de démarrage de l'activité» et «Durée de l'activité».\n\nPlan de développement\n• Accédez à la page «Plan de développement» via le menu de navigation.\nLes éléments suivants, qui sont décrits ci-dessus et proviennent des sélections effectuées dans les pages précédentes, apparaissent automatiquement dans le tableau du plan de développement:\n      -  Activité et niveau de capacité cible \n      -  Ressources et outils sélectionnés\n      -  Moment de démarrage de l'activité\n      -  Durée de l'activité\nRemplissez les autres colonnes de chaque activité, notamment la liste des actions nécessaires pour mener celle-ci à bien, les rôles et les responsabilités associés à la mise en œuvre de ces actions, les défis à relever, les points de contact et les indicateurs nécessaires au suivi et à la démonstration des résultats accomplis, ainsi qu'à la promotion des ressources et des soutiens nécessaires. Révisez et ajustez au besoin tous les éléments provenant de différentes feuilles de travail.\n\n"]
[]
[]
[]
[]
[]
[]
[]
[]
[]
[]
[]
[]
[]
[]
[]
[]
[]
[]
[]
[]
[]
[]
[]
[]
[]
[]
[]
[]
[]
[]
[]
[]
[]
[]
[]
[]
[]
[]
[]
[]
[]
[]
[]
[]
[]
[]
[]
[]
[]
[]
[]
[]
[]
[]
[]
[]
[]
[]
[]
[]
[]
[]
[]
[]
[]
[]
[]
[]
[]
[]
[]
[]
[]
[]
[]
[]
[]
[]
[]
[]
[]
[]
[]
[]
[]
[]
[]
[]
[]
[]
[]
[]
[]
[]
[]
[]
[]
[]
[null,"©Organisation mondiale de la santé (OMS), Organisation des Nations Unies pour l'alimentation et l'agriculture (FAO) et Organisation mondiale de la santé animale (OMSA), 2022. Tous droits réservés."]

{"sheet":"Map","index":1,"n_rows":6,"n_cols":2,"rows_kept":6,"cut":false,"hidden":false,"merged":[[2,1,3,30],[12,1,73,30],[5,1,10,30]]}
[]
[]
[null,"Outil opérationnel de surveillance et de partage d'informations"]
[]
[]
[null,"MANUEL SIS OT: ORGANIGRAMME"]

{"sheet":"Attribute Survey","index":2,"n_rows":58,"n_cols":22,"rows_kept":58,"cut":false,"hidden":false,"merged":[[53,2,55,5],[37,7,39,16],[41,7,43,16],[45,7,47,16],[49,7,51,16],[53,7,55,16],[17,21,23,24],[1,1,3,25],[13,1,15,25],[5,1,11,25],[29,2,31,5],[21,18,23,19],[17,2,19,5],[17,18,19,19],[21,2,23,5],[25,2,27,5],[17,7,19,16],[21,7,23,16],[25,7,27,16],[29,7,31,16],[33,2,35,5],[53,18,55,19],[57,18,58,19],[25,18,27,19],[29,18,31,19],[33,18,35,19],[37,18,39,19],[41,18,43,19],[45,18,47,19],[49,18,51,19],[37,2,39,5],[41,2,43,5],[45,2,47,5],[49,2,51,5],[33,7,35,16],[57,2,58,16]]}
[]
[null,"Enquête par attributs"]
[]
[]
[]
[null,"Vous avez correctement répondu aux trois sections ! Avant de passer aux résultats, déterminez pour chaque ressource les attributs qui vous semblent les plus importants en fonction de votre utilisation. Cette étape vous permet de donner des valeurs en points pondérés aux neuf attributs utilisés pour évaluer les ressources dans le SIS OT. \nLes valeurs en points que vous donnez doivent refléter l'importance relative que vous accordez à la sélection de ces ressources. Elles sont utilisées pour calculer un score global ajusté spécifique de l'utilisateur pour chaque ressource, sur la base des scores d'évaluation donnés par l'équipe des évaluateurs du SIS OT. \nLes scores pondérés peuvent vous aider à mieux identifier les ressources qui répondent à vos préférences."]
[]
[]
[]
[]
[]
[]
[]
[null,"Donnez des valeurs en points (de 1 à 100) à chacun des attributs décrits ci-dessous, la somme de tous les attributs devant être égale à 100. "]
[]
[]
[]
[null,null,"ATTRIBUT",null,null,null,null,"DESCRIPTION DE L'ATTRIBUT",null,null,null,null,null,null,null,null,null,null,"VALEUR EN POINTS\n(Entre 1 et 100, le total s'élevant à 100)",null,null,"←Doit être compris entre 1 et 100, et la somme de tous les attributs doit faire 100 !"]
[]
[]
[]
[null,null,"Accessibilité",null,null,null,null,"La logistique d'accès et d'utilisation de l'outil, notamment son ouverture ou son accessibilité, son coût et l'assistance portée aux utilisateurs"]
[]
[]
[]
[null,null,"Langue",null,null,null,null,"La disponibilité de la ressource et sa facilité de traduction dans différentes langues"]
[]
[]
[]
[null,null,"Facilité d'utilisation",null,null,null,null,"Le niveau de complexité et de difficulté à naviguer et à comprendre la ressource, ainsi que les compétences techniques ou opérationnelles nécessaires pour utiliser l'outil "]
[]
[]
[]
[null,null,"Flexibilité",null,null,null,null,"La capacité d'adaptation de l'outil à son utilisation dans différents contextes et scénarios"]
[]
[]
[]
[null,null,"Besoins de données",null,null,null,null,"Les besoins en matière de systèmes et de dispositifs à satisfaire pour que la ressource fonctionne, ainsi que pour assurer le stockage et la sécurité des données"]
[]
[]
[]
[null,null,"Analyse des données",null,null,null,null,"La manière dont la ressource traite et vérifie la qualité des données, y compris les performances de l'outil et sa capacité à établir des rapports"]
[]
[]
[]
[null,null,"Acceptabilité",null,null,null,null,"Mesures de l'acceptation de l'utilisation de la ressource, sur la base des publications, des rapports et/ou du nombre de projets pilotes et de réalisations"]
[]
[]
[]
[null,null,"«Une seule santé»",null,null,null,null,"La capacité de la ressource à faciliter la communication et la collaboration entre les différents secteurs de l'approche «Une seule santé» (santé humaine, santé animale, santé environnementale et partenaires concernés)"]
[]
[]
[]
[null,null,"Impact",null,null,null,null,"Preuve que la ressource a permis d'améliorer l'approche «Une seule santé» et les capacités de suivi, sur la base d'indicateurs de suivi et d'évaluation ou d'exemples passés"]
[]
[]
[]
[null,null,"TOTAL",null,null,null,null,null,null,null,null,null,null,null,null,null,null,null,{"$f":"SUM(S22:T56)","v":0}]

{"sheet":"Results","index":3,"n_rows":135,"n_cols":31,"rows_kept":135,"cut":false,"hidden":false,"merged":[[20,1,50,4],[132,24,132,28],[133,24,133,28],[134,24,134,28],[124,1,134,4],[124,6,126,8],[124,10,126,17],[124,19,126,22],[124,24,124,28],[125,24,125,28],[126,24,126,28],[128,6,130,8],[128,10,130,17],[128,19,130,22],[128,24,128,28],[129,24,129,28],[130,24,130,28],[132,6,134,8],[132,10,134,17],[132,19,134,22],[120,6,122,8],[120,10,122,17],[120,19,122,22],[120,24,120,28],[121,24,121,28],[122,24,122,28],[116,6,118,8],[116,10,118,17],[116,19,118,22],[116,24,116,28],[117,24,117,28],[118,24,118,28],[112,6,114,8],[112,10,114,17],[112,19,114,22],[112,24,112,28],[113,24,113,28],[114,24,114,28],[108,6,110,8],[108,10,110,17],[108,19,110,22],[108,24,108,28],[109,24,109,28],[110,24,110,28],[104,24,104,28],[105,24,105,28],[104,6,106,8],[104,10,106,17],[104,19,106,22],[106,24,106,28],[100,6,102,8],[100,10,102,17],[100,19,102,22],[100,24,100,28],[101,24,101,28],[102,24,102,28],[96,6,98,8],[96,10,98,17],[96,19,98,22],[96,24,96,28],[97,24,97,28],[98,24,98,28],[92,6,94,8],[92,10,94,17],[92,19,94,22],[92,24,92,28],[93,24,93,28],[94,24,94,28],[84,19,86,22],[84,24,84,28],[85,24,85,28],[86,24,86,28],[88,6,90,8],[88,10,90,17],[88,19,90,22],[88,24,88,28],[89,24,89,28],[90,24,90,28],[52,1,82,4],[84,6,86,8],[84,10,86,17],[84,1,122,4],[80,6,82,8],[80,10,82,17],[80,19,82,22],[80,24,80,28],[81,24,81,28],[82,24,82,28],[76,6,78,8],[76,10,78,17],[76,19,78,22],[76,24,76,28],[77,24,77,28],[78,24,78,28],[72,6,74,8],[72,10,74,17],[72,19,74,22],[72,24,72,28],[73,24,73,28],[74,24,74,28],[68,6,70,8],[68,10,70,17],[68,19,70,22],[68,24,68,28],[69,24,69,28],[70,24,70,28],[64,6,66,8],[64,10,66,17],[64,19,66,22],[64,24,64,28],[65,24,65,28],[66,24,66,28],[60,6,62,8],[60,10,62,17],[60,19,62,22],[60,24,60,28],[61,24,61,28],[62,24,62,28],[56,6,58,8],[56,10,58,17],[56,19,58,22],[56,24,56,28],[57,24,57,28],[58,24,58,28],[52,6,54,8],[52,10,54,17],[52,19,54,22],[52,24,52,28],[53,24,53,28],[54,24,54,28],[48,6,50,8],[48,10,50,17],[48,19,50,22],[48,24,48,28],[49,24,49,28],[50,24,50,28],[44,6,46,8],[44,10,46,17],[44,19,46,22],[44,24,44,28],[45,24,45,28],[46,24,46,28],[40,6,42,8],[40,10,42,17],[40,19,42,22],[40,24,40,28],[41,24,41,28],[42,24,42,28],[36,6,38,8],[36,10,38,17],[36,19,38,22],[36,24,36,28],[37,24,37,28],[38,24,38,28],[32,6,34,8],[32,10,34,17],[32,19,34,22],[32,24,32,28],[33,24,33,28],[34,24,34,28],[26,24,26,28],[28,24,28,28],[29,24,29,28],[30,24,30,28],[20,24,20,28],[21,24,21,28],[22,24,22,28],[24,24,24,28],[25,24,25,28],[16,19,18,22],[16,24,16,28],[17,24,17,28],[18,24,18,28],[10,24,10,28],[8,19,10,22],[8,6,10,8],[5,10,6,17],[8,10,10,17],[12,10,14,17],[16,10,18,17],[5,23,6,23],[3,29,6,32],[12,6,14,8],[12,19,14,22],[28,6,30,8],[28,10,30,17],[28,19,30,22],[12,24,12,28],[13,24,13,28],[14,24,14,28],[1,1,3,28],[8,24,8,28],[9,24,9,28],[5,1,6,4],[5,6,6,8],[5,19,6,22],[20,6,22,8],[20,19,22,22],[20,10,22,17],[24,6,26,8],[24,10,26,17],[24,19,26,22],[5,24,6,28],[8,1,18,4],[16,6,18,8]]}
[]
[null,"RÉSULTATS DE L'ÉVALUATION"]
[]
[]
[]
[null,"ÉTAPE",null,null,null,null,"ACTIVITÉ",null,null,null,"Description de l'activité",null,null,null,null,null,null,null,null,"Niveau de capacité cible",null,null,null,"Indicateur de niveau","Guide des ressources"]
[]
[]
[null,"Planification \npréalable",null,null,null,null,{"$f":"\"\"&Activities!B2","v":"PP-1 Identification préliminaire des parties prenantes"},null,null,null,{"$f":"IF('Focal Points'!O44=0,AE9,IF(AND('Focal Points'!O44=1,'Focal Points'!X44=0),AE10,IF(AND('Focal Points'!X44=1,'Focal Points'!AG44=0),AE11,\"Complete\")))","v":"Des coordonnateurs, des «champions» ou des groupes de travail techniques ont été identifiés dans tous les secteurs participants au niveau national pour planifier la mise en œuvre de la surveillance coordonnée."},null,null,null,null,null,null,null,null,{"$f":"IF('Focal Points'!O44=\"\",\"N/A\",IF(AND('Focal Points'!O44=0),\"1\",IF(AND('Focal Points'!O44=1,'Focal Points'!X44=0),\"2\",IF(AND('Focal Points'!X44=1,'Focal Points'!AG44=0),\"3\",\"Complete\"))))","v":"N/A"},null,null,null,"→","Cliquez pour voir les ressources de Niveau 1",null,null,null,null,null,{"$f":"Activities!C2","v":"Des coordonnateurs, des «champions» ou des groupes de travail techniques ont été identifiés dans tous les secteurs participants au niveau national pour planifier la mise en œuvre de la surveillance coordonnée."}]
[null,null,null,null,null,null,null,null,null,null,null,null,null,null,null,null,null,null,null,null,null,null,null,"→","Aucune ressource de Niveau 2 (voir Niveau 1)",null,null,null,null,null,{"$f":"Activities!C3","v":"Des coordonnateurs, des «champions» ou des groupes de travail techniques ont été identifiés dans tous les secteurs participants et à tous les niveaux du pays pour planifier la mise en œuvre de la surveillance coordonnée."}]
[null,null,null,null,null,null,null,null,null,null,null,null,null,null,null,null,null,null,null,null,null,null,null,"→","Cliquez pour voir les ressources de Niveau 3",null,null,null,null,null,{"$f":"Activities!C4","v":"Des coordonnateurs, des «champions» ou des groupes de travail techniques (y compris des coordonnateurs ou des «champions» identifiés) chargés de la surveillance coordonnée ont été institutionnalisés (par exemple, par le biais d'un organe directeur tel qu'un MCM)   "}]
[]
[null,null,null,null,null,null,{"$f":"\"\"&Activities!B5","v":"PP-2 Priorisation"},null,null,null,{"$f":"IF(Prioritization!O44=0,AE13,IF(AND(Prioritization!O44=1,Prioritization!X44=0),AE14,IF(AND(Prioritization!X44=1,Prioritization!AG44=0),AE15,\"Complete\")))","v":"Il existe une liste de zoonoses priorisées à intégrer dans un système de surveillance coordonné"},null,null,null,null,null,null,null,null,{"$f":"IF(Prioritization!O44=\"\",\"N/A\",IF(AND(Prioritization!O44=0),\"1\",IF(AND(Prioritization!O44=1,Prioritization!X44=0),\"2\",IF(AND(Prioritization!X44=1,Prioritization!AG44=0),\"3\",\"Complete\"))))","v":"N/A"},null,null,null,"→","Cliquez pour voir les ressources de Niveau 1",null,null,null,null,null,{"$f":"Activities!C5","v":"Il existe une liste de zoonoses priorisées à intégrer dans un système de surveillance coordonné"}]
[null,null,null,null,null,null,null,null,null,null,null,null,null,null,null,null,null,null,null,null,null,null,null,"→","Aucune ressource de Niveau 2 (voir Niveau 1)",null,null,null,null,null,{"$f":"Activities!C6","v":"Une liste des zoonoses est largement diffusée aux niveaux infranational et communautaire"}]
[null,null,null,null,null,null,null,null,null,null,null,null,null,null,null,null,null,null,null,null,null,null,null,"→","Aucune ressource de Niveau 3 (voir Niveau 1)",null,null,null,null,null,{"$f":"Activities!C7","v":"Une liste des zoonoses est établie en utilisant une approche multisectorielle «Une seule santé». Une telle approche impliquerait tous les secteurs concernés dans un processus de priorisation fondé sur des preuves, transparent et reproductible"}]
[]
[null,null,null,null,null,null,{"$f":"\"\"&Activities!B8","v":"PP-3 Établissement des objectifs"},null,null,null,{"$f":"IF('Goal Setting'!O44=0,AE17,IF(AND('Goal Setting'!O44=1,'Goal Setting'!X44=0),AE18,IF(AND('Goal Setting'!X44=1,'Goal Setting'!AG44=0),AE19,\"Complete\")))","v":"Les objectifs, les rôles et les responsabilités de tous les secteurs participant au système de surveillance coordonné sont accordés au niveau national"},null,null,null,null,null,null,null,null,{"$f":"IF('Goal Setting'!O44=\"\",\"N/A\",IF(AND('Goal Setting'!O44=0),\"1\",IF(AND('Goal Setting'!O44=1,'Goal Setting'!X44=0),\"2\",IF(AND('Goal Setting'!X44=1,'Goal Setting'!AG44=0),\"3\",\"Complete\"))))","v":"N/A"},null,null,null,"→","Cliquez pour voir les ressources de Niveau 1",null,null,null,null,null,{"$f":"Activities!C8","v":"Les objectifs, les rôles et les responsabilités de tous les secteurs participant au système de surveillance coordonné sont accordés au niveau national"}]
[null,null,null,null,null,null,null,null,null,null,null,null,null,null,null,null,null,null,null,null,null,null,null,"→","Cliquez pour voir les ressources de Niveau 2",null,null,null,null,null,{"$f":"Activities!C9","v":"Les objectifs, les rôles et les responsabilités de tous les secteurs participant au système de surveillance coordonné sont accordés et étendus à tous les niveaux du pays"}]
[null,null,null,null,null,null,null,null,null,null,null,null,null,null,null,null,null,null,null,null,null,null,null,"→","Cliquez pour voir les ressources de Niveau 3",null,null,null,null,null,{"$f":"Activities!C10","v":"Les objectifs, les rôles et les responsabilités du système de surveillance coordonné ont été réévalués pour refléter les besoins réels du système de surveillance coordonné "}]
[]
[null,"Évaluation",null,null,null,null,{"$f":"\"\"&Activities!G2","v":"E-1 Cartographie des parties prenantes"},null,null,null,{"$f":"IF(Stakeholders!O44=0,AE21,IF(AND(Stakeholders!O44=1,Stakeholders!X44=0),AE22,IF(AND(Stakeholders!X44=1,Stakeholders!AG44=0),AE23,\"Complete\")))","v":"Des parties prenantes travaillant dans les domaines de la surveillance, de l'épidémiologie, des laboratoires et du partage d'informations ont été identifiées"},null,null,null,null,null,null,null,null,{"$f":"IF(Stakeholders!O44=\"\",\"N/A\",IF(AND(Stakeholders!O44=0),\"1\",IF(AND(Stakeholders!O44=1,Stakeholders!X44=0),\"2\",IF(AND(Stakeholders!X44=1,Stakeholders!AG44=0),\"3\",\"Complete\"))))","v":"N/A"},null,null,null,"→","Cliquez pour voir les ressources de Niveau 1",null,null,null,null,null,{"$f":"Activities!H2","v":"Des parties prenantes travaillant dans les domaines de la surveillance, de l'épidémiologie, des laboratoires et du partage d'informations ont été identifiées"}]
[null,null,null,null,null,null,null,null,null,null,null,null,null,null,null,null,null,null,null,null,null,null,null,"→","Cliquez pour voir les ressources de Niveau 2",null,null,null,null,null,{"$f":"Activities!H3","v":"L'analyse des parties prenantes a été utilisée pour identifier les participants à tous les niveaux du pays "}]
[null,null,null,null,null,null,null,null,null,null,null,null,null,null,null,null,null,null,null,null,null,null,null,"→","Cliquez pour voir les ressources de Niveau 3",null,null,null,null,null,{"$f":"Activities!H4","v":"Les rôles et responsabilités des parties prenantes ont été institutionnalisés et adoptés dans les politiques"}]
[]
[null,null,null,null,null,null,{"$f":"\"\"&Activities!G5","v":"E-2 Évaluation des connexions entre les systèmes de surveillance"},null,null,null,{"$f":"IF('Plans & Organization'!O44=0,AE25,IF(AND('Plans & Organization'!O44=1,'Plans & Organization'!X44=0),AE26,IF(AND('Plans & Organization'!X44=1,'Plans & Organization'!AG44=0),AE27,\"Complete\")))","v":"Les interconnexions entre les systèmes de surveillance des zoonoses actuellement priorisées ont été évaluées entre les secteurs"},null,null,null,null,null,null,null,null,{"$f":"IF('Plans & Organization'!O44=\"\",\"N/A\",IF(AND('Plans & Organization'!O44=0),\"1\",IF(AND('Plans & Organization'!O44=1,'Plans & Organization'!X44=0),\"2\",IF(AND('Plans & Organization'!X44=1,'Plans & Organization'!AG44=0),\"3\",\"Complete\"))))","v":"N/A"},null,null,null,"→","Cliquez pour voir les ressources de Niveau 1",null,null,null,null,null,{"$f":"Activities!H5","v":"Les interconnexions entre les systèmes de surveillance des zoonoses actuellement priorisées ont été évaluées entre les secteurs"}]
[null,null,null,null,null,null,null,null,null,null,null,null,null,null,null,null,null,null,null,null,null,null,null,"→","Cliquez pour voir les ressources de Niveau 2",null,null,null,null,null,{"$f":"Activities!H6","v":"Les interconnexions entre les systèmes de surveillance actuels ont été évaluées parmi les secteurs et à tous les niveaux du pays"}]
[null,null,null,null,null,null,null,null,null,null,null,null,null,null,null,null,null,null,null,null,null,null,null,"→","Cliquez pour voir les ressources de Niveau 3",null,null,null,null,null,{"$f":"Activities!H7","v":"Les interconnexions entre les systèmes de surveillance coordonnés ont été évaluées et sont considérées comme étant conformes aux objectifs du système de surveillance coordonné"}]
[]
[null,null,null,null,null,null,{"$f":"\"\"&Activities!G8","v":"E-3 Évaluation des cadres juridiques"},null,null,null,{"$f":"IF('Policy & Legal'!O44=0,AE29,IF(AND('Policy & Legal'!O44=1,'Policy & Legal'!AG44=0),AE31,\"Complete\"))","v":"Les cadres juridiques (règles, politiques, directives et réglementations, y compris les normes internationales) qui régissent les normes d'éthique et de confidentialité en matière de surveillance et de partage des données ont été évalués"},null,null,null,null,null,null,null,null,{"$f":"IF('Policy & Legal'!O44=\"\",\"N/A\",IF(AND('Policy & Legal'!O44=0),\"1\",IF(AND('Policy & Legal'!O44=1,'Policy & Legal'!AG44=0),\"3\",\"Complete\")))","v":"N/A"},null,null,null,"→","Cliquez pour voir les ressources de Niveau 1",null,null,null,null,null,{"$f":"Activities!H8","v":"Les cadres juridiques (règles, politiques, directives et réglementations, y compris les normes internationales) qui régissent les normes d'éthique et de confidentialité en matière de surveillance et de partage des données ont été évalués"}]
[null,null,null,null,null,null,null,null,null,null,null,null,null,null,null,null,null,null,null,null,null,null,null,"→"]
[null,null,null,null,null,null,null,null,null,null,null,null,null,null,null,null,null,null,null,null,null,null,null,"→","Aucune ressource de Niveau 3 (voir Niveau 1)",null,null,null,null,null,{"$f":"Activities!H9","v":"Les cadres juridiques (règles, politiques, directives et réglementations, y compris les normes internationales) qui régissent les normes d'éthique et de confidentialité en matière de surveillance et de partage des données sont évalués à tous les niveaux du pays "}]
[]
[null,null,null,null,null,null,{"$f":"\"\"&Activities!G16","v":"E-4 Cartographie des infrastructures"},null,null,null,{"$f":"IF('Plans & Organization'!O60=0,AE33,IF(AND('Plans & Organization'!O60=1,'Plans & Organization'!X60=0),AE34,IF(AND('Plans & Organization'!X60=1,'Plans & Organization'!AG60=0),AE35,\"Complete\")))","v":"Des exercices basiques de cartographie des infrastructures (telle que définie au point 4.1 du GTZ) ont été utilisés pour décrire la structure et les connexions sectorielles et intersectorielles "},null,null,null,null,null,null,null,null,{"$f":"IF('Plans & Organization'!O60=\"\",\"N/A\",IF(AND('Plans & Organization'!O60=0),\"1\",IF(AND('Plans & Organization'!O60=1,'Plans & Organization'!X60=0),\"2\",IF(AND('Plans & Organization'!X60=1,'Plans & Organization'!AG60=0),\"3\",\"Complete\"))))","v":"N/A"},null,null,null,"→","Cliquez pour voir les ressources de Niveau 1",null,null,null,null,null,{"$f":"Activities!H16","v":"Des exercices basiques de cartographie des infrastructures (telle que définie au point 4.1 du GTZ) ont été utilisés pour décrire la structure et les connexions sectorielles et intersectorielles "}]
[null,null,null,null,null,null,null,null,null,null,null,null,null,null,null,null,null,null,null,null,null,null,null,"→","Cliquez pour voir les ressources de Niveau 2",null,null,null,null,null,{"$f":"Activities!H17","v":"La cartographie des infrastructures (telle que décrite au point 4.1 du GTZ) a été utilisée pour décrire la plupart des domaines à cartographier"}]
[null,null,null,null,null,null,null,null,null,null,null,null,null,null,null,null,null,null,null,null,null,null,null,"→","Aucune ressource de Niveau 3 (voir Niveau 2)",null,null,null,null,null,{"$f":"Activities!H18","v":"La cartographie complète des infrastructures (telle que décrite au point 4.1 du GTZ) a été utilisée pour décrire la totalité des domaines à cartographier."}]
[]
[null,null,null,null,null,null,{"$f":"\"\"&Activities!G19","v":"E-5 Évaluation des besoins économiques"},null,null,null,{"$f":"IF('Budgets & Finances'!O44=0,AE37,IF(AND('Budgets & Finances'!O44=1,'Budgets & Finances'!AG44=0),AE39,\"Complete\"))","v":"Des évaluations économiques ont été utilisées pour déterminer les besoins financiers nationaux du système de surveillance coordonné "},null,null,null,null,null,null,null,null,{"$f":"IF('Budgets & Finances'!O44=\"\",\"N/A\",IF(AND('Budgets & Finances'!O44=0),\"1\",IF(AND('Budgets & Finances'!O44=1,'Budgets & Finances'!AG44=0),\"3\",\"Complete\")))","v":"N/A"},null,null,null,"→","Cliquez pour voir les ressources de Niveau 1",null,null,null,null,null,{"$f":"Activities!H19","v":"Des évaluations économiques ont été utilisées pour déterminer les besoins financiers nationaux du système de surveillance coordonné "}]
[]
[null,null,null,null,null,null,null,null,null,null,null,null,null,null,null,null,null,null,null,null,null,null,null,"→","Cliquez pour voir les ressources de Niveau 3",null,null,null,null,null,{"$f":"Activities!H20","v":"Des évaluations économiques ont été utilisées pour déterminer les besoins financiers à tous les niveaux du pays du système de surveillance coordonné "}]
[]
[null,null,null,null,null,null,{"$f":"\"\"&Activities!G21","v":"E-6 Évaluation de la capacité des laboratoires"},null,null,null,{"$f":"IF(Laboratory!O44=0,AE41,IF(AND(Laboratory!O44=1,Laboratory!X44=0),AE42,IF(AND(Laboratory!X44=1,Laboratory!AG44=0),AE43,\"Complete\")))","v":"Des évaluations de laboratoires ont été utilisées pour identifier des laboratoires de référence nationaux ou internationaux qualifiés capables d'effectuer des tests pour soutenir les activités de surveillance coordonnées"},null,null,null,null,null,null,null,null,{"$f":"IF(Laboratory!O44=\"\",\"N/A\",IF(AND(Laboratory!O44=0),\"1\",IF(AND(Laboratory!O44=1,Laboratory!X44=0),\"2\",IF(AND(Laboratory!X44=1,Laboratory!AG44=0),\"3\",\"Complete\"))))","v":"N/A"},null,null,null,"→","Cliquez pour voir les ressources de Niveau 1",null,null,null,null,null,{"$f":"Activities!H21","v":"Des évaluations de laboratoires ont été utilisées pour identifier des laboratoires de référence nationaux ou internationaux qualifiés capables d'effectuer des tests pour soutenir les activités de surveillance coordonnées"}]
[null,null,null,null,null,null,null,null,null,null,null,null,null,null,null,null,null,null,null,null,null,null,null,"→","Cliquez pour voir les ressources de Niveau 2",null,null,null,null,null,{"$f":"Activities!H22","v":" Des évaluations de laboratoires ont été utilisées pour identifier à tous les niveaux (y compris international) des laboratoires qualifiés capables d'effectuer des tests pour soutenir les activités de surveillance coordonnées"}]
[null,null,null,null,null,null,null,null,null,null,null,null,null,null,null,null,null,null,null,null,null,null,null,"→","Aucune ressource de Niveau 3 (voir Niveau 2)",null,null,null,null,null,{"$f":"Activities!H23","v":"Des évaluations de laboratoires ont été utilisées pour identifier un réseau de laboratoires qualifiés capables d'effectuer des tests pour soutenir les activités de surveillance coordonnées"}]
[]
[null,null,null,null,null,null,{"$f":"\"\"&Activities!G24","v":"E-7 Évaluation du transport et de l'interprétation des laboratoires"},null,null,null,{"$f":"IF(Laboratory!O62=0,AE45,IF(AND(Laboratory!O62=1,Laboratory!X62=0),AE46,IF(AND(Laboratory!X62=1,Laboratory!AG62=0),AE47,\"Complete\")))","v":"L'harmonisation des fournitures, des chaînes de transport et de l'interprétation des résultats des laboratoires a été évaluée entre les secteurs participants au niveau national"},null,null,null,null,null,null,null,null,{"$f":"IF(Laboratory!O62=\"\",\"N/A\",IF(AND(Laboratory!O62=0),\"1\",IF(AND(Laboratory!O62=1,Laboratory!X62=0),\"2\",IF(AND(Laboratory!X62=1,Laboratory!AG62=0),\"3\",\"Complete\"))))","v":"N/A"},null,null,null,"→","Cliquez pour voir les ressources de Niveau 1",null,null,null,null,null,{"$f":"Activities!H24","v":"L'harmonisation des fournitures, des chaînes de transport et de l'interprétation des résultats des laboratoires a été évaluée entre les secteurs participants au niveau national"}]
[null,null,null,null,null,null,null,null,null,null,null,null,null,null,null,null,null,null,null,null,null,null,null,"→","Cliquez pour voir les ressources de Niveau 2",null,null,null,null,null,{"$f":"Activities!H25","v":"L'harmonisation des fournitures, des chaînes de transport et de l'interprétation des résultats des laboratoires entre les secteurs participants a été évaluée à tous les niveaux du pays"}]
[null,null,null,null,null,null,null,null,null,null,null,null,null,null,null,null,null,null,null,null,null,null,null,"→","Aucune ressource de Niveau 3 (voir Niveau 2)",null,null,null,null,null,{"$f":"Activities!H26","v":"Le degré d'harmonisation dans les fournitures, les chaînes de transport et l'interprétation des résultats entre les secteurs participants a été évalué et considéré comme étant conforme aux objectifs du système de surveillance coordonné"}]
[]
[null,null,null,null,null,null,{"$f":"\"\"&Activities!G27","v":"E-8 Évaluation des ressources humaines"},null,null,null,{"$f":"IF(Workforce!O44=0,AE49,IF(AND(Workforce!O44=1,Workforce!AG44=0),AE51,\"Complete\"))","v":"Des évaluations ont été réalisées pour identifier les exigences, les compétences, les besoins et les lacunes au niveau national en matière de ressources humaines"},null,null,null,null,null,null,null,null,{"$f":"IF(Workforce!O44=\"\",\"N/A\",IF(AND(Workforce!O44=0),\"1\",IF(AND(Workforce!O44=1,Workforce!AG44=0),\"3\",\"Complete\")))","v":"N/A"},null,null,null,"→","Cliquez pour voir les ressources de Niveau 1",null,null,null,null,null,{"$f":"Activities!H27","v":"Des évaluations ont été réalisées pour identifier les exigences, les compétences, les besoins et les lacunes au niveau national en matière de ressources humaines"}]
[]
[null,null,null,null,null,null,null,null,null,null,null,null,null,null,null,null,null,null,null,null,null,null,null,"→","Cliquez pour voir les ressources de Niveau 3",null,null,null,null,null,{"$f":"Activities!H28","v":" Des évaluations ont été réalisées pour identifier les exigences, les compétences, les besoins et les lacunes à tous les niveaux du pays en matière de ressources humaines"}]
[]
[null,"Planification",null,null,null,null,{"$f":"\"\"&Activities!L2","v":"PL-1 Volonté politique"},null,null,null,{"$f":"IF(Stakeholders!O66=0,AE53,IF(AND(Stakeholders!O66=1,Stakeholders!X66=0),AE54,IF(AND(Stakeholders!X66=1,Stakeholders!AG66=0),AE55,\"Complete\")))","v":"Les décideurs pour le système de surveillance coordonné ont été identifiés"},null,null,null,null,null,null,null,null,{"$f":"IF(Stakeholders!O66=\"\",\"N/A\",IF(AND(Stakeholders!O66=0),\"1\",IF(AND(Stakeholders!O66=1,Stakeholders!X66=0),\"2\",IF(AND(Stakeholders!X66=1,Stakeholders!AG66=0),\"3\",\"Complete\"))))","v":"N/A"},null,null,null,"→","Cliquez pour voir les ressources de Niveau 1",null,null,null,null,null,{"$f":"Activities!M2","v":"Les décideurs pour le système de surveillance coordonné ont été identifiés"}]
[null,null,null,null,null,null,null,null,null,null,null,null,null,null,null,null,null,null,null,null,null,null,null,"→","Cliquez pour voir les ressources de Niveau 2",null,null,null,null,null,{"$f":"Activities!M3","v":"Il existe une volonté politique de mettre en place un système de surveillance coordonné, ainsi que des défenseurs à tous les niveaux du pays"}]
[null,null,null,null,null,null,null,null,null,null,null,null,null,null,null,null,null,null,null,null,null,null,null,"→","Cliquez pour voir les ressources de Niveau 3",null,null,null,null,null,{"$f":"Activities!M4","v":"Il existe une stratégie de promotion qui communique aux décideurs des informations sur le système de surveillance coordonné"}]
[]
[null,null,null,null,null,null,{"$f":"\"\"&Activities!L5","v":"PL-2 Éléments de données communs"},null,null,null,{"$f":"IF('Data Storage & Sharing'!O44=0,AE57,IF(AND('Data Storage & Sharing'!O44=1,'Data Storage & Sharing'!X44=0),AE58,IF(AND('Data Storage & Sharing'!X44=1,'Data Storage & Sharing'!AG44=0),AE59,\"Complete\")))","v":"Les éléments de données communs sont identifiés et accordés au sein de chaque secteur participant dans le but de remplir les objectifs analytiques communs du système de surveillance coordonné au niveau national"},null,null,null,null,null,null,null,null,{"$f":"IF('Data Storage & Sharing'!O44=\"\",\"N/A\",IF(AND('Data Storage & Sharing'!O44=0),\"1\",IF(AND('Data Storage & Sharing'!O44=1,'Data Storage & Sharing'!X44=0),\"2\",IF(AND('Data Storage & Sharing'!X44=1,'Data Storage & Sharing'!AG44=0),\"3\",\"Complete\"))))","v":"N/A"},null,null,null,"→","Cliquez pour voir les ressources de Niveau 1",null,null,null,null,null,{"$f":"Activities!M5","v":"Les éléments de données communs sont identifiés et accordés au sein de chaque secteur participant dans le but de remplir les objectifs analytiques communs du système de surveillance coordonné au niveau national"}]
[null,null,null,null,null,null,null,null,null,null,null,null,null,null,null,null,null,null,null,null,null,null,null,"→","Cliquez pour voir les ressources de Niveau 2",null,null,null,null,null,{"$f":"Activities!M6","v":"Les éléments de données communs sont identifiés et accordés au sein de chaque secteur participant dans le but de remplir les objectifs analytiques communs du système de surveillance coordonné à tous les niveaux du pays"}]
[null,null,null,null,null,null,null,null,null,null,null,null,null,null,null,null,null,null,null,null,null,null,null,"→","Cliquez pour voir les ressources de Niveau 3",null,null,null,null,null,{"$f":"Activities!M7","v":"Les éléments de données communs sont normalisés entre les secteurs participants sur la base des objectifs analytiques communs du système de surveillance coordonné et sont conformes aux normes internationales en matière de données"}]
[]
[null,null,null,null,null,null,{"$f":"\"\"&Activities!L8","v":"PL-3 Cadres et plans stratégiques pour une surveillance coordonnée"},null,null,null,{"$f":"IF('Plans & Organization'!O82=0,AE61,IF(AND('Plans & Organization'!O82=1,'Plans & Organization'!X82=0),AE62,IF(AND('Plans & Organization'!X82=1,'Plans & Organization'!AG82=0),AE63,\"Complete\")))","v":"Une collecte et un examen multisectoriels des documents stratégiques nationaux (stratégies, cadres et plans stratégiques) liés au système de surveillance coordonné ont été effectués à des fins de planification"},null,null,null,null,null,null,null,null,{"$f":"IF('Plans & Organization'!O82=\"\",\"N/A\",IF(AND('Plans & Organization'!O82=0),\"1\",IF(AND('Plans & Organization'!O82=1,'Plans & Organization'!X82=0),\"2\",IF(AND('Plans & Organization'!X82=1,'Plans & Organization'!AG82=0),\"3\",\"Complete\"))))","v":"N/A"},null,null,null,"→","Cliquez pour voir les ressources de Niveau 1",null,null,null,null,null,{"$f":"Activities!M8","v":"Une collecte et un examen multisectoriels des documents stratégiques nationaux (stratégies, cadres et plans stratégiques) liés au système de surveillance coordonné ont été effectués à des fins de planification"}]
[null,null,null,null,null,null,null,null,null,null,null,null,null,null,null,null,null,null,null,null,null,null,null,"→","Cliquez pour voir les ressources de Niveau 2",null,null,null,null,null,{"$f":"Activities!M9","v":"Les documents stratégiques nationaux (stratégies, cadres et plans stratégiques) du système de surveillance coordonné ont été consolidés et interconnectés sur la base d'une évaluation à tous les niveaux du pays"}]
[null,null,null,null,null,null,null,null,null,null,null,null,null,null,null,null,null,null,null,null,null,null,null,"→","Cliquez pour voir les ressources de Niveau 3",null,null,null,null,null,{"$f":"Activities!M10","v":"Les documents stratégiques (stratégies, cadres et plans stratégiques) révisés du système de surveillance coordonné ont été alignés sur les recommandations et les normes internationales."}]
[]
[null,null,null,null,null,null,{"$f":"\"\"&Activities!L11","v":"PL-4 Plans opérationnels au niveau national "},null,null,null,{"$f":"IF('Plans & Organization'!O98=0,AE65,IF(AND('Plans & Organization'!O98=1,'Plans & Organization'!X98=0),AE66,IF(AND('Plans & Organization'!X98=1,'Plans & Organization'!AG98=0),AE67,\"Complete\")))","v":"Une collecte et un examen multisectoriels des plans opérationnels et autres documents importants (y compris des plans de surveillance, des définitions de cas, des protocoles et des procédures opérationnelles standard) liés au système de surveillance coordonné ont été effectués à des fins de planification\n"},null,null,null,null,null,null,null,null,{"$f":"IF('Plans & Organization'!O98=\"\",\"N/A\",IF(AND('Plans & Organization'!O98=0),\"1\",IF(AND('Plans & Organization'!O98=1,'Plans & Organization'!X98=0),\"2\",IF(AND('Plans & Organization'!X98=1,'Plans & Organization'!AG98=0),\"3\",\"Complete\"))))","v":"N/A"},null,null,null,"→","Cliquez pour voir les ressources de Niveau 1",null,null,null,null,null,{"$f":"Activities!M11","v":"Une collecte et un examen multisectoriels des plans opérationnels et autres documents importants (y compris des plans de surveillance, des définitions de cas, des protocoles et des procédures opérationnelles standard) liés au système de surveillance coordonné ont été effectués à des fins de planification\n"}]
[null,null,null,null,null,null,null,null,null,null,null,null,null,null,null,null,null,null,null,null,null,null,null,"→","Cliquez pour voir les ressources de Niveau 2",null,null,null,null,null,{"$f":"Activities!M12","v":"Les plans opérationnels et autres documents importants (y compris des plans de surveillance, des définitions de cas, des protocoles et des procédures opérationnelles standard) révisés liés au système de surveillance coordonné et de partage d'informations ont été approuvés par les organisations chargées de la surveillance à tous les niveaux du pays\n"}]
[null,null,null,null,null,null,null,null,null,null,null,null,null,null,null,null,null,null,null,null,null,null,null,"→","Cliquez pour voir les ressources de Niveau 3",null,null,null,null,null,{"$f":"Activities!M13","v":"Les plans opérationnels (y compris les plans de surveillance, les définitions de cas, les protocoles et les procédures opérationnelles standard) révisés pour le système de surveillance coordonné sont alignés sur les directives et recommandations internationales.\n"}]
[]
[null,null,null,null,null,null,{"$f":"\"\"&Activities!L14","v":"PL-5 Planification financière"},null,null,null,{"$f":"IF('Budgets & Finances'!O66=0,AE69,IF(AND('Budgets & Finances'!O66=1,'Budgets & Finances'!X66=0),AE70,IF(AND('Budgets & Finances'!X66=1,'Budgets & Finances'!AG66=0),AE71,\"Complete\")))","v":"Il existe un plan budgétaire et un mécanisme de distribution des fonds destinés à la surveillance coordonnée au niveau national"},null,null,null,null,null,null,null,null,{"$f":"IF('Budgets & Finances'!O66=\"\",\"N/A\",IF(AND('Budgets & Finances'!O66=0),\"1\",IF(AND('Budgets & Finances'!O66=1,'Budgets & Finances'!X66=0),\"2\",IF(AND('Budgets & Finances'!X66=1,'Budgets & Finances'!AG66=0),\"3\",\"Complete\"))))","v":"N/A"},null,null,null,"→","Cliquez pour voir les ressources de Niveau 1",null,null,null,null,null,{"$f":"Activities!M14","v":"Il existe un plan budgétaire et un mécanisme de distribution des fonds destinés à la surveillance coordonnée au niveau national"}]
[null,null,null,null,null,null,null,null,null,null,null,null,null,null,null,null,null,null,null,null,null,null,null,"→","Aucune ressource de Niveau 2 (voir Niveau 1)",null,null,null,null,null,{"$f":"Activities!M15","v":"Il existe un plan budgétaire et un mécanisme de distribution des fonds destinés à la surveillance coordonnée à tous les niveaux du pays"}]
[null,null,null,null,null,null,null,null,null,null,null,null,null,null,null,null,null,null,null,null,null,null,null,"→","Aucune ressource de Niveau 3 (voir Niveau 1)",null,null,null,null,null,{"$f":"Activities!M16","v":"Le plan budgétaire et un mécanisme de distribution des fonds ont été évalués et considérés comme étant conformes aux objectifs du système de surveillance coordonné. "}]
[]
[null,null,null,null,null,null,{"$f":"\"\"&Activities!L17","v":"PL-6 Planification des ressources humaines"},null,null,null,{"$f":"IF(Workforce!O66=0,AE73,IF(AND(Workforce!O66=1,Workforce!X66=0),AE74,IF(AND(Workforce!X66=1,Workforce!AG66=0),AE75,\"Complete\")))","v":"Il existe un plan d'éducation et de formation pour le système de surveillance coordonné, basé sur l'évaluation des ressources humaines au niveau national"},null,null,null,null,null,null,null,null,{"$f":"IF(Workforce!O66=\"\",\"N/A\",IF(AND(Workforce!O66=0),\"1\",IF(AND(Workforce!O66=1,Workforce!X66=0),\"2\",IF(AND(Workforce!X66=1,Workforce!AG66=0),\"3\",\"Complete\"))))","v":"N/A"},null,null,null,"→","Cliquez pour voir les ressources de Niveau 1",null,null,null,null,null,{"$f":"Activities!M17","v":"Il existe un plan d'éducation et de formation pour le système de surveillance coordonné, basé sur l'évaluation des ressources humaines au niveau national"}]
[null,null,null,null,null,null,null,null,null,null,null,null,null,null,null,null,null,null,null,null,null,null,null,"→","Aucune ressource de Niveau 2 (voir Niveau 1)",null,null,null,null,null,{"$f":"Activities!M18","v":"Il existe un plan d'éducation et de formation pour le système de surveillance coordonné, basé sur l'évaluation des ressources humaines à tous les niveaux du pays"}]
[null,null,null,null,null,null,null,null,null,null,null,null,null,null,null,null,null,null,null,null,null,null,null,"→","Aucune ressource de Niveau 3 (voir Niveau 1)",null,null,null,null,null,{"$f":"Activities!M19","v":"L'éducation et la formation de la main-d'œuvre sont liées à la planification multisectorielle nationale des ressources humaines et s'appuient sur les compétences et les évaluations internationales.\n"}]
[]
[null,null,null,null,null,null,{"$f":"\"\"&Activities!L20","v":"PL-7 Planification des cadres juridiques"},null,null,null,{"$f":"IF('Policy & Legal'!O66=0,AE77,IF(AND('Policy & Legal'!O66=1,'Policy & Legal'!X66=0),AE78,IF(AND('Policy & Legal'!X66=1,'Policy & Legal'!AG66=0),AE79,\"Complete\")))","v":"Les cadres juridiques nécessaires (règles, politiques, directives et réglementations, y compris les normes internationales) ont été normalisés entre les différents secteurs sur la base d'une évaluation au niveau national"},null,null,null,null,null,null,null,null,{"$f":"IF('Policy & Legal'!O66=\"\",\"N/A\",IF(AND('Policy & Legal'!O66=0),\"1\",IF(AND('Policy & Legal'!O66=1,'Policy & Legal'!X66=0),\"2\",IF(AND('Policy & Legal'!X66=1,'Policy & Legal'!AG66=0),\"3\",\"Complete\"))))","v":"N/A"},null,null,null,"→","Cliquez pour voir les ressources de Niveau 1",null,null,null,null,null,{"$f":"Activities!M20","v":"Les cadres juridiques nécessaires (règles, politiques, directives et réglementations, y compris les normes internationales) ont été normalisés entre les différents secteurs sur la base d'une évaluation au niveau national"}]
[null,null,null,null,null,null,null,null,null,null,null,null,null,null,null,null,null,null,null,null,null,null,null,"→","Aucune ressource de Niveau 2 (voir Niveau 1)",null,null,null,null,null,{"$f":"Activities!M21","v":"Les cadres juridiques nécessaires (règles, politiques, directives et réglementations, y compris les normes internationales) ont été normalisés entre les différents secteurs sur la base d'une évaluation à tous les niveaux du pays"}]
[null,null,null,null,null,null,null,null,null,null,null,null,null,null,null,null,null,null,null,null,null,null,null,"→","Cliquez pour voir les ressources de Niveau 3",null,null,null,null,null,{"$f":"Activities!M22","v":"Les cadres juridiques révisés du système de surveillance coordonné ont été alignés sur les recommandations et les normes internationales. "}]
[]
[null,null,null,null,null,null,{"$f":"\"\"&Activities!L23","v":"PL-8 Planification coordonnée de la communication"},null,null,null,{"$f":"IF('Communication & Reporting'!O44=0,AE81,IF(AND('Communication & Reporting'!O44=1,'Communication & Reporting'!X44=0),AE82,IF(AND('Communication & Reporting'!X44=1,'Communication & Reporting'!AG44=0),AE83,\"Complete\")))","v":"La terminologie et les messages de communication sont alignés sur l'ensemble des secteurs participant au système de surveillance coordonné au niveau national."},null,null,null,null,null,null,null,null,{"$f":"IF('Communication & Reporting'!O44=\"\",\"N/A\",IF(AND('Communication & Reporting'!O44=0),\"1\",IF(AND('Communication & Reporting'!O44=1,'Communication & Reporting'!X44=0),\"2\",IF(AND('Communication & Reporting'!X44=1,'Communication & Reporting'!AG44=0),\"3\",\"Complete\"))))","v":"N/A"},null,null,null,"→","Cliquez pour voir les ressources de Niveau 1",null,null,null,null,null,{"$f":"Activities!M23","v":"La terminologie et les messages de communication sont alignés sur l'ensemble des secteurs participant au système de surveillance coordonné au niveau national."}]
[null,null,null,null,null,null,null,null,null,null,null,null,null,null,null,null,null,null,null,null,null,null,null,"→","Cliquez pour voir les ressources de Niveau 2",null,null,null,null,null,{"$f":"Activities!M24","v":"La terminologie et les messages de communication sont alignés sur l'ensemble des secteurs participant au système de surveillance coordonné et diffusés à tous les niveaux du pays"}]
[null,null,null,null,null,null,null,null,null,null,null,null,null,null,null,null,null,null,null,null,null,null,null,"→","Cliquez pour voir les ressources de Niveau 3",null,null,null,null,null,{"$f":"Activities!M25","v":"Il existe une stratégie et/ou un plan de communication (comprenant une terminologie et une messagerie) qui régissent la communication avec les parties prenantes et le public pour le système de surveillance coordonné"}]
[]
[null,"Mise en œuvre",null,null,null,null,{"$f":"\"\"&Activities!Q2","v":"ME-1 Mobilisation des ressources financières"},null,null,null,{"$f":"IF('Budgets & Finances'!O88=0,AE85,IF(AND('Budgets & Finances'!O88=1,'Budgets & Finances'!X88=0),AE86,IF(AND('Budgets & Finances'!X88=1,'Budgets & Finances'!AG88=0),AE87,\"Complete\")))","v":"Il existe un financement destiné à la surveillance coordonnée au niveau national"},null,null,null,null,null,null,null,null,{"$f":"IF('Budgets & Finances'!O88=\"\",\"N/A\",IF(AND('Budgets & Finances'!O88=0),\"1\",IF(AND('Budgets & Finances'!O88=1,'Budgets & Finances'!X88=0),\"2\",IF(AND('Budgets & Finances'!X88=1,'Budgets & Finances'!AG88=0),\"3\",\"Complete\"))))","v":"N/A"},null,null,null,"→","Cliquez pour voir les ressources de Niveau 1",null,null,null,null,null,{"$f":"Activities!R2","v":"Il existe un financement destiné à la surveillance coordonnée au niveau national"}]
[null,null,null,null,null,null,null,null,null,null,null,null,null,null,null,null,null,null,null,null,null,null,null,"→","Cliquez pour voir les ressources de Niveau 2",null,null,null,null,null,{"$f":"Activities!R3","v":"Il existe un financement destiné à la surveillance coordonnée à tous les niveaux du pays"}]
[null,null,null,null,null,null,null,null,null,null,null,null,null,null,null,null,null,null,null,null,null,null,null,"→","Cliquez pour voir les ressources de Niveau 3",null,null,null,null,null,{"$f":"Activities!R4","v":"Un financement durable (c'est-à-dire intégré au budget national) est alloué aux activités de surveillance coordonnées, et a été évalué et considéré comme étant conforme aux objectifs du système de surveillance coordonné"}]
[]
[null,null,null,null,null,null,{"$f":"\"\"&Activities!Q5","v":"ME-2 Mobilisation des ressources humaines et des parties prenantes"},null,null,null,{"$f":"IF(Stakeholders!O88=0,AE89,IF(AND(Stakeholders!O88=1,Stakeholders!X88=0),AE90,IF(AND(Stakeholders!X88=1,Stakeholders!AG88=0),AE91,\"Complete\")))","v":"Des coordonnateurs ou des groupes de travail techniques se réunissent de façon ad hoc"},null,null,null,null,null,null,null,null,{"$f":"IF(Stakeholders!O88=\"\",\"N/A\",IF(AND(Stakeholders!O88=0),\"1\",IF(AND(Stakeholders!O88=1,Stakeholders!X88=0),\"2\",IF(AND(Stakeholders!X88=1,Stakeholders!AG88=0),\"3\",\"Complete\"))))","v":"N/A"},null,null,null,"→","Cliquez pour voir les ressources de Niveau 1",null,null,null,null,null,{"$f":"Activities!R5","v":"Des coordonnateurs ou des groupes de travail techniques se réunissent de façon ad hoc"}]
[null,null,null,null,null,null,null,null,null,null,null,null,null,null,null,null,null,null,null,null,null,null,null,"→","Cliquez pour voir les ressources de Niveau 2",null,null,null,null,null,{"$f":"Activities!R6","v":"Des coordonnateurs ou des groupes de travail techniques se réunissent régulièrement et abordent les questions prioritaires au fur et à mesure qu'elles se présentent"}]
[null,null,null,null,null,null,null,null,null,null,null,null,null,null,null,null,null,null,null,null,null,null,null,"→","Cliquez pour voir les ressources de Niveau 3",null,null,null,null,null,{"$f":"Activities!R7","v":"Des groupes de travail techniques effectuent un examen régulier et optimisent les activités de surveillance coordonnées "}]
[]
[null,null,null,null,null,null,{"$f":"\"\"&Activities!Q8","v":"ME-3 Échange de données et partage d'informations"},null,null,null,{"$f":"IF('Data Storage & Sharing'!O65=0,AE93,IF(AND('Data Storage & Sharing'!O65=1,'Data Storage & Sharing'!X65=0),AE94,IF(AND('Data Storage & Sharing'!X65=1,'Data Storage & Sharing'!AG65=0),AE95,\"Complete\")))","v":"Il existe un mécanisme de partage de données entre les secteurs au niveau national"},null,null,null,null,null,null,null,null,{"$f":"IF('Data Storage & Sharing'!O65=\"\",\"N/A\",IF(AND('Data Storage & Sharing'!O65=0),\"1\",IF(AND('Data Storage & Sharing'!O65=1,'Data Storage & Sharing'!X65=0),\"2\",IF(AND('Data Storage & Sharing'!X65=1,'Data Storage & Sharing'!AG65=0),\"3\",\"Complete\"))))","v":"N/A"},null,null,null,"→","Cliquez pour voir les ressources de Niveau 1",null,null,null,null,null,{"$f":"Activities!R8","v":"Il existe un mécanisme de partage de données entre les secteurs au niveau national"}]
[null,null,null,null,null,null,null,null,null,null,null,null,null,null,null,null,null,null,null,null,null,null,null,"→","Cliquez pour voir les ressources de Niveau 2",null,null,null,null,null,{"$f":"Activities!R9","v":"Il existe un mécanisme de partage des données entre les secteurs à tous les niveaux du pays"}]
[null,null,null,null,null,null,null,null,null,null,null,null,null,null,null,null,null,null,null,null,null,null,null,"→","Cliquez pour voir les ressources de Niveau 3",null,null,null,null,null,{"$f":"Activities!R10","v":"Il existe un mécanisme de partage de données qui est accessible, fonctionnel et utilisable par tous les secteurs participants"}]
[]
[null,null,null,null,null,null,{"$f":"\"\"&Activities!Q11","v":"ME-4 Stockage des données"},null,null,null,{"$f":"IF('Data Storage & Sharing'!O81=0,AE97,IF(AND('Data Storage & Sharing'!O81=1,'Data Storage & Sharing'!X81=0),AE98,IF(AND('Data Storage & Sharing'!X81=1,'Data Storage & Sharing'!AG81=0),AE99,\"Complete\")))","v":"Une structure et un lieu sont prévus pour stocker et conserver les données de plusieurs secteurs au niveau national."},null,null,null,null,null,null,null,null,{"$f":"IF('Data Storage & Sharing'!O81=\"\",\"N/A\",IF(AND('Data Storage & Sharing'!O81=0),\"1\",IF(AND('Data Storage & Sharing'!O81=1,'Data Storage & Sharing'!X81=0),\"2\",IF(AND('Data Storage & Sharing'!X81=1,'Data Storage & Sharing'!AG81=0),\"3\",\"Complete\"))))","v":"N/A"},null,null,null,"→","Cliquez pour voir les ressources de Niveau 1",null,null,null,null,null,{"$f":"Activities!R11","v":"Une structure et un lieu sont prévus pour stocker et conserver les données de plusieurs secteurs au niveau national."}]
[null,null,null,null,null,null,null,null,null,null,null,null,null,null,null,null,null,null,null,null,null,null,null,"→","Cliquez pour voir les ressources de Niveau 2",null,null,null,null,null,{"$f":"Activities!R12","v":"Une structure et un lieu sont prévus pour stocker et conserver les données de plusieurs secteurs à tous les niveaux du pays"}]
[null,null,null,null,null,null,null,null,null,null,null,null,null,null,null,null,null,null,null,null,null,null,null,"→","Cliquez pour voir les ressources de Niveau 3",null,null,null,null,null,{"$f":"Activities!R13","v":"Il existe une structure et un endroit pour stocker et conserver les données de tous les secteurs concernés par la surveillance qui sont accessibles, fonctionnels et utilisables par tous les secteurs participants"}]
[]
[null,null,null,null,null,null,{"$f":"\"\"&Activities!Q14","v":"ME-5 Mesures relatives à la confidentialité et à la sécurité des données"},null,null,null,{"$f":"IF('Data Storage & Sharing'!O97=0,AE101,IF(AND('Data Storage & Sharing'!O97=1,'Data Storage & Sharing'!X97=0),AE102,IF(AND('Data Storage & Sharing'!X97=1,'Data Storage & Sharing'!AG97=0),AE103,\"Complete\")))","v":"Il existe des mesures de confidentialité et de sécurité des données visant à protéger les données de surveillance coordonnée au niveau national"},null,null,null,null,null,null,null,null,{"$f":"IF('Data Storage & Sharing'!O97=\"\",\"N/A\",IF(AND('Data Storage & Sharing'!O97=0),\"1\",IF(AND('Data Storage & Sharing'!O97=1,'Data Storage & Sharing'!X97=0),\"2\",IF(AND('Data Storage & Sharing'!X97=1,'Data Storage & Sharing'!AG97=0),\"3\",\"Complete\"))))","v":"N/A"},null,null,null,"→","Cliquez pour voir les ressources de Niveau 1",null,null,null,null,null,{"$f":"Activities!R14","v":"Il existe des mesures de confidentialité et de sécurité des données visant à protéger les données de surveillance coordonnée au niveau national"}]
[null,null,null,null,null,null,null,null,null,null,null,null,null,null,null,null,null,null,null,null,null,null,null,"→","Cliquez pour voir les ressources de Niveau 2",null,null,null,null,null,{"$f":"Activities!R15","v":"Il existe des mesures de confidentialité et de sécurité des données visant à protéger les données de surveillance coordonnée à tous les niveaux du pays"}]
[null,null,null,null,null,null,null,null,null,null,null,null,null,null,null,null,null,null,null,null,null,null,null,"→","Cliquez pour voir les ressources de Niveau 3",null,null,null,null,null,{"$f":"Activities!R16","v":"Il existe des mesures de confidentialité et de sécurité des données visant à protéger les données de surveillance coordonnée, qui ont été évaluées et sont considérées comme étant conformes aux objectifs du système de surveillance coordonné"}]
[]
[null,null,null,null,null,null,{"$f":"\"\"&Activities!Q17","v":"I-6 Mise en œuvre de systèmes de surveillance coordonnés"},null,null,null,{"$f":"IF('Plans & Organization'!O120=0,AE105,IF(AND('Plans & Organization'!O120=1,'Plans & Organization'!X120=0),AE106,IF(AND('Plans & Organization'!X120=1,'Plans & Organization'!AG120=0),AE107,\"Complete\")))","v":"Le système de surveillance coordonné fait l'objet d'un projet pilote dans des zones ciblées"},null,null,null,null,null,null,null,null,{"$f":"IF('Plans & Organization'!O120=\"\",\"N/A\",IF(AND('Plans & Organization'!O120=0),\"1\",IF(AND('Plans & Organization'!O120=1,'Plans & Organization'!X120=0),\"2\",IF(AND('Plans & Organization'!X120=1,'Plans & Organization'!AG120=0),\"3\",\"Complete\"))))","v":"N/A"},null,null,null,"→","Cliquez pour voir les ressources de Niveau 1",null,null,null,null,null,{"$f":"Activities!R17","v":"Le système de surveillance coordonné fait l'objet d'un projet pilote dans des zones ciblées"}]
[null,null,null,null,null,null,null,null,null,null,null,null,null,null,null,null,null,null,null,null,null,null,null,"→","Cliquez pour voir les ressources de Niveau 2",null,null,null,null,null,{"$f":"Activities!R18","v":"Le système de surveillance coordonné a été étendu à d'autres domaines sur la base de mises en œuvre pilotes"}]
[null,null,null,null,null,null,null,null,null,null,null,null,null,null,null,null,null,null,null,null,null,null,null,"→","Cliquez pour voir les ressources de Niveau 3",null,null,null,null,null,{"$f":"Activities!R19","v":"Le système de surveillance coordonné est un programme à l'échelon national"}]
[]
[null,null,null,null,null,null,{"$f":"\"\"&Activities!Q20","v":"ME-7 Partage des données de surveillance"},null,null,null,{"$f":"IF('Data Storage & Sharing'!O113=0,AE109,IF(AND('Data Storage & Sharing'!O113=1,'Data Storage & Sharing'!X113=0),AE110,IF(AND('Data Storage & Sharing'!X113=1,'Data Storage & Sharing'!AG113=0),AE111,\"Complete\")))","v":"Les données de surveillance sont partagées de manière informelle ou formelle de façon ad hoc au niveau national"},null,null,null,null,null,null,null,null,{"$f":"IF('Data Storage & Sharing'!O113=\"\",\"N/A\",IF(AND('Data Storage & Sharing'!O113=0),\"1\",IF(AND('Data Storage & Sharing'!O113=1,'Data Storage & Sharing'!X113=0),\"2\",IF(AND('Data Storage & Sharing'!X113=1,'Data Storage & Sharing'!AG113=0),\"3\",\"Complete\"))))","v":"N/A"},null,null,null,"→","Cliquez pour voir les ressources de Niveau 1",null,null,null,null,null,{"$f":"Activities!R20","v":"Les données de surveillance sont partagées de manière informelle ou formelle de façon ad hoc au niveau national"}]
[null,null,null,null,null,null,null,null,null,null,null,null,null,null,null,null,null,null,null,null,null,null,null,"→","Cliquez pour voir les ressources de Niveau 2",null,null,null,null,null,{"$f":"Activities!R21","v":"Les données de surveillance sont partagées de manière informelle ou formelle, de façon régulière et en temps utile, à tous les niveaux du pays"}]
[null,null,null,null,null,null,null,null,null,null,null,null,null,null,null,null,null,null,null,null,null,null,null,"→","Cliquez pour voir les ressources de Niveau 3",null,null,null,null,null,{"$f":"Activities!R22","v":"Les données de surveillance sont partagées de façon systématique et régulière et en temps utile entre tous les secteurs participants par le biais d'une ou plusieurs plateforme(s) interopérable(s) ou conjointe(s) "}]
[]
[null,null,null,null,null,null,{"$f":"\"\"&Activities!Q23","v":"ME-8 Communication et partage d'informations"},null,null,null,{"$f":"IF('Communication & Reporting'!O65=0,AE113,IF(AND('Communication & Reporting'!O65=1,'Communication & Reporting'!X65=0),AE114,IF(AND('Communication & Reporting'!X65=1,'Communication & Reporting'!AG65=0),AE115,\"Complete\")))","v":"Les informations sont partagées et communiquées de manière ad hoc avec les parties prenantes concernées"},null,null,null,null,null,null,null,null,{"$f":"IF('Communication & Reporting'!O65=\"\",\"N/A\",IF(AND('Communication & Reporting'!O65=0),\"1\",IF(AND('Communication & Reporting'!O65=1,'Communication & Reporting'!X65=0),\"2\",IF(AND('Communication & Reporting'!X65=1,'Communication & Reporting'!AG65=0),\"3\",\"Complete\"))))","v":"N/A"},null,null,null,"→","Cliquez pour voir les ressources de Niveau 1",null,null,null,null,null,{"$f":"Activities!R23","v":"Les informations sont partagées et communiquées de manière ad hoc avec les parties prenantes concernées"}]
[null,null,null,null,null,null,null,null,null,null,null,null,null,null,null,null,null,null,null,null,null,null,null,"→","Cliquez pour voir les ressources de Niveau 2",null,null,null,null,null,{"$f":"Activities!R24","v":"Les informations sont partagées et communiquées de façon régulière avec les parties prenantes concernées"}]
[null,null,null,null,null,null,null,null,null,null,null,null,null,null,null,null,null,null,null,null,null,null,null,"→","Cliquez pour voir les ressources de Niveau 3",null,null,null,null,null,{"$f":"Activities!R25","v":"Il existe un partage régulier et en temps utile des informations avec les parties prenantes concernées, y compris les entités transfrontalières, régionales et internationales"}]
[]
[null,null,null,null,null,null,{"$f":"\"\"&Activities!Q26","v":"ME-9 Exigences internationales en matière de notification"},null,null,null,{"$f":"IF('Communication & Reporting'!O81=0,AE117,\"Complete\")","v":"Les exigences de notification internationale pour toutes les zoonoses sont respectées"},null,null,null,null,null,null,null,null,{"$f":"IF('Communication & Reporting'!O81=\"\",\"N/A\",IF(AND('Communication & Reporting'!O65=0),\"1\",\"Complete\"))","v":"N/A"},null,null,null,"→","Cliquez pour voir les ressources de Niveau 1",null,null,null,null,null,{"$f":"Activities!R26","v":"Les exigences de notification internationale pour toutes les zoonoses sont respectées"}]
[]
[null,null,null,null,null,null,null,null,null,null,null,null,null,null,null,null,null,null,null,null,null,null,null,"→"]
[]
[null,null,null,null,null,null,{"$f":"\"\"&Activities!Q27","v":"ME-10 Visualisation et analyse coordonnées des données"},null,null,null,{"$f":"IF('Communication & Reporting'!O97=0,AE121,IF(AND('Communication & Reporting'!O97=1,'Communication & Reporting'!X97=0),AE122,IF(AND('Communication & Reporting'!X97=1,'Communication & Reporting'!AG97=0),AE123,\"Complete\")))","v":"Des données de surveillance coordonnée sont utilisées pour générer des résultats (par exemple, des chiffres, des graphiques, des rapports ou des bulletins) qui sont diffusés au niveau national"},null,null,null,null,null,null,null,null,{"$f":"IF('Communication & Reporting'!O97=\"\",\"N/A\",IF(AND('Communication & Reporting'!O97=0),\"1\",IF(AND('Communication & Reporting'!O97=1,'Communication & Reporting'!X97=0),\"2\",IF(AND('Communication & Reporting'!X97=1,'Communication & Reporting'!AG97=0),\"3\",\"Complete\"))))","v":"N/A"},null,null,null,"→","Cliquez pour voir les ressources de Niveau 1",null,null,null,null,null,{"$f":"Activities!R27","v":"Des données de surveillance coordonnée sont utilisées pour générer des résultats (par exemple, des chiffres, des graphiques, des rapports ou des bulletins) qui sont diffusés au niveau national"}]
[null,null,null,null,null,null,null,null,null,null,null,null,null,null,null,null,null,null,null,null,null,null,null,"→","Cliquez pour voir les ressources de Niveau 2",null,null,null,null,null,{"$f":"Activities!R28","v":"Des données de surveillance coordonnée sont utilisées pour générer des résultats (par exemple, des chiffres, des graphiques, des rapports ou des bulletins) qui sont diffusés aux parties prenantes à tous les niveaux du pays"}]
[null,null,null,null,null,null,null,null,null,null,null,null,null,null,null,null,null,null,null,null,null,null,null,"→","Cliquez pour voir les ressources de Niveau 3",null,null,null,null,null,{"$f":"Activities!R29","v":"Les données de surveillance coordonnée, y compris les rapports de suivi et d'évaluation (S&E), sont utilisées pour générer des résultats qui orientent la réponse, les politiques et la programmation"}]
[]
[null,"Suivi et évaluation",null,null,null,null,"SE-1\nExercices de simulation",null,null,null,{"$f":"IF('Simulation Exercises'!O44=0,AE125,IF(AND('Simulation Exercises'!O44=1,'Simulation Exercises'!X44=0),AE126,IF(AND('Simulation Exercises'!X44=1,'Simulation Exercises'!AG44=0),AE127,\"Complete\")))","v":"Des exercices de simulation sont réalisés pour évaluer l'efficacité et la fonctionnalité du système de surveillance coordonné au niveau national  "},null,null,null,null,null,null,null,null,{"$f":"IF('Simulation Exercises'!O44=\"\",\"N/A\",IF(AND('Simulation Exercises'!O44=0),\"1\",IF(AND('Simulation Exercises'!O44=1,'Simulation Exercises'!X44=0),\"2\",IF(AND('Simulation Exercises'!X44=1,'Simulation Exercises'!AG44=0),\"3\",\"Complete\"))))","v":"N/A"},null,null,null,"→","Cliquez pour voir les ressources de Niveau 1",null,null,null,null,null,{"$f":"Activities!W2","v":"Des exercices de simulation sont réalisés pour évaluer l'efficacité et la fonctionnalité du système de surveillance coordonné au niveau national  "}]
[null,null,null,null,null,null,null,null,null,null,null,null,null,null,null,null,null,null,null,null,null,null,null,"→","Cliquez pour voir les ressources de Niveau 2",null,null,null,null,null,{"$f":"Activities!W3","v":"Des exercices de simulation sont réalisés pour évaluer l'efficacité et la fonctionnalité du système de surveillance coordonné à tous les niveaux du pays  "}]
[null,null,null,null,null,null,null,null,null,null,null,null,null,null,null,null,null,null,null,null,null,null,null,"→","Cliquez pour voir les ressources de Niveau 3",null,null,null,null,null,{"$f":"Activities!W4","v":"Les résultats des exercices de simulation sont utilisés pour orienter et réviser les plans de surveillance coordonnée "}]
[]
[null,null,null,null,null,null,{"$f":"\"\"&Activities!V5","v":"SE-2 Planification du suivi et de l'évaluation"},null,null,null,{"$f":"IF('M & E Planning'!O44=0,AE129,IF(AND('M & E Planning'!O44=1,'M & E Planning'!X44=0),AE130,IF(AND('M & E Planning'!X44=1,'M & E Planning'!AG44=0),AE131,\"Complete\")))","v":"Il existe un plan de suivi et d'évaluation qui est conforme aux objectifs du système de surveillance coordonné"},null,null,null,null,null,null,null,null,{"$f":"IF('M & E Planning'!O44=\"\",\"N/A\",IF(AND('M & E Planning'!O44=0),\"1\",IF(AND('M & E Planning'!O44=1,'M & E Planning'!X44=0),\"2\",IF(AND('M & E Planning'!X44=1,'M & E Planning'!AG44=0),\"3\",\"Complete\"))))","v":"N/A"},null,null,null,"→","Cliquez pour voir les ressources de Niveau 1",null,null,null,null,null,{"$f":"Activities!W5","v":"Il existe un plan de suivi et d'évaluation qui est conforme aux objectifs du système de surveillance coordonné"}]
[null,null,null,null,null,null,null,null,null,null,null,null,null,null,null,null,null,null,null,null,null,null,null,"→","Aucune ressource de Niveau 2 (voir Niveau 1)",null,null,null,null,null,{"$f":"Activities!W6","v":"Le plan de suivi et d'évaluation est implanté pour surveiller les performances et les avancées du système de surveillance coordonné"}]
[null,null,null,null,null,null,null,null,null,null,null,null,null,null,null,null,null,null,null,null,null,null,null,"→","Aucune ressource de Niveau 3 (voir Niveau 1)",null,null,null,null,null,{"$f":"Activities!W7","v":"Les résultats du suivi et de l'évaluation améliorent ou étendent de manière itérative le système de surveillance coordonné et s'alignent sur les recommandations et les normes internationales. "}]
[]
[null,null,null,null,null,null,"SE-3\nNormes de qualité des données",null,null,null,{"$f":"IF('Data Quality Standards'!O44=0,AE133,IF(AND('Data Quality Standards'!O44=1,'Data Quality Standards'!X44=0),AE134,IF(AND('Data Quality Standards'!X44=1,'Data Quality Standards'!AG44=0),AE135,\"Complete\")))","v":"Il existe une méthodologie de gestion de la qualité des données"},null,null,null,null,null,null,null,null,{"$f":"IF('Data Quality Standards'!O44=\"\",\"N/A\",IF(AND('Data Quality Standards'!O44=0),\"1\",IF(AND('Data Quality Standards'!O44=1,'Data Quality Standards'!X44=0),\"2\",IF(AND('Data Quality Standards'!X44=1,'Data Quality Standards'!AG44=0),\"3\",\"Complete\"))))","v":"N/A"},null,null,null,"→","Cliquez pour voir les ressources de Niveau 1",null,null,null,null,null,{"$f":"Activities!W8","v":"Il existe une méthodologie de gestion de la qualité des données"}]
[null,null,null,null,null,null,null,null,null,null,null,null,null,null,null,null,null,null,null,null,null,null,null,"→","Cliquez pour voir les ressources de Niveau 2",null,null,null,null,null,{"$f":"Activities!W9","v":"La qualité des données a été testée et considérée comme étant conforme aux objectifs du système de surveillance coordonné "}]
[null,null,null,null,null,null,null,null,null,null,null,null,null,null,null,null,null,null,null,null,null,null,null,"→","Cliquez pour voir les ressources de Niveau 3",null,null,null,null,null,{"$f":"Activities!W10","v":"La qualité des données est conforme aux normes et recommandations internationales "}]

{"sheet":"Resource selection","index":4,"n_rows":74,"n_cols":12,"rows_kept":74,"cut":false,"hidden":false,"merged":[[1,1,3,11],[43,1,45,1],[47,1,49,1],[51,1,59,1],[61,1,67,1],[16,1,20,1],[33,1,35,1],[37,1,41,1],[22,1,31,1]]}
[]
[null,"SÉLECTION DES OUTILS ET RESSOURCES"]
[]
[]
[]
[]
[]
[]
[null,"CATÉGORIE",null,"ACTIVITÉ",null,"Niveau de capacité cible",null,"Description",null,"Ressource 1",null,"Ressource 2"]
[]
[null,"Coordonnateurs",null,"PP-1 \nIdentification préliminaire des parties prenantes",null,{"$f":"Results!T9","v":"N/A"},null,{"$f":"Results!K9","v":"Des coordonnateurs, des «champions» ou des groupes de travail techniques ont été identifiés dans tous les secteurs participants au niveau national pour planifier la mise en œuvre de la surveillance coordonnée."}]
[]
[null,"Priorisation",null,"PP-2\nPriorisation",null,{"$f":"Results!T13","v":"N/A"},null,{"$f":"Results!K13","v":"Il existe une liste de zoonoses priorisées à intégrer dans un système de surveillance coordonné"}]
[]
[null,"Établissement des objectifs",null,"PP-3\nÉtablissement des objectifs",null,{"$f":"Results!T17","v":"N/A"},null,{"$f":"Results!K17","v":"Les objectifs, les rôles et les responsabilités de tous les secteurs participant au système de surveillance coordonné sont accordés au niveau national"}]
[]
[null,"Parties prenantes",null,"E-1\nCartographie des parties prenantes",null,{"$f":"Results!T21","v":"N/A"},null,{"$f":"Results!K21","v":"Des parties prenantes travaillant dans les domaines de la surveillance, de l'épidémiologie, des laboratoires et du partage d'informations ont été identifiées"}]
[]
[null,null,null,"PL-1\nVolonté politique",null,{"$f":"Results!T9","v":"N/A"},null,{"$f":"Results!K53","v":"Les décideurs pour le système de surveillance coordonné ont été identifiés"}]
[]
[null,null,null,"ME-2 \nMobilisation des ressources humaines et des parties prenantes",null,{"$f":"Results!T89","v":"N/A"},null,{"$f":"Results!K89","v":"Des coordonnateurs ou des groupes de travail techniques se réunissent de façon ad hoc"}]
[]
[null,"Plans et organisation",null,"E-2\nÉvaluation des connexions entre les systèmes de surveillance",null,{"$f":"Results!T25","v":"N/A"},null,{"$f":"Results!K25","v":"Les interconnexions entre les systèmes de surveillance des zoonoses actuellement priorisées ont été évaluées entre les secteurs"}]
[]
[]
[null,null,null,"E-4\nCartographie des infrastructures",null,{"$f":"Results!T33","v":"N/A"},null,{"$f":"Results!K33","v":"Des exercices basiques de cartographie des infrastructures (telle que définie au point 4.1 du GTZ) ont été utilisés pour décrire la structure et les connexions sectorielles et intersectorielles "}]
[]
[null,null,null,"PL-3\nCadres et plans stratégiques pour une surveillance coordonnée",null,{"$f":"Results!T61","v":"N/A"},null,{"$f":"Results!K61","v":"Une collecte et un examen multisectoriels des documents stratégiques nationaux (stratégies, cadres et plans stratégiques) liés au système de surveillance coordonné ont été effectués à des fins de planification"}]
[]
[null,null,null,"PL-4\nPlans opérationnels au niveau national",null,{"$f":"Results!T65","v":"N/A"},null,{"$f":"Results!K65","v":"Une collecte et un examen multisectoriels des plans opérationnels et autres documents importants (y compris des plans de surveillance, des définitions de cas, des protocoles et des procédures opérationnelles standard) liés au système de surveillance coordonné ont été effectués à des fins de planification\n"}]
[]
[null,null,null,"ME-6\nMise en œuvre de systèmes de surveillance coordonnés",null,{"$f":"Results!T105","v":"N/A"},null,{"$f":"Results!K105","v":"Le système de surveillance coordonné fait l'objet d'un projet pilote dans des zones ciblées"}]
[]
[null,"Aspects réglementaires et juridiques",null,"E-3\nÉvaluation des cadres juridiques",null,{"$f":"Results!T29","v":"N/A"},null,{"$f":"Results!K29","v":"Les cadres juridiques (règles, politiques, directives et réglementations, y compris les normes internationales) qui régissent les normes d'éthique et de confidentialité en matière de surveillance et de partage des données ont été évalués"}]
[]
[null,null,null,"PL-7\nPlanification des cadres juridiques",null,{"$f":"Results!T77","v":"N/A"},null,{"$f":"Results!K77","v":"Les cadres juridiques nécessaires (règles, politiques, directives et réglementations, y compris les normes internationales) ont été normalisés entre les différents secteurs sur la base d'une évaluation au niveau national"}]
[]
[null,"Budgets et finances",null,"E-5\nÉvaluation des besoins économiques",null,{"$f":"Results!T37","v":"N/A"},null,{"$f":"Results!K37","v":"Des évaluations économiques ont été utilisées pour déterminer les besoins financiers nationaux du système de surveillance coordonné "}]
[]
[null,null,null,"PL-5\nPlanification financière",null,{"$f":"Results!T69","v":"N/A"},null,{"$f":"Results!K69","v":"Il existe un plan budgétaire et un mécanisme de distribution des fonds destinés à la surveillance coordonnée au niveau national"}]
[]
[null,null,null,"ME-1\nMobilisation des ressources financières",null,{"$f":"Results!T85","v":"N/A"},null,{"$f":"Results!K85","v":"Il existe un financement destiné à la surveillance coordonnée au niveau national"}]
[]
[null,"Ressources humaines",null,"E-8\nÉvaluation des ressources humaines",null,{"$f":"Results!T49","v":"N/A"},null,{"$f":"Results!K49","v":"Des évaluations ont été réalisées pour identifier les exigences, les compétences, les besoins et les lacunes au niveau national en matière de ressources humaines"}]
[]
[null,null,null,"PL-6\nPlanification des ressources humaines",null,{"$f":"Results!T73","v":"N/A"},null,{"$f":"Results!K73","v":"Il existe un plan d'éducation et de formation pour le système de surveillance coordonné, basé sur l'évaluation des ressources humaines au niveau national"}]
[]
[null,"Laboratoire",null,"E-6\nÉvaluation de la capacité des laboratoires",null,{"$f":"Results!T41","v":"N/A"},null,{"$f":"Results!K41","v":"Des évaluations de laboratoires ont été utilisées pour identifier des laboratoires de référence nationaux ou internationaux qualifiés capables d'effectuer des tests pour soutenir les activités de surveillance coordonnées"}]
[]
[null,null,null,"E-7\nÉvaluation du transport et interprétation des laboratoires",null,{"$f":"Results!T45","v":"N/A"},null,{"$f":"Results!K45","v":"L'harmonisation des fournitures, des chaînes de transport et de l'interprétation des résultats des laboratoires a été évaluée entre les secteurs participants au niveau national"}]
[]
[null,"Stockage et partage des données",null,"PL-2\nÉléments de données communs",null,{"$f":"Results!T57","v":"N/A"},null,{"$f":"Results!K57","v":"Les éléments de données communs sont identifiés et accordés au sein de chaque secteur participant dans le but de remplir les objectifs analytiques communs du système de surveillance coordonné au niveau national"}]
[]
[null,null,null,"ME-3\nÉchange de données et partage d'informations",null,{"$f":"Results!T93","v":"N/A"},null,{"$f":"Results!K93","v":"Il existe un mécanisme de partage de données entre les secteurs au niveau national"}]
[]
[null,null,null,"ME-4\nStockage des données",null,{"$f":"Results!T97","v":"N/A"},null,{"$f":"Results!K97","v":"Une structure et un lieu sont prévus pour stocker et conserver les données de plusieurs secteurs au niveau national."}]
[]
[null,null,null,"ME-5\nMesures relatives à la confidentialité et à la sécurité des données",null,{"$f":"Results!T101","v":"N/A"},null,{"$f":"Results!K101","v":"Il existe des mesures de confidentialité et de sécurité des données visant à protéger les données de surveillance coordonnée au niveau national"}]
[]
[null,null,null,"ME-7\nPartage des données de surveillance",null,{"$f":"Results!T109","v":"N/A"},null,{"$f":"Results!K109","v":"Les données de surveillance sont partagées de manière informelle ou formelle de façon ad hoc au niveau national"}]
[]
[null,"Communication et établissement de rapports",null,"PL-8\nPlanification coordonnée de la communication",null,{"$f":"Results!T81","v":"N/A"},null,{"$f":"Results!K81","v":"La terminologie et les messages de communication sont alignés sur l'ensemble des secteurs participant au système de surveillance coordonné au niveau national."}]
[]
[null,null,null,"ME-8\nCommunication et partage d'informations",null,{"$f":"Results!T113","v":"N/A"},null,{"$f":"Results!K113","v":"Les informations sont partagées et communiquées de manière ad hoc avec les parties prenantes concernées"}]
[]
[null,null,null,"ME-9\nConformité aux exigences internationales en matière de notification",null,{"$f":"Results!T117","v":"N/A"},null,{"$f":"Results!K117","v":"Les exigences de notification internationale pour toutes les zoonoses sont respectées"}]
[]
[null,null,null,"ME-10\nVisualisation et analyse coordonnées des données",null,{"$f":"Results!T121","v":"N/A"},null,{"$f":"Results!K121","v":"Des données de surveillance coordonnée sont utilisées pour générer des résultats (par exemple, des chiffres, des graphiques, des rapports ou des bulletins) qui sont diffusés au niveau national"}]
[]
[null,"Exercices de simulation",null,"SE-1\nExercices de simulation",null,{"$f":"Results!T125","v":"N/A"},null,{"$f":"Results!K125","v":"Des exercices de simulation sont réalisés pour évaluer l'efficacité et la fonctionnalité du système de surveillance coordonné au niveau national  "}]
[]
[null,"Planification du suivi et de l'évaluation",null,"SE-2\nPlanification du suivi et de l'évaluation",null,{"$f":"Results!T129","v":"N/A"},null,{"$f":"Results!K129","v":"Il existe un plan de suivi et d'évaluation qui est conforme aux objectifs du système de surveillance coordonné"}]
[]
[null,"Normes de qualité des données",null,"SE-3\nNormes de qualité des données ",null,{"$f":"Results!T133","v":"N/A"},null,{"$f":"Results!K133","v":"Il existe une méthodologie de gestion de la qualité des données"}]

{"sheet":"Prioritization and roadmap","index":5,"n_rows":73,"n_cols":35,"rows_kept":73,"cut":false,"hidden":false,"merged":[[46,1,48,1],[50,1,58,1],[60,1,66,1],[1,1,3,34],[7,19,7,22],[7,23,7,26],[7,27,7,30],[7,31,7,34],[42,1,44,1],[7,15,7,18],[15,1,19,1],[32,1,34,1],[36,1,40,1],[21,1,30,1]]}
[]
[null,"PRIORISATION ET FEUILLE DE ROUTE"]
[]
[]
[]
[]
[]
[null,"CATÉGORIE",null,"ACTIVITÉ",null,"Niveau de capacité cible",null,"Description",null,"Moment de démarrage de la mise en œuvre et priorité ",null,"Démarrage de l'activité",null,"Durée de l'activité ",null,"Année 1 (par ex., 2022)",null,null,null,"Année 2 ",null,null,null,"Année 3",null,null,null,"Année 4",null,null,null,"Année 5"]
[null,null,null,null,null,null,null,null,null,null,null,null,null,null,null,"1T","2T","3T","4T","1T","2T","3T","4T","1T","2T","3T","4T","1T","2T","3T","4T","1T","2T","3T","4T"]
[null,"Coordonnateurs",null,"PP-1 \nIdentification préliminaire des parties prenantes",null,{"$f":"Results!T9","v":"N/A"},null,{"$f":"Results!K9","v":"Des coordonnateurs, des «champions» ou des groupes de travail techniques ont été identifiés dans tous les secteurs participants au niveau national pour planifier la mise en œuvre de la surveillance coordonnée."}]
[]
[null,"Priorisation",null,"PP-2\nPriorisation",null,{"$f":"Results!T13","v":"N/A"},null,{"$f":"Results!K13","v":"Il existe une liste de zoonoses priorisées à intégrer dans un système de surveillance coordonné"}]
[]
[null,"Établissement des objectifs",null,"PP-3\nÉtablissement des objectifs",null,{"$f":"Results!T17","v":"N/A"},null,{"$f":"Results!K17","v":"Les objectifs, les rôles et les responsabilités de tous les secteurs participant au système de surveillance coordonné sont accordés au niveau national"}]
[]
[null,"Parties prenantes",null,"E-1\nCartographie des parties prenantes",null,{"$f":"Results!T21","v":"N/A"},null,{"$f":"Results!K21","v":"Des parties prenantes travaillant dans les domaines de la surveillance, de l'épidémiologie, des laboratoires et du partage d'informations ont été identifiées"}]
[]
[null,null,null,"PL-1\nVolonté politique",null,{"$f":"Results!T9","v":"N/A"},null,{"$f":"Results!K53","v":"Les décideurs pour le système de surveillance coordonné ont été identifiés"}]
[]
[null,null,null,"ME-2 \nMobilisation des ressources humaines et des parties prenantes",null,{"$f":"Results!T89","v":"N/A"},null,{"$f":"Results!K89","v":"Des coordonnateurs ou des groupes de travail techniques se réunissent de façon ad hoc"}]
[]
[null,"Plans et organisation",null,"E-2\nÉvaluation des connexions entre les systèmes de surveillance",null,{"$f":"Results!T25","v":"N/A"},null,{"$f":"Results!K25","v":"Les interconnexions entre les systèmes de surveillance des zoonoses actuellement priorisées ont été évaluées entre les secteurs"}]
[]
[]
[null,null,null,"E-4\nCartographie des infrastructures",null,{"$f":"Results!T33","v":"N/A"},null,{"$f":"Results!K33","v":"Des exercices basiques de cartographie des infrastructures (telle que définie au point 4.1 du GTZ) ont été utilisés pour décrire la structure et les connexions sectorielles et intersectorielles "}]
[]
[null,null,null,"PL-3\nCadre et plans stratégiques pour une surveillance coordonnée",null,{"$f":"Results!T61","v":"N/A"},null,{"$f":"Results!K61","v":"Une collecte et un examen multisectoriels des documents stratégiques nationaux (stratégies, cadres et plans stratégiques) liés au système de surveillance coordonné ont été effectués à des fins de planification"}]
[]
[null,null,null,"PL-4\nPlans et protocoles de surveillance au niveau national (Plans opérationnels au niveau national)",null,{"$f":"Results!T65","v":"N/A"},null,{"$f":"Results!K65","v":"Une collecte et un examen multisectoriels des plans opérationnels et autres documents importants (y compris des plans de surveillance, des définitions de cas, des protocoles et des procédures opérationnelles standard) liés au système de surveillance coordonné ont été effectués à des fins de planification\n"}]
[]
[null,null,null,"ME-6\nMise en œuvre de systèmes de surveillance coordonnés",null,{"$f":"Results!T105","v":"N/A"},null,{"$f":"Results!K105","v":"Le système de surveillance coordonné fait l'objet d'un projet pilote dans des zones ciblées"}]
[]
[null,"Aspects réglementaires et juridiques",null,"E-3\nÉvaluation des cadres juridiques",null,{"$f":"Results!T29","v":"N/A"},null,{"$f":"Results!K29","v":"Les cadres juridiques (règles, politiques, directives et réglementations, y compris les normes internationales) qui régissent les normes d'éthique et de confidentialité en matière de surveillance et de partage des données ont été évalués"}]
[]
[null,null,null,"PL-7\nPlanification des cadres juridiques",null,{"$f":"Results!T77","v":"N/A"},null,{"$f":"Results!K77","v":"Les cadres juridiques nécessaires (règles, politiques, directives et réglementations, y compris les normes internationales) ont été normalisés entre les différents secteurs sur la base d'une évaluation au niveau national"}]
[]
[null,"Budgets et finances",null,"E-5\nÉvaluation des besoins économiques",null,{"$f":"Results!T37","v":"N/A"},null,{"$f":"Results!K37","v":"Des évaluations économiques ont été utilisées pour déterminer les besoins financiers nationaux du système de surveillance coordonné "}]
[]
[null,null,null,"PL-5\nPlanification financière",null,{"$f":"Results!T69","v":"N/A"},null,{"$f":"Results!K69","v":"Il existe un plan budgétaire et un mécanisme de distribution des fonds destinés à la surveillance coordonnée au niveau national"}]
[]
[null,null,null,"ME-1\nMobilisation des ressources financières",null,{"$f":"Results!T85","v":"N/A"},null,{"$f":"Results!K85","v":"Il existe un financement destiné à la surveillance coordonnée au niveau national"}]
[]
[null,"Ressources humaines",null,"E-8\nÉvaluation des ressources humaines",null,{"$f":"Results!T49","v":"N/A"},null,{"$f":"Results!K49","v":"Des évaluations ont été réalisées pour identifier les exigences, les compétences, les besoins et les lacunes au niveau national en matière de ressources humaines"}]
[]
[null,null,null,"PL-6\nPlanification des ressources humaines",null,{"$f":"Results!T73","v":"N/A"},null,{"$f":"Results!K73","v":"Il existe un plan d'éducation et de formation pour le système de surveillance coordonné, basé sur l'évaluation des ressources humaines au niveau national"}]
[]
[null,"Laboratoire",null,"E-6\nÉvaluation de la capacité des laboratoires",null,{"$f":"Results!T41","v":"N/A"},null,{"$f":"Results!K41","v":"Des évaluations de laboratoires ont été utilisées pour identifier des laboratoires de référence nationaux ou internationaux qualifiés capables d'effectuer des tests pour soutenir les activités de surveillance coordonnées"}]
[]
[null,null,null,"E-7\nÉvaluation du transport et interprétation des laboratoires",null,{"$f":"Results!T45","v":"N/A"},null,{"$f":"Results!K45","v":"L'harmonisation des fournitures, des chaînes de transport et de l'interprétation des résultats des laboratoires a été évaluée entre les secteurs participants au niveau national"}]
[]
[null,"Stockage et partage des données",null,"PL-2\nÉléments de données communs",null,{"$f":"Results!T57","v":"N/A"},null,{"$f":"Results!K57","v":"Les éléments de données communs sont identifiés et accordés au sein de chaque secteur participant dans le but de remplir les objectifs analytiques communs du système de surveillance coordonné au niveau national"}]
[]
[null,null,null,"ME-3\nÉchange de données et partage d'informations",null,{"$f":"Results!T93","v":"N/A"},null,{"$f":"Results!K93","v":"Il existe un mécanisme de partage de données entre les secteurs au niveau national"}]
[]
[null,null,null,"ME-4\nStockage des données",null,{"$f":"Results!T97","v":"N/A"},null,{"$f":"Results!K97","v":"Une structure et un lieu sont prévus pour stocker et conserver les données de plusieurs secteurs au niveau national."}]
[]
[null,null,null,"ME-5\nMesures relatives à la confidentialité et à la sécurité des données",null,{"$f":"Results!T101","v":"N/A"},null,{"$f":"Results!K101","v":"Il existe des mesures de confidentialité et de sécurité des données visant à protéger les données de surveillance coordonnée au niveau national"}]
[]
[null,null,null,"ME-7\nPartage des données",null,{"$f":"Results!T109","v":"N/A"},null,{"$f":"Results!K109","v":"Les données de surveillance sont partagées de manière informelle ou formelle de façon ad hoc au niveau national"}]
[]
[null,"Communication et établissement de rapports",null,"PL-8\nPlanification coordonnée de la communication",null,{"$f":"Results!T81","v":"N/A"},null,{"$f":"Results!K81","v":"La terminologie et les messages de communication sont alignés sur l'ensemble des secteurs participant au système de surveillance coordonné au niveau national."}]
[]
[null,null,null,"ME-8\nCommunication et utilisation des données",null,{"$f":"Results!T113","v":"N/A"},null,{"$f":"Results!K113","v":"Les informations sont partagées et communiquées de manière ad hoc avec les parties prenantes concernées"}]
[]
[null,null,null,"ME-9\nConformité aux exigences internationales en matière de notification",null,{"$f":"Results!T117","v":"N/A"},null,{"$f":"Results!K117","v":"Les exigences de notification internationale pour toutes les zoonoses sont respectées"}]
[]
[null,null,null,"ME-10\nVisualisation et analyse coordonnées des données",null,{"$f":"Results!T121","v":"N/A"},null,{"$f":"Results!K121","v":"Des données de surveillance coordonnée sont utilisées pour générer des résultats (par exemple, des chiffres, des graphiques, des rapports ou des bulletins) qui sont diffusés au niveau national"}]
[]
[null,"Exercices de simulation",null,"SE-1\nExercices de simulation",null,{"$f":"Results!T125","v":"N/A"},null,{"$f":"Results!K125","v":"Des exercices de simulation sont réalisés pour évaluer l'efficacité et la fonctionnalité du système de surveillance coordonné au niveau national  "}]
[]
[null,"Planification du suivi et de l'évaluation",null,"SE-2\nPlanification du suivi et de l'évaluation",null,{"$f":"Results!T129","v":"N/A"},null,{"$f":"Results!K129","v":"Il existe un plan de suivi et d'évaluation qui est conforme aux objectifs du système de surveillance coordonné"}]
[]
[null,"Normes de qualité des données",null,"SE-3\nNormes de qualité des données ",null,{"$f":"Results!T133","v":"N/A"},null,{"$f":"Results!K133","v":"Il existe une méthodologie de gestion de la qualité des données"}]

{"sheet":"Development plan","index":6,"n_rows":56,"n_cols":13,"rows_kept":56,"cut":false,"hidden":false,"merged":[[46,1,49,1],[7,1,7,12],[10,1,10,12],[17,1,19,1],[27,1,28,1],[1,1,3,12],[30,1,32,1],[34,1,35,1],[37,1,38,1],[40,1,44,1],[21,1,25,1]]}
[]
[null,"PLAN DE DÉVELOPPEMENT"]
[]
[]
[]
[null,"CATÉGORIE","ACTIVITÉ","Description","Ressources et outils sélectionnés","Actions","Responsable, et rôle/responsabilités de chaque partenaire","Défis à relever","Démarrage de l'activité","Durée de l'activité","Point de contact (nom, fonction, organisation, secteur) de chaque partenaire","Indicateur de cette exigence","Autres notes"]
[]
[null,"EXEMPLE"]
[null,"Priorisation","PP-2\nPriorisation","Il existe une liste de zoonoses priorisées à intégrer dans un système de surveillance coordonné","OHZDP","Réaliser l'exercice de priorisation (par exemple, atelier OHZDP, Priorisation des maladies zoonotiques dans le cadre de l'approche «Une seule santé» des CDC)\n\nMettre à jour les listes des maladies prioritaires par secteurs sur la base des résultats de l'exercice de priorisation","Responsable: Santé animale (SA)\nLe représentant de la Santé humaine (SH) contacte les CDC et identifie les participants du secteur SH. Le représentant SA coordonne les aspects logistiques et le lieu","Des fonds supplémentaires peuvent être nécessaires pour la réalisation d'un exercice multisectoriel;\nContacter les CDC pour envisager la possibilité d'organiser un atelier OHZDP.","Année 1-2T\n","1 trimestre","Linda Bianca, dir. des services de santé animale, Ministère de l'agriculture\n\nDan Fisher, dir. des services de santé, Ministère de la santé","Exercice de priorisation réalisé, avec la participation de tous les secteurs concernés.\n\nLes listes des priorités sont mises à jour en fonction des résultats de l'exercice de priorisation pour tous les secteurs concernés"]
[]
[null,"PLAN"]
[null,"Coordonnateurs","PP-1 \nIdentification préliminaire des parties prenantes",{"$f":"Results!K9","v":"Des coordonnateurs, des «champions» ou des groupes de travail techniques ont été identifiés dans tous les secteurs participants au niveau national pour planifier la mise en œuvre de la surveillance coordonnée."},{"$f":"'Resource selection'!J11","v":0},null,null,null,{"$f":"'Prioritization and roadmap'!L10","v":0},{"$f":"'Prioritization and roadmap'!N10","v":0}]
[]
[null,"Priorisation","PP-2\nPriorisation",{"$f":"Results!K13","v":"Il existe une liste de zoonoses priorisées à intégrer dans un système de surveillance coordonné"},{"$f":"'Resource selection'!J13","v":0},null,null,null,{"$f":"'Prioritization and roadmap'!L12","v":0},{"$f":"'Prioritization and roadmap'!N12","v":0}]
[]
[null,"Établissement des objectifs","PP-3\nÉtablissement des objectifs",{"$f":"Results!K17","v":"Les objectifs, les rôles et les responsabilités de tous les secteurs participant au système de surveillance coordonné sont accordés au niveau national"},{"$f":"'Resource selection'!J15","v":0},null,null,null,{"$f":"'Prioritization and roadmap'!L14","v":0},{"$f":"'Prioritization and roadmap'!N14","v":0}]
[]
[null,"Parties prenantes","E-1\nCartographie des parties prenantes",{"$f":"Results!K21","v":"Des parties prenantes travaillant dans les domaines de la surveillance, de l'épidémiologie, des laboratoires et du partage d'informations ont été identifiées"},{"$f":"'Resource selection'!J17","v":0},null,null,null,{"$f":"'Prioritization and roadmap'!L16","v":0},{"$f":"'Prioritization and roadmap'!N16","v":0}]
[null,null,"PL-1\nVolonté politique",{"$f":"Results!K53","v":"Les décideurs pour le système de surveillance coordonné ont été identifiés"},{"$f":"'Resource selection'!J19","v":0},null,null,null,{"$f":"'Prioritization and roadmap'!L18","v":0},{"$f":"'Prioritization and roadmap'!N18","v":0}]
[null,null,"ME-2 \nMobilisation des ressources humaines et des parties prenantes",{"$f":"Results!K89","v":"Des coordonnateurs ou des groupes de travail techniques se réunissent de façon ad hoc"},{"$f":"'Resource selection'!J21","v":0},null,null,null,{"$f":"'Prioritization and roadmap'!L20","v":0},{"$f":"'Prioritization and roadmap'!N20","v":0}]
[]
[null,"Plans et organisation","E-2\nÉvaluation des connexions entre les systèmes de surveillance",{"$f":"Results!K25","v":"Les interconnexions entre les systèmes de surveillance des zoonoses actuellement priorisées ont été évaluées entre les secteurs"},{"$f":"'Resource selection'!J23","v":0},null,null,null,{"$f":"'Prioritization and roadmap'!L22","v":0},{"$f":"'Prioritization and roadmap'!N22","v":0}]
[null,null,"E-4\nCartographie des infrastructures",{"$f":"Results!K33","v":"Des exercices basiques de cartographie des infrastructures (telle que définie au point 4.1 du GTZ) ont été utilisés pour décrire la structure et les connexions sectorielles et intersectorielles "},{"$f":"'Resource selection'!J26","v":0},null,null,null,{"$f":"'Prioritization and roadmap'!L25","v":0},{"$f":"'Prioritization and roadmap'!N25","v":0}]
[null,null,"PL-3\nCadre et plans stratégiques pour une surveillance coordonnée",{"$f":"Results!K61","v":"Une collecte et un examen multisectoriels des documents stratégiques nationaux (stratégies, cadres et plans stratégiques) liés au système de surveillance coordonné ont été effectués à des fins de planification"},{"$f":"'Resource selection'!J28","v":0},null,null,null,{"$f":"'Prioritization and roadmap'!L27","v":0},{"$f":"'Prioritization and roadmap'!N27","v":0}]
[null,null,"PL-4\nPlans et protocoles de surveillance au niveau national (Plans opérationnels au niveau national)",{"$f":"Results!K65","v":"Une collecte et un examen multisectoriels des plans opérationnels et autres documents importants (y compris des plans de surveillance, des définitions de cas, des protocoles et des procédures opérationnelles standard) liés au système de surveillance coordonné ont été effectués à des fins de planification\n"},{"$f":"'Resource selection'!J30","v":0},null,null,null,{"$f":"'Prioritization and roadmap'!L29","v":0},{"$f":"'Prioritization and roadmap'!N29","v":0}]
[null,null,"ME-6\nMise en œuvre de systèmes de surveillance coordonnés",{"$f":"Results!K105","v":"Le système de surveillance coordonné fait l'objet d'un projet pilote dans des zones ciblées"},{"$f":"'Resource selection'!J32","v":0},null,null,null,{"$f":"'Prioritization and roadmap'!L31","v":0},{"$f":"'Prioritization and roadmap'!N31","v":0}]
[]
[null,"Aspects réglementaires et juridiques","E-3\nÉvaluation des cadres juridiques",{"$f":"Results!K29","v":"Les cadres juridiques (règles, politiques, directives et réglementations, y compris les normes internationales) qui régissent les normes d'éthique et de confidentialité en matière de surveillance et de partage des données ont été évalués"},{"$f":"'Resource selection'!J34","v":0},null,null,null,{"$f":"'Prioritization and roadmap'!L33","v":0},{"$f":"'Prioritization and roadmap'!N33","v":0}]
[null,null,"PL-7\nPlanification des cadres juridiques",{"$f":"Results!K77","v":"Les cadres juridiques nécessaires (règles, politiques, directives et réglementations, y compris les normes internationales) ont été normalisés entre les différents secteurs sur la base d'une évaluation au niveau national"},{"$f":"'Resource selection'!J36","v":0},null,null,null,{"$f":"'Prioritization and roadmap'!L35","v":0},{"$f":"'Prioritization and roadmap'!N35","v":0}]
[]
[null,"Budgets et finances","E-5\nÉvaluation des besoins économiques",{"$f":"Results!K37","v":"Des évaluations économiques ont été utilisées pour déterminer les besoins financiers nationaux du système de surveillance coordonné "},{"$f":"'Resource selection'!J38","v":0},null,null,null,{"$f":"'Prioritization and roadmap'!L37","v":0},{"$f":"'Prioritization and roadmap'!N37","v":0}]
[null,null,"PL-5\nPlanification financière",{"$f":"Results!K69","v":"Il existe un plan budgétaire et un mécanisme de distribution des fonds destinés à la surveillance coordonnée au niveau national"},{"$f":"'Resource selection'!J40","v":0},null,null,null,{"$f":"'Prioritization and roadmap'!L39","v":0},{"$f":"'Prioritization and roadmap'!N39","v":0}]
[null,null,"ME-1\nMobilisation des ressources financières",{"$f":"Results!K85","v":"Il existe un financement destiné à la surveillance coordonnée au niveau national"},{"$f":"'Resource selection'!J42","v":0},null,null,null,{"$f":"'Prioritization and roadmap'!L41","v":0},{"$f":"'Prioritization and roadmap'!N41","v":0}]
[]
[null,"Ressources humaines","E-8\nÉvaluation des ressources humaines",{"$f":"Results!K49","v":"Des évaluations ont été réalisées pour identifier les exigences, les compétences, les besoins et les lacunes au niveau national en matière de ressources humaines"},{"$f":"'Resource selection'!J44","v":0},null,null,null,{"$f":"'Prioritization and roadmap'!L43","v":0},{"$f":"'Prioritization and roadmap'!N43","v":0}]
[null,null,"PL-6\nPlanification des ressources humaines",{"$f":"Results!K73","v":"Il existe un plan d'éducation et de formation pour le système de surveillance coordonné, basé sur l'évaluation des ressources humaines au niveau national"},{"$f":"'Resource selection'!J46","v":0},null,null,null,{"$f":"'Prioritization and roadmap'!L45","v":0},{"$f":"'Prioritization and roadmap'!N45","v":0}]
[]
[null,"Laboratoire","E-6\nÉvaluation de la capacité des laboratoires",{"$f":"Results!K41","v":"Des évaluations de laboratoires ont été utilisées pour identifier des laboratoires de référence nationaux ou internationaux qualifiés capables d'effectuer des tests pour soutenir les activités de surveillance coordonnées"},{"$f":"'Resource selection'!J48","v":0},null,null,null,{"$f":"'Prioritization and roadmap'!L47","v":0},{"$f":"'Prioritization and roadmap'!N47","v":0}]
[null,null,"E-7\nÉvaluation du transport et interprétation des laboratoires",{"$f":"Results!K45","v":"L'harmonisation des fournitures, des chaînes de transport et de l'interprétation des résultats des laboratoires a été évaluée entre les secteurs participants au niveau national"},{"$f":"'Resource selection'!J50","v":0},null,null,null,{"$f":"'Prioritization and roadmap'!L49","v":0},{"$f":"'Prioritization and roadmap'!N49","v":0}]
[]
[null,"Stockage et partage des données","PL-2\nÉléments de données communs",{"$f":"Results!K57","v":"Les éléments de données communs sont identifiés et accordés au sein de chaque secteur participant dans le but de remplir les objectifs analytiques communs du système de surveillance coordonné au niveau national"},{"$f":"'Resource selection'!J52","v":0},null,null,null,{"$f":"'Prioritization and roadmap'!L51","v":0},{"$f":"'Prioritization and roadmap'!N51","v":0}]
[null,null,"ME-3\nÉchange de données et partage d'informations",{"$f":"Results!K93","v":"Il existe un mécanisme de partage de données entre les secteurs au niveau national"},{"$f":"'Resource selection'!J54","v":0},null,null,null,{"$f":"'Prioritization and roadmap'!L53","v":0},{"$f":"'Prioritization and roadmap'!N53","v":0}]
[null,null,"ME-4\nStockage des données",{"$f":"Results!K97","v":"Une structure et un lieu sont prévus pour stocker et conserver les données de plusieurs secteurs au niveau national."},{"$f":"'Resource selection'!J56","v":0},null,null,null,{"$f":"'Prioritization and roadmap'!L55","v":0},{"$f":"'Prioritization and roadmap'!N55","v":0}]
[null,null,"ME-5\nMesures relatives à la confidentialité et à la sécurité des données",{"$f":"Results!K101","v":"Il existe des mesures de confidentialité et de sécurité des données visant à protéger les données de surveillance coordonnée au niveau national"},{"$f":"'Resource selection'!J58","v":0},null,null,null,{"$f":"'Prioritization and roadmap'!L57","v":0},{"$f":"'Prioritization and roadmap'!N57","v":0}]
[null,null,"ME-7\nPartage des données de surveillance",{"$f":"Results!K109","v":"Les données de surveillance sont partagées de manière informelle ou formelle de façon ad hoc au niveau national"},{"$f":"'Resource selection'!J60","v":0},null,null,null,{"$f":"'Prioritization and roadmap'!L59","v":0},{"$f":"'Prioritization and roadmap'!N59","v":0}]
[]
[null,"Communication et établissement de rapports","PL-8\nPlanification coordonnée de la communication",{"$f":"Results!K81","v":"La terminologie et les messages de communication sont alignés sur l'ensemble des secteurs participant au système de surveillance coordonné au niveau national."},{"$f":"'Resource selection'!J62","v":0},null,null,null,{"$f":"'Prioritization and roadmap'!L61","v":0},{"$f":"'Prioritization and roadmap'!N61","v":0}]
[null,null,"ME-8\nCommunication et partage d'informations",{"$f":"Results!K113","v":"Les informations sont partagées et communiquées de manière ad hoc avec les parties prenantes concernées"},{"$f":"'Resource selection'!J64","v":0},null,null,null,{"$f":"'Prioritization and roadmap'!L63","v":0},{"$f":"'Prioritization and roadmap'!N63","v":0}]
[null,null,"ME-9\nConformité aux exigences internationales en matière de notification",{"$f":"Results!K117","v":"Les exigences de notification internationale pour toutes les zoonoses sont respectées"},{"$f":"'Resource selection'!J66","v":0},null,null,null,{"$f":"'Prioritization and roadmap'!L65","v":0},{"$f":"'Prioritization and roadmap'!N65","v":0}]
[null,null,"ME-10\nVisualisation et analyse coordonnées des données",{"$f":"Results!K121","v":"Des données de surveillance coordonnée sont utilisées pour générer des résultats (par exemple, des chiffres, des graphiques, des rapports ou des bulletins) qui sont diffusés au niveau national"},{"$f":"'Resource selection'!J68","v":0},null,null,null,{"$f":"'Prioritization and roadmap'!L67","v":0},{"$f":"'Prioritization and roadmap'!N67","v":0}]
[]
[null,"Exercices de simulation","SE-1\nExercices de simulation",{"$f":"Results!K125","v":"Des exercices de simulation sont réalisés pour évaluer l'efficacité et la fonctionnalité du système de surveillance coordonné au niveau national  "},{"$f":"'Resource selection'!J70","v":0},null,null,null,{"$f":"'Prioritization and roadmap'!L69","v":0},{"$f":"'Prioritization and roadmap'!N69","v":0}]
[]
[null,"Planification du suivi et de l'évaluation","SE-2\nPlanification du suivi et de l'évaluation",{"$f":"Results!K129","v":"Il existe un plan de suivi et d'évaluation qui est conforme aux objectifs du système de surveillance coordonné"},{"$f":"'Resource selection'!J72","v":0},null,null,null,{"$f":"'Prioritization and roadmap'!L71","v":0},{"$f":"'Prioritization and roadmap'!N71","v":0}]
[]
[null,"Normes de qualité des données","SE-3\nNormes de qualité des données ",{"$f":"Results!K133","v":"Il existe une méthodologie de gestion de la qualité des données"},{"$f":"'Resource selection'!J74","v":0},null,null,null,{"$f":"'Prioritization and roadmap'!L73","v":0},{"$f":"'Prioritization and roadmap'!N73","v":0}]

{"sheet":"Tools by activity","index":7,"n_rows":108,"n_cols":9,"rows_kept":108,"cut":false,"hidden":false,"merged":[]}
[]
["PP-1 Coordonnateurs",null,"E-1 Cartographie des parties prenantes",null,"PL-1 Volonté politique",null,"ME-1 Mobilisation des ressources financières",null,"SE-1 Exercices de simulation"]
[]
["Cadre de surveillance basé sur les événements des CDC en Afrique",null,"Guide de discussion sur les capacités sanitaires aux frontières (BHCDG)",null,"Évaluation des collaborations au sein d'un système de surveillance multisectoriel (EcoSur)",null,"SurvCost: Outil permettant d'estimer le coût de la surveillance intégrée de la maladie et la riposte ",null,"Analyse du réseau des infrastructures de laboratoire (LINA)"]
["Évaluation des collaborations au sein d'un système de surveillance multisectoriel (EcoSur)",null,"Évaluation des collaborations au sein d'un système de surveillance multisectoriel (EcoSur)",null,"Surveillance intégrée de la maladie et la riposte (IDSR)",null,"Outil d'analyse coût-efficacité de la surveillance de la rage animale",null,"Boîte à outils de cartographie et de ressources des systèmes «Une seule santé» (OH-SMART)"]
["Surveillance intégrée de la maladie et la riposte (IDSR)",null,"Atelier national de rapprochement et d'échange RSI-PVS",null,"Méthodologie d'analyse de la législation relative à la RAM dans le secteur de l'alimentation et de l'agriculture",null,"Outil d'évaluation des coûts du Règlement sanitaire international (RSI) de l'Université de Georgetown",null,"Boîte à outils de simulation"]
["Plan d'action national pour la sécurité sanitaire (PANSS)",null,"Surveillance intégrée de la maladie et la riposte (IDSR)",null,"Plan d'action national pour la sécurité sanitaire (PANSS)",null,"Stratégie de financement durable pour la boîte à outils «Une seule santé»",null,"Suite pour une biosurveillance électronique automatisée mondiale (SAGES)"]
["Outil d'évaluation de l'état de préparation et des besoins pour une surveillance «Une seule santé» (OHSRRT)",null,"Plan d'action national pour la sécurité sanitaire (PANSS)",null,"Réseau pour l'évaluation de l'approche «Une seule santé» (NEOH)",null,"Stratégie de financement durable pour la boîte à outils «Une seule santé»"]
["Analyse de la politique sur le terrain (PFA)",null,"Analyse des écarts PVS de l'OMSA",null,"Boîte à outils pour la promotion d'une politique «Une seule santé»",null,null,null,"SE-2 Planification du suivi et de l'évaluation"]
["Évaluation des systèmes «Une seule santé» pour les zoonoses prioritaires (OH-SAPZ)",null,"Outil d'évaluation de l'état de préparation et des besoins pour une surveillance «Une seule santé» (OHSRRT)",null,"Boîte à outils pour le modèle de politique «Une seule santé»",null,"ME-2 Mobilisation des ressources humaines"]
[null,null,"Boîte à outils de cartographie et de ressources des systèmes «Une seule santé» (OH-SMART)",null,"Analyse de la politique sur le terrain (PFA)",null,null,null,"Résistance aux antimicrobiens: un manuel pour la mise en œuvre de plans d'action nationaux"]
["PP-2 Priorisation",null,"Analyse de la politique sur le terrain (PFA)",null,"Approche par étapes pour l'élimination de la rage (SARE)",null,"Cadre de surveillance basé sur les événements des CDC en Afrique",null,"Évaluation ECDC des systèmes de suivi et de surveillance de la qualité des données - Manuel des méthodes et des applications "]
["Outil ECDC pour l'établissement des priorités en matière de menaces de maladies infectieuses",null,"Approche par étapes pour l'élimination de la rage (SARE)",null,null,null,"Boîte à outils pour l'analyse a posteriori après l'apparition d'un foyer épidémique",null,"Règlement sanitaire international (2005): outil d’autoévaluation pour l'établissement de rapports annuels par les États Parties (SPAR)"]
["Liste et catégorisation des maladies animales prioritaires, y compris celles transmissibles à l'homme (Phylum)",null,"Cadre d'évaluation de la surveillance (SERVAL)",null,"PL-2 Éléments de données communs",null,"Boîte à outils pour l'élaboration d'un manuel de gouvernance",null,"Réseau pour l'évaluation de l'approche «Une seule santé» (NEOH)"]
["Priorisation des maladies zoonotiques dans le cadre de l'approche «Une seule santé» (OHZDP)",null,"Évaluation des systèmes «Une seule santé» pour les zoonoses prioritaires (OH-SAPZ)",null,null,null,"Boîte à outils pour la planification de la préparation et la réponse",null,"Cadre d'évaluation de la surveillance (SERVAL)"]
["Évaluation des systèmes «Une seule santé» pour les zoonoses prioritaires (OH-SAPZ)",null,null,null,"Évaluation des collaborations au sein d'un système de surveillance multisectoriel (EcoSur)",null,null,null,"Cadre d'évaluation de la surveillance (SurF)"]
[null,null,"E-2 Connexions entre les systèmes de surveillance",null,"Cadre pour le renforcement de la prévention et du contrôle de l'anthrax ",null,"ME-3 Échange de données et partage d'informations",null,"Outils de surveillance en ligne (SURVTOOLS) "]
[null,null,null,null,"Atelier national de rapprochement et d'échange RSI-PVS",null,null,null,"Directives actualisées pour l'évaluation des systèmes de surveillance de la santé publique "]
[null,null,"Cadre de surveillance basé sur les événements des CDC en Afrique",null,"Surveillance intégrée de la maladie et la riposte (IDSR)",null,"Afyadata"]
["PP-3 Établissement des objectifs",null,"Évaluation ECDC des systèmes de suivi et de surveillance de la qualité des données - Manuel des méthodes et des applications ",null,"Cadre de collecte de données EFSA",null,"Logiciel d'information de santé au niveau des districts 2 (DHIS2) ",null,"SE-3 Normes de qualité des données"]
["Cadre de surveillance basé sur les événements des CDC en Afrique",null,"Outil de la FAO d’évaluation de la surveillance nationale de l'antibiorésistance et des compétences des laboratoires (ATLASS)",null,null,null,"Système électronique intégré de surveillance des maladies (EIDSS)"]
["Évaluation des collaborations au sein d'un système de surveillance multisectoriel (EcoSur)",null,"Outil d'évaluation de la surveillance (SET) de la FAO",null,"PL-3 Cadres et plans stratégiques pour une surveillance coordonnée",null,"EMPRES Système mondial d'information sur les maladies animales (EMPRES-i)",null,"Boîte à outils pour le contrôle de la qualité des données (DQR)"]
["Surveillance intégrée de la maladie et la riposte (IDSR)",null,"Règlement sanitaire international (2005): outil d’autoévaluation pour l'établissement de rapports annuels par les États Parties (SPAR)",null,null,null,"Event Mobile Application (EMAi)",null,"Évaluation ECDC des systèmes de suivi et de surveillance de la qualité des données - Manuel des méthodes et des applications "]
["Plan d'action national pour la sécurité sanitaire (PANSS)",null,null,null,"Cadre de surveillance basé sur les événements des CDC en Afrique",null,"FoodChain-Lab (FCL) ",null,"Cadre pour le renforcement de la prévention et du contrôle de l'anthrax "]
["Réseau pour l'évaluation de l'approche «Une seule santé» (NEOH)",null,"E-3 Cadres juridiques",null,"Résistance aux antimicrobiens: un manuel pour la mise en œuvre de plans d'action nationaux",null,"Système de gestion des données de laboratoire «SILAB for Africa» (SILABFA)",null,"Surveillance intégrée de la maladie et la riposte (IDSR)"]
["Outil d'évaluation de l'état de préparation et des besoins pour une surveillance «Une seule santé» (OHSRRT)",null,null,null,"Guide de discussion sur les capacités sanitaires aux frontières (BHCDG)",null,"Système de gestion des données de laboratoire Mini (MiniLIMS)",null,"Cadre d'évaluation de la surveillance (SERVAL)"]
[null,null,"Résistance aux antimicrobiens: un manuel pour la mise en œuvre de plans d'action nationaux",null,"Évaluation des collaborations au sein d'un système de surveillance multisectoriel (EcoSur)",null,"Boîte à outils pour la planification de la préparation et la réponse",null,"Cadre d'évaluation de la surveillance (SurF)"]
[null,null,"Évaluation des collaborations au sein d'un système de surveillance multisectoriel (EcoSur)",null,"Cadre d'évaluation des systèmes de surveillance de santé publique pour la détection précoce des foyers épidémiques ",null,"Application de suivi des expositions et des cas de rage (REACT)",null,"Suite pour une biosurveillance électronique automatisée mondiale (SAGES)"]
[null,null,"Boîte à outils pour l'élaboration d'un manuel de gouvernance",null,"Cadre pour le renforcement de la prévention et du contrôle de l'anthrax ",null,"Système de gestion et d'analyse de la surveillance et la réponse aux foyers épidémiques (SORMAS)",null,"Directives actualisées pour l'évaluation des systèmes de surveillance de la santé publique "]
[null,null,"Règlement sanitaire international (2005): outil d’autoévaluation pour l'établissement de rapports annuels par les États Parties (SPAR)",null,"Atelier national de rapprochement et d'échange RSI-PVS",null,"Initiative de veille épidémique à sources ouvertes (EIOS)"]
[null,null,"Méthodologie d'analyse de la législation relative à la RAM dans le secteur de l'alimentation et de l'agriculture",null,"Surveillance intégrée de la maladie et la riposte (IDSR)",null,"Suite pour une biosurveillance électronique automatisée mondiale (SAGES)"]
[null,null,"Outil d'évaluation de l'état de préparation et des besoins pour une surveillance «Une seule santé» (OHSRRT)",null,"Évaluation externe conjointe (EEC) "]
[null,null,"Analyse de la politique sur le terrain (PFA)",null,"Méthodologie d'analyse de la législation relative à la RAM dans le secteur de l'alimentation et de l'agriculture",null,"ME-4 Stockage des données"]
[null,null,"Outil par étapes pour l'éradication de la brucellose (STEB)",null,"Plan d'action national pour la sécurité sanitaire (PANSS)"]
[null,null,"Approche par étapes pour l'élimination de la rage (SARE)",null,"Réseau pour l'évaluation de l'approche «Une seule santé» (NEOH)",null,"Afyadata"]
[null,null,"Programme national de normes de performance en santé publique (NPHPSP): Instrument d'évaluation des performances des systèmes de santé publique locaux (version 2)",null,"Analyse des écarts PVS de l'OMSA",null,"Logiciel d'information de santé au niveau des districts 2 (DHIS2) "]
[null,null,null,null,"Élaboration du plan stratégique «Une seule santé»",null,"Système électronique intégré de surveillance des maladies (EIDSS)"]
[null,null,"E-4 Cartographie des infrastructures",null,"Boîte à outils de cartographie et de ressources des systèmes «Une seule santé» (OH-SMART)",null,"Système de gestion des données de laboratoire «SILAB for Africa» (SILABFA)"]
[null,null,null,null,"Outil par étapes pour l'éradication de la brucellose (STEB)",null,"Système de gestion des données de laboratoire Mini (MiniLIMS)"]
[null,null,"Outil d'autoévaluation APHL pour l'informatique",null,"Approche par étapes pour l'élimination de la rage (SARE)",null,"Application de suivi des expositions et des cas de rage (REACT)"]
[null,null,"Outil d'évaluation informatique pour les laboratoires APHL",null,"Évaluation des systèmes «Une seule santé» pour les zoonoses prioritaires (OH-SAPZ)",null,"Système de gestion et d'analyse de la surveillance et la réponse aux foyers épidémiques (SORMAS)"]
[null,null,"Évaluation des collaborations au sein d'un système de surveillance multisectoriel (EcoSur)",null,"WHO CHOICE",null,"Suite pour une biosurveillance électronique automatisée mondiale (SAGES)"]
[null,null,"Atelier national de rapprochement et d'échange RSI-PVS"]
[null,null,"Analyse du réseau des infrastructures de laboratoire (LINA)",null,"PL-4 Plans opérationnels au niveau national",null,"ME-5 Mesures relatives à la confidentialité et à la sécurité des données"]
[null,null,"Plan d'action national pour la sécurité sanitaire (PANSS)"]
[null,null,"Réseau pour l'évaluation de l'approche «Une seule santé» (NEOH)",null,"Cadre de surveillance basé sur les événements des CDC en Afrique",null,"Outil d'autoévaluation APHL pour l'informatique"]
[null,null,"Analyse des écarts PVS de l'OMSA",null,"Guide de discussion sur les capacités sanitaires aux frontières (BHCDG)",null,"Logiciel d'information de santé au niveau des districts 2 (DHIS2) "]
[null,null,"Boîte à outils de cartographie et de ressources des systèmes «Une seule santé» (OH-SMART)",null,"Évaluation ECDC des systèmes de suivi et de surveillance de la qualité des données - Manuel des méthodes et des applications ",null,"Système électronique intégré de surveillance des maladies (EIDSS)"]
[null,null,"Analyse de la politique sur le terrain (PFA)",null,"Outil de cartographie épidémiologique (EMT)",null,"EMPRES Système mondial d'information sur les maladies animales (EMPRES-i)"]
[null,null,"Boîte à outils pour la planification de la préparation et la réponse",null,"Évaluation des collaborations au sein d'un système de surveillance multisectoriel (EcoSur)",null,"Système de gestion des données de laboratoire «SILAB for Africa» (SILABFA)"]
[null,null,"Évaluation des systèmes «Une seule santé» pour les zoonoses prioritaires (OH-SAPZ)",null,"Outil d'évaluation de la surveillance (SET) de la FAO",null,"Système de gestion des données de laboratoire Mini (MiniLIMS)"]
[null,null,"Outil d'évaluation des laboratoires de l'OMS",null,"Cadre pour le renforcement de la prévention et du contrôle de l'anthrax ",null,"Application de suivi des expositions et des cas de rage (REACT)"]
[null,null,null,null,"Directives pour la conception\nde plans de surveillance\ndes maladies animales\n",null,"Système de gestion et d'analyse de la surveillance et la réponse aux foyers épidémiques (SORMAS)"]
[null,null,"E-5 Évaluation des besoins économiques",null,"Atelier national de rapprochement et d'échange RSI-PVS",null,"Suite pour une biosurveillance électronique automatisée mondiale (SAGES)"]
[null,null,null,null,"Surveillance intégrée de la maladie et la riposte (IDSR)"]
[null,null,"SurvCost: Outil permettant d'estimer le coût de la surveillance intégrée de la maladie et la riposte",null,"Méthodologie d'analyse de la législation relative à la RAM dans le secteur de l'alimentation et de l'agriculture",null,"I-6 Mise en œuvre de systèmes de surveillance coordonnés"]
[null,null,"Outil d'analyse coût-efficacité de la surveillance de la rage animale",null,"Plan d'action national pour la sécurité sanitaire (PANSS)"]
[null,null,"Évaluation des collaborations au sein d'un système de surveillance multisectoriel (EcoSur)",null,"Outil d'évaluation de l'état de préparation et des besoins pour une surveillance «Une seule santé» (OHSRRT)",null,"Cadre de surveillance basé sur les événements des CDC en Afrique"]
[null,null,"Outil d'évaluation des coûts du Règlement sanitaire international (RSI) de l'Université de Georgetown",null,"Boîte à outils pour la planification de la préparation et la réponse",null,"Afyadata"]
[null,null,"Processus d'élimination globale de la rage chez le chien (GDREP)",null,"Approche par étapes pour l'élimination de la rage (SARE)",null,"Système électronique intégré de surveillance des maladies (EIDSS)"]
[null,null,"Plan d'action national pour la sécurité sanitaire (PANSS)",null,"Cadre d'évaluation de la surveillance (SERVAL)",null,"Système de gestion des données de laboratoire «SILAB for Africa» (SILABFA)"]
[null,null,"Réseau pour l'évaluation de l'approche «Une seule santé» (NEOH)",null,"Outils de surveillance en ligne (SURVTOOLS) ",null,"Système de gestion des données de laboratoire Mini (MiniLIMS)"]
[null,null,"Analyse des écarts PVS de l'OMSA",null,null,null,"Analyse du réseau des infrastructures de laboratoire (LINA)"]
[null,null,"Outil d'évaluation des coûts d'un foyer épidémique",null,null,null,"Application de suivi des expositions et des cas de rage (REACT)"]
[null,null,"Rabies ECON ",null,"PL-5 Planification financière",null,"Suite pour une biosurveillance électronique automatisée mondiale (SAGES)"]
[null,null,"Cadre d'évaluation de la surveillance (SERVAL)",null,null,null,"Outil d'évaluation des progrès vers l'éradication de la rage (TAPER)"]
[null,null,"Outils de surveillance en ligne (SURVTOOLS) ",null,"Cadre de surveillance basé sur les événements des CDC en Afrique"]
[null,null,"Stratégie de financement durable pour la boîte à outils «Une seule santé»",null,"Évaluation ECDC des systèmes de suivi et de surveillance de la qualité des données - Manuel des méthodes et des applications ",null,"ME-7 Partage des données de surveillance"]
[null,null,"WHO CHOICE",null,"Cadre pour le renforcement de la prévention et du contrôle de l'anthrax "]
[null,null,null,null,"Outil d'évaluation des coûts du Règlement sanitaire international (RSI) de l'Université de Georgetown",null,"Afyadata"]
[null,null,"E-6 Évaluation de la capacité des laboratoires",null,"Directives pour la conception\nde plans de surveillance\ndes maladies animales\n",null,"Logiciel d'information de santé au niveau des districts 2 (DHIS2) "]
[null,null,null,null,"Surveillance intégrée de la maladie et la riposte (IDSR)",null,"Système électronique intégré de surveillance des maladies (EIDSS)"]
[null,null,"Évaluation des collaborations au sein d'un système de surveillance multisectoriel (EcoSur)",null,null,null,"Surveillance intégrée de la maladie et la riposte (IDSR)"]
[null,null,"Outil de cartographie des laboratoires de la FAO (LMT)",null,"PL-6 Planification des ressources humaines",null,"Boîte à outils pour la planification de la préparation et la réponse"]
[null,null,"Analyse du réseau des infrastructures de laboratoire (LINA)",null,null,null,"Application de suivi des expositions et des cas de rage (REACT)"]
[null,null,"Outil d'évaluation des réseaux de surveillance (OASIS)",null,"Surveillance intégrée de la maladie et la riposte (IDSR)",null,"Initiative de veille épidémique à sources ouvertes (EIOS)"]
[null,null,"Outil d'évaluation des laboratoires de l'OMS",null,"Processus d'élimination globale de la rage chez le chien (GDREP)",null,"Suite pour une biosurveillance électronique automatisée mondiale (SAGES)"]
[null,null,"Cadre pour le renforcement de la prévention et du contrôle de l'anthrax ",null,"Cadre de compétences de leadership pour les laboratoires (GLLP)"]
[null,null,"Surveillance intégrée de la maladie et la riposte (IDSR)",null,null,null,"ME-8 Communication et partage d'informations"]
[null,null,"Évaluation externe conjointe (EEC) ",null,"PL-7 Planification des cadres juridiques"]
[null,null,"Évaluation des systèmes «Une seule santé» pour les zoonoses prioritaires (OH-SAPZ)",null,null,null,"Afyadata"]
[null,null,"Mission PVS pour les laboratoires de l'OMSA",null,"Stratégies de communication et de coordination multisectorielles aux frontières",null,"Logiciel d'information de santé au niveau des districts 2 (DHIS2) "]
[null,null,"Boîte à outils pour la planification de la préparation et la réponse",null,"Processus d'élimination globale de la rage chez le chien (GDREP)",null,"EMPRES Système mondial d'information sur les maladies animales (EMPRES-i)"]
[null,null,"Outil par étapes pour l'éradication de la brucellose (STEB)",null,"Méthodologie d'analyse de la législation relative à la RAM dans le secteur de l'alimentation et de l'agriculture",null,"Surveillance intégrée de la maladie et la riposte (IDSR)"]
[null,null,"Approche par étapes pour l'élimination de la rage (SARE)",null,"Analyse des écarts PVS de l'OMSA",null,"Application de suivi des expositions et des cas de rage (REACT)"]
[null,null,null,null,"Recueil d'informations sur les postes-frontière uniques",null,"Initiative de veille épidémique à sources ouvertes (EIOS)"]
[null,null,"E-7 Transport et interprétation des laboratoires",null,"Approche par étapes pour l'élimination de la rage (SARE)"]
[null,null,null,null,null,null,"ME-9 Exigences internationales en matière de notification"]
[null,null,"Outil d'évaluation informatique pour les laboratoires APHL",null,"PL-8 Planification coordonnée de la communication"]
[null,null,"Évaluation des collaborations au sein d'un système de surveillance multisectoriel (EcoSur)",null,null,null,"Event Mobile Application (EMAi)"]
[null,null,"Analyse du réseau des infrastructures de laboratoire (LINA)",null,"Stratégies de communication et de coordination multisectorielles aux frontières",null,"Surveillance intégrée de la maladie et la riposte (IDSR)"]
[null,null,"Analyse des écarts PVS de l'OMSA",null,"Glossaire du Programme conjoint européen «Une seule santé» (OHEJP)",null,"Évaluation externe conjointe (EEC) "]
[null,null,"Boîte à outils pour la planification de la préparation et la réponse",null,"Codex sur la surveillance «Une seule santé» ",null,"Application Alerts du WAHIS de l'OMSA"]
[null,null,"Outil d'évaluation des réseaux de surveillance (OASIS)",null,"Boîte à outils pour la planification de la préparation et la réponse"]
[null,null,null,null,null,null,"ME-10 Visualisation et analyse coordonnées des données"]
[null,null,"E-8 Évaluation des ressources humaines"]
[null,null,null,null,null,null,"Afyadata"]
[null,null,"Cadre de surveillance basé sur les événements des CDC en Afrique",null,null,null,"Logiciel d'information de santé au niveau des districts 2 (DHIS2) "]
[null,null,"Guide de discussion sur les capacités sanitaires aux frontières (BHCDG)",null,null,null,"Système électronique intégré de surveillance des maladies (EIDSS)"]
[null,null,"Directives relatives aux compétences des professionnels de laboratoire de santé publique: CDC et Association des laboratoires de santé publique",null,null,null,"FoodChain-Lab (FCL) "]
[null,null,"Outil de cartographie épidémiologique (EMT)",null,null,null,"Surveillance intégrée de la maladie et la riposte (IDSR)"]
[null,null,"Évaluation des collaborations au sein d'un système de surveillance multisectoriel (EcoSur)",null,null,null,"Analyse du réseau des infrastructures de laboratoire (LINA)"]
[null,null,"Processus d'élimination globale de la rage chez le chien (GDREP)",null,null,null,"Application Alerts du WAHIS de l'OMSA"]
[null,null,"Surveillance intégrée de la maladie et la riposte (IDSR)",null,null,null,"Application de suivi des expositions et des cas de rage (REACT)"]
[null,null,"Cadre de compétences de leadership pour les laboratoires (GLLP)",null,null,null,"Système de gestion et d'analyse de la surveillance et la réponse aux foyers épidémiques (SORMAS)"]
[null,null,"Plan d'action national pour la sécurité sanitaire (PANSS)",null,null,null,"Suite pour une biosurveillance électronique automatisée mondiale (SAGES)"]
[null,null,"Boîte à outils de cartographie et de ressources des systèmes «Une seule santé» (OH-SMART)"]
[null,null,"Outil d'évaluation des réseaux de surveillance (OASIS)"]

{"sheet":"Backbone","index":8,"n_rows":691,"n_cols":20,"rows_kept":691,"cut":false,"hidden":false,"merged":[[685,9,690,9],[685,10,690,10],[685,11,690,11],[685,12,690,12],[685,13,690,13],[685,14,690,14],[685,15,690,15],[685,16,690,16],[685,17,690,17],[685,18,690,18],[676,12,678,12],[679,10,681,10],[679,11,681,11],[679,12,681,12],[679,13,681,13],[679,14,681,14],[676,14,678,14],[676,15,678,15],[676,16,678,16],[676,17,678,17],[676,18,678,18],[682,9,683,9],[682,10,683,10],[682,11,683,11],[682,12,683,12],[682,13,683,13],[682,14,683,14],[682,15,683,15],[682,16,683,16],[682,17,683,17],[682,18,683,18],[679,15,681,15],[679,16,681,16],[676,13,678,13],[647,9,673,9],[647,10,673,10],[647,11,673,11],[647,12,673,12],[647,13,673,13],[647,14,673,14],[682,6,683,6],[679,17,681,17],[679,18,681,18],[674,12,675,12],[674,13,675,13],[674,14,675,14],[674,15,675,15],[674,16,675,16],[674,17,675,17],[674,18,675,18],[676,6,678,6],[676,7,678,7],[676,8,678,8],[676,9,678,9],[676,10,678,10],[676,11,678,11],[647,15,673,15],[647,16,673,16],[647,17,673,17],[647,18,673,18],[682,7,683,7],[682,8,683,8],[674,9,675,9],[674,10,675,10],[674,11,675,11],[679,9,681,9],[623,14,626,14],[623,15,626,15],[623,16,626,16],[623,17,626,17],[623,18,626,18],[627,16,632,16],[627,6,632,6],[627,7,632,7],[627,8,632,8],[627,9,632,9],[627,10,632,10],[627,11,632,11],[627,12,632,12],[627,13,632,13],[627,14,632,14],[627,15,632,15],[642,6,646,6],[642,7,646,7],[642,8,646,8],[642,9,646,9],[642,10,646,10],[642,11,646,11],[642,12,646,12],[642,13,646,13],[642,14,646,14],[642,15,646,15],[642,16,646,16],[642,17,646,17],[623,13,626,13],[633,11,641,11],[674,0,675,0],[676,0,678,0],[676,1,678,1],[679,0,681,0],[679,1,681,1],[682,0,683,0],[682,1,683,1],[685,0,690,0],[685,1,686,1],[688,1,690,1],[623,6,626,6],[623,7,626,7],[623,8,626,8],[647,6,673,6],[647,7,673,7],[647,8,673,8],[674,6,675,6],[674,7,675,7],[674,8,675,8],[679,6,681,6],[679,7,681,7],[679,8,681,8],[685,6,690,6],[685,7,690,7],[685,8,690,8],[623,0,626,0],[623,1,624,1],[625,1,626,1],[627,0,632,0],[627,1,631,1],[633,6,641,6],[633,7,641,7],[642,0,646,0],[642,1,643,1],[644,1,646,1],[647,0,673,0],[647,1,650,1],[651,1,660,1],[661,1,668,1],[664,2,665,2],[669,1,673,1],[556,0,559,0],[597,0,602,0],[597,1,602,1],[594,0,596,0],[594,1,596,1],[575,2,576,2],[627,17,632,17],[627,18,632,18],[633,8,641,8],[633,9,641,9],[633,10,641,10],[633,12,641,12],[633,13,641,13],[633,14,641,14],[633,15,641,15],[633,16,641,16],[633,17,641,17],[633,18,641,18],[642,18,646,18],[623,9,626,9],[623,10,626,10],[623,11,626,11],[623,12,626,12],[412,10,413,10],[412,11,413,11],[412,12,413,12],[412,13,413,13],[412,2,413,2],[412,0,413,0],[591,10,593,10],[591,11,593,11],[578,0,590,0],[578,1,590,1],[578,2,580,2],[578,6,590,6],[630,2,631,2],[597,6,602,6],[597,7,602,7],[594,9,596,9],[594,10,596,10],[594,6,596,6],[594,7,596,7],[594,8,596,8],[597,9,602,9],[597,10,602,10],[560,9,565,9],[597,11,602,11],[560,11,565,11],[560,12,565,12],[560,13,565,13],[539,0,550,0],[521,11,529,11],[574,0,577,0],[574,6,577,6],[574,7,577,7],[633,0,641,0],[633,1,641,1],[636,2,638,2],[412,18,413,18],[412,15,413,15],[412,16,413,16],[412,17,413,17],[556,16,559,16],[556,17,559,17],[551,8,555,8],[551,9,555,9],[570,13,572,13],[591,13,593,13],[591,0,593,0],[591,6,593,6],[591,7,593,7],[592,1,593,1],[592,2,593,2],[594,11,596,11],[594,12,596,12],[594,13,596,13],[570,14,572,14],[570,15,572,15],[570,16,572,16],[570,17,572,17],[570,18,572,18],[597,12,602,12],[597,13,602,13],[594,15,596,15],[594,16,596,16],[594,17,596,17],[594,18,596,18],[603,14,622,14],[603,15,622,15],[597,2,599,2],[591,8,593,8],[591,9,593,9],[539,15,550,15],[539,16,550,16],[539,17,550,17],[530,16,538,16],[530,17,538,17],[399,12,411,12],[399,13,411,13],[399,14,411,14],[399,15,411,15],[399,16,411,16],[399,17,411,17],[509,16,515,16],[509,17,515,17],[509,10,515,10],[509,11,515,11],[509,12,515,12],[509,13,515,13],[509,14,515,14],[539,9,550,9],[539,10,550,10],[539,11,550,11],[539,12,550,12],[539,13,550,13],[412,6,413,6],[412,7,413,7],[412,8,413,8],[412,9,413,9],[412,14,413,14],[570,0,573,0],[570,1,573,1],[566,9,569,9],[566,10,569,10],[556,15,559,15],[412,1,413,1],[603,16,622,16],[603,17,622,17],[603,18,622,18],[603,8,622,8],[603,9,622,9],[603,10,622,10],[603,11,622,11],[603,12,622,12],[603,13,622,13],[600,2,602,2],[591,12,593,12],[594,14,596,14],[603,0,622,0],[603,1,622,1],[603,6,622,6],[603,7,622,7],[597,14,602,14],[597,15,602,15],[597,16,602,16],[597,17,602,17],[597,18,602,18],[597,8,602,8],[574,17,577,17],[570,6,572,6],[578,7,590,7],[581,2,583,2],[585,2,587,2],[588,2,590,2],[578,14,590,14],[578,15,590,15],[578,16,590,16],[591,18,593,18],[566,18,569,18],[578,17,590,17],[578,18,590,18],[578,8,590,8],[578,9,590,9],[578,10,590,10],[578,11,590,11],[578,12,590,12],[578,13,590,13],[591,14,593,14],[591,15,593,15],[591,16,593,16],[591,17,593,17],[574,18,577,18],[575,1,576,1],[570,10,572,10],[566,15,569,15],[570,11,572,11],[570,12,572,12],[566,16,569,16],[570,7,572,7],[566,17,569,17],[570,9,572,9],[556,18,559,18],[560,0,565,0],[560,1,565,1],[560,6,565,6],[560,7,565,7],[560,8,565,8],[556,9,559,9],[556,10,559,10],[556,11,559,11],[556,12,559,12],[556,13,559,13],[556,14,559,14],[560,18,565,18],[566,11,569,11],[566,12,569,12],[566,13,569,13],[566,14,569,14],[566,0,569,0],[566,1,567,1],[566,2,567,2],[566,6,569,6],[566,7,569,7],[566,8,569,8],[560,15,565,15],[560,16,565,16],[560,17,565,17],[560,10,565,10],[560,14,565,14],[570,8,572,8],[551,16,555,16],[551,17,555,17],[551,18,555,18],[552,2,554,2],[556,1,559,1],[556,6,559,6],[556,7,559,7],[556,8,559,8],[551,10,555,10],[551,11,555,11],[551,12,555,12],[551,13,555,13],[551,14,555,14],[551,15,555,15],[551,0,555,0],[551,1,554,1],[551,6,555,6],[551,7,555,7],[539,1,550,1],[539,6,550,6],[539,7,550,7],[539,8,550,8],[530,18,538,18],[530,10,538,10],[530,11,538,11],[530,12,538,12],[530,13,538,13],[530,14,538,14],[530,15,538,15],[530,0,538,0],[530,1,538,1],[530,6,538,6],[530,7,538,7],[530,8,538,8],[530,9,538,9],[539,18,550,18],[539,14,550,14],[521,14,529,14],[521,15,529,15],[521,0,529,0],[521,1,529,1],[521,6,529,6],[521,7,529,7],[521,8,529,8],[521,9,529,9],[516,18,520,18],[519,1,520,1],[519,2,520,2],[516,9,520,9],[516,10,520,10],[516,11,520,11],[516,12,520,12],[516,13,520,13],[516,14,520,14],[516,0,520,0],[516,1,518,1],[516,2,518,2],[516,6,520,6],[516,7,520,7],[516,8,520,8],[521,16,529,16],[521,17,529,17],[516,16,520,16],[516,17,520,17],[521,18,529,18],[521,12,529,12],[521,13,529,13],[516,15,520,15],[521,10,529,10],[509,15,515,15],[509,0,515,0],[509,1,512,1],[509,6,515,6],[509,7,515,7],[509,8,515,8],[509,9,515,9],[482,0,487,0],[482,1,485,1],[482,2,483,2],[482,6,487,6],[482,7,487,7],[482,8,487,8],[488,15,508,15],[488,16,508,16],[488,17,508,17],[488,18,508,18],[482,11,487,11],[482,12,487,12],[482,13,487,13],[482,14,487,14],[509,18,515,18],[513,1,515,1],[452,15,480,15],[452,16,480,16],[452,17,480,17],[452,18,480,18],[452,8,480,8],[452,9,480,9],[452,10,480,10],[452,11,480,11],[452,12,480,12],[452,13,480,13],[482,15,487,15],[482,16,487,16],[482,17,487,17],[482,18,487,18],[484,2,485,2],[482,9,487,9],[482,10,487,10],[461,2,462,2],[463,2,465,2],[466,1,480,1],[466,2,468,2],[469,2,471,2],[472,2,474,2],[475,2,477,2],[478,2,480,2],[452,14,480,14],[488,9,508,9],[488,10,508,10],[488,11,508,11],[488,12,508,12],[488,13,508,13],[488,14,508,14],[488,0,508,0],[488,1,504,1],[488,6,508,6],[488,7,508,7],[488,8,508,8],[505,1,508,1],[446,8,448,8],[446,9,448,9],[446,10,448,10],[446,11,448,11],[446,12,448,12],[446,13,448,13],[444,15,445,15],[444,16,445,16],[444,17,445,17],[444,18,445,18],[449,15,451,15],[449,16,451,16],[449,17,451,17],[449,18,451,18],[452,0,480,0],[452,1,465,1],[452,2,453,2],[452,6,480,6],[452,7,480,7],[449,9,451,9],[449,10,451,10],[449,11,451,11],[449,12,451,12],[449,13,451,13],[449,14,451,14],[449,0,451,0],[449,1,451,1],[449,6,451,6],[449,7,451,7],[449,8,451,8],[454,2,456,2],[457,2,458,2],[439,2,440,2],[436,9,443,9],[436,10,443,10],[436,11,443,11],[436,12,443,12],[436,13,443,13],[436,14,443,14],[434,16,435,16],[434,17,435,17],[434,18,435,18],[446,0,448,0],[446,1,447,1],[446,2,447,2],[446,6,448,6],[446,7,448,7],[444,9,445,9],[444,10,445,10],[444,11,445,11],[444,12,445,12],[444,13,445,13],[444,14,445,14],[444,0,445,0],[444,1,445,1],[444,2,445,2],[444,6,445,6],[444,7,445,7],[444,8,445,8],[446,14,448,14],[446,15,448,15],[446,16,448,16],[446,17,448,17],[446,18,448,18],[436,0,443,0],[436,1,438,1],[436,2,438,2],[436,6,443,6],[436,7,443,7],[436,8,443,8],[434,10,435,10],[434,11,435,11],[434,12,435,12],[434,13,435,13],[434,14,435,14],[434,15,435,15],[432,15,433,15],[432,16,433,16],[432,17,433,17],[432,18,433,18],[434,0,435,0],[434,6,435,6],[434,7,435,7],[434,8,435,8],[434,9,435,9],[432,9,433,9],[432,10,433,10],[432,11,433,11],[432,12,433,12],[432,13,433,13],[432,14,433,14],[436,15,443,15],[436,16,443,16],[436,17,443,17],[436,18,443,18],[439,1,442,1],[429,15,431,15],[429,16,431,16],[429,17,431,17],[429,18,431,18],[432,0,433,0],[432,1,433,1],[432,6,433,6],[432,7,433,7],[432,8,433,8],[429,9,431,9],[429,10,431,10],[429,11,431,11],[429,12,431,12],[429,13,431,13],[429,14,431,14],[429,0,431,0],[429,1,430,1],[429,6,431,6],[429,7,431,7],[429,8,431,8],[429,2,430,2],[426,14,428,14],[426,15,428,15],[426,16,428,16],[426,17,428,17],[426,18,428,18],[426,8,428,8],[426,9,428,9],[426,10,428,10],[426,11,428,11],[426,12,428,12],[426,13,428,13],[424,1,425,1],[426,0,428,0],[426,1,428,1],[426,2,428,2],[426,6,428,6],[426,7,428,7],[419,14,425,14],[419,15,425,15],[419,16,425,16],[419,17,425,17],[419,18,425,18],[419,8,425,8],[419,9,425,9],[419,10,425,10],[419,11,425,11],[419,12,425,12],[419,13,425,13],[414,15,416,15],[414,16,416,16],[414,17,416,17],[414,18,416,18],[419,0,425,0],[419,1,423,1],[419,2,420,2],[419,6,425,6],[419,7,425,7],[414,9,416,9],[414,10,416,10],[414,11,416,11],[414,12,416,12],[414,13,416,13],[414,14,416,14],[414,0,416,0],[414,1,416,1],[414,2,416,2],[414,6,416,6],[414,7,416,7],[414,8,416,8],[395,16,398,16],[395,17,398,17],[395,18,398,18],[397,2,398,2],[399,1,402,1],[395,10,398,10],[395,11,398,11],[395,12,398,12],[395,13,398,13],[395,14,398,14],[395,15,398,15],[395,0,398,0],[395,1,398,1],[395,6,398,6],[395,7,398,7],[395,8,398,8],[395,9,398,9],[399,18,411,18],[399,0,411,0],[400,2,402,2],[403,1,410,1],[403,2,404,2],[405,2,407,2],[409,2,410,2],[399,6,411,6],[399,7,411,7],[399,8,411,8],[399,9,411,9],[399,10,411,10],[399,11,411,11],[366,16,381,16],[366,17,381,17],[366,18,381,18],[366,8,381,8],[366,9,381,9],[366,10,381,10],[366,11,381,11],[366,12,381,12],[366,13,381,13],[382,16,393,16],[382,17,393,17],[382,18,393,18],[383,1,390,1],[383,2,385,2],[386,2,388,2],[389,2,390,2],[391,1,393,1],[372,2,374,2],[376,2,378,2],[382,15,393,15],[379,2,381,2],[382,10,393,10],[382,11,393,11],[382,12,393,12],[382,13,393,13],[382,14,393,14],[366,1,371,1],[366,2,368,2],[366,6,378,6],[366,7,381,7],[369,2,371,2],[372,1,381,1],[350,0,365,0],[350,1,365,1],[350,6,365,6],[345,10,349,10],[345,11,349,11],[345,12,349,12],[345,13,349,13],[345,14,349,14],[345,15,349,15],[345,0,349,0],[345,1,349,1],[345,6,349,6],[345,7,349,7],[345,8,349,8],[345,9,349,9],[364,2,365,2],[382,0,393,0],[382,6,393,6],[382,7,393,7],[382,8,393,8],[382,9,393,9],[366,14,381,14],[366,15,381,15],[366,0,381,0],[331,18,344,18],[332,1,340,1],[332,2,333,2],[334,2,335,2],[336,2,338,2],[339,2,340,2],[341,1,342,1],[331,10,344,10],[331,11,344,11],[331,12,344,12],[331,13,344,13],[331,14,344,14],[331,15,344,15],[328,2,330,2],[323,1,330,1],[325,2,327,2],[350,17,365,17],[350,18,365,18],[351,2,353,2],[354,2,355,2],[356,2,357,2],[358,2,360,2],[361,2,363,2],[345,16,349,16],[345,17,349,17],[345,18,349,18],[346,2,348,2],[331,0,344,0],[331,6,344,6],[331,7,344,7],[331,8,344,8],[331,9,344,9],[341,2,342,2],[343,1,344,1],[302,16,330,16],[302,17,330,17],[302,18,330,18],[305,1,322,1],[306,2,308,2],[309,2,311,2],[312,2,313,2],[314,2,315,2],[316,2,317,2],[302,10,330,10],[302,11,330,11],[302,12,330,12],[302,13,330,13],[302,14,330,14],[302,15,330,15],[302,0,330,0],[302,1,304,1],[302,6,330,6],[302,7,330,7],[302,8,330,8],[302,9,330,9],[318,2,319,2],[321,2,322,2],[331,16,344,16],[331,17,344,17],[295,16,301,16],[295,17,301,17],[295,18,301,18],[296,1,301,1],[295,10,301,10],[295,11,301,11],[295,12,301,12],[295,13,301,13],[295,14,301,14],[295,15,301,15],[290,16,294,16],[290,17,294,17],[290,18,294,18],[291,1,294,1],[295,0,301,0],[295,6,301,6],[295,7,301,7],[295,8,301,8],[295,9,301,9],[290,10,294,10],[290,11,294,11],[290,12,294,12],[290,13,294,13],[290,14,294,14],[290,15,294,15],[287,17,289,17],[287,18,289,18],[290,0,294,0],[290,6,294,6],[290,7,294,7],[290,8,294,8],[290,9,294,9],[287,9,289,9],[287,10,289,10],[287,11,289,11],[287,12,289,12],[287,13,289,13],[287,14,289,14],[287,0,289,0],[287,1,289,1],[287,2,289,2],[287,6,289,6],[287,7,289,7],[287,8,289,8],[273,2,275,2],[276,2,278,2],[270,9,286,9],[270,10,286,10],[270,11,286,11],[270,12,286,12],[270,13,286,13],[270,14,286,14],[270,0,286,0],[270,1,284,1],[270,2,272,2],[270,6,286,6],[270,7,286,7],[270,8,286,8],[285,1,286,1],[287,15,289,15],[287,16,289,16],[267,15,269,15],[267,16,269,16],[267,17,269,17],[267,18,269,18],[267,8,269,8],[267,9,269,9],[267,10,269,10],[267,11,269,11],[267,12,269,12],[267,13,269,13],[264,15,266,15],[264,16,266,16],[264,17,266,17],[264,18,266,18],[270,15,286,15],[270,16,286,16],[270,17,286,17],[270,18,286,18],[267,0,269,0],[267,1,269,1],[267,2,269,2],[267,6,269,6],[267,7,269,7],[264,9,266,9],[264,10,266,10],[264,11,266,11],[264,12,266,12],[264,13,266,13],[264,14,266,14],[264,0,266,0],[264,1,265,1],[264,2,265,2],[264,6,266,6],[264,7,266,7],[264,8,266,8],[267,14,269,14],[255,14,263,14],[255,15,263,15],[255,16,263,16],[255,17,263,17],[255,18,263,18],[255,8,263,8],[255,9,263,9],[255,10,263,10],[255,11,263,11],[255,12,263,12],[255,13,263,13],[249,1,254,1],[249,2,251,2],[252,2,254,2],[255,0,263,0],[255,6,263,6],[255,7,263,7],[256,1,261,1],[238,15,254,15],[238,16,254,16],[238,17,254,17],[238,18,254,18],[241,2,243,2],[244,2,245,2],[246,2,248,2],[238,9,254,9],[238,10,254,10],[238,11,254,11],[238,12,254,12],[238,13,254,13],[238,14,254,14],[194,12,232,12],[194,13,232,13],[194,14,232,14],[194,15,232,15],[194,16,232,16],[194,17,232,17],[194,6,232,6],[194,7,232,7],[233,18,237,18],[235,1,236,1],[235,2,236,2],[238,0,254,0],[238,1,248,1],[238,2,240,2],[238,6,254,6],[238,7,254,7],[238,8,254,8],[233,12,237,12],[233,13,237,13],[233,14,237,14],[233,15,237,15],[233,16,237,16],[233,17,237,17],[233,6,237,6],[233,7,237,7],[233,8,237,8],[233,9,237,9],[233,10,237,10],[233,11,237,11],[233,0,237,0],[233,1,234,1],[233,2,234,2],[190,1,192,1],[190,2,192,2],[194,0,232,0],[194,1,198,1],[194,2,196,2],[218,2,219,2],[220,1,229,1],[183,14,192,14],[183,15,192,15],[183,16,192,16],[183,17,192,17],[183,18,192,18],[194,8,232,8],[194,9,232,9],[194,10,232,10],[194,11,232,11],[183,8,192,8],[183,9,192,9],[183,10,192,10],[183,11,192,11],[183,12,192,12],[183,13,192,13],[230,1,232,1],[194,18,232,18],[197,2,198,2],[199,1,206,1],[199,2,201,2],[203,2,204,2],[207,1,219,1],[209,2,211,2],[212,2,214,2],[215,2,217,2],[178,16,181,16],[178,17,181,17],[178,18,181,18],[179,2,181,2],[183,0,192,0],[183,1,189,1],[183,2,184,2],[183,6,192,6],[183,7,192,7],[178,10,181,10],[178,11,181,11],[178,12,181,12],[178,13,181,13],[178,14,181,14],[178,15,181,15],[175,16,177,16],[175,17,177,17],[175,18,177,18],[178,0,181,0],[178,1,181,1]],"merged_total":1322,"flags":["merged_cut"]}
["NOM DE LA RESSOURCE","Catégorie","Emplacement dans l'outil","Description","Niveau\nN1-Niveau 1\nN2-Niveau 2\nN3-Niveau 3","Ressources les mieux adaptées ou Autres ressources intéressantes","État","Accessibilité","Langue","Facilité d'utilisation","Flexibilité","Besoins de données","Analyse des données","Acceptabilité","«Une seule santé»","Impact","SCORE","Type de ressource","Caractère général de la ressource"]
["Cadre de surveillance basé sur les événements des CDC en Afrique","Planification préalable","PP-1.1","Des coordonnateurs, des «champions» ou des groupes de travail techniques ont été identifiés dans tous les secteurs participants au niveau national pour planifier la mise en œuvre de la surveillance coordonnée.","N1","AUTRE ","PASS",8,6,8.1999999999999993,8.3000000000000007,6.1,3.5,4,7,6,0.63222222222222224,"Document d'orientation","«Une seule santé»; Généralisée "]
[null,null,"PP-3.1","Les objectifs, les rôles et les responsabilités de tous les secteurs participant au système de surveillance coordonné sont accordés au niveau national","N1","AUTRE "]
[null,null,null,"Les objectifs, les rôles et les responsabilités de tous les secteurs participant au système de surveillance coordonné sont accordés et étendus à tous les niveaux du pays","N2","AUTRE "]
[null,null,null,"Les objectifs, les rôles et les responsabilités du système de surveillance coordonné ont été réévalués pour refléter les besoins réels du système de surveillance coordonné ","N3","AUTRE "]
[null,"Évaluation","E-2.1","Les interconnexions entre les systèmes de surveillance des zoonoses actuellement priorisées ont été évaluées entre les secteurs","N1","AUTRE "]
[null,null,"E-3.2","Les plans de surveillance existants (y compris les définitions de cas, les protocoles et les procédures opérationnelles standard) relatifs au système de surveillance coordonné ont été évalués en vue d'une consolidation et d'une interconnexion potentielles au niveau national","N1","AUTRE "]
[null,null,null,"Les plans de surveillance existants (y compris les définitions de cas, les protocoles et les procédures opérationnelles standard) relatifs au système de surveillance coordonné ont été évalués en vue d'une consolidation et d'une interconnexion potentielles à tous les niveaux du pays","N3","AUTRE "]
[null,null,"E-6.1","Des évaluations ont été réalisées pour identifier les exigences, les compétences, les besoins et les lacunes à tous les niveaux du pays en matière de ressources humaines.","N3","AUTRE "]
[null,"Planification","PLG","N/A","N/A","N/A"]
[null,null,"PL-3.1","Un examen multisectoriel des cadres nationaux et des plans stratégiques liés au système de surveillance coordonné a été réalisé à des fins de planification.","N1","AUTRE "]
[null,null,null,"Les cadres et les plans stratégiques du système de surveillance coordonné ont été consolidés et interconnectés sur la base d'une évaluation à tous les niveaux du pays","N2","AUTRE "]
[null,null,"PL-3.2","Un examen multisectoriel des plans de surveillance nationaux (y compris des plans d'action/opérationnels, des définitions de cas, des protocoles et des procédures opérationnelles standard) liés au système de surveillance coordonné a été effectué à des fins de planification.","N1","AUTRE "]
[null,null,null,"Des plans de surveillance (y compris des plans d'action/opérationnels, des définitions de cas, des protocoles et des procédures opérationnelles standard) pour le système de surveillance coordonné ont été renforcés et interconnectés en vue d'un partage des données à tous les niveaux du pays","N2","AUTRE "]
[null,"Mise en œuvre","ME-2.1","Des coordonnateurs ou des groupes de travail techniques se réunissent de façon ad hoc","N1","AUTRE "]
[null,null,"ME-2.1","Des coordonnateurs ou des groupes de travail techniques se réunissent régulièrement et abordent les questions prioritaires au fur et à mesure qu'elles se présentent","N2","AUTRE "]
[null,null,"ME-2.1","Des groupes de travail techniques effectuent un examen régulier et optimisent les activités de surveillance coordonnées ","N3","AUTRE "]
[null,null,"ME-4.1","Le système de surveillance coordonné fait l'objet d'un projet pilote dans des zones ciblées","N1","AUTRE "]
[null,null,"ME-4.1","Le système de surveillance coordonné a été étendu à d'autres domaines sur la base de mises en œuvre pilotes","N2","AUTRE "]
[null,null,"ME-4.1","Le système de surveillance coordonné est un programme à l'échelon national","N3","AUTRE "]
["AfyaData","Mise en œuvre","ME-3.1 \n","Il existe un mécanisme de partage de données entre les secteurs au niveau national","N1","LES MIEUX ADAPTÉES","PASS",7.3,10,8.1999999999999993,7.3,7.6,8.8000000000000007,5.5,7.6,7,{"$f":"SUM(H21:P21)/90","v":0.77000000000000013},"Matériel ou logiciel","«Une seule santé»; Généralisée "]
[null,null,"ME-3.1 \n","Il existe un mécanisme de partage des données entre les secteurs à tous les niveaux du pays","N2","LES MIEUX ADAPTÉES",null,7.3,10,8.1999999999999993,7.3,7.6,8.8000000000000007,5.5,7.6,7,0.77000000000000013]
[null,null,"ME-3.2\n","Une structure et un lieu sont prévus pour stocker et conserver les données de plusieurs secteurs au niveau national.","N1","LES MIEUX ADAPTÉES",null,7.3,10,8.1999999999999993,7.3,7.6,8.8000000000000007,5.5,7.6,7,0.77000000000000013]
[null,null,"ME-3.2\n","Une structure et un lieu sont prévus pour stocker et conserver les données de plusieurs secteurs à tous les niveaux du pays","N2","LES MIEUX ADAPTÉES",null,7.3,10,8.1999999999999993,7.3,7.6,8.8000000000000007,5.5,7.6,7,0.77000000000000013]
[null,null,"ME-4.1","Le système de surveillance coordonné fait l'objet d'un projet pilote dans des zones ciblées","N1","AUTRE ",null,7.3,10,8.1999999999999993,7.3,7.6,8.8000000000000007,5.5,7.6,7,0.77000000000000013]
[null,null,"ME-4.1","Le système de surveillance coordonné a été étendu à d'autres domaines sur la base de mises en œuvre pilotes","N2","AUTRE ",null,7.3,10,8.1999999999999993,7.3,7.6,8.8000000000000007,5.5,7.6,7,0.77000000000000013]
[null,null,"ME-4.2","Les données sont partagées de manière informelle ou formelle de façon ad hoc au niveau national","N1","LES MIEUX ADAPTÉES",null,7.3,10,8.1999999999999993,7.3,7.6,8.8000000000000007,5.5,7.6,7,0.77000000000000013]
[null,null,"ME-4.2","Les données sont partagées de manière informelle ou formelle, de façon régulière et en temps utile, à tous les niveaux du pays","N2","LES MIEUX ADAPTÉES",null,7.3,10,8.1999999999999993,7.3,7.6,8.8000000000000007,5.5,7.6,7,0.77000000000000013]
[null,null,"ME-5.1","Les informations sont partagées de manière ad hoc avec les parties prenantes concernées","N1","LES MIEUX ADAPTÉES",null,7.3,10,8.1999999999999993,7.3,7.6,8.8000000000000007,5.5,7.6,7,0.77000000000000013]
[null,null,"ME-5.3","Des données de surveillance coordonnée sont utilisées pour générer des résultats (par exemple, des chiffres, des graphiques, des rapports ou des bulletins) qui sont diffusés au niveau national","N1","LES MIEUX ADAPTÉES",null,7.3,10,8.1999999999999993,7.3,7.6,8.8000000000000007,5.5,7.6,7,0.77000000000000013]
["Surveillance intégrée de la résistance aux antimicrobiens (AGISAR)","Planification","PLG","N/A","N/A","N/A","PASS",8.5,6,5.3,3,6.8,2,5.5,10,5,0.5788888888888889,"Document d'orientation","«Une seule santé»; spécifique d'une maladie/menace "]
[null,"Mise en œuvre","IG","N/A","N/A","N/A"]
["Cadre pour le renforcement de la prévention et du contrôle de l'anthrax ","Évaluation","E-5.1","Des évaluations de laboratoires ont été utilisées pour identifier des laboratoires de référence nationaux ou internationaux qualifiés capables d'effectuer des tests pour soutenir les activités de surveillance coordonnées","N1","AUTRE ","PASS",9.1,10,8.6,4.7,9.1999999999999993,2,6.3,4.3,6,{"$f":"SUM(H33:P33)/90","v":0.66888888888888887},"Document d'orientation","«Une seule santé»; spécifique d'une maladie/menace "]
[null,"Planification","PL-2.1","Les éléments de données communs sont identifiés et accordés au sein de chaque secteur participant dans le but de remplir les objectifs analytiques communs du système de surveillance coordonné au niveau national","N1","AUTRE "]
[null,null,"PL-3.1","Un examen multisectoriel des cadres nationaux et des plans stratégiques liés au système de surveillance coordonné a été réalisé à des fins de planification.","N1","AUTRE "]
[null,null,"PL-3.2","Un examen multisectoriel des plans de surveillance nationaux (y compris des plans d'action/opérationnels, des définitions de cas, des protocoles et des procédures opérationnelles standard) liés au système de surveillance coordonné a été effectué à des fins de planification.","N1","AUTRE "]
[null,"Suivi et évaluation","SE-3.1","Il existe une méthodologie de gestion de la qualité des données","N1","AUTRE "]
["Outil d'évaluation informatique pour les laboratoires APHL","Évaluation","E-3.4","Des exercices basiques de cartographie des infrastructures (telles que définies dans le GTZ CH 4.1) ont été utilisés pour décrire la structure et les connexions sectorielles et intersectorielles ","N1","AUTRE ","1 EVAL",8.4,6,8,10,6,4.5,2,2.8,6,{"$f":"SUM(H38:P38)/90","v":0.59666666666666657},"Outil ou processus dirigé/facilité","Spécifique du secteur; Généralisée"]
[null,null,null,"La cartographie des infrastructures (telle que décrite au point 4.1 du GTZ) a été utilisée pour décrire la plupart des domaines à cartographier","N2","AUTRE ",null,null,null,8,10,6,4.5,2,2.8,6,0.43666666666666665]
[null,null,"E-5.2","Les fournitures, les chaînes de transport et l'interprétation des résultats des laboratoires ont été évaluées pour être harmonisées entre les secteurs participants au niveau national","N1","AUTRE ",null,null,null,8,10,6,4.5,2,2.8,6,0.43666666666666665]
[null,null,null,"L'harmonisation des fournitures, des chaînes de transport et de l'interprétation des résultats des laboratoires entre les secteurs participants a été évaluée à tous les niveaux du pays","N2","AUTRE ",null,null,null,8,10,6,4.5,2,2.8,6,0.43666666666666665]
["Outil d'autoévaluation APHL pour l'informatique","Évaluation","E-3.4","Des exercices basiques de cartographie des infrastructures (telles que définies dans le GTZ CH 4.1) ont été utilisés pour décrire la structure et les connexions sectorielles et intersectorielles ","N1","AUTRE ","PASS",9.1,6.7,8.3000000000000007,8.4,8.1,8.5,5,6.1,4.3,0.71666666666666667,"Document d'orientation","Spécifique du secteur; Généralisée"]
[null,null,null,"La cartographie des infrastructures (telle que décrite au point 4.1 du GTZ) a été utilisée pour décrire la plupart des domaines à cartographier","N2","AUTRE ",null,null,6.7,8.3000000000000007,8.4,8.1,8.5,5,6.1,4.3,0.61555555555555552]
[null,"Mise en œuvre","ME-3.3\n","Il existe des mesures de confidentialité et de sécurité des données visant à protéger les données de surveillance coordonnée au niveau national","N1","AUTRE ",null,null,6.7,8.3000000000000007,8.4,8.1,8.5,5,6.1,4.3,0.61555555555555552]
[null,null,"ME-3.3\n","Il existe des mesures de confidentialité et de sécurité des données visant à protéger les données de surveillance coordonnée à tous les niveaux du pays","N2","AUTRE ",null,null,6.7,8.3000000000000007,8.4,8.1,8.5,5,6.1,4.3,0.61555555555555552]
[null,null,"ME-3.3\n","Il existe des mesures de confidentialité et de sécurité des données visant à protéger les données de surveillance coordonnée, qui ont été évaluées et sont considérées comme étant conformes aux objectifs du système de surveillance coordonné","N3","AUTRE ",null,null,6.7,8.3000000000000007,8.4,8.1,8.5,5,6.1,4.3,0.61555555555555552]
["Outil de la FAO d’évaluation de la surveillance nationale de l'antibiorésistance et des compétences des laboratoires (ATLASS)","Évaluation","AG","N/A","N/A","N/A","PASS",7.2,10,5.6,7.3,7.3,5.2,8.6999999999999993,5.6,7,{"$f":"SUM(H47:P47)/90","v":0.71},"Outil ou processus dirigé/facilité","«Une seule santé»; spécifique d'une maladie/menace "]
[null,null,"E-2.1","Les interconnexions entre les systèmes de surveillance des zoonoses actuellement priorisées ont été évaluées entre les secteurs","N1","AUTRE "]
[null,null,null,"Les interconnexions entre les systèmes de surveillance actuels ont été évaluées parmi les secteurs et à tous les niveaux du pays","N2","AUTRE "]
[null,null,null,"Les interconnexions entre les systèmes de surveillance coordonnés ont été évaluées et sont considérées comme étant conformes aux objectifs du système de surveillance coordonné.","N3","AUTRE "]
["Guide de discussion sur les capacités sanitaires aux frontières (BHCDG)","Évaluation","E-1.1","Des parties prenantes travaillant dans les domaines de la surveillance, de l'épidémiologie, des laboratoires et du partage d'informations ont été identifiées","N1","LES MIEUX ADAPTÉES","PASS",8.8000000000000007,6.7,7.6,9,7,3.8,8,8.4,6,{"$f":"SUM(H51:P58)/90","v":0.72555555555555551},"Document d'orientation","«Une seule santé»; spécifique d'une maladie/menace "]
[null,null,null,"L'analyse des parties prenantes a été utilisée pour identifier les participants à tous les niveaux du pays ","N2","LES MIEUX ADAPTÉES"]
[null,null,"E-2.1","Les interconnexions entre les systèmes de surveillance des zoonoses actuellement priorisées ont été évaluées entre les secteurs","N1","AUTRE "]
[null,null,null,"Les interconnexions entre les systèmes de surveillance actuels ont été évaluées parmi les secteurs et à tous les niveaux du pays","N2","AUTRE "]
[null,null,"E-3.1","Les cadres et plans stratégiques existants relatifs au système de surveillance coordonné ont été évalués en vue d'une consolidation et d'une interconnexion potentielles au niveau national","N1","LES MIEUX ADAPTÉES"]
[null,null,"E-3.2","Les plans de surveillance existants (y compris les définitions de cas, les protocoles et les procédures opérationnelles standard) relatifs au système de surveillance coordonné ont été évalués en vue d'une consolidation et d'une interconnexion potentielles au niveau national","N1","LES MIEUX ADAPTÉES"]
[null,null,"E-3.3","Les plans d'action/opérationnels existants relatifs au système de surveillance coordonné ont été évalués en vue d'une consolidation et d'une interconnexion potentielles au niveau national","N1","AUTRE "]
[null,null,"E-6.1","Des évaluations ont été réalisées pour identifier les exigences, les compétences, les besoins et les lacunes au niveau national en matière de ressources humaines","N1","LES MIEUX ADAPTÉES"]
["Directives relatives aux compétences des professionnels de laboratoire de santé publique: CDC et Association des laboratoires de santé publique","Évaluation","E-6.1","Des évaluations ont été réalisées pour identifier les exigences, les compétences, les besoins et les lacunes au niveau national en matière de ressources humaines","N1","AUTRE ","PASS",9,7.8,9.1999999999999993,9.1,6.3,3,2,7.8,4,{"$f":"SUM(H59:P59)/90","v":0.64666666666666661},"Document d'orientation","Spécifique du secteur; Généralisée"]
[null,null,null,"Des évaluations ont été réalisées pour identifier les exigences, les compétences, les besoins et les lacunes à tous les niveaux du pays en matière de ressources humaines.","N3","AUTRE "]
["Stratégies de communication et de coordination multisectorielles aux frontières","Planification","PL-2.1","Les éléments de données communs sont normalisés entre les secteurs participants sur la base des objectifs analytiques communs du système de surveillance coordonné et sont conformes aux normes internationales en matière de données","N3","AUTRE ",null,8.9,6,7.6,9,5.6,3.5,4,8.3000000000000007,8,{"$f":"SUM(H61:P61)/90","v":0.67666666666666675},"Outil ou processus dirigé/facilité","«Une seule santé»; Généralisée "]
[null,null,"PL-3.1","Les cadres et les plans stratégiques révisés du système de surveillance coordonné ont été alignés sur les recommandations et les normes internationales. \n","N3","AUTRE "]
[null,null,"PL-6.1","Les cadres juridiques révisés du système de surveillance coordonné ont été alignés sur les recommandations et les normes internationales. ","N3","LES MIEUX ADAPTÉES"]
[null,null,"PL-7.1","Il existe une stratégie et/ou un plan de communication (comprenant une terminologie et une messagerie) qui régissent la communication avec les parties prenantes et le public pour le système de surveillance coordonné","N3","LES MIEUX ADAPTÉES"]
["Logiciel d'information de santé au niveau des districts 2 (DHIS2) ","Mise en œuvre","ME-3.1 \n","Il existe un mécanisme de partage de données entre les secteurs au niveau national","N1","LES MIEUX ADAPTÉES","PASS",8.8000000000000007,8.6999999999999993,8,8.6999999999999993,9.3000000000000007,9,10,7.8,7,{"$f":"SUM(H65:P65)/90","v":0.85888888888888881},"Matériel ou logiciel","Spécifique du secteur; Généralisée"]
[null,null,"ME-3.1 \n","Il existe un mécanisme de partage des données entre les secteurs à tous les niveaux du pays","N2","LES MIEUX ADAPTÉES"]
[null,null,"ME-3.1 \n","Il existe un mécanisme de partage de données qui est accessible, fonctionnel et utilisable par tous les secteurs participants","N3","AUTRE "]
[null,null,"ME-3.2\n","Une structure et un lieu sont prévus pour stocker et conserver les données de plusieurs secteurs au niveau national.","N1","AUTRE "]
[null,null,"ME-3.2\n","Une structure et un lieu sont prévus pour stocker et conserver les données de plusieurs secteurs à tous les niveaux du pays","N2","AUTRE "]
[null,null,"ME-3.2\n","Il existe une structure et un endroit pour stocker et conserver les données de tous les secteurs concernés par la surveillance qui sont accessibles, fonctionnels et utilisables par tous les secteurs participants","N3","AUTRE "]
[null,null,"ME-3.3\n","Les données de surveillance coordonnée sont protégées par les mesures de confidentialité et de sécurité des données implantées au niveau national ","N1","LES MIEUX ADAPTÉES"]
[null,null,"ME-3.3\n","Les données de surveillance coordonnée sont protégées par les mesures de confidentialité et de sécurité des données implantées à tous les niveaux du pays","N2","LES MIEUX ADAPTÉES"]
[null,null,"ME-3.3\n","Les données de surveillance coordonnée qui ont été évaluées et sont considérées comme étant conformes aux objectifs du système de surveillance coordonné sont protégées par les mesures de confidentialité et de sécurité des données implantées ","N3","LES MIEUX ADAPTÉES"]
[null,null,"ME-4.2","Les données sont partagées de manière informelle ou formelle de façon ad hoc au niveau national","N1","LES MIEUX ADAPTÉES"]
[null,null,"ME-4.2","Les données sont partagées de manière informelle ou formelle, de façon régulière et en temps utile, à tous les niveaux du pays","N2","LES MIEUX ADAPTÉES"]
[null,null,"ME-4.2","Les données sont partagées de façon systématique et régulière et en temps utile entre tous les secteurs participants par le biais d'une ou plusieurs plateforme(s) interopérable(s) ou conjointe(s) ","N3","LES MIEUX ADAPTÉES"]
[null,null,"ME-5.1 ","Les informations sont partagées de manière ad hoc avec les parties prenantes concernées","N1","LES MIEUX ADAPTÉES"]
[null,null,"ME-5.1 ","Il existe un partage régulier des informations avec les parties prenantes concernées","N2","LES MIEUX ADAPTÉES"]
[null,null,"ME-5.1 ","Il existe un partage régulier et en temps utile des informations avec les parties prenantes concernées, y compris les entités transfrontalières, régionales et internationales","N3","AUTRE "]
[null,null,"ME-5.3","Des données de surveillance coordonnée sont utilisées pour générer des résultats (par exemple, des chiffres, des graphiques, des rapports ou des bulletins) qui sont diffusés au niveau national","N1","LES MIEUX ADAPTÉES"]
[null,null,null,"Des données de surveillance coordonnée sont utilisées pour générer des résultats (par exemple, des chiffres, des graphiques, des rapports ou des bulletins) qui sont diffusés aux parties prenantes à tous les niveaux du pays","N2","LES MIEUX ADAPTÉES"]
[null,null,null,"Les données de surveillance coordonnée, y compris les rapports de suivi et d'évaluation (S&E), sont utilisées pour générer des résultats qui orientent la réponse, les politiques et la programmation","N3","LES MIEUX ADAPTÉES"]
["Évaluation ECDC des systèmes de suivi et de surveillance de la qualité des données - Manuel des méthodes et des applications ","Évaluation","E-2.1","Les interconnexions entre les systèmes de surveillance des zoonoses actuellement priorisées ont été évaluées entre les secteurs","N1","AUTRE ","PASS",8.1999999999999993,6,6.4,7.3,7.7,4.5,5.3,6.2,8,{"$f":"SUM(H83:P83)/90","v":0.66222222222222227},"Document d'orientation","Spécifique du secteur; Généralisée"]
[null,null,null,"Les interconnexions entre les systèmes de surveillance actuels ont été évaluées parmi les secteurs et à tous les niveaux du pays","N2","AUTRE "]
[null,null,null,"Les interconnexions entre les systèmes de surveillance coordonnés ont été évaluées et sont considérées comme étant conformes aux objectifs du système de surveillance coordonné.","N3","AUTRE "]
[null,null,"E-3.2","Les plans de surveillance existants (y compris les définitions de cas, les protocoles et les procédures opérationnelles standard) relatifs au système de surveillance coordonné ont été évalués en vue d'une consolidation et d'une interconnexion potentielles au niveau national","N1","AUTRE "]
[null,null,null,"Les plans de surveillance existants (y compris les définitions de cas, les protocoles et les procédures opérationnelles standard) relatifs au système de surveillance coordonné ont été évalués en vue d'une consolidation et d'une interconnexion potentielles à tous les niveaux du pays","N3","AUTRE "]
[null,"Planification","PL-3.2","Un examen multisectoriel des plans de surveillance nationaux (y compris des plans d'action/opérationnels, des définitions de cas, des protocoles et des procédures opérationnelles standard) liés au système de surveillance coordonné a été effectué à des fins de planification.","N1","AUTRE "]
[null,null,null,"Des plans de surveillance (y compris des plans d'action/opérationnels, des définitions de cas, des protocoles et des procédures opérationnelles standard) pour le système de surveillance coordonné ont été renforcés et interconnectés en vue d'un partage des données à tous les niveaux du pays","N2","AUTRE "]
[null,null,null,"Les plans de surveillance (y compris les plans d'action/opérationnels, les définitions de cas, les protocoles et les procédures opérationnelles standard) révisés pour le système de surveillance coordonné ont été alignés sur les directives et recommandations internationales.","N3","AUTRE "]
[null,"Suivi et évaluation","SE-2.1","Il existe un plan de suivi et d'évaluation qui est conforme aux objectifs du système de surveillance coordonné","N1","AUTRE "]
[null,null,"SE-2.1","Le plan de suivi et d'évaluation est implanté pour surveiller les performances et les avancées du système de surveillance coordonné","N2","AUTRE "]
[null,null,"SE-2.1","Les résultats du suivi et de l'évaluation améliorent ou étendent de manière itérative le système de surveillance coordonné et s'alignent sur les recommandations et les normes internationales. ","N3","AUTRE "]
[null,null,"SE-3.1","Il existe une méthodologie de gestion de la qualité des données","N1","LES MIEUX ADAPTÉES"]
[null,null,"SE-3.1","La qualité des données a été testée et considérée comme étant conforme aux objectifs du système de surveillance coordonné ","N2","AUTRE "]
[null,null,"SE-3.1","La qualité des données est conforme aux normes et recommandations internationales ","N3","AUTRE "]
["Outil ECDC pour l'établissement des priorités en matière de menaces de maladies infectieuses","Planification préalable","PP-2.1","Il existe une liste de zoonoses priorisées à intégrer dans un système de surveillance coordonné","N1","LES MIEUX ADAPTÉES","PASS",9.8000000000000007,10,8,8.6999999999999993,7.1,4.5,8,8.5,9,{"$f":"SUM(H97:P97)/90","v":0.81777777777777771},"Outil d'autoévaluation","Spécifique du secteur; Généralisée"]
[null,null,null,"Une liste des zoonoses est largement diffusée aux niveaux infra-national et communautaire","N2","LES MIEUX ADAPTÉES"]
[null,null,null,"Une liste des zoonoses est établie en utilisant une approche multisectorielle «Une seule santé». Une telle approche impliquerait tous les secteurs concernés dans un processus de priorisation fondé sur des preuves, transparent et reproductible.","N3","LES MIEUX ADAPTÉES"]
["Évaluation des collaborations au sein d'un système de surveillance multisectoriel (EcoSur)","Planification préalable","PPG","N/A","N/A","N/A","PASS",8.3000000000000007,6,8.5,7.8,8.3000000000000007,6.7,3.3,9.1,4.7,{"$f":"SUM(H100:P100)/90","v":0.69666666666666677},"Outil ou processus dirigé/facilité","«Une seule santé»; Généralisée"]
[null,null,"PP-1.1","Des coordonnateurs, des «champions» ou des groupes de travail techniques ont été identifiés dans tous les secteurs participants au niveau national pour planifier la mise en œuvre de la surveillance coordonnée","N1","AUTRE "]
[null,null,null,"Des coordonnateurs, des «champions» ou des groupes de travail techniques ont été identifiés dans tous les secteurs participants et à tous les niveaux du pays pour planifier la mise en œuvre de la surveillance coordonnée.","N2","AUTRE "]
[null,null,null,"Des coordonnateurs, des «champions» ou des groupes de travail techniques (y compris des coordonnateurs ou des «champions» identifiés) chargés de la surveillance coordonnée ont été institutionnalisés (par exemple, par le biais d'un organe directeur tel qu'un MCM)   ","N3","AUTRE "]
[null,null,"PP-3.1","Les objectifs, les rôles et les responsabilités de tous les secteurs participant au système de surveillance coordonné sont accordés et étendus à tous les niveaux du pays","N2","LES MIEUX ADAPTÉES"]
[null,null,"PP-3.1","Les objectifs, les rôles et les responsabilités du système de surveillance coordonné ont été réévalués pour refléter les besoins réels du système de surveillance coordonné ","N3","LES MIEUX ADAPTÉES"]
[null,"Évaluation","AG","N/A","N/A","N/A"]
[null,null,"E-1.1","Des parties prenantes travaillant dans les domaines de la surveillance, de l'épidémiologie, des laboratoires et du partage d'informations ont été identifiées","N1","AUTRE "]
[null,null,null,"L'analyse des parties prenantes a été utilisée pour identifier les participants à tous les niveaux du pays ","N2","AUTRE "]
[null,null,null,"Les rôles et responsabilités des parties prenantes ont été institutionnalisés et adoptés dans les politiques","N3","AUTRE "]
[null,null,"E-2.1","Les interconnexions entre les systèmes de surveillance des zoonoses actuellement priorisées ont été évaluées entre les secteurs","N1","AUTRE "]
[null,null,null,"Les interconnexions entre les systèmes de surveillance actuels ont été évaluées parmi les secteurs et à tous les niveaux du pays","N2","AUTRE "]
[null,null,null,"Les interconnexions entre les systèmes de surveillance coordonnés ont été évaluées et sont considérées comme étant conformes aux objectifs du système de surveillance coordonné.","N3","AUTRE "]
[null,null,"E-2.2","Les cadres juridiques (règles, politiques, directives et réglementations, y compris les normes internationales) qui régissent les normes d'éthique et de confidentialité en matière de surveillance et de partage des données ont été évalués.","N1","LES MIEUX ADAPTÉES"]
[null,null,null,"Les cadres juridiques (règles, politiques, directives et réglementations, y compris les normes internationales) qui régissent les normes d'éthique et de confidentialité en matière de surveillance et de partage des données sont évalués à tous les niveaux du pays ","N3","LES MIEUX ADAPTÉES"]
[null,null,"E-3.1","Les cadres et plans stratégiques existants relatifs au système de surveillance coordonné ont été évalués en vue d'une consolidation et d'une interconnexion potentielles au niveau national","N1","AUTRE "]
[null,null,null,"Les cadres et plans stratégiques relatifs au système de surveillance coordonné ont été évalués en vue d'une consolidation et d'une interconnexion potentielles à tous les niveaux du pays","N3","AUTRE "]
[null,null,"E-3.2","Les plans de surveillance existants (y compris les définitions de cas, les protocoles et les procédures opérationnelles standard) relatifs au système de surveillance coordonné ont été évalués en vue d'une consolidation et d'une interconnexion potentielles au niveau national","N1","AUTRE "]
[null,null,null,"Les plans de surveillance existants (y compris les définitions de cas, les protocoles et les procédures opérationnelles standard) relatifs au système de surveillance coordonné ont été évalués en vue d'une consolidation et d'une interconnexion potentielles à tous les niveaux du pays","N3","AUTRE "]
[null,null,"E-3.3","Les plans d'action/opérationnels existants relatifs au système de surveillance coordonné ont été évalués en vue d'une consolidation et d'une interconnexion potentielles au niveau national","N1","AUTRE "]
[null,null,null,"Les plans d'action/opérationnels relatifs au système de surveillance coordonné ont été évalués en vue d'une consolidation et d'une interconnexion potentielles à tous les niveaux du pays","N3","AUTRE "]
[null,null,"E-3.4","Des exercices basiques de cartographie des infrastructures (telles que définies dans le GTZ CH 4.1) ont été utilisés pour décrire la structure et les connexions sectorielles et intersectorielles ","N1","AUTRE "]
[null,null,null,"La cartographie des infrastructures (telle que décrite au point 4.1 du GTZ) a été utilisée pour décrire la plupart des domaines à cartographier","N2","AUTRE "]
[null,null,null,"La cartographie complète des infrastructures (telle que décrite au point 4.1 du GTZ) a été utilisée pour décrire la totalité des domaines à cartographier.","N3","AUTRE "]
[null,null,"E-4.1","Des évaluations économiques ont été utilisées pour déterminer les besoins financiers nationaux du système de surveillance coordonné ","N1","LES MIEUX ADAPTÉES"]
[null,null,null,"Des évaluations économiques ont été utilisées pour déterminer les besoins financiers à tous les niveaux du pays du système de surveillance coordonné ","N3","LES MIEUX ADAPTÉES"]
[null,null,"E-5.1","Des évaluations de laboratoires ont été utilisées pour identifier des laboratoires de référence nationaux ou internationaux qualifiés capables d'effectuer des tests pour soutenir les activités de surveillance coordonnées","N1","LES MIEUX ADAPTÉES"]
[null,null,null,"Des évaluations de laboratoires ont été utilisées pour identifier à tous les niveaux (y compris international) des laboratoires qualifiés capables d'effectuer des tests pour soutenir les activités de surveillance coordonnées","N2","LES MIEUX ADAPTÉES"]
[null,null,null,"Des évaluations de laboratoires ont été utilisées pour identifier un réseau de laboratoires qualifiés capables d'effectuer des tests pour soutenir les activités de surveillance coordonnées","N3","LES MIEUX ADAPTÉES"]
[null,null,"E-5.2","Les fournitures, les chaînes de transport et l'interprétation des résultats des laboratoires ont été évaluées pour être harmonisées entre les secteurs participants au niveau national","N1","LES MIEUX ADAPTÉES"]
[null,null,null,"L'harmonisation des fournitures, des chaînes de transport et de l'interprétation des résultats des laboratoires entre les secteurs participants a été évaluée à tous les niveaux du pays","N2","LES MIEUX ADAPTÉES"]
[null,null,null,"Le degré d'harmonisation dans les fournitures, les chaînes de transport et l'interprétation des résultats entre les secteurs participants a été évalué et considéré comme étant conforme aux objectifs du système de surveillance coordonné","N3","LES MIEUX ADAPTÉES"]
[null,null,"E-6.1","Des évaluations ont été réalisées pour identifier les exigences, les compétences, les besoins et les lacunes au niveau national en matière de ressources humaines","N1","LES MIEUX ADAPTÉES"]
[null,null,"E-6.1","Des évaluations ont été réalisées pour identifier les exigences, les compétences, les besoins et les lacunes à tous les niveaux du pays en matière de ressources humaines","N3","LES MIEUX ADAPTÉES"]
[null,"Planification","PL-1.1","Les décideurs dans le domaine du système de surveillance coordonné ont été identifiés","N1","AUTRE "]
[null,null,"PL-2.1","Les éléments de données communs sont identifiés et accordés au sein de chaque secteur participant dans le but de remplir les objectifs analytiques communs du système de surveillance coordonné au niveau national","N1","AUTRE "]
[null,null,"PL-2.1","Les éléments de données communs sont identifiés et accordés au sein de chaque secteur participant dans le but de remplir les objectifs analytiques communs du système de surveillance coordonné à tous les niveaux du pays","N2","AUTRE "]
["Cadre de collecte de données EFSA","Planification","PL-2.1","Les éléments de données communs sont identifiés et accordés au sein de chaque secteur participant dans le but de remplir les objectifs analytiques communs du système de surveillance coordonné à tous les niveaux du pays","N2","AUTRE ","PASS",8.5,4,6.8,9.3000000000000007,7.1,5.5,5,8.3000000000000007,10,{"$f":"SUM(H137:P137)/90","v":0.71666666666666667},"Matériel ou logiciel","«Une seule santé»; Généralisée"]
["Système électronique intégré de surveillance des maladies (EIDSS)","Mise en œuvre","ME-3.1 \n","Il existe un mécanisme de partage de données entre les secteurs au niveau national","N1","LES MIEUX ADAPTÉES","PASS",6.8,10,8.4,8.6999999999999993,9.1,8,7,7.2,10,{"$f":"SUM(H138:P138)/90","v":0.83555555555555561},"Matériel ou logiciel","«Une seule santé»; Généralisée"]
[null,null,"ME-3.1 \n","Il existe un mécanisme de partage des données entre les secteurs à tous les niveaux du pays","N2","LES MIEUX ADAPTÉES"]
[null,null,"ME-3.1 \n","Il existe un mécanisme de partage de données qui est accessible, fonctionnel et utilisable par tous les secteurs participants","N3","LES MIEUX ADAPTÉES"]
[null,null,"ME-3.2\n","Une structure et un lieu sont prévus pour stocker et conserver les données de plusieurs secteurs au niveau national.","N1","LES MIEUX ADAPTÉES"]
[null,null,"ME-3.2\n","Une structure et un lieu sont prévus pour stocker et conserver les données de plusieurs secteurs à tous les niveaux du pays","N2","LES MIEUX ADAPTÉES"]
[null,null,"ME-3.2\n","Il existe une structure et un endroit pour stocker et conserver les données de tous les secteurs concernés par la surveillance qui sont accessibles, fonctionnels et utilisables par tous les secteurs participants","N3","LES MIEUX ADAPTÉES"]
[null,null,"ME-3.3\n","Les données de surveillance coordonnée sont protégées par les mesures de confidentialité et de sécurité des données implantées au niveau national ","N1","LES MIEUX ADAPTÉES"]
[null,null,"ME-3.3\n","Les données de surveillance coordonnée sont protégées par les mesures de confidentialité et de sécurité des données implantées à tous les niveaux du pays","N2","LES MIEUX ADAPTÉES"]
[null,null,"ME-3.3\n","Les données de surveillance coordonnée qui ont été évaluées et sont considérées comme étant conformes aux objectifs du système de surveillance coordonné sont protégées par les mesures de confidentialité et de sécurité des données implantées ","N3","LES MIEUX ADAPTÉES"]
[null,null,"ME-4.1 ","Le système de surveillance coordonné fait l'objet d'un projet pilote dans des zones ciblées","N1","AUTRE "]
[null,null,"ME-4.1 ","Le système de surveillance coordonné a été étendu à d'autres domaines sur la base de mises en œuvre pilotes","N2","AUTRE "]
[null,null,"ME-4.1 ","Le système de surveillance coordonné est un programme à l'échelon national","N3","AUTRE "]
[null,null,"ME-4.2","Les données sont partagées de manière informelle ou formelle de façon ad hoc au niveau national","N1","LES MIEUX ADAPTÉES"]
[null,null,"ME-4.2","Les données sont partagées de manière informelle ou formelle, de façon régulière et en temps utile, à tous les niveaux du pays","N2","LES MIEUX ADAPTÉES"]
[null,null,"ME-4.2","Les données sont partagées de façon systématique et régulière et en temps utile entre tous les secteurs participants par le biais d'une ou plusieurs plateforme(s) interopérable(s) ou conjointe(s) ","N3","LES MIEUX ADAPTÉES"]
[null,null,"ME-5.3","Des données de surveillance coordonnée sont utilisées pour générer des résultats (par exemple, des chiffres, des graphiques, des rapports ou des bulletins) qui sont diffusés au niveau national","N1","LES MIEUX ADAPTÉES"]
[null,null,null,"Les données de surveillance coordonnée, y compris les rapports de suivi et d'évaluation (S&E), sont utilisées pour générer des résultats qui orientent la réponse, les politiques et la programmation","N3","AUTRE "]
["Initiative de veille épidémique à sources ouvertes (EIOS)","Mise en œuvre","ME-3.1 \n","Il existe un mécanisme de partage de données entre les secteurs au niveau national","N1","AUTRE ","PASS",8.4,9,7.4,9,8.8000000000000007,8,5.5,9.1999999999999993,6,{"$f":"SUM(H155:P155)/90","v":0.79222222222222216},"Matériel ou logiciel","«Une seule santé»; Généralisée"]
[null,null,"ME-3.1 \n","Il existe un mécanisme de partage de données qui est accessible, fonctionnel et utilisable par tous les secteurs participants","N3","AUTRE "]
[null,null,"ME-4.2","Les données sont partagées de manière informelle ou formelle de façon ad hoc au niveau national","N1","AUTRE "]
[null,null,"ME-4.2","Les données sont partagées de manière informelle ou formelle, de façon régulière et en temps utile, à tous les niveaux du pays","N2","AUTRE "]
[null,null,"ME-4.2","Les données sont partagées de façon systématique et régulière et en temps utile entre tous les secteurs participants par le biais d'une ou plusieurs plateforme(s) interopérable(s) ou conjointe(s) ","N3","AUTRE "]
[null,null,"ME-5.1 ","Les informations sont partagées de manière ad hoc avec les parties prenantes concernées","N1","AUTRE "]
[null,null,"ME-5.1 ","Il existe un partage régulier des informations avec les parties prenantes concernées","N2","AUTRE "]
[null,null,"ME-5.1 ","Il existe un partage régulier et en temps utile des informations avec les parties prenantes concernées, y compris les entités transfrontalières, régionales et internationales","N3","AUTRE "]
["Event Mobile Application (EMAi)","Mise en œuvre","ME-3.1 \n","Il existe un mécanisme de partage de données entre les secteurs au niveau national","N1","AUTRE ","PASS",8.9,7.7,9.1,6,8.3000000000000007,9.3000000000000007,6.7,4.5,5.7,{"$f":"SUM(H163:P163)/90","v":0.73555555555555563},"Matériel ou logiciel","Spécifique du secteur; Généralisée"]
[null,null,null,"Il existe un mécanisme de partage des données entre les secteurs à tous les niveaux du pays","N2","AUTRE "]
[null,null,"ME-5.2","Les exigences de notification internationale pour toutes les zoonoses sont respectées","N1","AUTRE "]
["EMPRES Système mondial d'information sur les maladies animales (EMPRES-i)","Mise en œuvre","ME-3.1 \n","Il existe un mécanisme de partage de données entre les secteurs au niveau national","N1","AUTRE ","PASS",9,8.3000000000000007,8.9,8.6999999999999993,8,7.8,7.4,4.8,4.7,{"$f":"SUM(H166:P166)/90","v":0.75111111111111106},"Matériel ou logiciel","Spécifique du secteur; Généralisée"]
[null,null,"ME-3.1 \n","Il existe un mécanisme de partage des données entre les secteurs à tous les niveaux du pays","N2","LES MIEUX ADAPTÉES"]
[null,null,"ME-3.2\n","Une structure et un lieu sont prévus pour stocker et conserver les données de plusieurs secteurs au niveau national.","N1","AUTRE "]
[null,null,"ME-3.2\n","Une structure et un lieu sont prévus pour stocker et conserver les données de plusieurs secteurs à tous les niveaux du pays","N2","AUTRE "]
[null,null,"ME-3.2\n","Il existe une structure et un endroit pour stocker et conserver les données de tous les secteurs concernés par la surveillance qui sont accessibles, fonctionnels et utilisables par tous les secteurs participants","N3","AUTRE "]
[null,null,"ME-3.3\n","Les données de surveillance coordonnée sont protégées par les mesures de confidentialité et de sécurité des données implantées au niveau national ","N1","AUTRE "]
[null,null,"ME-3.3\n","Les données de surveillance coordonnée sont protégées par les mesures de confidentialité et de sécurité des données implantées à tous les niveaux du pays","N2","AUTRE "]
[null,null,"ME-5.1","Les informations sont partagées de manière ad hoc avec les parties prenantes concernées","N1","AUTRE "]
["Outil de cartographie épidémiologique (EMT)","Évaluation","E-3.2","Les plans de surveillance existants (y compris les définitions de cas, les protocoles et les procédures opérationnelles standard) relatifs au système de surveillance coordonné ont été évalués en vue d'une consolidation et d'une interconnexion potentielles au niveau national","N1","AUTRE ","PASS",6.6,8,7.4,7.3,6.9,5,3.5,6.8,5.5,{"$f":"SUM(H174:P174)/90","v":0.6333333333333333},"Outil ou processus dirigé/facilité","Spécifique du secteur; Généralisée"]
[null,null,"E-6.1","Des évaluations ont été réalisées pour identifier les exigences, les compétences, les besoins et les lacunes au niveau national en matière de ressources humaines","N1","LES MIEUX ADAPTÉES"]
["Directives pour la conception\nde plans de surveillance\ndes maladies animales\n",null,"PL-3.2","Un examen multisectoriel des plans de surveillance nationaux (y compris des plans d'action/opérationnels, des définitions de cas, des protocoles et des procédures opérationnelles standard) liés au système de surveillance coordonné a été effectué à des fins de planification.","N1","AUTRE ","PASS",9.1999999999999993,10,7.5,8.6999999999999993,5.7,2.5,3.3,5.0999999999999996,4,{"$f":"SUM(H176:P176)/90","v":0.62222222222222223},"Modèle","Spécifique du secteur; Généralisée"]
[null,null,"PL-3.2","Des plans de surveillance (y compris des plans d'action/opérationnels, des définitions de cas, des protocoles et des procédures opérationnelles standard) pour le système de surveillance coordonné ont été renforcés et interconnectés en vue d'un partage des données à tous les niveaux du pays","N2","AUTRE "]
[null,null,"PL-3.2","Les plans de surveillance (y compris les plans d'action/opérationnels, les définitions de cas, les protocoles et les procédures opérationnelles standard) révisés pour le système de surveillance coordonné ont été alignés sur les directives et recommandations internationales.","N3","AUTRE "]
["FoodChain-Lab (FCL) ","Mise en œuvre","ME-3.1 \n","Il existe un mécanisme de partage de données entre les secteurs au niveau national","N1","AUTRE ","PASS",9.6999999999999993,6,7.9,7.8,8.1,8,7.9,8.4,9.6999999999999993,{"$f":"SUM(H179:P179)/90","v":0.81666666666666665},"Matériel ou logiciel","«Une seule santé»; spécifique d'une maladie/menace "]
[null,null,"ME-5.3","Des données de surveillance coordonnée sont utilisées pour générer des résultats (par exemple, des chiffres, des graphiques, des rapports ou des bulletins) qui sont diffusés au niveau national","N1","AUTRE "]
[null,null,null,"Des données de surveillance coordonnée sont utilisées pour générer des résultats (par exemple, des chiffres, des graphiques, des rapports ou des bulletins) qui sont diffusés aux parties prenantes à tous les niveaux du pays","N2","AUTRE "]
[null,null,null,"Les données de surveillance coordonnée, y compris les rapports de suivi et d'évaluation (S&E), sont utilisées pour générer des résultats qui orientent la réponse, les politiques et la programmation","N3","AUTRE "]
["Cadre d'évaluation des systèmes de surveillance de santé publique pour la détection précoce des foyers épidémiques ","Évaluation","E-3.1","Les cadres et plans stratégiques existants relatifs au système de surveillance coordonné ont été évalués en vue d'une consolidation et d'une interconnexion potentielles au niveau national","N1","AUTRE ",null,9.1999999999999993,6.7,8.4,8.6999999999999993,7.1,2,2.5,8.1999999999999993,6,{"$f":"SUM(H183:P183)/90","v":0.65333333333333332},"Document d'orientation","Spécifique du secteur; Généralisée"]
["Processus d'élimination globale de la rage chez le chien (GDREP)","Évaluation","E-4.1","Des évaluations économiques ont été utilisées pour déterminer les besoins financiers nationaux du système de surveillance coordonné ","N1","LES MIEUX ADAPTÉES","PASS",9.1,7.3,8.6999999999999993,6,7.9,6,7,6.3,7,{"$f":"SUM(H184:P184)/90","v":0.72555555555555551},"Outil d'autoévaluation","«Une seule santé»; spécifique d'une maladie/menace "]
[null,null,null,"Des évaluations économiques ont été utilisées pour déterminer les besoins financiers à tous les niveaux du pays du système de surveillance coordonné ","N3","LES MIEUX ADAPTÉES"]
[null,null,"E-6.1","Des évaluations ont été réalisées pour identifier les exigences, les compétences, les besoins et les lacunes au niveau national en matière de ressources humaines","N1","LES MIEUX ADAPTÉES"]
[null,null,null,"Des évaluations ont été réalisées pour identifier les exigences, les compétences, les besoins et les lacunes à tous les niveaux du pays en matière de ressources humaines","N3","AUTRE "]
[null,null,"PL-5.1","Il existe un plan d'éducation et de formation pour le système de surveillance coordonné, basé sur l'évaluation des ressources humaines au niveau national","N1","AUTRE "]
[null,null,null,"Il existe un plan d'éducation et de formation pour le système de surveillance coordonné, basé sur l'évaluation des ressources humaines à tous les niveaux du pays","N2","AUTRE "]
[null,null,null,"L'éducation et la formation de la main-d'œuvre sont liées à la planification multisectorielle nationale des ressources humaines et s'appuient sur les compétences et les évaluations internationales.\n","N3","AUTRE "]
[null,"Planification","PL-6.1","Les cadres juridiques nécessaires (règles, politiques, directives et réglementations, y compris les normes internationales) ont été normalisés entre les différents secteurs sur la base d'une évaluation au niveau national","N1","AUTRE "]
[null,null,null,"Les cadres juridiques nécessaires (règles, politiques, directives et réglementations, y compris les normes internationales) ont été normalisés entre les différents secteurs sur la base d'une évaluation à tous les niveaux du pays","N2","AUTRE "]
[null,null,null,"Les cadres juridiques révisés du système de surveillance coordonné ont été alignés sur les recommandations et les normes internationales. ","N3","AUTRE "]
["Approche d'évaluation des systèmes de santé (HSAA)","Évaluation","AG","N/A","N/A","N/A","1 EVAL",10,10,6.4,4.7,8.3000000000000007,2,3,6,4,{"$f":"SUM(H194:P194)/90","v":0.60444444444444445},"Document d'orientation","Spécifique du secteur; Généralisée"]
["Surveillance intégrée de la maladie et la riposte (IDSR)","Planification préalable","PP-1.1","Des coordonnateurs, des «champions» ou des groupes de travail techniques ont été identifiés dans tous les secteurs participants au niveau national pour planifier la mise en œuvre de la surveillance coordonnée","N1","AUTRE ","PASS",7.4,10,7.4,8.6999999999999993,6.7,4.5,8,7.2,8.5,{"$f":"SUM(H195:P195)/90","v":0.76},"Document d'orientation","Spécifique du secteur; Généralisée"]
[null,null,null,"Des coordonnateurs, des «champions» ou des groupes de travail techniques ont été identifiés dans tous les secteurs participants et à tous les niveaux du pays pour planifier la mise en œuvre de la surveillance coordonnée.","N2","AUTRE "]
[null,null,null,"Des coordonnateurs, des «champions» ou des groupes de travail techniques (y compris des coordonnateurs ou des «champions» identifiés) chargés de la surveillance coordonnée ont été institutionnalisés (par exemple, par le biais d'un organe directeur tel qu'un MCM)   ","N3","AUTRE "]
[null,null,"PP-3.1","Les objectifs, les rôles et les responsabilités de tous les secteurs participant au système de surveillance coordonné sont accordés au niveau national","N1","LES MIEUX ADAPTÉES"]
[null,null,null,"Les objectifs, les rôles et les responsabilités de tous les secteurs participant au système de surveillance coordonné sont accordés et étendus à tous les niveaux du pays","N2","LES MIEUX ADAPTÉES"]
[null,"Évaluation","E-1.1","Des parties prenantes travaillant dans les domaines de la surveillance, de l'épidémiologie, des laboratoires et du partage d'informations ont été identifiées","N1","AUTRE "]
[null,null,null,"L'analyse des parties prenantes a été utilisée pour identifier les participants à tous les niveaux du pays ","N2","AUTRE "]
[null,null,null,"Les rôles et responsabilités des parties prenantes ont été institutionnalisés et adoptés dans les politiques","N3","AUTRE "]
[null,null,"E-2.1","Les interconnexions entre les systèmes de surveillance des zoonoses actuellement priorisées ont été évaluées entre les secteurs","N1","AUTRE "]
[null,null,"E-3.2","Les plans de surveillance existants (y compris les définitions de cas, les protocoles et les procédures opérationnelles standard) relatifs au système de surveillance coordonné ont été évalués en vue d'une consolidation et d'une interconnexion potentielles au niveau national","N1","LES MIEUX ADAPTÉES"]
[null,null,null,"Les plans de surveillance existants (y compris les définitions de cas, les protocoles et les procédures opérationnelles standard) relatifs au système de surveillance coordonné ont été évalués en vue d'une consolidation et d'une interconnexion potentielles à tous les niveaux du pays","N3","LES MIEUX ADAPTÉES"]
[null,null,"E-5.1","Des évaluations de laboratoires ont été utilisées pour identifier des laboratoires de référence nationaux ou internationaux qualifiés capables d'effectuer des tests pour soutenir les activités de surveillance coordonnées","N1","AUTRE "]
[null,null,"E-6.1","Des évaluations ont été réalisées pour identifier les exigences, les compétences, les besoins et les lacunes à tous les niveaux du pays en matière de ressources humaines","N3","AUTRE "]
[null,"Planification","PLG","N/A","N/A","N/A"]
[null,null,"PL-1.1","Les décideurs dans le domaine du système de surveillance coordonné ont été identifiés","N1","AUTRE "]
[null,null,"PL-2.1","Les éléments de données communs sont identifiés et accordés au sein de chaque secteur participant dans le but de remplir les objectifs analytiques communs du système de surveillance coordonné au niveau national","N1","AUTRE "]
[null,null,null,"Les éléments de données communs sont identifiés et accordés au sein de chaque secteur participant dans le but de remplir les objectifs analytiques communs du système de surveillance coordonné à tous les niveaux du pays","N2","AUTRE "]
[null,null,null,"Les éléments de données communs sont normalisés entre les secteurs participants sur la base des objectifs analytiques communs du système de surveillance coordonné et sont conformes aux normes internationales en matière de données","N3","LES MIEUX ADAPTÉES"]
[null,null,"PL-3.1","Un examen multisectoriel des cadres nationaux et des plans stratégiques liés au système de surveillance coordonné a été réalisé à des fins de planification.","N1","AUTRE "]
[null,null,null,"Les cadres et les plans stratégiques du système de surveillance coordonné ont été consolidés et interconnectés sur la base d'une évaluation à tous les niveaux du pays","N2","AUTRE "]
[null,null,null,"Les cadres et les plans stratégiques révisés du système de surveillance coordonné ont été alignés sur les recommandations et les normes internationales. \n","N3","AUTRE "]
[null,null,"PL-3.2","Un examen multisectoriel des plans de surveillance nationaux (y compris des plans d'action/opérationnels, des définitions de cas, des protocoles et des procédures opérationnelles standard) liés au système de surveillance coordonné a été effectué à des fins de planification.","N1","AUTRE "]
[null,null,null,"Des plans de surveillance (y compris des plans d'action/opérationnels, des définitions de cas, des protocoles et des procédures opérationnelles standard) pour le système de surveillance coordonné ont été renforcés et interconnectés en vue d'un partage des données à tous les niveaux du pays","N2","AUTRE "]
[null,null,null,"Les plans de surveillance (y compris les plans d'action/opérationnels, les définitions de cas, les protocoles et les procédures opérationnelles standard) révisés pour le système de surveillance coordonné ont été alignés sur les directives et recommandations internationales.","N3","AUTRE "]
[null,null,"PL-5.1","Il existe un plan d'éducation et de formation pour le système de surveillance coordonné, basé sur l'évaluation des ressources humaines au niveau national","N1","LES MIEUX ADAPTÉES"]
[null,null,null,"Il existe un plan d'éducation et de formation pour le système de surveillance coordonné, basé sur l'évaluation des ressources humaines à tous les niveaux du pays","N2","LES MIEUX ADAPTÉES"]
[null,"Mise en œuvre","IG","N/A","N/A","N/A"]
[null,null,"ME-4.2","Les données sont partagées de manière informelle ou formelle de façon ad hoc au niveau national","N1","LES MIEUX ADAPTÉES"]
[null,null,"ME-4.2","Les données sont partagées de manière informelle ou formelle, de façon régulière et en temps utile, à tous les niveaux du pays","N2","LES MIEUX ADAPTÉES"]
[null,null,"ME-5.1 ","Les informations sont partagées de manière ad hoc avec les parties prenantes concernées","N1","LES MIEUX ADAPTÉES"]
[null,null,"ME-5.1 ","Il existe un partage régulier des informations avec les parties prenantes concernées","N2","LES MIEUX ADAPTÉES"]
[null,null,"ME-5.1 ","Il existe un partage régulier et en temps utile des informations avec les parties prenantes concernées, y compris les entités transfrontalières, régionales et internationales","N3","LES MIEUX ADAPTÉES"]
[null,null,"ME-5.2","Les exigences de notification internationale pour toutes les zoonoses sont respectées","N1","AUTRE "]
[null,null,"ME-5.3","Des données de surveillance coordonnée sont utilisées pour générer des résultats (par exemple, des chiffres, des graphiques, des rapports ou des bulletins) qui sont diffusés au niveau national","N1","LES MIEUX ADAPTÉES"]
[null,null,"ME-5.3","Des données de surveillance coordonnée sont utilisées pour générer des résultats (par exemple, des chiffres, des graphiques, des rapports ou des bulletins) qui sont diffusés aux parties prenantes à tous les niveaux du pays","N2","LES MIEUX ADAPTÉES"]
[null,null,"ME-5.3","Les données de surveillance coordonnée, y compris les rapports de suivi et d'évaluation (S&E), sont utilisées pour générer des résultats qui orientent la réponse, les politiques et la programmation","N3","LES MIEUX ADAPTÉES"]
[null,"Suivi et évaluation","SE-3.1","Il existe une méthodologie de gestion de la qualité des données","N1","AUTRE "]
[null,null,"SE-3.1","La qualité des données a été testée et considérée comme étant conforme aux objectifs du système de surveillance coordonné ","N2","AUTRE "]
[null,null,"SE-3.1","La qualité des données est conforme aux normes et recommandations internationales ","N3","AUTRE "]
["Outil d'évaluation des coûts du Règlement sanitaire international (RSI) de l'Université de Georgetown","Évaluation","E-4.1","Des évaluations économiques ont été utilisées pour déterminer les besoins financiers nationaux du système de surveillance coordonné","N1","LES MIEUX ADAPTÉES","PASS",9.6,6,9.3000000000000007,7.3,7.1,8.8000000000000007,9.3000000000000007,7.5,8,{"$f":"SUM(H234:P234)/90","v":0.80999999999999994},"Outil d'autoévaluation","Spécifique du secteur; Généralisée"]
[null,null,null,"Des évaluations économiques ont été utilisées pour déterminer les besoins financiers à tous les niveaux du pays du système de surveillance coordonné ","N3","LES MIEUX ADAPTÉES"]
[null,"Planification","PL-4.1","Il existe un plan budgétaire et un mécanisme de distribution des fonds destinés à la surveillance coordonnée au niveau national","N1","AUTRE "]
[null,null,null,"Il existe un plan budgétaire et un mécanisme de distribution des fonds destinés à la surveillance coordonnée à tous les niveaux du pays","N2","AUTRE "]
[null,"Mise en œuvre","ME-1.1","Il existe un financement destiné à la surveillance coordonnée au niveau national","N1","AUTRE "]
["Atelier national de rapprochement et d'échange RSI-PVS","Évaluation","E-1.1","Des parties prenantes travaillant dans les domaines de la surveillance, de l'épidémiologie, des laboratoires et du partage d'informations ont été identifiées","N1","LES MIEUX ADAPTÉES","PASS",8.6,10,6.2,10,6,7,9,8.1999999999999993,10,{"$f":"SUM(H239:P239)/90","v":0.83333333333333337},"Outil ou processus dirigé/facilité","«Une seule santé»; Généralisée"]
[null,null,null,"L'analyse des parties prenantes a été utilisée pour identifier les participants à tous les niveaux du pays ","N2","LES MIEUX ADAPTÉES"]
[null,null,null,"Les rôles et responsabilités des parties prenantes ont été institutionnalisés et adoptés dans les politiques","N3","LES MIEUX ADAPTÉES"]
[null,null,"E-2.1","Les interconnexions entre les systèmes de surveillance des zoonoses actuellement priorisées ont été évaluées entre les secteurs","N1","AUTRE "]
[null,null,null,"Les interconnexions entre les systèmes de surveillance actuels ont été évaluées parmi les secteurs et à tous les niveaux du pays","N2","AUTRE "]
[null,null,null,"Les interconnexions entre les systèmes de surveillance coordonnés ont été évaluées et sont considérées comme étant conformes aux objectifs du système de surveillance coordonné.","N3","LES MIEUX ADAPTÉES"]
[null,null,"E-3.3","Les plans d'action/opérationnels existants relatifs au système de surveillance coordonné ont été évalués en vue d'une consolidation et d'une interconnexion potentielles au niveau national","N1","LES MIEUX ADAPTÉES"]
[null,null,null,"Les plans d'action/opérationnels relatifs au système de surveillance coordonné ont été évalués en vue d'une consolidation et d'une interconnexion potentielles à tous les niveaux du pays","N3","LES MIEUX ADAPTÉES"]
[null,null,"E-3.4","Des exercices basiques de cartographie des infrastructures (telles que définies dans le GTZ CH 4.1) ont été utilisés pour décrire la structure et les connexions sectorielles et intersectorielles ","N1","AUTRE "]
[null,null,null,"La cartographie des infrastructures (telle que décrite au point 4.1 du GTZ) a été utilisée pour décrire la plupart des domaines à cartographier","N2","AUTRE "]
[null,null,null,"La cartographie complète des infrastructures (telle que décrite au point 4.1 du GTZ) a été utilisée pour décrire la totalité des domaines à cartographier.","N3","AUTRE "]
[null,"Planification","PL-2.1","Les éléments de données communs sont identifiés et accordés au sein de chaque secteur participant dans le but de remplir les objectifs analytiques communs du système de surveillance coordonné au niveau national","N1","AUTRE "]
[null,null,null,"Les éléments de données communs sont identifiés et accordés au sein de chaque secteur participant dans le but de remplir les objectifs analytiques communs du système de surveillance coordonné à tous les niveaux du pays","N2","AUTRE "]
[null,null,null,"Les éléments de données communs sont normalisés entre les secteurs participants sur la base des objectifs analytiques communs du système de surveillance coordonné et sont conformes aux normes internationales en matière de données","N3","AUTRE "]
[null,null,"PL-3.1","Un examen multisectoriel des cadres nationaux et des plans stratégiques liés au système de surveillance coordonné a été réalisé à des fins de planification.","N1","AUTRE "]
[null,null,null,"Les cadres et les plans stratégiques du système de surveillance coordonné ont été consolidés et interconnectés sur la base d'une évaluation à tous les niveaux du pays","N2","AUTRE "]
[null,null,null,"Les cadres et les plans stratégiques révisés du système de surveillance coordonné ont été alignés sur les recommandations et les normes internationales. \n","N3","AUTRE "]
["Évaluation externe conjointe (EEC) ","Planification préalable","PPG","N/A","N/A","N/A","PASS",8.6999999999999993,10,7,6.3,7.7,4.7,6,9.5,10,{"$f":"SUM(H256:P256)/90","v":0.77666666666666673},"Outil ou processus dirigé/facilité","«Une seule santé»; Généralisée"]
[null,"Évaluation","AG","N/A","N/A","N/A"]
[null,null,"E-2.1","Les interconnexions entre les systèmes de surveillance des zoonoses actuellement priorisées ont été évaluées entre les secteurs","N1","AUTRE "]
[null,null,"E-3.1","Les cadres et plans stratégiques existants relatifs au système de surveillance coordonné ont été évalués en vue d'une consolidation et d'une interconnexion potentielles au niveau national","N1","AUTRE "]
[null,null,"E-3.2","Les plans de surveillance existants (y compris les définitions de cas, les protocoles et les procédures opérationnelles standard) relatifs au système de surveillance coordonné ont été évalués en vue d'une consolidation et d'une interconnexion potentielles au niveau national","N1","AUTRE "]
[null,null,"E-3.3","Les plans d'action/opérationnels existants relatifs au système de surveillance coordonné ont été évalués en vue d'une consolidation et d'une interconnexion potentielles au niveau national","N1","AUTRE "]
[null,null,"E-5.1","Des évaluations de laboratoires ont été utilisées pour identifier des laboratoires de référence nationaux ou internationaux qualifiés capables d'effectuer des tests pour soutenir les activités de surveillance coordonnées","N1","AUTRE "]
[null,"Planification","PLG","NA","N3","AUTRE "]
[null,"Mise en œuvre","ME-5.2","Les exigences de notification internationale pour toutes les zoonoses sont respectées","N1","AUTRE "]
["Cadre de compétences de leadership pour les laboratoires (GLLP)","Évaluation","E-6.1","Des évaluations ont été réalisées pour identifier les exigences, les compétences, les besoins et les lacunes au niveau national en matière de ressources humaines","N1","LES MIEUX ADAPTÉES","PASS",9.6,8,8.4,9.6999999999999993,7.3,2.2999999999999998,5,8.9,4,{"$f":"SUM(H265:P265)/90","v":0.70222222222222219},"Document d'orientation","«Une seule santé»; Généralisée"]
[null,null,null,"Des évaluations ont été réalisées pour identifier les exigences, les compétences, les besoins et les lacunes à tous les niveaux du pays en matière de ressources humaines","N3","LES MIEUX ADAPTÉES"]
[null,"Planification","PL-5.1","Il existe un plan d'éducation et de formation pour le système de surveillance coordonné, basé sur l'évaluation des ressources humaines au niveau national","N1","AUTRE "]
["Outil de cartographie des laboratoires de la FAO (LMT)","Évaluation","E-5.1","Des évaluations de laboratoires ont été utilisées pour identifier des laboratoires de référence nationaux ou internationaux qualifiés capables d'effectuer des tests pour soutenir les activités de surveillance coordonnées","N1","LES MIEUX ADAPTÉES","PASS",9.8000000000000007,10,9.1999999999999993,7.8,7.2,7.1,9.6999999999999993,3,4.7,{"$f":"SUM(H268:P268)/90","v":0.76111111111111107},"Outil d'autoévaluation","Spécifique du secteur; Généralisée"]
[null,null,null,"Des évaluations de laboratoires ont été utilisées pour identifier à tous les niveaux (y compris international) des laboratoires qualifiés capables d'effectuer des tests pour soutenir les activités de surveillance coordonnées","N2","LES MIEUX ADAPTÉES"]
[null,null,null,"Des évaluations de laboratoires ont été utilisées pour identifier un réseau de laboratoires qualifiés capables d'effectuer des tests pour soutenir les activités de surveillance coordonnées","N3","LES MIEUX ADAPTÉES"]
["Analyse du réseau des infrastructures de laboratoire (LINA)","Évaluation","E-3.4","Des exercices basiques de cartographie des infrastructures (telles que définies dans le GTZ CH 4.1) ont été utilisés pour décrire la structure et les connexions sectorielles et intersectorielles ","N1","AUTRE ","Pass",9.6,6,7.6,9,8.3000000000000007,7,3,9.1,4,0.69555555555555559,"Matériel ou logiciel","«Une seule santé»; Généralisée"]
[null,null,null,"La cartographie des infrastructures (telle que décrite au point 4.1 du GTZ) a été utilisée pour décrire la plupart des domaines à cartographier","N2","AUTRE "]
[null,null,null,"La cartographie complète des infrastructures (telle que décrite au point 4.1 du GTZ) a été utilisée pour décrire la totalité des domaines à cartographier.","N3","AUTRE "]
[null,null,"E-5.1","Des évaluations de laboratoires ont été utilisées pour identifier des laboratoires de référence nationaux ou internationaux qualifiés capables d'effectuer des tests pour soutenir les activités de surveillance coordonnées","N1","LES MIEUX ADAPTÉES"]
[null,null,null,"Des évaluations de laboratoires ont été utilisées pour identifier à tous les niveaux (y compris international) des laboratoires qualifiés capables d'effectuer des tests pour soutenir les activités de surveillance coordonnées","N2","LES MIEUX ADAPTÉES"]
[null,null,null,"Des évaluations de laboratoires ont été utilisées pour identifier un réseau de laboratoires qualifiés capables d'effectuer des tests pour soutenir les activités de surveillance coordonnées","N3","LES MIEUX ADAPTÉES"]
[null,null,"E-5.2","Les fournitures, les chaînes de transport et l'interprétation des résultats des laboratoires ont été évaluées pour être harmonisées entre les secteurs participants au niveau national","N1","LES MIEUX ADAPTÉES"]
[null,null,null,"L'harmonisation des fournitures, des chaînes de transport et de l'interprétation des résultats des laboratoires entre les secteurs participants a été évaluée à tous les niveaux du pays","N2","LES MIEUX ADAPTÉES"]
[null,null,null,"Le degré d'harmonisation dans les fournitures, les chaînes de transport et l'interprétation des résultats entre les secteurs participants a été évalué et considéré comme étant conforme aux objectifs du système de surveillance coordonné","N3","LES MIEUX ADAPTÉES"]
[null,null,"ME-4.1 ","Le système de surveillance coordonné fait l'objet d'un projet pilote dans des zones ciblées","N1","AUTRE "]
[null,null,"ME-4.1 ","Le système de surveillance coordonné a été étendu à d'autres domaines sur la base de mises en œuvre pilotes","N2","AUTRE "]
[null,null,"ME-4.1 ","Le système de surveillance coordonné est un programme à l'échelon national","N3","AUTRE "]
[null,null,"ME-5.3","Des données de surveillance coordonnée sont utilisées pour générer des résultats (par exemple, des chiffres, des graphiques, des rapports ou des bulletins) qui sont diffusés au niveau national","N1","LES MIEUX ADAPTÉES"]
[null,null,"ME-5.3","Des données de surveillance coordonnée sont utilisées pour générer des résultats (par exemple, des chiffres, des graphiques, des rapports ou des bulletins) qui sont diffusés aux parties prenantes à tous les niveaux du pays","N2","LES MIEUX ADAPTÉES"]
[null,null,"ME-5.3","Les données de surveillance coordonnée, y compris les rapports de suivi et d'évaluation (S&E), sont utilisées pour générer des résultats qui orientent la réponse, les politiques et la programmation","N3","LES MIEUX ADAPTÉES"]
[null,"Suivi et évaluation","SE-1.1","Des exercices de simulation sont réalisés pour évaluer l'efficacité et la fonctionnalité du système de surveillance coordonné au niveau national  ","N1","AUTRE "]
[null,null,"SE-1.1","Des exercices de simulation sont réalisés pour évaluer l'efficacité et la fonctionnalité du système de surveillance coordonné à tous les niveaux du pays  ","N2","AUTRE "]
["Liste et catégorisation des maladies animales prioritaires, y compris celles transmissibles à l'homme (Phylum)","Planification préalable","PP-2.1","Il existe une liste de zoonoses priorisées à intégrer dans un système de surveillance coordonné","N1","AUTRE ","PASS",6.9,8,6.2,8.3000000000000007,7.5,7.3,5.5,8.6999999999999993,4,{"$f":"SUM(H288:P288)/90","v":0.69333333333333336},"Outil d'autoévaluation","Spécifique du secteur; Généralisée"]
[null,null,null,"Une liste des zoonoses est largement diffusée aux niveaux infra-national et communautaire","N2","AUTRE "]
[null,null,null,"Une liste des zoonoses est établie en utilisant une approche multisectorielle «Une seule santé». Une telle approche impliquerait tous les secteurs concernés dans un processus de priorisation fondé sur des preuves, transparent et reproductible.","N3","AUTRE "]
["Méthodologie d'analyse de la législation relative à la RAM dans le secteur de l'alimentation et de l'agriculture","Évaluation","E-2.2","Les cadres juridiques (règles, politiques, directives et réglementations, y compris les normes internationales) qui régissent les normes d'éthique et de confidentialité en matière de surveillance et de partage des données ont été évalués.","N1","AUTRE ","PASS",7.4,5.5,7.6,4,8.1999999999999993,4.5,4.5,6.6,4.5,{"$f":"SUM(H291:P291)/90","v":0.58666666666666667},"Document d'orientation","«Une seule santé»; Généralisée"]
[null,"Planification","PL-1.1","Les décideurs dans le domaine du système de surveillance coordonné ont été identifiés","N1","AUTRE "]
[null,null,"PL-3.1","Un examen multisectoriel des cadres nationaux et des plans stratégiques liés au système de surveillance coordonné a été réalisé à des fins de planification.","N1","AUTRE "]
[null,null,"PL-3.2","Un examen multisectoriel des plans de surveillance nationaux (y compris des plans d'action/opérationnels, des définitions de cas, des protocoles et des procédures opérationnelles standard) liés au système de surveillance coordonné a été effectué à des fins de planification.","N1","AUTRE "]
[null,null,"PL-6.1","Les cadres juridiques nécessaires (règles, politiques, directives et réglementations, y compris les normes internationales) ont été normalisés entre les différents secteurs sur la base d'une évaluation au niveau national","N1","AUTRE "]
["Directives actualisées pour l'évaluation des systèmes de surveillance de la santé publique ","Évaluation","AG","N/A","N/A","N/A","PASS",7.6,8,7.2,8.6999999999999993,7.7,2.2999999999999998,4,5.8,4,{"$f":"SUM(H296:P296)/90","v":0.61444444444444446},"Document d'orientation","Spécifique du secteur; Généralisée"]
[null,"Suivi et évaluation","SE-2.1","Il existe un plan de suivi et d'évaluation qui est conforme aux objectifs du système de surveillance coordonné","N1","AUTRE "]
[null,null,"SE-2.1","Le plan de suivi et d'évaluation est implanté pour surveiller les performances et les avancées du système de surveillance coordonné","N2","AUTRE "]
[null,null,"SE-2.1","Les résultats du suivi et de l'évaluation améliorent ou étendent de manière itérative le système de surveillance coordonné et s'alignent sur les recommandations et les normes internationales. ","N3","AUTRE "]
[null,null,"SE-3.1","Il existe une méthodologie de gestion de la qualité des données","N1","AUTRE "]
[null,null,"SE-3.1","La qualité des données a été testée et considérée comme étant conforme aux objectifs du système de surveillance coordonné ","N2","AUTRE "]
[null,null,"SE-3.1","La qualité des données est conforme aux normes et recommandations internationales ","N3","AUTRE "]
["Plan d'action national pour la sécurité sanitaire (PANSS)","Planification préalable","PPG","N/A","N/A","N/A","PASS",8,9,7.8,10,8,4.5,10,10,10,{"$f":"SUM(H303:P303)/90","v":0.85888888888888881},"Document d'orientation","«Une seule santé»; Généralisée"]
[null,null,"PP-1.1","Des coordonnateurs, des «champions» ou des groupes de travail techniques (y compris des coordonnateurs ou des «champions» identifiés) chargés de la surveillance coordonnée ont été institutionnalisés (par exemple, par le biais d'un organe directeur tel qu'un MCM)   ","N3","AUTRE "]
[null,null,"PP-3.1","Les objectifs, les rôles et les responsabilités du système de surveillance coordonné ont été réévalués pour refléter les besoins réels du système de surveillance coordonné ","N3","LES MIEUX ADAPTÉES"]
[null,"Évaluation","AG","N/A","N/A","N/A"]
[null,null,"E-1.1","Des parties prenantes travaillant dans les domaines de la surveillance, de l'épidémiologie, des laboratoires et du partage d'informations ont été identifiées","N1","AUTRE "]
[null,null,null,"L'analyse des parties prenantes a été utilisée pour identifier les participants à tous les niveaux du pays ","N2","AUTRE "]
[null,null,null,"Les rôles et responsabilités des parties prenantes ont été institutionnalisés et adoptés dans les politiques","N3","LES MIEUX ADAPTÉES"]
[null,null,"E-2.1","Les interconnexions entre les systèmes de surveillance des zoonoses actuellement priorisées ont été évaluées entre les secteurs","N1","AUTRE "]
[null,null,null,"Les interconnexions entre les systèmes de surveillance actuels ont été évaluées parmi les secteurs et à tous les niveaux du pays","N2","AUTRE "]
[null,null,null,"Les interconnexions entre les systèmes de surveillance coordonnés ont été évaluées et sont considérées comme étant conformes aux objectifs du système de surveillance coordonné.","N3","AUTRE "]
[null,null,"E-3.1","Les cadres et plans stratégiques existants relatifs au système de surveillance coordonné ont été évalués en vue d'une consolidation et d'une interconnexion potentielles au niveau national","N1","AUTRE "]
[null,null,null,"Les cadres et plans stratégiques relatifs au système de surveillance coordonné ont été évalués en vue d'une consolidation et d'une interconnexion potentielles à tous les niveaux du pays","N3","AUTRE "]
[null,null,"E-3.2","Les plans de surveillance existants (y compris les définitions de cas, les protocoles et les procédures opérationnelles standard) relatifs au système de surveillance coordonné ont été évalués en vue d'une consolidation et d'une interconnexion potentielles au niveau national","N1","AUTRE "]
[null,null,null,"Les plans de surveillance existants (y compris les définitions de cas, les protocoles et les procédures opérationnelles standard) relatifs au système de surveillance coordonné ont été évalués en vue d'une consolidation et d'une interconnexion potentielles à tous les niveaux du pays","N3","AUTRE "]
[null,null,"E-3.4","Des exercices basiques de cartographie des infrastructures (telles que définies dans le GTZ CH 4.1) ont été utilisés pour décrire la structure et les connexions sectorielles et intersectorielles ","N1","AUTRE "]
[null,null,null,"La cartographie des infrastructures (telle que décrite au point 4.1 du GTZ) a été utilisée pour décrire la plupart des domaines à cartographier","N2","AUTRE "]
[null,null,"E-4.1","Des évaluations économiques ont été utilisées pour déterminer les besoins financiers nationaux du système de surveillance coordonné ","N1","AUTRE "]
[null,null,null,"Des évaluations économiques ont été utilisées pour déterminer les besoins financiers à tous les niveaux du pays du système de surveillance coordonné ","N3","AUTRE "]
[null,null,"E-5.1","Des évaluations de laboratoires ont été utilisées pour identifier à tous les niveaux (y compris international) des laboratoires qualifiés capables d'effectuer des tests pour soutenir les activités de surveillance coordonnées","N2","AUTRE "]
[null,null,"E-6.1","Des évaluations ont été réalisées pour identifier les exigences, les compétences, les besoins et les lacunes au niveau national en matière de ressources humaines","N1","AUTRE "]
[null,null,null,"Des évaluations ont été réalisées pour identifier les exigences, les compétences, les besoins et les lacunes à tous les niveaux du pays en matière de ressources humaines","N3","AUTRE "]
[null,"Planification","PLG","N/A","N/A","N/A"]
[null,null,"PL-1.1","Il existe une stratégie de promotion qui communique aux décideurs des informations sur le système de surveillance coordonné","N3","AUTRE "]
[null,null,"PL-3.1","Un examen multisectoriel des cadres nationaux et des plans stratégiques liés au système de surveillance coordonné a été réalisé à des fins de planification.","N1","AUTRE "]
[null,null,null,"Les cadres et les plans stratégiques du système de surveillance coordonné ont été consolidés et interconnectés sur la base d'une évaluation à tous les niveaux du pays","N2","AUTRE "]
[null,null,null,"Les cadres et les plans stratégiques révisés du système de surveillance coordonné ont été alignés sur les recommandations et les normes internationales. \n","N3","AUTRE "]
[null,null,"PL-3.2","Un examen multisectoriel des plans de surveillance nationaux (y compris des plans d'action/opérationnels, des définitions de cas, des protocoles et des procédures opérationnelles standard) liés au système de surveillance coordonné a été effectué à des fins de planification.","N1","AUTRE "]
[null,null,null,"Des plans de surveillance (y compris des plans d'action/opérationnels, des définitions de cas, des protocoles et des procédures opérationnelles standard) pour le système de surveillance coordonné ont été renforcés et interconnectés en vue d'un partage des données à tous les niveaux du pays","N2","AUTRE "]
[null,null,null,"Les plans de surveillance (y compris les plans d'action/opérationnels, les définitions de cas, les protocoles et les procédures opérationnelles standard) révisés pour le système de surveillance coordonné ont été alignés sur les directives et recommandations internationales.","N3","AUTRE "]
["Réseau pour l'évaluation de l'approche «Une seule santé» (NEOH)","Planification préalable","PP-3.1","Les objectifs, les rôles et les responsabilités de tous les secteurs participant au système de surveillance coordonné sont accordés et étendus à tous les niveaux du pays","N2","AUTRE ","PASS",8.3000000000000007,7.7,5.3,8.9,7.8,4.7,5.3,8,5.3,{"$f":"SUM(H332:P332)/90","v":0.68111111111111111},"Document d'orientation","«Une seule santé»; Généralisée"]
[null,"Évaluation","E-3.1","Les cadres et plans stratégiques existants relatifs au système de surveillance coordonné ont été évalués en vue d'une consolidation et d'une interconnexion potentielles au niveau national","N1","AUTRE "]
[null,null,null,"Les cadres et plans stratégiques relatifs au système de surveillance coordonné ont été évalués en vue d'une consolidation et d'une interconnexion potentielles à tous les niveaux du pays","N3","AUTRE "]
[null,null,"E-3.3","Les plans d'action/opérationnels existants relatifs au système de surveillance coordonné ont été évalués en vue d'une consolidation et d'une interconnexion potentielles au niveau national","N1","AUTRE "]
[null,null,null,"Les plans d'action/opérationnels relatifs au système de surveillance coordonné ont été évalués en vue d'une consolidation et d'une interconnexion potentielles à tous les niveaux du pays","N3","AUTRE "]
[null,null,"E-3.4","Des exercices basiques de cartographie des infrastructures (telles que définies dans le GTZ CH 4.1) ont été utilisés pour décrire la structure et les connexions sectorielles et intersectorielles ","N1","AUTRE "]
[null,null,null,"La cartographie des infrastructures (telle que décrite au point 4.1 du GTZ) a été utilisée pour décrire la plupart des domaines à cartographier","N2","AUTRE "]
[null,null,null,"La cartographie complète des infrastructures (telle que décrite au point 4.1 du GTZ) a été utilisée pour décrire la totalité des domaines à cartographier.","N3","AUTRE "]
[null,null,"E-4.1","Des évaluations économiques ont été utilisées pour déterminer les besoins financiers nationaux du système de surveillance coordonné ","N1","AUTRE "]
[null,null,null,"Des évaluations économiques ont été utilisées pour déterminer les besoins financiers à tous les niveaux du pays du système de surveillance coordonné ","N3","AUTRE "]
[null,"Planification","PL-1.1","Il existe une volonté politique de mettre en place un système de surveillance coordonné, ainsi que des défenseurs à tous les niveaux du pays","N2","AUTRE "]
[null,null,null,"Il existe une stratégie de promotion qui communique aux décideurs des informations sur le système de surveillance coordonné","N3","AUTRE "]
[null,"Suivi et évaluation","SE-2.1","Le plan de suivi et d'évaluation est implanté pour surveiller les performances et les avancées du système de surveillance coordonné","N2","AUTRE "]
[null,null,"SE-2.1","Les résultats du suivi et de l'évaluation améliorent ou étendent de manière itérative le système de surveillance coordonné et s'alignent sur les recommandations et les normes internationales. ","N3","AUTRE "]
["Programme national de normes de performance en santé publique (NPHPSP): Instrument d'évaluation des performances des systèmes de santé publique locaux (version 2)","Évaluation","AG","N/A","N/A","N/A","PASS",8.4,10,9.6,8.6999999999999993,10,6,5,4,6,{"$f":"SUM(H346:P346)/90","v":0.75222222222222224},"Document d'orientation","Spécifique du secteur; Généralisée"]
[null,null,"E-2.1","Les interconnexions entre les systèmes de surveillance des zoonoses actuellement priorisées ont été évaluées entre les secteurs","N1","AUTRE "]
[null,null,null,"Les interconnexions entre les systèmes de surveillance actuels ont été évaluées parmi les secteurs et à tous les niveaux du pays","N2","AUTRE "]
[null,null,null,"Les interconnexions entre les systèmes de surveillance coordonnés ont été évaluées et sont considérées comme étant conformes aux objectifs du système de surveillance coordonné.","N3","AUTRE "]
[null,null,"E-2.2","Les cadres juridiques (règles, politiques, directives et réglementations, y compris les normes internationales) qui régissent les normes d'éthique et de confidentialité en matière de surveillance et de partage des données ont été évalués.","N1","AUTRE "]
["Outil d'évaluation des réseaux de surveillance (OASIS)","Évaluation","AG","N/A","N/A","N/A","PASS",8.1999999999999993,7,8,8.3000000000000007,7,6.5,4.5,5.0999999999999996,4.5,{"$f":"SUM(H351:P351)/90","v":0.65666666666666673},"Outil d'autoévaluation","Spécifique du secteur; Généralisée"]
[null,null,"E-2.1","Les interconnexions entre les systèmes de surveillance des zoonoses actuellement priorisées ont été évaluées entre les secteurs","N1","LES MIEUX ADAPTÉES",null,8.1999999999999993,7,8,8.3000000000000007,7,6.5,4.5,5.0999999999999996,4.5,{"$f":"SUM(H352:P352)/90","v":0.65666666666666673}]
[null,null,null,"Les interconnexions entre les systèmes de surveillance actuels ont été évaluées parmi les secteurs et à tous les niveaux du pays","N2","LES MIEUX ADAPTÉES",null,8.1999999999999993,7,8,8.3000000000000007,7,6.5,4.5,5.0999999999999996,4.5,{"$f":"SUM(H353:P353)/90","v":0.65666666666666673}]
[null,null,null,"Les interconnexions entre les systèmes de surveillance coordonnés ont été évaluées et sont considérées comme étant conformes aux objectifs du système de surveillance coordonné.","N3","LES MIEUX ADAPTÉES",null,8.1999999999999993,7,8,8.3000000000000007,7,6.5,4.5,5.0999999999999996,4.5,{"$f":"SUM(H354:P354)/90","v":0.65666666666666673}]
[null,null,"E-3.2","Les plans de surveillance existants (y compris les définitions de cas, les protocoles et les procédures opérationnelles standard) relatifs au système de surveillance coordonné ont été évalués en vue d'une consolidation et d'une interconnexion potentielles au niveau national","N1","LES MIEUX ADAPTÉES",null,8.1999999999999993,7,8,8.3000000000000007,7,6.5,4.5,5.0999999999999996,4.5,{"$f":"SUM(H355:P355)/90","v":0.65666666666666673}]
[null,null,null,"Les plans de surveillance existants (y compris les définitions de cas, les protocoles et les procédures opérationnelles standard) relatifs au système de surveillance coordonné ont été évalués en vue d'une consolidation et d'une interconnexion potentielles à tous les niveaux du pays","N3","LES MIEUX ADAPTÉES",null,8.1999999999999993,7,8,8.3000000000000007,7,6.5,4.5,5.0999999999999996,4.5]
[null,null,"E-3.3","Les plans d'action/opérationnels existants relatifs au système de surveillance coordonné ont été évalués en vue d'une consolidation et d'une interconnexion potentielles au niveau national","N1","AUTRE "]
[null,null,null,"Les plans d'action/opérationnels relatifs au système de surveillance coordonné ont été évalués en vue d'une consolidation et d'une interconnexion potentielles à tous les niveaux du pays","N3","AUTRE "]
[null,null,"E-5.1","Des évaluations de laboratoires ont été utilisées pour identifier des laboratoires de référence nationaux ou internationaux qualifiés capables d'effectuer des tests pour soutenir les activités de surveillance coordonnées","N1","LES MIEUX ADAPTÉES",null,8.1999999999999993,7,8,8.3000000000000007,7,6.5,4.5,5.0999999999999996,4.5]
[null,null,null,"Des évaluations de laboratoires ont été utilisées pour identifier à tous les niveaux (y compris international) des laboratoires qualifiés capables d'effectuer des tests pour soutenir les activités de surveillance coordonnées","N2","LES MIEUX ADAPTÉES",null,8.1999999999999993,7,8,8.3000000000000007,7,6.5,4.5,5.0999999999999996,4.5]
[null,null,null,"Des évaluations de laboratoires ont été utilisées pour identifier un réseau de laboratoires qualifiés capables d'effectuer des tests pour soutenir les activités de surveillance coordonnées","N3","LES MIEUX ADAPTÉES",null,8.1999999999999993,7,8,8.3000000000000007,7,6.5,4.5,5.0999999999999996,4.5]
[null,null,"E-5.2","Les fournitures, les chaînes de transport et l'interprétation des résultats des laboratoires ont été évaluées pour être harmonisées entre les secteurs participants au niveau national","N1","LES MIEUX ADAPTÉES"]
[null,null,null,"L'harmonisation des fournitures, des chaînes de transport et de l'interprétation des résultats des laboratoires entre les secteurs participants a été évaluée à tous les niveaux du pays","N2","LES MIEUX ADAPTÉES"]
[null,null,null,"Le degré d'harmonisation dans les fournitures, les chaînes de transport et l'interprétation des résultats entre les secteurs participants a été évalué et considéré comme étant conforme aux objectifs du système de surveillance coordonné","N3","LES MIEUX ADAPTÉES"]
[null,null,"E-6.1","Des évaluations ont été réalisées pour identifier les exigences, les compétences, les besoins et les lacunes au niveau national en matière de ressources humaines","N1","LES MIEUX ADAPTÉES"]
[null,null,null,"Des évaluations ont été réalisées pour identifier les exigences, les compétences, les besoins et les lacunes à tous les niveaux du pays en matière de ressources humaines","N3","LES MIEUX ADAPTÉES"]
["Évaluation des systèmes «Une seule santé» pour les zoonoses prioritaires (OH-SAPZ)","Planification préalable","PP-1.1","Des coordonnateurs, des «champions» ou des groupes de travail techniques ont été identifiés dans tous les secteurs participants au niveau national pour planifier la mise en œuvre de la surveillance coordonnée","N1","AUTRE ","PASS",7.9,7.3,7.2,7.8,6.5,5.2,4,8.3000000000000007,9.6999999999999993,{"$f":"SUM(H367:P367)/90","v":0.71000000000000008},"Outil d'autoévaluation","«Une seule santé»; Généralisée"]
[null,null,null,"Des coordonnateurs, des «champions» ou des groupes de travail techniques ont été identifiés dans tous les secteurs participants et à tous les niveaux du pays pour planifier la mise en œuvre de la surveillance coordonnée.","N2","AUTRE "]
[null,null,null,"Des coordonnateurs, des «champions» ou des groupes de travail techniques (y compris des coordonnateurs ou des «champions» identifiés) chargés de la surveillance coordonnée ont été institutionnalisés (par exemple, par le biais d'un organe directeur tel qu'un MCM)   ","N3","AUTRE "]
[null,null,"PP-2.1","Il existe une liste de zoonoses priorisées à intégrer dans un système de surveillance coordonné","N1","LES MIEUX ADAPTÉES"]
[null,null,null,"Une liste des zoonoses est largement diffusée aux niveaux infra-national et communautaire","N2","LES MIEUX ADAPTÉES"]
[null,null,null,"Une liste des zoonoses est établie en utilisant une approche multisectorielle «Une seule santé». Une telle approche impliquerait tous les secteurs concernés dans un processus de priorisation fondé sur des preuves, transparent et reproductible.","N3","LES MIEUX ADAPTÉES"]
[null,"Évaluation","E-1.1","Des parties prenantes travaillant dans les domaines de la surveillance, de l'épidémiologie, des laboratoires et du partage d'informations ont été identifiées","N1","LES MIEUX ADAPTÉES"]
[null,null,null,"L'analyse des parties prenantes a été utilisée pour identifier les participants à tous les niveaux du pays ","N2","LES MIEUX ADAPTÉES"]
[null,null,null,"Les rôles et responsabilités des parties prenantes ont été institutionnalisés et adoptés dans les politiques","N3","LES MIEUX ADAPTÉES"]
[null,null,"E-3.1","Les cadres et plans stratégiques existants relatifs au système de surveillance coordonné ont été évalués en vue d'une consolidation et d'une interconnexion potentielles au niveau national","N1","LES MIEUX ADAPTÉES"]
[null,null,"E-3.4","Des exercices basiques de cartographie des infrastructures (telles que définies dans le GTZ CH 4.1) ont été utilisés pour décrire la structure et les connexions sectorielles et intersectorielles ","N1","LES MIEUX ADAPTÉES"]
[null,null,null,"La cartographie des infrastructures (telle que décrite au point 4.1 du GTZ) a été utilisée pour décrire la plupart des domaines à cartographier","N2","LES MIEUX ADAPTÉES"]
[null,null,null,"La cartographie complète des infrastructures (telle que décrite au point 4.1 du GTZ) a été utilisée pour décrire la totalité des domaines à cartographier.","N3","LES MIEUX ADAPTÉES"]
[null,null,"E-5.1","Des évaluations de laboratoires ont été utilisées pour identifier des laboratoires de référence nationaux ou internationaux qualifiés capables d'effectuer des tests pour soutenir les activités de surveillance coordonnées","N1","AUTRE "]
[null,null,null,"Des évaluations de laboratoires ont été utilisées pour identifier à tous les niveaux (y compris international) des laboratoires qualifiés capables d'effectuer des tests pour soutenir les activités de surveillance coordonnées","N2","AUTRE "]
[null,null,null,"Des évaluations de laboratoires ont été utilisées pour identifier un réseau de laboratoires qualifiés capables d'effectuer des tests pour soutenir les activités de surveillance coordonnées","N3","AUTRE "]
["Boîte à outils de cartographie et de ressources des systèmes «Une seule santé» (OH-SMART)","Planification préalable","PPG","N/A","N/A","N/A","PASS",8.6999999999999993,7.3,8.4,9.3000000000000007,8.1999999999999993,7.4,9.5,10,10,{"$f":"SUM(H383:P383)/90","v":0.87555555555555564},"Outil ou processus dirigé/facilité","«Une seule santé»; Généralisée"]
[null,"Évaluation","E-1.1","Des parties prenantes travaillant dans les domaines de la surveillance, de l'épidémiologie, des laboratoires et du partage d'informations ont été identifiées","N1","LES MIEUX ADAPTÉES"]
[null,null,null,"L'analyse des parties prenantes a été utilisée pour identifier les participants à tous les niveaux du pays ","N2","LES MIEUX ADAPTÉES"]
[null,null,null,"Les rôles et responsabilités des parties prenantes ont été institutionnalisés et adoptés dans les politiques","N3","LES MIEUX ADAPTÉES"]
[null,null,"E-3.4","Des exercices basiques de cartographie des infrastructures (telles que définies dans le GTZ CH 4.1) ont été utilisés pour décrire la structure et les connexions sectorielles et intersectorielles ","N1","LES MIEUX ADAPTÉES"]
[null,null,null,"La cartographie des infrastructures (telle que décrite au point 4.1 du GTZ) a été utilisée pour décrire la plupart des domaines à cartographier","N2","LES MIEUX ADAPTÉES"]
[null,null,null,"La cartographie complète des infrastructures (telle que décrite au point 4.1 du GTZ) a été utilisée pour décrire la totalité des domaines à cartographier.","N3","LES MIEUX ADAPTÉES"]
[null,null,"E-6.1","Des évaluations ont été réalisées pour identifier les exigences, les compétences, les besoins et les lacunes au niveau national en matière de ressources humaines","N1","LES MIEUX ADAPTÉES"]
[null,null,null,"Des évaluations ont été réalisées pour identifier les exigences, les compétences, les besoins et les lacunes à tous les niveaux du pays en matière de ressources humaines","N3","LES MIEUX ADAPTÉES"]
[null,"Suivi et évaluation","SE-1.1","Des exercices de simulation sont réalisés pour évaluer l'efficacité et la fonctionnalité du système de surveillance coordonné au niveau national  ","N1","AUTRE "]
[null,null,"SE-1.1","Des exercices de simulation sont réalisés pour évaluer l'efficacité et la fonctionnalité du système de surveillance coordonné à tous les niveaux du pays  ","N2","AUTRE "]
[null,null,"SE-1.1","Les résultats des exercices de simulation sont utilisés pour orienter et réviser les plans de surveillance coordonnée ","N3","AUTRE "]
["L'évaluation «Une seule santé» pour la planification et la performance (OH-APP)","Planification","PLG","N/A","N/A","N/A","PASS",9.5,9,9.4,7.3,9.1999999999999993,10,8,7.9,5.5,{"$f":"SUM(H395:P395)/90","v":0.84222222222222221},"Outil ou processus dirigé/facilité","«Une seule santé»; Généralisée"]
["Codex sur la surveillance «Une seule santé» ","Planification","PL-2.1","Les éléments de données communs sont normalisés entre les secteurs participants sur la base des objectifs analytiques communs du système de surveillance coordonné et sont conformes aux normes internationales en matière de données","N3","LES MIEUX ADAPTÉES","PASS",9,6,8.5,8.6999999999999993,8.1,2.8,2,6,5,{"$f":"SUM(H396:P396)/90","v":0.62333333333333329},"Outil d'autoévaluation","«Une seule santé»; Généralisée"]
[null,null,"PL-3.2","Les plans de surveillance (y compris les plans d'action/opérationnels, les définitions de cas, les protocoles et les procédures opérationnelles standard) révisés pour le système de surveillance coordonné ont été alignés sur les directives et recommandations internationales.","N3","LES MIEUX ADAPTÉES"]
[null,null,"PL-7.1","La terminologie et les messages de communication sont alignés sur l'ensemble des secteurs participant au système de surveillance coordonné au niveau national.","N1","LES MIEUX ADAPTÉES"]
[null,null,null,"La terminologie et les messages de communication sont alignés sur l'ensemble des secteurs participant au système de surveillance coordonné et diffusés à tous les niveaux du pays","N2","LES MIEUX ADAPTÉES"]
["Outil d'évaluation de l'état de préparation et des besoins pour une surveillance «Une seule santé» (OHSRRT)","Planification préalable","PP-1.1","Des coordonnateurs, des «champions» ou des groupes de travail techniques (y compris des coordonnateurs ou des «champions» identifiés) chargés de la surveillance coordonnée ont été institutionnalisés (par exemple, par le biais d'un organe directeur tel qu'un MCM)   ","N3","AUTRE ","PASS",8,6,7.4,8.6999999999999993,6,2.5,2,9.6,5.5,{"$f":"SUM(H400:P400)/90","v":0.61888888888888882},"Outil d'autoévaluation","«Une seule santé»; Généralisée"]
[null,null,"PP-3.1","Les objectifs, les rôles et les responsabilités de tous les secteurs participant au système de surveillance coordonné sont accordés au niveau national","N1","LES MIEUX ADAPTÉES"]
[null,null,null,"Les objectifs, les rôles et les responsabilités de tous les secteurs participant au système de surveillance coordonné sont accordés et étendus à tous les niveaux du pays","N2","LES MIEUX ADAPTÉES"]
[null,null,null,"Les objectifs, les rôles et les responsabilités du système de surveillance coordonné ont été réévalués pour refléter les besoins réels du système de surveillance coordonné ","N3","LES MIEUX ADAPTÉES"]
[null,"Évaluation","E-1.1","Des parties prenantes travaillant dans les domaines de la surveillance, de l'épidémiologie, des laboratoires et du partage d'informations ont été identifiées","N1","LES MIEUX ADAPTÉES"]
[null,null,null,"L'analyse des parties prenantes a été utilisée pour identifier les participants à tous les niveaux du pays ","N2","AUTRE "]
[null,null,"E-2.1","Les interconnexions entre les systèmes de surveillance des zoonoses actuellement priorisées ont été évaluées entre les secteurs","N1","AUTRE "]
[null,null,null,"Les interconnexions entre les systèmes de surveillance actuels ont été évaluées parmi les secteurs et à tous les niveaux du pays","N2","AUTRE "]
[null,null,null,"Les interconnexions entre les systèmes de surveillance coordonnés ont été évaluées et sont considérées comme étant conformes aux objectifs du système de surveillance coordonné.","N3","AUTRE "]
[null,null,"E-2.2","Les cadres juridiques (règles, politiques, directives et réglementations, y compris les normes internationales) qui régissent les normes d'éthique et de confidentialité en matière de surveillance et de partage des données ont été évalués.","N1","AUTRE "]
[null,null,"E-3.2","Les plans de surveillance existants (y compris les définitions de cas, les protocoles et les procédures opérationnelles standard) relatifs au système de surveillance coordonné ont été évalués en vue d'une consolidation et d'une interconnexion potentielles au niveau national","N1","AUTRE "]
[null,null,null,"Les plans de surveillance existants (y compris les définitions de cas, les protocoles et les procédures opérationnelles standard) relatifs au système de surveillance coordonné ont été évalués en vue d'une consolidation et d'une interconnexion potentielles à tous les niveaux du pays","N3","AUTRE "]
[null,"Planification","PL-2.1","Les éléments de données communs sont normalisés entre les secteurs participants sur la base des objectifs analytiques communs du système de surveillance coordonné et sont conformes aux normes internationales en matière de données","N3","AUTRE "]
["Boîte à outils de cartographie et de ressources des systèmes «Une seule santé» (OH-SMART)","Planification","PL-3.1","Un examen multisectoriel des cadres nationaux et des plans stratégiques liés au système de surveillance coordonné a été réalisé à des fins de planification.","N1","AUTRE ","PASS",8.6999999999999993,7.3,8.4,9.3000000000000007,8.1999999999999993,7.4,9.5,10,10,{"$f":"SUM(H413:P413)/90","v":0.87555555555555564},"Outil ou processus dirigé/facilité","«Une seule santé»; Généralisée"]
[null,null,null,"Les cadres et les plans stratégiques du système de surveillance coordonné ont été consolidés et interconnectés sur la base d'une évaluation à tous les niveaux du pays","N2","AUTRE "]
["Priorisation des maladies zoonotiques dans le cadre de l'approche «Une seule santé» (OHZDP)","Planification préalable","PP-2.1","Il existe une liste de zoonoses priorisées à intégrer dans un système de surveillance coordonné","N1","LES MIEUX ADAPTÉES","PASS",8,9.3000000000000007,9.1,6.7,7,7.3,8.3000000000000007,9.1,9.3000000000000007,{"$f":"SUM(H415:P415)/90","v":0.82333333333333325},"Outil ou processus dirigé/facilité","«Une seule santé»; Généralisée"]
[null,null,null,"Une liste des zoonoses est largement diffusée aux niveaux infra-national et communautaire","N2","LES MIEUX ADAPTÉES"]
[null,null,null,"Une liste des zoonoses est établie en utilisant une approche multisectorielle «Une seule santé». Une telle approche impliquerait tous les secteurs concernés dans un processus de priorisation fondé sur des preuves, transparent et reproductible.","N3","LES MIEUX ADAPTÉES"]
["Recueil d'informations sur les postes-frontière uniques","Planification","PL-6.1","Les cadres juridiques révisés du système de surveillance coordonné ont été alignés sur les recommandations et les normes internationales. ","N3","AUTRE ","1 Eval",8.4,2,6,10,8.6,2,8,5.5,8,{"$f":"SUM(H418:P418)/90","v":0.65},"Document d'orientation","«Une seule santé»; spécifique d'une maladie/menace "]
["Profil d'évaluation des performances des services vétérinaires (PVS) de l'Organisation mondiale de la santé animale (OMSA)","Évaluation","AG","N/A","N/A","N/A","PASS",7.5,8,4.9000000000000004,4.7,6.7,5.5,9.5,4.9000000000000004,6,{"$f":"SUM(H419:P419)/90","v":0.64111111111111108},"Outil ou processus dirigé/facilité","Spécifique du secteur; Généralisée"]
["Analyse des écarts PVS de l'Organisation mondiale de la santé animale (OMSA)","Évaluation","E-1.1","Des parties prenantes travaillant dans les domaines de la surveillance, de l'épidémiologie, des laboratoires et du partage d'informations ont été identifiées","N1","AUTRE ","PASS",6.8,8,5.6,10,6,4.3,9.5,4.7,7,{"$f":"SUM(H420:P420)/90","v":0.68777777777777771},"Outil ou processus dirigé/facilité","Spécifique du secteur; Généralisée"]
[null,null,null,"L'analyse des parties prenantes a été utilisée pour identifier les participants à tous les niveaux du pays ","N2","AUTRE "]
[null,null,"E-3.4","Des exercices basiques de cartographie des infrastructures (telles que définies dans le GTZ CH 4.1) ont été utilisés pour décrire la structure et les connexions sectorielles et intersectorielles ","N1","AUTRE "]
[null,null,"E-4.1","Des évaluations économiques ont été utilisées pour déterminer les besoins financiers nationaux du système de surveillance coordonné ","N1","AUTRE "]
[null,null,"E-5.2","Les fournitures, les chaînes de transport et l'interprétation des résultats des laboratoires ont été évaluées pour être harmonisées entre les secteurs participants au niveau national","N1","AUTRE "]
[null,"Planification","PL-3.1","Un examen multisectoriel des cadres nationaux et des plans stratégiques liés au système de surveillance coordonné a été réalisé à des fins de planification.","N1","AUTRE "]
[null,null,"PL-6.1","Les cadres juridiques nécessaires (règles, politiques, directives et réglementations, y compris les normes internationales) ont été normalisés entre les différents secteurs sur la base d'une évaluation au niveau national","N1","AUTRE "]
["Mission PVS pour les laboratoires de l'Organisation mondiale de la santé animale (OMSA)","Évaluation","E-5.1","Des évaluations de laboratoires ont été utilisées pour identifier des laboratoires de référence nationaux ou internationaux qualifiés capables d'effectuer des tests pour soutenir les activités de surveillance coordonnées","N1","AUTRE ","Pass",7.6,9,5.4,3.3,7.6,4,6,4.3,4,{"$f":"SUM(H427:P427)/90","v":0.56888888888888889},"Outil ou processus dirigé/facilité","Spécifique du secteur; Généralisée"]
[null,null,null,"Des évaluations de laboratoires ont été utilisées pour identifier à tous les niveaux (y compris international) des laboratoires qualifiés capables d'effectuer des tests pour soutenir les activités de surveillance coordonnées","N2","AUTRE "]
[null,null,null,"Des évaluations de laboratoires ont été utilisées pour identifier un réseau de laboratoires qualifiés capables d'effectuer des tests pour soutenir les activités de surveillance coordonnées","N3","AUTRE "]
["Outil d'évaluation des coûts d'un foyer épidémique","Évaluation","E-4.1","Des évaluations économiques ont été utilisées pour déterminer les besoins financiers nationaux du système de surveillance coordonné","N1","LES MIEUX ADAPTÉES","PASS",8.5,7.3,9.3000000000000007,9.1,7.8,7.2,2.9,8.3000000000000007,7.3,{"$f":"SUM(H430:P430)/90","v":0.75222222222222224},"Outil d'autoévaluation","«Une seule santé»; Généralisée"]
[null,null,null,"Des évaluations économiques ont été utilisées pour déterminer les besoins financiers à tous les niveaux du pays du système de surveillance coordonné ","N3","LES MIEUX ADAPTÉES"]
[null,"Planification","PL-4.1","Il existe un plan budgétaire et un mécanisme de distribution des fonds destinés à la surveillance coordonnée au niveau national","N1","AUTRE "]
["Glossaire du Programme conjoint européen «Une seule santé» (OHEJP)","Planification","PL-7.1","La terminologie et les messages de communication sont alignés sur l'ensemble des secteurs participant au système de surveillance coordonné au niveau national.","N1","LES MIEUX ADAPTÉES","PASS",8.8000000000000007,6,8.4,7,9.1999999999999993,7.6,7,7.1,5,{"$f":"SUM(H433:P433)/90","v":0.73444444444444457},"Matériel ou logiciel","«Une seule santé»; Généralisée"]
[null,null,"PL-7.1","La terminologie et les messages de communication sont alignés sur l'ensemble des secteurs participant au système de surveillance coordonné et diffusés à tous les niveaux du pays","N2","LES MIEUX ADAPTÉES"]
["Approche de gestion progressive de la résistance aux antimicrobiens (AMR-PMP)","Évaluation","AG","N/A","N/A","N/A","PASS",7,7,8.1999999999999993,4,7.9,7.7,5,7.3,4,{"$f":"SUM(H435:P435)/90","v":0.64555555555555555},"Outil ou processus dirigé/facilité","«Une seule santé»; Généralisée"]
[null,"Planification","PLG","N/A","N/A","N/A"]
["Analyse de la politique sur le terrain (PFA)","Planification préalable","PP-1.1","Des coordonnateurs, des «champions» ou des groupes de travail techniques ont été identifiés dans tous les secteurs participants au niveau national pour planifier la mise en œuvre de la surveillance coordonnée","N1","LES MIEUX ADAPTÉES","PASS",7.8,8,9.8000000000000007,10,7.1,4,7,8.8000000000000007,5,{"$f":"SUM(H437:P437)/90","v":0.75},"Document d'orientation","«Une seule santé»; Généralisée"]
[null,null,null,"Des coordonnateurs, des «champions» ou des groupes de travail techniques ont été identifiés dans tous les secteurs participants et à tous les niveaux du pays pour planifier la mise en œuvre de la surveillance coordonnée.","N2","LES MIEUX ADAPTÉES"]
[null,null,null,"Des coordonnateurs, des «champions» ou des groupes de travail techniques (y compris des coordonnateurs ou des «champions» identifiés) chargés de la surveillance coordonnée ont été institutionnalisés (par exemple, par le biais d'un organe directeur tel qu'un MCM)   ","N3","AUTRE "]
[null,"Évaluation","E-1.1","Des parties prenantes travaillant dans les domaines de la surveillance, de l'épidémiologie, des laboratoires et du partage d'informations ont été identifiées","N1","LES MIEUX ADAPTÉES"]
[null,null,null,"L'analyse des parties prenantes a été utilisée pour identifier les participants à tous les niveaux du pays ","N2","AUTRE "]
[null,null,"E-2.2","Les cadres juridiques (règles, politiques, directives et réglementations, y compris les normes internationales) qui régissent les normes d'éthique et de confidentialité en matière de surveillance et de partage des données ont été évalués.","N1","LES MIEUX ADAPTÉES"]
[null,null,"E-3.4","Des exercices basiques de cartographie des infrastructures (telles que définies dans le GTZ CH 4.1) ont été utilisés pour décrire la structure et les connexions sectorielles et intersectorielles ","N1","AUTRE "]
[null,"Planification","PL-1.1","Les décideurs dans le domaine du système de surveillance coordonné ont été identifiés","N1","AUTRE "]
["Rabies ECON ","Évaluation","E-4.1","Des évaluations économiques ont été utilisées pour déterminer les besoins financiers à tous les niveaux du pays du système de surveillance coordonné ","N1","AUTRE ","PASS",9.1999999999999993,6,6.6,4,7.1,5.5,4,7.6,8,{"$f":"SUM(H445:P445)/90","v":0.64444444444444449},"Outil d'autoévaluation","«Une seule santé»; spécifique d'une maladie/menace "]
[null,null,null,"Des évaluations économiques ont été utilisées pour déterminer les besoins financiers nationaux du système de surveillance coordonné ","N3","AUTRE "]
["Outil d'analyse coût-efficacité de la surveillance de la rage animale","Évaluation","E-4.1","Des évaluations économiques ont été utilisées pour déterminer les besoins financiers nationaux du système de surveillance coordonné ","N1","LES MIEUX ADAPTÉES","PASS",9.6,6,7,8.6999999999999993,6.7,6.8,6,8.8000000000000007,8,{"$f":"SUM(H447:P447)/90","v":0.75111111111111106},"Outil d'autoévaluation","«Une seule santé»; spécifique d'une maladie/menace "]
[null,null,null,"Des évaluations économiques ont été utilisées pour déterminer les besoins financiers à tous les niveaux du pays du système de surveillance coordonné ","N3","LES MIEUX ADAPTÉES"]
[null,"Mise en œuvre","ME-1.1 ","Il existe un financement destiné à la surveillance coordonnée au niveau national","N1","AUTRE "]
["Outil d'évaluation des progrès vers l'éradication de la rage (TAPER)","Mise en œuvre","ME-4.1 ","Le système de surveillance coordonné fait l'objet d'un projet pilote dans des zones ciblées","N1","AUTRE ","PASS",9.6,10,7.3,8,8.8000000000000007,5.5,4.3,7.9,6,{"$f":"SUM(H450:P450)/90","v":0.74888888888888894},"Matériel ou logiciel","«Une seule santé»; spécifique d'une maladie/menace "]
[null,null,"ME-4.1 ","Le système de surveillance coordonné a été étendu à d'autres domaines sur la base de mises en œuvre pilotes","N2","AUTRE "]
[null,null,"ME-4.1 ","Le système de surveillance coordonné est un programme à l'échelon national","N3","AUTRE "]
["Approche par étapes pour l'élimination de la rage (SARE)","Évaluation","E-1.1","Des parties prenantes travaillant dans les domaines de la surveillance, de l'épidémiologie, des laboratoires et du partage d'informations ont été identifiées","N1","LES MIEUX ADAPTÉES","PASS",8,9,6.6,3.3,5.7,6.8,8,8.6,9.5,{"$f":"SUM(H453:P453)/90","v":0.72777777777777775},"Outil d'autoévaluation","«Une seule santé»; spécifique d'une maladie/menace "]
[null,null,null,"L'analyse des parties prenantes a été utilisée pour identifier les participants à tous les niveaux du pays ","N2","AUTRE "]
[null,null,"E-2.1","Les interconnexions entre les systèmes de surveillance des zoonoses actuellement priorisées ont été évaluées entre les secteurs","N1","AUTRE "]
[null,null,null,"Les interconnexions entre les systèmes de surveillance actuels ont été évaluées parmi les secteurs et à tous les niveaux du pays","N2","AUTRE "]
[null,null,null,"Les interconnexions entre les systèmes de surveillance coordonnés ont été évaluées et sont considérées comme étant conformes aux objectifs du système de surveillance coordonné.","N3","AUTRE "]
[null,null,"E-2.2","Les cadres juridiques (règles, politiques, directives et réglementations, y compris les normes internationales) qui régissent les normes d'éthique et de confidentialité en matière de surveillance et de partage des données ont été évalués.","N1","AUTRE "]
[null,null,null,"Les cadres juridiques (règles, politiques, directives et réglementations, y compris les normes internationales) qui régissent les normes d'éthique et de confidentialité en matière de surveillance et de partage des données sont évalués à tous les niveaux du pays ","N3","AUTRE "]
[null,null,"E-3.2","Les plans de surveillance existants (y compris les définitions de cas, les protocoles et les procédures opérationnelles standard) relatifs au système de surveillance coordonné ont été évalués en vue d'une consolidation et d'une interconnexion potentielles au niveau national","N1","LES MIEUX ADAPTÉES"]
[null,null,"E-3.2","Les plans de surveillance existants (y compris les définitions de cas, les protocoles et les procédures opérationnelles standard) relatifs au système de surveillance coordonné ont été évalués en vue d'une consolidation et d'une interconnexion potentielles à tous les niveaux du pays","N3","LES MIEUX ADAPTÉES"]
[null,null,"E-3.3","Les plans d'action/opérationnels existants relatifs au système de surveillance coordonné ont été évalués en vue d'une consolidation et d'une interconnexion potentielles au niveau national","N1","AUTRE "]
[null,null,null,"Les plans d'action/opérationnels relatifs au système de surveillance coordonné ont été évalués en vue d'une consolidation et d'une interconnexion potentielles à tous les niveaux du pays","N3","AUTRE "]
[null,null,"E-5.1","Des évaluations de laboratoires ont été utilisées pour identifier des laboratoires de référence nationaux ou internationaux qualifiés capables d'effectuer des tests pour soutenir les activités de surveillance coordonnées","N1","AUTRE "]
[null,null,null,"Des évaluations de laboratoires ont été utilisées pour identifier à tous les niveaux (y compris international) des laboratoires qualifiés capables d'effectuer des tests pour soutenir les activités de surveillance coordonnées","N2","AUTRE "]
[null,null,null,"Des évaluations de laboratoires ont été utilisées pour identifier un réseau de laboratoires qualifiés capables d'effectuer des tests pour soutenir les activités de surveillance coordonnées","N3","AUTRE "]
[null,"Planification","PL-1.1","Les décideurs dans le domaine du système de surveillance coordonné ont été identifiés","N1","AUTRE "]
[null,null,null,"Il existe une volonté politique de mettre en place un système de surveillance coordonné, ainsi que des défenseurs à tous les niveaux du pays","N2","LES MIEUX ADAPTÉES"]
[null,null,null,"Il existe une stratégie de promotion qui communique aux décideurs des informations sur le système de surveillance coordonné","N3","LES MIEUX ADAPTÉES"]
[null,null,"PL-3.1","Un examen multisectoriel des cadres nationaux et des plans stratégiques liés au système de surveillance coordonné a été réalisé à des fins de planification.","N1","AUTRE "]
[null,null,null,"Les cadres et les plans stratégiques du système de surveillance coordonné ont été consolidés et interconnectés sur la base d'une évaluation à tous les niveaux du pays","N2","LES MIEUX ADAPTÉES"]
[null,null,null,"Les cadres et les plans stratégiques révisés du système de surveillance coordonné ont été alignés sur les recommandations et les normes internationales. \n","N3","LES MIEUX ADAPTÉES"]
[null,null,"PL-3.2","Un examen multisectoriel des plans de surveillance nationaux (y compris des plans d'action/opérationnels, des définitions de cas, des protocoles et des procédures opérationnelles standard) liés au système de surveillance coordonné a été effectué à des fins de planification.","N1","AUTRE "]
[null,null,null,"Des plans de surveillance (y compris des plans d'action/opérationnels, des définitions de cas, des protocoles et des procédures opérationnelles standard) pour le système de surveillance coordonné ont été renforcés et interconnectés en vue d'un partage des données à tous les niveaux du pays","N2","AUTRE "]
[null,null,null,"Les plans de surveillance (y compris les plans d'action/opérationnels, les définitions de cas, les protocoles et les procédures opérationnelles standard) révisés pour le système de surveillance coordonné ont été alignés sur les directives et recommandations internationales.","N3","AUTRE "]
[null,null,"PL-6.1","Les cadres juridiques nécessaires (règles, politiques, directives et réglementations, y compris les normes internationales) ont été normalisés entre les différents secteurs sur la base d'une évaluation au niveau national","N1","AUTRE "]
[null,null,null,"Les cadres juridiques nécessaires (règles, politiques, directives et réglementations, y compris les normes internationales) ont été normalisés entre les différents secteurs sur la base d'une évaluation à tous les niveaux du pays","N2","AUTRE "]
[null,null,null,"Les cadres juridiques révisés du système de surveillance coordonné ont été alignés sur les recommandations et les normes internationales. ","N3","AUTRE "]
[null,null,"PL-7.1","La terminologie et les messages de communication sont alignés sur l'ensemble des secteurs participant au système de surveillance coordonné au niveau national.","N1","AUTRE "]
[null,null,null,"La terminologie et les messages de communication sont alignés sur l'ensemble des secteurs participant au système de surveillance coordonné et diffusés à tous les niveaux du pays","N2","AUTRE "]
[null,null,null,"Il existe une stratégie et/ou un plan de communication (comprenant une terminologie et une messagerie) qui régissent la communication avec les parties prenantes et le public pour le système de surveillance coordonné","N3","AUTRE "]
["Cartographie des ressources pour le RSI et la sécurité sanitaire (Remap)","Planification préalable","PPG","N/A","N/A","N/A","PASS",9.6,4.7,8,7,5.9,5,4,7.2,4,{"$f":"SUM(H482:P482)/90","v":0.61555555555555563},"Matériel ou logiciel","«Une seule santé»; Généralisée"]
["Outils de surveillance en ligne (SURVTOOLS) ","Évaluation","E-3.2","Les plans de surveillance existants (y compris les définitions de cas, les protocoles et les procédures opérationnelles standard) relatifs au système de surveillance coordonné ont été évalués en vue d'une consolidation et d'une interconnexion potentielles au niveau national","N1","AUTRE ","PASS",9.6,2,6.7,6.7,6.6,3.5,6.7,4.9000000000000004,4.7,{"$f":"SUM(H483:P483)/90","v":0.57111111111111112},"Matériel ou logiciel","Spécifique du secteur; Généralisée"]
[null,null,null,"Les plans de surveillance existants (y compris les définitions de cas, les protocoles et les procédures opérationnelles standard) relatifs au système de surveillance coordonné ont été évalués en vue d'une consolidation et d'une interconnexion potentielles à tous les niveaux du pays","N3","AUTRE "]
[null,null,"E-4.1","Des évaluations économiques ont été utilisées pour déterminer les besoins financiers nationaux du système de surveillance coordonné ","N1","LES MIEUX ADAPTÉES"]
[null,null,null,"Des évaluations économiques ont été utilisées pour déterminer les besoins financiers à tous les niveaux du pays du système de surveillance coordonné ","N3","LES MIEUX ADAPTÉES"]
[null,"Planification","PL-3.2","Un examen multisectoriel des plans de surveillance nationaux (y compris des plans d'action/opérationnels, des définitions de cas, des protocoles et des procédures opérationnelles standard) liés au système de surveillance coordonné a été effectué à des fins de planification.","N1","AUTRE "]
[null,"Suivi et évaluation","SE-2.1","Il existe un plan de suivi et d'évaluation qui est conforme aux objectifs du système de surveillance coordonné","N1","AUTRE "]
["Suite pour une biosurveillance électronique automatisée mondiale (SAGES)","Mise en œuvre","ME-3.1 \n","Il existe un mécanisme de partage de données entre les secteurs au niveau national","N1","LES MIEUX ADAPTÉES","PASS",9.8000000000000007,10,10,9.3000000000000007,8.5,9,5.5,9.5,7,{"$f":"SUM(H489:P489)/90","v":0.87333333333333329},"Matériel ou logiciel","«Une seule santé»; Généralisée"]
[null,null,"ME-3.1 \n","Il existe un mécanisme de partage des données entre les secteurs à tous les niveaux du pays","N2","LES MIEUX ADAPTÉES"]
[null,null,"ME-3.1 \n","Il existe un mécanisme de partage de données qui est accessible, fonctionnel et utilisable par tous les secteurs participants","N3","LES MIEUX ADAPTÉES"]
[null,null,"ME-3.2\n","Une structure et un lieu sont prévus pour stocker et conserver les données de plusieurs secteurs au niveau national.","N1","LES MIEUX ADAPTÉES"]
[null,null,"ME-3.2\n","Une structure et un lieu sont prévus pour stocker et conserver les données de plusieurs secteurs à tous les niveaux du pays","N2","LES MIEUX ADAPTÉES"]
[null,null,"ME-3.2\n","Il existe une structure et un endroit pour stocker et conserver les données de tous les secteurs concernés par la surveillance qui sont accessibles, fonctionnels et utilisables par tous les secteurs participants","N3","LES MIEUX ADAPTÉES"]
[null,null,"ME-3.3\n","Les données de surveillance coordonnée sont protégées par les mesures de confidentialité et de sécurité des données implantées au niveau national ","N1","LES MIEUX ADAPTÉES"]
[null,null,"ME-3.3\n","Les données de surveillance coordonnée sont protégées par les mesures de confidentialité et de sécurité des données implantées à tous les niveaux du pays","N2","LES MIEUX ADAPTÉES"]
[null,null,"ME-3.3\n","Les données de surveillance coordonnée qui ont été évaluées et sont considérées comme étant conformes aux objectifs du système de surveillance coordonné sont protégées par les mesures de confidentialité et de sécurité des données implantées ","N3","LES MIEUX ADAPTÉES"]
[null,null,"ME-4.1 ","Le système de surveillance coordonné fait l'objet d'un projet pilote dans des zones ciblées","N1","AUTRE "]
[null,null,"ME-4.1 ","Le système de surveillance coordonné a été étendu à d'autres domaines sur la base de mises en œuvre pilotes","N2","AUTRE "]
[null,null,"ME-4.1 ","Le système de surveillance coordonné est un programme à l'échelon national","N3","AUTRE "]
[null,null,"ME-4.2","Les données sont partagées de manière informelle ou formelle de façon ad hoc au niveau national","N1","LES MIEUX ADAPTÉES"]
[null,null,"ME-4.2","Les données sont partagées de manière informelle ou formelle, de façon régulière et en temps utile, à tous les niveaux du pays","N2","LES MIEUX ADAPTÉES"]
[null,null,"ME-4.2","Les données sont partagées de façon systématique et régulière et en temps utile entre tous les secteurs participants par le biais d'une ou plusieurs plateforme(s) interopérable(s) ou conjointe(s) ","N3","LES MIEUX ADAPTÉES"]
[null,null,"ME-5.3","Des données de surveillance coordonnée sont utilisées pour générer des résultats (par exemple, des chiffres, des graphiques, des rapports ou des bulletins) qui sont diffusés au niveau national","N1","LES MIEUX ADAPTÉES"]
[null,null,"ME-5.3","Des données de surveillance coordonnée sont utilisées pour générer des résultats (par exemple, des chiffres, des graphiques, des rapports ou des bulletins) qui sont diffusés aux parties prenantes à tous les niveaux du pays","N2","LES MIEUX ADAPTÉES"]
[null,"Suivi et évaluation","SE-1.1","Des exercices de simulation sont réalisés pour évaluer l'efficacité et la fonctionnalité du système de surveillance coordonné au niveau national  ","N1","AUTRE "]
[null,null,"SE-1.1","Des exercices de simulation sont réalisés pour évaluer l'efficacité et la fonctionnalité du système de surveillance coordonné à tous les niveaux du pays  ","N2","AUTRE "]
[null,null,"SE-1.1","Les résultats des exercices de simulation sont utilisés pour orienter et réviser les plans de surveillance coordonnée ","N3","AUTRE "]
[null,null,"SE-3.1","La qualité des données a été testée et considérée comme étant conforme aux objectifs du système de surveillance coordonné ","N2","AUTRE "]
["Cadre d'évaluation de la surveillance (SERVAL)","Évaluation","AG","N/A","N/A","N/A","PASS",8.8000000000000007,9,9,10,8.1,3.3,4,6.8,8,{"$f":"SUM(H510:P510)/90","v":0.74444444444444446},"Document d'orientation","Spécifique du secteur; Généralisée"]
[null,null,"E-1.1","Des parties prenantes travaillant dans les domaines de la surveillance, de l'épidémiologie, des laboratoires et du partage d'informations ont été identifiées","N1","AUTRE "]
[null,null,"E-3.2","Les plans de surveillance existants (y compris les définitions de cas, les protocoles et les procédures opérationnelles standard) relatifs au système de surveillance coordonné ont été évalués en vue d'une consolidation et d'une interconnexion potentielles au niveau national","N1","AUTRE "]
[null,null,"E-4.1","Des évaluations économiques ont été utilisées pour déterminer les besoins financiers nationaux du système de surveillance coordonné ","N1","AUTRE "]
[null,"Suivi et évaluation","SE-2.1","Il existe un plan de suivi et d'évaluation qui est conforme aux objectifs du système de surveillance coordonné","N1","AUTRE "]
[null,null,"SE-2.1","Le plan de suivi et d'évaluation est implanté pour surveiller les performances et les avancées du système de surveillance coordonné","N2","AUTRE "]
[null,null,"SE-3.1","Il existe une méthodologie de gestion de la qualité des données","N1","AUTRE "]
["Outil d'évaluation de la surveillance (SET) de la FAO","Évaluation","E-2.1","Les interconnexions entre les systèmes de surveillance des zoonoses actuellement priorisées ont été évaluées entre les secteurs","N1","LES MIEUX ADAPTÉES","PASS",8.1999999999999993,8.3000000000000007,7,7.7,6.7,6.3,8,6.8,8.5,{"$f":"SUM(H517:P517)/90","v":0.75},"Outil ou processus dirigé/facilité","Spécifique du secteur; Généralisée"]
[null,null,null,"Les interconnexions entre les systèmes de surveillance actuels ont été évaluées parmi les secteurs et à tous les niveaux du pays","N2","LES MIEUX ADAPTÉES"]
[null,null,null,"Les interconnexions entre les systèmes de surveillance coordonnés ont été évaluées et sont considérées comme étant conformes aux objectifs du système de surveillance coordonné.","N3","LES MIEUX ADAPTÉES"]
[null,"Évaluation","E-3.2","Les plans de surveillance existants (y compris les définitions de cas, les protocoles et les procédures opérationnelles standard) relatifs au système de surveillance coordonné ont été évalués en vue d'une consolidation et d'une interconnexion potentielles au niveau national","N1","LES MIEUX ADAPTÉES"]
[null,null,null,"Les plans de surveillance existants (y compris les définitions de cas, les protocoles et les procédures opérationnelles standard) relatifs au système de surveillance coordonné ont été évalués en vue d'une consolidation et d'une interconnexion potentielles à tous les niveaux du pays","N3","LES MIEUX ADAPTÉES"]
["Système de gestion des données de laboratoire «SILAB for Africa» (SILABFA)","Mise en œuvre","ME-3.1 \n","Il existe un mécanisme de partage de données entre les secteurs au niveau national","N1","AUTRE ","1 Eval",9.3000000000000007,10,6.8,9.3000000000000007,8,6.5,8,7.2,8,{"$f":"SUM(H522:P522)/90","v":0.81222222222222229},"Matériel ou logiciel","Spécifique du secteur; Généralisée"]
[null,null,"ME-3.2\n","Une structure et un lieu sont prévus pour stocker et conserver les données de plusieurs secteurs au niveau national.","N1","AUTRE "]
[null,null,"ME-3.2\n","Une structure et un lieu sont prévus pour stocker et conserver les données de plusieurs secteurs à tous les niveaux du pays","N2","AUTRE "]
[null,null,"ME-3.2\n","Il existe une structure et un endroit pour stocker et conserver les données de tous les secteurs concernés par la surveillance qui sont accessibles, fonctionnels et utilisables par tous les secteurs participants","N3","AUTRE "]
[null,null,"ME-3.3\n","Les données de surveillance coordonnée sont protégées par les mesures de confidentialité et de sécurité des données implantées au niveau national ","N1","AUTRE "]
[null,null,"ME-3.3\n","Les données de surveillance coordonnée sont protégées par les mesures de confidentialité et de sécurité des données implantées à tous les niveaux du pays","N2","AUTRE "]
[null,null,"ME-4.1 ","Le système de surveillance coordonné fait l'objet d'un projet pilote dans des zones ciblées","N1","AUTRE "]
[null,null,"ME-4.1 ","Le système de surveillance coordonné a été étendu à d'autres domaines sur la base de mises en œuvre pilotes","N2","AUTRE "]
[null,null,"ME-4.1 ","Le système de surveillance coordonné est un programme à l'échelon national","N3","AUTRE "]
["Système de gestion des données de laboratoire Mini (MiniLIMS)","Mise en œuvre","ME-3.1 \n","Il existe un mécanisme de partage de données entre les secteurs au niveau national","N1","AUTRE ","1 Eval",9,7.3,8.4,9.3000000000000007,7.2,6.5,2,4.4000000000000004,4,{"$f":"SUM(H531:P531)/90","v":0.64555555555555555},"Matériel ou logiciel","Spécifique du secteur; Généralisée"]
[null,null,"ME-3.2\n","Une structure et un lieu sont prévus pour stocker et conserver les données de plusieurs secteurs au niveau national.","N1","AUTRE "]
[null,null,"ME-3.2\n","Une structure et un lieu sont prévus pour stocker et conserver les données de plusieurs secteurs à tous les niveaux du pays","N2","AUTRE "]
[null,null,"ME-3.2\n","Il existe une structure et un endroit pour stocker et conserver les données de tous les secteurs concernés par la surveillance qui sont accessibles, fonctionnels et utilisables par tous les secteurs participants","N3","AUTRE "]
[null,null,"ME-3.3\n","Les données de surveillance coordonnée sont protégées par les mesures de confidentialité et de sécurité des données implantées au niveau national ","N1","AUTRE "]
[null,null,"ME-3.3\n","Les données de surveillance coordonnée sont protégées par les mesures de confidentialité et de sécurité des données implantées à tous les niveaux du pays","N2","AUTRE "]
[null,null,"ME-4.1 ","Le système de surveillance coordonné fait l'objet d'un projet pilote dans des zones ciblées","N1","AUTRE "]
[null,null,"ME-4.1 ","Le système de surveillance coordonné a été étendu à d'autres domaines sur la base de mises en œuvre pilotes","N2","AUTRE "]
[null,null,"ME-4.1 ","Le système de surveillance coordonné est un programme à l'échelon national","N3","AUTRE "]
["Système de gestion et d'analyse de la surveillance et la réponse aux foyers épidémiques (SORMAS)","Mise en œuvre","ME-3.1 \n","Il existe un mécanisme de partage de données entre les secteurs au niveau national","N1","LES MIEUX ADAPTÉES","PASS",9.1999999999999993,8,9.3000000000000007,9.1,9.3000000000000007,9.3000000000000007,6.8,3.9,5.3,{"$f":"SUM(H540:P540)/90","v":0.78},"Matériel ou logiciel","Spécifique du secteur; Généralisée"]
[null,null,"ME-3.1 \n","Il existe un mécanisme de partage des données entre les secteurs à tous les niveaux du pays","N2","LES MIEUX ADAPTÉES"]
[null,null,"ME-3.1 \n","Il existe un mécanisme de partage de données qui est accessible, fonctionnel et utilisable par tous les secteurs participants","N3","LES MIEUX ADAPTÉES"]
[null,null,"ME-3.2\n","Une structure et un lieu sont prévus pour stocker et conserver les données de plusieurs secteurs au niveau national.","N1","LES MIEUX ADAPTÉES"]
[null,null,"ME-3.2\n","Une structure et un lieu sont prévus pour stocker et conserver les données de plusieurs secteurs à tous les niveaux du pays","N2","LES MIEUX ADAPTÉES"]
[null,null,"ME-3.2\n","Il existe une structure et un endroit pour stocker et conserver les données de tous les secteurs concernés par la surveillance qui sont accessibles, fonctionnels et utilisables par tous les secteurs participants","N3","LES MIEUX ADAPTÉES"]
[null,null,"ME-3.3\n","Les données de surveillance coordonnée sont protégées par les mesures de confidentialité et de sécurité des données implantées au niveau national ","N1","LES MIEUX ADAPTÉES"]
[null,null,"ME-3.3\n","Les données de surveillance coordonnée sont protégées par les mesures de confidentialité et de sécurité des données implantées à tous les niveaux du pays","N2","LES MIEUX ADAPTÉES"]
[null,null,"ME-3.3\n","Il existe des mesures de confidentialité et de sécurité des données visant à protéger les données de surveillance coordonnée, qui ont été évaluées et sont considérées comme étant conformes aux objectifs du système de surveillance coordonné","N3","LES MIEUX ADAPTÉES"]
[null,null,"ME-5.3","Des données de surveillance coordonnée sont utilisées pour générer des résultats (par exemple, des chiffres, des graphiques, des rapports ou des bulletins) qui sont diffusés au niveau national","N1","LES MIEUX ADAPTÉES"]
[null,null,"ME-5.3","Des données de surveillance coordonnée sont utilisées pour générer des résultats (par exemple, des chiffres, des graphiques, des rapports ou des bulletins) qui sont diffusés aux parties prenantes à tous les niveaux du pays","N2","LES MIEUX ADAPTÉES"]
[null,null,"ME-5.3","Les données de surveillance coordonnée, y compris les rapports de suivi et d'évaluation (S&E), sont utilisées pour générer des résultats qui orientent la réponse, les politiques et la programmation","N3","LES MIEUX ADAPTÉES"]
["Règlement sanitaire international (2005): outil d’autoévaluation pour l'établissement de rapports annuels par les États Parties (SPAR)","Évaluation","AG","N/A","N/A","N/A","PASS",9.9,10,9.3000000000000007,7.3,9.4,9,8.5,6.3,6.7,{"$f":"SUM(H552:P552)/90","v":0.84888888888888892},"Outil d'autoévaluation","«Une seule santé»; Généralisée"]
[null,null,"E-2.1","Les interconnexions entre les systèmes de surveillance des zoonoses actuellement priorisées ont été évaluées entre les secteurs","N1","AUTRE "]
[null,null,null,"Les interconnexions entre les systèmes de surveillance actuels ont été évaluées parmi les secteurs et à tous les niveaux du pays","N2","AUTRE "]
[null,null,null,"Les interconnexions entre les systèmes de surveillance coordonnés ont été évaluées et sont considérées comme étant conformes aux objectifs du système de surveillance coordonné.","N3","AUTRE "]
[null,"Suivi et évaluation","SE-2.1","Les résultats du suivi et de l'évaluation améliorent ou étendent de manière itérative le système de surveillance coordonné et s'alignent sur les recommandations et les normes internationales. ","N3","AUTRE "]
["Outil par étapes pour l'éradication de la brucellose (STEB)","Planification","E-2.2","Les cadres juridiques (règles, politiques, directives et réglementations, y compris les normes internationales) qui régissent les normes d'éthique et de confidentialité en matière de surveillance et de partage des données ont été évalués.","N1","AUTRE ","PASS",9,10,7.6,3.7,5.7,7.3,7,8.6,8,{"$f":"SUM(H557:P557)/90","v":0.7433333333333334},"Outil ou processus dirigé/facilité","«Une seule santé»; spécifique d'une maladie/menace "]
[null,null,"E-3.2","Les plans de surveillance existants (y compris les définitions de cas, les protocoles et les procédures opérationnelles standard) relatifs au système de surveillance coordonné ont été évalués en vue d'une consolidation et d'une interconnexion potentielles au niveau national","N1","AUTRE "]
[null,null,"E-5.1","Des évaluations de laboratoires ont été utilisées pour identifier des laboratoires de référence nationaux ou internationaux qualifiés capables d'effectuer des tests pour soutenir les activités de surveillance coordonnées","N1","AUTRE "]
[null,null,"PL-3.1","Un examen multisectoriel des cadres nationaux et des plans stratégiques liés au système de surveillance coordonné a été réalisé à des fins de planification.","N1","AUTRE "]
["Cadre d'évaluation de la surveillance (SurF)","Évaluation","AG","N/A","N/A","N/A","PASS",7.6,6,8,8.6999999999999993,8.6,4.0999999999999996,4,8,4,{"$f":"SUM(H561:P561)/90","v":0.65555555555555556},"Document d'orientation","«Une seule santé»; Généralisée"]
[null,null,"SE-2.1","Il existe un plan de suivi et d'évaluation qui est conforme aux objectifs du système de surveillance coordonné","N1","LES MIEUX ADAPTÉES"]
[null,null,"SE-2.1","Le plan de suivi et d'évaluation est implanté pour surveiller les performances et les avancées du système de surveillance coordonné","N2","LES MIEUX ADAPTÉES"]
[null,null,"SE-3.1","Il existe une méthodologie de gestion de la qualité des données","N1","AUTRE "]
[null,null,"SE-3.1","La qualité des données a été testée et considérée comme étant conforme aux objectifs du système de surveillance coordonné ","N2","AUTRE "]
[null,null,"SE-3.1","La qualité des données est conforme aux normes et recommandations internationales ","N3","AUTRE "]
["SurvCost: Outil permettant d'estimer le coût de la surveillance intégrée de la maladie et la riposte","Évaluation","E-4.1","Des évaluations économiques ont été utilisées pour déterminer les besoins financiers nationaux du système de surveillance coordonné ","N1","LES MIEUX ADAPTÉES","PASS",9.8000000000000007,8,7.6,9.6999999999999993,7.7,5.8,7,7.3,8,{"$f":"SUM(H567:P567)/90","v":0.78777777777777769},"Outil d'autoévaluation","Spécifique du secteur; Généralisée"]
[null,null,null,"Des évaluations économiques ont été utilisées pour déterminer les besoins financiers à tous les niveaux du pays du système de surveillance coordonné ","N3","LES MIEUX ADAPTÉES"]
[null,"Planification","PL-4.1","Il existe un plan budgétaire et un mécanisme de distribution des fonds destinés à la surveillance coordonnée au niveau national","N1","AUTRE "]
[null,"Mise en œuvre","ME-1.1 ","Il existe un financement destiné à la surveillance coordonnée au niveau national","N1","AUTRE "]
["Organisation mondiale de la santé animale (OMSA) Application Alerts du Système mondial d'information sanitaire (WAHIS)","Mise en œuvre","ME-5.2","Les exigences de notification internationale pour toutes les zoonoses sont respectées","N1","AUTRE ","PASS",9.6999999999999993,10,8.8000000000000007,8.6999999999999993,8.3000000000000007,5,7.5,3.3,6,{"$f":"SUM(H571:P571)/90","v":0.74777777777777776},"Matériel ou logiciel","Spécifique du secteur; Généralisée"]
[null,null,"ME-5.3","Des données de surveillance coordonnée sont utilisées pour générer des résultats (par exemple, des chiffres, des graphiques, des rapports ou des bulletins) qui sont diffusés au niveau national","N1","AUTRE "]
[null,null,"ME-5.3","Des données de surveillance coordonnée sont utilisées pour générer des résultats (par exemple, des chiffres, des graphiques, des rapports ou des bulletins) qui sont diffusés aux parties prenantes à tous les niveaux du pays","N2","AUTRE "]
[]
["Résistance aux antimicrobiens: un manuel pour la mise en œuvre de plans d'action nationaux","Évaluation","E-2.2","Les cadres juridiques (règles, politiques, directives et réglementations, y compris les normes internationales) qui régissent les normes d'éthique et de confidentialité en matière de surveillance et de partage des données ont été évalués.","N1","AUTRE ","PASS",10,6,6.6,8.6999999999999993,8,3.8,4.5,9,10,{"$f":"SUM(H575:P575)/90","v":0.74},"Document d'orientation","«Une seule santé»; spécifique d'une maladie/menace "]
[null,"Planification","PL-3.1","Un examen multisectoriel des cadres nationaux et des plans stratégiques liés au système de surveillance coordonné a été réalisé à des fins de planification.","N1","AUTRE ",null,null,10,7,6,6.7666666666666675,6,10,6.8,8,{"$f":"SUM(H576:P576)/90","v":0.67296296296296287}]
[null,null,null,"Les cadres et les plans stratégiques du système de surveillance coordonné ont été consolidés et interconnectés sur la base d'une évaluation à tous les niveaux du pays","N2","AUTRE "]
[null,"Suivi et évaluation","SE-2.1","Il existe un plan de suivi et d'évaluation qui est conforme aux objectifs du système de surveillance coordonné","N1","AUTRE "]
[]
[null,null,null,null,null,null,null,null,null,null,null,null,null,null,null,null,null,null,null,"NE PAS AJOUTER"]
[]
[]
[]
[]
[]
[]
[]
[]
[]
[]
[]
["WHO CHOICE","Évaluation","E-4.1","Des évaluations économiques ont été utilisées pour déterminer les besoins financiers nationaux du système de surveillance coordonné ","N1","AUTRE ","PASS",9.6,8,7.4,5.3,7.3,5,8.5,5,9,{"$f":"SUM(H592:P592)/90","v":0.72333333333333327},"Outil d'autoévaluation","Spécifique du secteur; Généralisée"]
[null,"Planification","PL-3.1","Un examen multisectoriel des cadres nationaux et des plans stratégiques liés au système de surveillance coordonné a été réalisé à des fins de planification.","N1","AUTRE "]
[null,null,null,"Les cadres et les plans stratégiques du système de surveillance coordonné ont été consolidés et interconnectés sur la base d'une évaluation à tous les niveaux du pays","N2","AUTRE "]
["Boîte à outils pour le contrôle de la qualité des données (DQR)","Suivi et évaluation","SE-3.1","Il existe une méthodologie de gestion de la qualité des données","N1","LES MIEUX ADAPTÉES","PASS",7.7,7,7.7,10,6.3,4.8,5.5,5,4,{"$f":"SUM(H595:P595)/90","v":0.64444444444444438},"Outil d'autoévaluation","Spécifique du secteur; Généralisée"]
[null,null,"SE-3.1","La qualité des données a été testée et considérée comme étant conforme aux objectifs du système de surveillance coordonné ","N2","LES MIEUX ADAPTÉES"]
[null,null,"SE-3.1","La qualité des données est conforme aux normes et recommandations internationales ","N3","LES MIEUX ADAPTÉES"]
["Outil d'évaluation des laboratoires de l'OMS","Évaluation","E-3.4","Des exercices basiques de cartographie des infrastructures (telles que définies dans le GTZ CH 4.1) ont été utilisés pour décrire la structure et les connexions sectorielles et intersectorielles ","N1","AUTRE ","PASS",9,10,6.4,6,7.2,5.5,6,5.8,4,{"$f":"SUM(H598:P598)/90","v":0.66555555555555557},"Outil d'autoévaluation","Spécifique du secteur; Généralisée"]
[null,null,null,"La cartographie des infrastructures (telle que décrite au point 4.1 du GTZ) a été utilisée pour décrire la plupart des domaines à cartographier","N2","AUTRE "]
[null,null,null,"La cartographie complète des infrastructures (telle que décrite au point 4.1 du GTZ) a été utilisée pour décrire la totalité des domaines à cartographier.","N3","AUTRE "]
[null,null,"E-5.1","Des évaluations de laboratoires ont été utilisées pour identifier des laboratoires de référence nationaux ou internationaux qualifiés capables d'effectuer des tests pour soutenir les activités de surveillance coordonnées","N1","LES MIEUX ADAPTÉES"]
[null,null,null,"Des évaluations de laboratoires ont été utilisées pour identifier à tous les niveaux (y compris international) des laboratoires qualifiés capables d'effectuer des tests pour soutenir les activités de surveillance coordonnées","N2","LES MIEUX ADAPTÉES"]
[null,null,null,"Des évaluations de laboratoires ont été utilisées pour identifier un réseau de laboratoires qualifiés capables d'effectuer des tests pour soutenir les activités de surveillance coordonnées","N3","LES MIEUX ADAPTÉES"]
["Application de suivi des expositions et des cas de rage (REACT)","Mise en œuvre","ME-3.1 \n","Il existe un mécanisme de partage de données entre les secteurs au niveau national","N1","LES MIEUX ADAPTÉES","1 EVAL",8.6,8.6,8,8.6,9.4,9.5,9,9.1999999999999993,9,{"$f":"SUM(H604:P604)/90","v":0.88777777777777767},"Matériel ou logiciel","«Une seule santé»; spécifique d'une maladie/menace "]
[null,null,"ME-3.1 \n","Il existe un mécanisme de partage des données entre les secteurs à tous les niveaux du pays","N2","LES MIEUX ADAPTÉES"]
[null,null,"ME-3.1 \n","Il existe un mécanisme de partage de données qui est accessible, fonctionnel et utilisable par tous les secteurs participants","N3","LES MIEUX ADAPTÉES"]
[null,null,"ME-3.2\n","Une structure et un lieu sont prévus pour stocker et conserver les données de plusieurs secteurs au niveau national.","N1","LES MIEUX ADAPTÉES"]
[null,null,"ME-3.2\n","Une structure et un lieu sont prévus pour stocker et conserver les données de plusieurs secteurs à tous les niveaux du pays","N2","LES MIEUX ADAPTÉES"]
[null,null,"ME-3.2\n","Il existe une structure et un endroit pour stocker et conserver les données de tous les secteurs concernés par la surveillance qui sont accessibles, fonctionnels et utilisables par tous les secteurs participants","N3","LES MIEUX ADAPTÉES"]
[null,null,"ME-3.3\n","Les données de surveillance coordonnée sont protégées par les mesures de confidentialité et de sécurité des données implantées au niveau national ","N1","LES MIEUX ADAPTÉES"]
[null,null,"ME-3.3\n","Les données de surveillance coordonnée sont protégées par les mesures de confidentialité et de sécurité des données implantées à tous les niveaux du pays","N2","LES MIEUX ADAPTÉES"]
[null,null,"ME-3.3\n","Les données de surveillance coordonnée qui ont été évaluées et sont considérées comme étant conformes aux objectifs du système de surveillance coordonné sont protégées par les mesures de confidentialité et de sécurité des données implantées ","N3","LES MIEUX ADAPTÉES"]
[null,null,"ME-4.1 ","Le système de surveillance coordonné fait l'objet d'un projet pilote dans des zones ciblées","N1","AUTRE "]
[null,null,"ME-4.1 ","Le système de surveillance coordonné a été étendu à d'autres domaines sur la base de mises en œuvre pilotes","N2","AUTRE "]
[null,null,"ME-4.1 ","Le système de surveillance coordonné est un programme à l'échelon national","N3","AUTRE "]
[null,null,"ME-4.2","Les données sont partagées de manière informelle ou formelle de façon ad hoc au niveau national","N1","AUTRE "]
[null,null,"ME-4.2","Les données sont partagées de manière informelle ou formelle, de façon régulière et en temps utile, à tous les niveaux du pays","N2","AUTRE "]
[null,null,"ME-4.2","Les données sont partagées de façon systématique et régulière et en temps utile entre tous les secteurs participants par le biais d'une ou plusieurs plateforme(s) interopérable(s) ou conjointe(s) ","N3","AUTRE "]
[null,null,"ME-5.1 ","Il existe un partage régulier des informations avec les parties prenantes concernées","N1","AUTRE "]
[null,null,"ME-5.1 ","Il existe un partage régulier et en temps utile des informations avec les parties prenantes concernées, y compris les entités transfrontalières, régionales et internationales","N2","AUTRE "]
[null,null,"ME-5.3","Des données de surveillance coordonnée sont utilisées pour générer des résultats (par exemple, des chiffres, des graphiques, des rapports ou des bulletins) qui sont diffusés au niveau national","N1","AUTRE "]
[null,null,"ME-5.3","Des données de surveillance coordonnée sont utilisées pour générer des résultats (par exemple, des chiffres, des graphiques, des rapports ou des bulletins) qui sont diffusés aux parties prenantes à tous les niveaux du pays","N2","AUTRE "]
[null,null,"ME-5.3","Les données de surveillance coordonnée, y compris les rapports de suivi et d'évaluation (S&E), sont utilisées pour générer des résultats qui orientent la réponse, les politiques et la programmation","N3","AUTRE "]
["Boîte à outils pour la cartographie des parties prenantes «Une seule santé»","Planification préalable","PP-1.1","Des coordonnateurs, des «champions» ou des groupes de travail techniques ont été identifiés dans tous les secteurs participants au niveau national pour planifier la mise en œuvre de la surveillance coordonnée","N1","LES MIEUX ADAPTÉES","1 EVAL",8.4,8,8.4,6.7,2,3.5,4,6.4,8,{"$f":"SUM(H624:P624)/90","v":0.61555555555555552},"Document d'orientation","«Une seule santé»; Généralisée"]
[null,null,"PP-1.1","Des coordonnateurs, des «champions» ou des groupes de travail techniques ont été identifiés dans tous les secteurs participants et à tous les niveaux du pays pour planifier la mise en œuvre de la surveillance coordonnée.","N2","LES MIEUX ADAPTÉES"]
[null,"Évaluation","E-1.1","Des parties prenantes travaillant dans les domaines de la surveillance, de l'épidémiologie, des laboratoires et du partage d'informations ont été identifiées","N1","LES MIEUX ADAPTÉES"]
[null,null,"E-1.1","L'analyse des parties prenantes a été utilisée pour identifier les participants à tous les niveaux du pays ","N2","LES MIEUX ADAPTÉES"]
["Boîte à outils pour la structure organisationnelle et les termes de référence","Planification préalable","PP-1.1","Des coordonnateurs, des «champions» ou des groupes de travail techniques ont été identifiés dans tous les secteurs participants au niveau national pour planifier la mise en œuvre de la surveillance coordonnée","N1","LES MIEUX ADAPTÉES","1 EVAL",8.4,8,8.4,6.7,2,3.5,4,6.4,8,{"$f":"SUM(H628:P628)/90","v":0.61555555555555552},"Document d'orientation","«Une seule santé»; Généralisée"]
[null,null,"PP-1.1","Des coordonnateurs, des «champions» ou des groupes de travail techniques ont été identifiés dans tous les secteurs participants et à tous les niveaux du pays pour planifier la mise en œuvre de la surveillance coordonnée.","N2","LES MIEUX ADAPTÉES"]
[null,null,"PP-1.1","Des coordonnateurs, des «champions» ou des groupes de travail techniques (y compris des coordonnateurs ou des «champions» identifiés) chargés de la surveillance coordonnée ont été institutionnalisés (par exemple, par le biais d'un organe directeur tel qu'un MCM)   ","N3","LES MIEUX ADAPTÉES"]
[null,null,"PP-3.1","Les objectifs, les rôles et les responsabilités de tous les secteurs participant au système de surveillance coordonné sont accordés au niveau national","N1","AUTRE "]
[null,null,null,"Les objectifs, les rôles et les responsabilités de tous les secteurs participant au système de surveillance coordonné sont accordés et étendus à tous les niveaux du pays","N2","AUTRE "]
[null,"Évaluation","E-1.1","Les rôles et responsabilités des parties prenantes ont été institutionnalisés et adoptés dans les politiques","N3","AUTRE "]
["Boîte à outils pour l'élaboration d'un manuel de gouvernance","Planification préalable","E-2.2","Les cadres juridiques (règles, politiques, directives et réglementations, y compris les normes internationales) qui régissent les normes d'éthique et de confidentialité en matière de surveillance et de partage des données ont été évalués.","N1","AUTRE ","1 EVAL",8.4,8,8.4,6.7,2,3.5,4,6.4,8,{"$f":"SUM(H634:P634)/90","v":0.61555555555555552},"Document d'orientation","«Une seule santé»; Généralisée"]
[null,null,"PP-1.1","Des coordonnateurs, des «champions» ou des groupes de travail techniques ont été identifiés dans tous les secteurs participants au niveau national pour planifier la mise en œuvre de la surveillance coordonnée","N1","LES MIEUX ADAPTÉES"]
[null,null,"PP-1.1","Des coordonnateurs, des «champions» ou des groupes de travail techniques ont été identifiés dans tous les secteurs participants et à tous les niveaux du pays pour planifier la mise en œuvre de la surveillance coordonnée.","N2","LES MIEUX ADAPTÉES"]
[null,null,"PP-3.1","Les objectifs, les rôles et les responsabilités de tous les secteurs participant au système de surveillance coordonné sont accordés au niveau national","N1","LES MIEUX ADAPTÉES"]
[null,null,null,"Les objectifs, les rôles et les responsabilités de tous les secteurs participant au système de surveillance coordonné sont accordés et étendus à tous les niveaux du pays","N2","LES MIEUX ADAPTÉES"]
[null,null,null,"Les objectifs, les rôles et les responsabilités du système de surveillance coordonné ont été réévalués pour refléter les besoins réels du système de surveillance coordonné ","N3","LES MIEUX ADAPTÉES"]
[null,null,"ME-2.1","Des coordonnateurs ou des groupes de travail techniques se réunissent de façon ad hoc","N1","LES MIEUX ADAPTÉES"]
[null,null,"ME-2.1","Des coordonnateurs ou des groupes de travail techniques se réunissent régulièrement et abordent les questions prioritaires au fur et à mesure qu'elles se présentent","N2","LES MIEUX ADAPTÉES"]
[null,null,"ME-2.1","Des groupes de travail techniques effectuent un examen régulier et optimisent les activités de surveillance coordonnées ","N3","LES MIEUX ADAPTÉES"]
["Élaboration du plan stratégique «Une seule santé»","Évaluation","E-3.1","Les cadres et plans stratégiques existants relatifs au système de surveillance coordonné ont été évalués en vue d'une consolidation et d'une interconnexion potentielles au niveau national","N1","AUTRE ","1 EVAL",8.4,8,8.4,6.7,2,3.5,4,6.4,8,{"$f":"SUM(H643:P643)/90","v":0.61555555555555552},"Document d'orientation","«Une seule santé»; Généralisée"]
[null,null,"E-3.1","Les cadres et plans stratégiques relatifs au système de surveillance coordonné ont été évalués en vue d'une consolidation et d'une interconnexion potentielles à tous les niveaux du pays","N3","AUTRE "]
[null,"Planification","PL-3.1","Un examen multisectoriel des cadres nationaux et des plans stratégiques liés au système de surveillance coordonné a été réalisé à des fins de planification.","N1","AUTRE "]
[null,null,"PL-3.1","Les cadres et les plans stratégiques du système de surveillance coordonné ont été consolidés et interconnectés sur la base d'une évaluation à tous les niveaux du pays","N2","AUTRE "]
[null,null,"PL-3.1","Les cadres et les plans stratégiques révisés du système de surveillance coordonné ont été alignés sur les recommandations et les normes internationales. \n","N3","AUTRE "]
["Boîte à outils pour la planification de la préparation et la réponse","Planification préalable","PP-1.1","Des coordonnateurs, des «champions» ou des groupes de travail techniques ont été identifiés dans tous les secteurs participants au niveau national pour planifier la mise en œuvre de la surveillance coordonnée","N1","LES MIEUX ADAPTÉES","1 EVAL",8.4,8,8.4,6.7,2,3.5,4,6.4,8,{"$f":"SUM(H648:P648)/90","v":0.61555555555555552},"Document d'orientation","«Une seule santé»; Généralisée"]
[null,null,"PP-1.1","Des coordonnateurs, des «champions» ou des groupes de travail techniques ont été identifiés dans tous les secteurs participants et à tous les niveaux du pays pour planifier la mise en œuvre de la surveillance coordonnée.","N2","LES MIEUX ADAPTÉES"]
[null,null,"PP-3.1","Les objectifs, les rôles et les responsabilités de tous les secteurs participant au système de surveillance coordonné sont accordés au niveau national","N1","AUTRE "]
[null,null,"PP-3.1","Les objectifs, les rôles et les responsabilités de tous les secteurs participant au système de surveillance coordonné sont accordés et étendus à tous les niveaux du pays","N2","AUTRE "]
[null,"Évaluation","E-2.1","Les interconnexions entre les systèmes de surveillance des zoonoses actuellement priorisées ont été évaluées entre les secteurs","N1","AUTRE "]
[null,null,"E-3.2","Les plans de surveillance existants (y compris les définitions de cas, les protocoles et les procédures opérationnelles standard) relatifs au système de surveillance coordonné ont été évalués en vue d'une consolidation et d'une interconnexion potentielles au niveau national","N1","LES MIEUX ADAPTÉES"]
[null,null,"E-3.2","Les plans de surveillance existants (y compris les définitions de cas, les protocoles et les procédures opérationnelles standard) relatifs au système de surveillance coordonné ont été évalués en vue d'une consolidation et d'une interconnexion potentielles à tous les niveaux du pays","N3","LES MIEUX ADAPTÉES"]
[null,null,"E-3.3","Les plans d'action/opérationnels existants relatifs au système de surveillance coordonné ont été évalués en vue d'une consolidation et d'une interconnexion potentielles au niveau national","N1","LES MIEUX ADAPTÉES"]
[null,null,"E-3.3","Les plans d'action/opérationnels relatifs au système de surveillance coordonné ont été évalués en vue d'une consolidation et d'une interconnexion potentielles à tous les niveaux du pays","N3","LES MIEUX ADAPTÉES"]
[null,null,"E-3.4","Des exercices basiques de cartographie des infrastructures (telles que définies dans le GTZ CH 4.1) ont été utilisés pour décrire la structure et les connexions sectorielles et intersectorielles ","N1","AUTRE "]
[null,null,"E-3.4","La cartographie des infrastructures (telle que décrite au point 4.1 du GTZ) a été utilisée pour décrire la plupart des domaines à cartographier","N2","AUTRE "]
[null,null,"E-5.1","Des évaluations de laboratoires ont été utilisées pour identifier des laboratoires de référence nationaux ou internationaux qualifiés capables d'effectuer des tests pour soutenir les activités de surveillance coordonnées","N1","AUTRE "]
[null,null,"E-5.2","Les fournitures, les chaînes de transport et l'interprétation des résultats des laboratoires ont été évaluées pour être harmonisées entre les secteurs participants au niveau national","N1","AUTRE "]
[null,null,"E-5.2","L'harmonisation des fournitures, des chaînes de transport et de l'interprétation des résultats des laboratoires entre les secteurs participants a été évaluée à tous les niveaux du pays","N2","AUTRE "]
[null,"Planification","PL-3.2","Un examen multisectoriel des plans de surveillance nationaux (y compris des plans d'action/opérationnels, des définitions de cas, des protocoles et des procédures opérationnelles standard) liés au système de surveillance coordonné a été effectué à des fins de planification.","N1","AUTRE "]
[null,null,"PL-3.2","Des plans de surveillance (y compris des plans d'action/opérationnels, des définitions de cas, des protocoles et des procédures opérationnelles standard) pour le système de surveillance coordonné ont été renforcés et interconnectés en vue d'un partage des données à tous les niveaux du pays","N2","AUTRE "]
[null,null,"PL-3.2","Les plans de surveillance (y compris les plans d'action/opérationnels, les définitions de cas, les protocoles et les procédures opérationnelles standard) révisés pour le système de surveillance coordonné ont été alignés sur les directives et recommandations internationales.","N3","AUTRE "]
[null,null,"PL-4.1","Il existe un plan budgétaire et un mécanisme de distribution des fonds destinés à la surveillance coordonnée au niveau national","N1","AUTRE "]
[null,null,null,"Il existe un plan budgétaire et un mécanisme de distribution des fonds destinés à la surveillance coordonnée à tous les niveaux du pays","N2","AUTRE "]
[null,null,"PL-7.1","La terminologie et les messages de communication sont alignés sur l'ensemble des secteurs participant au système de surveillance coordonné au niveau national.","N1","LES MIEUX ADAPTÉES"]
[null,null,"PL-7.1","La terminologie et les messages de communication sont alignés sur l'ensemble des secteurs participant au système de surveillance coordonné et diffusés à tous les niveaux du pays","N2","LES MIEUX ADAPTÉES"]
[null,null,"PL-7.1","Il existe une stratégie et/ou un plan de communication (comprenant une terminologie et une messagerie) qui régissent la communication avec les parties prenantes et le public pour le système de surveillance coordonné","N3","LES MIEUX ADAPTÉES"]
[null,"Mise en œuvre","ME-2.1","Des groupes de travail techniques effectuent un examen régulier et optimisent les activités de surveillance coordonnées ","N3","AUTRE "]
[null,null,"ME-3.1 \n","Il existe un mécanisme de partage de données entre les secteurs au niveau national","N1","AUTRE "]
[null,null,"ME-4.2","Les données sont partagées de manière informelle ou formelle de façon ad hoc au niveau national","N1","AUTRE "]
[null,null,"ME-4.2","Les données sont partagées de manière informelle ou formelle, de façon régulière et en temps utile, à tous les niveaux du pays","N2","AUTRE "]
[null,null,"ME-4.2","Les données sont partagées de façon systématique et régulière et en temps utile entre tous les secteurs participants par le biais d'une ou plusieurs plateforme(s) interopérable(s) ou conjointe(s) ","N3","AUTRE "]
["Incorporation de l'approche «Une seule santé» dans un kit d'orientation politique et technique","Évaluation","E-3.2","Les plans de surveillance existants (y compris les définitions de cas, les protocoles et les procédures opérationnelles standard) relatifs au système de surveillance coordonné ont été évalués en vue d'une consolidation et d'une interconnexion potentielles au niveau national","N1","LES MIEUX ADAPTÉES","1 EVAL",8.4,8,8.4,6.7,2,3.5,4,6.4,8,{"$f":"SUM(H675:P675)/90","v":0.61555555555555552},"Document d'orientation","«Une seule santé»; Généralisée"]
[null,null,"E-3.2","Les plans de surveillance existants (y compris les définitions de cas, les protocoles et les procédures opérationnelles standard) relatifs au système de surveillance coordonné ont été évalués en vue d'une consolidation et d'une interconnexion potentielles à tous les niveaux du pays","N3","LES MIEUX ADAPTÉES"]
["Boîte à outils de simulation","Suivi et évaluation","SE-1.1","Des exercices de simulation sont réalisés pour évaluer l'efficacité et la fonctionnalité du système de surveillance coordonné au niveau national  ","N1","LES MIEUX ADAPTÉES","1 EVAL",8.4,8,8.4,6.7,2,3.5,4,6.4,8,{"$f":"SUM(H677:P677)/90","v":0.61555555555555552},"Document d'orientation","«Une seule santé»; Généralisée"]
[null,null,"SE-1.1","Des exercices de simulation sont réalisés pour évaluer l'efficacité et la fonctionnalité du système de surveillance coordonné à tous les niveaux du pays  ","N2","LES MIEUX ADAPTÉES"]
[null,null,"SE-1.1","Les résultats des exercices de simulation sont utilisés pour orienter et réviser les plans de surveillance coordonnée ","N3","AUTRE "]
["Boîte à outils pour l'analyse a posteriori après l'apparition d'un foyer épidémique","Mise en œuvre","ME-2.1 ","Des coordonnateurs ou des groupes de travail techniques se réunissent de façon ad hoc","N1","AUTRE ","1 EVAL",8.4,8,8.4,6.7,2,3.5,4,6.4,8,{"$f":"SUM(H680:P680)/90","v":0.61555555555555552},"Document d'orientation","«Une seule santé»; Généralisée"]
[null,null,"ME-2.1 ","Des coordonnateurs ou des groupes de travail techniques se réunissent régulièrement et abordent les questions prioritaires au fur et à mesure qu'elles se présentent","N2","AUTRE "]
[null,null,"ME-2.1 ","Des groupes de travail techniques effectuent un examen régulier et optimisent les activités de surveillance coordonnées ","N3","AUTRE "]
["Boîte à outils pour la promotion d'une politique «Une seule santé»","Planification","PL-1.1","Il existe une volonté politique de mettre en place un système de surveillance coordonné, ainsi que des défenseurs à tous les niveaux du pays","N2","LES MIEUX ADAPTÉES","1 EVAL",8.4,8,8.4,6.7,2,3.5,4,6.4,8,{"$f":"SUM(H683:P683)/90","v":0.61555555555555552},"Document d'orientation","«Une seule santé»; Généralisée"]
[null,null,"PL-1.1","Il existe une stratégie de promotion qui communique aux décideurs des informations sur le système de surveillance coordonné","N3","LES MIEUX ADAPTÉES"]
["Boîte à outils pour le modèle de politique «Une seule santé»","Planification","PL-1.1","Il existe une volonté politique de mettre en place un système de surveillance coordonné, ainsi que des défenseurs à tous les niveaux du pays","N2","AUTRE ","1 EVAL",8.4,8,8.4,6.7,2,3.5,4,6.4,8,{"$f":"SUM(H685:P685)/90","v":0.61555555555555552},"Document d'orientation","«Une seule santé»; Généralisée"]
["Stratégie de financement durable pour la boîte à outils «Une seule santé»","Évaluation","E-4.1","Des évaluations économiques ont été utilisées pour déterminer les besoins financiers nationaux du système de surveillance coordonné ","N1","LES MIEUX ADAPTÉES","1 EVAL",8.4,8,8.4,6.7,2,3.5,4,6.4,8,0.61555555555555552,"Document d'orientation","«Une seule santé»; Généralisée"]
[null,null,"E-4.1","Des évaluations économiques ont été utilisées pour déterminer les besoins financiers à tous les niveaux du pays du système de surveillance coordonné ","N3","LES MIEUX ADAPTÉES"]
[null,"Planification","PL-4.1","Il existe un plan budgétaire et un mécanisme de distribution des fonds destinés à la surveillance coordonnée au niveau national","N1","AUTRE "]
[null,"Mise en œuvre","ME-1.1 ","Il existe un financement destiné à la surveillance coordonnée au niveau national","N1","LES MIEUX ADAPTÉES"]
[null,null,"ME-1.1 ","Il existe un financement destiné à la surveillance coordonnée à tous les niveaux du pays","N2","LES MIEUX ADAPTÉES"]
[null,null,"ME-1.1 ","Un financement durable (c'est-à-dire intégré au budget national) est alloué aux activités de surveillance coordonnées, et a été évalué et considéré comme étant conforme aux objectifs du système de surveillance coordonné","N3","LES MIEUX ADAPTÉES"]

{"sheet":"Section I","index":9,"n_rows":21,"n_cols":2,"rows_kept":21,"cut":false,"hidden":false,"merged":[[2,1,5,30],[16,1,18,30],[20,1,28,30],[7,1,14,30]]}
[]
[]
[null,"SECTION I: PLANIFICATION PRÉALABLE"]
[]
[]
[]
[]
[null,"L'objectif de cette section de l'outil est de vous présenter la première des cinq étapes du processus de mise en place d'une surveillance coordonnée: Planification préalable. \n\nCette section comprend un total de trois catégories et trois activités à évaluer."]
[]
[]
[]
[]
[]
[]
[]
[]
[null,"Présentation de la planification préalable"]
[]
[]
[]
[null,"La phase de planification préalable comprend les étapes préparatoires effectuées avant toute tâche visant à établir ou à renforcer un système de surveillance coordonné des zoonoses. Ces étapes comprennent des activités telles que l'identification préliminaire des parties prenantes, l'identification des zoonoses priorisées à inclure dans le système, ainsi que l'identification des objectifs et la fixation des cibles du système. Ces étapes sont importantes pour établir une base solide destinée à créer ou à renforcer un système de surveillance coordonné fonctionnel.\n\nLes ressources présentées dans cette section doivent être prises en considération par les personnes qui utilisent le SIS OT pour les aider dans cette phase préparatoire à l'établissement ou au renforcement du système national de surveillance coordonné des zoonoses."]

{"sheet":"Focal Points","index":10,"n_rows":44,"n_cols":37,"rows_kept":44,"cut":false,"hidden":false,"merged":[[43,28,44,30],[43,32,44,33],[30,5,44,8],[42,14,42,15],[43,10,44,12],[43,14,44,15],[43,17,44,17],[43,19,44,21],[43,23,44,24],[43,26,44,26],[36,17,39,17],[36,26,39,26],[30,35,44,40],[45,12,46,15],[2,1,4,33],[26,16,46,16],[27,1,28,3],[27,10,28,15],[27,19,28,24],[27,28,28,33],[30,10,41,15],[7,1,9,33],[11,1,24,33],[27,5,28,8],[43,34,44,34],[30,1,44,3],[30,19,41,24],[30,28,41,33]]}
[]
[]
[null,"Coordonnateurs"]
[]
[]
[]
[]
[null,"Veuillez indiquer si chaque activité ci-dessous est terminée («1») ou en attente («0») sur la base du niveau de capacité actuel de votre pays."]
[]
[]
[]
[null,"NOTES IMPORTANTES :\n    ·Sélectionnez «1» si la capacité est atteinte et «0» si l'activité n'est pas terminée ou est en attente.\n    ·Si le niveau de capacité est atteint et que la réponse sélectionnée est «1», le niveau de capacité suivant correspondant à l'activité s'ouvre.\n    ·Si la capacité ne s'applique pas à votre situation, sélectionnez «0».\n    ·Si vous ne connaissez pas la réponse, sélectionnez «0».\n    ·Si le niveau de capacité comporte deux éléments (la phrase est reliée par «ET»), ils doivent TOUS DEUX être atteints si vous choisissez «1» comme réponse.\n \nHYPOTHÈSE CRITIQUE : \n    ·Étant donné que le SIS OT se réfère au développement d'une surveillance et d'un partage des données coordonnés, le fait de sélectionner «1» implique que le niveau de capacité a été atteint dans les secteurs «Une seule santé» qui sont concernés par cette activité. Dans le cas contraire, veuillez sélectionner «0»."]
[]
[]
[]
[]
[]
[]
[]
[null,null,null,null,null,null,null,null,null,null,null,null,null,null,null,null,null,null,null,null,null,null,null,null,null,null,null,null,null,null,null,null,null,null,null,null,1]
[null,null,null,null,null,null,null,null,null,null,null,null,null,null,null,null,null,null,null,null,null,null,null,null,null,null,null,null,null,null,null,null,null,null,null,null,0]
[]
[]
[]
[]
[]
[]
[null,"ÉTAPE",null,null,null,"ACTIVITÉ",null,null,null,null,"NIVEAU 1",null,null,null,null,null,null,null,null,"NIVEAU 2",null,null,null,null,null,null,null,null,"NIVEAU 3"]
[]
[]
[null,"Planification préalable",null,null,null,{"$f":"Activities!B2","v":"PP-1 Identification préliminaire des parties prenantes"},null,null,null,null,{"$f":"Activities!C2","v":"Des coordonnateurs, des «champions» ou des groupes de travail techniques ont été identifiés dans tous les secteurs participants au niveau national pour planifier la mise en œuvre de la surveillance coordonnée."},null,null,null,null,null,null,null,null,{"$f":"Activities!C3","v":"Des coordonnateurs, des «champions» ou des groupes de travail techniques ont été identifiés dans tous les secteurs participants et à tous les niveaux du pays pour planifier la mise en œuvre de la surveillance coordonnée."},null,null,null,null,null,null,null,null,{"$f":"Activities!C4","v":"Des coordonnateurs, des «champions» ou des groupes de travail techniques (y compris des coordonnateurs ou des «champions» identifiés) chargés de la surveillance coordonnée ont été institutionnalisés (par exemple, par le biais d'un organe directeur tel qu'un MCM)   "},null,null,null,null,null,null,"COMMENTAIRES: "]
[]
[]
[]
[]
[]
[null,null,null,null,null,null,null,null,null,null,null,null,null,null,null,null,null,"(dans l'affirmative)",null,null,null,null,null,null,null,null,"(dans l'affirmative)"]
[]
[]
[]
[]
[]
[]
[null,null,null,null,null,null,null,null,null,null,"RÉPONSE:",null,null,null,null,null,null,{"$f":"IF(O44=\"Yes\",1,0)","v":0},null,"RÉPONSE:",null,null,null,null,null,null,{"$f":"IF(X44=\"Yes\",1,0)","v":0},null,"RÉPONSE:"]

{"sheet":"Prioritization","index":11,"n_rows":44,"n_cols":37,"rows_kept":44,"cut":false,"hidden":false,"merged":[[2,1,4,33],[7,1,9,33],[11,1,24,33],[26,16,46,16],[27,1,28,3],[27,5,28,8],[27,10,28,15],[27,19,28,24],[27,28,28,33],[30,1,44,3],[45,13,46,15],[35,17,39,17],[34,26,39,26],[30,35,44,40],[30,5,44,8],[30,10,41,15],[30,19,41,24],[30,28,41,33],[42,14,42,15],[43,10,44,12],[43,14,44,15],[43,17,44,17],[43,19,44,21],[43,23,44,24],[43,26,44,26],[43,28,44,30],[43,32,44,33]]}
[]
[]
[null,"Priorisation"]
[]
[]
[]
[]
[null,"Veuillez indiquer si chaque activité ci-dessous est terminée («1») ou non terminée/en attente («0») sur la base du niveau de capacité actuel de votre pays."]
[]
[]
[]
[null,"NOTES IMPORTANTES:\n    ·Sélectionnez «1» si la capacité est atteinte et «0» si l'activité n'est pas terminée ou est en attente.\n    ·Si le niveau de capacité est atteint et que la réponse sélectionnée est «1», le niveau de capacité suivant correspondant à l'activité s'ouvre.\n    ·Si la capacité ne s'applique pas à votre situation, sélectionnez «0».\n    ·Si vous ne connaissez pas la réponse, sélectionnez «0».\n    ·Si le niveau de capacité comporte deux éléments (la phrase est reliée par «ET»), ils doivent TOUS DEUX être atteints si vous choisissez «1» comme réponse.\n \nHYPOTHÈSE CRITIQUE: \n    ·Étant donné que le SIS OT se réfère au développement d'une surveillance et d'un partage des données coordonnés, le fait de sélectionner «1» implique que le niveau de capacité a été atteint dans les secteurs «Une seule santé» qui sont concernés par cette activité. Dans le cas contraire, veuillez sélectionner «0»."]
[]
[]
[]
[]
[]
[]
[]
[null,null,null,null,null,null,null,null,null,null,null,null,null,null,null,null,null,null,null,null,null,null,null,null,null,null,null,null,null,null,null,null,null,null,null,null,1]
[null,null,null,null,null,null,null,null,null,null,null,null,null,null,null,null,null,null,null,null,null,null,null,null,null,null,null,null,null,null,null,null,null,null,null,null,0]
[]
[]
[]
[]
[null," "]
[]
[null,"ÉTAPE",null,null,null,"ACTIVITÉ",null,null,null,null,"NIVEAU 1",null,null,null,null,null,null,null,null,"NIVEAU 2",null,null,null,null,null,null,null,null,"NIVEAU 3"]
[]
[]
[null,"Planification préalable",null,null,null,{"$f":"Activities!B5","v":"PP-2 Priorisation"},null,null,null,null,{"$f":"Activities!C5","v":"Il existe une liste de zoonoses priorisées à intégrer dans un système de surveillance coordonné"},null,null,null,null,null,null,null,null,{"$f":"Activities!C6","v":"Une liste des zoonoses est largement diffusée aux niveaux infranational et communautaire"},null,null,null,null,null,null,null,null,{"$f":"Activities!C7","v":"Une liste des zoonoses est établie en utilisant une approche multisectorielle «Une seule santé». Une telle approche impliquerait tous les secteurs concernés dans un processus de priorisation fondé sur des preuves, transparent et reproductible"},null,null,null,null,null,null,"COMMENTAIRES:"]
[]
[]
[]
[null,null,null,null,null,null,null,null,null,null,null,null,null,null,null,null,null,null,null,null,null,null,null,null,null,null,"(dans l'affirmative)"]
[null,null,null,null,null,null,null,null,null,null,null,null,null,null,null,null,null,"(dans l'affirmative)"]
[]
[]
[]
[]
[]
[]
[]
[null,null,null,null,null,null,null,null,null,null,"RÉPONSE:",null,null,null,null,null,null,{"$f":"IF(O44=\"Yes\",1,0)","v":0},null,"RÉPONSE:",null,null,null,null,null,null,{"$f":"IF(X44=\"Yes\",1,0)","v":0},null,"RÉPONSE:"]

{"sheet":"Goal Setting","index":12,"n_rows":44,"n_cols":37,"rows_kept":44,"cut":false,"hidden":false,"merged":[[43,28,44,30],[43,32,44,33],[2,1,4,33],[7,1,9,33],[11,1,24,33],[26,16,46,16],[27,1,28,3],[27,5,28,8],[27,10,28,15],[27,19,28,24],[27,28,28,33],[30,1,44,3],[30,35,44,40],[45,13,46,15],[43,34,44,34],[30,5,44,8],[30,10,41,15],[30,19,41,24],[30,28,41,33],[36,17,37,17],[36,26,37,26],[42,14,42,15],[43,10,44,12],[43,14,44,15],[43,17,44,17],[43,19,44,21],[43,23,44,24],[43,26,44,26]]}
[]
[]
[null,"Établissement des objectifs"]
[]
[]
[]
[]
[null,"Veuillez indiquer si chaque activité ci-dessous est terminée («1») ou non terminée/en attente («0») sur la base du niveau de capacité actuel de votre pays."]
[]
[]
[]
[null,"NOTES IMPORTANTES:\n    ·Sélectionnez «1» si la capacité est atteinte et «0» si l'activité n'est pas terminée ou est en attente.\n    ·Si le niveau de capacité est atteint et que la réponse sélectionnée est «1», le niveau de capacité suivant correspondant à l'activité s'ouvre.\n    ·Si la capacité ne s'applique pas à votre situation, sélectionnez «0».\n    ·Si vous ne connaissez pas la réponse, sélectionnez «0».\n    ·Si le niveau de capacité comporte deux éléments (la phrase est reliée par «ET»), ils doivent TOUS DEUX être atteints si vous choisissez «1» comme réponse.\n \nHYPOTHÈSE CRITIQUE: \n    ·Étant donné que le SIS OT se réfère au développement d'une surveillance et d'un partage des données coordonnés, le fait de sélectionner «1» implique que le niveau de capacité a été atteint dans les secteurs «Une seule santé» qui sont concernés par cette activité. Dans le cas contraire, veuillez sélectionner «0». "]
[]
[]
[]
[]
[]
[]
[]
[null,null,null,null,null,null,null,null,null,null,null,null,null,null,null,null,null,null,null,null,null,null,null,null,null,null,null,null,null,null,null,null,null,null,null,null,1]
[null,null,null,null,null,null,null,null,null,null,null,null,null,null,null,null,null,null,null,null,null,null,null,null,null,null,null,null,null,null,null,null,null,null,null,null,0]
[]
[]
[]
[]
[]
[]
[null,"ÉTAPE",null,null,null,"ACTIVITÉ",null,null,null,null,"NIVEAU 1",null,null,null,null,null,null,null,null,"NIVEAU 2",null,null,null,null,null,null,null,null,"NIVEAU 3"]
[]
[]
[null,"Planification préalable",null,null,null,{"$f":"Activities!B8","v":"PP-3 Établissement des objectifs"},null,null,null,null,{"$f":"Activities!C8","v":"Les objectifs, les rôles et les responsabilités de tous les secteurs participant au système de surveillance coordonné sont accordés au niveau national"},null,null,null,null,null,null,null,null,{"$f":"Activities!C9","v":"Les objectifs, les rôles et les responsabilités de tous les secteurs participant au système de surveillance coordonné sont accordés et étendus à tous les niveaux du pays"},null,null,null,null,null,null,null,null,{"$f":"Activities!C10","v":"Les objectifs, les rôles et les responsabilités du système de surveillance coordonné ont été réévalués pour refléter les besoins réels du système de surveillance coordonné "},null,null,null,null,null,null,"COMMENTAIRES:"]
[]
[]
[]
[]
[]
[null,null,null,null,null,null,null,null,null,null,null,null,null,null,null,null,null,"(dans l'affirmative)",null,null,null,null,null,null,null,null,"(dans l'affirmative)"]
[]
[]
[]
[]
[]
[]
[null,null,null,null,null,null,null,null,null,null,"RÉPONSE:",null,null,null,null,null,null,{"$f":"IF(O44=\"Yes\",1,0)","v":0},null,"RÉPONSE:",null,null,null,null,null,null,{"$f":"IF(X44=\"Yes\",1,0)","v":0},null,"RÉPONSE:",null,null,null,null,null,{"$f":"IF(AG44=\"Yes\",1,0)","v":0}]

{"sheet":"Section II","index":13,"n_rows":49,"n_cols":2,"rows_kept":49,"cut":false,"hidden":false,"merged":[[2,1,5,30],[44,1,46,30],[48,1,56,30],[7,1,14,30],[16,1,18,30],[20,1,28,30],[30,1,32,30],[34,1,42,30]]}
[]
[]
[null,"SECTION II: ÉVALUATION, PLANIFICATION ET MISE EN ŒUVRE"]
[]
[]
[]
[]
[null,"Maintenant que vous avez terminé la section de planification préalable, l'objectif de cette section de l'outil est de vous présenter les trois étapes suivantes identifiées pour la mise en place d'une surveillance coordonnée: Évaluation, Planification et Mise en œuvre. \n\nCette section comprend huit catégories et vingt-neuf activités à évaluer."]
[]
[]
[]
[]
[]
[]
[]
[]
[null,"Présentation de l'évaluation"]
[]
[]
[]
[null,"L'étape d'évaluation comprend les activités mises en œuvre pour déterminer les besoins ou les lacunes existant entre la situation actuelle et la situation souhaitée en ce qui concerne le système SIS coordonné et son infrastructure, ou le système de surveillance de la santé et l'infrastructure de chaque secteur participant. Parmi ces activités figurent notamment la cartographie des parties prenantes, l'évaluation des plans stratégiques et opérationnels, l'évaluation des besoins économiques et la cartographie des infrastructures.\n\nLes ressources présentées dans cette section doivent être prises en considération par les personnes qui utilisent le SIS OT pour les aider dans la réalisation des activités de cette phase d'évaluation en vue de l'établissement ou du renforcement du système national de surveillance coordonné des zoonoses."]
[]
[]
[]
[]
[]
[]
[]
[]
[]
[null,"Présentation de la planification"]
[]
[]
[]
[null,"L'étape de planification comprend l'élaboration de descriptions opérationnelles ou concrètes des activités à mener séparément ou conjointement par les secteurs participants, ainsi que d'autres actions mises en œuvre pour préparer le développement ou le renforcement de la capacité de surveillance coordonnée. Parmi ces actions figurent la mise en place des cadres politiques et juridiques nécessaires, l'élaboration de plans de stratégie et de surveillance, l'élaboration de budgets et l'identification du financement nécessaire, ou encore la planification de communications coordonnées.  \n \nLes ressources présentées dans cette section doivent être prises en considération par les personnes qui utilisent le SIS OT pour les aider dans la réalisation des activités de cette phase de planification en vue de l'établissement ou du renforcement du système national de surveillance coordonné des zoonoses."]
[]
[]
[]
[]
[]
[]
[]
[]
[]
[null,"Présentation de la mise en œuvre"]
[]
[]
[]
[null,"L'étape de mise en œuvre comprend les activités qui doivent être exécutées séparément ou conjointement par les secteurs participants et les exigences qui doivent être satisfaites afin de mener à bien les plans et de développer le système SIS coordonné, notamment la définition de mesures de confidentialité et de sécurité des données, la mise en place de mécanismes d'échange et de stockage des données et la mobilisation des ressources financières. \n\nLes ressources présentées dans cette section doivent être prises en considération par les personnes qui utilisent le SIS OT pour les aider dans la réalisation des activités de cette phase de mise en œuvre en vue de l'établissement ou du renforcement du système national de surveillance coordonné des zoonoses. "]

{"sheet":"Stakeholders","index":14,"n_rows":88,"n_cols":37,"rows_kept":88,"cut":false,"hidden":false,"merged":[[71,28,72,33],[70,16,91,16],[74,1,88,3],[74,5,88,8],[74,10,85,15],[74,19,85,24],[74,28,85,33],[80,17,81,17],[87,28,88,30],[87,32,88,33],[80,26,81,26],[86,14,86,15],[87,14,88,15],[87,17,88,17],[87,19,88,21],[87,23,88,24],[71,1,72,3],[71,5,72,8],[71,10,72,15],[71,19,72,24],[87,26,88,26],[87,10,88,12],[65,19,66,21],[48,16,69,16],[65,28,66,30],[65,32,66,33],[52,28,63,33],[58,17,59,17],[58,26,59,26],[65,23,66,24],[65,26,66,26],[43,10,44,12],[43,14,44,15],[43,17,44,17],[52,1,66,3],[52,5,66,8],[52,10,63,15],[49,1,50,3],[49,5,50,8],[49,10,50,15],[64,14,64,15],[65,10,66,12],[65,14,66,15],[65,17,66,17],[2,1,4,33],[7,1,9,33],[11,1,24,33],[26,16,47,16],[27,1,28,3],[27,5,28,8],[27,10,28,15],[27,19,28,24],[27,28,28,33],[30,1,44,3],[43,26,44,26],[43,28,44,30],[43,32,44,33],[30,5,44,8],[30,10,41,15],[30,19,41,24],[30,35,44,40],[89,13,90,15],[52,35,66,40],[74,35,88,40],[45,13,46,15],[67,13,68,15],[43,34,44,34],[30,28,41,33],[36,17,37,17],[36,26,37,26],[42,14,42,15],[52,19,63,24],[43,19,44,21],[43,23,44,24],[49,19,50,24],[49,28,50,33]]}
[]
[]
[null,"Parties prenantes"]
[]
[]
[]
[]
[null,"Veuillez indiquer si chaque activité ci-dessous est terminée («1») ou non terminée/en attente («0») sur la base du niveau de capacité actuel de votre pays."]
[]
[]
[]
[null,"NOTES IMPORTANTES:\n    ·Sélectionnez «1» si la capacité est atteinte et «0» si l'activité n'est pas terminée ou est en attente.\n    ·Si le niveau de capacité est atteint et que la réponse sélectionnée est «1», le niveau de capacité suivant correspondant à l'activité s'ouvre.\n    ·Si la capacité ne s'applique pas à votre situation, sélectionnez «0».\n    ·Si vous ne connaissez pas la réponse, sélectionnez «0».\n    ·Si le niveau de capacité comporte deux éléments (la phrase est reliée par «ET»), ils doivent TOUS DEUX être atteints si vous choisissez «1» comme réponse.\n \nHYPOTHÈSE CRITIQUE: \n    ·Étant donné que le SIS OT se réfère au développement d'une surveillance et d'un partage des données coordonnés, le fait de sélectionner «1» implique que le niveau de capacité a été atteint dans les secteurs «Une seule santé» qui sont concernés par cette activité. Dans le cas contraire, veuillez sélectionner «0»."]
[]
[]
[]
[]
[]
[]
[]
[null,null,null,null,null,null,null,null,null,null,null,null,null,null,null,null,null,null,null,null,null,null,null,null,null,null,null,null,null,null,null,null,null,null,null,null,1]
[null,null,null,null,null,null,null,null,null,null,null,null,null,null,null,null,null,null,null,null,null,null,null,null,null,null,null,null,null,null,null,null,null,null,null,null,0]
[]
[]
[]
[]
[]
[]
[null,"ÉTAPE",null,null,null,"ACTIVITÉ",null,null,null,null,"NIVEAU 1",null,null,null,null,null,null,null,null,"NIVEAU 2",null,null,null,null,null,null,null,null,"NIVEAU 3"]
[]
[]
[null,"Évaluation",null,null,null,{"$f":"Activities!G2","v":"E-1 Cartographie des parties prenantes"},null,null,null,null,{"$f":"Activities!H2","v":"Des parties prenantes travaillant dans les domaines de la surveillance, de l'épidémiologie, des laboratoires et du partage d'informations ont été identifiées"},null,null,null,null,null,null,null,null,{"$f":"Activities!H3","v":"L'analyse des parties prenantes a été utilisée pour identifier les participants à tous les niveaux du pays "},null,null,null,null,null,null,null,null,{"$f":"Activities!H4","v":"Les rôles et responsabilités des parties prenantes ont été institutionnalisés et adoptés dans les politiques"},null,null,null,null,null,null,"COMMENTAIRES:"]
[]
[]
[]
[]
[]
[null,null,null,null,null,null,null,null,null,null,null,null,null,null,null,null,null,"(dans l'affirmative)",null,null,null,null,null,null,null,null,"(dans l'affirmative)"]
[]
[]
[]
[]
[]
[]
[null,null,null,null,null,null,null,null,null,null,"RÉPONSE:",null,null,null,null,null,null,{"$f":"IF(O44=\"Yes\",1,0)","v":0},null,"RÉPONSE:",null,null,null,null,null,null,{"$f":"IF(X44=\"Yes\",1,0)","v":0},null,"RÉPONSE:",null,null,null,null,null,{"$f":"IF(AG44=\"Yes\",1,0)","v":0}]
[]
[]
[]
[]
[]
[null,"ÉTAPE",null,null,null,"ACTIVITÉ",null,null,null,null,"NIVEAU 1",null,null,null,null,null,null,null,null,"NIVEAU 2",null,null,null,null,null,null,null,null,"NIVEAU 3"]
[]
[]
[null,"Planification",null,null,null,{"$f":"Activities!L2","v":"PL-1 Volonté politique"},null,null,null,null,{"$f":"Activities!M2","v":"Les décideurs pour le système de surveillance coordonné ont été identifiés"},null,null,null,null,null,null,null,null,{"$f":"Activities!M3","v":"Il existe une volonté politique de mettre en place un système de surveillance coordonné, ainsi que des défenseurs à tous les niveaux du pays"},null,null,null,null,null,null,null,null,{"$f":"Activities!M4","v":"Il existe une stratégie de promotion qui communique aux décideurs des informations sur le système de surveillance coordonné"},null,null,null,null,null,null,"COMMENTAIRES:"]
[]
[]
[]
[]
[]
[null,null,null,null,null,null,null,null,null,null,null,null,null,null,null,null,null,"(dans l'affirmative)",null,null,null,null,null,null,null,null,"(dans l'affirmative)"]
[]
[]
[]
[]
[]
[]
[null,null,null,null,null,null,null,null,null,null,"RÉPONSE:",null,null,null,null,null,null,{"$f":"IF(O66=\"Yes\",1,0)","v":0},null,"RÉPONSE:",null,null,null,null,null,null,{"$f":"IF(X66=\"Yes\",1,0)","v":0},null,"RÉPONSE:"]
[]
[]
[]
[]
[]
[null,"ÉTAPE",null,null,null,"ACTIVITÉ",null,null,null,null,"NIVEAU 1",null,null,null,null,null,null,null,null,"NIVEAU 2",null,null,null,null,null,null,null,null,"NIVEAU 3"]
[]
[]
[null,"Mise en œuvre",null,null,null,{"$f":"Activities!Q5","v":"ME-2 Mobilisation des ressources humaines et des parties prenantes"},null,null,null,null,{"$f":"Activities!R5","v":"Des coordonnateurs ou des groupes de travail techniques se réunissent de façon ad hoc"},null,null,null,null,null,null,null,null,{"$f":"Activities!R6","v":"Des coordonnateurs ou des groupes de travail techniques se réunissent régulièrement et abordent les questions prioritaires au fur et à mesure qu'elles se présentent"},null,null,null,null,null,null,null,null,{"$f":"Activities!R7","v":"Des groupes de travail techniques effectuent un examen régulier et optimisent les activités de surveillance coordonnées "},null,null,null,null,null,null,"COMMENTAIRES:"]
[]
[]
[]
[]
[]
[null,null,null,null,null,null,null,null,null,null,null,null,null,null,null,null,null,"(dans l'affirmative)",null,null,null,null,null,null,null,null,"(dans l'affirmative)"]
[]
[]
[]
[]
[]
[]
[null,null,null,null,null,null,null,null,null,null,"RÉPONSE:",null,null,null,null,null,null,{"$f":"IF(O88=\"Yes\",1,0)","v":0},null,"RÉPONSE:",null,null,null,null,null,null,{"$f":"IF(X88=\"Yes\",1,0)","v":0},null,"RÉPONSE:"]

{"sheet":"Plans & Organization","index":15,"n_rows":120,"n_cols":37,"rows_kept":120,"cut":false,"hidden":false,"merged":[[119,32,120,33],[97,32,98,33],[65,28,66,33],[65,1,66,3],[30,1,60,3],[84,5,98,8],[84,10,95,15],[84,19,95,24],[84,28,95,33],[90,17,91,17],[90,26,91,26],[96,14,96,15],[97,10,98,12],[59,19,60,21],[59,23,60,24],[59,26,60,26],[59,28,60,30],[59,32,60,33],[99,13,100,15],[68,1,98,3],[97,14,98,15],[97,17,98,17],[97,19,98,21],[97,23,98,24],[97,28,98,30],[46,5,60,8],[46,10,57,15],[46,19,57,24],[46,28,57,33],[52,17,53,17],[52,26,53,26],[58,14,58,15],[59,10,60,12],[59,14,60,15],[59,17,60,17],[65,5,66,8],[65,10,66,15],[65,19,66,24],[68,10,79,15],[68,19,79,24],[103,1,104,3],[103,5,104,8],[103,10,104,15],[103,19,104,24],[103,28,104,33],[106,1,120,3],[106,5,120,8],[68,28,79,33],[74,17,75,17],[74,26,75,26],[80,14,80,15],[81,10,82,12],[81,14,82,15],[81,17,82,17],[81,19,82,21],[81,23,82,24],[81,26,82,26],[119,28,120,30],[119,10,120,12],[119,14,120,15],[119,17,120,17],[119,19,120,21],[119,23,120,24],[68,5,82,8],[2,1,4,33],[7,1,9,33],[11,1,24,33],[26,16,45,16],[27,1,28,3],[27,5,28,8],[27,10,28,15],[27,19,28,24],[27,28,28,33],[30,5,44,8],[30,10,41,15],[30,19,41,24],[30,28,41,33],[36,17,37,17],[36,26,37,26],[42,14,42,15],[43,10,44,12],[43,14,44,15],[121,13,122,15],[106,35,120,40],[30,35,44,40],[46,35,60,40],[68,35,82,40],[84,35,98,40],[43,34,44,34],[119,26,120,26],[106,10,117,15],[106,19,117,24],[106,28,117,33],[112,17,113,17],[112,26,113,26],[118,14,118,15],[81,28,82,30],[81,32,82,33],[61,13,62,15],[43,19,44,21],[43,23,44,24],[43,26,44,26],[43,28,44,30],[43,32,44,33],[43,17,44,17],[97,26,98,26]]}
[]
[]
[null,"Plans et organisation"]
[]
[]
[]
[]
[null,"Veuillez indiquer si chaque activité ci-dessous est terminée («1») ou non terminée/en attente («0») sur la base du niveau de capacité actuel de votre pays."]
[]
[]
[]
[null,"NOTES IMPORTANTES:\n    ·Sélectionnez «1» si la capacité est atteinte et «0» si l'activité n'est pas terminée ou est en attente.\n    ·Si le niveau de capacité est atteint et que la réponse sélectionnée est «1», le niveau de capacité suivant correspondant à l'activité s'ouvre.\n    ·Si la capacité ne s'applique pas à votre situation, sélectionnez «0».\n    ·Si vous ne connaissez pas la réponse, sélectionnez «0».\n    ·Si le niveau de capacité comporte deux éléments (la phrase est reliée par «ET»), ils doivent TOUS DEUX être atteints si vous choisissez «1» comme réponse.\n \nHYPOTHÈSE CRITIQUE: \n    ·Étant donné que le SIS OT se réfère au développement d'une surveillance et d'un partage des données coordonnés, le fait de sélectionner «1» implique que le niveau de capacité a été atteint dans les secteurs «Une seule santé» qui sont concernés par cette activité. Dans le cas contraire, veuillez sélectionner «0»."]
[]
[]
[]
[]
[]
[]
[]
[null,null,null,null,null,null,null,null,null,null,null,null,null,null,null,null,null,null,null,null,null,null,null,null,null,null,null,null,null,null,null,null,null,null,null,null,1]
[null,null,null,null,null,null,null,null,null,null,null,null,null,null,null,null,null,null,null,null,null,null,null,null,null,null,null,null,null,null,null,null,null,null,null,null,0]
[]
[]
[]
[]
[]
[]
[null,"ÉTAPE",null,null,null,"ACTIVITÉ",null,null,null,null,"NIVEAU 1",null,null,null,null,null,null,null,null,"NIVEAU 2",null,null,null,null,null,null,null,null,"NIVEAU 3"]
[]
[]
[null,"Évaluation",null,null,null,{"$f":"Activities!G5","v":"E-2 Évaluation des connexions entre les systèmes de surveillance"},null,null,null,null,{"$f":"Activities!H5","v":"Les interconnexions entre les systèmes de surveillance des zoonoses actuellement priorisées ont été évaluées entre les secteurs"},null,null,null,null,null,null,null,null,{"$f":"Activities!H6","v":"Les interconnexions entre les systèmes de surveillance actuels ont été évaluées parmi les secteurs et à tous les niveaux du pays"},null,null,null,null,null,null,null,null,{"$f":"Activities!H7","v":"Les interconnexions entre les systèmes de surveillance coordonnés ont été évaluées et sont considérées comme étant conformes aux objectifs du système de surveillance coordonné"},null,null,null,null,null,null,"COMMENTAIRES:"]
[]
[]
[]
[]
[]
[null,null,null,null,null,null,null,null,null,null,null,null,null,null,null,null,null,"(dans l'affirmative)",null,null,null,null,null,null,null,null,"(dans l'affirmative)"]
[]
[]
[]
[]
[]
[]
[null,null,null,null,null,null,null,null,null,null,"RÉPONSE:",null,null,null,null,null,null,{"$f":"IF(O44=\"Yes\",1,0)","v":0},null,"RÉPONSE:",null,null,null,null,null,null,{"$f":"IF(X44=\"Yes\",1,0)","v":0},null,"RÉPONSE:",null,null,null,null,null,{"$f":"IF(AG44=\"Yes\",1,0)","v":0}]
[]
[]
[null,null,null,null,null,{"$f":"Activities!G16","v":"E-4 Cartographie des infrastructures"},null,null,null,null,{"$f":"Activities!H16","v":"Des exercices basiques de cartographie des infrastructures (telle que définie au point 4.1 du GTZ) ont été utilisés pour décrire la structure et les connexions sectorielles et intersectorielles "},null,null,null,null,null,null,null,null,{"$f":"Activities!H17","v":"La cartographie des infrastructures (telle que décrite au point 4.1 du GTZ) a été utilisée pour décrire la plupart des domaines à cartographier"},null,null,null,null,null,null,null,null,{"$f":"Activities!H18","v":"La cartographie complète des infrastructures (telle que décrite au point 4.1 du GTZ) a été utilisée pour décrire la totalité des domaines à cartographier."},null,null,null,null,null,null,"COMMENTAIRES:"]
[]
[]
[]
[]
[]
[null,null,null,null,null,null,null,null,null,null,null,null,null,null,null,null,null,"(dans l'affirmative)",null,null,null,null,null,null,null,null,"(dans l'affirmative)"]
[]
[]
[]
[]
[]
[]
[null,null,null,null,null,null,null,null,null,null,"RÉPONSE:",null,null,null,null,null,null,{"$f":"IF(O60=\"Yes\",1,0)","v":0},null,"RÉPONSE:",null,null,null,null,null,null,{"$f":"IF(X60=\"Yes\",1,0)","v":0},null,"RÉPONSE:"]
[]
[]
[]
[]
[]
[null,"ÉTAPE",null,null,null,"ACTIVITÉ",null,null,null,null,"NIVEAU 1",null,null,null,null,null,null,null,null,"NIVEAU 2",null,null,null,null,null,null,null,null,"NIVEAU 3"]
[]
[]
[null,"Planification",null,null,null,{"$f":"Activities!L8","v":"PL-3 Cadres et plans stratégiques pour une surveillance coordonnée"},null,null,null,null,{"$f":"Activities!M8","v":"Une collecte et un examen multisectoriels des documents stratégiques nationaux (stratégies, cadres et plans stratégiques) liés au système de surveillance coordonné ont été effectués à des fins de planification"},null,null,null,null,null,null,null,null,{"$f":"Activities!M9","v":"Les documents stratégiques nationaux (stratégies, cadres et plans stratégiques) du système de surveillance coordonné ont été consolidés et interconnectés sur la base d'une évaluation à tous les niveaux du pays"},null,null,null,null,null,null,null,null,{"$f":"Activities!M10","v":"Les documents stratégiques (stratégies, cadres et plans stratégiques) révisés du système de surveillance coordonné ont été alignés sur les recommandations et les normes internationales."},null,null,null,null,null,null,"COMMENTAIRES:"]
[]
[]
[]
[]
[]
[null,null,null,null,null,null,null,null,null,null,null,null,null,null,null,null,null,"(dans l'affirmative)",null,null,null,null,null,null,null,null,"(dans l'affirmative)"]
[]
[]
[]
[]
[]
[]
[null,null,null,null,null,null,null,null,null,null,"RÉPONSE:",null,null,null,null,null,null,{"$f":"IF(O82=\"Yes\",1,0)","v":0},null,"RÉPONSE:",null,null,null,null,null,null,{"$f":"IF(X82=\"Yes\",1,0)","v":0},null,"RÉPONSE:"]
[]
[]
[null,null,null,null,null,{"$f":"Activities!L11","v":"PL-4 Plans opérationnels au niveau national "},null,null,null,null,{"$f":"Activities!M11","v":"Une collecte et un examen multisectoriels des plans opérationnels et autres documents importants (y compris des plans de surveillance, des définitions de cas, des protocoles et des procédures opérationnelles standard) liés au système de surveillance coordonné ont été effectués à des fins de planification\n"},null,null,null,null,null,null,null,null,{"$f":"Activities!M12","v":"Les plans opérationnels et autres documents importants (y compris des plans de surveillance, des définitions de cas, des protocoles et des procédures opérationnelles standard) révisés liés au système de surveillance coordonné et de partage d'informations ont été approuvés par les organisations chargées de la surveillance à tous les niveaux du pays\n"},null,null,null,null,null,null,null,null,{"$f":"Activities!M13","v":"Les plans opérationnels (y compris les plans de surveillance, les définitions de cas, les protocoles et les procédures opérationnelles standard) révisés pour le système de surveillance coordonné sont alignés sur les directives et recommandations internationales.\n"},null,null,null,null,null,null,"COMMENTAIRES:"]
[]
[]
[]
[]
[]
[null,null,null,null,null,null,null,null,null,null,null,null,null,null,null,null,null,"(dans l'affirmative)",null,null,null,null,null,null,null,null,"(dans l'affirmative)"]
[]
[]
[]
[]
[]
[]
[null,null,null,null,null,null,null,null,null,null,"RÉPONSE:",null,null,null,null,null,null,{"$f":"IF(O98=\"Yes\",1,0)","v":0},null,"RÉPONSE:",null,null,null,null,null,null,{"$f":"IF(X98=\"Yes\",1,0)","v":0},null,"RÉPONSE:"]
[]
[]
[]
[]
[]
[null,"ÉTAPE",null,null,null,"ACTIVITÉ",null,null,null,null,"NIVEAU 1",null,null,null,null,null,null,null,null,"NIVEAU 2",null,null,null,null,null,null,null,null,"NIVEAU 3"]
[]
[]
[null,"Mise en œuvre",null,null,null,{"$f":"Activities!Q17","v":"I-6 Mise en œuvre de systèmes de surveillance coordonnés"},null,null,null,null,{"$f":"Activities!R17","v":"Le système de surveillance coordonné fait l'objet d'un projet pilote dans des zones ciblées"},null,null,null,null,null,null,null,null,{"$f":"Activities!R18","v":"Le système de surveillance coordonné a été étendu à d'autres domaines sur la base de mises en œuvre pilotes"},null,null,null,null,null,null,null,null,{"$f":"Activities!R19","v":"Le système de surveillance coordonné est un programme à l'échelon national"},null,null,null,null,null,null,"COMMENTAIRES:"]
[]
[]
[]
[]
[]
[null,null,null,null,null,null,null,null,null,null,null,null,null,null,null,null,null,"(dans l'affirmative)",null,null,null,null,null,null,null,null,"(dans l'affirmative)"]
[]
[]
[]
[]
[]
[]
[null,null,null,null,null,null,null,null,null,null,"RÉPONSE:",null,null,null,null,null,null,{"$f":"IF(O120=\"Yes\",1,0)","v":0},null,"RÉPONSE:",null,null,null,null,null,null,{"$f":"IF(X120=\"Yes\",1,0)","v":0},null,"RÉPONSE:"]

{"sheet":"Policy & Legal","index":16,"n_rows":66,"n_cols":37,"rows_kept":66,"cut":false,"hidden":false,"merged":[[67,16,69,16],[52,28,63,33],[58,17,59,17],[58,26,59,26],[65,23,66,24],[65,26,66,26],[49,28,50,33],[64,14,64,15],[65,10,66,12],[65,14,66,15],[65,17,66,17],[65,19,66,21],[48,16,66,16],[65,28,66,30],[65,32,66,33],[52,1,66,3],[52,5,66,8],[52,10,63,15],[52,19,63,24],[43,26,44,26],[49,1,50,3],[49,5,50,8],[49,10,50,15],[49,19,50,24],[30,28,41,33],[36,26,37,26],[42,14,42,15],[43,10,44,12],[43,14,44,15],[34,20,35,23],[43,28,44,30],[43,32,44,33],[67,13,68,15],[30,35,44,40],[52,35,66,40],[2,1,4,33],[7,1,9,33],[11,1,24,33],[26,16,47,16],[27,1,28,3],[27,5,28,8],[27,10,28,15],[27,28,28,33],[30,1,44,3],[45,13,46,15],[43,34,44,34],[30,5,44,8],[30,10,41,15]]}
[]
[]
[null,"Aspects réglementaires et juridiques"]
[]
[]
[]
[]
[null,"Veuillez indiquer si chaque activité ci-dessous est terminée («1») ou non terminée/en attente («0») sur la base du niveau de capacité actuel de votre pays."]
[]
[]
[]
[null,"NOTES IMPORTANTES:\n    ·Sélectionnez «1» si la capacité est atteinte et «0» si l'activité n'est pas terminée ou est en attente.\n    ·Si le niveau de capacité est atteint et que la réponse sélectionnée est «1», le niveau de capacité suivant correspondant à l'activité s'ouvre.\n    ·Si la capacité ne s'applique pas à votre situation, sélectionnez «0».\n    ·Si vous ne connaissez pas la réponse, sélectionnez «0».\n    ·Si le niveau de capacité comporte deux éléments (la phrase est reliée par «ET»), ils doivent TOUS DEUX être atteints si vous choisissez «1» comme réponse.\n \nHYPOTHÈSE CRITIQUE: \n    ·Étant donné que le SIS OT se réfère au développement d'une surveillance et d'un partage des données coordonnés, le fait de sélectionner «1» implique que le niveau de capacité a été atteint dans les secteurs «Une seule santé» qui sont concernés par cette activité. Dans le cas contraire, veuillez sélectionner «0»."]
[]
[]
[]
[]
[]
[]
[]
[null,null,null,null,null,null,null,null,null,null,null,null,null,null,null,null,null,null,null,null,null,null,null,null,null,null,null,null,null,null,null,null,null,null,null,null,1]
[null,null,null,null,null,null,null,null,null,null,null,null,null,null,null,null,null,null,null,null,null,null,null,null,null,null,null,null,null,null,null,null,null,null,null,null,0]
[]
[]
[]
[]
[]
[]
[null,"ÉTAPE",null,null,null,"ACTIVITÉ",null,null,null,null,"NIVEAU 1",null,null,null,null,null,null,null,null,null,null,null,null,null,null,null,null,null,"NIVEAU 3"]
[]
[]
[null,"Évaluation",null,null,null,{"$f":"Activities!G8","v":"E-3 Évaluation des cadres juridiques"},null,null,null,null,{"$f":"Activities!H8","v":"Les cadres juridiques (règles, politiques, directives et réglementations, y compris les normes internationales) qui régissent les normes d'éthique et de confidentialité en matière de surveillance et de partage des données ont été évalués"},null,null,null,null,null,null,null,null,null,null,null,null,null,null,null,null,null,{"$f":"Activities!H9","v":"Les cadres juridiques (règles, politiques, directives et réglementations, y compris les normes internationales) qui régissent les normes d'éthique et de confidentialité en matière de surveillance et de partage des données sont évalués à tous les niveaux du pays "},null,null,null,null,null,null,"COMMENTAIRES:"]
[]
[]
[]
[null,null,null,null,null,null,null,null,null,null,null,null,null,null,null,null,null,null,null,null,"(dans l'affirmative)"]
[]
[]
[]
[]
[]
[]
[]
[]
[null,null,null,null,null,null,null,null,null,null,"RÉPONSE:",null,null,null,null,null,null,null,null,null,null,null,null,null,null,null,{"$f":"IF(X44=\"Yes\",1,0)","v":0},null,"RÉPONSE:",null,null,null,null,null,{"$f":"IF(AG44=\"Yes\",1,0)","v":0}]
[]
[]
[]
[]
[]
[null,"ÉTAPE",null,null,null,"ACTIVITÉ",null,null,null,null,"NIVEAU 1",null,null,null,null,null,null,null,null,"NIVEAU 2",null,null,null,null,null,null,null,null,"NIVEAU 3"]
[]
[]
[null,"Planification",null,null,null,{"$f":"Activities!L20","v":"PL-7 Planification des cadres juridiques"},null,null,null,null,{"$f":"Activities!M20","v":"Les cadres juridiques nécessaires (règles, politiques, directives et réglementations, y compris les normes internationales) ont été normalisés entre les différents secteurs sur la base d'une évaluation au niveau national"},null,null,null,null,null,null,null,null,{"$f":"Activities!M21","v":"Les cadres juridiques nécessaires (règles, politiques, directives et réglementations, y compris les normes internationales) ont été normalisés entre les différents secteurs sur la base d'une évaluation à tous les niveaux du pays"},null,null,null,null,null,null,null,null,{"$f":"Activities!M22","v":"Les cadres juridiques révisés du système de surveillance coordonné ont été alignés sur les recommandations et les normes internationales. "},null,null,null,null,null,null,"COMMENTAIRES:"]
[]
[]
[]
[]
[]
[null,null,null,null,null,null,null,null,null,null,null,null,null,null,null,null,null,"(dans l'affirmative)",null,null,null,null,null,null,null,null,"(dans l'affirmative)"]
[]
[]
[]
[]
[]
[]
[null,null,null,null,null,null,null,null,null,null,"RÉPONSE:",null,null,null,null,null,null,{"$f":"IF(O66=\"Yes\",1,0)","v":0},null,"RÉPONSE:",null,null,null,null,null,null,{"$f":"IF(X66=\"Yes\",1,0)","v":0},null,"RÉPONSE:"]

{"sheet":"Budgets & Finances","index":17,"n_rows":88,"n_cols":37,"rows_kept":88,"cut":false,"hidden":false,"merged":[[2,1,4,33],[7,1,9,33],[11,1,24,33],[26,16,47,16],[27,1,28,3],[27,5,28,8],[27,10,28,15],[27,28,28,33],[30,1,44,3],[30,5,44,8],[30,10,41,15],[30,28,41,33],[34,20,35,23],[36,26,37,26],[42,14,42,15],[45,13,46,15],[43,34,44,34],[48,16,66,16],[49,1,50,3],[49,5,50,8],[49,10,50,15],[49,19,50,24],[49,28,50,33],[52,1,66,3],[52,5,66,8],[52,10,63,15],[43,10,44,12],[43,14,44,15],[43,26,44,26],[43,28,44,30],[43,32,44,33],[65,10,66,12],[71,1,72,3],[71,5,72,8],[71,10,72,15],[71,19,72,24],[65,14,66,15],[65,17,66,17],[65,19,66,21],[65,23,66,24],[67,13,68,15],[74,1,88,3],[74,5,88,8],[74,10,85,15],[74,19,85,24],[74,28,85,33],[80,17,81,17],[80,26,81,26],[86,14,86,15],[87,10,88,12],[87,14,88,15],[87,17,88,17],[87,19,88,21],[87,23,88,24],[87,26,88,26],[87,28,88,30],[89,13,90,15],[30,35,44,40],[52,35,66,40],[74,35,88,40],[89,16,91,16],[70,16,88,16],[87,32,88,33],[52,28,63,33],[58,17,59,17],[58,26,59,26],[71,28,72,33],[65,26,66,26],[65,28,66,30],[65,32,66,33],[52,19,63,24],[64,14,64,15]]}
[]
[]
[null,"Budgets et finances"]
[]
[]
[]
[]
[null,"Veuillez indiquer si chaque activité ci-dessous est terminée («1») ou non terminée/en attente («0») sur la base du niveau de capacité actuel de votre pays."]
[]
[]
[]
[null,"NOTES IMPORTANTES:\n    ·Sélectionnez «1» si la capacité est atteinte et «0» si l'activité n'est pas terminée ou est en attente.\n    ·Si le niveau de capacité est atteint et que la réponse sélectionnée est «1», le niveau de capacité suivant correspondant à l'activité s'ouvre.\n    ·Si la capacité ne s'applique pas à votre situation, sélectionnez «0».\n    ·Si vous ne connaissez pas la réponse, sélectionnez «0».\n    ·Si le niveau de capacité comporte deux éléments (la phrase est reliée par «ET»), ils doivent TOUS DEUX être atteints si vous choisissez «1» comme réponse.\n \nHYPOTHÈSE CRITIQUE: \n    ·Étant donné que le SIS OT se réfère au développement d'une surveillance et d'un partage des données coordonnés, le fait de sélectionner «1» implique que le niveau de capacité a été atteint dans les secteurs «Une seule santé» qui sont concernés par cette activité. Dans le cas contraire, veuillez sélectionner «0»."]
[]
[]
[]
[]
[]
[]
[]
[null,null,null,null,null,null,null,null,null,null,null,null,null,null,null,null,null,null,null,null,null,null,null,null,null,null,null,null,null,null,null,null,null,null,null,null,1]
[null,null,null,null,null,null,null,null,null,null,null,null,null,null,null,null,null,null,null,null,null,null,null,null,null,null,null,null,null,null,null,null,null,null,null,null,0]
[]
[]
[]
[]
[]
[]
[null,"ÉTAPE",null,null,null,"ACTIVITÉ",null,null,null,null,"NIVEAU 1",null,null,null,null,null,null,null,null,null,null,null,null,null,null,null,null,null,"NIVEAU 3"]
[]
[]
[null,"Évaluation",null,null,null,{"$f":"Activities!G19","v":"E-5 Évaluation des besoins économiques"},null,null,null,null,{"$f":"Activities!H19","v":"Des évaluations économiques ont été utilisées pour déterminer les besoins financiers nationaux du système de surveillance coordonné "},null,null,null,null,null,null,null,null,null,null,null,null,null,null,null,null,null,{"$f":"Activities!H20","v":"Des évaluations économiques ont été utilisées pour déterminer les besoins financiers à tous les niveaux du pays du système de surveillance coordonné "},null,null,null,null,null,null,"COMMENTAIRES:"]
[]
[]
[]
[null,null,null,null,null,null,null,null,null,null,null,null,null,null,null,null,null,null,null,null,"(dans l'affirmative)"]
[]
[]
[]
[]
[]
[]
[]
[]
[null,null,null,null,null,null,null,null,null,null,"RÉPONSE:",null,null,null,null,null,null,null,null,null,null,null,null,null,null,null,{"$f":"IF(X44=\"Yes\",1,0)","v":0},null,"RÉPONSE:",null,null,null,null,null,{"$f":"IF(AG44=\"Yes\",1,0)","v":0}]
[]
[]
[]
[]
[]
[null,"ÉTAPE",null,null,null,"ACTIVITÉ",null,null,null,null,"NIVEAU 1",null,null,null,null,null,null,null,null,"NIVEAU 2",null,null,null,null,null,null,null,null,"NIVEAU 3"]
[]
[]
[null,"Planification",null,null,null,{"$f":"Activities!L14","v":"PL-5 Planification financière"},null,null,null,null,{"$f":"Activities!M14","v":"Il existe un plan budgétaire et un mécanisme de distribution des fonds destinés à la surveillance coordonnée au niveau national"},null,null,null,null,null,null,null,null,{"$f":"Activities!M15","v":"Il existe un plan budgétaire et un mécanisme de distribution des fonds destinés à la surveillance coordonnée à tous les niveaux du pays"},null,null,null,null,null,null,null,null,{"$f":"Activities!M16","v":"Le plan budgétaire et un mécanisme de distribution des fonds ont été évalués et considérés comme étant conformes aux objectifs du système de surveillance coordonné. "},null,null,null,null,null,null,"COMMENTAIRES:"]
[]
[]
[]
[]
[]
[null,null,null,null,null,null,null,null,null,null,null,null,null,null,null,null,null,"(dans l'affirmative)",null,null,null,null,null,null,null,null,"(dans l'affirmative)"]
[]
[]
[]
[]
[]
[]
[null,null,null,null,null,null,null,null,null,null,"RÉPONSE:",null,null,null,null,null,null,{"$f":"IF(O66=\"Yes\",1,0)","v":0},null,"RÉPONSE:",null,null,null,null,null,null,{"$f":"IF(X66=\"Yes\",1,0)","v":0},null,"RÉPONSE:"]
[]
[]
[]
[]
[]
[null,"ÉTAPE",null,null,null,"ACTIVITÉ",null,null,null,null,"NIVEAU 1",null,null,null,null,null,null,null,null,"NIVEAU 2",null,null,null,null,null,null,null,null,"NIVEAU 3"]
[]
[]
[null,"Mise en œuvre",null,null,null,{"$f":"Activities!Q2","v":"ME-1 Mobilisation des ressources financières"},null,null,null,null,{"$f":"Activities!R2","v":"Il existe un financement destiné à la surveillance coordonnée au niveau national"},null,null,null,null,null,null,null,null,{"$f":"Activities!R3","v":"Il existe un financement destiné à la surveillance coordonnée à tous les niveaux du pays"},null,null,null,null,null,null,null,null,{"$f":"Activities!R4","v":"Un financement durable (c'est-à-dire intégré au budget national) est alloué aux activités de surveillance coordonnées, et a été évalué et considéré comme étant conforme aux objectifs du système de surveillance coordonné"},null,null,null,null,null,null,"COMMENTAIRES:"]
[]
[]
[]
[]
[]
[null,null,null,null,null,null,null,null,null,null,null,null,null,null,null,null,null,"(dans l'affirmative)",null,null,null,null,null,null,null,null,"(dans l'affirmative)"]
[]
[]
[]
[]
[]
[]
[null,null,null,null,null,null,null,null,null,null,"RÉPONSE:",null,null,null,null,null,null,{"$f":"IF(O88=\"Yes\",1,0)","v":0},null,"RÉPONSE:",null,null,null,null,null,null,{"$f":"IF(X88=\"Yes\",1,0)","v":0},null,"RÉPONSE:"]

{"sheet":"Workforce","index":18,"n_rows":66,"n_cols":37,"rows_kept":66,"cut":false,"hidden":false,"merged":[[2,1,4,33],[7,1,9,33],[11,1,24,33],[26,16,47,16],[27,1,28,3],[27,5,28,8],[27,10,28,15],[27,28,28,33],[30,1,44,3],[30,5,44,8],[30,10,41,15],[30,28,41,33],[34,20,35,23],[36,26,37,26],[42,14,42,15],[45,13,46,15],[52,1,66,3],[52,5,66,8],[52,10,63,15],[43,10,44,12],[43,14,44,15],[64,14,64,15],[49,1,50,3],[49,5,50,8],[49,10,50,15],[49,28,50,33],[65,10,66,12],[65,14,66,15],[65,17,66,17],[65,19,66,21],[65,26,66,26],[48,16,66,16],[67,13,68,15],[30,35,44,40],[52,35,66,40],[65,28,66,30],[65,32,66,33],[67,16,69,16],[52,19,63,24],[52,28,63,33],[58,17,59,17],[58,26,59,26],[65,23,66,24],[43,34,44,34],[43,26,44,26],[43,28,44,30],[43,32,44,33],[49,19,50,24]]}
[]
[]
[null,"Ressources humaines"]
[]
[]
[]
[]
[null,"Veuillez indiquer si chaque activité ci-dessous est terminée («1») ou non terminée/en attente («0») sur la base du niveau de capacité actuel de votre pays."]
[]
[]
[]
[null,"NOTES IMPORTANTES:\n    ·Sélectionnez «1» si la capacité est atteinte et «0» si l'activité n'est pas terminée ou est en attente.\n    ·Si le niveau de capacité est atteint et que la réponse sélectionnée est «1», le niveau de capacité suivant correspondant à l'activité s'ouvre.\n    ·Si la capacité ne s'applique pas à votre situation, sélectionnez «0».\n    ·Si vous ne connaissez pas la réponse, sélectionnez «0».\n    ·Si le niveau de capacité comporte deux éléments (la phrase est reliée par «ET»), ils doivent TOUS DEUX être atteints si vous choisissez «1» comme réponse.\n \nHYPOTHÈSE CRITIQUE: \n    ·Étant donné que le SIS OT se réfère au développement d'une surveillance et d'un partage des données coordonnés, le fait de sélectionner «1» implique que le niveau de capacité a été atteint dans les secteurs «Une seule santé» qui sont concernés par cette activité. Dans le cas contraire, veuillez sélectionner «0». "]
[]
[]
[]
[]
[]
[]
[]
[null,null,null,null,null,null,null,null,null,null,null,null,null,null,null,null,null,null,null,null,null,null,null,null,null,null,null,null,null,null,null,null,null,null,null,null,1]
[null,null,null,null,null,null,null,null,null,null,null,null,null,null,null,null,null,null,null,null,null,null,null,null,null,null,null,null,null,null,null,null,null,null,null,null,0]
[]
[]
[]
[]
[]
[]
[null,"ÉTAPE",null,null,null,"ACTIVITÉ",null,null,null,null,"NIVEAU 1",null,null,null,null,null,null,null,null,null,null,null,null,null,null,null,null,null,"NIVEAU 3"]
[]
[]
[null,"Évaluation",null,null,null,{"$f":"Activities!G27","v":"E-8 Évaluation des ressources humaines"},null,null,null,null,{"$f":"Activities!H27","v":"Des évaluations ont été réalisées pour identifier les exigences, les compétences, les besoins et les lacunes au niveau national en matière de ressources humaines"},null,null,null,null,null,null,null,null,null,null,null,null,null,null,null,null,null,{"$f":"Activities!H28","v":" Des évaluations ont été réalisées pour identifier les exigences, les compétences, les besoins et les lacunes à tous les niveaux du pays en matière de ressources humaines"},null,null,null,null,null,null,"COMMENTAIRES:"]
[]
[]
[]
[null,null,null,null,null,null,null,null,null,null,null,null,null,null,null,null,null,null,null,null,"(dans l'affirmative)"]
[]
[]
[]
[]
[]
[]
[]
[]
[null,null,null,null,null,null,null,null,null,null,"RÉPONSE:",null,null,null,null,null,null,null,null,null,null,null,null,null,null,null,{"$f":"IF(X44=\"Yes\",1,0)","v":0},null,"RÉPONSE:",null,null,null,null,null,{"$f":"IF(AG44=\"Yes\",1,0)","v":0}]
[]
[]
[]
[]
[]
[null,"ÉTAPE",null,null,null,"ACTIVITÉ",null,null,null,null,"NIVEAU 1",null,null,null,null,null,null,null,null,"NIVEAU 2",null,null,null,null,null,null,null,null,"NIVEAU 3"]
[]
[]
[null,"Planification",null,null,null,{"$f":"Activities!L17","v":"PL-6 Planification des ressources humaines"},null,null,null,null,{"$f":"Activities!M17","v":"Il existe un plan d'éducation et de formation pour le système de surveillance coordonné, basé sur l'évaluation des ressources humaines au niveau national"},null,null,null,null,null,null,null,null,{"$f":"Activities!M18","v":"Il existe un plan d'éducation et de formation pour le système de surveillance coordonné, basé sur l'évaluation des ressources humaines à tous les niveaux du pays"},null,null,null,null,null,null,null,null,{"$f":"Activities!M19","v":"L'éducation et la formation de la main-d'œuvre sont liées à la planification multisectorielle nationale des ressources humaines et s'appuient sur les compétences et les évaluations internationales.\n"},null,null,null,null,null,null,"COMMENTAIRES:"]
[]
[]
[]
[]
[]
[null,null,null,null,null,null,null,null,null,null,null,null,null,null,null,null,null,"(dans l'affirmative)",null,null,null,null,null,null,null,null,"(dans l'affirmative)"]
[]
[]
[]
[]
[]
[]
[null,null,null,null,null,null,null,null,null,null,"RÉPONSE:",null,null,null,null,null,null,{"$f":"IF(O66=\"Yes\",1,0)","v":0},null,"RÉPONSE:",null,null,null,null,null,null,{"$f":"IF(X66=\"Yes\",1,0)","v":0},null,"RÉPONSE:"]

{"sheet":"Laboratory","index":19,"n_rows":62,"n_cols":37,"rows_kept":62,"cut":false,"hidden":false,"merged":[[2,1,4,33],[7,1,9,33],[11,1,24,33],[26,16,45,16],[27,1,28,3],[27,5,28,8],[27,10,28,15],[27,19,28,24],[27,28,28,33],[30,1,62,3],[48,5,62,8],[48,10,59,15],[48,19,59,24],[48,28,59,33],[54,17,55,17],[54,26,55,26],[30,5,44,8],[30,10,41,15],[30,19,41,24],[30,28,41,33],[36,17,37,17],[36,26,37,26],[42,14,42,15],[43,10,44,12],[43,14,44,15],[43,17,44,17],[43,19,44,21],[43,23,44,24],[43,26,44,26],[43,28,44,30],[43,32,44,33],[61,10,62,12],[61,32,62,33],[61,14,62,15],[61,17,62,17],[61,19,62,21],[61,23,62,24],[61,26,62,26],[61,28,62,30],[45,13,46,15],[63,13,64,15],[30,35,44,40],[48,35,62,40],[60,14,60,15],[43,34,44,34]]}
[]
[]
[null,"Laboratoire"]
[]
[]
[]
[]
[null,"Veuillez indiquer si chaque activité ci-dessous est terminée («1») ou non terminée/en attente («0») sur la base du niveau de capacité actuel de votre pays."]
[]
[]
[]
[null,"NOTES IMPORTANTES:\n    ·Sélectionnez «1» si la capacité est atteinte et «0» si l'activité n'est pas terminée ou est en attente.\n    ·Si le niveau de capacité est atteint et que la réponse sélectionnée est «1», le niveau de capacité suivant correspondant à l'activité s'ouvre.\n    ·Si la capacité ne s'applique pas à votre situation, sélectionnez «0».\n    ·Si vous ne connaissez pas la réponse, sélectionnez «0».\n    ·Si le niveau de capacité comporte deux éléments (la phrase est reliée par «ET»), ils doivent TOUS DEUX être atteints si vous choisissez «1» comme réponse.\n \nHYPOTHÈSE CRITIQUE: \n    ·Étant donné que le SIS OT se réfère au développement d'une surveillance et d'un partage des données coordonnés, le fait de sélectionner «1» implique que le niveau de capacité a été atteint dans les secteurs «Une seule santé» qui sont concernés par cette activité. Dans le cas contraire, veuillez sélectionner «0»."]
[]
[]
[]
[]
[]
[]
[]
[null,null,null,null,null,null,null,null,null,null,null,null,null,null,null,null,null,null,null,null,null,null,null,null,null,null,null,null,null,null,null,null,null,null,null,null,1]
[null,null,null,null,null,null,null,null,null,null,null,null,null,null,null,null,null,null,null,null,null,null,null,null,null,null,null,null,null,null,null,null,null,null,null,null,0]
[]
[]
[]
[]
[]
[]
[null,"ÉTAPE",null,null,null,"ACTIVITÉ",null,null,null,null,"NIVEAU 1",null,null,null,null,null,null,null,null,"NIVEAU 2",null,null,null,null,null,null,null,null,"NIVEAU 3"]
[]
[]
[null,"Évaluation",null,null,null,{"$f":"Activities!G21","v":"E-6 Évaluation de la capacité des laboratoires"},null,null,null,null,{"$f":"Activities!H21","v":"Des évaluations de laboratoires ont été utilisées pour identifier des laboratoires de référence nationaux ou internationaux qualifiés capables d'effectuer des tests pour soutenir les activités de surveillance coordonnées"},null,null,null,null,null,null,null,null,{"$f":"Activities!H22","v":" Des évaluations de laboratoires ont été utilisées pour identifier à tous les niveaux (y compris international) des laboratoires qualifiés capables d'effectuer des tests pour soutenir les activités de surveillance coordonnées"},null,null,null,null,null,null,null,null,{"$f":"Activities!H23","v":"Des évaluations de laboratoires ont été utilisées pour identifier un réseau de laboratoires qualifiés capables d'effectuer des tests pour soutenir les activités de surveillance coordonnées"},null,null,null,null,null,null,"COMMENTAIRES:"]
[]
[]
[]
[]
[]
[null,null,null,null,null,null,null,null,null,null,null,null,null,null,null,null,null,"(dans l'affirmative)",null,null,null,null,null,null,null,null,"(dans l'affirmative)"]
[]
[]
[]
[]
[]
[]
[null,null,null,null,null,null,null,null,null,null,"RÉPONSE:",null,null,null,null,null,null,{"$f":"IF(O44=\"Yes\",1,0)","v":0},null,"RÉPONSE:",null,null,null,null,null,null,{"$f":"IF(X44=\"Yes\",1,0)","v":0},null,"RÉPONSE:",null,null,null,null,null,{"$f":"IF(AG44=\"Yes\",1,0)","v":0}]
[]
[]
[]
[]
[null,null,null,null,null,{"$f":"Activities!G24","v":"E-7 Évaluation du transport et de l'interprétation des laboratoires"},null,null,null,null,{"$f":"Activities!H24","v":"L'harmonisation des fournitures, des chaînes de transport et de l'interprétation des résultats des laboratoires a été évaluée entre les secteurs participants au niveau national"},null,null,null,null,null,null,null,null,{"$f":"Activities!H25","v":"L'harmonisation des fournitures, des chaînes de transport et de l'interprétation des résultats des laboratoires entre les secteurs participants a été évaluée à tous les niveaux du pays"},null,null,null,null,null,null,null,null,{"$f":"Activities!H26","v":"Le degré d'harmonisation dans les fournitures, les chaînes de transport et l'interprétation des résultats entre les secteurs participants a été évalué et considéré comme étant conforme aux objectifs du système de surveillance coordonné"},null,null,null,null,null,null,"COMMENTAIRES:"]
[]
[]
[]
[]
[]
[null,null,null,null,null,null,null,null,null,null,null,null,null,null,null,null,null,"(dans l'affirmative)",null,null,null,null,null,null,null,null,"(dans l'affirmative)"]
[]
[]
[]
[]
[]
[]
[null,null,null,null,null,null,null,null,null,null,"RÉPONSE:",null,null,null,null,null,null,{"$f":"IF(O62=\"Yes\",1,0)","v":0},null,"RÉPONSE:",null,null,null,null,null,null,{"$f":"IF(X62=\"Yes\",1,0)","v":0},null,"RÉPONSE:"]

{"sheet":"Data Storage & Sharing","index":20,"n_rows":113,"n_cols":37,"rows_kept":113,"cut":false,"hidden":false,"merged":[[67,19,78,24],[67,28,78,33],[2,1,4,33],[7,1,9,33],[11,1,24,33],[26,16,28,16],[27,1,28,3],[27,5,28,8],[27,10,28,15],[27,19,28,24],[27,28,28,33],[43,32,44,33],[30,1,44,3],[30,5,44,8],[30,10,41,15],[30,19,41,24],[30,28,41,33],[36,17,37,17],[36,26,37,26],[42,14,42,15],[43,10,44,12],[43,14,44,15],[43,17,44,17],[43,19,44,21],[43,23,44,24],[43,26,44,26],[43,28,44,30],[48,1,49,3],[48,5,49,8],[48,10,49,15],[48,19,49,24],[48,28,49,33],[64,28,65,30],[64,32,65,33],[51,5,65,8],[51,10,62,15],[51,19,62,24],[51,28,62,33],[57,17,58,17],[57,26,58,26],[63,14,63,15],[64,10,65,12],[64,14,65,15],[80,32,81,33],[83,5,97,8],[83,10,94,15],[83,19,94,24],[83,28,94,33],[89,17,90,17],[89,26,90,26],[95,14,95,15],[96,10,97,12],[80,10,81,12],[80,14,81,15],[80,17,81,17],[80,19,81,21],[80,23,81,24],[99,5,113,8],[99,10,110,15],[99,19,110,24],[99,28,110,33],[105,17,106,17],[105,26,106,26],[111,14,111,15],[112,10,113,12],[112,14,113,15],[51,1,113,3],[112,17,113,17],[112,19,113,21],[112,23,113,24],[112,26,113,26],[96,26,97,26],[73,17,74,17],[73,26,74,26],[79,14,79,15],[80,26,81,26],[64,17,65,17],[64,19,65,21],[64,23,65,24],[64,26,65,26],[67,5,81,8],[67,10,78,15],[45,13,46,15],[114,13,115,15],[30,35,44,40],[51,35,65,40],[67,35,81,40],[83,35,97,40],[99,35,113,40],[112,28,113,30],[112,32,113,33],[96,32,97,33],[96,14,97,15],[96,17,97,17],[96,19,97,21],[96,23,97,24],[96,28,97,30],[80,28,81,30]]}
[]
[]
[null,"Stockage et partage des données"]
[]
[]
[]
[]
[null,"Veuillez indiquer si chaque activité ci-dessous est terminée («1») ou non terminée/en attente («0») sur la base du niveau de capacité actuel de votre pays."]
[]
[]
[]
[null,"NOTES IMPORTANTES:\n    ·Sélectionnez «1» si la capacité est atteinte et «0» si l'activité n'est pas terminée ou est en attente.\n    ·Si le niveau de capacité est atteint et que la réponse sélectionnée est «1», le niveau de capacité suivant correspondant à l'activité s'ouvre.\n    ·Si la capacité ne s'applique pas à votre situation, sélectionnez «0».\n    ·Si vous ne connaissez pas la réponse, sélectionnez «0».\n    ·Si le niveau de capacité comporte deux éléments (la phrase est reliée par «ET»), ils doivent TOUS DEUX être atteints si vous choisissez «1» comme réponse.\n \nHYPOTHÈSE CRITIQUE: \n    ·Étant donné que le SIS OT se réfère au développement d'une surveillance et d'un partage des données coordonnés, le fait de sélectionner «1» implique que le niveau de capacité a été atteint dans un MINIMUM DE DEUX SECTEURS CONCERNÉS PAR L'APPROCHE «UNE SEULE SANTÉ». Si le niveau de capacité a été atteint dans un seul secteur, veuillez sélectionner «0». "]
[]
[]
[]
[]
[]
[]
[]
[null,null,null,null,null,null,null,null,null,null,null,null,null,null,null,null,null,null,null,null,null,null,null,null,null,null,null,null,null,null,null,null,null,null,null,null,1]
[null,null,null,null,null,null,null,null,null,null,null,null,null,null,null,null,null,null,null,null,null,null,null,null,null,null,null,null,null,null,null,null,null,null,null,null,0]
[]
[]
[]
[]
[]
[]
[null,"ÉTAPE",null,null,null,"ACTIVITÉ",null,null,null,null,"NIVEAU 1",null,null,null,null,null,null,null,null,"NIVEAU 2",null,null,null,null,null,null,null,null,"NIVEAU 3"]
[]
[]
[null,"Planification",null,null,null,{"$f":"Activities!L5","v":"PL-2 Éléments de données communs"},null,null,null,null,{"$f":"Activities!M5","v":"Les éléments de données communs sont identifiés et accordés au sein de chaque secteur participant dans le but de remplir les objectifs analytiques communs du système de surveillance coordonné au niveau national"},null,null,null,null,null,null,null,null,{"$f":"Activities!M6","v":"Les éléments de données communs sont identifiés et accordés au sein de chaque secteur participant dans le but de remplir les objectifs analytiques communs du système de surveillance coordonné à tous les niveaux du pays"},null,null,null,null,null,null,null,null,{"$f":"Activities!M7","v":"Les éléments de données communs sont normalisés entre les secteurs participants sur la base des objectifs analytiques communs du système de surveillance coordonné et sont conformes aux normes internationales en matière de données"},null,null,null,null,null,null,"COMMENTAIRES:"]
[]
[]
[]
[]
[]
[null,null,null,null,null,null,null,null,null,null,null,null,null,null,null,null,null,"(dans l'affirmative)",null,null,null,null,null,null,null,null,"(dans l'affirmative)"]
[]
[]
[]
[]
[]
[]
[null,null,null,null,null,null,null,null,null,null,"RÉPONSE:",null,null,null,null,null,null,{"$f":"IF(O44=\"Yes\",1,0)","v":0},null,"RÉPONSE:",null,null,null,null,null,null,{"$f":"IF(X44=\"Yes\",1,0)","v":0},null,"RÉPONSE:"]
[]
[]
[]
[]
[null,"ÉTAPE",null,null,null,"ACTIVITÉ",null,null,null,null,"NIVEAU 1",null,null,null,null,null,null,null,null,"NIVEAU 2",null,null,null,null,null,null,null,null,"NIVEAU 3"]
[]
[]
[null,"Mise en œuvre",null,null,null,{"$f":"Activities!Q8","v":"ME-3 Échange de données et partage d'informations"},null,null,null,null,{"$f":"Activities!R8","v":"Il existe un mécanisme de partage de données entre les secteurs au niveau national"},null,null,null,null,null,null,null,null,{"$f":"Activities!R9","v":"Il existe un mécanisme de partage des données entre les secteurs à tous les niveaux du pays"},null,null,null,null,null,null,null,null,{"$f":"Activities!R10","v":"Il existe un mécanisme de partage de données qui est accessible, fonctionnel et utilisable par tous les secteurs participants"},null,null,null,null,null,null,"COMMENTAIRES:"]
[]
[]
[]
[]
[]
[null,null,null,null,null,null,null,null,null,null,null,null,null,null,null,null,null,"(dans l'affirmative)",null,null,null,null,null,null,null,null,"(dans l'affirmative)"]
[]
[]
[]
[]
[]
[]
[null,null,null,null,null,null,null,null,null,null,"RÉPONSE:",null,null,null,null,null,null,{"$f":"IF(O65=\"Yes\",1,0)","v":0},null,"RÉPONSE:",null,null,null,null,null,null,{"$f":"IF(X65=\"Yes\",1,0)","v":0},null,"RÉPONSE:"]
[]
[]
[null,null,null,null,null,{"$f":"Activities!Q11","v":"ME-4 Stockage des données"},null,null,null,null,{"$f":"Activities!R11","v":"Une structure et un lieu sont prévus pour stocker et conserver les données de plusieurs secteurs au niveau national."},null,null,null,null,null,null,null,null,{"$f":"Activities!R12","v":"Une structure et un lieu sont prévus pour stocker et conserver les données de plusieurs secteurs à tous les niveaux du pays"},null,null,null,null,null,null,null,null,{"$f":"Activities!R13","v":"Il existe une structure et un endroit pour stocker et conserver les données de tous les secteurs concernés par la surveillance qui sont accessibles, fonctionnels et utilisables par tous les secteurs participants"},null,null,null,null,null,null,"COMMENTAIRES:"]
[]
[]
[]
[]
[]
[null,null,null,null,null,null,null,null,null,null,null,null,null,null,null,null,null,"(dans l'affirmative)",null,null,null,null,null,null,null,null,"(dans l'affirmative)"]
[]
[]
[]
[]
[]
[]
[null,null,null,null,null,null,null,null,null,null,"RÉPONSE:",null,null,null,null,null,null,{"$f":"IF(O81=\"Yes\",1,0)","v":0},null,"RÉPONSE:",null,null,null,null,null,null,{"$f":"IF(X81=\"Yes\",1,0)","v":0},null,"RÉPONSE:"]
[]
[]
[null,null,null,null,null,{"$f":"Activities!Q14","v":"ME-5 Mesures relatives à la confidentialité et à la sécurité des données"},null,null,null,null,{"$f":"Activities!R14","v":"Il existe des mesures de confidentialité et de sécurité des données visant à protéger les données de surveillance coordonnée au niveau national"},null,null,null,null,null,null,null,null,{"$f":"Activities!R15","v":"Il existe des mesures de confidentialité et de sécurité des données visant à protéger les données de surveillance coordonnée à tous les niveaux du pays"},null,null,null,null,null,null,null,null,{"$f":"Activities!R16","v":"Il existe des mesures de confidentialité et de sécurité des données visant à protéger les données de surveillance coordonnée, qui ont été évaluées et sont considérées comme étant conformes aux objectifs du système de surveillance coordonné"},null,null,null,null,null,null,"COMMENTAIRES:"]
[]
[]
[]
[]
[]
[null,null,null,null,null,null,null,null,null,null,null,null,null,null,null,null,null,"(dans l'affirmative)",null,null,null,null,null,null,null,null,"(dans l'affirmative)"]
[]
[]
[]
[]
[]
[]
[null,null,null,null,null,null,null,null,null,null,"RÉPONSE:",null,null,null,null,null,null,{"$f":"IF(O97=\"Yes\",1,0)","v":0},null,"RÉPONSE:",null,null,null,null,null,null,{"$f":"IF(X97=\"Yes\",1,0)","v":0},null,"RÉPONSE:"]
[]
[]
[null,null,null,null,null,{"$f":"Activities!Q20","v":"ME-7 Partage des données de surveillance"},null,null,null,null,{"$f":"Activities!R20","v":"Les données de surveillance sont partagées de manière informelle ou formelle de façon ad hoc au niveau national"},null,null,null,null,null,null,null,null,{"$f":"Activities!R21","v":"Les données de surveillance sont partagées de manière informelle ou formelle, de façon régulière et en temps utile, à tous les niveaux du pays"},null,null,null,null,null,null,null,null,{"$f":"Activities!R22","v":"Les données de surveillance sont partagées de façon systématique et régulière et en temps utile entre tous les secteurs participants par le biais d'une ou plusieurs plateforme(s) interopérable(s) ou conjointe(s) "},null,null,null,null,null,null,"COMMENTAIRES:"]
[]
[]
[]
[]
[]
[null,null,null,null,null,null,null,null,null,null,null,null,null,null,null,null,null,"(dans l'affirmative)",null,null,null,null,null,null,null,null,"(dans l'affirmative)"]
[]
[]
[]
[]
[]
[]
[null,null,null,null,null,null,null,null,null,null,"RÉPONSE:",null,null,null,null,null,null,{"$f":"IF(O113=\"Yes\",1,0)","v":0},null,"RÉPONSE:",null,null,null,null,null,null,{"$f":"IF(X113=\"Yes\",1,0)","v":0},null,"RÉPONSE:"]

{"sheet":"Communication & Reporting","index":21,"n_rows":97,"n_cols":37,"rows_kept":97,"cut":false,"hidden":false,"merged":[[2,1,4,33],[7,1,9,33],[11,1,24,33],[26,16,28,16],[27,1,28,3],[27,5,28,8],[27,10,28,15],[27,19,28,24],[27,28,28,33],[30,1,44,3],[30,5,44,8],[30,10,41,15],[30,19,41,24],[30,28,41,33],[36,17,37,17],[36,26,37,26],[42,14,42,15],[43,10,44,12],[43,14,44,15],[43,17,44,17],[43,19,44,21],[43,23,44,24],[43,26,44,26],[43,28,44,30],[48,1,49,3],[48,5,49,8],[48,10,49,15],[48,19,49,24],[48,28,49,33],[51,5,65,8],[51,10,62,15],[51,19,62,24],[51,28,62,33],[57,17,58,17],[57,26,58,26],[63,14,63,15],[64,10,65,12],[64,14,65,15],[64,28,65,30],[67,5,81,8],[67,10,78,15],[73,17,74,17],[73,26,74,26],[79,14,79,15],[80,10,81,12],[96,10,97,12],[96,14,97,15],[80,14,81,15],[80,17,81,17],[80,19,81,21],[51,1,97,3],[96,17,97,17],[96,19,97,21],[96,23,97,24],[96,26,97,26],[80,26,81,26],[64,17,65,17],[64,19,65,21],[64,23,65,24],[64,26,65,26],[83,5,97,8],[83,10,94,15],[83,19,94,24],[89,17,90,17],[89,26,90,26],[95,14,95,15],[45,13,46,15],[98,13,99,15],[30,35,44,40],[51,35,65,40],[83,35,97,40],[96,28,97,30],[96,32,97,33],[80,32,81,33],[83,28,94,33],[80,23,81,24],[64,32,65,33],[80,28,81,30],[43,32,44,33],[67,35,81,40]]}
[]
[]
[null,"Communication et établissement de rapports"]
[]
[]
[]
[]
[null,"Veuillez indiquer si chaque activité ci-dessous est terminée («1») ou non terminée/en attente («0») sur la base du niveau de capacité actuel de votre pays."]
[]
[]
[]
[null,"NOTES IMPORTANTES:\n    ·Sélectionnez «1» si la capacité est atteinte et «0» si l'activité n'est pas terminée ou est en attente.\n    ·Si le niveau de capacité est atteint et que la réponse sélectionnée est «1», le niveau de capacité suivant correspondant à l'activité s'ouvre.\n    ·Si la capacité ne s'applique pas à votre situation, sélectionnez «0».\n    ·Si vous ne connaissez pas la réponse, sélectionnez «0».\n    ·Si le niveau de capacité comporte deux éléments (la phrase est reliée par «ET»), ils doivent TOUS DEUX être atteints si vous choisissez «1» comme réponse.\n \nHYPOTHÈSE CRITIQUE: \n    ·Étant donné que le SIS OT se réfère au développement d'une surveillance et d'un partage des données coordonnés, le fait de sélectionner «1» implique que le niveau de capacité a été atteint dans un MINIMUM DE DEUX SECTEURS CONCERNÉS PAR L'APPROCHE «UNE SEULE SANTÉ». Si le niveau de capacité a été atteint dans un seul secteur, veuillez sélectionner «0». "]
[]
[]
[]
[]
[]
[]
[]
[null,null,null,null,null,null,null,null,null,null,null,null,null,null,null,null,null,null,null,null,null,null,null,null,null,null,null,null,null,null,null,null,null,null,null,null,1]
[null,null,null,null,null,null,null,null,null,null,null,null,null,null,null,null,null,null,null,null,null,null,null,null,null,null,null,null,null,null,null,null,null,null,null,null,0]
[]
[]
[]
[]
[]
[]
[null,"ÉTAPE",null,null,null,"ACTIVITÉ",null,null,null,null,"NIVEAU 1",null,null,null,null,null,null,null,null,"NIVEAU 2",null,null,null,null,null,null,null,null,"NIVEAU 3"]
[]
[]
[null,"Planification",null,null,null,{"$f":"Activities!L23","v":"PL-8 Planification coordonnée de la communication"},null,null,null,null,{"$f":"Activities!M23","v":"La terminologie et les messages de communication sont alignés sur l'ensemble des secteurs participant au système de surveillance coordonné au niveau national."},null,null,null,null,null,null,null,null,{"$f":"Activities!M24","v":"La terminologie et les messages de communication sont alignés sur l'ensemble des secteurs participant au système de surveillance coordonné et diffusés à tous les niveaux du pays"},null,null,null,null,null,null,null,null,{"$f":"Activities!M25","v":"Il existe une stratégie et/ou un plan de communication (comprenant une terminologie et une messagerie) qui régissent la communication avec les parties prenantes et le public pour le système de surveillance coordonné"},null,null,null,null,null,null,"COMMENTAIRES:"]
[]
[]
[]
[]
[]
[null,null,null,null,null,null,null,null,null,null,null,null,null,null,null,null,null,"(dans l'affirmative)",null,null,null,null,null,null,null,null,"(dans l'affirmative)"]
[]
[]
[]
[]
[]
[]
[null,null,null,null,null,null,null,null,null,null,"RÉPONSE:",null,null,null,null,null,null,{"$f":"IF(O44=\"Yes\",1,0)","v":0},null,"RÉPONSE:",null,null,null,null,null,null,{"$f":"IF(X44=\"Yes\",1,0)","v":0},null,"RÉPONSE:"]
[]
[]
[]
[]
[null,"ÉTAPE",null,null,null,"ACTIVITÉ",null,null,null,null,"NIVEAU 1",null,null,null,null,null,null,null,null,"NIVEAU 2",null,null,null,null,null,null,null,null,"NIVEAU 3"]
[]
[]
[null,"Mise en œuvre",null,null,null,{"$f":"Activities!Q23","v":"ME-8 Communication et partage d'informations"},null,null,null,null,{"$f":"Activities!R23","v":"Les informations sont partagées et communiquées de manière ad hoc avec les parties prenantes concernées"},null,null,null,null,null,null,null,null,{"$f":"Activities!R24","v":"Les informations sont partagées et communiquées de façon régulière avec les parties prenantes concernées"},null,null,null,null,null,null,null,null,{"$f":"Activities!R25","v":"Il existe un partage régulier et en temps utile des informations avec les parties prenantes concernées, y compris les entités transfrontalières, régionales et internationales"},null,null,null,null,null,null,"COMMENTAIRES:"]
[]
[]
[]
[]
[]
[null,null,null,null,null,null,null,null,null,null,null,null,null,null,null,null,null,"(dans l'affirmative)",null,null,null,null,null,null,null,null,"(dans l'affirmative)"]
[]
[]
[]
[]
[]
[]
[null,null,null,null,null,null,null,null,null,null,"RÉPONSE:",null,null,null,null,null,null,{"$f":"IF(O65=\"Yes\",1,0)","v":0},null,"RÉPONSE:",null,null,null,null,null,null,{"$f":"IF(X65=\"Yes\",1,0)","v":0},null,"RÉPONSE:"]
[]
[]
[null,null,null,null,null,{"$f":"Activities!Q26","v":"ME-9 Exigences internationales en matière de notification"},null,null,null,null,{"$f":"Activities!R26","v":"Les exigences de notification internationale pour toutes les zoonoses sont respectées"},null,null,null,null,null,null,null,null,null,null,null,null,null,null,null,null,null,null,null,null,null,null,null,null,"COMMENTAIRES:"]
[]
[]
[]
[]
[]
[]
[]
[]
[]
[]
[]
[]
[null,null,null,null,null,null,null,null,null,null,"RÉPONSE:"]
[]
[]
[null,null,null,null,null,{"$f":"Activities!Q27","v":"ME-10 Visualisation et analyse coordonnées des données"},null,null,null,null,{"$f":"Activities!R27","v":"Des données de surveillance coordonnée sont utilisées pour générer des résultats (par exemple, des chiffres, des graphiques, des rapports ou des bulletins) qui sont diffusés au niveau national"},null,null,null,null,null,null,null,null,{"$f":"Activities!R28","v":"Des données de surveillance coordonnée sont utilisées pour générer des résultats (par exemple, des chiffres, des graphiques, des rapports ou des bulletins) qui sont diffusés aux parties prenantes à tous les niveaux du pays"},null,null,null,null,null,null,null,null,{"$f":"Activities!R29","v":"Les données de surveillance coordonnée, y compris les rapports de suivi et d'évaluation (S&E), sont utilisées pour générer des résultats qui orientent la réponse, les politiques et la programmation"},null,null,null,null,null,null,"COMMENTAIRES:"]
[]
[]
[]
[]
[]
[null,null,null,null,null,null,null,null,null,null,null,null,null,null,null,null,null,"(dans l'affirmative)",null,null,null,null,null,null,null,null,"(dans l'affirmative)"]
[]
[]
[]
[]
[]
[]
[null,null,null,null,null,null,null,null,null,null,"RÉPONSE:",null,null,null,null,null,null,{"$f":"IF(O97=\"Yes\",1,0)","v":0},null,"RÉPONSE:",null,null,null,null,null,null,{"$f":"IF(X97=\"Yes\",1,0)","v":0},null,"RÉPONSE:"]

{"sheet":"Section III","index":22,"n_rows":21,"n_cols":2,"rows_kept":21,"cut":false,"hidden":false,"merged":[[2,1,5,30],[7,1,14,30],[16,1,18,30],[20,1,28,30]]}
[]
[]
[null,"SECTION III: SUIVI ET ÉVALUATION"]
[]
[]
[]
[]
[null,"L'objectif de cette section de l'outil est de vous présenter la dernière des cinq étapes du processus de mise en place d'une surveillance coordonnée: Suivi et évaluation. \n\nCette section comprend un total de trois catégories et trois activités à évaluer."]
[]
[]
[]
[]
[]
[]
[]
[]
[null,"Présentation du suivi et de l'évaluation"]
[]
[]
[]
[null,"L'étape de suivi et d'évaluation comprend les activités mises en œuvre pour mesurer et évaluer les performances des activités de surveillance coordonnées et du système SIS coordonné, en vue d'orienter l'amélioration continue et itérative du système. Parmi ces activités figurent des exercices de simulation, la gestion de la qualité des données ou encore le plan de suivi et d'évaluation. \n\nLes ressources présentées dans cette section doivent être prises en considération par les personnes qui utilisent le SIS OT pour les aider dans la réalisation des activités de cette phase de suivi et d'évaluation en vue de l'établissement ou du renforcement du système national de surveillance coordonné des zoonoses."]

{"sheet":"Simulation Exercises","index":23,"n_rows":44,"n_cols":37,"rows_kept":44,"cut":false,"hidden":false,"merged":[[43,32,44,33],[2,1,4,33],[7,1,9,33],[11,1,24,33],[26,16,46,16],[27,1,28,3],[27,5,28,8],[27,10,28,15],[27,19,28,24],[27,28,28,33],[30,1,44,3],[45,13,46,15],[30,35,44,40],[43,34,44,34],[30,5,44,8],[30,10,41,15],[30,19,41,24],[30,28,41,33],[36,17,37,17],[36,26,37,26],[42,14,42,15],[43,10,44,12],[43,14,44,15],[43,17,44,17],[43,19,44,21],[43,23,44,24],[43,26,44,26],[43,28,44,30]]}
[]
[]
[null,"Exercices de simulation"]
[]
[]
[]
[]
[null,"Veuillez indiquer si chaque activité ci-dessous est terminée («1») ou non terminée/en attente («0») sur la base du niveau de capacité actuel de votre pays."]
[]
[]
[]
[null,"NOTES IMPORTANTES:\n    ·Sélectionnez «1» si la capacité est atteinte et «0» si l'activité n'est pas terminée ou est en attente.\n    ·Si le niveau de capacité est atteint et que la réponse sélectionnée est «1», le niveau de capacité suivant correspondant à l'activité s'ouvre.\n    ·Si la capacité ne s'applique pas à votre situation, sélectionnez «0».\n    ·Si vous ne connaissez pas la réponse, sélectionnez «0».\n    ·Si le niveau de capacité comporte deux éléments (la phrase est reliée par «ET»), ils doivent TOUS DEUX être atteints si vous choisissez «1» comme réponse.\n \nHYPOTHÈSE CRITIQUE: \n    ·Étant donné que le SIS OT se réfère au développement d'une surveillance et d'un partage des données coordonnés, le fait de sélectionner «1» implique que le niveau de capacité a été atteint dans les secteurs «Une seule santé» qui sont concernés par cette activité. Dans le cas contraire, veuillez sélectionner «0»."]
[]
[]
[]
[]
[]
[]
[]
[null,null,null,null,null,null,null,null,null,null,null,null,null,null,null,null,null,null,null,null,null,null,null,null,null,null,null,null,null,null,null,null,null,null,null,null,1]
[null,null,null,null,null,null,null,null,null,null,null,null,null,null,null,null,null,null,null,null,null,null,null,null,null,null,null,null,null,null,null,null,null,null,null,null,0]
[]
[]
[]
[]
[]
[]
[null,"CATÉGORIE",null,null,null,"ACTIVITÉ",null,null,null,null,"NIVEAU 1",null,null,null,null,null,null,null,null,"NIVEAU 2",null,null,null,null,null,null,null,null,"NIVEAU 3"]
[]
[]
[null,"Suivi et évaluation",null,null,null,{"$f":"Activities!V2","v":"SE-1 Exercices de simulation"},null,null,null,null,{"$f":"Activities!W2","v":"Des exercices de simulation sont réalisés pour évaluer l'efficacité et la fonctionnalité du système de surveillance coordonné au niveau national  "},null,null,null,null,null,null,null,null,{"$f":"Activities!W3","v":"Des exercices de simulation sont réalisés pour évaluer l'efficacité et la fonctionnalité du système de surveillance coordonné à tous les niveaux du pays  "},null,null,null,null,null,null,null,null,{"$f":"Activities!W4","v":"Les résultats des exercices de simulation sont utilisés pour orienter et réviser les plans de surveillance coordonnée "},null,null,null,null,null,null,"COMMENTAIRES:"]
[]
[]
[]
[]
[]
[null,null,null,null,null,null,null,null,null,null,null,null,null,null,null,null,null,"(dans l'affirmative)",null,null,null,null,null,null,null,null,"(dans l'affirmative)"]
[]
[]
[]
[]
[]
[]
[null,null,null,null,null,null,null,null,null,null,"RÉPONSE:",null,null,null,null,null,null,{"$f":"IF(O44=\"Yes\",1,0)","v":0},null,"RÉPONSE:",null,null,null,null,null,null,{"$f":"IF(X44=\"Yes\",1,0)","v":0},null,"RÉPONSE:",null,null,null,null,null,{"$f":"IF(AG44=\"Yes\",1,0)","v":0}]

{"sheet":"M & E Planning","index":24,"n_rows":44,"n_cols":37,"rows_kept":44,"cut":false,"hidden":false,"merged":[[43,28,44,30],[43,32,44,33],[2,1,4,33],[7,1,9,33],[11,1,24,33],[26,16,46,16],[27,1,28,3],[27,5,28,8],[27,10,28,15],[27,19,28,24],[27,28,28,33],[30,1,44,3],[30,35,44,40],[45,13,46,15],[43,34,44,34],[30,5,44,8],[30,10,41,15],[30,19,41,24],[30,28,41,33],[36,17,37,17],[36,26,37,26],[42,14,42,15],[43,10,44,12],[43,14,44,15],[43,17,44,17],[43,19,44,21],[43,23,44,24],[43,26,44,26]]}
[]
[]
[null,"Planification du suivi et de l'évaluation"]
[]
[]
[]
[]
[null,"Veuillez indiquer si chaque activité ci-dessous est terminée («1») ou non terminée/en attente («0») sur la base du niveau de capacité actuel de votre pays."]
[]
[]
[]
[null,"NOTES IMPORTANTES:\n    ·Sélectionnez «1» si la capacité est atteinte et «0» si l'activité n'est pas terminée ou est en attente.\n    ·Si le niveau de capacité est atteint et que la réponse sélectionnée est «1», le niveau de capacité suivant correspondant à l'activité s'ouvre.\n    ·Si la capacité ne s'applique pas à votre situation, sélectionnez «0».\n    ·Si vous ne connaissez pas la réponse, sélectionnez «0».\n    ·Si le niveau de capacité comporte deux éléments (la phrase est reliée par «ET»), ils doivent TOUS DEUX être atteints si vous choisissez «1» comme réponse.\n \nHYPOTHÈSE CRITIQUE: \n    ·Étant donné que le SIS OT se réfère au développement d'une surveillance et d'un partage des données coordonnés, le fait de sélectionner «1» implique que le niveau de capacité a été atteint dans les secteurs «Une seule santé» qui sont concernés par cette activité. Dans le cas contraire, veuillez sélectionner «0»."]
[]
[]
[]
[]
[]
[]
[]
[null,null,null,null,null,null,null,null,null,null,null,null,null,null,null,null,null,null,null,null,null,null,null,null,null,null,null,null,null,null,null,null,null,null,null,null,1]
[null,null,null,null,null,null,null,null,null,null,null,null,null,null,null,null,null,null,null,null,null,null,null,null,null,null,null,null,null,null,null,null,null,null,null,null,0]
[]
[]
[]
[]
[]
[]
[null,"ÉTAPE",null,null,null,"ACTIVITÉ",null,null,null,null,"NIVEAU 1",null,null,null,null,null,null,null,null,"NIVEAU 2",null,null,null,null,null,null,null,null,"NIVEAU 3"]
[]
[]
[null,"Suivi et évaluation",null,null,null,{"$f":"Activities!V5","v":"SE-2 Planification du suivi et de l'évaluation"},null,null,null,null,{"$f":"Activities!W5","v":"Il existe un plan de suivi et d'évaluation qui est conforme aux objectifs du système de surveillance coordonné"},null,null,null,null,null,null,null,null,{"$f":"Activities!W6","v":"Le plan de suivi et d'évaluation est implanté pour surveiller les performances et les avancées du système de surveillance coordonné"},null,null,null,null,null,null,null,null,{"$f":"Activities!W7","v":"Les résultats du suivi et de l'évaluation améliorent ou étendent de manière itérative le système de surveillance coordonné et s'alignent sur les recommandations et les normes internationales. "},null,null,null,null,null,null,"COMMENTAIRES:"]
[]
[]
[]
[]
[]
[null,null,null,null,null,null,null,null,null,null,null,null,null,null,null,null,null,"(dans l'affirmative)",null,null,null,null,null,null,null,null,"(dans l'affirmative)"]
[]
[]
[]
[]
[]
[]
[null,null,null,null,null,null,null,null,null,null,"RÉPONSE:",null,null,null,null,null,null,{"$f":"IF(O44=\"Yes\",1,0)","v":0},null,"RÉPONSE:",null,null,null,null,null,null,{"$f":"IF(X44=\"Yes\",1,0)","v":0},null,"RÉPONSE:",null,null,null,null,null,{"$f":"IF(AG44=\"Yes\",1,0)","v":0}]

{"sheet":"Data Quality Standards","index":25,"n_rows":44,"n_cols":37,"rows_kept":44,"cut":false,"hidden":false,"merged":[[43,28,44,30],[43,32,44,33],[2,1,4,33],[7,1,9,33],[11,1,24,33],[26,16,46,16],[27,1,28,3],[27,5,28,8],[27,10,28,15],[27,19,28,24],[27,28,28,33],[30,1,44,3],[29,35,43,40],[45,13,46,15],[43,34,44,34],[30,5,44,8],[30,10,41,15],[30,19,41,24],[30,28,41,33],[36,17,37,17],[36,26,37,26],[42,14,42,15],[43,10,44,12],[43,14,44,15],[43,17,44,17],[43,19,44,21],[43,23,44,24],[43,26,44,26]]}
[]
[]
[null,"Normes de qualité des données"]
[]
[]
[]
[]
[null,"Veuillez indiquer si chaque activité ci-dessous est terminée («1») ou non terminée/en attente («0») sur la base du niveau de capacité actuel de votre pays."]
[]
[]
[]
[null,"NOTES IMPORTANTES:\n    ·Sélectionnez «1» si la capacité est atteinte et «0» si l'activité n'est pas terminée ou est en attente.\n    ·Si le niveau de capacité est atteint et que la réponse sélectionnée est «1», le niveau de capacité suivant correspondant à l'activité s'ouvre.\n    ·Si la capacité ne s'applique pas à votre situation, sélectionnez «0».\n    ·Si vous ne connaissez pas la réponse, sélectionnez «0».\n    ·Si le niveau de capacité comporte deux éléments (la phrase est reliée par «ET»), ils doivent TOUS DEUX être atteints si vous choisissez «1» comme réponse.\n \nHYPOTHÈSE CRITIQUE: \n    ·Étant donné que le SIS OT se réfère au développement d'une surveillance et d'un partage des données coordonnés, le fait de sélectionner «1» implique que le niveau de capacité a été atteint dans les secteurs «Une seule santé» qui sont concernés par cette activité. Dans le cas contraire, veuillez sélectionner «0»."]
[]
[]
[]
[]
[]
[]
[]
[null,null,null,null,null,null,null,null,null,null,null,null,null,null,null,null,null,null,null,null,null,null,null,null,null,null,null,null,null,null,null,null,null,null,null,null,1]
[null,null,null,null,null,null,null,null,null,null,null,null,null,null,null,null,null,null,null,null,null,null,null,null,null,null,null,null,null,null,null,null,null,null,null,null,0]
[]
[]
[]
[]
[]
[]
[null,"ÉTAPE",null,null,null,"ACTIVITÉ",null,null,null,null,"NIVEAU 1",null,null,null,null,null,null,null,null,"NIVEAU 2",null,null,null,null,null,null,null,null,"NIVEAU 3"]
[]
[null,null,null,null,null,null,null,null,null,null,null,null,null,null,null,null,null,null,null,null,null,null,null,null,null,null,null,null,null,null,null,null,null,null,null,"COMMENTAIRES:"]
[null,"Suivi et évaluation",null,null,null,{"$f":"Activities!V8","v":"SE-3 Normes de qualité des données "},null,null,null,null,{"$f":"Activities!W8","v":"Il existe une méthodologie de gestion de la qualité des données"},null,null,null,null,null,null,null,null,{"$f":"Activities!W9","v":"La qualité des données a été testée et considérée comme étant conforme aux objectifs du système de surveillance coordonné "},null,null,null,null,null,null,null,null,{"$f":"Activities!W10","v":"La qualité des données est conforme aux normes et recommandations internationales "}]
[]
[]
[]
[]
[]
[null,null,null,null,null,null,null,null,null,null,null,null,null,null,null,null,null,"(dans l'affirmative)",null,null,null,null,null,null,null,null,"(dans l'affirmative)"]
[]
[]
[]
[]
[]
[]
[null,null,null,null,null,null,null,null,null,null,"RÉPONSE:",null,null,null,null,null,null,{"$f":"IF(O44=\"Yes\",1,0)","v":0},null,"RÉPONSE:",null,null,null,null,null,null,{"$f":"IF(X44=\"Yes\",1,0)","v":0},null,"RÉPONSE:",null,null,null,null,null,{"$f":"IF(AG44=\"Yes\",1,0)","v":0}]

{"sheet":"Toolbox","index":26,"n_rows":87,"n_cols":12,"rows_kept":87,"cut":false,"hidden":false,"merged":[]}
[null,"Numéro","NOM DE LA RESSOURCE","BRÈVE DESCRIPTION","LIEN VERS LA RESSOURCE","NOTE","MATÉRIEL et VIDÉOS UTILES","PUBLICATIONS",null,null,"$A$1"]
[null,1,{"$f":"Backbone!A21","v":"AfyaData"},"AfyaData est un outil de surveillance des maladies «Une seule santé» conçu pour répondre aux besoins de surveillance humaine, animale et environnementale. Il comprend (a) une application mobile utilisée pour collecter des données et recevoir un retour d'information (interaction), et (b) une application web utilisée pour gérer les données, les utilisateurs et les formulaires de surveillance qui peuvent être distribués aux collecteurs de données sur la base des protocoles d'autorisation d'accès définis.","https://github.com/sacids/afyadata1.2\nhttps://github.com/sacids/AfyaDataApp\n",null,"http://www.sacids.org/news/one-health-community-afyadata-tool/","https://publichealth.jmir.org/2017/4/e94/\nhttps://www.openaccessgovernment.org/one-health-surveillance-systems/62354/",null,"$A$1","$G$7","$A$1"]
[null,2,{"$f":"Backbone!A437","v":"Analyse de la politique sur le terrain (PFA)"},"L'analyse de la politique sur le terrain (PFA) est une cartographie spécialisée des parties prenantes qui permet de visualiser le système des organisations qui interagissent sur une question politique donnée. La PFA est utilisée pour identifier les organisations (publiques, privées ou à but non lucratif) à plusieurs niveaux du système (local, national, régional et international), ainsi que pour cartographier les structures (politiques, cadres, directives, infrastructures physiques ou technologiques) créées par ces organisations. Cela permet aux individus de naviguer de manière réfléchie à travers ces structures pour assurer la pertinence de l'allocation des ressources et de l'engagement des parties prenantes. La PFA peut aider à identifier les points critiques du système multisectoriel où les acteurs individuels peuvent avoir un impact ou apporter les changements nécessaires. La vidéo de la PFA oriente les utilisateurs à travers le processus de cartographie, et les modèles associés aident les utilisateurs à analyser leurs cartes afin de veiller à l'utilité des informations dans l'élaboration de leurs programmes ou de leurs politiques.","Vidéo: https://www.youtube.com/watch?v=v26_j72svjM&feature=youtu.be","La vidéo Hubert et le modèle PFA développé pour le SIS OT présentent cette ressource. \nPour toute question ou information sur l'utilisation de la PFA, veuillez contacter Kaylee Myhre Errecaborde à myhre044@umn.edu \n",null,"https://www.researchgate.net/publication/242456068_Analyzing_Policy_Fields_Helping_Students_Understand_Complex_State_and_Local_Contexts   \n\nhttp://www.jodisandfort.org/uploads/4/5/0/9/45098387/policy_field_audit.pdf",null,null,null,{"$f":"ADDRESS(ROW(B1),COLUMN(B1))","v":"$B$1"}]
[null,3,{"$f":"Backbone!A420","v":"Analyse des écarts PVS de l'Organisation mondiale de la santé animale (OMSA)"},"Les Pays Membres de l'OMSA peuvent demander une analyse des écarts PVS, qui les aide à réaliser une planification détaillée en fonction des résultats de l'évaluation de leur PVS. L'Analyse des écarts PVS (comprenant l'outil d'évaluation des coûts PVS) est un exercice soigneusement structuré, conduit auprès des Services vétérinaires nationaux dans le but de déterminer leurs cibles prioritaires, ainsi que les stratégies, les activités et les investissements nécessaires pour atteindre ces objectifs. Pendant la mission, les services vétérinaires du pays, assistés par une équipe d'experts certifiés OMSA, et utilisant les informations de l'évaluation PVS comme base de référence, développent des actions stratégiques et chiffrées visant à améliorer leurs performances et à atteindre les objectifs nationaux. ","https://www.woah.org/en/what-we-offer/improving-veterinary-services/pvs-pathway/","La mission d'analyse des écarts PVS peut être demandée après réception du rapport approuvé de la mission PVS.","http://www.oie.int/solidarity/pvs-pathway/planning-gap-analysis/"]
[null,4,{"$f":"Backbone!A271","v":"Analyse du réseau des infrastructures de laboratoire (LINA)"},"LINA fournit une fonctionnalité avancée de modélisation computationnelle et d'analyse de données dans une application en ligne simple à utiliser. L'outil offre la possibilité de visualiser facilement, à l'aide d'organigrammes, les capacités et les moyens du réseau national de laboratoires, mais aussi de chaque laboratoire séparément. Il est utile lors de la mise en place du réseau de laboratoires d'un pays, mais aussi dans le cadre d'une évaluation continue basée sur les besoins (scénarios de simulation, notamment en cas d'apparition de foyer épidémique). Cet outil contribue à optimiser le réseau de transport d'échantillons, à renforcer les capacités des laboratoires, à planifier les programmes de lutte contre les maladies, et à faciliter une réponse rapide (par exemple, en cas d'apparition de foyer épidémique, identification des capacités disponibles et répartition de la charge de travail des laboratoires). ",null,"Pour en savoir plus sur la possibilité d'accéder à l'outil, veuillez contacter Patrick Finley <pdfinle@sandia.gov et Walter Beyeler <webeyel@sandia.gov"]
[null,5,{"$f":"Backbone!A604","v":"Application de suivi des expositions et des cas de rage (REACT)"},"Un outil visant à soutenir la mise en œuvre de programmes de gestion intégrée des cas de morsures. L'outil, qui se présente sous la forme d'une application, permet de mener des enquêtes standardisées et systématiques sur le terrain pour les personnes exposées à la rage et les animaux suspectés d'être infectés. L'outil guide la collecte des données et fournit un retour d'information en temps réel aux utilisateurs concernant les procédures d'enquête sur la gestion intégrée des cas de morsure (IBCM), le risque de rage chez les animaux à l'étude et les processus de quarantaine. L'application suit les cas au fil du temps, offrant à l'utilisateur la possibilité de surveiller des informations épidémiologiques et médicales importantes de façon longitudinale. Les données sont collectées hors ligne, mais elles peuvent être immédiatement téléchargées sur un serveur partagé et sécurisé auquel peuvent accéder les utilisateurs qui ont été préalablement approuvés par des organisations de santé animale et humaine. Un site web personnalisé aide les utilisateurs à visualiser et à analyser les données relatives à la gestion intégrée des cas de morsure (IBCM) et à l'exposition à la rage, à la fois pour définir les directives de traitement des victimes de morsure et pour obtenir des informations utiles aux interventions de lutte contre la rage, notamment en matière de vaccination des chiens. ","https://rabiestaskforce.com/toolkit\n\n","Disponible en anglais, en français, en espagnol, en vietnamien et en thaïlandais.\nCette application est principalement conçue pour la collecte, l'agrégation et l'analyse de données dans le cadre des enquêtes et des rapports liés aux cas de rage humaine et animale, mais elle peut être adaptée à de nombreux contextes, dans la mesure où elle permet aux utilisateurs de créer n'importe quel type de rapport. "," https://www.youtube.com/watch?v=BQJ5D6wGIeg"," https://www.cdc.gov/mmwr/volumes/68/wr/mm6832a6.htm"]
[null,6,{"$f":"Backbone!A435","v":"Approche de gestion progressive de la résistance aux antimicrobiens (AMR-PMP)"},"L'Approche de gestion progressive de la résistance aux antimicrobiens (FAO-PMP-AMR) est un outil d'autoévaluation pragmatique qui oriente les pays dans l'élaboration et la mise en œuvre d'un plan d'action national multisectoriel «Une seule santé» pour lutter contre la RAM. Elle comprend un outil d'auto-évaluation permettant de quantifier le niveau de mise en œuvre.",null,"Pour toute demande d'accès à l'outil, s'adresser à FAO-AMR-PMP@fao.org ","http://www.fao.org/antimicrobial-resistance/resources/tools/fao-pmp-amr/en/\n\n","http://www.fao.org/antimicrobial-resistance/resources/tools/fao-pmp-amr/en/\n\nhttp://www.fao.org/europe/news/detail-news/en/c/1200272/\n\nhttp://www.fao.org/africa/news/detail-news/en/c/1190787"]
[null,7,{"$f":"Backbone!A194","v":"Approche d'évaluation des systèmes de santé (HSAA)"},"L'approche d'évaluation des systèmes de santé (HSAA) est proposée comme une aide destinée à diagnostiquer la performance des systèmes de santé et obtenir des informations sur l'ensemble du système, afin de mieux orienter la planification du secteur de la santé. Elle examine l'ensemble du système de santé, y compris la gouvernance, le financement, la prestation des services de santé, les ressources humaines, la gestion des produits pharmaceutiques et les systèmes d'information sur la santé, sans oublier le secteur privé, qui est une partie importante mais souvent négligée du système.","https://www.hfgproject.org/the-health-system-assessment-approach-a-how-to-manual/ "]
[null,8,{"$f":"Backbone!A453","v":"Approche par étapes pour l'élimination de la rage (SARE)"},"SARE est un outil pratique de planification, de suivi et d'évaluation qui permet d'orienter, de déployer et d'affiner des programmes de lutte contre la rage. Il fournit une feuille d'évaluation Excel contenant des étapes mesurables conçues comme un flux logique d'activités, qui permettent de passer de l'étape 0 à l'étape 5 jusqu'à l'éradication de la rage transmise par les chiens.","https://caninerabiesblueprint.org/A-stepwise-approach-to-planning?lang=en","Pour obtenir la feuille de résultats pour les évaluations SARE, veuillez contacter\n https://rabiesblueprint.org/sare.html","https://caninerabiesblueprint.org/IMG/pdf/sare_outline_2017_f.pdf"]
[null,9,{"$f":"Backbone!A239","v":"Atelier national de rapprochement et d'échange RSI-PVS"},"Cet outil contribue à orienter les parties prenantes «Une seule santé» dans le cadre d'un atelier où celles-ci aborderont les exigences du Règlement sanitaire international (RSI), ainsi que de la coordination et des opérations qu'elles doivent mener pour répondre à ces exigences. L'atelier est conçu pour établir un «diagnostic» de la coordination multisectorielle à travers différentes problématiques, et créer une feuille de route pour faire avancer celle-ci en vue de parvenir à la conformité au RSI et à atteindre de hautes performances au niveau national. ","https://extranet.who.int/sph/ihr-pvs-bridging-workshop","Disponible en anglais, en russe et en français \nFourni par l'OMS et l'OMSA. Pour cette évaluation, les contacts sont delarocques@who.int (Stéphane de la Rocque de Séverac) et le Dr. François Caya (f.caya@oie.int) ",null,"\nhttps://www.ncbi.nlm.nih.gov/pubmed/31564739"]
[null,10,{"$f":"Backbone!A383","v":"Boîte à outils de cartographie et de ressources des systèmes «Une seule santé» (OH-SMART)"},"L'OH-SMART est un processus en six étapes qui aide les parties prenantes de plusieurs secteurs à cartographier, analyser et améliorer tout système existant qui nécessite une collaboration interdisciplinaire et multisectorielle. Le processus OH-SMART peut être utilisé pour renforcer les systèmes «Une seule santé» au niveau communautaire, local, sous-national, national et régional en réponse à tout défi multisectoriel, y compris la révision des cadres de réponse d'urgence, l'amélioration des plans d'action contre la résistance aux antimicrobiens, la création de protocoles de collaboration multi-organisations en matière de maladies infectieuses et le soutien à la gestion collaborative des risques au niveau communautaire.",null,"Le guide du facilitateur OH-SMART est destiné aux personnes qui ont suivi la formation d'exécutant ou de maître facilitateur. Les exécutants OH-SMART suivent une formation de formateurs et encadrent un atelier OH-SMART. Ils sont ensuite capables d'utiliser la boîte à outils de manière indépendante. La formation des formateurs est proposée selon une modalité en ligne, proposée de façon régulière, ou en personne dans le cadre de la mise en œuvre d'OH-SMART.  Une partie des frais de formation en ligne est consacrée à l'encadrement et au soutien des exécutants afin qu'ils puissent adapter et mettre en œuvre l'outil pour leur usage particulier.\nContact: Katey Pelican à pelicank@umn.edu\n","https://oh-smart.umn.edu/\n\n","Publications OH-SMART:\nhttps://oh-smart.umn.edu/oh-smart-action/oh-smart-publications\n\n\n\n\n"]
[null,11,{"$f":"Backbone!A677","v":"Boîte à outils de simulation"},"Une simulation est un exercice qui imite un scénario réel pour évaluer ou renforcer les protocoles et les capacités de préparation. Les simulations permettent aux organisations d'identifier des lacunes ou des points faibles dans les compétences et des capacités de leur personnel. Les plateformes se livrent généralement à des exercices de simulation pour examiner et renforcer le niveau de coordination entre les secteurs «Une seule santé» dans les activités de préparation. Cette boîte à outils aide les plateformes et autres parties prenantes à choisir le type de simulation approprié et à concevoir et mettre en œuvre une simulation efficace. Elle a pour objectif de fournir un aperçu de haut niveau des simulations.","https://www.onehealthapp.org/","Section «Ressources «Une seule santé»» "]
[null,12,{"$f":"Backbone!A624","v":"Boîte à outils pour la cartographie des parties prenantes «Une seule santé»"},"Cette boîte à outils sert de guide dans le processus de planification et d'exécution de la cartographie des parties prenantes. Le processus étape par étape donne un aperçu des phases du processus de cartographie des parties prenantes. L'objectif de ce processus de cartographie des parties prenantes est d'identifier et d'analyser tous les acteurs essentiels devant être impliqués dans la constitution de la plateforme «Une seule santé» et l'exécution de ses fonctions, ainsi que d'orienter le développement et la mise en œuvre d'activités clés «Une seule santé», telles que les directives techniques et l'élaboration de politiques. Les outils contenus dans cette boîte à outils sont conçus pour pouvoir être adaptés à des contextes pays différents.","https://www.onehealthapp.org/","Veuillez vous reporter à la section «Ressources «Une seule santé»» d'OH-app. "]
[null,13,{"$f":"Backbone!A648","v":"Boîte à outils pour la planification de la préparation et la réponse"},"Cette boîte à outils est conçue pour aider les pays à élaborer des plans multisectoriels de préparation et de réponse aux événements de santé publique, y compris ceux dont l'étiologie est initialement inconnue. Elle peut être utilisée par les pays qui ne disposent d'aucun plan ou par ceux qui souhaitent renforcer les plans, les documents techniques ou les procédures opérationnelles standard existants. Basée sur le cadre de la Région Afrique de l'OMS pour la planification d'un événement d'étiologie initialement inconnue, cette boîte à outils fournit des orientations techniques détaillées sur le renforcement des capacités multisectorielles de préparation et de réponse.","https://www.onehealthapp.org/","Veuillez vous reporter à la section «Ressources «Une seule santé»» d'OH-app. "]
[null,14,{"$f":"Backbone!A683","v":"Boîte à outils pour la promotion d'une politique «Une seule santé»"},"Cette boîte à outils aide les parties prenantes de l'approche «Une seule santé» à élaborer et à mettre en œuvre une stratégie de promotion de cette politique qui les aidera à faire passer leurs messages et ainsi gagner le soutien des décideurs, identifier les outils et les événements de sensibilisation pour renforcer la collaboration et les politiques, et entretenir des alliances et des champions ralliés à la cause «Une seule santé».","https://www.onehealthapp.org/","Veuillez vous reporter à la section «Ressources «Une seule santé»» d'OH-app. "]
[null,15,{"$f":"Backbone!A628","v":"Boîte à outils pour la structure organisationnelle et les termes de référence"},"Cette boîte à outils décrit le processus général et les outils nécessaires pour soutenir les efforts des pays visant à développer ou à revoir la structure organisationnelle d'une plateforme «Une seule santé», notamment un organigramme et des termes de référence. À travers l'assistance au développement ou à la révision des structures organisationnelles de la plateforme, l'objectif devrait être\nde promouvoir la formalisation d'une plateforme «Une seule santé» officiellement approuvée par tous les Ministères concernés et les hauts dirigeants gouvernementaux. ","https://www.onehealthapp.org/","Section «Ressources «Une seule santé»» "]
[null,16,{"$f":"Backbone!A680","v":"Boîte à outils pour l'analyse a posteriori après l'apparition d'un foyer épidémique"},"Cette boîte à outils oriente les représentants de la plateforme «Une seule santé» à travers le processus, étape par étape, de planification et d'exécution d'une analyse a posteriori (AAP) après l'apparition d'un foyer épidémique.  ","https://www.onehealthapp.org/","Veuillez vous reporter à la section «Ressources «Une seule santé»» d'OH-app. "]
[null,17,{"$f":"Backbone!A595","v":"Boîte à outils pour le contrôle de la qualité des données (DQR)"},"La boîte à outils pour le contrôle de la qualité des données (DQR) propose une approche intégrée de la qualité des données. Elle se compose d'un ensemble de directives et d'outils servant de base à une approche normalisée et holistique de la qualité des données qui favorise l'institutionnalisation d'une évaluation régulière de la qualité des données dans les pays. Elle comporte trois modules, chacun composé de méthodes et d'outils spécifiques: (1) Cadre et paramètres; (2) Contrôle théorique de la qualité des données; (3) Vérification des données et évaluation du système.","https://www.measureevaluation.org/our-work/data-quality/data-quality-review"]
[null,18,{"$f":"Backbone!A685","v":"Boîte à outils pour le modèle de politique «Une seule santé»"},"Cette boîte à outils est conçue pour aider les décideurs à comprendre la nature et l'ampleur de l'impact sur la santé vétérinaire, humaine et environnementale que pourraient avoir les changements dans les populations animales et humaines, et présente quelques-unes des options politiques disponibles.","https://www.onehealthapp.org/","Veuillez vous reporter à la section «Ressources «Une seule santé»» d'OH-app. "]
[null,19,{"$f":"Backbone!A634","v":"Boîte à outils pour l'élaboration d'un manuel de gouvernance"},"Pour être efficaces, les plateformes nationales «Une seule santé» doivent mettre au point et s'accorder sur des processus de gouvernance qui expliquent clairement comment elles fonctionneront. Cette boîte à outils présente la manière dont il faut élaborer un manuel de gouvernance décrivant l'objectif de la plateforme, ses rôles et responsabilités, les protocoles de réunion et de communication, l'allocation des ressources humaines, financières et techniques, ainsi qu'un moyen d'évaluer et de communiquer les performances.","https://www.onehealthapp.org/","Section «Ressources «Une seule santé»» "]
[null,20,{"$f":"Backbone!A137","v":"Cadre de collecte de données EFSA"},"Outil en ligne pour la collecte des données. Les données devraient être obligatoirement transmises par tous les États Membres de l'UE. Vise à simplifier la procédure de collecte de données sur les zoonoses entre les parties et à faciliter l'échange, l'extraction et la réutilisation de celles-ci."," https://dcf.efsa.europa.eu/dcf-war/dc","Une autorisation est nécessaire. Pour de plus amples informations, veuillez contacter Mario.MONGUIDI@efsa.europa.eu ","https://efsa.onlinelibrary.wiley.com/doi/pdf/10.2903/j.efsa.2014.3945"]
[null,21,{"$f":"Backbone!A265","v":"Cadre de compétences de leadership pour les laboratoires (GLLP)"},"Le Cadre de compétences de leadership pour les laboratoires décrit les neuf compétences essentielles dont ont besoin les responsables de laboratoire pour construire et diriger un «système national de laboratoires de santé» durable, comprenant des laboratoires humains, vétérinaires, environnementaux, agricoles, alimentaires et chimiques, en vue de soutenir les efforts de détection, de contrôle et de prévention des maladies dans les systèmes de santé du monde entier.","https://www.who.int/ihr/publications/laboratory-leadership-competency-framework-first-edition/en/\n\nhttps://www.who.int/ihr/publications/laboratory-leadership-competency-framework-first-edition/fr/\n\nhttps://www.who.int/ihr/publications/laboratory-leadership-competency-framework-first-edition/ru/\n\nhttps://www.who.int/ihr/publications/laboratory-leadership-competency-framework-first-edition/es/","Le Cadre de compétences de leadership pour les laboratoires est disponible en anglais, en français, en russe et en espagnol.\nLe Cadre de compétences de leadership pour les laboratoires soutient le déploiement du Programme mondial pour le leadership des laboratoires.\n","https://www.who.int/ihr/lyon/global-laboratory-leadership-programme/en/","https://www.frontiersin.org/articles/10.3389/fpubh.2019.00199/full \n\nhttps://apps.who.int/iris/bitstream/handle/10665/325635/WER24may2019-xiv-xvii-eng-fre.pdf \n\nhttp://dx.doi.org/10.2471/BLT.17.195883 "]
[null,22,{"$f":"Backbone!A2","v":"Cadre de surveillance basé sur les événements des CDC en Afrique"},"Le cadre pour la surveillance basée sur les événements (SBE) offre une orientation aux professionnels de la santé publique qui cherchent à mettre en œuvre la SBE à tous les échelons administratifs de leur pays. Dans les pays de l'Union africaine qui ont adopté la stratégie de Surveillance intégrée de la maladie et la riposte (IDSR), ce document est un complément capable d'améliorer la mise en œuvre de cette IDSR.","https://africacdc.org/download/africa-cdc-event-based-surveillance-framework/ \n\n","Étant donné qu'ensemble, la surveillance basée sur les indicateurs (SBI) et la surveillance basée sur les événements (SBE) constituent la composante d'alerte précoce et de réponse du système de surveillance de la santé publique, ce cadre est destiné à être utilisé pour la mise en œuvre de la SBE.\nDes traductions en anglais et en français sont disponibles."]
[null,23,{"$f":"Backbone!A510","v":"Cadre d'évaluation de la surveillance (SERVAL)"},"Un guide par étapes sur la façon de planifier, de structurer et de mener à bien l'évaluation des systèmes de surveillance de la santé animale, testé et éprouvé dans le secteur vétérinaire britannique. Il a été conçu pour faciliter l'évaluation exhaustive de composantes (activités) de surveillance séparées ou de programmes de surveillance entiers. \n","https://www.rvc.ac.uk/Media/Default/VEEPH/Documents/SERVAL.pdf"]
[null,24,{"$f":"Backbone!A561","v":"Cadre d'évaluation de la surveillance (SurF)"}," Un cadre d'évaluation des systèmes de surveillance utilisable dans les domaines de la biosécurité, de la santé végétale ou animale. Il a été mis au point par le Ministère des industries primaires de Nouvelle-Zélande pour son propre usage, mais il est rendu public afin que d'autres organisations puissent l'utiliser.","https://www.mpi.govt.nz/dmsdocument/18091/direct",null,null,"https://onlinelibrary.wiley.com/doi/full/10.1111/tbed.12898 \n\n"]
[null,25,{"$f":"Backbone!A183","v":"Cadre d'évaluation des systèmes de surveillance de santé publique pour la détection précoce des foyers épidémiques "},"Un cadre de planification opérationnelle et d'évaluation pour les systèmes de surveillance syndromique.  Le cadre contribue à la planification et à l'évaluation de la totalité du système de surveillance sur la base d'un certain nombre de seuils autodéterminés.","https://www.researchgate.net/publication/8576839_Framework_for_Evaluating_Public_Health_Surveillance_Systems_for_Early_Detection_of_Outbreaks_Recommendations_from_the_CDC_Working_Group"]
[null,26,{"$f":"Backbone!A33","v":"Cadre pour le renforcement de la prévention et du contrôle de l'anthrax "},"Le Cadre présente un historique de la maladie du charbon et explique comment améliorer la prévention et le contrôle de cette maladie chez les animaux et les humains. Il est destiné aux responsables de la santé publique et animale des pays où cette maladie est endémique. Il peut être utilisé pour la formation sur la prévention et le contrôle de la maladie du charbon, ou pour servir de brève référence aux planificateurs de la santé publique.","https://www.cdc.gov/anthrax/resources/anthrax-framework.html",null,null,"https://wwwnc.cdc.gov/eid/article/23/13/17-0431_article "]
[null,27,{"$f":"Backbone!A482","v":"Cartographie des ressources pour le RSI et la sécurité sanitaire (Remap)"},"La cartographie des ressources pour le RSI et la sécurité sanitaire (REMAP) est un outil au format Excel développé par l'OMS pour cartographier les ressources disponibles et potentielles qui contribuent au développement et à la conservation des capacités du RSI au niveau des pays. L'OMS aide les pays à élaborer des modèles et des listes de contrôle appropriés pour le REMAP en fonction du contexte de chaque pays. Pour ce faire, des consultations sont organisées avec des parties prenantes nationales multisectorielles, notamment des donateurs et des partenaires.",null,"Pour obtenir des informations supplémentaires, notamment sur l'accès, veuillez contacter l'équipe à sph@who.int","https://apps.who.int/iris/bitstream/handle/10665/329385/WHO-WHE-CPI-2019.17-eng.pdf?sequence=1&isAllowed=y"]
[null,28,{"$f":"Backbone!A396","v":"Codex sur la surveillance «Une seule santé» "},"Un cadre de haut niveau qui favorise la collaboration, la compréhension mutuelle, l'échange de connaissances et l'interopérabilité des données entre les secteurs de surveillance «Une seule santé». Le Codex sur la surveillance «Une seule santé» (OHS-Codex) présente un ensemble de ressources pratiques ainsi que des pointeurs vers des exemples d'application réussie de ces ressources.","https://oh-surveillance-codex.readthedocs.io/en/latest/index.html"]
[null,29,{"$f":"Backbone!A296","v":"Directives actualisées pour l'évaluation des systèmes de surveillance de la santé publique "},"Ce rapport fournit des directives actualisées pour l'évaluation des systèmes de surveillance, à partir du Cadre d'évaluation des programmes de santé publique des CDC, des recherches et des discussions sur les préoccupations liées aux systèmes de surveillance de la santé publique, et des commentaires émis par la communauté de la santé publique. Les directives de ce rapport décrivent de nombreuses tâches et activités connexes qui peuvent être appliquées au système de surveillance de la santé publique.","https://www.cdc.gov/mmwr/preview/mmwrhtml/rr5013a1.htm"]
[null,30,{"$f":"Backbone!A176","v":"Directives pour la conception\nde plans de surveillance\ndes maladies animales\n"},"Le modèle général et le cadre du plan de surveillance des maladies infectieuses","http://www.fao.org/3/cb3252en/cb3252en.pdf"]
[null,31,{"$f":"Backbone!A59","v":"Directives relatives aux compétences des professionnels de laboratoire de santé publique: CDC et Association des laboratoires de santé publique"},"Les directives qui décrivent les connaissances, les compétences et les aptitudes que doivent posséder les professionnels pour fournir les principaux services des laboratoires de santé publique (LSP) de manière efficace et efficiente.  ","https://www.cdc.gov/mmwr/preview/mmwrhtml/su6401a1.htm?s_cid=su6401a1_w","Applicable aux activités spécifiques du secteur public qui pourraient contribuer à la mise en place des éléments constitutifs de la surveillance coordonnée."]
[null,32,{"$f":"Backbone!A643","v":"Élaboration du plan stratégique «Une seule santé»"},"Cette boîte à outils guide le processus d'élaboration d'un plan stratégique national «Une seule santé», étape par étape, au moyen d'une approche participative et axée sur les parties prenantes. Un plan stratégique «Une seule santé» est un document de politique nationale qui définit une approche coordonnée et multisectorielle «Une seule santé» face aux menaces que constituent les maladies, notamment les zoonoses, pour la santé publique. Il sert également de base à la planification du travail de la plateforme et d'outil de promotion pour la mobilisation des ressources.","https://www.onehealthapp.org/","Veuillez vous reporter à la section «Ressources «Une seule santé»» d'OH-app. "]
[null,33,{"$f":"Backbone!A166","v":"EMPRES Système mondial d'information sur les maladies animales (EMPRES-i)"},"Un système d'information sécurisé en ligne pour aider les services vétérinaires au niveau des pays en leur fournissant une base de données de référence sur les maladies animales, y compris les zoonoses, à l'échelon régional et mondial. ","Site public:\nhttp://empres-i.fao.org/eipws3g/\nSite interne de la FAO: https://caf.fao.org/login?service=http%3A%2F%2Fempres-i.fao.org%2Fempresi3g%2Findex.html%3Fwsid%3Dempresi%26lang%3DEN-en%26proxy%3Dfalse\n","Il est possible d'avoir libre accès à la ressource dans le cas de l'outil public, mais la version interne n'est utilisable qu'avec l'autorisation du chef de projet. L'accès est possible grâce à une adresse électronique et un mot de passe fournis par le département informatique de la FAO.","http://empres-i.fao.org/eipws3g/assets/docs/EMPRES-i_Manual.pdf\nhttps://youtu.be/oLa5MRe3qDw\nhttps://youtu.be/5WkB4q5DR6k\nhttps://youtu.be/6tef0goSBlY\nhttps://youtu.be/Ew9TukjBbB0\n","http://www.fao.org/3/a-i4386e.pdf\n\nhttp://www.fao.org/publications/card/fr/c/4296b6d5-14c9-5e72-b467-15f09baa29de/\n\nhttps://www.ijidonline.com/article/S1201-9712(18)34603-4/fulltext\n\nhttps://www.researchgate.net/publication/311821964\n\nhttp://www.fao.org/3/a-i4386e.pdf\n\n"]
[null,34,{"$f":"Backbone!A100","v":"Évaluation des collaborations au sein d'un système de surveillance multisectoriel (EcoSur)"},"EcoSur est un outil semi-quantitatif dont l'objectif est d'évaluer l'organisation et le fonctionnement de la collaboration au sein d'un système de surveillance multisectoriel, ainsi que d'analyser les points forts et les points faibles de cette collaboration. Au final, les résultats de l'évaluation peuvent contribuer à la formulation de recommandations visant à améliorer la collaboration au sein du système de surveillance multisectoriel.","https://survtools.org/wiki/surveillance-evaluation/doku.php?id=quality_of_the_collaboration",null,null,"https://doi.org/10.3389/fvets.2019.00109\n\nhttp://www.theses.fr/s168606"]
[null,35,{"$f":"Backbone!A367","v":"Évaluation des systèmes «Une seule santé» pour les zoonoses prioritaires (OH-SAPZ)"},"L'outil vise à faciliter une évaluation systématique des structures nationales de coordination de l'initiative «Une seule santé» en matière de prévention, de détection et de réponse aux zoonoses.  Les utilisateurs doivent suivre un processus en trois phases: priorisation des maladies; cartographie des systèmes de surveillance et laboratoires; analyse et recommandations. Plus généralement, le processus OH-SAPZ est conçu pour faire la lumière sur les points forts et les points faibles d'un pays en matière de communication et de coordination intersectorielles, tout en offrant une démarche claire pour combler les lacunes détectées. ","https://ghss.georgetown.edu/oh-sapz/","Pour toute demande de modèles, de diapositives et de scénarios, veuillez envoyer un e-mail.\nErin.Sorrell@georgetown.edu, Claire.Standley@georgetown.edu\n","Manuel de l'utilisateur OH-SAPZ https://ghss.georgetown.edu/oh-sapz/\n\n","https://www.ncbi.nlm.nih.gov/pmc/articles/PMC4600904/\n\nhttps://www.ncbi.nlm.nih.gov/pmc/articles/PMC6479159/\n\n"]
[null,36,{"$f":"Backbone!A83","v":"Évaluation ECDC des systèmes de suivi et de surveillance de la qualité des données - Manuel des méthodes et des applications "}," Un manuel pour le suivi de la qualité des données de surveillance des maladies à l'attention des professionnels de la santé publique. Il vise à fournir une orientation sur les processus de suivi de la qualité des données et d'évaluation des systèmes de surveillance dans les États Membres de l'UE/EEE, ainsi qu'à faciliter la tâche quotidienne des professionnels de la santé publique qui travaillent avec des données de surveillance sur les maladies transmissibles.  ","https://www.ecdc.europa.eu/en/publications-data/data-quality-monitoring-and-surveillance-system-evaluation-handbook-methods-and",null,null,"https://bmjopenquality.bmj.com/content/4/1/u209037.w3663; https://www.ncbi.nlm.nih.gov/pmc/articles/PMC5372144/"]
[null,37,{"$f":"Backbone!A256","v":"Évaluation externe conjointe (EEC) "},"Cet outil est conçu pour évaluer la capacité des pays à prévenir, détecter et répondre rapidement aux menaces pour la santé publique, qu'elles soient d'origine naturelle, délibérée ou accidentelle. L'évaluation externe conjointe (EEC) fournit 19 indicateurs d'évaluation des pays qui reflètent des degrés progressifs de capacité des pays, allant de «non mis en œuvre» à «pleinement mis en œuvre, testé et mis en pratique».","https://www.who.int/publications/i/item/joint-external-evaluation-tool-(jee-tool)---second-edition\nhttps://apps.who.int/iris/bitstream/handle/10665/204368/9789241510172_eng.pdf?sequence=1","Pour toute assistance, contactez votre bureau national ou régional de l'OMS.","https://www.who.int/publications/i/item/handbook-for-the-integration-of-the-oie-pvs-results-into-the-jee-process"]
[null,38,{"$f":"Backbone!A163","v":"Event Mobile Application (EMAi)"},"EMA-i est une application d'établissement de rapports en temps réel mise au point par la FAO.  Grâce à EMA-i, les vétérinaires fonctionnaires recueillent sur le terrain des informations sur les maladies animales, qui sont ensuite transmises via le réseau. L'application génère des rapports géoréférencés, qui sont transmis à l'interface utilisateur pays à travers le Système mondial d'information sur les maladies animales de la FAO (EMPRES-i), où les données sont stockées et traitées en toute sécurité. L'outil est adapté aux besoins nationaux en matière d'établissement de rapports sur les maladies.",null,"Pour obtenir des informations supplémentaires, notamment sur l'accès, veuillez contacter Sabina.Ramazzotto@fao.org",null,"http://www.fao.org/3/a-i4853e.pdf\nhttp://www.fao.org/3/CA1078EN/ca1078en.pdf\nhttp://boutique.oie.int/extrait/24tekola657670.pdf"]
[null,39,{"$f":"Backbone!A179","v":"FoodChain-Lab (FCL) "},"FoodChain-Lab (FCL) est un logiciel de traçage libre et gratuit. Il fournit des analyses de traçage des denrées alimentaires en amont et en aval afin d'identifier la source d'une contamination à l'origine de foyers épidémiques d'origine alimentaire ou d'autres incidents liés à l'alimentation. FCL offre des fonctions de collecte, de gestion et de visualisation des données ainsi que des méthodes d'analyse interactives. FCL a été appliqué avec succès dans un certain nombre de foyers épidémiques.","https://foodrisklabs.bfr.bund.de/foodchain-lab/\nhttps://fcl-portal.bfr.berlin/\n",null,"https://foodrisklabs.bfr.bund.de/foodchain-lab/\nhttps://foodrisklabs.bfr.bund.de/foodchain-lab/\nhttps://github.com/SiLeBAT/BfROpenLab\nhttps://github.com/SiLeBAT/fcl-client\n","https://www.liebertpub.com/doi/pdf/10.1089/fpd.2012.1296\n\nhttps://journals.plos.org/plosone/article?id=10.1371/journal.pone.0151977\n\nhttps://efsa.onlinelibrary.wiley.com/doi/epdf/10.2903/sp.efsa.2019.EN-1742\n\n"]
[null,40,{"$f":"Backbone!A433","v":"Glossaire du Programme conjoint européen «Une seule santé» (OHEJP)"},"Le glossaire «Une seule santé» à base communautaire, disponible en ligne et appelé Glossaire OHEJP, regroupe plus de 1 000 entrées de termes «Une seule santé» ou spécifiques du secteur de la santé publique, de la santé animale et de la sécurité alimentaire.  Le glossaire OHEJP fournit également des outils qui permettent de mettre en évidence les similitudes et les différences entre les secteurs.   ","https://foodrisklabs.bfr.bund.de/oh-collaboration/ ",null,"https://foodrisklabs.bfr.bund.de/oh-collaboration/\n\nhttps://data.d4science.net/nPk4\n\nhttps://oh-surveillance-codex.readthedocs.io/en/latest/2-the-collaboration-principle.html#ohejp-glossary"]
[null,41,{"$f":"Backbone!A51","v":"Guide de discussion sur les capacités sanitaires aux frontières (BHCDG)"},"Le guide de discussion sur les capacités sanitaires aux frontières comprend des outils de modèles pour mener des discussions avec des représentants au niveau national, des districts et des points de passage frontaliers terrestres sur sept problématiques relatives aux systèmes de santé aux frontières: 1. Caractéristiques de la frontière 2. Disponibilité des services médicaux et de santé publique 3. Plans de réponse et formations 4. Systèmes de surveillance 5. Systèmes de communication 6. Mobilisation sociale 7. Partage d'informations binationales et régionales.",null,"Pour en savoir plus sur cette ressource, veuillez contacter l'équipe mondiale chargée de la santé aux frontières au sein des CDC: gbht@cdc.gov "]
[null,42,{"$f":"Backbone!A675","v":"Incorporation de l'approche «Une seule santé» dans un kit d'orientation politique et technique"},"Cette boîte à outils oriente le processus d'intégration du concept de l'approche «Une seule santé» dans les politiques sectorielles et intersectorielles, nouvelles et existantes, ainsi que dans les documents d'orientation technique, y compris les directives, les procédures opérationnelles standard (POS), les protocoles et les plans, dans le cadre d'une promotion élargie de la politique «Une seule santé» et des efforts multisectoriels de préparation et de réponse.","https://www.onehealthapp.org/","Section «Ressources «Une seule santé»» "]
[null,43,{"$f":"Backbone!A155","v":"Initiative de veille épidémique à sources ouvertes (EIOS)"},"L'initiative EIOS est le fruit d'une collaboration unique entre l'OMS et plusieurs parties prenantes qui regroupe des initiatives, des réseaux et des systèmes, nouveaux et existants, afin de créer une approche «Une seule santé» unifiée pour tous les dangers visant à la détection précoce, la vérification et l'évaluation des risques et des menaces pour la santé publique à partir d'informations d'exploitation libre.","https://portal.who.int/eios/Login","Pour en savoir plus ou pour participer à cette initiative, veuillez envoyer un e-mail à l'équipe principale EIOS\neios@who.int"]
[null,44,{"$f":"Backbone!A395","v":"L'évaluation «Une seule santé» pour la planification et la performance (OH-APP)"},"OH-APP est un cadre de suivi permettant aux mécanismes de coordination multisectoriels (MCM) d'auto-évaluer annuellement leurs capacités et performances organisationnelles en vue d'orienter la planification et l'aide au développement. L'OH-APP complète l'Évaluation externe conjointe (EEC) de l'OMS en fournissant des indicateurs plus spécifiques qui permettent de mesurer la maturité d'un MCM et d'évaluer sa progression vers un mécanisme durable capable de coordonner une collaboration multisectorielle et multipartite en vue de se préparer et de répondre aux menaces pour la santé publique. L'OH-APP est dispensé dans le cadre d'un atelier de deux jours, à l'aide d'outils de prise de décision participative. Les résultats de l'évaluation sont utilisés pour orienter la prise de décision en matière de planification conjointe, de mise en œuvre et de réponse aux menaces pour la santé publique.","https://www.onehealthapp.org/","Il est possible d'accéder à cette application en utilisant un pays fictif, le Concordia.\nPour des raisons de communication interne, seuls les utilisateurs disposant d'un identifiant officiel «Une seule santé» sont en mesure d'ajouter des évaluations pour d'autres pays. La fonctionnalité est la même, de sorte que les utilisateurs peuvent utiliser cette application pour évaluer la capacité et la performance organisationnelle «Une seule santé» dans le contexte de leur propre pays sans avoir besoin d'un identifiant officiel pour cette application."]
[null,45,{"$f":"Backbone!A288","v":"Liste et catégorisation des maladies animales prioritaires, y compris celles transmissibles à l'homme (Phylum)"},"L'outil de catégorisation et de priorisation est prévu pour faciliter les étapes analytiques du protocole. Cet outil consiste en un fichier Excel, structuré en plusieurs modules. Chaque module correspond à une feuille de calcul séparée qui évalue un impact ou un type de données particulier.","https://www.oie.int/solidarity/global-studies/categorisation-of-animal-diseases/",null,"https://www.who.int/ihr/procedures/mission-reports/en/"]
[null,46,{"$f":"Backbone!A65","v":"Logiciel d'information de santé au niveau des districts 2 (DHIS2) "},"DHIS2 est une plateforme d'exploitation libre en ligne sur les systèmes d'information pour la gestion sanitaire (HMIS). La plateforme permet l'entreposage et la visualisation des données, et offre aux utilisateurs et aux décideurs politiques la possibilité de générer des analyses à partir de données en temps réel. DHIS2 est un logiciel libre et ouvert. Chaque pays possède sa propre «instance» de la plateforme DHIS2, et dispose de la pleine propriété de l'application et des données. Les Ministères de la santé, en collaboration avec les experts de la communauté DHIS2, configurent leur propre système d'information à partir de la plateforme générique.  ","https://www.dhis2.org/home","Le développement du logiciel central de la plateforme DHIS2 est géré par le Programme des systèmes d'information sanitaire (HISP) de l'Université d'Oslo (UiO).\nContact: post@dhis2.org  "]
[null,47,{"$f":"Backbone!A291","v":"Méthodologie d'analyse de la législation relative à la RAM dans le secteur de l'alimentation et de l'agriculture"},"La méthodologie développée par la FAO est un outil conçu pour orienter les analyses de la législation nationale en matière de RAM dans les secteurs de l'alimentation et de l'agriculture.  Elle peut être appliquée pour soutenir un processus d'examen juridique permettant de révéler les lacunes et les points faibles de la législation nationale en matière d'utilisation des antimicrobiens et de résistance à ceux-ci, ainsi que d'évaluer la compatibilité des différents types d'instruments juridiques nationaux et régionaux avec les normes internationales de lutte contre la RAM. ",null,"Pour en savoir plus sur la possibilité d'accéder à l'outil, veuillez contacter le Service du droit pour le développement du Bureau juridique (LEGN) de la FAO à l'adresse suivante: LEGN-Chief@fao.org\n"]
[null,48,{"$f":"Backbone!A427","v":"Mission PVS pour les laboratoires de l'Organisation mondiale de la santé animale (OMSA)"},"La mission PVS pour les laboratoires est considérée comme faisant partie intégrante des programmes spécifiques de l'OMSA qui visent à soutenir les pays. Les objectifs de ces missions sont non seulement de déterminer les ressources dont a besoin le réseau national de laboratoires, mais aussi d'évaluer la pertinence de la structure et de la viabilité de ce dernier dans le contexte national afin de présenter aux services vétérinaires les éléments nécessaires à une prise de décision stratégique. Ces missions permettent également d'analyser la relation entre le réseau national de laboratoires et tous les autres prestataires de services.","https://www.oie.int/fileadmin/Home/eng/Support_to_OIE_Members/pdf/OIE_PVS_Pathway_Laboratory_Manual_2014.pdf","La demande de mission PVS doit être envoyée par le délégué national de l'OMSA au directeur général de l'OMSA.","https://rr-asia.oie.int/wp-content/uploads/2019/12/6a-managing-an-oie-pvs-evaluation-part-1_bangkok-dec-2019.pdf"]
[null,49,{"$f":"Backbone!A571","v":"Organisation mondiale de la santé animale (OMSA) Application Alerts du Système mondial d'information sanitaire (WAHIS)"},"L'application Alerts du WAHIS permet à ses utilisateurs de recevoir, sur leurs téléphones mobiles ou tablettes, des alertes sanitaires (notifications immédiates) et des rapports de suivi dès qu'ils sont publiés par l'OMSA.",null,"App store; Google Playstore, Play Market","https://www.oie.int/en/for-the-media/press-releases/detail/article/oie-alerts-and-animal-health-information-now-available-on-your-smartphone-or-tablet/"]
[null,50,{"$f":"Backbone!A447","v":"Outil d'analyse coût-efficacité de la surveillance de la rage animale"},"Un outil basé sur Excel permettant d'effectuer une analyse coût-efficacité des programmes de prévention de la rage.","https://www.ncbi.nlm.nih.gov/pubmed/28719253","L'outil Excel peut être téléchargé dans un fichier supplémentaire.\n"]
[null,51,{"$f":"Backbone!A42","v":"Outil d'autoévaluation APHL pour l'informatique"},"L'outil permet aux laboratoires de santé publique d'évaluer les points forts et les lacunes des capacités informatiques au regard de 19 domaines opérationnels essentiels. Il saisit les données de façon longitudinale, ce qui permet aux laboratoires d'effectuer une mesure des progrès réalisés et de tirer parti des résultats pour promouvoir efficacement leurs besoins.","https://www.aphl.org/programs/informatics/Documents/LEI_2013Jun_Informatics-Self-Assessment-Tool-for-PHLs.pdf","L'outil d'auto-évaluation pour l'informatique a été publié à la fois sous forme de document pdf et d'outil en ligne. La version en ligne permet aux utilisateurs enregistrés de sauvegarder leur travail et d'effectuer des comparaisons avec leurs évaluations précédentes. Elle offre également une puissante capacité de visualisation permettant d'afficher les données sous forme de graphiques. Pour en savoir plus sur l'accès à la version en ligne, veuillez contacter  rachel.sheperd@aphl.org"]
[null,52,{"$f":"Backbone!A268","v":"Outil de cartographie des laboratoires de la FAO (LMT)"},"LMT est un système destiné à évaluer la fonctionnalité des laboratoires vétérinaires selon un processus à deux niveaux: i) une évaluation de la fonctionnalité du laboratoire au moyen d'un questionnaire détaillé et standardisé qui peut être mené par un évaluateur externe ou par auto-évaluation; et ii) la saisie des données recueillies dans une application numérique qui génère des graphiques et des tableaux permettant d'obtenir une «vue instantanée» du niveau de fonctionnalité d'un laboratoire donné et son évolution dans le temps, par exemple sur une base annuelle. L'outil sert également à établir une base de référence de l'état du laboratoire avant une intervention, de façon à pouvoir mesurer précisément les progrès et l'impact obtenus après celle-ci. ","http://www.fao.org/ag/againfo/programmes/en/empres/news_130514.html","Anglais et français disponibles en ligne, autres langues sur demande: Chinois, thaïlandais, azerbaïdjanais, russe, indonésien (bahasa)\nPoint de contact: EMPRES-Lab-Unit@fao.org\n\nLMT est une famille d'outils, dans laquelle le module central LMT Core peut être complété par d'autres comme le module LMT-security et le module LMT-AMR disponibles à ce jour. \n",null,"https://www.ncbi.nlm.nih.gov/pmc/articles/PMC6136606/"]
[null,53,{"$f":"Backbone!A174","v":"Outil de cartographie épidémiologique (EMT)"},"Outil basé sur Excel destiné à évaluer les capacités épidémiologiques nationales des services vétérinaires. Il est conçu pour fournir des évaluations complètes de la capacité vétérinaire en matière d'épidémiologie aux niveaux national, infra-national et local, avec l'engagement de diverses parties prenantes.  L'EMT a pour objectif de fournir une évaluation des capacités en matière épidémiologique dans différents secteurs et disciplines comme la santé animale, la santé humaine, la santé environnementale, l'épidémiologie, les laboratoires, en mettant l'accent sur trois domaines techniques principaux (institutionnel, ressources humaines en épidémiologie et applications sur les capacités épidémiologiques).",null,"Pour de plus amples informations sur EMT, veuillez contacter le FAO RAP Kachen.Wongsathapornchai@fao.org\n"]
[null,54,{"$f":"Backbone!A47","v":"Outil de la FAO d’évaluation de la surveillance nationale de l'antibiorésistance et des compétences des laboratoires (ATLASS)"},"L'outil de la FAO d’évaluation de la surveillance nationale de l'antibiorésistance et des compétences des laboratoires (FAO-ATLASS) renforce la capacité des pays en matière de surveillance de la RAM en contribuant à l'amélioration de l'harmonisation et de la coordination de celle-ci aux niveaux national, régional et mondial.Il s'agit d'un outil permettant de générer des données de base et des recommandations adaptées pour améliorer les capacités de détection du système national de surveillance de la RAM dans les secteurs de l'alimentation et de l'agriculture par le biais d'une évaluation externe et d'une auto-évaluation (menée par des évaluateurs ATLASS externes ou nationaux formés).  FAO-ATLASS comprend deux modules principaux: FAO-ATLASS Surveillance et FAO-ATLASS Laboratory. Il couvre les domaines du réseau de production de données sur la RAM (laboratoires), de la collecte et de l'analyse des données en la matière, de la gouvernance, de la communication et de la durabilité globale","http://www.fao.org/antimicrobial-resistance/resources/tools/fao-atlass/en/","Pour demander une mission ATLASS, veuillez contacter votre bureau national/régional de la FAO, et/ou envoyer directement un e-mail à EMPRES-Lab-Unit@fao.org ",null,"http://www.fao.org/antimicrobial-resistance/resources/tools/fao-atlass/en/"]
[null,55,{"$f":"Backbone!A517","v":"Outil d'évaluation de la surveillance (SET) de la FAO"},"L'Outil d'évaluation de la surveillance (SET) évalue les systèmes nationaux de surveillance des zoonoses en employant une méthodologie exhaustive et reproductible. Des entretiens avec les principaux décideurs, du niveau central jusqu'aux éleveurs sur le terrain, sont utilisés pour générer des graphiques montrant les points forts et les points faibles des systèmes. À partir de ceux-ci, des plans d'action visant à l'amélioration sont élaborés conjointement avec les services vétérinaires. ",null,"L'outil est accessible sur demande. Les utilisateurs intéressés par le SET doivent contacter les développeurs au préalable pour s'assurer que ceux-ci ont bien utilisé les tout derniers documents et la méthodologie appropriée. Les coordonnateurs peuvent être contactés en consultant la page web du projet ici:\n http://www.fao.org/ag/againfo/programmes/en/empres/tools_SET.html \n","http://www.fao.org/ag/againfo/programmes/en/empres/tools_SET.html\nhttps://fao.adobeconnect.com/_a1026619000/faoset/ \nhttps://fao.adobeconnect.com/_a1026619000/p6w4mnvs0d2f/?proto=true","http://www.fao.org/3/CA1770EN/ca1770en.pdf\nhttp://www.fao.org/3/CA1832FR/ca1832fr.pdf\nhttp://www.fao.org/3/CA1778EN/ca1778en.pdf\nhttp://www.fao.org/3/CA2917FR/ca2917fr.pdf\nhttp://www.fao.org/3/ca3754en/ca3754en.pdf\nhttp://www.fao.org/3/ca5753fr/ca5753fr.pdf\nhttp://www.fao.org/3/ca7549en/ca7549en.pdf\n\n\n"]
[null,56,{"$f":"Backbone!A400","v":"Outil d'évaluation de l'état de préparation et des besoins pour une surveillance «Une seule santé» (OHSRRT)"},"L'OHSRRT est un outil d'évaluation utilisé pour déterminer l'état de préparation du pays et dresser la liste des besoins nécessaires au développement d'un système de surveillance «Une seule santé» basé sur des facteurs de réussite critiques. L'outil comprend un guide et un questionnaire d'engagement pour les parties prenantes, une feuille de saisie et de caractérisation des données, et l'évaluation de l'état de préparation et des besoins (OHSRRT).  L'outil est structuré de manière à ce que les résultats qu'il permet de recueillir servent de base à la rédaction d'un rapport d'analyse des besoins et à l'élaboration d'exigences fonctionnelles pour garantir le bon fonctionnement du système de surveillance «Une seule santé». ",null,"Pour plus d'informations sur cet outil, veuillez contacter le Service d'intervention et de redressement d'urgence (ERRB) des CDC, le Bureau «Une seule santé» des CDC ou le Laboratoire de physique appliquée Johns Hopkins (JHU/APL)\nContact JHU/APL: Karen Meidenbauer, Docteure en médecine vétérinaire et Master en santé publique (DVM-MPH)\nKaren.meidenbauer@jhuapl.edu"]
[null,57,{"$f":"Backbone!A234","v":"Outil d'évaluation des coûts du Règlement sanitaire international (RSI) de l'Université de Georgetown"},"L'outil d'évaluation des coûts du RSI aide les utilisateurs à élaborer des estimations de coûts pour la mise en place de capacités durables dans le cadre du Règlement sanitaire international (RSI). L'interface intuitive permet d'estimer les coûts des améliorations à apporter pour atteindre les objectifs de capacité sur la base de l'expérience acquise sur le terrain et offre une orientation pour atteindre les capacités techniques spécifiques précisées dans l'Évaluation externe conjointe.","https://ghscosting.org/",null,null,"https://pubmed.ncbi.nlm.nih.gov/30167334/\nhttps://www.liebertpub.com/doi/pdf/10.1089/hs.2019.0063\nhttps://ghscosting.org/export/IHR%20Costing%20Tool%20-%20Definitions%20and%20References.pdf "]
[null,58,{"$f":"Backbone!A430","v":"Outil d'évaluation des coûts d'un foyer épidémique"},"Un outil de collecte de données au format Excel qui peut être utilisé pour estimer les coûts des enquêtes régulières et des efforts de réponse aux foyers épidémiques dans un pays. L'OCT peut aider à normaliser la collecte des données sur les ressources utilisées dans l'investigation et la réponse aux foyers épidémiques, ainsi qu'à identifier les principaux facteurs de coût et à orienter les budgets annuels. ",null,"Pour utiliser l'outil d'évaluation des coûts des foyers épidémiques (OCT), pour avoir accès aux documents de référence ou pour toute autre consultation, veuillez contacter la Dr. Cynthia H. Cassell à chcassell@cdc.gov ou le Dr. Mahlet A. Woldetsadik à mwoldetsadik@cdc.gov "]
[null,59,{"$f":"Backbone!A598","v":"Outil d'évaluation des laboratoires de l'OMS"},"L'outil fournit des orientations et des feuilles de calcul pour la collecte de données afin d'évaluer: 1. l'organisation stratégique et le soutien du Gouvernement au niveau national (structure, organisation et réglementation du ou des systèmes de laboratoire nationaux), 2. les capacités techniques spécifiques au niveau des laboratoires (laboratoires sélectionnés qui sont représentatifs du pays). Il comprend deux parties, le système (LAT/System) et les installations (LAT/Facility). Chaque partie comprend un fichier Excel et un fichier pdf. Le recours aux fichiers Excel facilite la collecte des données, en permettant le calcul, la notation et l'agrégation des données de manière automatique. Les deux questionnaires peuvent être utilisés de façon indépendante ou en combinaison."," https://www.who.int/ihr/publications/laboratory_tool/en/ ","Disponible en anglais, en français, en espagnol et en russe."]
[null,60,{"$f":"Backbone!A450","v":"Outil d'évaluation des progrès vers l'éradication de la rage (TAPER)"},"Cet outil facilite l'évaluation des données de surveillance de la rage collectées de manière régulière, en vue de fournir des orientations de gestion actualisées et adaptées aux conditions locales, de manière à surmonter les obstacles et à poursuivre les progrès vers l'éradication de la maladie.","https://boydorr.shinyapps.io/paho_rabies/\nhttps://github.com/katiehampson1978/paho_rabies","L'algorithme est simple et peut être mis en œuvre à l'aide d'un code déposé sur Github. De plus amples détails sont fournis dans un document en cours de révision. Pour obtenir de l'aide sur la façon dont il est possible de s'adapter à d'autres contextes, veuillez contacter Isty Rysava (istyrysava@gmail.com) ou Katie Hampson (Katie.Hampson@glasgow.ac.uk",null,"https://doi.org/10.1186/s12879-020-05457-x"]
[null,61,{"$f":"Backbone!A351","v":"Outil d'évaluation des réseaux de surveillance (OASIS)"},"Il s'agit d'un outil semi-quantitatif standardisé pour l'évaluation des systèmes de surveillance des zoonoses et des maladies animales. Il constitue un ensemble de 78 critères d'évaluation répartis en dix sections, représentant les différentes parties fonctionnelles d'un système de surveillance. Chaque critère se voit attribuer une note conformément aux instructions d'un guide de notation. Les résultats obtenus sont présentés en trois graphiques. OASIS est destiné à être utilisé de manière participative avec les personnes en charge du système qui est à l'étude\n\n\n","https://www.plateforme-esa.fr/article/l-outil-d-evaluation-oasis","Disponible en anglais et en français",null,"https://www.cambridge.org/core/journals/epidemiology-and-infection/article/oasis-an-assessment-tool-of-epidemiological-surveillance-systems-in-animal-health-and-food-safety/845374EB93FAE51055A5354A02C4BE33/core-reader"]
[null,62,{"$f":"Backbone!A38","v":"Outil d'évaluation informatique pour les laboratoires APHL"},"Un outil permettant de recueillir des informations de référence auprès des laboratoires pour enregistrer le flux de données, le flux de travail, l'infrastructure, les ressources humaines et la formation, les équipements disponibles, la gestion des données, y compris l'enregistrement des données et l'établissement de rapports.  Cet outil a été modifié en fonction du type de laboratoire évalué.  ","https://www.aphl.org/aboutAPHL/publications/Documents/GH-2018Nov-LIS-Guidebook-web.pdf ","On peut le trouver à l'Annexe F du document."]
[null,63,{"$f":"Backbone!A97","v":"Outil ECDC pour l'établissement des priorités en matière de menaces de maladies infectieuses"},"Cet outil de Microsoft Excel permet de prioriser les menaces liées aux maladies infectieuses d'une manière transparente, comparable et méthodologiquement reproductible. Il permet d'établir un classement relatif des différentes menaces de maladies infectieuses. Son objectif est de compléter d'autres méthodes qui aident également à la prise de décision dans la planification de la préparation.","https://www.ecdc.europa.eu/en/publications-data/ecdc-tool-prioritisation-infectious-disease-threats","Contacts: publications@ecdc.europa.eu; info@ecdc.europa.eu","https://www.ecdc.europa.eu/sites/default/files/documents/Tool-for-disease-priority-ranking_handbook-update-dec-18.pdf","https://www.ecdc.europa.eu/en/publications-data/literature-review-best-practices-ranking-emerging-infectious-disease-threats\n\nhttps://www.eurosurveillance.org/content/10.2807/1560-7917.ES.2016.21.17.30212"]
[null,64,{"$f":"Backbone!A557","v":"Outil par étapes pour l'éradication de la brucellose (STEB)"},"Un outil d'auto-évaluation basé sur un tableur, développé pour aider les pays à évaluer leur capacité actuelle à prévenir, contrôler et éliminer la brucellose. En identifiant des lacunes dans les capacités, le STEB aide les pays à concevoir des activités qui utilisent l'approche «Une seule santé» dans la prévention, le contrôle et l'élimination de la brucellose. ",null,"Pour obtenir des informations supplémentaires, notamment sur l'accès, veuillez contacter onehealth@cdc.gov et bspb@cdc.gov"]
[null,65,{"$f":"Backbone!A483","v":"Outils de surveillance en ligne (SURVTOOLS) "},"Ensemble d'outils de conception et d'évaluation de la surveillance destinés aux techniciens compétents chargés de concevoir, de mettre en œuvre ou d'évaluer la surveillance de la santé animale. Ces outils orientent les utilisateurs à travers les étapes essentielles du cycle conception/évaluation/re-conception en vue de la planification stratégique de la surveillance de la santé animale et favorisent la compréhension des concepts, méthodes et exigences critiques.","https://survtools.org\n\nhttps://survtools.org/wiki/surveillance-design-framework/doku.php\n\nhttps://survtools.org/wiki/surveillance-evaluation/doku.php","Les outils SURVTOOLS sont fournis à travers une plateforme en ligne accessible au public (https://survtools.org/; enregistrement requis lors de la première utilisation). ","https://www.youtube.com/watch?v=6bXBn-Kglp8&feature=youtu.be&list=PLPamJyFyCit8UGPOaEwr_bR0LCKkcKzJ6\n\nhttps://www.youtube.com/watch?v=8aLKTw7z63U&feature=youtu.be","https://doi.org/10.1016/j.prevetmed.2019.104777\n\nhttps://www.researchgate.net/publication/299393001_RISKSUR_tools_taking_animal_health_surveillance_into_the_future_through_interdisciplinary_integration_of_scientific_evidence\n\ndoi.org/10.1186/s12917-016-0822-5 "]
[null,66,{"$f":"Backbone!A303","v":"Plan d'action national pour la sécurité sanitaire (PANSS)"},"Un processus de planification pluriannuel, mené par le pays lui-même, capable d'accélérer la mise en œuvre des capacités essentielles du RSI et fondé sur l'approche «Une seule santé» et «à l'échelle de l'ensemble de l'administration» pour tous les risques. Il recense les priorités nationales en matière de sécurité sanitaire, rassemble les secteurs, identifie les partenaires et alloue des ressources pour le développement des capacités en matière de sécurité sanitaire. Le PANSS constitue également un processus global permettant de recueillir toutes les initiatives de préparation en cours dans un pays, ainsi qu'un mécanisme de gouvernance nationale pour la gestion des urgences et des risques de catastrophe. \n","https://apps.who.int/iris/bitstream/handle/10665/312220/WHO-WHE-CPI-19.5-eng.pdf?sequence=1","Le site web contient de nombreuses informations, mais il semble nécessaire pour les pays de travailler en étroite collaboration avec l'OMS dans ce processus."]
[null,67,{"$f":"Backbone!A415","v":"Priorisation des maladies zoonotiques dans le cadre de l'approche «Une seule santé» (OHZDP)"},"Outil d'aide à la décision au format Excel fournissant des orientations étape par étape sur la conduite d'un processus de priorisation multisectoriel «Une seule santé» dans le cadre d'un atelier. L'outil utilise un processus qualitatif, semi-quantitatif et quantitatif dans lequel les participants élaborent un certain nombre de critères permettant de prioriser les zoonoses, puis développent des questions représentatives de ces critères afin de les classer, pour enfin calculer des valeurs de classement sur la base de ces données.",null,"Contact onehealth@cdc.gov"]
[null,68,{"$f":"Backbone!A184","v":"Processus d'élimination globale de la rage chez le chien (GDREP)"},"Un outil sous Excel offrant une interface conviviale comprenant les différents aspects d'un programme d'élimination de la rage canine, répartis en deux catégories principales portant respectivement sur les aspects épidémiologiques/logistiques et financiers.","https://rabiesalliance.org/app/gdrep\nhttps://rabiesalliance.org/capacity-building/gdrep","L'outil est accessible sous la forme d'un fichier Excel supplémentaire dans la publication (https://www.ncbi.nlm.nih.gov/pmc/articles/PMC5300989/) ou sur le site web https://rabiesalliance.org/capacity-building/gdrep","https://rabiesalliance.org/capacity-building/gdrep ","https://www.ncbi.nlm.nih.gov/pmc/articles/PMC5300989/\n\nhttps://journals.plos.org/plosntds/article?id=10.1371/journal.pntd.0006756\n\nhttps://wwwnc.cdc.gov/eid/article/23/12/17-1148_article\n"]
[null,69,{"$f":"Backbone!A419","v":"Profil d'évaluation des performances des services vétérinaires (PVS) de l'Organisation mondiale de la santé animale (OMSA)"},"Il s'agit d'une évaluation externe, menée dans le pays par un groupe d'experts formés par l'OMSA, qui collectent et analysent les informations de base et les preuves recueillies au cours de la mission, dont une partie importante est réalisée sur le terrain. La mission utilise l'outil PVS de l'OMSA, à travers lequel 45 compétences critiques sont évaluées de façon systématique.  Le résultat final est un rapport d'évaluation qui donne une vue d'ensemble de l'état des services vétérinaires, évalue leurs performances et identifie leurs points forts et leurs points faibles sur la base des normes internationales de l'OMSA.","https://www.oie.int/solidarity/pvs-pathway/","La demande de mission PVS doit être envoyée par le délégué national de l'OMSA au directeur général de l'OMSA.","https://rr-asia.oie.int/wp-content/uploads/2019/12/6a-managing-an-oie-pvs-evaluation-part-1_bangkok-dec-2019.pdf"]
[null,70,{"$f":"Backbone!A346","v":"Programme national de normes de performance en santé publique (NPHPSP): Instrument d'évaluation des performances des systèmes de santé publique locaux (version 2)"},"L'objectif d'une évaluation des performances est de renforcer et d'améliorer le système de santé publique. L'instrument NPHPSP est basé sur le cadre des dix services essentiels de la santé publique. Pour chaque service essentiel, les normes modèles décrivent ou correspondent aux principales activités menées au niveau local. Dans le cadre du processus d'évaluation, les participants à l'ensemble du système de santé publique local ont l'occasion de discuter et de déterminer leurs performances par rapport à chacune des 30 normes modèles. ","https://www.cdc.gov/publichealthgateway/nphps/index.html?CDC_AA_refVal=https%3A%2F%2Fwww.cdc.gov%2Fnphpsp%2Findex.html","L'instrument a été développé pour les systèmes de santé publique des États-Unis. Il peut être pris comme exemple pour l'adaptation aux conditions locales."]
[null,71,{"$f":"Backbone!A445","v":"Rabies ECON "},"Un outil sous Excel permettant d'estimer la charge épidémiologique imputée à la rage canine et l'impact épidémiologique et économique potentiel d'un programme de vaccination contre cette maladie.","https://www.ncbi.nlm.nih.gov/pubmed/29791440","L'outil Excel peut être téléchargé dans un fichier supplémentaire."]
[null,72,{"$f":"Backbone!A418","v":"Recueil d'informations sur les postes-frontière uniques"},"Cette ressource, développée par des pays d'Afrique de l'Est et directement applicable à ces derniers, fournit une description complète d'un certain nombre de considérations que les organisations nationales de deux pays voisins devraient prendre en compte pour l'établissement d'un système commun de gestion des mouvements transfrontaliers de personnes et de marchandises aux points de passage frontalier terrestres prioritaires. ","https://www.tralac.org/documents/resources/african-union/1682-osbp-sourcebook-2nd-edition-may-2016/file.html"]
[null,73,{"$f":"Backbone!A552","v":"Règlement sanitaire international (2005): outil d’autoévaluation pour l'établissement de rapports annuels par les États Parties (SPAR)"},"Un outil d'établissement de rapports qui aide les États parties au Règlement sanitaire international (RSI) à s'acquitter de leur obligation de rendre compte chaque année à l'Assemblée mondiale de la santé (WHA) du respect des exigences en matière de capacités prévues par ledit règlement et à encourager la transparence et la responsabilité mutuelle entre les États parties envers la santé publique mondiale, conformément au Cadre de suivi et d'évaluation du RSI de l'OMS.","support papier \nhttps://apps.who.int/iris/bitstream/handle/10665/272432/WHO-WHE-CPI-2018.16-eng.pdf?sequence=1 ; \nformat électronique\nhttps://extranet.who.int/e-spar","Les coordonnateurs nationaux du RSI ont accès à une plateforme en ligne pour l'établissement de rapports SPAR.","https://extranet.who.int/sph/news/ihr-self-assessment-annual-reporting-tool-spar-2018"]
[null,74,{"$f":"Backbone!A332","v":"Réseau pour l'évaluation de l'approche «Une seule santé» (NEOH)"},"En tant que partie intégrante d'un cadre d'évaluation, il mesure la conformité d'un système de surveillance au principe «Une seule santé» en déterminant les aspects critiques de l'intégration, à savoir la réflexion, la planification, le travail, l'apprentissage, le partage et l'organisation systémique de l'approche «Une seule santé» dans des feuilles de travail au format Excel standardisées comportant chacune un maximum de 17 questions à répondre.","https://www.wageningenacademic.com/doi/abs/10.3920/978-90-8686-875-9\n\nhttps://www.wageningenacademic.com/doi/suppl/10.3920/978-90-8686-875-9/suppl_file/%20NEOH_ESM_4_The%20neoh%20evaluation%20tools.xlsx ",null,"https://www.wageningenacademic.com/doi/suppl/10.3920/978-90-8686-875-9/suppl_file/%20NEOH_ESM_4_The%20neoh%20evaluation%20tools.xlsx\nhttps://www.wageningenacademic.com/doi/suppl/10.3920/978-90-8686-875-9","https://www.frontiersin.org/articles/10.3389/fpubh.2017.00020/full\nhttps://www.frontiersin.org/articles/10.3389/fvets.2018.00033/full\nhttps://www.frontiersin.org/articles/10.3389/fpubh.2018.00045/full\nhttps://www.frontiersin.org/articles/10.3389/fpubh.2018.00074/full\nhttps://www.frontiersin.org/articles/10.3389/fvets.2018.00147/full\nhttps://www.frontiersin.org/articles/10.3389/fvets.2018.00163/full\nhttps://www.frontiersin.org/articles/10.3389/fvets.2018.00023/full\nhttps://www.frontiersin.org/articles/10.3389/fvets.2017.00238/full\nhttps://www.frontiersin.org/articles/10.3389/fpubh.2017.00236/full\n\n"]
[null,75,{"$f":"Backbone!A575","v":"Résistance aux antimicrobiens: un manuel pour la mise en œuvre de plans d'action nationaux"},"Le manuel pour la mise en œuvre de plans d'action nationaux destinés à lutter contre la résistance aux antimicrobiens. Un certain nombre d'outils d'aide ont également été mis au point par l'OMS, en collaboration avec la FAO et l'OMSA, pour accompagner ce manuel. Parmi eux figurent notamment des exemples de termes de référence pour les mécanismes de coordination proposés, un modèle générique de plan d'action national, un exemple de plan de suivi et d'évaluation, ou encore une liste de contrôle. ","https://apps.who.int/iris/bitstream/handle/10665/204470/9789241549530_eng.pdf","Ce manuel et ses documents complémentaires pourraient être adaptés pour être utilisés dans le domaine des zoonoses."]
[null,76,{"$f":"Backbone!A686","v":"Stratégie de financement durable pour la boîte à outils «Une seule santé»"},"L'objectif de cette boîte à outils est d'aider les plateformes «Une seule santé» et autres mécanismes de coordination à demander et recevoir des fonds pour soutenir leurs opérations et leurs activités à long terme.","https://www.onehealthapp.org/","Veuillez vous reporter à la section «Ressources «Une seule santé»» d'OH-app. "]
[null,77,{"$f":"Backbone!A61","v":"Stratégies de communication et de coordination multisectorielles aux frontières"},"L'outil se compose de modules de formation à utiliser dans le cadre d'un atelier.  Cet outil a été conçu pour orienter les parties prenantes dans le processus de détermination des mécanismes de partage d'informations spécifiques d'un secteur, ainsi que dans la création de mécanismes de partage d'informations multisectoriels ou transfrontaliers. Ils peuvent être granulaires et opérationnels, ou de haut niveau, selon les objectifs de l'utilisateur. ",null,"Pour de plus amples informations sur cette ressource, veuillez contacter l'équipe mondiale chargée de la santé aux frontières au sein de l'US-CDC: gbht@cdc.gov",null,"https://wwwnc.cdc.gov/eid/article/23/13/17-0520_article\nhttps://www.liebertpub.com/doi/10.1089/hs.2019.0080\n"]
[null,78,{"$f":"Backbone!A489","v":"Suite pour une biosurveillance électronique automatisée mondiale (SAGES)"},"Une suite d'outils logiciels d'exploitation libre conçus pour améliorer la surveillance électronique des maladies dans des situations où les ressources sont limitées. SAGES utilise des outils de surveillance électronique des maladies combinés à d'autres outils interopérables en libre accès, ainsi que les infrastructures technologiques locales disponibles, pour permettre et/ou améliorer la capacité de surveillance électronique des maladies dans le monde entier.  Parmi les fonctionnalités de SAGES figurent la collecte de données mobiles, l'analyse temporelle et spatiale par cartographie géographique, la détection d'événements anormaux et la requête dynamique. \n","https://github.com/sages-health/openessence ","Pour en savoir plus, veuillez contacter le Laboratoire de physique appliquée Johns Hopkins (JHU/APL)\nContact JHU/APL:\nShraddha Patel\nShraddha.patel@jhuapl.edu \n","https://www.jhuapl.edu/sages/","https://doi.org/10.1186/1472-6947-12-99\n\nhttps://doi.org/10.1371/journal.pone.0019750"]
[null,79,{"$f":"Backbone!A567","v":"SurvCost: Outil permettant d'estimer le coût de la surveillance intégrée de la maladie et la riposte"},"L'outil Survcost est conçu pour estimer les coûts d'un système de surveillance intégrée de la maladie et la riposte (IDSR). L'outil a été développé au moyen de Microsoft Excel et il est destiné aux pays souhaitant intégrer et renforcer leurs systèmes de surveillance des maladies infectieuses.","https://www.cdc.gov/globalhealth/healthprotection/idsr/pdf/survcost2.xls",null,"https://www.cdc.gov/globalhealth/healthprotection/idsr/pdf/SurvCost-Manual-Jan-2008.pdf"]
[null,80,{"$f":"Backbone!A195","v":"Surveillance intégrée de la maladie et la riposte (IDSR)"},"Stratégie globale de l'OMS/AFRO visant à renforcer les capacités pour la détection, la confirmation et la réponse aux cas suspects et à l'apparition de foyers épidémiques, ainsi que pour l'utilisation des informations afin de prédire et de planifier les événements de santé publique à tous les niveaux du système de santé. ","https://www.afro.who.int/publications/technical-guidelines-integrated-disease-surveillance-and-response-african-region-third",null,"https://www.tephinet.org/integrated-disease-surveillance-and-response-idsr-elearning-course\n\nhttps://www.cdc.gov/globalhealth/healthprotection/idsr/pdf/idsr-matrix_28x18_english.pdf\n\nhttps://www.who.int/csr/labepidemiology/projects/diseasesurv/en/\n\nhttps://www.afro.who.int/publications/guide-introduction-idsr-curricula-health-training-institutions"]
[null,81,{"$f":"Backbone!A31","v":"Surveillance intégrée de la résistance aux antimicrobiens (AGISAR)"},"L'objectif de cette référence est d'aider les États Membres de l'OMS et les autres parties prenantes à mettre en place et à déployer des programmes de surveillance intégrée de résistance aux antimicrobiens chez les bactéries d'origine alimentaire (à savoir, celles généralement transmises par les aliments). La référence présente des exemples détaillés de pays.","https://apps.who.int/iris/bitstream/handle/10665/255747/9789241512411-eng.pdf?sequence=1","C'est une ressource qui peut être utilisée comme exemple pour être adaptée à la surveillance coordonnée des zoonoses. "]
[null,82,{"$f":"Backbone!A522","v":"Système de gestion des données de laboratoire «SILAB for Africa» (SILABFA)"},"SILABFA est un Système de gestion des données de laboratoire (LIMS) développé par un laboratoire public italien (IZSAM) qui est mis en place dans des pays africains. Le système est capable de retracer toutes les étapes du diagnostic, depuis la réception des échantillons jusqu'aux rapports finaux. Les modules statistiques, inventaire, traçage des fonds et biobanque sont entièrement intégrés. SILABFA est conçu pour garantir l'interopérabilité entre des systèmes externes.","https://demo.izs.it/silabfa_eth/","Pour accéder à une version de démonstration gratuite, veuillez contacter silab.support@izs.it\nL'environnement de démonstration sera lié aux données de test utilisées pour le développement, et non pas aux cas réels.\n",null,"DOI: 10.1089/tmj.2018.0208\n\nhttp://www.sidilv.org/index.php/component/docman/doc_download/123-volume-atti-sidilv-2016?Itemid=\n\nhttps://www.ncbi.nlm.nih.gov/pubmed/23038071\n"]
[null,83,{"$f":"Backbone!A531","v":"Système de gestion des données de laboratoire Mini (MiniLIMS)"},"MiniLIMS est un système d'information conçu pour la gestion des données d'un laboratoire d'analyse à l'organisation simple. Il collecte des données sur les points d'échantillonnage, le type de matériel et les espèces sélectionnés, les tests effectués et les résultats obtenus, et le stockage des échantillons. Un module relatif à la RAM est intégré. ","https://demo.izs.it/silabfa_mini/ ","Pour accéder à une version de démonstration gratuite, veuillez contacter silab.support@izs.it\nL'environnement de démonstration sera lié aux données de test utilisées pour le développement, et non pas aux cas réels.\n"]
[null,84,{"$f":"Backbone!A540","v":"Système de gestion et d'analyse de la surveillance et la réponse aux foyers épidémiques (SORMAS)"},"Un système de santé en ligne mobile et d'exploitation libre qui met en œuvre des procédures de contrôle de maladies et de gestion de foyers épidémiques, et assure la surveillance et la détection précoce de ces derniers grâce à une surveillance numérique en temps réel impliquant des établissements de soins de santé et des laboratoires périphériques.","https://github.com/hzi-braunschweig","Le système est adaptable à une surveillance «Une seule santé» coordonnée. Pour en savoir plus, contactez sormas@helmholtz-hzi.de",null,"https://www.ncbi.nlm.nih.gov/pubmed/30147081;\n\nhttps://www.thieme-connect.com/products/ejournals/abstract/10.1055/s-0037-1605995\n\nhttps://www.ncbi.nlm.nih.gov/pubmed/30373727\n\n\n"]
[null,85,{"$f":"Backbone!A138","v":"Système électronique intégré de surveillance des maladies (EIDSS)"},"EIDSS est un système électronique en ligne et personnalisable d'établissement de rapports sur les maladies qui peut aider à la surveillance passive et active de la santé humaine et vétérinaire, aux diagnostics de laboratoire, à la surveillance des vecteurs et à la gestion des foyers épidémiques, capable de fournir ainsi un flux d'informations en temps quasi réel pour la prise de décisions en matière de maladies infectieuses.","Github.com/EIDSS"]
[null,86,{"$f":"Backbone!A592","v":"WHO CHOICE"},"WHO CHOICE est un programme qui aide les pays à établir les priorités de leur système de santé en fonction des coûts et des impacts. Il fait appel à un certain nombre de méthodes et d'outils.\nLa composante coût-efficacité généralisée du programme s'intéresse à l'identification des interventions en matière de soins de santé qui offrent le meilleur rapport qualité-prix, c'est-à-dire les meilleurs progrès dans le domaine de la santé pour chaque dollar dépensé en santé. L'outil «Une seule santé» est utilisé pour aider les pays à analyser les coûts et la faisabilité de leurs plans stratégiques, ainsi qu'à évaluer leur impact potentiel.\n","https://www.who.int/news-room/feature-stories/detail/new-cost-effectiveness-updates-from-who-choice"]

{"sheet":"PP1_tools","index":27,"n_rows":96,"n_cols":59,"rows_kept":96,"cut":false,"hidden":false,"merged":[[89,46,93,46],[89,48,93,48],[89,50,93,51],[89,53,93,54],[95,8,99,13],[95,15,99,22],[95,24,99,26],[95,28,99,30],[95,32,99,32],[95,34,99,34],[89,34,93,34],[89,36,93,36],[89,38,93,38],[89,40,93,40],[95,48,99,48],[95,50,99,51],[95,53,99,54],[95,36,99,36],[95,38,99,38],[95,40,99,40],[95,42,99,42],[95,44,99,44],[95,46,99,46],[89,42,93,42],[89,44,93,44],[89,8,93,13],[89,15,93,22],[89,24,93,26],[89,28,93,30],[89,32,93,32],[84,3,87,6],[84,8,87,13],[84,15,87,22],[84,24,87,26],[84,28,87,30],[73,42,87,42],[73,44,87,44],[89,3,99,6],[73,46,87,46],[73,48,87,48],[80,50,87,51],[80,53,87,54],[47,48,51,48],[47,50,51,51],[47,53,51,54],[29,3,51,6],[17,1,51,1],[73,32,87,32],[73,34,87,34],[73,36,87,36],[73,38,87,38],[73,40,87,40],[47,36,51,36],[47,38,51,38],[47,40,51,40],[47,42,51,42],[47,44,51,44],[47,46,51,46],[47,8,51,13],[47,15,51,22],[47,24,51,26],[47,28,51,30],[41,53,45,54],[22,3,26,6],[41,34,45,34],[41,36,45,36],[41,38,45,38],[41,40,45,40],[41,42,45,42],[41,44,45,44],[41,8,45,13],[41,15,45,22],[41,24,45,26],[41,28,45,30],[41,32,45,32],[35,42,39,42],[35,44,39,44],[35,46,39,46],[35,48,39,48],[35,50,39,51],[35,53,39,54],[29,8,33,13],[29,15,33,22],[29,42,33,42],[29,44,33,44],[29,46,33,46],[29,48,33,48],[29,50,33,51],[47,32,51,32],[47,34,51,34],[35,8,39,13],[35,15,39,22],[35,24,39,26],[35,28,39,30],[35,32,39,32],[35,34,39,34],[35,36,39,36],[41,46,45,46],[41,48,45,48],[41,50,45,51],[22,34,26,34],[22,36,26,36],[29,24,33,26],[29,28,33,30],[29,32,33,32],[29,34,33,34],[29,36,33,36],[29,38,33,38],[29,40,33,40],[13,53,20,54],[89,56,93,57],[17,3,20,6],[17,8,20,13],[17,15,20,22],[17,24,20,26],[17,28,20,30],[22,8,26,13],[22,50,26,51],[22,53,26,54],[22,40,26,40],[22,42,26,42],[22,44,26,44],[22,46,26,46],[22,38,26,38],[6,48,20,48],[35,40,39,40],[35,38,39,38],[13,50,20,51],[22,48,26,48],[22,15,26,22],[22,24,26,26],[22,28,26,30],[22,32,26,32],[95,56,99,57],[1,1,3,62],[22,58,26,62],[29,58,33,62],[35,58,39,62],[41,58,45,62],[47,58,51,62],[89,58,93,62],[95,58,99,62],[47,56,51,57],[22,56,26,57],[29,56,33,57],[35,56,39,57],[41,56,45,57],[79,1,104,1],[6,32,20,32],[6,34,20,34],[6,36,20,36],[6,38,20,38],[6,40,20,40],[6,42,20,42],[6,44,20,44],[6,46,20,46],[29,53,33,54]]}
[]
[null,"Ressources des coordonnateurs"]
[]
[]
[]
[]
[null,null,null,null,null,null,null,null,null,null,null,null,null,null,null,null,null,null,null,null,null,null,null,null,null,null,null,null,null,null,null,null,"Accessibilité",null,"Langue",null,"Facilité d'utilisation",null,"Flexibilité",null,"Besoins de données",null,"Analyse des données",null,"Acceptabilité",null,"«Une seule santé»",null,"Impact"]
[]
[]
[]
[]
[]
[]
[null,null,null,null,null,null,null,null,null,null,null,null,null,null,null,null,null,null,null,null,null,null,null,null,null,null,null,null,null,null,null,null,null,null,null,null,null,null,null,null,null,null,null,null,null,null,null,null,null,null,"SCORE BRUT",null,null,"SCORE AJUSTÉ \n(Selon les préférences de l'utilisateur)"]
[]
[]
[]
[null,"RESSOURCES DE NIVEAU 1",null,"DÉSIGNATION",null,null,null,null,"NOM DE LA RESSOURCE",null,null,null,null,null,null,"BRÈVE DESCRIPTION",null,null,null,null,null,null,null,null,"TYPE DE RESSOURCE",null,null,null,"CARACTÈRE GÉNÉRAL DE LA RESSOURCE"]
[]
[]
[]
[null,null,null,null,null,null,null,null,null,null,null,null,null,null,null,null,null,null,null,null,null,null,null,null,null,null,null,null,null,null,null,null,{"$f":"'Attribute Survey'!S22","v":0},null,{"$f":"'Attribute Survey'!S26","v":0},null,{"$f":"'Attribute Survey'!S30","v":0},null,{"$f":"'Attribute Survey'!S34","v":0},null,{"$f":"'Attribute Survey'!S38","v":0},null,{"$f":"'Attribute Survey'!S42","v":0},null,{"$f":"'Attribute Survey'!S46","v":0},null,{"$f":"'Attribute Survey'!S50","v":0},null,{"$f":"'Attribute Survey'!S54","v":0}]
[null,null,null,"Ressources les mieux adaptées",null,null,null,null,{"$f":"Backbone!A437","v":"Analyse de la politique sur le terrain (PFA)"},null,null,null,null,null,null,"Une cartographie spécialisée des parties prenantes qui permet de visualiser le système des organisations qui interagissent sur une question politique donnée.",null,null,null,null,null,null,null,null,{"$f":"INDEX(Backbone!$R2:$R893,MATCH(I23,Backbone!$A2:$A893,0))","v":"Document d'orientation"},null,null,null,{"$f":"INDEX(Backbone!$S2:$S893,MATCH(I23,Backbone!$A2:$A893,0))","v":"«Une seule santé»; Généralisée"},null,null,null,{"$f":"INDEX(Backbone!$H2:$H893,MATCH(I23,Backbone!$A2:$A893,0))","v":7.8},null,{"$f":"INDEX(Backbone!$I2:$I893,MATCH(I23,Backbone!$A2:$A893,0))","v":8},null,{"$f":"INDEX(Backbone!$J2:$J893,MATCH(I23,Backbone!$A2:$A893,0))","v":9.8000000000000007},null,{"$f":"INDEX(Backbone!$K2:$K893,MATCH(I23,Backbone!$A2:$A893,0))","v":10},null,{"$f":"INDEX(Backbone!$L2:$L893,MATCH(I23,Backbone!$A2:$A893,0))","v":7.1},null,{"$f":"INDEX(Backbone!$M2:$M893,MATCH(I23,Backbone!$A2:$A893,0))","v":4},null,{"$f":"INDEX(Backbone!$N2:$N893,MATCH(I23,Backbone!$A2:$A893,0))","v":7},null,{"$f":"INDEX(Backbone!$O2:$O893,MATCH(I23,Backbone!$A2:$A893,0))","v":8.8000000000000007},null,{"$f":"INDEX(Backbone!$P2:$P893,MATCH(I23,Backbone!$A2:$A893,0))","v":5},null,{"$f":"INDEX(Backbone!$Q2:$Q893,MATCH(I23,Backbone!$A2:$A893,0))","v":0.75},null,null,{"$f":"(AG23*AG22+AI23*AI22+AK23*AK22+AM23*AM22+AO23*AO22+AQ23*AQ22+AS23*AS22+AU23*AU22+AW23*AW22)/(SUM(AG22:AW22)*10)","v":{"$error":"#DIV/0!"}},null,null,"Aller à \nBoîte à outils: ",null,{"$f":"HYPERLINK(\"#\"&ADDRESS(MATCH(I23,Toolbox!$C$1:$C$30010),1,,,\"Toolbox\"),VLOOKUP(I23,Toolbox!$C$1:$C$30010,1,FALSE))","v":"Analyse de la politique sur le terrain (PFA)"}]
[]
[]
[]
[]
[]
[]
[null,null,null,"Autres ressources intéressantes",null,null,null,null,{"$f":"Backbone!A2","v":"Cadre de surveillance basé sur les événements des CDC en Afrique"},null,null,null,null,null,null,"Des orientations à l'attention des professionnels de la santé publique qui cherchent à mettre en œuvre la surveillance basée sur les événements à tous les échelons administratifs de leur pays.",null,null,null,null,null,null,null,null,{"$f":"INDEX(Backbone!$R2:$R893,MATCH(I30,Backbone!$A2:$A893,0))","v":"Document d'orientation"},null,null,null,{"$f":"INDEX(Backbone!$S2:$S893,MATCH(I30,Backbone!$A2:$A893,0))","v":"«Une seule santé»; Généralisée "},null,null,null,{"$f":"INDEX(Backbone!$H2:$H893,MATCH(I30,Backbone!$A2:$A893,0))","v":8},null,{"$f":"INDEX(Backbone!$I2:$I893,MATCH(I30,Backbone!$A2:$A893,0))","v":6},null,{"$f":"INDEX(Backbone!$J2:$J893,MATCH(I30,Backbone!$A2:$A893,0))","v":8.1999999999999993},null,{"$f":"INDEX(Backbone!$K2:$K893,MATCH(I30,Backbone!$A2:$A893,0))","v":8.3000000000000007},null,{"$f":"INDEX(Backbone!$L2:$L893,MATCH(I30,Backbone!$A2:$A893,0))","v":6.1},null,{"$f":"INDEX(Backbone!$M2:$M893,MATCH(I30,Backbone!$A2:$A893,0))","v":3.5},null,{"$f":"INDEX(Backbone!$N2:$N893,MATCH(I30,Backbone!$A2:$A893,0))","v":4},null,{"$f":"INDEX(Backbone!$O2:$O893,MATCH(I30,Backbone!$A2:$A893,0))","v":7},null,{"$f":"INDEX(Backbone!$P2:$P893,MATCH(I30,Backbone!$A2:$A893,0))","v":6},null,{"$f":"INDEX(Backbone!$Q2:$Q893,MATCH(I30,Backbone!$A2:$A893,0))","v":0.63222222222222224},null,null,{"$f":"(AG30*AG22+AI30*AI22+AK30*AK22+AM30*AM22+AO30*AO22+AQ30*AQ22+AS30*AS22+AU30*AU22+AW30*AW22)/(SUM(AG22:AW22)*10)","v":{"$error":"#DIV/0!"}},null,null,"Aller à \nBoîte à outils: ",null,{"$f":"HYPERLINK(\"#\"&ADDRESS(MATCH(I30,Toolbox!$C$1:$C$300),1,,,\"Toolbox\"),VLOOKUP(I30,Toolbox!$C$1:$C$300,1,FALSE))","v":"Cadre de surveillance basé sur les événements des CDC en Afrique"}]
[]
[]
[]
[]
[]
[null,null,null,null,null,null,null,null,{"$f":"Backbone!A100","v":"Évaluation des collaborations au sein d'un système de surveillance multisectoriel (EcoSur)"},null,null,null,null,null,null,"Un outil dont l'objectif est d'évaluer l'organisation et le fonctionnement de la collaboration au sein d'un système de surveillance multisectoriel, ainsi que d'analyser les points forts et les points faibles de cette collaboration. ",null,null,null,null,null,null,null,null,{"$f":"INDEX(Backbone!$R2:$R893,MATCH(I36,Backbone!$A2:$A893,0))","v":"Outil ou processus dirigé/facilité"},null,null,null,{"$f":"INDEX(Backbone!$S2:$S893,MATCH(I36,Backbone!$A2:$A893,0))","v":"«Une seule santé»; Généralisée"},null,null,null,{"$f":"INDEX(Backbone!$H2:$H893,MATCH(I36,Backbone!$A2:$A893,0))","v":8.3000000000000007},null,{"$f":"INDEX(Backbone!$I2:$I893,MATCH(I36,Backbone!$A2:$A893,0))","v":6},null,{"$f":"INDEX(Backbone!$J2:$J893,MATCH(I36,Backbone!$A2:$A893,0))","v":8.5},null,{"$f":"INDEX(Backbone!$K2:$K893,MATCH(I36,Backbone!$A2:$A893,0))","v":7.8},null,{"$f":"INDEX(Backbone!$L2:$L893,MATCH(I36,Backbone!$A2:$A893,0))","v":8.3000000000000007},null,{"$f":"INDEX(Backbone!$M2:$M893,MATCH(I36,Backbone!$A2:$A893,0))","v":6.7},null,{"$f":"INDEX(Backbone!$N2:$N893,MATCH(I36,Backbone!$A2:$A893,0))","v":3.3},null,{"$f":"INDEX(Backbone!$O2:$O893,MATCH(I36,Backbone!$A2:$A893,0))","v":9.1},null,{"$f":"INDEX(Backbone!$P2:$P893,MATCH(I36,Backbone!$A2:$A893,0))","v":4.7},null,{"$f":"INDEX(Backbone!$Q2:$Q893,MATCH(I36,Backbone!$A2:$A893,0))","v":0.69666666666666677},null,null,{"$f":"(AG36*AG22+AI36*AI22+AK36*AK22+AM36*AM22+AO36*AO22+AQ36*AQ22+AS36*AS22+AU36*AU22+AW36*AW22)/(SUM(AG22:AW22)*10)","v":{"$error":"#DIV/0!"}},null,null,"Aller à \nBoîte à outils: ",null,{"$f":"HYPERLINK(\"#\"&ADDRESS(MATCH(I36,Toolbox!$C$1:$C$300),1,,,\"Toolbox\"),VLOOKUP(I36,Toolbox!$C$1:$C$300,1,FALSE))","v":"Évaluation des collaborations au sein d'un système de surveillance multisectoriel (EcoSur)"}]
[]
[]
[]
[]
[]
[null,null,null,null,null,null,null,null,{"$f":"Backbone!A195","v":"Surveillance intégrée de la maladie et la riposte (IDSR)"},null,null,null,null,null,null,"Une stratégie visant à renforcer les capacités pour la détection, la confirmation et la réponse aux cas suspects et à l'apparition de foyers épidémiques, ainsi que pour l'utilisation des informations afin de prédire et de planifier les événements de santé publique. ",null,null,null,null,null,null,null,null,{"$f":"INDEX(Backbone!$R2:$R893,MATCH(I42,Backbone!$A2:$A893,0))","v":"Document d'orientation"},null,null,null,{"$f":"INDEX(Backbone!$S2:$S893,MATCH(I42,Backbone!$A2:$A893,0))","v":"Spécifique du secteur; Généralisée"},null,null,null,{"$f":"INDEX(Backbone!$H2:$H893,MATCH(I42,Backbone!$A2:$A893,0))","v":7.4},null,{"$f":"INDEX(Backbone!$I2:$I893,MATCH(I42,Backbone!$A2:$A893,0))","v":10},null,{"$f":"INDEX(Backbone!$J2:$J893,MATCH(I42,Backbone!$A2:$A893,0))","v":7.4},null,{"$f":"INDEX(Backbone!$K2:$K893,MATCH(I42,Backbone!$A2:$A893,0))","v":8.6999999999999993},null,{"$f":"INDEX(Backbone!$L2:$L893,MATCH(I42,Backbone!$A2:$A893,0))","v":6.7},null,{"$f":"INDEX(Backbone!$M2:$M893,MATCH(I42,Backbone!$A2:$A893,0))","v":4.5},null,{"$f":"INDEX(Backbone!$N2:$N893,MATCH(I42,Backbone!$A2:$A893,0))","v":8},null,{"$f":"INDEX(Backbone!$O2:$O893,MATCH(I42,Backbone!$A2:$A893,0))","v":7.2},null,{"$f":"INDEX(Backbone!$P2:$P893,MATCH(I42,Backbone!$A2:$A893,0))","v":8.5},null,{"$f":"INDEX(Backbone!$Q2:$Q893,MATCH(I42,Backbone!$A2:$A893,0))","v":0.76},null,null,{"$f":"(AG42*AG22+AI42*AI22+AK42*AK22+AM42*AM22+AO42*AO22+AQ42*AQ22+AS42*AS22+AU42*AU22+AW42*AW22)/(SUM(AG22:AW22)*10)","v":{"$error":"#DIV/0!"}},null,null,"Aller à \nBoîte à outils: ",null,{"$f":"HYPERLINK(\"#\"&ADDRESS(MATCH(I42,Toolbox!$C$1:$C$300),1,,,\"Toolbox\"),VLOOKUP(I42,Toolbox!$C$1:$C$300,1,FALSE))","v":"Surveillance intégrée de la maladie et la riposte (IDSR)"}]
[]
[]
[]
[]
[]
[null,null,null,null,null,null,null,null,{"$f":"Backbone!A367","v":"Évaluation des systèmes «Une seule santé» pour les zoonoses prioritaires (OH-SAPZ)"},null,null,null,null,null,null,"L'outil vise à faciliter une évaluation systématique des structures nationales de coordination de l'initiative «Une seule santé» en matière de prévention, de détection et de réponse aux zoonoses.  ",null,null,null,null,null,null,null,null,{"$f":"INDEX(Backbone!$R2:$R893,MATCH(I48,Backbone!$A2:$A893,0))","v":"Outil d'autoévaluation"},null,null,null,{"$f":"INDEX(Backbone!$S2:$S893,MATCH(I48,Backbone!$A2:$A893,0))","v":"«Une seule santé»; Généralisée"},null,null,null,{"$f":"INDEX(Backbone!$H2:$H893,MATCH(I48,Backbone!$A2:$A893,0))","v":7.9},null,{"$f":"INDEX(Backbone!$I2:$I893,MATCH(I48,Backbone!$A2:$A893,0))","v":7.3},null,{"$f":"INDEX(Backbone!$J2:$J893,MATCH(I48,Backbone!$A2:$A893,0))","v":7.2},null,{"$f":"INDEX(Backbone!$K2:$K893,MATCH(I48,Backbone!$A2:$A893,0))","v":7.8},null,{"$f":"INDEX(Backbone!$L2:$L893,MATCH(I48,Backbone!$A2:$A893,0))","v":6.5},null,{"$f":"INDEX(Backbone!$M2:$M893,MATCH(I48,Backbone!$A2:$A893,0))","v":5.2},null,{"$f":"INDEX(Backbone!$N2:$N893,MATCH(I48,Backbone!$A2:$A893,0))","v":4},null,{"$f":"INDEX(Backbone!$O2:$O893,MATCH(I48,Backbone!$A2:$A893,0))","v":8.3000000000000007},null,{"$f":"INDEX(Backbone!$P2:$P893,MATCH(I48,Backbone!$A2:$A893,0))","v":9.6999999999999993},null,{"$f":"INDEX(Backbone!$Q2:$Q893,MATCH(I48,Backbone!$A2:$A893,0))","v":0.71000000000000008},null,null,{"$f":"(AG48*AG22+AI48*AI22+AK48*AK22+AM48*AM22+AO48*AO22+AQ48*AQ22+AS48*AS22+AU48*AU22+AW48*AW22)/(SUM(AG22:AW22)*10)","v":{"$error":"#DIV/0!"}},null,null,"Aller à \nBoîte à outils: ",null,{"$f":"HYPERLINK(\"#\"&ADDRESS(MATCH(I48,Toolbox!C1:C300),1,,,\"Toolbox\"),VLOOKUP(I48,Toolbox!C1:C300,1,FALSE))","v":"Évaluation des systèmes «Une seule santé» pour les zoonoses prioritaires (OH-SAPZ)"}]
[]
[]
[]
[]
[]
[]
[]
[]
[]
[]
[]
[]
[]
[]
[]
[]
[]
[]
[]
[]
[]
[]
[]
[]
[]
[null,null,null,null,null,null,null,null,null,null,null,null,null,null,null,null,null,null,null,null,null,null,null,null,null,null,null,null,null,null,null,null,"Accessibilité",null,"Langue",null,"Facilité d'utilisation",null,"Flexibilité",null,"Besoins de données",null,"Analyse des données",null,"Acceptabilité",null,"«Une seule santé»",null,"Impact"]
[]
[]
[]
[]
[]
[null,"RESSOURCES DE NIVEAU 3"]
[null,null,null,null,null,null,null,null,null,null,null,null,null,null,null,null,null,null,null,null,null,null,null,null,null,null,null,null,null,null,null,null,null,null,null,null,null,null,null,null,null,null,null,null,null,null,null,null,null,null,"SCORE BRUT",null,null,"SCORE AJUSTÉ \n(Selon les préférences de l'utilisateur)"]
[]
[]
[]
[null,null,null,"DÉSIGNATION",null,null,null,null,"NOM DE LA RESSOURCE",null,null,null,null,null,null,"BRÈVE DESCRIPTION",null,null,null,null,null,null,null,null,"TYPE DE RESSOURCE",null,null,null,"CARACTÈRE GÉNÉRAL DE LA RESSOURCE"]
[]
[]
[]
[]
[null,null,null,"Autres ressources intéressantes",null,null,null,null,{"$f":"Backbone!A303","v":"Plan d'action national pour la sécurité sanitaire (PANSS)"},null,null,null,null,null,null,"Un processus de planification mené par le pays lui-même, capable d'accélérer la mise en œuvre des capacités essentielles du Règlement sanitaire international (RSI) et fondé sur l'approche «Une seule santé» et «à l'échelle de l'ensemble de l'administration» pour tous les risques.",null,null,null,null,null,null,null,null,{"$f":"INDEX(Backbone!$R2:$R893,MATCH(I90,Backbone!$A2:$A893,0))","v":"Document d'orientation"},null,null,null,{"$f":"INDEX(Backbone!$S2:$S893,MATCH(I90,Backbone!$A2:$A893,0))","v":"«Une seule santé»; Généralisée"},null,null,null,{"$f":"INDEX(Backbone!$H2:$H893,MATCH(I90,Backbone!$A2:$A893,0))","v":8},null,{"$f":"INDEX(Backbone!$I2:$I893,MATCH(I90,Backbone!$A2:$A893,0))","v":9},null,{"$f":"INDEX(Backbone!$J2:$J893,MATCH(I90,Backbone!$A2:$A893,0))","v":7.8},null,{"$f":"INDEX(Backbone!$K2:$K893,MATCH(I90,Backbone!$A2:$A893,0))","v":10},null,{"$f":"INDEX(Backbone!$L2:$L893,MATCH(I90,Backbone!$A2:$A893,0))","v":8},null,{"$f":"INDEX(Backbone!$M2:$M893,MATCH(I90,Backbone!$A2:$A893,0))","v":4.5},null,{"$f":"INDEX(Backbone!$N2:$N893,MATCH(I90,Backbone!$A2:$A893,0))","v":10},null,{"$f":"INDEX(Backbone!$O2:$O893,MATCH(I90,Backbone!$A2:$A893,0))","v":10},null,{"$f":"INDEX(Backbone!$P2:$P893,MATCH(I90,Backbone!$A2:$A893,0))","v":10},null,{"$f":"INDEX(Backbone!$Q2:$Q893,MATCH(I90,Backbone!$A2:$A893,0))","v":0.85888888888888881},null,null,{"$f":"(AG90*AG22+AI90*AI22+AK90*AK22+AM90*AM22+AO90*AO22+AQ90*AQ22+AS90*AS22+AU90*AU22+AW90*AW22)/(SUM(AG22:AW22)*10)","v":{"$error":"#DIV/0!"}},null,null,"Aller à \nBoîte à outils: ",null,{"$f":"HYPERLINK(\"#\"&ADDRESS(MATCH(I90,Toolbox!$C$1:$C$300),1,,,\"Toolbox\"),VLOOKUP(I90,Toolbox!$C$1:$C$300,1,FALSE))","v":"Plan d'action national pour la sécurité sanitaire (PANSS)"}]
[]
[]
[]
[]
[]
[null,null,null,null,null,null,null,null,{"$f":"Backbone!A400","v":"Outil d'évaluation de l'état de préparation et des besoins pour une surveillance «Une seule santé» (OHSRRT)"},null,null,null,null,null,null,"Un outil d'évaluation de la préparation et des besoins utilisé pour déterminer l'état de préparation du pays et dresser la liste des besoins nécessaires au développement d'un système de surveillance «Une seule santé» basé sur des facteurs de réussite critiques.",null,null,null,null,null,null,null,null,{"$f":"INDEX(Backbone!$R2:$R893,MATCH(I96,Backbone!$A2:$A893,0))","v":"Outil d'autoévaluation"},null,null,null,{"$f":"INDEX(Backbone!$S2:$S893,MATCH(I96,Backbone!$A2:$A893,0))","v":"«Une seule santé»; Généralisée"},null,null,null,{"$f":"INDEX(Backbone!$H2:$H893,MATCH(I96,Backbone!$A2:$A893,0))","v":8},null,{"$f":"INDEX(Backbone!$I2:$I893,MATCH(I96,Backbone!$A2:$A893,0))","v":6},null,{"$f":"INDEX(Backbone!$J2:$J893,MATCH(I96,Backbone!$A2:$A893,0))","v":7.4},null,{"$f":"INDEX(Backbone!$K2:$K893,MATCH(I96,Backbone!$A2:$A893,0))","v":8.6999999999999993},null,{"$f":"INDEX(Backbone!$L2:$L893,MATCH(I96,Backbone!$A2:$A893,0))","v":6},null,{"$f":"INDEX(Backbone!$M2:$M893,MATCH(I96,Backbone!$A2:$A893,0))","v":2.5},null,{"$f":"INDEX(Backbone!$N2:$N893,MATCH(I96,Backbone!$A2:$A893,0))","v":2},null,{"$f":"INDEX(Backbone!$O2:$O893,MATCH(I96,Backbone!$A2:$A893,0))","v":9.6},null,{"$f":"INDEX(Backbone!$P2:$P893,MATCH(I96,Backbone!$A2:$A893,0))","v":5.5},null,{"$f":"INDEX(Backbone!$Q2:$Q893,MATCH(I96,Backbone!$A2:$A893,0))","v":0.61888888888888882},null,null,{"$f":"(AG96*AG22+AI96*AI22+AK96*AK22+AM96*AM22+AO96*AO22+AQ96*AQ22+AS96*AS22+AU96*AU22+AW96*AW22)/(SUM(AG22:AW22)*10)","v":{"$error":"#DIV/0!"}},null,null,"Aller à \nBoîte à outils: ",null,{"$f":"HYPERLINK(\"#\"&ADDRESS(MATCH(I96,Toolbox!$C$1:$C$300),1,,,\"Toolbox\"),VLOOKUP(I96,Toolbox!$C$1:$C$300,1,FALSE))","v":"Outil d'évaluation de l'état de préparation et des besoins pour une surveillance «Une seule santé» (OHSRRT)"}]

{"sheet":"PP2_tools","index":28,"n_rows":42,"n_cols":59,"rows_kept":42,"cut":false,"hidden":false,"merged":[[17,3,20,6],[17,8,20,13],[17,15,20,22],[34,15,38,22],[41,15,45,22],[28,15,32,22],[22,8,26,13],[22,15,26,22],[34,8,38,13],[41,8,45,13],[28,8,32,13],[22,3,38,6],[17,1,45,1],[6,32,20,32],[6,34,20,34],[6,36,20,36],[6,38,20,38],[34,32,38,32],[41,32,45,32],[34,34,38,34],[41,34,45,34],[41,24,45,26],[41,28,45,30],[41,3,45,6],[17,24,20,26],[17,28,20,30],[28,38,32,38],[28,34,32,34],[6,40,20,40],[13,50,20,51],[13,53,20,54],[6,44,20,44],[6,46,20,46],[6,48,20,48],[28,28,32,30],[22,44,26,44],[22,32,26,32],[22,34,26,34],[22,36,26,36],[22,38,26,38],[22,40,26,40],[41,40,45,40],[41,36,45,36],[41,44,45,44],[28,36,32,36],[34,38,38,38],[41,38,45,38],[41,53,45,54],[28,53,32,54],[34,46,38,46],[41,46,45,46],[28,46,32,46],[34,48,38,48],[41,48,45,48],[28,48,32,48],[41,50,45,51],[22,50,26,51],[34,24,38,26],[34,28,38,30],[28,50,32,51],[34,53,38,54],[28,40,32,40],[34,44,38,44],[28,44,32,44],[28,42,32,42],[22,53,26,54],[22,46,26,46],[22,48,26,48],[34,40,38,40],[34,36,38,36],[28,24,32,26],[28,32,32,32],[41,56,45,57],[1,1,3,62],[22,58,26,62],[28,58,32,62],[34,58,38,62],[41,58,45,62],[22,56,26,57],[28,56,32,57],[34,56,38,57],[6,42,20,42],[22,42,26,42],[34,42,38,42],[41,42,45,42],[22,24,26,26],[22,28,26,30],[34,50,38,51]]}
[]
[null,"Ressources pour la priorisation"]
[]
[]
[]
[]
[null,null,null,null,null,null,null,null,null,null,null,null,null,null,null,null,null,null,null,null,null,null,null,null,null,null,null,null,null,null,null,null,"Accessibilité",null,"Langue",null,"Facilité d'utilisation",null,"Flexibilité",null,"Besoins de données",null,"Analyse des données",null,"Acceptabilité",null,"«Une seule santé»",null,"Impact"]
[]
[]
[]
[]
[]
[]
[null,null,null,null,null,null,null,null,null,null,null,null,null,null,null,null,null,null,null,null,null,null,null,null,null,null,null,null,null,null,null,null,null,null,null,null,null,null,null,null,null,null,null,null,null,null,null,null,null,null,"SCORE BRUT",null,null,"SCORE AJUSTÉ \n(Selon les préférences de l'utilisateur)"]
[]
[]
[]
[null,"RESSOURCES DE NIVEAU 1",null,"DÉSIGNATION",null,null,null,null,"NOM DE LA RESSOURCE",null,null,null,null,null,null,"BRÈVE DESCRIPTION",null,null,null,null,null,null,null,null,"TYPE DE RESSOURCE",null,null,null,"CARACTÈRE GÉNÉRAL DE LA RESSOURCE"]
[]
[]
[]
[null,null,null,null,null,null,null,null,null,null,null,null,null,null,null,null,null,null,null,null,null,null,null,null,null,null,null,null,null,null,null,null,{"$f":"'Attribute Survey'!S22","v":0},null,{"$f":"'Attribute Survey'!S26","v":0},null,{"$f":"'Attribute Survey'!S30","v":0},null,{"$f":"'Attribute Survey'!S34","v":0},null,{"$f":"'Attribute Survey'!S38","v":0},null,{"$f":"'Attribute Survey'!S42","v":0},null,{"$f":"'Attribute Survey'!S46","v":0},null,{"$f":"'Attribute Survey'!S50","v":0},null,{"$f":"'Attribute Survey'!S54","v":0}]
[null,null,null,"Ressources les mieux adaptées",null,null,null,null,{"$f":"Backbone!A97","v":"Outil ECDC pour l'établissement des priorités en matière de menaces de maladies infectieuses"},null,null,null,null,null,null,"Un outil au format Excel qui permet d'établir les priorités en matière de menaces de maladies infectieuses",null,null,null,null,null,null,null,null,{"$f":"INDEX(Backbone!$R2:$R893,MATCH(I23,Backbone!$A2:$A893,0))","v":"Outil d'autoévaluation"},null,null,null,{"$f":"INDEX(Backbone!$S2:$S893,MATCH(I23,Backbone!$A2:$A893,0))","v":"Spécifique du secteur; Généralisée"},null,null,null,{"$f":"INDEX(Backbone!$H2:$H893,MATCH(I23,Backbone!$A2:$A893,0))","v":9.8000000000000007},null,{"$f":"INDEX(Backbone!$I2:$I893,MATCH(I23,Backbone!$A2:$A893,0))","v":10},null,{"$f":"INDEX(Backbone!$J2:$J893,MATCH(I23,Backbone!$A2:$A893,0))","v":8},null,{"$f":"INDEX(Backbone!$K2:$K893,MATCH(I23,Backbone!$A2:$A893,0))","v":8.6999999999999993},null,{"$f":"INDEX(Backbone!$L2:$L893,MATCH(I23,Backbone!$A2:$A893,0))","v":7.1},null,{"$f":"INDEX(Backbone!$M2:$M893,MATCH(I23,Backbone!$A2:$A893,0))","v":4.5},null,{"$f":"INDEX(Backbone!$N2:$N893,MATCH(I23,Backbone!$A2:$A893,0))","v":8},null,{"$f":"INDEX(Backbone!$O2:$O893,MATCH(I23,Backbone!$A2:$A893,0))","v":8.5},null,{"$f":"INDEX(Backbone!$P2:$P893,MATCH(I23,Backbone!$A2:$A893,0))","v":9},null,{"$f":"INDEX(Backbone!$Q2:$Q893,MATCH(I23,Backbone!$A2:$A893,0))","v":0.81777777777777771},null,null,{"$f":"(AG23*AG22+AI23*AI22+AK23*AK22+AM23*AM22+AO23*AO22+AQ23*AQ22+AS23*AS22+AU23*AU22+AW23*AW22)/(SUM(AG22:AW22)*10)","v":{"$error":"#DIV/0!"}},null,null,"Aller à \nBoîte à outils: ",null,{"$f":"HYPERLINK(\"#\"&ADDRESS(MATCH(I23,Toolbox!$C$1:$C$300),1,,,\"Toolbox\"),VLOOKUP(I23,Toolbox!$C$1:$C$300,1,FALSE))","v":"Outil ECDC pour l'établissement des priorités en matière de menaces de maladies infectieuses"}]
[]
[]
[]
[]
[]
[null,null,null,null,null,null,null,null,{"$f":"Backbone!A367","v":"Évaluation des systèmes «Une seule santé» pour les zoonoses prioritaires (OH-SAPZ)"},null,null,null,null,null,null,"L'outil vise à faciliter une évaluation systématique des structures nationales de coordination de l'initiative «Une seule santé» en matière de prévention, de détection et de réponse aux zoonoses.  ",null,null,null,null,null,null,null,null,{"$f":"INDEX(Backbone!$R2:$R893,MATCH(I29,Backbone!$A2:$A893,0))","v":"Outil d'autoévaluation"},null,null,null,{"$f":"INDEX(Backbone!$S2:$S893,MATCH(I29,Backbone!$A2:$A893,0))","v":"«Une seule santé»; Généralisée"},null,null,null,{"$f":"INDEX(Backbone!$H2:$H893,MATCH(I29,Backbone!$A2:$A893,0))","v":7.9},null,{"$f":"INDEX(Backbone!$I2:$I893,MATCH(I29,Backbone!$A2:$A893,0))","v":7.3},null,{"$f":"INDEX(Backbone!$J2:$J893,MATCH(I29,Backbone!$A2:$A893,0))","v":7.2},null,{"$f":"INDEX(Backbone!$K2:$K893,MATCH(I29,Backbone!$A2:$A893,0))","v":7.8},null,{"$f":"INDEX(Backbone!$L2:$L893,MATCH(I29,Backbone!$A2:$A893,0))","v":6.5},null,{"$f":"INDEX(Backbone!$M2:$M893,MATCH(I29,Backbone!$A2:$A893,0))","v":5.2},null,{"$f":"INDEX(Backbone!$N2:$N893,MATCH(I29,Backbone!$A2:$A893,0))","v":4},null,{"$f":"INDEX(Backbone!$O2:$O893,MATCH(I29,Backbone!$A2:$A893,0))","v":8.3000000000000007},null,{"$f":"INDEX(Backbone!$P2:$P893,MATCH(I29,Backbone!$A2:$A893,0))","v":9.6999999999999993},null,{"$f":"INDEX(Backbone!$Q2:$Q893,MATCH(I29,Backbone!$A2:$A893,0))","v":0.71000000000000008},null,null,{"$f":"(AG29*AG22+AI29*AI22+AK29*AK22+AM29*AM22+AO29*AO22+AQ29*AQ22+AS29*AS22+AU29*AU22+AW29*AW22)/(SUM(AG22:AW22)*10)","v":{"$error":"#DIV/0!"}},null,null,"Aller à \nBoîte à outils: ",null,{"$f":"HYPERLINK(\"#\"&ADDRESS(MATCH(I29,Toolbox!$C$1:$C$300),1,,,\"Toolbox\"),VLOOKUP(I29,Toolbox!$C$1:$C$300,1,FALSE))","v":"Évaluation des systèmes «Une seule santé» pour les zoonoses prioritaires (OH-SAPZ)"}]
[]
[]
[]
[]
[]
[null,null,null,null,null,null,null,null,{"$f":"Backbone!A415","v":"Priorisation des maladies zoonotiques dans le cadre de l'approche «Une seule santé» (OHZDP)"},null,null,null,null,null,null,"Un outil d'aide à la décision au format Excel fournissant des orientations étape par étape sur la conduite d'un processus de priorisation multisectoriel «Une seule santé» dans le cadre d'un atelier. ",null,null,null,null,null,null,null,null,{"$f":"INDEX(Backbone!$R2:$R893,MATCH(I35,Backbone!$A2:$A893,0))","v":"Outil ou processus dirigé/facilité"},null,null,null,{"$f":"INDEX(Backbone!$S2:$S893,MATCH(I35,Backbone!$A2:$A893,0))","v":"«Une seule santé»; Généralisée"},null,null,null,{"$f":"INDEX(Backbone!$H2:$H893,MATCH(I35,Backbone!$A2:$A893,0))","v":8},null,{"$f":"INDEX(Backbone!$I2:$I893,MATCH(I35,Backbone!$A2:$A893,0))","v":9.3000000000000007},null,{"$f":"INDEX(Backbone!$J2:$J893,MATCH(I35,Backbone!$A2:$A893,0))","v":9.1},null,{"$f":"INDEX(Backbone!$K2:$K893,MATCH(I35,Backbone!$A2:$A893,0))","v":6.7},null,{"$f":"INDEX(Backbone!$L2:$L893,MATCH(I35,Backbone!$A2:$A893,0))","v":7},null,{"$f":"INDEX(Backbone!$M2:$M893,MATCH(I35,Backbone!$A2:$A893,0))","v":7.3},null,{"$f":"INDEX(Backbone!$N2:$N893,MATCH(I35,Backbone!$A2:$A893,0))","v":8.3000000000000007},null,{"$f":"INDEX(Backbone!$O2:$O893,MATCH(I35,Backbone!$A2:$A893,0))","v":9.1},null,{"$f":"INDEX(Backbone!$P2:$P893,MATCH(I35,Backbone!$A2:$A893,0))","v":9.3000000000000007},null,{"$f":"INDEX(Backbone!$Q2:$Q893,MATCH(I35,Backbone!$A2:$A893,0))","v":0.82333333333333325},null,null,{"$f":"(AG35*AG22+AI35*AI22+AK35*AK22+AM35*AM22+AO35*AO22+AQ35*AQ22+AS35*AS22+AU35*AU22+AW35*AW22)/(SUM(AG22:AW22)*10)","v":{"$error":"#DIV/0!"}},null,null,"Aller à \nBoîte à outils: ",null,{"$f":"HYPERLINK(\"#\"&ADDRESS(MATCH(I35,Toolbox!$C$1:$C$300),1,,,\"Toolbox\"),VLOOKUP(I35,Toolbox!$C$1:$C$300,1,FALSE))","v":"Priorisation des maladies zoonotiques dans le cadre de l'approche «Une seule santé» (OHZDP)"}]
[]
[]
[]
[]
[]
[]
[null,null,null,"Autres ressources intéressantes",null,null,null,null,{"$f":"Backbone!A288","v":"Liste et catégorisation des maladies animales prioritaires, y compris celles transmissibles à l'homme (Phylum)"},null,null,null,null,null,null,"L'outil de catégorisation et de priorisation au format Excel est prévu pour faciliter les étapes analytiques du protocole. ",null,null,null,null,null,null,null,null,{"$f":"INDEX(Backbone!$R2:$R893,MATCH(I42,Backbone!$A2:$A893,0))","v":"Outil d'autoévaluation"},null,null,null,{"$f":"INDEX(Backbone!$S2:$S893,MATCH(I42,Backbone!$A2:$A893,0))","v":"Spécifique du secteur; Généralisée"},null,null,null,{"$f":"INDEX(Backbone!$H2:$H893,MATCH(I42,Backbone!$A2:$A893,0))","v":6.9},null,{"$f":"INDEX(Backbone!$I2:$I893,MATCH(I42,Backbone!$A2:$A893,0))","v":8},null,{"$f":"INDEX(Backbone!$J2:$J893,MATCH(I42,Backbone!$A2:$A893,0))","v":6.2},null,{"$f":"INDEX(Backbone!$K2:$K893,MATCH(I42,Backbone!$A2:$A893,0))","v":8.3000000000000007},null,{"$f":"INDEX(Backbone!$L2:$L893,MATCH(I42,Backbone!$A2:$A893,0))","v":7.5},null,{"$f":"INDEX(Backbone!$M2:$M893,MATCH(I42,Backbone!$A2:$A893,0))","v":7.3},null,{"$f":"INDEX(Backbone!$N2:$N893,MATCH(I42,Backbone!$A2:$A893,0))","v":5.5},null,{"$f":"INDEX(Backbone!$O2:$O893,MATCH(I42,Backbone!$A2:$A893,0))","v":8.6999999999999993},null,{"$f":"INDEX(Backbone!$P2:$P893,MATCH(I42,Backbone!$A2:$A893,0))","v":4},null,{"$f":"INDEX(Backbone!$Q2:$Q893,MATCH(I42,Backbone!$A2:$A893,0))","v":0.69333333333333336},null,null,{"$f":"(AG42*AG22+AI42*AI22+AK42*AK22+AM42*AM22+AO42*AO22+AQ42*AQ22+AS42*AS22+AU42*AU22+AW42*AW22)/(SUM(AG22:AW22)*10)","v":{"$error":"#DIV/0!"}},null,null,"Aller à \nBoîte à outils: ",null,{"$f":"HYPERLINK(\"#\"&ADDRESS(MATCH(I42,Toolbox!$C$1:$C$300),1,,,\"Toolbox\"),VLOOKUP(I42,Toolbox!$C$1:$C$300,1,FALSE))","v":"Liste et catégorisation des maladies animales prioritaires, y compris celles transmissibles à l'homme (Phylum)"}]

{"sheet":"PP3_tools","index":29,"n_rows":138,"n_cols":59,"rows_kept":138,"cut":false,"hidden":false,"merged":[[131,3,141,6],[123,1,145,1],[131,53,135,54],[137,8,141,13],[137,15,141,22],[137,24,141,26],[137,28,141,30],[137,32,141,32],[137,34,141,34],[137,36,141,36],[137,38,141,38],[137,40,141,40],[137,42,141,42],[137,44,141,44],[137,46,141,46],[137,48,141,48],[137,50,141,51],[137,53,141,54],[115,48,129,48],[122,50,129,51],[122,53,129,54],[126,3,129,6],[126,8,129,13],[126,15,129,22],[126,24,129,26],[126,28,129,30],[131,8,135,13],[131,15,135,22],[131,24,135,26],[131,28,135,30],[131,32,135,32],[131,34,135,34],[131,36,135,36],[131,38,135,38],[131,40,135,40],[131,42,135,42],[131,44,135,44],[131,46,135,46],[131,48,135,48],[131,50,135,51],[68,1,93,1],[115,32,129,32],[115,34,129,34],[115,36,129,36],[115,38,129,38],[115,40,129,40],[115,42,129,42],[115,44,129,44],[115,46,129,46],[61,46,75,46],[61,48,75,48],[68,50,75,51],[84,3,88,6],[77,3,81,6],[77,40,81,40],[77,42,81,42],[77,44,81,44],[13,50,20,51],[13,53,20,54],[17,1,39,1],[17,3,20,6],[17,8,20,13],[17,15,20,22],[17,24,20,26],[17,28,20,30],[22,8,26,13],[22,50,26,51],[22,53,26,54],[28,8,32,13],[28,15,32,22],[28,24,32,26],[6,32,20,32],[6,34,20,34],[6,36,20,36],[6,38,20,38],[6,40,20,40],[6,42,20,42],[6,44,20,44],[6,46,20,46],[6,48,20,48],[35,8,39,13],[35,15,39,22],[35,24,39,26],[35,28,39,30],[35,32,39,32],[35,34,39,34],[35,36,39,36],[35,38,39,38],[28,38,32,38],[28,28,32,30],[28,32,32,32],[28,34,32,34],[28,36,32,36],[22,48,26,48],[22,15,26,22],[22,24,26,26],[22,28,26,30],[22,32,26,32],[22,34,26,34],[22,36,26,36],[22,38,26,38],[22,40,26,40],[22,42,26,42],[22,44,26,44],[22,46,26,46],[35,53,39,54],[35,40,39,40],[35,42,39,42],[35,44,39,44],[35,46,39,46],[35,48,39,48],[35,50,39,51],[28,50,32,51],[28,53,32,54],[28,40,32,40],[28,42,32,42],[28,44,32,44],[28,46,32,46],[28,48,32,48],[72,24,75,26],[72,28,75,30],[61,32,75,32],[61,34,75,34],[61,36,75,36],[61,38,75,38],[61,40,75,40],[61,42,75,42],[61,44,75,44],[77,32,81,32],[84,48,88,48],[84,50,88,51],[84,53,88,54],[22,3,32,6],[35,3,39,6],[84,36,88,36],[84,38,88,38],[84,40,88,40],[84,42,88,42],[84,44,88,44],[84,46,88,46],[77,46,81,46],[77,48,81,48],[77,50,81,51],[77,53,81,54],[84,8,88,13],[84,15,88,22],[84,24,88,26],[84,28,88,30],[68,53,75,54],[72,3,75,6],[72,8,75,13],[72,15,75,22],[84,56,88,57],[84,58,88,62],[131,56,135,57],[131,58,135,62],[137,56,141,57],[137,58,141,62],[1,1,3,62],[22,56,26,57],[22,58,26,62],[28,56,32,57],[28,58,32,62],[35,56,39,57],[35,58,39,62],[77,56,81,57],[77,58,81,62],[84,32,88,32],[84,34,88,34],[77,34,81,34],[77,36,81,36],[77,38,81,38],[77,8,81,13],[77,15,81,22],[77,24,81,26],[77,28,81,30]]}
[]
[null,"Ressources d'établissement des objectifs"]
[]
[]
[]
[]
[null,null,null,null,null,null,null,null,null,null,null,null,null,null,null,null,null,null,null,null,null,null,null,null,null,null,null,null,null,null,null,null,"Accessibilité",null,"Langue",null,"Facilité d'utilisation",null,"Flexibilité",null,"Besoins de données",null,"Analyse des données",null,"Acceptabilité",null,"«Une seule santé»",null,"Impact"]
[]
[]
[]
[]
[]
[]
[null,null,null,null,null,null,null,null,null,null,null,null,null,null,null,null,null,null,null,null,null,null,null,null,null,null,null,null,null,null,null,null,null,null,null,null,null,null,null,null,null,null,null,null,null,null,null,null,null,null,"SCORE BRUT",null,null,"SCORE AJUSTÉ \n(Selon les préférences de l'utilisateur)"]
[]
[]
[]
[null,"RESSOURCES DE NIVEAU 1",null,"DÉSIGNATION",null,null,null,null,"NOM DE LA RESSOURCE",null,null,null,null,null,null,"BRÈVE DESCRIPTION",null,null,null,null,null,null,null,null,"TYPE DE RESSOURCE",null,null,null,"CARACTÈRE GÉNÉRAL DE LA RESSOURCE"]
[]
[]
[]
[null,null,null,null,null,null,null,null,null,null,null,null,null,null,null,null,null,null,null,null,null,null,null,null,null,null,null,null,null,null,null,null,{"$f":"'Attribute Survey'!S22","v":0},null,{"$f":"'Attribute Survey'!S26","v":0},null,{"$f":"'Attribute Survey'!S30","v":0},null,{"$f":"'Attribute Survey'!S34","v":0},null,{"$f":"'Attribute Survey'!S38","v":0},null,{"$f":"'Attribute Survey'!S42","v":0},null,{"$f":"'Attribute Survey'!S46","v":0},null,{"$f":"'Attribute Survey'!S50","v":0},null,{"$f":"'Attribute Survey'!S54","v":0}]
[null,null,null,"Ressources les mieux adaptées",null,null,null,null,"Surveillance intégrée de la maladie et la riposte (IDSR)",null,null,null,null,null,null,"Une stratégie visant à renforcer les capacités pour la détection, la confirmation et la réponse aux cas suspects et à l'apparition de foyers épidémiques, ainsi que pour l'utilisation des informations afin de prédire et de planifier les événements de santé publique ",null,null,null,null,null,null,null,null,{"$f":"INDEX(Backbone!R2:R893,MATCH(I23,Backbone!A2:A893,0))","v":"Document d'orientation"},null,null,null,{"$f":"INDEX(Backbone!S2:S893,MATCH(I23,Backbone!A2:A893,0))","v":"Spécifique du secteur; Généralisée"},null,null,null,{"$f":"INDEX(Backbone!H2:H893,MATCH(I23,Backbone!A2:A893,0))","v":7.4},null,{"$f":"INDEX(Backbone!I2:I893,MATCH(I23,Backbone!A2:A893,0))","v":10},null,{"$f":"INDEX(Backbone!J2:J893,MATCH(I23,Backbone!A2:A893,0))","v":7.4},null,{"$f":"INDEX(Backbone!K2:K893,MATCH(I23,Backbone!A2:A893,0))","v":8.6999999999999993},null,{"$f":"INDEX(Backbone!L2:L893,MATCH(I23,Backbone!A2:A893,0))","v":6.7},null,{"$f":"INDEX(Backbone!M2:M893,MATCH(I23,Backbone!A2:A893,0))","v":4.5},null,{"$f":"INDEX(Backbone!N2:N893,MATCH(I23,Backbone!A2:A893,0))","v":8},null,{"$f":"INDEX(Backbone!O2:O893,MATCH(I23,Backbone!A2:A893,0))","v":7.2},null,{"$f":"INDEX(Backbone!P2:P893,MATCH(I23,Backbone!A2:A893,0))","v":8.5},null,{"$f":"INDEX(Backbone!Q2:Q893,MATCH(I23,Backbone!A2:A893,0))","v":0.76},null,null,{"$f":"(AG23*AG22+AI23*AI22+AK23*AK22+AM23*AM22+AO23*AO22+AQ23*AQ22+AS23*AS22+AU23*AU22+AW23*AW22)/(SUM(AG22:AW22)*10)","v":{"$error":"#DIV/0!"}},null,null,"Aller à \nBoîte à outils: ",null,{"$f":"HYPERLINK(\"#\"&ADDRESS(MATCH(I23,Toolbox!$C$1:$C$300),1,,,\"Toolbox\"),VLOOKUP(I23,Toolbox!$C$1:$C$300,1,FALSE))","v":"Surveillance intégrée de la maladie et la riposte (IDSR)"}]
[]
[]
[]
[]
[]
[null,null,null,null,null,null,null,null,"Outil d'évaluation de l'état de préparation et des besoins pour une surveillance «Une seule santé» (OHSRRT)",null,null,null,null,null,null,"Un outil d'évaluation de la préparation et des besoins utilisé pour déterminer l'état de préparation du pays et dresser la liste des besoins nécessaires au développement d'un système de surveillance «Une seule santé» basé sur des facteurs de réussite critiques",null,null,null,null,null,null,null,null,{"$f":"INDEX(Backbone!R2:R893,MATCH(I29,Backbone!A2:A893,0))","v":"Outil d'autoévaluation"},null,null,null,{"$f":"INDEX(Backbone!S2:S893,MATCH(I29,Backbone!A2:A893,0))","v":"«Une seule santé»; Généralisée"},null,null,null,{"$f":"INDEX(Backbone!H2:H893,MATCH(I29,Backbone!A2:A893,0))","v":8},null,{"$f":"INDEX(Backbone!I2:I893,MATCH(I29,Backbone!A2:A893,0))","v":6},null,{"$f":"INDEX(Backbone!J2:J893,MATCH(I29,Backbone!A2:A893,0))","v":7.4},null,{"$f":"INDEX(Backbone!K2:K893,MATCH(I29,Backbone!A2:A893,0))","v":8.6999999999999993},null,{"$f":"INDEX(Backbone!L2:L893,MATCH(I29,Backbone!A2:A893,0))","v":6},null,{"$f":"INDEX(Backbone!M2:M893,MATCH(I29,Backbone!A2:A893,0))","v":2.5},null,{"$f":"INDEX(Backbone!N2:N893,MATCH(I29,Backbone!A2:A893,0))","v":2},null,{"$f":"INDEX(Backbone!O2:O893,MATCH(I29,Backbone!A2:A893,0))","v":9.6},null,{"$f":"INDEX(Backbone!P2:P893,MATCH(I29,Backbone!A2:A893,0))","v":5.5},null,{"$f":"INDEX(Backbone!Q2:Q893,MATCH(I29,Backbone!A2:A893,0))","v":0.61888888888888882},null,null,{"$f":"(AG29*AG22+AI29*AI22+AK29*AK22+AM29*AM22+AO29*AO22+AQ29*AQ22+AS29*AS22+AU29*AU22+AW29*AW22)/(SUM(AG22:AW22)*10)","v":{"$error":"#DIV/0!"}},null,null,"Aller à \nBoîte à outils: ",null,{"$f":"HYPERLINK(\"#\"&ADDRESS(MATCH(I29,Toolbox!$C$1:$C$300),1,,,\"Toolbox\"),VLOOKUP(I29,Toolbox!$C$1:$C$300,1,FALSE))","v":"Outil d'évaluation de l'état de préparation et des besoins pour une surveillance «Une seule santé» (OHSRRT)"}]
[]
[]
[]
[]
[]
[]
[null,null,null,"Autres ressources intéressantes",null,null,null,null,"Cadre de surveillance basé sur les événements des CDC en Afrique",null,null,null,null,null,null,"Des orientations à l'attention des professionnels de la santé publique qui cherchent à mettre en œuvre la surveillance basée sur les événements à tous les échelons administratifs de leur pays",null,null,null,null,null,null,null,null,{"$f":"INDEX(Backbone!R2:R893,MATCH(I36,Backbone!A2:A893,0))","v":"Document d'orientation"},null,null,null,{"$f":"INDEX(Backbone!S2:S893,MATCH(I36,Backbone!A2:A893,0))","v":"«Une seule santé»; Généralisée "},null,null,null,{"$f":"INDEX(Backbone!H2:H893,MATCH(I36,Backbone!A2:A893,0))","v":8},null,{"$f":"INDEX(Backbone!I2:I893,MATCH(I36,Backbone!A2:A893,0))","v":6},null,{"$f":"INDEX(Backbone!J2:J893,MATCH(I36,Backbone!A2:A893,0))","v":8.1999999999999993},null,{"$f":"INDEX(Backbone!K2:K893,MATCH(I36,Backbone!A2:A893,0))","v":8.3000000000000007},null,{"$f":"INDEX(Backbone!L2:L893,MATCH(I36,Backbone!A2:A893,0))","v":6.1},null,{"$f":"INDEX(Backbone!M2:M893,MATCH(I36,Backbone!A2:A893,0))","v":3.5},null,{"$f":"INDEX(Backbone!N2:N893,MATCH(I36,Backbone!A2:A893,0))","v":4},null,{"$f":"INDEX(Backbone!O2:O893,MATCH(I36,Backbone!A2:A893,0))","v":7},null,{"$f":"INDEX(Backbone!P2:P893,MATCH(I36,Backbone!A2:A893,0))","v":6},null,{"$f":"INDEX(Backbone!Q2:Q893,MATCH(I36,Backbone!A2:A893,0))","v":0.63222222222222224},null,null,{"$f":"(AG36*AG22+AI36*AI22+AK36*AK22+AM36*AM22+AO36*AO22+AQ36*AQ22+AS36*AS22+AU36*AU22+AW36*AW22)/(SUM(AG22:AW22)*10)","v":{"$error":"#DIV/0!"}},null,null,"Aller à \nBoîte à outils: ",null,{"$f":"HYPERLINK(\"#\"&ADDRESS(MATCH(I36,Toolbox!$C$1:$C$300),1,,,\"Toolbox\"),VLOOKUP(I36,Toolbox!$C$1:$C$300,1,FALSE))","v":"Cadre de surveillance basé sur les événements des CDC en Afrique"}]
[]
[]
[]
[]
[]
[]
[]
[]
[]
[]
[]
[]
[]
[]
[]
[]
[]
[]
[]
[]
[]
[]
[]
[]
[]
[null,null,null,null,null,null,null,null,null,null,null,null,null,null,null,null,null,null,null,null,null,null,null,null,null,null,null,null,null,null,null,null,"Accessibilité",null,"Langue",null,"Facilité d'utilisation",null,"Flexibilité",null,"Besoins de données",null,"Analyse des données",null,"Acceptabilité",null,"«Une seule santé»",null,"Impact"]
[]
[]
[]
[]
[]
[]
[null,"RESSOURCES DE NIVEAU 2",null,null,null,null,null,null,null,null,null,null,null,null,null,null,null,null,null,null,null,null,null,null,null,null,null,null,null,null,null,null,null,null,null,null,null,null,null,null,null,null,null,null,null,null,null,null,null,null,"SCORE BRUT",null,null,"SCORE AJUSTÉ \n(Selon les préférences de l'utilisateur)"]
[]
[]
[]
[null,null,null,"DÉSIGNATION",null,null,null,null,"NOM DE LA RESSOURCE",null,null,null,null,null,null,"BRÈVE DESCRIPTION",null,null,null,null,null,null,null,null,"TYPE DE RESSOURCE",null,null,null,"CARACTÈRE GÉNÉRAL DE LA RESSOURCE"]
[]
[]
[]
[]
[null,null,null,"Ressources les mieux adaptées",null,null,null,null,{"$f":"Backbone!A100","v":"Évaluation des collaborations au sein d'un système de surveillance multisectoriel (EcoSur)"},null,null,null,null,null,null,"\nUn outil dont l'objectif est d'évaluer l'organisation et le fonctionnement de la collaboration au sein d'un système de surveillance multisectoriel, ainsi que d'analyser les points forts et les points faibles de cette collaboration\n",null,null,null,null,null,null,null,null,{"$f":"Backbone!R100","v":"Outil ou processus dirigé/facilité"},null,null,null,{"$f":"Backbone!S100","v":"«Une seule santé»; Généralisée"},null,null,null,{"$f":"Backbone!H100","v":8.3000000000000007},null,{"$f":"Backbone!I100","v":6},null,{"$f":"Backbone!J100","v":8.5},null,{"$f":"Backbone!K100","v":7.8},null,{"$f":"Backbone!L100","v":8.3000000000000007},null,{"$f":"Backbone!M100","v":6.7},null,{"$f":"Backbone!N100","v":3.3},null,{"$f":"Backbone!O100","v":9.1},null,{"$f":"Backbone!P100","v":4.7},null,{"$f":"Backbone!Q100","v":0.69666666666666677},null,null,{"$f":"(AG78*AG22+AI78*AI22+AK78*AK22+AM78*AM22+AO78*AO22+AQ78*AQ22+AS78*AS22+AU78*AU22+AW78*AW22)/(SUM(AG22:AW22)*10)","v":{"$error":"#DIV/0!"}},null,null,"Aller à \nBoîte à outils: ",null,{"$f":"HYPERLINK(\"#\"&ADDRESS(MATCH(I78,Toolbox!$C$1:$C$300),1,,,\"Toolbox\"),VLOOKUP(I78,Toolbox!$C$1:$C$300,1,FALSE))","v":"Évaluation des collaborations au sein d'un système de surveillance multisectoriel (EcoSur)"}]
[]
[]
[]
[]
[]
[]
[null,null,null,"Autres ressources intéressantes",null,null,null,null,{"$f":"Backbone!A332","v":"Réseau pour l'évaluation de l'approche «Une seule santé» (NEOH)"},null,null,null,null,null,null,"Un outil au format Excel qui mesure la conformité d'un système de surveillance au principe «Une seule santé» ",null,null,null,null,null,null,null,null,{"$f":"Backbone!R332","v":"Document d'orientation"},null,null,null,{"$f":"Backbone!S332","v":"«Une seule santé»; Généralisée"},null,null,null,{"$f":"Backbone!H332","v":8.3000000000000007},null,{"$f":"Backbone!I332","v":7.7},null,{"$f":"Backbone!J332","v":5.3},null,{"$f":"Backbone!K332","v":8.9},null,{"$f":"Backbone!L332","v":7.8},null,{"$f":"Backbone!M332","v":4.7},null,{"$f":"Backbone!N332","v":5.3},null,{"$f":"Backbone!O332","v":8},null,{"$f":"Backbone!P332","v":5.3},null,{"$f":"Backbone!Q332","v":0.68111111111111111},null,null,{"$f":"(AG85*AG22+AI85*AI22+AK85*AK22+AM85*AM22+AO85*AO22+AQ85*AQ22+AS85*AS22+AU85*AU22+AW85*AW22)/(SUM(AG22:AW22)*10)","v":{"$error":"#DIV/0!"}},null,null,"Aller à \nBoîte à outils: ",null,{"$f":"HYPERLINK(\"#\"&ADDRESS(MATCH(I85,Toolbox!$C$1:$C$300),1,,,\"Toolbox\"),VLOOKUP(I85,Toolbox!$C$1:$C$300,1,FALSE))","v":"Réseau pour l'évaluation de l'approche «Une seule santé» (NEOH)"}]
[]
[]
[]
[]
[]
[]
[]
[]
[]
[]
[]
[]
[]
[]
[]
[]
[]
[]
[]
[]
[]
[]
[]
[]
[]
[]
[]
[]
[]
[]
[null,null,null,null,null,null,null,null,null,null,null,null,null,null,null,null,null,null,null,null,null,null,null,null,null,null,null,null,null,null,null,null,"Accessibilité",null,"Langue",null,"Facilité d'utilisation",null,"Flexibilité",null,"Besoins de données",null,"Analyse des données",null,"Acceptabilité",null,"«Une seule santé»",null,"Impact"]
[]
[]
[]
[]
[]
[]
[null,null,null,null,null,null,null,null,null,null,null,null,null,null,null,null,null,null,null,null,null,null,null,null,null,null,null,null,null,null,null,null,null,null,null,null,null,null,null,null,null,null,null,null,null,null,null,null,null,null,"SCORE BRUT",null,null,"SCORE AJUSTÉ \n(Selon les préférences de l'utilisateur)"]
[null,"RESSOURCES DE NIVEAU 3"]
[]
[]
[null,null,null,"DÉSIGNATION",null,null,null,null,"NOM DE LA RESSOURCE",null,null,null,null,null,null,"BRÈVE DESCRIPTION",null,null,null,null,null,null,null,null,"TYPE DE RESSOURCE",null,null,null,"CARACTÈRE GÉNÉRAL DE LA RESSOURCE"]
[]
[]
[]
[]
[null,null,null,"Ressources les mieux adaptées",null,null,null,null,{"$f":"Backbone!A100","v":"Évaluation des collaborations au sein d'un système de surveillance multisectoriel (EcoSur)"},null,null,null,null,null,null,"Un outil dont l'objectif est d'évaluer l'organisation et le fonctionnement de la collaboration au sein d'un système de surveillance multisectoriel, ainsi que d'analyser les points forts et les points faibles de cette collaboration. ",null,null,null,null,null,null,null,null,{"$f":"Backbone!R100","v":"Outil ou processus dirigé/facilité"},null,null,null,{"$f":"Backbone!S100","v":"«Une seule santé»; Généralisée"},null,null,null,{"$f":"Backbone!H100","v":8.3000000000000007},null,{"$f":"Backbone!I100","v":6},null,{"$f":"Backbone!J100","v":8.5},null,{"$f":"Backbone!K100","v":7.8},null,{"$f":"Backbone!L100","v":8.3000000000000007},null,{"$f":"Backbone!M100","v":6.7},null,{"$f":"Backbone!N100","v":3.3},null,{"$f":"Backbone!O100","v":9.1},null,{"$f":"Backbone!P100","v":4.7},null,{"$f":"Backbone!Q100","v":0.69666666666666677},null,null,{"$f":"(AG132*AG22+AI132*AI22+AK132*AK22+AM132*AM22+AO132*AO22+AQ132*AQ22+AS132*AS22+AU132*AU22+AW132*AW22)/(SUM(AG22:AW22)*10)","v":{"$error":"#DIV/0!"}},null,null,"Aller à \nBoîte à outils: ",null,{"$f":"HYPERLINK(\"#\"&ADDRESS(MATCH(I132,Toolbox!$C$1:$C$300),1,,,\"Toolbox\"),VLOOKUP(I132,Toolbox!$C$1:$C$300,1,FALSE))","v":"Évaluation des collaborations au sein d'un système de surveillance multisectoriel (EcoSur)"}]
[]
[]
[]
[]
[]
[null,null,null,null,null,null,null,null,{"$f":"Backbone!A303","v":"Plan d'action national pour la sécurité sanitaire (PANSS)"},null,null,null,null,null,null,"Un processus de planification mené par le pays lui-même, capable d'accélérer la mise en œuvre des capacités essentielles du Règlement sanitaire international (RSI) et fondé sur l'approche «Une seule santé» et «à l'échelle de l'ensemble de l'administration» pour tous les risques.",null,null,null,null,null,null,null,null,{"$f":"Backbone!R303","v":"Document d'orientation"},null,null,null,{"$f":"Backbone!S303","v":"«Une seule santé»; Généralisée"},null,null,null,{"$f":"Backbone!H303","v":8},null,{"$f":"Backbone!I303","v":9},null,{"$f":"Backbone!J303","v":7.8},null,{"$f":"Backbone!K303","v":10},null,{"$f":"Backbone!L303","v":8},null,{"$f":"Backbone!M303","v":4.5},null,{"$f":"Backbone!N303","v":10},null,{"$f":"Backbone!O303","v":10},null,{"$f":"Backbone!P303","v":10},null,{"$f":"Backbone!Q303","v":0.85888888888888881},null,null,{"$f":"(AG138*AG22+AI138*AI22+AK138*AK22+AM138*AM22+AO138*AO22+AQ138*AQ22+AS138*AS22+AU138*AU22+AW138*AW22)/(SUM(AG22:AW22)*10)","v":{"$error":"#DIV/0!"}},null,null,"Aller à \nBoîte à outils: ",null,{"$f":"HYPERLINK(\"#\"&ADDRESS(MATCH(I138,Toolbox!$C$1:$C$300),1,,,\"Toolbox\"),VLOOKUP(I138,Toolbox!$C$1:$C$300,1,FALSE))","v":"Plan d'action national pour la sécurité sanitaire (PANSS)"}]

{"sheet":"A1_tools","index":30,"n_rows":262,"n_cols":59,"rows_kept":262,"cut":false,"hidden":false,"merged":[[89,53,93,54],[65,3,93,6],[17,1,93,1],[89,40,93,40],[89,42,93,42],[89,44,93,44],[89,46,93,46],[89,48,93,48],[89,50,93,51],[77,50,81,51],[77,53,81,54],[89,8,93,13],[89,15,93,22],[89,24,93,26],[89,28,93,30],[89,32,93,32],[89,34,93,34],[89,36,93,36],[89,38,93,38],[77,38,81,38],[77,40,81,40],[77,42,81,42],[77,44,81,44],[77,46,81,46],[58,53,62,54],[65,50,69,51],[65,8,69,13],[65,15,69,22],[65,24,69,26],[65,28,69,30],[65,32,69,32],[65,34,69,34],[77,48,81,48],[58,36,62,36],[58,38,62,38],[58,40,62,40],[77,8,81,13],[77,15,81,22],[77,24,81,26],[77,28,81,30],[77,32,81,32],[77,34,81,34],[77,36,81,36],[71,46,75,46],[71,48,75,48],[65,36,69,36],[65,38,69,38],[58,8,62,13],[58,15,62,22],[58,24,62,26],[58,28,62,30],[58,42,62,42],[58,44,62,44],[58,46,62,46],[58,48,62,48],[58,50,62,51],[52,48,56,48],[52,50,56,51],[52,46,56,46],[46,42,50,42],[46,44,50,44],[46,46,50,46],[46,48,50,48],[52,8,56,13],[52,15,56,22],[52,24,56,26],[52,28,56,30],[52,32,56,32],[52,34,56,34],[52,36,56,36],[52,38,56,38],[46,38,50,38],[46,8,50,13],[46,15,50,22],[46,24,50,26],[46,28,50,30],[46,32,50,32],[46,34,50,34],[46,36,50,36],[52,44,56,44],[40,36,44,36],[40,38,44,38],[40,8,44,13],[40,15,44,22],[40,24,44,26],[40,28,44,30],[40,32,44,32],[40,34,44,34],[46,40,50,40],[65,53,69,54],[65,40,69,40],[65,42,69,42],[65,44,69,44],[65,46,69,46],[65,48,69,48],[34,42,38,42],[34,44,38,44],[34,46,38,46],[34,48,38,48],[34,50,38,51],[34,53,38,54],[40,48,44,48],[40,50,44,51],[40,53,44,54],[40,40,44,40],[40,42,44,42],[40,44,44,44],[40,46,44,46],[52,53,56,54],[52,40,56,40],[52,42,56,42],[46,50,50,51],[46,53,50,54],[83,53,87,54],[83,38,87,38],[83,40,87,40],[83,42,87,42],[83,44,87,44],[83,46,87,46],[83,48,87,48],[71,42,75,42],[71,44,75,44],[71,50,75,51],[71,53,75,54],[71,40,75,40],[71,34,75,34],[71,36,75,36],[71,8,75,13],[71,15,75,22],[71,24,75,26],[71,28,75,30],[71,32,75,32],[83,50,87,51],[28,24,32,26],[28,28,32,30],[28,32,32,32],[28,34,32,34],[28,36,32,36],[28,38,32,38],[58,32,62,32],[58,34,62,34],[83,8,87,13],[83,15,87,22],[83,24,87,26],[83,28,87,30],[83,32,87,32],[83,34,87,34],[83,36,87,36],[71,38,75,38],[13,50,20,51],[13,53,20,54],[17,3,20,6],[17,8,20,13],[17,15,20,22],[17,24,20,26],[17,28,20,30],[6,46,20,46],[6,48,20,48],[28,53,32,54],[34,8,38,13],[34,15,38,22],[34,24,38,26],[34,28,38,30],[34,32,38,32],[34,34,38,34],[34,36,38,36],[34,38,38,38],[34,40,38,40],[28,40,32,40],[28,42,32,42],[28,44,32,44],[28,46,32,46],[28,48,32,48],[28,50,32,51],[28,8,32,13],[28,15,32,22],[1,1,3,62],[22,3,62,6],[22,8,26,13],[22,50,26,51],[22,53,26,54],[22,38,26,38],[22,40,26,40],[22,42,26,42],[22,44,26,44],[22,46,26,46],[22,48,26,48],[22,15,26,22],[22,24,26,26],[22,28,26,30],[22,32,26,32],[22,34,26,34],[22,36,26,36],[6,32,20,32],[6,34,20,34],[6,36,20,36],[6,38,20,38],[6,40,20,40],[6,42,20,42],[6,44,20,44],[130,44,134,44],[130,46,134,46],[130,48,134,48],[130,50,134,51],[130,53,134,54],[114,32,128,32],[114,34,128,34],[114,36,128,36],[114,38,128,38],[114,40,128,40],[114,42,128,42],[114,44,128,44],[114,46,128,46],[114,48,128,48],[136,28,140,30],[136,32,140,32],[136,34,140,34],[136,36,140,36],[136,38,140,38],[136,40,140,40],[121,50,128,51],[121,53,128,54],[125,3,128,6],[125,8,128,13],[125,15,128,22],[125,24,128,26],[125,28,128,30],[130,3,170,6],[130,8,134,13],[130,15,134,22],[130,24,134,26],[130,28,134,30],[130,32,134,32],[130,34,134,34],[130,36,134,36],[130,38,134,38],[130,40,134,40],[130,42,134,42],[136,42,140,42],[136,44,140,44],[136,46,140,46],[136,48,140,48],[136,50,140,51],[136,53,140,54],[142,8,146,13],[142,15,146,22],[142,24,146,26],[142,28,146,30],[142,32,146,32],[142,34,146,34],[142,36,146,36],[142,38,146,38],[142,40,146,40],[142,42,146,42],[142,44,146,44],[142,46,146,46],[142,48,146,48],[142,50,146,51],[142,53,146,54],[136,8,140,13],[136,15,140,22],[136,24,140,26],[148,48,152,48],[148,50,152,51],[148,53,152,54],[154,8,158,13],[154,15,158,22],[154,24,158,26],[154,28,158,30],[154,32,158,32],[154,34,158,34],[154,36,158,36],[154,38,158,38],[154,40,158,40],[154,42,158,42],[154,44,158,44],[154,46,158,46],[154,48,158,48],[154,50,158,51],[154,53,158,54],[148,8,152,13],[148,15,152,22],[148,24,152,26],[148,28,152,30],[148,32,152,32],[148,34,152,34],[160,36,164,36],[160,38,164,38],[160,40,164,40],[148,42,152,42],[148,44,152,44],[148,46,152,46],[148,36,152,36],[148,38,152,38],[148,40,152,40],[160,42,164,42],[160,44,164,44],[160,46,164,46],[160,48,164,48],[160,50,164,51],[160,53,164,54],[166,8,170,13],[166,15,170,22],[166,24,170,26],[166,28,170,30],[166,32,170,32],[166,34,170,34],[166,36,170,36],[166,38,170,38],[166,40,170,40],[166,42,170,42],[166,44,170,44],[166,46,170,46],[166,48,170,48],[166,50,170,51],[166,53,170,54],[160,8,164,13],[160,15,164,22],[160,24,164,26],[160,28,164,30],[160,32,164,32],[160,34,164,34],[173,24,177,26],[173,28,177,30],[173,32,177,32],[173,34,177,34],[173,36,177,36],[173,38,177,38],[185,8,189,13],[185,15,189,22],[185,24,189,26],[185,28,189,30],[185,32,189,32],[185,34,189,34],[185,36,189,36],[185,38,189,38],[173,40,177,40],[173,42,177,42],[173,44,177,44],[173,46,177,46],[173,48,177,48],[173,50,177,51],[173,53,177,54],[179,8,183,13],[179,15,183,22],[179,24,183,26],[179,28,183,30],[179,32,183,32],[179,34,183,34],[179,36,183,36],[179,38,183,38],[179,40,183,40],[179,42,183,42],[179,44,183,44],[179,46,183,46],[179,48,183,48],[179,50,183,51],[179,53,183,54],[173,8,177,13],[173,15,177,22],[125,1,195,1],[173,3,195,6],[185,40,189,40],[185,42,189,42],[185,44,189,44],[185,46,189,46],[185,48,189,48],[185,50,189,51],[185,53,189,54],[191,8,195,13],[191,15,195,22],[191,24,195,26],[191,28,195,30],[191,32,195,32],[191,34,195,34],[191,36,195,36],[191,38,195,38],[191,40,195,40],[191,42,195,42],[191,44,195,44],[191,46,195,46],[191,48,195,48],[191,50,195,51],[191,53,195,54],[221,50,228,51],[221,53,228,54],[225,1,265,1],[225,3,228,6],[225,8,228,13],[225,15,228,22],[225,24,228,26],[225,28,228,30],[230,3,252,6],[214,32,228,32],[214,34,228,34],[214,36,228,36],[214,38,228,38],[214,40,228,40],[214,42,228,42],[214,44,228,44],[214,46,228,46],[214,48,228,48],[230,48,234,48],[230,50,234,51],[230,53,234,54],[236,8,240,13],[236,15,240,22],[236,24,240,26],[236,48,240,48],[236,50,240,51],[236,53,240,54],[230,8,234,13],[230,15,234,22],[230,24,234,26],[230,28,234,30],[230,32,234,32],[230,34,234,34],[236,28,240,30],[236,32,240,32],[236,34,240,34],[236,36,240,36],[236,38,240,38],[236,40,240,40],[236,42,240,42],[236,44,240,44],[236,46,240,46],[242,36,246,36],[242,38,246,38],[242,40,246,40],[230,42,234,42],[230,44,234,44],[230,46,234,46],[230,36,234,36],[230,38,234,38],[230,40,234,40],[242,42,246,42],[242,44,246,44],[242,46,246,46],[242,48,246,48],[242,50,246,51],[242,53,246,54],[248,8,252,13],[248,15,252,22],[248,24,252,26],[248,28,252,30],[248,32,252,32],[248,34,252,34],[248,36,252,36],[248,38,252,38],[248,40,252,40],[248,42,252,42],[248,44,252,44],[248,46,252,46],[248,48,252,48],[248,50,252,51],[248,53,252,54],[242,8,246,13],[242,15,246,22],[242,24,246,26],[242,28,246,30],[242,32,246,32],[242,34,246,34],[255,3,265,6],[255,8,259,13],[255,15,259,22],[255,24,259,26],[255,28,259,30],[255,32,259,32],[255,34,259,34],[255,36,259,36],[255,38,259,38],[255,40,259,40],[255,42,259,42],[255,44,259,44],[255,46,259,46],[255,48,259,48],[255,50,259,51],[255,53,259,54],[261,8,265,13],[261,15,265,22],[261,24,265,26],[261,28,265,30],[261,32,265,32],[261,34,265,34],[261,36,265,36],[261,38,265,38],[261,40,265,40],[261,42,265,42],[261,44,265,44],[261,46,265,46],[261,48,265,48],[261,50,265,51],[261,53,265,54],[22,56,26,57],[22,58,26,62],[28,56,32,57],[28,58,32,62],[34,56,38,57],[34,58,38,62],[40,56,44,57],[40,58,44,62],[46,56,50,57],[46,58,50,62],[52,56,56,57],[52,58,56,62],[58,56,62,57],[58,58,62,62],[65,56,69,57],[65,58,69,62],[71,56,75,57],[71,58,75,62],[77,56,81,57],[77,58,81,62],[83,56,87,57],[83,58,87,62],[89,56,93,57],[89,58,93,62],[130,56,134,57],[130,58,134,62],[136,56,140,57],[136,58,140,62],[142,56,146,57],[142,58,146,62],[148,56,152,57],[148,58,152,62],[154,56,158,57],[154,58,158,62],[160,56,164,57],[160,58,164,62],[166,56,170,57],[166,58,170,62],[173,56,177,57],[173,58,177,62],[242,56,246,57],[242,58,246,62],[248,56,252,57],[248,58,252,62],[255,56,259,57],[255,58,259,62],[261,56,265,57],[261,58,265,62],[179,56,183,57],[179,58,183,62],[185,56,189,57],[185,58,189,62],[191,56,195,57],[191,58,195,62],[230,56,234,57],[230,58,234,62],[236,56,240,57],[236,58,240,62]]}
[]
[null,"Ressources pour la cartographie des parties prenantes"]
[]
[]
[]
[]
[null,null,null,null,null,null,null,null,null,null,null,null,null,null,null,null,null,null,null,null,null,null,null,null,null,null,null,null,null,null,null,null,"Accessibilité",null,"Langue",null,"Facilité d'utilisation",null,"Flexibilité",null,"Besoins de données",null,"Analyse des données",null,"Acceptabilité",null,"«Une seule santé»",null,"Impact"]
[]
[]
[]
[]
[]
[]
[null,null,null,null,null,null,null,null,null,null,null,null,null,null,null,null,null,null,null,null,null,null,null,null,null,null,null,null,null,null,null,null,null,null,null,null,null,null,null,null,null,null,null,null,null,null,null,null,null,null,"SCORE BRUT",null,null,"SCORE AJUSTÉ \n(Selon les préférences de l'utilisateur)"]
[]
[]
[]
[null,"RESSOURCES DE NIVEAU 1",null,"DÉSIGNATION",null,null,null,null,"NOM DE LA RESSOURCE",null,null,null,null,null,null,"BRÈVE DESCRIPTION",null,null,null,null,null,null,null,null,"TYPE DE RESSOURCE",null,null,null,"CARACTÈRE GÉNÉRAL DE LA RESSOURCE"]
[]
[]
[]
[null,null,null,null,null,null,null,null,null,null,null,null,null,null,null,null,null,null,null,null,null,null,null,null,null,null,null,null,null,null,null,null,{"$f":"'Attribute Survey'!S22","v":0},null,{"$f":"'Attribute Survey'!S26","v":0},null,{"$f":"'Attribute Survey'!S30","v":0},null,{"$f":"'Attribute Survey'!S34","v":0},null,{"$f":"'Attribute Survey'!S38","v":0},null,{"$f":"'Attribute Survey'!S42","v":0},null,{"$f":"'Attribute Survey'!S46","v":0},null,{"$f":"'Attribute Survey'!S50","v":0},null,{"$f":"'Attribute Survey'!S54","v":0}]
[null,null,null,"Ressources les mieux adaptées",null,null,null,null,{"$f":"Backbone!A51","v":"Guide de discussion sur les capacités sanitaires aux frontières (BHCDG)"},null,null,null,null,null,null,"Outils de modèles pour faciliter les discussions avec les représentants au niveau national, des districts et des points de passage frontalier terrestres sur les systèmes de santé aux frontières ",null,null,null,null,null,null,null,null,{"$f":"INDEX(Backbone!$R2:$R893,MATCH(I23,Backbone!$A2:$A893,0))","v":"Document d'orientation"},null,null,null,{"$f":"INDEX(Backbone!$S2:$S893,MATCH(I23,Backbone!$A2:$A893,0))","v":"«Une seule santé»; spécifique d'une maladie/menace "},null,null,null,{"$f":"INDEX(Backbone!$H2:$H893,MATCH(I23,Backbone!$A2:$A893,0))","v":8.8000000000000007},null,{"$f":"INDEX(Backbone!$I2:$I893,MATCH(I23,Backbone!$A2:$A893,0))","v":6.7},null,{"$f":"INDEX(Backbone!$J2:$J893,MATCH(I23,Backbone!$A2:$A893,0))","v":7.6},null,{"$f":"INDEX(Backbone!$K2:$K893,MATCH(I23,Backbone!$A2:$A893,0))","v":9},null,{"$f":"INDEX(Backbone!$L2:$L893,MATCH(I23,Backbone!$A2:$A893,0))","v":7},null,{"$f":"INDEX(Backbone!$M2:$M893,MATCH(I23,Backbone!$A2:$A893,0))","v":3.8},null,{"$f":"INDEX(Backbone!$N2:$N893,MATCH(I23,Backbone!$A2:$A893,0))","v":8},null,{"$f":"INDEX(Backbone!$O2:$O893,MATCH(I23,Backbone!$A2:$A893,0))","v":8.4},null,{"$f":"INDEX(Backbone!$P2:$P893,MATCH(I23,Backbone!$A2:$A893,0))","v":6},null,{"$f":"INDEX(Backbone!$Q2:$Q893,MATCH(I23,Backbone!$A2:$A893,0))","v":0.72555555555555551},null,null,{"$f":"(AG23*$AG$22+AI23*$AI$22+AK23*$AK$22+AM23*$AM$22+AO23*$AO$22+AQ23*$AQ$22+AS23*$AS$22+AU23*$AU$22+AW23*$AW$22)/(SUM($AG$22:$AW$22)*10)","v":{"$error":"#DIV/0!"}},null,null,"Aller à \nBoîte à outils: ",null,{"$f":"HYPERLINK(\"#\"&ADDRESS(MATCH(I23,Toolbox!$C$1:$C$300),1,,,\"Toolbox\"),VLOOKUP(I23,Toolbox!$C$1:$C$300,1,FALSE))","v":"Guide de discussion sur les capacités sanitaires aux frontières (BHCDG)"}]
[]
[]
[]
[]
[]
[null,null,null,null,null,null,null,null,{"$f":"Backbone!A239","v":"Atelier national de rapprochement et d'échange RSI-PVS"},null,null,null,null,null,null," Un atelier aidant les secteurs de la santé animale et de la santé humaine des pays à explorer des zones de chevauchement et à mettre en place, le cas échéant, des passerelles appropriées pour faciliter la coordination. ",null,null,null,null,null,null,null,null,{"$f":"INDEX(Backbone!$R$2:$R$893,MATCH(I29,Backbone!$A$2:$A$893,0))","v":"Outil ou processus dirigé/facilité"},null,null,null,{"$f":"INDEX(Backbone!$S$2:$S$893,MATCH(I29,Backbone!$A$2:$A$893,0))","v":"«Une seule santé»; Généralisée"},null,null,null,{"$f":"INDEX(Backbone!$H$2:$H$893,MATCH(I29,Backbone!$A$2:$A$893,0))","v":8.6},null,{"$f":"INDEX(Backbone!$I$2:$I$893,MATCH(I29,Backbone!$A$2:$A$893,0))","v":10},null,{"$f":"INDEX(Backbone!$J$2:$J$893,MATCH(I29,Backbone!$A$2:$A$893,0))","v":6.2},null,{"$f":"INDEX(Backbone!$K$2:$K$893,MATCH(I29,Backbone!$A$2:$A$893,0))","v":10},null,{"$f":"INDEX(Backbone!$L$2:$L$893,MATCH(I29,Backbone!$A$2:$A$893,0))","v":6},null,{"$f":"INDEX(Backbone!$M$2:$M$893,MATCH(I29,Backbone!$A$2:$A$893,0))","v":7},null,{"$f":"INDEX(Backbone!$N$2:$N$893,MATCH(I29,Backbone!$A$2:$A$893,0))","v":9},null,{"$f":"INDEX(Backbone!$O$2:$O$893,MATCH(I29,Backbone!$A$2:$A$893,0))","v":8.1999999999999993},null,{"$f":"INDEX(Backbone!$P$2:$P$893,MATCH(I29,Backbone!$A$2:$A$893,0))","v":10},null,{"$f":"INDEX(Backbone!$Q$2:$Q$893,MATCH(I29,Backbone!$A$2:$A$893,0))","v":0.83333333333333337},null,null,{"$f":"(AG29*$AG$22+AI29*$AI$22+AK29*$AK$22+AM29*$AM$22+AO29*$AO$22+AQ29*$AQ$22+AS29*$AS$22+AU29*$AU$22+AW29*$AW$22)/(SUM($AG$22:$AW$22)*10)","v":{"$error":"#DIV/0!"}},null,null,"Aller à \nBoîte à outils: ",null,{"$f":"HYPERLINK(\"#\"&ADDRESS(MATCH(I29,Toolbox!$C$1:$C$300),1,,,\"Toolbox\"),VLOOKUP(I29,Toolbox!$C$1:$C$300,1,FALSE))","v":"Atelier national de rapprochement et d'échange RSI-PVS"}]
[]
[]
[]
[]
[]
[null,null,null,null,null,null,null,null,{"$f":"Backbone!A400","v":"Outil d'évaluation de l'état de préparation et des besoins pour une surveillance «Une seule santé» (OHSRRT)"},null,null,null,null,null,null,"Un outil d'évaluation de la préparation et des besoins utilisé pour déterminer l'état de préparation du pays et dresser la liste des besoins nécessaires au développement d'un système de surveillance «Une seule santé» basé sur des facteurs de réussite critiques.",null,null,null,null,null,null,null,null,{"$f":"INDEX(Backbone!$R$2:$R$893,MATCH(I35,Backbone!$A$2:$A$893,0))","v":"Outil d'autoévaluation"},null,null,null,{"$f":"INDEX(Backbone!$S$2:$S$893,MATCH(I35,Backbone!$A$2:$A$893,0))","v":"«Une seule santé»; Généralisée"},null,null,null,{"$f":"INDEX(Backbone!$H$2:$H$893,MATCH(I35,Backbone!$A$2:$A$893,0))","v":8},null,{"$f":"INDEX(Backbone!$I$2:$I$893,MATCH(I35,Backbone!$A$2:$A$893,0))","v":6},null,{"$f":"INDEX(Backbone!$J$2:$J$893,MATCH(I35,Backbone!$A$2:$A$893,0))","v":7.4},null,{"$f":"INDEX(Backbone!$K$1:$K$893,MATCH(I35,Backbone!$A$1:$A$893,0))","v":8.6999999999999993},null,{"$f":"INDEX(Backbone!$L$2:$L$893,MATCH(I35,Backbone!$A$2:$A$893,0))","v":6},null,{"$f":"INDEX(Backbone!$M$2:$M$893,MATCH(I35,Backbone!$A$2:$A$893,0))","v":2.5},null,{"$f":"INDEX(Backbone!$N$2:$N$893,MATCH(I35,Backbone!$A$2:$A$893,0))","v":2},null,{"$f":"INDEX(Backbone!$O$2:$O$893,MATCH(I35,Backbone!$A$2:$A$893,0))","v":9.6},null,{"$f":"INDEX(Backbone!$P$2:$P$893,MATCH(I35,Backbone!$A$2:$A$893,0))","v":5.5},null,{"$f":"INDEX(Backbone!$Q$2:$Q$893,MATCH(I35,Backbone!$A$2:$A$893,0))","v":0.61888888888888882},null,null,{"$f":"(AG35*$AG$22+AI35*$AI$22+AK35*$AK$22+AM35*$AM$22+AO35*$AO$22+AQ35*$AQ$22+AS35*$AS$22+AU35*$AU$22+AW35*$AW$22)/(SUM($AG$22:$AW$22)*10)","v":{"$error":"#DIV/0!"}},null,null,"Aller à \nBoîte à outils: ",null,{"$f":"HYPERLINK(\"#\"&ADDRESS(MATCH(I35,Toolbox!$C$1:$C$300),1,,,\"Toolbox\"),VLOOKUP(I35,Toolbox!$C$1:$C$300,1,FALSE))","v":"Outil d'évaluation de l'état de préparation et des besoins pour une surveillance «Une seule santé» (OHSRRT)"}]
[]
[]
[]
[]
[]
[null,null,null,null,null,null,null,null,{"$f":"Backbone!A367","v":"Évaluation des systèmes «Une seule santé» pour les zoonoses prioritaires (OH-SAPZ)"},null,null,null,null,null,null,"L'outil vise à faciliter une évaluation systématique des structures nationales de coordination de l'initiative «Une seule santé» en matière de prévention, de détection et de réponse aux zoonoses.  ",null,null,null,null,null,null,null,null,{"$f":"INDEX(Backbone!$R$2:$R$893,MATCH(I41,Backbone!$A$2:$A$893,0))","v":"Outil d'autoévaluation"},null,null,null,{"$f":"INDEX(Backbone!$S$2:$S$893,MATCH(I41,Backbone!$A$2:$A$893,0))","v":"«Une seule santé»; Généralisée"},null,null,null,{"$f":"INDEX(Backbone!$H$2:$H$893,MATCH(I41,Backbone!$A$2:$A$893,0))","v":7.9},null,{"$f":"INDEX(Backbone!$I$2:$I$893,MATCH(I41,Backbone!$A$2:$A$893,0))","v":7.3},null,{"$f":"INDEX(Backbone!$J$2:$J$893,MATCH(I41,Backbone!$A$2:$A$893,0))","v":7.2},null,{"$f":"INDEX(Backbone!$K$1:$K$893,MATCH(I41,Backbone!$A$1:$A$893,0))","v":7.8},null,{"$f":"INDEX(Backbone!$L$2:$L$893,MATCH(I41,Backbone!$A$2:$A$893,0))","v":6.5},null,{"$f":"INDEX(Backbone!$M$2:$M$893,MATCH(I41,Backbone!$A$2:$A$893,0))","v":5.2},null,{"$f":"INDEX(Backbone!$N$2:$N$893,MATCH(I41,Backbone!$A$2:$A$893,0))","v":4},null,{"$f":"INDEX(Backbone!$O$2:$O$893,MATCH(I41,Backbone!$A$2:$A$893,0))","v":8.3000000000000007},null,{"$f":"INDEX(Backbone!$P$2:$P$893,MATCH(I41,Backbone!$A$2:$A$893,0))","v":9.6999999999999993},null,{"$f":"INDEX(Backbone!$Q$2:$Q$893,MATCH(I41,Backbone!$A$2:$A$893,0))","v":0.71000000000000008},null,null,{"$f":"(AG41*$AG$22+AI41*$AI$22+AK41*$AK$22+AM41*$AM$22+AO41*$AO$22+AQ41*$AQ$22+AS41*$AS$22+AU41*$AU$22+AW41*$AW$22)/(SUM($AG$22:$AW$22)*10)","v":{"$error":"#DIV/0!"}},null,null,"Aller à \nBoîte à outils: ",null,{"$f":"HYPERLINK(\"#\"&ADDRESS(MATCH(I41,Toolbox!$C$1:$C$300),1,,,\"Toolbox\"),VLOOKUP(I41,Toolbox!$C$1:$C$300,1,FALSE))","v":"Évaluation des systèmes «Une seule santé» pour les zoonoses prioritaires (OH-SAPZ)"}]
[]
[]
[]
[]
[]
[null,null,null,null,null,null,null,null,{"$f":"Backbone!A383","v":"Boîte à outils de cartographie et de ressources des systèmes «Une seule santé» (OH-SMART)"},null,null,null,null,null,null,"Un processus qui aide les parties prenantes de plusieurs secteurs à cartographier, analyser et améliorer tout système existant qui nécessite une collaboration interdisciplinaire et multisectorielle.",null,null,null,null,null,null,null,null,{"$f":"INDEX(Backbone!$R$2:$R$893,MATCH(I47,Backbone!$A$2:$A$893,0))","v":"Outil ou processus dirigé/facilité"},null,null,null,{"$f":"INDEX(Backbone!$S$2:$S$893,MATCH(I47,Backbone!$A$2:$A$893,0))","v":"«Une seule santé»; Généralisée"},null,null,null,{"$f":"INDEX(Backbone!$H$2:$H$893,MATCH(I47,Backbone!$A$2:$A$893,0))","v":8.6999999999999993},null,{"$f":"INDEX(Backbone!$I$2:$I$893,MATCH(I47,Backbone!$A$2:$A$893,0))","v":7.3},null,{"$f":"INDEX(Backbone!$J$2:$J$893,MATCH(I47,Backbone!$A$2:$A$893,0))","v":8.4},null,{"$f":"INDEX(Backbone!$K$1:$K$893,MATCH(I47,Backbone!$A$1:$A$893,0))","v":9.3000000000000007},null,{"$f":"INDEX(Backbone!$L$2:$L$893,MATCH(I47,Backbone!$A$2:$A$893,0))","v":8.1999999999999993},null,{"$f":"INDEX(Backbone!$M$2:$M$893,MATCH(I47,Backbone!$A$2:$A$893,0))","v":7.4},null,{"$f":"INDEX(Backbone!$N$2:$N$893,MATCH(I47,Backbone!$A$2:$A$893,0))","v":9.5},null,{"$f":"INDEX(Backbone!$O$2:$O$893,MATCH(I47,Backbone!$A$2:$A$893,0))","v":10},null,{"$f":"INDEX(Backbone!$P$2:$P$893,MATCH(I47,Backbone!$A$2:$A$893,0))","v":10},null,{"$f":"INDEX(Backbone!$Q$2:$Q$893,MATCH(I47,Backbone!$A$2:$A$893,0))","v":0.87555555555555564},null,null,{"$f":"(AG47*$AG$22+AI47*$AI$22+AK47*$AK$22+AM47*$AM$22+AO47*$AO$22+AQ47*$AQ$22+AS47*$AS$22+AU47*$AU$22+AW47*$AW$22)/(SUM($AG$22:$AW$22)*10)","v":{"$error":"#DIV/0!"}},null,null,"Aller à \nBoîte à outils: ",null,{"$f":"HYPERLINK(\"#\"&ADDRESS(MATCH(I47,Toolbox!$C$1:$C$300),1,,,\"Toolbox\"),VLOOKUP(I47,Toolbox!$C$1:$C$300,1,FALSE))","v":"Boîte à outils de cartographie et de ressources des systèmes «Une seule santé» (OH-SMART)"}]
[]
[]
[]
[]
[]
[null,null,null,null,null,null,null,null,{"$f":"Backbone!A437","v":"Analyse de la politique sur le terrain (PFA)"},null,null,null,null,null,null,"Une cartographie spécialisée des parties prenantes qui permet de visualiser le système des organisations qui interagissent sur une question politique donnée. ",null,null,null,null,null,null,null,null,{"$f":"INDEX(Backbone!$R$2:$R$893,MATCH(I53,Backbone!$A$2:$A$893,0))","v":"Document d'orientation"},null,null,null,{"$f":"INDEX(Backbone!$S$2:$S$893,MATCH(I53,Backbone!$A$2:$A$893,0))","v":"«Une seule santé»; Généralisée"},null,null,null,{"$f":"INDEX(Backbone!$H$2:$H$893,MATCH(I53,Backbone!$A$2:$A$893,0))","v":7.8},null,{"$f":"INDEX(Backbone!$I$2:$I$893,MATCH(I53,Backbone!$A$2:$A$893,0))","v":8},null,{"$f":"INDEX(Backbone!$J$2:$J$893,MATCH(I53,Backbone!$A$2:$A$893,0))","v":9.8000000000000007},null,{"$f":"INDEX(Backbone!$K$1:$K$893,MATCH(I53,Backbone!$A$1:$A$893,0))","v":10},null,{"$f":"INDEX(Backbone!$L$2:$L$893,MATCH(I53,Backbone!$A$2:$A$893,0))","v":7.1},null,{"$f":"INDEX(Backbone!$M$2:$M$893,MATCH(I53,Backbone!$A$2:$A$893,0))","v":4},null,{"$f":"INDEX(Backbone!$N$2:$N$893,MATCH(I53,Backbone!$A$2:$A$893,0))","v":7},null,{"$f":"INDEX(Backbone!$O$2:$O$893,MATCH(I53,Backbone!$A$2:$A$893,0))","v":8.8000000000000007},null,{"$f":"INDEX(Backbone!$P$2:$P$893,MATCH(I53,Backbone!$A$2:$A$893,0))","v":5},null,{"$f":"INDEX(Backbone!$Q$2:$Q$893,MATCH(I53,Backbone!$A$2:$A$893,0))","v":0.75},null,null,{"$f":"(AG53*$AG$22+AI53*$AI$22+AK53*$AK$22+AM53*$AM$22+AO53*$AO$22+AQ53*$AQ$22+AS53*$AS$22+AU53*$AU$22+AW53*$AW$22)/(SUM($AG$22:$AW$22)*10)","v":{"$error":"#DIV/0!"}},null,null,"Aller à \nBoîte à outils: ",null,{"$f":"HYPERLINK(\"#\"&ADDRESS(MATCH(I53,Toolbox!$C$1:$C$300),1,,,\"Toolbox\"),VLOOKUP(I53,Toolbox!$C$1:$C$300,1,FALSE))","v":"Analyse de la politique sur le terrain (PFA)"}]
[]
[]
[]
[]
[]
[null,null,null,null,null,null,null,null,{"$f":"Backbone!A453","v":"Approche par étapes pour l'élimination de la rage (SARE)"},null,null,null,null,null,null,"Un outil pratique de planification, de suivi et d'évaluation au format Excel qui permet d'orienter, de déployer et d'affiner des programmes de lutte contre la rage. ",null,null,null,null,null,null,null,null,{"$f":"INDEX(Backbone!$R$2:$R$893,MATCH(I59,Backbone!$A$2:$A$893,0))","v":"Outil d'autoévaluation"},null,null,null,{"$f":"INDEX(Backbone!$S$2:$S$893,MATCH(I59,Backbone!$A$2:$A$893,0))","v":"«Une seule santé»; spécifique d'une maladie/menace "},null,null,null,{"$f":"INDEX(Backbone!$H$2:$H$893,MATCH(I59,Backbone!$A$2:$A$893,0))","v":8},null,{"$f":"INDEX(Backbone!$I$2:$I$893,MATCH(I59,Backbone!$A$2:$A$893,0))","v":9},null,{"$f":"INDEX(Backbone!$J$2:$J$893,MATCH(I59,Backbone!$A$2:$A$893,0))","v":6.6},null,{"$f":"INDEX(Backbone!$K$1:$K$893,MATCH(I59,Backbone!$A$1:$A$893,0))","v":3.3},null,{"$f":"INDEX(Backbone!$L$2:$L$893,MATCH(I59,Backbone!$A$2:$A$893,0))","v":5.7},null,{"$f":"INDEX(Backbone!$M$2:$M$893,MATCH(I59,Backbone!$A$2:$A$893,0))","v":6.8},null,{"$f":"INDEX(Backbone!$N$2:$N$893,MATCH(I59,Backbone!$A$2:$A$893,0))","v":8},null,{"$f":"INDEX(Backbone!$O$2:$O$893,MATCH(I59,Backbone!$A$2:$A$893,0))","v":8.6},null,{"$f":"INDEX(Backbone!$P$2:$P$893,MATCH(I59,Backbone!$A$2:$A$893,0))","v":9.5},null,{"$f":"INDEX(Backbone!$Q$2:$Q$893,MATCH(I59,Backbone!$A$2:$A$893,0))","v":0.72777777777777775},null,null,{"$f":"(AG59*$AG$22+AI59*$AI$22+AK59*$AK$22+AM59*$AM$22+AO59*$AO$22+AQ59*$AQ$22+AS59*$AS$22+AU59*$AU$22+AW59*$AW$22)/(SUM($AG$22:$AW$22)*10)","v":{"$error":"#DIV/0!"}},null,null,"Aller à \nBoîte à outils: ",null,{"$f":"HYPERLINK(\"#\"&ADDRESS(MATCH(I59,Toolbox!$C$1:$C$300),1,,,\"Toolbox\"),VLOOKUP(I59,Toolbox!$C$1:$C$300,1,FALSE))","v":"Approche par étapes pour l'élimination de la rage (SARE)"}]
[]
[]
[]
[]
[]
[]
[null,null,null,"Autres ressources intéressantes",null,null,null,null,{"$f":"Backbone!A100","v":"Évaluation des collaborations au sein d'un système de surveillance multisectoriel (EcoSur)"},null,null,null,null,null,null,"Un outil dont l'objectif est d'évaluer l'organisation et le fonctionnement de la collaboration au sein d'un système de surveillance multisectoriel, ainsi que d'analyser les points forts et les points faibles de cette collaboration. ",null,null,null,null,null,null,null,null,{"$f":"INDEX(Backbone!$R$2:$R$893,MATCH(I66,Backbone!$A$2:$A$893,0))","v":"Outil ou processus dirigé/facilité"},null,null,null,{"$f":"INDEX(Backbone!$S$2:$S$893,MATCH(I66,Backbone!$A$2:$A$893,0))","v":"«Une seule santé»; Généralisée"},null,null,null,{"$f":"INDEX(Backbone!$H$2:$H$893,MATCH(I66,Backbone!$A$2:$A$893,0))","v":8.3000000000000007},null,{"$f":"INDEX(Backbone!$I$2:$I$893,MATCH(I66,Backbone!$A$2:$A$893,0))","v":6},null,{"$f":"INDEX(Backbone!$J$2:$J$893,MATCH(I66,Backbone!$A$2:$A$893,0))","v":8.5},null,{"$f":"INDEX(Backbone!$K$1:$K$893,MATCH(I66,Backbone!$A$1:$A$893,0))","v":7.8},null,{"$f":"INDEX(Backbone!$L$2:$L$893,MATCH(I66,Backbone!$A$2:$A$893,0))","v":8.3000000000000007},null,{"$f":"INDEX(Backbone!$M$2:$M$893,MATCH(I66,Backbone!$A$2:$A$893,0))","v":6.7},null,{"$f":"INDEX(Backbone!$N$2:$N$893,MATCH(I66,Backbone!$A$2:$A$893,0))","v":3.3},null,{"$f":"INDEX(Backbone!$O$2:$O$893,MATCH(I66,Backbone!$A$2:$A$893,0))","v":9.1},null,{"$f":"INDEX(Backbone!$P$2:$P$893,MATCH(I66,Backbone!$A$2:$A$893,0))","v":4.7},null,{"$f":"INDEX(Backbone!$Q$2:$Q$893,MATCH(I66,Backbone!$A$2:$A$893,0))","v":0.69666666666666677},null,null,{"$f":"(AG66*$AG$22+AI66*$AI$22+AK66*$AK$22+AM66*$AM$22+AO66*$AO$22+AQ66*$AQ$22+AS66*$AS$22+AU66*$AU$22+AW66*$AW$22)/(SUM($AG$22:$AW$22)*10)","v":{"$error":"#DIV/0!"}},null,null,"Aller à \nBoîte à outils: ",null,{"$f":"HYPERLINK(\"#\"&ADDRESS(MATCH(I66,Toolbox!$C$1:$C$300),1,,,\"Toolbox\"),VLOOKUP(I66,Toolbox!$C$1:$C$300,1,FALSE))","v":"Évaluation des collaborations au sein d'un système de surveillance multisectoriel (EcoSur)"}]
[]
[]
[]
[]
[]
[null,null,null,null,null,null,null,null,{"$f":"Backbone!A195","v":"Surveillance intégrée de la maladie et la riposte (IDSR)"},null,null,null,null,null,null,"Une stratégie visant à renforcer les capacités pour la détection, la confirmation et la réponse aux cas suspects et à l'apparition de foyers épidémiques, ainsi que pour l'utilisation des informations afin de prédire et de planifier les événements de santé publique. ",null,null,null,null,null,null,null,null,{"$f":"INDEX(Backbone!$R$2:$R$893,MATCH(I72,Backbone!$A$2:$A$893,0))","v":"Document d'orientation"},null,null,null,{"$f":"INDEX(Backbone!$S$2:$S$893,MATCH(I72,Backbone!$A$2:$A$893,0))","v":"Spécifique du secteur; Généralisée"},null,null,null,{"$f":"INDEX(Backbone!$H$2:$H$893,MATCH(I72,Backbone!$A$2:$A$893,0))","v":7.4},null,{"$f":"INDEX(Backbone!$I$2:$I$893,MATCH(I72,Backbone!$A$2:$A$893,0))","v":10},null,{"$f":"INDEX(Backbone!$J$2:$J$893,MATCH(I72,Backbone!$A$2:$A$893,0))","v":7.4},null,{"$f":"INDEX(Backbone!$K$1:$K$893,MATCH(I72,Backbone!$A$1:$A$893,0))","v":8.6999999999999993},null,{"$f":"INDEX(Backbone!$L$2:$L$893,MATCH(I72,Backbone!$A$2:$A$893,0))","v":6.7},null,{"$f":"INDEX(Backbone!$M$2:$M$893,MATCH(I72,Backbone!$A$2:$A$893,0))","v":4.5},null,{"$f":"INDEX(Backbone!$N$2:$N$893,MATCH(I72,Backbone!$A$2:$A$893,0))","v":8},null,{"$f":"INDEX(Backbone!$O$2:$O$893,MATCH(I72,Backbone!$A$2:$A$893,0))","v":7.2},null,{"$f":"INDEX(Backbone!$P$2:$P$893,MATCH(I72,Backbone!$A$2:$A$893,0))","v":8.5},null,{"$f":"INDEX(Backbone!$Q$2:$Q$893,MATCH(I72,Backbone!$A$2:$A$893,0))","v":0.76},null,null,{"$f":"(AG72*$AG$22+AI72*$AI$22+AK72*$AK$22+AM72*$AM$22+AO72*$AO$22+AQ72*$AQ$22+AS72*$AS$22+AU72*$AU$22+AW72*$AW$22)/(SUM($AG$22:$AW$22)*10)","v":{"$error":"#DIV/0!"}},null,null,"Aller à \nBoîte à outils: ",null,{"$f":"HYPERLINK(\"#\"&ADDRESS(MATCH(I72,Toolbox!$C$1:$C$300),1,,,\"Toolbox\"),VLOOKUP(I72,Toolbox!$C$1:$C$300,1,FALSE))","v":"Surveillance intégrée de la maladie et la riposte (IDSR)"}]
[]
[]
[]
[]
[]
[null,null,null,null,null,null,null,null,{"$f":"Backbone!A303","v":"Plan d'action national pour la sécurité sanitaire (PANSS)"},null,null,null,null,null,null,"Un processus de planification mené par le pays lui-même, capable d'accélérer la mise en œuvre des capacités essentielles du Règlement sanitaire international (RSI) et fondé sur l'approche «Une seule santé» et «à l'échelle de l'ensemble de l'administration» pour tous les risques.",null,null,null,null,null,null,null,null,{"$f":"INDEX(Backbone!$R$2:$R$893,MATCH(I78,Backbone!$A$2:$A$893,0))","v":"Document d'orientation"},null,null,null,{"$f":"INDEX(Backbone!$S$2:$S$893,MATCH(I78,Backbone!$A$2:$A$893,0))","v":"«Une seule santé»; Généralisée"},null,null,null,{"$f":"INDEX(Backbone!$H$2:$H$893,MATCH(I78,Backbone!$A$2:$A$893,0))","v":8},null,{"$f":"INDEX(Backbone!$I$2:$I$893,MATCH(I78,Backbone!$A$2:$A$893,0))","v":9},null,{"$f":"INDEX(Backbone!$J$2:$J$893,MATCH(I78,Backbone!$A$2:$A$893,0))","v":7.8},null,{"$f":"INDEX(Backbone!$K$1:$K$893,MATCH(I78,Backbone!$A$1:$A$893,0))","v":10},null,{"$f":"INDEX(Backbone!$L$2:$L$893,MATCH(I78,Backbone!$A$2:$A$893,0))","v":8},null,{"$f":"INDEX(Backbone!$M$2:$M$893,MATCH(I78,Backbone!$A$2:$A$893,0))","v":4.5},null,{"$f":"INDEX(Backbone!$N$2:$N$893,MATCH(I78,Backbone!$A$2:$A$893,0))","v":10},null,{"$f":"INDEX(Backbone!$O$2:$O$893,MATCH(I78,Backbone!$A$2:$A$893,0))","v":10},null,{"$f":"INDEX(Backbone!$P$2:$P$893,MATCH(I78,Backbone!$A$2:$A$893,0))","v":10},null,{"$f":"INDEX(Backbone!$Q$2:$Q$893,MATCH(I78,Backbone!$A$2:$A$893,0))","v":0.85888888888888881},null,null,{"$f":"(AG78*$AG$22+AI78*$AI$22+AK78*$AK$22+AM78*$AM$22+AO78*$AO$22+AQ78*$AQ$22+AS78*$AS$22+AU78*$AU$22+AW78*$AW$22)/(SUM($AG$22:$AW$22)*10)","v":{"$error":"#DIV/0!"}},null,null,"Aller à \nBoîte à outils: ",null,{"$f":"HYPERLINK(\"#\"&ADDRESS(MATCH(I78,Toolbox!$C$1:$C$300),1,,,\"Toolbox\"),VLOOKUP(I78,Toolbox!$C$1:$C$300,1,FALSE))","v":"Plan d'action national pour la sécurité sanitaire (PANSS)"}]
[]
[]
[]
[]
[]
[null,null,null,null,null,null,null,null,{"$f":"Backbone!A420","v":"Analyse des écarts PVS de l'Organisation mondiale de la santé animale (OMSA)"},null,null,null,null,null,null,"L'Analyse des écarts PVS est un exercice conduit auprès des Services vétérinaires nationaux dans le but de déterminer leurs cibles prioritaires, ainsi que les stratégies, les activités et les investissements nécessaires pour atteindre ces objectifs.",null,null,null,null,null,null,null,null,{"$f":"INDEX(Backbone!$R$2:$R$893,MATCH(I84,Backbone!$A$2:$A$893,0))","v":"Outil ou processus dirigé/facilité"},null,null,null,{"$f":"INDEX(Backbone!$S$2:$S$893,MATCH(I84,Backbone!$A$2:$A$893,0))","v":"Spécifique du secteur; Généralisée"},null,null,null,{"$f":"INDEX(Backbone!$H$2:$H$893,MATCH(I84,Backbone!$A$2:$A$893,0))","v":6.8},null,{"$f":"INDEX(Backbone!$I$2:$I$893,MATCH(I84,Backbone!$A$2:$A$893,0))","v":8},null,{"$f":"INDEX(Backbone!$J$2:$J$893,MATCH(I84,Backbone!$A$2:$A$893,0))","v":5.6},null,{"$f":"INDEX(Backbone!$K$1:$K$893,MATCH(I84,Backbone!$A$1:$A$893,0))","v":10},null,{"$f":"INDEX(Backbone!$L$2:$L$893,MATCH(I84,Backbone!$A$2:$A$893,0))","v":6},null,{"$f":"INDEX(Backbone!$M$2:$M$893,MATCH(I84,Backbone!$A$2:$A$893,0))","v":4.3},null,{"$f":"INDEX(Backbone!$N$2:$N$893,MATCH(I84,Backbone!$A$2:$A$893,0))","v":9.5},null,{"$f":"INDEX(Backbone!$O$2:$O$893,MATCH(I84,Backbone!$A$2:$A$893,0))","v":4.7},null,{"$f":"INDEX(Backbone!$P$2:$P$893,MATCH(I84,Backbone!$A$2:$A$893,0))","v":7},null,{"$f":"INDEX(Backbone!$Q$2:$Q$893,MATCH(I84,Backbone!$A$2:$A$893,0))","v":0.68777777777777771},null,null,{"$f":"(AG84*$AG$22+AI84*$AI$22+AK84*$AK$22+AM84*$AM$22+AO84*$AO$22+AQ84*$AQ$22+AS84*$AS$22+AU84*$AU$22+AW84*$AW$22)/(SUM($AG$22:$AW$22)*10)","v":{"$error":"#DIV/0!"}},null,null,"Aller à \nBoîte à outils: ",null,{"$f":"HYPERLINK(\"#\"&ADDRESS(MATCH(I84,Toolbox!$C$1:$C$300),1,,,\"Toolbox\"),VLOOKUP(I84,Toolbox!$C$1:$C$300,1,FALSE))","v":"Analyse des écarts PVS de l'Organisation mondiale de la santé animale (OMSA)"}]
[]
[]
[]
[]
[]
[null,null,null,null,null,null,null,null,{"$f":"Backbone!A510","v":"Cadre d'évaluation de la surveillance (SERVAL)"},null,null,null,null,null,null,"Un guide par étapes sur la façon de planifier, de structurer et de mener à bien l'évaluation des systèmes de surveillance de la santé animale.\n",null,null,null,null,null,null,null,null,{"$f":"INDEX(Backbone!$R$2:$R$893,MATCH(I90,Backbone!$A$2:$A$893,0))","v":"Document d'orientation"},null,null,null,{"$f":"INDEX(Backbone!$S$2:$S$893,MATCH(I90,Backbone!$A$2:$A$893,0))","v":"Spécifique du secteur; Généralisée"},null,null,null,{"$f":"INDEX(Backbone!$H$2:$H$893,MATCH(I90,Backbone!$A$2:$A$893,0))","v":8.8000000000000007},null,{"$f":"INDEX(Backbone!$I$2:$I$893,MATCH(I90,Backbone!$A$2:$A$893,0))","v":9},null,{"$f":"INDEX(Backbone!$J$2:$J$893,MATCH(I90,Backbone!$A$2:$A$893,0))","v":9},null,{"$f":"INDEX(Backbone!$K$1:$K$893,MATCH(I90,Backbone!$A$1:$A$893,0))","v":10},null,{"$f":"INDEX(Backbone!$L$2:$L$893,MATCH(I90,Backbone!$A$2:$A$893,0))","v":8.1},null,{"$f":"INDEX(Backbone!$M$2:$M$893,MATCH(I90,Backbone!$A$2:$A$893,0))","v":3.3},null,{"$f":"INDEX(Backbone!$N$2:$N$893,MATCH(I90,Backbone!$A$2:$A$893,0))","v":4},null,{"$f":"INDEX(Backbone!$O$2:$O$893,MATCH(I90,Backbone!$A$2:$A$893,0))","v":6.8},null,{"$f":"INDEX(Backbone!$P$2:$P$893,MATCH(I90,Backbone!$A$2:$A$893,0))","v":8},null,{"$f":"INDEX(Backbone!$Q$2:$Q$893,MATCH(I90,Backbone!$A$2:$A$893,0))","v":0.74444444444444446},null,null,{"$f":"(AG90*$AG$22+AI90*$AI$22+AK90*$AK$22+AM90*$AM$22+AO90*$AO$22+AQ90*$AQ$22+AS90*$AS$22+AU90*$AU$22+AW90*$AW$22)/(SUM($AG$22:$AW$22)*10)","v":{"$error":"#DIV/0!"}},null,null,"Aller à \nBoîte à outils: ",null,{"$f":"HYPERLINK(\"#\"&ADDRESS(MATCH(I90,Toolbox!$C$1:$C$300),1,,,\"Toolbox\"),VLOOKUP(I90,Toolbox!$C$1:$C$300,1,FALSE))","v":"Cadre d'évaluation de la surveillance (SERVAL)"}]
[]
[]
[]
[]
[]
[]
[]
[]
[]
[]
[]
[]
[]
[]
[]
[]
[]
[]
[]
[]
[]
[]
[]
[]
[null,null,null,null,null,null,null,null,null,null,null,null,null,null,null,null,null,null,null,null,null,null,null,null,null,null,null,null,null,null,null,null,"Accessibilité",null,"Langue",null,"Facilité d'utilisation",null,"Flexibilité",null,"Besoins de données",null,"Analyse des données",null,"Acceptabilité",null,"«Une seule santé»",null,"Impact"]
[]
[]
[]
[]
[]
[]
[null,null,null,null,null,null,null,null,null,null,null,null,null,null,null,null,null,null,null,null,null,null,null,null,null,null,null,null,null,null,null,null,null,null,null,null,null,null,null,null,null,null,null,null,null,null,null,null,null,null,"SCORE BRUT",null,null,"SCORE AJUSTÉ \n(Selon les préférences de l'utilisateur)"]
[]
[]
[]
[null,"RESSOURCES DE NIVEAU 2",null,"DÉSIGNATION",null,null,null,null,"NOM DE LA RESSOURCE",null,null,null,null,null,null,"BRÈVE DESCRIPTION",null,null,null,null,null,null,null,null,"TYPE DE RESSOURCE",null,null,null,"CARACTÈRE GÉNÉRAL DE LA RESSOURCE"]
[]
[]
[]
[null,null,null,null,null,null,null,null,null,null,null,null,null,null,null,null,null,null,null,null,null,null,null,null,null,null,null,null,null,null,null,null,{"$f":"'Attribute Survey'!S130","v":0},null,{"$f":"'Attribute Survey'!S134","v":0},null,{"$f":"'Attribute Survey'!S138","v":0},null,{"$f":"'Attribute Survey'!S142","v":0},null,{"$f":"'Attribute Survey'!S146","v":0},null,{"$f":"'Attribute Survey'!S150","v":0},null,{"$f":"'Attribute Survey'!S154","v":0},null,{"$f":"'Attribute Survey'!S158","v":0},null,{"$f":"'Attribute Survey'!S162","v":0}]
[null,null,null,"Ressources les mieux adaptées",null,null,null,null,{"$f":"Backbone!A51","v":"Guide de discussion sur les capacités sanitaires aux frontières (BHCDG)"},null,null,null,null,null,null,"Outils de modèles pour faciliter les discussions avec les représentants au niveau national, des districts et des points de passage frontalier terrestres sur les systèmes de santé aux frontières ",null,null,null,null,null,null,null,null,{"$f":"INDEX(Backbone!$R2:$R893,MATCH(I131,Backbone!$A2:$A893,0))","v":"Document d'orientation"},null,null,null,{"$f":"INDEX(Backbone!S2:S893,MATCH(I131,Backbone!A2:A893,0))","v":"«Une seule santé»; spécifique d'une maladie/menace "},null,null,null,{"$f":"INDEX(Backbone!H2:H893,MATCH(I131,Backbone!A2:A893,0))","v":8.8000000000000007},null,{"$f":"INDEX(Backbone!I2:I893,MATCH(I131,Backbone!A2:A893,0))","v":6.7},null,{"$f":"INDEX(Backbone!J2:J893,MATCH(I131,Backbone!A2:A893,0))","v":7.6},null,{"$f":"INDEX(Backbone!K2:K893,MATCH(I131,Backbone!A2:A893,0))","v":9},null,{"$f":"INDEX(Backbone!L2:L893,MATCH(I131,Backbone!A2:A893,0))","v":7},null,{"$f":"INDEX(Backbone!M2:M893,MATCH(I131,Backbone!A2:A893,0))","v":3.8},null,{"$f":"INDEX(Backbone!N2:N893,MATCH(I131,Backbone!A2:A893,0))","v":8},null,{"$f":"INDEX(Backbone!O2:O893,MATCH(I131,Backbone!A2:A893,0))","v":8.4},null,{"$f":"INDEX(Backbone!P2:P893,MATCH(I131,Backbone!A2:A893,0))","v":6},null,{"$f":"INDEX(Backbone!Q2:Q893,MATCH(I131,Backbone!A2:A893,0))","v":0.72555555555555551},null,null,{"$f":"(AG131*AG22+AI23*AI22+AK131*AK22+AM131*AM22+AO131*AO22+AQ131*AQ22+AS131*AS22+AU131*AU22+AW131*AW22)/(SUM(AG22:AW22)*10)","v":{"$error":"#DIV/0!"}},null,null,"Aller à \nBoîte à outils: ",null,{"$f":"HYPERLINK(\"#\"&ADDRESS(MATCH(I131,Toolbox!$C$1:$C$300),1,,,\"Toolbox\"),VLOOKUP(I131,Toolbox!$C$1:$C$300,1,FALSE))","v":"Guide de discussion sur les capacités sanitaires aux frontières (BHCDG)"}]
[]
[]
[]
[]
[]
[null,null,null,null,null,null,null,null,{"$f":"Backbone!A239","v":"Atelier national de rapprochement et d'échange RSI-PVS"},null,null,null,null,null,null," Un atelier aidant les secteurs de la santé animale et de la santé humaine des pays à explorer des zones de chevauchement et à mettre en place, le cas échéant, des passerelles appropriées pour faciliter la coordination. ",null,null,null,null,null,null,null,null,{"$f":"INDEX(Backbone!$R$2:$R$893,MATCH(I137,Backbone!$A$2:$A$893,0))","v":"Outil ou processus dirigé/facilité"},null,null,null,{"$f":"INDEX(Backbone!$S$2:$S$893,MATCH(I137,Backbone!$A$2:$A$893,0))","v":"«Une seule santé»; Généralisée"},null,null,null,{"$f":"INDEX(Backbone!$H$2:$H$893,MATCH(I137,Backbone!$A$2:$A$893,0))","v":8.6},null,{"$f":"INDEX(Backbone!$I$2:$I$893,MATCH(I137,Backbone!$A$2:$A$893,0))","v":10},null,{"$f":"INDEX(Backbone!$J$2:$J$893,MATCH(I137,Backbone!$A$2:$A$893,0))","v":6.2},null,{"$f":"INDEX(Backbone!$K$2:$K$893,MATCH(I137,Backbone!$A$2:$A$893,0))","v":10},null,{"$f":"INDEX(Backbone!$L$2:$L$893,MATCH(I137,Backbone!$A$2:$A$893,0))","v":6},null,{"$f":"INDEX(Backbone!$M$2:$M$893,MATCH(I137,Backbone!$A$2:$A$893,0))","v":7},null,{"$f":"INDEX(Backbone!$N$2:$N$893,MATCH(I137,Backbone!$A$2:$A$893,0))","v":9},null,{"$f":"INDEX(Backbone!$O$2:$O$893,MATCH(I137,Backbone!$A$2:$A$893,0))","v":8.1999999999999993},null,{"$f":"INDEX(Backbone!$P$2:$P$893,MATCH(I137,Backbone!$A$2:$A$893,0))","v":10},null,{"$f":"INDEX(Backbone!$Q$2:$Q$893,MATCH(I137,Backbone!$A$2:$A$893,0))","v":0.83333333333333337},null,null,{"$f":"(AG137*$AG$22+AI137*$AI$22+AK137*$AK$22+AM137*$AM$22+AO137*$AO$22+AQ137*$AQ$22+AS137*$AS$22+AU137*$AU$22+AW137*$AW$22)/(SUM($AG$22:$AW$22)*10)","v":{"$error":"#DIV/0!"}},null,null,"Aller à \nBoîte à outils: ",null,{"$f":"HYPERLINK(\"#\"&ADDRESS(MATCH(I137,Toolbox!$C$1:$C$300),1,,,\"Toolbox\"),VLOOKUP(I137,Toolbox!$C$1:$C$300,1,FALSE))","v":"Atelier national de rapprochement et d'échange RSI-PVS"}]
[]
[]
[]
[]
[]
[null,null,null,null,null,null,null,null,{"$f":"Backbone!A400","v":"Outil d'évaluation de l'état de préparation et des besoins pour une surveillance «Une seule santé» (OHSRRT)"},null,null,null,null,null,null,"Un outil d'évaluation de la préparation et des besoins utilisé pour déterminer l'état de préparation du pays et dresser la liste des besoins nécessaires au développement d'un système de surveillance «Une seule santé» basé sur des facteurs de réussite critiques.",null,null,null,null,null,null,null,null,{"$f":"INDEX(Backbone!$R$2:$R$893,MATCH(I143,Backbone!$A$2:$A$893,0))","v":"Outil d'autoévaluation"},null,null,null,{"$f":"INDEX(Backbone!$S$2:$S$893,MATCH(I143,Backbone!$A$2:$A$893,0))","v":"«Une seule santé»; Généralisée"},null,null,null,{"$f":"INDEX(Backbone!$H$2:$H$893,MATCH(I143,Backbone!$A$2:$A$893,0))","v":8},null,{"$f":"INDEX(Backbone!$I$2:$I$893,MATCH(I143,Backbone!$A$2:$A$893,0))","v":6},null,{"$f":"INDEX(Backbone!$J$2:$J$893,MATCH(I143,Backbone!$A$2:$A$893,0))","v":7.4},null,{"$f":"INDEX(Backbone!$K$1:$K$893,MATCH(I143,Backbone!$A$1:$A$893,0))","v":8.6999999999999993},null,{"$f":"INDEX(Backbone!$L$2:$L$893,MATCH(I143,Backbone!$A$2:$A$893,0))","v":6},null,{"$f":"INDEX(Backbone!$M$2:$M$893,MATCH(I143,Backbone!$A$2:$A$893,0))","v":2.5},null,{"$f":"INDEX(Backbone!$N$2:$N$893,MATCH(I143,Backbone!$A$2:$A$893,0))","v":2},null,{"$f":"INDEX(Backbone!$O$2:$O$893,MATCH(I143,Backbone!$A$2:$A$893,0))","v":9.6},null,{"$f":"INDEX(Backbone!$P$2:$P$893,MATCH(I143,Backbone!$A$2:$A$893,0))","v":5.5},null,{"$f":"INDEX(Backbone!$Q$2:$Q$893,MATCH(I143,Backbone!$A$2:$A$893,0))","v":0.61888888888888882},null,null,{"$f":"(AG143*$AG$22+AI143*$AI$22+AK143*$AK$22+AM143*$AM$22+AO143*$AO$22+AQ143*$AQ$22+AS143*$AS$22+AU143*$AU$22+AW143*$AW$22)/(SUM($AG$22:$AW$22)*10)","v":{"$error":"#DIV/0!"}},null,null,"Aller à \nBoîte à outils: ",null,{"$f":"HYPERLINK(\"#\"&ADDRESS(MATCH(I143,Toolbox!$C$1:$C$300),1,,,\"Toolbox\"),VLOOKUP(I143,Toolbox!$C$1:$C$300,1,FALSE))","v":"Outil d'évaluation de l'état de préparation et des besoins pour une surveillance «Une seule santé» (OHSRRT)"}]
[]
[]
[]
[]
[]
[null,null,null,null,null,null,null,null,{"$f":"Backbone!A367","v":"Évaluation des systèmes «Une seule santé» pour les zoonoses prioritaires (OH-SAPZ)"},null,null,null,null,null,null,"L'outil vise à faciliter une évaluation systématique des structures nationales de coordination de l'initiative «Une seule santé» en matière de prévention, de détection et de réponse aux zoonoses.  ",null,null,null,null,null,null,null,null,{"$f":"INDEX(Backbone!$R$2:$R$893,MATCH(I149,Backbone!$A$2:$A$893,0))","v":"Outil d'autoévaluation"},null,null,null,{"$f":"INDEX(Backbone!$S$2:$S$893,MATCH(I149,Backbone!$A$2:$A$893,0))","v":"«Une seule santé»; Généralisée"},null,null,null,{"$f":"INDEX(Backbone!$H$2:$H$893,MATCH(I149,Backbone!$A$2:$A$893,0))","v":7.9},null,{"$f":"INDEX(Backbone!$I$2:$I$893,MATCH(I149,Backbone!$A$2:$A$893,0))","v":7.3},null,{"$f":"INDEX(Backbone!$J$2:$J$893,MATCH(I149,Backbone!$A$2:$A$893,0))","v":7.2},null,{"$f":"INDEX(Backbone!$K$1:$K$893,MATCH(I149,Backbone!$A$1:$A$893,0))","v":7.8},null,{"$f":"INDEX(Backbone!$L$2:$L$893,MATCH(I149,Backbone!$A$2:$A$893,0))","v":6.5},null,{"$f":"INDEX(Backbone!$M$2:$M$893,MATCH(I149,Backbone!$A$2:$A$893,0))","v":5.2},null,{"$f":"INDEX(Backbone!$N$2:$N$893,MATCH(I149,Backbone!$A$2:$A$893,0))","v":4},null,{"$f":"INDEX(Backbone!$O$2:$O$893,MATCH(I149,Backbone!$A$2:$A$893,0))","v":8.3000000000000007},null,{"$f":"INDEX(Backbone!$P$2:$P$893,MATCH(I149,Backbone!$A$2:$A$893,0))","v":9.6999999999999993},null,{"$f":"INDEX(Backbone!$Q$2:$Q$893,MATCH(I149,Backbone!$A$2:$A$893,0))","v":0.71000000000000008},null,null,{"$f":"(AG149*$AG$22+AI149*$AI$22+AK149*$AK$22+AM149*$AM$22+AO149*$AO$22+AQ149*$AQ$22+AS149*$AS$22+AU149*$AU$22+AW149*$AW$22)/(SUM($AG$22:$AW$22)*10)","v":{"$error":"#DIV/0!"}},null,null,"Aller à \nBoîte à outils: ",null,{"$f":"HYPERLINK(\"#\"&ADDRESS(MATCH(I149,Toolbox!$C$1:$C$300),1,,,\"Toolbox\"),VLOOKUP(I149,Toolbox!$C$1:$C$300,1,FALSE))","v":"Évaluation des systèmes «Une seule santé» pour les zoonoses prioritaires (OH-SAPZ)"}]
[]
[]
[]
[]
[]
[null,null,null,null,null,null,null,null,{"$f":"Backbone!A413","v":"Boîte à outils de cartographie et de ressources des systèmes «Une seule santé» (OH-SMART)"},null,null,null,null,null,null,"Un processus qui aide les parties prenantes de plusieurs secteurs à cartographier, analyser et améliorer tout système existant qui nécessite une collaboration interdisciplinaire et multisectorielle.",null,null,null,null,null,null,null,null,{"$f":"INDEX(Backbone!$R$2:$R$893,MATCH(I155,Backbone!$A$2:$A$893,0))","v":"Outil ou processus dirigé/facilité"},null,null,null,{"$f":"INDEX(Backbone!$S$2:$S$893,MATCH(I155,Backbone!$A$2:$A$893,0))","v":"«Une seule santé»; Généralisée"},null,null,null,{"$f":"INDEX(Backbone!$H$2:$H$893,MATCH(I155,Backbone!$A$2:$A$893,0))","v":8.6999999999999993},null,{"$f":"INDEX(Backbone!$I$2:$I$893,MATCH(I155,Backbone!$A$2:$A$893,0))","v":7.3},null,{"$f":"INDEX(Backbone!$J$2:$J$893,MATCH(I155,Backbone!$A$2:$A$893,0))","v":8.4},null,{"$f":"INDEX(Backbone!$K$1:$K$893,MATCH(I155,Backbone!$A$1:$A$893,0))","v":9.3000000000000007},null,{"$f":"INDEX(Backbone!$L$2:$L$893,MATCH(I155,Backbone!$A$2:$A$893,0))","v":8.1999999999999993},null,{"$f":"INDEX(Backbone!$M$2:$M$893,MATCH(I155,Backbone!$A$2:$A$893,0))","v":7.4},null,{"$f":"INDEX(Backbone!$N$2:$N$893,MATCH(I155,Backbone!$A$2:$A$893,0))","v":9.5},null,{"$f":"INDEX(Backbone!$O$2:$O$893,MATCH(I155,Backbone!$A$2:$A$893,0))","v":10},null,{"$f":"INDEX(Backbone!$P$2:$P$893,MATCH(I155,Backbone!$A$2:$A$893,0))","v":10},null,{"$f":"INDEX(Backbone!$Q$2:$Q$893,MATCH(I155,Backbone!$A$2:$A$893,0))","v":0.87555555555555564},null,null,{"$f":"(AG155*$AG$22+AI155*$AI$22+AK155*$AK$22+AM155*$AM$22+AO155*$AO$22+AQ155*$AQ$22+AS155*$AS$22+AU155*$AU$22+AW155*$AW$22)/(SUM($AG$22:$AW$22)*10)","v":{"$error":"#DIV/0!"}},null,null,"Aller à \nBoîte à outils: ",null,{"$f":"HYPERLINK(\"#\"&ADDRESS(MATCH(I155,Toolbox!$C$1:$C$300),1,,,\"Toolbox\"),VLOOKUP(I155,Toolbox!$C$1:$C$300,1,FALSE))","v":"Boîte à outils de cartographie et de ressources des systèmes «Une seule santé» (OH-SMART)"}]
[]
[]
[]
[]
[]
[null,null,null,null,null,null,null,null,{"$f":"Backbone!A437","v":"Analyse de la politique sur le terrain (PFA)"},null,null,null,null,null,null,"Une cartographie spécialisée des parties prenantes qui permet de visualiser le système des organisations qui interagissent sur une question politique donnée. ",null,null,null,null,null,null,null,null,{"$f":"INDEX(Backbone!$R$2:$R$893,MATCH(I161,Backbone!$A$2:$A$893,0))","v":"Document d'orientation"},null,null,null,{"$f":"INDEX(Backbone!$S$2:$S$893,MATCH(I161,Backbone!$A$2:$A$893,0))","v":"«Une seule santé»; Généralisée"},null,null,null,{"$f":"INDEX(Backbone!$H$2:$H$893,MATCH(I161,Backbone!$A$2:$A$893,0))","v":7.8},null,{"$f":"INDEX(Backbone!$I$2:$I$893,MATCH(I161,Backbone!$A$2:$A$893,0))","v":8},null,{"$f":"INDEX(Backbone!$J$2:$J$893,MATCH(I161,Backbone!$A$2:$A$893,0))","v":9.8000000000000007},null,{"$f":"INDEX(Backbone!$K$1:$K$893,MATCH(I161,Backbone!$A$1:$A$893,0))","v":10},null,{"$f":"INDEX(Backbone!$L$2:$L$893,MATCH(I161,Backbone!$A$2:$A$893,0))","v":7.1},null,{"$f":"INDEX(Backbone!$M$2:$M$893,MATCH(I161,Backbone!$A$2:$A$893,0))","v":4},null,{"$f":"INDEX(Backbone!$N$2:$N$893,MATCH(I161,Backbone!$A$2:$A$893,0))","v":7},null,{"$f":"INDEX(Backbone!$O$2:$O$893,MATCH(I161,Backbone!$A$2:$A$893,0))","v":8.8000000000000007},null,{"$f":"INDEX(Backbone!$P$2:$P$893,MATCH(I161,Backbone!$A$2:$A$893,0))","v":5},null,{"$f":"INDEX(Backbone!$Q$2:$Q$893,MATCH(I161,Backbone!$A$2:$A$893,0))","v":0.75},null,null,{"$f":"(AG161*$AG$22+AI161*$AI$22+AK161*$AK$22+AM161*$AM$22+AO161*$AO$22+AQ161*$AQ$22+AS161*$AS$22+AU161*$AU$22+AW161*$AW$22)/(SUM($AG$22:$AW$22)*10)","v":{"$error":"#DIV/0!"}},null,null,"Aller à \nBoîte à outils: ",null,{"$f":"HYPERLINK(\"#\"&ADDRESS(MATCH(I161,Toolbox!$C$1:$C$300),1,,,\"Toolbox\"),VLOOKUP(I161,Toolbox!$C$1:$C$300,1,FALSE))","v":"Analyse de la politique sur le terrain (PFA)"}]
[]
[]
[]
[]
[]
[null,null,null,null,null,null,null,null,{"$f":"Backbone!A453","v":"Approche par étapes pour l'élimination de la rage (SARE)"},null,null,null,null,null,null,"Un outil pratique de planification, de suivi et d'évaluation au format Excel qui permet d'orienter, de déployer et d'affiner des programmes de lutte contre la rage. ",null,null,null,null,null,null,null,null,{"$f":"INDEX(Backbone!$R$2:$R$893,MATCH(I167,Backbone!$A$2:$A$893,0))","v":"Outil d'autoévaluation"},null,null,null,{"$f":"INDEX(Backbone!$S$2:$S$893,MATCH(I167,Backbone!$A$2:$A$893,0))","v":"«Une seule santé»; spécifique d'une maladie/menace "},null,null,null,{"$f":"INDEX(Backbone!$H$2:$H$893,MATCH(I167,Backbone!$A$2:$A$893,0))","v":8},null,{"$f":"INDEX(Backbone!$I$2:$I$893,MATCH(I167,Backbone!$A$2:$A$893,0))","v":9},null,{"$f":"INDEX(Backbone!$J$2:$J$893,MATCH(I167,Backbone!$A$2:$A$893,0))","v":6.6},null,{"$f":"INDEX(Backbone!$K$1:$K$893,MATCH(I167,Backbone!$A$1:$A$893,0))","v":3.3},null,{"$f":"INDEX(Backbone!$L$2:$L$893,MATCH(I167,Backbone!$A$2:$A$893,0))","v":5.7},null,{"$f":"INDEX(Backbone!$M$2:$M$893,MATCH(I167,Backbone!$A$2:$A$893,0))","v":6.8},null,{"$f":"INDEX(Backbone!$N$2:$N$893,MATCH(I167,Backbone!$A$2:$A$893,0))","v":8},null,{"$f":"INDEX(Backbone!$O$2:$O$893,MATCH(I167,Backbone!$A$2:$A$893,0))","v":8.6},null,{"$f":"INDEX(Backbone!$P$2:$P$893,MATCH(I167,Backbone!$A$2:$A$893,0))","v":9.5},null,{"$f":"INDEX(Backbone!$Q$2:$Q$893,MATCH(I167,Backbone!$A$2:$A$893,0))","v":0.72777777777777775},null,null,{"$f":"(AG167*$AG$22+AI167*$AI$22+AK167*$AK$22+AM167*$AM$22+AO167*$AO$22+AQ167*$AQ$22+AS167*$AS$22+AU167*$AU$22+AW167*$AW$22)/(SUM($AG$22:$AW$22)*10)","v":{"$error":"#DIV/0!"}},null,null,"Aller à \nBoîte à outils: ",null,{"$f":"HYPERLINK(\"#\"&ADDRESS(MATCH(I167,Toolbox!$C$1:$C$300),1,,,\"Toolbox\"),VLOOKUP(I167,Toolbox!$C$1:$C$300,1,FALSE))","v":"Approche par étapes pour l'élimination de la rage (SARE)"}]
[]
[]
[]
[]
[]
[]
[null,null,null,"Autres ressources intéressantes",null,null,null,null,{"$f":"Backbone!A100","v":"Évaluation des collaborations au sein d'un système de surveillance multisectoriel (EcoSur)"},null,null,null,null,null,null,"Un outil dont l'objectif est d'évaluer l'organisation et le fonctionnement de la collaboration au sein d'un système de surveillance multisectoriel, ainsi que d'analyser les points forts et les points faibles de cette collaboration. ",null,null,null,null,null,null,null,null,{"$f":"INDEX(Backbone!$R$2:$R$893,MATCH(I174,Backbone!$A$2:$A$893,0))","v":"Outil ou processus dirigé/facilité"},null,null,null,{"$f":"INDEX(Backbone!$S$2:$S$893,MATCH(I174,Backbone!$A$2:$A$893,0))","v":"«Une seule santé»; Généralisée"},null,null,null,{"$f":"INDEX(Backbone!$H$2:$H$893,MATCH(I174,Backbone!$A$2:$A$893,0))","v":8.3000000000000007},null,{"$f":"INDEX(Backbone!$I$2:$I$893,MATCH(I174,Backbone!$A$2:$A$893,0))","v":6},null,{"$f":"INDEX(Backbone!$J$2:$J$893,MATCH(I174,Backbone!$A$2:$A$893,0))","v":8.5},null,{"$f":"INDEX(Backbone!$K$1:$K$893,MATCH(I174,Backbone!$A$1:$A$893,0))","v":7.8},null,{"$f":"INDEX(Backbone!$L$2:$L$893,MATCH(I174,Backbone!$A$2:$A$893,0))","v":8.3000000000000007},null,{"$f":"INDEX(Backbone!$M$2:$M$893,MATCH(I174,Backbone!$A$2:$A$893,0))","v":6.7},null,{"$f":"INDEX(Backbone!$N$2:$N$893,MATCH(I174,Backbone!$A$2:$A$893,0))","v":3.3},null,{"$f":"INDEX(Backbone!$O$2:$O$893,MATCH(I174,Backbone!$A$2:$A$893,0))","v":9.1},null,{"$f":"INDEX(Backbone!$P$2:$P$893,MATCH(I174,Backbone!$A$2:$A$893,0))","v":4.7},null,{"$f":"INDEX(Backbone!$Q$2:$Q$893,MATCH(I174,Backbone!$A$2:$A$893,0))","v":0.69666666666666677},null,null,{"$f":"(AG174*$AG$22+AI174*$AI$22+AK174*$AK$22+AM174*$AM$22+AO174*$AO$22+AQ174*$AQ$22+AS174*$AS$22+AU174*$AU$22+AW174*$AW$22)/(SUM($AG$22:$AW$22)*10)","v":{"$error":"#DIV/0!"}},null,null,"Aller à \nBoîte à outils: ",null,{"$f":"HYPERLINK(\"#\"&ADDRESS(MATCH(I174,Toolbox!$C$1:$C$300),1,,,\"Toolbox\"),VLOOKUP(I174,Toolbox!$C$1:$C$300,1,FALSE))","v":"Évaluation des collaborations au sein d'un système de surveillance multisectoriel (EcoSur)"}]
[]
[]
[]
[]
[]
[null,null,null,null,null,null,null,null,{"$f":"Backbone!A195","v":"Surveillance intégrée de la maladie et la riposte (IDSR)"},null,null,null,null,null,null,"Une stratégie visant à renforcer les capacités pour la détection, la confirmation et la réponse aux cas suspects et à l'apparition de foyers épidémiques, ainsi que pour l'utilisation des informations afin de prédire et de planifier les événements de santé publique. ",null,null,null,null,null,null,null,null,{"$f":"INDEX(Backbone!$R$2:$R$893,MATCH(I180,Backbone!$A$2:$A$893,0))","v":"Document d'orientation"},null,null,null,{"$f":"INDEX(Backbone!$S$2:$S$893,MATCH(I180,Backbone!$A$2:$A$893,0))","v":"Spécifique du secteur; Généralisée"},null,null,null,{"$f":"INDEX(Backbone!$H$2:$H$893,MATCH(I180,Backbone!$A$2:$A$893,0))","v":7.4},null,{"$f":"INDEX(Backbone!$I$2:$I$893,MATCH(I180,Backbone!$A$2:$A$893,0))","v":10},null,{"$f":"INDEX(Backbone!$J$2:$J$893,MATCH(I180,Backbone!$A$2:$A$893,0))","v":7.4},null,{"$f":"INDEX(Backbone!$K$1:$K$893,MATCH(I180,Backbone!$A$1:$A$893,0))","v":8.6999999999999993},null,{"$f":"INDEX(Backbone!$L$2:$L$893,MATCH(I180,Backbone!$A$2:$A$893,0))","v":6.7},null,{"$f":"INDEX(Backbone!$M$2:$M$893,MATCH(I180,Backbone!$A$2:$A$893,0))","v":4.5},null,{"$f":"INDEX(Backbone!$N$2:$N$893,MATCH(I180,Backbone!$A$2:$A$893,0))","v":8},null,{"$f":"INDEX(Backbone!$O$2:$O$893,MATCH(I180,Backbone!$A$2:$A$893,0))","v":7.2},null,{"$f":"INDEX(Backbone!$P$2:$P$893,MATCH(I180,Backbone!$A$2:$A$893,0))","v":8.5},null,{"$f":"INDEX(Backbone!$Q$2:$Q$893,MATCH(I180,Backbone!$A$2:$A$893,0))","v":0.76},null,null,{"$f":"(AG180*$AG$22+AI180*$AI$22+AK180*$AK$22+AM180*$AM$22+AO180*$AO$22+AQ180*$AQ$22+AS180*$AS$22+AU180*$AU$22+AW180*$AW$22)/(SUM($AG$22:$AW$22)*10)","v":{"$error":"#DIV/0!"}},null,null,"Aller à \nBoîte à outils: ",null,{"$f":"HYPERLINK(\"#\"&ADDRESS(MATCH(I180,Toolbox!$C$1:$C$300),1,,,\"Toolbox\"),VLOOKUP(I180,Toolbox!$C$1:$C$300,1,FALSE))","v":"Surveillance intégrée de la maladie et la riposte (IDSR)"}]
[]
[]
[]
[]
[]
[null,null,null,null,null,null,null,null,{"$f":"Backbone!A303","v":"Plan d'action national pour la sécurité sanitaire (PANSS)"},null,null,null,null,null,null,"Un processus de planification mené par le pays lui-même, capable d'accélérer la mise en œuvre des capacités essentielles du Règlement sanitaire international (RSI) et fondé sur l'approche «Une seule santé» et «à l'échelle de l'ensemble de l'administration» pour tous les risques.",null,null,null,null,null,null,null,null,{"$f":"INDEX(Backbone!$R$2:$R$893,MATCH(I186,Backbone!$A$2:$A$893,0))","v":"Document d'orientation"},null,null,null,{"$f":"INDEX(Backbone!$S$2:$S$893,MATCH(I186,Backbone!$A$2:$A$893,0))","v":"«Une seule santé»; Généralisée"},null,null,null,{"$f":"INDEX(Backbone!$H$2:$H$893,MATCH(I186,Backbone!$A$2:$A$893,0))","v":8},null,{"$f":"INDEX(Backbone!$I$2:$I$893,MATCH(I186,Backbone!$A$2:$A$893,0))","v":9},null,{"$f":"INDEX(Backbone!$J$2:$J$893,MATCH(I186,Backbone!$A$2:$A$893,0))","v":7.8},null,{"$f":"INDEX(Backbone!$K$1:$K$893,MATCH(I186,Backbone!$A$1:$A$893,0))","v":10},null,{"$f":"INDEX(Backbone!$L$2:$L$893,MATCH(I186,Backbone!$A$2:$A$893,0))","v":8},null,{"$f":"INDEX(Backbone!$M$2:$M$893,MATCH(I186,Backbone!$A$2:$A$893,0))","v":4.5},null,{"$f":"INDEX(Backbone!$N$2:$N$893,MATCH(I186,Backbone!$A$2:$A$893,0))","v":10},null,{"$f":"INDEX(Backbone!$O$2:$O$893,MATCH(I186,Backbone!$A$2:$A$893,0))","v":10},null,{"$f":"INDEX(Backbone!$P$2:$P$893,MATCH(I186,Backbone!$A$2:$A$893,0))","v":10},null,{"$f":"INDEX(Backbone!$Q$2:$Q$893,MATCH(I186,Backbone!$A$2:$A$893,0))","v":0.85888888888888881},null,null,{"$f":"(AG186*$AG$22+AI186*$AI$22+AK186*$AK$22+AM186*$AM$22+AO186*$AO$22+AQ186*$AQ$22+AS186*$AS$22+AU186*$AU$22+AW186*$AW$22)/(SUM($AG$22:$AW$22)*10)","v":{"$error":"#DIV/0!"}},null,null,"Aller à \nBoîte à outils: ",null,{"$f":"HYPERLINK(\"#\"&ADDRESS(MATCH(I186,Toolbox!$C$1:$C$300),1,,,\"Toolbox\"),VLOOKUP(I186,Toolbox!$C$1:$C$300,1,FALSE))","v":"Plan d'action national pour la sécurité sanitaire (PANSS)"}]
[]
[]
[]
[]
[]
[null,null,null,null,null,null,null,null,{"$f":"Backbone!A420","v":"Analyse des écarts PVS de l'Organisation mondiale de la santé animale (OMSA)"},null,null,null,null,null,null,"L'Analyse des écarts PVS est un exercice conduit auprès des Services vétérinaires nationaux dans le but de déterminer leurs cibles prioritaires, ainsi que les stratégies, les activités et les investissements nécessaires pour atteindre ces objectifs.",null,null,null,null,null,null,null,null,{"$f":"INDEX(Backbone!$R$2:$R$893,MATCH(I192,Backbone!$A$2:$A$893,0))","v":"Outil ou processus dirigé/facilité"},null,null,null,{"$f":"INDEX(Backbone!$S$2:$S$893,MATCH(I192,Backbone!$A$2:$A$893,0))","v":"Spécifique du secteur; Généralisée"},null,null,null,{"$f":"INDEX(Backbone!$H$2:$H$893,MATCH(I192,Backbone!$A$2:$A$893,0))","v":6.8},null,{"$f":"INDEX(Backbone!$I$2:$I$893,MATCH(I192,Backbone!$A$2:$A$893,0))","v":8},null,{"$f":"INDEX(Backbone!$J$2:$J$893,MATCH(I192,Backbone!$A$2:$A$893,0))","v":5.6},null,{"$f":"INDEX(Backbone!$K$1:$K$893,MATCH(I192,Backbone!$A$1:$A$893,0))","v":10},null,{"$f":"INDEX(Backbone!$L$2:$L$893,MATCH(I192,Backbone!$A$2:$A$893,0))","v":6},null,{"$f":"INDEX(Backbone!$M$2:$M$893,MATCH(I192,Backbone!$A$2:$A$893,0))","v":4.3},null,{"$f":"INDEX(Backbone!$N$2:$N$893,MATCH(I192,Backbone!$A$2:$A$893,0))","v":9.5},null,{"$f":"INDEX(Backbone!$O$2:$O$893,MATCH(I192,Backbone!$A$2:$A$893,0))","v":4.7},null,{"$f":"INDEX(Backbone!$P$2:$P$893,MATCH(I192,Backbone!$A$2:$A$893,0))","v":7},null,{"$f":"INDEX(Backbone!$Q$2:$Q$893,MATCH(I192,Backbone!$A$2:$A$893,0))","v":0.68777777777777771},null,null,{"$f":"(AG192*$AG$22+AI192*$AI$22+AK192*$AK$22+AM192*$AM$22+AO192*$AO$22+AQ192*$AQ$22+AS192*$AS$22+AU192*$AU$22+AW192*$AW$22)/(SUM($AG$22:$AW$22)*10)","v":{"$error":"#DIV/0!"}},null,null,"Aller à \nBoîte à outils: ",null,{"$f":"HYPERLINK(\"#\"&ADDRESS(MATCH(I192,Toolbox!$C$1:$C$300),1,,,\"Toolbox\"),VLOOKUP(I192,Toolbox!$C$1:$C$300,1,FALSE))","v":"Analyse des écarts PVS de l'Organisation mondiale de la santé animale (OMSA)"}]
[]
[]
[]
[]
[]
[]
[]
[]
[]
[]
[]
[]
[]
[]
[]
[]
[]
[]
[]
[]
[]
[]
[null,null,null,null,null,null,null,null,null,null,null,null,null,null,null,null,null,null,null,null,null,null,null,null,null,null,null,null,null,null,null,null,"Accessibilité",null,"Langue",null,"Facilité d'utilisation",null,"Flexibilité",null,"Besoins de données",null,"Analyse des données",null,"Acceptabilité",null,"«Une seule santé»",null,"Impact"]
[]
[]
[]
[]
[]
[]
[null,null,null,null,null,null,null,null,null,null,null,null,null,null,null,null,null,null,null,null,null,null,null,null,null,null,null,null,null,null,null,null,null,null,null,null,null,null,null,null,null,null,null,null,null,null,null,null,null,null,"SCORE BRUT",null,null,"SCORE AJUSTÉ \n(Selon les préférences de l'utilisateur)"]
[]
[]
[]
[null,"RESSOURCES DE NIVEAU 3",null,"DÉSIGNATION",null,null,null,null,"NOM DE LA RESSOURCE",null,null,null,null,null,null,"BRÈVE DESCRIPTION",null,null,null,null,null,null,null,null,"TYPE DE RESSOURCE",null,null,null,"CARACTÈRE GÉNÉRAL DE LA RESSOURCE"]
[]
[]
[]
[null,null,null,null,null,null,null,null,null,null,null,null,null,null,null,null,null,null,null,null,null,null,null,null,null,null,null,null,null,null,null,null,{"$f":"'Attribute Survey'!S231","v":0},null,{"$f":"'Attribute Survey'!S235","v":0},null,{"$f":"'Attribute Survey'!S239","v":0},null,{"$f":"'Attribute Survey'!S243","v":0},null,{"$f":"'Attribute Survey'!S247","v":0},null,{"$f":"'Attribute Survey'!S251","v":0},null,{"$f":"'Attribute Survey'!S255","v":0},null,{"$f":"'Attribute Survey'!S259","v":0},null,{"$f":"'Attribute Survey'!S263","v":0}]
[null,null,null,"Ressources les mieux adaptées",null,null,null,null,{"$f":"Backbone!A239","v":"Atelier national de rapprochement et d'échange RSI-PVS"},null,null,null,null,null,null," Un atelier aidant les secteurs de la santé animale et de la santé humaine des pays à explorer des zones de chevauchement et à mettre en place, le cas échéant, des passerelles appropriées pour faciliter la coordination. ",null,null,null,null,null,null,null,null,{"$f":"INDEX(Backbone!$R$2:$R$893,MATCH(I231,Backbone!$A$2:$A$893,0))","v":"Outil ou processus dirigé/facilité"},null,null,null,{"$f":"INDEX(Backbone!$S$2:$S$893,MATCH(I231,Backbone!$A$2:$A$893,0))","v":"«Une seule santé»; Généralisée"},null,null,null,{"$f":"INDEX(Backbone!$H$2:$H$893,MATCH(I231,Backbone!$A$2:$A$893,0))","v":8.6},null,{"$f":"INDEX(Backbone!$I$2:$I$893,MATCH(I231,Backbone!$A$2:$A$893,0))","v":10},null,{"$f":"INDEX(Backbone!$J$2:$J$893,MATCH(I231,Backbone!$A$2:$A$893,0))","v":6.2},null,{"$f":"INDEX(Backbone!$K$2:$K$893,MATCH(I231,Backbone!$A$2:$A$893,0))","v":10},null,{"$f":"INDEX(Backbone!$L$2:$L$893,MATCH(I231,Backbone!$A$2:$A$893,0))","v":6},null,{"$f":"INDEX(Backbone!$M$2:$M$893,MATCH(I231,Backbone!$A$2:$A$893,0))","v":7},null,{"$f":"INDEX(Backbone!$N$2:$N$893,MATCH(I231,Backbone!$A$2:$A$893,0))","v":9},null,{"$f":"INDEX(Backbone!$O$2:$O$893,MATCH(I231,Backbone!$A$2:$A$893,0))","v":8.1999999999999993},null,{"$f":"INDEX(Backbone!$P$2:$P$893,MATCH(I231,Backbone!$A$2:$A$893,0))","v":10},null,{"$f":"INDEX(Backbone!$Q$2:$Q$893,MATCH(I231,Backbone!$A$2:$A$893,0))","v":0.83333333333333337},null,null,{"$f":"(AG231*$AG$22+AI231*$AI$22+AK231*$AK$22+AM231*$AM$22+AO231*$AO$22+AQ231*$AQ$22+AS231*$AS$22+AU231*$AU$22+AW231*$AW$22)/(SUM($AG$22:$AW$22)*10)","v":{"$error":"#DIV/0!"}},null,null,"Aller à \nBoîte à outils: ",null,{"$f":"HYPERLINK(\"#\"&ADDRESS(MATCH(I231,Toolbox!$C$1:$C$300),1,,,\"Toolbox\"),VLOOKUP(I231,Toolbox!$C$1:$C$300,1,FALSE))","v":"Atelier national de rapprochement et d'échange RSI-PVS"}]
[]
[]
[]
[]
[]
[null,null,null,null,null,null,null,null,{"$f":"Backbone!A303","v":"Plan d'action national pour la sécurité sanitaire (PANSS)"},null,null,null,null,null,null,"Un processus de planification mené par le pays lui-même, capable d'accélérer la mise en œuvre des capacités essentielles du Règlement sanitaire international (RSI) et fondé sur l'approche «Une seule santé» et «à l'échelle de l'ensemble de l'administration» pour tous les risques.",null,null,null,null,null,null,null,null,{"$f":"INDEX(Backbone!$R$2:$R$893,MATCH(I237,Backbone!$A$2:$A$893,0))","v":"Document d'orientation"},null,null,null,{"$f":"INDEX(Backbone!$S$2:$S$893,MATCH(I237,Backbone!$A$2:$A$893,0))","v":"«Une seule santé»; Généralisée"},null,null,null,{"$f":"INDEX(Backbone!$H$2:$H$893,MATCH(I237,Backbone!$A$2:$A$893,0))","v":8},null,{"$f":"INDEX(Backbone!$I$2:$I$893,MATCH(I237,Backbone!$A$2:$A$893,0))","v":9},null,{"$f":"INDEX(Backbone!$J$2:$J$893,MATCH(I237,Backbone!$A$2:$A$893,0))","v":7.8},null,{"$f":"INDEX(Backbone!$K$1:$K$893,MATCH(I237,Backbone!$A$1:$A$893,0))","v":10},null,{"$f":"INDEX(Backbone!$L$2:$L$893,MATCH(I237,Backbone!$A$2:$A$893,0))","v":8},null,{"$f":"INDEX(Backbone!$M$2:$M$893,MATCH(I237,Backbone!$A$2:$A$893,0))","v":4.5},null,{"$f":"INDEX(Backbone!$N$2:$N$893,MATCH(I237,Backbone!$A$2:$A$893,0))","v":10},null,{"$f":"INDEX(Backbone!$O$2:$O$893,MATCH(I237,Backbone!$A$2:$A$893,0))","v":10},null,{"$f":"INDEX(Backbone!$P$2:$P$893,MATCH(I237,Backbone!$A$2:$A$893,0))","v":10},null,{"$f":"INDEX(Backbone!$Q$2:$Q$893,MATCH(I237,Backbone!$A$2:$A$893,0))","v":0.85888888888888881},null,null,{"$f":"(AG237*$AG$22+AI237*$AI$22+AK237*$AK$22+AM237*$AM$22+AO237*$AO$22+AQ237*$AQ$22+AS237*$AS$22+AU237*$AU$22+AW237*$AW$22)/(SUM($AG$22:$AW$22)*10)","v":{"$error":"#DIV/0!"}},null,null,"Aller à \nBoîte à outils: ",null,{"$f":"HYPERLINK(\"#\"&ADDRESS(MATCH(I237,Toolbox!$C$1:$C$300),1,,,\"Toolbox\"),VLOOKUP(I237,Toolbox!$C$1:$C$300,1,FALSE))","v":"Plan d'action national pour la sécurité sanitaire (PANSS)"}]
[]
[]
[]
[]
[]
[null,null,null,null,null,null,null,null,{"$f":"Backbone!A367","v":"Évaluation des systèmes «Une seule santé» pour les zoonoses prioritaires (OH-SAPZ)"},null,null,null,null,null,null,"L'outil vise à faciliter une évaluation systématique des structures nationales de coordination de l'initiative «Une seule santé» en matière de prévention, de détection et de réponse aux zoonoses.  ",null,null,null,null,null,null,null,null,{"$f":"INDEX(Backbone!$R$2:$R$893,MATCH(I243,Backbone!$A$2:$A$893,0))","v":"Outil d'autoévaluation"},null,null,null,{"$f":"INDEX(Backbone!$S$2:$S$893,MATCH(I243,Backbone!$A$2:$A$893,0))","v":"«Une seule santé»; Généralisée"},null,null,null,{"$f":"INDEX(Backbone!$H$2:$H$893,MATCH(I243,Backbone!$A$2:$A$893,0))","v":7.9},null,{"$f":"INDEX(Backbone!$I$2:$I$893,MATCH(I243,Backbone!$A$2:$A$893,0))","v":7.3},null,{"$f":"INDEX(Backbone!$J$2:$J$893,MATCH(I243,Backbone!$A$2:$A$893,0))","v":7.2},null,{"$f":"INDEX(Backbone!$K$1:$K$893,MATCH(I243,Backbone!$A$1:$A$893,0))","v":7.8},null,{"$f":"INDEX(Backbone!$L$2:$L$893,MATCH(I243,Backbone!$A$2:$A$893,0))","v":6.5},null,{"$f":"INDEX(Backbone!$M$2:$M$893,MATCH(I243,Backbone!$A$2:$A$893,0))","v":5.2},null,{"$f":"INDEX(Backbone!$N$2:$N$893,MATCH(I243,Backbone!$A$2:$A$893,0))","v":4},null,{"$f":"INDEX(Backbone!$O$2:$O$893,MATCH(I243,Backbone!$A$2:$A$893,0))","v":8.3000000000000007},null,{"$f":"INDEX(Backbone!$P$2:$P$893,MATCH(I243,Backbone!$A$2:$A$893,0))","v":9.6999999999999993},null,{"$f":"INDEX(Backbone!$Q$2:$Q$893,MATCH(I243,Backbone!$A$2:$A$893,0))","v":0.71000000000000008},null,null,{"$f":"(AG243*$AG$22+AI243*$AI$22+AK243*$AK$22+AM243*$AM$22+AO243*$AO$22+AQ243*$AQ$22+AS243*$AS$22+AU243*$AU$22+AW243*$AW$22)/(SUM($AG$22:$AW$22)*10)","v":{"$error":"#DIV/0!"}},null,null,"Aller à \nBoîte à outils: ",null,{"$f":"HYPERLINK(\"#\"&ADDRESS(MATCH(I243,Toolbox!$C$1:$C$300),1,,,\"Toolbox\"),VLOOKUP(I243,Toolbox!$C$1:$C$300,1,FALSE))","v":"Évaluation des systèmes «Une seule santé» pour les zoonoses prioritaires (OH-SAPZ)"}]
[]
[]
[]
[]
[]
[null,null,null,null,null,null,null,null,{"$f":"Backbone!A383","v":"Boîte à outils de cartographie et de ressources des systèmes «Une seule santé» (OH-SMART)"},null,null,null,null,null,null,"Un processus qui aide les parties prenantes de plusieurs secteurs à cartographier, analyser et améliorer tout système existant qui nécessite une collaboration interdisciplinaire et multisectorielle.",null,null,null,null,null,null,null,null,{"$f":"INDEX(Backbone!$R$2:$R$893,MATCH(I249,Backbone!$A$2:$A$893,0))","v":"Outil ou processus dirigé/facilité"},null,null,null,{"$f":"INDEX(Backbone!$S$2:$S$893,MATCH(I249,Backbone!$A$2:$A$893,0))","v":"«Une seule santé»; Généralisée"},null,null,null,{"$f":"INDEX(Backbone!$H$2:$H$893,MATCH(I249,Backbone!$A$2:$A$893,0))","v":8.6999999999999993},null,{"$f":"INDEX(Backbone!$I$2:$I$893,MATCH(I249,Backbone!$A$2:$A$893,0))","v":7.3},null,{"$f":"INDEX(Backbone!$J$2:$J$893,MATCH(I249,Backbone!$A$2:$A$893,0))","v":8.4},null,{"$f":"INDEX(Backbone!$K$1:$K$893,MATCH(I249,Backbone!$A$1:$A$893,0))","v":9.3000000000000007},null,{"$f":"INDEX(Backbone!$L$2:$L$893,MATCH(I249,Backbone!$A$2:$A$893,0))","v":8.1999999999999993},null,{"$f":"INDEX(Backbone!$M$2:$M$893,MATCH(I249,Backbone!$A$2:$A$893,0))","v":7.4},null,{"$f":"INDEX(Backbone!$N$2:$N$893,MATCH(I249,Backbone!$A$2:$A$893,0))","v":9.5},null,{"$f":"INDEX(Backbone!$O$2:$O$893,MATCH(I249,Backbone!$A$2:$A$893,0))","v":10},null,{"$f":"INDEX(Backbone!$P$2:$P$893,MATCH(I249,Backbone!$A$2:$A$893,0))","v":10},null,{"$f":"INDEX(Backbone!$Q$2:$Q$893,MATCH(I249,Backbone!$A$2:$A$893,0))","v":0.87555555555555564},null,null,{"$f":"(AG249*$AG$22+AI249*$AI$22+AK249*$AK$22+AM249*$AM$22+AO249*$AO$22+AQ249*$AQ$22+AS249*$AS$22+AU249*$AU$22+AW249*$AW$22)/(SUM($AG$22:$AW$22)*10)","v":{"$error":"#DIV/0!"}},null,null,"Aller à \nBoîte à outils: ",null,{"$f":"HYPERLINK(\"#\"&ADDRESS(MATCH(I249,Toolbox!$C$1:$C$300),1,,,\"Toolbox\"),VLOOKUP(I249,Toolbox!$C$1:$C$300,1,FALSE))","v":"Boîte à outils de cartographie et de ressources des systèmes «Une seule santé» (OH-SMART)"}]
[]
[]
[]
[]
[]
[]
[null,null,null,"Autres ressources intéressantes",null,null,null,null,{"$f":"Backbone!A100","v":"Évaluation des collaborations au sein d'un système de surveillance multisectoriel (EcoSur)"},null,null,null,null,null,null,"Un outil dont l'objectif est d'évaluer l'organisation et le fonctionnement de la collaboration au sein d'un système de surveillance multisectoriel, ainsi que d'analyser les points forts et les points faibles de cette collaboration. ",null,null,null,null,null,null,null,null,{"$f":"INDEX(Backbone!$R$2:$R$893,MATCH(I256,Backbone!$A$2:$A$893,0))","v":"Outil ou processus dirigé/facilité"},null,null,null,{"$f":"INDEX(Backbone!$S$2:$S$893,MATCH(I256,Backbone!$A$2:$A$893,0))","v":"«Une seule santé»; Généralisée"},null,null,null,{"$f":"INDEX(Backbone!$H$2:$H$893,MATCH(I256,Backbone!$A$2:$A$893,0))","v":8.3000000000000007},null,{"$f":"INDEX(Backbone!$I$2:$I$893,MATCH(I256,Backbone!$A$2:$A$893,0))","v":6},null,{"$f":"INDEX(Backbone!$J$2:$J$893,MATCH(I256,Backbone!$A$2:$A$893,0))","v":8.5},null,{"$f":"INDEX(Backbone!$K$1:$K$893,MATCH(I256,Backbone!$A$1:$A$893,0))","v":7.8},null,{"$f":"INDEX(Backbone!$L$2:$L$893,MATCH(I256,Backbone!$A$2:$A$893,0))","v":8.3000000000000007},null,{"$f":"INDEX(Backbone!$M$2:$M$893,MATCH(I256,Backbone!$A$2:$A$893,0))","v":6.7},null,{"$f":"INDEX(Backbone!$N$2:$N$893,MATCH(I256,Backbone!$A$2:$A$893,0))","v":3.3},null,{"$f":"INDEX(Backbone!$O$2:$O$893,MATCH(I256,Backbone!$A$2:$A$893,0))","v":9.1},null,{"$f":"INDEX(Backbone!$P$2:$P$893,MATCH(I256,Backbone!$A$2:$A$893,0))","v":4.7},null,{"$f":"INDEX(Backbone!$Q$2:$Q$893,MATCH(I256,Backbone!$A$2:$A$893,0))","v":0.69666666666666677},null,null,{"$f":"(AG256*$AG$22+AI256*$AI$22+AK256*$AK$22+AM256*$AM$22+AO256*$AO$22+AQ256*$AQ$22+AS256*$AS$22+AU256*$AU$22+AW256*$AW$22)/(SUM($AG$22:$AW$22)*10)","v":{"$error":"#DIV/0!"}},null,null,"Aller à \nBoîte à outils: ",null,{"$f":"HYPERLINK(\"#\"&ADDRESS(MATCH(I256,Toolbox!$C$1:$C$300),1,,,\"Toolbox\"),VLOOKUP(I256,Toolbox!$C$1:$C$300,1,FALSE))","v":"Évaluation des collaborations au sein d'un système de surveillance multisectoriel (EcoSur)"}]
[]
[]
[]
[]
[]
[null,null,null,null,null,null,null,null,{"$f":"Backbone!A195","v":"Surveillance intégrée de la maladie et la riposte (IDSR)"},null,null,null,null,null,null,"Une stratégie visant à renforcer les capacités pour la détection, la confirmation et la réponse aux cas suspects et à l'apparition de foyers épidémiques, ainsi que pour l'utilisation des informations afin de prédire et de planifier les événements de santé publique. ",null,null,null,null,null,null,null,null,{"$f":"INDEX(Backbone!$R$2:$R$893,MATCH(I262,Backbone!$A$2:$A$893,0))","v":"Document d'orientation"},null,null,null,{"$f":"INDEX(Backbone!$S$2:$S$893,MATCH(I262,Backbone!$A$2:$A$893,0))","v":"Spécifique du secteur; Généralisée"},null,null,null,{"$f":"INDEX(Backbone!$H$2:$H$893,MATCH(I262,Backbone!$A$2:$A$893,0))","v":7.4},null,{"$f":"INDEX(Backbone!$I$2:$I$893,MATCH(I262,Backbone!$A$2:$A$893,0))","v":10},null,{"$f":"INDEX(Backbone!$J$2:$J$893,MATCH(I262,Backbone!$A$2:$A$893,0))","v":7.4},null,{"$f":"INDEX(Backbone!$K$1:$K$893,MATCH(I262,Backbone!$A$1:$A$893,0))","v":8.6999999999999993},null,{"$f":"INDEX(Backbone!$L$2:$L$893,MATCH(I262,Backbone!$A$2:$A$893,0))","v":6.7},null,{"$f":"INDEX(Backbone!$M$2:$M$893,MATCH(I262,Backbone!$A$2:$A$893,0))","v":4.5},null,{"$f":"INDEX(Backbone!$N$2:$N$893,MATCH(I262,Backbone!$A$2:$A$893,0))","v":8},null,{"$f":"INDEX(Backbone!$O$2:$O$893,MATCH(I262,Backbone!$A$2:$A$893,0))","v":7.2},null,{"$f":"INDEX(Backbone!$P$2:$P$893,MATCH(I262,Backbone!$A$2:$A$893,0))","v":8.5},null,{"$f":"INDEX(Backbone!$Q$2:$Q$893,MATCH(I262,Backbone!$A$2:$A$893,0))","v":0.76},null,null,{"$f":"(AG262*$AG$22+AI262*$AI$22+AK262*$AK$22+AM262*$AM$22+AO262*$AO$22+AQ262*$AQ$22+AS262*$AS$22+AU262*$AU$22+AW262*$AW$22)/(SUM($AG$22:$AW$22)*10)","v":{"$error":"#DIV/0!"}},null,null,"Aller à \nBoîte à outils: ",null,{"$f":"HYPERLINK(\"#\"&ADDRESS(MATCH(I262,Toolbox!$C$1:$C$300),1,,,\"Toolbox\"),VLOOKUP(I262,Toolbox!$C$1:$C$300,1,FALSE))","v":"Surveillance intégrée de la maladie et la riposte (IDSR)"}]

{"sheet":"A2_tools","index":31,"n_rows":167,"n_cols":59,"rows_kept":167,"cut":false,"hidden":false,"merged":[[13,50,20,51],[13,53,20,54],[17,1,51,1],[17,3,20,6],[17,8,20,13],[17,15,20,22],[17,24,20,26],[17,28,20,30],[22,8,26,13],[29,3,51,6],[29,8,33,13],[29,15,33,22],[29,24,33,26],[29,28,33,30],[6,32,20,32],[6,34,20,34],[6,36,20,36],[6,38,20,38],[6,40,20,40],[6,42,20,42],[6,44,20,44],[6,46,20,46],[6,48,20,48],[29,46,33,46],[29,48,33,48],[29,50,33,51],[29,40,33,40],[29,42,33,42],[29,44,33,44],[29,32,33,32],[22,50,26,51],[22,53,26,54],[22,38,26,38],[22,40,26,40],[22,42,26,42],[22,44,26,44],[22,46,26,46],[22,48,26,48],[29,53,33,54],[29,34,33,34],[29,36,33,36],[29,38,33,38],[47,50,51,51],[47,53,51,54],[47,38,51,38],[47,40,51,40],[47,42,51,42],[47,44,51,44],[47,46,51,46],[47,48,51,48],[41,48,45,48],[41,50,45,51],[41,53,45,54],[41,40,45,40],[41,42,45,42],[41,44,45,44],[41,46,45,46],[41,38,45,38],[79,50,86,51],[79,53,86,54],[72,40,86,40],[72,42,86,42],[88,44,92,44],[88,46,92,46],[88,48,92,48],[88,50,92,51],[83,1,111,1],[83,3,86,6],[83,8,86,13],[83,15,86,22],[83,24,86,26],[72,32,86,32],[72,34,86,34],[72,36,86,36],[72,38,86,38],[101,8,105,13],[101,15,105,22],[101,24,105,26],[101,28,105,30],[101,44,105,44],[101,46,105,46],[101,48,105,48],[101,50,105,51],[101,53,105,54],[107,8,111,13],[107,15,111,22],[107,24,111,26],[107,28,111,30],[107,32,111,32],[101,32,105,32],[101,34,105,34],[101,36,105,36],[101,38,105,38],[101,40,105,40],[101,42,105,42],[107,46,111,46],[107,48,111,48],[107,50,111,51],[107,53,111,54],[107,34,111,34],[107,36,111,36],[107,38,111,38],[107,40,111,40],[107,42,111,42],[107,44,111,44],[130,48,144,48],[137,50,144,51],[137,53,144,54],[141,1,170,1],[141,3,144,6],[141,8,144,13],[141,15,144,22],[141,24,144,26],[141,28,144,30],[146,3,151,6],[130,32,144,32],[130,34,144,34],[130,36,144,36],[130,38,144,38],[130,40,144,40],[130,42,144,42],[130,44,144,44],[130,46,144,46],[147,42,151,42],[147,44,151,44],[147,46,151,46],[147,48,151,48],[147,50,151,51],[147,53,151,54],[147,8,151,13],[147,15,151,22],[147,24,151,26],[147,28,151,30],[147,32,151,32],[147,34,151,34],[147,36,151,36],[147,38,151,38],[147,40,151,40],[160,42,164,42],[160,44,164,44],[160,8,164,13],[160,15,164,22],[160,24,164,26],[160,28,164,30],[160,32,164,32],[166,36,170,36],[166,38,170,38],[166,40,170,40],[166,15,170,22],[166,24,170,26],[166,28,170,30],[166,32,170,32],[166,34,170,34],[160,34,164,34],[160,36,164,36],[160,38,164,38],[160,40,164,40],[47,34,51,34],[47,36,51,36],[41,8,45,13],[41,15,45,22],[41,24,45,26],[41,28,45,30],[41,32,45,32],[41,34,45,34],[47,8,51,13],[47,15,51,22],[41,36,45,36],[95,46,99,46],[95,48,99,48],[95,50,99,51],[95,53,99,54],[22,3,26,6],[88,8,92,13],[88,15,92,22],[88,24,92,26],[88,28,92,30],[88,3,92,6],[22,15,26,22],[22,24,26,26],[22,28,26,30],[22,32,26,32],[22,34,26,34],[22,36,26,36],[88,53,92,54],[88,42,92,42],[72,44,86,44],[72,46,86,46],[72,48,86,48],[47,24,51,26],[47,28,51,30],[47,32,51,32],[95,3,111,6],[95,8,99,13],[95,15,99,22],[95,24,99,26],[95,28,99,30],[95,32,99,32],[95,34,99,34],[95,36,99,36],[95,38,99,38],[88,36,92,36],[88,38,92,38],[88,40,92,40],[83,28,86,30],[88,32,92,32],[88,34,92,34],[154,40,158,40],[154,42,158,42],[154,44,158,44],[95,40,99,40],[95,42,99,42],[95,44,99,44],[154,46,158,46],[154,48,158,48],[154,50,158,51],[154,53,158,54],[154,3,170,6],[154,8,158,13],[154,15,158,22],[154,24,158,26],[154,28,158,30],[154,32,158,32],[154,34,158,34],[154,36,158,36],[154,38,158,38],[166,48,170,48],[166,50,170,51],[166,53,170,54],[166,42,170,42],[166,44,170,44],[166,46,170,46],[160,46,164,46],[160,48,164,48],[160,50,164,51],[160,53,164,54],[166,8,170,13],[1,1,3,62],[22,56,26,57],[22,58,26,62],[29,56,33,57],[29,58,33,62],[35,56,39,57],[35,58,39,62],[41,56,45,57],[41,58,45,62],[35,38,39,38],[35,40,39,40],[35,42,39,42],[35,44,39,44],[35,46,39,46],[35,48,39,48],[35,50,39,51],[35,53,39,54],[35,8,39,13],[35,15,39,22],[35,24,39,26],[35,28,39,30],[35,32,39,32],[35,34,39,34],[35,36,39,36],[147,56,151,57],[147,58,151,62],[154,56,158,57],[154,58,158,62],[160,56,164,57],[160,58,164,62],[166,56,170,57],[166,58,170,62],[47,56,51,57],[47,58,51,62],[88,56,92,57],[88,58,92,62],[95,56,99,57],[95,58,99,62],[101,56,105,57],[101,58,105,62],[107,56,111,57],[107,58,111,62]]}
[]
[null,"Ressources pour l'évaluation des connexions entre les systèmes de surveillance"]
[]
[]
[]
[]
[null,null,null,null,null,null,null,null,null,null,null,null,null,null,null,null,null,null,null,null,null,null,null,null,null,null,null,null,null,null,null,null,"Accessibilité",null,"Langue",null,"Facilité d'utilisation",null,"Flexibilité",null,"Besoins de données",null,"Analyse des données",null,"Acceptabilité",null,"«Une seule santé»",null,"Impact"]
[]
[]
[]
[]
[]
[]
[null,null,null,null,null,null,null,null,null,null,null,null,null,null,null,null,null,null,null,null,null,null,null,null,null,null,null,null,null,null,null,null,null,null,null,null,null,null,null,null,null,null,null,null,null,null,null,null,null,null,"SCORE BRUT",null,null,"SCORE AJUSTÉ \n(Selon les préférences de l'utilisateur)"]
[]
[]
[]
[null,"RESSOURCES DE NIVEAU 1",null,"DÉSIGNATION",null,null,null,null,"NOM DE LA RESSOURCE",null,null,null,null,null,null,"BRÈVE DESCRIPTION",null,null,null,null,null,null,null,null,"TYPE DE RESSOURCE",null,null,null,"CARACTÈRE GÉNÉRAL DE LA RESSOURCE"]
[]
[]
[]
[null,null,null,null,null,null,null,null,null,null,null,null,null,null,null,null,null,null,null,null,null,null,null,null,null,null,null,null,null,null,null,null,{"$f":"'Attribute Survey'!S22","v":0},null,{"$f":"'Attribute Survey'!S26","v":0},null,{"$f":"'Attribute Survey'!S30","v":0},null,{"$f":"'Attribute Survey'!S34","v":0},null,{"$f":"'Attribute Survey'!S38","v":0},null,{"$f":"'Attribute Survey'!S42","v":0},null,{"$f":"'Attribute Survey'!S46","v":0},null,{"$f":"'Attribute Survey'!S50","v":0},null,{"$f":"'Attribute Survey'!S54","v":0}]
[null,null,null,"Ressources les mieux adaptées",null,null,null,null,{"$f":"Backbone!A517","v":"Outil d'évaluation de la surveillance (SET) de la FAO"},null,null,null,null,null,null,"Il évalue les systèmes nationaux de surveillance des zoonoses en employant une méthodologie exhaustive et reproductible",null,null,null,null,null,null,null,null,{"$f":"INDEX(Backbone!$R2:$R893,MATCH(I23,Backbone!$A2:$A893,0))","v":"Outil ou processus dirigé/facilité"},null,null,null,{"$f":"INDEX(Backbone!$S2:$S893,MATCH(I23,Backbone!$A2:$A893,0))","v":"Spécifique du secteur; Généralisée"},null,null,null,{"$f":"INDEX(Backbone!$H2:$H893,MATCH(I23,Backbone!$A2:$A893,0))","v":8.1999999999999993},null,{"$f":"INDEX(Backbone!$I2:$I893,MATCH(I23,Backbone!$A2:$A893,0))","v":8.3000000000000007},null,{"$f":"INDEX(Backbone!$J2:$J893,MATCH(I23,Backbone!$A2:$A893,0))","v":7},null,{"$f":"INDEX(Backbone!$K2:$K893,MATCH(I23,Backbone!$A2:$A893,0))","v":7.7},null,{"$f":"INDEX(Backbone!$L2:$L893,MATCH(I23,Backbone!$A2:$A893,0))","v":6.7},null,{"$f":"INDEX(Backbone!$M2:$M893,MATCH(I23,Backbone!$A2:$A893,0))","v":6.3},null,{"$f":"INDEX(Backbone!$N2:$N893,MATCH(I23,Backbone!$A2:$A893,0))","v":8},null,{"$f":"INDEX(Backbone!$O2:$O893,MATCH(I23,Backbone!$A2:$A893,0))","v":6.8},null,{"$f":"INDEX(Backbone!$P2:$P893,MATCH(I23,Backbone!$A2:$A893,0))","v":8.5},null,{"$f":"INDEX(Backbone!$Q2:$Q893,MATCH(I23,Backbone!$A2:$A893,0))","v":0.75},null,null,{"$f":"(AG23*$AG$22+AI23*$AI$22+AK23*$AK$22+AM23*$AM$22+AO23*$AO$22+AQ23*$AQ$22+AS23*$AS$22+AU23*$AU$22+AW23*$AW$22)/(SUM($AG$22:$AW$22)*10)","v":{"$error":"#DIV/0!"}},null,null,"Aller à \nBoîte à outils: ",null,{"$f":"HYPERLINK(\"#\"&ADDRESS(MATCH(I23,Toolbox!$C$1:$C$300),1,,,\"Toolbox\"),VLOOKUP(I23,Toolbox!$C$1:$C$300,1,FALSE))","v":"Outil d'évaluation de la surveillance (SET) de la FAO"}]
[]
[]
[]
[]
[]
[]
[null,null,null,"Autres ressources intéressantes",null,null,null,null,{"$f":"Backbone!A2","v":"Cadre de surveillance basé sur les événements des CDC en Afrique"},null,null,null,null,null,null,"Des orientations à l'attention des professionnels de la santé publique qui cherchent à mettre en œuvre la surveillance basée sur les événements à tous les échelons administratifs de leur pays",null,null,null,null,null,null,null,null,{"$f":"INDEX(Backbone!$R$2:$R$893,MATCH(I30,Backbone!$A$2:$A$893,0))","v":"Document d'orientation"},null,null,null,{"$f":"INDEX(Backbone!$S$2:$S$893,MATCH(I30,Backbone!$A$2:$A$893,0))","v":"«Une seule santé»; Généralisée "},null,null,null,{"$f":"INDEX(Backbone!$H$2:$H$893,MATCH(I30,Backbone!$A$2:$A$893,0))","v":8},null,{"$f":"INDEX(Backbone!$I$2:$I$893,MATCH(I30,Backbone!$A$2:$A$893,0))","v":6},null,{"$f":"INDEX(Backbone!$J$2:$J$893,MATCH(I30,Backbone!$A$2:$A$893,0))","v":8.1999999999999993},null,{"$f":"INDEX(Backbone!$K$1:$K$893,MATCH(I30,Backbone!$A$1:$A$893,0))","v":8.3000000000000007},null,{"$f":"INDEX(Backbone!$L$2:$L$893,MATCH(I30,Backbone!$A$2:$A$893,0))","v":6.1},null,{"$f":"INDEX(Backbone!$M$2:$M$893,MATCH(I30,Backbone!$A$2:$A$893,0))","v":3.5},null,{"$f":"INDEX(Backbone!$N$2:$N$893,MATCH(I30,Backbone!$A$2:$A$893,0))","v":4},null,{"$f":"INDEX(Backbone!$O$2:$O$893,MATCH(I30,Backbone!$A$2:$A$893,0))","v":7},null,{"$f":"INDEX(Backbone!$P$2:$P$893,MATCH(I30,Backbone!$A$2:$A$893,0))","v":6},null,{"$f":"INDEX(Backbone!$Q$2:$Q$893,MATCH(I30,Backbone!$A$2:$A$893,0))","v":0.63222222222222224},null,null,{"$f":"(AG30*$AG$22+AI30*$AI$22+AK30*$AK$22+AM30*$AM$22+AO30*$AO$22+AQ30*$AQ$22+AS30*$AS$22+AU30*$AU$22+AW30*$AW$22)/(SUM($AG$22:$AW$22)*10)","v":{"$error":"#DIV/0!"}},null,null,"Aller à \nBoîte à outils: ",null,{"$f":"HYPERLINK(\"#\"&ADDRESS(MATCH(I30,Toolbox!$C$1:$C$300),1,,,\"Toolbox\"),VLOOKUP(I30,Toolbox!$C$1:$C$300,1,FALSE))","v":"Cadre de surveillance basé sur les événements des CDC en Afrique"}]
[]
[]
[]
[]
[]
[null,null,null,null,null,null,null,null,{"$f":"Backbone!A83","v":"Évaluation ECDC des systèmes de suivi et de surveillance de la qualité des données - Manuel des méthodes et des applications "},null,null,null,null,null,null,"Un manuel pour le suivi de la qualité des données de surveillance des maladies à l'attention des professionnels de la santé publique",null,null,null,null,null,null,null,null,{"$f":"INDEX(Backbone!$R$2:$R$893,MATCH(I36,Backbone!$A$2:$A$893,0))","v":"Document d'orientation"},null,null,null,{"$f":"INDEX(Backbone!$S$2:$S$893,MATCH(I36,Backbone!$A$2:$A$893,0))","v":"Spécifique du secteur; Généralisée"},null,null,null,{"$f":"INDEX(Backbone!$H$2:$H$893,MATCH(I36,Backbone!$A$2:$A$893,0))","v":8.1999999999999993},null,{"$f":"INDEX(Backbone!$I$2:$I$893,MATCH(I36,Backbone!$A$2:$A$893,0))","v":6},null,{"$f":"INDEX(Backbone!$J$2:$J$893,MATCH(I36,Backbone!$A$2:$A$893,0))","v":6.4},null,{"$f":"INDEX(Backbone!$K$1:$K$893,MATCH(I36,Backbone!$A$1:$A$893,0))","v":7.3},null,{"$f":"INDEX(Backbone!$L$2:$L$893,MATCH(I36,Backbone!$A$2:$A$893,0))","v":7.7},null,{"$f":"INDEX(Backbone!$M$2:$M$893,MATCH(I36,Backbone!$A$2:$A$893,0))","v":4.5},null,{"$f":"INDEX(Backbone!$N$2:$N$893,MATCH(I36,Backbone!$A$2:$A$893,0))","v":5.3},null,{"$f":"INDEX(Backbone!$O$2:$O$893,MATCH(I36,Backbone!$A$2:$A$893,0))","v":6.2},null,{"$f":"INDEX(Backbone!$P$2:$P$893,MATCH(I36,Backbone!$A$2:$A$893,0))","v":8},null,{"$f":"INDEX(Backbone!$Q$2:$Q$893,MATCH(I36,Backbone!$A$2:$A$893,0))","v":0.66222222222222227},null,null,{"$f":"(AG36*$AG$22+AI36*$AI$22+AK36*$AK$22+AM36*$AM$22+AO36*$AO$22+AQ36*$AQ$22+AS36*$AS$22+AU36*$AU$22+AW36*$AW$22)/(SUM($AG$22:$AW$22)*10)","v":{"$error":"#DIV/0!"}},null,null,"Aller à \nBoîte à outils: ",null,{"$f":"HYPERLINK(\"#\"&ADDRESS(MATCH(I36,Toolbox!$C$1:$C$300),1,,,\"Toolbox\"),VLOOKUP(I36,Toolbox!$C$1:$C$300,1,FALSE))","v":"Évaluation ECDC des systèmes de suivi et de surveillance de la qualité des données - Manuel des méthodes et des applications "}]
[]
[]
[]
[]
[]
[null,null,null,null,null,null,null,null,{"$f":"Backbone!A47","v":"Outil de la FAO d’évaluation de la surveillance nationale de l'antibiorésistance et des compétences des laboratoires (ATLASS)"},null,null,null,null,null,null,"L'outil de la FAO d’évaluation de la surveillance nationale de l'antibiorésistance et des compétences des laboratoires (FAO-ATLASS) renforce la capacité des pays en matière de surveillance de la RAM en contribuant à l'amélioration de l'harmonisation et de la coordination de celle-ci aux niveaux national, régional et mondial.",null,null,null,null,null,null,null,null,{"$f":"INDEX(Backbone!$R$2:$R$893,MATCH(I42,Backbone!$A$2:$A$893,0))","v":"Outil ou processus dirigé/facilité"},null,null,null,{"$f":"INDEX(Backbone!$S$2:$S$893,MATCH(I42,Backbone!$A$2:$A$893,0))","v":"«Une seule santé»; spécifique d'une maladie/menace "},null,null,null,{"$f":"INDEX(Backbone!$H$2:$H$893,MATCH(I42,Backbone!$A$2:$A$893,0))","v":7.2},null,{"$f":"INDEX(Backbone!$I$2:$I$893,MATCH(I42,Backbone!$A$2:$A$893,0))","v":10},null,{"$f":"INDEX(Backbone!$J$2:$J$893,MATCH(I42,Backbone!$A$2:$A$893,0))","v":5.6},null,{"$f":"INDEX(Backbone!$K$1:$K$893,MATCH(I42,Backbone!$A$1:$A$893,0))","v":7.3},null,{"$f":"INDEX(Backbone!$L$2:$L$893,MATCH(I42,Backbone!$A$2:$A$893,0))","v":7.3},null,{"$f":"INDEX(Backbone!$M$2:$M$893,MATCH(I42,Backbone!$A$2:$A$893,0))","v":5.2},null,{"$f":"INDEX(Backbone!$N$2:$N$893,MATCH(I42,Backbone!$A$2:$A$893,0))","v":8.6999999999999993},null,{"$f":"INDEX(Backbone!$O$2:$O$893,MATCH(I42,Backbone!$A$2:$A$893,0))","v":5.6},null,{"$f":"INDEX(Backbone!$P$2:$P$893,MATCH(I42,Backbone!$A$2:$A$893,0))","v":7},null,{"$f":"INDEX(Backbone!$Q$2:$Q$893,MATCH(I42,Backbone!$A$2:$A$893,0))","v":0.71},null,null,{"$f":"(AG42*$AG$22+AI42*$AI$22+AK42*$AK$22+AM42*$AM$22+AO42*$AO$22+AQ42*$AQ$22+AS42*$AS$22+AU42*$AU$22+AW42*$AW$22)/(SUM($AG$22:$AW$22)*10)","v":{"$error":"#DIV/0!"}},null,null,"Aller à \nBoîte à outils: ",null,{"$f":"HYPERLINK(\"#\"&ADDRESS(MATCH(I42,Toolbox!$C$1:$C$300),1,,,\"Toolbox\"),VLOOKUP(I42,Toolbox!$C$1:$C$300,1,FALSE))","v":"Outil de la FAO d’évaluation de la surveillance nationale de l'antibiorésistance et des compétences des laboratoires (ATLASS)"}]
[]
[]
[]
[]
[]
[null,null,null,null,null,null,null,null,{"$f":"Backbone!A552","v":"Règlement sanitaire international (2005): outil d’autoévaluation pour l'établissement de rapports annuels par les États Parties (SPAR)"},null,null,null,null,null,null,"Un outil d'établissement de rapports qui aide les États parties au Règlement sanitaire international (RSI) à s'acquitter de leur obligation de rendre compte chaque année à l'Assemblée mondiale de la santé (WHA) du respect des exigences en matière de capacités prévues par ledit règlement.",null,null,null,null,null,null,null,null,{"$f":"INDEX(Backbone!$R$2:$R$893,MATCH(I48,Backbone!$A$2:$A$893,0))","v":"Outil d'autoévaluation"},null,null,null,{"$f":"INDEX(Backbone!$S$2:$S$893,MATCH(I48,Backbone!$A$2:$A$893,0))","v":"«Une seule santé»; Généralisée"},null,null,null,{"$f":"INDEX(Backbone!$H$2:$H$893,MATCH(I48,Backbone!$A$2:$A$893,0))","v":9.9},null,{"$f":"INDEX(Backbone!$I$2:$I$893,MATCH(I48,Backbone!$A$2:$A$893,0))","v":10},null,{"$f":"INDEX(Backbone!$J$2:$J$893,MATCH(I48,Backbone!$A$2:$A$893,0))","v":9.3000000000000007},null,{"$f":"INDEX(Backbone!$K$1:$K$893,MATCH(I48,Backbone!$A$1:$A$893,0))","v":7.3},null,{"$f":"INDEX(Backbone!$L$2:$L$893,MATCH(I48,Backbone!$A$2:$A$893,0))","v":9.4},null,{"$f":"INDEX(Backbone!$M$2:$M$893,MATCH(I48,Backbone!$A$2:$A$893,0))","v":9},null,{"$f":"INDEX(Backbone!$N$2:$N$893,MATCH(I48,Backbone!$A$2:$A$893,0))","v":8.5},null,{"$f":"INDEX(Backbone!$O$2:$O$893,MATCH(I48,Backbone!$A$2:$A$893,0))","v":6.3},null,{"$f":"INDEX(Backbone!$P$2:$P$893,MATCH(I48,Backbone!$A$2:$A$893,0))","v":6.7},null,{"$f":"INDEX(Backbone!$Q$2:$Q$893,MATCH(I48,Backbone!$A$2:$A$893,0))","v":0.84888888888888892},null,null,{"$f":"(AG48*$AG$22+AI48*$AI$22+AK48*$AK$22+AM48*$AM$22+AO48*$AO$22+AQ48*$AQ$22+AS48*$AS$22+AU48*$AU$22+AW48*$AW$22)/(SUM($AG$22:$AW$22)*10)","v":{"$error":"#DIV/0!"}},null,null,"Aller à \nBoîte à outils: ",null,{"$f":"HYPERLINK(\"#\"&ADDRESS(MATCH(I48,Toolbox!$C$1:$C$300),1,,,\"Toolbox\"),VLOOKUP(I48,Toolbox!$C$1:$C$300,1,FALSE))","v":"Règlement sanitaire international (2005): outil d’autoévaluation pour l'établissement de rapports annuels par les États Parties (SPAR)"}]
[]
[]
[]
[]
[]
[]
[]
[]
[]
[]
[]
[]
[]
[]
[]
[]
[]
[]
[]
[]
[]
[]
[]
[]
[null,null,null,null,null,null,null,null,null,null,null,null,null,null,null,null,null,null,null,null,null,null,null,null,null,null,null,null,null,null,null,null,"Accessibilité",null,"Langue",null,"Facilité d'utilisation",null,"Flexibilité",null,"Besoins de données",null,"Analyse des données",null,"Acceptabilité",null,"«Une seule santé»",null,"Impact"]
[]
[]
[]
[]
[]
[]
[null,null,null,null,null,null,null,null,null,null,null,null,null,null,null,null,null,null,null,null,null,null,null,null,null,null,null,null,null,null,null,null,null,null,null,null,null,null,null,null,null,null,null,null,null,null,null,null,null,null,"SCORE BRUT",null,null,"SCORE AJUSTÉ \n(Selon les préférences de l'utilisateur)"]
[]
[]
[]
[null,"RESSOURCES DE NIVEAU 2",null,"DÉSIGNATION",null,null,null,null,"NOM DE LA RESSOURCE",null,null,null,null,null,null,"BRÈVE DESCRIPTION",null,null,null,null,null,null,null,null,"TYPE DE RESSOURCE",null,null,null,"CARACTÈRE GÉNÉRAL DE LA RESSOURCE"]
[]
[]
[]
[null,null,null,null,null,null,null,null,null,null,null,null,null,null,null,null,null,null,null,null,null,null,null,null,null,null,null,null,null,null,null,null,{"$f":"'Attribute Survey'!S130","v":0},null,{"$f":"'Attribute Survey'!S134","v":0},null,{"$f":"'Attribute Survey'!S138","v":0},null,{"$f":"'Attribute Survey'!S142","v":0},null,{"$f":"'Attribute Survey'!S146","v":0},null,{"$f":"'Attribute Survey'!S150","v":0},null,{"$f":"'Attribute Survey'!S154","v":0},null,{"$f":"'Attribute Survey'!S158","v":0},null,{"$f":"'Attribute Survey'!S162","v":0}]
[null,null,null,"Ressources les mieux adaptées",null,null,null,null,{"$f":"Backbone!A517","v":"Outil d'évaluation de la surveillance (SET) de la FAO"},null,null,null,null,null,null,"Il évalue les systèmes nationaux de surveillance des zoonoses en employant une méthodologie exhaustive et reproductible",null,null,null,null,null,null,null,null,{"$f":"INDEX(Backbone!$R63:$R954,MATCH(I89,Backbone!$A63:$A954,0))","v":"Outil ou processus dirigé/facilité"},null,null,null,{"$f":"INDEX(Backbone!$S63:$S954,MATCH(I89,Backbone!$A63:$A954,0))","v":"Spécifique du secteur; Généralisée"},null,null,null,{"$f":"INDEX(Backbone!$H63:$H954,MATCH(I89,Backbone!$A63:$A954,0))","v":8.1999999999999993},null,{"$f":"INDEX(Backbone!$I63:$I954,MATCH(I89,Backbone!$A63:$A954,0))","v":8.3000000000000007},null,{"$f":"INDEX(Backbone!$J63:$J954,MATCH(I89,Backbone!$A63:$A954,0))","v":7},null,{"$f":"INDEX(Backbone!$K63:$K954,MATCH(I89,Backbone!$A63:$A954,0))","v":7.7},null,{"$f":"INDEX(Backbone!$L63:$L954,MATCH(I89,Backbone!$A63:$A954,0))","v":6.7},null,{"$f":"INDEX(Backbone!$M63:$M954,MATCH(I89,Backbone!$A63:$A954,0))","v":6.3},null,{"$f":"INDEX(Backbone!$N63:$N954,MATCH(I89,Backbone!$A63:$A954,0))","v":8},null,{"$f":"INDEX(Backbone!$O63:$O954,MATCH(I89,Backbone!$A63:$A954,0))","v":6.8},null,{"$f":"INDEX(Backbone!$P63:$P954,MATCH(I89,Backbone!$A63:$A954,0))","v":8.5},null,{"$f":"INDEX(Backbone!$Q63:$Q954,MATCH(I89,Backbone!$A63:$A954,0))","v":0.75},null,null,{"$f":"(AG89*$AG$22+AI89*$AI$22+AK89*$AK$22+AM89*$AM$22+AO89*$AO$22+AQ89*$AQ$22+AS89*$AS$22+AU89*$AU$22+AW89*$AW$22)/(SUM($AG$22:$AW$22)*10)","v":{"$error":"#DIV/0!"}},null,null,"Aller à \nBoîte à outils: ",null,{"$f":"HYPERLINK(\"#\"&ADDRESS(MATCH(I89,Toolbox!$C$1:$C$300),1,,,\"Toolbox\"),VLOOKUP(I89,Toolbox!$C$1:$C$300,1,FALSE))","v":"Outil d'évaluation de la surveillance (SET) de la FAO"}]
[]
[]
[]
[]
[]
[]
[null,null,null,"Autres ressources intéressantes",null,null,null,null,{"$f":"Backbone!A83","v":"Évaluation ECDC des systèmes de suivi et de surveillance de la qualité des données - Manuel des méthodes et des applications "},null,null,null,null,null,null,"Un manuel pour le suivi de la qualité des données de surveillance des maladies à l'attention des professionnels de la santé publique",null,null,null,null,null,null,null,null,{"$f":"INDEX(Backbone!$R$2:$R$893,MATCH(I96,Backbone!$A$2:$A$893,0))","v":"Document d'orientation"},null,null,null,{"$f":"INDEX(Backbone!$S$2:$S$893,MATCH(I96,Backbone!$A$2:$A$893,0))","v":"Spécifique du secteur; Généralisée"},null,null,null,{"$f":"INDEX(Backbone!$H$2:$H$893,MATCH(I96,Backbone!$A$2:$A$893,0))","v":8.1999999999999993},null,{"$f":"INDEX(Backbone!$I$2:$I$893,MATCH(I96,Backbone!$A$2:$A$893,0))","v":6},null,{"$f":"INDEX(Backbone!$J$2:$J$893,MATCH(I96,Backbone!$A$2:$A$893,0))","v":6.4},null,{"$f":"INDEX(Backbone!$K$1:$K$893,MATCH(I96,Backbone!$A$1:$A$893,0))","v":7.3},null,{"$f":"INDEX(Backbone!$L$2:$L$893,MATCH(I96,Backbone!$A$2:$A$893,0))","v":7.7},null,{"$f":"INDEX(Backbone!$M$2:$M$893,MATCH(I96,Backbone!$A$2:$A$893,0))","v":4.5},null,{"$f":"INDEX(Backbone!$N$2:$N$893,MATCH(I96,Backbone!$A$2:$A$893,0))","v":5.3},null,{"$f":"INDEX(Backbone!$O$2:$O$893,MATCH(I96,Backbone!$A$2:$A$893,0))","v":6.2},null,{"$f":"INDEX(Backbone!$P$2:$P$893,MATCH(I96,Backbone!$A$2:$A$893,0))","v":8},null,{"$f":"INDEX(Backbone!$Q$2:$Q$893,MATCH(I96,Backbone!$A$2:$A$893,0))","v":0.66222222222222227},null,null,{"$f":"(AG96*$AG$22+AI96*$AI$22+AK96*$AK$22+AM96*$AM$22+AO96*$AO$22+AQ96*$AQ$22+AS96*$AS$22+AU96*$AU$22+AW96*$AW$22)/(SUM($AG$22:$AW$22)*10)","v":{"$error":"#DIV/0!"}},null,null,"Aller à \nBoîte à outils: ",null,{"$f":"HYPERLINK(\"#\"&ADDRESS(MATCH(I96,Toolbox!$C$1:$C$300),1,,,\"Toolbox\"),VLOOKUP(I96,Toolbox!$C$1:$C$300,1,FALSE))","v":"Évaluation ECDC des systèmes de suivi et de surveillance de la qualité des données - Manuel des méthodes et des applications "}]
[]
[]
[]
[]
[]
[null,null,null,null,null,null,null,null,{"$f":"Backbone!A47","v":"Outil de la FAO d’évaluation de la surveillance nationale de l'antibiorésistance et des compétences des laboratoires (ATLASS)"},null,null,null,null,null,null,"L'outil de la FAO d’évaluation de la surveillance nationale de l'antibiorésistance et des compétences des laboratoires (FAO-ATLASS) renforce la capacité des pays en matière de surveillance de la RAM en contribuant à l'amélioration de l'harmonisation et de la coordination de celle-ci aux niveaux national, régional et mondial.",null,null,null,null,null,null,null,null,{"$f":"INDEX(Backbone!$R$2:$R$893,MATCH(I102,Backbone!$A$2:$A$893,0))","v":"Outil ou processus dirigé/facilité"},null,null,null,{"$f":"INDEX(Backbone!$S$2:$S$893,MATCH(I102,Backbone!$A$2:$A$893,0))","v":"«Une seule santé»; spécifique d'une maladie/menace "},null,null,null,{"$f":"INDEX(Backbone!$H$2:$H$893,MATCH(I102,Backbone!$A$2:$A$893,0))","v":7.2},null,{"$f":"INDEX(Backbone!$I$2:$I$893,MATCH(I102,Backbone!$A$2:$A$893,0))","v":10},null,{"$f":"INDEX(Backbone!$J$2:$J$893,MATCH(I102,Backbone!$A$2:$A$893,0))","v":5.6},null,{"$f":"INDEX(Backbone!$K$1:$K$893,MATCH(I102,Backbone!$A$1:$A$893,0))","v":7.3},null,{"$f":"INDEX(Backbone!$L$2:$L$893,MATCH(I102,Backbone!$A$2:$A$893,0))","v":7.3},null,{"$f":"INDEX(Backbone!$M$2:$M$893,MATCH(I102,Backbone!$A$2:$A$893,0))","v":5.2},null,{"$f":"INDEX(Backbone!$N$2:$N$893,MATCH(I102,Backbone!$A$2:$A$893,0))","v":8.6999999999999993},null,{"$f":"INDEX(Backbone!$O$2:$O$893,MATCH(I102,Backbone!$A$2:$A$893,0))","v":5.6},null,{"$f":"INDEX(Backbone!$P$2:$P$893,MATCH(I102,Backbone!$A$2:$A$893,0))","v":7},null,{"$f":"INDEX(Backbone!$Q$2:$Q$893,MATCH(I102,Backbone!$A$2:$A$893,0))","v":0.71},null,null,{"$f":"(AG102*$AG$22+AI102*$AI$22+AK102*$AK$22+AM102*$AM$22+AO102*$AO$22+AQ102*$AQ$22+AS102*$AS$22+AU102*$AU$22+AW102*$AW$22)/(SUM($AG$22:$AW$22)*10)","v":{"$error":"#DIV/0!"}},null,null,"Aller à \nBoîte à outils: ",null,{"$f":"HYPERLINK(\"#\"&ADDRESS(MATCH(I102,Toolbox!$C$1:$C$300),1,,,\"Toolbox\"),VLOOKUP(I102,Toolbox!$C$1:$C$300,1,FALSE))","v":"Outil de la FAO d’évaluation de la surveillance nationale de l'antibiorésistance et des compétences des laboratoires (ATLASS)"}]
[]
[]
[]
[]
[]
[null,null,null,null,null,null,null,null,{"$f":"Backbone!A552","v":"Règlement sanitaire international (2005): outil d’autoévaluation pour l'établissement de rapports annuels par les États Parties (SPAR)"},null,null,null,null,null,null,"Un outil d'établissement de rapports qui aide les États parties au Règlement sanitaire international (RSI) à s'acquitter de leur obligation de rendre compte chaque année à l'Assemblée mondiale de la santé (WHA) du respect des exigences en matière de capacités prévues par ledit règlement.",null,null,null,null,null,null,null,null,{"$f":"INDEX(Backbone!$R$2:$R$893,MATCH(I108,Backbone!$A$2:$A$893,0))","v":"Outil d'autoévaluation"},null,null,null,{"$f":"INDEX(Backbone!$S$2:$S$893,MATCH(I108,Backbone!$A$2:$A$893,0))","v":"«Une seule santé»; Généralisée"},null,null,null,{"$f":"INDEX(Backbone!$H$2:$H$893,MATCH(I108,Backbone!$A$2:$A$893,0))","v":9.9},null,{"$f":"INDEX(Backbone!$I$2:$I$893,MATCH(I108,Backbone!$A$2:$A$893,0))","v":10},null,{"$f":"INDEX(Backbone!$J$2:$J$893,MATCH(I108,Backbone!$A$2:$A$893,0))","v":9.3000000000000007},null,{"$f":"INDEX(Backbone!$K$1:$K$893,MATCH(I108,Backbone!$A$1:$A$893,0))","v":7.3},null,{"$f":"INDEX(Backbone!$L$2:$L$893,MATCH(I108,Backbone!$A$2:$A$893,0))","v":9.4},null,{"$f":"INDEX(Backbone!$M$2:$M$893,MATCH(I108,Backbone!$A$2:$A$893,0))","v":9},null,{"$f":"INDEX(Backbone!$N$2:$N$893,MATCH(I108,Backbone!$A$2:$A$893,0))","v":8.5},null,{"$f":"INDEX(Backbone!$O$2:$O$893,MATCH(I108,Backbone!$A$2:$A$893,0))","v":6.3},null,{"$f":"INDEX(Backbone!$P$2:$P$893,MATCH(I108,Backbone!$A$2:$A$893,0))","v":6.7},null,{"$f":"INDEX(Backbone!$Q$2:$Q$893,MATCH(I108,Backbone!$A$2:$A$893,0))","v":0.84888888888888892},null,null,{"$f":"(AG108*$AG$22+AI108*$AI$22+AK108*$AK$22+AM108*$AM$22+AO108*$AO$22+AQ108*$AQ$22+AS108*$AS$22+AU108*$AU$22+AW108*$AW$22)/(SUM($AG$22:$AW$22)*10)","v":{"$error":"#DIV/0!"}},null,null,"Aller à \nBoîte à outils: ",null,{"$f":"HYPERLINK(\"#\"&ADDRESS(MATCH(I108,Toolbox!$C$1:$C$300),1,,,\"Toolbox\"),VLOOKUP(I108,Toolbox!$C$1:$C$300,1,FALSE))","v":"Règlement sanitaire international (2005): outil d’autoévaluation pour l'établissement de rapports annuels par les États Parties (SPAR)"}]
[]
[]
[]
[]
[]
[]
[]
[]
[]
[]
[]
[]
[]
[]
[]
[]
[]
[]
[]
[]
[]
[]
[null,null,null,null,null,null,null,null,null,null,null,null,null,null,null,null,null,null,null,null,null,null,null,null,null,null,null,null,null,null,null,null,"Accessibilité",null,"Langue",null,"Facilité d'utilisation",null,"Flexibilité",null,"Besoins de données",null,"Analyse des données",null,"Acceptabilité",null,"«Une seule santé»",null,"Impact"]
[]
[]
[]
[]
[]
[]
[null,null,null,null,null,null,null,null,null,null,null,null,null,null,null,null,null,null,null,null,null,null,null,null,null,null,null,null,null,null,null,null,null,null,null,null,null,null,null,null,null,null,null,null,null,null,null,null,null,null,"SCORE BRUT",null,null,"SCORE AJUSTÉ \n(Selon les préférences de l'utilisateur)"]
[]
[]
[]
[null,"RESSOURCES DE NIVEAU 3",null,"DÉSIGNATION",null,null,null,null,"NOM DE LA RESSOURCE",null,null,null,null,null,null,"BRÈVE DESCRIPTION",null,null,null,null,null,null,null,null,"TYPE DE RESSOURCE",null,null,null,"CARACTÈRE GÉNÉRAL DE LA RESSOURCE"]
[]
[]
[]
[null,null,null,null,null,null,null,null,null,null,null,null,null,null,null,null,null,null,null,null,null,null,null,null,null,null,null,null,null,null,null,null,{"$f":"'Attribute Survey'!S231","v":0},null,{"$f":"'Attribute Survey'!S235","v":0},null,{"$f":"'Attribute Survey'!S239","v":0},null,{"$f":"'Attribute Survey'!S243","v":0},null,{"$f":"'Attribute Survey'!S247","v":0},null,{"$f":"'Attribute Survey'!S251","v":0},null,{"$f":"'Attribute Survey'!S255","v":0},null,{"$f":"'Attribute Survey'!S259","v":0},null,{"$f":"'Attribute Survey'!S263","v":0}]
[null,null,null,"Ressources les mieux adaptées"]
[null,null,null,null,null,null,null,null,{"$f":"Backbone!A517","v":"Outil d'évaluation de la surveillance (SET) de la FAO"},null,null,null,null,null,null,"Il évalue les systèmes nationaux de surveillance des zoonoses en employant une méthodologie exhaustive et reproductible",null,null,null,null,null,null,null,null,{"$f":"INDEX(Backbone!$R$2:$R$893,MATCH(I148,Backbone!$A$2:$A$893,0))","v":"Outil ou processus dirigé/facilité"},null,null,null,{"$f":"INDEX(Backbone!$S$2:$S$893,MATCH(I148,Backbone!$A$2:$A$893,0))","v":"Spécifique du secteur; Généralisée"},null,null,null,{"$f":"INDEX(Backbone!$H$2:$H$893,MATCH(I148,Backbone!$A$2:$A$893,0))","v":8.1999999999999993},null,{"$f":"INDEX(Backbone!$I$2:$I$893,MATCH(I148,Backbone!$A$2:$A$893,0))","v":8.3000000000000007},null,{"$f":"INDEX(Backbone!$J$2:$J$893,MATCH(I148,Backbone!$A$2:$A$893,0))","v":7},null,{"$f":"INDEX(Backbone!$K$1:$K$893,MATCH(I148,Backbone!$A$1:$A$893,0))","v":7.7},null,{"$f":"INDEX(Backbone!$L$2:$L$893,MATCH(I148,Backbone!$A$2:$A$893,0))","v":6.7},null,{"$f":"INDEX(Backbone!$M$2:$M$893,MATCH(I148,Backbone!$A$2:$A$893,0))","v":6.3},null,{"$f":"INDEX(Backbone!$N$2:$N$893,MATCH(I148,Backbone!$A$2:$A$893,0))","v":8},null,{"$f":"INDEX(Backbone!$O$2:$O$893,MATCH(I148,Backbone!$A$2:$A$893,0))","v":6.8},null,{"$f":"INDEX(Backbone!$P$2:$P$893,MATCH(I148,Backbone!$A$2:$A$893,0))","v":8.5},null,{"$f":"INDEX(Backbone!$Q$2:$Q$893,MATCH(I148,Backbone!$A$2:$A$893,0))","v":0.75},null,null,{"$f":"(AG148*$AG$22+AI148*$AI$22+AK148*$AK$22+AM148*$AM$22+AO148*$AO$22+AQ148*$AQ$22+AS148*$AS$22+AU148*$AU$22+AW148*$AW$22)/(SUM($AG$22:$AW$22)*10)","v":{"$error":"#DIV/0!"}},null,null,"Aller à \nBoîte à outils: ",null,{"$f":"HYPERLINK(\"#\"&ADDRESS(MATCH(I148,Toolbox!$C$1:$C$300),1,,,\"Toolbox\"),VLOOKUP(I148,Toolbox!$C$1:$C$300,1,FALSE))","v":"Outil d'évaluation de la surveillance (SET) de la FAO"}]
[]
[]
[]
[]
[]
[]
[null,null,null,"Autres ressources intéressantes",null,null,null,null,{"$f":"Backbone!A83","v":"Évaluation ECDC des systèmes de suivi et de surveillance de la qualité des données - Manuel des méthodes et des applications "},null,null,null,null,null,null,"Un manuel pour le suivi de la qualité des données de surveillance des maladies à l'attention des professionnels de la santé publique",null,null,null,null,null,null,null,null,{"$f":"INDEX(Backbone!$R$2:$R$893,MATCH(I155,Backbone!$A$2:$A$893,0))","v":"Document d'orientation"},null,null,null,{"$f":"INDEX(Backbone!$S$2:$S$893,MATCH(I155,Backbone!$A$2:$A$893,0))","v":"Spécifique du secteur; Généralisée"},null,null,null,{"$f":"INDEX(Backbone!$H$2:$H$893,MATCH(I155,Backbone!$A$2:$A$893,0))","v":8.1999999999999993},null,{"$f":"INDEX(Backbone!$I$2:$I$893,MATCH(I155,Backbone!$A$2:$A$893,0))","v":6},null,{"$f":"INDEX(Backbone!$J$2:$J$893,MATCH(I155,Backbone!$A$2:$A$893,0))","v":6.4},null,{"$f":"INDEX(Backbone!$K$1:$K$893,MATCH(I155,Backbone!$A$1:$A$893,0))","v":7.3},null,{"$f":"INDEX(Backbone!$L$2:$L$893,MATCH(I155,Backbone!$A$2:$A$893,0))","v":7.7},null,{"$f":"INDEX(Backbone!$M$2:$M$893,MATCH(I155,Backbone!$A$2:$A$893,0))","v":4.5},null,{"$f":"INDEX(Backbone!$N$2:$N$893,MATCH(I155,Backbone!$A$2:$A$893,0))","v":5.3},null,{"$f":"INDEX(Backbone!$O$2:$O$893,MATCH(I155,Backbone!$A$2:$A$893,0))","v":6.2},null,{"$f":"INDEX(Backbone!$P$2:$P$893,MATCH(I155,Backbone!$A$2:$A$893,0))","v":8},null,{"$f":"INDEX(Backbone!$Q$2:$Q$893,MATCH(I155,Backbone!$A$2:$A$893,0))","v":0.66222222222222227},null,null,{"$f":"(AG155*$AG$22+AI155*$AI$22+AK155*$AK$22+AM155*$AM$22+AO155*$AO$22+AQ155*$AQ$22+AS155*$AS$22+AU155*$AU$22+AW155*$AW$22)/(SUM($AG$22:$AW$22)*10)","v":{"$error":"#DIV/0!"}},null,null,"Aller à \nBoîte à outils: ",null,{"$f":"HYPERLINK(\"#\"&ADDRESS(MATCH(I155,Toolbox!$C$1:$C$300),1,,,\"Toolbox\"),VLOOKUP(I155,Toolbox!$C$1:$C$300,1,FALSE))","v":"Évaluation ECDC des systèmes de suivi et de surveillance de la qualité des données - Manuel des méthodes et des applications "}]
[]
[]
[]
[]
[]
[null,null,null,null,null,null,null,null,{"$f":"Backbone!A47","v":"Outil de la FAO d’évaluation de la surveillance nationale de l'antibiorésistance et des compétences des laboratoires (ATLASS)"},null,null,null,null,null,null,"L'outil de la FAO d’évaluation de la surveillance nationale de l'antibiorésistance et des compétences des laboratoires (FAO-ATLASS) renforce la capacité des pays en matière de surveillance de la RAM en contribuant à l'amélioration de l'harmonisation et de la coordination de celle-ci aux niveaux national, régional et mondial.",null,null,null,null,null,null,null,null,{"$f":"INDEX(Backbone!$R$2:$R$893,MATCH(I161,Backbone!$A$2:$A$893,0))","v":"Outil ou processus dirigé/facilité"},null,null,null,{"$f":"INDEX(Backbone!$S$2:$S$893,MATCH(I161,Backbone!$A$2:$A$893,0))","v":"«Une seule santé»; spécifique d'une maladie/menace "},null,null,null,{"$f":"INDEX(Backbone!$H$2:$H$893,MATCH(I161,Backbone!$A$2:$A$893,0))","v":7.2},null,{"$f":"INDEX(Backbone!$I$2:$I$893,MATCH(I161,Backbone!$A$2:$A$893,0))","v":10},null,{"$f":"INDEX(Backbone!$J$2:$J$893,MATCH(I161,Backbone!$A$2:$A$893,0))","v":5.6},null,{"$f":"INDEX(Backbone!$K$1:$K$893,MATCH(I161,Backbone!$A$1:$A$893,0))","v":7.3},null,{"$f":"INDEX(Backbone!$L$2:$L$893,MATCH(I161,Backbone!$A$2:$A$893,0))","v":7.3},null,{"$f":"INDEX(Backbone!$M$2:$M$893,MATCH(I161,Backbone!$A$2:$A$893,0))","v":5.2},null,{"$f":"INDEX(Backbone!$N$2:$N$893,MATCH(I161,Backbone!$A$2:$A$893,0))","v":8.6999999999999993},null,{"$f":"INDEX(Backbone!$O$2:$O$893,MATCH(I161,Backbone!$A$2:$A$893,0))","v":5.6},null,{"$f":"INDEX(Backbone!$P$2:$P$893,MATCH(I161,Backbone!$A$2:$A$893,0))","v":7},null,{"$f":"INDEX(Backbone!$Q$2:$Q$893,MATCH(I161,Backbone!$A$2:$A$893,0))","v":0.71},null,null,{"$f":"(AG161*$AG$22+AI161*$AI$22+AK161*$AK$22+AM161*$AM$22+AO161*$AO$22+AQ161*$AQ$22+AS161*$AS$22+AU161*$AU$22+AW161*$AW$22)/(SUM($AG$22:$AW$22)*10)","v":{"$error":"#DIV/0!"}},null,null,"Aller à \nBoîte à outils: ",null,{"$f":"HYPERLINK(\"#\"&ADDRESS(MATCH(I161,Toolbox!$C$1:$C$300),1,,,\"Toolbox\"),VLOOKUP(I161,Toolbox!$C$1:$C$300,1,FALSE))","v":"Outil de la FAO d’évaluation de la surveillance nationale de l'antibiorésistance et des compétences des laboratoires (ATLASS)"}]
[]
[]
[]
[]
[]
[null,null,null,null,null,null,null,null,{"$f":"Backbone!A552","v":"Règlement sanitaire international (2005): outil d’autoévaluation pour l'établissement de rapports annuels par les États Parties (SPAR)"},null,null,null,null,null,null,"Un outil d'établissement de rapports qui aide les États parties au Règlement sanitaire international (RSI) à s'acquitter de leur obligation de rendre compte chaque année à l'Assemblée mondiale de la santé (WHA) du respect des exigences en matière de capacités prévues par ledit règlement",null,null,null,null,null,null,null,null,{"$f":"INDEX(Backbone!$R$2:$R$893,MATCH(I167,Backbone!$A$2:$A$893,0))","v":"Outil d'autoévaluation"},null,null,null,{"$f":"INDEX(Backbone!$S$2:$S$893,MATCH(I167,Backbone!$A$2:$A$893,0))","v":"«Une seule santé»; Généralisée"},null,null,null,{"$f":"INDEX(Backbone!$H$2:$H$893,MATCH(I167,Backbone!$A$2:$A$893,0))","v":9.9},null,{"$f":"INDEX(Backbone!$I$2:$I$893,MATCH(I167,Backbone!$A$2:$A$893,0))","v":10},null,{"$f":"INDEX(Backbone!$J$2:$J$893,MATCH(I167,Backbone!$A$2:$A$893,0))","v":9.3000000000000007},null,{"$f":"INDEX(Backbone!$K$1:$K$893,MATCH(I167,Backbone!$A$1:$A$893,0))","v":7.3},null,{"$f":"INDEX(Backbone!$L$2:$L$893,MATCH(I167,Backbone!$A$2:$A$893,0))","v":9.4},null,{"$f":"INDEX(Backbone!$M$2:$M$893,MATCH(I167,Backbone!$A$2:$A$893,0))","v":9},null,{"$f":"INDEX(Backbone!$N$2:$N$893,MATCH(I167,Backbone!$A$2:$A$893,0))","v":8.5},null,{"$f":"INDEX(Backbone!$O$2:$O$893,MATCH(I167,Backbone!$A$2:$A$893,0))","v":6.3},null,{"$f":"INDEX(Backbone!$P$2:$P$893,MATCH(I167,Backbone!$A$2:$A$893,0))","v":6.7},null,{"$f":"INDEX(Backbone!$Q$2:$Q$893,MATCH(I167,Backbone!$A$2:$A$893,0))","v":0.84888888888888892},null,null,{"$f":"(AG167*$AG$22+AI167*$AI$22+AK167*$AK$22+AM167*$AM$22+AO167*$AO$22+AQ167*$AQ$22+AS167*$AS$22+AU167*$AU$22+AW167*$AW$22)/(SUM($AG$22:$AW$22)*10)","v":{"$error":"#DIV/0!"}},null,null,"Aller à \nBoîte à outils: ",null,{"$f":"HYPERLINK(\"#\"&ADDRESS(MATCH(I167,Toolbox!$C$1:$C$300),1,,,\"Toolbox\"),VLOOKUP(I167,Toolbox!$C$1:$C$300,1,FALSE))","v":"Règlement sanitaire international (2005): outil d’autoévaluation pour l'établissement de rapports annuels par les États Parties (SPAR)"}]

{"sheet":"A3_tools","index":32,"n_rows":72,"n_cols":59,"rows_kept":72,"cut":false,"hidden":false,"merged":[[13,53,20,54],[17,3,20,6],[17,8,20,13],[17,15,20,22],[17,24,20,26],[17,28,20,30],[22,8,26,13],[6,32,20,32],[6,34,20,34],[6,36,20,36],[6,38,20,38],[6,40,20,40],[6,42,20,42],[6,44,20,44],[6,46,20,46],[6,48,20,48],[22,50,26,51],[22,53,26,54],[22,42,26,42],[22,44,26,44],[22,46,26,46],[22,48,26,48],[22,38,26,38],[22,40,26,40],[22,15,26,22],[22,24,26,26],[22,28,26,30],[22,32,26,32],[22,34,26,34],[22,36,26,36],[13,50,20,51],[35,50,39,51],[28,48,32,48],[28,50,32,51],[35,44,39,44],[35,46,39,46],[35,48,39,48],[28,15,32,22],[28,24,32,26],[28,28,32,30],[28,32,32,32],[28,34,32,34],[35,38,39,38],[35,40,39,40],[35,42,39,42],[35,8,39,13],[35,15,39,22],[35,24,39,26],[35,28,39,30],[35,32,39,32],[35,34,39,34],[35,36,39,36],[41,24,45,26],[41,28,45,30],[41,32,45,32],[41,34,45,34],[41,36,45,36],[41,8,45,13],[41,15,45,22],[53,53,57,54],[53,40,57,40],[53,42,57,42],[53,44,57,44],[53,46,57,46],[53,48,57,48],[41,53,45,54],[47,53,51,54],[35,53,39,54],[59,38,63,38],[41,40,45,40],[41,42,45,42],[41,44,45,44],[41,46,45,46],[41,48,45,48],[41,50,45,51],[53,38,57,38],[53,50,57,51],[47,42,51,42],[47,44,51,44],[47,46,51,46],[47,48,51,48],[47,50,51,51],[41,38,45,38],[59,8,63,13],[59,15,63,22],[59,24,63,26],[59,28,63,30],[59,32,63,32],[59,34,63,34],[59,36,63,36],[71,53,75,54],[65,53,69,54],[59,53,63,54],[59,46,63,46],[59,48,63,48],[59,50,63,51],[71,34,75,34],[71,36,75,36],[71,38,75,38],[65,36,69,36],[65,38,69,38],[65,40,69,40],[59,40,63,40],[59,42,63,42],[59,44,63,44],[65,42,69,42],[71,24,75,26],[47,8,51,13],[47,15,51,22],[47,24,51,26],[47,28,51,30],[47,32,51,32],[47,34,51,34],[47,36,51,36],[47,38,51,38],[47,40,51,40],[71,28,75,30],[71,32,75,32],[65,8,69,13],[65,15,69,22],[65,24,69,26],[65,28,69,30],[65,32,69,32],[65,34,69,34],[22,56,26,57],[28,53,32,54],[53,8,57,13],[53,15,57,22],[53,24,57,26],[53,28,57,30],[53,32,57,32],[53,34,57,34],[53,36,57,36],[28,36,32,36],[28,38,32,38],[28,40,32,40],[28,42,32,42],[28,44,32,44],[28,46,32,46],[28,8,32,13],[22,58,26,62],[1,1,3,62],[28,56,32,57],[28,58,32,62],[35,56,39,57],[35,58,39,62],[41,56,45,57],[41,58,45,62],[35,3,75,6],[22,3,32,6],[17,1,75,1],[71,40,75,40],[71,42,75,42],[71,44,75,44],[71,46,75,46],[71,48,75,48],[71,50,75,51],[65,44,69,44],[65,46,69,46],[65,48,69,48],[65,50,69,51],[71,8,75,13],[71,15,75,22],[47,56,51,57],[47,58,51,62],[53,56,57,57],[53,58,57,62],[59,56,63,57],[59,58,63,62],[65,56,69,57],[65,58,69,62],[71,56,75,57],[71,58,75,62]]}
[]
[null,"Ressources pour l'évaluation des cadres juridiques"]
[]
[]
[]
[]
[null,null,null,null,null,null,null,null,null,null,null,null,null,null,null,null,null,null,null,null,null,null,null,null,null,null,null,null,null,null,null,null,"Accessibilité",null,"Langue",null,"Facilité d'utilisation",null,"Flexibilité",null,"Besoins de données",null,"Analyse des données",null,"Acceptabilité",null,"«Une seule santé»",null,"Impact"]
[]
[]
[]
[]
[]
[]
[null,null,null,null,null,null,null,null,null,null,null,null,null,null,null,null,null,null,null,null,null,null,null,null,null,null,null,null,null,null,null,null,null,null,null,null,null,null,null,null,null,null,null,null,null,null,null,null,null,null,"SCORE BRUT",null,null,"SCORE AJUSTÉ \n(Selon les préférences de l'utilisateur)"]
[]
[]
[]
[null,"RESSOURCES DE NIVEAU 1",null,"DÉSIGNATION",null,null,null,null,"NOM DE LA RESSOURCE",null,null,null,null,null,null,"BRÈVE DESCRIPTION",null,null,null,null,null,null,null,null,"TYPE DE RESSOURCE",null,null,null,"CARACTÈRE GÉNÉRAL DE LA RESSOURCE"]
[]
[]
[]
[null,null,null,null,null,null,null,null,null,null,null,null,null,null,null,null,null,null,null,null,null,null,null,null,null,null,null,null,null,null,null,null,{"$f":"'Attribute Survey'!S22","v":0},null,{"$f":"'Attribute Survey'!S26","v":0},null,{"$f":"'Attribute Survey'!S30","v":0},null,{"$f":"'Attribute Survey'!S34","v":0},null,{"$f":"'Attribute Survey'!S38","v":0},null,{"$f":"'Attribute Survey'!S42","v":0},null,{"$f":"'Attribute Survey'!S46","v":0},null,{"$f":"'Attribute Survey'!S50","v":0},null,{"$f":"'Attribute Survey'!S54","v":0}]
[null,null,null,"Ressources les mieux adaptées",null,null,null,null,{"$f":"Backbone!A100","v":"Évaluation des collaborations au sein d'un système de surveillance multisectoriel (EcoSur)"},null,null,null,null,null,null,"\nUn outil dont l'objectif est d'évaluer l'organisation et le fonctionnement de la collaboration au sein d'un système de surveillance multisectoriel, ainsi que d'analyser les points forts et les points faibles de cette collaboration.\n",null,null,null,null,null,null,null,null,{"$f":"INDEX(Backbone!$R2:$R893,MATCH(I23,Backbone!$A2:$A893,0))","v":"Outil ou processus dirigé/facilité"},null,null,null,{"$f":"INDEX(Backbone!$S2:$S893,MATCH(I23,Backbone!$A2:$A893,0))","v":"«Une seule santé»; Généralisée"},null,null,null,{"$f":"INDEX(Backbone!$H2:$H893,MATCH(I23,Backbone!$A2:$A893,0))","v":8.3000000000000007},null,{"$f":"INDEX(Backbone!$I2:$I893,MATCH(I23,Backbone!$A2:$A893,0))","v":6},null,{"$f":"INDEX(Backbone!$J2:$J893,MATCH(I23,Backbone!$A2:$A893,0))","v":8.5},null,{"$f":"INDEX(Backbone!$K2:$K893,MATCH(I23,Backbone!$A2:$A893,0))","v":7.8},null,{"$f":"INDEX(Backbone!$L2:$L893,MATCH(I23,Backbone!$A2:$A893,0))","v":8.3000000000000007},null,{"$f":"INDEX(Backbone!$M2:$M893,MATCH(I23,Backbone!$A2:$A893,0))","v":6.7},null,{"$f":"INDEX(Backbone!$N2:$N893,MATCH(I23,Backbone!$A2:$A893,0))","v":3.3},null,{"$f":"INDEX(Backbone!$O2:$O893,MATCH(I23,Backbone!$A2:$A893,0))","v":9.1},null,{"$f":"INDEX(Backbone!$P2:$P893,MATCH(I23,Backbone!$A2:$A893,0))","v":4.7},null,{"$f":"INDEX(Backbone!$Q2:$Q893,MATCH(I23,Backbone!$A2:$A893,0))","v":0.69666666666666677},null,null,{"$f":"(AG23*$AG$22+AI23*$AI$22+AK23*$AK$22+AM23*$AM$22+AO23*$AO$22+AQ23*$AQ$22+AS23*$AS$22+AU23*$AU$22+AW23*$AW$22)/(SUM($AG$22:$AW$22)*10)","v":{"$error":"#DIV/0!"}},null,null,"Aller à \nBoîte à outils: ",null,{"$f":"HYPERLINK(\"#\"&ADDRESS(MATCH(I23,Toolbox!$C$1:$C$300),1,,,\"Toolbox\"),VLOOKUP(I23,Toolbox!$C$1:$C$300,1,FALSE))","v":"Évaluation des collaborations au sein d'un système de surveillance multisectoriel (EcoSur)"}]
[]
[]
[]
[]
[]
[null,null,null,null,null,null,null,null,{"$f":"Backbone!A437","v":"Analyse de la politique sur le terrain (PFA)"},null,null,null,null,null,null,"Une cartographie spécialisée des parties prenantes qui permet de visualiser le système des organisations qui interagissent sur une question politique donnée.\n\n",null,null,null,null,null,null,null,null,{"$f":"INDEX(Backbone!$R7:$R898,MATCH(I29,Backbone!$A7:$A898,0))","v":"Document d'orientation"},null,null,null,{"$f":"INDEX(Backbone!$S7:$S898,MATCH(I29,Backbone!$A7:$A898,0))","v":"«Une seule santé»; Généralisée"},null,null,null,{"$f":"INDEX(Backbone!$H7:$H898,MATCH(I29,Backbone!$A7:$A898,0))","v":7.8},null,{"$f":"INDEX(Backbone!$I7:$I898,MATCH(I29,Backbone!$A7:$A898,0))","v":8},null,{"$f":"INDEX(Backbone!$J7:$J898,MATCH(I29,Backbone!$A7:$A898,0))","v":9.8000000000000007},null,{"$f":"INDEX(Backbone!$K7:$K898,MATCH(I29,Backbone!$A7:$A898,0))","v":10},null,{"$f":"INDEX(Backbone!$L7:$L898,MATCH(I29,Backbone!$A7:$A898,0))","v":7.1},null,{"$f":"INDEX(Backbone!$M7:$M898,MATCH(I29,Backbone!$A7:$A898,0))","v":4},null,{"$f":"INDEX(Backbone!$N7:$N898,MATCH(I29,Backbone!$A7:$A898,0))","v":7},null,{"$f":"INDEX(Backbone!$O7:$O898,MATCH(I29,Backbone!$A7:$A898,0))","v":8.8000000000000007},null,{"$f":"INDEX(Backbone!$P7:$P898,MATCH(I29,Backbone!$A7:$A898,0))","v":5},null,{"$f":"INDEX(Backbone!$Q7:$Q898,MATCH(I29,Backbone!$A7:$A898,0))","v":0.75},null,null,{"$f":"(AG29*$AG$22+AI29*$AI$22+AK29*$AK$22+AM29*$AM$22+AO29*$AO$22+AQ29*$AQ$22+AS29*$AS$22+AU29*$AU$22+AW29*$AW$22)/(SUM($AG$22:$AW$22)*10)","v":{"$error":"#DIV/0!"}},null,null,"Aller à \nBoîte à outils: ",null,{"$f":"HYPERLINK(\"#\"&ADDRESS(MATCH(I29,Toolbox!$C$1:$C$300),1,,,\"Toolbox\"),VLOOKUP(I29,Toolbox!$C$1:$C$300,1,FALSE))","v":"Analyse de la politique sur le terrain (PFA)"}]
[]
[]
[]
[]
[]
[]
[null,null,null,"Autres ressources intéressantes",null,null,null,null,{"$f":"Backbone!A575","v":"Résistance aux antimicrobiens: un manuel pour la mise en œuvre de plans d'action nationaux"},null,null,null,null,null,null,"Le manuel pour la mise en œuvre de plans d'action nationaux destinés à lutter contre la résistance aux antimicrobiens.",null,null,null,null,null,null,null,null,{"$f":"INDEX(Backbone!$R$2:$R$893,MATCH(I36,Backbone!$A$2:$A$893,0))","v":"Document d'orientation"},null,null,null,{"$f":"INDEX(Backbone!$S$2:$S$893,MATCH(I36,Backbone!$A$2:$A$893,0))","v":"«Une seule santé»; spécifique d'une maladie/menace "},null,null,null,{"$f":"INDEX(Backbone!$H$2:$H$893,MATCH(I36,Backbone!$A$2:$A$893,0))","v":10},null,{"$f":"INDEX(Backbone!$I$2:$I$893,MATCH(I36,Backbone!$A$2:$A$893,0))","v":6},null,{"$f":"INDEX(Backbone!$J$2:$J$893,MATCH(I36,Backbone!$A$2:$A$893,0))","v":6.6},null,{"$f":"INDEX(Backbone!$K$1:$K$893,MATCH(I36,Backbone!$A$1:$A$893,0))","v":8.6999999999999993},null,{"$f":"INDEX(Backbone!$L$2:$L$893,MATCH(I36,Backbone!$A$2:$A$893,0))","v":8},null,{"$f":"INDEX(Backbone!$M$2:$M$893,MATCH(I36,Backbone!$A$2:$A$893,0))","v":3.8},null,{"$f":"INDEX(Backbone!$N$2:$N$893,MATCH(I36,Backbone!$A$2:$A$893,0))","v":4.5},null,{"$f":"INDEX(Backbone!$O$2:$O$893,MATCH(I36,Backbone!$A$2:$A$893,0))","v":9},null,{"$f":"INDEX(Backbone!$P$2:$P$893,MATCH(I36,Backbone!$A$2:$A$893,0))","v":10},null,{"$f":"INDEX(Backbone!$Q$2:$Q$893,MATCH(I36,Backbone!$A$2:$A$893,0))","v":0.74},null,null,{"$f":"(AG36*$AG$22+AI36*$AI$22+AK36*$AK$22+AM36*$AM$22+AO36*$AO$22+AQ36*$AQ$22+AS36*$AS$22+AU36*$AU$22+AW36*$AW$22)/(SUM($AG$22:$AW$22)*10)","v":{"$error":"#DIV/0!"}},null,null,"Aller à \nBoîte à outils: ",null,{"$f":"HYPERLINK(\"#\"&ADDRESS(MATCH(I36,Toolbox!$C$1:$C$300),1,,,\"Toolbox\"),VLOOKUP(I36,Toolbox!$C$1:$C$300,1,FALSE))","v":"Résistance aux antimicrobiens: un manuel pour la mise en œuvre de plans d'action nationaux"}]
[]
[]
[]
[]
[]
[null,null,null,null,null,null,null,null,{"$f":"Backbone!A634","v":"Boîte à outils pour l'élaboration d'un manuel de gouvernance"},null,null,null,null,null,null,"Une boîte à outils qui présente la manière dont il faut élaborer un manuel de gouvernance pour une plateforme «Une seule santé».",null,null,null,null,null,null,null,null,{"$f":"INDEX(Backbone!$R$2:$R$893,MATCH(I42,Backbone!$A$2:$A$893,0))","v":"Document d'orientation"},null,null,null,{"$f":"INDEX(Backbone!$S$2:$S$893,MATCH(I42,Backbone!$A$2:$A$893,0))","v":"«Une seule santé»; Généralisée"},null,null,null,{"$f":"INDEX(Backbone!$H$2:$H$893,MATCH(I42,Backbone!$A$2:$A$893,0))","v":8.4},null,{"$f":"INDEX(Backbone!$I$2:$I$893,MATCH(I42,Backbone!$A$2:$A$893,0))","v":8},null,{"$f":"INDEX(Backbone!$J$2:$J$893,MATCH(I42,Backbone!$A$2:$A$893,0))","v":8.4},null,{"$f":"INDEX(Backbone!$K$1:$K$893,MATCH(I42,Backbone!$A$1:$A$893,0))","v":6.7},null,{"$f":"INDEX(Backbone!$L$2:$L$893,MATCH(I42,Backbone!$A$2:$A$893,0))","v":2},null,{"$f":"INDEX(Backbone!$M$2:$M$893,MATCH(I42,Backbone!$A$2:$A$893,0))","v":3.5},null,{"$f":"INDEX(Backbone!$N$2:$N$893,MATCH(I42,Backbone!$A$2:$A$893,0))","v":4},null,{"$f":"INDEX(Backbone!$O$2:$O$893,MATCH(I42,Backbone!$A$2:$A$893,0))","v":6.4},null,{"$f":"INDEX(Backbone!$P$2:$P$893,MATCH(I42,Backbone!$A$2:$A$893,0))","v":8},null,{"$f":"INDEX(Backbone!$Q$2:$Q$893,MATCH(I42,Backbone!$A$2:$A$893,0))","v":0.61555555555555552},null,null,{"$f":"(AG42*$AG$22+AI42*$AI$22+AK42*$AK$22+AM42*$AM$22+AO42*$AO$22+AQ42*$AQ$22+AS42*$AS$22+AU42*$AU$22+AW42*$AW$22)/(SUM($AG$22:$AW$22)*10)","v":{"$error":"#DIV/0!"}},null,null,"Aller à \nBoîte à outils: ",null,{"$f":"HYPERLINK(\"#\"&ADDRESS(MATCH(I42,Toolbox!$C$1:$C$300),1,,,\"Toolbox\"),VLOOKUP(I42,Toolbox!$C$1:$C$300,1,FALSE))","v":"Boîte à outils pour l'élaboration d'un manuel de gouvernance"}]
[]
[]
[]
[]
[]
[null,null,null,null,null,null,null,null,{"$f":"Backbone!A346","v":"Programme national de normes de performance en santé publique (NPHPSP): Instrument d'évaluation des performances des systèmes de santé publique locaux (version 2)"},null,null,null,null,null,null,"Un instrument d'évaluation des performances visant à renforcer et à améliorer le système de santé publique en se basant sur le cadre des dix services essentiels de celui-ci.",null,null,null,null,null,null,null,null,{"$f":"INDEX(Backbone!$R$2:$R$893,MATCH(I48,Backbone!$A$2:$A$893,0))","v":"Document d'orientation"},null,null,null,{"$f":"INDEX(Backbone!$S$2:$S$893,MATCH(I48,Backbone!$A$2:$A$893,0))","v":"Spécifique du secteur; Généralisée"},null,null,null,{"$f":"INDEX(Backbone!$H$2:$H$893,MATCH(I48,Backbone!$A$2:$A$893,0))","v":8.4},null,{"$f":"INDEX(Backbone!$I$2:$I$893,MATCH(I48,Backbone!$A$2:$A$893,0))","v":10},null,{"$f":"INDEX(Backbone!$J$2:$J$893,MATCH(I48,Backbone!$A$2:$A$893,0))","v":9.6},null,{"$f":"INDEX(Backbone!$K$1:$K$893,MATCH(I48,Backbone!$A$1:$A$893,0))","v":8.6999999999999993},null,{"$f":"INDEX(Backbone!$L$2:$L$893,MATCH(I48,Backbone!$A$2:$A$893,0))","v":10},null,{"$f":"INDEX(Backbone!$M$2:$M$893,MATCH(I48,Backbone!$A$2:$A$893,0))","v":6},null,{"$f":"INDEX(Backbone!$N$2:$N$893,MATCH(I48,Backbone!$A$2:$A$893,0))","v":5},null,{"$f":"INDEX(Backbone!$O$2:$O$893,MATCH(I48,Backbone!$A$2:$A$893,0))","v":4},null,{"$f":"INDEX(Backbone!$P$2:$P$893,MATCH(I48,Backbone!$A$2:$A$893,0))","v":6},null,{"$f":"INDEX(Backbone!$Q$2:$Q$893,MATCH(I48,Backbone!$A$2:$A$893,0))","v":0.75222222222222224},null,null,{"$f":"(AG48*$AG$22+AI48*$AI$22+AK48*$AK$22+AM48*$AM$22+AO48*$AO$22+AQ48*$AQ$22+AS48*$AS$22+AU48*$AU$22+AW48*$AW$22)/(SUM($AG$22:$AW$22)*10)","v":{"$error":"#DIV/0!"}},null,null,"Aller à \nBoîte à outils: ",null,{"$f":"HYPERLINK(\"#\"&ADDRESS(MATCH(I48,Toolbox!$C$1:$C$300),1,,,\"Toolbox\"),VLOOKUP(I48,Toolbox!$C$1:$C$300,1,FALSE))","v":"Programme national de normes de performance en santé publique (NPHPSP): Instrument d'évaluation des performances des systèmes de santé publique locaux (version 2)"}]
[]
[]
[]
[]
[]
[null,null,null,null,null,null,null,null,{"$f":"Backbone!A291","v":"Méthodologie d'analyse de la législation relative à la RAM dans le secteur de l'alimentation et de l'agriculture"},null,null,null,null,null,null,"Une méthodologie conçue pour orienter les analyses de la législation nationale en matière de RAM dans les secteurs de l'alimentation et de l'agriculture.",null,null,null,null,null,null,null,null,{"$f":"INDEX(Backbone!$R$2:$R$893,MATCH(I54,Backbone!$A$2:$A$893,0))","v":"Document d'orientation"},null,null,null,{"$f":"INDEX(Backbone!$S$2:$S$893,MATCH(I54,Backbone!$A$2:$A$893,0))","v":"«Une seule santé»; Généralisée"},null,null,null,{"$f":"INDEX(Backbone!$H$2:$H$893,MATCH(I54,Backbone!$A$2:$A$893,0))","v":7.4},null,{"$f":"INDEX(Backbone!$I$2:$I$893,MATCH(I54,Backbone!$A$2:$A$893,0))","v":5.5},null,{"$f":"INDEX(Backbone!$J$2:$J$893,MATCH(I54,Backbone!$A$2:$A$893,0))","v":7.6},null,{"$f":"INDEX(Backbone!$K$1:$K$893,MATCH(I54,Backbone!$A$1:$A$893,0))","v":4},null,{"$f":"INDEX(Backbone!$L$2:$L$893,MATCH(I54,Backbone!$A$2:$A$893,0))","v":8.1999999999999993},null,{"$f":"INDEX(Backbone!$M$2:$M$893,MATCH(I54,Backbone!$A$2:$A$893,0))","v":4.5},null,{"$f":"INDEX(Backbone!$N$2:$N$893,MATCH(I54,Backbone!$A$2:$A$893,0))","v":4.5},null,{"$f":"INDEX(Backbone!$O$2:$O$893,MATCH(I54,Backbone!$A$2:$A$893,0))","v":6.6},null,{"$f":"INDEX(Backbone!$P$2:$P$893,MATCH(I54,Backbone!$A$2:$A$893,0))","v":4.5},null,{"$f":"INDEX(Backbone!$Q$2:$Q$893,MATCH(I54,Backbone!$A$2:$A$893,0))","v":0.58666666666666667},null,null,{"$f":"(AG54*$AG$22+AI54*$AI$22+AK54*$AK$22+AM54*$AM$22+AO54*$AO$22+AQ54*$AQ$22+AS54*$AS$22+AU54*$AU$22+AW54*$AW$22)/(SUM($AG$22:$AW$22)*10)","v":{"$error":"#DIV/0!"}},null,null,"Aller à \nBoîte à outils: ",null,{"$f":"HYPERLINK(\"#\"&ADDRESS(MATCH(I54,Toolbox!$C$1:$C$300),1,,,\"Toolbox\"),VLOOKUP(I54,Toolbox!$C$1:$C$300,1,FALSE))","v":"Méthodologie d'analyse de la législation relative à la RAM dans le secteur de l'alimentation et de l'agriculture"}]
[]
[]
[]
[]
[]
[null,null,null,null,null,null,null,null,{"$f":"Backbone!A400","v":"Outil d'évaluation de l'état de préparation et des besoins pour une surveillance «Une seule santé» (OHSRRT)"},null,null,null,null,null,null,"Un outil d'évaluation de la préparation et des besoins utilisé pour déterminer l'état de préparation du pays et dresser la liste des besoins nécessaires au développement d'un système de surveillance «Une seule santé» basé sur des facteurs de réussite critiques. ",null,null,null,null,null,null,null,null,{"$f":"INDEX(Backbone!$R$2:$R$893,MATCH(I60,Backbone!$A$2:$A$893,0))","v":"Outil d'autoévaluation"},null,null,null,{"$f":"INDEX(Backbone!$S$2:$S$893,MATCH(I60,Backbone!$A$2:$A$893,0))","v":"«Une seule santé»; Généralisée"},null,null,null,{"$f":"INDEX(Backbone!$H$2:$H$893,MATCH(I60,Backbone!$A$2:$A$893,0))","v":8},null,{"$f":"INDEX(Backbone!$I$2:$I$893,MATCH(I60,Backbone!$A$2:$A$893,0))","v":6},null,{"$f":"INDEX(Backbone!$J$2:$J$893,MATCH(I60,Backbone!$A$2:$A$893,0))","v":7.4},null,{"$f":"INDEX(Backbone!$K$1:$K$893,MATCH(I60,Backbone!$A$1:$A$893,0))","v":8.6999999999999993},null,{"$f":"INDEX(Backbone!$L$2:$L$893,MATCH(I60,Backbone!$A$2:$A$893,0))","v":6},null,{"$f":"INDEX(Backbone!$M$2:$M$893,MATCH(I60,Backbone!$A$2:$A$893,0))","v":2.5},null,{"$f":"INDEX(Backbone!$N$2:$N$893,MATCH(I60,Backbone!$A$2:$A$893,0))","v":2},null,{"$f":"INDEX(Backbone!$O$2:$O$893,MATCH(I60,Backbone!$A$2:$A$893,0))","v":9.6},null,{"$f":"INDEX(Backbone!$P$2:$P$893,MATCH(I60,Backbone!$A$2:$A$893,0))","v":5.5},null,{"$f":"INDEX(Backbone!$Q$2:$Q$893,MATCH(I60,Backbone!$A$2:$A$893,0))","v":0.61888888888888882},null,null,{"$f":"(AG60*$AG$22+AI60*$AI$22+AK60*$AK$22+AM60*$AM$22+AO60*$AO$22+AQ60*$AQ$22+AS60*$AS$22+AU60*$AU$22+AW60*$AW$22)/(SUM($AG$22:$AW$22)*10)","v":{"$error":"#DIV/0!"}},null,null,"Aller à \nBoîte à outils: ",null,{"$f":"HYPERLINK(\"#\"&ADDRESS(MATCH(I60,Toolbox!$C$1:$C$300),1,,,\"Toolbox\"),VLOOKUP(I60,Toolbox!$C$1:$C$300,1,FALSE))","v":"Outil d'évaluation de l'état de préparation et des besoins pour une surveillance «Une seule santé» (OHSRRT)"}]
[]
[]
[]
[]
[]
[null,null,null,null,null,null,null,null,{"$f":"Backbone!A557","v":"Outil par étapes pour l'éradication de la brucellose (STEB)"},null,null,null,null,null,null,"Un outil d'auto-évaluation basé sur un tableur, développé pour aider les pays à évaluer leur capacité actuelle à prévenir, contrôler et éliminer la brucellose.",null,null,null,null,null,null,null,null,{"$f":"INDEX(Backbone!$R$2:$R$893,MATCH(I66,Backbone!$A$2:$A$893,0))","v":"Outil ou processus dirigé/facilité"},null,null,null,{"$f":"INDEX(Backbone!$S$2:$S$893,MATCH(I66,Backbone!$A$2:$A$893,0))","v":"«Une seule santé»; spécifique d'une maladie/menace "},null,null,null,{"$f":"INDEX(Backbone!$H$2:$H$893,MATCH(I66,Backbone!$A$2:$A$893,0))","v":9},null,{"$f":"INDEX(Backbone!$I$2:$I$893,MATCH(I66,Backbone!$A$2:$A$893,0))","v":10},null,{"$f":"INDEX(Backbone!$J$2:$J$893,MATCH(I66,Backbone!$A$2:$A$893,0))","v":7.6},null,{"$f":"INDEX(Backbone!$K$1:$K$893,MATCH(I66,Backbone!$A$1:$A$893,0))","v":3.7},null,{"$f":"INDEX(Backbone!$L$2:$L$893,MATCH(I66,Backbone!$A$2:$A$893,0))","v":5.7},null,{"$f":"INDEX(Backbone!$M$2:$M$893,MATCH(I66,Backbone!$A$2:$A$893,0))","v":7.3},null,{"$f":"INDEX(Backbone!$N$2:$N$893,MATCH(I66,Backbone!$A$2:$A$893,0))","v":7},null,{"$f":"INDEX(Backbone!$O$2:$O$893,MATCH(I66,Backbone!$A$2:$A$893,0))","v":8.6},null,{"$f":"INDEX(Backbone!$P$2:$P$893,MATCH(I66,Backbone!$A$2:$A$893,0))","v":8},null,{"$f":"INDEX(Backbone!$Q$2:$Q$893,MATCH(I66,Backbone!$A$2:$A$893,0))","v":0.7433333333333334},null,null,{"$f":"(AG66*$AG$22+AI66*$AI$22+AK66*$AK$22+AM66*$AM$22+AO66*$AO$22+AQ66*$AQ$22+AS66*$AS$22+AU66*$AU$22+AW66*$AW$22)/(SUM($AG$22:$AW$22)*10)","v":{"$error":"#DIV/0!"}},null,null,"Aller à \nBoîte à outils: ",null,{"$f":"HYPERLINK(\"#\"&ADDRESS(MATCH(I66,Toolbox!$C$1:$C$300),1,,,\"Toolbox\"),VLOOKUP(I66,Toolbox!$C$1:$C$300,1,FALSE))","v":"Outil par étapes pour l'éradication de la brucellose (STEB)"}]
[]
[]
[]
[]
[]
[null,null,null,null,null,null,null,null,{"$f":"Backbone!A453","v":"Approche par étapes pour l'élimination de la rage (SARE)"},null,null,null,null,null,null,"Un outil pratique de planification, de suivi et d'évaluation qui permet d'orienter, de déployer et d'affiner des programmes de lutte contre la rage.",null,null,null,null,null,null,null,null,{"$f":"INDEX(Backbone!$R$2:$R$893,MATCH(I72,Backbone!$A$2:$A$893,0))","v":"Outil d'autoévaluation"},null,null,null,{"$f":"INDEX(Backbone!$S$2:$S$893,MATCH(I72,Backbone!$A$2:$A$893,0))","v":"«Une seule santé»; spécifique d'une maladie/menace "},null,null,null,{"$f":"INDEX(Backbone!$H$2:$H$893,MATCH(I72,Backbone!$A$2:$A$893,0))","v":8},null,{"$f":"INDEX(Backbone!$I$2:$I$893,MATCH(I72,Backbone!$A$2:$A$893,0))","v":9},null,{"$f":"INDEX(Backbone!$J$2:$J$893,MATCH(I72,Backbone!$A$2:$A$893,0))","v":6.6},null,{"$f":"INDEX(Backbone!$K$1:$K$893,MATCH(I72,Backbone!$A$1:$A$893,0))","v":3.3},null,{"$f":"INDEX(Backbone!$L$2:$L$893,MATCH(I72,Backbone!$A$2:$A$893,0))","v":5.7},null,{"$f":"INDEX(Backbone!$M$2:$M$893,MATCH(I72,Backbone!$A$2:$A$893,0))","v":6.8},null,{"$f":"INDEX(Backbone!$N$2:$N$893,MATCH(I72,Backbone!$A$2:$A$893,0))","v":8},null,{"$f":"INDEX(Backbone!$O$2:$O$893,MATCH(I72,Backbone!$A$2:$A$893,0))","v":8.6},null,{"$f":"INDEX(Backbone!$P$2:$P$893,MATCH(I72,Backbone!$A$2:$A$893,0))","v":9.5},null,{"$f":"INDEX(Backbone!$Q$2:$Q$893,MATCH(I72,Backbone!$A$2:$A$893,0))","v":0.72777777777777775},null,null,{"$f":"(AG72*$AG$22+AI72*$AI$22+AK72*$AK$22+AM72*$AM$22+AO72*$AO$22+AQ72*$AQ$22+AS72*$AS$22+AU72*$AU$22+AW72*$AW$22)/(SUM($AG$22:$AW$22)*10)","v":{"$error":"#DIV/0!"}},null,null,"Aller à \nBoîte à outils: ",null,{"$f":"HYPERLINK(\"#\"&ADDRESS(MATCH(I72,Toolbox!$C$1:$C$300),1,,,\"Toolbox\"),VLOOKUP(I72,Toolbox!$C$1:$C$300,1,FALSE))","v":"Approche par étapes pour l'élimination de la rage (SARE)"}]

{"sheet":"A7_tools","index":33,"n_rows":131,"n_cols":59,"rows_kept":131,"cut":false,"hidden":false,"merged":[[13,50,20,51],[13,53,20,54],[17,3,20,6],[17,8,20,13],[17,15,20,22],[17,24,20,26],[17,28,20,30],[6,32,20,32],[6,34,20,34],[6,36,20,36],[6,38,20,38],[6,40,20,40],[6,42,20,42],[6,44,20,44],[6,46,20,46],[6,48,20,48],[22,3,32,6],[22,8,26,13],[22,50,26,51],[22,53,26,54],[28,8,32,13],[28,15,32,22],[28,24,32,26],[28,28,32,30],[28,32,32,32],[28,34,32,34],[28,36,32,36],[28,38,32,38],[22,38,26,38],[22,40,26,40],[22,42,26,42],[22,44,26,44],[22,46,26,46],[22,48,26,48],[22,15,26,22],[22,24,26,26],[22,28,26,30],[22,32,26,32],[22,34,26,34],[22,36,26,36],[28,53,32,54],[35,8,39,13],[35,15,39,22],[35,24,39,26],[35,28,39,30],[35,32,39,32],[35,34,39,34],[35,36,39,36],[35,38,39,38],[28,40,32,40],[28,42,32,42],[28,44,32,44],[28,46,32,46],[28,48,32,48],[28,50,32,51],[35,53,39,54],[35,40,39,40],[35,42,39,42],[35,44,39,44],[35,46,39,46],[35,48,39,48],[35,50,39,51],[41,8,45,13],[41,15,45,22],[41,24,45,26],[41,28,45,30],[41,32,45,32],[41,34,45,34],[41,36,45,36],[41,38,45,38],[41,40,45,40],[47,34,51,34],[53,50,57,51],[53,53,57,54],[41,42,45,42],[41,44,45,44],[41,46,45,46],[41,48,45,48],[41,50,45,51],[41,53,45,54],[53,40,57,40],[53,42,57,42],[53,44,57,44],[53,46,57,46],[53,48,57,48],[59,36,63,36],[59,38,63,38],[53,38,57,38],[47,48,51,48],[47,50,51,51],[47,53,51,54],[53,8,57,13],[53,15,57,22],[53,24,57,26],[53,28,57,30],[53,32,57,32],[53,34,57,34],[53,36,57,36],[47,36,51,36],[47,38,51,38],[47,40,51,40],[47,42,51,42],[47,44,51,44],[47,46,51,46],[47,8,51,13],[47,15,51,22],[47,24,51,26],[47,28,51,30],[47,32,51,32],[65,42,69,42],[65,44,69,44],[65,46,69,46],[65,48,69,48],[65,50,69,51],[65,53,69,54],[59,53,63,54],[65,8,69,13],[65,15,69,22],[65,24,69,26],[65,28,69,30],[65,32,69,32],[65,34,69,34],[65,36,69,36],[65,38,69,38],[65,40,69,40],[59,40,63,40],[59,42,63,42],[59,44,63,44],[59,46,63,46],[59,48,63,48],[59,50,63,51],[59,8,63,13],[59,15,63,22],[59,24,63,26],[59,28,63,30],[59,32,63,32],[59,34,63,34],[130,3,134,6],[130,8,134,13],[130,15,134,22],[130,24,134,26],[130,28,134,30],[77,8,81,13],[77,15,81,22],[77,24,81,26],[77,28,81,30],[71,8,75,13],[71,15,75,22],[71,24,75,26],[71,28,75,30],[71,32,75,32],[71,34,75,34],[89,8,93,13],[89,15,93,22],[89,24,93,26],[89,28,93,30],[83,8,87,13],[125,3,128,6],[125,8,128,13],[125,15,128,22],[125,24,128,26],[114,32,128,32],[114,34,128,34],[114,36,128,36],[114,38,128,38],[114,40,128,40],[125,28,128,30],[130,50,134,51],[130,53,134,54],[130,32,134,32],[130,34,134,34],[130,36,134,36],[130,38,134,38],[130,40,134,40],[130,42,134,42],[89,48,93,48],[121,50,128,51],[121,53,128,54],[95,40,99,40],[95,42,99,42],[95,44,99,44],[95,46,99,46],[89,46,93,46],[89,32,93,32],[114,44,128,44],[114,46,128,46],[114,48,128,48],[130,44,134,44],[130,46,134,46],[130,48,134,48],[114,42,128,42],[83,48,87,48],[83,50,87,51],[83,53,87,54],[77,46,81,46],[77,48,81,48],[77,50,81,51],[77,53,81,54],[77,40,81,40],[77,42,81,42],[71,46,75,46],[71,48,75,48],[71,50,75,51],[71,53,75,54],[71,36,75,36],[71,38,75,38],[71,40,75,40],[71,42,75,42],[71,44,75,44],[77,32,81,32],[77,34,81,34],[77,36,81,36],[77,38,81,38],[83,36,87,36],[83,38,87,38],[83,40,87,40],[83,42,87,42],[77,44,81,44],[89,40,93,40],[89,42,93,42],[89,44,93,44],[83,44,87,44],[83,46,87,46],[83,15,87,22],[83,24,87,26],[83,28,87,30],[83,32,87,32],[83,34,87,34],[35,58,39,62],[41,56,45,57],[41,58,45,62],[47,56,51,57],[47,58,51,62],[35,3,99,6],[117,1,144,1],[17,1,99,1],[95,48,99,48],[95,50,99,51],[95,53,99,54],[89,50,93,51],[89,53,93,54],[95,8,99,13],[95,15,99,22],[95,24,99,26],[95,28,99,30],[95,32,99,32],[95,34,99,34],[95,36,99,36],[95,38,99,38],[89,34,93,34],[89,36,93,36],[89,38,93,38],[1,1,3,62],[83,56,87,57],[83,58,87,62],[89,56,93,57],[89,58,93,62],[95,56,99,57],[95,58,99,62],[130,56,134,57],[130,58,134,62],[53,56,57,57],[53,58,57,62],[59,56,63,57],[59,58,63,62],[65,56,69,57],[65,58,69,62],[71,56,75,57],[71,58,75,62],[77,56,81,57],[77,58,81,62],[22,56,26,57],[22,58,26,62],[28,56,32,57],[28,58,32,62],[35,56,39,57]]}
[]
[null,"Ressources pour la cartographie des infrastructures"]
[]
[]
[]
[]
[null,null,null,null,null,null,null,null,null,null,null,null,null,null,null,null,null,null,null,null,null,null,null,null,null,null,null,null,null,null,null,null,"Accessibilité",null,"Langue",null,"Facilité d'utilisation",null,"Flexibilité",null,"Besoins de données",null,"Analyse des données",null,"Acceptabilité",null,"«Une seule santé»",null,"Impact"]
[]
[]
[]
[]
[]
[]
[null,null,null,null,null,null,null,null,null,null,null,null,null,null,null,null,null,null,null,null,null,null,null,null,null,null,null,null,null,null,null,null,null,null,null,null,null,null,null,null,null,null,null,null,null,null,null,null,null,null,"SCORE BRUT",null,null,"SCORE AJUSTÉ \n(Selon les préférences de l'utilisateur)"]
[]
[]
[]
[null,"RESSOURCES DE NIVEAU 1",null,"DÉSIGNATION",null,null,null,null,"NOM DE LA RESSOURCE",null,null,null,null,null,null,"BRÈVE DESCRIPTION",null,null,null,null,null,null,null,null,"TYPE DE RESSOURCE",null,null,null,"CARACTÈRE GÉNÉRAL DE LA RESSOURCE"]
[]
[]
[]
[null,null,null,null,null,null,null,null,null,null,null,null,null,null,null,null,null,null,null,null,null,null,null,null,null,null,null,null,null,null,null,null,{"$f":"'Attribute Survey'!S22","v":0},null,{"$f":"'Attribute Survey'!S26","v":0},null,{"$f":"'Attribute Survey'!S30","v":0},null,{"$f":"'Attribute Survey'!S34","v":0},null,{"$f":"'Attribute Survey'!S38","v":0},null,{"$f":"'Attribute Survey'!S42","v":0},null,{"$f":"'Attribute Survey'!S46","v":0},null,{"$f":"'Attribute Survey'!S50","v":0},null,{"$f":"'Attribute Survey'!S54","v":0}]
[null,null,null,"Ressources les mieux adaptées",null,null,null,null,{"$f":"Backbone!A367","v":"Évaluation des systèmes «Une seule santé» pour les zoonoses prioritaires (OH-SAPZ)"},null,null,null,null,null,null,"L'outil vise à faciliter une évaluation systématique des structures nationales de coordination de l'initiative «Une seule santé» en matière de prévention, de détection et de réponse aux zoonoses.",null,null,null,null,null,null,null,null,{"$f":"INDEX(Backbone!$R2:$R893,MATCH(I23,Backbone!$A2:$A893,0))","v":"Outil d'autoévaluation"},null,null,null,{"$f":"INDEX(Backbone!$S2:$S893,MATCH(I23,Backbone!$A2:$A893,0))","v":"«Une seule santé»; Généralisée"},null,null,null,{"$f":"INDEX(Backbone!$H2:$H893,MATCH(I23,Backbone!$A2:$A893,0))","v":7.9},null,{"$f":"INDEX(Backbone!$I2:$I893,MATCH(I23,Backbone!$A2:$A893,0))","v":7.3},null,{"$f":"INDEX(Backbone!$J2:$J893,MATCH(I23,Backbone!$A2:$A893,0))","v":7.2},null,{"$f":"INDEX(Backbone!$K2:$K893,MATCH(I23,Backbone!$A2:$A893,0))","v":7.8},null,{"$f":"INDEX(Backbone!$L2:$L893,MATCH(I23,Backbone!$A2:$A893,0))","v":6.5},null,{"$f":"INDEX(Backbone!$M2:$M893,MATCH(I23,Backbone!$A2:$A893,0))","v":5.2},null,{"$f":"INDEX(Backbone!$N2:$N893,MATCH(I23,Backbone!$A2:$A893,0))","v":4},null,{"$f":"INDEX(Backbone!$O2:$O893,MATCH(I23,Backbone!$A2:$A893,0))","v":8.3000000000000007},null,{"$f":"INDEX(Backbone!$P2:$P893,MATCH(I23,Backbone!$A2:$A893,0))","v":9.6999999999999993},null,{"$f":"INDEX(Backbone!$Q2:$Q893,MATCH(I23,Backbone!$A2:$A893,0))","v":0.71000000000000008},null,null,{"$f":"(AG23*$AG$22+AI23*$AI$22+AK23*$AK$22+AM23*$AM$22+AO23*$AO$22+AQ23*$AQ$22+AS23*$AS$22+AU23*$AU$22+AW23*$AW$22)/(SUM($AG$22:$AW$22)*10)","v":{"$error":"#DIV/0!"}},null,null,"Aller à \nBoîte à outils: ",null,{"$f":"HYPERLINK(\"#\"&ADDRESS(MATCH(I23,Toolbox!$C$1:$C$300),1,,,\"Toolbox\"),VLOOKUP(I23,Toolbox!$C$1:$C$300,1,FALSE))","v":"Évaluation des systèmes «Une seule santé» pour les zoonoses prioritaires (OH-SAPZ)"}]
[]
[]
[]
[]
[]
[null,null,null,null,null,null,null,null,{"$f":"Backbone!A383","v":"Boîte à outils de cartographie et de ressources des systèmes «Une seule santé» (OH-SMART)"},null,null,null,null,null,null,"Un processus en six étapes qui aide les parties prenantes de plusieurs secteurs à cartographier, analyser et améliorer tout système existant qui nécessite une collaboration interdisciplinaire et multisectorielle.",null,null,null,null,null,null,null,null,{"$f":"INDEX(Backbone!$R7:$R898,MATCH(I29,Backbone!$A7:$A898,0))","v":"Outil ou processus dirigé/facilité"},null,null,null,{"$f":"INDEX(Backbone!$S7:$S898,MATCH(I29,Backbone!$A7:$A898,0))","v":"«Une seule santé»; Généralisée"},null,null,null,{"$f":"INDEX(Backbone!$H7:$H898,MATCH(I29,Backbone!$A7:$A898,0))","v":8.6999999999999993},null,{"$f":"INDEX(Backbone!$I7:$I898,MATCH(I29,Backbone!$A7:$A898,0))","v":7.3},null,{"$f":"INDEX(Backbone!$J7:$J898,MATCH(I29,Backbone!$A7:$A898,0))","v":8.4},null,{"$f":"INDEX(Backbone!$K7:$K898,MATCH(I29,Backbone!$A7:$A898,0))","v":9.3000000000000007},null,{"$f":"INDEX(Backbone!$L7:$L898,MATCH(I29,Backbone!$A7:$A898,0))","v":8.1999999999999993},null,{"$f":"INDEX(Backbone!$M7:$M898,MATCH(I29,Backbone!$A7:$A898,0))","v":7.4},null,{"$f":"INDEX(Backbone!$N7:$N898,MATCH(I29,Backbone!$A7:$A898,0))","v":9.5},null,{"$f":"INDEX(Backbone!$O7:$O898,MATCH(I29,Backbone!$A7:$A898,0))","v":10},null,{"$f":"INDEX(Backbone!$P7:$P898,MATCH(I29,Backbone!$A7:$A898,0))","v":10},null,{"$f":"INDEX(Backbone!$Q7:$Q898,MATCH(I29,Backbone!$A7:$A898,0))","v":0.87555555555555564},null,null,{"$f":"(AG29*$AG$22+AI29*$AI$22+AK29*$AK$22+AM29*$AM$22+AO29*$AO$22+AQ29*$AQ$22+AS29*$AS$22+AU29*$AU$22+AW29*$AW$22)/(SUM($AG$22:$AW$22)*10)","v":{"$error":"#DIV/0!"}},null,null,"Aller à \nBoîte à outils: ",null,{"$f":"HYPERLINK(\"#\"&ADDRESS(MATCH(I29,Toolbox!$C$1:$C$300),1,,,\"Toolbox\"),VLOOKUP(I29,Toolbox!$C$1:$C$300,1,FALSE))","v":"Boîte à outils de cartographie et de ressources des systèmes «Une seule santé» (OH-SMART)"}]
[]
[]
[]
[]
[]
[]
[null,null,null,"Autres ressources intéressantes",null,null,null,null,{"$f":"Backbone!A38","v":"Outil d'évaluation informatique pour les laboratoires APHL"},null,null,null,null,null,null,"Un outil permettant de recueillir des informations de référence auprès des laboratoires pour enregistrer le flux de données, le flux de travail, l'infrastructure, les ressources humaines et la formation, les équipements disponibles, la gestion des données, y compris l'enregistrement des données et l'établissement de rapports.",null,null,null,null,null,null,null,null,{"$f":"INDEX(Backbone!$R$2:$R$893,MATCH(I36,Backbone!$A$2:$A$893,0))","v":"Outil ou processus dirigé/facilité"},null,null,null,{"$f":"INDEX(Backbone!$S$2:$S$893,MATCH(I36,Backbone!$A$2:$A$893,0))","v":"Spécifique du secteur; Généralisée"},null,null,null,{"$f":"INDEX(Backbone!$H$2:$H$893,MATCH(I36,Backbone!$A$2:$A$893,0))","v":8.4},null,{"$f":"INDEX(Backbone!$I$2:$I$893,MATCH(I36,Backbone!$A$2:$A$893,0))","v":6},null,{"$f":"INDEX(Backbone!$J$2:$J$893,MATCH(I36,Backbone!$A$2:$A$893,0))","v":8},null,{"$f":"INDEX(Backbone!$K$1:$K$893,MATCH(I36,Backbone!$A$1:$A$893,0))","v":10},null,{"$f":"INDEX(Backbone!$L$2:$L$893,MATCH(I36,Backbone!$A$2:$A$893,0))","v":6},null,{"$f":"INDEX(Backbone!$M$2:$M$893,MATCH(I36,Backbone!$A$2:$A$893,0))","v":4.5},null,{"$f":"INDEX(Backbone!$N$2:$N$893,MATCH(I36,Backbone!$A$2:$A$893,0))","v":2},null,{"$f":"INDEX(Backbone!$O$2:$O$893,MATCH(I36,Backbone!$A$2:$A$893,0))","v":2.8},null,{"$f":"INDEX(Backbone!$P$2:$P$893,MATCH(I36,Backbone!$A$2:$A$893,0))","v":6},null,{"$f":"INDEX(Backbone!$Q$2:$Q$893,MATCH(I36,Backbone!$A$2:$A$893,0))","v":0.59666666666666657},null,null,{"$f":"(AG36*$AG$22+AI36*$AI$22+AK36*$AK$22+AM36*$AM$22+AO36*$AO$22+AQ36*$AQ$22+AS36*$AS$22+AU36*$AU$22+AW36*$AW$22)/(SUM($AG$22:$AW$22)*10)","v":{"$error":"#DIV/0!"}},null,null,"Aller à \nBoîte à outils: ",null,{"$f":"HYPERLINK(\"#\"&ADDRESS(MATCH(I36,Toolbox!$C$1:$C$300),1,,,\"Toolbox\"),VLOOKUP(I36,Toolbox!$C$1:$C$300,1,FALSE))","v":"Outil d'évaluation informatique pour les laboratoires APHL"}]
[]
[]
[]
[]
[]
[null,null,null,null,null,null,null,null,{"$f":"Backbone!A42","v":"Outil d'autoévaluation APHL pour l'informatique"},null,null,null,null,null,null,"Un outil qui permet aux laboratoires de santé publique d'évaluer les points forts et les lacunes des capacités informatiques au regard de 19 domaines opérationnels essentiels.",null,null,null,null,null,null,null,null,{"$f":"INDEX(Backbone!$R$2:$R$893,MATCH(I42,Backbone!$A$2:$A$893,0))","v":"Document d'orientation"},null,null,null,{"$f":"INDEX(Backbone!$S$2:$S$893,MATCH(I42,Backbone!$A$2:$A$893,0))","v":"Spécifique du secteur; Généralisée"},null,null,null,{"$f":"INDEX(Backbone!$H$2:$H$893,MATCH(I42,Backbone!$A$2:$A$893,0))","v":9.1},null,{"$f":"INDEX(Backbone!$I$2:$I$893,MATCH(I42,Backbone!$A$2:$A$893,0))","v":6.7},null,{"$f":"INDEX(Backbone!$J$2:$J$893,MATCH(I42,Backbone!$A$2:$A$893,0))","v":8.3000000000000007},null,{"$f":"INDEX(Backbone!$K$1:$K$893,MATCH(I42,Backbone!$A$1:$A$893,0))","v":8.4},null,{"$f":"INDEX(Backbone!$L$2:$L$893,MATCH(I42,Backbone!$A$2:$A$893,0))","v":8.1},null,{"$f":"INDEX(Backbone!$M$2:$M$893,MATCH(I42,Backbone!$A$2:$A$893,0))","v":8.5},null,{"$f":"INDEX(Backbone!$N$2:$N$893,MATCH(I42,Backbone!$A$2:$A$893,0))","v":5},null,{"$f":"INDEX(Backbone!$O$2:$O$893,MATCH(I42,Backbone!$A$2:$A$893,0))","v":6.1},null,{"$f":"INDEX(Backbone!$P$2:$P$893,MATCH(I42,Backbone!$A$2:$A$893,0))","v":4.3},null,{"$f":"INDEX(Backbone!$Q$2:$Q$893,MATCH(I42,Backbone!$A$2:$A$893,0))","v":0.71666666666666667},null,null,{"$f":"(AG42*$AG$22+AI42*$AI$22+AK42*$AK$22+AM42*$AM$22+AO42*$AO$22+AQ42*$AQ$22+AS42*$AS$22+AU42*$AU$22+AW42*$AW$22)/(SUM($AG$22:$AW$22)*10)","v":{"$error":"#DIV/0!"}},null,null,"Aller à \nBoîte à outils: ",null,{"$f":"HYPERLINK(\"#\"&ADDRESS(MATCH(I42,Toolbox!$C$1:$C$300),1,,,\"Toolbox\"),VLOOKUP(I42,Toolbox!$C$1:$C$300,1,FALSE))","v":"Outil d'autoévaluation APHL pour l'informatique"}]
[]
[]
[]
[]
[]
[null,null,null,null,null,null,null,null,{"$f":"Backbone!A100","v":"Évaluation des collaborations au sein d'un système de surveillance multisectoriel (EcoSur)"},null,null,null,null,null,null,"Un outil dont l'objectif est d'évaluer l'organisation et le fonctionnement de la collaboration au sein d'un système de surveillance multisectoriel, ainsi que d'analyser les points forts et les points faibles de cette collaboration.",null,null,null,null,null,null,null,null,{"$f":"INDEX(Backbone!$R$2:$R$893,MATCH(I48,Backbone!$A$2:$A$893,0))","v":"Outil ou processus dirigé/facilité"},null,null,null,{"$f":"INDEX(Backbone!$S$2:$S$893,MATCH(I48,Backbone!$A$2:$A$893,0))","v":"«Une seule santé»; Généralisée"},null,null,null,{"$f":"INDEX(Backbone!$H$2:$H$893,MATCH(I48,Backbone!$A$2:$A$893,0))","v":8.3000000000000007},null,{"$f":"INDEX(Backbone!$I$2:$I$893,MATCH(I48,Backbone!$A$2:$A$893,0))","v":6},null,{"$f":"INDEX(Backbone!$J$2:$J$893,MATCH(I48,Backbone!$A$2:$A$893,0))","v":8.5},null,{"$f":"INDEX(Backbone!$K$1:$K$893,MATCH(I48,Backbone!$A$1:$A$893,0))","v":7.8},null,{"$f":"INDEX(Backbone!$L$2:$L$893,MATCH(I48,Backbone!$A$2:$A$893,0))","v":8.3000000000000007},null,{"$f":"INDEX(Backbone!$M$2:$M$893,MATCH(I48,Backbone!$A$2:$A$893,0))","v":6.7},null,{"$f":"INDEX(Backbone!$N$2:$N$893,MATCH(I48,Backbone!$A$2:$A$893,0))","v":3.3},null,{"$f":"INDEX(Backbone!$O$2:$O$893,MATCH(I48,Backbone!$A$2:$A$893,0))","v":9.1},null,{"$f":"INDEX(Backbone!$P$2:$P$893,MATCH(I48,Backbone!$A$2:$A$893,0))","v":4.7},null,{"$f":"INDEX(Backbone!$Q$2:$Q$893,MATCH(I48,Backbone!$A$2:$A$893,0))","v":0.69666666666666677},null,null,{"$f":"(AG48*$AG$22+AI48*$AI$22+AK48*$AK$22+AM48*$AM$22+AO48*$AO$22+AQ48*$AQ$22+AS48*$AS$22+AU48*$AU$22+AW48*$AW$22)/(SUM($AG$22:$AW$22)*10)","v":{"$error":"#DIV/0!"}},null,null,"Aller à \nBoîte à outils: ",null,{"$f":"HYPERLINK(\"#\"&ADDRESS(MATCH(I48,Toolbox!$C$1:$C$300),1,,,\"Toolbox\"),VLOOKUP(I48,Toolbox!$C$1:$C$300,1,FALSE))","v":"Évaluation des collaborations au sein d'un système de surveillance multisectoriel (EcoSur)"}]
[]
[]
[]
[]
[]
[null,null,null,null,null,null,null,null,{"$f":"Backbone!A239","v":"Atelier national de rapprochement et d'échange RSI-PVS"},null,null,null,null,null,null,"Un atelier dans lequel les parties prenantes de l'initiative «Une seule santé» explorent les éventuelles zones de chevauchement dans les cadres de capacité de l'OMSA (PVS) et du RSI (Cadre de suivi et d'évaluation du RSI) et mettent en place, le cas échéant, des passerelles appropriées pour faciliter la coordination entre les secteurs.  ",null,null,null,null,null,null,null,null,{"$f":"INDEX(Backbone!$R$2:$R$893,MATCH(I54,Backbone!$A$2:$A$893,0))","v":"Outil ou processus dirigé/facilité"},null,null,null,{"$f":"INDEX(Backbone!$S$2:$S$893,MATCH(I54,Backbone!$A$2:$A$893,0))","v":"«Une seule santé»; Généralisée"},null,null,null,{"$f":"INDEX(Backbone!$H$2:$H$893,MATCH(I54,Backbone!$A$2:$A$893,0))","v":8.6},null,{"$f":"INDEX(Backbone!$I$2:$I$893,MATCH(I54,Backbone!$A$2:$A$893,0))","v":10},null,{"$f":"INDEX(Backbone!$J$2:$J$893,MATCH(I54,Backbone!$A$2:$A$893,0))","v":6.2},null,{"$f":"INDEX(Backbone!$K$1:$K$893,MATCH(I54,Backbone!$A$1:$A$893,0))","v":10},null,{"$f":"INDEX(Backbone!$L$2:$L$893,MATCH(I54,Backbone!$A$2:$A$893,0))","v":6},null,{"$f":"INDEX(Backbone!$M$2:$M$893,MATCH(I54,Backbone!$A$2:$A$893,0))","v":7},null,{"$f":"INDEX(Backbone!$N$2:$N$893,MATCH(I54,Backbone!$A$2:$A$893,0))","v":9},null,{"$f":"INDEX(Backbone!$O$2:$O$893,MATCH(I54,Backbone!$A$2:$A$893,0))","v":8.1999999999999993},null,{"$f":"INDEX(Backbone!$P$2:$P$893,MATCH(I54,Backbone!$A$2:$A$893,0))","v":10},null,{"$f":"INDEX(Backbone!$Q$2:$Q$893,MATCH(I54,Backbone!$A$2:$A$893,0))","v":0.83333333333333337},null,null,{"$f":"(AG54*$AG$22+AI54*$AI$22+AK54*$AK$22+AM54*$AM$22+AO54*$AO$22+AQ54*$AQ$22+AS54*$AS$22+AU54*$AU$22+AW54*$AW$22)/(SUM($AG$22:$AW$22)*10)","v":{"$error":"#DIV/0!"}},null,null,"Aller à \nBoîte à outils: ",null,{"$f":"HYPERLINK(\"#\"&ADDRESS(MATCH(I54,Toolbox!$C$1:$C$300),1,,,\"Toolbox\"),VLOOKUP(I54,Toolbox!$C$1:$C$300,1,FALSE))","v":"Atelier national de rapprochement et d'échange RSI-PVS"}]
[]
[]
[]
[]
[]
[null,null,null,null,null,null,null,null,{"$f":"Backbone!A271","v":"Analyse du réseau des infrastructures de laboratoire (LINA)"},null,null,null,null,null,null,"Une application en ligne facile à utiliser fournissant une fonctionnalité avancée de modélisation computationnelle et d'analyse de données offrant la possibilité de visualiser facilement, à l'aide d'organigrammes, les capacités et les moyens du réseau national de laboratoires, mais aussi de chaque laboratoire séparément. ",null,null,null,null,null,null,null,null,{"$f":"INDEX(Backbone!$R$2:$R$893,MATCH(I60,Backbone!$A$2:$A$893,0))","v":"Matériel ou logiciel"},null,null,null,{"$f":"INDEX(Backbone!$S$2:$S$893,MATCH(I60,Backbone!$A$2:$A$893,0))","v":"«Une seule santé»; Généralisée"},null,null,null,{"$f":"INDEX(Backbone!$H$2:$H$893,MATCH(I60,Backbone!$A$2:$A$893,0))","v":9.6},null,{"$f":"INDEX(Backbone!$I$2:$I$893,MATCH(I60,Backbone!$A$2:$A$893,0))","v":6},null,{"$f":"INDEX(Backbone!$J$2:$J$893,MATCH(I60,Backbone!$A$2:$A$893,0))","v":7.6},null,{"$f":"INDEX(Backbone!$K$1:$K$893,MATCH(I60,Backbone!$A$1:$A$893,0))","v":9},null,{"$f":"INDEX(Backbone!$L$2:$L$893,MATCH(I60,Backbone!$A$2:$A$893,0))","v":8.3000000000000007},null,{"$f":"INDEX(Backbone!$M$2:$M$893,MATCH(I60,Backbone!$A$2:$A$893,0))","v":7},null,{"$f":"INDEX(Backbone!$N$2:$N$893,MATCH(I60,Backbone!$A$2:$A$893,0))","v":3},null,{"$f":"INDEX(Backbone!$O$2:$O$893,MATCH(I60,Backbone!$A$2:$A$893,0))","v":9.1},null,{"$f":"INDEX(Backbone!$P$2:$P$893,MATCH(I60,Backbone!$A$2:$A$893,0))","v":4},null,{"$f":"INDEX(Backbone!$Q$2:$Q$893,MATCH(I60,Backbone!$A$2:$A$893,0))","v":0.69555555555555559},null,null,{"$f":"(AG60*$AG$22+AI60*$AI$22+AK60*$AK$22+AM60*$AM$22+AO60*$AO$22+AQ60*$AQ$22+AS60*$AS$22+AU60*$AU$22+AW60*$AW$22)/(SUM($AG$22:$AW$22)*10)","v":{"$error":"#DIV/0!"}},null,null,"Aller à \nBoîte à outils: ",null,{"$f":"HYPERLINK(\"#\"&ADDRESS(MATCH(I60,Toolbox!$C$1:$C$300),1,,,\"Toolbox\"),VLOOKUP(I60,Toolbox!$C$1:$C$300,1,FALSE))","v":"Analyse du réseau des infrastructures de laboratoire (LINA)"}]
[]
[]
[]
[]
[]
[null,null,null,null,null,null,null,null,{"$f":"Backbone!A303","v":"Plan d'action national pour la sécurité sanitaire (PANSS)"},null,null,null,null,null,null,"Un processus de planification mené par le pays lui-même, capable d'accélérer la mise en œuvre des capacités essentielles du Règlement sanitaire international (RSI) et fondé sur l'approche «Une seule santé» et «à l'échelle de l'ensemble de l'administration» pour tous les risques.",null,null,null,null,null,null,null,null,{"$f":"INDEX(Backbone!$R$2:$R$893,MATCH(I66,Backbone!$A$2:$A$893,0))","v":"Document d'orientation"},null,null,null,{"$f":"INDEX(Backbone!$S$2:$S$893,MATCH(I66,Backbone!$A$2:$A$893,0))","v":"«Une seule santé»; Généralisée"},null,null,null,{"$f":"INDEX(Backbone!$H$2:$H$893,MATCH(I66,Backbone!$A$2:$A$893,0))","v":8},null,{"$f":"INDEX(Backbone!$I$2:$I$893,MATCH(I66,Backbone!$A$2:$A$893,0))","v":9},null,{"$f":"INDEX(Backbone!$J$2:$J$893,MATCH(I66,Backbone!$A$2:$A$893,0))","v":7.8},null,{"$f":"INDEX(Backbone!$K$1:$K$893,MATCH(I66,Backbone!$A$1:$A$893,0))","v":10},null,{"$f":"INDEX(Backbone!$L$2:$L$893,MATCH(I66,Backbone!$A$2:$A$893,0))","v":8},null,{"$f":"INDEX(Backbone!$M$2:$M$893,MATCH(I66,Backbone!$A$2:$A$893,0))","v":4.5},null,{"$f":"INDEX(Backbone!$N$2:$N$893,MATCH(I66,Backbone!$A$2:$A$893,0))","v":10},null,{"$f":"INDEX(Backbone!$O$2:$O$893,MATCH(I66,Backbone!$A$2:$A$893,0))","v":10},null,{"$f":"INDEX(Backbone!$P$2:$P$893,MATCH(I66,Backbone!$A$2:$A$893,0))","v":10},null,{"$f":"INDEX(Backbone!$Q$2:$Q$893,MATCH(I66,Backbone!$A$2:$A$893,0))","v":0.85888888888888881},null,null,{"$f":"(AG66*$AG$22+AI66*$AI$22+AK66*$AK$22+AM66*$AM$22+AO66*$AO$22+AQ66*$AQ$22+AS66*$AS$22+AU66*$AU$22+AW66*$AW$22)/(SUM($AG$22:$AW$22)*10)","v":{"$error":"#DIV/0!"}},null,null,"Aller à \nBoîte à outils: ",null,{"$f":"HYPERLINK(\"#\"&ADDRESS(MATCH(I66,Toolbox!$C$1:$C$300),1,,,\"Toolbox\"),VLOOKUP(I66,Toolbox!$C$1:$C$300,1,FALSE))","v":"Plan d'action national pour la sécurité sanitaire (PANSS)"}]
[]
[]
[]
[]
[]
[null,null,null,null,null,null,null,null,{"$f":"Backbone!A332","v":"Réseau pour l'évaluation de l'approche «Une seule santé» (NEOH)"},null,null,null,null,null,null,"Un outil au format Excel qui mesure la conformité d'un système de surveillance au principe «Une seule santé». ",null,null,null,null,null,null,null,null,{"$f":"INDEX(Backbone!$R$2:$R$893,MATCH(I72,Backbone!$A$2:$A$893,0))","v":"Document d'orientation"},null,null,null,{"$f":"INDEX(Backbone!$S$2:$S$893,MATCH(I72,Backbone!$A$2:$A$893,0))","v":"«Une seule santé»; Généralisée"},null,null,null,{"$f":"INDEX(Backbone!$H$2:$H$893,MATCH(I72,Backbone!$A$2:$A$893,0))","v":8.3000000000000007},null,{"$f":"INDEX(Backbone!$I$2:$I$893,MATCH(I72,Backbone!$A$2:$A$893,0))","v":7.7},null,{"$f":"INDEX(Backbone!$J$2:$J$893,MATCH(I72,Backbone!$A$2:$A$893,0))","v":5.3},null,{"$f":"INDEX(Backbone!$K$1:$K$893,MATCH(I72,Backbone!$A$1:$A$893,0))","v":8.9},null,{"$f":"INDEX(Backbone!$L$2:$L$893,MATCH(I72,Backbone!$A$2:$A$893,0))","v":7.8},null,{"$f":"INDEX(Backbone!$M$2:$M$893,MATCH(I72,Backbone!$A$2:$A$893,0))","v":4.7},null,{"$f":"INDEX(Backbone!$N$2:$N$893,MATCH(I72,Backbone!$A$2:$A$893,0))","v":5.3},null,{"$f":"INDEX(Backbone!$O$2:$O$893,MATCH(I72,Backbone!$A$2:$A$893,0))","v":8},null,{"$f":"INDEX(Backbone!$P$2:$P$893,MATCH(I72,Backbone!$A$2:$A$893,0))","v":5.3},null,{"$f":"INDEX(Backbone!$Q$2:$Q$893,MATCH(I72,Backbone!$A$2:$A$893,0))","v":0.68111111111111111},null,null,{"$f":"(AG72*$AG$22+AI72*$AI$22+AK72*$AK$22+AM72*$AM$22+AO72*$AO$22+AQ72*$AQ$22+AS72*$AS$22+AU72*$AU$22+AW72*$AW$22)/(SUM($AG$22:$AW$22)*10)","v":{"$error":"#DIV/0!"}},null,null,"Aller à \nBoîte à outils: ",null,{"$f":"HYPERLINK(\"#\"&ADDRESS(MATCH(I72,Toolbox!$C$1:$C$300),1,,,\"Toolbox\"),VLOOKUP(I72,Toolbox!$C$1:$C$300,1,FALSE))","v":"Réseau pour l'évaluation de l'approche «Une seule santé» (NEOH)"}]
[]
[]
[]
[]
[]
[null,null,null,null,null,null,null,null,{"$f":"Backbone!A420","v":"Analyse des écarts PVS de l'Organisation mondiale de la santé animale (OMSA)"},null,null,null,null,null,null,"Aide les pays à réaliser une planification détaillée en fonction des résultats de leur évaluation PVS.",null,null,null,null,null,null,null,null,{"$f":"INDEX(Backbone!$R$2:$R$893,MATCH(I78,Backbone!$A$2:$A$893,0))","v":"Outil ou processus dirigé/facilité"},null,null,null,{"$f":"INDEX(Backbone!$S$2:$S$893,MATCH(I78,Backbone!$A$2:$A$893,0))","v":"Spécifique du secteur; Généralisée"},null,null,null,{"$f":"INDEX(Backbone!$H$2:$H$893,MATCH(I78,Backbone!$A$2:$A$893,0))","v":6.8},null,{"$f":"INDEX(Backbone!$I$2:$I$893,MATCH(I78,Backbone!$A$2:$A$893,0))","v":8},null,{"$f":"INDEX(Backbone!$J$2:$J$893,MATCH(I78,Backbone!$A$2:$A$893,0))","v":5.6},null,{"$f":"INDEX(Backbone!$K$1:$K$893,MATCH(I78,Backbone!$A$1:$A$893,0))","v":10},null,{"$f":"INDEX(Backbone!$L$2:$L$893,MATCH(I78,Backbone!$A$2:$A$893,0))","v":6},null,{"$f":"INDEX(Backbone!$M$2:$M$893,MATCH(I78,Backbone!$A$2:$A$893,0))","v":4.3},null,{"$f":"INDEX(Backbone!$N$2:$N$893,MATCH(I78,Backbone!$A$2:$A$893,0))","v":9.5},null,{"$f":"INDEX(Backbone!$O$2:$O$893,MATCH(I78,Backbone!$A$2:$A$893,0))","v":4.7},null,{"$f":"INDEX(Backbone!$P$2:$P$893,MATCH(I78,Backbone!$A$2:$A$893,0))","v":7},null,{"$f":"INDEX(Backbone!$Q$2:$Q$893,MATCH(I78,Backbone!$A$2:$A$893,0))","v":0.68777777777777771},null,null,{"$f":"(AG78*$AG$22+AI78*$AI$22+AK78*$AK$22+AM78*$AM$22+AO78*$AO$22+AQ78*$AQ$22+AS78*$AS$22+AU78*$AU$22+AW78*$AW$22)/(SUM($AG$22:$AW$22)*10)","v":{"$error":"#DIV/0!"}},null,null,"Aller à \nBoîte à outils: ",null,{"$f":"HYPERLINK(\"#\"&ADDRESS(MATCH(I78,Toolbox!$C$1:$C$300),1,,,\"Toolbox\"),VLOOKUP(I78,Toolbox!$C$1:$C$300,1,FALSE))","v":"Analyse des écarts PVS de l'Organisation mondiale de la santé animale (OMSA)"}]
[]
[]
[]
[]
[]
[null,null,null,null,null,null,null,null,{"$f":"Backbone!A437","v":"Analyse de la politique sur le terrain (PFA)"},null,null,null,null,null,null,"Une cartographie spécialisée des parties prenantes qui permet de visualiser le système des organisations qui interagissent sur une question politique donnée.",null,null,null,null,null,null,null,null,{"$f":"INDEX(Backbone!$R$2:$R$893,MATCH(I84,Backbone!$A$2:$A$893,0))","v":"Document d'orientation"},null,null,null,{"$f":"INDEX(Backbone!$S$2:$S$893,MATCH(I84,Backbone!$A$2:$A$893,0))","v":"«Une seule santé»; Généralisée"},null,null,null,{"$f":"INDEX(Backbone!$H$2:$H$893,MATCH(I84,Backbone!$A$2:$A$893,0))","v":7.8},null,{"$f":"INDEX(Backbone!$I$2:$I$893,MATCH(I84,Backbone!$A$2:$A$893,0))","v":8},null,{"$f":"INDEX(Backbone!$J$2:$J$893,MATCH(I84,Backbone!$A$2:$A$893,0))","v":9.8000000000000007},null,{"$f":"INDEX(Backbone!$K$1:$K$893,MATCH(I84,Backbone!$A$1:$A$893,0))","v":10},null,{"$f":"INDEX(Backbone!$L$2:$L$893,MATCH(I84,Backbone!$A$2:$A$893,0))","v":7.1},null,{"$f":"INDEX(Backbone!$M$2:$M$893,MATCH(I84,Backbone!$A$2:$A$893,0))","v":4},null,{"$f":"INDEX(Backbone!$N$2:$N$893,MATCH(I84,Backbone!$A$2:$A$893,0))","v":7},null,{"$f":"INDEX(Backbone!$O$2:$O$893,MATCH(I84,Backbone!$A$2:$A$893,0))","v":8.8000000000000007},null,{"$f":"INDEX(Backbone!$P$2:$P$893,MATCH(I84,Backbone!$A$2:$A$893,0))","v":5},null,{"$f":"INDEX(Backbone!$Q$2:$Q$893,MATCH(I84,Backbone!$A$2:$A$893,0))","v":0.75},null,null,{"$f":"(AG84*$AG$22+AI84*$AI$22+AK84*$AK$22+AM84*$AM$22+AO84*$AO$22+AQ84*$AQ$22+AS84*$AS$22+AU84*$AU$22+AW84*$AW$22)/(SUM($AG$22:$AW$22)*10)","v":{"$error":"#DIV/0!"}},null,null,"Aller à \nBoîte à outils: ",null,{"$f":"HYPERLINK(\"#\"&ADDRESS(MATCH(I84,Toolbox!$C$1:$C$300),1,,,\"Toolbox\"),VLOOKUP(I84,Toolbox!$C$1:$C$300,1,FALSE))","v":"Analyse de la politique sur le terrain (PFA)"}]
[]
[]
[]
[]
[]
[null,null,null,null,null,null,null,null,{"$f":"Backbone!A648","v":"Boîte à outils pour la planification de la préparation et la réponse"},null,null,null,null,null,null,"Cette boîte à outils est conçue pour aider les pays à élaborer des plans multisectoriels de préparation et de réponse aux événements de santé publique. ",null,null,null,null,null,null,null,null,{"$f":"INDEX(Backbone!$R$2:$R$893,MATCH(I90,Backbone!$A$2:$A$893,0))","v":"Document d'orientation"},null,null,null,{"$f":"INDEX(Backbone!$S$2:$S$893,MATCH(I90,Backbone!$A$2:$A$893,0))","v":"«Une seule santé»; Généralisée"},null,null,null,{"$f":"INDEX(Backbone!$H$2:$H$893,MATCH(I90,Backbone!$A$2:$A$893,0))","v":8.4},null,{"$f":"INDEX(Backbone!$I$2:$I$893,MATCH(I90,Backbone!$A$2:$A$893,0))","v":8},null,{"$f":"INDEX(Backbone!$J$2:$J$893,MATCH(I90,Backbone!$A$2:$A$893,0))","v":8.4},null,{"$f":"INDEX(Backbone!$K$1:$K$893,MATCH(I90,Backbone!$A$1:$A$893,0))","v":6.7},null,{"$f":"INDEX(Backbone!$L$2:$L$893,MATCH(I90,Backbone!$A$2:$A$893,0))","v":2},null,{"$f":"INDEX(Backbone!$M$2:$M$893,MATCH(I90,Backbone!$A$2:$A$893,0))","v":3.5},null,{"$f":"INDEX(Backbone!$N$2:$N$893,MATCH(I90,Backbone!$A$2:$A$893,0))","v":4},null,{"$f":"INDEX(Backbone!$O$2:$O$893,MATCH(I90,Backbone!$A$2:$A$893,0))","v":6.4},null,{"$f":"INDEX(Backbone!$P$2:$P$893,MATCH(I90,Backbone!$A$2:$A$893,0))","v":8},null,{"$f":"INDEX(Backbone!$Q$2:$Q$893,MATCH(I90,Backbone!$A$2:$A$893,0))","v":0.61555555555555552},null,null,{"$f":"(AG90*$AG$22+AI90*$AI$22+AK90*$AK$22+AM90*$AM$22+AO90*$AO$22+AQ90*$AQ$22+AS90*$AS$22+AU90*$AU$22+AW90*$AW$22)/(SUM($AG$22:$AW$22)*10)","v":{"$error":"#DIV/0!"}},null,null,"Aller à \nBoîte à outils: ",null,{"$f":"HYPERLINK(\"#\"&ADDRESS(MATCH(I90,Toolbox!$C$1:$C$300),1,,,\"Toolbox\"),VLOOKUP(I90,Toolbox!$C$1:$C$300,1,FALSE))","v":"Boîte à outils pour la planification de la préparation et la réponse"}]
[]
[]
[]
[]
[]
[null,null,null,null,null,null,null,null,{"$f":"Backbone!A598","v":"Outil d'évaluation des laboratoires de l'OMS"},null,null,null,null,null,null,"Cet outil fournit des orientations et des feuilles de calcul pour la collecte de données afin d'évaluer les laboratoires en deux parties: le système (LAT/System) et les installations (LAT/Facility).",null,null,null,null,null,null,null,null,{"$f":"INDEX(Backbone!$R$2:$R$893,MATCH(I96,Backbone!$A$2:$A$893,0))","v":"Outil d'autoévaluation"},null,null,null,{"$f":"INDEX(Backbone!$S$2:$S$893,MATCH(I96,Backbone!$A$2:$A$893,0))","v":"Spécifique du secteur; Généralisée"},null,null,null,{"$f":"INDEX(Backbone!$H$2:$H$893,MATCH(I96,Backbone!$A$2:$A$893,0))","v":9},null,{"$f":"INDEX(Backbone!$I$2:$I$893,MATCH(I96,Backbone!$A$2:$A$893,0))","v":10},null,{"$f":"INDEX(Backbone!$J$2:$J$893,MATCH(I96,Backbone!$A$2:$A$893,0))","v":6.4},null,{"$f":"INDEX(Backbone!$K$1:$K$893,MATCH(I96,Backbone!$A$1:$A$893,0))","v":6},null,{"$f":"INDEX(Backbone!$L$2:$L$893,MATCH(I96,Backbone!$A$2:$A$893,0))","v":7.2},null,{"$f":"INDEX(Backbone!$M$2:$M$893,MATCH(I96,Backbone!$A$2:$A$893,0))","v":5.5},null,{"$f":"INDEX(Backbone!$N$2:$N$893,MATCH(I96,Backbone!$A$2:$A$893,0))","v":6},null,{"$f":"INDEX(Backbone!$O$2:$O$893,MATCH(I96,Backbone!$A$2:$A$893,0))","v":5.8},null,{"$f":"INDEX(Backbone!$P$2:$P$893,MATCH(I96,Backbone!$A$2:$A$893,0))","v":4},null,{"$f":"INDEX(Backbone!$Q$2:$Q$893,MATCH(I96,Backbone!$A$2:$A$893,0))","v":0.66555555555555557},null,null,{"$f":"(AG96*$AG$22+AI96*$AI$22+AK96*$AK$22+AM96*$AM$22+AO96*$AO$22+AQ96*$AQ$22+AS96*$AS$22+AU96*$AU$22+AW96*$AW$22)/(SUM($AG$22:$AW$22)*10)","v":{"$error":"#DIV/0!"}},null,null,"Aller à \nBoîte à outils: ",null,{"$f":"HYPERLINK(\"#\"&ADDRESS(MATCH(I96,Toolbox!$C$1:$C$300),1,,,\"Toolbox\"),VLOOKUP(I96,Toolbox!$C$1:$C$300,1,FALSE))","v":"Outil d'évaluation des laboratoires de l'OMS"}]
[]
[]
[]
[]
[]
[]
[]
[]
[]
[]
[]
[]
[]
[]
[]
[]
[]
[]
[null,null,null,null,null,null,null,null,null,null,null,null,null,null,null,null,null,null,null,null,null,null,null,null,null,null,null,null,null,null,null,null,"Accessibilité",null,"Langue",null,"Facilité d'utilisation",null,"Flexibilité",null,"Besoins de données",null,"Analyse des données",null,"Acceptabilité",null,"«Une seule santé»",null,"Impact"]
[]
[]
[null,"RESSOURCES DE NIVEAU 2"]
[]
[]
[]
[null,null,null,null,null,null,null,null,null,null,null,null,null,null,null,null,null,null,null,null,null,null,null,null,null,null,null,null,null,null,null,null,null,null,null,null,null,null,null,null,null,null,null,null,null,null,null,null,null,null,"SCORE BRUT",null,null,"SCORE AJUSTÉ \n(Selon les préférences de l'utilisateur)"]
[]
[]
[]
[null,null,null,"DÉSIGNATION",null,null,null,null,"NOM DE LA RESSOURCE",null,null,null,null,null,null,"BRÈVE DESCRIPTION",null,null,null,null,null,null,null,null,"TYPE DE RESSOURCE",null,null,null,"CARACTÈRE GÉNÉRAL DE LA RESSOURCE"]
[]
[]
[]
[null,null,null,null,null,null,null,null,null,null,null,null,null,null,null,null,null,null,null,null,null,null,null,null,null,null,null,null,null,null,null,null,{"$f":"'Attribute Survey'!S105","v":0},null,{"$f":"'Attribute Survey'!S109","v":0},null,{"$f":"'Attribute Survey'!S113","v":0},null,{"$f":"'Attribute Survey'!S117","v":0},null,{"$f":"'Attribute Survey'!S121","v":0},null,{"$f":"'Attribute Survey'!S125","v":0},null,{"$f":"'Attribute Survey'!S129","v":0},null,{"$f":"'Attribute Survey'!S133","v":0},null,{"$f":"'Attribute Survey'!S137","v":0}]
[null,null,null,"Ressources les mieux adaptées",null,null,null,null,{"$f":"Backbone!A648","v":"Boîte à outils pour la planification de la préparation et la réponse"},null,null,null,null,null,null,"Cette boîte à outils est conçue pour aider les pays à élaborer des plans multisectoriels de préparation et de réponse aux événements de santé publique. ",null,null,null,null,null,null,null,null,{"$f":"INDEX(Backbone!$R$2:$R$893,MATCH(I131,Backbone!$A$2:$A$893,0))","v":"Document d'orientation"},null,null,null,{"$f":"INDEX(Backbone!$S$2:$S$893,MATCH(I131,Backbone!$A$2:$A$893,0))","v":"«Une seule santé»; Généralisée"},null,null,null,{"$f":"INDEX(Backbone!$H$2:$H$893,MATCH(I131,Backbone!$A$2:$A$893,0))","v":8.4},null,{"$f":"INDEX(Backbone!$I$2:$I$893,MATCH(I131,Backbone!$A$2:$A$893,0))","v":8},null,{"$f":"INDEX(Backbone!$J$2:$J$893,MATCH(I131,Backbone!$A$2:$A$893,0))","v":8.4},null,{"$f":"INDEX(Backbone!$K$2:$K$893,MATCH(I131,Backbone!$A$2:$A$893,0))","v":6.7},null,{"$f":"INDEX(Backbone!$L$2:$L$893,MATCH(I131,Backbone!$A$2:$A$893,0))","v":2},null,{"$f":"INDEX(Backbone!$M$2:$M$893,MATCH(I131,Backbone!$A$2:$A$893,0))","v":3.5},null,{"$f":"INDEX(Backbone!$N$2:$N$893,MATCH(I131,Backbone!$A$2:$A$893,0))","v":4},null,{"$f":"INDEX(Backbone!$O$2:$O$893,MATCH(I131,Backbone!$A$2:$A$893,0))","v":6.4},null,{"$f":"INDEX(Backbone!$P$2:$P$893,MATCH(I131,Backbone!$A$2:$A$893,0))","v":8},null,{"$f":"INDEX(Backbone!$Q$2:$Q$893,MATCH(I131,Backbone!$A$2:$A$893,0))","v":0.61555555555555552},null,null,{"$f":"(AG131*$AG$22+AI131*$AI$22+AK131*$AK$22+AM131*$AM$22+AO131*$AO$22+AQ131*$AQ$22+AS131*$AS$22+AU131*$AU$22+AW131*$AW$22)/(SUM($AG$22:$AW$22)*10)","v":{"$error":"#DIV/0!"}},null,null,"Aller à \nBoîte à outils: ",null,{"$f":"HYPERLINK(\"#\"&ADDRESS(MATCH(I131,Toolbox!$C$1:$C$300),1,,,\"Toolbox\"),VLOOKUP(I131,Toolbox!$C$1:$C$300,1,FALSE))","v":"Boîte à outils pour la planification de la préparation et la réponse"}]

{"sheet":"A8_tools","index":34,"n_rows":137,"n_cols":59,"rows_kept":137,"cut":false,"hidden":false,"merged":[[95,42,99,42],[131,3,134,6],[131,8,134,13],[131,15,134,22],[131,24,134,26],[131,28,134,30],[120,32,134,32],[123,1,148,1],[136,3,140,6],[136,8,140,13],[136,15,140,22],[136,24,140,26],[136,28,140,30],[136,32,140,32],[136,34,140,34],[136,36,140,36],[120,34,134,34],[120,36,134,36],[120,38,134,38],[101,53,105,54],[136,38,140,38],[101,38,105,38],[71,3,105,6],[101,40,105,40],[101,42,105,42],[101,44,105,44],[101,46,105,46],[101,48,105,48],[101,50,105,51],[101,8,105,13],[101,15,105,22],[101,24,105,26],[101,28,105,30],[101,32,105,32],[101,34,105,34],[101,36,105,36],[95,8,99,13],[95,34,99,34],[95,36,99,36],[95,38,99,38],[95,40,99,40],[89,44,93,44],[89,46,93,46],[120,48,134,48],[127,50,134,51],[127,53,134,54],[120,40,134,40],[120,42,134,42],[120,44,134,44],[120,46,134,46],[136,48,140,48],[136,50,140,51],[136,53,140,54],[136,40,140,40],[136,42,140,42],[136,44,140,44],[136,46,140,46],[95,44,99,44],[95,46,99,46],[95,48,99,48],[95,50,99,51],[95,53,99,54],[89,53,93,54],[83,50,87,51],[77,50,81,51],[83,53,87,54],[89,48,93,48],[89,50,93,51],[83,48,87,48],[83,8,87,13],[83,15,87,22],[83,24,87,26],[83,28,87,30],[83,32,87,32],[83,34,87,34],[83,36,87,36],[89,8,93,13],[89,15,93,22],[89,24,93,26],[89,28,93,30],[89,32,93,32],[89,34,93,34],[89,36,93,36],[89,38,93,38],[83,38,87,38],[89,40,93,40],[89,42,93,42],[77,36,81,36],[77,38,81,38],[71,46,75,46],[77,40,81,40],[77,42,81,42],[77,44,81,44],[77,46,81,46],[83,40,87,40],[83,42,87,42],[83,44,87,44],[83,46,87,46],[71,48,75,48],[71,50,75,51],[71,53,75,54],[77,8,81,13],[77,15,81,22],[77,24,81,26],[77,28,81,30],[77,32,81,32],[77,34,81,34],[71,34,75,34],[71,36,75,36],[71,38,75,38],[71,40,75,40],[71,42,75,42],[71,44,75,44],[71,8,75,13],[71,15,75,22],[71,24,75,26],[71,28,75,30],[71,32,75,32],[77,48,81,48],[77,53,81,54],[64,8,68,13],[64,15,68,22],[64,24,68,26],[64,28,68,30],[64,32,68,32],[64,34,68,34],[64,36,68,36],[64,38,68,38],[64,40,68,40],[46,44,50,44],[46,46,50,46],[46,48,50,48],[64,42,68,42],[64,44,68,44],[64,46,68,46],[64,48,68,48],[64,50,68,51],[64,53,68,54],[52,53,56,54],[52,42,56,42],[52,44,56,44],[52,46,56,46],[52,48,56,48],[52,50,56,51],[58,44,62,44],[58,46,62,46],[58,48,62,48],[58,40,62,40],[58,42,62,42],[58,28,62,30],[58,32,62,32],[58,34,62,34],[58,36,62,36],[52,8,56,13],[52,15,56,22],[52,24,56,26],[52,28,56,30],[52,32,56,32],[52,34,56,34],[52,36,56,36],[52,38,56,38],[52,40,56,40],[58,8,62,13],[58,15,62,22],[58,24,62,26],[58,38,62,38],[40,50,44,51],[40,53,44,54],[46,8,50,13],[46,15,50,22],[46,24,50,26],[46,28,50,30],[46,32,50,32],[46,34,50,34],[46,36,50,36],[40,36,44,36],[40,38,44,38],[40,40,44,40],[40,42,44,42],[40,44,44,44],[40,46,44,46],[40,8,44,13],[40,15,44,22],[40,24,44,26],[40,28,44,30],[40,32,44,32],[40,34,44,34],[46,50,50,51],[46,40,50,40],[46,42,50,42],[34,8,38,13],[34,15,38,22],[34,24,38,26],[34,28,38,30],[34,32,38,32],[34,34,38,34],[34,36,38,36],[34,38,38,38],[34,40,38,40],[22,46,26,46],[22,48,26,48],[22,15,26,22],[22,24,26,26],[22,28,26,30],[22,32,26,32],[22,34,26,34],[22,36,26,36],[46,53,50,54],[34,42,38,42],[34,44,38,44],[34,46,38,46],[34,48,38,48],[34,50,38,51],[34,53,38,54],[28,53,32,54],[28,40,32,40],[28,42,32,42],[28,44,32,44],[28,46,32,46],[28,48,32,48],[28,50,32,51],[46,38,50,38],[40,48,44,48],[17,28,20,30],[17,1,105,1],[58,50,62,51],[58,53,62,54],[95,15,99,22],[95,24,99,26],[95,28,99,30],[95,32,99,32],[22,3,68,6],[22,8,26,13],[22,50,26,51],[22,53,26,54],[28,8,32,13],[28,15,32,22],[28,24,32,26],[28,28,32,30],[28,32,32,32],[28,34,32,34],[28,36,32,36],[28,38,32,38],[22,38,26,38],[22,40,26,40],[22,42,26,42],[22,44,26,44],[1,1,3,62],[22,56,26,57],[22,58,26,62],[28,56,32,57],[28,58,32,62],[34,56,38,57],[34,58,38,62],[40,56,44,57],[40,58,44,62],[6,32,20,32],[6,34,20,34],[6,36,20,36],[6,38,20,38],[6,40,20,40],[6,42,20,42],[6,44,20,44],[6,46,20,46],[6,48,20,48],[13,50,20,51],[13,53,20,54],[17,3,20,6],[17,8,20,13],[17,15,20,22],[17,24,20,26],[46,56,50,57],[46,58,50,62],[52,56,56,57],[52,58,56,62],[58,56,62,57],[58,58,62,62],[64,56,68,57],[64,58,68,62],[71,56,75,57],[71,58,75,62],[136,56,140,57],[136,58,140,62],[77,56,81,57],[77,58,81,62],[83,56,87,57],[83,58,87,62],[89,56,93,57],[89,58,93,62],[95,56,99,57],[95,58,99,62],[101,56,105,57],[101,58,105,62]]}
[]
[null,"Ressources pour l'évaluation des besoins économiques"]
[]
[]
[]
[]
[null,null,null,null,null,null,null,null,null,null,null,null,null,null,null,null,null,null,null,null,null,null,null,null,null,null,null,null,null,null,null,null,"Accessibilité",null,"Langue",null,"Facilité d'utilisation",null,"Flexibilité",null,"Besoins de données",null,"Analyse des données",null,"Acceptabilité",null,"«Une seule santé»",null,"Impact"]
[]
[]
[]
[]
[]
[]
[null,null,null,null,null,null,null,null,null,null,null,null,null,null,null,null,null,null,null,null,null,null,null,null,null,null,null,null,null,null,null,null,null,null,null,null,null,null,null,null,null,null,null,null,null,null,null,null,null,null,"SCORE BRUT",null,null,"SCORE AJUSTÉ \n(Selon les préférences de l'utilisateur)"]
[]
[]
[]
[null,"RESSOURCES DE NIVEAU 1",null,"DÉSIGNATION",null,null,null,null,"NOM DE LA RESSOURCE",null,null,null,null,null,null,"BRÈVE DESCRIPTION",null,null,null,null,null,null,null,null,"TYPE DE RESSOURCE",null,null,null,"CARACTÈRE GÉNÉRAL DE LA RESSOURCE"]
[]
[]
[]
[null,null,null,null,null,null,null,null,null,null,null,null,null,null,null,null,null,null,null,null,null,null,null,null,null,null,null,null,null,null,null,null,{"$f":"'Attribute Survey'!S22","v":0},null,{"$f":"'Attribute Survey'!S26","v":0},null,{"$f":"'Attribute Survey'!S30","v":0},null,{"$f":"'Attribute Survey'!S34","v":0},null,{"$f":"'Attribute Survey'!S38","v":0},null,{"$f":"'Attribute Survey'!S42","v":0},null,{"$f":"'Attribute Survey'!S46","v":0},null,{"$f":"'Attribute Survey'!S50","v":0},null,{"$f":"'Attribute Survey'!S54","v":0}]
[null,null,null,"Ressources les mieux adaptées",null,null,null,null,{"$f":"Backbone!A447","v":"Outil d'analyse coût-efficacité de la surveillance de la rage animale"},null,null,null,null,null,null,"Un outil basé sur Excel permettant d'effectuer une analyse coût-efficacité des programmes de prévention de la rage.",null,null,null,null,null,null,null,null,{"$f":"INDEX(Backbone!$R2:$R893,MATCH(I23,Backbone!$A2:$A893,0))","v":"Outil d'autoévaluation"},null,null,null,{"$f":"INDEX(Backbone!$S2:$S893,MATCH(I23,Backbone!$A2:$A893,0))","v":"«Une seule santé»; spécifique d'une maladie/menace "},null,null,null,{"$f":"INDEX(Backbone!$H2:$H893,MATCH(I23,Backbone!$A2:$A893,0))","v":9.6},null,{"$f":"INDEX(Backbone!$I2:$I893,MATCH(I23,Backbone!$A2:$A893,0))","v":6},null,{"$f":"INDEX(Backbone!$J2:$J893,MATCH(I23,Backbone!$A2:$A893,0))","v":7},null,{"$f":"INDEX(Backbone!$K2:$K893,MATCH(I23,Backbone!$A2:$A893,0))","v":8.6999999999999993},null,{"$f":"INDEX(Backbone!$L2:$L893,MATCH(I23,Backbone!$A2:$A893,0))","v":6.7},null,{"$f":"INDEX(Backbone!$M2:$M893,MATCH(I23,Backbone!$A2:$A893,0))","v":6.8},null,{"$f":"INDEX(Backbone!$N2:$N893,MATCH(I23,Backbone!$A2:$A893,0))","v":6},null,{"$f":"INDEX(Backbone!$O2:$O893,MATCH(I23,Backbone!$A2:$A893,0))","v":8.8000000000000007},null,{"$f":"INDEX(Backbone!$P2:$P893,MATCH(I23,Backbone!$A2:$A893,0))","v":8},null,{"$f":"INDEX(Backbone!$Q2:$Q893,MATCH(I23,Backbone!$A2:$A893,0))","v":0.75111111111111106},null,null,{"$f":"(AG23*$AG$22+AI23*$AI$22+AK23*$AK$22+AM23*$AM$22+AO23*$AO$22+AQ23*$AQ$22+AS23*$AS$22+AU23*$AU$22+AW23*$AW$22)/(SUM($AG$22:$AW$22)*10)","v":{"$error":"#DIV/0!"}},null,null,"Aller à \nBoîte à outils: ",null,{"$f":"HYPERLINK(\"#\"&ADDRESS(MATCH(I23,Toolbox!$C$1:$C$300),1,,,\"Toolbox\"),VLOOKUP(I23,Toolbox!$C$1:$C$300,1,FALSE))","v":"Outil d'analyse coût-efficacité de la surveillance de la rage animale"}]
[]
[]
[]
[]
[]
[null,null,null,null,null,null,null,null,{"$f":"Backbone!A100","v":"Évaluation des collaborations au sein d'un système de surveillance multisectoriel (EcoSur)"},null,null,null,null,null,null,"Un outil dont l'objectif est d'évaluer l'organisation et le fonctionnement de la collaboration au sein d'un système de surveillance multisectoriel, ainsi que d'analyser les points forts et les points faibles de cette collaboration.",null,null,null,null,null,null,null,null,{"$f":"INDEX(Backbone!$R$2:$R$893,MATCH(I29,Backbone!$A$2:$A$893,0))","v":"Outil ou processus dirigé/facilité"},null,null,null,{"$f":"INDEX(Backbone!$S$2:$S$893,MATCH(I29,Backbone!$A$2:$A$893,0))","v":"«Une seule santé»; Généralisée"},null,null,null,{"$f":"INDEX(Backbone!$H$2:$H$893,MATCH(I29,Backbone!$A$2:$A$893,0))","v":8.3000000000000007},null,{"$f":"INDEX(Backbone!$I$2:$I$893,MATCH(I29,Backbone!$A$2:$A$893,0))","v":6},null,{"$f":"INDEX(Backbone!$J$2:$J$893,MATCH(I29,Backbone!$A$2:$A$893,0))","v":8.5},null,{"$f":"INDEX(Backbone!$K$2:$K$893,MATCH(I29,Backbone!$A$2:$A$893,0))","v":7.8},null,{"$f":"INDEX(Backbone!$L$2:$L$893,MATCH(I29,Backbone!$A$2:$A$893,0))","v":8.3000000000000007},null,{"$f":"INDEX(Backbone!$M$2:$M$893,MATCH(I29,Backbone!$A$2:$A$893,0))","v":6.7},null,{"$f":"INDEX(Backbone!$N$2:$N$893,MATCH(I29,Backbone!$A$2:$A$893,0))","v":3.3},null,{"$f":"INDEX(Backbone!$O$2:$O$893,MATCH(I29,Backbone!$A$2:$A$893,0))","v":9.1},null,{"$f":"INDEX(Backbone!$P$2:$P$893,MATCH(I29,Backbone!$A$2:$A$893,0))","v":4.7},null,{"$f":"INDEX(Backbone!$Q$2:$Q$893,MATCH(I29,Backbone!$A$2:$A$893,0))","v":0.69666666666666677},null,null,{"$f":"(AG29*$AG$22+AI29*$AI$22+AK29*$AK$22+AM29*$AM$22+AO29*$AO$22+AQ29*$AQ$22+AS29*$AS$22+AU29*$AU$22+AW29*$AW$22)/(SUM($AG$22:$AW$22)*10)","v":{"$error":"#DIV/0!"}},null,null,"Aller à \nBoîte à outils: ",null,{"$f":"HYPERLINK(\"#\"&ADDRESS(MATCH(I29,Toolbox!$C$1:$C$300),1,,,\"Toolbox\"),VLOOKUP(I29,Toolbox!$C$1:$C$300,1,FALSE))","v":"Évaluation des collaborations au sein d'un système de surveillance multisectoriel (EcoSur)"}]
[]
[]
[]
[]
[]
[null,null,null,null,null,null,null,null,{"$f":"Backbone!A184","v":"Processus d'élimination globale de la rage chez le chien (GDREP)"},null,null,null,null,null,null,"Un outil sous Excel offrant une interface conviviale comprenant les différents aspects d'un programme d'élimination de la rage canine, répartis en deux catégories principales portant respectivement sur les aspects épidémiologiques/logistiques et financiers.",null,null,null,null,null,null,null,null,{"$f":"INDEX(Backbone!$R$2:$R$893,MATCH(I35,Backbone!$A$2:$A$893,0))","v":"Outil d'autoévaluation"},null,null,null,{"$f":"INDEX(Backbone!$S$2:$S$893,MATCH(I35,Backbone!$A$2:$A$893,0))","v":"«Une seule santé»; spécifique d'une maladie/menace "},null,null,null,{"$f":"INDEX(Backbone!$H$2:$H$893,MATCH(I35,Backbone!$A$2:$A$893,0))","v":9.1},null,{"$f":"INDEX(Backbone!$I$2:$I$893,MATCH(I35,Backbone!$A$2:$A$893,0))","v":7.3},null,{"$f":"INDEX(Backbone!$J$2:$J$893,MATCH(I35,Backbone!$A$2:$A$893,0))","v":8.6999999999999993},null,{"$f":"INDEX(Backbone!$K$1:$K$893,MATCH(I35,Backbone!$A$1:$A$893,0))","v":6},null,{"$f":"INDEX(Backbone!$L$2:$L$893,MATCH(I35,Backbone!$A$2:$A$893,0))","v":7.9},null,{"$f":"INDEX(Backbone!$M$2:$M$893,MATCH(I35,Backbone!$A$2:$A$893,0))","v":6},null,{"$f":"INDEX(Backbone!$N$2:$N$893,MATCH(I35,Backbone!$A$2:$A$893,0))","v":7},null,{"$f":"INDEX(Backbone!$O$2:$O$893,MATCH(I35,Backbone!$A$2:$A$893,0))","v":6.3},null,{"$f":"INDEX(Backbone!$P$2:$P$893,MATCH(I35,Backbone!$A$2:$A$893,0))","v":7},null,{"$f":"INDEX(Backbone!$Q$2:$Q$893,MATCH(I35,Backbone!$A$2:$A$893,0))","v":0.72555555555555551},null,null,{"$f":"(AG35*$AG$22+AI35*$AI$22+AK35*$AK$22+AM35*$AM$22+AO35*$AO$22+AQ35*$AQ$22+AS35*$AS$22+AU35*$AU$22+AW35*$AW$22)/(SUM($AG$22:$AW$22)*10)","v":{"$error":"#DIV/0!"}},null,null,"Aller à \nBoîte à outils: ",null,{"$f":"HYPERLINK(\"#\"&ADDRESS(MATCH(I35,Toolbox!$C$1:$C$300),1,,,\"Toolbox\"),VLOOKUP(I35,Toolbox!$C$1:$C$300,1,FALSE))","v":"Processus d'élimination globale de la rage chez le chien (GDREP)"}]
[]
[]
[]
[]
[]
[null,null,null,null,null,null,null,null,{"$f":"Backbone!A234","v":"Outil d'évaluation des coûts du Règlement sanitaire international (RSI) de l'Université de Georgetown"},null,null,null,null,null,null,"Cet outil aide les utilisateurs à élaborer des estimations de coûts pour la mise en place de capacités durables dans le cadre du Règlement sanitaire international (RSI).\n\n",null,null,null,null,null,null,null,null,{"$f":"INDEX(Backbone!$R$2:$R$893,MATCH(I41,Backbone!$A$2:$A$893,0))","v":"Outil d'autoévaluation"},null,null,null,{"$f":"INDEX(Backbone!$S$2:$S$893,MATCH(I41,Backbone!$A$2:$A$893,0))","v":"Spécifique du secteur; Généralisée"},null,null,null,{"$f":"INDEX(Backbone!$H$2:$H$893,MATCH(I41,Backbone!$A$2:$A$893,0))","v":9.6},null,{"$f":"INDEX(Backbone!$I$2:$I$893,MATCH(I41,Backbone!$A$2:$A$893,0))","v":6},null,{"$f":"INDEX(Backbone!$J$2:$J$893,MATCH(I41,Backbone!$A$2:$A$893,0))","v":9.3000000000000007},null,{"$f":"INDEX(Backbone!$K$1:$K$893,MATCH(I41,Backbone!$A$1:$A$893,0))","v":7.3},null,{"$f":"INDEX(Backbone!$L$2:$L$893,MATCH(I41,Backbone!$A$2:$A$893,0))","v":7.1},null,{"$f":"INDEX(Backbone!$M$2:$M$893,MATCH(I41,Backbone!$A$2:$A$893,0))","v":8.8000000000000007},null,{"$f":"INDEX(Backbone!$N$2:$N$893,MATCH(I41,Backbone!$A$2:$A$893,0))","v":9.3000000000000007},null,{"$f":"INDEX(Backbone!$O$2:$O$893,MATCH(I41,Backbone!$A$2:$A$893,0))","v":7.5},null,{"$f":"INDEX(Backbone!$P$2:$P$893,MATCH(I41,Backbone!$A$2:$A$893,0))","v":8},null,{"$f":"INDEX(Backbone!$Q$2:$Q$893,MATCH(I41,Backbone!$A$2:$A$893,0))","v":0.80999999999999994},null,null,{"$f":"(AG41*$AG$22+AI41*$AI$22+AK41*$AK$22+AM41*$AM$22+AO41*$AO$22+AQ41*$AQ$22+AS41*$AS$22+AU41*$AU$22+AW41*$AW$22)/(SUM($AG$22:$AW$22)*10)","v":{"$error":"#DIV/0!"}},null,null,"Aller à \nBoîte à outils: ",null,{"$f":"HYPERLINK(\"#\"&ADDRESS(MATCH(I41,Toolbox!$C$1:$C$300),1,,,\"Toolbox\"),VLOOKUP(I41,Toolbox!$C$1:$C$300,1,FALSE))","v":"Outil d'évaluation des coûts du Règlement sanitaire international (RSI) de l'Université de Georgetown"}]
[]
[]
[]
[]
[]
[null,null,null,null,null,null,null,null,{"$f":"Backbone!A430","v":"Outil d'évaluation des coûts d'un foyer épidémique"},null,null,null,null,null,null,"Un outil de collecte de données au format Excel qui peut être utilisé pour estimer les coûts des enquêtes régulières et des efforts de réponse aux foyers épidémiques dans un pays.",null,null,null,null,null,null,null,null,{"$f":"INDEX(Backbone!$R$2:$R$893,MATCH(I47,Backbone!$A$2:$A$893,0))","v":"Outil d'autoévaluation"},null,null,null,{"$f":"INDEX(Backbone!$S$2:$S$893,MATCH(I47,Backbone!$A$2:$A$893,0))","v":"«Une seule santé»; Généralisée"},null,null,null,{"$f":"INDEX(Backbone!$H$2:$H$893,MATCH(I47,Backbone!$A$2:$A$893,0))","v":8.5},null,{"$f":"INDEX(Backbone!$I$2:$I$893,MATCH(I47,Backbone!$A$2:$A$893,0))","v":7.3},null,{"$f":"INDEX(Backbone!$J$2:$J$893,MATCH(I47,Backbone!$A$2:$A$893,0))","v":9.3000000000000007},null,{"$f":"INDEX(Backbone!$K$1:$K$893,MATCH(I47,Backbone!$A$1:$A$893,0))","v":9.1},null,{"$f":"INDEX(Backbone!$L$2:$L$893,MATCH(I47,Backbone!$A$2:$A$893,0))","v":7.8},null,{"$f":"INDEX(Backbone!$M$2:$M$893,MATCH(I47,Backbone!$A$2:$A$893,0))","v":7.2},null,{"$f":"INDEX(Backbone!$N$2:$N$893,MATCH(I47,Backbone!$A$2:$A$893,0))","v":2.9},null,{"$f":"INDEX(Backbone!$O$2:$O$893,MATCH(I47,Backbone!$A$2:$A$893,0))","v":8.3000000000000007},null,{"$f":"INDEX(Backbone!$P$2:$P$893,MATCH(I47,Backbone!$A$2:$A$893,0))","v":7.3},null,{"$f":"INDEX(Backbone!$Q$2:$Q$893,MATCH(I47,Backbone!$A$2:$A$893,0))","v":0.75222222222222224},null,null,{"$f":"(AG47*$AG$22+AI47*$AI$22+AK47*$AK$22+AM47*$AM$22+AO47*$AO$22+AQ47*$AQ$22+AS47*$AS$22+AU47*$AU$22+AW47*$AW$22)/(SUM($AG$22:$AW$22)*10)","v":{"$error":"#DIV/0!"}},null,null,"Aller à \nBoîte à outils: ",null,{"$f":"HYPERLINK(\"#\"&ADDRESS(MATCH(I47,Toolbox!$C$1:$C$300),1,,,\"Toolbox\"),VLOOKUP(I47,Toolbox!$C$1:$C$300,1,FALSE))","v":"Outil d'évaluation des coûts d'un foyer épidémique"}]
[]
[]
[]
[]
[]
[null,null,null,null,null,null,null,null,{"$f":"Backbone!A483","v":"Outils de surveillance en ligne (SURVTOOLS) "},null,null,null,null,null,null,"Ensemble d'outils de conception et d'évaluation de la surveillance destinés aux techniciens compétents chargés de concevoir, de mettre en œuvre ou d'évaluer la surveillance de la santé animale.",null,null,null,null,null,null,null,null,{"$f":"INDEX(Backbone!$R$2:$R$893,MATCH(I53,Backbone!$A$2:$A$893,0))","v":"Matériel ou logiciel"},null,null,null,{"$f":"INDEX(Backbone!$S$2:$S$893,MATCH(I53,Backbone!$A$2:$A$893,0))","v":"Spécifique du secteur; Généralisée"},null,null,null,{"$f":"INDEX(Backbone!$H$2:$H$893,MATCH(I53,Backbone!$A$2:$A$893,0))","v":9.6},null,{"$f":"INDEX(Backbone!$I$2:$I$893,MATCH(I53,Backbone!$A$2:$A$893,0))","v":2},null,{"$f":"INDEX(Backbone!$J$2:$J$893,MATCH(I53,Backbone!$A$2:$A$893,0))","v":6.7},null,{"$f":"INDEX(Backbone!$K$1:$K$893,MATCH(I53,Backbone!$A$1:$A$893,0))","v":6.7},null,{"$f":"INDEX(Backbone!$L$2:$L$893,MATCH(I53,Backbone!$A$2:$A$893,0))","v":6.6},null,{"$f":"INDEX(Backbone!$M$2:$M$893,MATCH(I53,Backbone!$A$2:$A$893,0))","v":3.5},null,{"$f":"INDEX(Backbone!$N$2:$N$893,MATCH(I53,Backbone!$A$2:$A$893,0))","v":6.7},null,{"$f":"INDEX(Backbone!$O$2:$O$893,MATCH(I53,Backbone!$A$2:$A$893,0))","v":4.9000000000000004},null,{"$f":"INDEX(Backbone!$P$2:$P$893,MATCH(I53,Backbone!$A$2:$A$893,0))","v":4.7},null,{"$f":"INDEX(Backbone!$Q$2:$Q$893,MATCH(I53,Backbone!$A$2:$A$893,0))","v":0.57111111111111112},null,null,{"$f":"(AG53*$AG$22+AI53*$AI$22+AK53*$AK$22+AM53*$AM$22+AO53*$AO$22+AQ53*$AQ$22+AS53*$AS$22+AU53*$AU$22+AW53*$AW$22)/(SUM($AG$22:$AW$22)*10)","v":{"$error":"#DIV/0!"}},null,null,"Aller à \nBoîte à outils: ",null,{"$f":"HYPERLINK(\"#\"&ADDRESS(MATCH(I53,Toolbox!$C$1:$C$300),1,,,\"Toolbox\"),VLOOKUP(I53,Toolbox!$C$1:$C$300,1,FALSE))","v":"Outils de surveillance en ligne (SURVTOOLS) "}]
[]
[]
[]
[]
[]
[null,null,null,null,null,null,null,null,{"$f":"Backbone!A686","v":"Stratégie de financement durable pour la boîte à outils «Une seule santé»"},null,null,null,null,null,null,"Cet outil aide les plateformes «Une seule santé» et autres mécanismes de coordination à demander et recevoir des fonds pour soutenir leurs opérations et leurs activités à long terme.",null,null,null,null,null,null,null,null,{"$f":"INDEX(Backbone!$R$2:$R$893,MATCH(I59,Backbone!$A$2:$A$893,0))","v":"Document d'orientation"},null,null,null,{"$f":"INDEX(Backbone!$S$2:$S$893,MATCH(I59,Backbone!$A$2:$A$893,0))","v":"«Une seule santé»; Généralisée"},null,null,null,{"$f":"INDEX(Backbone!$H$2:$H$893,MATCH(I59,Backbone!$A$2:$A$893,0))","v":8.4},null,{"$f":"INDEX(Backbone!$I$2:$I$893,MATCH(I59,Backbone!$A$2:$A$893,0))","v":8},null,{"$f":"INDEX(Backbone!$J$2:$J$893,MATCH(I59,Backbone!$A$2:$A$893,0))","v":8.4},null,{"$f":"INDEX(Backbone!$K$1:$K$893,MATCH(I59,Backbone!$A$1:$A$893,0))","v":6.7},null,{"$f":"INDEX(Backbone!$L$2:$L$893,MATCH(I59,Backbone!$A$2:$A$893,0))","v":2},null,{"$f":"INDEX(Backbone!$M$2:$M$893,MATCH(I59,Backbone!$A$2:$A$893,0))","v":3.5},null,{"$f":"INDEX(Backbone!$N$2:$N$893,MATCH(I59,Backbone!$A$2:$A$893,0))","v":4},null,{"$f":"INDEX(Backbone!$O$2:$O$893,MATCH(I59,Backbone!$A$2:$A$893,0))","v":6.4},null,{"$f":"INDEX(Backbone!$P$2:$P$893,MATCH(I59,Backbone!$A$2:$A$893,0))","v":8},null,{"$f":"INDEX(Backbone!$Q$2:$Q$893,MATCH(I59,Backbone!$A$2:$A$893,0))","v":0.61555555555555552},null,null,{"$f":"(AG59*$AG$22+AI59*$AI$22+AK59*$AK$22+AM59*$AM$22+AO59*$AO$22+AQ59*$AQ$22+AS59*$AS$22+AU59*$AU$22+AW59*$AW$22)/(SUM($AG$22:$AW$22)*10)","v":{"$error":"#DIV/0!"}},null,null,"Aller à \nBoîte à outils: ",null,{"$f":"HYPERLINK(\"#\"&ADDRESS(MATCH(I59,Toolbox!$C$1:$C$300),1,,,\"Toolbox\"),VLOOKUP(I59,Toolbox!$C$1:$C$300,1,FALSE))","v":"Stratégie de financement durable pour la boîte à outils «Une seule santé»"}]
[]
[]
[]
[]
[]
[null,null,null,null,null,null,null,null,{"$f":"Backbone!A567","v":"SurvCost: Outil permettant d'estimer le coût de la surveillance intégrée de la maladie et la riposte"},null,null,null,null,null,null,"Un outil au format Excel conçu pour estimer les coûts d'un système de surveillance intégrée de la maladie et la riposte (IDSR).",null,null,null,null,null,null,null,null,{"$f":"INDEX(Backbone!$R$2:$R$893,MATCH(I65,Backbone!$A$2:$A$893,0))","v":"Outil d'autoévaluation"},null,null,null,{"$f":"INDEX(Backbone!$S$2:$S$893,MATCH(I65,Backbone!$A$2:$A$893,0))","v":"Spécifique du secteur; Généralisée"},null,null,null,{"$f":"INDEX(Backbone!$H$2:$H$893,MATCH(I65,Backbone!$A$2:$A$893,0))","v":9.8000000000000007},null,{"$f":"INDEX(Backbone!$I$2:$I$893,MATCH(I65,Backbone!$A$2:$A$893,0))","v":8},null,{"$f":"INDEX(Backbone!$J$2:$J$893,MATCH(I65,Backbone!$A$2:$A$893,0))","v":7.6},null,{"$f":"INDEX(Backbone!$K$1:$K$893,MATCH(I65,Backbone!$A$1:$A$893,0))","v":9.6999999999999993},null,{"$f":"INDEX(Backbone!$L$2:$L$893,MATCH(I65,Backbone!$A$2:$A$893,0))","v":7.7},null,{"$f":"INDEX(Backbone!$M$2:$M$893,MATCH(I65,Backbone!$A$2:$A$893,0))","v":5.8},null,{"$f":"INDEX(Backbone!$N$2:$N$893,MATCH(I65,Backbone!$A$2:$A$893,0))","v":7},null,{"$f":"INDEX(Backbone!$O$2:$O$893,MATCH(I65,Backbone!$A$2:$A$893,0))","v":7.3},null,{"$f":"INDEX(Backbone!$P$2:$P$893,MATCH(I65,Backbone!$A$2:$A$893,0))","v":8},null,{"$f":"INDEX(Backbone!$Q$2:$Q$893,MATCH(I65,Backbone!$A$2:$A$893,0))","v":0.78777777777777769},null,null,{"$f":"(AG65*$AG$22+AI65*$AI$22+AK65*$AK$22+AM65*$AM$22+AO65*$AO$22+AQ65*$AQ$22+AS65*$AS$22+AU65*$AU$22+AW65*$AW$22)/(SUM($AG$22:$AW$22)*10)","v":{"$error":"#DIV/0!"}},null,null,"Aller à \nBoîte à outils: ",null,{"$f":"HYPERLINK(\"#\"&ADDRESS(MATCH(I65,Toolbox!$C$1:$C$300),1,,,\"Toolbox\"),VLOOKUP(I65,Toolbox!$C$1:$C$300,1,FALSE))","v":"SurvCost: Outil permettant d'estimer le coût de la surveillance intégrée de la maladie et la riposte"}]
[]
[]
[]
[]
[]
[]
[null,null,null,"Autres ressources intéressantes",null,null,null,null,{"$f":"Backbone!A303","v":"Plan d'action national pour la sécurité sanitaire (PANSS)"},null,null,null,null,null,null,"Un processus de planification mené par le pays lui-même, capable d'accélérer la mise en œuvre des capacités essentielles du Règlement sanitaire international (RSI) et fondé sur l'approche «Une seule santé» et «à l'échelle de l'ensemble de l'administration» pour tous les risques.",null,null,null,null,null,null,null,null,{"$f":"INDEX(Backbone!$R$2:$R$893,MATCH(I72,Backbone!$A$2:$A$893,0))","v":"Document d'orientation"},null,null,null,{"$f":"INDEX(Backbone!$S$2:$S$893,MATCH(I72,Backbone!$A$2:$A$893,0))","v":"«Une seule santé»; Généralisée"},null,null,null,{"$f":"INDEX(Backbone!$H$2:$H$893,MATCH(I72,Backbone!$A$2:$A$893,0))","v":8},null,{"$f":"INDEX(Backbone!$I$2:$I$893,MATCH(I72,Backbone!$A$2:$A$893,0))","v":9},null,{"$f":"INDEX(Backbone!$J$2:$J$893,MATCH(I72,Backbone!$A$2:$A$893,0))","v":7.8},null,{"$f":"INDEX(Backbone!$K$1:$K$893,MATCH(I72,Backbone!$A$1:$A$893,0))","v":10},null,{"$f":"INDEX(Backbone!$L$2:$L$893,MATCH(I72,Backbone!$A$2:$A$893,0))","v":8},null,{"$f":"INDEX(Backbone!$M$2:$M$893,MATCH(I72,Backbone!$A$2:$A$893,0))","v":4.5},null,{"$f":"INDEX(Backbone!$N$2:$N$893,MATCH(I72,Backbone!$A$2:$A$893,0))","v":10},null,{"$f":"INDEX(Backbone!$O$2:$O$893,MATCH(I72,Backbone!$A$2:$A$893,0))","v":10},null,{"$f":"INDEX(Backbone!$P$2:$P$893,MATCH(I72,Backbone!$A$2:$A$893,0))","v":10},null,{"$f":"INDEX(Backbone!$Q$2:$Q$893,MATCH(I72,Backbone!$A$2:$A$893,0))","v":0.85888888888888881},null,null,{"$f":"(AG72*$AG$22+AI72*$AI$22+AK72*$AK$22+AM72*$AM$22+AO72*$AO$22+AQ72*$AQ$22+AS72*$AS$22+AU72*$AU$22+AW72*$AW$22)/(SUM($AG$22:$AW$22)*10)","v":{"$error":"#DIV/0!"}},null,null,"Aller à \nBoîte à outils: ",null,{"$f":"HYPERLINK(\"#\"&ADDRESS(MATCH(I72,Toolbox!$C$1:$C$300),1,,,\"Toolbox\"),VLOOKUP(I72,Toolbox!$C$1:$C$300,1,FALSE))","v":"Plan d'action national pour la sécurité sanitaire (PANSS)"}]
[]
[]
[]
[]
[]
[null,null,null,null,null,null,null,null,{"$f":"Backbone!A332","v":"Réseau pour l'évaluation de l'approche «Une seule santé» (NEOH)"},null,null,null,null,null,null,"Un outil au format Excel qui mesure la conformité d'un système de surveillance au principe «Une seule santé». ",null,null,null,null,null,null,null,null,{"$f":"INDEX(Backbone!$R$2:$R$893,MATCH(I78,Backbone!$A$2:$A$893,0))","v":"Document d'orientation"},null,null,null,{"$f":"INDEX(Backbone!$S$2:$S$893,MATCH(I78,Backbone!$A$2:$A$893,0))","v":"«Une seule santé»; Généralisée"},null,null,null,{"$f":"INDEX(Backbone!$H$2:$H$893,MATCH(I78,Backbone!$A$2:$A$893,0))","v":8.3000000000000007},null,{"$f":"INDEX(Backbone!$I$2:$I$893,MATCH(I78,Backbone!$A$2:$A$893,0))","v":7.7},null,{"$f":"INDEX(Backbone!$J$2:$J$893,MATCH(I78,Backbone!$A$2:$A$893,0))","v":5.3},null,{"$f":"INDEX(Backbone!$K$1:$K$893,MATCH(I78,Backbone!$A$1:$A$893,0))","v":8.9},null,{"$f":"INDEX(Backbone!$L$2:$L$893,MATCH(I78,Backbone!$A$2:$A$893,0))","v":7.8},null,{"$f":"INDEX(Backbone!$M$2:$M$893,MATCH(I78,Backbone!$A$2:$A$893,0))","v":4.7},null,{"$f":"INDEX(Backbone!$N$2:$N$893,MATCH(I78,Backbone!$A$2:$A$893,0))","v":5.3},null,{"$f":"INDEX(Backbone!$O$2:$O$893,MATCH(I78,Backbone!$A$2:$A$893,0))","v":8},null,{"$f":"INDEX(Backbone!$P$2:$P$893,MATCH(I78,Backbone!$A$2:$A$893,0))","v":5.3},null,{"$f":"INDEX(Backbone!$Q$2:$Q$893,MATCH(I78,Backbone!$A$2:$A$893,0))","v":0.68111111111111111},null,null,{"$f":"(AG78*$AG$22+AI78*$AI$22+AK78*$AK$22+AM78*$AM$22+AO78*$AO$22+AQ78*$AQ$22+AS78*$AS$22+AU78*$AU$22+AW78*$AW$22)/(SUM($AG$22:$AW$22)*10)","v":{"$error":"#DIV/0!"}},null,null,"Aller à \nBoîte à outils: ",null,{"$f":"HYPERLINK(\"#\"&ADDRESS(MATCH(I78,Toolbox!$C$1:$C$300),1,,,\"Toolbox\"),VLOOKUP(I78,Toolbox!$C$1:$C$300,1,FALSE))","v":"Réseau pour l'évaluation de l'approche «Une seule santé» (NEOH)"}]
[]
[]
[]
[]
[]
[null,null,null,null,null,null,null,null,{"$f":"Backbone!A420","v":"Analyse des écarts PVS de l'Organisation mondiale de la santé animale (OMSA)"},null,null,null,null,null,null,"Aide les pays à réaliser une planification détaillée en fonction des résultats de leur évaluation PVS.\n\n",null,null,null,null,null,null,null,null,{"$f":"INDEX(Backbone!$R$2:$R$893,MATCH(I84,Backbone!$A$2:$A$893,0))","v":"Outil ou processus dirigé/facilité"},null,null,null,{"$f":"INDEX(Backbone!$S$2:$S$893,MATCH(I84,Backbone!$A$2:$A$893,0))","v":"Spécifique du secteur; Généralisée"},null,null,null,{"$f":"INDEX(Backbone!$H$2:$H$893,MATCH(I84,Backbone!$A$2:$A$893,0))","v":6.8},null,{"$f":"INDEX(Backbone!$I$2:$I$893,MATCH(I84,Backbone!$A$2:$A$893,0))","v":8},null,{"$f":"INDEX(Backbone!$J$2:$J$893,MATCH(I84,Backbone!$A$2:$A$893,0))","v":5.6},null,{"$f":"INDEX(Backbone!$K$1:$K$893,MATCH(I84,Backbone!$A$1:$A$893,0))","v":10},null,{"$f":"INDEX(Backbone!$L$2:$L$893,MATCH(I84,Backbone!$A$2:$A$893,0))","v":6},null,{"$f":"INDEX(Backbone!$M$2:$M$893,MATCH(I84,Backbone!$A$2:$A$893,0))","v":4.3},null,{"$f":"INDEX(Backbone!$N$2:$N$893,MATCH(I84,Backbone!$A$2:$A$893,0))","v":9.5},null,{"$f":"INDEX(Backbone!$O$2:$O$893,MATCH(I84,Backbone!$A$2:$A$893,0))","v":4.7},null,{"$f":"INDEX(Backbone!$P$2:$P$893,MATCH(I84,Backbone!$A$2:$A$893,0))","v":7},null,{"$f":"INDEX(Backbone!$Q$2:$Q$893,MATCH(I84,Backbone!$A$2:$A$893,0))","v":0.68777777777777771},null,null,{"$f":"(AG84*$AG$22+AI84*$AI$22+AK84*$AK$22+AM84*$AM$22+AO84*$AO$22+AQ84*$AQ$22+AS84*$AS$22+AU84*$AU$22+AW84*$AW$22)/(SUM($AG$22:$AW$22)*10)","v":{"$error":"#DIV/0!"}},null,null,"Aller à \nBoîte à outils: ",null,{"$f":"HYPERLINK(\"#\"&ADDRESS(MATCH(I84,Toolbox!$C$1:$C$300),1,,,\"Toolbox\"),VLOOKUP(I84,Toolbox!$C$1:$C$300,1,FALSE))","v":"Analyse des écarts PVS de l'Organisation mondiale de la santé animale (OMSA)"}]
[]
[]
[]
[]
[]
[null,null,null,null,null,null,null,null,{"$f":"Backbone!A445","v":"Rabies ECON "},null,null,null,null,null,null,"Un outil sous Excel permettant d'estimer la charge épidémiologique imputée à la rage canine et l'impact épidémiologique et économique potentiel d'un programme de vaccination contre cette maladie.",null,null,null,null,null,null,null,null,{"$f":"INDEX(Backbone!$R$2:$R$893,MATCH(I90,Backbone!$A$2:$A$893,0))","v":"Outil d'autoévaluation"},null,null,null,{"$f":"INDEX(Backbone!$S$2:$S$893,MATCH(I90,Backbone!$A$2:$A$893,0))","v":"«Une seule santé»; spécifique d'une maladie/menace "},null,null,null,{"$f":"INDEX(Backbone!$H$2:$H$893,MATCH(I90,Backbone!$A$2:$A$893,0))","v":9.1999999999999993},null,{"$f":"INDEX(Backbone!$I$2:$I$893,MATCH(I90,Backbone!$A$2:$A$893,0))","v":6},null,{"$f":"INDEX(Backbone!$J$2:$J$893,MATCH(I90,Backbone!$A$2:$A$893,0))","v":6.6},null,{"$f":"INDEX(Backbone!$K$1:$K$893,MATCH(I90,Backbone!$A$1:$A$893,0))","v":4},null,{"$f":"INDEX(Backbone!$L$2:$L$893,MATCH(I90,Backbone!$A$2:$A$893,0))","v":7.1},null,{"$f":"INDEX(Backbone!$M$2:$M$893,MATCH(I90,Backbone!$A$2:$A$893,0))","v":5.5},null,{"$f":"INDEX(Backbone!$N$2:$N$893,MATCH(I90,Backbone!$A$2:$A$893,0))","v":4},null,{"$f":"INDEX(Backbone!$O$2:$O$893,MATCH(I90,Backbone!$A$2:$A$893,0))","v":7.6},null,{"$f":"INDEX(Backbone!$P$2:$P$893,MATCH(I90,Backbone!$A$2:$A$893,0))","v":8},null,{"$f":"INDEX(Backbone!$Q$2:$Q$893,MATCH(I90,Backbone!$A$2:$A$893,0))","v":0.64444444444444449},null,null,{"$f":"(AG90*$AG$22+AI90*$AI$22+AK90*$AK$22+AM90*$AM$22+AO90*$AO$22+AQ90*$AQ$22+AS90*$AS$22+AU90*$AU$22+AW90*$AW$22)/(SUM($AG$22:$AW$22)*10)","v":{"$error":"#DIV/0!"}},null,null,"Aller à \nBoîte à outils: ",null,{"$f":"HYPERLINK(\"#\"&ADDRESS(MATCH(I90,Toolbox!$C$1:$C$300),1,,,\"Toolbox\"),VLOOKUP(I90,Toolbox!$C$1:$C$300,1,FALSE))","v":"Rabies ECON "}]
[]
[]
[]
[]
[]
[null,null,null,null,null,null,null,null,{"$f":"Backbone!A510","v":"Cadre d'évaluation de la surveillance (SERVAL)"},null,null,null,null,null,null,"Un guide par étapes sur la façon de planifier, de structurer et de mener à bien l'évaluation des systèmes de surveillance de la santé animale.",null,null,null,null,null,null,null,null,{"$f":"INDEX(Backbone!$R$2:$R$893,MATCH(I96,Backbone!$A$2:$A$893,0))","v":"Document d'orientation"},null,null,null,{"$f":"INDEX(Backbone!$S$2:$S$893,MATCH(I96,Backbone!$A$2:$A$893,0))","v":"Spécifique du secteur; Généralisée"},null,null,null,{"$f":"INDEX(Backbone!$H$2:$H$893,MATCH(I96,Backbone!$A$2:$A$893,0))","v":8.8000000000000007},null,{"$f":"INDEX(Backbone!$I$2:$I$893,MATCH(I96,Backbone!$A$2:$A$893,0))","v":9},null,{"$f":"INDEX(Backbone!$J$2:$J$893,MATCH(I96,Backbone!$A$2:$A$893,0))","v":9},null,{"$f":"INDEX(Backbone!$K$1:$K$893,MATCH(I96,Backbone!$A$1:$A$893,0))","v":10},null,{"$f":"INDEX(Backbone!$L$2:$L$893,MATCH(I96,Backbone!$A$2:$A$893,0))","v":8.1},null,{"$f":"INDEX(Backbone!$M$2:$M$893,MATCH(I96,Backbone!$A$2:$A$893,0))","v":3.3},null,{"$f":"INDEX(Backbone!$N$2:$N$893,MATCH(I96,Backbone!$A$2:$A$893,0))","v":4},null,{"$f":"INDEX(Backbone!$O$2:$O$893,MATCH(I96,Backbone!$A$2:$A$893,0))","v":6.8},null,{"$f":"INDEX(Backbone!$P$2:$P$893,MATCH(I96,Backbone!$A$2:$A$893,0))","v":8},null,{"$f":"INDEX(Backbone!$Q$2:$Q$893,MATCH(I96,Backbone!$A$2:$A$893,0))","v":0.74444444444444446},null,null,{"$f":"(AG96*$AG$22+AI96*$AI$22+AK96*$AK$22+AM96*$AM$22+AO96*$AO$22+AQ96*$AQ$22+AS96*$AS$22+AU96*$AU$22+AW96*$AW$22)/(SUM($AG$22:$AW$22)*10)","v":{"$error":"#DIV/0!"}},null,null,"Aller à \nBoîte à outils: ",null,{"$f":"HYPERLINK(\"#\"&ADDRESS(MATCH(I96,Toolbox!$C$1:$C$300),1,,,\"Toolbox\"),VLOOKUP(I96,Toolbox!$C$1:$C$300,1,FALSE))","v":"Cadre d'évaluation de la surveillance (SERVAL)"}]
[]
[]
[]
[]
[]
[null,null,null,null,null,null,null,null,{"$f":"Backbone!A592","v":"WHO CHOICE"},null,null,null,null,null,null,"Un programme qui aide les pays à établir les priorités de leur système de santé en fonction des coûts et des impacts.",null,null,null,null,null,null,null,null,{"$f":"INDEX(Backbone!$R$2:$R$893,MATCH(I102,Backbone!$A$2:$A$893,0))","v":"Outil d'autoévaluation"},null,null,null,{"$f":"INDEX(Backbone!$S$2:$S$893,MATCH(I102,Backbone!$A$2:$A$893,0))","v":"Spécifique du secteur; Généralisée"},null,null,null,{"$f":"INDEX(Backbone!$H$2:$H$893,MATCH(I102,Backbone!$A$2:$A$893,0))","v":9.6},null,{"$f":"INDEX(Backbone!$I$2:$I$893,MATCH(I102,Backbone!$A$2:$A$893,0))","v":8},null,{"$f":"INDEX(Backbone!$J$2:$J$893,MATCH(I102,Backbone!$A$2:$A$893,0))","v":7.4},null,{"$f":"INDEX(Backbone!$K$1:$K$893,MATCH(I102,Backbone!$A$1:$A$893,0))","v":5.3},null,{"$f":"INDEX(Backbone!$L$2:$L$893,MATCH(I102,Backbone!$A$2:$A$893,0))","v":7.3},null,{"$f":"INDEX(Backbone!$M$2:$M$893,MATCH(I102,Backbone!$A$2:$A$893,0))","v":5},null,{"$f":"INDEX(Backbone!$N$2:$N$893,MATCH(I102,Backbone!$A$2:$A$893,0))","v":8.5},null,{"$f":"INDEX(Backbone!$O$2:$O$893,MATCH(I102,Backbone!$A$2:$A$893,0))","v":5},null,{"$f":"INDEX(Backbone!$P$2:$P$893,MATCH(I102,Backbone!$A$2:$A$893,0))","v":9},null,{"$f":"INDEX(Backbone!$Q$2:$Q$893,MATCH(I102,Backbone!$A$2:$A$893,0))","v":0.72333333333333327},null,null,{"$f":"(AG102*$AG$22+AI102*$AI$22+AK102*$AK$22+AM102*$AM$22+AO102*$AO$22+AQ102*$AQ$22+AS102*$AS$22+AU102*$AU$22+AW102*$AW$22)/(SUM($AG$22:$AW$22)*10)","v":{"$error":"#DIV/0!"}},null,null,"Aller à \nBoîte à outils: ",null,{"$f":"HYPERLINK(\"#\"&ADDRESS(MATCH(I102,Toolbox!$C$1:$C$300),1,,,\"Toolbox\"),VLOOKUP(I102,Toolbox!$C$1:$C$300,1,FALSE))","v":"WHO CHOICE"}]
[]
[]
[]
[]
[]
[]
[]
[]
[]
[]
[]
[]
[]
[]
[]
[]
[]
[]
[null,null,null,null,null,null,null,null,null,null,null,null,null,null,null,null,null,null,null,null,null,null,null,null,null,null,null,null,null,null,null,null,"Accessibilité",null,"Langue",null,"Facilité d'utilisation",null,"Flexibilité",null,"Besoins de données",null,"Analyse des données",null,"Acceptabilité",null,"«Une seule santé»",null,"Impact"]
[]
[]
[null,"RESSOURCES DE NIVEAU 3"]
[]
[]
[]
[null,null,null,null,null,null,null,null,null,null,null,null,null,null,null,null,null,null,null,null,null,null,null,null,null,null,null,null,null,null,null,null,null,null,null,null,null,null,null,null,null,null,null,null,null,null,null,null,null,null,"SCORE BRUT",null,null,"SCORE AJUSTÉ \n(Selon les préférences de l'utilisateur)"]
[]
[]
[]
[null,null,null,"DÉSIGNATION",null,null,null,null,"NOM DE LA RESSOURCE",null,null,null,null,null,null,"BRÈVE DESCRIPTION",null,null,null,null,null,null,null,null,"TYPE DE RESSOURCE",null,null,null,"CARACTÈRE GÉNÉRAL DE LA RESSOURCE"]
[]
[]
[]
[null,null,null,null,null,null,null,null,null,null,null,null,null,null,null,null,null,null,null,null,null,null,null,null,null,null,null,null,null,null,null,null,{"$f":"'Attribute Survey'!S231","v":0},null,{"$f":"'Attribute Survey'!S235","v":0},null,{"$f":"'Attribute Survey'!S239","v":0},null,{"$f":"'Attribute Survey'!S243","v":0},null,{"$f":"'Attribute Survey'!S247","v":0},null,{"$f":"'Attribute Survey'!S251","v":0},null,{"$f":"'Attribute Survey'!S255","v":0},null,{"$f":"'Attribute Survey'!S259","v":0},null,{"$f":"'Attribute Survey'!S263","v":0}]
[null,null,null,"Ressources les mieux adaptées",null,null,null,null,{"$f":"Backbone!A686","v":"Stratégie de financement durable pour la boîte à outils «Une seule santé»"},null,null,null,null,null,null,"Cet outil aide les plateformes «Une seule santé» et autres mécanismes de coordination à demander et recevoir des fonds pour soutenir leurs opérations et leurs activités à long terme.",null,null,null,null,null,null,null,null,{"$f":"INDEX(Backbone!$R$2:$R$893,MATCH(I137,Backbone!$A$2:$A$893,0))","v":"Document d'orientation"},null,null,null,{"$f":"INDEX(Backbone!$S$2:$S$893,MATCH(I137,Backbone!$A$2:$A$893,0))","v":"«Une seule santé»; Généralisée"},null,null,null,{"$f":"INDEX(Backbone!$H$2:$H$893,MATCH(I137,Backbone!$A$2:$A$893,0))","v":8.4},null,{"$f":"INDEX(Backbone!$I$2:$I$893,MATCH(I137,Backbone!$A$2:$A$893,0))","v":8},null,{"$f":"INDEX(Backbone!$J$2:$J$893,MATCH(I137,Backbone!$A$2:$A$893,0))","v":8.4},null,{"$f":"INDEX(Backbone!$K$2:$K$893,MATCH(I137,Backbone!$A$2:$A$893,0))","v":6.7},null,{"$f":"INDEX(Backbone!$L$2:$L$893,MATCH(I137,Backbone!$A$2:$A$893,0))","v":2},null,{"$f":"INDEX(Backbone!$M$2:$M$893,MATCH(I137,Backbone!$A$2:$A$893,0))","v":3.5},null,{"$f":"INDEX(Backbone!$N$2:$N$893,MATCH(I137,Backbone!$A$2:$A$893,0))","v":4},null,{"$f":"INDEX(Backbone!$O$2:$O$893,MATCH(I137,Backbone!$A$2:$A$893,0))","v":6.4},null,{"$f":"INDEX(Backbone!$P$2:$P$893,MATCH(I137,Backbone!$A$2:$A$893,0))","v":8},null,{"$f":"INDEX(Backbone!$Q$2:$Q$893,MATCH(I137,Backbone!$A$2:$A$893,0))","v":0.61555555555555552},null,null,{"$f":"(AG137*$AG$22+AI137*$AI$22+AK137*$AK$22+AM137*$AM$22+AO137*$AO$22+AQ137*$AQ$22+AS137*$AS$22+AU137*$AU$22+AW137*$AW$22)/(SUM($AG$22:$AW$22)*10)","v":{"$error":"#DIV/0!"}},null,null,"Aller à \nBoîte à outils: ",null,{"$f":"HYPERLINK(\"#\"&ADDRESS(MATCH(I137,Toolbox!$C$1:$C$300),1,,,\"Toolbox\"),VLOOKUP(I137,Toolbox!$C$1:$C$300,1,FALSE))","v":"Stratégie de financement durable pour la boîte à outils «Une seule santé»"}]

{"sheet":"A9_tools","index":35,"n_rows":131,"n_cols":59,"rows_kept":131,"cut":false,"hidden":false,"merged":[[130,36,134,36],[130,38,134,38],[130,40,134,40],[130,42,134,42],[130,44,134,44],[114,1,144,1],[95,40,99,40],[95,42,99,42],[95,44,99,44],[130,3,134,6],[17,1,99,1],[22,3,50,6],[22,8,26,13],[65,28,69,30],[65,32,69,32],[65,34,69,34],[71,42,75,42],[71,44,75,44],[59,38,63,38],[34,42,38,42],[34,44,38,44],[46,38,50,38],[46,40,50,40],[46,42,50,42],[130,48,134,48],[89,38,93,38],[89,40,93,40],[89,42,93,42],[130,24,134,26],[130,46,134,46],[130,8,134,13],[130,15,134,22],[77,32,81,32],[77,34,81,34],[130,28,134,30],[130,32,134,32],[130,34,134,34],[95,46,99,46],[95,48,99,48],[95,8,99,13],[95,15,99,22],[95,24,99,26],[95,28,99,30],[95,32,99,32],[95,34,99,34],[95,36,99,36],[95,38,99,38],[89,46,93,46],[114,48,128,48],[121,50,128,51],[121,53,128,54],[114,46,128,46],[83,38,87,38],[83,40,87,40],[83,42,87,42],[83,44,87,44],[83,46,87,46],[95,53,99,54],[89,53,93,54],[95,50,99,51],[89,50,93,51],[89,48,93,48],[130,50,134,51],[130,53,134,54],[125,3,128,6],[125,8,128,13],[125,15,128,22],[125,24,128,26],[125,28,128,30],[89,44,93,44],[114,32,128,32],[114,34,128,34],[114,36,128,36],[114,38,128,38],[114,40,128,40],[114,42,128,42],[114,44,128,44],[53,3,99,6],[89,8,93,13],[89,15,93,22],[89,24,93,26],[89,28,93,30],[89,32,93,32],[89,34,93,34],[89,36,93,36],[65,24,69,26],[77,48,81,48],[77,50,81,51],[77,53,81,54],[83,8,87,13],[83,15,87,22],[83,24,87,26],[83,28,87,30],[83,32,87,32],[83,34,87,34],[83,36,87,36],[77,36,81,36],[77,38,81,38],[77,40,81,40],[77,42,81,42],[77,44,81,44],[77,46,81,46],[77,8,81,13],[77,15,81,22],[77,24,81,26],[77,28,81,30],[83,50,87,51],[83,53,87,54],[83,48,87,48],[71,46,75,46],[71,48,75,48],[71,50,75,51],[71,53,75,54],[65,53,69,54],[71,8,75,13],[71,15,75,22],[71,24,75,26],[71,28,75,30],[71,32,75,32],[71,34,75,34],[71,36,75,36],[71,38,75,38],[71,40,75,40],[65,40,69,40],[65,42,69,42],[65,44,69,44],[65,46,69,46],[65,48,69,48],[65,50,69,51],[65,8,69,13],[65,15,69,22],[65,36,69,36],[65,38,69,38],[59,8,63,13],[59,15,63,22],[59,24,63,26],[59,28,63,30],[59,32,63,32],[59,34,63,34],[59,36,63,36],[53,36,57,36],[53,38,57,38],[53,8,57,13],[53,15,57,22],[53,24,57,26],[53,28,57,30],[53,32,57,32],[53,34,57,34],[46,50,50,51],[46,53,50,54],[46,44,50,44],[46,46,50,46],[46,48,50,48],[59,40,63,40],[59,42,63,42],[59,44,63,44],[59,46,63,46],[59,48,63,48],[53,48,57,48],[53,50,57,51],[53,53,57,54],[53,40,57,40],[53,42,57,42],[53,44,57,44],[53,46,57,46],[59,50,63,51],[59,53,63,54],[46,8,50,13],[46,15,50,22],[46,24,50,26],[46,28,50,30],[46,32,50,32],[46,34,50,34],[46,36,50,36],[40,36,44,36],[40,38,44,38],[40,8,44,13],[40,15,44,22],[40,24,44,26],[40,28,44,30],[40,32,44,32],[40,34,44,34],[28,24,32,26],[28,28,32,30],[40,48,44,48],[40,50,44,51],[40,53,44,54],[40,40,44,40],[40,42,44,42],[40,44,44,44],[40,46,44,46],[13,50,20,51],[13,53,20,54],[17,3,20,6],[17,8,20,13],[17,15,20,22],[17,24,20,26],[17,28,20,30],[1,1,3,62],[34,46,38,46],[34,48,38,48],[34,50,38,51],[34,53,38,54],[28,53,32,54],[34,8,38,13],[34,15,38,22],[34,24,38,26],[34,28,38,30],[34,32,38,32],[34,34,38,34],[34,36,38,36],[34,38,38,38],[34,40,38,40],[28,40,32,40],[28,42,32,42],[6,32,20,32],[6,34,20,34],[6,36,20,36],[6,38,20,38],[6,40,20,40],[6,42,20,42],[6,44,20,44],[6,46,20,46],[6,48,20,48],[22,50,26,51],[22,53,26,54],[28,8,32,13],[28,15,32,22],[28,32,32,32],[28,34,32,34],[28,36,32,36],[28,38,32,38],[22,38,26,38],[22,40,26,40],[22,42,26,42],[22,44,26,44],[22,46,26,46],[22,48,26,48],[22,15,26,22],[22,24,26,26],[22,28,26,30],[22,32,26,32],[22,34,26,34],[22,36,26,36],[28,44,32,44],[28,46,32,46],[28,48,32,48],[28,50,32,51],[22,56,26,57],[22,58,26,62],[28,56,32,57],[28,58,32,62],[34,56,38,57],[34,58,38,62],[40,56,44,57],[40,58,44,62],[46,56,50,57],[46,58,50,62],[83,56,87,57],[83,58,87,62],[89,56,93,57],[89,58,93,62],[95,56,99,57],[95,58,99,62],[130,56,134,57],[130,58,134,62],[53,56,57,57],[53,58,57,62],[59,56,63,57],[59,58,63,62],[65,56,69,57],[65,58,69,62],[71,56,75,57],[71,58,75,62],[77,56,81,57],[77,58,81,62]]}
[]
[null,"Ressources pour l'évaluation de la capacité des laboratoires"]
[]
[]
[]
[]
[null,null,null,null,null,null,null,null,null,null,null,null,null,null,null,null,null,null,null,null,null,null,null,null,null,null,null,null,null,null,null,null,"Accessibilité",null,"Langue",null,"Facilité d'utilisation",null,"Flexibilité",null,"Besoins de données",null,"Analyse des données",null,"Acceptabilité",null,"«Une seule santé»",null,"Impact"]
[]
[]
[]
[]
[]
[]
[null,null,null,null,null,null,null,null,null,null,null,null,null,null,null,null,null,null,null,null,null,null,null,null,null,null,null,null,null,null,null,null,null,null,null,null,null,null,null,null,null,null,null,null,null,null,null,null,null,null,"SCORE BRUT",null,null,"SCORE AJUSTÉ \n(Selon les préférences de l'utilisateur)"]
[]
[]
[]
[null,"RESSOURCES DE NIVEAU 1",null,"DÉSIGNATION",null,null,null,null,"NOM DE LA RESSOURCE",null,null,null,null,null,null,"BRÈVE DESCRIPTION",null,null,null,null,null,null,null,null,"TYPE DE RESSOURCE",null,null,null,"CARACTÈRE GÉNÉRAL DE LA RESSOURCE"]
[]
[]
[]
[null,null,null,null,null,null,null,null,null,null,null,null,null,null,null,null,null,null,null,null,null,null,null,null,null,null,null,null,null,null,null,null,{"$f":"'Attribute Survey'!S22","v":0},null,{"$f":"'Attribute Survey'!S26","v":0},null,{"$f":"'Attribute Survey'!S30","v":0},null,{"$f":"'Attribute Survey'!S34","v":0},null,{"$f":"'Attribute Survey'!S38","v":0},null,{"$f":"'Attribute Survey'!S42","v":0},null,{"$f":"'Attribute Survey'!S46","v":0},null,{"$f":"'Attribute Survey'!S50","v":0},null,{"$f":"'Attribute Survey'!S54","v":0}]
[null,null,null,"Ressources les mieux adaptées",null,null,null,null,{"$f":"Backbone!A100","v":"Évaluation des collaborations au sein d'un système de surveillance multisectoriel (EcoSur)"},null,null,null,null,null,null,"Un outil dont l'objectif est d'évaluer l'organisation et le fonctionnement de la collaboration au sein d'un système de surveillance multisectoriel, ainsi que d'analyser les points forts et les points faibles de cette collaboration.\n\n",null,null,null,null,null,null,null,null,{"$f":"INDEX(Backbone!$R2:$R893,MATCH(I23,Backbone!$A2:$A893,0))","v":"Outil ou processus dirigé/facilité"},null,null,null,{"$f":"INDEX(Backbone!$S2:$S893,MATCH(I23,Backbone!$A2:$A893,0))","v":"«Une seule santé»; Généralisée"},null,null,null,{"$f":"INDEX(Backbone!$H2:$H893,MATCH(I23,Backbone!$A2:$A893,0))","v":8.3000000000000007},null,{"$f":"INDEX(Backbone!$I2:$I893,MATCH(I23,Backbone!$A2:$A893,0))","v":6},null,{"$f":"INDEX(Backbone!$J2:$J893,MATCH(I23,Backbone!$A2:$A893,0))","v":8.5},null,{"$f":"INDEX(Backbone!$K2:$K893,MATCH(I23,Backbone!$A2:$A893,0))","v":7.8},null,{"$f":"INDEX(Backbone!$L2:$L893,MATCH(I23,Backbone!$A2:$A893,0))","v":8.3000000000000007},null,{"$f":"INDEX(Backbone!$M2:$M893,MATCH(I23,Backbone!$A2:$A893,0))","v":6.7},null,{"$f":"INDEX(Backbone!$N2:$N893,MATCH(I23,Backbone!$A2:$A893,0))","v":3.3},null,{"$f":"INDEX(Backbone!$O2:$O893,MATCH(I23,Backbone!$A2:$A893,0))","v":9.1},null,{"$f":"INDEX(Backbone!$P2:$P893,MATCH(I23,Backbone!$A2:$A893,0))","v":4.7},null,{"$f":"INDEX(Backbone!$Q2:$Q893,MATCH(I23,Backbone!$A2:$A893,0))","v":0.69666666666666677},null,null,{"$f":"(AG23*$AG$22+AI23*$AI$22+AK23*$AK$22+AM23*$AM$22+AO23*$AO$22+AQ23*$AQ$22+AS23*$AS$22+AU23*$AU$22+AW23*$AW$22)/(SUM($AG$22:$AW$22)*10)","v":{"$error":"#DIV/0!"}},null,null,"Aller à \nBoîte à outils: ",null,{"$f":"HYPERLINK(\"#\"&ADDRESS(MATCH(I23,Toolbox!$C$1:$C$300),1,,,\"Toolbox\"),VLOOKUP(I23,Toolbox!$C$1:$C$300,1,FALSE))","v":"Évaluation des collaborations au sein d'un système de surveillance multisectoriel (EcoSur)"}]
[]
[]
[]
[]
[]
[null,null,null,null,null,null,null,null,{"$f":"Backbone!A268","v":"Outil de cartographie des laboratoires de la FAO (LMT)"},null,null,null,null,null,null,"Cet outil au format Excel permet d'évaluer la fonctionnalité des laboratoires vétérinaires. ",null,null,null,null,null,null,null,null,{"$f":"INDEX(Backbone!$R$2:$R$893,MATCH(I29,Backbone!$A$2:$A$893,0))","v":"Outil d'autoévaluation"},null,null,null,{"$f":"INDEX(Backbone!$S$2:$S$893,MATCH(I29,Backbone!$A$2:$A$893,0))","v":"Spécifique du secteur; Généralisée"},null,null,null,{"$f":"INDEX(Backbone!$H$2:$H$893,MATCH(I29,Backbone!$A$2:$A$893,0))","v":9.8000000000000007},null,{"$f":"INDEX(Backbone!$I$2:$I$893,MATCH(I29,Backbone!$A$2:$A$893,0))","v":10},null,{"$f":"INDEX(Backbone!$J$2:$J$893,MATCH(I29,Backbone!$A$2:$A$893,0))","v":9.1999999999999993},null,{"$f":"INDEX(Backbone!$K$2:$K$893,MATCH(I29,Backbone!$A$2:$A$893,0))","v":7.8},null,{"$f":"INDEX(Backbone!$L$2:$L$893,MATCH(I29,Backbone!$A$2:$A$893,0))","v":7.2},null,{"$f":"INDEX(Backbone!$M$2:$M$893,MATCH(I29,Backbone!$A$2:$A$893,0))","v":7.1},null,{"$f":"INDEX(Backbone!$N$2:$N$893,MATCH(I29,Backbone!$A$2:$A$893,0))","v":9.6999999999999993},null,{"$f":"INDEX(Backbone!$O$2:$O$893,MATCH(I29,Backbone!$A$2:$A$893,0))","v":3},null,{"$f":"INDEX(Backbone!$P$2:$P$893,MATCH(I29,Backbone!$A$2:$A$893,0))","v":4.7},null,{"$f":"INDEX(Backbone!$Q$2:$Q$893,MATCH(I29,Backbone!$A$2:$A$893,0))","v":0.76111111111111107},null,null,{"$f":"(AG29*$AG$22+AI29*$AI$22+AK29*$AK$22+AM29*$AM$22+AO29*$AO$22+AQ29*$AQ$22+AS29*$AS$22+AU29*$AU$22+AW29*$AW$22)/(SUM($AG$22:$AW$22)*10)","v":{"$error":"#DIV/0!"}},null,null,"Aller à \nBoîte à outils: ",null,{"$f":"HYPERLINK(\"#\"&ADDRESS(MATCH(I29,Toolbox!$C$1:$C$300),1,,,\"Toolbox\"),VLOOKUP(I29,Toolbox!$C$1:$C$300,1,FALSE))","v":"Outil de cartographie des laboratoires de la FAO (LMT)"}]
[]
[]
[]
[]
[]
[null,null,null,null,null,null,null,null,{"$f":"Backbone!A271","v":"Analyse du réseau des infrastructures de laboratoire (LINA)"},null,null,null,null,null,null,"Une application en ligne facile à utiliser fournissant une fonctionnalité avancée de modélisation computationnelle et d'analyse de données offrant la possibilité de visualiser facilement, à l'aide d'organigrammes, les capacités et les moyens du réseau national de laboratoires, mais aussi de chaque laboratoire séparément.",null,null,null,null,null,null,null,null,{"$f":"INDEX(Backbone!$R$2:$R$893,MATCH(I35,Backbone!$A$2:$A$893,0))","v":"Matériel ou logiciel"},null,null,null,{"$f":"INDEX(Backbone!$S$2:$S$893,MATCH(I35,Backbone!$A$2:$A$893,0))","v":"«Une seule santé»; Généralisée"},null,null,null,{"$f":"INDEX(Backbone!$H$2:$H$893,MATCH(I35,Backbone!$A$2:$A$893,0))","v":9.6},null,{"$f":"INDEX(Backbone!$I$2:$I$893,MATCH(I35,Backbone!$A$2:$A$893,0))","v":6},null,{"$f":"INDEX(Backbone!$J$2:$J$893,MATCH(I35,Backbone!$A$2:$A$893,0))","v":7.6},null,{"$f":"INDEX(Backbone!$K$1:$K$893,MATCH(I35,Backbone!$A$1:$A$893,0))","v":9},null,{"$f":"INDEX(Backbone!$L$2:$L$893,MATCH(I35,Backbone!$A$2:$A$893,0))","v":8.3000000000000007},null,{"$f":"INDEX(Backbone!$M$2:$M$893,MATCH(I35,Backbone!$A$2:$A$893,0))","v":7},null,{"$f":"INDEX(Backbone!$N$2:$N$893,MATCH(I35,Backbone!$A$2:$A$893,0))","v":3},null,{"$f":"INDEX(Backbone!$O$2:$O$893,MATCH(I35,Backbone!$A$2:$A$893,0))","v":9.1},null,{"$f":"INDEX(Backbone!$P$2:$P$893,MATCH(I35,Backbone!$A$2:$A$893,0))","v":4},null,{"$f":"INDEX(Backbone!$Q$2:$Q$893,MATCH(I35,Backbone!$A$2:$A$893,0))","v":0.69555555555555559},null,null,{"$f":"(AG35*$AG$22+AI35*$AI$22+AK35*$AK$22+AM35*$AM$22+AO35*$AO$22+AQ35*$AQ$22+AS35*$AS$22+AU35*$AU$22+AW35*$AW$22)/(SUM($AG$22:$AW$22)*10)","v":{"$error":"#DIV/0!"}},null,null,"Aller à \nBoîte à outils: ",null,{"$f":"HYPERLINK(\"#\"&ADDRESS(MATCH(I35,Toolbox!$C$1:$C$300),1,,,\"Toolbox\"),VLOOKUP(I35,Toolbox!$C$1:$C$300,1,FALSE))","v":"Analyse du réseau des infrastructures de laboratoire (LINA)"}]
[]
[]
[]
[]
[]
[null,null,null,null,null,null,null,null,{"$f":"Backbone!A351","v":"Outil d'évaluation des réseaux de surveillance (OASIS)"},null,null,null,null,null,null,"Un outil semi-quantitatif standardisé pour l'évaluation des systèmes de surveillance des zoonoses et des maladies animales.",null,null,null,null,null,null,null,null,{"$f":"INDEX(Backbone!$R$2:$R$893,MATCH(I41,Backbone!$A$2:$A$893,0))","v":"Outil d'autoévaluation"},null,null,null,{"$f":"INDEX(Backbone!$S$2:$S$893,MATCH(I41,Backbone!$A$2:$A$893,0))","v":"Spécifique du secteur; Généralisée"},null,null,null,{"$f":"INDEX(Backbone!$H$2:$H$893,MATCH(I41,Backbone!$A$2:$A$893,0))","v":8.1999999999999993},null,{"$f":"INDEX(Backbone!$I$2:$I$893,MATCH(I41,Backbone!$A$2:$A$893,0))","v":7},null,{"$f":"INDEX(Backbone!$J$2:$J$893,MATCH(I41,Backbone!$A$2:$A$893,0))","v":8},null,{"$f":"INDEX(Backbone!$K$1:$K$893,MATCH(I41,Backbone!$A$1:$A$893,0))","v":8.3000000000000007},null,{"$f":"INDEX(Backbone!$L$2:$L$893,MATCH(I41,Backbone!$A$2:$A$893,0))","v":7},null,{"$f":"INDEX(Backbone!$M$2:$M$893,MATCH(I41,Backbone!$A$2:$A$893,0))","v":6.5},null,{"$f":"INDEX(Backbone!$N$2:$N$893,MATCH(I41,Backbone!$A$2:$A$893,0))","v":4.5},null,{"$f":"INDEX(Backbone!$O$2:$O$893,MATCH(I41,Backbone!$A$2:$A$893,0))","v":5.0999999999999996},null,{"$f":"INDEX(Backbone!$P$2:$P$893,MATCH(I41,Backbone!$A$2:$A$893,0))","v":4.5},null,{"$f":"INDEX(Backbone!$Q$2:$Q$893,MATCH(I41,Backbone!$A$2:$A$893,0))","v":0.65666666666666673},null,null,{"$f":"(AG41*$AG$22+AI41*$AI$22+AK41*$AK$22+AM41*$AM$22+AO41*$AO$22+AQ41*$AQ$22+AS41*$AS$22+AU41*$AU$22+AW41*$AW$22)/(SUM($AG$22:$AW$22)*10)","v":{"$error":"#DIV/0!"}},null,null,"Aller à \nBoîte à outils: ",null,{"$f":"HYPERLINK(\"#\"&ADDRESS(MATCH(I41,Toolbox!$C$1:$C$300),1,,,\"Toolbox\"),VLOOKUP(I41,Toolbox!$C$1:$C$300,1,FALSE))","v":"Outil d'évaluation des réseaux de surveillance (OASIS)"}]
[]
[]
[]
[]
[]
[null,null,null,null,null,null,null,null,{"$f":"Backbone!A598","v":"Outil d'évaluation des laboratoires de l'OMS"},null,null,null,null,null,null,"Cet outil fournit des orientations et des feuilles de calcul pour la collecte de données afin d'évaluer les laboratoires en deux parties: le système (LAT/System) et les installations (LAT/Facility).",null,null,null,null,null,null,null,null,{"$f":"INDEX(Backbone!$R$2:$R$893,MATCH(I47,Backbone!$A$2:$A$893,0))","v":"Outil d'autoévaluation"},null,null,null,{"$f":"INDEX(Backbone!$S$2:$S$893,MATCH(I47,Backbone!$A$2:$A$893,0))","v":"Spécifique du secteur; Généralisée"},null,null,null,{"$f":"INDEX(Backbone!$H$2:$H$893,MATCH(I47,Backbone!$A$2:$A$893,0))","v":9},null,{"$f":"INDEX(Backbone!$I$2:$I$893,MATCH(I47,Backbone!$A$2:$A$893,0))","v":10},null,{"$f":"INDEX(Backbone!$J$2:$J$893,MATCH(I47,Backbone!$A$2:$A$893,0))","v":6.4},null,{"$f":"INDEX(Backbone!$K$1:$K$893,MATCH(I47,Backbone!$A$1:$A$893,0))","v":6},null,{"$f":"INDEX(Backbone!$L$2:$L$893,MATCH(I47,Backbone!$A$2:$A$893,0))","v":7.2},null,{"$f":"INDEX(Backbone!$M$2:$M$893,MATCH(I47,Backbone!$A$2:$A$893,0))","v":5.5},null,{"$f":"INDEX(Backbone!$N$2:$N$893,MATCH(I47,Backbone!$A$2:$A$893,0))","v":6},null,{"$f":"INDEX(Backbone!$O$2:$O$893,MATCH(I47,Backbone!$A$2:$A$893,0))","v":5.8},null,{"$f":"INDEX(Backbone!$P$2:$P$893,MATCH(I47,Backbone!$A$2:$A$893,0))","v":4},null,{"$f":"INDEX(Backbone!$Q$2:$Q$893,MATCH(I47,Backbone!$A$2:$A$893,0))","v":0.66555555555555557},null,null,{"$f":"(AG47*$AG$22+AI47*$AI$22+AK47*$AK$22+AM47*$AM$22+AO47*$AO$22+AQ47*$AQ$22+AS47*$AS$22+AU47*$AU$22+AW47*$AW$22)/(SUM($AG$22:$AW$22)*10)","v":{"$error":"#DIV/0!"}},null,null,"Aller à \nBoîte à outils: ",null,{"$f":"HYPERLINK(\"#\"&ADDRESS(MATCH(I47,Toolbox!$C$1:$C$300),1,,,\"Toolbox\"),VLOOKUP(I47,Toolbox!$C$1:$C$300,1,FALSE))","v":"Outil d'évaluation des laboratoires de l'OMS"}]
[]
[]
[]
[]
[]
[]
[null,null,null,"Autres ressources intéressantes",null,null,null,null,{"$f":"Backbone!A33","v":"Cadre pour le renforcement de la prévention et du contrôle de l'anthrax "},null,null,null,null,null,null,"Le Cadre présente un historique de la maladie du charbon et explique comment améliorer la prévention et le contrôle de cette maladie chez les animaux et les humains.",null,null,null,null,null,null,null,null,{"$f":"INDEX(Backbone!$R$2:$R$893,MATCH(I54,Backbone!$A$2:$A$893,0))","v":"Document d'orientation"},null,null,null,{"$f":"INDEX(Backbone!$S$2:$S$893,MATCH(I54,Backbone!$A$2:$A$893,0))","v":"«Une seule santé»; spécifique d'une maladie/menace "},null,null,null,{"$f":"INDEX(Backbone!$H$2:$H$893,MATCH(I54,Backbone!$A$2:$A$893,0))","v":9.1},null,{"$f":"INDEX(Backbone!$I$2:$I$893,MATCH(I54,Backbone!$A$2:$A$893,0))","v":10},null,{"$f":"INDEX(Backbone!$J$2:$J$893,MATCH(I54,Backbone!$A$2:$A$893,0))","v":8.6},null,{"$f":"INDEX(Backbone!$K$1:$K$893,MATCH(I54,Backbone!$A$1:$A$893,0))","v":4.7},null,{"$f":"INDEX(Backbone!$L$2:$L$893,MATCH(I54,Backbone!$A$2:$A$893,0))","v":9.1999999999999993},null,{"$f":"INDEX(Backbone!$M$2:$M$893,MATCH(I54,Backbone!$A$2:$A$893,0))","v":2},null,{"$f":"INDEX(Backbone!$N$2:$N$893,MATCH(I54,Backbone!$A$2:$A$893,0))","v":6.3},null,{"$f":"INDEX(Backbone!$O$2:$O$893,MATCH(I54,Backbone!$A$2:$A$893,0))","v":4.3},null,{"$f":"INDEX(Backbone!$P$2:$P$893,MATCH(I54,Backbone!$A$2:$A$893,0))","v":6},null,{"$f":"INDEX(Backbone!$Q$2:$Q$893,MATCH(I54,Backbone!$A$2:$A$893,0))","v":0.66888888888888887},null,null,{"$f":"(AG54*$AG$22+AI54*$AI$22+AK54*$AK$22+AM54*$AM$22+AO54*$AO$22+AQ54*$AQ$22+AS54*$AS$22+AU54*$AU$22+AW54*$AW$22)/(SUM($AG$22:$AW$22)*10)","v":{"$error":"#DIV/0!"}},null,null,"Aller à \nBoîte à outils: ",null,{"$f":"HYPERLINK(\"#\"&ADDRESS(MATCH(I54,Toolbox!$C$1:$C$300),1,,,\"Toolbox\"),VLOOKUP(I54,Toolbox!$C$1:$C$300,1,FALSE))","v":"Cadre pour le renforcement de la prévention et du contrôle de l'anthrax "}]
[]
[]
[]
[]
[]
[null,null,null,null,null,null,null,null,{"$f":"Backbone!A195","v":"Surveillance intégrée de la maladie et la riposte (IDSR)"},null,null,null,null,null,null,"Une stratégie visant à renforcer les capacités pour la détection, la confirmation et la réponse aux cas suspects et à l'apparition de foyers épidémiques, ainsi que pour l'utilisation des informations afin de prédire et de planifier les événements de santé publique.",null,null,null,null,null,null,null,null,{"$f":"INDEX(Backbone!$R$2:$R$893,MATCH(I60,Backbone!$A$2:$A$893,0))","v":"Document d'orientation"},null,null,null,{"$f":"INDEX(Backbone!$S$2:$S$893,MATCH(I60,Backbone!$A$2:$A$893,0))","v":"Spécifique du secteur; Généralisée"},null,null,null,{"$f":"INDEX(Backbone!$H$2:$H$893,MATCH(I60,Backbone!$A$2:$A$893,0))","v":7.4},null,{"$f":"INDEX(Backbone!$I$2:$I$893,MATCH(I60,Backbone!$A$2:$A$893,0))","v":10},null,{"$f":"INDEX(Backbone!$J$2:$J$893,MATCH(I60,Backbone!$A$2:$A$893,0))","v":7.4},null,{"$f":"INDEX(Backbone!$K$1:$K$893,MATCH(I60,Backbone!$A$1:$A$893,0))","v":8.6999999999999993},null,{"$f":"INDEX(Backbone!$L$2:$L$893,MATCH(I60,Backbone!$A$2:$A$893,0))","v":6.7},null,{"$f":"INDEX(Backbone!$M$2:$M$893,MATCH(I60,Backbone!$A$2:$A$893,0))","v":4.5},null,{"$f":"INDEX(Backbone!$N$2:$N$893,MATCH(I60,Backbone!$A$2:$A$893,0))","v":8},null,{"$f":"INDEX(Backbone!$O$2:$O$893,MATCH(I60,Backbone!$A$2:$A$893,0))","v":7.2},null,{"$f":"INDEX(Backbone!$P$2:$P$893,MATCH(I60,Backbone!$A$2:$A$893,0))","v":8.5},null,{"$f":"INDEX(Backbone!$Q$2:$Q$893,MATCH(I60,Backbone!$A$2:$A$893,0))","v":0.76},null,null,{"$f":"(AG60*$AG$22+AI60*$AI$22+AK60*$AK$22+AM60*$AM$22+AO60*$AO$22+AQ60*$AQ$22+AS60*$AS$22+AU60*$AU$22+AW60*$AW$22)/(SUM($AG$22:$AW$22)*10)","v":{"$error":"#DIV/0!"}},null,null,"Aller à \nBoîte à outils: ",null,{"$f":"HYPERLINK(\"#\"&ADDRESS(MATCH(I60,Toolbox!$C$1:$C$300),1,,,\"Toolbox\"),VLOOKUP(I60,Toolbox!$C$1:$C$300,1,FALSE))","v":"Surveillance intégrée de la maladie et la riposte (IDSR)"}]
[]
[]
[]
[]
[]
[null,null,null,null,null,null,null,null,{"$f":"Backbone!A256","v":"Évaluation externe conjointe (EEC) "},null,null,null,null,null,null,"Le processus d'évaluation externe de la capacité des pays à prévenir, détecter et répondre rapidement aux menaces pour la santé publique, accessible aux États Membres de l'OMS.",null,null,null,null,null,null,null,null,{"$f":"INDEX(Backbone!$R$2:$R$893,MATCH(I66,Backbone!$A$2:$A$893,0))","v":"Outil ou processus dirigé/facilité"},null,null,null,{"$f":"INDEX(Backbone!$S$2:$S$893,MATCH(I66,Backbone!$A$2:$A$893,0))","v":"«Une seule santé»; Généralisée"},null,null,null,{"$f":"INDEX(Backbone!$H$2:$H$893,MATCH(I66,Backbone!$A$2:$A$893,0))","v":8.6999999999999993},null,{"$f":"INDEX(Backbone!$I$2:$I$893,MATCH(I66,Backbone!$A$2:$A$893,0))","v":10},null,{"$f":"INDEX(Backbone!$J$2:$J$893,MATCH(I66,Backbone!$A$2:$A$893,0))","v":7},null,{"$f":"INDEX(Backbone!$K$1:$K$893,MATCH(I66,Backbone!$A$1:$A$893,0))","v":6.3},null,{"$f":"INDEX(Backbone!$L$2:$L$893,MATCH(I66,Backbone!$A$2:$A$893,0))","v":7.7},null,{"$f":"INDEX(Backbone!$M$2:$M$893,MATCH(I66,Backbone!$A$2:$A$893,0))","v":4.7},null,{"$f":"INDEX(Backbone!$N$2:$N$893,MATCH(I66,Backbone!$A$2:$A$893,0))","v":6},null,{"$f":"INDEX(Backbone!$O$2:$O$893,MATCH(I66,Backbone!$A$2:$A$893,0))","v":9.5},null,{"$f":"INDEX(Backbone!$P$2:$P$893,MATCH(I66,Backbone!$A$2:$A$893,0))","v":10},null,{"$f":"INDEX(Backbone!$Q$2:$Q$893,MATCH(I66,Backbone!$A$2:$A$893,0))","v":0.77666666666666673},null,null,{"$f":"(AG66*$AG$22+AI66*$AI$22+AK66*$AK$22+AM66*$AM$22+AO66*$AO$22+AQ66*$AQ$22+AS66*$AS$22+AU66*$AU$22+AW66*$AW$22)/(SUM($AG$22:$AW$22)*10)","v":{"$error":"#DIV/0!"}},null,null,"Aller à \nBoîte à outils: ",null,{"$f":"HYPERLINK(\"#\"&ADDRESS(MATCH(I66,Toolbox!$C$1:$C$300),1,,,\"Toolbox\"),VLOOKUP(I66,Toolbox!$C$1:$C$300,1,FALSE))","v":"Évaluation externe conjointe (EEC) "}]
[]
[]
[]
[]
[]
[null,null,null,null,null,null,null,null,{"$f":"Backbone!A367","v":"Évaluation des systèmes «Une seule santé» pour les zoonoses prioritaires (OH-SAPZ)"},null,null,null,null,null,null,"L'outil vise à faciliter une évaluation systématique des structures nationales de coordination de l'initiative «Une seule santé» en matière de prévention, de détection et de réponse aux zoonoses.",null,null,null,null,null,null,null,null,{"$f":"INDEX(Backbone!$R$2:$R$893,MATCH(I72,Backbone!$A$2:$A$893,0))","v":"Outil d'autoévaluation"},null,null,null,{"$f":"INDEX(Backbone!$S$2:$S$893,MATCH(I72,Backbone!$A$2:$A$893,0))","v":"«Une seule santé»; Généralisée"},null,null,null,{"$f":"INDEX(Backbone!$H$2:$H$893,MATCH(I72,Backbone!$A$2:$A$893,0))","v":7.9},null,{"$f":"INDEX(Backbone!$I$2:$I$893,MATCH(I72,Backbone!$A$2:$A$893,0))","v":7.3},null,{"$f":"INDEX(Backbone!$J$2:$J$893,MATCH(I72,Backbone!$A$2:$A$893,0))","v":7.2},null,{"$f":"INDEX(Backbone!$K$1:$K$893,MATCH(I72,Backbone!$A$1:$A$893,0))","v":7.8},null,{"$f":"INDEX(Backbone!$L$2:$L$893,MATCH(I72,Backbone!$A$2:$A$893,0))","v":6.5},null,{"$f":"INDEX(Backbone!$M$2:$M$893,MATCH(I72,Backbone!$A$2:$A$893,0))","v":5.2},null,{"$f":"INDEX(Backbone!$N$2:$N$893,MATCH(I72,Backbone!$A$2:$A$893,0))","v":4},null,{"$f":"INDEX(Backbone!$O$2:$O$893,MATCH(I72,Backbone!$A$2:$A$893,0))","v":8.3000000000000007},null,{"$f":"INDEX(Backbone!$P$2:$P$893,MATCH(I72,Backbone!$A$2:$A$893,0))","v":9.6999999999999993},null,{"$f":"INDEX(Backbone!$Q$2:$Q$893,MATCH(I72,Backbone!$A$2:$A$893,0))","v":0.71000000000000008},null,null,{"$f":"(AG72*$AG$22+AI72*$AI$22+AK72*$AK$22+AM72*$AM$22+AO72*$AO$22+AQ72*$AQ$22+AS72*$AS$22+AU72*$AU$22+AW72*$AW$22)/(SUM($AG$22:$AW$22)*10)","v":{"$error":"#DIV/0!"}},null,null,"Aller à \nBoîte à outils: ",null,{"$f":"HYPERLINK(\"#\"&ADDRESS(MATCH(I72,Toolbox!$C$1:$C$300),1,,,\"Toolbox\"),VLOOKUP(I72,Toolbox!$C$1:$C$300,1,FALSE))","v":"Évaluation des systèmes «Une seule santé» pour les zoonoses prioritaires (OH-SAPZ)"}]
[]
[]
[]
[]
[]
[null,null,null,null,null,null,null,null,{"$f":"Backbone!A427","v":"Mission PVS pour les laboratoires de l'Organisation mondiale de la santé animale (OMSA)"},null,null,null,null,null,null,"Mission de l'OMSA visant à déterminer les ressources dont a besoin le réseau national de laboratoires et évaluer la pertinence de sa structure et de sa viabilité dans le contexte national.",null,null,null,null,null,null,null,null,{"$f":"INDEX(Backbone!$R$2:$R$893,MATCH(I78,Backbone!$A$2:$A$893,0))","v":"Outil ou processus dirigé/facilité"},null,null,null,{"$f":"INDEX(Backbone!$S$2:$S$893,MATCH(I78,Backbone!$A$2:$A$893,0))","v":"Spécifique du secteur; Généralisée"},null,null,null,{"$f":"INDEX(Backbone!$H$2:$H$893,MATCH(I78,Backbone!$A$2:$A$893,0))","v":7.6},null,{"$f":"INDEX(Backbone!$I$2:$I$893,MATCH(I78,Backbone!$A$2:$A$893,0))","v":9},null,{"$f":"INDEX(Backbone!$J$2:$J$893,MATCH(I78,Backbone!$A$2:$A$893,0))","v":5.4},null,{"$f":"INDEX(Backbone!$K$1:$K$893,MATCH(I78,Backbone!$A$1:$A$893,0))","v":3.3},null,{"$f":"INDEX(Backbone!$L$2:$L$893,MATCH(I78,Backbone!$A$2:$A$893,0))","v":7.6},null,{"$f":"INDEX(Backbone!$M$2:$M$893,MATCH(I78,Backbone!$A$2:$A$893,0))","v":4},null,{"$f":"INDEX(Backbone!$N$2:$N$893,MATCH(I78,Backbone!$A$2:$A$893,0))","v":6},null,{"$f":"INDEX(Backbone!$O$2:$O$893,MATCH(I78,Backbone!$A$2:$A$893,0))","v":4.3},null,{"$f":"INDEX(Backbone!$P$2:$P$893,MATCH(I78,Backbone!$A$2:$A$893,0))","v":4},null,{"$f":"INDEX(Backbone!$Q$2:$Q$893,MATCH(I78,Backbone!$A$2:$A$893,0))","v":0.56888888888888889},null,null,{"$f":"(AG78*$AG$22+AI78*$AI$22+AK78*$AK$22+AM78*$AM$22+AO78*$AO$22+AQ78*$AQ$22+AS78*$AS$22+AU78*$AU$22+AW78*$AW$22)/(SUM($AG$22:$AW$22)*10)","v":{"$error":"#DIV/0!"}},null,null,"Aller à \nBoîte à outils: ",null,{"$f":"HYPERLINK(\"#\"&ADDRESS(MATCH(I78,Toolbox!$C$1:$C$300),1,,,\"Toolbox\"),VLOOKUP(I78,Toolbox!$C$1:$C$300,1,FALSE))","v":"Mission PVS pour les laboratoires de l'Organisation mondiale de la santé animale (OMSA)"}]
[]
[]
[]
[]
[]
[null,null,null,null,null,null,null,null,{"$f":"Backbone!A648","v":"Boîte à outils pour la planification de la préparation et la réponse"},null,null,null,null,null,null,"Cette boîte à outils est conçue pour aider les pays à élaborer des plans multisectoriels de préparation et de réponse aux événements de santé publique.",null,null,null,null,null,null,null,null,{"$f":"INDEX(Backbone!$R$2:$R$893,MATCH(I84,Backbone!$A$2:$A$893,0))","v":"Document d'orientation"},null,null,null,{"$f":"INDEX(Backbone!$S$2:$S$893,MATCH(I84,Backbone!$A$2:$A$893,0))","v":"«Une seule santé»; Généralisée"},null,null,null,{"$f":"INDEX(Backbone!$H$2:$H$893,MATCH(I84,Backbone!$A$2:$A$893,0))","v":8.4},null,{"$f":"INDEX(Backbone!$I$2:$I$893,MATCH(I84,Backbone!$A$2:$A$893,0))","v":8},null,{"$f":"INDEX(Backbone!$J$2:$J$893,MATCH(I84,Backbone!$A$2:$A$893,0))","v":8.4},null,{"$f":"INDEX(Backbone!$K$1:$K$893,MATCH(I84,Backbone!$A$1:$A$893,0))","v":6.7},null,{"$f":"INDEX(Backbone!$L$2:$L$893,MATCH(I84,Backbone!$A$2:$A$893,0))","v":2},null,{"$f":"INDEX(Backbone!$M$2:$M$893,MATCH(I84,Backbone!$A$2:$A$893,0))","v":3.5},null,{"$f":"INDEX(Backbone!$N$2:$N$893,MATCH(I84,Backbone!$A$2:$A$893,0))","v":4},null,{"$f":"INDEX(Backbone!$O$2:$O$893,MATCH(I84,Backbone!$A$2:$A$893,0))","v":6.4},null,{"$f":"INDEX(Backbone!$P$2:$P$893,MATCH(I84,Backbone!$A$2:$A$893,0))","v":8},null,{"$f":"INDEX(Backbone!$Q$2:$Q$893,MATCH(I84,Backbone!$A$2:$A$893,0))","v":0.61555555555555552},null,null,{"$f":"(AG84*$AG$22+AI84*$AI$22+AK84*$AK$22+AM84*$AM$22+AO84*$AO$22+AQ84*$AQ$22+AS84*$AS$22+AU84*$AU$22+AW84*$AW$22)/(SUM($AG$22:$AW$22)*10)","v":{"$error":"#DIV/0!"}},null,null,"Aller à \nBoîte à outils: ",null,{"$f":"HYPERLINK(\"#\"&ADDRESS(MATCH(I84,Toolbox!$C$1:$C$300),1,,,\"Toolbox\"),VLOOKUP(I84,Toolbox!$C$1:$C$300,1,FALSE))","v":"Boîte à outils pour la planification de la préparation et la réponse"}]
[]
[]
[]
[]
[]
[null,null,null,null,null,null,null,null,{"$f":"Backbone!A557","v":"Outil par étapes pour l'éradication de la brucellose (STEB)"},null,null,null,null,null,null,"Un outil d'auto-évaluation basé sur un tableur, développé pour aider les pays à évaluer leur capacité actuelle à prévenir, contrôler et éliminer la brucellose.",null,null,null,null,null,null,null,null,{"$f":"INDEX(Backbone!$R$2:$R$893,MATCH(I90,Backbone!$A$2:$A$893,0))","v":"Outil ou processus dirigé/facilité"},null,null,null,{"$f":"INDEX(Backbone!$S$2:$S$893,MATCH(I90,Backbone!$A$2:$A$893,0))","v":"«Une seule santé»; spécifique d'une maladie/menace "},null,null,null,{"$f":"INDEX(Backbone!$H$2:$H$893,MATCH(I90,Backbone!$A$2:$A$893,0))","v":9},null,{"$f":"INDEX(Backbone!$I$2:$I$893,MATCH(I90,Backbone!$A$2:$A$893,0))","v":10},null,{"$f":"INDEX(Backbone!$J$2:$J$893,MATCH(I90,Backbone!$A$2:$A$893,0))","v":7.6},null,{"$f":"INDEX(Backbone!$K$1:$K$893,MATCH(I90,Backbone!$A$1:$A$893,0))","v":3.7},null,{"$f":"INDEX(Backbone!$L$2:$L$893,MATCH(I90,Backbone!$A$2:$A$893,0))","v":5.7},null,{"$f":"INDEX(Backbone!$M$2:$M$893,MATCH(I90,Backbone!$A$2:$A$893,0))","v":7.3},null,{"$f":"INDEX(Backbone!$N$2:$N$893,MATCH(I90,Backbone!$A$2:$A$893,0))","v":7},null,{"$f":"INDEX(Backbone!$O$2:$O$893,MATCH(I90,Backbone!$A$2:$A$893,0))","v":8.6},null,{"$f":"INDEX(Backbone!$P$2:$P$893,MATCH(I90,Backbone!$A$2:$A$893,0))","v":8},null,{"$f":"INDEX(Backbone!$Q$2:$Q$893,MATCH(I90,Backbone!$A$2:$A$893,0))","v":0.7433333333333334},null,null,{"$f":"(AG90*$AG$22+AI90*$AI$22+AK90*$AK$22+AM90*$AM$22+AO90*$AO$22+AQ90*$AQ$22+AS90*$AS$22+AU90*$AU$22+AW90*$AW$22)/(SUM($AG$22:$AW$22)*10)","v":{"$error":"#DIV/0!"}},null,null,"Aller à \nBoîte à outils: ",null,{"$f":"HYPERLINK(\"#\"&ADDRESS(MATCH(I90,Toolbox!$C$1:$C$300),1,,,\"Toolbox\"),VLOOKUP(I90,Toolbox!$C$1:$C$300,1,FALSE))","v":"Outil par étapes pour l'éradication de la brucellose (STEB)"}]
[]
[]
[]
[]
[]
[null,null,null,null,null,null,null,null,{"$f":"Backbone!A453","v":"Approche par étapes pour l'élimination de la rage (SARE)"},null,null,null,null,null,null,"Un outil pratique de planification, de suivi et d'évaluation qui permet d'orienter, de déployer et d'affiner des programmes de lutte contre la rage.",null,null,null,null,null,null,null,null,{"$f":"INDEX(Backbone!$R$2:$R$893,MATCH(I96,Backbone!$A$2:$A$893,0))","v":"Outil d'autoévaluation"},null,null,null,{"$f":"INDEX(Backbone!$S$2:$S$893,MATCH(I96,Backbone!$A$2:$A$893,0))","v":"«Une seule santé»; spécifique d'une maladie/menace "},null,null,null,{"$f":"INDEX(Backbone!$H$2:$H$893,MATCH(I96,Backbone!$A$2:$A$893,0))","v":8},null,{"$f":"INDEX(Backbone!$I$2:$I$893,MATCH(I96,Backbone!$A$2:$A$893,0))","v":9},null,{"$f":"INDEX(Backbone!$J$2:$J$893,MATCH(I96,Backbone!$A$2:$A$893,0))","v":6.6},null,{"$f":"INDEX(Backbone!$K$1:$K$893,MATCH(I96,Backbone!$A$1:$A$893,0))","v":3.3},null,{"$f":"INDEX(Backbone!$L$2:$L$893,MATCH(I96,Backbone!$A$2:$A$893,0))","v":5.7},null,{"$f":"INDEX(Backbone!$M$2:$M$893,MATCH(I96,Backbone!$A$2:$A$893,0))","v":6.8},null,{"$f":"INDEX(Backbone!$N$2:$N$893,MATCH(I96,Backbone!$A$2:$A$893,0))","v":8},null,{"$f":"INDEX(Backbone!$O$2:$O$893,MATCH(I96,Backbone!$A$2:$A$893,0))","v":8.6},null,{"$f":"INDEX(Backbone!$P$2:$P$893,MATCH(I96,Backbone!$A$2:$A$893,0))","v":9.5},null,{"$f":"INDEX(Backbone!$Q$2:$Q$893,MATCH(I96,Backbone!$A$2:$A$893,0))","v":0.72777777777777775},null,null,{"$f":"(AG96*$AG$22+AI96*$AI$22+AK96*$AK$22+AM96*$AM$22+AO96*$AO$22+AQ96*$AQ$22+AS96*$AS$22+AU96*$AU$22+AW96*$AW$22)/(SUM($AG$22:$AW$22)*10)","v":{"$error":"#DIV/0!"}},null,null,"Aller à \nBoîte à outils: ",null,{"$f":"HYPERLINK(\"#\"&ADDRESS(MATCH(I96,Toolbox!$C$1:$C$300),1,,,\"Toolbox\"),VLOOKUP(I96,Toolbox!$C$1:$C$300,1,FALSE))","v":"Approche par étapes pour l'élimination de la rage (SARE)"}]
[]
[]
[]
[]
[]
[]
[]
[]
[]
[]
[]
[]
[]
[]
[]
[]
[]
[]
[null,"RESSOURCES DE NIVEAU 2",null,null,null,null,null,null,null,null,null,null,null,null,null,null,null,null,null,null,null,null,null,null,null,null,null,null,null,null,null,null,"Accessibilité",null,"Langue",null,"Facilité d'utilisation",null,"Flexibilité",null,"Besoins de données",null,"Analyse des données",null,"Acceptabilité",null,"«Une seule santé»",null,"Impact"]
[]
[]
[]
[]
[]
[]
[null,null,null,null,null,null,null,null,null,null,null,null,null,null,null,null,null,null,null,null,null,null,null,null,null,null,null,null,null,null,null,null,null,null,null,null,null,null,null,null,null,null,null,null,null,null,null,null,null,null,"SCORE BRUT",null,null,"SCORE AJUSTÉ \n(Selon les préférences de l'utilisateur)"]
[]
[]
[]
[null,null,null,"DÉSIGNATION",null,null,null,null,"NOM DE LA RESSOURCE",null,null,null,null,null,null,"BRÈVE DESCRIPTION",null,null,null,null,null,null,null,null,"TYPE DE RESSOURCE",null,null,null,"CARACTÈRE GÉNÉRAL DE LA RESSOURCE"]
[]
[]
[]
[null,null,null,null,null,null,null,null,null,null,null,null,null,null,null,null,null,null,null,null,null,null,null,null,null,null,null,null,null,null,null,null,{"$f":"'Attribute Survey'!S231","v":0},null,{"$f":"'Attribute Survey'!S235","v":0},null,{"$f":"'Attribute Survey'!S239","v":0},null,{"$f":"'Attribute Survey'!S243","v":0},null,{"$f":"'Attribute Survey'!S247","v":0},null,{"$f":"'Attribute Survey'!S251","v":0},null,{"$f":"'Attribute Survey'!S255","v":0},null,{"$f":"'Attribute Survey'!S259","v":0},null,{"$f":"'Attribute Survey'!S263","v":0}]
[null,null,null,"Ressources les mieux adaptées",null,null,null,null,{"$f":"Backbone!A303","v":"Plan d'action national pour la sécurité sanitaire (PANSS)"},null,null,null,null,null,null,"Un processus de planification mené par le pays lui-même, capable d'accélérer la mise en œuvre des capacités essentielles du Règlement sanitaire international (RSI) et fondé sur l'approche «Une seule santé» et «à l'échelle de l'ensemble de l'administration» pour tous les risques.",null,null,null,null,null,null,null,null,{"$f":"INDEX(Backbone!$R$2:$R$893,MATCH(I131,Backbone!$A$2:$A$893,0))","v":"Document d'orientation"},null,null,null,{"$f":"INDEX(Backbone!$S$2:$S$893,MATCH(I131,Backbone!$A$2:$A$893,0))","v":"«Une seule santé»; Généralisée"},null,null,null,{"$f":"INDEX(Backbone!$H$2:$H$893,MATCH(I131,Backbone!$A$2:$A$893,0))","v":8},null,{"$f":"INDEX(Backbone!$I$2:$I$893,MATCH(I131,Backbone!$A$2:$A$893,0))","v":9},null,{"$f":"INDEX(Backbone!$J$2:$J$893,MATCH(I131,Backbone!$A$2:$A$893,0))","v":7.8},null,{"$f":"INDEX(Backbone!$K$2:$K$893,MATCH(I131,Backbone!$A$2:$A$893,0))","v":10},null,{"$f":"INDEX(Backbone!$L$2:$L$893,MATCH(I131,Backbone!$A$2:$A$893,0))","v":8},null,{"$f":"INDEX(Backbone!$M$2:$M$893,MATCH(I131,Backbone!$A$2:$A$893,0))","v":4.5},null,{"$f":"INDEX(Backbone!$N$2:$N$893,MATCH(I131,Backbone!$A$2:$A$893,0))","v":10},null,{"$f":"INDEX(Backbone!$O$2:$O$893,MATCH(I131,Backbone!$A$2:$A$893,0))","v":10},null,{"$f":"INDEX(Backbone!$P$2:$P$893,MATCH(I131,Backbone!$A$2:$A$893,0))","v":10},null,{"$f":"INDEX(Backbone!$Q$2:$Q$893,MATCH(I131,Backbone!$A$2:$A$893,0))","v":0.85888888888888881},null,null,{"$f":"(AG131*$AG$22+AI131*$AI$22+AK131*$AK$22+AM131*$AM$22+AO131*$AO$22+AQ131*$AQ$22+AS131*$AS$22+AU131*$AU$22+AW131*$AW$22)/(SUM($AG$22:$AW$22)*10)","v":{"$error":"#DIV/0!"}},null,null,"Aller à \nBoîte à outils: ",null,{"$f":"HYPERLINK(\"#\"&ADDRESS(MATCH(I131,Toolbox!$C$1:$C$300),1,,,\"Toolbox\"),VLOOKUP(I131,Toolbox!$C$1:$C$300,1,FALSE))","v":"Plan d'action national pour la sécurité sanitaire (PANSS)"}]

{"sheet":"A10_tools","index":36,"n_rows":89,"n_cols":59,"rows_kept":89,"cut":false,"hidden":false,"merged":[[88,48,92,48],[88,50,92,51],[88,53,92,54],[88,34,92,34],[88,36,92,36],[88,38,92,38],[88,40,92,40],[88,42,92,42],[88,44,92,44],[79,50,86,51],[79,53,86,54],[83,3,86,6],[83,8,86,13],[83,15,86,22],[83,24,86,26],[83,28,86,30],[72,1,102,1],[72,32,86,32],[72,34,86,34],[72,36,86,36],[72,38,86,38],[72,40,86,40],[72,42,86,42],[88,3,92,6],[88,8,92,13],[88,15,92,22],[88,24,92,26],[88,28,92,30],[88,32,92,32],[72,44,86,44],[72,46,86,46],[72,48,86,48],[88,46,92,46],[53,50,57,51],[53,53,57,54],[47,53,51,54],[53,8,57,13],[53,15,57,22],[53,24,57,26],[53,28,57,30],[53,32,57,32],[53,34,57,34],[53,36,57,36],[53,38,57,38],[53,40,57,40],[47,40,51,40],[47,42,51,42],[47,44,51,44],[47,46,51,46],[47,48,51,48],[47,50,51,51],[41,53,45,54],[47,8,51,13],[47,15,51,22],[47,24,51,26],[47,28,51,30],[47,32,51,32],[47,34,51,34],[47,36,51,36],[47,38,51,38],[41,38,45,38],[41,40,45,40],[41,42,45,42],[41,44,45,44],[41,46,45,46],[41,48,45,48],[28,42,32,42],[28,44,32,44],[28,46,32,46],[28,48,32,48],[28,50,32,51],[28,24,32,26],[28,28,32,30],[28,32,32,32],[41,3,57,6],[41,8,45,13],[41,15,45,22],[41,24,45,26],[41,28,45,30],[41,32,45,32],[41,34,45,34],[41,36,45,36],[34,42,38,42],[53,42,57,42],[22,3,38,6],[22,8,26,13],[41,50,45,51],[53,44,57,44],[53,46,57,46],[53,48,57,48],[34,15,38,22],[34,24,38,26],[34,28,38,30],[34,32,38,32],[34,34,38,34],[34,36,38,36],[34,38,38,38],[34,40,38,40],[28,40,32,40],[6,44,20,44],[6,46,20,46],[6,48,20,48],[13,50,20,51],[13,53,20,54],[17,1,57,1],[17,3,20,6],[17,8,20,13],[17,15,20,22],[17,24,20,26],[17,28,20,30],[22,44,26,44],[22,46,26,46],[22,48,26,48],[22,15,26,22],[22,24,26,26],[22,28,26,30],[34,44,38,44],[34,46,38,46],[34,48,38,48],[34,50,38,51],[34,53,38,54],[28,53,32,54],[34,8,38,13],[22,42,26,42],[22,32,26,32],[22,34,26,34],[22,36,26,36],[6,32,20,32],[6,34,20,34],[6,36,20,36],[6,38,20,38],[6,40,20,40],[6,42,20,42],[47,56,51,57],[47,58,51,62],[53,56,57,57],[53,58,57,62],[88,56,92,57],[88,58,92,62],[1,1,3,62],[22,56,26,57],[22,58,26,62],[28,56,32,57],[28,58,32,62],[34,56,38,57],[34,58,38,62],[41,56,45,57],[41,58,45,62],[22,50,26,51],[22,53,26,54],[28,8,32,13],[28,15,32,22],[28,34,32,34],[28,36,32,36],[28,38,32,38],[22,38,26,38],[22,40,26,40]]}
[]
[null,"Ressources pour l'évaluation du transport et de l'interprétation des laboratoires"]
[]
[]
[]
[]
[null,null,null,null,null,null,null,null,null,null,null,null,null,null,null,null,null,null,null,null,null,null,null,null,null,null,null,null,null,null,null,null,"Accessibilité",null,"Langue",null,"Facilité d'utilisation",null,"Flexibilité",null,"Besoins de données",null,"Analyse des données",null,"Acceptabilité",null,"«Une seule santé»",null,"Impact"]
[]
[]
[]
[]
[]
[]
[null,null,null,null,null,null,null,null,null,null,null,null,null,null,null,null,null,null,null,null,null,null,null,null,null,null,null,null,null,null,null,null,null,null,null,null,null,null,null,null,null,null,null,null,null,null,null,null,null,null,"SCORE BRUT",null,null,"SCORE AJUSTÉ \n(Selon les préférences de l'utilisateur)"]
[]
[]
[]
[null,"RESSOURCES DE NIVEAU 1",null,"DÉSIGNATION",null,null,null,null,"NOM DE LA RESSOURCE",null,null,null,null,null,null,"BRÈVE DESCRIPTION",null,null,null,null,null,null,null,null,"TYPE DE RESSOURCE",null,null,null,"CARACTÈRE GÉNÉRAL DE LA RESSOURCE"]
[]
[]
[]
[null,null,null,null,null,null,null,null,null,null,null,null,null,null,null,null,null,null,null,null,null,null,null,null,null,null,null,null,null,null,null,null,{"$f":"'Attribute Survey'!S22","v":0},null,{"$f":"'Attribute Survey'!S26","v":0},null,{"$f":"'Attribute Survey'!S30","v":0},null,{"$f":"'Attribute Survey'!S34","v":0},null,{"$f":"'Attribute Survey'!S38","v":0},null,{"$f":"'Attribute Survey'!S42","v":0},null,{"$f":"'Attribute Survey'!S46","v":0},null,{"$f":"'Attribute Survey'!S50","v":0},null,{"$f":"'Attribute Survey'!S54","v":0}]
[null,null,null,"Ressources les mieux adaptées",null,null,null,null,{"$f":"Backbone!A100","v":"Évaluation des collaborations au sein d'un système de surveillance multisectoriel (EcoSur)"},null,null,null,null,null,null,"Un outil dont l'objectif est d'évaluer l'organisation et le fonctionnement de la collaboration au sein d'un système de surveillance multisectoriel, ainsi que d'analyser les points forts et les points faibles de cette collaboration.\n\n",null,null,null,null,null,null,null,null,{"$f":"INDEX(Backbone!$R2:$R893,MATCH(I23,Backbone!$A2:$A893,0))","v":"Outil ou processus dirigé/facilité"},null,null,null,{"$f":"INDEX(Backbone!$S2:$S893,MATCH(I23,Backbone!$A2:$A893,0))","v":"«Une seule santé»; Généralisée"},null,null,null,{"$f":"INDEX(Backbone!$H2:$H893,MATCH(I23,Backbone!$A2:$A893,0))","v":8.3000000000000007},null,{"$f":"INDEX(Backbone!$I2:$I893,MATCH(I23,Backbone!$A2:$A893,0))","v":6},null,{"$f":"INDEX(Backbone!$J2:$J893,MATCH(I23,Backbone!$A2:$A893,0))","v":8.5},null,{"$f":"INDEX(Backbone!$K2:$K893,MATCH(I23,Backbone!$A2:$A893,0))","v":7.8},null,{"$f":"INDEX(Backbone!$L2:$L893,MATCH(I23,Backbone!$A2:$A893,0))","v":8.3000000000000007},null,{"$f":"INDEX(Backbone!$M2:$M893,MATCH(I23,Backbone!$A2:$A893,0))","v":6.7},null,{"$f":"INDEX(Backbone!$N2:$N893,MATCH(I23,Backbone!$A2:$A893,0))","v":3.3},null,{"$f":"INDEX(Backbone!$O2:$O893,MATCH(I23,Backbone!$A2:$A893,0))","v":9.1},null,{"$f":"INDEX(Backbone!$P2:$P893,MATCH(I23,Backbone!$A2:$A893,0))","v":4.7},null,{"$f":"INDEX(Backbone!$Q2:$Q893,MATCH(I23,Backbone!$A2:$A893,0))","v":0.69666666666666677},null,null,{"$f":"(AG23*$AG$22+AI23*$AI$22+AK23*$AK$22+AM23*$AM$22+AO23*$AO$22+AQ23*$AQ$22+AS23*$AS$22+AU23*$AU$22+AW23*$AW$22)/(SUM($AG$22:$AW$22)*10)","v":{"$error":"#DIV/0!"}},null,null,"Aller à \nBoîte à outils: ",null,{"$f":"HYPERLINK(\"#\"&ADDRESS(MATCH(I23,Toolbox!$C$1:$C$300),1,,,\"Toolbox\"),VLOOKUP(I23,Toolbox!$C$1:$C$300,1,FALSE))","v":"Évaluation des collaborations au sein d'un système de surveillance multisectoriel (EcoSur)"}]
[]
[]
[]
[]
[]
[null,null,null,null,null,null,null,null,{"$f":"Backbone!A271","v":"Analyse du réseau des infrastructures de laboratoire (LINA)"},null,null,null,null,null,null,"Une application en ligne facile à utiliser fournissant une fonctionnalité avancée de modélisation computationnelle et d'analyse de données offrant la possibilité de visualiser facilement, à l'aide d'organigrammes, les capacités et les moyens du réseau national de laboratoires, mais aussi de chaque laboratoire séparément. ",null,null,null,null,null,null,null,null,{"$f":"INDEX(Backbone!$R$2:$R$893,MATCH(I29,Backbone!$A$2:$A$893,0))","v":"Matériel ou logiciel"},null,null,null,{"$f":"INDEX(Backbone!$S$2:$S$893,MATCH(I29,Backbone!$A$2:$A$893,0))","v":"«Une seule santé»; Généralisée"},null,null,null,{"$f":"INDEX(Backbone!$H$2:$H$893,MATCH(I29,Backbone!$A$2:$A$893,0))","v":9.6},null,{"$f":"INDEX(Backbone!$I$2:$I$893,MATCH(I29,Backbone!$A$2:$A$893,0))","v":6},null,{"$f":"INDEX(Backbone!$J$2:$J$893,MATCH(I29,Backbone!$A$2:$A$893,0))","v":7.6},null,{"$f":"INDEX(Backbone!$K$2:$K$893,MATCH(I29,Backbone!$A$2:$A$893,0))","v":9},null,{"$f":"INDEX(Backbone!$L$2:$L$893,MATCH(I29,Backbone!$A$2:$A$893,0))","v":8.3000000000000007},null,{"$f":"INDEX(Backbone!$M$2:$M$893,MATCH(I29,Backbone!$A$2:$A$893,0))","v":7},null,{"$f":"INDEX(Backbone!$N$2:$N$893,MATCH(I29,Backbone!$A$2:$A$893,0))","v":3},null,{"$f":"INDEX(Backbone!$O$2:$O$893,MATCH(I29,Backbone!$A$2:$A$893,0))","v":9.1},null,{"$f":"INDEX(Backbone!$P$2:$P$893,MATCH(I29,Backbone!$A$2:$A$893,0))","v":4},null,{"$f":"INDEX(Backbone!$Q$2:$Q$893,MATCH(I29,Backbone!$A$2:$A$893,0))","v":0.69555555555555559},null,null,{"$f":"(AG29*$AG$22+AI29*$AI$22+AK29*$AK$22+AM29*$AM$22+AO29*$AO$22+AQ29*$AQ$22+AS29*$AS$22+AU29*$AU$22+AW29*$AW$22)/(SUM($AG$22:$AW$22)*10)","v":{"$error":"#DIV/0!"}},null,null,"Aller à \nBoîte à outils: ",null,{"$f":"HYPERLINK(\"#\"&ADDRESS(MATCH(I29,Toolbox!$C$1:$C$300),1,,,\"Toolbox\"),VLOOKUP(I29,Toolbox!$C$1:$C$300,1,FALSE))","v":"Analyse du réseau des infrastructures de laboratoire (LINA)"}]
[]
[]
[]
[]
[]
[null,null,null,null,null,null,null,null,{"$f":"Backbone!A351","v":"Outil d'évaluation des réseaux de surveillance (OASIS)"},null,null,null,null,null,null,"Un outil semi-quantitatif standardisé pour l'évaluation des systèmes de surveillance des zoonoses et des maladies animales.",null,null,null,null,null,null,null,null,{"$f":"INDEX(Backbone!$R$2:$R$893,MATCH(I35,Backbone!$A$2:$A$893,0))","v":"Outil d'autoévaluation"},null,null,null,{"$f":"INDEX(Backbone!$S$2:$S$893,MATCH(I35,Backbone!$A$2:$A$893,0))","v":"Spécifique du secteur; Généralisée"},null,null,null,{"$f":"INDEX(Backbone!$H$2:$H$893,MATCH(I35,Backbone!$A$2:$A$893,0))","v":8.1999999999999993},null,{"$f":"INDEX(Backbone!$I$2:$I$893,MATCH(I35,Backbone!$A$2:$A$893,0))","v":7},null,{"$f":"INDEX(Backbone!$J$2:$J$893,MATCH(I35,Backbone!$A$2:$A$893,0))","v":8},null,{"$f":"INDEX(Backbone!$K$1:$K$893,MATCH(I35,Backbone!$A$1:$A$893,0))","v":8.3000000000000007},null,{"$f":"INDEX(Backbone!$L$2:$L$893,MATCH(I35,Backbone!$A$2:$A$893,0))","v":7},null,{"$f":"INDEX(Backbone!$M$2:$M$893,MATCH(I35,Backbone!$A$2:$A$893,0))","v":6.5},null,{"$f":"INDEX(Backbone!$N$2:$N$893,MATCH(I35,Backbone!$A$2:$A$893,0))","v":4.5},null,{"$f":"INDEX(Backbone!$O$2:$O$893,MATCH(I35,Backbone!$A$2:$A$893,0))","v":5.0999999999999996},null,{"$f":"INDEX(Backbone!$P$2:$P$893,MATCH(I35,Backbone!$A$2:$A$893,0))","v":4.5},null,{"$f":"INDEX(Backbone!$Q$2:$Q$893,MATCH(I35,Backbone!$A$2:$A$893,0))","v":0.65666666666666673},null,null,{"$f":"(AG35*$AG$22+AI35*$AI$22+AK35*$AK$22+AM35*$AM$22+AO35*$AO$22+AQ35*$AQ$22+AS35*$AS$22+AU35*$AU$22+AW35*$AW$22)/(SUM($AG$22:$AW$22)*10)","v":{"$error":"#DIV/0!"}},null,null,"Aller à \nBoîte à outils: ",null,{"$f":"HYPERLINK(\"#\"&ADDRESS(MATCH(I35,Toolbox!$C$1:$C$300),1,,,\"Toolbox\"),VLOOKUP(I35,Toolbox!$C$1:$C$300,1,FALSE))","v":"Outil d'évaluation des réseaux de surveillance (OASIS)"}]
[]
[]
[]
[]
[]
[]
[null,null,null,"Autres ressources intéressantes",null,null,null,null,{"$f":"Backbone!A38","v":"Outil d'évaluation informatique pour les laboratoires APHL"},null,null,null,null,null,null,"Un outil permettant de recueillir des informations de référence auprès des laboratoires pour enregistrer le flux de données, le flux de travail, l'infrastructure, les ressources humaines et la formation, les équipements disponibles, la gestion des données, y compris l'enregistrement des données et l'établissement de rapports.",null,null,null,null,null,null,null,null,{"$f":"INDEX(Backbone!$R$2:$R$893,MATCH(I42,Backbone!$A$2:$A$893,0))","v":"Outil ou processus dirigé/facilité"},null,null,null,{"$f":"INDEX(Backbone!$S$2:$S$893,MATCH(I42,Backbone!$A$2:$A$893,0))","v":"Spécifique du secteur; Généralisée"},null,null,null,{"$f":"INDEX(Backbone!$H$2:$H$893,MATCH(I42,Backbone!$A$2:$A$893,0))","v":8.4},null,{"$f":"INDEX(Backbone!$I$2:$I$893,MATCH(I42,Backbone!$A$2:$A$893,0))","v":6},null,{"$f":"INDEX(Backbone!$J$2:$J$893,MATCH(I42,Backbone!$A$2:$A$893,0))","v":8},null,{"$f":"INDEX(Backbone!$K$1:$K$893,MATCH(I42,Backbone!$A$1:$A$893,0))","v":10},null,{"$f":"INDEX(Backbone!$L$2:$L$893,MATCH(I42,Backbone!$A$2:$A$893,0))","v":6},null,{"$f":"INDEX(Backbone!$M$2:$M$893,MATCH(I42,Backbone!$A$2:$A$893,0))","v":4.5},null,{"$f":"INDEX(Backbone!$N$2:$N$893,MATCH(I42,Backbone!$A$2:$A$893,0))","v":2},null,{"$f":"INDEX(Backbone!$O$2:$O$893,MATCH(I42,Backbone!$A$2:$A$893,0))","v":2.8},null,{"$f":"INDEX(Backbone!$P$2:$P$893,MATCH(I42,Backbone!$A$2:$A$893,0))","v":6},null,{"$f":"INDEX(Backbone!$Q$2:$Q$893,MATCH(I42,Backbone!$A$2:$A$893,0))","v":0.59666666666666657},null,null,{"$f":"(AG42*$AG$22+AI42*$AI$22+AK42*$AK$22+AM42*$AM$22+AO42*$AO$22+AQ42*$AQ$22+AS42*$AS$22+AU42*$AU$22+AW42*$AW$22)/(SUM($AG$22:$AW$22)*10)","v":{"$error":"#DIV/0!"}},null,null,"Aller à \nBoîte à outils: ",null,{"$f":"HYPERLINK(\"#\"&ADDRESS(MATCH(I42,Toolbox!$C$1:$C$300),1,,,\"Toolbox\"),VLOOKUP(I42,Toolbox!$C$1:$C$300,1,FALSE))","v":"Outil d'évaluation informatique pour les laboratoires APHL"}]
[]
[]
[]
[]
[]
[null,null,null,null,null,null,null,null,{"$f":"Backbone!A420","v":"Analyse des écarts PVS de l'Organisation mondiale de la santé animale (OMSA)"},null,null,null,null,null,null,"Aide les pays à réaliser une planification détaillée en fonction des résultats de leur évaluation PVS.\n\n",null,null,null,null,null,null,null,null,{"$f":"INDEX(Backbone!$R$2:$R$893,MATCH(I48,Backbone!$A$2:$A$893,0))","v":"Outil ou processus dirigé/facilité"},null,null,null,{"$f":"INDEX(Backbone!$S$2:$S$893,MATCH(I48,Backbone!$A$2:$A$893,0))","v":"Spécifique du secteur; Généralisée"},null,null,null,{"$f":"INDEX(Backbone!$H$2:$H$893,MATCH(I48,Backbone!$A$2:$A$893,0))","v":6.8},null,{"$f":"INDEX(Backbone!$I$2:$I$893,MATCH(I48,Backbone!$A$2:$A$893,0))","v":8},null,{"$f":"INDEX(Backbone!$J$2:$J$893,MATCH(I48,Backbone!$A$2:$A$893,0))","v":5.6},null,{"$f":"INDEX(Backbone!$K$1:$K$893,MATCH(I48,Backbone!$A$1:$A$893,0))","v":10},null,{"$f":"INDEX(Backbone!$L$2:$L$893,MATCH(I48,Backbone!$A$2:$A$893,0))","v":6},null,{"$f":"INDEX(Backbone!$M$2:$M$893,MATCH(I48,Backbone!$A$2:$A$893,0))","v":4.3},null,{"$f":"INDEX(Backbone!$N$2:$N$893,MATCH(I48,Backbone!$A$2:$A$893,0))","v":9.5},null,{"$f":"INDEX(Backbone!$O$2:$O$893,MATCH(I48,Backbone!$A$2:$A$893,0))","v":4.7},null,{"$f":"INDEX(Backbone!$P$2:$P$893,MATCH(I48,Backbone!$A$2:$A$893,0))","v":7},null,{"$f":"INDEX(Backbone!$Q$2:$Q$893,MATCH(I48,Backbone!$A$2:$A$893,0))","v":0.68777777777777771},null,null,{"$f":"(AG48*$AG$22+AI48*$AI$22+AK48*$AK$22+AM48*$AM$22+AO48*$AO$22+AQ48*$AQ$22+AS48*$AS$22+AU48*$AU$22+AW48*$AW$22)/(SUM($AG$22:$AW$22)*10)","v":{"$error":"#DIV/0!"}},null,null,"Aller à \nBoîte à outils: ",null,{"$f":"HYPERLINK(\"#\"&ADDRESS(MATCH(I48,Toolbox!$C$1:$C$300),1,,,\"Toolbox\"),VLOOKUP(I48,Toolbox!$C$1:$C$300,1,FALSE))","v":"Analyse des écarts PVS de l'Organisation mondiale de la santé animale (OMSA)"}]
[]
[]
[]
[]
[]
[null,null,null,null,null,null,null,null,{"$f":"Backbone!A648","v":"Boîte à outils pour la planification de la préparation et la réponse"},null,null,null,null,null,null,"Cette boîte à outils est conçue pour aider les pays à élaborer des plans multisectoriels de préparation et de réponse aux événements de santé publique. ",null,null,null,null,null,null,null,null,{"$f":"INDEX(Backbone!$R$2:$R$893,MATCH(I54,Backbone!$A$2:$A$893,0))","v":"Document d'orientation"},null,null,null,{"$f":"INDEX(Backbone!$S$2:$S$893,MATCH(I54,Backbone!$A$2:$A$893,0))","v":"«Une seule santé»; Généralisée"},null,null,null,{"$f":"INDEX(Backbone!$H$2:$H$893,MATCH(I54,Backbone!$A$2:$A$893,0))","v":8.4},null,{"$f":"INDEX(Backbone!$I$2:$I$893,MATCH(I54,Backbone!$A$2:$A$893,0))","v":8},null,{"$f":"INDEX(Backbone!$J$2:$J$893,MATCH(I54,Backbone!$A$2:$A$893,0))","v":8.4},null,{"$f":"INDEX(Backbone!$K$1:$K$893,MATCH(I54,Backbone!$A$1:$A$893,0))","v":6.7},null,{"$f":"INDEX(Backbone!$L$2:$L$893,MATCH(I54,Backbone!$A$2:$A$893,0))","v":2},null,{"$f":"INDEX(Backbone!$M$2:$M$893,MATCH(I54,Backbone!$A$2:$A$893,0))","v":3.5},null,{"$f":"INDEX(Backbone!$N$2:$N$893,MATCH(I54,Backbone!$A$2:$A$893,0))","v":4},null,{"$f":"INDEX(Backbone!$O$2:$O$893,MATCH(I54,Backbone!$A$2:$A$893,0))","v":6.4},null,{"$f":"INDEX(Backbone!$P$2:$P$893,MATCH(I54,Backbone!$A$2:$A$893,0))","v":8},null,{"$f":"INDEX(Backbone!$Q$2:$Q$893,MATCH(I54,Backbone!$A$2:$A$893,0))","v":0.61555555555555552},null,null,{"$f":"(AG54*$AG$22+AI54*$AI$22+AK54*$AK$22+AM54*$AM$22+AO54*$AO$22+AQ54*$AQ$22+AS54*$AS$22+AU54*$AU$22+AW54*$AW$22)/(SUM($AG$22:$AW$22)*10)","v":{"$error":"#DIV/0!"}},null,null,"Aller à \nBoîte à outils: ",null,{"$f":"HYPERLINK(\"#\"&ADDRESS(MATCH(I54,Toolbox!$C$1:$C$300),1,,,\"Toolbox\"),VLOOKUP(I54,Toolbox!$C$1:$C$300,1,FALSE))","v":"Boîte à outils pour la planification de la préparation et la réponse"}]
[]
[]
[]
[]
[]
[]
[]
[]
[]
[]
[]
[]
[]
[]
[]
[]
[]
[]
[null,"RESSOURCES DE NIVEAU 2",null,null,null,null,null,null,null,null,null,null,null,null,null,null,null,null,null,null,null,null,null,null,null,null,null,null,null,null,null,null,"Accessibilité",null,"Langue",null,"Facilité d'utilisation",null,"Flexibilité",null,"Besoins de données",null,"Analyse des données",null,"Acceptabilité",null,"«Une seule santé»",null,"Impact"]
[]
[]
[]
[]
[]
[]
[null,null,null,null,null,null,null,null,null,null,null,null,null,null,null,null,null,null,null,null,null,null,null,null,null,null,null,null,null,null,null,null,null,null,null,null,null,null,null,null,null,null,null,null,null,null,null,null,null,null,"SCORE BRUT",null,null,"SCORE AJUSTÉ \n(Selon les préférences de l'utilisateur)"]
[]
[]
[]
[null,null,null,"DÉSIGNATION",null,null,null,null,"NOM DE LA RESSOURCE",null,null,null,null,null,null,"BRÈVE DESCRIPTION",null,null,null,null,null,null,null,null,"TYPE DE RESSOURCE",null,null,null,"CARACTÈRE GÉNÉRAL DE LA RESSOURCE"]
[]
[]
[]
[null,null,null,null,null,null,null,null,null,null,null,null,null,null,null,null,null,null,null,null,null,null,null,null,null,null,null,null,null,null,null,null,{"$f":"'Attribute Survey'!S231","v":0},null,{"$f":"'Attribute Survey'!S235","v":0},null,{"$f":"'Attribute Survey'!S239","v":0},null,{"$f":"'Attribute Survey'!S243","v":0},null,{"$f":"'Attribute Survey'!S247","v":0},null,{"$f":"'Attribute Survey'!S251","v":0},null,{"$f":"'Attribute Survey'!S255","v":0},null,{"$f":"'Attribute Survey'!S259","v":0},null,{"$f":"'Attribute Survey'!S263","v":0}]
[null,null,null,"Ressources les mieux adaptées",null,null,null,null,{"$f":"Backbone!A648","v":"Boîte à outils pour la planification de la préparation et la réponse"},null,null,null,null,null,null,"Cette boîte à outils est conçue pour aider les pays à élaborer des plans multisectoriels de préparation et de réponse aux événements de santé publique. ",null,null,null,null,null,null,null,null,{"$f":"INDEX(Backbone!$R$2:$R$893,MATCH(I89,Backbone!$A$2:$A$893,0))","v":"Document d'orientation"},null,null,null,{"$f":"INDEX(Backbone!$S$2:$S$893,MATCH(I89,Backbone!$A$2:$A$893,0))","v":"«Une seule santé»; Généralisée"},null,null,null,{"$f":"INDEX(Backbone!$H$2:$H$893,MATCH(I89,Backbone!$A$2:$A$893,0))","v":8.4},null,{"$f":"INDEX(Backbone!$I$2:$I$893,MATCH(I89,Backbone!$A$2:$A$893,0))","v":8},null,{"$f":"INDEX(Backbone!$J$2:$J$893,MATCH(I89,Backbone!$A$2:$A$893,0))","v":8.4},null,{"$f":"INDEX(Backbone!$K$2:$K$893,MATCH(I89,Backbone!$A$2:$A$893,0))","v":6.7},null,{"$f":"INDEX(Backbone!$L$2:$L$893,MATCH(I89,Backbone!$A$2:$A$893,0))","v":2},null,{"$f":"INDEX(Backbone!$M$2:$M$893,MATCH(I89,Backbone!$A$2:$A$893,0))","v":3.5},null,{"$f":"INDEX(Backbone!$N$2:$N$893,MATCH(I89,Backbone!$A$2:$A$893,0))","v":4},null,{"$f":"INDEX(Backbone!$O$2:$O$893,MATCH(I89,Backbone!$A$2:$A$893,0))","v":6.4},null,{"$f":"INDEX(Backbone!$P$2:$P$893,MATCH(I89,Backbone!$A$2:$A$893,0))","v":8},null,{"$f":"INDEX(Backbone!$Q$2:$Q$893,MATCH(I89,Backbone!$A$2:$A$893,0))","v":0.61555555555555552},null,null,{"$f":"(AG89*$AG$22+AI89*$AI$22+AK89*$AK$22+AM89*$AM$22+AO89*$AO$22+AQ89*$AQ$22+AS89*$AS$22+AU89*$AU$22+AW89*$AW$22)/(SUM($AG$22:$AW$22)*10)","v":{"$error":"#DIV/0!"}},null,null,"Aller à \nBoîte à outils: ",null,{"$f":"HYPERLINK(\"#\"&ADDRESS(MATCH(I89,Toolbox!$C$1:$C$300),1,,,\"Toolbox\"),VLOOKUP(I89,Toolbox!$C$1:$C$300,1,FALSE))","v":"Boîte à outils pour la planification de la préparation et la réponse"}]

{"sheet":"A11_tools","index":37,"n_rows":132,"n_cols":59,"rows_kept":132,"cut":false,"hidden":false,"merged":[[131,53,135,54],[105,1,137,1],[131,36,135,36],[131,38,135,38],[131,40,135,40],[131,42,135,42],[131,44,135,44],[131,46,135,46],[119,46,123,46],[119,48,123,48],[119,50,123,51],[119,53,123,54],[131,8,135,13],[131,15,135,22],[131,24,135,26],[131,28,135,30],[131,32,135,32],[131,34,135,34],[119,34,123,34],[119,36,123,36],[119,38,123,38],[119,40,123,40],[119,3,135,6],[119,8,123,13],[119,15,123,22],[119,24,123,26],[119,28,123,30],[119,32,123,32],[112,48,116,48],[131,48,135,48],[131,50,135,51],[112,46,116,46],[112,8,116,13],[112,15,116,22],[112,24,116,26],[112,28,116,30],[112,32,116,32],[112,34,116,34],[119,42,123,42],[119,44,123,44],[125,8,129,13],[125,15,129,22],[125,24,129,26],[125,28,129,30],[125,32,129,32],[125,34,129,34],[125,36,129,36],[125,50,129,51],[107,3,110,6],[107,8,110,13],[107,15,110,22],[107,24,110,26],[107,28,110,30],[112,3,116,6],[96,32,110,32],[96,34,110,34],[96,36,110,36],[112,36,116,36],[65,3,75,6],[65,8,69,13],[65,15,69,22],[65,24,69,26],[65,28,69,30],[71,48,75,48],[71,50,75,51],[71,53,75,54],[71,34,75,34],[71,36,75,36],[71,38,75,38],[71,40,75,40],[71,42,75,42],[71,44,75,44],[71,8,75,13],[71,15,75,22],[71,24,75,26],[71,28,75,30],[71,32,75,32],[65,48,69,48],[65,50,69,51],[65,53,69,54],[58,42,62,42],[58,44,62,44],[58,46,62,46],[71,46,75,46],[58,8,62,13],[58,15,62,22],[58,24,62,26],[58,28,62,30],[58,32,62,32],[58,34,62,34],[58,36,62,36],[58,38,62,38],[58,40,62,40],[65,38,69,38],[65,40,69,40],[65,42,69,42],[65,44,69,44],[65,46,69,46],[52,53,56,54],[52,40,56,40],[52,42,56,42],[52,44,56,44],[52,46,56,46],[52,48,56,48],[52,50,56,51],[46,40,50,40],[46,42,50,42],[52,8,56,13],[52,15,56,22],[52,24,56,26],[52,28,56,30],[52,32,56,32],[52,34,56,34],[52,36,56,36],[52,38,56,38],[46,38,50,38],[40,48,44,48],[40,50,44,51],[40,53,44,54],[46,8,50,13],[46,15,50,22],[46,24,50,26],[46,28,50,30],[46,32,50,32],[46,34,50,34],[46,36,50,36],[40,36,44,36],[40,38,44,38],[40,40,44,40],[40,42,44,42],[40,44,44,44],[40,46,44,46],[40,8,44,13],[40,15,44,22],[40,24,44,26],[40,28,44,30],[40,32,44,32],[40,34,44,34],[46,50,50,51],[46,53,50,54],[13,50,20,51],[13,53,20,54],[17,1,75,1],[17,3,20,6],[17,8,20,13],[17,15,20,22],[17,24,20,26],[22,44,26,44],[22,46,26,46],[22,48,26,48],[22,15,26,22],[22,24,26,26],[22,28,26,30],[22,32,26,32],[34,15,38,22],[34,24,38,26],[34,28,38,30],[34,32,38,32],[34,34,38,34],[34,36,38,36],[34,38,38,38],[34,40,38,40],[28,40,32,40],[28,42,32,42],[6,32,20,32],[6,34,20,34],[6,36,20,36],[6,38,20,38],[6,40,20,40],[6,42,20,42],[6,44,20,44],[6,46,20,46],[6,48,20,48],[22,36,26,36],[34,42,38,42],[34,44,38,44],[34,46,38,46],[34,48,38,48],[34,50,38,51],[34,53,38,54],[28,53,32,54],[34,8,38,13],[28,44,32,44],[28,46,32,46],[28,48,32,48],[28,50,32,51],[28,24,32,26],[28,28,32,30],[1,1,3,62],[22,56,26,57],[22,58,26,62],[28,56,32,57],[28,58,32,62],[34,56,38,57],[34,58,38,62],[40,56,44,57],[40,58,44,62],[17,28,20,30],[22,3,62,6],[22,8,26,13],[22,50,26,51],[22,53,26,54],[28,8,32,13],[28,15,32,22],[28,32,32,32],[28,34,32,34],[28,36,32,36],[28,38,32,38],[22,38,26,38],[22,40,26,40],[22,42,26,42],[22,34,26,34],[125,38,129,38],[125,40,129,40],[125,42,129,42],[125,44,129,44],[125,46,129,46],[125,48,129,48],[46,56,50,57],[46,58,50,62],[52,56,56,57],[52,58,56,62],[58,56,62,57],[58,58,62,62],[71,56,75,57],[71,58,75,62],[112,56,116,57],[112,58,116,62],[65,56,69,57],[65,58,69,62],[46,44,50,44],[46,46,50,46],[46,48,50,48],[58,48,62,48],[58,50,62,51],[58,53,62,54],[125,53,129,54],[125,56,129,57],[125,58,129,62],[65,32,69,32],[65,34,69,34],[65,36,69,36],[119,56,123,57],[119,58,123,62],[131,56,135,57],[131,58,135,62],[96,48,110,48],[103,50,110,51],[103,53,110,54],[96,38,110,38],[96,40,110,40],[96,42,110,42],[96,44,110,44],[96,46,110,46],[112,50,116,51],[112,53,116,54],[112,38,116,38],[112,40,116,40],[112,42,116,42],[112,44,116,44]]}
[]
[null,"Ressources pour l'évaluation des ressources humaines"]
[]
[]
[]
[]
[null,null,null,null,null,null,null,null,null,null,null,null,null,null,null,null,null,null,null,null,null,null,null,null,null,null,null,null,null,null,null,null,"Accessibilité",null,"Langue",null,"Facilité d'utilisation",null,"Flexibilité",null,"Besoins de données",null,"Analyse des données",null,"Acceptabilité",null,"«Une seule santé»",null,"Impact"]
[]
[]
[]
[]
[]
[]
[null,null,null,null,null,null,null,null,null,null,null,null,null,null,null,null,null,null,null,null,null,null,null,null,null,null,null,null,null,null,null,null,null,null,null,null,null,null,null,null,null,null,null,null,null,null,null,null,null,null,"SCORE BRUT",null,null,"SCORE AJUSTÉ \n(Selon les préférences de l'utilisateur)"]
[]
[]
[]
[null,"RESSOURCES DE NIVEAU 1",null,"DÉSIGNATION",null,null,null,null,"NOM DE LA RESSOURCE",null,null,null,null,null,null,"BRÈVE DESCRIPTION",null,null,null,null,null,null,null,null,"TYPE DE RESSOURCE",null,null,null,"CARACTÈRE GÉNÉRAL DE LA RESSOURCE"]
[]
[]
[]
[null,null,null,null,null,null,null,null,null,null,null,null,null,null,null,null,null,null,null,null,null,null,null,null,null,null,null,null,null,null,null,null,{"$f":"'Attribute Survey'!S22","v":0},null,{"$f":"'Attribute Survey'!S26","v":0},null,{"$f":"'Attribute Survey'!S30","v":0},null,{"$f":"'Attribute Survey'!S34","v":0},null,{"$f":"'Attribute Survey'!S38","v":0},null,{"$f":"'Attribute Survey'!S42","v":0},null,{"$f":"'Attribute Survey'!S46","v":0},null,{"$f":"'Attribute Survey'!S50","v":0},null,{"$f":"'Attribute Survey'!S54","v":0}]
[null,null,null,"Ressources les mieux adaptées",null,null,null,null,"Guide de discussion sur les capacités sanitaires aux frontières (BHCDG)",null,null,null,null,null,null,"Outils de modèles pour faciliter les discussions avec les représentants au niveau national, des districts et des points de passage frontalier terrestres sur les systèmes de santé aux frontières.",null,null,null,null,null,null,null,null,{"$f":"INDEX(Backbone!$R2:$R893,MATCH(I23,Backbone!$A2:$A893,0))","v":"Document d'orientation"},null,null,null,{"$f":"INDEX(Backbone!$S2:$S893,MATCH(I23,Backbone!$A2:$A893,0))","v":"«Une seule santé»; spécifique d'une maladie/menace "},null,null,null,{"$f":"INDEX(Backbone!$H2:$H893,MATCH(I23,Backbone!$A2:$A893,0))","v":8.8000000000000007},null,{"$f":"INDEX(Backbone!$I2:$I893,MATCH(I23,Backbone!$A2:$A893,0))","v":6.7},null,{"$f":"INDEX(Backbone!$J2:$J893,MATCH(I23,Backbone!$A2:$A893,0))","v":7.6},null,{"$f":"INDEX(Backbone!$K2:$K893,MATCH(I23,Backbone!$A2:$A893,0))","v":9},null,{"$f":"INDEX(Backbone!$L2:$L893,MATCH(I23,Backbone!$A2:$A893,0))","v":7},null,{"$f":"INDEX(Backbone!$M2:$M893,MATCH(I23,Backbone!$A2:$A893,0))","v":3.8},null,{"$f":"INDEX(Backbone!$N2:$N893,MATCH(I23,Backbone!$A2:$A893,0))","v":8},null,{"$f":"INDEX(Backbone!$O2:$O893,MATCH(I23,Backbone!$A2:$A893,0))","v":8.4},null,{"$f":"INDEX(Backbone!$P2:$P893,MATCH(I23,Backbone!$A2:$A893,0))","v":6},null,{"$f":"INDEX(Backbone!$Q2:$Q893,MATCH(I23,Backbone!$A2:$A893,0))","v":0.72555555555555551},null,null,{"$f":"(AG23*$AG$22+AI23*$AI$22+AK23*$AK$22+AM23*$AM$22+AO23*$AO$22+AQ23*$AQ$22+AS23*$AS$22+AU23*$AU$22+AW23*$AW$22)/(SUM($AG$22:$AW$22)*10)","v":{"$error":"#DIV/0!"}},null,null,"Aller à \nBoîte à outils: ",null,{"$f":"HYPERLINK(\"#\"&ADDRESS(MATCH(I23,Toolbox!$C$1:$C$300),1,,,\"Toolbox\"),VLOOKUP(I23,Toolbox!$C$1:$C$300,1,FALSE))","v":"Guide de discussion sur les capacités sanitaires aux frontières (BHCDG)"}]
[]
[]
[]
[]
[]
[null,null,null,null,null,null,null,null,{"$f":"Backbone!A174","v":"Outil de cartographie épidémiologique (EMT)"},null,null,null,null,null,null," Un atelier aidant les secteurs de la santé animale et de la santé humaine des pays à explorer des zones de chevauchement et à mettre en place, le cas échéant, des passerelles appropriées pour faciliter la coordination. ",null,null,null,null,null,null,null,null,{"$f":"INDEX(Backbone!$R$2:$R$893,MATCH(I29,Backbone!$A$2:$A$893,0))","v":"Outil ou processus dirigé/facilité"},null,null,null,{"$f":"INDEX(Backbone!$S$2:$S$893,MATCH(I29,Backbone!$A$2:$A$893,0))","v":"Spécifique du secteur; Généralisée"},null,null,null,{"$f":"INDEX(Backbone!$H$2:$H$893,MATCH(I29,Backbone!$A$2:$A$893,0))","v":6.6},null,{"$f":"INDEX(Backbone!$I$2:$I$893,MATCH(I29,Backbone!$A$2:$A$893,0))","v":8},null,{"$f":"INDEX(Backbone!$J$2:$J$893,MATCH(I29,Backbone!$A$2:$A$893,0))","v":7.4},null,{"$f":"INDEX(Backbone!$K$2:$K$893,MATCH(I29,Backbone!$A$2:$A$893,0))","v":7.3},null,{"$f":"INDEX(Backbone!$L$2:$L$893,MATCH(I29,Backbone!$A$2:$A$893,0))","v":6.9},null,{"$f":"INDEX(Backbone!$M$2:$M$893,MATCH(I29,Backbone!$A$2:$A$893,0))","v":5},null,{"$f":"INDEX(Backbone!$N$2:$N$893,MATCH(I29,Backbone!$A$2:$A$893,0))","v":3.5},null,{"$f":"INDEX(Backbone!$O$2:$O$893,MATCH(I29,Backbone!$A$2:$A$893,0))","v":6.8},null,{"$f":"INDEX(Backbone!$P$2:$P$893,MATCH(I29,Backbone!$A$2:$A$893,0))","v":5.5},null,{"$f":"INDEX(Backbone!$Q$2:$Q$893,MATCH(I29,Backbone!$A$2:$A$893,0))","v":0.6333333333333333},null,null,{"$f":"(AG29*$AG$22+AI29*$AI$22+AK29*$AK$22+AM29*$AM$22+AO29*$AO$22+AQ29*$AQ$22+AS29*$AS$22+AU29*$AU$22+AW29*$AW$22)/(SUM($AG$22:$AW$22)*10)","v":{"$error":"#DIV/0!"}},null,null,"Aller à \nBoîte à outils: ",null,{"$f":"HYPERLINK(\"#\"&ADDRESS(MATCH(I29,Toolbox!$C$1:$C$300),1,,,\"Toolbox\"),VLOOKUP(I29,Toolbox!$C$1:$C$300,1,FALSE))","v":"Outil de cartographie épidémiologique (EMT)"}]
[]
[]
[]
[]
[]
[null,null,null,null,null,null,null,null,{"$f":"Backbone!A100","v":"Évaluation des collaborations au sein d'un système de surveillance multisectoriel (EcoSur)"},null,null,null,null,null,null,"Un outil d'évaluation de la préparation et des besoins utilisé pour déterminer l'état de préparation du pays et dresser la liste des besoins nécessaires au développement d'un système de surveillance «Une seule santé» basé sur des facteurs de réussite critiques.",null,null,null,null,null,null,null,null,{"$f":"INDEX(Backbone!$R$2:$R$893,MATCH(I35,Backbone!$A$2:$A$893,0))","v":"Outil ou processus dirigé/facilité"},null,null,null,{"$f":"INDEX(Backbone!$S$2:$S$893,MATCH(I35,Backbone!$A$2:$A$893,0))","v":"«Une seule santé»; Généralisée"},null,null,null,{"$f":"INDEX(Backbone!$H$2:$H$893,MATCH(I35,Backbone!$A$2:$A$893,0))","v":8.3000000000000007},null,{"$f":"INDEX(Backbone!$I$2:$I$893,MATCH(I35,Backbone!$A$2:$A$893,0))","v":6},null,{"$f":"INDEX(Backbone!$J$2:$J$893,MATCH(I35,Backbone!$A$2:$A$893,0))","v":8.5},null,{"$f":"INDEX(Backbone!$K$1:$K$893,MATCH(I35,Backbone!$A$1:$A$893,0))","v":7.8},null,{"$f":"INDEX(Backbone!$L$2:$L$893,MATCH(I35,Backbone!$A$2:$A$893,0))","v":8.3000000000000007},null,{"$f":"INDEX(Backbone!$M$2:$M$893,MATCH(I35,Backbone!$A$2:$A$893,0))","v":6.7},null,{"$f":"INDEX(Backbone!$N$2:$N$893,MATCH(I35,Backbone!$A$2:$A$893,0))","v":3.3},null,{"$f":"INDEX(Backbone!$O$2:$O$893,MATCH(I35,Backbone!$A$2:$A$893,0))","v":9.1},null,{"$f":"INDEX(Backbone!$P$2:$P$893,MATCH(I35,Backbone!$A$2:$A$893,0))","v":4.7},null,{"$f":"INDEX(Backbone!$Q$2:$Q$893,MATCH(I35,Backbone!$A$2:$A$893,0))","v":0.69666666666666677},null,null,{"$f":"(AG35*$AG$22+AI35*$AI$22+AK35*$AK$22+AM35*$AM$22+AO35*$AO$22+AQ35*$AQ$22+AS35*$AS$22+AU35*$AU$22+AW35*$AW$22)/(SUM($AG$22:$AW$22)*10)","v":{"$error":"#DIV/0!"}},null,null,"Aller à \nBoîte à outils: ",null,{"$f":"HYPERLINK(\"#\"&ADDRESS(MATCH(I35,Toolbox!$C$1:$C$300),1,,,\"Toolbox\"),VLOOKUP(I35,Toolbox!$C$1:$C$300,1,FALSE))","v":"Évaluation des collaborations au sein d'un système de surveillance multisectoriel (EcoSur)"}]
[]
[]
[]
[]
[]
[null,null,null,null,null,null,null,null,{"$f":"Backbone!A184","v":"Processus d'élimination globale de la rage chez le chien (GDREP)"},null,null,null,null,null,null,"L'outil vise à faciliter une évaluation systématique des structures nationales de coordination de l'initiative «Une seule santé» en matière de prévention, de détection et de réponse aux zoonoses.  ",null,null,null,null,null,null,null,null,{"$f":"INDEX(Backbone!$R$2:$R$893,MATCH(I41,Backbone!$A$2:$A$893,0))","v":"Outil d'autoévaluation"},null,null,null,{"$f":"INDEX(Backbone!$S$2:$S$893,MATCH(I41,Backbone!$A$2:$A$893,0))","v":"«Une seule santé»; spécifique d'une maladie/menace "},null,null,null,{"$f":"INDEX(Backbone!$H$2:$H$893,MATCH(I41,Backbone!$A$2:$A$893,0))","v":9.1},null,{"$f":"INDEX(Backbone!$I$2:$I$893,MATCH(I41,Backbone!$A$2:$A$893,0))","v":7.3},null,{"$f":"INDEX(Backbone!$J$2:$J$893,MATCH(I41,Backbone!$A$2:$A$893,0))","v":8.6999999999999993},null,{"$f":"INDEX(Backbone!$K$1:$K$893,MATCH(I41,Backbone!$A$1:$A$893,0))","v":6},null,{"$f":"INDEX(Backbone!$L$2:$L$893,MATCH(I41,Backbone!$A$2:$A$893,0))","v":7.9},null,{"$f":"INDEX(Backbone!$M$2:$M$893,MATCH(I41,Backbone!$A$2:$A$893,0))","v":6},null,{"$f":"INDEX(Backbone!$N$2:$N$893,MATCH(I41,Backbone!$A$2:$A$893,0))","v":7},null,{"$f":"INDEX(Backbone!$O$2:$O$893,MATCH(I41,Backbone!$A$2:$A$893,0))","v":6.3},null,{"$f":"INDEX(Backbone!$P$2:$P$893,MATCH(I41,Backbone!$A$2:$A$893,0))","v":7},null,{"$f":"INDEX(Backbone!$Q$2:$Q$893,MATCH(I41,Backbone!$A$2:$A$893,0))","v":0.72555555555555551},null,null,{"$f":"(AG41*$AG$22+AI41*$AI$22+AK41*$AK$22+AM41*$AM$22+AO41*$AO$22+AQ41*$AQ$22+AS41*$AS$22+AU41*$AU$22+AW41*$AW$22)/(SUM($AG$22:$AW$22)*10)","v":{"$error":"#DIV/0!"}},null,null,"Aller à \nBoîte à outils: ",null,{"$f":"HYPERLINK(\"#\"&ADDRESS(MATCH(I41,Toolbox!$C$1:$C$300),1,,,\"Toolbox\"),VLOOKUP(I41,Toolbox!$C$1:$C$300,1,FALSE))","v":"Processus d'élimination globale de la rage chez le chien (GDREP)"}]
[]
[]
[]
[]
[]
[null,null,null,null,null,null,null,null,{"$f":"Backbone!A265","v":"Cadre de compétences de leadership pour les laboratoires (GLLP)"},null,null,null,null,null,null,"Un processus qui aide les parties prenantes de plusieurs secteurs à cartographier, analyser et améliorer tout système existant qui nécessite une collaboration interdisciplinaire et multisectorielle.",null,null,null,null,null,null,null,null,{"$f":"INDEX(Backbone!$R$2:$R$893,MATCH(I47,Backbone!$A$2:$A$893,0))","v":"Document d'orientation"},null,null,null,{"$f":"INDEX(Backbone!$S$2:$S$893,MATCH(I47,Backbone!$A$2:$A$893,0))","v":"«Une seule santé»; Généralisée"},null,null,null,{"$f":"INDEX(Backbone!$H$2:$H$893,MATCH(I47,Backbone!$A$2:$A$893,0))","v":9.6},null,{"$f":"INDEX(Backbone!$I$2:$I$893,MATCH(I47,Backbone!$A$2:$A$893,0))","v":8},null,{"$f":"INDEX(Backbone!$J$2:$J$893,MATCH(I47,Backbone!$A$2:$A$893,0))","v":8.4},null,{"$f":"INDEX(Backbone!$K$1:$K$893,MATCH(I47,Backbone!$A$1:$A$893,0))","v":9.6999999999999993},null,{"$f":"INDEX(Backbone!$L$2:$L$893,MATCH(I47,Backbone!$A$2:$A$893,0))","v":7.3},null,{"$f":"INDEX(Backbone!$M$2:$M$893,MATCH(I47,Backbone!$A$2:$A$893,0))","v":2.2999999999999998},null,{"$f":"INDEX(Backbone!$N$2:$N$893,MATCH(I47,Backbone!$A$2:$A$893,0))","v":5},null,{"$f":"INDEX(Backbone!$O$2:$O$893,MATCH(I47,Backbone!$A$2:$A$893,0))","v":8.9},null,{"$f":"INDEX(Backbone!$P$2:$P$893,MATCH(I47,Backbone!$A$2:$A$893,0))","v":4},null,{"$f":"INDEX(Backbone!$Q$2:$Q$893,MATCH(I47,Backbone!$A$2:$A$893,0))","v":0.70222222222222219},null,null,{"$f":"(AG47*$AG$22+AI47*$AI$22+AK47*$AK$22+AM47*$AM$22+AO47*$AO$22+AQ47*$AQ$22+AS47*$AS$22+AU47*$AU$22+AW47*$AW$22)/(SUM($AG$22:$AW$22)*10)","v":{"$error":"#DIV/0!"}},null,null,"Aller à \nBoîte à outils: ",null,{"$f":"HYPERLINK(\"#\"&ADDRESS(MATCH(I47,Toolbox!$C$1:$C$300),1,,,\"Toolbox\"),VLOOKUP(I47,Toolbox!$C$1:$C$300,1,FALSE))","v":"Cadre de compétences de leadership pour les laboratoires (GLLP)"}]
[]
[]
[]
[]
[]
[null,null,null,null,null,null,null,null,{"$f":"Backbone!A383","v":"Boîte à outils de cartographie et de ressources des systèmes «Une seule santé» (OH-SMART)"},null,null,null,null,null,null,"Une cartographie spécialisée des parties prenantes qui permet de visualiser le système des organisations qui interagissent sur une question politique donnée. ",null,null,null,null,null,null,null,null,{"$f":"INDEX(Backbone!$R$2:$R$893,MATCH(I53,Backbone!$A$2:$A$893,0))","v":"Outil ou processus dirigé/facilité"},null,null,null,{"$f":"INDEX(Backbone!$S$2:$S$893,MATCH(I53,Backbone!$A$2:$A$893,0))","v":"«Une seule santé»; Généralisée"},null,null,null,{"$f":"INDEX(Backbone!$H$2:$H$893,MATCH(I53,Backbone!$A$2:$A$893,0))","v":8.6999999999999993},null,{"$f":"INDEX(Backbone!$I$2:$I$893,MATCH(I53,Backbone!$A$2:$A$893,0))","v":7.3},null,{"$f":"INDEX(Backbone!$J$2:$J$893,MATCH(I53,Backbone!$A$2:$A$893,0))","v":8.4},null,{"$f":"INDEX(Backbone!$K$1:$K$893,MATCH(I53,Backbone!$A$1:$A$893,0))","v":9.3000000000000007},null,{"$f":"INDEX(Backbone!$L$2:$L$893,MATCH(I53,Backbone!$A$2:$A$893,0))","v":8.1999999999999993},null,{"$f":"INDEX(Backbone!$M$2:$M$893,MATCH(I53,Backbone!$A$2:$A$893,0))","v":7.4},null,{"$f":"INDEX(Backbone!$N$2:$N$893,MATCH(I53,Backbone!$A$2:$A$893,0))","v":9.5},null,{"$f":"INDEX(Backbone!$O$2:$O$893,MATCH(I53,Backbone!$A$2:$A$893,0))","v":10},null,{"$f":"INDEX(Backbone!$P$2:$P$893,MATCH(I53,Backbone!$A$2:$A$893,0))","v":10},null,{"$f":"INDEX(Backbone!$Q$2:$Q$893,MATCH(I53,Backbone!$A$2:$A$893,0))","v":0.87555555555555564},null,null,{"$f":"(AG53*$AG$22+AI53*$AI$22+AK53*$AK$22+AM53*$AM$22+AO53*$AO$22+AQ53*$AQ$22+AS53*$AS$22+AU53*$AU$22+AW53*$AW$22)/(SUM($AG$22:$AW$22)*10)","v":{"$error":"#DIV/0!"}},null,null,"Aller à \nBoîte à outils: ",null,{"$f":"HYPERLINK(\"#\"&ADDRESS(MATCH(I53,Toolbox!$C$1:$C$300),1,,,\"Toolbox\"),VLOOKUP(I53,Toolbox!$C$1:$C$300,1,FALSE))","v":"Boîte à outils de cartographie et de ressources des systèmes «Une seule santé» (OH-SMART)"}]
[]
[]
[]
[]
[]
[null,null,null,null,null,null,null,null,{"$f":"Backbone!A351","v":"Outil d'évaluation des réseaux de surveillance (OASIS)"},null,null,null,null,null,null,"Un outil pratique de planification, de suivi et d'évaluation au format Excel qui permet d'orienter, de déployer et d'affiner des programmes de lutte contre la rage. ",null,null,null,null,null,null,null,null,{"$f":"INDEX(Backbone!$R$2:$R$893,MATCH(I59,Backbone!$A$2:$A$893,0))","v":"Outil d'autoévaluation"},null,null,null,{"$f":"INDEX(Backbone!$S$2:$S$893,MATCH(I59,Backbone!$A$2:$A$893,0))","v":"Spécifique du secteur; Généralisée"},null,null,null,{"$f":"INDEX(Backbone!$H$2:$H$893,MATCH(I59,Backbone!$A$2:$A$893,0))","v":8.1999999999999993},null,{"$f":"INDEX(Backbone!$I$2:$I$893,MATCH(I59,Backbone!$A$2:$A$893,0))","v":7},null,{"$f":"INDEX(Backbone!$J$2:$J$893,MATCH(I59,Backbone!$A$2:$A$893,0))","v":8},null,{"$f":"INDEX(Backbone!$K$1:$K$893,MATCH(I59,Backbone!$A$1:$A$893,0))","v":8.3000000000000007},null,{"$f":"INDEX(Backbone!$L$2:$L$893,MATCH(I59,Backbone!$A$2:$A$893,0))","v":7},null,{"$f":"INDEX(Backbone!$M$2:$M$893,MATCH(I59,Backbone!$A$2:$A$893,0))","v":6.5},null,{"$f":"INDEX(Backbone!$N$2:$N$893,MATCH(I59,Backbone!$A$2:$A$893,0))","v":4.5},null,{"$f":"INDEX(Backbone!$O$2:$O$893,MATCH(I59,Backbone!$A$2:$A$893,0))","v":5.0999999999999996},null,{"$f":"INDEX(Backbone!$P$2:$P$893,MATCH(I59,Backbone!$A$2:$A$893,0))","v":4.5},null,{"$f":"INDEX(Backbone!$Q$2:$Q$893,MATCH(I59,Backbone!$A$2:$A$893,0))","v":0.65666666666666673},null,null,{"$f":"(AG59*$AG$22+AI59*$AI$22+AK59*$AK$22+AM59*$AM$22+AO59*$AO$22+AQ59*$AQ$22+AS59*$AS$22+AU59*$AU$22+AW59*$AW$22)/(SUM($AG$22:$AW$22)*10)","v":{"$error":"#DIV/0!"}},null,null,"Aller à \nBoîte à outils: ",null,{"$f":"HYPERLINK(\"#\"&ADDRESS(MATCH(I59,Toolbox!$C$1:$C$300),1,,,\"Toolbox\"),VLOOKUP(I59,Toolbox!$C$1:$C$300,1,FALSE))","v":"Outil d'évaluation des réseaux de surveillance (OASIS)"}]
[]
[]
[]
[]
[]
[]
[null,null,null,"Autres ressources intéressantes",null,null,null,null,{"$f":"Backbone!A59","v":"Directives relatives aux compétences des professionnels de laboratoire de santé publique: CDC et Association des laboratoires de santé publique"},null,null,null,null,null,null,"Les directives qui décrivent les connaissances, les compétences et les aptitudes que doivent posséder les professionnels pour fournir les principaux services des laboratoires de santé publique (LSP) de manière efficace et efficiente.  ",null,null,null,null,null,null,null,null,{"$f":"INDEX(Backbone!$R$2:$R$893,MATCH(I66,Backbone!$A$2:$A$893,0))","v":"Document d'orientation"},null,null,null,{"$f":"INDEX(Backbone!$S$2:$S$893,MATCH(I66,Backbone!$A$2:$A$893,0))","v":"Spécifique du secteur; Généralisée"},null,null,null,{"$f":"INDEX(Backbone!$H$2:$H$893,MATCH(I66,Backbone!$A$2:$A$893,0))","v":9},null,{"$f":"INDEX(Backbone!$I$2:$I$893,MATCH(I66,Backbone!$A$2:$A$893,0))","v":7.8},null,{"$f":"INDEX(Backbone!$J$2:$J$893,MATCH(I66,Backbone!$A$2:$A$893,0))","v":9.1999999999999993},null,{"$f":"INDEX(Backbone!$K$1:$K$893,MATCH(I66,Backbone!$A$1:$A$893,0))","v":9.1},null,{"$f":"INDEX(Backbone!$L$2:$L$893,MATCH(I66,Backbone!$A$2:$A$893,0))","v":6.3},null,{"$f":"INDEX(Backbone!$M$2:$M$893,MATCH(I66,Backbone!$A$2:$A$893,0))","v":3},null,{"$f":"INDEX(Backbone!$N$2:$N$893,MATCH(I66,Backbone!$A$2:$A$893,0))","v":2},null,{"$f":"INDEX(Backbone!$O$2:$O$893,MATCH(I66,Backbone!$A$2:$A$893,0))","v":7.8},null,{"$f":"INDEX(Backbone!$P$2:$P$893,MATCH(I66,Backbone!$A$2:$A$893,0))","v":4},null,{"$f":"INDEX(Backbone!$Q$2:$Q$893,MATCH(I66,Backbone!$A$2:$A$893,0))","v":0.64666666666666661},null,null,{"$f":"(AG66*$AG$22+AI66*$AI$22+AK66*$AK$22+AM66*$AM$22+AO66*$AO$22+AQ66*$AQ$22+AS66*$AS$22+AU66*$AU$22+AW66*$AW$22)/(SUM($AG$22:$AW$22)*10)","v":{"$error":"#DIV/0!"}},null,null,"Aller à \nBoîte à outils: ",null,{"$f":"HYPERLINK(\"#\"&ADDRESS(MATCH(I66,Toolbox!$C$1:$C$300),1,,,\"Toolbox\"),VLOOKUP(I66,Toolbox!$C$1:$C$300,1,FALSE))","v":"Directives relatives aux compétences des professionnels de laboratoire de santé publique: CDC et Association des laboratoires de santé publique"}]
[]
[]
[]
[]
[]
[null,null,null,null,null,null,null,null,{"$f":"Backbone!A303","v":"Plan d'action national pour la sécurité sanitaire (PANSS)"},null,null,null,null,null,null,"Un outil dont l'objectif est d'évaluer l'organisation et le fonctionnement de la collaboration au sein d'un système de surveillance multisectoriel, ainsi que d'analyser les points forts et les points faibles de cette collaboration. ",null,null,null,null,null,null,null,null,{"$f":"INDEX(Backbone!$R$2:$R$893,MATCH(I72,Backbone!$A$2:$A$893,0))","v":"Document d'orientation"},null,null,null,{"$f":"INDEX(Backbone!$S$2:$S$893,MATCH(I72,Backbone!$A$2:$A$893,0))","v":"«Une seule santé»; Généralisée"},null,null,null,{"$f":"INDEX(Backbone!$H$2:$H$893,MATCH(I72,Backbone!$A$2:$A$893,0))","v":8},null,{"$f":"INDEX(Backbone!$I$2:$I$893,MATCH(I72,Backbone!$A$2:$A$893,0))","v":9},null,{"$f":"INDEX(Backbone!$J$2:$J$893,MATCH(I72,Backbone!$A$2:$A$893,0))","v":7.8},null,{"$f":"INDEX(Backbone!$K$1:$K$893,MATCH(I72,Backbone!$A$1:$A$893,0))","v":10},null,{"$f":"INDEX(Backbone!$L$2:$L$893,MATCH(I72,Backbone!$A$2:$A$893,0))","v":8},null,{"$f":"INDEX(Backbone!$M$2:$M$893,MATCH(I72,Backbone!$A$2:$A$893,0))","v":4.5},null,{"$f":"INDEX(Backbone!$N$2:$N$893,MATCH(I72,Backbone!$A$2:$A$893,0))","v":10},null,{"$f":"INDEX(Backbone!$O$2:$O$893,MATCH(I72,Backbone!$A$2:$A$893,0))","v":10},null,{"$f":"INDEX(Backbone!$P$2:$P$893,MATCH(I72,Backbone!$A$2:$A$893,0))","v":10},null,{"$f":"INDEX(Backbone!$Q$2:$Q$893,MATCH(I72,Backbone!$A$2:$A$893,0))","v":0.85888888888888881},null,null,{"$f":"(AG72*$AG$22+AI72*$AI$22+AK72*$AK$22+AM72*$AM$22+AO72*$AO$22+AQ72*$AQ$22+AS72*$AS$22+AU72*$AU$22+AW72*$AW$22)/(SUM($AG$22:$AW$22)*10)","v":{"$error":"#DIV/0!"}},null,null,"Aller à \nBoîte à outils: ",null,{"$f":"HYPERLINK(\"#\"&ADDRESS(MATCH(I72,Toolbox!$C$1:$C$300),1,,,\"Toolbox\"),VLOOKUP(I72,Toolbox!$C$1:$C$300,1,FALSE))","v":"Plan d'action national pour la sécurité sanitaire (PANSS)"}]
[]
[]
[]
[]
[]
[]
[]
[]
[]
[]
[]
[]
[]
[]
[]
[]
[]
[]
[]
[]
[]
[]
[]
[]
[null,null,null,null,null,null,null,null,null,null,null,null,null,null,null,null,null,null,null,null,null,null,null,null,null,null,null,null,null,null,null,null,"Accessibilité",null,"Langue",null,"Facilité d'utilisation",null,"Flexibilité",null,"Besoins de données",null,"Analyse des données",null,"Acceptabilité",null,"«Une seule santé»",null,"Impact"]
[]
[]
[]
[]
[]
[]
[null,null,null,null,null,null,null,null,null,null,null,null,null,null,null,null,null,null,null,null,null,null,null,null,null,null,null,null,null,null,null,null,null,null,null,null,null,null,null,null,null,null,null,null,null,null,null,null,null,null,"SCORE BRUT",null,null,"SCORE AJUSTÉ \n(Selon les préférences de l'utilisateur)"]
[]
[null,"RESSOURCES DE NIVEAU 3"]
[]
[null,null,null,"DÉSIGNATION",null,null,null,null,"NOM DE LA RESSOURCE",null,null,null,null,null,null,"BRÈVE DESCRIPTION",null,null,null,null,null,null,null,null,"TYPE DE RESSOURCE",null,null,null,"CARACTÈRE GÉNÉRAL DE LA RESSOURCE"]
[]
[]
[]
[null,null,null,null,null,null,null,null,null,null,null,null,null,null,null,null,null,null,null,null,null,null,null,null,null,null,null,null,null,null,null,null,{"$f":"'Attribute Survey'!S231","v":0},null,{"$f":"'Attribute Survey'!S235","v":0},null,{"$f":"'Attribute Survey'!S239","v":0},null,{"$f":"'Attribute Survey'!S243","v":0},null,{"$f":"'Attribute Survey'!S247","v":0},null,{"$f":"'Attribute Survey'!S251","v":0},null,{"$f":"'Attribute Survey'!S255","v":0},null,{"$f":"'Attribute Survey'!S259","v":0},null,{"$f":"'Attribute Survey'!S263","v":0}]
[null,null,null,"Ressources les mieux adaptées",null,null,null,null,{"$f":"Backbone!A100","v":"Évaluation des collaborations au sein d'un système de surveillance multisectoriel (EcoSur)"},null,null,null,null,null,null," Un atelier aidant les secteurs de la santé animale et de la santé humaine des pays à explorer des zones de chevauchement et à mettre en place, le cas échéant, des passerelles appropriées pour faciliter la coordination. ",null,null,null,null,null,null,null,null,{"$f":"INDEX(Backbone!$R$2:$R$893,MATCH(I113,Backbone!$A$2:$A$893,0))","v":"Outil ou processus dirigé/facilité"},null,null,null,{"$f":"INDEX(Backbone!$S$2:$S$893,MATCH(I113,Backbone!$A$2:$A$893,0))","v":"«Une seule santé»; Généralisée"},null,null,null,{"$f":"INDEX(Backbone!$H$2:$H$893,MATCH(I113,Backbone!$A$2:$A$893,0))","v":8.3000000000000007},null,{"$f":"INDEX(Backbone!$I$2:$I$893,MATCH(I113,Backbone!$A$2:$A$893,0))","v":6},null,{"$f":"INDEX(Backbone!$J$2:$J$893,MATCH(I113,Backbone!$A$2:$A$893,0))","v":8.5},null,{"$f":"INDEX(Backbone!$K$2:$K$893,MATCH(I113,Backbone!$A$2:$A$893,0))","v":7.8},null,{"$f":"INDEX(Backbone!$L$2:$L$893,MATCH(I113,Backbone!$A$2:$A$893,0))","v":8.3000000000000007},null,{"$f":"INDEX(Backbone!$M$2:$M$893,MATCH(I113,Backbone!$A$2:$A$893,0))","v":6.7},null,{"$f":"INDEX(Backbone!$N$2:$N$893,MATCH(I113,Backbone!$A$2:$A$893,0))","v":3.3},null,{"$f":"INDEX(Backbone!$O$2:$O$893,MATCH(I113,Backbone!$A$2:$A$893,0))","v":9.1},null,{"$f":"INDEX(Backbone!$P$2:$P$893,MATCH(I113,Backbone!$A$2:$A$893,0))","v":4.7},null,{"$f":"INDEX(Backbone!$Q$2:$Q$893,MATCH(I113,Backbone!$A$2:$A$893,0))","v":0.69666666666666677},null,null,{"$f":"(AG113*$AG$22+AI113*$AI$22+AK113*$AK$22+AM113*$AM$22+AO113*$AO$22+AQ113*$AQ$22+AS113*$AS$22+AU113*$AU$22+AW113*$AW$22)/(SUM($AG$22:$AW$22)*10)","v":{"$error":"#DIV/0!"}},null,null,"Aller à \nBoîte à outils: ",null,{"$f":"HYPERLINK(\"#\"&ADDRESS(MATCH(I113,Toolbox!$C$1:$C$300),1,,,\"Toolbox\"),VLOOKUP(I113,Toolbox!$C$1:$C$300,1,FALSE))","v":"Évaluation des collaborations au sein d'un système de surveillance multisectoriel (EcoSur)"}]
[]
[]
[]
[]
[]
[]
[null,null,null,"Autres ressources intéressantes",null,null,null,null,{"$f":"Backbone!A2","v":"Cadre de surveillance basé sur les événements des CDC en Afrique"},null,null,null,null,null,null,"Un outil dont l'objectif est d'évaluer l'organisation et le fonctionnement de la collaboration au sein d'un système de surveillance multisectoriel, ainsi que d'analyser les points forts et les points faibles de cette collaboration. ",null,null,null,null,null,null,null,null,{"$f":"INDEX(Backbone!$R$2:$R$893,MATCH(I120,Backbone!$A$2:$A$893,0))","v":"Document d'orientation"},null,null,null,{"$f":"INDEX(Backbone!$S$2:$S$893,MATCH(I120,Backbone!$A$2:$A$893,0))","v":"«Une seule santé»; Généralisée "},null,null,null,{"$f":"INDEX(Backbone!$H$2:$H$893,MATCH(I120,Backbone!$A$2:$A$893,0))","v":8},null,{"$f":"INDEX(Backbone!$I$2:$I$893,MATCH(I120,Backbone!$A$2:$A$893,0))","v":6},null,{"$f":"INDEX(Backbone!$J$2:$J$893,MATCH(I120,Backbone!$A$2:$A$893,0))","v":8.1999999999999993},null,{"$f":"INDEX(Backbone!$K$1:$K$893,MATCH(I120,Backbone!$A$1:$A$893,0))","v":8.3000000000000007},null,{"$f":"INDEX(Backbone!$L$2:$L$893,MATCH(I120,Backbone!$A$2:$A$893,0))","v":6.1},null,{"$f":"INDEX(Backbone!$M$2:$M$893,MATCH(I120,Backbone!$A$2:$A$893,0))","v":3.5},null,{"$f":"INDEX(Backbone!$N$2:$N$893,MATCH(I120,Backbone!$A$2:$A$893,0))","v":4},null,{"$f":"INDEX(Backbone!$O$2:$O$893,MATCH(I120,Backbone!$A$2:$A$893,0))","v":7},null,{"$f":"INDEX(Backbone!$P$2:$P$893,MATCH(I120,Backbone!$A$2:$A$893,0))","v":6},null,{"$f":"INDEX(Backbone!$Q$2:$Q$893,MATCH(I120,Backbone!$A$2:$A$893,0))","v":0.63222222222222224},null,null,{"$f":"(AG120*$AG$22+AI120*$AI$22+AK120*$AK$22+AM120*$AM$22+AO120*$AO$22+AQ120*$AQ$22+AS120*$AS$22+AU120*$AU$22+AW120*$AW$22)/(SUM($AG$22:$AW$22)*10)","v":{"$error":"#DIV/0!"}},null,null,"Aller à \nBoîte à outils: ",null,{"$f":"HYPERLINK(\"#\"&ADDRESS(MATCH(I120,Toolbox!$C$1:$C$300),1,,,\"Toolbox\"),VLOOKUP(I120,Toolbox!$C$1:$C$300,1,FALSE))","v":"Cadre de surveillance basé sur les événements des CDC en Afrique"}]
[]
[]
[]
[]
[]
[null,null,null,null,null,null,null,null,{"$f":"Backbone!A59","v":"Directives relatives aux compétences des professionnels de laboratoire de santé publique: CDC et Association des laboratoires de santé publique"},null,null,null,null,null,null,"Les directives qui décrivent les connaissances, les compétences et les aptitudes que doivent posséder les professionnels pour fournir les principaux services des laboratoires de santé publique (LSP) de manière efficace et efficiente.",null,null,null,null,null,null,null,null,{"$f":"INDEX(Backbone!$R$2:$R$893,MATCH(I126,Backbone!$A$2:$A$893,0))","v":"Document d'orientation"},null,null,null,{"$f":"INDEX(Backbone!$S$2:$S$893,MATCH(I126,Backbone!$A$2:$A$893,0))","v":"Spécifique du secteur; Généralisée"},null,null,null,{"$f":"INDEX(Backbone!$H$2:$H$893,MATCH(I126,Backbone!$A$2:$A$893,0))","v":9},null,{"$f":"INDEX(Backbone!$I$2:$I$893,MATCH(I126,Backbone!$A$2:$A$893,0))","v":7.8},null,{"$f":"INDEX(Backbone!$J$2:$J$893,MATCH(I126,Backbone!$A$2:$A$893,0))","v":9.1999999999999993},null,{"$f":"INDEX(Backbone!$K$1:$K$893,MATCH(I126,Backbone!$A$1:$A$893,0))","v":9.1},null,{"$f":"INDEX(Backbone!$L$2:$L$893,MATCH(I126,Backbone!$A$2:$A$893,0))","v":6.3},null,{"$f":"INDEX(Backbone!$M$2:$M$893,MATCH(I126,Backbone!$A$2:$A$893,0))","v":3},null,{"$f":"INDEX(Backbone!$N$2:$N$893,MATCH(I126,Backbone!$A$2:$A$893,0))","v":2},null,{"$f":"INDEX(Backbone!$O$2:$O$893,MATCH(I126,Backbone!$A$2:$A$893,0))","v":7.8},null,{"$f":"INDEX(Backbone!$P$2:$P$893,MATCH(I126,Backbone!$A$2:$A$893,0))","v":4},null,{"$f":"INDEX(Backbone!$Q$2:$Q$893,MATCH(I126,Backbone!$A$2:$A$893,0))","v":0.64666666666666661},null,null,{"$f":"(AG126*$AG$22+AI126*$AI$22+AK126*$AK$22+AM126*$AM$22+AO126*$AO$22+AQ126*$AQ$22+AS126*$AS$22+AU126*$AU$22+AW126*$AW$22)/(SUM($AG$22:$AW$22)*10)","v":{"$error":"#DIV/0!"}},null,null,"Aller à \nBoîte à outils: ",null,{"$f":"HYPERLINK(\"#\"&ADDRESS(MATCH(I126,Toolbox!$C$1:$C$300),1,,,\"Toolbox\"),VLOOKUP(I126,Toolbox!$C$1:$C$300,1,FALSE))","v":"Directives relatives aux compétences des professionnels de laboratoire de santé publique: CDC et Association des laboratoires de santé publique"}]
[]
[]
[]
[]
[]
[null,null,null,null,null,null,null,null,{"$f":"Backbone!A195","v":"Surveillance intégrée de la maladie et la riposte (IDSR)"},null,null,null,null,null,null,"Une stratégie visant à renforcer les capacités pour la détection, la confirmation et la réponse aux cas suspects et à l'apparition de foyers épidémiques, ainsi que pour l'utilisation des informations afin de prédire et de planifier les événements de santé publique. ",null,null,null,null,null,null,null,null,{"$f":"INDEX(Backbone!$R$2:$R$893,MATCH(I132,Backbone!$A$2:$A$893,0))","v":"Document d'orientation"},null,null,null,{"$f":"INDEX(Backbone!$S$2:$S$893,MATCH(I132,Backbone!$A$2:$A$893,0))","v":"Spécifique du secteur; Généralisée"},null,null,null,{"$f":"INDEX(Backbone!$H$2:$H$893,MATCH(I132,Backbone!$A$2:$A$893,0))","v":7.4},null,{"$f":"INDEX(Backbone!$I$2:$I$893,MATCH(I132,Backbone!$A$2:$A$893,0))","v":10},null,{"$f":"INDEX(Backbone!$J$2:$J$893,MATCH(I132,Backbone!$A$2:$A$893,0))","v":7.4},null,{"$f":"INDEX(Backbone!$K$1:$K$893,MATCH(I132,Backbone!$A$1:$A$893,0))","v":8.6999999999999993},null,{"$f":"INDEX(Backbone!$L$2:$L$893,MATCH(I132,Backbone!$A$2:$A$893,0))","v":6.7},null,{"$f":"INDEX(Backbone!$M$2:$M$893,MATCH(I132,Backbone!$A$2:$A$893,0))","v":4.5},null,{"$f":"INDEX(Backbone!$N$2:$N$893,MATCH(I132,Backbone!$A$2:$A$893,0))","v":8},null,{"$f":"INDEX(Backbone!$O$2:$O$893,MATCH(I132,Backbone!$A$2:$A$893,0))","v":7.2},null,{"$f":"INDEX(Backbone!$P$2:$P$893,MATCH(I132,Backbone!$A$2:$A$893,0))","v":8.5},null,{"$f":"INDEX(Backbone!$Q$2:$Q$893,MATCH(I132,Backbone!$A$2:$A$893,0))","v":0.76},null,null,{"$f":"(AG132*$AG$22+AI132*$AI$22+AK132*$AK$22+AM132*$AM$22+AO132*$AO$22+AQ132*$AQ$22+AS132*$AS$22+AU132*$AU$22+AW132*$AW$22)/(SUM($AG$22:$AW$22)*10)","v":{"$error":"#DIV/0!"}},null,null,"Aller à \nBoîte à outils: ",null,{"$f":"HYPERLINK(\"#\"&ADDRESS(MATCH(I132,Toolbox!$C$1:$C$300),1,,,\"Toolbox\"),VLOOKUP(I132,Toolbox!$C$1:$C$300,1,FALSE))","v":"Surveillance intégrée de la maladie et la riposte (IDSR)"}]

{"sheet":"P1_tools","index":38,"n_rows":148,"n_cols":59,"rows_kept":148,"cut":false,"hidden":false,"merged":[[140,38,144,38],[147,53,151,54],[147,34,151,34],[147,36,151,36],[147,38,151,38],[147,40,151,40],[147,42,151,42],[147,44,151,44],[147,3,151,6],[147,8,151,13],[147,15,151,22],[147,24,151,26],[147,28,151,30],[147,32,151,32],[140,28,144,30],[140,32,144,32],[140,34,144,34],[88,3,92,6],[80,1,108,1],[131,1,155,1],[147,46,151,46],[147,48,151,48],[147,50,151,51],[140,48,144,48],[140,50,144,51],[124,48,138,48],[131,50,138,51],[95,3,105,6],[95,24,99,26],[95,28,99,30],[88,44,92,44],[88,46,92,46],[88,48,92,48],[88,50,92,51],[95,44,99,44],[95,46,99,46],[95,48,99,48],[95,50,99,51],[83,3,86,6],[72,38,86,38],[72,40,86,40],[131,53,138,54],[135,3,138,6],[135,8,138,13],[135,15,138,22],[135,24,138,26],[135,28,138,30],[140,3,144,6],[124,32,138,32],[124,34,138,34],[124,36,138,36],[124,38,138,38],[124,40,138,40],[124,42,138,42],[124,44,138,44],[124,46,138,46],[140,40,144,40],[140,42,144,42],[140,44,144,44],[140,46,144,46],[140,8,144,13],[140,15,144,22],[140,24,144,26],[140,53,144,54],[140,36,144,36],[95,53,99,54],[101,8,105,13],[101,15,105,22],[101,24,105,26],[101,28,105,30],[101,32,105,32],[95,32,99,32],[95,34,99,34],[95,36,99,36],[95,38,99,38],[95,40,99,40],[95,42,99,42],[101,46,105,46],[101,48,105,48],[101,50,105,51],[101,53,105,54],[101,34,105,34],[101,36,105,36],[101,38,105,38],[101,40,105,40],[101,42,105,42],[101,44,105,44],[95,8,99,13],[95,15,99,22],[88,53,92,54],[88,32,92,32],[88,34,92,34],[88,36,92,36],[88,38,92,38],[88,40,92,40],[88,42,92,42],[83,28,86,30],[88,8,92,13],[88,15,92,22],[88,24,92,26],[88,28,92,30],[72,44,86,44],[72,46,86,46],[72,48,86,48],[79,50,86,51],[79,53,86,54],[72,42,86,42],[83,8,86,13],[83,15,86,22],[83,24,86,26],[72,32,86,32],[72,34,86,34],[72,36,86,36],[47,50,51,51],[47,53,51,54],[41,53,45,54],[47,8,51,13],[47,15,51,22],[47,24,51,26],[47,28,51,30],[47,32,51,32],[47,34,51,34],[47,36,51,36],[47,38,51,38],[47,40,51,40],[41,40,45,40],[41,42,45,42],[41,44,45,44],[41,46,45,46],[41,48,45,48],[41,50,45,51],[13,50,20,51],[13,53,20,54],[17,1,51,1],[17,3,20,6],[17,8,20,13],[17,15,20,22],[17,24,20,26],[17,28,20,30],[35,50,39,51],[35,53,39,54],[41,8,45,13],[41,15,45,22],[41,24,45,26],[41,28,45,30],[35,48,39,48],[35,8,39,13],[35,15,39,22],[35,24,39,26],[35,28,39,30],[35,32,39,32],[35,34,39,34],[35,36,39,36],[47,42,51,42],[47,44,51,44],[6,32,20,32],[6,34,20,34],[6,36,20,36],[6,38,20,38],[6,40,20,40],[6,42,20,42],[6,44,20,44],[6,46,20,46],[6,48,20,48],[23,50,27,51],[29,24,33,26],[29,28,33,30],[29,32,33,32],[29,34,33,34],[23,40,27,40],[23,42,27,42],[41,32,45,32],[41,34,45,34],[41,36,45,36],[41,38,45,38],[35,38,39,38],[35,40,39,40],[35,42,39,42],[35,44,39,44],[35,46,39,46],[29,48,33,48],[23,3,51,6],[23,8,27,13],[23,15,27,22],[23,24,27,26],[23,28,27,30],[23,32,27,32],[23,46,27,46],[23,48,27,48],[47,46,51,46],[47,48,51,48],[1,1,3,62],[23,56,27,57],[23,58,27,62],[29,56,33,57],[29,58,33,62],[35,56,39,57],[35,58,39,62],[41,56,45,57],[41,58,45,62],[23,53,27,54],[29,8,33,13],[29,15,33,22],[29,50,33,51],[29,53,33,54],[29,40,33,40],[29,42,33,42],[29,44,33,44],[29,46,33,46],[29,36,33,36],[29,38,33,38],[23,34,27,34],[23,36,27,36],[23,38,27,38],[23,44,27,44],[147,56,151,57],[147,58,151,62],[47,56,51,57],[47,58,51,62],[88,56,92,57],[88,58,92,62],[95,56,99,57],[95,58,99,62],[101,56,105,57],[101,58,105,62],[140,56,144,57],[140,58,144,62]]}
[]
[null,"Ressources pour l'évaluation de la volonté politique"]
[]
[]
[]
[]
[null,null,null,null,null,null,null,null,null,null,null,null,null,null,null,null,null,null,null,null,null,null,null,null,null,null,null,null,null,null,null,null,"Accessibilité",null,"Langue",null,"Facilité d'utilisation",null,"Flexibilité",null,"Besoins de données",null,"Analyse des données",null,"Acceptabilité",null,"«Une seule santé»",null,"Impact"]
[]
[]
[]
[]
[]
[]
[null,null,null,null,null,null,null,null,null,null,null,null,null,null,null,null,null,null,null,null,null,null,null,null,null,null,null,null,null,null,null,null,null,null,null,null,null,null,null,null,null,null,null,null,null,null,null,null,null,null,"SCORE BRUT",null,null,"SCORE AJUSTÉ \n(Selon les préférences de l'utilisateur)"]
[]
[]
[]
[null,"RESSOURCES DE NIVEAU 1",null,"DÉSIGNATION",null,null,null,null,"NOM DE LA RESSOURCE",null,null,null,null,null,null,"BRÈVE DESCRIPTION",null,null,null,null,null,null,null,null,"TYPE DE RESSOURCE",null,null,null,"CARACTÈRE GÉNÉRAL DE LA RESSOURCE"]
[]
[]
[]
[null,null,null,null,null,null,null,null,null,null,null,null,null,null,null,null,null,null,null,null,null,null,null,null,null,null,null,null,null,null,null,null,{"$f":"'Attribute Survey'!S22","v":0},null,{"$f":"'Attribute Survey'!S26","v":0},null,{"$f":"'Attribute Survey'!S30","v":0},null,{"$f":"'Attribute Survey'!S34","v":0},null,{"$f":"'Attribute Survey'!S38","v":0},null,{"$f":"'Attribute Survey'!S42","v":0},null,{"$f":"'Attribute Survey'!S46","v":0},null,{"$f":"'Attribute Survey'!S50","v":0},null,{"$f":"'Attribute Survey'!S54","v":0}]
[]
[null,null,null,"Autres ressources intéressantes",null,null,null,null,"Évaluation des collaborations au sein d'un système de surveillance multisectoriel (EcoSur)",null,null,null,null,null,null,"Un outil dont l'objectif est d'évaluer l'organisation et le fonctionnement de la collaboration au sein d'un système de surveillance multisectoriel, ainsi que d'analyser les points forts et les points faibles de cette collaboration. ",null,null,null,null,null,null,null,null,{"$f":"INDEX(Backbone!$R$2:$R$893,MATCH(I24,Backbone!$A$2:$A$893,0))","v":"Outil ou processus dirigé/facilité"},null,null,null,{"$f":"INDEX(Backbone!$S$2:$S$893,MATCH(I24,Backbone!$A$2:$A$893,0))","v":"«Une seule santé»; Généralisée"},null,null,null,{"$f":"INDEX(Backbone!$H$2:$H$893,MATCH(I24,Backbone!$A$2:$A$893,0))","v":8.3000000000000007},null,{"$f":"INDEX(Backbone!$I$2:$I$893,MATCH(I24,Backbone!$A$2:$A$893,0))","v":6},null,{"$f":"INDEX(Backbone!$J$2:$J$893,MATCH(I24,Backbone!$A$2:$A$893,0))","v":8.5},null,{"$f":"INDEX(Backbone!$K$1:$K$893,MATCH(I24,Backbone!$A$1:$A$893,0))","v":7.8},null,{"$f":"INDEX(Backbone!$L$2:$L$893,MATCH(I24,Backbone!$A$2:$A$893,0))","v":8.3000000000000007},null,{"$f":"INDEX(Backbone!$M$2:$M$893,MATCH(I24,Backbone!$A$2:$A$893,0))","v":6.7},null,{"$f":"INDEX(Backbone!$N$2:$N$893,MATCH(I24,Backbone!$A$2:$A$893,0))","v":3.3},null,{"$f":"INDEX(Backbone!$O$2:$O$893,MATCH(I24,Backbone!$A$2:$A$893,0))","v":9.1},null,{"$f":"INDEX(Backbone!$P$2:$P$893,MATCH(I24,Backbone!$A$2:$A$893,0))","v":4.7},null,{"$f":"INDEX(Backbone!$Q$2:$Q$893,MATCH(I24,Backbone!$A$2:$A$893,0))","v":0.69666666666666677},null,null,{"$f":"(AG24*$AG$22+AI24*$AI$22+AK24*$AK$22+AM24*$AM$22+AO24*$AO$22+AQ24*$AQ$22+AS24*$AS$22+AU24*$AU$22+AW24*$AW$22)/(SUM($AG$22:$AW$22)*10)","v":{"$error":"#DIV/0!"}},null,null,"Aller à \nBoîte à outils: ",null,{"$f":"HYPERLINK(\"#\"&ADDRESS(MATCH(I24,Toolbox!$C$1:$C$300),1,,,\"Toolbox\"),VLOOKUP(I24,Toolbox!$C$1:$C$300,1,FALSE))","v":"Évaluation des collaborations au sein d'un système de surveillance multisectoriel (EcoSur)"}]
[]
[]
[]
[]
[]
[null,null,null,null,null,null,null,null,"Surveillance intégrée de la maladie et la riposte (IDSR)",null,null,null,null,null,null,"Une stratégie visant à renforcer les capacités pour la détection, la confirmation et la réponse aux cas suspects et à l'apparition de foyers épidémiques, ainsi que pour l'utilisation des informations afin de prédire et de planifier les événements de santé publique. ",null,null,null,null,null,null,null,null,{"$f":"INDEX(Backbone!$R$2:$R$893,MATCH(I30,Backbone!$A$2:$A$893,0))","v":"Document d'orientation"},null,null,null,{"$f":"INDEX(Backbone!$S$2:$S$893,MATCH(I30,Backbone!$A$2:$A$893,0))","v":"Spécifique du secteur; Généralisée"},null,null,null,{"$f":"INDEX(Backbone!$H$2:$H$893,MATCH(I30,Backbone!$A$2:$A$893,0))","v":7.4},null,{"$f":"INDEX(Backbone!$I$2:$I$893,MATCH(I30,Backbone!$A$2:$A$893,0))","v":10},null,{"$f":"INDEX(Backbone!$J$2:$J$893,MATCH(I30,Backbone!$A$2:$A$893,0))","v":7.4},null,{"$f":"INDEX(Backbone!$K$1:$K$893,MATCH(I30,Backbone!$A$1:$A$893,0))","v":8.6999999999999993},null,{"$f":"INDEX(Backbone!$L$2:$L$893,MATCH(I30,Backbone!$A$2:$A$893,0))","v":6.7},null,{"$f":"INDEX(Backbone!$M$2:$M$893,MATCH(I30,Backbone!$A$2:$A$893,0))","v":4.5},null,{"$f":"INDEX(Backbone!$N$2:$N$893,MATCH(I30,Backbone!$A$2:$A$893,0))","v":8},null,{"$f":"INDEX(Backbone!$O$2:$O$893,MATCH(I30,Backbone!$A$2:$A$893,0))","v":7.2},null,{"$f":"INDEX(Backbone!$P$2:$P$893,MATCH(I30,Backbone!$A$2:$A$893,0))","v":8.5},null,{"$f":"INDEX(Backbone!$Q$2:$Q$893,MATCH(I30,Backbone!$A$2:$A$893,0))","v":0.76},null,null,{"$f":"(AG30*$AG$22+AI30*$AI$22+AK30*$AK$22+AM30*$AM$22+AO30*$AO$22+AQ30*$AQ$22+AS30*$AS$22+AU30*$AU$22+AW30*$AW$22)/(SUM($AG$22:$AW$22)*10)","v":{"$error":"#DIV/0!"}},null,null,"Aller à \nBoîte à outils: ",null,{"$f":"HYPERLINK(\"#\"&ADDRESS(MATCH(I30,Toolbox!$C$1:$C$300),1,,,\"Toolbox\"),VLOOKUP(I30,Toolbox!$C$1:$C$300,1,FALSE))","v":"Surveillance intégrée de la maladie et la riposte (IDSR)"}]
[]
[]
[]
[]
[]
[null,null,null,null,null,null,null,null,{"$f":"Backbone!A291","v":"Méthodologie d'analyse de la législation relative à la RAM dans le secteur de l'alimentation et de l'agriculture"},null,null,null,null,null,null,"Une méthodologie conçue pour orienter les analyses de la législation nationale en matière de RAM dans les secteurs de l'alimentation et de l'agriculture.",null,null,null,null,null,null,null,null,{"$f":"INDEX(Backbone!$R$2:$R$893,MATCH(I36,Backbone!$A$2:$A$893,0))","v":"Document d'orientation"},null,null,null,{"$f":"INDEX(Backbone!$S$2:$S$893,MATCH(I36,Backbone!$A$2:$A$893,0))","v":"«Une seule santé»; Généralisée"},null,null,null,{"$f":"INDEX(Backbone!$H$2:$H$893,MATCH(I36,Backbone!$A$2:$A$893,0))","v":7.4},null,{"$f":"INDEX(Backbone!$I$2:$I$893,MATCH(I36,Backbone!$A$2:$A$893,0))","v":5.5},null,{"$f":"INDEX(Backbone!$J$2:$J$893,MATCH(I36,Backbone!$A$2:$A$893,0))","v":7.6},null,{"$f":"INDEX(Backbone!$K$1:$K$893,MATCH(I36,Backbone!$A$1:$A$893,0))","v":4},null,{"$f":"INDEX(Backbone!$L$2:$L$893,MATCH(I36,Backbone!$A$2:$A$893,0))","v":8.1999999999999993},null,{"$f":"INDEX(Backbone!$M$2:$M$893,MATCH(I36,Backbone!$A$2:$A$893,0))","v":4.5},null,{"$f":"INDEX(Backbone!$N$2:$N$893,MATCH(I36,Backbone!$A$2:$A$893,0))","v":4.5},null,{"$f":"INDEX(Backbone!$O$2:$O$893,MATCH(I36,Backbone!$A$2:$A$893,0))","v":6.6},null,{"$f":"INDEX(Backbone!$P$2:$P$893,MATCH(I36,Backbone!$A$2:$A$893,0))","v":4.5},null,{"$f":"INDEX(Backbone!$Q$2:$Q$893,MATCH(I36,Backbone!$A$2:$A$893,0))","v":0.58666666666666667},null,null,{"$f":"(AG36*$AG$22+AI36*$AI$22+AK36*$AK$22+AM36*$AM$22+AO36*$AO$22+AQ36*$AQ$22+AS36*$AS$22+AU36*$AU$22+AW36*$AW$22)/(SUM($AG$22:$AW$22)*10)","v":{"$error":"#DIV/0!"}},null,null,"Aller à \nBoîte à outils: ",null,{"$f":"HYPERLINK(\"#\"&ADDRESS(MATCH(I36,Toolbox!$C$1:$C$300),1,,,\"Toolbox\"),VLOOKUP(I36,Toolbox!$C$1:$C$300,1,FALSE))","v":"Méthodologie d'analyse de la législation relative à la RAM dans le secteur de l'alimentation et de l'agriculture"}]
[]
[]
[]
[]
[]
[null,null,null,null,null,null,null,null,{"$f":"Backbone!A437","v":"Analyse de la politique sur le terrain (PFA)"},null,null,null,null,null,null,"Une cartographie spécialisée des parties prenantes qui permet de visualiser le système des organisations qui interagissent sur une question politique donnée.",null,null,null,null,null,null,null,null,{"$f":"INDEX(Backbone!$R$2:$R$893,MATCH(I42,Backbone!$A$2:$A$893,0))","v":"Document d'orientation"},null,null,null,{"$f":"INDEX(Backbone!$S$2:$S$893,MATCH(I42,Backbone!$A$2:$A$893,0))","v":"«Une seule santé»; Généralisée"},null,null,null,{"$f":"INDEX(Backbone!$H$2:$H$893,MATCH(I42,Backbone!$A$2:$A$893,0))","v":7.8},null,{"$f":"INDEX(Backbone!$I$2:$I$893,MATCH(I42,Backbone!$A$2:$A$893,0))","v":8},null,{"$f":"INDEX(Backbone!$J$2:$J$893,MATCH(I42,Backbone!$A$2:$A$893,0))","v":9.8000000000000007},null,{"$f":"INDEX(Backbone!$K$1:$K$893,MATCH(I42,Backbone!$A$1:$A$893,0))","v":10},null,{"$f":"INDEX(Backbone!$L$2:$L$893,MATCH(I42,Backbone!$A$2:$A$893,0))","v":7.1},null,{"$f":"INDEX(Backbone!$M$2:$M$893,MATCH(I42,Backbone!$A$2:$A$893,0))","v":4},null,{"$f":"INDEX(Backbone!$N$2:$N$893,MATCH(I42,Backbone!$A$2:$A$893,0))","v":7},null,{"$f":"INDEX(Backbone!$O$2:$O$893,MATCH(I42,Backbone!$A$2:$A$893,0))","v":8.8000000000000007},null,{"$f":"INDEX(Backbone!$P$2:$P$893,MATCH(I42,Backbone!$A$2:$A$893,0))","v":5},null,{"$f":"INDEX(Backbone!$Q$2:$Q$893,MATCH(I42,Backbone!$A$2:$A$893,0))","v":0.75},null,null,{"$f":"(AG42*$AG$22+AI42*$AI$22+AK42*$AK$22+AM42*$AM$22+AO42*$AO$22+AQ42*$AQ$22+AS42*$AS$22+AU42*$AU$22+AW42*$AW$22)/(SUM($AG$22:$AW$22)*10)","v":{"$error":"#DIV/0!"}},null,null,"Aller à \nBoîte à outils: ",null,{"$f":"HYPERLINK(\"#\"&ADDRESS(MATCH(I42,Toolbox!$C$1:$C$300),1,,,\"Toolbox\"),VLOOKUP(I42,Toolbox!$C$1:$C$300,1,FALSE))","v":"Analyse de la politique sur le terrain (PFA)"}]
[]
[]
[]
[]
[]
[null,null,null,null,null,null,null,null,{"$f":"Backbone!A453","v":"Approche par étapes pour l'élimination de la rage (SARE)"},null,null,null,null,null,null,"Un outil pratique de planification, de suivi et d'évaluation qui permet d'orienter, de déployer et d'affiner des programmes de lutte contre la rage.",null,null,null,null,null,null,null,null,{"$f":"INDEX(Backbone!$R$2:$R$893,MATCH(I48,Backbone!$A$2:$A$893,0))","v":"Outil d'autoévaluation"},null,null,null,{"$f":"INDEX(Backbone!$S$2:$S$893,MATCH(I48,Backbone!$A$2:$A$893,0))","v":"«Une seule santé»; spécifique d'une maladie/menace "},null,null,null,{"$f":"INDEX(Backbone!$H$2:$H$893,MATCH(I48,Backbone!$A$2:$A$893,0))","v":8},null,{"$f":"INDEX(Backbone!$I$2:$I$893,MATCH(I48,Backbone!$A$2:$A$893,0))","v":9},null,{"$f":"INDEX(Backbone!$J$2:$J$893,MATCH(I48,Backbone!$A$2:$A$893,0))","v":6.6},null,{"$f":"INDEX(Backbone!$K$1:$K$893,MATCH(I48,Backbone!$A$1:$A$893,0))","v":3.3},null,{"$f":"INDEX(Backbone!$L$2:$L$893,MATCH(I48,Backbone!$A$2:$A$893,0))","v":5.7},null,{"$f":"INDEX(Backbone!$M$2:$M$893,MATCH(I48,Backbone!$A$2:$A$893,0))","v":6.8},null,{"$f":"INDEX(Backbone!$N$2:$N$893,MATCH(I48,Backbone!$A$2:$A$893,0))","v":8},null,{"$f":"INDEX(Backbone!$O$2:$O$893,MATCH(I48,Backbone!$A$2:$A$893,0))","v":8.6},null,{"$f":"INDEX(Backbone!$P$2:$P$893,MATCH(I48,Backbone!$A$2:$A$893,0))","v":9.5},null,{"$f":"INDEX(Backbone!$Q$2:$Q$893,MATCH(I48,Backbone!$A$2:$A$893,0))","v":0.72777777777777775},null,null,{"$f":"(AG48*$AG$22+AI48*$AI$22+AK48*$AK$22+AM48*$AM$22+AO48*$AO$22+AQ48*$AQ$22+AS48*$AS$22+AU48*$AU$22+AW48*$AW$22)/(SUM($AG$22:$AW$22)*10)","v":{"$error":"#DIV/0!"}},null,null,"Aller à \nBoîte à outils: ",null,{"$f":"HYPERLINK(\"#\"&ADDRESS(MATCH(I48,Toolbox!$C$1:$C$300),1,,,\"Toolbox\"),VLOOKUP(I48,Toolbox!$C$1:$C$300,1,FALSE))","v":"Approche par étapes pour l'élimination de la rage (SARE)"}]
[]
[]
[]
[]
[]
[]
[]
[]
[]
[]
[]
[]
[]
[]
[]
[]
[]
[]
[]
[]
[]
[]
[]
[]
[null,null,null,null,null,null,null,null,null,null,null,null,null,null,null,null,null,null,null,null,null,null,null,null,null,null,null,null,null,null,null,null,"Accessibilité",null,"Langue",null,"Facilité d'utilisation",null,"Flexibilité",null,"Besoins de données",null,"Analyse des données",null,"Acceptabilité",null,"«Une seule santé»",null,"Impact"]
[]
[]
[]
[]
[]
[]
[null,null,null,null,null,null,null,null,null,null,null,null,null,null,null,null,null,null,null,null,null,null,null,null,null,null,null,null,null,null,null,null,null,null,null,null,null,null,null,null,null,null,null,null,null,null,null,null,null,null,"SCORE BRUT",null,null,"SCORE AJUSTÉ \n(Selon les préférences de l'utilisateur)"]
[null,"RESSOURCES DE NIVEAU 2"]
[]
[]
[null,null,null,"DÉSIGNATION",null,null,null,null,"NOM DE LA RESSOURCE",null,null,null,null,null,null,"BRÈVE DESCRIPTION",null,null,null,null,null,null,null,null,"TYPE DE RESSOURCE",null,null,null,"CARACTÈRE GÉNÉRAL DE LA RESSOURCE"]
[]
[]
[]
[null,null,null,null,null,null,null,null,null,null,null,null,null,null,null,null,null,null,null,null,null,null,null,null,null,null,null,null,null,null,null,null,{"$f":"'Attribute Survey'!S130","v":0},null,{"$f":"'Attribute Survey'!S134","v":0},null,{"$f":"'Attribute Survey'!S138","v":0},null,{"$f":"'Attribute Survey'!S142","v":0},null,{"$f":"'Attribute Survey'!S146","v":0},null,{"$f":"'Attribute Survey'!S150","v":0},null,{"$f":"'Attribute Survey'!S154","v":0},null,{"$f":"'Attribute Survey'!S158","v":0},null,{"$f":"'Attribute Survey'!S162","v":0}]
[null,null,null,"Ressources les mieux adaptées",null,null,null,null,{"$f":"Backbone!A683","v":"Boîte à outils pour la promotion d'une politique «Une seule santé»"},null,null,null,null,null,null,"Cette boîte à outils aide les parties prenantes de l'approche «Une seule santé» à élaborer et à mettre en œuvre une stratégie de promotion de cette politique. ",null,null,null,null,null,null,null,null,{"$f":"INDEX(Backbone!$R2:$R893,MATCH(I89,Backbone!$A2:$A893,0))","v":"Document d'orientation"},null,null,null,{"$f":"INDEX(Backbone!S2:S893,MATCH(I89,Backbone!A2:A893,0))","v":"«Une seule santé»; Généralisée"},null,null,null,{"$f":"INDEX(Backbone!H2:H893,MATCH(I89,Backbone!A2:A893,0))","v":8.4},null,{"$f":"INDEX(Backbone!I2:I893,MATCH(I89,Backbone!A2:A893,0))","v":8},null,{"$f":"INDEX(Backbone!J2:J893,MATCH(I89,Backbone!A2:A893,0))","v":8.4},null,{"$f":"INDEX(Backbone!K2:K893,MATCH(I89,Backbone!A2:A893,0))","v":6.7},null,{"$f":"INDEX(Backbone!L2:L893,MATCH(I89,Backbone!A2:A893,0))","v":2},null,{"$f":"INDEX(Backbone!M2:M893,MATCH(I89,Backbone!A2:A893,0))","v":3.5},null,{"$f":"INDEX(Backbone!N2:N893,MATCH(I89,Backbone!A2:A893,0))","v":4},null,{"$f":"INDEX(Backbone!O2:O893,MATCH(I89,Backbone!A2:A893,0))","v":6.4},null,{"$f":"INDEX(Backbone!P2:P893,MATCH(I89,Backbone!A2:A893,0))","v":8},null,{"$f":"INDEX(Backbone!Q2:Q893,MATCH(I89,Backbone!A2:A893,0))","v":0.61555555555555552},null,null,{"$f":"(AG89*$AG$22+AI89*$AI$22+AK89*$AK$22+AM89*$AM$22+AO89*$AO$22+AQ89*$AQ$22+AS89*$AS$22+AU89*$AU$22+AW89*$AW$22)/(SUM($AG$22:$AW$22)*10)","v":{"$error":"#DIV/0!"}},null,null,"Aller à \nBoîte à outils: ",null,{"$f":"HYPERLINK(\"#\"&ADDRESS(MATCH(I89,Toolbox!$C$1:$C$300),1,,,\"Toolbox\"),VLOOKUP(I89,Toolbox!$C$1:$C$300,1,FALSE))","v":"Boîte à outils pour la promotion d'une politique «Une seule santé»"}]
[]
[]
[]
[]
[]
[]
[null,null,null,"Autres ressources intéressantes",null,null,null,null,{"$f":"Backbone!A332","v":"Réseau pour l'évaluation de l'approche «Une seule santé» (NEOH)"},null,null,null,null,null,null,"Un outil au format Excel qui mesure la conformité d'un système de surveillance au principe «Une seule santé». ",null,null,null,null,null,null,null,null,{"$f":"INDEX(Backbone!$R$2:$R$893,MATCH(I96,Backbone!$A$2:$A$893,0))","v":"Document d'orientation"},null,null,null,{"$f":"INDEX(Backbone!$S$2:$S$893,MATCH(I96,Backbone!$A$2:$A$893,0))","v":"«Une seule santé»; Généralisée"},null,null,null,{"$f":"INDEX(Backbone!$H$2:$H$893,MATCH(I96,Backbone!$A$2:$A$893,0))","v":8.3000000000000007},null,{"$f":"INDEX(Backbone!$I$2:$I$893,MATCH(I96,Backbone!$A$2:$A$893,0))","v":7.7},null,{"$f":"INDEX(Backbone!$J$2:$J$893,MATCH(I96,Backbone!$A$2:$A$893,0))","v":5.3},null,{"$f":"INDEX(Backbone!$K$1:$K$893,MATCH(I96,Backbone!$A$1:$A$893,0))","v":8.9},null,{"$f":"INDEX(Backbone!$L$2:$L$893,MATCH(I96,Backbone!$A$2:$A$893,0))","v":7.8},null,{"$f":"INDEX(Backbone!$M$2:$M$893,MATCH(I96,Backbone!$A$2:$A$893,0))","v":4.7},null,{"$f":"INDEX(Backbone!$N$2:$N$893,MATCH(I96,Backbone!$A$2:$A$893,0))","v":5.3},null,{"$f":"INDEX(Backbone!$O$2:$O$893,MATCH(I96,Backbone!$A$2:$A$893,0))","v":8},null,{"$f":"INDEX(Backbone!$P$2:$P$893,MATCH(I96,Backbone!$A$2:$A$893,0))","v":5.3},null,{"$f":"INDEX(Backbone!$Q$2:$Q$893,MATCH(I96,Backbone!$A$2:$A$893,0))","v":0.68111111111111111},null,null,{"$f":"(AG96*$AG$22+AI96*$AI$22+AK96*$AK$22+AM96*$AM$22+AO96*$AO$22+AQ96*$AQ$22+AS96*$AS$22+AU96*$AU$22+AW96*$AW$22)/(SUM($AG$22:$AW$22)*10)","v":{"$error":"#DIV/0!"}},null,null,"Aller à \nBoîte à outils: ",null,{"$f":"HYPERLINK(\"#\"&ADDRESS(MATCH(I96,Toolbox!$C$1:$C$300),1,,,\"Toolbox\"),VLOOKUP(I96,Toolbox!$C$1:$C$300,1,FALSE))","v":"Réseau pour l'évaluation de l'approche «Une seule santé» (NEOH)"}]
[]
[]
[]
[]
[]
[null,null,null,null,null,null,null,null,{"$f":"Backbone!A685","v":"Boîte à outils pour le modèle de politique «Une seule santé»"},null,null,null,null,null,null,"Cette boîte à outils est conçue pour aider les décideurs à comprendre la nature et l'ampleur de l'impact sur la santé vétérinaire, humaine et environnementale que pourraient avoir les changements dans les populations animales et humaines, et présente quelques-unes des options politiques disponibles.",null,null,null,null,null,null,null,null,{"$f":"INDEX(Backbone!$R$2:$R$893,MATCH(I102,Backbone!$A$2:$A$893,0))","v":"Document d'orientation"},null,null,null,{"$f":"INDEX(Backbone!$S$2:$S$893,MATCH(I102,Backbone!$A$2:$A$893,0))","v":"«Une seule santé»; Généralisée"},null,null,null,{"$f":"INDEX(Backbone!$H$2:$H$893,MATCH(I102,Backbone!$A$2:$A$893,0))","v":8.4},null,{"$f":"INDEX(Backbone!$I$2:$I$893,MATCH(I102,Backbone!$A$2:$A$893,0))","v":8},null,{"$f":"INDEX(Backbone!$J$2:$J$893,MATCH(I102,Backbone!$A$2:$A$893,0))","v":8.4},null,{"$f":"INDEX(Backbone!$K$1:$K$893,MATCH(I102,Backbone!$A$1:$A$893,0))","v":6.7},null,{"$f":"INDEX(Backbone!$L$2:$L$893,MATCH(I102,Backbone!$A$2:$A$893,0))","v":2},null,{"$f":"INDEX(Backbone!$M$2:$M$893,MATCH(I102,Backbone!$A$2:$A$893,0))","v":3.5},null,{"$f":"INDEX(Backbone!$N$2:$N$893,MATCH(I102,Backbone!$A$2:$A$893,0))","v":4},null,{"$f":"INDEX(Backbone!$O$2:$O$893,MATCH(I102,Backbone!$A$2:$A$893,0))","v":6.4},null,{"$f":"INDEX(Backbone!$P$2:$P$893,MATCH(I102,Backbone!$A$2:$A$893,0))","v":8},null,{"$f":"INDEX(Backbone!$Q$2:$Q$893,MATCH(I102,Backbone!$A$2:$A$893,0))","v":0.61555555555555552},null,null,{"$f":"(AG102*$AG$22+AI102*$AI$22+AK102*$AK$22+AM102*$AM$22+AO102*$AO$22+AQ102*$AQ$22+AS102*$AS$22+AU102*$AU$22+AW102*$AW$22)/(SUM($AG$22:$AW$22)*10)","v":{"$error":"#DIV/0!"}},null,null,"Aller à \nBoîte à outils: ",null,{"$f":"HYPERLINK(\"#\"&ADDRESS(MATCH(I102,Toolbox!$C$1:$C$300),1,,,\"Toolbox\"),VLOOKUP(I102,Toolbox!$C$1:$C$300,1,FALSE))","v":"Boîte à outils pour le modèle de politique «Une seule santé»"}]
[]
[]
[]
[]
[]
[]
[]
[]
[]
[]
[]
[]
[]
[]
[]
[]
[]
[]
[]
[]
[]
[]
[null,null,null,null,null,null,null,null,null,null,null,null,null,null,null,null,null,null,null,null,null,null,null,null,null,null,null,null,null,null,null,null,"Accessibilité",null,"Langue",null,"Facilité d'utilisation",null,"Flexibilité",null,"Besoins de données",null,"Analyse des données",null,"Acceptabilité",null,"«Une seule santé»",null,"Impact"]
[]
[]
[]
[]
[]
[]
[null,"RESSOURCES DE NIVEAU 3",null,null,null,null,null,null,null,null,null,null,null,null,null,null,null,null,null,null,null,null,null,null,null,null,null,null,null,null,null,null,null,null,null,null,null,null,null,null,null,null,null,null,null,null,null,null,null,null,"SCORE BRUT",null,null,"SCORE AJUSTÉ \n(Selon les préférences de l'utilisateur)"]
[]
[]
[]
[null,null,null,"DÉSIGNATION",null,null,null,null,"NOM DE LA RESSOURCE",null,null,null,null,null,null,"BRÈVE DESCRIPTION",null,null,null,null,null,null,null,null,"TYPE DE RESSOURCE",null,null,null,"CARACTÈRE GÉNÉRAL DE LA RESSOURCE"]
[]
[]
[]
[null,null,null,null,null,null,null,null,null,null,null,null,null,null,null,null,null,null,null,null,null,null,null,null,null,null,null,null,null,null,null,null,{"$f":"'Attribute Survey'!S231","v":0},null,{"$f":"'Attribute Survey'!S235","v":0},null,{"$f":"'Attribute Survey'!S239","v":0},null,{"$f":"'Attribute Survey'!S243","v":0},null,{"$f":"'Attribute Survey'!S247","v":0},null,{"$f":"'Attribute Survey'!S251","v":0},null,{"$f":"'Attribute Survey'!S255","v":0},null,{"$f":"'Attribute Survey'!S259","v":0},null,{"$f":"'Attribute Survey'!S263","v":0}]
[null,null,null,"Ressources les mieux adaptées",null,null,null,null,{"$f":"Backbone!A683","v":"Boîte à outils pour la promotion d'une politique «Une seule santé»"},null,null,null,null,null,null,"Cette boîte à outils aide les parties prenantes de l'approche «Une seule santé» à élaborer et à mettre en œuvre une stratégie de promotion de cette politique ",null,null,null,null,null,null,null,null,{"$f":"INDEX(Backbone!$R$2:$R$893,MATCH(I141,Backbone!$A$2:$A$893,0))","v":"Document d'orientation"},null,null,null,{"$f":"INDEX(Backbone!$S$2:$S$893,MATCH(I141,Backbone!$A$2:$A$893,0))","v":"«Une seule santé»; Généralisée"},null,null,null,{"$f":"INDEX(Backbone!$H$2:$H$893,MATCH(I141,Backbone!$A$2:$A$893,0))","v":8.4},null,{"$f":"INDEX(Backbone!$I$2:$I$893,MATCH(I141,Backbone!$A$2:$A$893,0))","v":8},null,{"$f":"INDEX(Backbone!$J$2:$J$893,MATCH(I141,Backbone!$A$2:$A$893,0))","v":8.4},null,{"$f":"INDEX(Backbone!$K$2:$K$893,MATCH(I141,Backbone!$A$2:$A$893,0))","v":6.7},null,{"$f":"INDEX(Backbone!$L$2:$L$893,MATCH(I141,Backbone!$A$2:$A$893,0))","v":2},null,{"$f":"INDEX(Backbone!$M$2:$M$893,MATCH(I141,Backbone!$A$2:$A$893,0))","v":3.5},null,{"$f":"INDEX(Backbone!$N$2:$N$893,MATCH(I141,Backbone!$A$2:$A$893,0))","v":4},null,{"$f":"INDEX(Backbone!$O$2:$O$893,MATCH(I141,Backbone!$A$2:$A$893,0))","v":6.4},null,{"$f":"INDEX(Backbone!$P$2:$P$893,MATCH(I141,Backbone!$A$2:$A$893,0))","v":8},null,{"$f":"INDEX(Backbone!$Q$2:$Q$893,MATCH(I141,Backbone!$A$2:$A$893,0))","v":0.61555555555555552},null,null,{"$f":"(AG141*$AG$22+AI141*$AI$22+AK141*$AK$22+AM141*$AM$22+AO141*$AO$22+AQ141*$AQ$22+AS141*$AS$22+AU141*$AU$22+AW141*$AW$22)/(SUM($AG$22:$AW$22)*10)","v":{"$error":"#DIV/0!"}},null,null,"Aller à \nBoîte à outils: ",null,{"$f":"HYPERLINK(\"#\"&ADDRESS(MATCH(I141,Toolbox!$C$1:$C$300),1,,,\"Toolbox\"),VLOOKUP(I141,Toolbox!$C$1:$C$300,1,FALSE))","v":"Boîte à outils pour la promotion d'une politique «Une seule santé»"}]
[]
[]
[]
[]
[]
[]
[null,null,null,"Autres ressources intéressantes",null,null,null,null,{"$f":"Backbone!A303","v":"Plan d'action national pour la sécurité sanitaire (PANSS)"},null,null,null,null,null,null,"Un outil dont l'objectif est d'évaluer l'organisation et le fonctionnement de la collaboration au sein d'un système de surveillance multisectoriel, ainsi que d'analyser les points forts et les points faibles de cette collaboration. ",null,null,null,null,null,null,null,null,{"$f":"INDEX(Backbone!$R$2:$R$893,MATCH(I148,Backbone!$A$2:$A$893,0))","v":"Document d'orientation"},null,null,null,{"$f":"INDEX(Backbone!$S$2:$S$893,MATCH(I148,Backbone!$A$2:$A$893,0))","v":"«Une seule santé»; Généralisée"},null,null,null,{"$f":"INDEX(Backbone!$H$2:$H$893,MATCH(I148,Backbone!$A$2:$A$893,0))","v":8},null,{"$f":"INDEX(Backbone!$I$2:$I$893,MATCH(I148,Backbone!$A$2:$A$893,0))","v":9},null,{"$f":"INDEX(Backbone!$J$2:$J$893,MATCH(I148,Backbone!$A$2:$A$893,0))","v":7.8},null,{"$f":"INDEX(Backbone!$K$1:$K$893,MATCH(I148,Backbone!$A$1:$A$893,0))","v":10},null,{"$f":"INDEX(Backbone!$L$2:$L$893,MATCH(I148,Backbone!$A$2:$A$893,0))","v":8},null,{"$f":"INDEX(Backbone!$M$2:$M$893,MATCH(I148,Backbone!$A$2:$A$893,0))","v":4.5},null,{"$f":"INDEX(Backbone!$N$2:$N$893,MATCH(I148,Backbone!$A$2:$A$893,0))","v":10},null,{"$f":"INDEX(Backbone!$O$2:$O$893,MATCH(I148,Backbone!$A$2:$A$893,0))","v":10},null,{"$f":"INDEX(Backbone!$P$2:$P$893,MATCH(I148,Backbone!$A$2:$A$893,0))","v":10},null,{"$f":"INDEX(Backbone!$Q$2:$Q$893,MATCH(I148,Backbone!$A$2:$A$893,0))","v":0.85888888888888881},null,null,{"$f":"(AG148*$AG$22+AI148*$AI$22+AK148*$AK$22+AM148*$AM$22+AO148*$AO$22+AQ148*$AQ$22+AS148*$AS$22+AU148*$AU$22+AW148*$AW$22)/(SUM($AG$22:$AW$22)*10)","v":{"$error":"#DIV/0!"}},null,null,"Aller à \nBoîte à outils: ",null,{"$f":"HYPERLINK(\"#\"&ADDRESS(MATCH(I148,Toolbox!$C$1:$C$300),1,,,\"Toolbox\"),VLOOKUP(I148,Toolbox!$C$1:$C$300,1,FALSE))","v":"Plan d'action national pour la sécurité sanitaire (PANSS)"}]

{"sheet":"P2_tools","index":39,"n_rows":135,"n_cols":59,"rows_kept":135,"cut":false,"hidden":false,"merged":[[40,53,44,54],[22,3,44,6],[17,1,44,1],[67,1,89,1],[40,36,44,36],[40,38,44,38],[40,40,44,40],[40,42,44,42],[40,44,44,44],[40,46,44,46],[75,44,79,44],[75,46,79,46],[75,48,79,48],[75,50,79,51],[75,53,79,54],[81,15,85,22],[81,24,85,26],[81,28,85,30],[81,32,85,32],[75,32,79,32],[75,34,79,34],[75,36,79,36],[75,38,79,38],[75,40,79,40],[134,50,138,51],[134,53,138,54],[40,8,44,13],[40,15,44,22],[40,24,44,26],[40,28,44,30],[40,32,44,32],[40,34,44,34],[134,34,138,34],[134,36,138,36],[134,38,138,38],[134,40,138,40],[134,42,138,42],[134,44,138,44],[128,44,132,44],[128,46,132,46],[128,48,132,48],[128,50,132,51],[128,53,132,54],[134,8,138,13],[134,15,138,22],[134,24,138,26],[40,48,44,48],[40,50,44,51],[121,50,125,51],[121,53,125,54],[128,3,138,6],[128,8,132,13],[128,15,132,22],[128,24,132,26],[128,28,132,30],[121,32,125,32],[121,34,125,34],[121,36,125,36],[121,38,125,38],[121,40,125,40],[121,42,125,42],[134,28,138,30],[134,32,138,32],[128,32,132,32],[128,34,132,34],[128,36,132,36],[128,38,132,38],[128,40,132,40],[128,42,132,42],[121,44,125,44],[134,46,138,46],[134,48,138,48],[115,28,118,30],[120,3,125,6],[121,8,125,13],[121,15,125,22],[121,24,125,26],[121,28,125,30],[104,44,118,44],[104,46,118,46],[104,48,118,48],[121,46,125,46],[121,48,125,48],[111,50,118,51],[111,53,118,54],[115,1,138,1],[115,3,118,6],[115,8,118,13],[115,15,118,22],[115,24,118,26],[81,46,85,46],[81,48,85,48],[81,50,85,51],[81,53,85,54],[104,32,118,32],[104,34,118,34],[104,36,118,36],[104,38,118,38],[104,40,118,40],[104,42,118,42],[81,34,85,34],[81,36,85,36],[81,38,85,38],[81,40,85,40],[81,42,85,42],[81,44,85,44],[81,8,85,13],[75,42,79,42],[75,3,85,6],[75,8,79,13],[75,15,79,22],[75,24,79,26],[75,28,79,30],[70,28,73,30],[59,44,73,44],[59,46,73,46],[59,48,73,48],[66,50,73,51],[66,53,73,54],[70,3,73,6],[70,8,73,13],[70,15,73,22],[70,24,73,26],[59,32,73,32],[59,34,73,34],[59,36,73,36],[59,38,73,38],[59,40,73,40],[59,42,73,42],[34,42,38,42],[34,44,38,44],[34,46,38,46],[34,48,38,48],[34,50,38,51],[34,53,38,54],[28,53,32,54],[34,8,38,13],[34,15,38,22],[34,24,38,26],[34,28,38,30],[34,32,38,32],[34,34,38,34],[34,36,38,36],[34,38,38,38],[34,40,38,40],[28,40,32,40],[28,42,32,42],[28,44,32,44],[28,46,32,46],[28,48,32,48],[28,50,32,51],[1,1,3,62],[22,50,26,51],[22,53,26,54],[28,8,32,13],[28,15,32,22],[28,24,32,26],[28,28,32,30],[28,32,32,32],[28,34,32,34],[28,36,32,36],[28,38,32,38],[22,38,26,38],[22,40,26,40],[22,42,26,42],[22,44,26,44],[22,46,26,46],[22,48,26,48],[22,8,26,13],[22,15,26,22],[22,24,26,26],[22,28,26,30],[22,32,26,32],[22,34,26,34],[22,36,26,36],[13,50,20,51],[13,53,20,54],[17,3,20,6],[17,8,20,13],[17,15,20,22],[17,24,20,26],[17,28,20,30],[6,32,20,32],[6,34,20,34],[6,36,20,36],[6,38,20,38],[6,40,20,40],[6,42,20,42],[6,44,20,44],[6,46,20,46],[6,48,20,48],[81,56,85,57],[81,58,85,62],[121,56,125,57],[121,58,125,62],[128,56,132,57],[128,58,132,62],[134,56,138,57],[134,58,138,62],[22,56,26,57],[22,58,26,62],[28,56,32,57],[28,58,32,62],[34,56,38,57],[34,58,38,62],[40,56,44,57],[40,58,44,62],[75,56,79,57],[75,58,79,62]]}
[]
[null,"Ressources pour les éléments de données communs"]
[]
[]
[]
[]
[null,null,null,null,null,null,null,null,null,null,null,null,null,null,null,null,null,null,null,null,null,null,null,null,null,null,null,null,null,null,null,null,"Accessibilité",null,"Langue",null,"Facilité d'utilisation",null,"Flexibilité",null,"Besoins de données",null,"Analyse des données",null,"Acceptabilité",null,"«Une seule santé»",null,"Impact"]
[]
[]
[]
[]
[]
[]
[null,null,null,null,null,null,null,null,null,null,null,null,null,null,null,null,null,null,null,null,null,null,null,null,null,null,null,null,null,null,null,null,null,null,null,null,null,null,null,null,null,null,null,null,null,null,null,null,null,null,"SCORE BRUT",null,null,"SCORE AJUSTÉ \n(Selon les préférences de l'utilisateur)"]
[]
[]
[]
[null,"RESSOURCES DE NIVEAU 1",null,"DÉSIGNATION",null,null,null,null,"NOM DE LA RESSOURCE",null,null,null,null,null,null,"BRÈVE DESCRIPTION",null,null,null,null,null,null,null,null,"TYPE DE RESSOURCE",null,null,null,"CARACTÈRE GÉNÉRAL DE LA RESSOURCE"]
[]
[]
[]
[null,null,null,null,null,null,null,null,null,null,null,null,null,null,null,null,null,null,null,null,null,null,null,null,null,null,null,null,null,null,null,null,{"$f":"'Attribute Survey'!S22","v":0},null,{"$f":"'Attribute Survey'!S26","v":0},null,{"$f":"'Attribute Survey'!S30","v":0},null,{"$f":"'Attribute Survey'!S34","v":0},null,{"$f":"'Attribute Survey'!S38","v":0},null,{"$f":"'Attribute Survey'!S42","v":0},null,{"$f":"'Attribute Survey'!S46","v":0},null,{"$f":"'Attribute Survey'!S50","v":0},null,{"$f":"'Attribute Survey'!S54","v":0}]
[null,null,null,"Autres ressources intéressantes",null,null,null,null,{"$f":"Backbone!A100","v":"Évaluation des collaborations au sein d'un système de surveillance multisectoriel (EcoSur)"},null,null,null,null,null,null,"Un outil dont l'objectif est d'évaluer l'organisation et le fonctionnement de la collaboration au sein d'un système de surveillance multisectoriel, ainsi que d'analyser les points forts et les points faibles de cette collaboration.",null,null,null,null,null,null,null,null,{"$f":"INDEX(Backbone!$R$2:$R$893,MATCH(I23,Backbone!$A$2:$A$893,0))","v":"Outil ou processus dirigé/facilité"},null,null,null,{"$f":"INDEX(Backbone!$S$2:$S$893,MATCH(I23,Backbone!$A$2:$A$893,0))","v":"«Une seule santé»; Généralisée"},null,null,null,{"$f":"INDEX(Backbone!$H$2:$H$893,MATCH(I23,Backbone!$A$2:$A$893,0))","v":8.3000000000000007},null,{"$f":"INDEX(Backbone!$I$2:$I$893,MATCH(I23,Backbone!$A$2:$A$893,0))","v":6},null,{"$f":"INDEX(Backbone!$J$2:$J$893,MATCH(I23,Backbone!$A$2:$A$893,0))","v":8.5},null,{"$f":"INDEX(Backbone!$K$1:$K$893,MATCH(I23,Backbone!$A$1:$A$893,0))","v":7.8},null,{"$f":"INDEX(Backbone!$L$2:$L$893,MATCH(I23,Backbone!$A$2:$A$893,0))","v":8.3000000000000007},null,{"$f":"INDEX(Backbone!$M$2:$M$893,MATCH(I23,Backbone!$A$2:$A$893,0))","v":6.7},null,{"$f":"INDEX(Backbone!$N$2:$N$893,MATCH(I23,Backbone!$A$2:$A$893,0))","v":3.3},null,{"$f":"INDEX(Backbone!$O$2:$O$893,MATCH(I23,Backbone!$A$2:$A$893,0))","v":9.1},null,{"$f":"INDEX(Backbone!$P$2:$P$893,MATCH(I23,Backbone!$A$2:$A$893,0))","v":4.7},null,{"$f":"INDEX(Backbone!$Q$2:$Q$893,MATCH(I23,Backbone!$A$2:$A$893,0))","v":0.69666666666666677},null,null,{"$f":"(AG23*$AG$22+AI23*$AI$22+AK23*$AK$22+AM23*$AM$22+AO23*$AO$22+AQ23*$AQ$22+AS23*$AS$22+AU23*$AU$22+AW23*$AW$22)/(SUM($AG$22:$AW$22)*10)","v":{"$error":"#DIV/0!"}},null,null,"Aller à \nBoîte à outils: ",null,{"$f":"HYPERLINK(\"#\"&ADDRESS(MATCH(I23,Toolbox!$C$1:$C$300),1,,,\"Toolbox\"),VLOOKUP(I23,Toolbox!$C$1:$C$300,1,FALSE))","v":"Évaluation des collaborations au sein d'un système de surveillance multisectoriel (EcoSur)"}]
[]
[]
[]
[]
[]
[null,null,null,null,null,null,null,null,{"$f":"Backbone!A33","v":"Cadre pour le renforcement de la prévention et du contrôle de l'anthrax "},null,null,null,null,null,null,"Le Cadre présente un historique de la maladie du charbon et explique comment améliorer la prévention et le contrôle de cette maladie chez les animaux et les humains.",null,null,null,null,null,null,null,null,{"$f":"INDEX(Backbone!$R$2:$R$893,MATCH(I29,Backbone!$A$2:$A$893,0))","v":"Document d'orientation"},null,null,null,{"$f":"INDEX(Backbone!$S$2:$S$893,MATCH(I29,Backbone!$A$2:$A$893,0))","v":"«Une seule santé»; spécifique d'une maladie/menace "},null,null,null,{"$f":"INDEX(Backbone!$H$2:$H$893,MATCH(I29,Backbone!$A$2:$A$893,0))","v":9.1},null,{"$f":"INDEX(Backbone!$I$2:$I$893,MATCH(I29,Backbone!$A$2:$A$893,0))","v":10},null,{"$f":"INDEX(Backbone!$J$2:$J$893,MATCH(I29,Backbone!$A$2:$A$893,0))","v":8.6},null,{"$f":"INDEX(Backbone!$K$1:$K$893,MATCH(I29,Backbone!$A$1:$A$893,0))","v":4.7},null,{"$f":"INDEX(Backbone!$L$2:$L$893,MATCH(I29,Backbone!$A$2:$A$893,0))","v":9.1999999999999993},null,{"$f":"INDEX(Backbone!$M$2:$M$893,MATCH(I29,Backbone!$A$2:$A$893,0))","v":2},null,{"$f":"INDEX(Backbone!$N$2:$N$893,MATCH(I29,Backbone!$A$2:$A$893,0))","v":6.3},null,{"$f":"INDEX(Backbone!$O$2:$O$893,MATCH(I29,Backbone!$A$2:$A$893,0))","v":4.3},null,{"$f":"INDEX(Backbone!$P$2:$P$893,MATCH(I29,Backbone!$A$2:$A$893,0))","v":6},null,{"$f":"INDEX(Backbone!$Q$2:$Q$893,MATCH(I29,Backbone!$A$2:$A$893,0))","v":0.66888888888888887},null,null,{"$f":"(AG29*$AG$22+AI29*$AI$22+AK29*$AK$22+AM29*$AM$22+AO29*$AO$22+AQ29*$AQ$22+AS29*$AS$22+AU29*$AU$22+AW29*$AW$22)/(SUM($AG$22:$AW$22)*10)","v":{"$error":"#DIV/0!"}},null,null,"Aller à \nBoîte à outils: ",null,{"$f":"HYPERLINK(\"#\"&ADDRESS(MATCH(I29,Toolbox!$C$1:$C$300),1,,,\"Toolbox\"),VLOOKUP(I29,Toolbox!$C$1:$C$300,1,FALSE))","v":"Cadre pour le renforcement de la prévention et du contrôle de l'anthrax "}]
[]
[]
[]
[]
[]
[null,null,null,null,null,null,null,null,{"$f":"Backbone!A239","v":"Atelier national de rapprochement et d'échange RSI-PVS"},null,null,null,null,null,null,"Un atelier dans lequel les parties prenantes de l'initiative «Une seule santé» explorent les éventuelles zones de chevauchement dans les cadres de capacité de l'OMSA (PVS) et du RSI (Cadre de suivi et d'évaluation du RSI) et mettent en place, le cas échéant, des passerelles appropriées pour faciliter la coordination entre les secteurs.  \n\n",null,null,null,null,null,null,null,null,{"$f":"INDEX(Backbone!$R$2:$R$893,MATCH(I35,Backbone!$A$2:$A$893,0))","v":"Outil ou processus dirigé/facilité"},null,null,null,{"$f":"INDEX(Backbone!$S$2:$S$893,MATCH(I35,Backbone!$A$2:$A$893,0))","v":"«Une seule santé»; Généralisée"},null,null,null,{"$f":"INDEX(Backbone!$H$2:$H$893,MATCH(I35,Backbone!$A$2:$A$893,0))","v":8.6},null,{"$f":"INDEX(Backbone!$I$2:$I$893,MATCH(I35,Backbone!$A$2:$A$893,0))","v":10},null,{"$f":"INDEX(Backbone!$J$2:$J$893,MATCH(I35,Backbone!$A$2:$A$893,0))","v":6.2},null,{"$f":"INDEX(Backbone!$K$1:$K$893,MATCH(I35,Backbone!$A$1:$A$893,0))","v":10},null,{"$f":"INDEX(Backbone!$L$2:$L$893,MATCH(I35,Backbone!$A$2:$A$893,0))","v":6},null,{"$f":"INDEX(Backbone!$M$2:$M$893,MATCH(I35,Backbone!$A$2:$A$893,0))","v":7},null,{"$f":"INDEX(Backbone!$N$2:$N$893,MATCH(I35,Backbone!$A$2:$A$893,0))","v":9},null,{"$f":"INDEX(Backbone!$O$2:$O$893,MATCH(I35,Backbone!$A$2:$A$893,0))","v":8.1999999999999993},null,{"$f":"INDEX(Backbone!$P$2:$P$893,MATCH(I35,Backbone!$A$2:$A$893,0))","v":10},null,{"$f":"INDEX(Backbone!$Q$2:$Q$893,MATCH(I35,Backbone!$A$2:$A$893,0))","v":0.83333333333333337},null,null,{"$f":"(AG35*$AG$22+AI35*$AI$22+AK35*$AK$22+AM35*$AM$22+AO35*$AO$22+AQ35*$AQ$22+AS35*$AS$22+AU35*$AU$22+AW35*$AW$22)/(SUM($AG$22:$AW$22)*10)","v":{"$error":"#DIV/0!"}},null,null,"Aller à \nBoîte à outils: ",null,{"$f":"HYPERLINK(\"#\"&ADDRESS(MATCH(I35,Toolbox!$C$1:$C$300),1,,,\"Toolbox\"),VLOOKUP(I35,Toolbox!$C$1:$C$300,1,FALSE))","v":"Atelier national de rapprochement et d'échange RSI-PVS"}]
[]
[]
[]
[]
[]
[null,null,null,null,null,null,null,null,{"$f":"Backbone!A195","v":"Surveillance intégrée de la maladie et la riposte (IDSR)"},null,null,null,null,null,null,"Une stratégie visant à renforcer les capacités pour la détection, la confirmation et la réponse aux cas suspects et à l'apparition de foyers épidémiques, ainsi que pour l'utilisation des informations afin de prédire et de planifier les événements de santé publique.",null,null,null,null,null,null,null,null,{"$f":"INDEX(Backbone!$R$2:$R$893,MATCH(I41,Backbone!$A$2:$A$893,0))","v":"Document d'orientation"},null,null,null,{"$f":"INDEX(Backbone!$S$2:$S$893,MATCH(I41,Backbone!$A$2:$A$893,0))","v":"Spécifique du secteur; Généralisée"},null,null,null,{"$f":"INDEX(Backbone!$H$2:$H$893,MATCH(I41,Backbone!$A$2:$A$893,0))","v":7.4},null,{"$f":"INDEX(Backbone!$I$2:$I$893,MATCH(I41,Backbone!$A$2:$A$893,0))","v":10},null,{"$f":"INDEX(Backbone!$J$2:$J$893,MATCH(I41,Backbone!$A$2:$A$893,0))","v":7.4},null,{"$f":"INDEX(Backbone!$K$1:$K$893,MATCH(I41,Backbone!$A$1:$A$893,0))","v":8.6999999999999993},null,{"$f":"INDEX(Backbone!$L$2:$L$893,MATCH(I41,Backbone!$A$2:$A$893,0))","v":6.7},null,{"$f":"INDEX(Backbone!$M$2:$M$893,MATCH(I41,Backbone!$A$2:$A$893,0))","v":4.5},null,{"$f":"INDEX(Backbone!$N$2:$N$893,MATCH(I41,Backbone!$A$2:$A$893,0))","v":8},null,{"$f":"INDEX(Backbone!$O$2:$O$893,MATCH(I41,Backbone!$A$2:$A$893,0))","v":7.2},null,{"$f":"INDEX(Backbone!$P$2:$P$893,MATCH(I41,Backbone!$A$2:$A$893,0))","v":8.5},null,{"$f":"INDEX(Backbone!$Q$2:$Q$893,MATCH(I41,Backbone!$A$2:$A$893,0))","v":0.76},null,null,{"$f":"(AG41*$AG$22+AI41*$AI$22+AK41*$AK$22+AM41*$AM$22+AO41*$AO$22+AQ41*$AQ$22+AS41*$AS$22+AU41*$AU$22+AW41*$AW$22)/(SUM($AG$22:$AW$22)*10)","v":{"$error":"#DIV/0!"}},null,null,"Aller à \nBoîte à outils: ",null,{"$f":"HYPERLINK(\"#\"&ADDRESS(MATCH(I41,Toolbox!$C$1:$C$300),1,,,\"Toolbox\"),VLOOKUP(I41,Toolbox!$C$1:$C$300,1,FALSE))","v":"Surveillance intégrée de la maladie et la riposte (IDSR)"}]
[]
[]
[]
[]
[]
[]
[]
[]
[]
[]
[]
[]
[]
[]
[]
[]
[]
[]
[null,null,null,null,null,null,null,null,null,null,null,null,null,null,null,null,null,null,null,null,null,null,null,null,null,null,null,null,null,null,null,null,"Accessibilité",null,"Langue",null,"Facilité d'utilisation",null,"Flexibilité",null,"Besoins de données",null,"Analyse des données",null,"Acceptabilité",null,"«Une seule santé»",null,"Impact"]
[]
[]
[]
[]
[]
[]
[null,null,null,null,null,null,null,null,null,null,null,null,null,null,null,null,null,null,null,null,null,null,null,null,null,null,null,null,null,null,null,null,null,null,null,null,null,null,null,null,null,null,null,null,null,null,null,null,null,null,"SCORE BRUT",null,null,"SCORE AJUSTÉ \n(Selon les préférences de l'utilisateur)"]
[null,"RESSOURCES DE NIVEAU 2"]
[]
[]
[null,null,null,"DÉSIGNATION",null,null,null,null,"NOM DE LA RESSOURCE",null,null,null,null,null,null,"BRÈVE DESCRIPTION",null,null,null,null,null,null,null,null,"TYPE DE RESSOURCE",null,null,null,"CARACTÈRE GÉNÉRAL DE LA RESSOURCE"]
[]
[]
[]
[null,null,null,null,null,null,null,null,null,null,null,null,null,null,null,null,null,null,null,null,null,null,null,null,null,null,null,null,null,null,null,null,{"$f":"'Attribute Survey'!S130","v":0},null,{"$f":"'Attribute Survey'!S134","v":0},null,{"$f":"'Attribute Survey'!S138","v":0},null,{"$f":"'Attribute Survey'!S142","v":0},null,{"$f":"'Attribute Survey'!S146","v":0},null,{"$f":"'Attribute Survey'!S150","v":0},null,{"$f":"'Attribute Survey'!S154","v":0},null,{"$f":"'Attribute Survey'!S158","v":0},null,{"$f":"'Attribute Survey'!S162","v":0}]
[null,null,null,"Autres ressources intéressantes",null,null,null,null,{"$f":"Backbone!A100","v":"Évaluation des collaborations au sein d'un système de surveillance multisectoriel (EcoSur)"},null,null,null,null,null,null,"Un outil dont l'objectif est d'évaluer l'organisation et le fonctionnement de la collaboration au sein d'un système de surveillance multisectoriel, ainsi que d'analyser les points forts et les points faibles de cette collaboration.",null,null,null,null,null,null,null,null,{"$f":"INDEX(Backbone!$R$2:$R$893,MATCH(I76,Backbone!$A$2:$A$893,0))","v":"Outil ou processus dirigé/facilité"},null,null,null,{"$f":"INDEX(Backbone!$S$2:$S$893,MATCH(I76,Backbone!$A$2:$A$893,0))","v":"«Une seule santé»; Généralisée"},null,null,null,{"$f":"INDEX(Backbone!$H$2:$H$893,MATCH(I76,Backbone!$A$2:$A$893,0))","v":8.3000000000000007},null,{"$f":"INDEX(Backbone!$I$2:$I$893,MATCH(I76,Backbone!$A$2:$A$893,0))","v":6},null,{"$f":"INDEX(Backbone!$J$2:$J$893,MATCH(I76,Backbone!$A$2:$A$893,0))","v":8.5},null,{"$f":"INDEX(Backbone!$K$1:$K$893,MATCH(I76,Backbone!$A$1:$A$893,0))","v":7.8},null,{"$f":"INDEX(Backbone!$L$2:$L$893,MATCH(I76,Backbone!$A$2:$A$893,0))","v":8.3000000000000007},null,{"$f":"INDEX(Backbone!$M$2:$M$893,MATCH(I76,Backbone!$A$2:$A$893,0))","v":6.7},null,{"$f":"INDEX(Backbone!$N$2:$N$893,MATCH(I76,Backbone!$A$2:$A$893,0))","v":3.3},null,{"$f":"INDEX(Backbone!$O$2:$O$893,MATCH(I76,Backbone!$A$2:$A$893,0))","v":9.1},null,{"$f":"INDEX(Backbone!$P$2:$P$893,MATCH(I76,Backbone!$A$2:$A$893,0))","v":4.7},null,{"$f":"INDEX(Backbone!$Q$2:$Q$893,MATCH(I76,Backbone!$A$2:$A$893,0))","v":0.69666666666666677},null,null,{"$f":"(AG76*$AG$22+AI76*$AI$22+AK76*$AK$22+AM76*$AM$22+AO76*$AO$22+AQ76*$AQ$22+AS76*$AS$22+AU76*$AU$22+AW76*$AW$22)/(SUM($AG$22:$AW$22)*10)","v":{"$error":"#DIV/0!"}},null,null,"Aller à \nBoîte à outils: ",null,{"$f":"HYPERLINK(\"#\"&ADDRESS(MATCH(I76,Toolbox!$C$1:$C$300),1,,,\"Toolbox\"),VLOOKUP(I76,Toolbox!$C$1:$C$300,1,FALSE))","v":"Évaluation des collaborations au sein d'un système de surveillance multisectoriel (EcoSur)"}]
[]
[]
[]
[]
[]
[null,null,null,null,null,null,null,null,{"$f":"Backbone!A137","v":"Cadre de collecte de données EFSA"},null,null,null,null,null,null,"Outil en ligne pour la collecte des données soumises par l'ensemble des États Membres de l'UE.",null,null,null,null,null,null,null,null,{"$f":"INDEX(Backbone!$R$2:$R$893,MATCH(I82,Backbone!$A$2:$A$893,0))","v":"Matériel ou logiciel"},null,null,null,{"$f":"INDEX(Backbone!$S$2:$S$893,MATCH(I82,Backbone!$A$2:$A$893,0))","v":"«Une seule santé»; Généralisée"},null,null,null,{"$f":"INDEX(Backbone!$H$2:$H$893,MATCH(I82,Backbone!$A$2:$A$893,0))","v":8.5},null,{"$f":"INDEX(Backbone!$I$2:$I$893,MATCH(I82,Backbone!$A$2:$A$893,0))","v":4},null,{"$f":"INDEX(Backbone!$J$2:$J$893,MATCH(I82,Backbone!$A$2:$A$893,0))","v":6.8},null,{"$f":"INDEX(Backbone!$K$1:$K$893,MATCH(I82,Backbone!$A$1:$A$893,0))","v":9.3000000000000007},null,{"$f":"INDEX(Backbone!$L$2:$L$893,MATCH(I82,Backbone!$A$2:$A$893,0))","v":7.1},null,{"$f":"INDEX(Backbone!$M$2:$M$893,MATCH(I82,Backbone!$A$2:$A$893,0))","v":5.5},null,{"$f":"INDEX(Backbone!$N$2:$N$893,MATCH(I82,Backbone!$A$2:$A$893,0))","v":5},null,{"$f":"INDEX(Backbone!$O$2:$O$893,MATCH(I82,Backbone!$A$2:$A$893,0))","v":8.3000000000000007},null,{"$f":"INDEX(Backbone!$P$2:$P$893,MATCH(I82,Backbone!$A$2:$A$893,0))","v":10},null,{"$f":"INDEX(Backbone!$Q$2:$Q$893,MATCH(I82,Backbone!$A$2:$A$893,0))","v":0.71666666666666667},null,null,{"$f":"(AG82*$AG$22+AI82*$AI$22+AK82*$AK$22+AM82*$AM$22+AO82*$AO$22+AQ82*$AQ$22+AS82*$AS$22+AU82*$AU$22+AW82*$AW$22)/(SUM($AG$22:$AW$22)*10)","v":{"$error":"#DIV/0!"}},null,null,"Aller à \nBoîte à outils: ",null,{"$f":"HYPERLINK(\"#\"&ADDRESS(MATCH(I82,Toolbox!$C$1:$C$300),1,,,\"Toolbox\"),VLOOKUP(I82,Toolbox!$C$1:$C$300,1,FALSE))","v":"Cadre de collecte de données EFSA"}]
[]
[]
[]
[]
[]
[]
[]
[]
[]
[]
[]
[]
[]
[]
[]
[]
[]
[]
[]
[]
[]
[]
[null,null,null,null,null,null,null,null,null,null,null,null,null,null,null,null,null,null,null,null,null,null,null,null,null,null,null,null,null,null,null,null,"Accessibilité",null,"Langue",null,"Facilité d'utilisation",null,"Flexibilité",null,"Besoins de données",null,"Analyse des données",null,"Acceptabilité",null,"«Une seule santé»",null,"Impact"]
[]
[]
[]
[]
[]
[]
[null,null,null,null,null,null,null,null,null,null,null,null,null,null,null,null,null,null,null,null,null,null,null,null,null,null,null,null,null,null,null,null,null,null,null,null,null,null,null,null,null,null,null,null,null,null,null,null,null,null,"SCORE BRUT",null,null,"SCORE AJUSTÉ \n(Selon les préférences de l'utilisateur)"]
[]
[]
[]
[null,"RESSOURCES DE NIVEAU 3",null,"DÉSIGNATION",null,null,null,null,"NOM DE LA RESSOURCE",null,null,null,null,null,null,"BRÈVE DESCRIPTION",null,null,null,null,null,null,null,null,"TYPE DE RESSOURCE",null,null,null,"CARACTÈRE GÉNÉRAL DE LA RESSOURCE"]
[]
[]
[]
[null,null,null,null,null,null,null,null,null,null,null,null,null,null,null,null,null,null,null,null,null,null,null,null,null,null,null,null,null,null,null,null,{"$f":"'Attribute Survey'!S231","v":0},null,{"$f":"'Attribute Survey'!S235","v":0},null,{"$f":"'Attribute Survey'!S239","v":0},null,{"$f":"'Attribute Survey'!S243","v":0},null,{"$f":"'Attribute Survey'!S247","v":0},null,{"$f":"'Attribute Survey'!S251","v":0},null,{"$f":"'Attribute Survey'!S255","v":0},null,{"$f":"'Attribute Survey'!S259","v":0},null,{"$f":"'Attribute Survey'!S263","v":0}]
[null,null,null,"Ressources les mieux adaptées"]
[null,null,null,null,null,null,null,null,{"$f":"Backbone!A396","v":"Codex sur la surveillance «Une seule santé» "},null,null,null,null,null,null,"Un cadre de haut niveau qui favorise la collaboration, la compréhension mutuelle, l'échange de connaissances et l'interopérabilité des données entre les secteurs de surveillance «Une seule santé».",null,null,null,null,null,null,null,null,{"$f":"INDEX(Backbone!$R$2:$R$893,MATCH(I122,Backbone!$A$2:$A$893,0))","v":"Outil d'autoévaluation"},null,null,null,{"$f":"INDEX(Backbone!$S$2:$S$893,MATCH(I122,Backbone!$A$2:$A$893,0))","v":"«Une seule santé»; Généralisée"},null,null,null,{"$f":"INDEX(Backbone!$H$2:$H$893,MATCH(I122,Backbone!$A$2:$A$893,0))","v":9},null,{"$f":"INDEX(Backbone!$I$2:$I$893,MATCH(I122,Backbone!$A$2:$A$893,0))","v":6},null,{"$f":"INDEX(Backbone!$J$2:$J$893,MATCH(I122,Backbone!$A$2:$A$893,0))","v":8.5},null,{"$f":"INDEX(Backbone!$K$1:$K$893,MATCH(I122,Backbone!$A$1:$A$893,0))","v":8.6999999999999993},null,{"$f":"INDEX(Backbone!$L$2:$L$893,MATCH(I122,Backbone!$A$2:$A$893,0))","v":8.1},null,{"$f":"INDEX(Backbone!$M$2:$M$893,MATCH(I122,Backbone!$A$2:$A$893,0))","v":2.8},null,{"$f":"INDEX(Backbone!$N$2:$N$893,MATCH(I122,Backbone!$A$2:$A$893,0))","v":2},null,{"$f":"INDEX(Backbone!$O$2:$O$893,MATCH(I122,Backbone!$A$2:$A$893,0))","v":6},null,{"$f":"INDEX(Backbone!$P$2:$P$893,MATCH(I122,Backbone!$A$2:$A$893,0))","v":5},null,{"$f":"INDEX(Backbone!$Q$2:$Q$893,MATCH(I122,Backbone!$A$2:$A$893,0))","v":0.62333333333333329},null,null,{"$f":"(AG122*$AG$22+AI122*$AI$22+AK122*$AK$22+AM122*$AM$22+AO122*$AO$22+AQ122*$AQ$22+AS122*$AS$22+AU122*$AU$22+AW122*$AW$22)/(SUM($AG$22:$AW$22)*10)","v":{"$error":"#DIV/0!"}},null,null,"Aller à \nBoîte à outils: ",null,{"$f":"HYPERLINK(\"#\"&ADDRESS(MATCH(I122,Toolbox!$C$1:$C$300),1,,,\"Toolbox\"),VLOOKUP(I122,Toolbox!$C$1:$C$300,1,FALSE))","v":"Codex sur la surveillance «Une seule santé» "}]
[]
[]
[]
[]
[]
[]
[null,null,null,"Autres ressources intéressantes",null,null,null,null,{"$f":"Backbone!A61","v":"Stratégies de communication et de coordination multisectorielles aux frontières"},null,null,null,null,null,null,"Un atelier qui oriente les parties prenantes dans le processus de détermination des mécanismes de partage d'informations spécifiques d'un secteur, ainsi que dans la création de mécanismes de partage d'informations multisectoriels ou transfrontaliers.",null,null,null,null,null,null,null,null,{"$f":"INDEX(Backbone!$R$2:$R$893,MATCH(I129,Backbone!$A$2:$A$893,0))","v":"Outil ou processus dirigé/facilité"},null,null,null,{"$f":"INDEX(Backbone!$S$2:$S$893,MATCH(I129,Backbone!$A$2:$A$893,0))","v":"«Une seule santé»; Généralisée "},null,null,null,{"$f":"INDEX(Backbone!$H$2:$H$893,MATCH(I129,Backbone!$A$2:$A$893,0))","v":8.9},null,{"$f":"INDEX(Backbone!$I$2:$I$893,MATCH(I129,Backbone!$A$2:$A$893,0))","v":6},null,{"$f":"INDEX(Backbone!$J$2:$J$893,MATCH(I129,Backbone!$A$2:$A$893,0))","v":7.6},null,{"$f":"INDEX(Backbone!$K$1:$K$893,MATCH(I129,Backbone!$A$1:$A$893,0))","v":9},null,{"$f":"INDEX(Backbone!$L$2:$L$893,MATCH(I129,Backbone!$A$2:$A$893,0))","v":5.6},null,{"$f":"INDEX(Backbone!$M$2:$M$893,MATCH(I129,Backbone!$A$2:$A$893,0))","v":3.5},null,{"$f":"INDEX(Backbone!$N$2:$N$893,MATCH(I129,Backbone!$A$2:$A$893,0))","v":4},null,{"$f":"INDEX(Backbone!$O$2:$O$893,MATCH(I129,Backbone!$A$2:$A$893,0))","v":8.3000000000000007},null,{"$f":"INDEX(Backbone!$P$2:$P$893,MATCH(I129,Backbone!$A$2:$A$893,0))","v":8},null,{"$f":"INDEX(Backbone!$Q$2:$Q$893,MATCH(I129,Backbone!$A$2:$A$893,0))","v":0.67666666666666675},null,null,{"$f":"(AG129*$AG$22+AI129*$AI$22+AK129*$AK$22+AM129*$AM$22+AO129*$AO$22+AQ129*$AQ$22+AS129*$AS$22+AU129*$AU$22+AW129*$AW$22)/(SUM($AG$22:$AW$22)*10)","v":{"$error":"#DIV/0!"}},null,null,"Aller à \nBoîte à outils: ",null,{"$f":"HYPERLINK(\"#\"&ADDRESS(MATCH(I129,Toolbox!$C$1:$C$300),1,,,\"Toolbox\"),VLOOKUP(I129,Toolbox!$C$1:$C$300,1,FALSE))","v":"Stratégies de communication et de coordination multisectorielles aux frontières"}]
[]
[]
[]
[]
[]
[null,null,null,null,null,null,null,null,{"$f":"Backbone!A400","v":"Outil d'évaluation de l'état de préparation et des besoins pour une surveillance «Une seule santé» (OHSRRT)"},null,null,null,null,null,null,"Un outil d'évaluation de la préparation et des besoins utilisé pour déterminer l'état de préparation du pays et dresser la liste des besoins nécessaires au développement d'un système de surveillance «Une seule santé» basé sur des facteurs de réussite critiques. ",null,null,null,null,null,null,null,null,{"$f":"INDEX(Backbone!$R$2:$R$893,MATCH(I135,Backbone!$A$2:$A$893,0))","v":"Outil d'autoévaluation"},null,null,null,{"$f":"INDEX(Backbone!$S$2:$S$893,MATCH(I135,Backbone!$A$2:$A$893,0))","v":"«Une seule santé»; Généralisée"},null,null,null,{"$f":"INDEX(Backbone!$H$2:$H$893,MATCH(I135,Backbone!$A$2:$A$893,0))","v":8},null,{"$f":"INDEX(Backbone!$I$2:$I$893,MATCH(I135,Backbone!$A$2:$A$893,0))","v":6},null,{"$f":"INDEX(Backbone!$J$2:$J$893,MATCH(I135,Backbone!$A$2:$A$893,0))","v":7.4},null,{"$f":"INDEX(Backbone!$K$1:$K$893,MATCH(I135,Backbone!$A$1:$A$893,0))","v":8.6999999999999993},null,{"$f":"INDEX(Backbone!$L$2:$L$893,MATCH(I135,Backbone!$A$2:$A$893,0))","v":6},null,{"$f":"INDEX(Backbone!$M$2:$M$893,MATCH(I135,Backbone!$A$2:$A$893,0))","v":2.5},null,{"$f":"INDEX(Backbone!$N$2:$N$893,MATCH(I135,Backbone!$A$2:$A$893,0))","v":2},null,{"$f":"INDEX(Backbone!$O$2:$O$893,MATCH(I135,Backbone!$A$2:$A$893,0))","v":9.6},null,{"$f":"INDEX(Backbone!$P$2:$P$893,MATCH(I135,Backbone!$A$2:$A$893,0))","v":5.5},null,{"$f":"INDEX(Backbone!$Q$2:$Q$893,MATCH(I135,Backbone!$A$2:$A$893,0))","v":0.61888888888888882},null,null,{"$f":"(AG135*$AG$22+AI135*$AI$22+AK135*$AK$22+AM135*$AM$22+AO135*$AO$22+AQ135*$AQ$22+AS135*$AS$22+AU135*$AU$22+AW135*$AW$22)/(SUM($AG$22:$AW$22)*10)","v":{"$error":"#DIV/0!"}},null,null,"Aller à \nBoîte à outils: ",null,{"$f":"HYPERLINK(\"#\"&ADDRESS(MATCH(I135,Toolbox!$C$1:$C$300),1,,,\"Toolbox\"),VLOOKUP(I135,Toolbox!$C$1:$C$300,1,FALSE))","v":"Outil d'évaluation de l'état de préparation et des besoins pour une surveillance «Une seule santé» (OHSRRT)"}]

{"sheet":"P3_tools","index":40,"n_rows":219,"n_cols":59,"rows_kept":219,"cut":false,"hidden":false,"merged":[[22,3,134,6],[88,40,92,40],[88,42,92,42],[88,44,92,44],[88,46,92,46],[88,48,92,48],[88,50,92,51],[88,53,92,54],[88,56,92,57],[40,46,44,46],[40,48,44,48],[40,50,44,51],[40,53,44,54],[40,56,44,57],[70,40,74,40],[70,32,74,32],[70,34,74,34],[40,40,44,40],[40,42,44,42],[40,44,44,44],[46,44,50,44],[46,46,50,46],[46,48,50,48],[46,50,50,51],[46,53,50,54],[46,56,50,57],[200,1,220,1],[46,8,50,13],[46,15,50,22],[46,24,50,26],[46,28,50,30],[46,32,50,32],[46,34,50,34],[46,36,50,36],[46,38,50,38],[17,1,134,1],[150,1,178,1],[88,38,92,38],[70,8,74,13],[70,15,74,22],[70,24,74,26],[70,28,74,30],[40,36,44,36],[40,38,44,38],[70,36,74,36],[70,38,74,38],[40,24,44,26],[40,28,44,30],[40,32,44,32],[40,34,44,34],[64,42,68,42],[82,42,86,42],[82,44,86,44],[64,44,68,44],[70,42,74,42],[70,44,74,44],[70,58,74,62],[46,40,50,40],[64,46,68,46],[64,48,68,48],[64,50,68,51],[64,53,68,54],[46,42,50,42],[70,53,74,54],[70,56,74,57],[46,58,50,62],[82,46,86,46],[82,48,86,48],[82,50,86,51],[82,53,86,54],[76,53,80,54],[76,40,80,40],[124,53,128,54],[124,56,128,57],[52,8,56,13],[52,15,56,22],[52,24,56,26],[52,28,56,30],[52,32,56,32],[52,34,56,34],[52,36,56,36],[52,38,56,38],[52,40,56,40],[52,42,56,42],[52,44,56,44],[52,46,56,46],[52,48,56,48],[52,50,56,51],[52,53,56,54],[52,56,56,57],[106,8,110,13],[106,15,110,22],[106,24,110,26],[70,46,74,46],[70,48,74,48],[70,50,74,51],[130,42,134,42],[130,44,134,44],[130,46,134,46],[130,48,134,48],[130,50,134,51],[112,50,116,51],[106,36,110,36],[106,38,110,38],[106,40,110,40],[118,50,122,51],[124,46,128,46],[124,48,128,48],[124,50,128,51],[124,38,128,38],[124,40,128,40],[124,42,128,42],[124,44,128,44],[106,28,110,30],[106,32,110,32],[106,34,110,34],[82,38,86,38],[82,40,86,40],[100,8,104,13],[100,15,104,22],[100,24,104,26],[130,53,134,54],[118,53,122,54],[130,8,134,13],[130,15,134,22],[130,24,134,26],[130,28,134,30],[130,32,134,32],[130,34,134,34],[130,36,134,36],[130,38,134,38],[130,40,134,40],[118,40,122,40],[118,42,122,42],[118,44,122,44],[118,46,122,46],[118,48,122,48],[124,8,128,13],[124,15,128,22],[124,24,128,26],[124,28,128,30],[124,32,128,32],[124,34,128,34],[124,36,128,36],[112,53,116,54],[118,8,122,13],[118,15,122,22],[118,24,122,26],[118,28,122,30],[118,32,122,32],[118,34,122,34],[118,36,122,36],[118,38,122,38],[112,38,116,38],[112,40,116,40],[112,42,116,42],[112,44,116,44],[112,46,116,46],[112,48,116,48],[112,8,116,13],[112,15,116,22],[112,24,116,26],[112,28,116,30],[112,32,116,32],[112,34,116,34],[112,36,116,36],[94,36,98,36],[82,8,86,13],[82,15,86,22],[82,24,86,26],[82,28,86,30],[82,32,86,32],[82,34,86,34],[82,36,86,36],[94,8,98,13],[94,15,98,22],[94,24,98,26],[94,28,98,30],[94,32,98,32],[94,34,98,34],[88,8,92,13],[88,15,92,22],[88,24,92,26],[88,28,92,30],[88,32,92,32],[88,34,92,34],[88,36,92,36],[100,40,104,40],[100,42,104,42],[100,44,104,44],[100,46,104,46],[100,48,104,48],[100,50,104,51],[100,28,104,30],[100,32,104,32],[100,34,104,34],[100,36,104,36],[100,38,104,38],[94,50,98,51],[94,53,98,54],[94,38,98,38],[94,40,98,40],[94,42,98,42],[94,44,98,44],[94,46,98,46],[94,48,98,48],[218,48,222,48],[218,50,222,51],[218,53,222,54],[212,53,216,54],[171,44,175,44],[171,46,175,46],[171,48,175,48],[171,50,175,51],[171,53,175,54],[106,42,110,42],[106,44,110,44],[106,46,110,46],[106,48,110,48],[106,50,110,51],[106,53,110,54],[100,53,104,54],[218,40,222,40],[218,42,222,42],[218,44,222,44],[218,46,222,46],[212,46,216,46],[212,48,216,48],[212,50,216,51],[212,40,216,40],[212,42,216,42],[212,44,216,44],[218,24,222,26],[218,28,222,30],[218,32,222,32],[218,34,222,34],[212,34,216,34],[212,36,216,36],[212,38,216,38],[218,36,222,36],[218,38,222,38],[212,3,222,6],[212,8,216,13],[212,15,216,22],[212,24,216,26],[212,28,216,30],[212,32,216,32],[196,48,210,48],[203,50,210,51],[203,53,210,54],[207,3,210,6],[207,8,210,13],[207,15,210,22],[207,24,210,26],[207,28,210,30],[196,32,210,32],[196,34,210,34],[196,36,210,36],[196,38,210,38],[196,40,210,40],[196,42,210,42],[196,44,210,44],[196,46,210,46],[218,8,222,13],[218,15,222,22],[171,32,175,32],[171,34,175,34],[171,36,175,36],[171,38,175,38],[171,40,175,40],[171,42,175,42],[171,3,175,6],[171,8,175,13],[171,15,175,22],[171,24,175,26],[171,28,175,30],[166,28,169,30],[155,44,169,44],[155,46,169,46],[155,48,169,48],[162,50,169,51],[162,53,169,54],[166,3,169,6],[166,8,169,13],[166,15,169,22],[166,24,169,26],[155,32,169,32],[155,34,169,34],[155,36,169,36],[155,38,169,38],[155,40,169,40],[155,42,169,42],[64,8,68,13],[64,15,68,22],[64,24,68,26],[64,28,68,30],[64,32,68,32],[64,34,68,34],[64,36,68,36],[64,38,68,38],[64,40,68,40],[34,53,38,54],[58,8,62,13],[58,15,62,22],[58,24,62,26],[58,28,62,30],[58,32,62,32],[58,34,62,34],[58,36,62,36],[58,38,62,38],[34,38,38,38],[34,40,38,40],[34,42,38,42],[34,44,38,44],[34,46,38,46],[34,48,38,48],[58,53,62,54],[58,40,62,40],[58,42,62,42],[58,44,62,44],[58,46,62,46],[58,48,62,48],[58,50,62,51],[40,8,44,13],[40,15,44,22],[22,8,26,13],[22,15,26,22],[22,24,26,26],[22,28,26,30],[22,32,26,32],[28,48,32,48],[28,50,32,51],[28,53,32,54],[28,36,32,36],[28,38,32,38],[28,40,32,40],[28,28,32,30],[28,32,32,32],[28,34,32,34],[22,34,26,34],[22,36,26,36],[22,38,26,38],[22,40,26,40],[22,42,26,42],[22,44,26,44],[76,42,80,42],[76,44,80,44],[76,46,80,46],[76,48,80,48],[76,50,80,51],[1,1,3,62],[76,8,80,13],[76,15,80,22],[76,24,80,26],[76,28,80,30],[76,32,80,32],[76,34,80,34],[76,36,80,36],[76,38,80,38],[13,50,20,51],[22,46,26,46],[22,48,26,48],[22,50,26,51],[34,8,38,13],[34,15,38,22],[34,24,38,26],[34,28,38,30],[34,32,38,32],[34,34,38,34],[34,36,38,36],[28,42,32,42],[28,44,32,44],[28,46,32,46],[34,50,38,51],[13,53,20,54],[17,3,20,6],[17,8,20,13],[17,15,20,22],[17,24,20,26],[17,28,20,30],[6,32,20,32],[6,34,20,34],[6,36,20,36],[6,38,20,38],[6,40,20,40],[6,42,20,42],[6,44,20,44],[6,46,20,46],[6,48,20,48],[22,53,26,54],[28,8,32,13],[28,15,32,22],[28,24,32,26],[22,56,26,57],[22,58,26,62],[28,56,32,57],[28,58,32,62],[34,56,38,57],[34,58,38,62],[58,56,62,57],[58,58,62,62],[64,56,68,57],[64,58,68,62],[52,58,56,62],[40,58,44,62],[76,56,80,57],[76,58,80,62],[82,56,86,57],[82,58,86,62],[94,56,98,57],[94,58,98,62],[100,56,104,57],[100,58,104,62],[106,56,110,57],[106,58,110,62],[88,58,92,62],[218,56,222,57],[218,58,222,62],[112,56,116,57],[112,58,116,62],[118,56,122,57],[118,58,122,62],[130,56,134,57],[130,58,134,62],[171,56,175,57],[171,58,175,62],[212,56,216,57],[212,58,216,62],[124,58,128,62]]}
[]
[null,"Ressources pour les cadres et plans stratégiques"]
[]
[]
[]
[]
[null,null,null,null,null,null,null,null,null,null,null,null,null,null,null,null,null,null,null,null,null,null,null,null,null,null,null,null,null,null,null,null,"Accessibilité",null,"Langue",null,"Facilité d'utilisation",null,"Flexibilité",null,"Besoins de données",null,"Analyse des données",null,"Acceptabilité",null,"«Une seule santé»",null,"Impact"]
[]
[]
[]
[]
[]
[]
[null,null,null,null,null,null,null,null,null,null,null,null,null,null,null,null,null,null,null,null,null,null,null,null,null,null,null,null,null,null,null,null,null,null,null,null,null,null,null,null,null,null,null,null,null,null,null,null,null,null,"SCORE BRUT",null,null,"SCORE AJUSTÉ \n(Selon les préférences de l'utilisateur)"]
[]
[]
[]
[null,"RESSOURCES DE NIVEAU 1",null,"DÉSIGNATION",null,null,null,null,"NOM DE LA RESSOURCE",null,null,null,null,null,null,"BRÈVE DESCRIPTION",null,null,null,null,null,null,null,null,"TYPE DE RESSOURCE",null,null,null,"CARACTÈRE GÉNÉRAL DE LA RESSOURCE"]
[]
[]
[]
[null,null,null,null,null,null,null,null,null,null,null,null,null,null,null,null,null,null,null,null,null,null,null,null,null,null,null,null,null,null,null,null,{"$f":"'Attribute Survey'!S22","v":0},null,{"$f":"'Attribute Survey'!S26","v":0},null,{"$f":"'Attribute Survey'!S30","v":0},null,{"$f":"'Attribute Survey'!S34","v":0},null,{"$f":"'Attribute Survey'!S38","v":0},null,{"$f":"'Attribute Survey'!S42","v":0},null,{"$f":"'Attribute Survey'!S46","v":0},null,{"$f":"'Attribute Survey'!S50","v":0},null,{"$f":"'Attribute Survey'!S54","v":0}]
[null,null,null,"Autres ressources intéressantes",null,null,null,null,{"$f":"Backbone!A2","v":"Cadre de surveillance basé sur les événements des CDC en Afrique"},null,null,null,null,null,null,"Des orientations à l'attention des professionnels de la santé publique qui cherchent à mettre en œuvre la surveillance basée sur les événements à tous les échelons administratifs de leur pays.",null,null,null,null,null,null,null,null,{"$f":"INDEX(Backbone!$R$2:$R$893,MATCH(I23,Backbone!$A$2:$A$893,0))","v":"Document d'orientation"},null,null,null,{"$f":"INDEX(Backbone!$S$2:$S$893,MATCH(I23,Backbone!$A$2:$A$893,0))","v":"«Une seule santé»; Généralisée "},null,null,null,{"$f":"INDEX(Backbone!$H$2:$H$893,MATCH(I23,Backbone!$A$2:$A$893,0))","v":8},null,{"$f":"INDEX(Backbone!$I$2:$I$893,MATCH(I23,Backbone!$A$2:$A$893,0))","v":6},null,{"$f":"INDEX(Backbone!$J$2:$J$893,MATCH(I23,Backbone!$A$2:$A$893,0))","v":8.1999999999999993},null,{"$f":"INDEX(Backbone!$K$1:$K$893,MATCH(I23,Backbone!$A$1:$A$893,0))","v":8.3000000000000007},null,{"$f":"INDEX(Backbone!$L$2:$L$893,MATCH(I23,Backbone!$A$2:$A$893,0))","v":6.1},null,{"$f":"INDEX(Backbone!$M$2:$M$893,MATCH(I23,Backbone!$A$2:$A$893,0))","v":3.5},null,{"$f":"INDEX(Backbone!$N$2:$N$893,MATCH(I23,Backbone!$A$2:$A$893,0))","v":4},null,{"$f":"INDEX(Backbone!$O$2:$O$893,MATCH(I23,Backbone!$A$2:$A$893,0))","v":7},null,{"$f":"INDEX(Backbone!$P$2:$P$893,MATCH(I23,Backbone!$A$2:$A$893,0))","v":6},null,{"$f":"INDEX(Backbone!$Q$2:$Q$893,MATCH(I23,Backbone!$A$2:$A$893,0))","v":0.63222222222222224},null,null,{"$f":"(AG23*$AG$22+AI23*$AI$22+AK23*$AK$22+AM23*$AM$22+AO23*$AO$22+AQ23*$AQ$22+AS23*$AS$22+AU23*$AU$22+AW23*$AW$22)/(SUM($AG$22:$AW$22)*10)","v":{"$error":"#DIV/0!"}},null,null,"Aller à \nBoîte à outils: ",null,{"$f":"HYPERLINK(\"#\"&ADDRESS(MATCH(I23,Toolbox!$C$1:$C$300),1,,,\"Toolbox\"),VLOOKUP(I23,Toolbox!$C$1:$C$300,1,FALSE))","v":"Cadre de surveillance basé sur les événements des CDC en Afrique"}]
[]
[]
[]
[]
[]
[null,null,null,null,null,null,null,null,{"$f":"Backbone!A575","v":"Résistance aux antimicrobiens: un manuel pour la mise en œuvre de plans d'action nationaux"},null,null,null,null,null,null,"Le manuel pour la mise en œuvre de plans d'action nationaux destinés à lutter contre la résistance aux antimicrobiens.",null,null,null,null,null,null,null,null,{"$f":"INDEX(Backbone!$R$2:$R$893,MATCH(I29,Backbone!$A$2:$A$893,0))","v":"Document d'orientation"},null,null,null,{"$f":"INDEX(Backbone!$S$2:$S$893,MATCH(I29,Backbone!$A$2:$A$893,0))","v":"«Une seule santé»; spécifique d'une maladie/menace "},null,null,null,{"$f":"INDEX(Backbone!$H$2:$H$893,MATCH(I29,Backbone!$A$2:$A$893,0))","v":10},null,{"$f":"INDEX(Backbone!$I$2:$I$893,MATCH(I29,Backbone!$A$2:$A$893,0))","v":6},null,{"$f":"INDEX(Backbone!$J$2:$J$893,MATCH(I29,Backbone!$A$2:$A$893,0))","v":6.6},null,{"$f":"INDEX(Backbone!$K$1:$K$893,MATCH(I29,Backbone!$A$1:$A$893,0))","v":8.6999999999999993},null,{"$f":"INDEX(Backbone!$L$2:$L$893,MATCH(I29,Backbone!$A$2:$A$893,0))","v":8},null,{"$f":"INDEX(Backbone!$M$2:$M$893,MATCH(I29,Backbone!$A$2:$A$893,0))","v":3.8},null,{"$f":"INDEX(Backbone!$N$2:$N$893,MATCH(I29,Backbone!$A$2:$A$893,0))","v":4.5},null,{"$f":"INDEX(Backbone!$O$2:$O$893,MATCH(I29,Backbone!$A$2:$A$893,0))","v":9},null,{"$f":"INDEX(Backbone!$P$2:$P$893,MATCH(I29,Backbone!$A$2:$A$893,0))","v":10},null,{"$f":"INDEX(Backbone!$Q$2:$Q$893,MATCH(I29,Backbone!$A$2:$A$893,0))","v":0.74},null,null,{"$f":"(AG29*$AG$22+AI29*$AI$22+AK29*$AK$22+AM29*$AM$22+AO29*$AO$22+AQ29*$AQ$22+AS29*$AS$22+AU29*$AU$22+AW29*$AW$22)/(SUM($AG$22:$AW$22)*10)","v":{"$error":"#DIV/0!"}},null,null,"Aller à \nBoîte à outils: ",null,{"$f":"HYPERLINK(\"#\"&ADDRESS(MATCH(I29,Toolbox!$C$1:$C$300),1,,,\"Toolbox\"),VLOOKUP(I29,Toolbox!$C$1:$C$300,1,FALSE))","v":"Résistance aux antimicrobiens: un manuel pour la mise en œuvre de plans d'action nationaux"}]
[]
[]
[]
[]
[]
[null,null,null,null,null,null,null,null,{"$f":"Backbone!A51","v":"Guide de discussion sur les capacités sanitaires aux frontières (BHCDG)"},null,null,null,null,null,null,"Comprend des outils modèles pour faciliter les discussions avec les représentants au niveau national, des districts et des points de passage frontalier terrestres sur sept problématiques relatives aux systèmes de santé aux frontières.",null,null,null,null,null,null,null,null,{"$f":"INDEX(Backbone!$R$2:$R$893,MATCH(I35,Backbone!$A$2:$A$893,0))","v":"Document d'orientation"},null,null,null,{"$f":"INDEX(Backbone!$S$2:$S$893,MATCH(I35,Backbone!$A$2:$A$893,0))","v":"«Une seule santé»; spécifique d'une maladie/menace "},null,null,null,{"$f":"INDEX(Backbone!$H$2:$H$893,MATCH(I35,Backbone!$A$2:$A$893,0))","v":8.8000000000000007},null,{"$f":"INDEX(Backbone!$I$2:$I$893,MATCH(I35,Backbone!$A$2:$A$893,0))","v":6.7},null,{"$f":"INDEX(Backbone!$J$2:$J$893,MATCH(I35,Backbone!$A$2:$A$893,0))","v":7.6},null,{"$f":"INDEX(Backbone!$K$1:$K$893,MATCH(I35,Backbone!$A$1:$A$893,0))","v":9},null,{"$f":"INDEX(Backbone!$L$2:$L$893,MATCH(I35,Backbone!$A$2:$A$893,0))","v":7},null,{"$f":"INDEX(Backbone!$M$2:$M$893,MATCH(I35,Backbone!$A$2:$A$893,0))","v":3.8},null,{"$f":"INDEX(Backbone!$N$2:$N$893,MATCH(I35,Backbone!$A$2:$A$893,0))","v":8},null,{"$f":"INDEX(Backbone!$O$2:$O$893,MATCH(I35,Backbone!$A$2:$A$893,0))","v":8.4},null,{"$f":"INDEX(Backbone!$P$2:$P$893,MATCH(I35,Backbone!$A$2:$A$893,0))","v":6},null,{"$f":"INDEX(Backbone!$Q$2:$Q$893,MATCH(I35,Backbone!$A$2:$A$893,0))","v":0.72555555555555551},null,null,{"$f":"(AG35*$AG$22+AI35*$AI$22+AK35*$AK$22+AM35*$AM$22+AO35*$AO$22+AQ35*$AQ$22+AS35*$AS$22+AU35*$AU$22+AW35*$AW$22)/(SUM($AG$22:$AW$22)*10)","v":{"$error":"#DIV/0!"}},null,null,"Aller à \nBoîte à outils: ",null,{"$f":"HYPERLINK(\"#\"&ADDRESS(MATCH(I35,Toolbox!$C$1:$C$300),1,,,\"Toolbox\"),VLOOKUP(I35,Toolbox!$C$1:$C$300,1,FALSE))","v":"Guide de discussion sur les capacités sanitaires aux frontières (BHCDG)"}]
[]
[]
[]
[]
[]
[null,null,null,null,null,null,null,null,{"$f":"Backbone!A100","v":"Évaluation des collaborations au sein d'un système de surveillance multisectoriel (EcoSur)"},null,null,null,null,null,null,"Un outil dont l'objectif est d'évaluer l'organisation et le fonctionnement de la collaboration au sein d'un système de surveillance multisectoriel, ainsi que d'analyser les points forts et les points faibles de cette collaboration.",null,null,null,null,null,null,null,null,{"$f":"INDEX(Backbone!$R$2:$R$893,MATCH(I41,Backbone!$A$2:$A$893,0))","v":"Outil ou processus dirigé/facilité"},null,null,null,{"$f":"INDEX(Backbone!$S$2:$S$893,MATCH(I41,Backbone!$A$2:$A$893,0))","v":"«Une seule santé»; Généralisée"},null,null,null,{"$f":"INDEX(Backbone!$H$2:$H$893,MATCH(I41,Backbone!$A$2:$A$893,0))","v":8.3000000000000007},null,{"$f":"INDEX(Backbone!$I$2:$I$893,MATCH(I41,Backbone!$A$2:$A$893,0))","v":6},null,{"$f":"INDEX(Backbone!$J$2:$J$893,MATCH(I41,Backbone!$A$2:$A$893,0))","v":8.5},null,{"$f":"INDEX(Backbone!$K$1:$K$893,MATCH(I41,Backbone!$A$1:$A$893,0))","v":7.8},null,{"$f":"INDEX(Backbone!$L$2:$L$893,MATCH(I41,Backbone!$A$2:$A$893,0))","v":8.3000000000000007},null,{"$f":"INDEX(Backbone!$M$2:$M$893,MATCH(I41,Backbone!$A$2:$A$893,0))","v":6.7},null,{"$f":"INDEX(Backbone!$N$2:$N$893,MATCH(I41,Backbone!$A$2:$A$893,0))","v":3.3},null,{"$f":"INDEX(Backbone!$O$2:$O$893,MATCH(I41,Backbone!$A$2:$A$893,0))","v":9.1},null,{"$f":"INDEX(Backbone!$P$2:$P$893,MATCH(I41,Backbone!$A$2:$A$893,0))","v":4.7},null,{"$f":"INDEX(Backbone!$Q$2:$Q$893,MATCH(I41,Backbone!$A$2:$A$893,0))","v":0.69666666666666677},null,null,{"$f":"(AG41*$AG$22+AI41*$AI$22+AK41*$AK$22+AM41*$AM$22+AO41*$AO$22+AQ41*$AQ$22+AS41*$AS$22+AU41*$AU$22+AW41*$AW$22)/(SUM($AG$22:$AW$22)*10)","v":{"$error":"#DIV/0!"}},null,null,"Aller à \nBoîte à outils: ",null,{"$f":"HYPERLINK(\"#\"&ADDRESS(MATCH(I41,Toolbox!$C$1:$C$300),1,,,\"Toolbox\"),VLOOKUP(I41,Toolbox!$C$1:$C$300,1,FALSE))","v":"Évaluation des collaborations au sein d'un système de surveillance multisectoriel (EcoSur)"}]
[]
[]
[]
[]
[]
[null,null,null,null,null,null,null,null,{"$f":"Backbone!A183","v":"Cadre d'évaluation des systèmes de surveillance de santé publique pour la détection précoce des foyers épidémiques "},null,null,null,null,null,null,"Un outil dont l'objectif est d'évaluer l'organisation et le fonctionnement de la collaboration au sein d'un système de surveillance multisectoriel, ainsi que d'analyser les points forts et les points faibles de cette collaboration.",null,null,null,null,null,null,null,null,{"$f":"INDEX(Backbone!$R$2:$R$893,MATCH(I47,Backbone!$A$2:$A$893,0))","v":"Document d'orientation"},null,null,null,{"$f":"INDEX(Backbone!$S$2:$S$893,MATCH(I47,Backbone!$A$2:$A$893,0))","v":"Spécifique du secteur; Généralisée"},null,null,null,{"$f":"INDEX(Backbone!$H$2:$H$893,MATCH(I47,Backbone!$A$2:$A$893,0))","v":9.1999999999999993},null,{"$f":"INDEX(Backbone!$I$2:$I$893,MATCH(I47,Backbone!$A$2:$A$893,0))","v":6.7},null,{"$f":"INDEX(Backbone!$J$2:$J$893,MATCH(I47,Backbone!$A$2:$A$893,0))","v":8.4},null,{"$f":"INDEX(Backbone!$K$1:$K$893,MATCH(I47,Backbone!$A$1:$A$893,0))","v":8.6999999999999993},null,{"$f":"INDEX(Backbone!$L$2:$L$893,MATCH(I47,Backbone!$A$2:$A$893,0))","v":7.1},null,{"$f":"INDEX(Backbone!$M$2:$M$893,MATCH(I47,Backbone!$A$2:$A$893,0))","v":2},null,{"$f":"INDEX(Backbone!$N$2:$N$893,MATCH(I47,Backbone!$A$2:$A$893,0))","v":2.5},null,{"$f":"INDEX(Backbone!$O$2:$O$893,MATCH(I47,Backbone!$A$2:$A$893,0))","v":8.1999999999999993},null,{"$f":"INDEX(Backbone!$P$2:$P$893,MATCH(I47,Backbone!$A$2:$A$893,0))","v":6},null,{"$f":"INDEX(Backbone!$Q$2:$Q$893,MATCH(I47,Backbone!$A$2:$A$893,0))","v":0.65333333333333332},null,null,{"$f":"(AG47*$AG$22+AI47*$AI$22+AK47*$AK$22+AM47*$AM$22+AO47*$AO$22+AQ47*$AQ$22+AS47*$AS$22+AU47*$AU$22+AW47*$AW$22)/(SUM($AG$22:$AW$22)*10)","v":{"$error":"#DIV/0!"}},null,null,"Aller à \nBoîte à outils: ",null,{"$f":"HYPERLINK(\"#\"&ADDRESS(MATCH(I47,Toolbox!$C$1:$C$300),1,,,\"Toolbox\"),VLOOKUP(I47,Toolbox!$C$1:$C$300,1,FALSE))","v":"Cadre d'évaluation des systèmes de surveillance de santé publique pour la détection précoce des foyers épidémiques "}]
[]
[]
[]
[]
[]
[null,null,null,null,null,null,null,null,{"$f":"Backbone!A33","v":"Cadre pour le renforcement de la prévention et du contrôle de l'anthrax "},null,null,null,null,null,null,"Un cadre de planification opérationnelle et d'évaluation pour les systèmes de surveillance syndromique. ",null,null,null,null,null,null,null,null,{"$f":"INDEX(Backbone!$R$2:$R$893,MATCH(I53,Backbone!$A$2:$A$893,0))","v":"Document d'orientation"},null,null,null,{"$f":"INDEX(Backbone!$S$2:$S$893,MATCH(I53,Backbone!$A$2:$A$893,0))","v":"«Une seule santé»; spécifique d'une maladie/menace "},null,null,null,{"$f":"INDEX(Backbone!$H$2:$H$893,MATCH(I53,Backbone!$A$2:$A$893,0))","v":9.1},null,{"$f":"INDEX(Backbone!$I$2:$I$893,MATCH(I53,Backbone!$A$2:$A$893,0))","v":10},null,{"$f":"INDEX(Backbone!$J$2:$J$893,MATCH(I53,Backbone!$A$2:$A$893,0))","v":8.6},null,{"$f":"INDEX(Backbone!$K$1:$K$893,MATCH(I53,Backbone!$A$1:$A$893,0))","v":4.7},null,{"$f":"INDEX(Backbone!$L$2:$L$893,MATCH(I53,Backbone!$A$2:$A$893,0))","v":9.1999999999999993},null,{"$f":"INDEX(Backbone!$M$2:$M$893,MATCH(I53,Backbone!$A$2:$A$893,0))","v":2},null,{"$f":"INDEX(Backbone!$N$2:$N$893,MATCH(I53,Backbone!$A$2:$A$893,0))","v":6.3},null,{"$f":"INDEX(Backbone!$O$2:$O$893,MATCH(I53,Backbone!$A$2:$A$893,0))","v":4.3},null,{"$f":"INDEX(Backbone!$P$2:$P$893,MATCH(I53,Backbone!$A$2:$A$893,0))","v":6},null,{"$f":"INDEX(Backbone!$Q$2:$Q$893,MATCH(I53,Backbone!$A$2:$A$893,0))","v":0.66888888888888887},null,null,{"$f":"(AG53*$AG$22+AI53*$AI$22+AK53*$AK$22+AM53*$AM$22+AO53*$AO$22+AQ53*$AQ$22+AS53*$AS$22+AU53*$AU$22+AW53*$AW$22)/(SUM($AG$22:$AW$22)*10)","v":{"$error":"#DIV/0!"}},null,null,"Aller à \nBoîte à outils: ",null,{"$f":"HYPERLINK(\"#\"&ADDRESS(MATCH(I53,Toolbox!$C$1:$C$300),1,,,\"Toolbox\"),VLOOKUP(I53,Toolbox!$C$1:$C$300,1,FALSE))","v":"Cadre pour le renforcement de la prévention et du contrôle de l'anthrax "}]
[]
[]
[]
[]
[]
[null,null,null,null,null,null,null,null,{"$f":"Backbone!A239","v":"Atelier national de rapprochement et d'échange RSI-PVS"},null,null,null,null,null,null,"Un atelier dans lequel les parties prenantes de l'initiative «Une seule santé» explorent les éventuelles zones de chevauchement dans les cadres de capacité de l'OMSA (PVS) et du RSI (Cadre de suivi et d'évaluation du RSI) et mettent en place, le cas échéant, des passerelles appropriées pour faciliter la coordination entre les secteurs.  ",null,null,null,null,null,null,null,null,{"$f":"INDEX(Backbone!$R$2:$R$893,MATCH(I59,Backbone!$A$2:$A$893,0))","v":"Outil ou processus dirigé/facilité"},null,null,null,{"$f":"INDEX(Backbone!$S$2:$S$893,MATCH(I59,Backbone!$A$2:$A$893,0))","v":"«Une seule santé»; Généralisée"},null,null,null,{"$f":"INDEX(Backbone!$H$2:$H$893,MATCH(I59,Backbone!$A$2:$A$893,0))","v":8.6},null,{"$f":"INDEX(Backbone!$I$2:$I$893,MATCH(I59,Backbone!$A$2:$A$893,0))","v":10},null,{"$f":"INDEX(Backbone!$J$2:$J$893,MATCH(I59,Backbone!$A$2:$A$893,0))","v":6.2},null,{"$f":"INDEX(Backbone!$K$1:$K$893,MATCH(I59,Backbone!$A$1:$A$893,0))","v":10},null,{"$f":"INDEX(Backbone!$L$2:$L$893,MATCH(I59,Backbone!$A$2:$A$893,0))","v":6},null,{"$f":"INDEX(Backbone!$M$2:$M$893,MATCH(I59,Backbone!$A$2:$A$893,0))","v":7},null,{"$f":"INDEX(Backbone!$N$2:$N$893,MATCH(I59,Backbone!$A$2:$A$893,0))","v":9},null,{"$f":"INDEX(Backbone!$O$2:$O$893,MATCH(I59,Backbone!$A$2:$A$893,0))","v":8.1999999999999993},null,{"$f":"INDEX(Backbone!$P$2:$P$893,MATCH(I59,Backbone!$A$2:$A$893,0))","v":10},null,{"$f":"INDEX(Backbone!$Q$2:$Q$893,MATCH(I59,Backbone!$A$2:$A$893,0))","v":0.83333333333333337},null,null,{"$f":"(AG59*$AG$22+AI59*$AI$22+AK59*$AK$22+AM59*$AM$22+AO59*$AO$22+AQ59*$AQ$22+AS59*$AS$22+AU59*$AU$22+AW59*$AW$22)/(SUM($AG$22:$AW$22)*10)","v":{"$error":"#DIV/0!"}},null,null,"Aller à \nBoîte à outils: ",null,{"$f":"HYPERLINK(\"#\"&ADDRESS(MATCH(I59,Toolbox!$C$1:$C$300),1,,,\"Toolbox\"),VLOOKUP(I59,Toolbox!$C$1:$C$300,1,FALSE))","v":"Atelier national de rapprochement et d'échange RSI-PVS"}]
[]
[]
[]
[]
[]
[null,null,null,null,null,null,null,null,{"$f":"Backbone!A195","v":"Surveillance intégrée de la maladie et la riposte (IDSR)"},null,null,null,null,null,null,"Une stratégie visant à renforcer les capacités pour la détection, la confirmation et la réponse aux cas suspects et à l'apparition de foyers épidémiques, ainsi que pour l'utilisation des informations afin de prédire et de planifier les événements de santé publique.",null,null,null,null,null,null,null,null,{"$f":"INDEX(Backbone!$R$2:$R$893,MATCH(I65,Backbone!$A$2:$A$893,0))","v":"Document d'orientation"},null,null,null,{"$f":"INDEX(Backbone!$S$2:$S$893,MATCH(I65,Backbone!$A$2:$A$893,0))","v":"Spécifique du secteur; Généralisée"},null,null,null,{"$f":"INDEX(Backbone!$H$2:$H$893,MATCH(I65,Backbone!$A$2:$A$893,0))","v":7.4},null,{"$f":"INDEX(Backbone!$I$2:$I$893,MATCH(I65,Backbone!$A$2:$A$893,0))","v":10},null,{"$f":"INDEX(Backbone!$J$2:$J$893,MATCH(I65,Backbone!$A$2:$A$893,0))","v":7.4},null,{"$f":"INDEX(Backbone!$K$1:$K$893,MATCH(I65,Backbone!$A$1:$A$893,0))","v":8.6999999999999993},null,{"$f":"INDEX(Backbone!$L$2:$L$893,MATCH(I65,Backbone!$A$2:$A$893,0))","v":6.7},null,{"$f":"INDEX(Backbone!$M$2:$M$893,MATCH(I65,Backbone!$A$2:$A$893,0))","v":4.5},null,{"$f":"INDEX(Backbone!$N$2:$N$893,MATCH(I65,Backbone!$A$2:$A$893,0))","v":8},null,{"$f":"INDEX(Backbone!$O$2:$O$893,MATCH(I65,Backbone!$A$2:$A$893,0))","v":7.2},null,{"$f":"INDEX(Backbone!$P$2:$P$893,MATCH(I65,Backbone!$A$2:$A$893,0))","v":8.5},null,{"$f":"INDEX(Backbone!$Q$2:$Q$893,MATCH(I65,Backbone!$A$2:$A$893,0))","v":0.76},null,null,{"$f":"(AG65*$AG$22+AI65*$AI$22+AK65*$AK$22+AM65*$AM$22+AO65*$AO$22+AQ65*$AQ$22+AS65*$AS$22+AU65*$AU$22+AW65*$AW$22)/(SUM($AG$22:$AW$22)*10)","v":{"$error":"#DIV/0!"}},null,null,"Aller à \nBoîte à outils: ",null,{"$f":"HYPERLINK(\"#\"&ADDRESS(MATCH(I65,Toolbox!$C$1:$C$300),1,,,\"Toolbox\"),VLOOKUP(I65,Toolbox!$C$1:$C$300,1,FALSE))","v":"Surveillance intégrée de la maladie et la riposte (IDSR)"}]
[]
[]
[]
[]
[]
[null,null,null,null,null,null,null,null,{"$f":"Backbone!A256","v":"Évaluation externe conjointe (EEC) "},null,null,null,null,null,null,"Le processus d'évaluation externe de la capacité des pays à prévenir, détecter et répondre rapidement aux menaces pour la santé publique, accessible aux États Membres de l'OMS.",null,null,null,null,null,null,null,null,{"$f":"INDEX(Backbone!$R$2:$R$893,MATCH(I71,Backbone!$A$2:$A$893,0))","v":"Outil ou processus dirigé/facilité"},null,null,null,{"$f":"INDEX(Backbone!$S$2:$S$893,MATCH(I71,Backbone!$A$2:$A$893,0))","v":"«Une seule santé»; Généralisée"},null,null,null,{"$f":"INDEX(Backbone!$H$2:$H$893,MATCH(I71,Backbone!$A$2:$A$893,0))","v":8.6999999999999993},null,{"$f":"INDEX(Backbone!$I$2:$I$893,MATCH(I71,Backbone!$A$2:$A$893,0))","v":10},null,{"$f":"INDEX(Backbone!$J$2:$J$893,MATCH(I71,Backbone!$A$2:$A$893,0))","v":7},null,{"$f":"INDEX(Backbone!$K$1:$K$893,MATCH(I71,Backbone!$A$1:$A$893,0))","v":6.3},null,{"$f":"INDEX(Backbone!$L$2:$L$893,MATCH(I71,Backbone!$A$2:$A$893,0))","v":7.7},null,{"$f":"INDEX(Backbone!$M$2:$M$893,MATCH(I71,Backbone!$A$2:$A$893,0))","v":4.7},null,{"$f":"INDEX(Backbone!$N$2:$N$893,MATCH(I71,Backbone!$A$2:$A$893,0))","v":6},null,{"$f":"INDEX(Backbone!$O$2:$O$893,MATCH(I71,Backbone!$A$2:$A$893,0))","v":9.5},null,{"$f":"INDEX(Backbone!$P$2:$P$893,MATCH(I71,Backbone!$A$2:$A$893,0))","v":10},null,{"$f":"INDEX(Backbone!$Q$2:$Q$893,MATCH(I71,Backbone!$A$2:$A$893,0))","v":0.77666666666666673},null,null,{"$f":"(AG71*$AG$22+AI71*$AI$22+AK71*$AK$22+AM71*$AM$22+AO71*$AO$22+AQ71*$AQ$22+AS71*$AS$22+AU71*$AU$22+AW71*$AW$22)/(SUM($AG$22:$AW$22)*10)","v":{"$error":"#DIV/0!"}},null,null,"Aller à \nBoîte à outils: ",null,{"$f":"HYPERLINK(\"#\"&ADDRESS(MATCH(I71,Toolbox!$C$1:$C$300),1,,,\"Toolbox\"),VLOOKUP(I71,Toolbox!$C$1:$C$300,1,FALSE))","v":"Évaluation externe conjointe (EEC) "}]
[]
[]
[]
[]
[]
[null,null,null,null,null,null,null,null,{"$f":"Backbone!A291","v":"Méthodologie d'analyse de la législation relative à la RAM dans le secteur de l'alimentation et de l'agriculture"},null,null,null,null,null,null,"Une méthodologie conçue pour orienter les analyses de la législation nationale en matière de RAM dans les secteurs de l'alimentation et de l'agriculture.",null,null,null,null,null,null,null,null,{"$f":"INDEX(Backbone!$R$2:$R$893,MATCH(I77,Backbone!$A$2:$A$893,0))","v":"Document d'orientation"},null,null,null,{"$f":"INDEX(Backbone!$S$2:$S$893,MATCH(I77,Backbone!$A$2:$A$893,0))","v":"«Une seule santé»; Généralisée"},null,null,null,{"$f":"INDEX(Backbone!$H$2:$H$893,MATCH(I77,Backbone!$A$2:$A$893,0))","v":7.4},null,{"$f":"INDEX(Backbone!$I$2:$I$893,MATCH(I77,Backbone!$A$2:$A$893,0))","v":5.5},null,{"$f":"INDEX(Backbone!$J$2:$J$893,MATCH(I77,Backbone!$A$2:$A$893,0))","v":7.6},null,{"$f":"INDEX(Backbone!$K$1:$K$893,MATCH(I77,Backbone!$A$1:$A$893,0))","v":4},null,{"$f":"INDEX(Backbone!$L$2:$L$893,MATCH(I77,Backbone!$A$2:$A$893,0))","v":8.1999999999999993},null,{"$f":"INDEX(Backbone!$M$2:$M$893,MATCH(I77,Backbone!$A$2:$A$893,0))","v":4.5},null,{"$f":"INDEX(Backbone!$N$2:$N$893,MATCH(I77,Backbone!$A$2:$A$893,0))","v":4.5},null,{"$f":"INDEX(Backbone!$O$2:$O$893,MATCH(I77,Backbone!$A$2:$A$893,0))","v":6.6},null,{"$f":"INDEX(Backbone!$P$2:$P$893,MATCH(I77,Backbone!$A$2:$A$893,0))","v":4.5},null,{"$f":"INDEX(Backbone!$Q$2:$Q$893,MATCH(I77,Backbone!$A$2:$A$893,0))","v":0.58666666666666667},null,null,{"$f":"(AG77*$AG$22+AI77*$AI$22+AK77*$AK$22+AM77*$AM$22+AO77*$AO$22+AQ77*$AQ$22+AS77*$AS$22+AU77*$AU$22+AW77*$AW$22)/(SUM($AG$22:$AW$22)*10)","v":{"$error":"#DIV/0!"}},null,null,"Aller à \nBoîte à outils: ",null,{"$f":"HYPERLINK(\"#\"&ADDRESS(MATCH(I77,Toolbox!$C$1:$C$300),1,,,\"Toolbox\"),VLOOKUP(I77,Toolbox!$C$1:$C$300,1,FALSE))","v":"Méthodologie d'analyse de la législation relative à la RAM dans le secteur de l'alimentation et de l'agriculture"}]
[]
[]
[]
[]
[]
[null,null,null,null,null,null,null,null,{"$f":"Backbone!A303","v":"Plan d'action national pour la sécurité sanitaire (PANSS)"},null,null,null,null,null,null,"Un processus de planification mené par le pays lui-même, capable d'accélérer la mise en œuvre des capacités essentielles du Règlement sanitaire international (RSI) et fondé sur l'approche «Une seule santé» et «à l'échelle de l'ensemble de l'administration» pour tous les risques.",null,null,null,null,null,null,null,null,{"$f":"INDEX(Backbone!$R$2:$R$893,MATCH(I83,Backbone!$A$2:$A$893,0))","v":"Document d'orientation"},null,null,null,{"$f":"INDEX(Backbone!$S$2:$S$893,MATCH(I83,Backbone!$A$2:$A$893,0))","v":"«Une seule santé»; Généralisée"},null,null,null,{"$f":"INDEX(Backbone!$H$2:$H$893,MATCH(I83,Backbone!$A$2:$A$893,0))","v":8},null,{"$f":"INDEX(Backbone!$I$2:$I$893,MATCH(I83,Backbone!$A$2:$A$893,0))","v":9},null,{"$f":"INDEX(Backbone!$J$2:$J$893,MATCH(I83,Backbone!$A$2:$A$893,0))","v":7.8},null,{"$f":"INDEX(Backbone!$K$1:$K$893,MATCH(I83,Backbone!$A$1:$A$893,0))","v":10},null,{"$f":"INDEX(Backbone!$L$2:$L$893,MATCH(I83,Backbone!$A$2:$A$893,0))","v":8},null,{"$f":"INDEX(Backbone!$M$2:$M$893,MATCH(I83,Backbone!$A$2:$A$893,0))","v":4.5},null,{"$f":"INDEX(Backbone!$N$2:$N$893,MATCH(I83,Backbone!$A$2:$A$893,0))","v":10},null,{"$f":"INDEX(Backbone!$O$2:$O$893,MATCH(I83,Backbone!$A$2:$A$893,0))","v":10},null,{"$f":"INDEX(Backbone!$P$2:$P$893,MATCH(I83,Backbone!$A$2:$A$893,0))","v":10},null,{"$f":"INDEX(Backbone!$Q$2:$Q$893,MATCH(I83,Backbone!$A$2:$A$893,0))","v":0.85888888888888881},null,null,{"$f":"(AG83*$AG$22+AI83*$AI$22+AK83*$AK$22+AM83*$AM$22+AO83*$AO$22+AQ83*$AQ$22+AS83*$AS$22+AU83*$AU$22+AW83*$AW$22)/(SUM($AG$22:$AW$22)*10)","v":{"$error":"#DIV/0!"}},null,null,"Aller à \nBoîte à outils: ",null,{"$f":"HYPERLINK(\"#\"&ADDRESS(MATCH(I83,Toolbox!$C$1:$C$300),1,,,\"Toolbox\"),VLOOKUP(I83,Toolbox!$C$1:$C$300,1,FALSE))","v":"Plan d'action national pour la sécurité sanitaire (PANSS)"}]
[]
[]
[]
[]
[]
[null,null,null,null,null,null,null,null,{"$f":"Backbone!A332","v":"Réseau pour l'évaluation de l'approche «Une seule santé» (NEOH)"},null,null,null,null,null,null,"Un outil au format Excel qui mesure la conformité d'un système de surveillance au principe «Une seule santé». ",null,null,null,null,null,null,null,null,{"$f":"INDEX(Backbone!$R$2:$R$893,MATCH(I89,Backbone!$A$2:$A$893,0))","v":"Document d'orientation"},null,null,null,{"$f":"INDEX(Backbone!$S$2:$S$893,MATCH(I89,Backbone!$A$2:$A$893,0))","v":"«Une seule santé»; Généralisée"},null,null,null,{"$f":"INDEX(Backbone!$H$2:$H$893,MATCH(I89,Backbone!$A$2:$A$893,0))","v":8.3000000000000007},null,{"$f":"INDEX(Backbone!$I$2:$I$893,MATCH(I89,Backbone!$A$2:$A$893,0))","v":7.7},null,{"$f":"INDEX(Backbone!$J$2:$J$893,MATCH(I89,Backbone!$A$2:$A$893,0))","v":5.3},null,{"$f":"INDEX(Backbone!$K$1:$K$893,MATCH(I89,Backbone!$A$1:$A$893,0))","v":8.9},null,{"$f":"INDEX(Backbone!$L$2:$L$893,MATCH(I89,Backbone!$A$2:$A$893,0))","v":7.8},null,{"$f":"INDEX(Backbone!$M$2:$M$893,MATCH(I89,Backbone!$A$2:$A$893,0))","v":4.7},null,{"$f":"INDEX(Backbone!$N$2:$N$893,MATCH(I89,Backbone!$A$2:$A$893,0))","v":5.3},null,{"$f":"INDEX(Backbone!$O$2:$O$893,MATCH(I89,Backbone!$A$2:$A$893,0))","v":8},null,{"$f":"INDEX(Backbone!$P$2:$P$893,MATCH(I89,Backbone!$A$2:$A$893,0))","v":5.3},null,{"$f":"INDEX(Backbone!$Q$2:$Q$893,MATCH(I89,Backbone!$A$2:$A$893,0))","v":0.68111111111111111},null,null,{"$f":"(AG89*$AG$22+AI89*$AI$22+AK89*$AK$22+AM89*$AM$22+AO89*$AO$22+AQ89*$AQ$22+AS89*$AS$22+AU89*$AU$22+AW89*$AW$22)/(SUM($AG$22:$AW$22)*10)","v":{"$error":"#DIV/0!"}},null,null,"Aller à \nBoîte à outils: ",null,{"$f":"HYPERLINK(\"#\"&ADDRESS(MATCH(I89,Toolbox!$C$1:$C$300),1,,,\"Toolbox\"),VLOOKUP(I89,Toolbox!$C$1:$C$300,1,FALSE))","v":"Réseau pour l'évaluation de l'approche «Une seule santé» (NEOH)"}]
[]
[]
[]
[]
[]
[null,null,null,null,null,null,null,null,{"$f":"Backbone!A420","v":"Analyse des écarts PVS de l'Organisation mondiale de la santé animale (OMSA)"},null,null,null,null,null,null,"Aide les pays à réaliser une planification détaillée en fonction des résultats de leur évaluation PVS.",null,null,null,null,null,null,null,null,{"$f":"INDEX(Backbone!$R$2:$R$893,MATCH(I95,Backbone!$A$2:$A$893,0))","v":"Outil ou processus dirigé/facilité"},null,null,null,{"$f":"INDEX(Backbone!$S$2:$S$893,MATCH(I95,Backbone!$A$2:$A$893,0))","v":"Spécifique du secteur; Généralisée"},null,null,null,{"$f":"INDEX(Backbone!$H$2:$H$893,MATCH(I95,Backbone!$A$2:$A$893,0))","v":6.8},null,{"$f":"INDEX(Backbone!$I$2:$I$893,MATCH(I95,Backbone!$A$2:$A$893,0))","v":8},null,{"$f":"INDEX(Backbone!$J$2:$J$893,MATCH(I95,Backbone!$A$2:$A$893,0))","v":5.6},null,{"$f":"INDEX(Backbone!$K$1:$K$893,MATCH(I95,Backbone!$A$1:$A$893,0))","v":10},null,{"$f":"INDEX(Backbone!$L$2:$L$893,MATCH(I95,Backbone!$A$2:$A$893,0))","v":6},null,{"$f":"INDEX(Backbone!$M$2:$M$893,MATCH(I95,Backbone!$A$2:$A$893,0))","v":4.3},null,{"$f":"INDEX(Backbone!$N$2:$N$893,MATCH(I95,Backbone!$A$2:$A$893,0))","v":9.5},null,{"$f":"INDEX(Backbone!$O$2:$O$893,MATCH(I95,Backbone!$A$2:$A$893,0))","v":4.7},null,{"$f":"INDEX(Backbone!$P$2:$P$893,MATCH(I95,Backbone!$A$2:$A$893,0))","v":7},null,{"$f":"INDEX(Backbone!$Q$2:$Q$893,MATCH(I95,Backbone!$A$2:$A$893,0))","v":0.68777777777777771},null,null,{"$f":"(AG95*$AG$22+AI95*$AI$22+AK95*$AK$22+AM95*$AM$22+AO95*$AO$22+AQ95*$AQ$22+AS95*$AS$22+AU95*$AU$22+AW95*$AW$22)/(SUM($AG$22:$AW$22)*10)","v":{"$error":"#DIV/0!"}},null,null,"Aller à \nBoîte à outils: ",null,{"$f":"HYPERLINK(\"#\"&ADDRESS(MATCH(I95,Toolbox!$C$1:$C$300),1,,,\"Toolbox\"),VLOOKUP(I95,Toolbox!$C$1:$C$300,1,FALSE))","v":"Analyse des écarts PVS de l'Organisation mondiale de la santé animale (OMSA)"}]
[]
[]
[]
[]
[]
[null,null,null,null,null,null,null,null,{"$f":"Backbone!A643","v":"Élaboration du plan stratégique «Une seule santé»"},null,null,null,null,null,null,"Cette boîte à outils guide le processus d'élaboration d'un plan stratégique national «Une seule santé», étape par étape, au moyen d'une approche participative et axée sur les parties prenantes.",null,null,null,null,null,null,null,null,{"$f":"INDEX(Backbone!$R$2:$R$893,MATCH(I101,Backbone!$A$2:$A$893,0))","v":"Document d'orientation"},null,null,null,{"$f":"INDEX(Backbone!$S$2:$S$893,MATCH(I101,Backbone!$A$2:$A$893,0))","v":"«Une seule santé»; Généralisée"},null,null,null,{"$f":"INDEX(Backbone!$H$2:$H$893,MATCH(I101,Backbone!$A$2:$A$893,0))","v":8.4},null,{"$f":"INDEX(Backbone!$I$2:$I$893,MATCH(I101,Backbone!$A$2:$A$893,0))","v":8},null,{"$f":"INDEX(Backbone!$J$2:$J$893,MATCH(I101,Backbone!$A$2:$A$893,0))","v":8.4},null,{"$f":"INDEX(Backbone!$K$1:$K$893,MATCH(I101,Backbone!$A$1:$A$893,0))","v":6.7},null,{"$f":"INDEX(Backbone!$L$2:$L$893,MATCH(I101,Backbone!$A$2:$A$893,0))","v":2},null,{"$f":"INDEX(Backbone!$M$2:$M$893,MATCH(I101,Backbone!$A$2:$A$893,0))","v":3.5},null,{"$f":"INDEX(Backbone!$N$2:$N$893,MATCH(I101,Backbone!$A$2:$A$893,0))","v":4},null,{"$f":"INDEX(Backbone!$O$2:$O$893,MATCH(I101,Backbone!$A$2:$A$893,0))","v":6.4},null,{"$f":"INDEX(Backbone!$P$2:$P$893,MATCH(I101,Backbone!$A$2:$A$893,0))","v":8},null,{"$f":"INDEX(Backbone!$Q$2:$Q$893,MATCH(I101,Backbone!$A$2:$A$893,0))","v":0.61555555555555552},null,null,{"$f":"(AG101*$AG$22+AI101*$AI$22+AK101*$AK$22+AM101*$AM$22+AO101*$AO$22+AQ101*$AQ$22+AS101*$AS$22+AU101*$AU$22+AW101*$AW$22)/(SUM($AG$22:$AW$22)*10)","v":{"$error":"#DIV/0!"}},null,null,"Aller à \nBoîte à outils: ",null,{"$f":"HYPERLINK(\"#\"&ADDRESS(MATCH(I101,Toolbox!$C$1:$C$300),1,,,\"Toolbox\"),VLOOKUP(I101,Toolbox!$C$1:$C$300,1,FALSE))","v":"Élaboration du plan stratégique «Une seule santé»"}]
[]
[]
[]
[]
[]
[null,null,null,null,null,null,null,null,{"$f":"Backbone!A413","v":"Boîte à outils de cartographie et de ressources des systèmes «Une seule santé» (OH-SMART)"},null,null,null,null,null,null,"Un processus en six étapes qui aide les parties prenantes de plusieurs secteurs à cartographier, analyser et améliorer tout système existant qui nécessite une collaboration interdisciplinaire et multisectorielle.",null,null,null,null,null,null,null,null,{"$f":"INDEX(Backbone!$R$2:$R$893,MATCH(I107,Backbone!$A$2:$A$893,0))","v":"Outil ou processus dirigé/facilité"},null,null,null,{"$f":"INDEX(Backbone!$S$2:$S$893,MATCH(I107,Backbone!$A$2:$A$893,0))","v":"«Une seule santé»; Généralisée"},null,null,null,{"$f":"INDEX(Backbone!$H$2:$H$893,MATCH(I107,Backbone!$A$2:$A$893,0))","v":8.6999999999999993},null,{"$f":"INDEX(Backbone!$I$2:$I$893,MATCH(I107,Backbone!$A$2:$A$893,0))","v":7.3},null,{"$f":"INDEX(Backbone!$J$2:$J$893,MATCH(I107,Backbone!$A$2:$A$893,0))","v":8.4},null,{"$f":"INDEX(Backbone!$K$1:$K$893,MATCH(I107,Backbone!$A$1:$A$893,0))","v":9.3000000000000007},null,{"$f":"INDEX(Backbone!$L$2:$L$893,MATCH(I107,Backbone!$A$2:$A$893,0))","v":8.1999999999999993},null,{"$f":"INDEX(Backbone!$M$2:$M$893,MATCH(I107,Backbone!$A$2:$A$893,0))","v":7.4},null,{"$f":"INDEX(Backbone!$N$2:$N$893,MATCH(I107,Backbone!$A$2:$A$893,0))","v":9.5},null,{"$f":"INDEX(Backbone!$O$2:$O$893,MATCH(I107,Backbone!$A$2:$A$893,0))","v":10},null,{"$f":"INDEX(Backbone!$P$2:$P$893,MATCH(I107,Backbone!$A$2:$A$893,0))","v":10},null,{"$f":"INDEX(Backbone!$Q$2:$Q$893,MATCH(I107,Backbone!$A$2:$A$893,0))","v":0.87555555555555564},null,null,{"$f":"(AG107*$AG$22+AI107*$AI$22+AK107*$AK$22+AM107*$AM$22+AO107*$AO$22+AQ107*$AQ$22+AS107*$AS$22+AU107*$AU$22+AW107*$AW$22)/(SUM($AG$22:$AW$22)*10)","v":{"$error":"#DIV/0!"}},null,null,"Aller à \nBoîte à outils: ",null,{"$f":"HYPERLINK(\"#\"&ADDRESS(MATCH(I107,Toolbox!$C$1:$C$300),1,,,\"Toolbox\"),VLOOKUP(I107,Toolbox!$C$1:$C$300,1,FALSE))","v":"Boîte à outils de cartographie et de ressources des systèmes «Une seule santé» (OH-SMART)"}]
[]
[]
[]
[]
[]
[null,null,null,null,null,null,null,null,{"$f":"Backbone!A557","v":"Outil par étapes pour l'éradication de la brucellose (STEB)"},null,null,null,null,null,null,"Un outil d'auto-évaluation basé sur un tableur, développé pour aider les pays à évaluer leur capacité actuelle à prévenir, contrôler et éliminer la brucellose.",null,null,null,null,null,null,null,null,{"$f":"INDEX(Backbone!$R$2:$R$893,MATCH(I113,Backbone!$A$2:$A$893,0))","v":"Outil ou processus dirigé/facilité"},null,null,null,{"$f":"INDEX(Backbone!$S$2:$S$893,MATCH(I113,Backbone!$A$2:$A$893,0))","v":"«Une seule santé»; spécifique d'une maladie/menace "},null,null,null,{"$f":"INDEX(Backbone!$H$2:$H$893,MATCH(I113,Backbone!$A$2:$A$893,0))","v":9},null,{"$f":"INDEX(Backbone!$I$2:$I$893,MATCH(I113,Backbone!$A$2:$A$893,0))","v":10},null,{"$f":"INDEX(Backbone!$J$2:$J$893,MATCH(I113,Backbone!$A$2:$A$893,0))","v":7.6},null,{"$f":"INDEX(Backbone!$K$1:$K$893,MATCH(I113,Backbone!$A$1:$A$893,0))","v":3.7},null,{"$f":"INDEX(Backbone!$L$2:$L$893,MATCH(I113,Backbone!$A$2:$A$893,0))","v":5.7},null,{"$f":"INDEX(Backbone!$M$2:$M$893,MATCH(I113,Backbone!$A$2:$A$893,0))","v":7.3},null,{"$f":"INDEX(Backbone!$N$2:$N$893,MATCH(I113,Backbone!$A$2:$A$893,0))","v":7},null,{"$f":"INDEX(Backbone!$O$2:$O$893,MATCH(I113,Backbone!$A$2:$A$893,0))","v":8.6},null,{"$f":"INDEX(Backbone!$P$2:$P$893,MATCH(I113,Backbone!$A$2:$A$893,0))","v":8},null,{"$f":"INDEX(Backbone!$Q$2:$Q$893,MATCH(I113,Backbone!$A$2:$A$893,0))","v":0.7433333333333334},null,null,{"$f":"(AG113*$AG$22+AI113*$AI$22+AK113*$AK$22+AM113*$AM$22+AO113*$AO$22+AQ113*$AQ$22+AS113*$AS$22+AU113*$AU$22+AW113*$AW$22)/(SUM($AG$22:$AW$22)*10)","v":{"$error":"#DIV/0!"}},null,null,"Aller à \nBoîte à outils: ",null,{"$f":"HYPERLINK(\"#\"&ADDRESS(MATCH(I113,Toolbox!$C$1:$C$300),1,,,\"Toolbox\"),VLOOKUP(I113,Toolbox!$C$1:$C$300,1,FALSE))","v":"Outil par étapes pour l'éradication de la brucellose (STEB)"}]
[]
[]
[]
[]
[]
[null,null,null,null,null,null,null,null,{"$f":"Backbone!A453","v":"Approche par étapes pour l'élimination de la rage (SARE)"},null,null,null,null,null,null,"Un outil pratique de planification, de suivi et d'évaluation qui permet d'orienter, de déployer et d'affiner des programmes de lutte contre la rage.",null,null,null,null,null,null,null,null,{"$f":"INDEX(Backbone!$R$2:$R$893,MATCH(I119,Backbone!$A$2:$A$893,0))","v":"Outil d'autoévaluation"},null,null,null,{"$f":"INDEX(Backbone!$S$2:$S$893,MATCH(I119,Backbone!$A$2:$A$893,0))","v":"«Une seule santé»; spécifique d'une maladie/menace "},null,null,null,{"$f":"INDEX(Backbone!$H$2:$H$893,MATCH(I119,Backbone!$A$2:$A$893,0))","v":8},null,{"$f":"INDEX(Backbone!$I$2:$I$893,MATCH(I119,Backbone!$A$2:$A$893,0))","v":9},null,{"$f":"INDEX(Backbone!$J$2:$J$893,MATCH(I119,Backbone!$A$2:$A$893,0))","v":6.6},null,{"$f":"INDEX(Backbone!$K$1:$K$893,MATCH(I119,Backbone!$A$1:$A$893,0))","v":3.3},null,{"$f":"INDEX(Backbone!$L$2:$L$893,MATCH(I119,Backbone!$A$2:$A$893,0))","v":5.7},null,{"$f":"INDEX(Backbone!$M$2:$M$893,MATCH(I119,Backbone!$A$2:$A$893,0))","v":6.8},null,{"$f":"INDEX(Backbone!$N$2:$N$893,MATCH(I119,Backbone!$A$2:$A$893,0))","v":8},null,{"$f":"INDEX(Backbone!$O$2:$O$893,MATCH(I119,Backbone!$A$2:$A$893,0))","v":8.6},null,{"$f":"INDEX(Backbone!$P$2:$P$893,MATCH(I119,Backbone!$A$2:$A$893,0))","v":9.5},null,{"$f":"INDEX(Backbone!$Q$2:$Q$893,MATCH(I119,Backbone!$A$2:$A$893,0))","v":0.72777777777777775},null,null,{"$f":"(AG119*$AG$22+AI119*$AI$22+AK119*$AK$22+AM119*$AM$22+AO119*$AO$22+AQ119*$AQ$22+AS119*$AS$22+AU119*$AU$22+AW119*$AW$22)/(SUM($AG$22:$AW$22)*10)","v":{"$error":"#DIV/0!"}},null,null,"Aller à \nBoîte à outils: ",null,{"$f":"HYPERLINK(\"#\"&ADDRESS(MATCH(I119,Toolbox!$C$1:$C$300),1,,,\"Toolbox\"),VLOOKUP(I119,Toolbox!$C$1:$C$300,1,FALSE))","v":"Approche par étapes pour l'élimination de la rage (SARE)"}]
[]
[]
[]
[]
[]
[null,null,null,null,null,null,null,null,{"$f":"Backbone!A367","v":"Évaluation des systèmes «Une seule santé» pour les zoonoses prioritaires (OH-SAPZ)"},null,null,null,null,null,null,"Un outil visant à faciliter une évaluation systématique des structures nationales de coordination de l'initiative «Une seule santé» en matière de prévention, de détection et de réponse aux zoonoses.",null,null,null,null,null,null,null,null,{"$f":"INDEX(Backbone!$R$2:$R$893,MATCH(I125,Backbone!$A$2:$A$893,0))","v":"Outil d'autoévaluation"},null,null,null,{"$f":"INDEX(Backbone!$S$2:$S$893,MATCH(I125,Backbone!$A$2:$A$893,0))","v":"«Une seule santé»; Généralisée"},null,null,null,{"$f":"INDEX(Backbone!$H$2:$H$893,MATCH(I125,Backbone!$A$2:$A$893,0))","v":7.9},null,{"$f":"INDEX(Backbone!$I$2:$I$893,MATCH(I125,Backbone!$A$2:$A$893,0))","v":7.3},null,{"$f":"INDEX(Backbone!$J$2:$J$893,MATCH(I125,Backbone!$A$2:$A$893,0))","v":7.2},null,{"$f":"INDEX(Backbone!$K$1:$K$893,MATCH(I125,Backbone!$A$1:$A$893,0))","v":7.8},null,{"$f":"INDEX(Backbone!$L$2:$L$893,MATCH(I125,Backbone!$A$2:$A$893,0))","v":6.5},null,{"$f":"INDEX(Backbone!$M$2:$M$893,MATCH(I125,Backbone!$A$2:$A$893,0))","v":5.2},null,{"$f":"INDEX(Backbone!$N$2:$N$893,MATCH(I125,Backbone!$A$2:$A$893,0))","v":4},null,{"$f":"INDEX(Backbone!$O$2:$O$893,MATCH(I125,Backbone!$A$2:$A$893,0))","v":8.3000000000000007},null,{"$f":"INDEX(Backbone!$P$2:$P$893,MATCH(I125,Backbone!$A$2:$A$893,0))","v":9.6999999999999993},null,{"$f":"INDEX(Backbone!$Q$2:$Q$893,MATCH(I125,Backbone!$A$2:$A$893,0))","v":0.71000000000000008},null,null,{"$f":"(AG125*$AG$22+AI125*$AI$22+AK125*$AK$22+AM125*$AM$22+AO125*$AO$22+AQ125*$AQ$22+AS125*$AS$22+AU125*$AU$22+AW125*$AW$22)/(SUM($AG$22:$AW$22)*10)","v":{"$error":"#DIV/0!"}},null,null,"Aller à \nBoîte à outils: ",null,{"$f":"HYPERLINK(\"#\"&ADDRESS(MATCH(I125,Toolbox!$C$1:$C$300),1,,,\"Toolbox\"),VLOOKUP(I125,Toolbox!$C$1:$C$300,1,FALSE))","v":"Évaluation des systèmes «Une seule santé» pour les zoonoses prioritaires (OH-SAPZ)"}]
[]
[]
[]
[]
[]
[null,null,null,null,null,null,null,null,{"$f":"Backbone!A592","v":"WHO CHOICE"},null,null,null,null,null,null," Un programme qui aide les pays à établir les priorités de leur système de santé en fonction des coûts et des impacts.",null,null,null,null,null,null,null,null,{"$f":"INDEX(Backbone!$R$2:$R$893,MATCH(I131,Backbone!$A$2:$A$893,0))","v":"Outil d'autoévaluation"},null,null,null,{"$f":"INDEX(Backbone!$S$2:$S$893,MATCH(I131,Backbone!$A$2:$A$893,0))","v":"Spécifique du secteur; Généralisée"},null,null,null,{"$f":"INDEX(Backbone!$H$2:$H$893,MATCH(I131,Backbone!$A$2:$A$893,0))","v":9.6},null,{"$f":"INDEX(Backbone!$I$2:$I$893,MATCH(I131,Backbone!$A$2:$A$893,0))","v":8},null,{"$f":"INDEX(Backbone!$J$2:$J$893,MATCH(I131,Backbone!$A$2:$A$893,0))","v":7.4},null,{"$f":"INDEX(Backbone!$K$1:$K$893,MATCH(I131,Backbone!$A$1:$A$893,0))","v":5.3},null,{"$f":"INDEX(Backbone!$L$2:$L$893,MATCH(I131,Backbone!$A$2:$A$893,0))","v":7.3},null,{"$f":"INDEX(Backbone!$M$2:$M$893,MATCH(I131,Backbone!$A$2:$A$893,0))","v":5},null,{"$f":"INDEX(Backbone!$N$2:$N$893,MATCH(I131,Backbone!$A$2:$A$893,0))","v":8.5},null,{"$f":"INDEX(Backbone!$O$2:$O$893,MATCH(I131,Backbone!$A$2:$A$893,0))","v":5},null,{"$f":"INDEX(Backbone!$P$2:$P$893,MATCH(I131,Backbone!$A$2:$A$893,0))","v":9},null,{"$f":"INDEX(Backbone!$Q$2:$Q$893,MATCH(I131,Backbone!$A$2:$A$893,0))","v":0.72333333333333327},null,null,{"$f":"(AG131*$AG$22+AI131*$AI$22+AK131*$AK$22+AM131*$AM$22+AO131*$AO$22+AQ131*$AQ$22+AS131*$AS$22+AU131*$AU$22+AW131*$AW$22)/(SUM($AG$22:$AW$22)*10)","v":{"$error":"#DIV/0!"}},null,null,"Aller à \nBoîte à outils: ",null,{"$f":"HYPERLINK(\"#\"&ADDRESS(MATCH(I131,Toolbox!$C$1:$C$300),1,,,\"Toolbox\"),VLOOKUP(I131,Toolbox!$C$1:$C$300,1,FALSE))","v":"WHO CHOICE"}]
[]
[]
[]
[]
[]
[]
[]
[]
[]
[]
[]
[]
[]
[]
[]
[]
[]
[]
[]
[null,"RESSOURCES DE NIVEAU 2"]
[]
[]
[]
[]
[null,null,null,null,null,null,null,null,null,null,null,null,null,null,null,null,null,null,null,null,null,null,null,null,null,null,null,null,null,null,null,null,"Accessibilité",null,"Langue",null,"Facilité d'utilisation",null,"Flexibilité",null,"Besoins de données",null,"Analyse des données",null,"Acceptabilité",null,"«Une seule santé»",null,"Impact"]
[]
[]
[]
[]
[]
[]
[null,null,null,null,null,null,null,null,null,null,null,null,null,null,null,null,null,null,null,null,null,null,null,null,null,null,null,null,null,null,null,null,null,null,null,null,null,null,null,null,null,null,null,null,null,null,null,null,null,null,"SCORE BRUT",null,null,"SCORE AJUSTÉ \n(Selon les préférences de l'utilisateur)"]
[]
[]
[]
[null,null,null,"DÉSIGNATION",null,null,null,null,"NOM DE LA RESSOURCE",null,null,null,null,null,null,"BRÈVE DESCRIPTION",null,null,null,null,null,null,null,null,"TYPE DE RESSOURCE",null,null,null,"CARACTÈRE GÉNÉRAL DE LA RESSOURCE"]
[]
[]
[]
[null,null,null,null,null,null,null,null,null,null,null,null,null,null,null,null,null,null,null,null,null,null,null,null,null,null,null,null,null,null,null,null,{"$f":"'Attribute Survey'!S130","v":0},null,{"$f":"'Attribute Survey'!S134","v":0},null,{"$f":"'Attribute Survey'!S138","v":0},null,{"$f":"'Attribute Survey'!S142","v":0},null,{"$f":"'Attribute Survey'!S146","v":0},null,{"$f":"'Attribute Survey'!S150","v":0},null,{"$f":"'Attribute Survey'!S154","v":0},null,{"$f":"'Attribute Survey'!S158","v":0},null,{"$f":"'Attribute Survey'!S162","v":0}]
[null,null,null,"Autres ressources intéressantes",null,null,null,null,{"$f":"Backbone!A643","v":"Élaboration du plan stratégique «Une seule santé»"},null,null,null,null,null,null,"Cette boîte à outils guide le processus d'élaboration d'un plan stratégique national «Une seule santé», étape par étape, au moyen d'une approche participative et axée sur les parties prenantes.",null,null,null,null,null,null,null,null,{"$f":"INDEX(Backbone!$R$2:$R$893,MATCH(I172,Backbone!$A$2:$A$893,0))","v":"Document d'orientation"},null,null,null,{"$f":"INDEX(Backbone!$S$2:$S$893,MATCH(I172,Backbone!$A$2:$A$893,0))","v":"«Une seule santé»; Généralisée"},null,null,null,{"$f":"INDEX(Backbone!$H$2:$H$893,MATCH(I172,Backbone!$A$2:$A$893,0))","v":8.4},null,{"$f":"INDEX(Backbone!$I$2:$I$893,MATCH(I172,Backbone!$A$2:$A$893,0))","v":8},null,{"$f":"INDEX(Backbone!$J$2:$J$893,MATCH(I172,Backbone!$A$2:$A$893,0))","v":8.4},null,{"$f":"INDEX(Backbone!$K$1:$K$893,MATCH(I172,Backbone!$A$1:$A$893,0))","v":6.7},null,{"$f":"INDEX(Backbone!$L$2:$L$893,MATCH(I172,Backbone!$A$2:$A$893,0))","v":2},null,{"$f":"INDEX(Backbone!$M$2:$M$893,MATCH(I172,Backbone!$A$2:$A$893,0))","v":3.5},null,{"$f":"INDEX(Backbone!$N$2:$N$893,MATCH(I172,Backbone!$A$2:$A$893,0))","v":4},null,{"$f":"INDEX(Backbone!$O$2:$O$893,MATCH(I172,Backbone!$A$2:$A$893,0))","v":6.4},null,{"$f":"INDEX(Backbone!$P$2:$P$893,MATCH(I172,Backbone!$A$2:$A$893,0))","v":8},null,{"$f":"INDEX(Backbone!$Q$2:$Q$893,MATCH(I172,Backbone!$A$2:$A$893,0))","v":0.61555555555555552},null,null,{"$f":"(AG172*$AG$22+AI172*$AI$22+AK172*$AK$22+AM172*$AM$22+AO172*$AO$22+AQ172*$AQ$22+AS172*$AS$22+AU172*$AU$22+AW172*$AW$22)/(SUM($AG$22:$AW$22)*10)","v":{"$error":"#DIV/0!"}},null,null,"Aller à \nBoîte à outils: ",null,{"$f":"HYPERLINK(\"#\"&ADDRESS(MATCH(I172,Toolbox!$C$1:$C$300),1,,,\"Toolbox\"),VLOOKUP(I172,Toolbox!$C$1:$C$300,1,FALSE))","v":"Élaboration du plan stratégique «Une seule santé»"}]
[]
[]
[]
[]
[]
[]
[]
[]
[]
[]
[]
[]
[]
[]
[]
[]
[]
[]
[]
[]
[]
[]
[]
[]
[null,null,null,null,null,null,null,null,null,null,null,null,null,null,null,null,null,null,null,null,null,null,null,null,null,null,null,null,null,null,null,null,"Accessibilité",null,"Langue",null,"Facilité d'utilisation",null,"Flexibilité",null,"Besoins de données",null,"Analyse des données",null,"Acceptabilité",null,"«Une seule santé»",null,"Impact"]
[]
[]
[]
[null,"RESSOURCES DE NIVEAU 3"]
[]
[]
[null,null,null,null,null,null,null,null,null,null,null,null,null,null,null,null,null,null,null,null,null,null,null,null,null,null,null,null,null,null,null,null,null,null,null,null,null,null,null,null,null,null,null,null,null,null,null,null,null,null,"SCORE BRUT",null,null,"SCORE AJUSTÉ \n(Selon les préférences de l'utilisateur)"]
[]
[]
[]
[null,null,null,"DÉSIGNATION",null,null,null,null,"NOM DE LA RESSOURCE",null,null,null,null,null,null,"BRÈVE DESCRIPTION",null,null,null,null,null,null,null,null,"TYPE DE RESSOURCE",null,null,null,"CARACTÈRE GÉNÉRAL DE LA RESSOURCE"]
[]
[]
[]
[null,null,null,null,null,null,null,null,null,null,null,null,null,null,null,null,null,null,null,null,null,null,null,null,null,null,null,null,null,null,null,null,{"$f":"'Attribute Survey'!S231","v":0},null,{"$f":"'Attribute Survey'!S235","v":0},null,{"$f":"'Attribute Survey'!S239","v":0},null,{"$f":"'Attribute Survey'!S243","v":0},null,{"$f":"'Attribute Survey'!S247","v":0},null,{"$f":"'Attribute Survey'!S251","v":0},null,{"$f":"'Attribute Survey'!S255","v":0},null,{"$f":"'Attribute Survey'!S259","v":0},null,{"$f":"'Attribute Survey'!S263","v":0}]
[null,null,null,"Autres ressources intéressantes",null,null,null,null,{"$f":"Backbone!A61","v":"Stratégies de communication et de coordination multisectorielles aux frontières"},null,null,null,null,null,null,"Un atelier qui oriente les parties prenantes dans le processus de détermination des mécanismes de partage d'informations spécifiques d'un secteur, ainsi que dans la création de mécanismes de partage d'informations multisectoriels ou transfrontaliers",null,null,null,null,null,null,null,null,{"$f":"INDEX(Backbone!$R$2:$R$893,MATCH(I213,Backbone!$A$2:$A$893,0))","v":"Outil ou processus dirigé/facilité"},null,null,null,{"$f":"INDEX(Backbone!$S$2:$S$893,MATCH(I213,Backbone!$A$2:$A$893,0))","v":"«Une seule santé»; Généralisée "},null,null,null,{"$f":"INDEX(Backbone!$H$2:$H$893,MATCH(I213,Backbone!$A$2:$A$893,0))","v":8.9},null,{"$f":"INDEX(Backbone!$I$2:$I$893,MATCH(I213,Backbone!$A$2:$A$893,0))","v":6},null,{"$f":"INDEX(Backbone!$J$2:$J$893,MATCH(I213,Backbone!$A$2:$A$893,0))","v":7.6},null,{"$f":"INDEX(Backbone!$K$1:$K$893,MATCH(I213,Backbone!$A$1:$A$893,0))","v":9},null,{"$f":"INDEX(Backbone!$L$2:$L$893,MATCH(I213,Backbone!$A$2:$A$893,0))","v":5.6},null,{"$f":"INDEX(Backbone!$M$2:$M$893,MATCH(I213,Backbone!$A$2:$A$893,0))","v":3.5},null,{"$f":"INDEX(Backbone!$N$2:$N$893,MATCH(I213,Backbone!$A$2:$A$893,0))","v":4},null,{"$f":"INDEX(Backbone!$O$2:$O$893,MATCH(I213,Backbone!$A$2:$A$893,0))","v":8.3000000000000007},null,{"$f":"INDEX(Backbone!$P$2:$P$893,MATCH(I213,Backbone!$A$2:$A$893,0))","v":8},null,{"$f":"INDEX(Backbone!$Q$2:$Q$893,MATCH(I213,Backbone!$A$2:$A$893,0))","v":0.67666666666666675},null,null,{"$f":"(AG213*$AG$22+AI213*$AI$22+AK213*$AK$22+AM213*$AM$22+AO213*$AO$22+AQ213*$AQ$22+AS213*$AS$22+AU213*$AU$22+AW213*$AW$22)/(SUM($AG$22:$AW$22)*10)","v":{"$error":"#DIV/0!"}},null,null,"Aller à \nBoîte à outils: ",null,{"$f":"HYPERLINK(\"#\"&ADDRESS(MATCH(I213,Toolbox!$C$1:$C$300),1,,,\"Toolbox\"),VLOOKUP(I213,Toolbox!$C$1:$C$300,1,FALSE))","v":"Stratégies de communication et de coordination multisectorielles aux frontières"}]
[]
[]
[]
[]
[]
[null,null,null,null,null,null,null,null,{"$f":"Backbone!A643","v":"Élaboration du plan stratégique «Une seule santé»"},null,null,null,null,null,null,"Cette boîte à outils guide le processus d'élaboration d'un plan stratégique national «Une seule santé», étape par étape, au moyen d'une approche participative et axée sur les parties prenantes.",null,null,null,null,null,null,null,null,{"$f":"INDEX(Backbone!$R$2:$R$893,MATCH(I219,Backbone!$A$2:$A$893,0))","v":"Document d'orientation"},null,null,null,{"$f":"INDEX(Backbone!$S$2:$S$893,MATCH(I219,Backbone!$A$2:$A$893,0))","v":"«Une seule santé»; Généralisée"},null,null,null,{"$f":"INDEX(Backbone!$H$2:$H$893,MATCH(I219,Backbone!$A$2:$A$893,0))","v":8.4},null,{"$f":"INDEX(Backbone!$I$2:$I$893,MATCH(I219,Backbone!$A$2:$A$893,0))","v":8},null,{"$f":"INDEX(Backbone!$J$2:$J$893,MATCH(I219,Backbone!$A$2:$A$893,0))","v":8.4},null,{"$f":"INDEX(Backbone!$K$1:$K$893,MATCH(I219,Backbone!$A$1:$A$893,0))","v":6.7},null,{"$f":"INDEX(Backbone!$L$2:$L$893,MATCH(I219,Backbone!$A$2:$A$893,0))","v":2},null,{"$f":"INDEX(Backbone!$M$2:$M$893,MATCH(I219,Backbone!$A$2:$A$893,0))","v":3.5},null,{"$f":"INDEX(Backbone!$N$2:$N$893,MATCH(I219,Backbone!$A$2:$A$893,0))","v":4},null,{"$f":"INDEX(Backbone!$O$2:$O$893,MATCH(I219,Backbone!$A$2:$A$893,0))","v":6.4},null,{"$f":"INDEX(Backbone!$P$2:$P$893,MATCH(I219,Backbone!$A$2:$A$893,0))","v":8},null,{"$f":"INDEX(Backbone!$Q$2:$Q$893,MATCH(I219,Backbone!$A$2:$A$893,0))","v":0.61555555555555552},null,null,{"$f":"(AG219*$AG$22+AI219*$AI$22+AK219*$AK$22+AM219*$AM$22+AO219*$AO$22+AQ219*$AQ$22+AS219*$AS$22+AU219*$AU$22+AW219*$AW$22)/(SUM($AG$22:$AW$22)*10)","v":{"$error":"#DIV/0!"}},null,null,"Aller à \nBoîte à outils: ",null,{"$f":"HYPERLINK(\"#\"&ADDRESS(MATCH(I219,Toolbox!$C$1:$C$300),1,,,\"Toolbox\"),VLOOKUP(I219,Toolbox!$C$1:$C$300,1,FALSE))","v":"Élaboration du plan stratégique «Une seule santé»"}]

{"sheet":"P4_tools","index":41,"n_rows":221,"n_cols":59,"rows_kept":221,"cut":false,"hidden":false,"merged":[[47,48,51,48],[47,50,51,51],[47,53,51,54],[47,56,51,57],[41,8,45,13],[41,15,45,22],[41,24,45,26],[41,28,45,30],[41,32,45,32],[41,34,45,34],[41,36,45,36],[41,38,45,38],[41,40,45,40],[41,42,45,42],[41,44,45,44],[41,46,45,46],[41,48,45,48],[41,50,45,51],[41,53,45,54],[77,42,81,42],[77,44,81,44],[77,46,81,46],[77,48,81,48],[77,50,81,51],[77,53,81,54],[77,56,81,57],[77,58,81,62],[53,8,57,13],[77,8,81,13],[77,15,81,22],[77,24,81,26],[77,28,81,30],[77,32,81,32],[77,34,81,34],[77,36,81,36],[77,38,81,38],[77,40,81,40],[53,15,57,22],[53,24,57,26],[53,28,57,30],[53,32,57,32],[53,34,57,34],[53,36,57,36],[53,38,57,38],[53,40,57,40],[29,42,33,42],[47,36,51,36],[47,38,51,38],[47,40,51,40],[47,42,51,42],[29,8,33,13],[29,15,33,22],[29,24,33,26],[29,28,33,30],[29,32,33,32],[29,34,33,34],[29,36,33,36],[29,38,33,38],[29,40,33,40],[47,8,51,13],[47,15,51,22],[47,24,51,26],[47,28,51,30],[47,32,51,32],[47,34,51,34],[119,56,123,57],[119,58,123,62],[47,58,51,62],[89,42,93,42],[89,44,93,44],[89,46,93,46],[89,48,93,48],[89,50,93,51],[89,53,93,54],[83,53,87,54],[71,53,75,54],[59,42,63,42],[59,44,63,44],[59,46,63,46],[59,48,63,48],[59,50,63,51],[59,53,63,54],[53,44,57,44],[53,46,57,46],[53,48,57,48],[53,50,57,51],[53,53,57,54],[53,56,57,57],[53,58,57,62],[207,53,211,54],[207,32,211,32],[207,34,211,34],[207,36,211,36],[207,38,211,38],[207,40,211,40],[207,42,211,42],[172,34,176,34],[191,44,205,44],[198,50,205,51],[191,42,205,42],[172,44,176,44],[172,46,176,46],[172,36,176,36],[172,38,176,38],[198,53,205,54],[172,48,176,48],[172,50,176,51],[172,53,176,54],[172,42,176,42],[172,40,176,40],[172,32,176,32],[157,50,164,51],[157,53,164,54],[150,38,164,38],[150,40,164,40],[150,42,164,42],[150,44,164,44],[150,46,164,46],[166,40,170,40],[166,42,170,42],[166,50,170,51],[166,53,170,54],[166,46,170,46],[166,48,170,48],[166,38,170,38],[166,44,170,44],[220,48,224,48],[220,36,224,36],[220,38,224,38],[220,40,224,40],[220,42,224,42],[220,44,224,44],[220,46,224,46],[202,8,205,13],[202,15,205,22],[202,24,205,26],[202,28,205,30],[191,32,205,32],[191,34,205,34],[191,36,205,36],[191,38,205,38],[191,40,205,40],[214,8,218,13],[214,15,218,22],[214,24,218,26],[214,28,218,30],[214,32,218,32],[191,46,205,46],[191,48,205,48],[214,46,218,46],[214,50,218,51],[214,53,218,54],[220,8,224,13],[214,42,218,42],[214,44,218,44],[207,8,211,13],[207,15,211,22],[207,24,211,26],[207,28,211,30],[220,50,224,51],[220,53,224,54],[220,28,224,30],[220,32,224,32],[220,34,224,34],[214,34,218,34],[214,36,218,36],[214,38,218,38],[214,40,218,40],[220,15,224,22],[220,24,224,26],[207,44,211,44],[207,46,211,46],[207,48,211,48],[207,50,211,51],[214,48,218,48],[161,8,164,13],[161,15,164,22],[161,24,164,26],[161,28,164,30],[150,32,164,32],[150,34,164,34],[150,36,164,36],[166,8,170,13],[166,15,170,22],[166,24,170,26],[166,28,170,30],[166,32,170,32],[166,34,170,34],[166,36,170,36],[172,8,176,13],[172,15,176,22],[172,24,176,26],[172,28,176,30],[150,48,164,48],[125,53,129,54],[125,40,129,40],[125,42,129,42],[125,44,129,44],[125,46,129,46],[125,48,129,48],[125,50,129,51],[107,50,111,51],[107,53,111,54],[107,40,111,40],[107,42,111,42],[107,44,111,44],[107,46,111,46],[107,48,111,48],[113,53,117,54],[119,42,123,42],[119,44,123,44],[119,46,123,46],[119,48,123,48],[119,50,123,51],[119,53,123,54],[119,40,123,40],[113,40,117,40],[113,42,117,42],[125,8,129,13],[125,15,129,22],[125,24,129,26],[125,28,129,30],[125,32,129,32],[125,34,129,34],[125,36,129,36],[125,38,129,38],[107,38,111,38],[119,8,123,13],[119,15,123,22],[119,24,123,26],[119,28,123,30],[119,32,123,32],[119,34,123,34],[119,36,123,36],[119,38,123,38],[113,36,117,36],[113,38,117,38],[101,53,105,54],[107,8,111,13],[107,15,111,22],[107,24,111,26],[107,28,111,30],[107,32,111,32],[107,34,111,34],[107,36,111,36],[101,36,105,36],[101,38,105,38],[101,40,105,40],[101,42,105,42],[101,44,105,44],[101,46,105,46],[101,8,105,13],[101,15,105,22],[101,24,105,26],[101,28,105,30],[101,32,105,32],[101,34,105,34],[89,8,93,13],[89,15,93,22],[89,24,93,26],[89,28,93,30],[89,32,93,32],[89,34,93,34],[89,36,93,36],[89,38,93,38],[89,40,93,40],[83,40,87,40],[83,42,87,42],[83,44,87,44],[83,46,87,46],[83,48,87,48],[83,50,87,51],[83,8,87,13],[83,15,87,22],[83,36,87,36],[83,38,87,38],[83,24,87,26],[83,28,87,30],[83,32,87,32],[83,34,87,34],[71,38,75,38],[65,48,69,48],[65,50,69,51],[65,53,69,54],[71,8,75,13],[71,15,75,22],[71,24,75,26],[71,28,75,30],[71,32,75,32],[71,34,75,34],[71,36,75,36],[65,36,69,36],[65,38,69,38],[65,40,69,40],[65,42,69,42],[65,44,69,44],[65,46,69,46],[65,8,69,13],[65,15,69,22],[65,24,69,26],[65,28,69,30],[65,32,69,32],[65,34,69,34],[71,50,75,51],[71,40,75,40],[71,42,75,42],[71,44,75,44],[71,46,75,46],[71,48,75,48],[35,46,39,46],[35,48,39,48],[35,50,39,51],[35,24,39,26],[35,28,39,30],[35,32,39,32],[35,34,39,34],[35,36,39,36],[35,38,39,38],[59,28,63,30],[59,32,63,32],[59,34,63,34],[59,36,63,36],[59,38,63,38],[59,40,63,40],[35,40,39,40],[35,42,39,42],[35,44,39,44],[53,42,57,42],[23,15,27,22],[23,24,27,26],[23,28,27,30],[23,32,27,32],[23,34,27,34],[23,36,27,36],[23,38,27,38],[23,40,27,40],[23,42,27,42],[59,8,63,13],[59,15,63,22],[59,24,63,26],[1,1,3,62],[23,56,27,57],[23,58,27,62],[35,56,39,57],[35,58,39,62],[59,56,63,57],[59,58,63,62],[17,3,20,6],[17,8,20,13],[17,15,20,22],[47,44,51,44],[17,24,20,26],[17,28,20,30],[23,8,27,13],[23,50,27,51],[23,53,27,54],[35,8,39,13],[35,15,39,22],[23,44,27,44],[23,46,27,46],[23,48,27,48],[65,56,69,57],[65,58,69,62],[6,32,20,32],[6,34,20,34],[6,36,20,36],[6,38,20,38],[6,40,20,40],[6,42,20,42],[6,44,20,44],[6,46,20,46],[6,48,20,48],[13,50,20,51],[13,53,20,54],[35,53,39,54],[29,44,33,44],[29,46,33,46],[29,48,33,48],[29,50,33,51],[29,53,33,54],[29,56,33,57],[29,58,33,62],[41,56,45,57],[41,58,45,62],[47,46,51,46],[71,56,75,57],[71,58,75,62],[83,56,87,57],[83,58,87,62],[89,56,93,57],[89,58,93,62],[101,56,105,57],[101,58,105,62],[107,56,111,57],[107,58,111,62],[220,56,224,57],[220,58,224,62],[125,56,129,57],[125,58,129,62],[166,56,170,57],[166,58,170,62],[172,56,176,57],[172,58,176,62],[207,56,211,57],[207,58,211,62],[214,56,218,57],[214,58,218,62],[113,44,117,44],[113,46,117,46],[113,48,117,48],[113,50,117,51],[95,8,99,13],[95,15,99,22],[95,24,99,26],[95,28,99,30],[95,32,99,32],[95,34,99,34],[95,36,99,36],[95,38,99,38],[95,40,99,40],[101,48,105,48],[101,50,105,51],[113,56,117,57],[113,58,117,62],[23,3,129,6],[17,1,131,1],[214,3,224,6],[207,3,211,6],[166,3,176,6],[161,1,184,1],[161,3,164,6],[202,1,228,1],[95,42,99,42],[95,44,99,44],[95,46,99,46],[95,48,99,48],[95,50,99,51],[95,53,99,54],[95,56,99,57],[95,58,99,62],[113,8,117,13],[113,15,117,22],[113,24,117,26],[113,28,117,30],[113,32,117,32],[113,34,117,34]]}
[]
[null,"Ressources pour les plans opérationnels au niveau national"]
[]
[]
[]
[]
[null,null,null,null,null,null,null,null,null,null,null,null,null,null,null,null,null,null,null,null,null,null,null,null,null,null,null,null,null,null,null,null,"Accessibilité",null,"Langue",null,"Facilité d'utilisation",null,"Flexibilité",null,"Besoins de données",null,"Analyse des données",null,"Acceptabilité",null,"«Une seule santé»",null,"Impact"]
[]
[]
[]
[]
[]
[]
[null,null,null,null,null,null,null,null,null,null,null,null,null,null,null,null,null,null,null,null,null,null,null,null,null,null,null,null,null,null,null,null,null,null,null,null,null,null,null,null,null,null,null,null,null,null,null,null,null,null,"SCORE BRUT",null,null,"SCORE AJUSTÉ \n(Selon les préférences de l'utilisateur)"]
[]
[]
[]
[null,"RESSOURCES DE NIVEAU 1",null,"DÉSIGNATION",null,null,null,null,"NOM DE LA RESSOURCE",null,null,null,null,null,null,"BRÈVE DESCRIPTION",null,null,null,null,null,null,null,null,"TYPE DE RESSOURCE",null,null,null,"CARACTÈRE GÉNÉRAL DE LA RESSOURCE"]
[]
[]
[]
[]
[null,null,null,null,null,null,null,null,null,null,null,null,null,null,null,null,null,null,null,null,null,null,null,null,null,null,null,null,null,null,null,null,{"$f":"'Attribute Survey'!S22","v":0},null,{"$f":"'Attribute Survey'!S26","v":0},null,{"$f":"'Attribute Survey'!S30","v":0},null,{"$f":"'Attribute Survey'!S34","v":0},null,{"$f":"'Attribute Survey'!S38","v":0},null,{"$f":"'Attribute Survey'!S42","v":0},null,{"$f":"'Attribute Survey'!S46","v":0},null,{"$f":"'Attribute Survey'!S50","v":0},null,{"$f":"'Attribute Survey'!S54","v":0}]
[null,null,null,"Autres ressources intéressantes",null,null,null,null,{"$f":"Backbone!A2","v":"Cadre de surveillance basé sur les événements des CDC en Afrique"},null,null,null,null,null,null,"Des orientations à l'attention des professionnels de la santé publique qui cherchent à mettre en œuvre la surveillance basée sur les événements à tous les échelons administratifs de leur pays.",null,null,null,null,null,null,null,null,{"$f":"INDEX(Backbone!$R$2:$R$893,MATCH(I24,Backbone!$A$2:$A$893,0))","v":"Document d'orientation"},null,null,null,{"$f":"INDEX(Backbone!$S$2:$S$893,MATCH(I24,Backbone!$A$2:$A$893,0))","v":"«Une seule santé»; Généralisée "},null,null,null,{"$f":"INDEX(Backbone!$H$2:$H$893,MATCH(I24,Backbone!$A$2:$A$893,0))","v":8},null,{"$f":"INDEX(Backbone!$I$2:$I$893,MATCH(I24,Backbone!$A$2:$A$893,0))","v":6},null,{"$f":"INDEX(Backbone!$J$2:$J$893,MATCH(I24,Backbone!$A$2:$A$893,0))","v":8.1999999999999993},null,{"$f":"INDEX(Backbone!$K$1:$K$893,MATCH(I24,Backbone!$A$1:$A$893,0))","v":8.3000000000000007},null,{"$f":"INDEX(Backbone!$L$2:$L$893,MATCH(I24,Backbone!$A$2:$A$893,0))","v":6.1},null,{"$f":"INDEX(Backbone!$M$2:$M$893,MATCH(I24,Backbone!$A$2:$A$893,0))","v":3.5},null,{"$f":"INDEX(Backbone!$N$2:$N$893,MATCH(I24,Backbone!$A$2:$A$893,0))","v":4},null,{"$f":"INDEX(Backbone!$O$2:$O$893,MATCH(I24,Backbone!$A$2:$A$893,0))","v":7},null,{"$f":"INDEX(Backbone!$P$2:$P$893,MATCH(I24,Backbone!$A$2:$A$893,0))","v":6},null,{"$f":"INDEX(Backbone!$Q$2:$Q$893,MATCH(I24,Backbone!$A$2:$A$893,0))","v":0.63222222222222224},null,null,{"$f":"(AG24*$AG$23+AI24*$AI$23+AK24*$AK$23+AM24*$AM$23+AO24*$AO$23+AQ24*$AQ$23+AS24*$AS$23+AU24*$AU$23+AW24*$AW$23)/(SUM($AG$23:$AW$23)*10)","v":{"$error":"#DIV/0!"}},null,null,"Aller à \nBoîte à outils: ",null,{"$f":"HYPERLINK(\"#\"&ADDRESS(MATCH(I24,Toolbox!$C$1:$C$300),1,,,\"Toolbox\"),VLOOKUP(I24,Toolbox!$C$1:$C$300,1,FALSE))","v":"Cadre de surveillance basé sur les événements des CDC en Afrique"}]
[]
[]
[]
[]
[]
[null,null,null,null,null,null,null,null,{"$f":"Backbone!A51","v":"Guide de discussion sur les capacités sanitaires aux frontières (BHCDG)"},null,null,null,null,null,null,"Outils de modèles pour faciliter les discussions avec les représentants au niveau national, des districts et des points de passage frontalier terrestres sur les systèmes de santé aux frontières. ",null,null,null,null,null,null,null,null,{"$f":"INDEX(Backbone!$R$2:$R$893,MATCH(I30,Backbone!$A$2:$A$893,0))","v":"Document d'orientation"},null,null,null,{"$f":"INDEX(Backbone!$S$2:$S$893,MATCH(I30,Backbone!$A$2:$A$893,0))","v":"«Une seule santé»; spécifique d'une maladie/menace "},null,null,null,{"$f":"INDEX(Backbone!$H$2:$H$893,MATCH(I30,Backbone!$A$2:$A$893,0))","v":8.8000000000000007},null,{"$f":"INDEX(Backbone!$I$2:$I$893,MATCH(I30,Backbone!$A$2:$A$893,0))","v":6.7},null,{"$f":"INDEX(Backbone!$J$2:$J$893,MATCH(I30,Backbone!$A$2:$A$893,0))","v":7.6},null,{"$f":"INDEX(Backbone!$K$1:$K$893,MATCH(I30,Backbone!$A$1:$A$893,0))","v":9},null,{"$f":"INDEX(Backbone!$L$2:$L$893,MATCH(I30,Backbone!$A$2:$A$893,0))","v":7},null,{"$f":"INDEX(Backbone!$M$2:$M$893,MATCH(I30,Backbone!$A$2:$A$893,0))","v":3.8},null,{"$f":"INDEX(Backbone!$N$2:$N$893,MATCH(I30,Backbone!$A$2:$A$893,0))","v":8},null,{"$f":"INDEX(Backbone!$O$2:$O$893,MATCH(I30,Backbone!$A$2:$A$893,0))","v":8.4},null,{"$f":"INDEX(Backbone!$P$2:$P$893,MATCH(I30,Backbone!$A$2:$A$893,0))","v":6},null,{"$f":"INDEX(Backbone!$Q$2:$Q$893,MATCH(I30,Backbone!$A$2:$A$893,0))","v":0.72555555555555551},null,null,{"$f":"(AG30*$AG$23+AI30*$AI$23+AK30*$AK$23+AM30*$AM$23+AO30*$AO$23+AQ30*$AQ$23+AS30*$AS$23+AU30*$AU$23+AW30*$AW$23)/(SUM($AG$23:$AW$23)*10)","v":{"$error":"#DIV/0!"}},null,null,"Aller à \nBoîte à outils: ",null,{"$f":"HYPERLINK(\"#\"&ADDRESS(MATCH(I30,Toolbox!$C$1:$C$300),1,,,\"Toolbox\"),VLOOKUP(I30,Toolbox!$C$1:$C$300,1,FALSE))","v":"Guide de discussion sur les capacités sanitaires aux frontières (BHCDG)"}]
[]
[]
[]
[]
[]
[null,null,null,null,null,null,null,null,{"$f":"Backbone!A83","v":"Évaluation ECDC des systèmes de suivi et de surveillance de la qualité des données - Manuel des méthodes et des applications "},null,null,null,null,null,null,"Un manuel pour le suivi de la qualité des données de surveillance des maladies à l'attention des professionnels de la santé publique.",null,null,null,null,null,null,null,null,{"$f":"INDEX(Backbone!$R$2:$R$893,MATCH(I36,Backbone!$A$2:$A$893,0))","v":"Document d'orientation"},null,null,null,{"$f":"INDEX(Backbone!$S$2:$S$893,MATCH(I36,Backbone!$A$2:$A$893,0))","v":"Spécifique du secteur; Généralisée"},null,null,null,{"$f":"INDEX(Backbone!$H$2:$H$893,MATCH(I36,Backbone!$A$2:$A$893,0))","v":8.1999999999999993},null,{"$f":"INDEX(Backbone!$I$2:$I$893,MATCH(I36,Backbone!$A$2:$A$893,0))","v":6},null,{"$f":"INDEX(Backbone!$J$2:$J$893,MATCH(I36,Backbone!$A$2:$A$893,0))","v":6.4},null,{"$f":"INDEX(Backbone!$K$1:$K$893,MATCH(I36,Backbone!$A$1:$A$893,0))","v":7.3},null,{"$f":"INDEX(Backbone!$L$2:$L$893,MATCH(I36,Backbone!$A$2:$A$893,0))","v":7.7},null,{"$f":"INDEX(Backbone!$M$2:$M$893,MATCH(I36,Backbone!$A$2:$A$893,0))","v":4.5},null,{"$f":"INDEX(Backbone!$N$2:$N$893,MATCH(I36,Backbone!$A$2:$A$893,0))","v":5.3},null,{"$f":"INDEX(Backbone!$O$2:$O$893,MATCH(I36,Backbone!$A$2:$A$893,0))","v":6.2},null,{"$f":"INDEX(Backbone!$P$2:$P$893,MATCH(I36,Backbone!$A$2:$A$893,0))","v":8},null,{"$f":"INDEX(Backbone!$Q$2:$Q$893,MATCH(I36,Backbone!$A$2:$A$893,0))","v":0.66222222222222227},null,null,{"$f":"(AG36*$AG$23+AI36*$AI$23+AK36*$AK$23+AM36*$AM$23+AO36*$AO$23+AQ36*$AQ$23+AS36*$AS$23+AU36*$AU$23+AW36*$AW$23)/(SUM($AG$23:$AW$23)*10)","v":{"$error":"#DIV/0!"}},null,null,"Aller à \nBoîte à outils: ",null,{"$f":"HYPERLINK(\"#\"&ADDRESS(MATCH(I36,Toolbox!$C$1:$C$300),1,,,\"Toolbox\"),VLOOKUP(I36,Toolbox!$C$1:$C$300,1,FALSE))","v":"Évaluation ECDC des systèmes de suivi et de surveillance de la qualité des données - Manuel des méthodes et des applications "}]
[]
[]
[]
[]
[]
[null,null,null,null,null,null,null,null,{"$f":"Backbone!A174","v":"Outil de cartographie épidémiologique (EMT)"},null,null,null,null,null,null,"Outil basé sur Excel destiné à évaluer les capacités épidémiologiques nationales des services vétérinaires.",null,null,null,null,null,null,null,null,{"$f":"INDEX(Backbone!$R$2:$R$893,MATCH(I42,Backbone!$A$2:$A$893,0))","v":"Outil ou processus dirigé/facilité"},null,null,null,{"$f":"INDEX(Backbone!$S$2:$S$893,MATCH(I42,Backbone!$A$2:$A$893,0))","v":"Spécifique du secteur; Généralisée"},null,null,null,{"$f":"INDEX(Backbone!$H$2:$H$893,MATCH(I42,Backbone!$A$2:$A$893,0))","v":6.6},null,{"$f":"INDEX(Backbone!$I$2:$I$893,MATCH(I42,Backbone!$A$2:$A$893,0))","v":8},null,{"$f":"INDEX(Backbone!$J$2:$J$893,MATCH(I42,Backbone!$A$2:$A$893,0))","v":7.4},null,{"$f":"INDEX(Backbone!$K$2:$K$893,MATCH(I42,Backbone!$A$2:$A$893,0))","v":7.3},null,{"$f":"INDEX(Backbone!$L$2:$L$893,MATCH(I42,Backbone!$A$2:$A$893,0))","v":6.9},null,{"$f":"INDEX(Backbone!$M$2:$M$893,MATCH(I42,Backbone!$A$2:$A$893,0))","v":5},null,{"$f":"INDEX(Backbone!$N$2:$N$893,MATCH(I42,Backbone!$A$2:$A$893,0))","v":3.5},null,{"$f":"INDEX(Backbone!$O$2:$O$893,MATCH(I42,Backbone!$A$2:$A$893,0))","v":6.8},null,{"$f":"INDEX(Backbone!$P$2:$P$893,MATCH(I42,Backbone!$A$2:$A$893,0))","v":5.5},null,{"$f":"INDEX(Backbone!$Q$2:$Q$893,MATCH(I42,Backbone!$A$2:$A$893,0))","v":0.6333333333333333},null,null,{"$f":"(AG42*$AG$23+AI42*$AI$23+AK42*$AK$23+AM42*$AM$23+AO42*$AO$23+AQ42*$AQ$23+AS42*$AS$23+AU42*$AU$23+AW42*$AW$23)/(SUM($AG$23:$AW$23)*10)","v":{"$error":"#DIV/0!"}},null,null,"Aller à \nBoîte à outils: ",null,{"$f":"HYPERLINK(\"#\"&ADDRESS(MATCH(I42,Toolbox!$C$1:$C$300),1,,,\"Toolbox\"),VLOOKUP(I42,Toolbox!$C$1:$C$300,1,FALSE))","v":"Outil de cartographie épidémiologique (EMT)"}]
[]
[]
[]
[]
[]
[null,null,null,null,null,null,null,null,{"$f":"Backbone!A100","v":"Évaluation des collaborations au sein d'un système de surveillance multisectoriel (EcoSur)"},null,null,null,null,null,null,"Un outil dont l'objectif est d'évaluer l'organisation et le fonctionnement de la collaboration au sein d'un système de surveillance multisectoriel, ainsi que d'analyser les points forts et les points faibles de cette collaboration.",null,null,null,null,null,null,null,null,{"$f":"INDEX(Backbone!$R$2:$R$893,MATCH(I48,Backbone!$A$2:$A$893,0))","v":"Outil ou processus dirigé/facilité"},null,null,null,{"$f":"INDEX(Backbone!$S$2:$S$893,MATCH(I48,Backbone!$A$2:$A$893,0))","v":"«Une seule santé»; Généralisée"},null,null,null,{"$f":"INDEX(Backbone!$H$2:$H$893,MATCH(I48,Backbone!$A$2:$A$893,0))","v":8.3000000000000007},null,{"$f":"INDEX(Backbone!$I$2:$I$893,MATCH(I48,Backbone!$A$2:$A$893,0))","v":6},null,{"$f":"INDEX(Backbone!$J$2:$J$893,MATCH(I48,Backbone!$A$2:$A$893,0))","v":8.5},null,{"$f":"INDEX(Backbone!$K$1:$K$893,MATCH(I48,Backbone!$A$1:$A$893,0))","v":7.8},null,{"$f":"INDEX(Backbone!$L$2:$L$893,MATCH(I48,Backbone!$A$2:$A$893,0))","v":8.3000000000000007},null,{"$f":"INDEX(Backbone!$M$2:$M$893,MATCH(I48,Backbone!$A$2:$A$893,0))","v":6.7},null,{"$f":"INDEX(Backbone!$N$2:$N$893,MATCH(I48,Backbone!$A$2:$A$893,0))","v":3.3},null,{"$f":"INDEX(Backbone!$O$2:$O$893,MATCH(I48,Backbone!$A$2:$A$893,0))","v":9.1},null,{"$f":"INDEX(Backbone!$P$2:$P$893,MATCH(I48,Backbone!$A$2:$A$893,0))","v":4.7},null,{"$f":"INDEX(Backbone!$Q$2:$Q$893,MATCH(I48,Backbone!$A$2:$A$893,0))","v":0.69666666666666677},null,null,{"$f":"(AG48*$AG$23+AI48*$AI$23+AK48*$AK$23+AM48*$AM$23+AO48*$AO$23+AQ48*$AQ$23+AS48*$AS$23+AU48*$AU$23+AW48*$AW$23)/(SUM($AG$23:$AW$23)*10)","v":{"$error":"#DIV/0!"}},null,null,"Aller à \nBoîte à outils: ",null,{"$f":"HYPERLINK(\"#\"&ADDRESS(MATCH(I48,Toolbox!$C$1:$C$300),1,,,\"Toolbox\"),VLOOKUP(I48,Toolbox!$C$1:$C$300,1,FALSE))","v":"Évaluation des collaborations au sein d'un système de surveillance multisectoriel (EcoSur)"}]
[]
[]
[]
[]
[]
[null,null,null,null,null,null,null,null,{"$f":"Backbone!A517","v":"Outil d'évaluation de la surveillance (SET) de la FAO"},null,null,null,null,null,null,"Il évalue les systèmes nationaux de surveillance des zoonoses en employant une méthodologie exhaustive et reproductible.",null,null,null,null,null,null,null,null,{"$f":"INDEX(Backbone!$R$2:$R$893,MATCH(I54,Backbone!$A$2:$A$893,0))","v":"Outil ou processus dirigé/facilité"},null,null,null,{"$f":"INDEX(Backbone!$S$2:$S$893,MATCH(I54,Backbone!$A$2:$A$893,0))","v":"Spécifique du secteur; Généralisée"},null,null,null,{"$f":"INDEX(Backbone!$H$2:$H$893,MATCH(I54,Backbone!$A$2:$A$893,0))","v":8.1999999999999993},null,{"$f":"INDEX(Backbone!$I$2:$I$893,MATCH(I54,Backbone!$A$2:$A$893,0))","v":8.3000000000000007},null,{"$f":"INDEX(Backbone!$J$2:$J$893,MATCH(I54,Backbone!$A$2:$A$893,0))","v":7},null,{"$f":"INDEX(Backbone!$K$1:$K$893,MATCH(I54,Backbone!$A$1:$A$893,0))","v":7.7},null,{"$f":"INDEX(Backbone!$L$2:$L$893,MATCH(I54,Backbone!$A$2:$A$893,0))","v":6.7},null,{"$f":"INDEX(Backbone!$M$2:$M$893,MATCH(I54,Backbone!$A$2:$A$893,0))","v":6.3},null,{"$f":"INDEX(Backbone!$N$2:$N$893,MATCH(I54,Backbone!$A$2:$A$893,0))","v":8},null,{"$f":"INDEX(Backbone!$O$2:$O$893,MATCH(I54,Backbone!$A$2:$A$893,0))","v":6.8},null,{"$f":"INDEX(Backbone!$P$2:$P$893,MATCH(I54,Backbone!$A$2:$A$893,0))","v":8.5},null,{"$f":"INDEX(Backbone!$Q$2:$Q$893,MATCH(I54,Backbone!$A$2:$A$893,0))","v":0.75},null,null,{"$f":"(AG54*$AG$23+AI54*$AI$23+AK54*$AK$23+AM54*$AM$23+AO54*$AO$23+AQ54*$AQ$23+AS54*$AS$23+AU54*$AU$23+AW54*$AW$23)/(SUM($AG$23:$AW$23)*10)","v":{"$error":"#DIV/0!"}},null,null,"Aller à \nBoîte à outils: ",null,{"$f":"HYPERLINK(\"#\"&ADDRESS(MATCH(I54,Toolbox!$C$1:$C$300),1,,,\"Toolbox\"),VLOOKUP(I54,Toolbox!$C$1:$C$300,1,FALSE))","v":"Outil d'évaluation de la surveillance (SET) de la FAO"}]
[]
[]
[]
[]
[]
[null,null,null,null,null,null,null,null,{"$f":"Backbone!A33","v":"Cadre pour le renforcement de la prévention et du contrôle de l'anthrax "},null,null,null,null,null,null,"Le Cadre présente un historique de la maladie du charbon et explique comment améliorer la prévention et le contrôle de cette maladie chez les animaux et les humains.",null,null,null,null,null,null,null,null,{"$f":"INDEX(Backbone!$R$2:$R$893,MATCH(I60,Backbone!$A$2:$A$893,0))","v":"Document d'orientation"},null,null,null,{"$f":"INDEX(Backbone!$S$2:$S$893,MATCH(I60,Backbone!$A$2:$A$893,0))","v":"«Une seule santé»; spécifique d'une maladie/menace "},null,null,null,{"$f":"INDEX(Backbone!$H$2:$H$893,MATCH(I60,Backbone!$A$2:$A$893,0))","v":9.1},null,{"$f":"INDEX(Backbone!$I$2:$I$893,MATCH(I60,Backbone!$A$2:$A$893,0))","v":10},null,{"$f":"INDEX(Backbone!$J$2:$J$893,MATCH(I60,Backbone!$A$2:$A$893,0))","v":8.6},null,{"$f":"INDEX(Backbone!$K$1:$K$893,MATCH(I60,Backbone!$A$1:$A$893,0))","v":4.7},null,{"$f":"INDEX(Backbone!$L$2:$L$893,MATCH(I60,Backbone!$A$2:$A$893,0))","v":9.1999999999999993},null,{"$f":"INDEX(Backbone!$M$2:$M$893,MATCH(I60,Backbone!$A$2:$A$893,0))","v":2},null,{"$f":"INDEX(Backbone!$N$2:$N$893,MATCH(I60,Backbone!$A$2:$A$893,0))","v":6.3},null,{"$f":"INDEX(Backbone!$O$2:$O$893,MATCH(I60,Backbone!$A$2:$A$893,0))","v":4.3},null,{"$f":"INDEX(Backbone!$P$2:$P$893,MATCH(I60,Backbone!$A$2:$A$893,0))","v":6},null,{"$f":"INDEX(Backbone!$Q$2:$Q$893,MATCH(I60,Backbone!$A$2:$A$893,0))","v":0.66888888888888887},null,null,{"$f":"(AG60*$AG$23+AI60*$AI$23+AK60*$AK$23+AM60*$AM$23+AO60*$AO$23+AQ60*$AQ$23+AS60*$AS$23+AU60*$AU$23+AW60*$AW$23)/(SUM($AG$23:$AW$23)*10)","v":{"$error":"#DIV/0!"}},null,null,"Aller à \nBoîte à outils: ",null,{"$f":"HYPERLINK(\"#\"&ADDRESS(MATCH(I60,Toolbox!$C$1:$C$300),1,,,\"Toolbox\"),VLOOKUP(I60,Toolbox!$C$1:$C$300,1,FALSE))","v":"Cadre pour le renforcement de la prévention et du contrôle de l'anthrax "}]
[]
[]
[]
[]
[]
[null,null,null,null,null,null,null,null,{"$f":"Backbone!A176","v":"Directives pour la conception\nde plans de surveillance\ndes maladies animales\n"},null,null,null,null,null,null,"Le modèle général et le cadre du plan de surveillance des maladies infectieuses.",null,null,null,null,null,null,null,null,{"$f":"INDEX(Backbone!$R$2:$R$893,MATCH(I66,Backbone!$A$2:$A$893,0))","v":"Modèle"},null,null,null,{"$f":"INDEX(Backbone!$S$2:$S$893,MATCH(I66,Backbone!$A$2:$A$893,0))","v":"Spécifique du secteur; Généralisée"},null,null,null,{"$f":"INDEX(Backbone!$H$2:$H$893,MATCH(I66,Backbone!$A$2:$A$893,0))","v":9.1999999999999993},null,{"$f":"INDEX(Backbone!$I$2:$I$893,MATCH(I66,Backbone!$A$2:$A$893,0))","v":10},null,{"$f":"INDEX(Backbone!$J$2:$J$893,MATCH(I66,Backbone!$A$2:$A$893,0))","v":7.5},null,{"$f":"INDEX(Backbone!$K$1:$K$893,MATCH(I66,Backbone!$A$1:$A$893,0))","v":8.6999999999999993},null,{"$f":"INDEX(Backbone!$L$2:$L$893,MATCH(I66,Backbone!$A$2:$A$893,0))","v":5.7},null,{"$f":"INDEX(Backbone!$M$2:$M$893,MATCH(I66,Backbone!$A$2:$A$893,0))","v":2.5},null,{"$f":"INDEX(Backbone!$N$2:$N$893,MATCH(I66,Backbone!$A$2:$A$893,0))","v":3.3},null,{"$f":"INDEX(Backbone!$O$2:$O$893,MATCH(I66,Backbone!$A$2:$A$893,0))","v":5.0999999999999996},null,{"$f":"INDEX(Backbone!$P$2:$P$893,MATCH(I66,Backbone!$A$2:$A$893,0))","v":4},null,{"$f":"INDEX(Backbone!$Q$2:$Q$893,MATCH(I66,Backbone!$A$2:$A$893,0))","v":0.62222222222222223},null,null,{"$f":"(AG66*$AG$23+AI66*$AI$23+AK66*$AK$23+AM66*$AM$23+AO66*$AO$23+AQ66*$AQ$23+AS66*$AS$23+AU66*$AU$23+AW66*$AW$23)/(SUM($AG$23:$AW$23)*10)","v":{"$error":"#DIV/0!"}},null,null,"Aller à \nBoîte à outils: ",null,{"$f":"HYPERLINK(\"#\"&ADDRESS(MATCH(I66,Toolbox!$C$1:$C$300),1,,,\"Toolbox\"),VLOOKUP(I66,Toolbox!$C$1:$C$300,1,FALSE))","v":"Directives pour la conception\nde plans de surveillance\ndes maladies animales\n"}]
[]
[]
[]
[]
[]
[null,null,null,null,null,null,null,null,{"$f":"Backbone!A239","v":"Atelier national de rapprochement et d'échange RSI-PVS"},null,null,null,null,null,null,"Un atelier dans lequel les parties prenantes de l'initiative «Une seule santé» explorent les éventuelles zones de chevauchement dans les cadres de capacité de l'OMSA (PVS) et du RSI (Cadre de suivi et d'évaluation du RSI) et mettent en place, le cas échéant, des passerelles appropriées pour faciliter la coordination entre les secteurs.  ",null,null,null,null,null,null,null,null,{"$f":"INDEX(Backbone!$R$2:$R$893,MATCH(I72,Backbone!$A$2:$A$893,0))","v":"Outil ou processus dirigé/facilité"},null,null,null,{"$f":"INDEX(Backbone!$S$2:$S$893,MATCH(I72,Backbone!$A$2:$A$893,0))","v":"«Une seule santé»; Généralisée"},null,null,null,{"$f":"INDEX(Backbone!$H$2:$H$893,MATCH(I72,Backbone!$A$2:$A$893,0))","v":8.6},null,{"$f":"INDEX(Backbone!$I$2:$I$893,MATCH(I72,Backbone!$A$2:$A$893,0))","v":10},null,{"$f":"INDEX(Backbone!$J$2:$J$893,MATCH(I72,Backbone!$A$2:$A$893,0))","v":6.2},null,{"$f":"INDEX(Backbone!$K$1:$K$893,MATCH(I72,Backbone!$A$1:$A$893,0))","v":10},null,{"$f":"INDEX(Backbone!$L$2:$L$893,MATCH(I72,Backbone!$A$2:$A$893,0))","v":6},null,{"$f":"INDEX(Backbone!$M$2:$M$893,MATCH(I72,Backbone!$A$2:$A$893,0))","v":7},null,{"$f":"INDEX(Backbone!$N$2:$N$893,MATCH(I72,Backbone!$A$2:$A$893,0))","v":9},null,{"$f":"INDEX(Backbone!$O$2:$O$893,MATCH(I72,Backbone!$A$2:$A$893,0))","v":8.1999999999999993},null,{"$f":"INDEX(Backbone!$P$2:$P$893,MATCH(I72,Backbone!$A$2:$A$893,0))","v":10},null,{"$f":"INDEX(Backbone!$Q$2:$Q$893,MATCH(I72,Backbone!$A$2:$A$893,0))","v":0.83333333333333337},null,null,{"$f":"(AG72*$AG$23+AI72*$AI$23+AK72*$AK$23+AM72*$AM$23+AO72*$AO$23+AQ72*$AQ$23+AS72*$AS$23+AU72*$AU$23+AW72*$AW$23)/(SUM($AG$23:$AW$23)*10)","v":{"$error":"#DIV/0!"}},null,null,"Aller à \nBoîte à outils: ",null,{"$f":"HYPERLINK(\"#\"&ADDRESS(MATCH(I72,Toolbox!$C$1:$C$300),1,,,\"Toolbox\"),VLOOKUP(I72,Toolbox!$C$1:$C$300,1,FALSE))","v":"Atelier national de rapprochement et d'échange RSI-PVS"}]
[]
[]
[]
[]
[]
[null,null,null,null,null,null,null,null,{"$f":"Backbone!A195","v":"Surveillance intégrée de la maladie et la riposte (IDSR)"},null,null,null,null,null,null,"Une stratégie visant à renforcer les capacités pour la détection, la confirmation et la réponse aux cas suspects et à l'apparition de foyers épidémiques, ainsi que pour l'utilisation des informations afin de prédire et de planifier les événements de santé publique.",null,null,null,null,null,null,null,null,{"$f":"INDEX(Backbone!$R$2:$R$893,MATCH(I78,Backbone!$A$2:$A$893,0))","v":"Document d'orientation"},null,null,null,{"$f":"INDEX(Backbone!$S$2:$S$893,MATCH(I78,Backbone!$A$2:$A$893,0))","v":"Spécifique du secteur; Généralisée"},null,null,null,{"$f":"INDEX(Backbone!$H$2:$H$893,MATCH(I78,Backbone!$A$2:$A$893,0))","v":7.4},null,{"$f":"INDEX(Backbone!$I$2:$I$893,MATCH(I78,Backbone!$A$2:$A$893,0))","v":10},null,{"$f":"INDEX(Backbone!$J$2:$J$893,MATCH(I78,Backbone!$A$2:$A$893,0))","v":7.4},null,{"$f":"INDEX(Backbone!$K$2:$K$893,MATCH(I78,Backbone!$A$2:$A$893,0))","v":8.6999999999999993},null,{"$f":"INDEX(Backbone!$L$2:$L$893,MATCH(I78,Backbone!$A$2:$A$893,0))","v":6.7},null,{"$f":"INDEX(Backbone!$M$2:$M$893,MATCH(I78,Backbone!$A$2:$A$893,0))","v":4.5},null,{"$f":"INDEX(Backbone!$N$2:$N$893,MATCH(I78,Backbone!$A$2:$A$893,0))","v":8},null,{"$f":"INDEX(Backbone!$O$2:$O$893,MATCH(I78,Backbone!$A$2:$A$893,0))","v":7.2},null,{"$f":"INDEX(Backbone!$P$2:$P$893,MATCH(I78,Backbone!$A$2:$A$893,0))","v":8.5},null,{"$f":"INDEX(Backbone!$Q$2:$Q$893,MATCH(I78,Backbone!$A$2:$A$893,0))","v":0.76},null,null,{"$f":"(AG78*$AG$23+AI78*$AI$23+AK78*$AK$23+AM78*$AM$23+AO78*$AO$23+AQ78*$AQ$23+AS78*$AS$23+AU78*$AU$23+AW78*$AW$23)/(SUM($AG$23:$AW$23)*10)","v":{"$error":"#DIV/0!"}},null,null,"Aller à \nBoîte à outils: ",null,{"$f":"HYPERLINK(\"#\"&ADDRESS(MATCH(I78,Toolbox!$C$1:$C$300),1,,,\"Toolbox\"),VLOOKUP(I78,Toolbox!$C$1:$C$300,1,FALSE))","v":"Surveillance intégrée de la maladie et la riposte (IDSR)"}]
[]
[]
[]
[]
[]
[null,null,null,null,null,null,null,null,{"$f":"Backbone!A291","v":"Méthodologie d'analyse de la législation relative à la RAM dans le secteur de l'alimentation et de l'agriculture"},null,null,null,null,null,null,"Une méthodologie conçue pour orienter les analyses de la législation nationale en matière de RAM dans les secteurs de l'alimentation et de l'agriculture.",null,null,null,null,null,null,null,null,{"$f":"INDEX(Backbone!$R$2:$R$893,MATCH(I84,Backbone!$A$2:$A$893,0))","v":"Document d'orientation"},null,null,null,{"$f":"INDEX(Backbone!$S$2:$S$893,MATCH(I84,Backbone!$A$2:$A$893,0))","v":"«Une seule santé»; Généralisée"},null,null,null,{"$f":"INDEX(Backbone!$H$2:$H$893,MATCH(I84,Backbone!$A$2:$A$893,0))","v":7.4},null,{"$f":"INDEX(Backbone!$I$2:$I$893,MATCH(I84,Backbone!$A$2:$A$893,0))","v":5.5},null,{"$f":"INDEX(Backbone!$J$2:$J$893,MATCH(I84,Backbone!$A$2:$A$893,0))","v":7.6},null,{"$f":"INDEX(Backbone!$K$1:$K$893,MATCH(I84,Backbone!$A$1:$A$893,0))","v":4},null,{"$f":"INDEX(Backbone!$L$2:$L$893,MATCH(I84,Backbone!$A$2:$A$893,0))","v":8.1999999999999993},null,{"$f":"INDEX(Backbone!$M$2:$M$893,MATCH(I84,Backbone!$A$2:$A$893,0))","v":4.5},null,{"$f":"INDEX(Backbone!$N$2:$N$893,MATCH(I84,Backbone!$A$2:$A$893,0))","v":4.5},null,{"$f":"INDEX(Backbone!$O$2:$O$893,MATCH(I84,Backbone!$A$2:$A$893,0))","v":6.6},null,{"$f":"INDEX(Backbone!$P$2:$P$893,MATCH(I84,Backbone!$A$2:$A$893,0))","v":4.5},null,{"$f":"INDEX(Backbone!$Q$2:$Q$893,MATCH(I84,Backbone!$A$2:$A$893,0))","v":0.58666666666666667},null,null,{"$f":"(AG84*$AG$23+AI84*$AI$23+AK84*$AK$23+AM84*$AM$23+AO84*$AO$23+AQ84*$AQ$23+AS84*$AS$23+AU84*$AU$23+AW84*$AW$23)/(SUM($AG$23:$AW$23)*10)","v":{"$error":"#DIV/0!"}},null,null,"Aller à \nBoîte à outils: ",null,{"$f":"HYPERLINK(\"#\"&ADDRESS(MATCH(I84,Toolbox!$C$1:$C$300),1,,,\"Toolbox\"),VLOOKUP(I84,Toolbox!$C$1:$C$300,1,FALSE))","v":"Méthodologie d'analyse de la législation relative à la RAM dans le secteur de l'alimentation et de l'agriculture"}]
[]
[]
[]
[]
[]
[null,null,null,null,null,null,null,null,{"$f":"Backbone!A303","v":"Plan d'action national pour la sécurité sanitaire (PANSS)"},null,null,null,null,null,null,"Un processus de planification mené par le pays lui-même, capable d'accélérer la mise en œuvre des capacités essentielles du Règlement sanitaire international (RSI) et fondé sur l'approche «Une seule santé» et «à l'échelle de l'ensemble de l'administration» pour tous les risques.",null,null,null,null,null,null,null,null,{"$f":"INDEX(Backbone!$R$2:$R$893,MATCH(I90,Backbone!$A$2:$A$893,0))","v":"Document d'orientation"},null,null,null,{"$f":"INDEX(Backbone!$S$2:$S$893,MATCH(I90,Backbone!$A$2:$A$893,0))","v":"«Une seule santé»; Généralisée"},null,null,null,{"$f":"INDEX(Backbone!$H$2:$H$893,MATCH(I90,Backbone!$A$2:$A$893,0))","v":8},null,{"$f":"INDEX(Backbone!$I$2:$I$893,MATCH(I90,Backbone!$A$2:$A$893,0))","v":9},null,{"$f":"INDEX(Backbone!$J$2:$J$893,MATCH(I90,Backbone!$A$2:$A$893,0))","v":7.8},null,{"$f":"INDEX(Backbone!$K$1:$K$893,MATCH(I90,Backbone!$A$1:$A$893,0))","v":10},null,{"$f":"INDEX(Backbone!$L$2:$L$893,MATCH(I90,Backbone!$A$2:$A$893,0))","v":8},null,{"$f":"INDEX(Backbone!$M$2:$M$893,MATCH(I90,Backbone!$A$2:$A$893,0))","v":4.5},null,{"$f":"INDEX(Backbone!$N$2:$N$893,MATCH(I90,Backbone!$A$2:$A$893,0))","v":10},null,{"$f":"INDEX(Backbone!$O$2:$O$893,MATCH(I90,Backbone!$A$2:$A$893,0))","v":10},null,{"$f":"INDEX(Backbone!$P$2:$P$893,MATCH(I90,Backbone!$A$2:$A$893,0))","v":10},null,{"$f":"INDEX(Backbone!$Q$2:$Q$893,MATCH(I90,Backbone!$A$2:$A$893,0))","v":0.85888888888888881},null,null,{"$f":"(AG90*$AG$23+AI90*$AI$23+AK90*$AK$23+AM90*$AM$23+AO90*$AO$23+AQ90*$AQ$23+AS90*$AS$23+AU90*$AU$23+AW90*$AW$23)/(SUM($AG$23:$AW$23)*10)","v":{"$error":"#DIV/0!"}},null,null,"Aller à \nBoîte à outils: ",null,{"$f":"HYPERLINK(\"#\"&ADDRESS(MATCH(I90,Toolbox!$C$1:$C$300),1,,,\"Toolbox\"),VLOOKUP(I90,Toolbox!$C$1:$C$300,1,FALSE))","v":"Plan d'action national pour la sécurité sanitaire (PANSS)"}]
[]
[]
[]
[]
[]
[null,null,null,null,null,null,null,null,{"$f":"Backbone!A400","v":"Outil d'évaluation de l'état de préparation et des besoins pour une surveillance «Une seule santé» (OHSRRT)"},null,null,null,null,null,null,"Un outil d'évaluation de la préparation et des besoins utilisé pour déterminer l'état de préparation du pays et dresser la liste des besoins nécessaires au développement d'un système de surveillance «Une seule santé» basé sur des facteurs de réussite critiques.",null,null,null,null,null,null,null,null,{"$f":"INDEX(Backbone!$R$2:$R$893,MATCH(I96,Backbone!$A$2:$A$893,0))","v":"Outil d'autoévaluation"},null,null,null,{"$f":"INDEX(Backbone!$S$2:$S$893,MATCH(I96,Backbone!$A$2:$A$893,0))","v":"«Une seule santé»; Généralisée"},null,null,null,{"$f":"INDEX(Backbone!$H$2:$H$893,MATCH(I96,Backbone!$A$2:$A$893,0))","v":8},null,{"$f":"INDEX(Backbone!$I$2:$I$893,MATCH(I96,Backbone!$A$2:$A$893,0))","v":6},null,{"$f":"INDEX(Backbone!$J$2:$J$893,MATCH(I96,Backbone!$A$2:$A$893,0))","v":7.4},null,{"$f":"INDEX(Backbone!$K$1:$K$893,MATCH(I96,Backbone!$A$1:$A$893,0))","v":8.6999999999999993},null,{"$f":"INDEX(Backbone!$L$2:$L$893,MATCH(I96,Backbone!$A$2:$A$893,0))","v":6},null,{"$f":"INDEX(Backbone!$M$2:$M$893,MATCH(I96,Backbone!$A$2:$A$893,0))","v":2.5},null,{"$f":"INDEX(Backbone!$N$2:$N$893,MATCH(I96,Backbone!$A$2:$A$893,0))","v":2},null,{"$f":"INDEX(Backbone!$O$2:$O$893,MATCH(I96,Backbone!$A$2:$A$893,0))","v":9.6},null,{"$f":"INDEX(Backbone!$P$2:$P$893,MATCH(I96,Backbone!$A$2:$A$893,0))","v":5.5},null,{"$f":"INDEX(Backbone!$Q$2:$Q$893,MATCH(I96,Backbone!$A$2:$A$893,0))","v":0.61888888888888882},null,null,{"$f":"(AG96*$AG$23+AI96*$AI$23+AK96*$AK$23+AM96*$AM$23+AO96*$AO$23+AQ96*$AQ$23+AS96*$AS$23+AU96*$AU$23+AW96*$AW$23)/(SUM($AG$23:$AW$23)*10)","v":{"$error":"#DIV/0!"}},null,null,"Aller à \nBoîte à outils: ",null,{"$f":"HYPERLINK(\"#\"&ADDRESS(MATCH(I96,Toolbox!$C$1:$C$300),1,,,\"Toolbox\"),VLOOKUP(I96,Toolbox!$C$1:$C$300,1,FALSE))","v":"Outil d'évaluation de l'état de préparation et des besoins pour une surveillance «Une seule santé» (OHSRRT)"}]
[]
[]
[]
[]
[]
[null,null,null,null,null,null,null,null,{"$f":"Backbone!A648","v":"Boîte à outils pour la planification de la préparation et la réponse"},null,null,null,null,null,null,"Cette boîte à outils est conçue pour aider les pays à élaborer des plans multisectoriels de préparation et de réponse aux événements de santé publique. ",null,null,null,null,null,null,null,null,{"$f":"INDEX(Backbone!$R$2:$R$893,MATCH(I102,Backbone!$A$2:$A$893,0))","v":"Document d'orientation"},null,null,null,{"$f":"INDEX(Backbone!$S$2:$S$893,MATCH(I102,Backbone!$A$2:$A$893,0))","v":"«Une seule santé»; Généralisée"},null,null,null,{"$f":"INDEX(Backbone!$H$2:$H$893,MATCH(I102,Backbone!$A$2:$A$893,0))","v":8.4},null,{"$f":"INDEX(Backbone!$I$2:$I$893,MATCH(I102,Backbone!$A$2:$A$893,0))","v":8},null,{"$f":"INDEX(Backbone!$J$2:$J$893,MATCH(I102,Backbone!$A$2:$A$893,0))","v":8.4},null,{"$f":"INDEX(Backbone!$K$1:$K$893,MATCH(I102,Backbone!$A$1:$A$893,0))","v":6.7},null,{"$f":"INDEX(Backbone!$L$2:$L$893,MATCH(I102,Backbone!$A$2:$A$893,0))","v":2},null,{"$f":"INDEX(Backbone!$M$2:$M$893,MATCH(I102,Backbone!$A$2:$A$893,0))","v":3.5},null,{"$f":"INDEX(Backbone!$N$2:$N$893,MATCH(I102,Backbone!$A$2:$A$893,0))","v":4},null,{"$f":"INDEX(Backbone!$O$2:$O$893,MATCH(I102,Backbone!$A$2:$A$893,0))","v":6.4},null,{"$f":"INDEX(Backbone!$P$2:$P$893,MATCH(I102,Backbone!$A$2:$A$893,0))","v":8},null,{"$f":"INDEX(Backbone!$Q$2:$Q$893,MATCH(I102,Backbone!$A$2:$A$893,0))","v":0.61555555555555552},null,null,{"$f":"(AG102*$AG$23+AI102*$AI$23+AK102*$AK$23+AM102*$AM$23+AO102*$AO$23+AQ102*$AQ$23+AS102*$AS$23+AU102*$AU$23+AW102*$AW$23)/(SUM($AG$23:$AW$23)*10)","v":{"$error":"#DIV/0!"}},null,null,"Aller à \nBoîte à outils: ",null,{"$f":"HYPERLINK(\"#\"&ADDRESS(MATCH(I102,Toolbox!$C$1:$C$300),1,,,\"Toolbox\"),VLOOKUP(I102,Toolbox!$C$1:$C$300,1,FALSE))","v":"Boîte à outils pour la planification de la préparation et la réponse"}]
[]
[]
[]
[]
[]
[null,null,null,null,null,null,null,null,{"$f":"Backbone!A453","v":"Approche par étapes pour l'élimination de la rage (SARE)"},null,null,null,null,null,null,"Un outil pratique de planification, de suivi et d'évaluation qui permet d'orienter, de déployer et d'affiner des programmes de lutte contre la rage.",null,null,null,null,null,null,null,null,{"$f":"INDEX(Backbone!$R$2:$R$893,MATCH(I108,Backbone!$A$2:$A$893,0))","v":"Outil d'autoévaluation"},null,null,null,{"$f":"INDEX(Backbone!$S$2:$S$893,MATCH(I108,Backbone!$A$2:$A$893,0))","v":"«Une seule santé»; spécifique d'une maladie/menace "},null,null,null,{"$f":"INDEX(Backbone!$H$2:$H$893,MATCH(I108,Backbone!$A$2:$A$893,0))","v":8},null,{"$f":"INDEX(Backbone!$I$2:$I$893,MATCH(I108,Backbone!$A$2:$A$893,0))","v":9},null,{"$f":"INDEX(Backbone!$J$2:$J$893,MATCH(I108,Backbone!$A$2:$A$893,0))","v":6.6},null,{"$f":"INDEX(Backbone!$K$1:$K$893,MATCH(I108,Backbone!$A$1:$A$893,0))","v":3.3},null,{"$f":"INDEX(Backbone!$L$2:$L$893,MATCH(I108,Backbone!$A$2:$A$893,0))","v":5.7},null,{"$f":"INDEX(Backbone!$M$2:$M$893,MATCH(I108,Backbone!$A$2:$A$893,0))","v":6.8},null,{"$f":"INDEX(Backbone!$N$2:$N$893,MATCH(I108,Backbone!$A$2:$A$893,0))","v":8},null,{"$f":"INDEX(Backbone!$O$2:$O$893,MATCH(I108,Backbone!$A$2:$A$893,0))","v":8.6},null,{"$f":"INDEX(Backbone!$P$2:$P$893,MATCH(I108,Backbone!$A$2:$A$893,0))","v":9.5},null,{"$f":"INDEX(Backbone!$Q$2:$Q$893,MATCH(I108,Backbone!$A$2:$A$893,0))","v":0.72777777777777775},null,null,{"$f":"(AG108*$AG$23+AI108*$AI$23+AK108*$AK$23+AM108*$AM$23+AO108*$AO$23+AQ108*$AQ$23+AS108*$AS$23+AU108*$AU$23+AW108*$AW$23)/(SUM($AG$23:$AW$23)*10)","v":{"$error":"#DIV/0!"}},null,null,"Aller à \nBoîte à outils: ",null,{"$f":"HYPERLINK(\"#\"&ADDRESS(MATCH(I108,Toolbox!$C$1:$C$300),1,,,\"Toolbox\"),VLOOKUP(I108,Toolbox!$C$1:$C$300,1,FALSE))","v":"Approche par étapes pour l'élimination de la rage (SARE)"}]
[]
[]
[]
[]
[]
[null,null,null,null,null,null,null,null,{"$f":"Backbone!A510","v":"Cadre d'évaluation de la surveillance (SERVAL)"},null,null,null,null,null,null,"Un guide par étapes sur la façon de planifier, de structurer et de mener à bien l'évaluation des systèmes de surveillance de la santé animale.",null,null,null,null,null,null,null,null,{"$f":"INDEX(Backbone!$R$2:$R$893,MATCH(I114,Backbone!$A$2:$A$893,0))","v":"Document d'orientation"},null,null,null,{"$f":"INDEX(Backbone!$S$2:$S$893,MATCH(I114,Backbone!$A$2:$A$893,0))","v":"Spécifique du secteur; Généralisée"},null,null,null,{"$f":"INDEX(Backbone!$H$2:$H$893,MATCH(I114,Backbone!$A$2:$A$893,0))","v":8.8000000000000007},null,{"$f":"INDEX(Backbone!$I$2:$I$893,MATCH(I114,Backbone!$A$2:$A$893,0))","v":9},null,{"$f":"INDEX(Backbone!$J$2:$J$893,MATCH(I114,Backbone!$A$2:$A$893,0))","v":9},null,{"$f":"INDEX(Backbone!$K$1:$K$893,MATCH(I114,Backbone!$A$1:$A$893,0))","v":10},null,{"$f":"INDEX(Backbone!$L$2:$L$893,MATCH(I114,Backbone!$A$2:$A$893,0))","v":8.1},null,{"$f":"INDEX(Backbone!$M$2:$M$893,MATCH(I114,Backbone!$A$2:$A$893,0))","v":3.3},null,{"$f":"INDEX(Backbone!$N$2:$N$893,MATCH(I114,Backbone!$A$2:$A$893,0))","v":4},null,{"$f":"INDEX(Backbone!$O$2:$O$893,MATCH(I114,Backbone!$A$2:$A$893,0))","v":6.8},null,{"$f":"INDEX(Backbone!$P$2:$P$893,MATCH(I114,Backbone!$A$2:$A$893,0))","v":8},null,{"$f":"INDEX(Backbone!$Q$2:$Q$893,MATCH(I114,Backbone!$A$2:$A$893,0))","v":0.74444444444444446},null,null,{"$f":"(AG114*$AG$23+AI114*$AI$23+AK114*$AK$23+AM114*$AM$23+AO114*$AO$23+AQ114*$AQ$23+AS114*$AS$23+AU114*$AU$23+AW114*$AW$23)/(SUM($AG$23:$AW$23)*10)","v":{"$error":"#DIV/0!"}},null,null,"Aller à \nBoîte à outils: ",null,{"$f":"HYPERLINK(\"#\"&ADDRESS(MATCH(I114,Toolbox!$C$1:$C$300),1,,,\"Toolbox\"),VLOOKUP(I114,Toolbox!$C$1:$C$300,1,FALSE))","v":"Cadre d'évaluation de la surveillance (SERVAL)"}]
[]
[]
[]
[]
[]
[null,null,null,null,null,null,null,null,{"$f":"Backbone!A351","v":"Outil d'évaluation des réseaux de surveillance (OASIS)"},null,null,null,null,null,null,"Un outil semi-quantitatif standardisé pour l'évaluation des systèmes de surveillance des zoonoses et des maladies animales.",null,null,null,null,null,null,null,null,{"$f":"INDEX(Backbone!$R$2:$R$893,MATCH(I120,Backbone!$A$2:$A$893,0))","v":"Outil d'autoévaluation"},null,null,null,{"$f":"INDEX(Backbone!$S$2:$S$893,MATCH(I120,Backbone!$A$2:$A$893,0))","v":"Spécifique du secteur; Généralisée"},null,null,null,{"$f":"INDEX(Backbone!$H$2:$H$893,MATCH(I120,Backbone!$A$2:$A$893,0))","v":8.1999999999999993},null,{"$f":"INDEX(Backbone!$I$2:$I$893,MATCH(I120,Backbone!$A$2:$A$893,0))","v":7},null,{"$f":"INDEX(Backbone!$J$2:$J$893,MATCH(I120,Backbone!$A$2:$A$893,0))","v":8},null,{"$f":"INDEX(Backbone!$K$1:$K$893,MATCH(I120,Backbone!$A$1:$A$893,0))","v":8.3000000000000007},null,{"$f":"INDEX(Backbone!$L$2:$L$893,MATCH(I120,Backbone!$A$2:$A$893,0))","v":7},null,{"$f":"INDEX(Backbone!$M$2:$M$893,MATCH(I120,Backbone!$A$2:$A$893,0))","v":6.5},null,{"$f":"INDEX(Backbone!$N$2:$N$893,MATCH(I120,Backbone!$A$2:$A$893,0))","v":4.5},null,{"$f":"INDEX(Backbone!$O$2:$O$893,MATCH(I120,Backbone!$A$2:$A$893,0))","v":5.0999999999999996},null,{"$f":"INDEX(Backbone!$P$2:$P$893,MATCH(I120,Backbone!$A$2:$A$893,0))","v":4.5},null,{"$f":"INDEX(Backbone!$Q$2:$Q$893,MATCH(I120,Backbone!$A$2:$A$893,0))","v":0.65666666666666673},null,null,{"$f":"(AG120*$AG$23+AI120*$AI$23+AK120*$AK$23+AM120*$AM$23+AO120*$AO$23+AQ120*$AQ$23+AS120*$AS$23+AU120*$AU$23+AW120*$AW$23)/(SUM($AG$23:$AW$23)*10)","v":{"$error":"#DIV/0!"}},null,null,"Aller à \nBoîte à outils: ",null,{"$f":"HYPERLINK(\"#\"&ADDRESS(MATCH(I120,Toolbox!$C$1:$C$300),1,,,\"Toolbox\"),VLOOKUP(I120,Toolbox!$C$1:$C$300,1,FALSE))","v":"Outil d'évaluation des réseaux de surveillance (OASIS)"}]
[]
[]
[]
[]
[]
[null,null,null,null,null,null,null,null,{"$f":"Backbone!A483","v":"Outils de surveillance en ligne (SURVTOOLS) "},null,null,null,null,null,null,"Ensemble d'outils de conception et d'évaluation de la surveillance destinés aux techniciens compétents chargés de concevoir, de mettre en œuvre ou d'évaluer la surveillance de la santé animale.",null,null,null,null,null,null,null,null,{"$f":"INDEX(Backbone!$R$2:$R$893,MATCH(I126,Backbone!$A$2:$A$893,0))","v":"Matériel ou logiciel"},null,null,null,{"$f":"INDEX(Backbone!$S$2:$S$893,MATCH(I126,Backbone!$A$2:$A$893,0))","v":"Spécifique du secteur; Généralisée"},null,null,null,{"$f":"INDEX(Backbone!$H$2:$H$893,MATCH(I126,Backbone!$A$2:$A$893,0))","v":9.6},null,{"$f":"INDEX(Backbone!$I$2:$I$893,MATCH(I126,Backbone!$A$2:$A$893,0))","v":2},null,{"$f":"INDEX(Backbone!$J$2:$J$893,MATCH(I126,Backbone!$A$2:$A$893,0))","v":6.7},null,{"$f":"INDEX(Backbone!$K$1:$K$893,MATCH(I126,Backbone!$A$1:$A$893,0))","v":6.7},null,{"$f":"INDEX(Backbone!$L$2:$L$893,MATCH(I126,Backbone!$A$2:$A$893,0))","v":6.6},null,{"$f":"INDEX(Backbone!$M$2:$M$893,MATCH(I126,Backbone!$A$2:$A$893,0))","v":3.5},null,{"$f":"INDEX(Backbone!$N$2:$N$893,MATCH(I126,Backbone!$A$2:$A$893,0))","v":6.7},null,{"$f":"INDEX(Backbone!$O$2:$O$893,MATCH(I126,Backbone!$A$2:$A$893,0))","v":4.9000000000000004},null,{"$f":"INDEX(Backbone!$P$2:$P$893,MATCH(I126,Backbone!$A$2:$A$893,0))","v":4.7},null,{"$f":"INDEX(Backbone!$Q$2:$Q$893,MATCH(I126,Backbone!$A$2:$A$893,0))","v":0.57111111111111112},null,null,{"$f":"(AG126*$AG$23+AI126*$AI$23+AK126*$AK$23+AM126*$AM$23+AO126*$AO$23+AQ126*$AQ$23+AS126*$AS$23+AU126*$AU$23+AW126*$AW$23)/(SUM($AG$23:$AW$23)*10)","v":{"$error":"#DIV/0!"}},null,null,"Aller à \nBoîte à outils: ",null,{"$f":"HYPERLINK(\"#\"&ADDRESS(MATCH(I126,Toolbox!$C$1:$C$300),1,,,\"Toolbox\"),VLOOKUP(I126,Toolbox!$C$1:$C$300,1,FALSE))","v":"Outils de surveillance en ligne (SURVTOOLS) "}]
[]
[]
[]
[]
[]
[]
[]
[]
[]
[]
[]
[]
[]
[]
[]
[]
[]
[]
[]
[]
[]
[]
[]
[]
[null,null,null,null,null,null,null,null,null,null,null,null,null,null,null,null,null,null,null,null,null,null,null,null,null,null,null,null,null,null,null,null,"Accessibilité",null,"Langue",null,"Facilité d'utilisation",null,"Flexibilité",null,"Besoins de données",null,"Analyse des données",null,"Acceptabilité",null,"«Une seule santé»",null,"Impact"]
[]
[]
[]
[]
[]
[]
[null,null,null,null,null,null,null,null,null,null,null,null,null,null,null,null,null,null,null,null,null,null,null,null,null,null,null,null,null,null,null,null,null,null,null,null,null,null,null,null,null,null,null,null,null,null,null,null,null,null,"SCORE BRUT",null,null,"SCORE AJUSTÉ \n(Selon les préférences de l'utilisateur)"]
[]
[]
[]
[null,"RESSOURCES DE NIVEAU 2",null,"DÉSIGNATION",null,null,null,null,"NOM DE LA RESSOURCE",null,null,null,null,null,null,"BRÈVE DESCRIPTION",null,null,null,null,null,null,null,null,"TYPE DE RESSOURCE",null,null,null,"CARACTÈRE GÉNÉRAL DE LA RESSOURCE"]
[]
[]
[]
[null,null,null,null,null,null,null,null,null,null,null,null,null,null,null,null,null,null,null,null,null,null,null,null,null,null,null,null,null,null,null,null,{"$f":"'Attribute Survey'!S130","v":0},null,{"$f":"'Attribute Survey'!S134","v":0},null,{"$f":"'Attribute Survey'!S138","v":0},null,{"$f":"'Attribute Survey'!S142","v":0},null,{"$f":"'Attribute Survey'!S146","v":0},null,{"$f":"'Attribute Survey'!S150","v":0},null,{"$f":"'Attribute Survey'!S154","v":0},null,{"$f":"'Attribute Survey'!S158","v":0},null,{"$f":"'Attribute Survey'!S162","v":0}]
[null,null,null,"Autres ressources intéressantes",null,null,null,null,{"$f":"Backbone!A176","v":"Directives pour la conception\nde plans de surveillance\ndes maladies animales\n"},null,null,null,null,null,null,"Le modèle général et le cadre du plan de surveillance des maladies infectieuses.",null,null,null,null,null,null,null,null,{"$f":"INDEX(Backbone!$R$2:$R$893,MATCH(I167,Backbone!$A$2:$A$893,0))","v":"Modèle"},null,null,null,{"$f":"INDEX(Backbone!$S$2:$S$893,MATCH(I167,Backbone!$A$2:$A$893,0))","v":"Spécifique du secteur; Généralisée"},null,null,null,{"$f":"INDEX(Backbone!$H$2:$H$893,MATCH(I167,Backbone!$A$2:$A$893,0))","v":9.1999999999999993},null,{"$f":"INDEX(Backbone!$I$2:$I$893,MATCH(I167,Backbone!$A$2:$A$893,0))","v":10},null,{"$f":"INDEX(Backbone!$J$2:$J$893,MATCH(I167,Backbone!$A$2:$A$893,0))","v":7.5},null,{"$f":"INDEX(Backbone!$K$1:$K$893,MATCH(I167,Backbone!$A$1:$A$893,0))","v":8.6999999999999993},null,{"$f":"INDEX(Backbone!$L$2:$L$893,MATCH(I167,Backbone!$A$2:$A$893,0))","v":5.7},null,{"$f":"INDEX(Backbone!$M$2:$M$893,MATCH(I167,Backbone!$A$2:$A$893,0))","v":2.5},null,{"$f":"INDEX(Backbone!$N$2:$N$893,MATCH(I167,Backbone!$A$2:$A$893,0))","v":3.3},null,{"$f":"INDEX(Backbone!$O$2:$O$893,MATCH(I167,Backbone!$A$2:$A$893,0))","v":5.0999999999999996},null,{"$f":"INDEX(Backbone!$P$2:$P$893,MATCH(I167,Backbone!$A$2:$A$893,0))","v":4},null,{"$f":"INDEX(Backbone!$Q$2:$Q$893,MATCH(I167,Backbone!$A$2:$A$893,0))","v":0.62222222222222223},null,null,{"$f":"(AG167*$AG$23+AI167*$AI$23+AK167*$AK$23+AM167*$AM$23+AO167*$AO$23+AQ167*$AQ$23+AS167*$AS$23+AU167*$AU$23+AW167*$AW$23)/(SUM($AG$23:$AW$23)*10)","v":{"$error":"#DIV/0!"}},null,null,"Aller à \nBoîte à outils: ",null,{"$f":"HYPERLINK(\"#\"&ADDRESS(MATCH(I167,Toolbox!$C$1:$C$300),1,,,\"Toolbox\"),VLOOKUP(I167,Toolbox!$C$1:$C$300,1,FALSE))","v":"Directives pour la conception\nde plans de surveillance\ndes maladies animales\n"}]
[]
[]
[]
[]
[]
[null,null,null,null,null,null,null,null,{"$f":"Backbone!A648","v":"Boîte à outils pour la planification de la préparation et la réponse"},null,null,null,null,null,null,"Cette boîte à outils est conçue pour aider les pays à élaborer des plans multisectoriels de préparation et de réponse aux événements de santé publique. ",null,null,null,null,null,null,null,null,{"$f":"INDEX(Backbone!$R$2:$R$893,MATCH(I173,Backbone!$A$2:$A$893,0))","v":"Document d'orientation"},null,null,null,{"$f":"INDEX(Backbone!$S$2:$S$893,MATCH(I173,Backbone!$A$2:$A$893,0))","v":"«Une seule santé»; Généralisée"},null,null,null,{"$f":"INDEX(Backbone!$H$2:$H$893,MATCH(I173,Backbone!$A$2:$A$893,0))","v":8.4},null,{"$f":"INDEX(Backbone!$I$2:$I$893,MATCH(I173,Backbone!$A$2:$A$893,0))","v":8},null,{"$f":"INDEX(Backbone!$J$2:$J$893,MATCH(I173,Backbone!$A$2:$A$893,0))","v":8.4},null,{"$f":"INDEX(Backbone!$K$1:$K$893,MATCH(I173,Backbone!$A$1:$A$893,0))","v":6.7},null,{"$f":"INDEX(Backbone!$L$2:$L$893,MATCH(I173,Backbone!$A$2:$A$893,0))","v":2},null,{"$f":"INDEX(Backbone!$M$2:$M$893,MATCH(I173,Backbone!$A$2:$A$893,0))","v":3.5},null,{"$f":"INDEX(Backbone!$N$2:$N$893,MATCH(I173,Backbone!$A$2:$A$893,0))","v":4},null,{"$f":"INDEX(Backbone!$O$2:$O$893,MATCH(I173,Backbone!$A$2:$A$893,0))","v":6.4},null,{"$f":"INDEX(Backbone!$P$2:$P$893,MATCH(I173,Backbone!$A$2:$A$893,0))","v":8},null,{"$f":"INDEX(Backbone!$Q$2:$Q$893,MATCH(I173,Backbone!$A$2:$A$893,0))","v":0.61555555555555552},null,null,{"$f":"(AG173*$AG$23+AI173*$AI$23+AK173*$AK$23+AM173*$AM$23+AO173*$AO$23+AQ173*$AQ$23+AS173*$AS$23+AU173*$AU$23+AW173*$AW$23)/(SUM($AG$23:$AW$23)*10)","v":{"$error":"#DIV/0!"}},null,null,"Aller à \nBoîte à outils: ",null,{"$f":"HYPERLINK(\"#\"&ADDRESS(MATCH(I173,Toolbox!$C$1:$C$300),1,,,\"Toolbox\"),VLOOKUP(I173,Toolbox!$C$1:$C$300,1,FALSE))","v":"Boîte à outils pour la planification de la préparation et la réponse"}]
[]
[]
[]
[]
[]
[]
[]
[]
[]
[]
[]
[]
[]
[]
[]
[]
[]
[]
[null,null,null,null,null,null,null,null,null,null,null,null,null,null,null,null,null,null,null,null,null,null,null,null,null,null,null,null,null,null,null,null,"Accessibilité",null,"Langue",null,"Facilité d'utilisation",null,"Flexibilité",null,"Besoins de données",null,"Analyse des données",null,"Acceptabilité",null,"«Une seule santé»",null,"Impact"]
[]
[]
[]
[]
[]
[]
[null,null,null,null,null,null,null,null,null,null,null,null,null,null,null,null,null,null,null,null,null,null,null,null,null,null,null,null,null,null,null,null,null,null,null,null,null,null,null,null,null,null,null,null,null,null,null,null,null,null,"SCORE BRUT",null,null,"SCORE AJUSTÉ \n(Selon les préférences de l'utilisateur)"]
[]
[]
[]
[null,"RESSOURCES DE NIVEAU 3",null,null,null,null,null,null,"NOM DE LA RESSOURCE",null,null,null,null,null,null,"BRÈVE DESCRIPTION",null,null,null,null,null,null,null,null,"TYPE DE RESSOURCE",null,null,null,"CARACTÈRE GÉNÉRAL DE LA RESSOURCE"]
[]
[null,null,null,"DÉSIGNATION"]
[]
[null,null,null,null,null,null,null,null,null,null,null,null,null,null,null,null,null,null,null,null,null,null,null,null,null,null,null,null,null,null,null,null,{"$f":"'Attribute Survey'!S231","v":0},null,{"$f":"'Attribute Survey'!S235","v":0},null,{"$f":"'Attribute Survey'!S239","v":0},null,{"$f":"'Attribute Survey'!S243","v":0},null,{"$f":"'Attribute Survey'!S247","v":0},null,{"$f":"'Attribute Survey'!S251","v":0},null,{"$f":"'Attribute Survey'!S255","v":0},null,{"$f":"'Attribute Survey'!S259","v":0},null,{"$f":"'Attribute Survey'!S263","v":0}]
[null,null,null,"Ressources les mieux adaptées",null,null,null,null,{"$f":"Backbone!A396","v":"Codex sur la surveillance «Une seule santé» "},null,null,null,null,null,null,"Un cadre de haut niveau qui favorise la collaboration, la compréhension mutuelle, l'échange de connaissances et l'interopérabilité des données entre les secteurs de surveillance «Une seule santé».",null,null,null,null,null,null,null,null,{"$f":"INDEX(Backbone!$R$2:$R$893,MATCH(I208,Backbone!$A$2:$A$893,0))","v":"Outil d'autoévaluation"},null,null,null,{"$f":"INDEX(Backbone!$S$2:$S$893,MATCH(I208,Backbone!$A$2:$A$893,0))","v":"«Une seule santé»; Généralisée"},null,null,null,{"$f":"INDEX(Backbone!$H$2:$H$893,MATCH(I208,Backbone!$A$2:$A$893,0))","v":9},null,{"$f":"INDEX(Backbone!$I$2:$I$893,MATCH(I208,Backbone!$A$2:$A$893,0))","v":6},null,{"$f":"INDEX(Backbone!$J$2:$J$893,MATCH(I208,Backbone!$A$2:$A$893,0))","v":8.5},null,{"$f":"INDEX(Backbone!$K$2:$K$893,MATCH(I208,Backbone!$A$2:$A$893,0))","v":8.6999999999999993},null,{"$f":"INDEX(Backbone!$L$2:$L$893,MATCH(I208,Backbone!$A$2:$A$893,0))","v":8.1},null,{"$f":"INDEX(Backbone!$M$2:$M$893,MATCH(I208,Backbone!$A$2:$A$893,0))","v":2.8},null,{"$f":"INDEX(Backbone!$N$2:$N$893,MATCH(I208,Backbone!$A$2:$A$893,0))","v":2},null,{"$f":"INDEX(Backbone!$O$2:$O$893,MATCH(I208,Backbone!$A$2:$A$893,0))","v":6},null,{"$f":"INDEX(Backbone!$P$2:$P$893,MATCH(I208,Backbone!$A$2:$A$893,0))","v":5},null,{"$f":"INDEX(Backbone!$Q$2:$Q$893,MATCH(I208,Backbone!$A$2:$A$893,0))","v":0.62333333333333329},null,null,{"$f":"(AG208*$AG$23+AI208*$AI$23+AK208*$AK$23+AM208*$AM$23+AO208*$AO$23+AQ208*$AQ$23+AS208*$AS$23+AU208*$AU$23+AW208*$AW$23)/(SUM($AG$23:$AW$23)*10)","v":{"$error":"#DIV/0!"}},null,null,"Aller à \nBoîte à outils: ",null,{"$f":"HYPERLINK(\"#\"&ADDRESS(MATCH(I208,Toolbox!$C$1:$C$300),1,,,\"Toolbox\"),VLOOKUP(I208,Toolbox!$C$1:$C$300,1,FALSE))","v":"Codex sur la surveillance «Une seule santé» "}]
[]
[]
[]
[]
[]
[]
[null,null,null,"Autres ressources intéressantes",null,null,null,null,{"$f":"Backbone!A176","v":"Directives pour la conception\nde plans de surveillance\ndes maladies animales\n"},null,null,null,null,null,null,"Le modèle général et le cadre du plan de surveillance des maladies infectieuses.",null,null,null,null,null,null,null,null,{"$f":"INDEX(Backbone!$R$2:$R$893,MATCH(I215,Backbone!$A$2:$A$893,0))","v":"Modèle"},null,null,null,{"$f":"INDEX(Backbone!$S$2:$S$893,MATCH(I215,Backbone!$A$2:$A$893,0))","v":"Spécifique du secteur; Généralisée"},null,null,null,{"$f":"INDEX(Backbone!$H$2:$H$893,MATCH(I215,Backbone!$A$2:$A$893,0))","v":9.1999999999999993},null,{"$f":"INDEX(Backbone!$I$2:$I$893,MATCH(I215,Backbone!$A$2:$A$893,0))","v":10},null,{"$f":"INDEX(Backbone!$J$2:$J$893,MATCH(I215,Backbone!$A$2:$A$893,0))","v":7.5},null,{"$f":"INDEX(Backbone!$K$1:$K$893,MATCH(I215,Backbone!$A$1:$A$893,0))","v":8.6999999999999993},null,{"$f":"INDEX(Backbone!$L$2:$L$893,MATCH(I215,Backbone!$A$2:$A$893,0))","v":5.7},null,{"$f":"INDEX(Backbone!$M$2:$M$893,MATCH(I215,Backbone!$A$2:$A$893,0))","v":2.5},null,{"$f":"INDEX(Backbone!$N$2:$N$893,MATCH(I215,Backbone!$A$2:$A$893,0))","v":3.3},null,{"$f":"INDEX(Backbone!$O$2:$O$893,MATCH(I215,Backbone!$A$2:$A$893,0))","v":5.0999999999999996},null,{"$f":"INDEX(Backbone!$P$2:$P$893,MATCH(I215,Backbone!$A$2:$A$893,0))","v":4},null,{"$f":"INDEX(Backbone!$Q$2:$Q$893,MATCH(I215,Backbone!$A$2:$A$893,0))","v":0.62222222222222223},null,null,{"$f":"(AG215*$AG$23+AI215*$AI$23+AK215*$AK$23+AM215*$AM$23+AO215*$AO$23+AQ215*$AQ$23+AS215*$AS$23+AU215*$AU$23+AW215*$AW$23)/(SUM($AG$23:$AW$23)*10)","v":{"$error":"#DIV/0!"}},null,null,"Aller à \nBoîte à outils: ",null,{"$f":"HYPERLINK(\"#\"&ADDRESS(MATCH(I215,Toolbox!$C$1:$C$300),1,,,\"Toolbox\"),VLOOKUP(I215,Toolbox!$C$1:$C$300,1,FALSE))","v":"Directives pour la conception\nde plans de surveillance\ndes maladies animales\n"}]
[]
[]
[]
[]
[]
[null,null,null,null,null,null,null,null,{"$f":"Backbone!A648","v":"Boîte à outils pour la planification de la préparation et la réponse"},null,null,null,null,null,null,"Cette boîte à outils est conçue pour aider les pays à élaborer des plans multisectoriels de préparation et de réponse aux événements de santé publique. ",null,null,null,null,null,null,null,null,{"$f":"INDEX(Backbone!$R$2:$R$893,MATCH(I221,Backbone!$A$2:$A$893,0))","v":"Document d'orientation"},null,null,null,{"$f":"INDEX(Backbone!$S$2:$S$893,MATCH(I221,Backbone!$A$2:$A$893,0))","v":"«Une seule santé»; Généralisée"},null,null,null,{"$f":"INDEX(Backbone!$H$2:$H$893,MATCH(I221,Backbone!$A$2:$A$893,0))","v":8.4},null,{"$f":"INDEX(Backbone!$I$2:$I$893,MATCH(I221,Backbone!$A$2:$A$893,0))","v":8},null,{"$f":"INDEX(Backbone!$J$2:$J$893,MATCH(I221,Backbone!$A$2:$A$893,0))","v":8.4},null,{"$f":"INDEX(Backbone!$K$1:$K$893,MATCH(I221,Backbone!$A$1:$A$893,0))","v":6.7},null,{"$f":"INDEX(Backbone!$L$2:$L$893,MATCH(I221,Backbone!$A$2:$A$893,0))","v":2},null,{"$f":"INDEX(Backbone!$M$2:$M$893,MATCH(I221,Backbone!$A$2:$A$893,0))","v":3.5},null,{"$f":"INDEX(Backbone!$N$2:$N$893,MATCH(I221,Backbone!$A$2:$A$893,0))","v":4},null,{"$f":"INDEX(Backbone!$O$2:$O$893,MATCH(I221,Backbone!$A$2:$A$893,0))","v":6.4},null,{"$f":"INDEX(Backbone!$P$2:$P$893,MATCH(I221,Backbone!$A$2:$A$893,0))","v":8},null,{"$f":"INDEX(Backbone!$Q$2:$Q$893,MATCH(I221,Backbone!$A$2:$A$893,0))","v":0.61555555555555552},null,null,{"$f":"(AG221*$AG$23+AI221*$AI$23+AK221*$AK$23+AM221*$AM$23+AO221*$AO$23+AQ221*$AQ$23+AS221*$AS$23+AU221*$AU$23+AW221*$AW$23)/(SUM($AG$23:$AW$23)*10)","v":{"$error":"#DIV/0!"}},null,null,"Aller à \nBoîte à outils: ",null,{"$f":"HYPERLINK(\"#\"&ADDRESS(MATCH(I221,Toolbox!$C$1:$C$300),1,,,\"Toolbox\"),VLOOKUP(I221,Toolbox!$C$1:$C$300,1,FALSE))","v":"Boîte à outils pour la planification de la préparation et la réponse"}]

{"sheet":"P5_tools","index":42,"n_rows":53,"n_cols":59,"rows_kept":53,"cut":false,"hidden":false,"merged":[[52,48,56,48],[34,46,38,46],[46,48,50,48],[46,50,50,51],[46,53,50,54],[52,8,56,13],[52,15,56,22],[52,24,56,26],[52,28,56,30],[52,32,56,32],[52,34,56,34],[52,36,56,36],[46,36,50,36],[46,38,50,38],[46,40,50,40],[46,42,50,42],[46,44,50,44],[46,46,50,46],[52,50,56,51],[52,53,56,54],[52,38,56,38],[52,40,56,40],[52,42,56,42],[52,44,56,44],[52,46,56,46],[28,48,32,48],[28,50,32,51],[22,50,26,51],[40,50,44,51],[40,53,44,54],[28,53,32,54],[40,8,44,13],[40,15,44,22],[40,24,44,26],[40,28,44,30],[40,32,44,32],[40,34,44,34],[40,36,44,36],[40,38,44,38],[40,40,44,40],[28,40,32,40],[28,42,32,42],[28,44,32,44],[28,46,32,46],[40,48,44,48],[34,48,38,48],[34,50,38,51],[34,53,38,54],[34,36,38,36],[34,44,38,44],[28,8,32,13],[28,15,32,22],[28,24,32,26],[28,28,32,30],[28,32,32,32],[28,34,32,34],[28,36,32,36],[28,38,32,38],[46,8,50,13],[46,15,50,22],[46,24,50,26],[46,28,50,30],[46,32,50,32],[17,1,56,1],[17,3,20,6],[17,8,20,13],[17,15,20,22],[22,15,26,22],[22,24,26,26],[22,28,26,30],[22,32,26,32],[34,28,38,30],[34,32,38,32],[1,1,3,62],[22,56,26,57],[22,58,26,62],[28,56,32,57],[28,58,32,62],[34,56,38,57],[34,58,38,62],[40,56,44,57],[17,24,20,26],[17,28,20,30],[22,3,56,6],[22,8,26,13],[22,46,26,46],[46,34,50,34],[40,42,44,42],[40,44,44,44],[40,46,44,46],[34,8,38,13],[34,15,38,22],[34,24,38,26],[40,58,44,62],[46,56,50,57],[46,58,50,62],[52,56,56,57],[52,58,56,62],[6,32,20,32],[6,34,20,34],[6,36,20,36],[6,38,20,38],[6,40,20,40],[6,42,20,42],[6,44,20,44],[6,46,20,46],[6,48,20,48],[13,50,20,51],[13,53,20,54],[34,38,38,38],[34,40,38,40],[34,42,38,42],[22,53,26,54],[22,40,26,40],[22,42,26,42],[22,44,26,44],[22,48,26,48],[22,38,26,38],[22,34,26,34],[22,36,26,36],[34,34,38,34]]}
[]
[null,"Ressources pour la planification financière"]
[]
[]
[]
[]
[null,null,null,null,null,null,null,null,null,null,null,null,null,null,null,null,null,null,null,null,null,null,null,null,null,null,null,null,null,null,null,null,"Accessibilité",null,"Langue",null,"Facilité d'utilisation",null,"Flexibilité",null,"Besoins de données",null,"Analyse des données",null,"Acceptabilité",null,"«Une seule santé»",null,"Impact"]
[]
[]
[]
[]
[]
[]
[null,null,null,null,null,null,null,null,null,null,null,null,null,null,null,null,null,null,null,null,null,null,null,null,null,null,null,null,null,null,null,null,null,null,null,null,null,null,null,null,null,null,null,null,null,null,null,null,null,null,"SCORE BRUT",null,null,"SCORE AJUSTÉ \n(Selon les préférences de l'utilisateur)"]
[]
[]
[]
[null,"RESSOURCES DE NIVEAU 1",null,"DÉSIGNATION",null,null,null,null,"NOM DE LA RESSOURCE",null,null,null,null,null,null,"BRÈVE DESCRIPTION",null,null,null,null,null,null,null,null,"TYPE DE RESSOURCE",null,null,null,"CARACTÈRE GÉNÉRAL DE LA RESSOURCE"]
[]
[]
[]
[null,null,null,null,null,null,null,null,null,null,null,null,null,null,null,null,null,null,null,null,null,null,null,null,null,null,null,null,null,null,null,null,{"$f":"'Attribute Survey'!S22","v":0},null,{"$f":"'Attribute Survey'!S26","v":0},null,{"$f":"'Attribute Survey'!S30","v":0},null,{"$f":"'Attribute Survey'!S34","v":0},null,{"$f":"'Attribute Survey'!S38","v":0},null,{"$f":"'Attribute Survey'!S42","v":0},null,{"$f":"'Attribute Survey'!S46","v":0},null,{"$f":"'Attribute Survey'!S50","v":0},null,{"$f":"'Attribute Survey'!S54","v":0}]
[null,null,null,"Autres ressources intéressantes",null,null,null,null,{"$f":"Backbone!A2","v":"Cadre de surveillance basé sur les événements des CDC en Afrique"},null,null,null,null,null,null,"Des orientations à l'attention des professionnels de la santé publique qui cherchent à mettre en œuvre la surveillance basée sur les événements à tous les échelons administratifs de leur pays.",null,null,null,null,null,null,null,null,{"$f":"INDEX(Backbone!$R$2:$R$893,MATCH(I23,Backbone!$A$2:$A$893,0))","v":"Document d'orientation"},null,null,null,{"$f":"INDEX(Backbone!$S$2:$S$893,MATCH(I23,Backbone!$A$2:$A$893,0))","v":"«Une seule santé»; Généralisée "},null,null,null,{"$f":"INDEX(Backbone!$H$2:$H$893,MATCH(I23,Backbone!$A$2:$A$893,0))","v":8},null,{"$f":"INDEX(Backbone!$I$2:$I$893,MATCH(I23,Backbone!$A$2:$A$893,0))","v":6},null,{"$f":"INDEX(Backbone!$J$2:$J$893,MATCH(I23,Backbone!$A$2:$A$893,0))","v":8.1999999999999993},null,{"$f":"INDEX(Backbone!$K$1:$K$893,MATCH(I23,Backbone!$A$1:$A$893,0))","v":8.3000000000000007},null,{"$f":"INDEX(Backbone!$L$2:$L$893,MATCH(I23,Backbone!$A$2:$A$893,0))","v":6.1},null,{"$f":"INDEX(Backbone!$M$2:$M$893,MATCH(I23,Backbone!$A$2:$A$893,0))","v":3.5},null,{"$f":"INDEX(Backbone!$N$2:$N$893,MATCH(I23,Backbone!$A$2:$A$893,0))","v":4},null,{"$f":"INDEX(Backbone!$O$2:$O$893,MATCH(I23,Backbone!$A$2:$A$893,0))","v":7},null,{"$f":"INDEX(Backbone!$P$2:$P$893,MATCH(I23,Backbone!$A$2:$A$893,0))","v":6},null,{"$f":"INDEX(Backbone!$Q$2:$Q$893,MATCH(I23,Backbone!$A$2:$A$893,0))","v":0.63222222222222224},null,null,{"$f":"(AG23*$AG$22+AI23*$AI$22+AK23*$AK$22+AM23*$AM$22+AO23*$AO$22+AQ23*$AQ$22+AS23*$AS$22+AU23*$AU$22+AW23*$AW$22)/(SUM($AG$22:$AW$22)*10)","v":{"$error":"#DIV/0!"}},null,null,"Aller à \nBoîte à outils: ",null,{"$f":"HYPERLINK(\"#\"&ADDRESS(MATCH(I23,Toolbox!$C$1:$C$300),1,,,\"Toolbox\"),VLOOKUP(I23,Toolbox!$C$1:$C$300,1,FALSE))","v":"Cadre de surveillance basé sur les événements des CDC en Afrique"}]
[]
[]
[]
[]
[]
[null,null,null,null,null,null,null,null,{"$f":"Backbone!A83","v":"Évaluation ECDC des systèmes de suivi et de surveillance de la qualité des données - Manuel des méthodes et des applications "},null,null,null,null,null,null,"Un manuel pour le suivi de la qualité des données de surveillance des maladies à l'attention des professionnels de la santé publique.",null,null,null,null,null,null,null,null,{"$f":"INDEX(Backbone!$R$2:$R$893,MATCH(I29,Backbone!$A$2:$A$893,0))","v":"Document d'orientation"},null,null,null,{"$f":"INDEX(Backbone!$S$2:$S$893,MATCH(I29,Backbone!$A$2:$A$893,0))","v":"Spécifique du secteur; Généralisée"},null,null,null,{"$f":"INDEX(Backbone!$H$2:$H$893,MATCH(I29,Backbone!$A$2:$A$893,0))","v":8.1999999999999993},null,{"$f":"INDEX(Backbone!$I$2:$I$893,MATCH(I29,Backbone!$A$2:$A$893,0))","v":6},null,{"$f":"INDEX(Backbone!$J$2:$J$893,MATCH(I29,Backbone!$A$2:$A$893,0))","v":6.4},null,{"$f":"INDEX(Backbone!$K$1:$K$893,MATCH(I29,Backbone!$A$1:$A$893,0))","v":7.3},null,{"$f":"INDEX(Backbone!$L$2:$L$893,MATCH(I29,Backbone!$A$2:$A$893,0))","v":7.7},null,{"$f":"INDEX(Backbone!$M$2:$M$893,MATCH(I29,Backbone!$A$2:$A$893,0))","v":4.5},null,{"$f":"INDEX(Backbone!$N$2:$N$893,MATCH(I29,Backbone!$A$2:$A$893,0))","v":5.3},null,{"$f":"INDEX(Backbone!$O$2:$O$893,MATCH(I29,Backbone!$A$2:$A$893,0))","v":6.2},null,{"$f":"INDEX(Backbone!$P$2:$P$893,MATCH(I29,Backbone!$A$2:$A$893,0))","v":8},null,{"$f":"INDEX(Backbone!$Q$2:$Q$893,MATCH(I29,Backbone!$A$2:$A$893,0))","v":0.66222222222222227},null,null,{"$f":"(AG29*$AG$22+AI29*$AI$22+AK29*$AK$22+AM29*$AM$22+AO29*$AO$22+AQ29*$AQ$22+AS29*$AS$22+AU29*$AU$22+AW29*$AW$22)/(SUM($AG$22:$AW$22)*10)","v":{"$error":"#DIV/0!"}},null,null,"Aller à \nBoîte à outils: ",null,{"$f":"HYPERLINK(\"#\"&ADDRESS(MATCH(I29,Toolbox!$C$1:$C$300),1,,,\"Toolbox\"),VLOOKUP(I29,Toolbox!$C$1:$C$300,1,FALSE))","v":"Évaluation ECDC des systèmes de suivi et de surveillance de la qualité des données - Manuel des méthodes et des applications "}]
[]
[]
[]
[]
[]
[null,null,null,null,null,null,null,null,{"$f":"Backbone!A234","v":"Outil d'évaluation des coûts du Règlement sanitaire international (RSI) de l'Université de Georgetown"},null,null,null,null,null,null,"Le modèle général et le cadre du plan de surveillance des maladies infectieuses.\n\n",null,null,null,null,null,null,null,null,{"$f":"INDEX(Backbone!$R$2:$R$893,MATCH(I35,Backbone!$A$2:$A$893,0))","v":"Outil d'autoévaluation"},null,null,null,{"$f":"INDEX(Backbone!$S$2:$S$893,MATCH(I35,Backbone!$A$2:$A$893,0))","v":"Spécifique du secteur; Généralisée"},null,null,null,{"$f":"INDEX(Backbone!$H$2:$H$893,MATCH(I35,Backbone!$A$2:$A$893,0))","v":9.6},null,{"$f":"INDEX(Backbone!$I$2:$I$893,MATCH(I35,Backbone!$A$2:$A$893,0))","v":6},null,{"$f":"INDEX(Backbone!$J$2:$J$893,MATCH(I35,Backbone!$A$2:$A$893,0))","v":9.3000000000000007},null,{"$f":"INDEX(Backbone!$K$1:$K$893,MATCH(I35,Backbone!$A$1:$A$893,0))","v":7.3},null,{"$f":"INDEX(Backbone!$L$2:$L$893,MATCH(I35,Backbone!$A$2:$A$893,0))","v":7.1},null,{"$f":"INDEX(Backbone!$M$2:$M$893,MATCH(I35,Backbone!$A$2:$A$893,0))","v":8.8000000000000007},null,{"$f":"INDEX(Backbone!$N$2:$N$893,MATCH(I35,Backbone!$A$2:$A$893,0))","v":9.3000000000000007},null,{"$f":"INDEX(Backbone!$O$2:$O$893,MATCH(I35,Backbone!$A$2:$A$893,0))","v":7.5},null,{"$f":"INDEX(Backbone!$P$2:$P$893,MATCH(I35,Backbone!$A$2:$A$893,0))","v":8},null,{"$f":"INDEX(Backbone!$Q$2:$Q$893,MATCH(I35,Backbone!$A$2:$A$893,0))","v":0.80999999999999994},null,null,{"$f":"(AG35*$AG$22+AI35*$AI$22+AK35*$AK$22+AM35*$AM$22+AO35*$AO$22+AQ35*$AQ$22+AS35*$AS$22+AU35*$AU$22+AW35*$AW$22)/(SUM($AG$22:$AW$22)*10)","v":{"$error":"#DIV/0!"}},null,null,"Aller à \nBoîte à outils: ",null,{"$f":"HYPERLINK(\"#\"&ADDRESS(MATCH(I35,Toolbox!$C$1:$C$300),1,,,\"Toolbox\"),VLOOKUP(I35,Toolbox!$C$1:$C$300,1,FALSE))","v":"Outil d'évaluation des coûts du Règlement sanitaire international (RSI) de l'Université de Georgetown"}]
[]
[]
[]
[]
[]
[null,null,null,null,null,null,null,null,{"$f":"Backbone!A176","v":"Directives pour la conception\nde plans de surveillance\ndes maladies animales\n"},null,null,null,null,null,null,"Le modèle général et le cadre du plan de surveillance des maladies infectieuses.\n\n",null,null,null,null,null,null,null,null,{"$f":"INDEX(Backbone!$R$2:$R$893,MATCH(I41,Backbone!$A$2:$A$893,0))","v":"Modèle"},null,null,null,{"$f":"INDEX(Backbone!$S$2:$S$893,MATCH(I41,Backbone!$A$2:$A$893,0))","v":"Spécifique du secteur; Généralisée"},null,null,null,{"$f":"INDEX(Backbone!$H$2:$H$893,MATCH(I41,Backbone!$A$2:$A$893,0))","v":9.1999999999999993},null,{"$f":"INDEX(Backbone!$I$2:$I$893,MATCH(I41,Backbone!$A$2:$A$893,0))","v":10},null,{"$f":"INDEX(Backbone!$J$2:$J$893,MATCH(I41,Backbone!$A$2:$A$893,0))","v":7.5},null,{"$f":"INDEX(Backbone!$K$1:$K$893,MATCH(I41,Backbone!$A$1:$A$893,0))","v":8.6999999999999993},null,{"$f":"INDEX(Backbone!$L$2:$L$893,MATCH(I41,Backbone!$A$2:$A$893,0))","v":5.7},null,{"$f":"INDEX(Backbone!$M$2:$M$893,MATCH(I41,Backbone!$A$2:$A$893,0))","v":2.5},null,{"$f":"INDEX(Backbone!$N$2:$N$893,MATCH(I41,Backbone!$A$2:$A$893,0))","v":3.3},null,{"$f":"INDEX(Backbone!$O$2:$O$893,MATCH(I41,Backbone!$A$2:$A$893,0))","v":5.0999999999999996},null,{"$f":"INDEX(Backbone!$P$2:$P$893,MATCH(I41,Backbone!$A$2:$A$893,0))","v":4},null,{"$f":"INDEX(Backbone!$Q$2:$Q$893,MATCH(I41,Backbone!$A$2:$A$893,0))","v":0.62222222222222223},null,null,{"$f":"(AG41*$AG$22+AI41*$AI$22+AK41*$AK$22+AM41*$AM$22+AO41*$AO$22+AQ41*$AQ$22+AS41*$AS$22+AU41*$AU$22+AW41*$AW$22)/(SUM($AG$22:$AW$22)*10)","v":{"$error":"#DIV/0!"}},null,null,"Aller à \nBoîte à outils: ",null,{"$f":"HYPERLINK(\"#\"&ADDRESS(MATCH(I41,Toolbox!$C$1:$C$300),1,,,\"Toolbox\"),VLOOKUP(I41,Toolbox!$C$1:$C$300,1,FALSE))","v":"Directives pour la conception\nde plans de surveillance\ndes maladies animales\n"}]
[]
[]
[]
[]
[]
[null,null,null,null,null,null,null,null,{"$f":"Backbone!A33","v":"Cadre pour le renforcement de la prévention et du contrôle de l'anthrax "},null,null,null,null,null,null,"Le Cadre présente un historique de la maladie du charbon et explique comment améliorer la prévention et le contrôle de cette maladie chez les animaux et les humains.",null,null,null,null,null,null,null,null,{"$f":"INDEX(Backbone!$R$2:$R$893,MATCH(I47,Backbone!$A$2:$A$893,0))","v":"Document d'orientation"},null,null,null,{"$f":"INDEX(Backbone!$S$2:$S$893,MATCH(I47,Backbone!$A$2:$A$893,0))","v":"«Une seule santé»; spécifique d'une maladie/menace "},null,null,null,{"$f":"INDEX(Backbone!$H$2:$H$893,MATCH(I47,Backbone!$A$2:$A$893,0))","v":9.1},null,{"$f":"INDEX(Backbone!$I$2:$I$893,MATCH(I47,Backbone!$A$2:$A$893,0))","v":10},null,{"$f":"INDEX(Backbone!$J$2:$J$893,MATCH(I47,Backbone!$A$2:$A$893,0))","v":8.6},null,{"$f":"INDEX(Backbone!$K$1:$K$893,MATCH(I47,Backbone!$A$1:$A$893,0))","v":4.7},null,{"$f":"INDEX(Backbone!$L$2:$L$893,MATCH(I47,Backbone!$A$2:$A$893,0))","v":9.1999999999999993},null,{"$f":"INDEX(Backbone!$M$2:$M$893,MATCH(I47,Backbone!$A$2:$A$893,0))","v":2},null,{"$f":"INDEX(Backbone!$N$2:$N$893,MATCH(I47,Backbone!$A$2:$A$893,0))","v":6.3},null,{"$f":"INDEX(Backbone!$O$2:$O$893,MATCH(I47,Backbone!$A$2:$A$893,0))","v":4.3},null,{"$f":"INDEX(Backbone!$P$2:$P$893,MATCH(I47,Backbone!$A$2:$A$893,0))","v":6},null,{"$f":"INDEX(Backbone!$Q$2:$Q$893,MATCH(I47,Backbone!$A$2:$A$893,0))","v":0.66888888888888887},null,null,{"$f":"(AG47*$AG$22+AI47*$AI$22+AK47*$AK$22+AM47*$AM$22+AO47*$AO$22+AQ47*$AQ$22+AS47*$AS$22+AU47*$AU$22+AW47*$AW$22)/(SUM($AG$22:$AW$22)*10)","v":{"$error":"#DIV/0!"}},null,null,"Aller à \nBoîte à outils: ",null,{"$f":"HYPERLINK(\"#\"&ADDRESS(MATCH(I47,Toolbox!$C$1:$C$300),1,,,\"Toolbox\"),VLOOKUP(I47,Toolbox!$C$1:$C$300,1,FALSE))","v":"Cadre pour le renforcement de la prévention et du contrôle de l'anthrax "}]
[]
[]
[]
[]
[]
[null,null,null,null,null,null,null,null,{"$f":"Backbone!A195","v":"Surveillance intégrée de la maladie et la riposte (IDSR)"},null,null,null,null,null,null,"Une stratégie visant à renforcer les capacités pour la détection, la confirmation et la réponse aux cas suspects et à l'apparition de foyers épidémiques, ainsi que pour l'utilisation des informations afin de prédire et de planifier les événements de santé publique.",null,null,null,null,null,null,null,null,{"$f":"INDEX(Backbone!$R$2:$R$893,MATCH(I53,Backbone!$A$2:$A$893,0))","v":"Document d'orientation"},null,null,null,{"$f":"INDEX(Backbone!$S$2:$S$893,MATCH(I53,Backbone!$A$2:$A$893,0))","v":"Spécifique du secteur; Généralisée"},null,null,null,{"$f":"INDEX(Backbone!$H$2:$H$893,MATCH(I53,Backbone!$A$2:$A$893,0))","v":7.4},null,{"$f":"INDEX(Backbone!$I$2:$I$893,MATCH(I53,Backbone!$A$2:$A$893,0))","v":10},null,{"$f":"INDEX(Backbone!$J$2:$J$893,MATCH(I53,Backbone!$A$2:$A$893,0))","v":7.4},null,{"$f":"INDEX(Backbone!$K$1:$K$893,MATCH(I53,Backbone!$A$1:$A$893,0))","v":8.6999999999999993},null,{"$f":"INDEX(Backbone!$L$2:$L$893,MATCH(I53,Backbone!$A$2:$A$893,0))","v":6.7},null,{"$f":"INDEX(Backbone!$M$2:$M$893,MATCH(I53,Backbone!$A$2:$A$893,0))","v":4.5},null,{"$f":"INDEX(Backbone!$N$2:$N$893,MATCH(I53,Backbone!$A$2:$A$893,0))","v":8},null,{"$f":"INDEX(Backbone!$O$2:$O$893,MATCH(I53,Backbone!$A$2:$A$893,0))","v":7.2},null,{"$f":"INDEX(Backbone!$P$2:$P$893,MATCH(I53,Backbone!$A$2:$A$893,0))","v":8.5},null,{"$f":"INDEX(Backbone!$Q$2:$Q$893,MATCH(I53,Backbone!$A$2:$A$893,0))","v":0.76},null,null,{"$f":"(AG53*$AG$22+AI53*$AI$22+AK53*$AK$22+AM53*$AM$22+AO53*$AO$22+AQ53*$AQ$22+AS53*$AS$22+AU53*$AU$22+AW53*$AW$22)/(SUM($AG$22:$AW$22)*10)","v":{"$error":"#DIV/0!"}},null,null,"Aller à \nBoîte à outils: ",null,{"$f":"HYPERLINK(\"#\"&ADDRESS(MATCH(I53,Toolbox!$C$1:$C$300),1,,,\"Toolbox\"),VLOOKUP(I53,Toolbox!$C$1:$C$300,1,FALSE))","v":"Surveillance intégrée de la maladie et la riposte (IDSR)"}]

{"sheet":"P6_tools","index":43,"n_rows":36,"n_cols":59,"rows_kept":36,"cut":false,"hidden":false,"merged":[[29,46,33,46],[29,48,33,48],[29,50,33,51],[29,53,33,54],[35,8,39,13],[35,15,39,22],[35,48,39,48],[35,50,39,51],[35,53,39,54],[35,36,39,36],[35,38,39,38],[35,40,39,40],[35,42,39,42],[35,44,39,44],[35,46,39,46],[35,32,39,32],[17,1,40,1],[29,36,33,36],[22,36,26,36],[22,3,26,6],[22,8,26,13],[22,15,26,22],[22,24,26,26],[22,28,26,30],[22,32,26,32],[22,34,26,34],[17,28,20,30],[29,38,33,38],[29,40,33,40],[29,42,33,42],[29,44,33,44],[29,3,39,6],[29,8,33,13],[29,15,33,22],[29,24,33,26],[29,28,33,30],[35,24,39,26],[35,28,39,30],[35,34,39,34],[29,34,33,34],[29,32,33,32],[22,53,26,54],[22,38,26,38],[22,40,26,40],[22,42,26,42],[22,44,26,44],[22,46,26,46],[22,48,26,48],[22,50,26,51],[13,50,20,51],[13,53,20,54],[17,3,20,6],[17,8,20,13],[17,15,20,22],[17,24,20,26],[35,56,39,57],[35,58,39,62],[1,1,3,62],[22,56,26,57],[22,58,26,62],[29,56,33,57],[29,58,33,62],[6,32,20,32],[6,34,20,34],[6,36,20,36],[6,38,20,38],[6,40,20,40],[6,42,20,42],[6,44,20,44],[6,46,20,46],[6,48,20,48]]}
[]
[null,"Ressources pour la planification des ressources humaines"]
[]
[]
[]
[]
[null,null,null,null,null,null,null,null,null,null,null,null,null,null,null,null,null,null,null,null,null,null,null,null,null,null,null,null,null,null,null,null,"Accessibilité",null,"Langue",null,"Facilité d'utilisation",null,"Flexibilité",null,"Besoins de données",null,"Analyse des données",null,"Acceptabilité",null,"«Une seule santé»",null,"Impact"]
[]
[]
[]
[]
[]
[]
[null,null,null,null,null,null,null,null,null,null,null,null,null,null,null,null,null,null,null,null,null,null,null,null,null,null,null,null,null,null,null,null,null,null,null,null,null,null,null,null,null,null,null,null,null,null,null,null,null,null,"SCORE BRUT",null,null,"SCORE AJUSTÉ \n(Selon les préférences de l'utilisateur)"]
[]
[]
[]
[null,"RESSOURCES DE NIVEAU 1",null,"DÉSIGNATION",null,null,null,null,"NOM DE LA RESSOURCE",null,null,null,null,null,null,"BRÈVE DESCRIPTION",null,null,null,null,null,null,null,null,"TYPE DE RESSOURCE",null,null,null,"CARACTÈRE GÉNÉRAL DE LA RESSOURCE"]
[]
[]
[]
[null,null,null,null,null,null,null,null,null,null,null,null,null,null,null,null,null,null,null,null,null,null,null,null,null,null,null,null,null,null,null,null,{"$f":"'Attribute Survey'!S22","v":0},null,{"$f":"'Attribute Survey'!S26","v":0},null,{"$f":"'Attribute Survey'!S30","v":0},null,{"$f":"'Attribute Survey'!S34","v":0},null,{"$f":"'Attribute Survey'!S38","v":0},null,{"$f":"'Attribute Survey'!S42","v":0},null,{"$f":"'Attribute Survey'!S46","v":0},null,{"$f":"'Attribute Survey'!S50","v":0},null,{"$f":"'Attribute Survey'!S54","v":0}]
[null,null,null,"Ressources les mieux adaptées",null,null,null,null,{"$f":"Backbone!A195","v":"Surveillance intégrée de la maladie et la riposte (IDSR)"},null,null,null,null,null,null,"Une stratégie visant à renforcer les capacités pour la détection, la confirmation et la réponse aux cas suspects et à l'apparition de foyers épidémiques, ainsi que pour l'utilisation des informations afin de prédire et de planifier les événements de santé publique.",null,null,null,null,null,null,null,null,{"$f":"INDEX(Backbone!$R2:$R893,MATCH(I23,Backbone!$A2:$A893,0))","v":"Document d'orientation"},null,null,null,{"$f":"INDEX(Backbone!$S2:$S893,MATCH(I23,Backbone!$A2:$A893,0))","v":"Spécifique du secteur; Généralisée"},null,null,null,{"$f":"INDEX(Backbone!$H2:$H893,MATCH(I23,Backbone!$A2:$A893,0))","v":7.4},null,{"$f":"INDEX(Backbone!$I2:$I893,MATCH(I23,Backbone!$A2:$A893,0))","v":10},null,{"$f":"INDEX(Backbone!$J2:$J893,MATCH(I23,Backbone!$A2:$A893,0))","v":7.4},null,{"$f":"INDEX(Backbone!$K2:$K893,MATCH(I23,Backbone!$A2:$A893,0))","v":8.6999999999999993},null,{"$f":"INDEX(Backbone!$L2:$L893,MATCH(I23,Backbone!$A2:$A893,0))","v":6.7},null,{"$f":"INDEX(Backbone!$M2:$M893,MATCH(I23,Backbone!$A2:$A893,0))","v":4.5},null,{"$f":"INDEX(Backbone!$N2:$N893,MATCH(I23,Backbone!$A2:$A893,0))","v":8},null,{"$f":"INDEX(Backbone!$O2:$O893,MATCH(I23,Backbone!$A2:$A893,0))","v":7.2},null,{"$f":"INDEX(Backbone!$P2:$P893,MATCH(I23,Backbone!$A2:$A893,0))","v":8.5},null,{"$f":"INDEX(Backbone!$Q2:$Q893,MATCH(I23,Backbone!$A2:$A893,0))","v":0.76},null,null,{"$f":"(AG23*$AG$22+AI23*$AI$22+AK23*$AK$22+AM23*$AM$22+AO23*$AO$22+AQ23*$AQ$22+AS23*$AS$22+AU23*$AU$22+AW23*$AW$22)/(SUM($AG$22:$AW$22)*10)","v":{"$error":"#DIV/0!"}},null,null,"Aller à \nBoîte à outils: ",null,{"$f":"HYPERLINK(\"#\"&ADDRESS(MATCH(I23,Toolbox!$C$1:$C$300),1,,,\"Toolbox\"),VLOOKUP(I23,Toolbox!$C$1:$C$300,1,FALSE))","v":"Surveillance intégrée de la maladie et la riposte (IDSR)"}]
[]
[]
[]
[]
[]
[]
[null,null,null,"Autres ressources intéressantes",null,null,null,null,{"$f":"Backbone!A184","v":"Processus d'élimination globale de la rage chez le chien (GDREP)"},null,null,null,null,null,null,"Un outil sous Excel offrant une interface conviviale comprenant les différents aspects d'un programme d'élimination de la rage canine, répartis en deux catégories principales portant respectivement sur les aspects épidémiologiques/logistiques et financiers.",null,null,null,null,null,null,null,null,{"$f":"INDEX(Backbone!$R$2:$R$893,MATCH(I30,Backbone!$A$2:$A$893,0))","v":"Outil d'autoévaluation"},null,null,null,{"$f":"INDEX(Backbone!$S$2:$S$893,MATCH(I30,Backbone!$A$2:$A$893,0))","v":"«Une seule santé»; spécifique d'une maladie/menace "},null,null,null,{"$f":"INDEX(Backbone!$H$2:$H$893,MATCH(I30,Backbone!$A$2:$A$893,0))","v":9.1},null,{"$f":"INDEX(Backbone!$I$2:$I$893,MATCH(I30,Backbone!$A$2:$A$893,0))","v":7.3},null,{"$f":"INDEX(Backbone!$J$2:$J$893,MATCH(I30,Backbone!$A$2:$A$893,0))","v":8.6999999999999993},null,{"$f":"INDEX(Backbone!$K$1:$K$893,MATCH(I30,Backbone!$A$1:$A$893,0))","v":6},null,{"$f":"INDEX(Backbone!$L$2:$L$893,MATCH(I30,Backbone!$A$2:$A$893,0))","v":7.9},null,{"$f":"INDEX(Backbone!$M$2:$M$893,MATCH(I30,Backbone!$A$2:$A$893,0))","v":6},null,{"$f":"INDEX(Backbone!$N$2:$N$893,MATCH(I30,Backbone!$A$2:$A$893,0))","v":7},null,{"$f":"INDEX(Backbone!$O$2:$O$893,MATCH(I30,Backbone!$A$2:$A$893,0))","v":6.3},null,{"$f":"INDEX(Backbone!$P$2:$P$893,MATCH(I30,Backbone!$A$2:$A$893,0))","v":7},null,{"$f":"INDEX(Backbone!$Q$2:$Q$893,MATCH(I30,Backbone!$A$2:$A$893,0))","v":0.72555555555555551},null,null,{"$f":"(AG30*$AG$22+AI30*$AI$22+AK30*$AK$22+AM30*$AM$22+AO30*$AO$22+AQ30*$AQ$22+AS30*$AS$22+AU30*$AU$22+AW30*$AW$22)/(SUM($AG$22:$AW$22)*10)","v":{"$error":"#DIV/0!"}},null,null,"Aller à \nBoîte à outils: ",null,{"$f":"HYPERLINK(\"#\"&ADDRESS(MATCH(I30,Toolbox!$C$1:$C$300),1,,,\"Toolbox\"),VLOOKUP(I30,Toolbox!$C$1:$C$300,1,FALSE))","v":"Processus d'élimination globale de la rage chez le chien (GDREP)"}]
[]
[]
[]
[]
[]
[null,null,null,null,null,null,null,null,{"$f":"Backbone!A265","v":"Cadre de compétences de leadership pour les laboratoires (GLLP)"},null,null,null,null,null,null,"Le Cadre qui décrit les neuf compétences essentielles pour construire et diriger un «système national de laboratoires de santé» comprenant des laboratoires humains, vétérinaires, environnementaux, agricoles, alimentaires et chimiques.",null,null,null,null,null,null,null,null,{"$f":"INDEX(Backbone!$R$2:$R$893,MATCH(I36,Backbone!$A$2:$A$893,0))","v":"Document d'orientation"},null,null,null,{"$f":"INDEX(Backbone!$S$2:$S$893,MATCH(I36,Backbone!$A$2:$A$893,0))","v":"«Une seule santé»; Généralisée"},null,null,null,{"$f":"INDEX(Backbone!$H$2:$H$893,MATCH(I36,Backbone!$A$2:$A$893,0))","v":9.6},null,{"$f":"INDEX(Backbone!$I$2:$I$893,MATCH(I36,Backbone!$A$2:$A$893,0))","v":8},null,{"$f":"INDEX(Backbone!$J$2:$J$893,MATCH(I36,Backbone!$A$2:$A$893,0))","v":8.4},null,{"$f":"INDEX(Backbone!$K$1:$K$893,MATCH(I36,Backbone!$A$1:$A$893,0))","v":9.6999999999999993},null,{"$f":"INDEX(Backbone!$L$2:$L$893,MATCH(I36,Backbone!$A$2:$A$893,0))","v":7.3},null,{"$f":"INDEX(Backbone!$M$2:$M$893,MATCH(I36,Backbone!$A$2:$A$893,0))","v":2.2999999999999998},null,{"$f":"INDEX(Backbone!$N$2:$N$893,MATCH(I36,Backbone!$A$2:$A$893,0))","v":5},null,{"$f":"INDEX(Backbone!$O$2:$O$893,MATCH(I36,Backbone!$A$2:$A$893,0))","v":8.9},null,{"$f":"INDEX(Backbone!$P$2:$P$893,MATCH(I36,Backbone!$A$2:$A$893,0))","v":4},null,{"$f":"INDEX(Backbone!$Q$2:$Q$893,MATCH(I36,Backbone!$A$2:$A$893,0))","v":0.70222222222222219},null,null,{"$f":"(AG36*$AG$22+AI36*$AI$22+AK36*$AK$22+AM36*$AM$22+AO36*$AO$22+AQ36*$AQ$22+AS36*$AS$22+AU36*$AU$22+AW36*$AW$22)/(SUM($AG$22:$AW$22)*10)","v":{"$error":"#DIV/0!"}},null,null,"Aller à \nBoîte à outils: ",null,{"$f":"HYPERLINK(\"#\"&ADDRESS(MATCH(I36,Toolbox!$C$1:$C$300),1,,,\"Toolbox\"),VLOOKUP(I36,Toolbox!$C$1:$C$300,1,FALSE))","v":"Cadre de compétences de leadership pour les laboratoires (GLLP)"}]

{"sheet":"P7_tools","index":44,"n_rows":89,"n_cols":59,"rows_kept":89,"cut":false,"hidden":false,"merged":[[88,53,92,54],[88,36,92,36],[88,38,92,38],[88,40,92,40],[88,42,92,42],[88,44,92,44],[88,46,92,46],[81,48,85,48],[81,50,85,51],[81,53,85,54],[81,36,85,36],[81,38,85,38],[72,53,79,54],[76,3,79,6],[76,8,79,13],[76,15,79,22],[76,24,79,26],[76,28,79,30],[81,3,85,6],[65,32,79,32],[65,34,79,34],[65,36,79,36],[65,38,79,38],[65,40,79,40],[65,42,79,42],[65,44,79,44],[65,46,79,46],[81,44,85,44],[81,46,85,46],[81,8,85,13],[81,15,85,22],[81,24,85,26],[81,28,85,30],[81,32,85,32],[81,42,85,42],[65,48,79,48],[81,34,85,34],[45,1,55,1],[40,48,44,48],[40,50,44,51],[81,40,85,40],[72,50,79,51],[72,1,96,1],[88,48,92,48],[88,50,92,51],[88,3,92,6],[88,8,92,13],[88,15,92,22],[88,24,92,26],[88,28,92,30],[88,32,92,32],[88,34,92,34],[40,36,44,36],[40,38,44,38],[40,40,44,40],[40,42,44,42],[40,44,44,44],[40,46,44,46],[40,8,44,13],[40,15,44,22],[6,40,20,40],[6,42,20,42],[6,44,20,44],[6,46,20,46],[6,48,20,48],[13,50,20,51],[13,53,20,54],[17,1,44,1],[17,3,20,6],[17,8,20,13],[17,15,20,22],[28,42,32,42],[17,24,20,26],[28,44,32,44],[28,46,32,46],[28,48,32,48],[28,50,32,51],[28,24,32,26],[28,28,32,30],[40,53,44,54],[40,24,44,26],[40,28,44,30],[40,32,44,32],[40,34,44,34],[22,48,26,48],[22,15,26,22],[22,24,26,26],[22,28,26,30],[22,32,26,32],[17,28,20,30],[22,3,44,6],[22,8,26,13],[34,42,38,42],[34,44,38,44],[34,46,38,46],[34,48,38,48],[34,32,38,32],[34,34,38,34],[34,36,38,36],[34,38,38,38],[34,40,38,40],[28,40,32,40],[34,15,38,22],[34,28,38,30],[6,32,20,32],[6,34,20,34],[6,36,20,36],[6,38,20,38],[28,36,32,36],[28,38,32,38],[22,38,26,38],[22,40,26,40],[22,42,26,42],[22,34,26,34],[22,36,26,36],[22,44,26,44],[22,46,26,46],[81,56,85,57],[81,58,85,62],[88,56,92,57],[88,58,92,62],[1,1,3,62],[22,56,26,57],[22,58,26,62],[28,56,32,57],[28,58,32,62],[34,56,38,57],[34,58,38,62],[40,56,44,57],[40,58,44,62],[34,50,38,51],[34,53,38,54],[28,53,32,54],[34,8,38,13],[34,24,38,26],[22,50,26,51],[22,53,26,54],[28,8,32,13],[28,15,32,22],[28,32,32,32],[28,34,32,34]]}
[]
[null,"Ressources pour la planification des cadres juridiques"]
[]
[]
[]
[]
[null,null,null,null,null,null,null,null,null,null,null,null,null,null,null,null,null,null,null,null,null,null,null,null,null,null,null,null,null,null,null,null,"Accessibilité",null,"Langue",null,"Facilité d'utilisation",null,"Flexibilité",null,"Besoins de données",null,"Analyse des données",null,"Acceptabilité",null,"«Une seule santé»",null,"Impact"]
[]
[]
[]
[]
[]
[]
[null,null,null,null,null,null,null,null,null,null,null,null,null,null,null,null,null,null,null,null,null,null,null,null,null,null,null,null,null,null,null,null,null,null,null,null,null,null,null,null,null,null,null,null,null,null,null,null,null,null,"SCORE BRUT",null,null,"SCORE AJUSTÉ \n(Selon les préférences de l'utilisateur)"]
[]
[]
[]
[null,"RESSOURCES DE NIVEAU 1",null,"DÉSIGNATION",null,null,null,null,"NOM DE LA RESSOURCE",null,null,null,null,null,null,"BRÈVE DESCRIPTION",null,null,null,null,null,null,null,null,"TYPE DE RESSOURCE",null,null,null,"CARACTÈRE GÉNÉRAL DE LA RESSOURCE"]
[]
[]
[]
[null,null,null,null,null,null,null,null,null,null,null,null,null,null,null,null,null,null,null,null,null,null,null,null,null,null,null,null,null,null,null,null,{"$f":"'Attribute Survey'!S22","v":0},null,{"$f":"'Attribute Survey'!S26","v":0},null,{"$f":"'Attribute Survey'!S30","v":0},null,{"$f":"'Attribute Survey'!S34","v":0},null,{"$f":"'Attribute Survey'!S38","v":0},null,{"$f":"'Attribute Survey'!S42","v":0},null,{"$f":"'Attribute Survey'!S46","v":0},null,{"$f":"'Attribute Survey'!S50","v":0},null,{"$f":"'Attribute Survey'!S54","v":0}]
[null,null,null,"Autres ressources intéressantes",null,null,null,null,{"$f":"Backbone!A184","v":"Processus d'élimination globale de la rage chez le chien (GDREP)"},null,null,null,null,null,null,"Un outil sous Excel offrant une interface conviviale comprenant les différents aspects d'un programme d'élimination de la rage canine, répartis en deux catégories principales portant respectivement sur les aspects épidémiologiques/logistiques et financiers.",null,null,null,null,null,null,null,null,{"$f":"INDEX(Backbone!$R$2:$R$893,MATCH(I23,Backbone!$A$2:$A$893,0))","v":"Outil d'autoévaluation"},null,null,null,{"$f":"INDEX(Backbone!$S$2:$S$893,MATCH(I23,Backbone!$A$2:$A$893,0))","v":"«Une seule santé»; spécifique d'une maladie/menace "},null,null,null,{"$f":"INDEX(Backbone!$H$2:$H$893,MATCH(I23,Backbone!$A$2:$A$893,0))","v":9.1},null,{"$f":"INDEX(Backbone!$I$2:$I$893,MATCH(I23,Backbone!$A$2:$A$893,0))","v":7.3},null,{"$f":"INDEX(Backbone!$J$2:$J$893,MATCH(I23,Backbone!$A$2:$A$893,0))","v":8.6999999999999993},null,{"$f":"INDEX(Backbone!$K$1:$K$893,MATCH(I23,Backbone!$A$1:$A$893,0))","v":6},null,{"$f":"INDEX(Backbone!$L$2:$L$893,MATCH(I23,Backbone!$A$2:$A$893,0))","v":7.9},null,{"$f":"INDEX(Backbone!$M$2:$M$893,MATCH(I23,Backbone!$A$2:$A$893,0))","v":6},null,{"$f":"INDEX(Backbone!$N$2:$N$893,MATCH(I23,Backbone!$A$2:$A$893,0))","v":7},null,{"$f":"INDEX(Backbone!$O$2:$O$893,MATCH(I23,Backbone!$A$2:$A$893,0))","v":6.3},null,{"$f":"INDEX(Backbone!$P$2:$P$893,MATCH(I23,Backbone!$A$2:$A$893,0))","v":7},null,{"$f":"INDEX(Backbone!$Q$2:$Q$893,MATCH(I23,Backbone!$A$2:$A$893,0))","v":0.72555555555555551},null,null,{"$f":"(AG23*$AG$22+AI23*$AI$22+AK23*$AK$22+AM23*$AM$22+AO23*$AO$22+AQ23*$AQ$22+AS23*$AS$22+AU23*$AU$22+AW23*$AW$22)/(SUM($AG$22:$AW$22)*10)","v":{"$error":"#DIV/0!"}},null,null,"Aller à \nBoîte à outils: ",null,{"$f":"HYPERLINK(\"#\"&ADDRESS(MATCH(I23,Toolbox!$C$1:$C$300),1,,,\"Toolbox\"),VLOOKUP(I23,Toolbox!$C$1:$C$300,1,FALSE))","v":"Processus d'élimination globale de la rage chez le chien (GDREP)"}]
[]
[]
[]
[]
[]
[null,null,null,null,null,null,null,null,{"$f":"Backbone!A291","v":"Méthodologie d'analyse de la législation relative à la RAM dans le secteur de l'alimentation et de l'agriculture"},null,null,null,null,null,null,"Une méthodologie conçue pour orienter les analyses de la législation nationale en matière de RAM dans les secteurs de l'alimentation et de l'agriculture.",null,null,null,null,null,null,null,null,{"$f":"INDEX(Backbone!$R$2:$R$893,MATCH(I29,Backbone!$A$2:$A$893,0))","v":"Document d'orientation"},null,null,null,{"$f":"INDEX(Backbone!$S$2:$S$893,MATCH(I29,Backbone!$A$2:$A$893,0))","v":"«Une seule santé»; Généralisée"},null,null,null,{"$f":"INDEX(Backbone!$H$2:$H$893,MATCH(I29,Backbone!$A$2:$A$893,0))","v":7.4},null,{"$f":"INDEX(Backbone!$I$2:$I$893,MATCH(I29,Backbone!$A$2:$A$893,0))","v":5.5},null,{"$f":"INDEX(Backbone!$J$2:$J$893,MATCH(I29,Backbone!$A$2:$A$893,0))","v":7.6},null,{"$f":"INDEX(Backbone!$K$1:$K$893,MATCH(I29,Backbone!$A$1:$A$893,0))","v":4},null,{"$f":"INDEX(Backbone!$L$2:$L$893,MATCH(I29,Backbone!$A$2:$A$893,0))","v":8.1999999999999993},null,{"$f":"INDEX(Backbone!$M$2:$M$893,MATCH(I29,Backbone!$A$2:$A$893,0))","v":4.5},null,{"$f":"INDEX(Backbone!$N$2:$N$893,MATCH(I29,Backbone!$A$2:$A$893,0))","v":4.5},null,{"$f":"INDEX(Backbone!$O$2:$O$893,MATCH(I29,Backbone!$A$2:$A$893,0))","v":6.6},null,{"$f":"INDEX(Backbone!$P$2:$P$893,MATCH(I29,Backbone!$A$2:$A$893,0))","v":4.5},null,{"$f":"INDEX(Backbone!$Q$2:$Q$893,MATCH(I29,Backbone!$A$2:$A$893,0))","v":0.58666666666666667},null,null,{"$f":"(AG29*$AG$22+AI29*$AI$22+AK29*$AK$22+AM29*$AM$22+AO29*$AO$22+AQ29*$AQ$22+AS29*$AS$22+AU29*$AU$22+AW29*$AW$22)/(SUM($AG$22:$AW$22)*10)","v":{"$error":"#DIV/0!"}},null,null,"Aller à \nBoîte à outils: ",null,{"$f":"HYPERLINK(\"#\"&ADDRESS(MATCH(I29,Toolbox!$C$1:$C$300),1,,,\"Toolbox\"),VLOOKUP(I29,Toolbox!$C$1:$C$300,1,FALSE))","v":"Méthodologie d'analyse de la législation relative à la RAM dans le secteur de l'alimentation et de l'agriculture"}]
[]
[]
[]
[]
[]
[null,null,null,null,null,null,null,null,{"$f":"Backbone!A420","v":"Analyse des écarts PVS de l'Organisation mondiale de la santé animale (OMSA)"},null,null,null,null,null,null,"Aide les pays à réaliser une planification détaillée en fonction des résultats de leur évaluation PVS.",null,null,null,null,null,null,null,null,{"$f":"INDEX(Backbone!$R$2:$R$893,MATCH(I35,Backbone!$A$2:$A$893,0))","v":"Outil ou processus dirigé/facilité"},null,null,null,{"$f":"INDEX(Backbone!$S$2:$S$893,MATCH(I35,Backbone!$A$2:$A$893,0))","v":"Spécifique du secteur; Généralisée"},null,null,null,{"$f":"INDEX(Backbone!$H$2:$H$893,MATCH(I35,Backbone!$A$2:$A$893,0))","v":6.8},null,{"$f":"INDEX(Backbone!$I$2:$I$893,MATCH(I35,Backbone!$A$2:$A$893,0))","v":8},null,{"$f":"INDEX(Backbone!$J$2:$J$893,MATCH(I35,Backbone!$A$2:$A$893,0))","v":5.6},null,{"$f":"INDEX(Backbone!$K$1:$K$893,MATCH(I35,Backbone!$A$1:$A$893,0))","v":10},null,{"$f":"INDEX(Backbone!$L$2:$L$893,MATCH(I35,Backbone!$A$2:$A$893,0))","v":6},null,{"$f":"INDEX(Backbone!$M$2:$M$893,MATCH(I35,Backbone!$A$2:$A$893,0))","v":4.3},null,{"$f":"INDEX(Backbone!$N$2:$N$893,MATCH(I35,Backbone!$A$2:$A$893,0))","v":9.5},null,{"$f":"INDEX(Backbone!$O$2:$O$893,MATCH(I35,Backbone!$A$2:$A$893,0))","v":4.7},null,{"$f":"INDEX(Backbone!$P$2:$P$893,MATCH(I35,Backbone!$A$2:$A$893,0))","v":7},null,{"$f":"INDEX(Backbone!$Q$2:$Q$893,MATCH(I35,Backbone!$A$2:$A$893,0))","v":0.68777777777777771},null,null,{"$f":"(AG35*$AG$22+AI35*$AI$22+AK35*$AK$22+AM35*$AM$22+AO35*$AO$22+AQ35*$AQ$22+AS35*$AS$22+AU35*$AU$22+AW35*$AW$22)/(SUM($AG$22:$AW$22)*10)","v":{"$error":"#DIV/0!"}},null,null,"Aller à \nBoîte à outils: ",null,{"$f":"HYPERLINK(\"#\"&ADDRESS(MATCH(I35,Toolbox!$C$1:$C$300),1,,,\"Toolbox\"),VLOOKUP(I35,Toolbox!$C$1:$C$300,1,FALSE))","v":"Analyse des écarts PVS de l'Organisation mondiale de la santé animale (OMSA)"}]
[]
[]
[]
[]
[]
[null,null,null,null,null,null,null,null,{"$f":"Backbone!A453","v":"Approche par étapes pour l'élimination de la rage (SARE)"},null,null,null,null,null,null,"Un outil pratique de planification, de suivi et d'évaluation qui permet d'orienter, de déployer et d'affiner des programmes de lutte contre la rage.",null,null,null,null,null,null,null,null,{"$f":"INDEX(Backbone!$R$2:$R$893,MATCH(I41,Backbone!$A$2:$A$893,0))","v":"Outil d'autoévaluation"},null,null,null,{"$f":"INDEX(Backbone!$S$2:$S$893,MATCH(I41,Backbone!$A$2:$A$893,0))","v":"«Une seule santé»; spécifique d'une maladie/menace "},null,null,null,{"$f":"INDEX(Backbone!$H$2:$H$893,MATCH(I41,Backbone!$A$2:$A$893,0))","v":8},null,{"$f":"INDEX(Backbone!$I$2:$I$893,MATCH(I41,Backbone!$A$2:$A$893,0))","v":9},null,{"$f":"INDEX(Backbone!$J$2:$J$893,MATCH(I41,Backbone!$A$2:$A$893,0))","v":6.6},null,{"$f":"INDEX(Backbone!$K$1:$K$893,MATCH(I41,Backbone!$A$1:$A$893,0))","v":3.3},null,{"$f":"INDEX(Backbone!$L$2:$L$893,MATCH(I41,Backbone!$A$2:$A$893,0))","v":5.7},null,{"$f":"INDEX(Backbone!$M$2:$M$893,MATCH(I41,Backbone!$A$2:$A$893,0))","v":6.8},null,{"$f":"INDEX(Backbone!$N$2:$N$893,MATCH(I41,Backbone!$A$2:$A$893,0))","v":8},null,{"$f":"INDEX(Backbone!$O$2:$O$893,MATCH(I41,Backbone!$A$2:$A$893,0))","v":8.6},null,{"$f":"INDEX(Backbone!$P$2:$P$893,MATCH(I41,Backbone!$A$2:$A$893,0))","v":9.5},null,{"$f":"INDEX(Backbone!$Q$2:$Q$893,MATCH(I41,Backbone!$A$2:$A$893,0))","v":0.72777777777777775},null,null,{"$f":"(AG41*$AG$22+AI41*$AI$22+AK41*$AK$22+AM41*$AM$22+AO41*$AO$22+AQ41*$AQ$22+AS41*$AS$22+AU41*$AU$22+AW41*$AW$22)/(SUM($AG$22:$AW$22)*10)","v":{"$error":"#DIV/0!"}},null,null,"Aller à \nBoîte à outils: ",null,{"$f":"HYPERLINK(\"#\"&ADDRESS(MATCH(I41,Toolbox!$C$1:$C$300),1,,,\"Toolbox\"),VLOOKUP(I41,Toolbox!$C$1:$C$300,1,FALSE))","v":"Approche par étapes pour l'élimination de la rage (SARE)"}]
[]
[]
[]
[]
[]
[]
[]
[]
[]
[]
[]
[]
[]
[]
[]
[]
[]
[]
[]
[]
[]
[]
[]
[]
[null,null,null,null,null,null,null,null,null,null,null,null,null,null,null,null,null,null,null,null,null,null,null,null,null,null,null,null,null,null,null,null,"Accessibilité",null,"Langue",null,"Facilité d'utilisation",null,"Flexibilité",null,"Besoins de données",null,"Analyse des données",null,"Acceptabilité",null,"«Une seule santé»",null,"Impact"]
[]
[]
[]
[]
[]
[]
[null,"RESSOURCES DE NIVEAU 3",null,null,null,null,null,null,null,null,null,null,null,null,null,null,null,null,null,null,null,null,null,null,null,null,null,null,null,null,null,null,null,null,null,null,null,null,null,null,null,null,null,null,null,null,null,null,null,null,"SCORE BRUT",null,null,"SCORE AJUSTÉ \n(Selon les préférences de l'utilisateur)"]
[]
[]
[]
[null,null,null,"DÉSIGNATION",null,null,null,null,"NOM DE LA RESSOURCE",null,null,null,null,null,null,"BRÈVE DESCRIPTION",null,null,null,null,null,null,null,null,"TYPE DE RESSOURCE",null,null,null,"CARACTÈRE GÉNÉRAL DE LA RESSOURCE"]
[]
[]
[]
[null,null,null,null,null,null,null,null,null,null,null,null,null,null,null,null,null,null,null,null,null,null,null,null,null,null,null,null,null,null,null,null,{"$f":"'Attribute Survey'!S231","v":0},null,{"$f":"'Attribute Survey'!S235","v":0},null,{"$f":"'Attribute Survey'!S239","v":0},null,{"$f":"'Attribute Survey'!S243","v":0},null,{"$f":"'Attribute Survey'!S247","v":0},null,{"$f":"'Attribute Survey'!S251","v":0},null,{"$f":"'Attribute Survey'!S255","v":0},null,{"$f":"'Attribute Survey'!S259","v":0},null,{"$f":"'Attribute Survey'!S263","v":0}]
[null,null,null,"Ressources les mieux adaptées",null,null,null,null,{"$f":"Backbone!A61","v":"Stratégies de communication et de coordination multisectorielles aux frontières"},null,null,null,null,null,null,"Un atelier qui oriente les parties prenantes dans le processus de détermination des mécanismes de partage d'informations spécifiques d'un secteur, ainsi que dans la création de mécanismes de partage d'informations multisectoriels ou transfrontaliers.",null,null,null,null,null,null,null,null,{"$f":"INDEX(Backbone!$R$2:$R$893,MATCH(I82,Backbone!$A$2:$A$893,0))","v":"Outil ou processus dirigé/facilité"},null,null,null,{"$f":"INDEX(Backbone!$S$2:$S$893,MATCH(I82,Backbone!$A$2:$A$893,0))","v":"«Une seule santé»; Généralisée "},null,null,null,{"$f":"INDEX(Backbone!$H$2:$H$893,MATCH(I82,Backbone!$A$2:$A$893,0))","v":8.9},null,{"$f":"INDEX(Backbone!$I$2:$I$893,MATCH(I82,Backbone!$A$2:$A$893,0))","v":6},null,{"$f":"INDEX(Backbone!$J$2:$J$893,MATCH(I82,Backbone!$A$2:$A$893,0))","v":7.6},null,{"$f":"INDEX(Backbone!$K$2:$K$893,MATCH(I82,Backbone!$A$2:$A$893,0))","v":9},null,{"$f":"INDEX(Backbone!$L$2:$L$893,MATCH(I82,Backbone!$A$2:$A$893,0))","v":5.6},null,{"$f":"INDEX(Backbone!$M$2:$M$893,MATCH(I82,Backbone!$A$2:$A$893,0))","v":3.5},null,{"$f":"INDEX(Backbone!$N$2:$N$893,MATCH(I82,Backbone!$A$2:$A$893,0))","v":4},null,{"$f":"INDEX(Backbone!$O$2:$O$893,MATCH(I82,Backbone!$A$2:$A$893,0))","v":8.3000000000000007},null,{"$f":"INDEX(Backbone!$P$2:$P$893,MATCH(I82,Backbone!$A$2:$A$893,0))","v":8},null,{"$f":"INDEX(Backbone!$Q$2:$Q$893,MATCH(I82,Backbone!$A$2:$A$893,0))","v":0.67666666666666675},null,null,{"$f":"(AG82*$AG$22+AI82*$AI$22+AK82*$AK$22+AM82*$AM$22+AO82*$AO$22+AQ82*$AQ$22+AS82*$AS$22+AU82*$AU$22+AW82*$AW$22)/(SUM($AG$22:$AW$22)*10)","v":{"$error":"#DIV/0!"}},null,null,"Aller à \nBoîte à outils: ",null,{"$f":"HYPERLINK(\"#\"&ADDRESS(MATCH(I82,Toolbox!$C$1:$C$300),1,,,\"Toolbox\"),VLOOKUP(I82,Toolbox!$C$1:$C$300,1,FALSE))","v":"Stratégies de communication et de coordination multisectorielles aux frontières"}]
[]
[]
[]
[]
[]
[]
[null,null,null,"Autres ressources intéressantes",null,null,null,null,{"$f":"Backbone!A418","v":"Recueil d'informations sur les postes-frontière uniques"},null,null,null,null,null,null,"Cette ressource fournit une description complète d'un certain nombre de considérations que les organisations nationales de deux pays voisins devraient prendre en compte pour l'établissement d'un système commun de gestion des mouvements transfrontaliers de personnes et de marchandises aux points de passage frontalier terrestres prioritaires.",null,null,null,null,null,null,null,null,{"$f":"INDEX(Backbone!$R$2:$R$893,MATCH(I89,Backbone!$A$2:$A$893,0))","v":"Document d'orientation"},null,null,null,{"$f":"INDEX(Backbone!$S$2:$S$893,MATCH(I89,Backbone!$A$2:$A$893,0))","v":"«Une seule santé»; spécifique d'une maladie/menace "},null,null,null,{"$f":"INDEX(Backbone!$H$2:$H$893,MATCH(I89,Backbone!$A$2:$A$893,0))","v":8.4},null,{"$f":"INDEX(Backbone!$I$2:$I$893,MATCH(I89,Backbone!$A$2:$A$893,0))","v":2},null,{"$f":"INDEX(Backbone!$J$2:$J$893,MATCH(I89,Backbone!$A$2:$A$893,0))","v":6},null,{"$f":"INDEX(Backbone!$K$1:$K$893,MATCH(I89,Backbone!$A$1:$A$893,0))","v":10},null,{"$f":"INDEX(Backbone!$L$2:$L$893,MATCH(I89,Backbone!$A$2:$A$893,0))","v":8.6},null,{"$f":"INDEX(Backbone!$M$2:$M$893,MATCH(I89,Backbone!$A$2:$A$893,0))","v":2},null,{"$f":"INDEX(Backbone!$N$2:$N$893,MATCH(I89,Backbone!$A$2:$A$893,0))","v":8},null,{"$f":"INDEX(Backbone!$O$2:$O$893,MATCH(I89,Backbone!$A$2:$A$893,0))","v":5.5},null,{"$f":"INDEX(Backbone!$P$2:$P$893,MATCH(I89,Backbone!$A$2:$A$893,0))","v":8},null,{"$f":"INDEX(Backbone!$Q$2:$Q$893,MATCH(I89,Backbone!$A$2:$A$893,0))","v":0.65},null,null,{"$f":"(AG89*$AG$22+AI89*$AI$22+AK89*$AK$22+AM89*$AM$22+AO89*$AO$22+AQ89*$AQ$22+AS89*$AS$22+AU89*$AU$22+AW89*$AW$22)/(SUM($AG$22:$AW$22)*10)","v":{"$error":"#DIV/0!"}},null,null,"Aller à \nBoîte à outils: ",null,{"$f":"HYPERLINK(\"#\"&ADDRESS(MATCH(I89,Toolbox!$C$1:$C$300),1,,,\"Toolbox\"),VLOOKUP(I89,Toolbox!$C$1:$C$300,1,FALSE))","v":"Recueil d'informations sur les postes-frontière uniques"}]

{"sheet":"P8_tools","index":45,"n_rows":134,"n_cols":59,"rows_kept":134,"cut":false,"hidden":false,"merged":[[127,42,131,42],[111,48,125,48],[70,1,99,1],[117,1,142,1],[133,50,137,51],[133,53,137,54],[133,38,137,38],[133,40,137,40],[133,42,137,42],[133,44,137,44],[133,46,137,46],[133,48,137,48],[127,48,131,48],[127,50,131,51],[127,53,131,54],[133,8,137,13],[133,15,137,22],[133,24,137,26],[133,28,137,30],[133,32,137,32],[133,34,137,34],[133,36,137,36],[127,36,131,36],[127,38,131,38],[127,40,131,40],[118,50,125,51],[118,53,125,54],[122,3,125,6],[122,8,125,13],[122,15,125,22],[122,24,125,26],[122,28,125,30],[127,3,137,6],[111,32,125,32],[111,34,125,34],[111,36,125,36],[111,38,125,38],[111,40,125,40],[111,42,125,42],[111,44,125,44],[111,46,125,46],[127,44,131,44],[127,46,131,46],[127,8,131,13],[127,15,131,22],[127,24,131,26],[127,28,131,30],[127,32,131,32],[127,34,131,34],[82,50,86,51],[82,53,86,54],[88,8,92,13],[88,15,92,22],[88,24,92,26],[88,28,92,30],[88,32,92,32],[82,32,86,32],[82,34,86,34],[82,36,86,36],[82,38,86,38],[82,40,86,40],[82,42,86,42],[88,46,92,46],[88,48,92,48],[88,50,92,51],[88,53,92,54],[88,34,92,34],[88,36,92,36],[88,38,92,38],[88,40,92,40],[88,42,92,42],[88,44,92,44],[82,3,92,6],[82,8,86,13],[82,15,86,22],[82,24,86,26],[82,28,86,30],[66,44,80,44],[66,46,80,46],[66,48,80,48],[82,44,86,44],[82,46,86,46],[82,48,86,48],[73,50,80,51],[73,53,80,54],[77,3,80,6],[77,8,80,13],[77,15,80,22],[77,24,80,26],[66,32,80,32],[66,34,80,34],[66,36,80,36],[66,38,80,38],[66,40,80,40],[66,42,80,42],[77,28,80,30],[41,48,45,48],[41,50,45,51],[41,53,45,54],[41,34,45,34],[41,36,45,36],[41,38,45,38],[41,40,45,40],[41,42,45,42],[41,44,45,44],[41,3,45,6],[41,8,45,13],[41,15,45,22],[41,24,45,26],[41,28,45,30],[41,32,45,32],[34,42,38,42],[34,44,38,44],[34,46,38,46],[41,46,45,46],[34,8,38,13],[34,15,38,22],[34,24,38,26],[34,28,38,30],[34,32,38,32],[34,34,38,34],[34,36,38,36],[34,38,38,38],[34,40,38,40],[28,40,32,40],[28,42,32,42],[28,44,32,44],[28,46,32,46],[28,48,32,48],[28,50,32,51],[28,24,32,26],[28,28,32,30],[28,32,32,32],[28,34,32,34],[28,36,32,36],[6,48,20,48],[13,50,20,51],[13,53,20,54],[17,1,45,1],[17,3,20,6],[17,8,20,13],[17,15,20,22],[17,24,20,26],[17,28,20,30],[22,3,38,6],[22,8,26,13],[22,44,26,44],[22,46,26,46],[22,48,26,48],[22,15,26,22],[22,24,26,26],[22,28,26,30],[22,32,26,32],[22,34,26,34],[22,36,26,36],[34,48,38,48],[34,50,38,51],[34,53,38,54],[28,53,32,54],[22,42,26,42],[6,32,20,32],[6,34,20,34],[6,36,20,36],[6,38,20,38],[6,40,20,40],[6,42,20,42],[6,44,20,44],[6,46,20,46],[82,56,86,57],[82,58,86,62],[88,56,92,57],[88,58,92,62],[127,56,131,57],[127,58,131,62],[133,56,137,57],[133,58,137,62],[1,1,3,62],[22,56,26,57],[22,58,26,62],[28,56,32,57],[28,58,32,62],[34,56,38,57],[34,58,38,62],[41,56,45,57],[41,58,45,62],[22,50,26,51],[22,53,26,54],[28,8,32,13],[28,15,32,22],[28,38,32,38],[22,38,26,38],[22,40,26,40]]}
[]
[null,"Ressources pour la planification coordonnée de la communication"]
[]
[]
[]
[]
[null,null,null,null,null,null,null,null,null,null,null,null,null,null,null,null,null,null,null,null,null,null,null,null,null,null,null,null,null,null,null,null,"Accessibilité",null,"Langue",null,"Facilité d'utilisation",null,"Flexibilité",null,"Besoins de données",null,"Analyse des données",null,"Acceptabilité",null,"«Une seule santé»",null,"Impact"]
[]
[]
[]
[]
[]
[]
[null,null,null,null,null,null,null,null,null,null,null,null,null,null,null,null,null,null,null,null,null,null,null,null,null,null,null,null,null,null,null,null,null,null,null,null,null,null,null,null,null,null,null,null,null,null,null,null,null,null,"SCORE BRUT",null,null,"SCORE AJUSTÉ \n(Selon les préférences de l'utilisateur)"]
[]
[]
[]
[null,"RESSOURCES DE NIVEAU 1",null,"DÉSIGNATION",null,null,null,null,"NOM DE LA RESSOURCE",null,null,null,null,null,null,"BRÈVE DESCRIPTION",null,null,null,null,null,null,null,null,"TYPE DE RESSOURCE",null,null,null,"CARACTÈRE GÉNÉRAL DE LA RESSOURCE"]
[]
[]
[]
[null,null,null,null,null,null,null,null,null,null,null,null,null,null,null,null,null,null,null,null,null,null,null,null,null,null,null,null,null,null,null,null,{"$f":"'Attribute Survey'!S22","v":0},null,{"$f":"'Attribute Survey'!S26","v":0},null,{"$f":"'Attribute Survey'!S30","v":0},null,{"$f":"'Attribute Survey'!S34","v":0},null,{"$f":"'Attribute Survey'!S38","v":0},null,{"$f":"'Attribute Survey'!S42","v":0},null,{"$f":"'Attribute Survey'!S46","v":0},null,{"$f":"'Attribute Survey'!S50","v":0},null,{"$f":"'Attribute Survey'!S54","v":0}]
[null,null,null,"Ressources les mieux adaptées",null,null,null,null,{"$f":"Backbone!A433","v":"Glossaire du Programme conjoint européen «Une seule santé» (OHEJP)"},null,null,null,null,null,null,"Le glossaire «Une seule santé» à base communautaire, disponible en ligne, regroupant des termes «Une seule santé» ou spécifiques du secteur de la santé publique, de la santé animale et de la sécurité alimentaire.",null,null,null,null,null,null,null,null,{"$f":"INDEX(Backbone!$R2:$R893,MATCH(I23,Backbone!$A2:$A893,0))","v":"Matériel ou logiciel"},null,null,null,{"$f":"INDEX(Backbone!$S2:$S893,MATCH(I23,Backbone!$A2:$A893,0))","v":"«Une seule santé»; Généralisée"},null,null,null,{"$f":"INDEX(Backbone!$H2:$H893,MATCH(I23,Backbone!$A2:$A893,0))","v":8.8000000000000007},null,{"$f":"INDEX(Backbone!$I2:$I893,MATCH(I23,Backbone!$A2:$A893,0))","v":6},null,{"$f":"INDEX(Backbone!$J2:$J893,MATCH(I23,Backbone!$A2:$A893,0))","v":8.4},null,{"$f":"INDEX(Backbone!$K2:$K893,MATCH(I23,Backbone!$A2:$A893,0))","v":7},null,{"$f":"INDEX(Backbone!$L2:$L893,MATCH(I23,Backbone!$A2:$A893,0))","v":9.1999999999999993},null,{"$f":"INDEX(Backbone!$M2:$M893,MATCH(I23,Backbone!$A2:$A893,0))","v":7.6},null,{"$f":"INDEX(Backbone!$N2:$N893,MATCH(I23,Backbone!$A2:$A893,0))","v":7},null,{"$f":"INDEX(Backbone!$O2:$O893,MATCH(I23,Backbone!$A2:$A893,0))","v":7.1},null,{"$f":"INDEX(Backbone!$P2:$P893,MATCH(I23,Backbone!$A2:$A893,0))","v":5},null,{"$f":"INDEX(Backbone!$Q2:$Q893,MATCH(I23,Backbone!$A2:$A893,0))","v":0.73444444444444457},null,null,{"$f":"(AG23*$AG$22+AI23*$AI$22+AK23*$AK$22+AM23*$AM$22+AO23*$AO$22+AQ23*$AQ$22+AS23*$AS$22+AU23*$AU$22+AW23*$AW$22)/(SUM($AG$22:$AW$22)*10)","v":{"$error":"#DIV/0!"}},null,null,"Aller à \nBoîte à outils: ",null,{"$f":"HYPERLINK(\"#\"&ADDRESS(MATCH(I23,Toolbox!$C$1:$C$300),1,,,\"Toolbox\"),VLOOKUP(I23,Toolbox!$C$1:$C$300,1,FALSE))","v":"Glossaire du Programme conjoint européen «Une seule santé» (OHEJP)"}]
[]
[]
[]
[]
[]
[null,null,null,null,null,null,null,null,{"$f":"Backbone!A396","v":"Codex sur la surveillance «Une seule santé» "},null,null,null,null,null,null,"Un cadre de haut niveau qui favorise la collaboration, la compréhension mutuelle, l'échange de connaissances et l'interopérabilité des données entre les secteurs de surveillance «Une seule santé».",null,null,null,null,null,null,null,null,{"$f":"INDEX(Backbone!$R$2:$R$893,MATCH(I29,Backbone!$A$2:$A$893,0))","v":"Outil d'autoévaluation"},null,null,null,{"$f":"INDEX(Backbone!$S$2:$S$893,MATCH(I29,Backbone!$A$2:$A$893,0))","v":"«Une seule santé»; Généralisée"},null,null,null,{"$f":"INDEX(Backbone!$H$2:$H$893,MATCH(I29,Backbone!$A$2:$A$893,0))","v":9},null,{"$f":"INDEX(Backbone!$I$2:$I$893,MATCH(I29,Backbone!$A$2:$A$893,0))","v":6},null,{"$f":"INDEX(Backbone!$J$2:$J$893,MATCH(I29,Backbone!$A$2:$A$893,0))","v":8.5},null,{"$f":"INDEX(Backbone!$K$2:$K$893,MATCH(I29,Backbone!$A$2:$A$893,0))","v":8.6999999999999993},null,{"$f":"INDEX(Backbone!$L$2:$L$893,MATCH(I29,Backbone!$A$2:$A$893,0))","v":8.1},null,{"$f":"INDEX(Backbone!$M$2:$M$893,MATCH(I29,Backbone!$A$2:$A$893,0))","v":2.8},null,{"$f":"INDEX(Backbone!$N$2:$N$893,MATCH(I29,Backbone!$A$2:$A$893,0))","v":2},null,{"$f":"INDEX(Backbone!$O$2:$O$893,MATCH(I29,Backbone!$A$2:$A$893,0))","v":6},null,{"$f":"INDEX(Backbone!$P$2:$P$893,MATCH(I29,Backbone!$A$2:$A$893,0))","v":5},null,{"$f":"INDEX(Backbone!$Q$2:$Q$893,MATCH(I29,Backbone!$A$2:$A$893,0))","v":0.62333333333333329},null,null,{"$f":"(AG29*$AG$22+AI29*$AI$22+AK29*$AK$22+AM29*$AM$22+AO29*$AO$22+AQ29*$AQ$22+AS29*$AS$22+AU29*$AU$22+AW29*$AW$22)/(SUM($AG$22:$AW$22)*10)","v":{"$error":"#DIV/0!"}},null,null,"Aller à \nBoîte à outils: ",null,{"$f":"HYPERLINK(\"#\"&ADDRESS(MATCH(I29,Toolbox!$C$1:$C$300),1,,,\"Toolbox\"),VLOOKUP(I29,Toolbox!$C$1:$C$300,1,FALSE))","v":"Codex sur la surveillance «Une seule santé» "}]
[]
[]
[]
[]
[]
[null,null,null,null,null,null,null,null,{"$f":"Backbone!A648","v":"Boîte à outils pour la planification de la préparation et la réponse"},null,null,null,null,null,null,"Cette boîte à outils est conçue pour aider les pays à élaborer des plans multisectoriels de préparation et de réponse aux événements de santé publique.",null,null,null,null,null,null,null,null,{"$f":"INDEX(Backbone!$R$2:$R$893,MATCH(I35,Backbone!$A$2:$A$893,0))","v":"Document d'orientation"},null,null,null,{"$f":"INDEX(Backbone!$S$2:$S$893,MATCH(I35,Backbone!$A$2:$A$893,0))","v":"«Une seule santé»; Généralisée"},null,null,null,{"$f":"INDEX(Backbone!$H$2:$H$893,MATCH(I35,Backbone!$A$2:$A$893,0))","v":8.4},null,{"$f":"INDEX(Backbone!$I$2:$I$893,MATCH(I35,Backbone!$A$2:$A$893,0))","v":8},null,{"$f":"INDEX(Backbone!$J$2:$J$893,MATCH(I35,Backbone!$A$2:$A$893,0))","v":8.4},null,{"$f":"INDEX(Backbone!$K$1:$K$893,MATCH(I35,Backbone!$A$1:$A$893,0))","v":6.7},null,{"$f":"INDEX(Backbone!$L$2:$L$893,MATCH(I35,Backbone!$A$2:$A$893,0))","v":2},null,{"$f":"INDEX(Backbone!$M$2:$M$893,MATCH(I35,Backbone!$A$2:$A$893,0))","v":3.5},null,{"$f":"INDEX(Backbone!$N$2:$N$893,MATCH(I35,Backbone!$A$2:$A$893,0))","v":4},null,{"$f":"INDEX(Backbone!$O$2:$O$893,MATCH(I35,Backbone!$A$2:$A$893,0))","v":6.4},null,{"$f":"INDEX(Backbone!$P$2:$P$893,MATCH(I35,Backbone!$A$2:$A$893,0))","v":8},null,{"$f":"INDEX(Backbone!$Q$2:$Q$893,MATCH(I35,Backbone!$A$2:$A$893,0))","v":0.61555555555555552},null,null,{"$f":"(AG35*$AG$22+AI35*$AI$22+AK35*$AK$22+AM35*$AM$22+AO35*$AO$22+AQ35*$AQ$22+AS35*$AS$22+AU35*$AU$22+AW35*$AW$22)/(SUM($AG$22:$AW$22)*10)","v":{"$error":"#DIV/0!"}},null,null,"Aller à \nBoîte à outils: ",null,{"$f":"HYPERLINK(\"#\"&ADDRESS(MATCH(I35,Toolbox!$C$1:$C$300),1,,,\"Toolbox\"),VLOOKUP(I35,Toolbox!$C$1:$C$300,1,FALSE))","v":"Boîte à outils pour la planification de la préparation et la réponse"}]
[]
[]
[]
[]
[]
[]
[null,null,null,"Autres ressources intéressantes",null,null,null,null,{"$f":"Backbone!A453","v":"Approche par étapes pour l'élimination de la rage (SARE)"},null,null,null,null,null,null,"Un outil pratique de planification, de suivi et d'évaluation qui permet d'orienter, de déployer et d'affiner des programmes de lutte contre la rage.",null,null,null,null,null,null,null,null,{"$f":"INDEX(Backbone!$R$2:$R$893,MATCH(I42,Backbone!$A$2:$A$893,0))","v":"Outil d'autoévaluation"},null,null,null,{"$f":"INDEX(Backbone!$S$2:$S$893,MATCH(I42,Backbone!$A$2:$A$893,0))","v":"«Une seule santé»; spécifique d'une maladie/menace "},null,null,null,{"$f":"INDEX(Backbone!$H$2:$H$893,MATCH(I42,Backbone!$A$2:$A$893,0))","v":8},null,{"$f":"INDEX(Backbone!$I$2:$I$893,MATCH(I42,Backbone!$A$2:$A$893,0))","v":9},null,{"$f":"INDEX(Backbone!$J$2:$J$893,MATCH(I42,Backbone!$A$2:$A$893,0))","v":6.6},null,{"$f":"INDEX(Backbone!$K$1:$K$893,MATCH(I42,Backbone!$A$1:$A$893,0))","v":3.3},null,{"$f":"INDEX(Backbone!$L$2:$L$893,MATCH(I42,Backbone!$A$2:$A$893,0))","v":5.7},null,{"$f":"INDEX(Backbone!$M$2:$M$893,MATCH(I42,Backbone!$A$2:$A$893,0))","v":6.8},null,{"$f":"INDEX(Backbone!$N$2:$N$893,MATCH(I42,Backbone!$A$2:$A$893,0))","v":8},null,{"$f":"INDEX(Backbone!$O$2:$O$893,MATCH(I42,Backbone!$A$2:$A$893,0))","v":8.6},null,{"$f":"INDEX(Backbone!$P$2:$P$893,MATCH(I42,Backbone!$A$2:$A$893,0))","v":9.5},null,{"$f":"INDEX(Backbone!$Q$2:$Q$893,MATCH(I42,Backbone!$A$2:$A$893,0))","v":0.72777777777777775},null,null,{"$f":"(AG42*$AG$22+AI42*$AI$22+AK42*$AK$22+AM42*$AM$22+AO42*$AO$22+AQ42*$AQ$22+AS42*$AS$22+AU42*$AU$22+AW42*$AW$22)/(SUM($AG$22:$AW$22)*10)","v":{"$error":"#DIV/0!"}},null,null,"Aller à \nBoîte à outils: ",null,{"$f":"HYPERLINK(\"#\"&ADDRESS(MATCH(I42,Toolbox!$C$1:$C$300),1,,,\"Toolbox\"),VLOOKUP(I42,Toolbox!$C$1:$C$300,1,FALSE))","v":"Approche par étapes pour l'élimination de la rage (SARE)"}]
[]
[]
[]
[]
[]
[]
[]
[]
[]
[]
[]
[]
[]
[]
[]
[]
[]
[]
[]
[]
[]
[]
[]
[]
[null,null,null,null,null,null,null,null,null,null,null,null,null,null,null,null,null,null,null,null,null,null,null,null,null,null,null,null,null,null,null,null,"Accessibilité",null,"Langue",null,"Facilité d'utilisation",null,"Flexibilité",null,"Besoins de données",null,"Analyse des données",null,"Acceptabilité",null,"«Une seule santé»",null,"Impact"]
[]
[]
[]
[null,"RESSOURCES DE NIVEAU 2"]
[]
[]
[null,null,null,null,null,null,null,null,null,null,null,null,null,null,null,null,null,null,null,null,null,null,null,null,null,null,null,null,null,null,null,null,null,null,null,null,null,null,null,null,null,null,null,null,null,null,null,null,null,null,"SCORE BRUT",null,null,"SCORE AJUSTÉ \n(Selon les préférences de l'utilisateur)"]
[]
[]
[]
[null,null,null,"DÉSIGNATION",null,null,null,null,"NOM DE LA RESSOURCE",null,null,null,null,null,null,"BRÈVE DESCRIPTION",null,null,null,null,null,null,null,null,"TYPE DE RESSOURCE",null,null,null,"CARACTÈRE GÉNÉRAL DE LA RESSOURCE"]
[]
[]
[]
[null,null,null,null,null,null,null,null,null,null,null,null,null,null,null,null,null,null,null,null,null,null,null,null,null,null,null,null,null,null,null,null,{"$f":"'Attribute Survey'!S130","v":0},null,{"$f":"'Attribute Survey'!S134","v":0},null,{"$f":"'Attribute Survey'!S138","v":0},null,{"$f":"'Attribute Survey'!S142","v":0},null,{"$f":"'Attribute Survey'!S146","v":0},null,{"$f":"'Attribute Survey'!S150","v":0},null,{"$f":"'Attribute Survey'!S154","v":0},null,{"$f":"'Attribute Survey'!S158","v":0},null,{"$f":"'Attribute Survey'!S162","v":0}]
[null,null,null,"Ressources les mieux adaptées",null,null,null,null,{"$f":"Backbone!A433","v":"Glossaire du Programme conjoint européen «Une seule santé» (OHEJP)"},null,null,null,null,null,null,"Le glossaire «Une seule santé» à base communautaire, disponible en ligne, regroupant des termes «Une seule santé» ou spécifiques du secteur de la santé publique, de la santé animale et de la sécurité alimentaire.",null,null,null,null,null,null,null,null,{"$f":"INDEX(Backbone!$R2:$R893,MATCH(I83,Backbone!$A2:$A893,0))","v":"Matériel ou logiciel"},null,null,null,{"$f":"INDEX(Backbone!S2:S893,MATCH(I83,Backbone!A2:A893,0))","v":"«Une seule santé»; Généralisée"},null,null,null,{"$f":"INDEX(Backbone!H2:H893,MATCH(I83,Backbone!A2:A893,0))","v":8.8000000000000007},null,{"$f":"INDEX(Backbone!I2:I893,MATCH(I83,Backbone!A2:A893,0))","v":6},null,{"$f":"INDEX(Backbone!J2:J893,MATCH(I83,Backbone!A2:A893,0))","v":8.4},null,{"$f":"INDEX(Backbone!K2:K893,MATCH(I83,Backbone!A2:A893,0))","v":7},null,{"$f":"INDEX(Backbone!L2:L893,MATCH(I83,Backbone!A2:A893,0))","v":9.1999999999999993},null,{"$f":"INDEX(Backbone!M2:M893,MATCH(I83,Backbone!A2:A893,0))","v":7.6},null,{"$f":"INDEX(Backbone!N2:N893,MATCH(I83,Backbone!A2:A893,0))","v":7},null,{"$f":"INDEX(Backbone!O2:O893,MATCH(I83,Backbone!A2:A893,0))","v":7.1},null,{"$f":"INDEX(Backbone!P2:P893,MATCH(I83,Backbone!A2:A893,0))","v":5},null,{"$f":"INDEX(Backbone!Q2:Q893,MATCH(I83,Backbone!A2:A893,0))","v":0.73444444444444457},null,null,{"$f":"(AG83*AG22+AI23*AI22+AK83*AK22+AM83*AM22+AO83*AO22+AQ83*AQ22+AS83*AS22+AU83*AU22+AW83*AW22)/(SUM(AG22:AW22)*10)","v":{"$error":"#DIV/0!"}},null,null,"Aller à \nBoîte à outils: ",null,{"$f":"HYPERLINK(\"#\"&ADDRESS(MATCH(I83,Toolbox!$C$1:$C$300),1,,,\"Toolbox\"),VLOOKUP(I83,Toolbox!$C$1:$C$300,1,FALSE))","v":"Glossaire du Programme conjoint européen «Une seule santé» (OHEJP)"}]
[]
[]
[]
[]
[]
[null,null,null,null,null,null,null,null,{"$f":"Backbone!A648","v":"Boîte à outils pour la planification de la préparation et la réponse"},null,null,null,null,null,null,"Cette boîte à outils est conçue pour aider les pays à élaborer des plans multisectoriels de préparation et de réponse aux événements de santé publique. ",null,null,null,null,null,null,null,null,{"$f":"INDEX(Backbone!$R$2:$R$893,MATCH(I89,Backbone!$A$2:$A$893,0))","v":"Document d'orientation"},null,null,null,{"$f":"INDEX(Backbone!$S$2:$S$893,MATCH(I89,Backbone!$A$2:$A$893,0))","v":"«Une seule santé»; Généralisée"},null,null,null,{"$f":"INDEX(Backbone!$H$2:$H$893,MATCH(I89,Backbone!$A$2:$A$893,0))","v":8.4},null,{"$f":"INDEX(Backbone!$I$2:$I$893,MATCH(I89,Backbone!$A$2:$A$893,0))","v":8},null,{"$f":"INDEX(Backbone!$J$2:$J$893,MATCH(I89,Backbone!$A$2:$A$893,0))","v":8.4},null,{"$f":"INDEX(Backbone!$K$2:$K$893,MATCH(I89,Backbone!$A$2:$A$893,0))","v":6.7},null,{"$f":"INDEX(Backbone!$L$2:$L$893,MATCH(I89,Backbone!$A$2:$A$893,0))","v":2},null,{"$f":"INDEX(Backbone!$M$2:$M$893,MATCH(I89,Backbone!$A$2:$A$893,0))","v":3.5},null,{"$f":"INDEX(Backbone!$N$2:$N$893,MATCH(I89,Backbone!$A$2:$A$893,0))","v":4},null,{"$f":"INDEX(Backbone!$O$2:$O$893,MATCH(I89,Backbone!$A$2:$A$893,0))","v":6.4},null,{"$f":"INDEX(Backbone!$P$2:$P$893,MATCH(I89,Backbone!$A$2:$A$893,0))","v":8},null,{"$f":"INDEX(Backbone!$Q$2:$Q$893,MATCH(I89,Backbone!$A$2:$A$893,0))","v":0.61555555555555552},null,null,{"$f":"(AG89*$AG$22+AI89*$AI$22+AK89*$AK$22+AM89*$AM$22+AO89*$AO$22+AQ89*$AQ$22+AS89*$AS$22+AU89*$AU$22+AW89*$AW$22)/(SUM($AG$22:$AW$22)*10)","v":{"$error":"#DIV/0!"}},null,null,"Aller à \nBoîte à outils: ",null,{"$f":"HYPERLINK(\"#\"&ADDRESS(MATCH(I89,Toolbox!$C$1:$C$300),1,,,\"Toolbox\"),VLOOKUP(I89,Toolbox!$C$1:$C$300,1,FALSE))","v":"Boîte à outils pour la planification de la préparation et la réponse"}]
[]
[]
[]
[]
[]
[]
[]
[]
[]
[]
[]
[]
[]
[]
[]
[]
[]
[]
[]
[]
[]
[]
[null,null,null,null,null,null,null,null,null,null,null,null,null,null,null,null,null,null,null,null,null,null,null,null,null,null,null,null,null,null,null,null,"Accessibilité",null,"Langue",null,"Facilité d'utilisation",null,"Flexibilité",null,"Besoins de données",null,"Analyse des données",null,"Acceptabilité",null,"«Une seule santé»",null,"Impact"]
[]
[]
[]
[]
[]
[null,"RESSOURCES DE NIVEAU 3"]
[null,null,null,null,null,null,null,null,null,null,null,null,null,null,null,null,null,null,null,null,null,null,null,null,null,null,null,null,null,null,null,null,null,null,null,null,null,null,null,null,null,null,null,null,null,null,null,null,null,null,"SCORE BRUT",null,null,"SCORE AJUSTÉ \n(Selon les préférences de l'utilisateur)"]
[]
[]
[]
[null,null,null,"DÉSIGNATION",null,null,null,null,"NOM DE LA RESSOURCE",null,null,null,null,null,null,"BRÈVE DESCRIPTION",null,null,null,null,null,null,null,null,"TYPE DE RESSOURCE",null,null,null,"CARACTÈRE GÉNÉRAL DE LA RESSOURCE"]
[]
[]
[]
[null,null,null,null,null,null,null,null,null,null,null,null,null,null,null,null,null,null,null,null,null,null,null,null,null,null,null,null,null,null,null,null,{"$f":"'Attribute Survey'!S231","v":0},null,{"$f":"'Attribute Survey'!S235","v":0},null,{"$f":"'Attribute Survey'!S239","v":0},null,{"$f":"'Attribute Survey'!S243","v":0},null,{"$f":"'Attribute Survey'!S247","v":0},null,{"$f":"'Attribute Survey'!S251","v":0},null,{"$f":"'Attribute Survey'!S255","v":0},null,{"$f":"'Attribute Survey'!S259","v":0},null,{"$f":"'Attribute Survey'!S263","v":0}]
[null,null,null,"Ressources les mieux adaptées",null,null,null,null,{"$f":"Backbone!A61","v":"Stratégies de communication et de coordination multisectorielles aux frontières"},null,null,null,null,null,null,"Un atelier qui oriente les parties prenantes dans le processus de détermination des mécanismes de partage d'informations spécifiques d'un secteur, ainsi que dans la création de mécanismes de partage d'informations multisectoriels ou transfrontaliers.",null,null,null,null,null,null,null,null,{"$f":"INDEX(Backbone!$R$2:$R$893,MATCH(I128,Backbone!$A$2:$A$893,0))","v":"Outil ou processus dirigé/facilité"},null,null,null,{"$f":"INDEX(Backbone!$S$2:$S$893,MATCH(I128,Backbone!$A$2:$A$893,0))","v":"«Une seule santé»; Généralisée "},null,null,null,{"$f":"INDEX(Backbone!$H$2:$H$893,MATCH(I128,Backbone!$A$2:$A$893,0))","v":8.9},null,{"$f":"INDEX(Backbone!$I$2:$I$893,MATCH(I128,Backbone!$A$2:$A$893,0))","v":6},null,{"$f":"INDEX(Backbone!$J$2:$J$893,MATCH(I128,Backbone!$A$2:$A$893,0))","v":7.6},null,{"$f":"INDEX(Backbone!$K$2:$K$893,MATCH(I128,Backbone!$A$2:$A$893,0))","v":9},null,{"$f":"INDEX(Backbone!$L$2:$L$893,MATCH(I128,Backbone!$A$2:$A$893,0))","v":5.6},null,{"$f":"INDEX(Backbone!$M$2:$M$893,MATCH(I128,Backbone!$A$2:$A$893,0))","v":3.5},null,{"$f":"INDEX(Backbone!$N$2:$N$893,MATCH(I128,Backbone!$A$2:$A$893,0))","v":4},null,{"$f":"INDEX(Backbone!$O$2:$O$893,MATCH(I128,Backbone!$A$2:$A$893,0))","v":8.3000000000000007},null,{"$f":"INDEX(Backbone!$P$2:$P$893,MATCH(I128,Backbone!$A$2:$A$893,0))","v":8},null,{"$f":"INDEX(Backbone!$Q$2:$Q$893,MATCH(I128,Backbone!$A$2:$A$893,0))","v":0.67666666666666675},null,null,{"$f":"(AG128*$AG$22+AI128*$AI$22+AK128*$AK$22+AM128*$AM$22+AO128*$AO$22+AQ128*$AQ$22+AS128*$AS$22+AU128*$AU$22+AW128*$AW$22)/(SUM($AG$22:$AW$22)*10)","v":{"$error":"#DIV/0!"}},null,null,"Aller à \nBoîte à outils: ",null,{"$f":"HYPERLINK(\"#\"&ADDRESS(MATCH(I128,Toolbox!$C$1:$C$300),1,,,\"Toolbox\"),VLOOKUP(I128,Toolbox!$C$1:$C$300,1,FALSE))","v":"Stratégies de communication et de coordination multisectorielles aux frontières"}]
[]
[]
[]
[]
[]
[null,null,null,null,null,null,null,null,{"$f":"Backbone!A648","v":"Boîte à outils pour la planification de la préparation et la réponse"},null,null,null,null,null,null,"Cette boîte à outils est conçue pour aider les pays à élaborer des plans multisectoriels de préparation et de réponse aux événements de santé publique. ",null,null,null,null,null,null,null,null,{"$f":"INDEX(Backbone!$R$2:$R$893,MATCH(I134,Backbone!$A$2:$A$893,0))","v":"Document d'orientation"},null,null,null,{"$f":"INDEX(Backbone!$S$2:$S$893,MATCH(I134,Backbone!$A$2:$A$893,0))","v":"«Une seule santé»; Généralisée"},null,null,null,{"$f":"INDEX(Backbone!$H$2:$H$893,MATCH(I134,Backbone!$A$2:$A$893,0))","v":8.4},null,{"$f":"INDEX(Backbone!$I$2:$I$893,MATCH(I134,Backbone!$A$2:$A$893,0))","v":8},null,{"$f":"INDEX(Backbone!$J$2:$J$893,MATCH(I134,Backbone!$A$2:$A$893,0))","v":8.4},null,{"$f":"INDEX(Backbone!$K$1:$K$893,MATCH(I134,Backbone!$A$1:$A$893,0))","v":6.7},null,{"$f":"INDEX(Backbone!$L$2:$L$893,MATCH(I134,Backbone!$A$2:$A$893,0))","v":2},null,{"$f":"INDEX(Backbone!$M$2:$M$893,MATCH(I134,Backbone!$A$2:$A$893,0))","v":3.5},null,{"$f":"INDEX(Backbone!$N$2:$N$893,MATCH(I134,Backbone!$A$2:$A$893,0))","v":4},null,{"$f":"INDEX(Backbone!$O$2:$O$893,MATCH(I134,Backbone!$A$2:$A$893,0))","v":6.4},null,{"$f":"INDEX(Backbone!$P$2:$P$893,MATCH(I134,Backbone!$A$2:$A$893,0))","v":8},null,{"$f":"INDEX(Backbone!$Q$2:$Q$893,MATCH(I134,Backbone!$A$2:$A$893,0))","v":0.61555555555555552},null,null,{"$f":"(AG134*$AG$22+AI134*$AI$22+AK134*$AK$22+AM134*$AM$22+AO134*$AO$22+AQ134*$AQ$22+AS134*$AS$22+AU134*$AU$22+AW134*$AW$22)/(SUM($AG$22:$AW$22)*10)","v":{"$error":"#DIV/0!"}},null,null,"Aller à \nBoîte à outils: ",null,{"$f":"HYPERLINK(\"#\"&ADDRESS(MATCH(I134,Toolbox!$C$1:$C$300),1,,,\"Toolbox\"),VLOOKUP(I134,Toolbox!$C$1:$C$300,1,FALSE))","v":"Boîte à outils pour la planification de la préparation et la réponse"}]

{"sheet":"I1_tools","index":46,"n_rows":121,"n_cols":59,"rows_kept":121,"cut":false,"hidden":false,"merged":[[120,48,124,48],[120,50,124,51],[120,53,124,54],[108,1,132,1],[120,36,124,36],[120,38,124,38],[120,40,124,40],[120,42,124,42],[120,44,124,44],[120,46,124,46],[120,8,124,13],[120,15,124,22],[120,24,124,26],[120,28,124,30],[120,32,124,32],[120,34,124,34],[104,48,118,48],[111,50,118,51],[111,53,118,54],[115,3,118,6],[115,8,118,13],[115,15,118,22],[115,24,118,26],[115,28,118,30],[120,3,124,6],[66,1,93,1],[104,32,118,32],[104,34,118,34],[104,36,118,36],[104,38,118,38],[104,40,118,40],[104,42,118,42],[104,44,118,44],[104,46,118,46],[81,53,85,54],[81,40,85,40],[81,42,85,42],[81,44,85,44],[81,46,85,46],[81,48,85,48],[81,50,85,51],[81,24,85,26],[81,28,85,30],[81,32,85,32],[81,34,85,34],[81,36,85,36],[81,38,85,38],[72,53,79,54],[76,3,79,6],[76,8,79,13],[76,15,79,22],[76,24,79,26],[76,28,79,30],[81,3,85,6],[81,8,85,13],[81,15,85,22],[65,40,79,40],[65,42,79,42],[65,44,79,44],[65,46,79,46],[65,48,79,48],[72,50,79,51],[41,42,45,42],[41,44,45,44],[41,46,45,46],[22,3,26,6],[22,8,26,13],[29,42,33,42],[29,44,33,44],[29,46,33,46],[35,32,39,32],[35,34,39,34],[35,36,39,36],[35,38,39,38],[29,38,33,38],[35,15,39,22],[35,24,39,26],[35,28,39,30],[29,3,45,6],[35,44,39,44],[35,46,39,46],[22,38,26,38],[22,40,26,40],[22,15,26,22],[22,24,26,26],[22,28,26,30],[17,1,45,1],[65,32,79,32],[65,34,79,34],[65,36,79,36],[65,38,79,38],[29,50,33,51],[29,53,33,54],[29,40,33,40],[29,48,33,48],[41,48,45,48],[41,50,45,51],[41,53,45,54],[35,53,39,54],[41,8,45,13],[41,15,45,22],[41,24,45,26],[41,28,45,30],[41,32,45,32],[41,34,45,34],[41,36,45,36],[41,38,45,38],[41,40,45,40],[35,40,39,40],[35,42,39,42],[17,24,20,26],[17,28,20,30],[35,48,39,48],[35,50,39,51],[35,8,39,13],[29,8,33,13],[29,15,33,22],[29,24,33,26],[29,28,33,30],[29,32,33,32],[29,34,33,34],[29,36,33,36],[1,1,3,62],[22,50,26,51],[22,53,26,54],[22,42,26,42],[22,44,26,44],[22,46,26,46],[22,48,26,48],[6,32,20,32],[6,34,20,34],[6,36,20,36],[6,38,20,38],[6,40,20,40],[6,42,20,42],[6,44,20,44],[6,46,20,46],[6,48,20,48],[22,32,26,32],[22,34,26,34],[22,36,26,36],[13,50,20,51],[13,53,20,54],[17,3,20,6],[17,8,20,13],[17,15,20,22],[120,56,124,57],[120,58,124,62],[22,56,26,57],[22,58,26,62],[29,56,33,57],[29,58,33,62],[35,56,39,57],[35,58,39,62],[41,56,45,57],[41,58,45,62],[81,56,85,57],[81,58,85,62]]}
[]
[null,"Ressources pour la mobilisation des ressources financières"]
[]
[]
[]
[]
[null,null,null,null,null,null,null,null,null,null,null,null,null,null,null,null,null,null,null,null,null,null,null,null,null,null,null,null,null,null,null,null,"Accessibilité",null,"Langue",null,"Facilité d'utilisation",null,"Flexibilité",null,"Besoins de données",null,"Analyse des données",null,"Acceptabilité",null,"«Une seule santé»",null,"Impact"]
[]
[]
[]
[]
[]
[]
[null,null,null,null,null,null,null,null,null,null,null,null,null,null,null,null,null,null,null,null,null,null,null,null,null,null,null,null,null,null,null,null,null,null,null,null,null,null,null,null,null,null,null,null,null,null,null,null,null,null,"SCORE BRUT",null,null,"SCORE AJUSTÉ \n(Selon les préférences de l'utilisateur)"]
[]
[]
[]
[null,"RESSOURCES DE NIVEAU 1",null,"DÉSIGNATION",null,null,null,null,"NOM DE LA RESSOURCE",null,null,null,null,null,null,"BRÈVE DESCRIPTION",null,null,null,null,null,null,null,null,"TYPE DE RESSOURCE",null,null,null,"CARACTÈRE GÉNÉRAL DE LA RESSOURCE"]
[]
[]
[]
[null,null,null,null,null,null,null,null,null,null,null,null,null,null,null,null,null,null,null,null,null,null,null,null,null,null,null,null,null,null,null,null,{"$f":"'Attribute Survey'!S22","v":0},null,{"$f":"'Attribute Survey'!S26","v":0},null,{"$f":"'Attribute Survey'!S30","v":0},null,{"$f":"'Attribute Survey'!S34","v":0},null,{"$f":"'Attribute Survey'!S38","v":0},null,{"$f":"'Attribute Survey'!S42","v":0},null,{"$f":"'Attribute Survey'!S46","v":0},null,{"$f":"'Attribute Survey'!S50","v":0},null,{"$f":"'Attribute Survey'!S54","v":0}]
[null,null,null,"Ressources les mieux adaptées",null,null,null,null,{"$f":"Backbone!A686","v":"Stratégie de financement durable pour la boîte à outils «Une seule santé»"},null,null,null,null,null,null,"Cet outil aide les plateformes «Une seule santé» et autres mécanismes de coordination à demander et recevoir des fonds pour soutenir leurs opérations et leurs activités à long terme.",null,null,null,null,null,null,null,null,{"$f":"INDEX(Backbone!$R2:$R893,MATCH(I23,Backbone!$A2:$A893,0))","v":"Document d'orientation"},null,null,null,{"$f":"INDEX(Backbone!$S2:$S893,MATCH(I23,Backbone!$A2:$A893,0))","v":"«Une seule santé»; Généralisée"},null,null,null,{"$f":"INDEX(Backbone!$H2:$H893,MATCH(I23,Backbone!$A2:$A893,0))","v":8.4},null,{"$f":"INDEX(Backbone!$I2:$I893,MATCH(I23,Backbone!$A2:$A893,0))","v":8},null,{"$f":"INDEX(Backbone!$J2:$J893,MATCH(I23,Backbone!$A2:$A893,0))","v":8.4},null,{"$f":"INDEX(Backbone!$K2:$K893,MATCH(I23,Backbone!$A2:$A893,0))","v":6.7},null,{"$f":"INDEX(Backbone!$L2:$L893,MATCH(I23,Backbone!$A2:$A893,0))","v":2},null,{"$f":"INDEX(Backbone!$M2:$M893,MATCH(I23,Backbone!$A2:$A893,0))","v":3.5},null,{"$f":"INDEX(Backbone!$N2:$N893,MATCH(I23,Backbone!$A2:$A893,0))","v":4},null,{"$f":"INDEX(Backbone!$O2:$O893,MATCH(I23,Backbone!$A2:$A893,0))","v":6.4},null,{"$f":"INDEX(Backbone!$P2:$P893,MATCH(I23,Backbone!$A2:$A893,0))","v":8},null,{"$f":"INDEX(Backbone!$Q2:$Q893,MATCH(I23,Backbone!$A2:$A893,0))","v":0.61555555555555552},null,null,{"$f":"(AG23*$AG$22+AI23*$AI$22+AK23*$AK$22+AM23*$AM$22+AO23*$AO$22+AQ23*$AQ$22+AS23*$AS$22+AU23*$AU$22+AW23*$AW$22)/(SUM($AG$22:$AW$22)*10)","v":{"$error":"#DIV/0!"}},null,null,"Aller à \nBoîte à outils: ",null,{"$f":"HYPERLINK(\"#\"&ADDRESS(MATCH(I23,Toolbox!$C$1:$C$300),1,,,\"Toolbox\"),VLOOKUP(I23,Toolbox!$C$1:$C$300,1,FALSE))","v":"Stratégie de financement durable pour la boîte à outils «Une seule santé»"}]
[]
[]
[]
[]
[]
[]
[null,null,null,"Autres ressources intéressantes",null,null,null,null,{"$f":"Backbone!A567","v":"SurvCost: Outil permettant d'estimer le coût de la surveillance intégrée de la maladie et la riposte"},null,null,null,null,null,null,"Un outil au format Excel conçu pour estimer les coûts d'un système de surveillance intégrée de la maladie et la riposte (IDSR).",null,null,null,null,null,null,null,null,{"$f":"INDEX(Backbone!$R$2:$R$893,MATCH(I30,Backbone!$A$2:$A$893,0))","v":"Outil d'autoévaluation"},null,null,null,{"$f":"INDEX(Backbone!$S$2:$S$893,MATCH(I30,Backbone!$A$2:$A$893,0))","v":"Spécifique du secteur; Généralisée"},null,null,null,{"$f":"INDEX(Backbone!$H$2:$H$893,MATCH(I30,Backbone!$A$2:$A$893,0))","v":9.8000000000000007},null,{"$f":"INDEX(Backbone!$I$2:$I$893,MATCH(I30,Backbone!$A$2:$A$893,0))","v":8},null,{"$f":"INDEX(Backbone!$J$2:$J$893,MATCH(I30,Backbone!$A$2:$A$893,0))","v":7.6},null,{"$f":"INDEX(Backbone!$K$1:$K$893,MATCH(I30,Backbone!$A$1:$A$893,0))","v":9.6999999999999993},null,{"$f":"INDEX(Backbone!$L$2:$L$893,MATCH(I30,Backbone!$A$2:$A$893,0))","v":7.7},null,{"$f":"INDEX(Backbone!$M$2:$M$893,MATCH(I30,Backbone!$A$2:$A$893,0))","v":5.8},null,{"$f":"INDEX(Backbone!$N$2:$N$893,MATCH(I30,Backbone!$A$2:$A$893,0))","v":7},null,{"$f":"INDEX(Backbone!$O$2:$O$893,MATCH(I30,Backbone!$A$2:$A$893,0))","v":7.3},null,{"$f":"INDEX(Backbone!$P$2:$P$893,MATCH(I30,Backbone!$A$2:$A$893,0))","v":8},null,{"$f":"INDEX(Backbone!$Q$2:$Q$893,MATCH(I30,Backbone!$A$2:$A$893,0))","v":0.78777777777777769},null,null,{"$f":"(AG30*$AG$22+AI30*$AI$22+AK30*$AK$22+AM30*$AM$22+AO30*$AO$22+AQ30*$AQ$22+AS30*$AS$22+AU30*$AU$22+AW30*$AW$22)/(SUM($AG$22:$AW$22)*10)","v":{"$error":"#DIV/0!"}},null,null,"Aller à \nBoîte à outils: ",null,{"$f":"HYPERLINK(\"#\"&ADDRESS(MATCH(I30,Toolbox!$C$1:$C$300),1,,,\"Toolbox\"),VLOOKUP(I30,Toolbox!$C$1:$C$300,1,FALSE))","v":"SurvCost: Outil permettant d'estimer le coût de la surveillance intégrée de la maladie et la riposte"}]
[]
[]
[]
[]
[]
[null,null,null,null,null,null,null,null,{"$f":"Backbone!A447","v":"Outil d'analyse coût-efficacité de la surveillance de la rage animale"},null,null,null,null,null,null,"Un outil basé sur Excel permettant d'effectuer une analyse coût-efficacité des programmes de prévention de la rage.",null,null,null,null,null,null,null,null,{"$f":"INDEX(Backbone!$R$2:$R$893,MATCH(I36,Backbone!$A$2:$A$893,0))","v":"Outil d'autoévaluation"},null,null,null,{"$f":"INDEX(Backbone!$S$2:$S$893,MATCH(I36,Backbone!$A$2:$A$893,0))","v":"«Une seule santé»; spécifique d'une maladie/menace "},null,null,null,{"$f":"INDEX(Backbone!$H$2:$H$893,MATCH(I36,Backbone!$A$2:$A$893,0))","v":9.6},null,{"$f":"INDEX(Backbone!$I$2:$I$893,MATCH(I36,Backbone!$A$2:$A$893,0))","v":6},null,{"$f":"INDEX(Backbone!$J$2:$J$893,MATCH(I36,Backbone!$A$2:$A$893,0))","v":7},null,{"$f":"INDEX(Backbone!$K$1:$K$893,MATCH(I36,Backbone!$A$1:$A$893,0))","v":8.6999999999999993},null,{"$f":"INDEX(Backbone!$L$2:$L$893,MATCH(I36,Backbone!$A$2:$A$893,0))","v":6.7},null,{"$f":"INDEX(Backbone!$M$2:$M$893,MATCH(I36,Backbone!$A$2:$A$893,0))","v":6.8},null,{"$f":"INDEX(Backbone!$N$2:$N$893,MATCH(I36,Backbone!$A$2:$A$893,0))","v":6},null,{"$f":"INDEX(Backbone!$O$2:$O$893,MATCH(I36,Backbone!$A$2:$A$893,0))","v":8.8000000000000007},null,{"$f":"INDEX(Backbone!$P$2:$P$893,MATCH(I36,Backbone!$A$2:$A$893,0))","v":8},null,{"$f":"INDEX(Backbone!$Q$2:$Q$893,MATCH(I36,Backbone!$A$2:$A$893,0))","v":0.75111111111111106},null,null,{"$f":"(AG36*$AG$22+AI36*$AI$22+AK36*$AK$22+AM36*$AM$22+AO36*$AO$22+AQ36*$AQ$22+AS36*$AS$22+AU36*$AU$22+AW36*$AW$22)/(SUM($AG$22:$AW$22)*10)","v":{"$error":"#DIV/0!"}},null,null,"Aller à \nBoîte à outils: ",null,{"$f":"HYPERLINK(\"#\"&ADDRESS(MATCH(I36,Toolbox!$C$1:$C$300),1,,,\"Toolbox\"),VLOOKUP(I36,Toolbox!$C$1:$C$300,1,FALSE))","v":"Outil d'analyse coût-efficacité de la surveillance de la rage animale"}]
[]
[]
[]
[]
[]
[null,null,null,null,null,null,null,null,{"$f":"Backbone!A234","v":"Outil d'évaluation des coûts du Règlement sanitaire international (RSI) de l'Université de Georgetown"},null,null,null,null,null,null,"Cet outil aide les utilisateurs à élaborer des estimations de coûts pour la mise en place de capacités durables dans le cadre du Règlement sanitaire international (RSI).",null,null,null,null,null,null,null,null,{"$f":"INDEX(Backbone!$R$2:$R$893,MATCH(I42,Backbone!$A$2:$A$893,0))","v":"Outil d'autoévaluation"},null,null,null,{"$f":"INDEX(Backbone!$S$2:$S$893,MATCH(I42,Backbone!$A$2:$A$893,0))","v":"Spécifique du secteur; Généralisée"},null,null,null,{"$f":"INDEX(Backbone!$H$2:$H$893,MATCH(I42,Backbone!$A$2:$A$893,0))","v":9.6},null,{"$f":"INDEX(Backbone!$I$2:$I$893,MATCH(I42,Backbone!$A$2:$A$893,0))","v":6},null,{"$f":"INDEX(Backbone!$J$2:$J$893,MATCH(I42,Backbone!$A$2:$A$893,0))","v":9.3000000000000007},null,{"$f":"INDEX(Backbone!$K$1:$K$893,MATCH(I42,Backbone!$A$1:$A$893,0))","v":7.3},null,{"$f":"INDEX(Backbone!$L$2:$L$893,MATCH(I42,Backbone!$A$2:$A$893,0))","v":7.1},null,{"$f":"INDEX(Backbone!$M$2:$M$893,MATCH(I42,Backbone!$A$2:$A$893,0))","v":8.8000000000000007},null,{"$f":"INDEX(Backbone!$N$2:$N$893,MATCH(I42,Backbone!$A$2:$A$893,0))","v":9.3000000000000007},null,{"$f":"INDEX(Backbone!$O$2:$O$893,MATCH(I42,Backbone!$A$2:$A$893,0))","v":7.5},null,{"$f":"INDEX(Backbone!$P$2:$P$893,MATCH(I42,Backbone!$A$2:$A$893,0))","v":8},null,{"$f":"INDEX(Backbone!$Q$2:$Q$893,MATCH(I42,Backbone!$A$2:$A$893,0))","v":0.80999999999999994},null,null,{"$f":"(AG42*$AG$22+AI42*$AI$22+AK42*$AK$22+AM42*$AM$22+AO42*$AO$22+AQ42*$AQ$22+AS42*$AS$22+AU42*$AU$22+AW42*$AW$22)/(SUM($AG$22:$AW$22)*10)","v":{"$error":"#DIV/0!"}},null,null,"Aller à \nBoîte à outils: ",null,{"$f":"HYPERLINK(\"#\"&ADDRESS(MATCH(I42,Toolbox!$C$1:$C$300),1,,,\"Toolbox\"),VLOOKUP(I42,Toolbox!$C$1:$C$300,1,FALSE))","v":"Outil d'évaluation des coûts du Règlement sanitaire international (RSI) de l'Université de Georgetown"}]
[]
[]
[]
[]
[]
[]
[]
[]
[]
[]
[]
[]
[]
[]
[]
[]
[]
[]
[]
[]
[]
[]
[]
[null,null,null,null,null,null,null,null,null,null,null,null,null,null,null,null,null,null,null,null,null,null,null,null,null,null,null,null,null,null,null,null,"Accessibilité",null,"Langue",null,"Facilité d'utilisation",null,"Flexibilité",null,"Besoins de données",null,"Analyse des données",null,"Acceptabilité",null,"«Une seule santé»",null,"Impact"]
[null,"RESSOURCES DE NIVEAU 2"]
[]
[]
[]
[]
[]
[null,null,null,null,null,null,null,null,null,null,null,null,null,null,null,null,null,null,null,null,null,null,null,null,null,null,null,null,null,null,null,null,null,null,null,null,null,null,null,null,null,null,null,null,null,null,null,null,null,null,"SCORE BRUT",null,null,"SCORE AJUSTÉ \n(Selon les préférences de l'utilisateur)"]
[]
[]
[]
[null,null,null,"DÉSIGNATION",null,null,null,null,"NOM DE LA RESSOURCE",null,null,null,null,null,null,"BRÈVE DESCRIPTION",null,null,null,null,null,null,null,null,"TYPE DE RESSOURCE",null,null,null,"CARACTÈRE GÉNÉRAL DE LA RESSOURCE"]
[]
[]
[]
[null,null,null,null,null,null,null,null,null,null,null,null,null,null,null,null,null,null,null,null,null,null,null,null,null,null,null,null,null,null,null,null,{"$f":"'Attribute Survey'!S81","v":0},null,{"$f":"'Attribute Survey'!S85","v":0},null,{"$f":"'Attribute Survey'!S89","v":0},null,{"$f":"'Attribute Survey'!S93","v":0},null,{"$f":"'Attribute Survey'!S97","v":0},null,{"$f":"'Attribute Survey'!S101","v":0},null,{"$f":"'Attribute Survey'!S105","v":0},null,{"$f":"'Attribute Survey'!S109","v":0},null,{"$f":"'Attribute Survey'!S113","v":0}]
[null,null,null,"Ressources les mieux adaptées",null,null,null,null,{"$f":"Backbone!A686","v":"Stratégie de financement durable pour la boîte à outils «Une seule santé»"},null,null,null,null,null,null,"Cet outil aide les plateformes «Une seule santé» et autres mécanismes de coordination à demander et recevoir des fonds pour soutenir leurs opérations et leurs activités à long terme.",null,null,null,null,null,null,null,null,{"$f":"INDEX(Backbone!$R61:$R952,MATCH(I82,Backbone!$A61:$A952,0))","v":"Document d'orientation"},null,null,null,{"$f":"INDEX(Backbone!$S61:$S952,MATCH(I82,Backbone!$A61:$A952,0))","v":"«Une seule santé»; Généralisée"},null,null,null,{"$f":"INDEX(Backbone!$H61:$H952,MATCH(I82,Backbone!$A61:$A952,0))","v":8.4},null,{"$f":"INDEX(Backbone!$I61:$I952,MATCH(I82,Backbone!$A61:$A952,0))","v":8},null,{"$f":"INDEX(Backbone!$J61:$J952,MATCH(I82,Backbone!$A61:$A952,0))","v":8.4},null,{"$f":"INDEX(Backbone!$K61:$K952,MATCH(I82,Backbone!$A61:$A952,0))","v":6.7},null,{"$f":"INDEX(Backbone!$L61:$L952,MATCH(I82,Backbone!$A61:$A952,0))","v":2},null,{"$f":"INDEX(Backbone!$M61:$M952,MATCH(I82,Backbone!$A61:$A952,0))","v":3.5},null,{"$f":"INDEX(Backbone!$N61:$N952,MATCH(I82,Backbone!$A61:$A952,0))","v":4},null,{"$f":"INDEX(Backbone!$O61:$O952,MATCH(I82,Backbone!$A61:$A952,0))","v":6.4},null,{"$f":"INDEX(Backbone!$P61:$P952,MATCH(I82,Backbone!$A61:$A952,0))","v":8},null,{"$f":"INDEX(Backbone!$Q61:$Q952,MATCH(I82,Backbone!$A61:$A952,0))","v":0.61555555555555552},null,null,{"$f":"(AG82*$AG$22+AI82*$AI$22+AK82*$AK$22+AM82*$AM$22+AO82*$AO$22+AQ82*$AQ$22+AS82*$AS$22+AU82*$AU$22+AW82*$AW$22)/(SUM($AG$22:$AW$22)*10)","v":{"$error":"#DIV/0!"}},null,null,"Aller à \nBoîte à outils: ",null,{"$f":"HYPERLINK(\"#\"&ADDRESS(MATCH(I82,Toolbox!$C$1:$C$300),1,,,\"Toolbox\"),VLOOKUP(I82,Toolbox!$C$1:$C$300,1,FALSE))","v":"Stratégie de financement durable pour la boîte à outils «Une seule santé»"}]
[]
[]
[]
[]
[]
[]
[]
[]
[]
[]
[]
[]
[]
[]
[]
[]
[]
[]
[]
[]
[]
[]
[null,null,null,null,null,null,null,null,null,null,null,null,null,null,null,null,null,null,null,null,null,null,null,null,null,null,null,null,null,null,null,null,"Accessibilité",null,"Langue",null,"Facilité d'utilisation",null,"Flexibilité",null,"Besoins de données",null,"Analyse des données",null,"Acceptabilité",null,"«Une seule santé»",null,"Impact"]
[]
[]
[]
[null,"RESSOURCES DE NIVEAU 3"]
[]
[]
[null,null,null,null,null,null,null,null,null,null,null,null,null,null,null,null,null,null,null,null,null,null,null,null,null,null,null,null,null,null,null,null,null,null,null,null,null,null,null,null,null,null,null,null,null,null,null,null,null,null,"SCORE BRUT",null,null,"SCORE AJUSTÉ \n(Selon les préférences de l'utilisateur)"]
[]
[]
[]
[null,null,null,"DÉSIGNATION",null,null,null,null,"NOM DE LA RESSOURCE",null,null,null,null,null,null,"BRÈVE DESCRIPTION",null,null,null,null,null,null,null,null,"TYPE DE RESSOURCE",null,null,null,"CARACTÈRE GÉNÉRAL DE LA RESSOURCE"]
[]
[]
[]
[null,null,null,null,null,null,null,null,null,null,null,null,null,null,null,null,null,null,null,null,null,null,null,null,null,null,null,null,null,null,null,null,{"$f":"'Attribute Survey'!S120","v":0},null,{"$f":"'Attribute Survey'!S124","v":0},null,{"$f":"'Attribute Survey'!S128","v":0},null,{"$f":"'Attribute Survey'!S132","v":0},null,{"$f":"'Attribute Survey'!S136","v":0},null,{"$f":"'Attribute Survey'!S140","v":0},null,{"$f":"'Attribute Survey'!S144","v":0},null,{"$f":"'Attribute Survey'!S148","v":0},null,{"$f":"'Attribute Survey'!S152","v":0}]
[null,null,null,"Ressources les mieux adaptées",null,null,null,null,{"$f":"Backbone!A686","v":"Stratégie de financement durable pour la boîte à outils «Une seule santé»"},null,null,null,null,null,null,"Cet outil aide les plateformes «Une seule santé» et autres mécanismes de coordination à demander et recevoir des fonds pour soutenir leurs opérations et leurs activités à long terme",null,null,null,null,null,null,null,null,{"$f":"INDEX(Backbone!$R100:$R991,MATCH(I121,Backbone!$A100:$A991,0))","v":"Document d'orientation"},null,null,null,{"$f":"INDEX(Backbone!$S100:$S991,MATCH(I121,Backbone!$A100:$A991,0))","v":"«Une seule santé»; Généralisée"},null,null,null,{"$f":"INDEX(Backbone!$H100:$H991,MATCH(I121,Backbone!$A100:$A991,0))","v":8.4},null,{"$f":"INDEX(Backbone!$I100:$I991,MATCH(I121,Backbone!$A100:$A991,0))","v":8},null,{"$f":"INDEX(Backbone!$J100:$J991,MATCH(I121,Backbone!$A100:$A991,0))","v":8.4},null,{"$f":"INDEX(Backbone!$K100:$K991,MATCH(I121,Backbone!$A100:$A991,0))","v":6.7},null,{"$f":"INDEX(Backbone!$L100:$L991,MATCH(I121,Backbone!$A100:$A991,0))","v":2},null,{"$f":"INDEX(Backbone!$M100:$M991,MATCH(I121,Backbone!$A100:$A991,0))","v":3.5},null,{"$f":"INDEX(Backbone!$N100:$N991,MATCH(I121,Backbone!$A100:$A991,0))","v":4},null,{"$f":"INDEX(Backbone!$O100:$O991,MATCH(I121,Backbone!$A100:$A991,0))","v":6.4},null,{"$f":"INDEX(Backbone!$P100:$P991,MATCH(I121,Backbone!$A100:$A991,0))","v":8},null,{"$f":"INDEX(Backbone!$Q100:$Q991,MATCH(I121,Backbone!$A100:$A991,0))","v":0.61555555555555552},null,null,{"$f":"(AG121*$AG$22+AI121*$AI$22+AK121*$AK$22+AM121*$AM$22+AO121*$AO$22+AQ121*$AQ$22+AS121*$AS$22+AU121*$AU$22+AW121*$AW$22)/(SUM($AG$22:$AW$22)*10)","v":{"$error":"#DIV/0!"}},null,null,"Aller à \nBoîte à outils: ",null,{"$f":"HYPERLINK(\"#\"&ADDRESS(MATCH(I121,Toolbox!$C$1:$C$300),1,,,\"Toolbox\"),VLOOKUP(I121,Toolbox!$C$1:$C$300,1,FALSE))","v":"Stratégie de financement durable pour la boîte à outils «Une seule santé»"}]

{"sheet":"I2_tools","index":47,"n_rows":148,"n_cols":59,"rows_kept":148,"cut":false,"hidden":false,"merged":[[147,46,151,46],[147,48,151,48],[147,50,151,51],[147,53,151,54],[123,1,151,1],[135,3,151,6],[147,34,151,34],[147,36,151,36],[147,38,151,38],[147,40,151,40],[147,42,151,42],[147,44,151,44],[141,46,145,46],[141,48,145,48],[141,50,145,51],[141,53,145,54],[147,8,151,13],[147,15,151,22],[147,24,151,26],[147,28,151,30],[147,32,151,32],[141,34,145,34],[141,36,145,36],[141,38,145,38],[141,40,145,40],[141,42,145,42],[141,44,145,44],[135,44,139,44],[135,46,139,46],[135,48,139,48],[135,50,139,51],[135,53,139,54],[141,8,145,13],[141,15,145,22],[141,24,145,26],[141,28,145,30],[141,32,145,32],[135,32,139,32],[135,34,139,34],[135,36,139,36],[135,38,139,38],[135,40,139,40],[135,42,139,42],[128,50,132,51],[128,53,132,54],[135,8,139,13],[135,15,139,22],[135,24,139,26],[135,28,139,30],[128,24,132,26],[128,28,132,30],[128,32,132,32],[128,34,132,34],[128,36,132,36],[128,38,132,38],[128,40,132,40],[128,42,132,42],[128,48,132,48],[119,50,126,51],[119,53,126,54],[123,3,126,6],[123,8,126,13],[123,15,126,22],[123,24,126,26],[112,34,126,34],[112,36,126,36],[112,38,126,38],[112,40,126,40],[112,32,126,32],[112,42,126,42],[123,28,126,30],[112,48,126,48],[82,53,86,54],[88,8,92,13],[88,15,92,22],[88,24,92,26],[88,28,92,30],[88,32,92,32],[88,34,92,34],[82,34,86,34],[82,36,86,36],[82,38,86,38],[82,40,86,40],[75,53,79,54],[82,3,92,6],[82,8,86,13],[82,15,86,22],[82,24,86,26],[82,28,86,30],[82,32,86,32],[75,28,79,30],[75,32,79,32],[75,34,79,34],[75,36,79,36],[75,38,79,38],[75,40,79,40],[88,48,92,48],[88,50,92,51],[88,53,92,54],[88,36,92,36],[88,38,92,38],[88,40,92,40],[88,42,92,42],[88,44,92,44],[88,46,92,46],[82,46,86,46],[82,48,86,48],[66,53,73,54],[70,3,73,6],[70,8,73,13],[70,15,73,22],[70,24,73,26],[70,28,73,30],[59,34,73,34],[59,36,73,36],[59,38,73,38],[59,40,73,40],[59,42,73,42],[59,44,73,44],[17,1,39,1],[59,32,73,32],[75,3,79,6],[75,8,79,13],[75,15,79,22],[75,24,79,26],[29,3,39,6],[35,48,39,48],[35,50,39,51],[75,42,79,42],[75,44,79,44],[22,50,26,51],[13,50,20,51],[59,46,73,46],[59,48,73,48],[66,50,73,51],[75,46,79,46],[75,48,79,48],[75,50,79,51],[68,1,95,1],[82,50,86,51],[29,50,33,51],[22,48,26,48],[22,15,26,22],[35,53,39,54],[35,36,39,36],[35,38,39,38],[35,40,39,40],[35,42,39,42],[35,44,39,44],[35,46,39,46],[35,8,39,13],[35,15,39,22],[35,24,39,26],[35,28,39,30],[35,32,39,32],[35,34,39,34],[29,53,33,54],[29,34,33,34],[29,36,33,36],[29,38,33,38],[29,40,33,40],[29,42,33,42],[29,44,33,44],[29,8,33,13],[29,15,33,22],[29,24,33,26],[29,28,33,30],[29,32,33,32],[29,48,33,48],[128,3,132,6],[128,8,132,13],[128,15,132,22],[29,46,33,46],[82,42,86,42],[82,44,86,44],[112,44,126,44],[112,46,126,46],[128,44,132,44],[128,46,132,46],[6,46,20,46],[6,48,20,48],[22,53,26,54],[22,38,26,38],[22,40,26,40],[22,42,26,42],[22,44,26,44],[22,46,26,46],[22,24,26,26],[22,28,26,30],[22,32,26,32],[22,34,26,34],[22,36,26,36],[1,1,3,62],[22,56,26,57],[22,58,26,62],[29,56,33,57],[29,58,33,62],[35,56,39,57],[35,58,39,62],[75,56,79,57],[75,58,79,62],[13,53,20,54],[17,3,20,6],[17,8,20,13],[17,15,20,22],[17,24,20,26],[17,28,20,30],[22,3,26,6],[22,8,26,13],[6,32,20,32],[6,34,20,34],[6,36,20,36],[6,38,20,38],[6,40,20,40],[6,42,20,42],[6,44,20,44],[147,56,151,57],[147,58,151,62],[82,56,86,57],[82,58,86,62],[88,56,92,57],[88,58,92,62],[128,56,132,57],[128,58,132,62],[135,56,139,57],[135,58,139,62],[141,56,145,57],[141,58,145,62]]}
[]
[null,"Ressources pour la mobilisation des ressources humaines et des parties prenantes"]
[]
[]
[]
[]
[null,null,null,null,null,null,null,null,null,null,null,null,null,null,null,null,null,null,null,null,null,null,null,null,null,null,null,null,null,null,null,null,"Accessibilité",null,"Langue",null,"Facilité d'utilisation",null,"Flexibilité",null,"Besoins de données",null,"Analyse des données",null,"Acceptabilité",null,"«Une seule santé»",null,"Impact"]
[]
[]
[]
[]
[]
[]
[null,null,null,null,null,null,null,null,null,null,null,null,null,null,null,null,null,null,null,null,null,null,null,null,null,null,null,null,null,null,null,null,null,null,null,null,null,null,null,null,null,null,null,null,null,null,null,null,null,null,"SCORE BRUT",null,null,"SCORE AJUSTÉ \n(Selon les préférences de l'utilisateur)"]
[]
[]
[]
[null,"RESSOURCES DE NIVEAU 1",null,"DÉSIGNATION",null,null,null,null,"NOM DE LA RESSOURCE",null,null,null,null,null,null,"BRÈVE DESCRIPTION",null,null,null,null,null,null,null,null,"TYPE DE RESSOURCE",null,null,null,"CARACTÈRE GÉNÉRAL DE LA RESSOURCE"]
[]
[]
[]
[null,null,null,null,null,null,null,null,null,null,null,null,null,null,null,null,null,null,null,null,null,null,null,null,null,null,null,null,null,null,null,null,{"$f":"'Attribute Survey'!S22","v":0},null,{"$f":"'Attribute Survey'!S26","v":0},null,{"$f":"'Attribute Survey'!S30","v":0},null,{"$f":"'Attribute Survey'!S34","v":0},null,{"$f":"'Attribute Survey'!S38","v":0},null,{"$f":"'Attribute Survey'!S42","v":0},null,{"$f":"'Attribute Survey'!S46","v":0},null,{"$f":"'Attribute Survey'!S50","v":0},null,{"$f":"'Attribute Survey'!S54","v":0}]
[null,null,null,"Ressources les mieux adaptées",null,null,null,null,{"$f":"Backbone!A634","v":"Boîte à outils pour l'élaboration d'un manuel de gouvernance"},null,null,null,null,null,null,"Une boîte à outils qui présente la manière dont il faut élaborer un manuel de gouvernance pour une plateforme «Une seule santé».",null,null,null,null,null,null,null,null,{"$f":"INDEX(Backbone!$R2:$R893,MATCH(I23,Backbone!$A2:$A893,0))","v":"Document d'orientation"},null,null,null,{"$f":"INDEX(Backbone!$S2:$S893,MATCH(I23,Backbone!$A2:$A893,0))","v":"«Une seule santé»; Généralisée"},null,null,null,{"$f":"INDEX(Backbone!$H2:$H893,MATCH(I23,Backbone!$A2:$A893,0))","v":8.4},null,{"$f":"INDEX(Backbone!$I2:$I893,MATCH(I23,Backbone!$A2:$A893,0))","v":8},null,{"$f":"INDEX(Backbone!$J2:$J893,MATCH(I23,Backbone!$A2:$A893,0))","v":8.4},null,{"$f":"INDEX(Backbone!$K2:$K893,MATCH(I23,Backbone!$A2:$A893,0))","v":6.7},null,{"$f":"INDEX(Backbone!$L2:$L893,MATCH(I23,Backbone!$A2:$A893,0))","v":2},null,{"$f":"INDEX(Backbone!$M2:$M893,MATCH(I23,Backbone!$A2:$A893,0))","v":3.5},null,{"$f":"INDEX(Backbone!$N2:$N893,MATCH(I23,Backbone!$A2:$A893,0))","v":4},null,{"$f":"INDEX(Backbone!$O2:$O893,MATCH(I23,Backbone!$A2:$A893,0))","v":6.4},null,{"$f":"INDEX(Backbone!$P2:$P893,MATCH(I23,Backbone!$A2:$A893,0))","v":8},null,{"$f":"INDEX(Backbone!$Q2:$Q893,MATCH(I23,Backbone!$A2:$A893,0))","v":0.61555555555555552},null,null,{"$f":"(AG23*$AG$22+AI23*$AI$22+AK23*$AK$22+AM23*$AM$22+AO23*$AO$22+AQ23*$AQ$22+AS23*$AS$22+AU23*$AU$22+AW23*$AW$22)/(SUM($AG$22:$AW$22)*10)","v":{"$error":"#DIV/0!"}},null,null,"Aller à \nBoîte à outils: ",null,{"$f":"HYPERLINK(\"#\"&ADDRESS(MATCH(I23,Toolbox!$C$1:$C$300),1,,,\"Toolbox\"),VLOOKUP(I23,Toolbox!$C$1:$C$300,1,FALSE))","v":"Boîte à outils pour l'élaboration d'un manuel de gouvernance"}]
[]
[]
[]
[]
[]
[]
[null,null,null,"Autres ressources intéressantes",null,null,null,null,{"$f":"Backbone!A2","v":"Cadre de surveillance basé sur les événements des CDC en Afrique"},null,null,null,null,null,null,"Des orientations à l'attention des professionnels de la santé publique qui cherchent à mettre en œuvre la surveillance basée sur les événements à tous les échelons administratifs de leur pays.",null,null,null,null,null,null,null,null,{"$f":"INDEX(Backbone!$R$2:$R$893,MATCH(I30,Backbone!$A$2:$A$893,0))","v":"Document d'orientation"},null,null,null,{"$f":"INDEX(Backbone!$S$2:$S$893,MATCH(I30,Backbone!$A$2:$A$893,0))","v":"«Une seule santé»; Généralisée "},null,null,null,{"$f":"INDEX(Backbone!$H$2:$H$893,MATCH(I30,Backbone!$A$2:$A$893,0))","v":8},null,{"$f":"INDEX(Backbone!$I$2:$I$893,MATCH(I30,Backbone!$A$2:$A$893,0))","v":6},null,{"$f":"INDEX(Backbone!$J$2:$J$893,MATCH(I30,Backbone!$A$2:$A$893,0))","v":8.1999999999999993},null,{"$f":"INDEX(Backbone!$K$1:$K$893,MATCH(I30,Backbone!$A$1:$A$893,0))","v":8.3000000000000007},null,{"$f":"INDEX(Backbone!$L$2:$L$893,MATCH(I30,Backbone!$A$2:$A$893,0))","v":6.1},null,{"$f":"INDEX(Backbone!$M$2:$M$893,MATCH(I30,Backbone!$A$2:$A$893,0))","v":3.5},null,{"$f":"INDEX(Backbone!$N$2:$N$893,MATCH(I30,Backbone!$A$2:$A$893,0))","v":4},null,{"$f":"INDEX(Backbone!$O$2:$O$893,MATCH(I30,Backbone!$A$2:$A$893,0))","v":7},null,{"$f":"INDEX(Backbone!$P$2:$P$893,MATCH(I30,Backbone!$A$2:$A$893,0))","v":6},null,{"$f":"INDEX(Backbone!$Q$2:$Q$893,MATCH(I30,Backbone!$A$2:$A$893,0))","v":0.63222222222222224},null,null,{"$f":"(AG30*$AG$22+AI30*$AI$22+AK30*$AK$22+AM30*$AM$22+AO30*$AO$22+AQ30*$AQ$22+AS30*$AS$22+AU30*$AU$22+AW30*$AW$22)/(SUM($AG$22:$AW$22)*10)","v":{"$error":"#DIV/0!"}},null,null,"Aller à \nBoîte à outils: ",null,{"$f":"HYPERLINK(\"#\"&ADDRESS(MATCH(I30,Toolbox!$C$1:$C$300),1,,,\"Toolbox\"),VLOOKUP(I30,Toolbox!$C$1:$C$300,1,FALSE))","v":"Cadre de surveillance basé sur les événements des CDC en Afrique"}]
[]
[]
[]
[]
[]
[null,null,null,null,null,null,null,null,{"$f":"Backbone!A680","v":"Boîte à outils pour l'analyse a posteriori après l'apparition d'un foyer épidémique"},null,null,null,null,null,null,"Cette boîte à outils oriente les représentants de la plateforme «Une seule santé» à travers le processus, étape par étape, de planification et d'exécution d'une analyse a posteriori (AAP) après l'apparition d'un foyer épidémique.",null,null,null,null,null,null,null,null,{"$f":"INDEX(Backbone!$R$2:$R$893,MATCH(I36,Backbone!$A$2:$A$893,0))","v":"Document d'orientation"},null,null,null,{"$f":"INDEX(Backbone!$S$2:$S$893,MATCH(I36,Backbone!$A$2:$A$893,0))","v":"«Une seule santé»; Généralisée"},null,null,null,{"$f":"INDEX(Backbone!$H$2:$H$893,MATCH(I36,Backbone!$A$2:$A$893,0))","v":8.4},null,{"$f":"INDEX(Backbone!$I$2:$I$893,MATCH(I36,Backbone!$A$2:$A$893,0))","v":8},null,{"$f":"INDEX(Backbone!$J$2:$J$893,MATCH(I36,Backbone!$A$2:$A$893,0))","v":8.4},null,{"$f":"INDEX(Backbone!$K$1:$K$893,MATCH(I36,Backbone!$A$1:$A$893,0))","v":6.7},null,{"$f":"INDEX(Backbone!$L$2:$L$893,MATCH(I36,Backbone!$A$2:$A$893,0))","v":2},null,{"$f":"INDEX(Backbone!$M$2:$M$893,MATCH(I36,Backbone!$A$2:$A$893,0))","v":3.5},null,{"$f":"INDEX(Backbone!$N$2:$N$893,MATCH(I36,Backbone!$A$2:$A$893,0))","v":4},null,{"$f":"INDEX(Backbone!$O$2:$O$893,MATCH(I36,Backbone!$A$2:$A$893,0))","v":6.4},null,{"$f":"INDEX(Backbone!$P$2:$P$893,MATCH(I36,Backbone!$A$2:$A$893,0))","v":8},null,{"$f":"INDEX(Backbone!$Q$2:$Q$893,MATCH(I36,Backbone!$A$2:$A$893,0))","v":0.61555555555555552},null,null,{"$f":"(AG36*$AG$22+AI36*$AI$22+AK36*$AK$22+AM36*$AM$22+AO36*$AO$22+AQ36*$AQ$22+AS36*$AS$22+AU36*$AU$22+AW36*$AW$22)/(SUM($AG$22:$AW$22)*10)","v":{"$error":"#DIV/0!"}},null,null,"Aller à \nBoîte à outils: ",null,{"$f":"HYPERLINK(\"#\"&ADDRESS(MATCH(I36,Toolbox!$C$1:$C$300),1,,,\"Toolbox\"),VLOOKUP(I36,Toolbox!$C$1:$C$300,1,FALSE))","v":"Boîte à outils pour l'analyse a posteriori après l'apparition d'un foyer épidémique"}]
[]
[]
[]
[]
[]
[]
[]
[]
[]
[]
[]
[]
[]
[]
[]
[]
[]
[]
[]
[]
[]
[]
[]
[null,null,null,null,null,null,null,null,null,null,null,null,null,null,null,null,null,null,null,null,null,null,null,null,null,null,null,null,null,null,null,null,"Accessibilité",null,"Langue",null,"Facilité d'utilisation",null,"Flexibilité",null,"Besoins de données",null,"Analyse des données",null,"Acceptabilité",null,"«Une seule santé»",null,"Impact"]
[]
[]
[]
[]
[]
[]
[null,null,null,null,null,null,null,null,null,null,null,null,null,null,null,null,null,null,null,null,null,null,null,null,null,null,null,null,null,null,null,null,null,null,null,null,null,null,null,null,null,null,null,null,null,null,null,null,null,null,"SCORE BRUT",null,null,"SCORE AJUSTÉ \n(Selon les préférences de l'utilisateur)"]
[]
[null,"RESSOURCES DE NIVEAU 2"]
[]
[null,null,null,"DÉSIGNATION",null,null,null,null,"NOM DE LA RESSOURCE",null,null,null,null,null,null,"BRÈVE DESCRIPTION",null,null,null,null,null,null,null,null,"TYPE DE RESSOURCE",null,null,null,"CARACTÈRE GÉNÉRAL DE LA RESSOURCE"]
[]
[]
[]
[null,null,null,null,null,null,null,null,null,null,null,null,null,null,null,null,null,null,null,null,null,null,null,null,null,null,null,null,null,null,null,null,{"$f":"'Attribute Survey'!S75","v":0},null,{"$f":"'Attribute Survey'!S79","v":0},null,{"$f":"'Attribute Survey'!S83","v":0},null,{"$f":"'Attribute Survey'!S87","v":0},null,{"$f":"'Attribute Survey'!S91","v":0},null,{"$f":"'Attribute Survey'!S95","v":0},null,{"$f":"'Attribute Survey'!S99","v":0},null,{"$f":"'Attribute Survey'!S103","v":0},null,{"$f":"'Attribute Survey'!S107","v":0}]
[null,null,null,"Ressources les mieux adaptées",null,null,null,null,{"$f":"Backbone!A634","v":"Boîte à outils pour l'élaboration d'un manuel de gouvernance"},null,null,null,null,null,null,"Une boîte à outils qui présente la manière dont il faut élaborer un manuel de gouvernance pour une plateforme «Une seule santé».",null,null,null,null,null,null,null,null,{"$f":"INDEX(Backbone!$R55:$R946,MATCH(I76,Backbone!$A55:$A946,0))","v":"Document d'orientation"},null,null,null,{"$f":"INDEX(Backbone!$S55:$S946,MATCH(I76,Backbone!$A55:$A946,0))","v":"«Une seule santé»; Généralisée"},null,null,null,{"$f":"INDEX(Backbone!$H55:$H946,MATCH(I76,Backbone!$A55:$A946,0))","v":8.4},null,{"$f":"INDEX(Backbone!$I55:$I946,MATCH(I76,Backbone!$A55:$A946,0))","v":8},null,{"$f":"INDEX(Backbone!$J55:$J946,MATCH(I76,Backbone!$A55:$A946,0))","v":8.4},null,{"$f":"INDEX(Backbone!$K55:$K946,MATCH(I76,Backbone!$A55:$A946,0))","v":6.7},null,{"$f":"INDEX(Backbone!$L55:$L946,MATCH(I76,Backbone!$A55:$A946,0))","v":2},null,{"$f":"INDEX(Backbone!$M55:$M946,MATCH(I76,Backbone!$A55:$A946,0))","v":3.5},null,{"$f":"INDEX(Backbone!$N55:$N946,MATCH(I76,Backbone!$A55:$A946,0))","v":4},null,{"$f":"INDEX(Backbone!$O55:$O946,MATCH(I76,Backbone!$A55:$A946,0))","v":6.4},null,{"$f":"INDEX(Backbone!$P55:$P946,MATCH(I76,Backbone!$A55:$A946,0))","v":8},null,{"$f":"INDEX(Backbone!$Q55:$Q946,MATCH(I76,Backbone!$A55:$A946,0))","v":0.61555555555555552},null,null,{"$f":"(AG76*$AG$22+AI76*$AI$22+AK76*$AK$22+AM76*$AM$22+AO76*$AO$22+AQ76*$AQ$22+AS76*$AS$22+AU76*$AU$22+AW76*$AW$22)/(SUM($AG$22:$AW$22)*10)","v":{"$error":"#DIV/0!"}},null,null,"Aller à \nBoîte à outils: ",null,{"$f":"HYPERLINK(\"#\"&ADDRESS(MATCH(I76,Toolbox!$C$1:$C$300),1,,,\"Toolbox\"),VLOOKUP(I76,Toolbox!$C$1:$C$300,1,FALSE))","v":"Boîte à outils pour l'élaboration d'un manuel de gouvernance"}]
[]
[]
[]
[]
[]
[]
[null,null,null,"Autres ressources intéressantes",null,null,null,null,{"$f":"Backbone!A2","v":"Cadre de surveillance basé sur les événements des CDC en Afrique"},null,null,null,null,null,null,"Des orientations à l'attention des professionnels de la santé publique qui cherchent à mettre en œuvre la surveillance basée sur les événements à tous les échelons administratifs de leur pays.",null,null,null,null,null,null,null,null,{"$f":"INDEX(Backbone!$R$2:$R$893,MATCH(I83,Backbone!$A$2:$A$893,0))","v":"Document d'orientation"},null,null,null,{"$f":"INDEX(Backbone!$S$2:$S$893,MATCH(I83,Backbone!$A$2:$A$893,0))","v":"«Une seule santé»; Généralisée "},null,null,null,{"$f":"INDEX(Backbone!$H$2:$H$893,MATCH(I83,Backbone!$A$2:$A$893,0))","v":8},null,{"$f":"INDEX(Backbone!$I$2:$I$893,MATCH(I83,Backbone!$A$2:$A$893,0))","v":6},null,{"$f":"INDEX(Backbone!$J$2:$J$893,MATCH(I83,Backbone!$A$2:$A$893,0))","v":8.1999999999999993},null,{"$f":"INDEX(Backbone!$K$1:$K$893,MATCH(I83,Backbone!$A$1:$A$893,0))","v":8.3000000000000007},null,{"$f":"INDEX(Backbone!$L$2:$L$893,MATCH(I83,Backbone!$A$2:$A$893,0))","v":6.1},null,{"$f":"INDEX(Backbone!$M$2:$M$893,MATCH(I83,Backbone!$A$2:$A$893,0))","v":3.5},null,{"$f":"INDEX(Backbone!$N$2:$N$893,MATCH(I83,Backbone!$A$2:$A$893,0))","v":4},null,{"$f":"INDEX(Backbone!$O$2:$O$893,MATCH(I83,Backbone!$A$2:$A$893,0))","v":7},null,{"$f":"INDEX(Backbone!$P$2:$P$893,MATCH(I83,Backbone!$A$2:$A$893,0))","v":6},null,{"$f":"INDEX(Backbone!$Q$2:$Q$893,MATCH(I83,Backbone!$A$2:$A$893,0))","v":0.63222222222222224},null,null,{"$f":"(AG83*$AG$22+AI83*$AI$22+AK83*$AK$22+AM83*$AM$22+AO83*$AO$22+AQ83*$AQ$22+AS83*$AS$22+AU83*$AU$22+AW83*$AW$22)/(SUM($AG$22:$AW$22)*10)","v":{"$error":"#DIV/0!"}},null,null,"Aller à \nBoîte à outils: ",null,{"$f":"HYPERLINK(\"#\"&ADDRESS(MATCH(I83,Toolbox!$C$1:$C$300),1,,,\"Toolbox\"),VLOOKUP(I83,Toolbox!$C$1:$C$300,1,FALSE))","v":"Cadre de surveillance basé sur les événements des CDC en Afrique"}]
[]
[]
[]
[]
[]
[null,null,null,null,null,null,null,null,{"$f":"Backbone!A680","v":"Boîte à outils pour l'analyse a posteriori après l'apparition d'un foyer épidémique"},null,null,null,null,null,null,"Cette boîte à outils oriente les représentants de la plateforme «Une seule santé» à travers le processus, étape par étape, de planification et d'exécution d'une analyse a posteriori (AAP) après l'apparition d'un foyer épidémique.",null,null,null,null,null,null,null,null,{"$f":"INDEX(Backbone!$R$2:$R$893,MATCH(I89,Backbone!$A$2:$A$893,0))","v":"Document d'orientation"},null,null,null,{"$f":"INDEX(Backbone!$S$2:$S$893,MATCH(I89,Backbone!$A$2:$A$893,0))","v":"«Une seule santé»; Généralisée"},null,null,null,{"$f":"INDEX(Backbone!$H$2:$H$893,MATCH(I89,Backbone!$A$2:$A$893,0))","v":8.4},null,{"$f":"INDEX(Backbone!$I$2:$I$893,MATCH(I89,Backbone!$A$2:$A$893,0))","v":8},null,{"$f":"INDEX(Backbone!$J$2:$J$893,MATCH(I89,Backbone!$A$2:$A$893,0))","v":8.4},null,{"$f":"INDEX(Backbone!$K$1:$K$893,MATCH(I89,Backbone!$A$1:$A$893,0))","v":6.7},null,{"$f":"INDEX(Backbone!$L$2:$L$893,MATCH(I89,Backbone!$A$2:$A$893,0))","v":2},null,{"$f":"INDEX(Backbone!$M$2:$M$893,MATCH(I89,Backbone!$A$2:$A$893,0))","v":3.5},null,{"$f":"INDEX(Backbone!$N$2:$N$893,MATCH(I89,Backbone!$A$2:$A$893,0))","v":4},null,{"$f":"INDEX(Backbone!$O$2:$O$893,MATCH(I89,Backbone!$A$2:$A$893,0))","v":6.4},null,{"$f":"INDEX(Backbone!$P$2:$P$893,MATCH(I89,Backbone!$A$2:$A$893,0))","v":8},null,{"$f":"INDEX(Backbone!$Q$2:$Q$893,MATCH(I89,Backbone!$A$2:$A$893,0))","v":0.61555555555555552},null,null,{"$f":"(AG89*$AG$22+AI89*$AI$22+AK89*$AK$22+AM89*$AM$22+AO89*$AO$22+AQ89*$AQ$22+AS89*$AS$22+AU89*$AU$22+AW89*$AW$22)/(SUM($AG$22:$AW$22)*10)","v":{"$error":"#DIV/0!"}},null,null,"Aller à \nBoîte à outils: ",null,{"$f":"HYPERLINK(\"#\"&ADDRESS(MATCH(I89,Toolbox!$C$1:$C$300),1,,,\"Toolbox\"),VLOOKUP(I89,Toolbox!$C$1:$C$300,1,FALSE))","v":"Boîte à outils pour l'analyse a posteriori après l'apparition d'un foyer épidémique"}]
[]
[]
[]
[]
[]
[]
[]
[]
[]
[]
[]
[]
[]
[]
[]
[]
[]
[]
[]
[]
[]
[]
[]
[null,null,null,null,null,null,null,null,null,null,null,null,null,null,null,null,null,null,null,null,null,null,null,null,null,null,null,null,null,null,null,null,"Accessibilité",null,"Langue",null,"Facilité d'utilisation",null,"Flexibilité",null,"Besoins de données",null,"Analyse des données",null,"Acceptabilité",null,"«Une seule santé»",null,"Impact"]
[]
[]
[]
[]
[]
[]
[null,null,null,null,null,null,null,null,null,null,null,null,null,null,null,null,null,null,null,null,null,null,null,null,null,null,null,null,null,null,null,null,null,null,null,null,null,null,null,null,null,null,null,null,null,null,null,null,null,null,"SCORE BRUT",null,null,"SCORE AJUSTÉ \n(Selon les préférences de l'utilisateur)"]
[]
[]
[]
[null,"RESSOURCES DE NIVEAU 3",null,"DÉSIGNATION",null,null,null,null,"NOM DE LA RESSOURCE",null,null,null,null,null,null,"BRÈVE DESCRIPTION",null,null,null,null,null,null,null,null,"TYPE DE RESSOURCE",null,null,null,"CARACTÈRE GÉNÉRAL DE LA RESSOURCE"]
[]
[]
[]
[null,null,null,null,null,null,null,null,null,null,null,null,null,null,null,null,null,null,null,null,null,null,null,null,null,null,null,null,null,null,null,null,{"$f":"'Attribute Survey'!S128","v":0},null,{"$f":"'Attribute Survey'!S132","v":0},null,{"$f":"'Attribute Survey'!S136","v":0},null,{"$f":"'Attribute Survey'!S140","v":0},null,{"$f":"'Attribute Survey'!S144","v":0},null,{"$f":"'Attribute Survey'!S148","v":0},null,{"$f":"'Attribute Survey'!S152","v":0},null,{"$f":"'Attribute Survey'!S156","v":0},null,{"$f":"'Attribute Survey'!S160","v":0}]
[null,null,null,"Ressources les mieux adaptées",null,null,null,null,{"$f":"Backbone!A634","v":"Boîte à outils pour l'élaboration d'un manuel de gouvernance"},null,null,null,null,null,null,"Une boîte à outils qui présente la manière dont il faut élaborer un manuel de gouvernance pour une plateforme «Une seule santé».",null,null,null,null,null,null,null,null,{"$f":"INDEX(Backbone!$R108:$R999,MATCH(I129,Backbone!$A108:$A999,0))","v":"Document d'orientation"},null,null,null,{"$f":"INDEX(Backbone!$S108:$S999,MATCH(I129,Backbone!$A108:$A999,0))","v":"«Une seule santé»; Généralisée"},null,null,null,{"$f":"INDEX(Backbone!$H108:$H999,MATCH(I129,Backbone!$A108:$A999,0))","v":8.4},null,{"$f":"INDEX(Backbone!$I108:$I999,MATCH(I129,Backbone!$A108:$A999,0))","v":8},null,{"$f":"INDEX(Backbone!$J108:$J999,MATCH(I129,Backbone!$A108:$A999,0))","v":8.4},null,{"$f":"INDEX(Backbone!$K108:$K999,MATCH(I129,Backbone!$A108:$A999,0))","v":6.7},null,{"$f":"INDEX(Backbone!$L108:$L999,MATCH(I129,Backbone!$A108:$A999,0))","v":2},null,{"$f":"INDEX(Backbone!$M108:$M999,MATCH(I129,Backbone!$A108:$A999,0))","v":3.5},null,{"$f":"INDEX(Backbone!$N108:$N999,MATCH(I129,Backbone!$A108:$A999,0))","v":4},null,{"$f":"INDEX(Backbone!$O108:$O999,MATCH(I129,Backbone!$A108:$A999,0))","v":6.4},null,{"$f":"INDEX(Backbone!$P108:$P999,MATCH(I129,Backbone!$A108:$A999,0))","v":8},null,{"$f":"INDEX(Backbone!$Q108:$Q999,MATCH(I129,Backbone!$A108:$A999,0))","v":0.61555555555555552},null,null,{"$f":"(AG129*$AG$22+AI129*$AI$22+AK129*$AK$22+AM129*$AM$22+AO129*$AO$22+AQ129*$AQ$22+AS129*$AS$22+AU129*$AU$22+AW129*$AW$22)/(SUM($AG$22:$AW$22)*10)","v":{"$error":"#DIV/0!"}},null,null,"Aller à \nBoîte à outils: ",null,{"$f":"HYPERLINK(\"#\"&ADDRESS(MATCH(I129,Toolbox!$C$1:$C$300),1,,,\"Toolbox\"),VLOOKUP(I129,Toolbox!$C$1:$C$300,1,FALSE))","v":"Boîte à outils pour l'élaboration d'un manuel de gouvernance"}]
[]
[]
[]
[]
[]
[]
[null,null,null,"Autres ressources intéressantes",null,null,null,null,{"$f":"Backbone!A2","v":"Cadre de surveillance basé sur les événements des CDC en Afrique"},null,null,null,null,null,null,"Des orientations à l'attention des professionnels de la santé publique qui cherchent à mettre en œuvre la surveillance basée sur les événements à tous les échelons administratifs de leur pays.",null,null,null,null,null,null,null,null,{"$f":"INDEX(Backbone!$R$2:$R$893,MATCH(I136,Backbone!$A$2:$A$893,0))","v":"Document d'orientation"},null,null,null,{"$f":"INDEX(Backbone!$S$2:$S$893,MATCH(I136,Backbone!$A$2:$A$893,0))","v":"«Une seule santé»; Généralisée "},null,null,null,{"$f":"INDEX(Backbone!$H$2:$H$893,MATCH(I136,Backbone!$A$2:$A$893,0))","v":8},null,{"$f":"INDEX(Backbone!$I$2:$I$893,MATCH(I136,Backbone!$A$2:$A$893,0))","v":6},null,{"$f":"INDEX(Backbone!$J$2:$J$893,MATCH(I136,Backbone!$A$2:$A$893,0))","v":8.1999999999999993},null,{"$f":"INDEX(Backbone!$K$1:$K$893,MATCH(I136,Backbone!$A$1:$A$893,0))","v":8.3000000000000007},null,{"$f":"INDEX(Backbone!$L$2:$L$893,MATCH(I136,Backbone!$A$2:$A$893,0))","v":6.1},null,{"$f":"INDEX(Backbone!$M$2:$M$893,MATCH(I136,Backbone!$A$2:$A$893,0))","v":3.5},null,{"$f":"INDEX(Backbone!$N$2:$N$893,MATCH(I136,Backbone!$A$2:$A$893,0))","v":4},null,{"$f":"INDEX(Backbone!$O$2:$O$893,MATCH(I136,Backbone!$A$2:$A$893,0))","v":7},null,{"$f":"INDEX(Backbone!$P$2:$P$893,MATCH(I136,Backbone!$A$2:$A$893,0))","v":6},null,{"$f":"INDEX(Backbone!$Q$2:$Q$893,MATCH(I136,Backbone!$A$2:$A$893,0))","v":0.63222222222222224},null,null,{"$f":"(AG136*$AG$22+AI136*$AI$22+AK136*$AK$22+AM136*$AM$22+AO136*$AO$22+AQ136*$AQ$22+AS136*$AS$22+AU136*$AU$22+AW136*$AW$22)/(SUM($AG$22:$AW$22)*10)","v":{"$error":"#DIV/0!"}},null,null,"Aller à \nBoîte à outils: ",null,{"$f":"HYPERLINK(\"#\"&ADDRESS(MATCH(I136,Toolbox!$C$1:$C$300),1,,,\"Toolbox\"),VLOOKUP(I136,Toolbox!$C$1:$C$300,1,FALSE))","v":"Cadre de surveillance basé sur les événements des CDC en Afrique"}]
[]
[]
[]
[]
[]
[null,null,null,null,null,null,null,null,{"$f":"Backbone!A680","v":"Boîte à outils pour l'analyse a posteriori après l'apparition d'un foyer épidémique"},null,null,null,null,null,null,"Cette boîte à outils oriente les représentants de la plateforme «Une seule santé» à travers le processus, étape par étape, de planification et d'exécution d'une analyse a posteriori après l'apparition d'un foyer épidémique.",null,null,null,null,null,null,null,null,{"$f":"INDEX(Backbone!$R$2:$R$893,MATCH(I142,Backbone!$A$2:$A$893,0))","v":"Document d'orientation"},null,null,null,{"$f":"INDEX(Backbone!$S$2:$S$893,MATCH(I142,Backbone!$A$2:$A$893,0))","v":"«Une seule santé»; Généralisée"},null,null,null,{"$f":"INDEX(Backbone!$H$2:$H$893,MATCH(I142,Backbone!$A$2:$A$893,0))","v":8.4},null,{"$f":"INDEX(Backbone!$I$2:$I$893,MATCH(I142,Backbone!$A$2:$A$893,0))","v":8},null,{"$f":"INDEX(Backbone!$J$2:$J$893,MATCH(I142,Backbone!$A$2:$A$893,0))","v":8.4},null,{"$f":"INDEX(Backbone!$K$1:$K$893,MATCH(I142,Backbone!$A$1:$A$893,0))","v":6.7},null,{"$f":"INDEX(Backbone!$L$2:$L$893,MATCH(I142,Backbone!$A$2:$A$893,0))","v":2},null,{"$f":"INDEX(Backbone!$M$2:$M$893,MATCH(I142,Backbone!$A$2:$A$893,0))","v":3.5},null,{"$f":"INDEX(Backbone!$N$2:$N$893,MATCH(I142,Backbone!$A$2:$A$893,0))","v":4},null,{"$f":"INDEX(Backbone!$O$2:$O$893,MATCH(I142,Backbone!$A$2:$A$893,0))","v":6.4},null,{"$f":"INDEX(Backbone!$P$2:$P$893,MATCH(I142,Backbone!$A$2:$A$893,0))","v":8},null,{"$f":"INDEX(Backbone!$Q$2:$Q$893,MATCH(I142,Backbone!$A$2:$A$893,0))","v":0.61555555555555552},null,null,{"$f":"(AG142*$AG$22+AI142*$AI$22+AK142*$AK$22+AM142*$AM$22+AO142*$AO$22+AQ142*$AQ$22+AS142*$AS$22+AU142*$AU$22+AW142*$AW$22)/(SUM($AG$22:$AW$22)*10)","v":{"$error":"#DIV/0!"}},null,null,"Aller à \nBoîte à outils: ",null,{"$f":"HYPERLINK(\"#\"&ADDRESS(MATCH(I142,Toolbox!$C$1:$C$300),1,,,\"Toolbox\"),VLOOKUP(I142,Toolbox!$C$1:$C$300,1,FALSE))","v":"Boîte à outils pour l'analyse a posteriori après l'apparition d'un foyer épidémique"}]
[]
[]
[]
[]
[]
[null,null,null,null,null,null,null,null,{"$f":"Backbone!A648","v":"Boîte à outils pour la planification de la préparation et la réponse"},null,null,null,null,null,null,"Cette boîte à outils est conçue pour aider les pays à élaborer des plans multisectoriels de préparation et de réponse aux événements de santé publique. ",null,null,null,null,null,null,null,null,{"$f":"INDEX(Backbone!$R$2:$R$893,MATCH(I148,Backbone!$A$2:$A$893,0))","v":"Document d'orientation"},null,null,null,{"$f":"INDEX(Backbone!$S$2:$S$893,MATCH(I148,Backbone!$A$2:$A$893,0))","v":"«Une seule santé»; Généralisée"},null,null,null,{"$f":"INDEX(Backbone!$H$2:$H$893,MATCH(I148,Backbone!$A$2:$A$893,0))","v":8.4},null,{"$f":"INDEX(Backbone!$I$2:$I$893,MATCH(I148,Backbone!$A$2:$A$893,0))","v":8},null,{"$f":"INDEX(Backbone!$J$2:$J$893,MATCH(I148,Backbone!$A$2:$A$893,0))","v":8.4},null,{"$f":"INDEX(Backbone!$K$1:$K$893,MATCH(I148,Backbone!$A$1:$A$893,0))","v":6.7},null,{"$f":"INDEX(Backbone!$L$2:$L$893,MATCH(I148,Backbone!$A$2:$A$893,0))","v":2},null,{"$f":"INDEX(Backbone!$M$2:$M$893,MATCH(I148,Backbone!$A$2:$A$893,0))","v":3.5},null,{"$f":"INDEX(Backbone!$N$2:$N$893,MATCH(I148,Backbone!$A$2:$A$893,0))","v":4},null,{"$f":"INDEX(Backbone!$O$2:$O$893,MATCH(I148,Backbone!$A$2:$A$893,0))","v":6.4},null,{"$f":"INDEX(Backbone!$P$2:$P$893,MATCH(I148,Backbone!$A$2:$A$893,0))","v":8},null,{"$f":"INDEX(Backbone!$Q$2:$Q$893,MATCH(I148,Backbone!$A$2:$A$893,0))","v":0.61555555555555552},null,null,{"$f":"(AG148*$AG$22+AI148*$AI$22+AK148*$AK$22+AM148*$AM$22+AO148*$AO$22+AQ148*$AQ$22+AS148*$AS$22+AU148*$AU$22+AW148*$AW$22)/(SUM($AG$22:$AW$22)*10)","v":{"$error":"#DIV/0!"}},null,null,"Aller à \nBoîte à outils: ",null,{"$f":"HYPERLINK(\"#\"&ADDRESS(MATCH(I148,Toolbox!$C$1:$C$300),1,,,\"Toolbox\"),VLOOKUP(I148,Toolbox!$C$1:$C$300,1,FALSE))","v":"Boîte à outils pour la planification de la préparation et la réponse"}]

{"sheet":"I3_tools","index":48,"n_rows":243,"n_cols":59,"rows_kept":243,"cut":false,"hidden":false,"merged":[[229,42,233,42],[229,44,233,44],[229,46,233,46],[229,48,233,48],[229,50,233,51],[242,8,246,13],[242,15,246,22],[242,24,246,26],[242,28,246,30],[242,32,246,32],[242,34,246,34],[242,36,246,36],[236,36,240,36],[236,38,240,38],[236,32,240,32],[236,34,240,34],[229,32,233,32],[229,34,233,34],[229,36,233,36],[223,50,227,51],[242,50,246,51],[242,53,246,54],[242,38,246,38],[242,40,246,40],[242,42,246,42],[242,44,246,44],[242,46,246,46],[242,48,246,48],[229,38,233,38],[236,48,240,48],[236,50,240,51],[236,53,240,54],[236,40,240,40],[236,42,240,42],[236,44,240,44],[236,46,240,46],[229,53,233,54],[229,40,233,40],[223,53,227,54],[223,40,227,40],[223,42,227,42],[223,44,227,44],[223,46,227,46],[223,48,227,48],[217,24,221,26],[217,28,221,30],[217,32,221,32],[223,32,227,32],[223,34,227,34],[223,36,227,36],[217,36,221,36],[217,38,221,38],[217,40,221,40],[217,42,221,42],[217,44,221,44],[217,46,221,46],[223,38,227,38],[211,46,215,46],[211,48,215,48],[211,50,215,51],[211,53,215,54],[217,8,221,13],[217,15,221,22],[195,40,209,40],[195,42,209,42],[195,44,209,44],[217,34,221,34],[211,40,215,40],[211,42,215,42],[211,44,215,44],[217,48,221,48],[217,50,221,51],[195,48,209,48],[202,50,209,51],[202,53,209,54],[195,46,209,46],[211,36,215,36],[211,38,215,38],[217,53,221,54],[211,32,215,32],[211,34,215,34],[206,1,246,1],[206,3,209,6],[206,8,209,13],[206,15,209,22],[206,24,209,26],[206,28,209,30],[211,3,233,6],[211,8,215,13],[211,15,215,22],[211,24,215,26],[223,8,227,13],[223,15,227,22],[223,24,227,26],[223,28,227,30],[229,8,233,13],[229,15,233,22],[229,24,233,26],[229,28,233,30],[211,28,215,30],[236,3,246,6],[236,8,240,13],[236,15,240,22],[236,24,240,26],[236,28,240,30],[165,38,169,38],[165,40,169,40],[165,42,169,42],[165,44,169,44],[165,46,169,46],[165,8,169,13],[165,15,169,22],[165,24,169,26],[165,28,169,30],[165,32,169,32],[165,34,169,34],[165,36,169,36],[171,32,175,32],[171,34,175,34],[171,36,175,36],[171,38,175,38],[195,32,209,32],[195,34,209,34],[195,36,209,36],[195,38,209,38],[171,40,175,40],[171,42,175,42],[159,42,163,42],[159,44,163,44],[159,46,163,46],[159,48,163,48],[159,50,163,51],[159,53,163,54],[153,53,157,54],[153,40,157,40],[153,42,157,42],[153,44,157,44],[153,46,157,46],[153,48,157,48],[153,50,157,51],[165,50,169,51],[165,53,169,54],[165,48,169,48],[171,44,175,44],[171,46,175,46],[171,48,175,48],[171,50,175,51],[171,53,175,54],[147,46,151,46],[147,48,151,48],[159,8,163,13],[159,15,163,22],[159,24,163,26],[159,28,163,30],[159,32,163,32],[159,34,163,34],[159,36,163,36],[159,38,163,38],[159,40,163,40],[153,8,157,13],[153,15,157,22],[153,24,157,26],[153,28,157,30],[153,32,157,32],[153,34,157,34],[153,36,157,36],[153,38,157,38],[147,38,151,38],[135,40,139,40],[135,42,139,42],[135,44,139,44],[141,48,145,48],[141,50,145,51],[141,53,145,54],[147,8,151,13],[147,15,151,22],[147,24,151,26],[147,28,151,30],[147,32,151,32],[147,34,151,34],[147,36,151,36],[141,36,145,36],[141,38,145,38],[141,40,145,40],[141,42,145,42],[141,44,145,44],[141,46,145,46],[147,50,151,51],[147,53,151,54],[147,40,151,40],[147,42,151,42],[147,44,151,44],[141,8,145,13],[141,15,145,22],[141,24,145,26],[141,28,145,30],[141,32,145,32],[141,34,145,34],[135,34,139,34],[135,36,139,36],[135,38,139,38],[119,46,133,46],[119,48,133,48],[126,50,133,51],[126,53,133,54],[130,1,175,1],[130,3,133,6],[130,8,133,13],[130,15,133,22],[130,24,133,26],[130,28,133,30],[135,3,175,6],[135,8,139,13],[135,15,139,22],[135,24,139,26],[135,28,139,30],[135,32,139,32],[171,8,175,13],[171,15,175,22],[171,24,175,26],[171,28,175,30],[135,46,139,46],[135,48,139,48],[135,50,139,51],[135,53,139,54],[46,46,50,46],[46,48,50,48],[46,50,50,51],[46,53,50,54],[119,32,133,32],[119,34,133,34],[119,36,133,36],[119,38,133,38],[119,40,133,40],[119,42,133,42],[46,42,50,42],[46,44,50,44],[119,44,133,44],[95,42,99,42],[95,44,99,44],[95,46,99,46],[95,48,99,48],[95,50,99,51],[95,53,99,54],[89,53,93,54],[89,40,93,40],[89,42,93,42],[89,44,93,44],[89,46,93,46],[46,8,50,13],[46,15,50,22],[46,24,50,26],[46,28,50,30],[46,32,50,32],[46,34,50,34],[46,36,50,36],[46,38,50,38],[46,40,50,40],[89,48,93,48],[89,50,93,51],[83,50,87,51],[83,53,87,54],[89,8,93,13],[89,15,93,22],[89,24,93,26],[89,28,93,30],[89,32,93,32],[89,34,93,34],[89,36,93,36],[89,38,93,38],[83,38,87,38],[83,40,87,40],[83,42,87,42],[83,44,87,44],[83,46,87,46],[83,48,87,48],[77,48,81,48],[77,50,81,51],[77,53,81,54],[83,8,87,13],[83,15,87,22],[83,24,87,26],[83,28,87,30],[83,32,87,32],[83,34,87,34],[83,36,87,36],[77,36,81,36],[77,38,81,38],[77,40,81,40],[77,42,81,42],[77,44,81,44],[77,46,81,46],[77,8,81,13],[77,15,81,22],[77,24,81,26],[77,28,81,30],[77,32,81,32],[77,34,81,34],[71,46,75,46],[71,48,75,48],[71,50,75,51],[71,53,75,54],[65,53,69,54],[71,8,75,13],[71,15,75,22],[71,24,75,26],[71,28,75,30],[71,32,75,32],[71,34,75,34],[71,36,75,36],[71,38,75,38],[71,40,75,40],[65,40,69,40],[65,42,69,42],[65,44,69,44],[65,46,69,46],[65,48,69,48],[65,50,69,51],[71,42,75,42],[71,44,75,44],[52,46,56,46],[52,48,56,48],[59,50,63,51],[59,53,63,54],[65,8,69,13],[65,15,69,22],[65,24,69,26],[65,28,69,30],[65,32,69,32],[65,34,69,34],[65,36,69,36],[65,38,69,38],[59,38,63,38],[59,40,63,40],[59,42,63,42],[59,44,63,44],[59,46,63,46],[59,48,63,48],[52,40,56,40],[52,42,56,42],[52,44,56,44],[52,53,56,54],[59,3,99,6],[59,8,63,13],[59,15,63,22],[59,24,63,26],[59,28,63,30],[59,32,63,32],[59,34,63,34],[59,36,63,36],[52,38,56,38],[95,8,99,13],[95,15,99,22],[95,24,99,26],[95,28,99,30],[95,32,99,32],[95,34,99,34],[95,36,99,36],[95,38,99,38],[95,40,99,40],[40,48,44,48],[40,50,44,51],[40,53,44,54],[52,8,56,13],[52,15,56,22],[52,24,56,26],[52,28,56,30],[52,32,56,32],[52,34,56,34],[52,36,56,36],[40,36,44,36],[40,38,44,38],[40,40,44,40],[40,42,44,42],[40,44,44,44],[40,46,44,46],[40,8,44,13],[40,15,44,22],[40,24,44,26],[40,28,44,30],[40,32,44,32],[40,34,44,34],[52,50,56,51],[13,50,20,51],[13,53,20,54],[17,1,99,1],[17,3,20,6],[17,8,20,13],[17,15,20,22],[17,24,20,26],[22,44,26,44],[22,46,26,46],[22,48,26,48],[22,15,26,22],[22,24,26,26],[22,28,26,30],[22,32,26,32],[34,15,38,22],[34,24,38,26],[34,28,38,30],[34,32,38,32],[34,34,38,34],[34,36,38,36],[34,38,38,38],[34,40,38,40],[28,40,32,40],[28,42,32,42],[6,32,20,32],[6,34,20,34],[6,36,20,36],[6,38,20,38],[6,40,20,40],[6,42,20,42],[6,44,20,44],[6,46,20,46],[6,48,20,48],[22,36,26,36],[34,42,38,42],[34,44,38,44],[34,46,38,46],[34,48,38,48],[34,50,38,51],[34,53,38,54],[28,53,32,54],[34,8,38,13],[28,44,32,44],[28,46,32,46],[28,48,32,48],[28,50,32,51],[28,24,32,26],[28,28,32,30],[1,1,3,62],[22,56,26,57],[22,58,26,62],[28,56,32,57],[28,58,32,62],[34,56,38,57],[34,58,38,62],[40,56,44,57],[40,58,44,62],[17,28,20,30],[22,3,56,6],[22,8,26,13],[22,50,26,51],[22,53,26,54],[28,8,32,13],[28,15,32,22],[28,32,32,32],[28,34,32,34],[28,36,32,36],[28,38,32,38],[22,38,26,38],[22,40,26,40],[22,42,26,42],[22,34,26,34],[46,56,50,57],[46,58,50,62],[52,56,56,57],[52,58,56,62],[59,56,63,57],[59,58,63,62],[65,56,69,57],[65,58,69,62],[71,56,75,57],[71,58,75,62],[77,56,81,57],[77,58,81,62],[83,56,87,57],[83,58,87,62],[89,56,93,57],[89,58,93,62],[95,56,99,57],[95,58,99,62],[135,56,139,57],[135,58,139,62],[141,56,145,57],[141,58,145,62],[147,56,151,57],[147,58,151,62],[153,56,157,57],[153,58,157,62],[159,56,163,57],[159,58,163,62],[165,56,169,57],[165,58,169,62],[236,56,240,57],[236,58,240,62],[242,56,246,57],[242,58,246,62],[171,56,175,57],[171,58,175,62],[211,56,215,57],[211,58,215,62],[217,56,221,57],[217,58,221,62],[223,56,227,57],[223,58,227,62],[229,56,233,57],[229,58,233,62]]}
[]
[null,"Ressources pour l'échange de données et le partage d'informations"]
[]
[]
[]
[]
[null,null,null,null,null,null,null,null,null,null,null,null,null,null,null,null,null,null,null,null,null,null,null,null,null,null,null,null,null,null,null,null,"Accessibilité",null,"Langue",null,"Facilité d'utilisation",null,"Flexibilité",null,"Besoins de données",null,"Analyse des données",null,"Acceptabilité",null,"«Une seule santé»",null,"Impact"]
[]
[]
[]
[]
[]
[]
[null,null,null,null,null,null,null,null,null,null,null,null,null,null,null,null,null,null,null,null,null,null,null,null,null,null,null,null,null,null,null,null,null,null,null,null,null,null,null,null,null,null,null,null,null,null,null,null,null,null,"SCORE BRUT",null,null,"SCORE AJUSTÉ \n(Selon les préférences de l'utilisateur)"]
[]
[]
[]
[null,"RESSOURCES DE NIVEAU 1",null,"DÉSIGNATION",null,null,null,null,"NOM DE LA RESSOURCE",null,null,null,null,null,null,"BRÈVE DESCRIPTION",null,null,null,null,null,null,null,null,"TYPE DE RESSOURCE",null,null,null,"CARACTÈRE GÉNÉRAL DE LA RESSOURCE"]
[]
[]
[]
[null,null,null,null,null,null,null,null,null,null,null,null,null,null,null,null,null,null,null,null,null,null,null,null,null,null,null,null,null,null,null,null,{"$f":"'Attribute Survey'!S22","v":0},null,{"$f":"'Attribute Survey'!S26","v":0},null,{"$f":"'Attribute Survey'!S30","v":0},null,{"$f":"'Attribute Survey'!S34","v":0},null,{"$f":"'Attribute Survey'!S38","v":0},null,{"$f":"'Attribute Survey'!S42","v":0},null,{"$f":"'Attribute Survey'!S46","v":0},null,{"$f":"'Attribute Survey'!S50","v":0},null,{"$f":"'Attribute Survey'!S54","v":0}]
[null,null,null,"Ressources les mieux adaptées",null,null,null,null,{"$f":"Backbone!A21","v":"AfyaData"},null,null,null,null,null,null,"Un outil de surveillance des maladies «Une seule santé» conçu pour répondre aux besoins de surveillance humaine, animale et environnementale, comprenant une application mobile et une application web.",null,null,null,null,null,null,null,null,{"$f":"INDEX(Backbone!$R$2:$R$893,MATCH(I23,Backbone!$A$2:$A$893,0))","v":"Matériel ou logiciel"},null,null,null,{"$f":"INDEX(Backbone!$S$2:$S$893,MATCH(I23,Backbone!$A$2:$A$893,0))","v":"«Une seule santé»; Généralisée "},null,null,null,{"$f":"INDEX(Backbone!$H$2:$H$893,MATCH(I23,Backbone!$A$2:$A$893,0))","v":7.3},null,{"$f":"INDEX(Backbone!$I$2:$I$893,MATCH(I23,Backbone!$A$2:$A$893,0))","v":10},null,{"$f":"INDEX(Backbone!$J$2:$J$893,MATCH(I23,Backbone!$A$2:$A$893,0))","v":8.1999999999999993},null,{"$f":"INDEX(Backbone!$K$2:$K$893,MATCH(I23,Backbone!$A$2:$A$893,0))","v":7.3},null,{"$f":"INDEX(Backbone!$L$2:$L$893,MATCH(I23,Backbone!$A$2:$A$893,0))","v":7.6},null,{"$f":"INDEX(Backbone!$M$2:$M$893,MATCH(I23,Backbone!$A$2:$A$893,0))","v":8.8000000000000007},null,{"$f":"INDEX(Backbone!$N$2:$N$893,MATCH(I23,Backbone!$A$2:$A$893,0))","v":5.5},null,{"$f":"INDEX(Backbone!$O$2:$O$893,MATCH(I23,Backbone!$A$2:$A$893,0))","v":7.6},null,{"$f":"INDEX(Backbone!$P$2:$P$893,MATCH(I23,Backbone!$A$2:$A$893,0))","v":7},null,{"$f":"INDEX(Backbone!$Q$2:$Q$893,MATCH(I23,Backbone!$A$2:$A$893,0))","v":0.77000000000000013},null,null,{"$f":"(AG23*$AG$22+AI23*$AI$22+AK23*$AK$22+AM23*$AM$22+AO23*$AO$22+AQ23*$AQ$22+AS23*$AS$22+AU23*$AU$22+AW23*$AW$22)/(SUM($AG$22:$AW$22)*10)","v":{"$error":"#DIV/0!"}},null,null,"Aller à \nBoîte à outils: ",null,{"$f":"HYPERLINK(\"#\"&ADDRESS(MATCH(I23,Toolbox!$C$1:$C$300),1,,,\"Toolbox\"),VLOOKUP(I23,Toolbox!$C$1:$C$300,1,FALSE))","v":"AfyaData"}]
[]
[]
[]
[]
[]
[null,null,null,null,null,null,null,null,{"$f":"Backbone!A65","v":"Logiciel d'information de santé au niveau des districts 2 (DHIS2) "},null,null,null,null,null,null,"Une plateforme d'exploitation libre en ligne pour les systèmes d'information sanitaire.",null,null,null,null,null,null,null,null,{"$f":"INDEX(Backbone!$R$2:$R$893,MATCH(I29,Backbone!$A$2:$A$893,0))","v":"Matériel ou logiciel"},null,null,null,{"$f":"INDEX(Backbone!$S$2:$S$893,MATCH(I29,Backbone!$A$2:$A$893,0))","v":"Spécifique du secteur; Généralisée"},null,null,null,{"$f":"INDEX(Backbone!$H$2:$H$893,MATCH(I29,Backbone!$A$2:$A$893,0))","v":8.8000000000000007},null,{"$f":"INDEX(Backbone!$I$2:$I$893,MATCH(I29,Backbone!$A$2:$A$893,0))","v":8.6999999999999993},null,{"$f":"INDEX(Backbone!$J$2:$J$893,MATCH(I29,Backbone!$A$2:$A$893,0))","v":8},null,{"$f":"INDEX(Backbone!$K$2:$K$893,MATCH(I29,Backbone!$A$2:$A$893,0))","v":8.6999999999999993},null,{"$f":"INDEX(Backbone!$L$2:$L$893,MATCH(I29,Backbone!$A$2:$A$893,0))","v":9.3000000000000007},null,{"$f":"INDEX(Backbone!$M$2:$M$893,MATCH(I29,Backbone!$A$2:$A$893,0))","v":9},null,{"$f":"INDEX(Backbone!$N$2:$N$893,MATCH(I29,Backbone!$A$2:$A$893,0))","v":10},null,{"$f":"INDEX(Backbone!$O$2:$O$893,MATCH(I29,Backbone!$A$2:$A$893,0))","v":7.8},null,{"$f":"INDEX(Backbone!$P$2:$P$893,MATCH(I29,Backbone!$A$2:$A$893,0))","v":7},null,{"$f":"INDEX(Backbone!$Q$2:$Q$893,MATCH(I29,Backbone!$A$2:$A$893,0))","v":0.85888888888888881},null,null,{"$f":"(AG29*$AG$22+AI29*$AI$22+AK29*$AK$22+AM29*$AM$22+AO29*$AO$22+AQ29*$AQ$22+AS29*$AS$22+AU29*$AU$22+AW29*$AW$22)/(SUM($AG$22:$AW$22)*10)","v":{"$error":"#DIV/0!"}},null,null,"Aller à \nBoîte à outils: ",null,{"$f":"HYPERLINK(\"#\"&ADDRESS(MATCH(I29,Toolbox!$C$1:$C$300),1,,,\"Toolbox\"),VLOOKUP(I29,Toolbox!$C$1:$C$300,1,FALSE))","v":"Logiciel d'information de santé au niveau des districts 2 (DHIS2) "}]
[]
[]
[]
[]
[]
[null,null,null,null,null,null,null,null,{"$f":"Backbone!A138","v":"Système électronique intégré de surveillance des maladies (EIDSS)"},null,null,null,null,null,null,"Un système électronique en ligne et personnalisable d'établissement de rapports sur les maladies qui peut aider à la surveillance passive et active de la santé humaine et vétérinaire, aux diagnostics de laboratoire, à la surveillance des vecteurs et à la gestion des foyers épidémiques. ",null,null,null,null,null,null,null,null,{"$f":"INDEX(Backbone!$R$2:$R$893,MATCH(I35,Backbone!$A$2:$A$893,0))","v":"Matériel ou logiciel"},null,null,null,{"$f":"INDEX(Backbone!$S$2:$S$893,MATCH(I35,Backbone!$A$2:$A$893,0))","v":"«Une seule santé»; Généralisée"},null,null,null,{"$f":"INDEX(Backbone!$H$2:$H$893,MATCH(I35,Backbone!$A$2:$A$893,0))","v":6.8},null,{"$f":"INDEX(Backbone!$I$2:$I$893,MATCH(I35,Backbone!$A$2:$A$893,0))","v":10},null,{"$f":"INDEX(Backbone!$J$2:$J$893,MATCH(I35,Backbone!$A$2:$A$893,0))","v":8.4},null,{"$f":"INDEX(Backbone!$K$1:$K$893,MATCH(I35,Backbone!$A$1:$A$893,0))","v":8.6999999999999993},null,{"$f":"INDEX(Backbone!$L$2:$L$893,MATCH(I35,Backbone!$A$2:$A$893,0))","v":9.1},null,{"$f":"INDEX(Backbone!$M$2:$M$893,MATCH(I35,Backbone!$A$2:$A$893,0))","v":8},null,{"$f":"INDEX(Backbone!$N$2:$N$893,MATCH(I35,Backbone!$A$2:$A$893,0))","v":7},null,{"$f":"INDEX(Backbone!$O$2:$O$893,MATCH(I35,Backbone!$A$2:$A$893,0))","v":7.2},null,{"$f":"INDEX(Backbone!$P$2:$P$893,MATCH(I35,Backbone!$A$2:$A$893,0))","v":10},null,{"$f":"INDEX(Backbone!$Q$2:$Q$893,MATCH(I35,Backbone!$A$2:$A$893,0))","v":0.83555555555555561},null,null,{"$f":"(AG35*$AG$22+AI35*$AI$22+AK35*$AK$22+AM35*$AM$22+AO35*$AO$22+AQ35*$AQ$22+AS35*$AS$22+AU35*$AU$22+AW35*$AW$22)/(SUM($AG$22:$AW$22)*10)","v":{"$error":"#DIV/0!"}},null,null,"Aller à \nBoîte à outils: ",null,{"$f":"HYPERLINK(\"#\"&ADDRESS(MATCH(I35,Toolbox!$C$1:$C$300),1,,,\"Toolbox\"),VLOOKUP(I35,Toolbox!$C$1:$C$300,1,FALSE))","v":"Système électronique intégré de surveillance des maladies (EIDSS)"}]
[]
[]
[]
[]
[]
[null,null,null,null,null,null,null,null,{"$f":"Backbone!A604","v":"Application de suivi des expositions et des cas de rage (REACT)"},null,null,null,null,null,null,"Un outil visant à soutenir la mise en œuvre de programmes de gestion intégrée des cas de morsures.",null,null,null,null,null,null,null,null,{"$f":"INDEX(Backbone!$R$2:$R$893,MATCH(I41,Backbone!$A$2:$A$893,0))","v":"Matériel ou logiciel"},null,null,null,{"$f":"INDEX(Backbone!$S$2:$S$893,MATCH(I41,Backbone!$A$2:$A$893,0))","v":"«Une seule santé»; spécifique d'une maladie/menace "},null,null,null,{"$f":"INDEX(Backbone!$H$2:$H$893,MATCH(I41,Backbone!$A$2:$A$893,0))","v":8.6},null,{"$f":"INDEX(Backbone!$I$2:$I$893,MATCH(I41,Backbone!$A$2:$A$893,0))","v":8.6},null,{"$f":"INDEX(Backbone!$J$2:$J$893,MATCH(I41,Backbone!$A$2:$A$893,0))","v":8},null,{"$f":"INDEX(Backbone!$K$1:$K$893,MATCH(I41,Backbone!$A$1:$A$893,0))","v":8.6},null,{"$f":"INDEX(Backbone!$L$2:$L$893,MATCH(I41,Backbone!$A$2:$A$893,0))","v":9.4},null,{"$f":"INDEX(Backbone!$M$2:$M$893,MATCH(I41,Backbone!$A$2:$A$893,0))","v":9.5},null,{"$f":"INDEX(Backbone!$N$2:$N$893,MATCH(I41,Backbone!$A$2:$A$893,0))","v":9},null,{"$f":"INDEX(Backbone!$O$2:$O$893,MATCH(I41,Backbone!$A$2:$A$893,0))","v":9.1999999999999993},null,{"$f":"INDEX(Backbone!$P$2:$P$893,MATCH(I41,Backbone!$A$2:$A$893,0))","v":9},null,{"$f":"INDEX(Backbone!$Q$2:$Q$893,MATCH(I41,Backbone!$A$2:$A$893,0))","v":0.88777777777777767},null,null,{"$f":"(AG41*$AG$22+AI41*$AI$22+AK41*$AK$22+AM41*$AM$22+AO41*$AO$22+AQ41*$AQ$22+AS41*$AS$22+AU41*$AU$22+AW41*$AW$22)/(SUM($AG$22:$AW$22)*10)","v":{"$error":"#DIV/0!"}},null,null,"Aller à \nBoîte à outils: ",null,{"$f":"HYPERLINK(\"#\"&ADDRESS(MATCH(I41,Toolbox!$C$1:$C$300),1,,,\"Toolbox\"),VLOOKUP(I41,Toolbox!$C$1:$C$300,1,FALSE))","v":"Application de suivi des expositions et des cas de rage (REACT)"}]
[]
[]
[]
[]
[]
[null,null,null,null,null,null,null,null,{"$f":"Backbone!A489","v":"Suite pour une biosurveillance électronique automatisée mondiale (SAGES)"},null,null,null,null,null,null,"Une suite d'outils logiciels d'exploitation libre conçus pour améliorer la surveillance électronique des maladies dans des situations où les ressources sont limitées.",null,null,null,null,null,null,null,null,{"$f":"INDEX(Backbone!$R$2:$R$893,MATCH(I47,Backbone!$A$2:$A$893,0))","v":"Matériel ou logiciel"},null,null,null,{"$f":"INDEX(Backbone!$S$2:$S$893,MATCH(I47,Backbone!$A$2:$A$893,0))","v":"«Une seule santé»; Généralisée"},null,null,null,{"$f":"INDEX(Backbone!$H$2:$H$893,MATCH(I47,Backbone!$A$2:$A$893,0))","v":9.8000000000000007},null,{"$f":"INDEX(Backbone!$I$2:$I$893,MATCH(I47,Backbone!$A$2:$A$893,0))","v":10},null,{"$f":"INDEX(Backbone!$J$2:$J$893,MATCH(I47,Backbone!$A$2:$A$893,0))","v":10},null,{"$f":"INDEX(Backbone!$K$1:$K$893,MATCH(I47,Backbone!$A$1:$A$893,0))","v":9.3000000000000007},null,{"$f":"INDEX(Backbone!$L$2:$L$893,MATCH(I47,Backbone!$A$2:$A$893,0))","v":8.5},null,{"$f":"INDEX(Backbone!$M$2:$M$893,MATCH(I47,Backbone!$A$2:$A$893,0))","v":9},null,{"$f":"INDEX(Backbone!$N$2:$N$893,MATCH(I47,Backbone!$A$2:$A$893,0))","v":5.5},null,{"$f":"INDEX(Backbone!$O$2:$O$893,MATCH(I47,Backbone!$A$2:$A$893,0))","v":9.5},null,{"$f":"INDEX(Backbone!$P$2:$P$893,MATCH(I47,Backbone!$A$2:$A$893,0))","v":7},null,{"$f":"INDEX(Backbone!$Q$2:$Q$893,MATCH(I47,Backbone!$A$2:$A$893,0))","v":0.87333333333333329},null,null,{"$f":"(AG47*$AG$22+AI47*$AI$22+AK47*$AK$22+AM47*$AM$22+AO47*$AO$22+AQ47*$AQ$22+AS47*$AS$22+AU47*$AU$22+AW47*$AW$22)/(SUM($AG$22:$AW$22)*10)","v":{"$error":"#DIV/0!"}},null,null,"Aller à \nBoîte à outils: ",null,{"$f":"HYPERLINK(\"#\"&ADDRESS(MATCH(I47,Toolbox!$C$1:$C$300),1,,,\"Toolbox\"),VLOOKUP(I47,Toolbox!$C$1:$C$300,1,FALSE))","v":"Suite pour une biosurveillance électronique automatisée mondiale (SAGES)"}]
[]
[]
[]
[]
[]
[null,null,null,null,null,null,null,null,{"$f":"Backbone!A540","v":"Système de gestion et d'analyse de la surveillance et la réponse aux foyers épidémiques (SORMAS)"},null,null,null,null,null,null,"Un système de santé en ligne mobile et d'exploitation libre qui met en œuvre des procédures de contrôle de maladies et de gestion de flambées épidémiques, et assure la surveillance et la détection précoce des foyers épidémiques grâce à une surveillance numérique en temps réel.",null,null,null,null,null,null,null,null,{"$f":"INDEX(Backbone!$R$2:$R$893,MATCH(I53,Backbone!$A$2:$A$893,0))","v":"Matériel ou logiciel"},null,null,null,{"$f":"INDEX(Backbone!$S$2:$S$893,MATCH(I53,Backbone!$A$2:$A$893,0))","v":"Spécifique du secteur; Généralisée"},null,null,null,{"$f":"INDEX(Backbone!$H$2:$H$893,MATCH(I53,Backbone!$A$2:$A$893,0))","v":9.1999999999999993},null,{"$f":"INDEX(Backbone!$I$2:$I$893,MATCH(I53,Backbone!$A$2:$A$893,0))","v":8},null,{"$f":"INDEX(Backbone!$J$2:$J$893,MATCH(I53,Backbone!$A$2:$A$893,0))","v":9.3000000000000007},null,{"$f":"INDEX(Backbone!$K$1:$K$893,MATCH(I53,Backbone!$A$1:$A$893,0))","v":9.1},null,{"$f":"INDEX(Backbone!$L$2:$L$893,MATCH(I53,Backbone!$A$2:$A$893,0))","v":9.3000000000000007},null,{"$f":"INDEX(Backbone!$M$2:$M$893,MATCH(I53,Backbone!$A$2:$A$893,0))","v":9.3000000000000007},null,{"$f":"INDEX(Backbone!$N$2:$N$893,MATCH(I53,Backbone!$A$2:$A$893,0))","v":6.8},null,{"$f":"INDEX(Backbone!$O$2:$O$893,MATCH(I53,Backbone!$A$2:$A$893,0))","v":3.9},null,{"$f":"INDEX(Backbone!$P$2:$P$893,MATCH(I53,Backbone!$A$2:$A$893,0))","v":5.3},null,{"$f":"INDEX(Backbone!$Q$2:$Q$893,MATCH(I53,Backbone!$A$2:$A$893,0))","v":0.78},null,null,{"$f":"(AG53*$AG$22+AI53*$AI$22+AK53*$AK$22+AM53*$AM$22+AO53*$AO$22+AQ53*$AQ$22+AS53*$AS$22+AU53*$AU$22+AW53*$AW$22)/(SUM($AG$22:$AW$22)*10)","v":{"$error":"#DIV/0!"}},null,null,"Aller à \nBoîte à outils: ",null,{"$f":"HYPERLINK(\"#\"&ADDRESS(MATCH(I53,Toolbox!$C$1:$C$300),1,,,\"Toolbox\"),VLOOKUP(I53,Toolbox!$C$1:$C$300,1,FALSE))","v":"Système de gestion et d'analyse de la surveillance et la réponse aux foyers épidémiques (SORMAS)"}]
[]
[]
[]
[]
[]
[]
[null,null,null,"Autres ressources intéressantes",null,null,null,null,{"$f":"Backbone!A166","v":"EMPRES Système mondial d'information sur les maladies animales (EMPRES-i)"},null,null,null,null,null,null,"Un système d'information sécurisé en ligne pour aider les services vétérinaires au niveau des pays en leur fournissant une base de données de référence sur les maladies animales, y compris les zoonoses, à l'échelon régional et mondial.",null,null,null,null,null,null,null,null,{"$f":"INDEX(Backbone!$R$2:$R$893,MATCH(I60,Backbone!$A$2:$A$893,0))","v":"Matériel ou logiciel"},null,null,null,{"$f":"INDEX(Backbone!$S$2:$S$893,MATCH(I60,Backbone!$A$2:$A$893,0))","v":"Spécifique du secteur; Généralisée"},null,null,null,{"$f":"INDEX(Backbone!$H$2:$H$893,MATCH(I60,Backbone!$A$2:$A$893,0))","v":9},null,{"$f":"INDEX(Backbone!$I$2:$I$893,MATCH(I60,Backbone!$A$2:$A$893,0))","v":8.3000000000000007},null,{"$f":"INDEX(Backbone!$J$2:$J$893,MATCH(I60,Backbone!$A$2:$A$893,0))","v":8.9},null,{"$f":"INDEX(Backbone!$K$1:$K$893,MATCH(I60,Backbone!$A$1:$A$893,0))","v":8.6999999999999993},null,{"$f":"INDEX(Backbone!$L$2:$L$893,MATCH(I60,Backbone!$A$2:$A$893,0))","v":8},null,{"$f":"INDEX(Backbone!$M$2:$M$893,MATCH(I60,Backbone!$A$2:$A$893,0))","v":7.8},null,{"$f":"INDEX(Backbone!$N$2:$N$893,MATCH(I60,Backbone!$A$2:$A$893,0))","v":7.4},null,{"$f":"INDEX(Backbone!$O$2:$O$893,MATCH(I60,Backbone!$A$2:$A$893,0))","v":4.8},null,{"$f":"INDEX(Backbone!$P$2:$P$893,MATCH(I60,Backbone!$A$2:$A$893,0))","v":4.7},null,{"$f":"INDEX(Backbone!$Q$2:$Q$893,MATCH(I60,Backbone!$A$2:$A$893,0))","v":0.75111111111111106},null,null,{"$f":"(AG60*$AG$22+AI60*$AI$22+AK60*$AK$22+AM60*$AM$22+AO60*$AO$22+AQ60*$AQ$22+AS60*$AS$22+AU60*$AU$22+AW60*$AW$22)/(SUM($AG$22:$AW$22)*10)","v":{"$error":"#DIV/0!"}},null,null,"Aller à \nBoîte à outils: ",null,{"$f":"HYPERLINK(\"#\"&ADDRESS(MATCH(I60,Toolbox!$C$1:$C$300),1,,,\"Toolbox\"),VLOOKUP(I60,Toolbox!$C$1:$C$300,1,FALSE))","v":"EMPRES Système mondial d'information sur les maladies animales (EMPRES-i)"}]
[]
[]
[]
[]
[]
[null,null,null,null,null,null,null,null,{"$f":"Backbone!A155","v":"Initiative de veille épidémique à sources ouvertes (EIOS)"},null,null,null,null,null,null,"L'initiative EIOS est le fruit d'une collaboration unique entre l'OMS et plusieurs parties prenantes qui regroupe des initiatives, des réseaux et des systèmes, nouveaux et existants, afin de créer une approche «Une seule santé» unifiée pour tous les dangers visant à la détection précoce, la vérification et l'évaluation des risques et des menaces pour la santé publique à partir d'informations d'exploitation libre.",null,null,null,null,null,null,null,null,{"$f":"INDEX(Backbone!$R$2:$R$893,MATCH(I66,Backbone!$A$2:$A$893,0))","v":"Matériel ou logiciel"},null,null,null,{"$f":"INDEX(Backbone!$S$2:$S$893,MATCH(I66,Backbone!$A$2:$A$893,0))","v":"«Une seule santé»; Généralisée"},null,null,null,{"$f":"INDEX(Backbone!$H$2:$H$893,MATCH(I66,Backbone!$A$2:$A$893,0))","v":8.4},null,{"$f":"INDEX(Backbone!$I$2:$I$893,MATCH(I66,Backbone!$A$2:$A$893,0))","v":9},null,{"$f":"INDEX(Backbone!$J$2:$J$893,MATCH(I66,Backbone!$A$2:$A$893,0))","v":7.4},null,{"$f":"INDEX(Backbone!$K$1:$K$893,MATCH(I66,Backbone!$A$1:$A$893,0))","v":9},null,{"$f":"INDEX(Backbone!$L$2:$L$893,MATCH(I66,Backbone!$A$2:$A$893,0))","v":8.8000000000000007},null,{"$f":"INDEX(Backbone!$M$2:$M$893,MATCH(I66,Backbone!$A$2:$A$893,0))","v":8},null,{"$f":"INDEX(Backbone!$N$2:$N$893,MATCH(I66,Backbone!$A$2:$A$893,0))","v":5.5},null,{"$f":"INDEX(Backbone!$O$2:$O$893,MATCH(I66,Backbone!$A$2:$A$893,0))","v":9.1999999999999993},null,{"$f":"INDEX(Backbone!$P$2:$P$893,MATCH(I66,Backbone!$A$2:$A$893,0))","v":6},null,{"$f":"INDEX(Backbone!$Q$2:$Q$893,MATCH(I66,Backbone!$A$2:$A$893,0))","v":0.79222222222222216},null,null,{"$f":"(AG66*$AG$22+AI66*$AI$22+AK66*$AK$22+AM66*$AM$22+AO66*$AO$22+AQ66*$AQ$22+AS66*$AS$22+AU66*$AU$22+AW66*$AW$22)/(SUM($AG$22:$AW$22)*10)","v":{"$error":"#DIV/0!"}},null,null,"Aller à \nBoîte à outils: ",null,{"$f":"HYPERLINK(\"#\"&ADDRESS(MATCH(I66,Toolbox!$C$1:$C$300),1,,,\"Toolbox\"),VLOOKUP(I66,Toolbox!$C$1:$C$300,1,FALSE))","v":"Initiative de veille épidémique à sources ouvertes (EIOS)"}]
[]
[]
[]
[]
[]
[null,null,null,null,null,null,null,null,{"$f":"Backbone!A163","v":"Event Mobile Application (EMAi)"},null,null,null,null,null,null,"Une application d'établissement de rapports en temps réel utilisée pour collecter des informations de terrain sur les maladies animales, qui génère des rapports géoréférencés transmis à l'interface utilisateur pays à travers le Système mondial d'information sur les maladies animales de la FAO (EMPRES-i).\n\n",null,null,null,null,null,null,null,null,{"$f":"INDEX(Backbone!$R$2:$R$893,MATCH(I72,Backbone!$A$2:$A$893,0))","v":"Matériel ou logiciel"},null,null,null,{"$f":"INDEX(Backbone!$S$2:$S$893,MATCH(I72,Backbone!$A$2:$A$893,0))","v":"Spécifique du secteur; Généralisée"},null,null,null,{"$f":"INDEX(Backbone!$H$2:$H$893,MATCH(I72,Backbone!$A$2:$A$893,0))","v":8.9},null,{"$f":"INDEX(Backbone!$I$2:$I$893,MATCH(I72,Backbone!$A$2:$A$893,0))","v":7.7},null,{"$f":"INDEX(Backbone!$J$2:$J$893,MATCH(I72,Backbone!$A$2:$A$893,0))","v":9.1},null,{"$f":"INDEX(Backbone!$K$1:$K$893,MATCH(I72,Backbone!$A$1:$A$893,0))","v":6},null,{"$f":"INDEX(Backbone!$L$2:$L$893,MATCH(I72,Backbone!$A$2:$A$893,0))","v":8.3000000000000007},null,{"$f":"INDEX(Backbone!$M$2:$M$893,MATCH(I72,Backbone!$A$2:$A$893,0))","v":9.3000000000000007},null,{"$f":"INDEX(Backbone!$N$2:$N$893,MATCH(I72,Backbone!$A$2:$A$893,0))","v":6.7},null,{"$f":"INDEX(Backbone!$O$2:$O$893,MATCH(I72,Backbone!$A$2:$A$893,0))","v":4.5},null,{"$f":"INDEX(Backbone!$P$2:$P$893,MATCH(I72,Backbone!$A$2:$A$893,0))","v":5.7},null,{"$f":"INDEX(Backbone!$Q$2:$Q$893,MATCH(I72,Backbone!$A$2:$A$893,0))","v":0.73555555555555563},null,null,{"$f":"(AG72*$AG$22+AI72*$AI$22+AK72*$AK$22+AM72*$AM$22+AO72*$AO$22+AQ72*$AQ$22+AS72*$AS$22+AU72*$AU$22+AW72*$AW$22)/(SUM($AG$22:$AW$22)*10)","v":{"$error":"#DIV/0!"}},null,null,"Aller à \nBoîte à outils: ",null,{"$f":"HYPERLINK(\"#\"&ADDRESS(MATCH(I72,Toolbox!$C$1:$C$300),1,,,\"Toolbox\"),VLOOKUP(I72,Toolbox!$C$1:$C$300,1,FALSE))","v":"Event Mobile Application (EMAi)"}]
[]
[]
[]
[]
[]
[null,null,null,null,null,null,null,null,{"$f":"Backbone!A179","v":"FoodChain-Lab (FCL) "},null,null,null,null,null,null,"Un logiciel de traçage libre et gratuit qui fournit des analyses de traçage des denrées alimentaires en amont et en aval afin d'identifier la source d'une contamination causant des foyers épidémiques d'origine alimentaire ou d'autres incidents liés à l'alimentation.",null,null,null,null,null,null,null,null,{"$f":"INDEX(Backbone!$R$2:$R$893,MATCH(I78,Backbone!$A$2:$A$893,0))","v":"Matériel ou logiciel"},null,null,null,{"$f":"INDEX(Backbone!$S$2:$S$893,MATCH(I78,Backbone!$A$2:$A$893,0))","v":"«Une seule santé»; spécifique d'une maladie/menace "},null,null,null,{"$f":"INDEX(Backbone!$H$2:$H$893,MATCH(I78,Backbone!$A$2:$A$893,0))","v":9.6999999999999993},null,{"$f":"INDEX(Backbone!$I$2:$I$893,MATCH(I78,Backbone!$A$2:$A$893,0))","v":6},null,{"$f":"INDEX(Backbone!$J$2:$J$893,MATCH(I78,Backbone!$A$2:$A$893,0))","v":7.9},null,{"$f":"INDEX(Backbone!$K$1:$K$893,MATCH(I78,Backbone!$A$1:$A$893,0))","v":7.8},null,{"$f":"INDEX(Backbone!$L$2:$L$893,MATCH(I78,Backbone!$A$2:$A$893,0))","v":8.1},null,{"$f":"INDEX(Backbone!$M$2:$M$893,MATCH(I78,Backbone!$A$2:$A$893,0))","v":8},null,{"$f":"INDEX(Backbone!$N$2:$N$893,MATCH(I78,Backbone!$A$2:$A$893,0))","v":7.9},null,{"$f":"INDEX(Backbone!$O$2:$O$893,MATCH(I78,Backbone!$A$2:$A$893,0))","v":8.4},null,{"$f":"INDEX(Backbone!$P$2:$P$893,MATCH(I78,Backbone!$A$2:$A$893,0))","v":9.6999999999999993},null,{"$f":"INDEX(Backbone!$Q$2:$Q$893,MATCH(I78,Backbone!$A$2:$A$893,0))","v":0.81666666666666665},null,null,{"$f":"(AG78*$AG$22+AI78*$AI$22+AK78*$AK$22+AM78*$AM$22+AO78*$AO$22+AQ78*$AQ$22+AS78*$AS$22+AU78*$AU$22+AW78*$AW$22)/(SUM($AG$22:$AW$22)*10)","v":{"$error":"#DIV/0!"}},null,null,"Aller à \nBoîte à outils: ",null,{"$f":"HYPERLINK(\"#\"&ADDRESS(MATCH(I78,Toolbox!$C$1:$C$300),1,,,\"Toolbox\"),VLOOKUP(I78,Toolbox!$C$1:$C$300,1,FALSE))","v":"FoodChain-Lab (FCL) "}]
[]
[]
[]
[]
[]
[null,null,null,null,null,null,null,null,{"$f":"Backbone!A531","v":"Système de gestion des données de laboratoire Mini (MiniLIMS)"},null,null,null,null,null,null,"Un système d'information conçu pour la gestion des données d'un laboratoire d'analyse à l'organisation simple.",null,null,null,null,null,null,null,null,{"$f":"INDEX(Backbone!$R$2:$R$893,MATCH(I84,Backbone!$A$2:$A$893,0))","v":"Matériel ou logiciel"},null,null,null,{"$f":"INDEX(Backbone!$S$2:$S$893,MATCH(I84,Backbone!$A$2:$A$893,0))","v":"Spécifique du secteur; Généralisée"},null,null,null,{"$f":"INDEX(Backbone!$H$2:$H$893,MATCH(I84,Backbone!$A$2:$A$893,0))","v":9},null,{"$f":"INDEX(Backbone!$I$2:$I$893,MATCH(I84,Backbone!$A$2:$A$893,0))","v":7.3},null,{"$f":"INDEX(Backbone!$J$2:$J$893,MATCH(I84,Backbone!$A$2:$A$893,0))","v":8.4},null,{"$f":"INDEX(Backbone!$K$1:$K$893,MATCH(I84,Backbone!$A$1:$A$893,0))","v":9.3000000000000007},null,{"$f":"INDEX(Backbone!$L$2:$L$893,MATCH(I84,Backbone!$A$2:$A$893,0))","v":7.2},null,{"$f":"INDEX(Backbone!$M$2:$M$893,MATCH(I84,Backbone!$A$2:$A$893,0))","v":6.5},null,{"$f":"INDEX(Backbone!$N$2:$N$893,MATCH(I84,Backbone!$A$2:$A$893,0))","v":2},null,{"$f":"INDEX(Backbone!$O$2:$O$893,MATCH(I84,Backbone!$A$2:$A$893,0))","v":4.4000000000000004},null,{"$f":"INDEX(Backbone!$P$2:$P$893,MATCH(I84,Backbone!$A$2:$A$893,0))","v":4},null,{"$f":"INDEX(Backbone!$Q$2:$Q$893,MATCH(I84,Backbone!$A$2:$A$893,0))","v":0.64555555555555555},null,null,{"$f":"(AG84*$AG$22+AI84*$AI$22+AK84*$AK$22+AM84*$AM$22+AO84*$AO$22+AQ84*$AQ$22+AS84*$AS$22+AU84*$AU$22+AW84*$AW$22)/(SUM($AG$22:$AW$22)*10)","v":{"$error":"#DIV/0!"}},null,null,"Aller à \nBoîte à outils: ",null,{"$f":"HYPERLINK(\"#\"&ADDRESS(MATCH(I84,Toolbox!$C$1:$C$300),1,,,\"Toolbox\"),VLOOKUP(I84,Toolbox!$C$1:$C$300,1,FALSE))","v":"Système de gestion des données de laboratoire Mini (MiniLIMS)"}]
[]
[]
[]
[]
[]
[null,null,null,null,null,null,null,null,{"$f":"Backbone!A522","v":"Système de gestion des données de laboratoire «SILAB for Africa» (SILABFA)"},null,null,null,null,null,null,"Un Système de gestion des données de laboratoire (LIMS) capable de retracer toutes les étapes du diagnostic, depuis la réception des échantillons jusqu'aux rapports finaux.",null,null,null,null,null,null,null,null,{"$f":"INDEX(Backbone!$R$2:$R$893,MATCH(I90,Backbone!$A$2:$A$893,0))","v":"Matériel ou logiciel"},null,null,null,{"$f":"INDEX(Backbone!$S$2:$S$893,MATCH(I90,Backbone!$A$2:$A$893,0))","v":"Spécifique du secteur; Généralisée"},null,null,null,{"$f":"INDEX(Backbone!$H$2:$H$893,MATCH(I90,Backbone!$A$2:$A$893,0))","v":9.3000000000000007},null,{"$f":"INDEX(Backbone!$I$2:$I$893,MATCH(I90,Backbone!$A$2:$A$893,0))","v":10},null,{"$f":"INDEX(Backbone!$J$2:$J$893,MATCH(I90,Backbone!$A$2:$A$893,0))","v":6.8},null,{"$f":"INDEX(Backbone!$K$1:$K$893,MATCH(I90,Backbone!$A$1:$A$893,0))","v":9.3000000000000007},null,{"$f":"INDEX(Backbone!$L$2:$L$893,MATCH(I90,Backbone!$A$2:$A$893,0))","v":8},null,{"$f":"INDEX(Backbone!$M$2:$M$893,MATCH(I90,Backbone!$A$2:$A$893,0))","v":6.5},null,{"$f":"INDEX(Backbone!$N$2:$N$893,MATCH(I90,Backbone!$A$2:$A$893,0))","v":8},null,{"$f":"INDEX(Backbone!$O$2:$O$893,MATCH(I90,Backbone!$A$2:$A$893,0))","v":7.2},null,{"$f":"INDEX(Backbone!$P$2:$P$893,MATCH(I90,Backbone!$A$2:$A$893,0))","v":8},null,{"$f":"INDEX(Backbone!$Q$2:$Q$893,MATCH(I90,Backbone!$A$2:$A$893,0))","v":0.81222222222222229},null,null,{"$f":"(AG90*$AG$22+AI90*$AI$22+AK90*$AK$22+AM90*$AM$22+AO90*$AO$22+AQ90*$AQ$22+AS90*$AS$22+AU90*$AU$22+AW90*$AW$22)/(SUM($AG$22:$AW$22)*10)","v":{"$error":"#DIV/0!"}},null,null,"Aller à \nBoîte à outils: ",null,{"$f":"HYPERLINK(\"#\"&ADDRESS(MATCH(I90,Toolbox!$C$1:$C$300),1,,,\"Toolbox\"),VLOOKUP(I90,Toolbox!$C$1:$C$300,1,FALSE))","v":"Système de gestion des données de laboratoire «SILAB for Africa» (SILABFA)"}]
[]
[]
[]
[]
[]
[null,null,null,null,null,null,null,null,{"$f":"Backbone!A648","v":"Boîte à outils pour la planification de la préparation et la réponse"},null,null,null,null,null,null,"Cette boîte à outils est conçue pour aider les pays à élaborer des plans multisectoriels de préparation et de réponse aux événements de santé publique. ",null,null,null,null,null,null,null,null,{"$f":"INDEX(Backbone!$R$2:$R$893,MATCH(I96,Backbone!$A$2:$A$893,0))","v":"Document d'orientation"},null,null,null,{"$f":"INDEX(Backbone!$S$2:$S$893,MATCH(I96,Backbone!$A$2:$A$893,0))","v":"«Une seule santé»; Généralisée"},null,null,null,{"$f":"INDEX(Backbone!$H$2:$H$893,MATCH(I96,Backbone!$A$2:$A$893,0))","v":8.4},null,{"$f":"INDEX(Backbone!$I$2:$I$893,MATCH(I96,Backbone!$A$2:$A$893,0))","v":8},null,{"$f":"INDEX(Backbone!$J$2:$J$893,MATCH(I96,Backbone!$A$2:$A$893,0))","v":8.4},null,{"$f":"INDEX(Backbone!$K$1:$K$893,MATCH(I96,Backbone!$A$1:$A$893,0))","v":6.7},null,{"$f":"INDEX(Backbone!$L$2:$L$893,MATCH(I96,Backbone!$A$2:$A$893,0))","v":2},null,{"$f":"INDEX(Backbone!$M$2:$M$893,MATCH(I96,Backbone!$A$2:$A$893,0))","v":3.5},null,{"$f":"INDEX(Backbone!$N$2:$N$893,MATCH(I96,Backbone!$A$2:$A$893,0))","v":4},null,{"$f":"INDEX(Backbone!$O$2:$O$893,MATCH(I96,Backbone!$A$2:$A$893,0))","v":6.4},null,{"$f":"INDEX(Backbone!$P$2:$P$893,MATCH(I96,Backbone!$A$2:$A$893,0))","v":8},null,{"$f":"INDEX(Backbone!$Q$2:$Q$893,MATCH(I96,Backbone!$A$2:$A$893,0))","v":0.61555555555555552},null,null,{"$f":"(AG96*$AG$22+AI96*$AI$22+AK96*$AK$22+AM96*$AM$22+AO96*$AO$22+AQ96*$AQ$22+AS96*$AS$22+AU96*$AU$22+AW96*$AW$22)/(SUM($AG$22:$AW$22)*10)","v":{"$error":"#DIV/0!"}},null,null,"Aller à \nBoîte à outils: ",null,{"$f":"HYPERLINK(\"#\"&ADDRESS(MATCH(I96,Toolbox!$C$1:$C$300),1,,,\"Toolbox\"),VLOOKUP(I96,Toolbox!$C$1:$C$300,1,FALSE))","v":"Boîte à outils pour la planification de la préparation et la réponse"}]
[]
[]
[]
[]
[]
[]
[]
[]
[]
[]
[]
[]
[]
[]
[]
[]
[]
[]
[]
[]
[]
[]
[]
[null,null,null,null,null,null,null,null,null,null,null,null,null,null,null,null,null,null,null,null,null,null,null,null,null,null,null,null,null,null,null,null,"Accessibilité",null,"Langue",null,"Facilité d'utilisation",null,"Flexibilité",null,"Besoins de données",null,"Analyse des données",null,"Acceptabilité",null,"«Une seule santé»",null,"Impact"]
[]
[]
[]
[]
[]
[]
[null,null,null,null,null,null,null,null,null,null,null,null,null,null,null,null,null,null,null,null,null,null,null,null,null,null,null,null,null,null,null,null,null,null,null,null,null,null,null,null,null,null,null,null,null,null,null,null,null,null,"SCORE BRUT",null,null,"SCORE AJUSTÉ \n(Selon les préférences de l'utilisateur)"]
[]
[]
[]
[null,"RESSOURCES DE NIVEAU 2",null,"DÉSIGNATION",null,null,null,null,"NOM DE LA RESSOURCE",null,null,null,null,null,null,"BRÈVE DESCRIPTION",null,null,null,null,null,null,null,null,"TYPE DE RESSOURCE",null,null,null,"CARACTÈRE GÉNÉRAL DE LA RESSOURCE"]
[]
[]
[]
[null,null,null,null,null,null,null,null,null,null,null,null,null,null,null,null,null,null,null,null,null,null,null,null,null,null,null,null,null,null,null,null,{"$f":"'Attribute Survey'!S135","v":0},null,{"$f":"'Attribute Survey'!S139","v":0},null,{"$f":"'Attribute Survey'!S143","v":0},null,{"$f":"'Attribute Survey'!S147","v":0},null,{"$f":"'Attribute Survey'!S151","v":0},null,{"$f":"'Attribute Survey'!S155","v":0},null,{"$f":"'Attribute Survey'!S159","v":0},null,{"$f":"'Attribute Survey'!S163","v":0},null,{"$f":"'Attribute Survey'!S167","v":0}]
[null,null,null,"Ressources les mieux adaptées",null,null,null,null,{"$f":"Backbone!A21","v":"AfyaData"},null,null,null,null,null,null,"Un outil de surveillance des maladies «Une seule santé» conçu pour répondre aux besoins de surveillance humaine, animale et environnementale, comprenant une application mobile et une application web.",null,null,null,null,null,null,null,null,{"$f":"INDEX(Backbone!$R$2:$R$893,MATCH(I136,Backbone!$A$2:$A$893,0))","v":"Matériel ou logiciel"},null,null,null,{"$f":"INDEX(Backbone!$S$2:$S$893,MATCH(I136,Backbone!$A$2:$A$893,0))","v":"«Une seule santé»; Généralisée "},null,null,null,{"$f":"INDEX(Backbone!$H$2:$H$893,MATCH(I136,Backbone!$A$2:$A$893,0))","v":7.3},null,{"$f":"INDEX(Backbone!$I$2:$I$893,MATCH(I136,Backbone!$A$2:$A$893,0))","v":10},null,{"$f":"INDEX(Backbone!$J$2:$J$893,MATCH(I136,Backbone!$A$2:$A$893,0))","v":8.1999999999999993},null,{"$f":"INDEX(Backbone!$K$2:$K$893,MATCH(I136,Backbone!$A$2:$A$893,0))","v":7.3},null,{"$f":"INDEX(Backbone!$L$2:$L$893,MATCH(I136,Backbone!$A$2:$A$893,0))","v":7.6},null,{"$f":"INDEX(Backbone!$M$2:$M$893,MATCH(I136,Backbone!$A$2:$A$893,0))","v":8.8000000000000007},null,{"$f":"INDEX(Backbone!$N$2:$N$893,MATCH(I136,Backbone!$A$2:$A$893,0))","v":5.5},null,{"$f":"INDEX(Backbone!$O$2:$O$893,MATCH(I136,Backbone!$A$2:$A$893,0))","v":7.6},null,{"$f":"INDEX(Backbone!$P$2:$P$893,MATCH(I136,Backbone!$A$2:$A$893,0))","v":7},null,{"$f":"INDEX(Backbone!$Q$2:$Q$893,MATCH(I136,Backbone!$A$2:$A$893,0))","v":0.77000000000000013},null,null,{"$f":"(AG136*$AG$22+AI136*$AI$22+AK136*$AK$22+AM136*$AM$22+AO136*$AO$22+AQ136*$AQ$22+AS136*$AS$22+AU136*$AU$22+AW136*$AW$22)/(SUM($AG$22:$AW$22)*10)","v":{"$error":"#DIV/0!"}},null,null,"Aller à \nBoîte à outils: ",null,{"$f":"HYPERLINK(\"#\"&ADDRESS(MATCH(I136,Toolbox!$C$1:$C$300),1,,,\"Toolbox\"),VLOOKUP(I136,Toolbox!$C$1:$C$300,1,FALSE))","v":"AfyaData"}]
[]
[]
[]
[]
[]
[null,null,null,null,null,null,null,null,{"$f":"Backbone!A65","v":"Logiciel d'information de santé au niveau des districts 2 (DHIS2) "},null,null,null,null,null,null,"Une plateforme d'exploitation libre en ligne pour les systèmes d'information sanitaire.",null,null,null,null,null,null,null,null,{"$f":"INDEX(Backbone!$R$2:$R$893,MATCH(I142,Backbone!$A$2:$A$893,0))","v":"Matériel ou logiciel"},null,null,null,{"$f":"INDEX(Backbone!$S$2:$S$893,MATCH(I142,Backbone!$A$2:$A$893,0))","v":"Spécifique du secteur; Généralisée"},null,null,null,{"$f":"INDEX(Backbone!$H$2:$H$893,MATCH(I142,Backbone!$A$2:$A$893,0))","v":8.8000000000000007},null,{"$f":"INDEX(Backbone!$I$2:$I$893,MATCH(I142,Backbone!$A$2:$A$893,0))","v":8.6999999999999993},null,{"$f":"INDEX(Backbone!$J$2:$J$893,MATCH(I142,Backbone!$A$2:$A$893,0))","v":8},null,{"$f":"INDEX(Backbone!$K$2:$K$893,MATCH(I142,Backbone!$A$2:$A$893,0))","v":8.6999999999999993},null,{"$f":"INDEX(Backbone!$L$2:$L$893,MATCH(I142,Backbone!$A$2:$A$893,0))","v":9.3000000000000007},null,{"$f":"INDEX(Backbone!$M$2:$M$893,MATCH(I142,Backbone!$A$2:$A$893,0))","v":9},null,{"$f":"INDEX(Backbone!$N$2:$N$893,MATCH(I142,Backbone!$A$2:$A$893,0))","v":10},null,{"$f":"INDEX(Backbone!$O$2:$O$893,MATCH(I142,Backbone!$A$2:$A$893,0))","v":7.8},null,{"$f":"INDEX(Backbone!$P$2:$P$893,MATCH(I142,Backbone!$A$2:$A$893,0))","v":7},null,{"$f":"INDEX(Backbone!$Q$2:$Q$893,MATCH(I142,Backbone!$A$2:$A$893,0))","v":0.85888888888888881},null,null,{"$f":"(AG142*$AG$22+AI142*$AI$22+AK142*$AK$22+AM142*$AM$22+AO142*$AO$22+AQ142*$AQ$22+AS142*$AS$22+AU142*$AU$22+AW142*$AW$22)/(SUM($AG$22:$AW$22)*10)","v":{"$error":"#DIV/0!"}},null,null,"Aller à \nBoîte à outils: ",null,{"$f":"HYPERLINK(\"#\"&ADDRESS(MATCH(I142,Toolbox!$C$1:$C$300),1,,,\"Toolbox\"),VLOOKUP(I142,Toolbox!$C$1:$C$300,1,FALSE))","v":"Logiciel d'information de santé au niveau des districts 2 (DHIS2) "}]
[]
[]
[]
[]
[]
[null,null,null,null,null,null,null,null,{"$f":"Backbone!A138","v":"Système électronique intégré de surveillance des maladies (EIDSS)"},null,null,null,null,null,null,"Un système électronique en ligne et personnalisable d'établissement de rapports sur les maladies qui peut aider à la surveillance passive et active de la santé humaine et vétérinaire, aux diagnostics de laboratoire, à la surveillance des vecteurs et à la gestion des foyers épidémiques.",null,null,null,null,null,null,null,null,{"$f":"INDEX(Backbone!$R$2:$R$893,MATCH(I148,Backbone!$A$2:$A$893,0))","v":"Matériel ou logiciel"},null,null,null,{"$f":"INDEX(Backbone!$S$2:$S$893,MATCH(I148,Backbone!$A$2:$A$893,0))","v":"«Une seule santé»; Généralisée"},null,null,null,{"$f":"INDEX(Backbone!$H$2:$H$893,MATCH(I148,Backbone!$A$2:$A$893,0))","v":6.8},null,{"$f":"INDEX(Backbone!$I$2:$I$893,MATCH(I148,Backbone!$A$2:$A$893,0))","v":10},null,{"$f":"INDEX(Backbone!$J$2:$J$893,MATCH(I148,Backbone!$A$2:$A$893,0))","v":8.4},null,{"$f":"INDEX(Backbone!$K$1:$K$893,MATCH(I148,Backbone!$A$1:$A$893,0))","v":8.6999999999999993},null,{"$f":"INDEX(Backbone!$L$2:$L$893,MATCH(I148,Backbone!$A$2:$A$893,0))","v":9.1},null,{"$f":"INDEX(Backbone!$M$2:$M$893,MATCH(I148,Backbone!$A$2:$A$893,0))","v":8},null,{"$f":"INDEX(Backbone!$N$2:$N$893,MATCH(I148,Backbone!$A$2:$A$893,0))","v":7},null,{"$f":"INDEX(Backbone!$O$2:$O$893,MATCH(I148,Backbone!$A$2:$A$893,0))","v":7.2},null,{"$f":"INDEX(Backbone!$P$2:$P$893,MATCH(I148,Backbone!$A$2:$A$893,0))","v":10},null,{"$f":"INDEX(Backbone!$Q$2:$Q$893,MATCH(I148,Backbone!$A$2:$A$893,0))","v":0.83555555555555561},null,null,{"$f":"(AG148*$AG$22+AI148*$AI$22+AK148*$AK$22+AM148*$AM$22+AO148*$AO$22+AQ148*$AQ$22+AS148*$AS$22+AU148*$AU$22+AW148*$AW$22)/(SUM($AG$22:$AW$22)*10)","v":{"$error":"#DIV/0!"}},null,null,"Aller à \nBoîte à outils: ",null,{"$f":"HYPERLINK(\"#\"&ADDRESS(MATCH(I148,Toolbox!$C$1:$C$300),1,,,\"Toolbox\"),VLOOKUP(I148,Toolbox!$C$1:$C$300,1,FALSE))","v":"Système électronique intégré de surveillance des maladies (EIDSS)"}]
[]
[]
[]
[]
[]
[null,null,null,null,null,null,null,null,{"$f":"Backbone!A166","v":"EMPRES Système mondial d'information sur les maladies animales (EMPRES-i)"},null,null,null,null,null,null,"Un système d'information sécurisé en ligne pour aider les services vétérinaires au niveau des pays en leur fournissant une base de données de référence sur les maladies animales, y compris les zoonoses, à l'échelon régional et mondial.",null,null,null,null,null,null,null,null,{"$f":"INDEX(Backbone!$R$2:$R$893,MATCH(I154,Backbone!$A$2:$A$893,0))","v":"Matériel ou logiciel"},null,null,null,{"$f":"INDEX(Backbone!$S$2:$S$893,MATCH(I154,Backbone!$A$2:$A$893,0))","v":"Spécifique du secteur; Généralisée"},null,null,null,{"$f":"INDEX(Backbone!$H$2:$H$893,MATCH(I154,Backbone!$A$2:$A$893,0))","v":9},null,{"$f":"INDEX(Backbone!$I$2:$I$893,MATCH(I154,Backbone!$A$2:$A$893,0))","v":8.3000000000000007},null,{"$f":"INDEX(Backbone!$J$2:$J$893,MATCH(I154,Backbone!$A$2:$A$893,0))","v":8.9},null,{"$f":"INDEX(Backbone!$K$1:$K$893,MATCH(I154,Backbone!$A$1:$A$893,0))","v":8.6999999999999993},null,{"$f":"INDEX(Backbone!$L$2:$L$893,MATCH(I154,Backbone!$A$2:$A$893,0))","v":8},null,{"$f":"INDEX(Backbone!$M$2:$M$893,MATCH(I154,Backbone!$A$2:$A$893,0))","v":7.8},null,{"$f":"INDEX(Backbone!$N$2:$N$893,MATCH(I154,Backbone!$A$2:$A$893,0))","v":7.4},null,{"$f":"INDEX(Backbone!$O$2:$O$893,MATCH(I154,Backbone!$A$2:$A$893,0))","v":4.8},null,{"$f":"INDEX(Backbone!$P$2:$P$893,MATCH(I154,Backbone!$A$2:$A$893,0))","v":4.7},null,{"$f":"INDEX(Backbone!$Q$2:$Q$893,MATCH(I154,Backbone!$A$2:$A$893,0))","v":0.75111111111111106},null,null,{"$f":"(AG154*$AG$22+AI154*$AI$22+AK154*$AK$22+AM154*$AM$22+AO154*$AO$22+AQ154*$AQ$22+AS154*$AS$22+AU154*$AU$22+AW154*$AW$22)/(SUM($AG$22:$AW$22)*10)","v":{"$error":"#DIV/0!"}},null,null,"Aller à \nBoîte à outils: ",null,{"$f":"HYPERLINK(\"#\"&ADDRESS(MATCH(I154,Toolbox!$C$1:$C$300),1,,,\"Toolbox\"),VLOOKUP(I154,Toolbox!$C$1:$C$300,1,FALSE))","v":"EMPRES Système mondial d'information sur les maladies animales (EMPRES-i)"}]
[]
[]
[]
[]
[]
[null,null,null,null,null,null,null,null,{"$f":"Backbone!A604","v":"Application de suivi des expositions et des cas de rage (REACT)"},null,null,null,null,null,null,"Un outil visant à soutenir la mise en œuvre de programmes de gestion intégrée des cas de morsures.",null,null,null,null,null,null,null,null,{"$f":"INDEX(Backbone!$R$2:$R$893,MATCH(I160,Backbone!$A$2:$A$893,0))","v":"Matériel ou logiciel"},null,null,null,{"$f":"INDEX(Backbone!$S$2:$S$893,MATCH(I160,Backbone!$A$2:$A$893,0))","v":"«Une seule santé»; spécifique d'une maladie/menace "},null,null,null,{"$f":"INDEX(Backbone!$H$2:$H$893,MATCH(I160,Backbone!$A$2:$A$893,0))","v":8.6},null,{"$f":"INDEX(Backbone!$I$2:$I$893,MATCH(I160,Backbone!$A$2:$A$893,0))","v":8.6},null,{"$f":"INDEX(Backbone!$J$2:$J$893,MATCH(I160,Backbone!$A$2:$A$893,0))","v":8},null,{"$f":"INDEX(Backbone!$K$1:$K$893,MATCH(I160,Backbone!$A$1:$A$893,0))","v":8.6},null,{"$f":"INDEX(Backbone!$L$2:$L$893,MATCH(I160,Backbone!$A$2:$A$893,0))","v":9.4},null,{"$f":"INDEX(Backbone!$M$2:$M$893,MATCH(I160,Backbone!$A$2:$A$893,0))","v":9.5},null,{"$f":"INDEX(Backbone!$N$2:$N$893,MATCH(I160,Backbone!$A$2:$A$893,0))","v":9},null,{"$f":"INDEX(Backbone!$O$2:$O$893,MATCH(I160,Backbone!$A$2:$A$893,0))","v":9.1999999999999993},null,{"$f":"INDEX(Backbone!$P$2:$P$893,MATCH(I160,Backbone!$A$2:$A$893,0))","v":9},null,{"$f":"INDEX(Backbone!$Q$2:$Q$893,MATCH(I160,Backbone!$A$2:$A$893,0))","v":0.88777777777777767},null,null,{"$f":"(AG160*$AG$22+AI160*$AI$22+AK160*$AK$22+AM160*$AM$22+AO160*$AO$22+AQ160*$AQ$22+AS160*$AS$22+AU160*$AU$22+AW160*$AW$22)/(SUM($AG$22:$AW$22)*10)","v":{"$error":"#DIV/0!"}},null,null,"Aller à \nBoîte à outils: ",null,{"$f":"HYPERLINK(\"#\"&ADDRESS(MATCH(I160,Toolbox!$C$1:$C$300),1,,,\"Toolbox\"),VLOOKUP(I160,Toolbox!$C$1:$C$300,1,FALSE))","v":"Application de suivi des expositions et des cas de rage (REACT)"}]
[]
[]
[]
[]
[]
[null,null,null,null,null,null,null,null,{"$f":"Backbone!A489","v":"Suite pour une biosurveillance électronique automatisée mondiale (SAGES)"},null,null,null,null,null,null,"Une suite d'outils logiciels d'exploitation libre conçus pour améliorer la surveillance électronique des maladies dans des situations où les ressources sont limitées.",null,null,null,null,null,null,null,null,{"$f":"INDEX(Backbone!$R$2:$R$893,MATCH(I166,Backbone!$A$2:$A$893,0))","v":"Matériel ou logiciel"},null,null,null,{"$f":"INDEX(Backbone!$S$2:$S$893,MATCH(I166,Backbone!$A$2:$A$893,0))","v":"«Une seule santé»; Généralisée"},null,null,null,{"$f":"INDEX(Backbone!$H$2:$H$893,MATCH(I166,Backbone!$A$2:$A$893,0))","v":9.8000000000000007},null,{"$f":"INDEX(Backbone!$I$2:$I$893,MATCH(I166,Backbone!$A$2:$A$893,0))","v":10},null,{"$f":"INDEX(Backbone!$J$2:$J$893,MATCH(I166,Backbone!$A$2:$A$893,0))","v":10},null,{"$f":"INDEX(Backbone!$K$1:$K$893,MATCH(I166,Backbone!$A$1:$A$893,0))","v":9.3000000000000007},null,{"$f":"INDEX(Backbone!$L$2:$L$893,MATCH(I166,Backbone!$A$2:$A$893,0))","v":8.5},null,{"$f":"INDEX(Backbone!$M$2:$M$893,MATCH(I166,Backbone!$A$2:$A$893,0))","v":9},null,{"$f":"INDEX(Backbone!$N$2:$N$893,MATCH(I166,Backbone!$A$2:$A$893,0))","v":5.5},null,{"$f":"INDEX(Backbone!$O$2:$O$893,MATCH(I166,Backbone!$A$2:$A$893,0))","v":9.5},null,{"$f":"INDEX(Backbone!$P$2:$P$893,MATCH(I166,Backbone!$A$2:$A$893,0))","v":7},null,{"$f":"INDEX(Backbone!$Q$2:$Q$893,MATCH(I166,Backbone!$A$2:$A$893,0))","v":0.87333333333333329},null,null,{"$f":"(AG166*$AG$22+AI166*$AI$22+AK166*$AK$22+AM166*$AM$22+AO166*$AO$22+AQ166*$AQ$22+AS166*$AS$22+AU166*$AU$22+AW166*$AW$22)/(SUM($AG$22:$AW$22)*10)","v":{"$error":"#DIV/0!"}},null,null,"Aller à \nBoîte à outils: ",null,{"$f":"HYPERLINK(\"#\"&ADDRESS(MATCH(I166,Toolbox!$C$1:$C$300),1,,,\"Toolbox\"),VLOOKUP(I166,Toolbox!$C$1:$C$300,1,FALSE))","v":"Suite pour une biosurveillance électronique automatisée mondiale (SAGES)"}]
[]
[]
[]
[]
[]
[null,null,null,null,null,null,null,null,{"$f":"Backbone!A540","v":"Système de gestion et d'analyse de la surveillance et la réponse aux foyers épidémiques (SORMAS)"},null,null,null,null,null,null,"Un système de santé en ligne mobile et d'exploitation libre qui met en œuvre des procédures de contrôle de maladies et de gestion de flambées épidémiques, et assure la surveillance et la détection précoce des foyers épidémiques grâce à une surveillance numérique en temps réel.",null,null,null,null,null,null,null,null,{"$f":"INDEX(Backbone!$R$2:$R$893,MATCH(I172,Backbone!$A$2:$A$893,0))","v":"Matériel ou logiciel"},null,null,null,{"$f":"INDEX(Backbone!$S$2:$S$893,MATCH(I172,Backbone!$A$2:$A$893,0))","v":"Spécifique du secteur; Généralisée"},null,null,null,{"$f":"INDEX(Backbone!$H$2:$H$893,MATCH(I172,Backbone!$A$2:$A$893,0))","v":9.1999999999999993},null,{"$f":"INDEX(Backbone!$I$2:$I$893,MATCH(I172,Backbone!$A$2:$A$893,0))","v":8},null,{"$f":"INDEX(Backbone!$J$2:$J$893,MATCH(I172,Backbone!$A$2:$A$893,0))","v":9.3000000000000007},null,{"$f":"INDEX(Backbone!$K$1:$K$893,MATCH(I172,Backbone!$A$1:$A$893,0))","v":9.1},null,{"$f":"INDEX(Backbone!$L$2:$L$893,MATCH(I172,Backbone!$A$2:$A$893,0))","v":9.3000000000000007},null,{"$f":"INDEX(Backbone!$M$2:$M$893,MATCH(I172,Backbone!$A$2:$A$893,0))","v":9.3000000000000007},null,{"$f":"INDEX(Backbone!$N$2:$N$893,MATCH(I172,Backbone!$A$2:$A$893,0))","v":6.8},null,{"$f":"INDEX(Backbone!$O$2:$O$893,MATCH(I172,Backbone!$A$2:$A$893,0))","v":3.9},null,{"$f":"INDEX(Backbone!$P$2:$P$893,MATCH(I172,Backbone!$A$2:$A$893,0))","v":5.3},null,{"$f":"INDEX(Backbone!$Q$2:$Q$893,MATCH(I172,Backbone!$A$2:$A$893,0))","v":0.78},null,null,{"$f":"(AG172*$AG$22+AI172*$AI$22+AK172*$AK$22+AM172*$AM$22+AO172*$AO$22+AQ172*$AQ$22+AS172*$AS$22+AU172*$AU$22+AW172*$AW$22)/(SUM($AG$22:$AW$22)*10)","v":{"$error":"#DIV/0!"}},null,null,"Aller à \nBoîte à outils: ",null,{"$f":"HYPERLINK(\"#\"&ADDRESS(MATCH(I172,Toolbox!$C$1:$C$300),1,,,\"Toolbox\"),VLOOKUP(I172,Toolbox!$C$1:$C$300,1,FALSE))","v":"Système de gestion et d'analyse de la surveillance et la réponse aux foyers épidémiques (SORMAS)"}]
[]
[]
[]
[]
[]
[]
[]
[]
[]
[]
[]
[]
[]
[]
[]
[]
[]
[]
[]
[]
[]
[]
[]
[null,null,null,null,null,null,null,null,null,null,null,null,null,null,null,null,null,null,null,null,null,null,null,null,null,null,null,null,null,null,null,null,"Accessibilité",null,"Langue",null,"Facilité d'utilisation",null,"Flexibilité",null,"Besoins de données",null,"Analyse des données",null,"Acceptabilité",null,"«Une seule santé»",null,"Impact"]
[]
[]
[]
[]
[]
[]
[null,null,null,null,null,null,null,null,null,null,null,null,null,null,null,null,null,null,null,null,null,null,null,null,null,null,null,null,null,null,null,null,null,null,null,null,null,null,null,null,null,null,null,null,null,null,null,null,null,null,"SCORE BRUT",null,null,"SCORE AJUSTÉ \n(Selon les préférences de l'utilisateur)"]
[]
[]
[]
[null,"RESSOURCES DE NIVEAU 3",null,"DÉSIGNATION",null,null,null,null,"NOM DE LA RESSOURCE",null,null,null,null,null,null,"BRÈVE DESCRIPTION",null,null,null,null,null,null,null,null,"TYPE DE RESSOURCE",null,null,null,"CARACTÈRE GÉNÉRAL DE LA RESSOURCE"]
[]
[]
[]
[null,null,null,null,null,null,null,null,null,null,null,null,null,null,null,null,null,null,null,null,null,null,null,null,null,null,null,null,null,null,null,null,{"$f":"'Attribute Survey'!S211","v":0},null,{"$f":"'Attribute Survey'!S215","v":0},null,{"$f":"'Attribute Survey'!S219","v":0},null,{"$f":"'Attribute Survey'!S223","v":0},null,{"$f":"'Attribute Survey'!S227","v":0},null,{"$f":"'Attribute Survey'!S231","v":0},null,{"$f":"'Attribute Survey'!S235","v":0},null,{"$f":"'Attribute Survey'!S239","v":0},null,{"$f":"'Attribute Survey'!S243","v":0}]
[null,null,null,"Ressources les mieux adaptées",null,null,null,null,{"$f":"Backbone!A138","v":"Système électronique intégré de surveillance des maladies (EIDSS)"},null,null,null,null,null,null,"Un système électronique en ligne et personnalisable d'établissement de rapports sur les maladies qui peut aider à la surveillance passive et active de la santé humaine et vétérinaire, aux diagnostics de laboratoire, à la surveillance des vecteurs et à la gestion des foyers épidémiques.",null,null,null,null,null,null,null,null,{"$f":"INDEX(Backbone!$R$2:$R$893,MATCH(I212,Backbone!$A$2:$A$893,0))","v":"Matériel ou logiciel"},null,null,null,{"$f":"INDEX(Backbone!$S$2:$S$893,MATCH(I212,Backbone!$A$2:$A$893,0))","v":"«Une seule santé»; Généralisée"},null,null,null,{"$f":"INDEX(Backbone!$H$2:$H$893,MATCH(I212,Backbone!$A$2:$A$893,0))","v":6.8},null,{"$f":"INDEX(Backbone!$I$2:$I$893,MATCH(I212,Backbone!$A$2:$A$893,0))","v":10},null,{"$f":"INDEX(Backbone!$J$2:$J$893,MATCH(I212,Backbone!$A$2:$A$893,0))","v":8.4},null,{"$f":"INDEX(Backbone!$K$2:$K$893,MATCH(I212,Backbone!$A$2:$A$893,0))","v":8.6999999999999993},null,{"$f":"INDEX(Backbone!$L$2:$L$893,MATCH(I212,Backbone!$A$2:$A$893,0))","v":9.1},null,{"$f":"INDEX(Backbone!$M$2:$M$893,MATCH(I212,Backbone!$A$2:$A$893,0))","v":8},null,{"$f":"INDEX(Backbone!$N$2:$N$893,MATCH(I212,Backbone!$A$2:$A$893,0))","v":7},null,{"$f":"INDEX(Backbone!$O$2:$O$893,MATCH(I212,Backbone!$A$2:$A$893,0))","v":7.2},null,{"$f":"INDEX(Backbone!$P$2:$P$893,MATCH(I212,Backbone!$A$2:$A$893,0))","v":10},null,{"$f":"INDEX(Backbone!$Q$2:$Q$893,MATCH(I212,Backbone!$A$2:$A$893,0))","v":0.83555555555555561},null,null,{"$f":"(AG212*$AG$22+AI212*$AI$22+AK212*$AK$22+AM212*$AM$22+AO212*$AO$22+AQ212*$AQ$22+AS212*$AS$22+AU212*$AU$22+AW212*$AW$22)/(SUM($AG$22:$AW$22)*10)","v":{"$error":"#DIV/0!"}},null,null,"Aller à \nBoîte à outils: ",null,{"$f":"HYPERLINK(\"#\"&ADDRESS(MATCH(I212,Toolbox!$C$1:$C$300),1,,,\"Toolbox\"),VLOOKUP(I212,Toolbox!$C$1:$C$300,1,FALSE))","v":"Système électronique intégré de surveillance des maladies (EIDSS)"}]
[]
[]
[]
[]
[]
[null,null,null,null,null,null,null,null,{"$f":"Backbone!A604","v":"Application de suivi des expositions et des cas de rage (REACT)"},null,null,null,null,null,null,"Un outil visant à soutenir la mise en œuvre de programmes de gestion intégrée des cas de morsures.",null,null,null,null,null,null,null,null,{"$f":"INDEX(Backbone!$R$2:$R$893,MATCH(I218,Backbone!$A$2:$A$893,0))","v":"Matériel ou logiciel"},null,null,null,{"$f":"INDEX(Backbone!$S$2:$S$893,MATCH(I218,Backbone!$A$2:$A$893,0))","v":"«Une seule santé»; spécifique d'une maladie/menace "},null,null,null,{"$f":"INDEX(Backbone!$H$2:$H$893,MATCH(I218,Backbone!$A$2:$A$893,0))","v":8.6},null,{"$f":"INDEX(Backbone!$I$2:$I$893,MATCH(I218,Backbone!$A$2:$A$893,0))","v":8.6},null,{"$f":"INDEX(Backbone!$J$2:$J$893,MATCH(I218,Backbone!$A$2:$A$893,0))","v":8},null,{"$f":"INDEX(Backbone!$K$2:$K$893,MATCH(I218,Backbone!$A$2:$A$893,0))","v":8.6},null,{"$f":"INDEX(Backbone!$L$2:$L$893,MATCH(I218,Backbone!$A$2:$A$893,0))","v":9.4},null,{"$f":"INDEX(Backbone!$M$2:$M$893,MATCH(I218,Backbone!$A$2:$A$893,0))","v":9.5},null,{"$f":"INDEX(Backbone!$N$2:$N$893,MATCH(I218,Backbone!$A$2:$A$893,0))","v":9},null,{"$f":"INDEX(Backbone!$O$2:$O$893,MATCH(I218,Backbone!$A$2:$A$893,0))","v":9.1999999999999993},null,{"$f":"INDEX(Backbone!$P$2:$P$893,MATCH(I218,Backbone!$A$2:$A$893,0))","v":9},null,{"$f":"INDEX(Backbone!$Q$2:$Q$893,MATCH(I218,Backbone!$A$2:$A$893,0))","v":0.88777777777777767},null,null,{"$f":"(AG218*$AG$22+AI218*$AI$22+AK218*$AK$22+AM218*$AM$22+AO218*$AO$22+AQ218*$AQ$22+AS218*$AS$22+AU218*$AU$22+AW218*$AW$22)/(SUM($AG$22:$AW$22)*10)","v":{"$error":"#DIV/0!"}},null,null,"Aller à \nBoîte à outils: ",null,{"$f":"HYPERLINK(\"#\"&ADDRESS(MATCH(I218,Toolbox!$C$1:$C$300),1,,,\"Toolbox\"),VLOOKUP(I218,Toolbox!$C$1:$C$300,1,FALSE))","v":"Application de suivi des expositions et des cas de rage (REACT)"}]
[]
[]
[]
[]
[]
[null,null,null,null,null,null,null,null,{"$f":"Backbone!A489","v":"Suite pour une biosurveillance électronique automatisée mondiale (SAGES)"},null,null,null,null,null,null,"Une suite d'outils logiciels d'exploitation libre conçus pour améliorer la surveillance électronique des maladies dans des situations où les ressources sont limitées.",null,null,null,null,null,null,null,null,{"$f":"INDEX(Backbone!$R$2:$R$893,MATCH(I224,Backbone!$A$2:$A$893,0))","v":"Matériel ou logiciel"},null,null,null,{"$f":"INDEX(Backbone!$S$2:$S$893,MATCH(I224,Backbone!$A$2:$A$893,0))","v":"«Une seule santé»; Généralisée"},null,null,null,{"$f":"INDEX(Backbone!$H$2:$H$893,MATCH(I224,Backbone!$A$2:$A$893,0))","v":9.8000000000000007},null,{"$f":"INDEX(Backbone!$I$2:$I$893,MATCH(I224,Backbone!$A$2:$A$893,0))","v":10},null,{"$f":"INDEX(Backbone!$J$2:$J$893,MATCH(I224,Backbone!$A$2:$A$893,0))","v":10},null,{"$f":"INDEX(Backbone!$K$1:$K$893,MATCH(I224,Backbone!$A$1:$A$893,0))","v":9.3000000000000007},null,{"$f":"INDEX(Backbone!$L$2:$L$893,MATCH(I224,Backbone!$A$2:$A$893,0))","v":8.5},null,{"$f":"INDEX(Backbone!$M$2:$M$893,MATCH(I224,Backbone!$A$2:$A$893,0))","v":9},null,{"$f":"INDEX(Backbone!$N$2:$N$893,MATCH(I224,Backbone!$A$2:$A$893,0))","v":5.5},null,{"$f":"INDEX(Backbone!$O$2:$O$893,MATCH(I224,Backbone!$A$2:$A$893,0))","v":9.5},null,{"$f":"INDEX(Backbone!$P$2:$P$893,MATCH(I224,Backbone!$A$2:$A$893,0))","v":7},null,{"$f":"INDEX(Backbone!$Q$2:$Q$893,MATCH(I224,Backbone!$A$2:$A$893,0))","v":0.87333333333333329},null,null,{"$f":"(AG224*$AG$22+AI224*$AI$22+AK224*$AK$22+AM224*$AM$22+AO224*$AO$22+AQ224*$AQ$22+AS224*$AS$22+AU224*$AU$22+AW224*$AW$22)/(SUM($AG$22:$AW$22)*10)","v":{"$error":"#DIV/0!"}},null,null,"Aller à \nBoîte à outils: ",null,{"$f":"HYPERLINK(\"#\"&ADDRESS(MATCH(I224,Toolbox!$C$1:$C$300),1,,,\"Toolbox\"),VLOOKUP(I224,Toolbox!$C$1:$C$300,1,FALSE))","v":"Suite pour une biosurveillance électronique automatisée mondiale (SAGES)"}]
[]
[]
[]
[]
[]
[null,null,null,null,null,null,null,null,{"$f":"Backbone!A540","v":"Système de gestion et d'analyse de la surveillance et la réponse aux foyers épidémiques (SORMAS)"},null,null,null,null,null,null,"Un système de santé en ligne mobile et d'exploitation libre qui met en œuvre des procédures de contrôle de maladies et de gestion de flambées épidémiques, et assure la surveillance et la détection précoce des foyers épidémiques grâce à une surveillance numérique en temps réel.",null,null,null,null,null,null,null,null,{"$f":"INDEX(Backbone!$R$2:$R$893,MATCH(I230,Backbone!$A$2:$A$893,0))","v":"Matériel ou logiciel"},null,null,null,{"$f":"INDEX(Backbone!$S$2:$S$893,MATCH(I230,Backbone!$A$2:$A$893,0))","v":"Spécifique du secteur; Généralisée"},null,null,null,{"$f":"INDEX(Backbone!$H$2:$H$893,MATCH(I230,Backbone!$A$2:$A$893,0))","v":9.1999999999999993},null,{"$f":"INDEX(Backbone!$I$2:$I$893,MATCH(I230,Backbone!$A$2:$A$893,0))","v":8},null,{"$f":"INDEX(Backbone!$J$2:$J$893,MATCH(I230,Backbone!$A$2:$A$893,0))","v":9.3000000000000007},null,{"$f":"INDEX(Backbone!$K$1:$K$893,MATCH(I230,Backbone!$A$1:$A$893,0))","v":9.1},null,{"$f":"INDEX(Backbone!$L$2:$L$893,MATCH(I230,Backbone!$A$2:$A$893,0))","v":9.3000000000000007},null,{"$f":"INDEX(Backbone!$M$2:$M$893,MATCH(I230,Backbone!$A$2:$A$893,0))","v":9.3000000000000007},null,{"$f":"INDEX(Backbone!$N$2:$N$893,MATCH(I230,Backbone!$A$2:$A$893,0))","v":6.8},null,{"$f":"INDEX(Backbone!$O$2:$O$893,MATCH(I230,Backbone!$A$2:$A$893,0))","v":3.9},null,{"$f":"INDEX(Backbone!$P$2:$P$893,MATCH(I230,Backbone!$A$2:$A$893,0))","v":5.3},null,{"$f":"INDEX(Backbone!$Q$2:$Q$893,MATCH(I230,Backbone!$A$2:$A$893,0))","v":0.78},null,null,{"$f":"(AG230*$AG$22+AI230*$AI$22+AK230*$AK$22+AM230*$AM$22+AO230*$AO$22+AQ230*$AQ$22+AS230*$AS$22+AU230*$AU$22+AW230*$AW$22)/(SUM($AG$22:$AW$22)*10)","v":{"$error":"#DIV/0!"}},null,null,"Aller à \nBoîte à outils: ",null,{"$f":"HYPERLINK(\"#\"&ADDRESS(MATCH(I230,Toolbox!$C$1:$C$300),1,,,\"Toolbox\"),VLOOKUP(I230,Toolbox!$C$1:$C$300,1,FALSE))","v":"Système de gestion et d'analyse de la surveillance et la réponse aux foyers épidémiques (SORMAS)"}]
[]
[]
[]
[]
[]
[]
[null,null,null,"Autres ressources intéressantes",null,null,null,null,{"$f":"Backbone!A65","v":"Logiciel d'information de santé au niveau des districts 2 (DHIS2) "},null,null,null,null,null,null,"Une plateforme d'exploitation libre en ligne pour les systèmes d'information sanitaire.",null,null,null,null,null,null,null,null,{"$f":"INDEX(Backbone!$R$2:$R$893,MATCH(I237,Backbone!$A$2:$A$893,0))","v":"Matériel ou logiciel"},null,null,null,{"$f":"INDEX(Backbone!$S$2:$S$893,MATCH(I237,Backbone!$A$2:$A$893,0))","v":"Spécifique du secteur; Généralisée"},null,null,null,{"$f":"INDEX(Backbone!$H$2:$H$893,MATCH(I237,Backbone!$A$2:$A$893,0))","v":8.8000000000000007},null,{"$f":"INDEX(Backbone!$I$2:$I$893,MATCH(I237,Backbone!$A$2:$A$893,0))","v":8.6999999999999993},null,{"$f":"INDEX(Backbone!$J$2:$J$893,MATCH(I237,Backbone!$A$2:$A$893,0))","v":8},null,{"$f":"INDEX(Backbone!$K$1:$K$893,MATCH(I237,Backbone!$A$1:$A$893,0))","v":8.6999999999999993},null,{"$f":"INDEX(Backbone!$L$2:$L$893,MATCH(I237,Backbone!$A$2:$A$893,0))","v":9.3000000000000007},null,{"$f":"INDEX(Backbone!$M$2:$M$893,MATCH(I237,Backbone!$A$2:$A$893,0))","v":9},null,{"$f":"INDEX(Backbone!$N$2:$N$893,MATCH(I237,Backbone!$A$2:$A$893,0))","v":10},null,{"$f":"INDEX(Backbone!$O$2:$O$893,MATCH(I237,Backbone!$A$2:$A$893,0))","v":7.8},null,{"$f":"INDEX(Backbone!$P$2:$P$893,MATCH(I237,Backbone!$A$2:$A$893,0))","v":7},null,{"$f":"INDEX(Backbone!$Q$2:$Q$893,MATCH(I237,Backbone!$A$2:$A$893,0))","v":0.85888888888888881},null,null,{"$f":"(AG237*$AG$22+AI237*$AI$22+AK237*$AK$22+AM237*$AM$22+AO237*$AO$22+AQ237*$AQ$22+AS237*$AS$22+AU237*$AU$22+AW237*$AW$22)/(SUM($AG$22:$AW$22)*10)","v":{"$error":"#DIV/0!"}},null,null,"Aller à \nBoîte à outils: ",null,{"$f":"HYPERLINK(\"#\"&ADDRESS(MATCH(I237,Toolbox!$C$1:$C$300),1,,,\"Toolbox\"),VLOOKUP(I237,Toolbox!$C$1:$C$300,1,FALSE))","v":"Logiciel d'information de santé au niveau des districts 2 (DHIS2) "}]
[]
[]
[]
[]
[]
[null,null,null,null,null,null,null,null,{"$f":"Backbone!A155","v":"Initiative de veille épidémique à sources ouvertes (EIOS)"},null,null,null,null,null,null,"L'initiative EIOS est le fruit d'une collaboration unique entre l'OMS et plusieurs parties prenantes qui regroupe des initiatives, des réseaux et des systèmes, nouveaux et existants, afin de créer une approche «Une seule santé» unifiée pour tous les dangers visant à la détection précoce, la vérification et l'évaluation des risques et des menaces pour la santé publique à partir d'informations d'exploitation libre.",null,null,null,null,null,null,null,null,{"$f":"INDEX(Backbone!$R$2:$R$893,MATCH(I243,Backbone!$A$2:$A$893,0))","v":"Matériel ou logiciel"},null,null,null,{"$f":"INDEX(Backbone!$S$2:$S$893,MATCH(I243,Backbone!$A$2:$A$893,0))","v":"«Une seule santé»; Généralisée"},null,null,null,{"$f":"INDEX(Backbone!$H$2:$H$893,MATCH(I243,Backbone!$A$2:$A$893,0))","v":8.4},null,{"$f":"INDEX(Backbone!$I$2:$I$893,MATCH(I243,Backbone!$A$2:$A$893,0))","v":9},null,{"$f":"INDEX(Backbone!$J$2:$J$893,MATCH(I243,Backbone!$A$2:$A$893,0))","v":7.4},null,{"$f":"INDEX(Backbone!$K$1:$K$893,MATCH(I243,Backbone!$A$1:$A$893,0))","v":9},null,{"$f":"INDEX(Backbone!$L$2:$L$893,MATCH(I243,Backbone!$A$2:$A$893,0))","v":8.8000000000000007},null,{"$f":"INDEX(Backbone!$M$2:$M$893,MATCH(I243,Backbone!$A$2:$A$893,0))","v":8},null,{"$f":"INDEX(Backbone!$N$2:$N$893,MATCH(I243,Backbone!$A$2:$A$893,0))","v":5.5},null,{"$f":"INDEX(Backbone!$O$2:$O$893,MATCH(I243,Backbone!$A$2:$A$893,0))","v":9.1999999999999993},null,{"$f":"INDEX(Backbone!$P$2:$P$893,MATCH(I243,Backbone!$A$2:$A$893,0))","v":6},null,{"$f":"INDEX(Backbone!$Q$2:$Q$893,MATCH(I243,Backbone!$A$2:$A$893,0))","v":0.79222222222222216},null,null,{"$f":"(AG243*$AG$22+AI243*$AI$22+AK243*$AK$22+AM243*$AM$22+AO243*$AO$22+AQ243*$AQ$22+AS243*$AS$22+AU243*$AU$22+AW243*$AW$22)/(SUM($AG$22:$AW$22)*10)","v":{"$error":"#DIV/0!"}},null,null,"Aller à \nBoîte à outils: ",null,{"$f":"HYPERLINK(\"#\"&ADDRESS(MATCH(I243,Toolbox!$C$1:$C$300),1,,,\"Toolbox\"),VLOOKUP(I243,Toolbox!$C$1:$C$300,1,FALSE))","v":"Initiative de veille épidémique à sources ouvertes (EIOS)"}]

{"sheet":"I4_tools","index":49,"n_rows":245,"n_cols":59,"rows_kept":245,"cut":false,"hidden":false,"merged":[[238,42,242,42],[238,44,242,44],[238,46,242,46],[244,50,248,51],[244,53,248,54],[244,36,248,36],[244,38,248,38],[244,40,248,40],[244,42,248,42],[244,44,248,44],[244,46,248,46],[238,50,242,51],[238,53,242,54],[238,38,242,38],[238,40,242,40],[226,50,230,51],[226,53,230,54],[232,8,236,13],[232,15,236,22],[232,24,236,26],[232,28,236,30],[232,32,236,32],[232,34,236,34],[232,36,236,36],[232,38,236,38],[226,38,230,38],[226,40,230,40],[226,42,230,42],[226,44,230,44],[226,46,230,46],[226,48,230,48],[232,53,236,54],[232,40,236,40],[232,42,236,42],[232,44,236,44],[232,46,236,46],[232,48,236,48],[232,50,236,51],[226,3,248,6],[226,8,230,13],[226,15,230,22],[226,24,230,26],[226,28,230,30],[226,32,230,32],[226,34,230,34],[226,36,230,36],[219,48,223,48],[238,48,242,48],[244,8,248,13],[244,15,248,22],[244,24,248,26],[244,28,248,30],[244,32,248,32],[244,34,248,34],[244,48,248,48],[238,8,242,13],[238,15,242,22],[238,24,242,26],[238,28,242,30],[238,32,242,32],[238,34,242,34],[238,36,242,36],[219,50,223,51],[219,53,223,54],[219,36,223,36],[219,38,223,38],[219,40,223,40],[219,42,223,42],[219,44,223,44],[219,46,223,46],[219,8,223,13],[219,15,223,22],[219,24,223,26],[219,28,223,30],[219,32,223,32],[219,34,223,34],[213,50,217,51],[213,53,217,54],[207,53,211,54],[213,8,217,13],[213,15,217,22],[213,24,217,26],[213,28,217,30],[213,32,217,32],[213,34,217,34],[213,36,217,36],[213,38,217,38],[213,40,217,40],[207,40,211,40],[207,42,211,42],[207,44,211,44],[207,46,211,46],[207,48,211,48],[207,50,211,51],[201,46,205,46],[201,48,205,48],[201,15,205,22],[201,24,205,26],[201,28,205,30],[201,32,205,32],[201,34,205,34],[201,36,205,36],[213,42,217,42],[213,44,217,44],[213,46,217,46],[213,48,217,48],[192,50,199,51],[192,53,199,54],[196,1,248,1],[196,3,199,6],[196,8,199,13],[196,15,199,22],[196,24,199,26],[196,28,199,30],[201,3,223,6],[201,8,205,13],[201,50,205,51],[201,53,205,54],[207,8,211,13],[207,15,211,22],[207,24,211,26],[207,28,211,30],[207,32,211,32],[207,34,211,34],[207,36,211,36],[207,38,211,38],[201,38,205,38],[201,40,205,40],[201,42,205,42],[201,44,205,44],[185,32,199,32],[185,34,199,34],[185,36,199,36],[185,38,199,38],[185,40,199,40],[185,42,199,42],[185,44,199,44],[185,46,199,46],[185,48,199,48],[155,50,159,51],[155,53,159,54],[161,8,165,13],[161,15,165,22],[161,24,165,26],[161,28,165,30],[161,32,165,32],[161,34,165,34],[161,36,165,36],[161,38,165,38],[155,38,159,38],[155,40,159,40],[155,42,159,42],[155,44,159,44],[155,46,159,46],[155,48,159,48],[161,53,165,54],[161,40,165,40],[161,42,165,42],[161,44,165,44],[161,46,165,46],[161,48,165,48],[161,50,165,51],[143,48,147,48],[143,50,147,51],[143,53,147,54],[149,8,153,13],[149,15,153,22],[149,24,153,26],[149,28,153,30],[149,32,153,32],[149,34,153,34],[143,34,147,34],[143,36,147,36],[143,38,147,38],[143,40,147,40],[143,42,147,42],[143,44,147,44],[149,48,153,48],[149,50,153,51],[149,53,153,54],[149,36,153,36],[149,38,153,38],[149,40,153,40],[149,42,153,42],[149,44,153,44],[149,46,153,46],[143,3,165,6],[143,8,147,13],[143,15,147,22],[143,24,147,26],[143,28,147,30],[143,32,147,32],[136,42,140,42],[136,44,140,44],[136,46,140,46],[112,3,140,6],[143,46,147,46],[155,8,159,13],[155,15,159,22],[155,24,159,26],[155,28,159,30],[155,32,159,32],[155,34,159,34],[155,36,159,36],[124,42,128,42],[124,44,128,44],[124,46,128,46],[130,32,134,32],[130,34,134,34],[130,36,134,36],[136,48,140,48],[136,50,140,51],[136,53,140,54],[130,53,134,54],[136,8,140,13],[136,15,140,22],[136,24,140,26],[136,28,140,30],[136,32,140,32],[136,34,140,34],[136,36,140,36],[136,38,140,38],[136,40,140,40],[130,40,134,40],[130,42,134,42],[130,44,134,44],[130,46,134,46],[130,48,134,48],[130,50,134,51],[130,8,134,13],[130,15,134,22],[130,24,134,26],[130,28,134,30],[130,38,134,38],[112,8,116,13],[112,15,116,22],[112,24,116,26],[112,28,116,30],[112,32,116,32],[118,48,122,48],[118,50,122,51],[112,34,116,34],[112,36,116,36],[112,38,116,38],[112,40,116,40],[112,42,116,42],[112,44,116,44],[118,53,122,54],[124,8,128,13],[124,15,128,22],[124,24,128,26],[124,28,128,30],[124,32,128,32],[124,34,128,34],[124,36,128,36],[118,36,122,36],[118,38,122,38],[118,40,122,40],[118,42,122,42],[118,44,122,44],[118,46,122,46],[124,50,128,51],[124,53,128,54],[124,40,128,40],[118,28,122,30],[118,32,122,32],[118,34,122,34],[124,38,128,38],[124,48,128,48],[96,46,110,46],[96,48,110,48],[103,50,110,51],[103,53,110,54],[107,1,165,1],[107,3,110,6],[107,8,110,13],[107,15,110,22],[107,24,110,26],[107,28,110,30],[96,32,110,32],[96,34,110,34],[96,36,110,36],[96,38,110,38],[96,40,110,40],[96,42,110,42],[96,44,110,44],[112,46,116,46],[112,48,116,48],[112,50,116,51],[112,53,116,54],[118,8,122,13],[118,15,122,22],[118,24,122,26],[71,50,75,51],[71,53,75,54],[71,38,75,38],[71,40,75,40],[71,42,75,42],[71,44,75,44],[71,46,75,46],[71,48,75,48],[65,48,69,48],[65,50,69,51],[65,53,69,54],[65,40,69,40],[65,42,69,42],[65,44,69,44],[65,46,69,46],[71,8,75,13],[71,15,75,22],[71,24,75,26],[71,28,75,30],[71,32,75,32],[71,34,75,34],[71,36,75,36],[65,36,69,36],[65,38,69,38],[65,8,69,13],[65,15,69,22],[65,24,69,26],[65,28,69,30],[65,32,69,32],[65,34,69,34],[59,48,63,48],[59,50,63,51],[59,53,63,54],[53,53,57,54],[59,8,63,13],[59,15,63,22],[59,24,63,26],[59,28,63,30],[59,32,63,32],[59,34,63,34],[59,36,63,36],[59,38,63,38],[59,40,63,40],[53,40,57,40],[53,42,57,42],[53,44,57,44],[53,46,57,46],[53,48,57,48],[53,50,57,51],[40,40,44,40],[40,42,44,42],[40,44,44,44],[40,46,44,46],[40,48,44,48],[46,53,50,54],[53,3,75,6],[53,8,57,13],[53,15,57,22],[53,24,57,26],[53,28,57,30],[53,32,57,32],[53,34,57,34],[53,36,57,36],[53,38,57,38],[46,40,50,40],[46,42,50,42],[46,44,50,44],[46,46,50,46],[46,48,50,48],[46,50,50,51],[59,42,63,42],[59,44,63,44],[59,46,63,46],[46,8,50,13],[46,15,50,22],[46,24,50,26],[46,28,50,30],[46,32,50,32],[46,34,50,34],[46,36,50,36],[46,38,50,38],[40,38,44,38],[34,48,38,48],[34,50,38,51],[34,53,38,54],[40,8,44,13],[40,15,44,22],[40,24,44,26],[40,28,44,30],[40,32,44,32],[40,34,44,34],[40,36,44,36],[34,36,38,36],[34,38,38,38],[34,40,38,40],[34,42,38,42],[34,44,38,44],[34,46,38,46],[34,8,38,13],[34,15,38,22],[34,24,38,26],[34,28,38,30],[34,32,38,32],[34,34,38,34],[40,50,44,51],[40,53,44,54],[28,42,32,42],[28,44,32,44],[28,46,32,46],[28,48,32,48],[28,50,32,51],[28,53,32,54],[28,8,32,13],[28,15,32,22],[28,24,32,26],[28,28,32,30],[28,32,32,32],[28,34,32,34],[28,36,32,36],[28,38,32,38],[28,40,32,40],[22,42,26,42],[22,44,26,44],[22,46,26,46],[22,48,26,48],[22,15,26,22],[22,24,26,26],[22,28,26,30],[22,32,26,32],[22,34,26,34],[22,36,26,36],[1,1,3,61],[6,32,20,32],[6,34,20,34],[6,36,20,36],[6,38,20,38],[6,40,20,40],[6,42,20,42],[6,44,20,44],[6,46,20,46],[6,48,20,48],[13,50,20,51],[13,53,20,54],[17,1,75,1],[17,3,20,6],[17,8,20,13],[17,15,20,22],[17,24,20,26],[17,28,20,30],[22,3,50,6],[22,8,26,13],[22,50,26,51],[22,53,26,54],[22,38,26,38],[22,40,26,40],[22,56,26,57],[22,58,26,62],[28,56,32,57],[28,58,32,62],[34,56,38,57],[34,58,38,62],[40,56,44,57],[40,58,44,62],[46,56,50,57],[46,58,50,62],[53,56,57,57],[53,58,57,62],[59,56,63,57],[59,58,63,62],[65,56,69,57],[65,58,69,62],[71,56,75,57],[71,58,75,62],[112,56,116,57],[112,58,116,62],[118,56,122,57],[118,58,122,62],[124,56,128,57],[124,58,128,62],[130,56,134,57],[130,58,134,62],[136,56,140,57],[136,58,140,62],[143,56,147,57],[143,58,147,62],[149,56,153,57],[149,58,153,62],[155,56,159,57],[155,58,159,62],[161,56,165,57],[161,58,165,62],[201,56,205,57],[201,58,205,62],[207,56,211,57],[207,58,211,62],[244,56,248,57],[244,58,248,62],[213,56,217,57],[213,58,217,62],[219,56,223,57],[219,58,223,62],[226,56,230,57],[226,58,230,62],[232,56,236,57],[232,58,236,62],[238,56,242,57],[238,58,242,62]]}
[]
[null,"Ressources pour le stockage des données"]
[]
[]
[]
[]
[null,null,null,null,null,null,null,null,null,null,null,null,null,null,null,null,null,null,null,null,null,null,null,null,null,null,null,null,null,null,null,null,"Accessibilité",null,"Langue",null,"Facilité d'utilisation",null,"Flexibilité",null,"Besoins de données",null,"Analyse des données",null,"Acceptabilité",null,"«Une seule santé»",null,"Impact"]
[]
[]
[]
[]
[]
[]
[null,null,null,null,null,null,null,null,null,null,null,null,null,null,null,null,null,null,null,null,null,null,null,null,null,null,null,null,null,null,null,null,null,null,null,null,null,null,null,null,null,null,null,null,null,null,null,null,null,null,"SCORE BRUT",null,null,"SCORE AJUSTÉ \n(Selon les préférences de l'utilisateur)"]
[]
[]
[]
[null,"RESSOURCES DE NIVEAU 1",null,"DÉSIGNATION",null,null,null,null,"NOM DE LA RESSOURCE",null,null,null,null,null,null,"BRÈVE DESCRIPTION",null,null,null,null,null,null,null,null,"TYPE DE RESSOURCE",null,null,null,"CARACTÈRE GÉNÉRAL DE LA RESSOURCE"]
[]
[]
[]
[null,null,null,null,null,null,null,null,null,null,null,null,null,null,null,null,null,null,null,null,null,null,null,null,null,null,null,null,null,null,null,null,{"$f":"'Attribute Survey'!S22","v":0},null,{"$f":"'Attribute Survey'!S26","v":0},null,{"$f":"'Attribute Survey'!S30","v":0},null,{"$f":"'Attribute Survey'!S34","v":0},null,{"$f":"'Attribute Survey'!S38","v":0},null,{"$f":"'Attribute Survey'!S42","v":0},null,{"$f":"'Attribute Survey'!S46","v":0},null,{"$f":"'Attribute Survey'!S50","v":0},null,{"$f":"'Attribute Survey'!S54","v":0}]
[null,null,null,"Ressources les mieux adaptées",null,null,null,null,{"$f":"Backbone!A21","v":"AfyaData"},null,null,null,null,null,null,"Un outil de surveillance des maladies «Une seule santé» conçu pour répondre aux besoins de surveillance humaine, animale et environnementale, comprenant une application mobile et une application web.",null,null,null,null,null,null,null,null,{"$f":"INDEX(Backbone!$R$2:$R$893,MATCH(I23,Backbone!$A$2:$A$893,0))","v":"Matériel ou logiciel"},null,null,null,{"$f":"INDEX(Backbone!$S$2:$S$893,MATCH(I23,Backbone!$A$2:$A$893,0))","v":"«Une seule santé»; Généralisée "},null,null,null,{"$f":"INDEX(Backbone!$H$2:$H$893,MATCH(I23,Backbone!$A$2:$A$893,0))","v":7.3},null,{"$f":"INDEX(Backbone!$I$2:$I$893,MATCH(I23,Backbone!$A$2:$A$893,0))","v":10},null,{"$f":"INDEX(Backbone!$J$2:$J$893,MATCH(I23,Backbone!$A$2:$A$893,0))","v":8.1999999999999993},null,{"$f":"INDEX(Backbone!$K$2:$K$893,MATCH(I23,Backbone!$A$2:$A$893,0))","v":7.3},null,{"$f":"INDEX(Backbone!$L$2:$L$893,MATCH(I23,Backbone!$A$2:$A$893,0))","v":7.6},null,{"$f":"INDEX(Backbone!$M$2:$M$893,MATCH(I23,Backbone!$A$2:$A$893,0))","v":8.8000000000000007},null,{"$f":"INDEX(Backbone!$N$2:$N$893,MATCH(I23,Backbone!$A$2:$A$893,0))","v":5.5},null,{"$f":"INDEX(Backbone!$O$2:$O$893,MATCH(I23,Backbone!$A$2:$A$893,0))","v":7.6},null,{"$f":"INDEX(Backbone!$P$2:$P$893,MATCH(I23,Backbone!$A$2:$A$893,0))","v":7},null,{"$f":"INDEX(Backbone!$Q$2:$Q$893,MATCH(I23,Backbone!$A$2:$A$893,0))","v":0.77000000000000013},null,null,{"$f":"(AG23*$AG$22+AI23*$AI$22+AK23*$AK$22+AM23*$AM$22+AO23*$AO$22+AQ23*$AQ$22+AS23*$AS$22+AU23*$AU$22+AW23*$AW$22)/(SUM($AG$22:$AW$22)*10)","v":{"$error":"#DIV/0!"}},null,null,"Aller à \nBoîte à outils: ",null,{"$f":"HYPERLINK(\"#\"&ADDRESS(MATCH(I23,Toolbox!$C$1:$C$300),1,,,\"Toolbox\"),VLOOKUP(I23,Toolbox!$C$1:$C$300,1,FALSE))","v":"AfyaData"}]
[]
[]
[]
[]
[]
[null,null,null,null,null,null,null,null,{"$f":"Backbone!A138","v":"Système électronique intégré de surveillance des maladies (EIDSS)"},null,null,null,null,null,null,"Un système électronique en ligne et personnalisable d'établissement de rapports sur les maladies qui peut aider à la surveillance passive et active de la santé humaine et vétérinaire, aux diagnostics de laboratoire, à la surveillance des vecteurs et à la gestion des foyers épidémiques. ",null,null,null,null,null,null,null,null,{"$f":"INDEX(Backbone!$R$2:$R$893,MATCH(I29,Backbone!$A$2:$A$893,0))","v":"Matériel ou logiciel"},null,null,null,{"$f":"INDEX(Backbone!$S$2:$S$893,MATCH(I29,Backbone!$A$2:$A$893,0))","v":"«Une seule santé»; Généralisée"},null,null,null,{"$f":"INDEX(Backbone!$H$2:$H$893,MATCH(I29,Backbone!$A$2:$A$893,0))","v":6.8},null,{"$f":"INDEX(Backbone!$I$2:$I$893,MATCH(I29,Backbone!$A$2:$A$893,0))","v":10},null,{"$f":"INDEX(Backbone!$J$2:$J$893,MATCH(I29,Backbone!$A$2:$A$893,0))","v":8.4},null,{"$f":"INDEX(Backbone!$K$1:$K$893,MATCH(I29,Backbone!$A$1:$A$893,0))","v":8.6999999999999993},null,{"$f":"INDEX(Backbone!$L$2:$L$893,MATCH(I29,Backbone!$A$2:$A$893,0))","v":9.1},null,{"$f":"INDEX(Backbone!$M$2:$M$893,MATCH(I29,Backbone!$A$2:$A$893,0))","v":8},null,{"$f":"INDEX(Backbone!$N$2:$N$893,MATCH(I29,Backbone!$A$2:$A$893,0))","v":7},null,{"$f":"INDEX(Backbone!$O$2:$O$893,MATCH(I29,Backbone!$A$2:$A$893,0))","v":7.2},null,{"$f":"INDEX(Backbone!$P$2:$P$893,MATCH(I29,Backbone!$A$2:$A$893,0))","v":10},null,{"$f":"INDEX(Backbone!$Q$2:$Q$893,MATCH(I29,Backbone!$A$2:$A$893,0))","v":0.83555555555555561},null,null,{"$f":"(AG29*$AG$22+AI29*$AI$22+AK29*$AK$22+AM29*$AM$22+AO29*$AO$22+AQ29*$AQ$22+AS29*$AS$22+AU29*$AU$22+AW29*$AW$22)/(SUM($AG$22:$AW$22)*10)","v":{"$error":"#DIV/0!"}},null,null,"Aller à \nBoîte à outils: ",null,{"$f":"HYPERLINK(\"#\"&ADDRESS(MATCH(I29,Toolbox!$C$1:$C$300),1,,,\"Toolbox\"),VLOOKUP(I29,Toolbox!$C$1:$C$300,1,FALSE))","v":"Système électronique intégré de surveillance des maladies (EIDSS)"}]
[]
[]
[]
[]
[]
[null,null,null,null,null,null,null,null,{"$f":"Backbone!A604","v":"Application de suivi des expositions et des cas de rage (REACT)"},null,null,null,null,null,null,"Un outil visant à soutenir la mise en œuvre de programmes de gestion intégrée des cas de morsures.",null,null,null,null,null,null,null,null,{"$f":"INDEX(Backbone!$R$2:$R$893,MATCH(I35,Backbone!$A$2:$A$893,0))","v":"Matériel ou logiciel"},null,null,null,{"$f":"INDEX(Backbone!$S$2:$S$893,MATCH(I35,Backbone!$A$2:$A$893,0))","v":"«Une seule santé»; spécifique d'une maladie/menace "},null,null,null,{"$f":"INDEX(Backbone!$H$2:$H$893,MATCH(I35,Backbone!$A$2:$A$893,0))","v":8.6},null,{"$f":"INDEX(Backbone!$I$2:$I$893,MATCH(I35,Backbone!$A$2:$A$893,0))","v":8.6},null,{"$f":"INDEX(Backbone!$J$2:$J$893,MATCH(I35,Backbone!$A$2:$A$893,0))","v":8},null,{"$f":"INDEX(Backbone!$K$1:$K$893,MATCH(I35,Backbone!$A$1:$A$893,0))","v":8.6},null,{"$f":"INDEX(Backbone!$L$2:$L$893,MATCH(I35,Backbone!$A$2:$A$893,0))","v":9.4},null,{"$f":"INDEX(Backbone!$M$2:$M$893,MATCH(I35,Backbone!$A$2:$A$893,0))","v":9.5},null,{"$f":"INDEX(Backbone!$N$2:$N$893,MATCH(I35,Backbone!$A$2:$A$893,0))","v":9},null,{"$f":"INDEX(Backbone!$O$2:$O$893,MATCH(I35,Backbone!$A$2:$A$893,0))","v":9.1999999999999993},null,{"$f":"INDEX(Backbone!$P$2:$P$893,MATCH(I35,Backbone!$A$2:$A$893,0))","v":9},null,{"$f":"INDEX(Backbone!$Q$2:$Q$893,MATCH(I35,Backbone!$A$2:$A$893,0))","v":0.88777777777777767},null,null,{"$f":"(AG35*$AG$22+AI35*$AI$22+AK35*$AK$22+AM35*$AM$22+AO35*$AO$22+AQ35*$AQ$22+AS35*$AS$22+AU35*$AU$22+AW35*$AW$22)/(SUM($AG$22:$AW$22)*10)","v":{"$error":"#DIV/0!"}},null,null,"Aller à \nBoîte à outils: ",null,{"$f":"HYPERLINK(\"#\"&ADDRESS(MATCH(I35,Toolbox!$C$1:$C$300),1,,,\"Toolbox\"),VLOOKUP(I35,Toolbox!$C$1:$C$300,1,FALSE))","v":"Application de suivi des expositions et des cas de rage (REACT)"}]
[]
[]
[]
[]
[]
[null,null,null,null,null,null,null,null,{"$f":"Backbone!A489","v":"Suite pour une biosurveillance électronique automatisée mondiale (SAGES)"},null,null,null,null,null,null,"Une suite d'outils logiciels d'exploitation libre conçus pour améliorer la surveillance électronique des maladies dans des situations où les ressources sont limitées.",null,null,null,null,null,null,null,null,{"$f":"INDEX(Backbone!$R$2:$R$893,MATCH(I41,Backbone!$A$2:$A$893,0))","v":"Matériel ou logiciel"},null,null,null,{"$f":"INDEX(Backbone!$S$2:$S$893,MATCH(I41,Backbone!$A$2:$A$893,0))","v":"«Une seule santé»; Généralisée"},null,null,null,{"$f":"INDEX(Backbone!$H$2:$H$893,MATCH(I41,Backbone!$A$2:$A$893,0))","v":9.8000000000000007},null,{"$f":"INDEX(Backbone!$I$2:$I$893,MATCH(I41,Backbone!$A$2:$A$893,0))","v":10},null,{"$f":"INDEX(Backbone!$J$2:$J$893,MATCH(I41,Backbone!$A$2:$A$893,0))","v":10},null,{"$f":"INDEX(Backbone!$K$1:$K$893,MATCH(I41,Backbone!$A$1:$A$893,0))","v":9.3000000000000007},null,{"$f":"INDEX(Backbone!$L$2:$L$893,MATCH(I41,Backbone!$A$2:$A$893,0))","v":8.5},null,{"$f":"INDEX(Backbone!$M$2:$M$893,MATCH(I41,Backbone!$A$2:$A$893,0))","v":9},null,{"$f":"INDEX(Backbone!$N$2:$N$893,MATCH(I41,Backbone!$A$2:$A$893,0))","v":5.5},null,{"$f":"INDEX(Backbone!$O$2:$O$893,MATCH(I41,Backbone!$A$2:$A$893,0))","v":9.5},null,{"$f":"INDEX(Backbone!$P$2:$P$893,MATCH(I41,Backbone!$A$2:$A$893,0))","v":7},null,{"$f":"INDEX(Backbone!$Q$2:$Q$893,MATCH(I41,Backbone!$A$2:$A$893,0))","v":0.87333333333333329},null,null,{"$f":"(AG41*$AG$22+AI41*$AI$22+AK41*$AK$22+AM41*$AM$22+AO41*$AO$22+AQ41*$AQ$22+AS41*$AS$22+AU41*$AU$22+AW41*$AW$22)/(SUM($AG$22:$AW$22)*10)","v":{"$error":"#DIV/0!"}},null,null,"Aller à \nBoîte à outils: ",null,{"$f":"HYPERLINK(\"#\"&ADDRESS(MATCH(I41,Toolbox!$C$1:$C$300),1,,,\"Toolbox\"),VLOOKUP(I41,Toolbox!$C$1:$C$300,1,FALSE))","v":"Suite pour une biosurveillance électronique automatisée mondiale (SAGES)"}]
[]
[]
[]
[]
[]
[null,null,null,null,null,null,null,null,{"$f":"Backbone!A540","v":"Système de gestion et d'analyse de la surveillance et la réponse aux foyers épidémiques (SORMAS)"},null,null,null,null,null,null,"Un système de santé en ligne mobile et d'exploitation libre qui met en œuvre des procédures de contrôle de maladies et de gestion de flambées épidémiques, et assure la surveillance et la détection précoce des foyers épidémiques grâce à une surveillance numérique en temps réel.",null,null,null,null,null,null,null,null,{"$f":"INDEX(Backbone!$R$2:$R$893,MATCH(I47,Backbone!$A$2:$A$893,0))","v":"Matériel ou logiciel"},null,null,null,{"$f":"INDEX(Backbone!$S$2:$S$893,MATCH(I47,Backbone!$A$2:$A$893,0))","v":"Spécifique du secteur; Généralisée"},null,null,null,{"$f":"INDEX(Backbone!$H$2:$H$893,MATCH(I47,Backbone!$A$2:$A$893,0))","v":9.1999999999999993},null,{"$f":"INDEX(Backbone!$I$2:$I$893,MATCH(I47,Backbone!$A$2:$A$893,0))","v":8},null,{"$f":"INDEX(Backbone!$J$2:$J$893,MATCH(I47,Backbone!$A$2:$A$893,0))","v":9.3000000000000007},null,{"$f":"INDEX(Backbone!$K$1:$K$893,MATCH(I47,Backbone!$A$1:$A$893,0))","v":9.1},null,{"$f":"INDEX(Backbone!$L$2:$L$893,MATCH(I47,Backbone!$A$2:$A$893,0))","v":9.3000000000000007},null,{"$f":"INDEX(Backbone!$M$2:$M$893,MATCH(I47,Backbone!$A$2:$A$893,0))","v":9.3000000000000007},null,{"$f":"INDEX(Backbone!$N$2:$N$893,MATCH(I47,Backbone!$A$2:$A$893,0))","v":6.8},null,{"$f":"INDEX(Backbone!$O$2:$O$893,MATCH(I47,Backbone!$A$2:$A$893,0))","v":3.9},null,{"$f":"INDEX(Backbone!$P$2:$P$893,MATCH(I47,Backbone!$A$2:$A$893,0))","v":5.3},null,{"$f":"INDEX(Backbone!$Q$2:$Q$893,MATCH(I47,Backbone!$A$2:$A$893,0))","v":0.78},null,null,{"$f":"(AG47*$AG$22+AI47*$AI$22+AK47*$AK$22+AM47*$AM$22+AO47*$AO$22+AQ47*$AQ$22+AS47*$AS$22+AU47*$AU$22+AW47*$AW$22)/(SUM($AG$22:$AW$22)*10)","v":{"$error":"#DIV/0!"}},null,null,"Aller à \nBoîte à outils: ",null,{"$f":"HYPERLINK(\"#\"&ADDRESS(MATCH(I47,Toolbox!$C$1:$C$300),1,,,\"Toolbox\"),VLOOKUP(I47,Toolbox!$C$1:$C$300,1,FALSE))","v":"Système de gestion et d'analyse de la surveillance et la réponse aux foyers épidémiques (SORMAS)"}]
[]
[]
[]
[]
[]
[]
[null,null,null,"Autres ressources intéressantes",null,null,null,null,{"$f":"Backbone!A65","v":"Logiciel d'information de santé au niveau des districts 2 (DHIS2) "},null,null,null,null,null,null,"Une plateforme d'exploitation libre en ligne pour les systèmes d'information sanitaire.",null,null,null,null,null,null,null,null,{"$f":"INDEX(Backbone!$R$2:$R$893,MATCH(I54,Backbone!$A$2:$A$893,0))","v":"Matériel ou logiciel"},null,null,null,{"$f":"INDEX(Backbone!$S$2:$S$893,MATCH(I54,Backbone!$A$2:$A$893,0))","v":"Spécifique du secteur; Généralisée"},null,null,null,{"$f":"INDEX(Backbone!$H$2:$H$893,MATCH(I54,Backbone!$A$2:$A$893,0))","v":8.8000000000000007},null,{"$f":"INDEX(Backbone!$I$2:$I$893,MATCH(I54,Backbone!$A$2:$A$893,0))","v":8.6999999999999993},null,{"$f":"INDEX(Backbone!$J$2:$J$893,MATCH(I54,Backbone!$A$2:$A$893,0))","v":8},null,{"$f":"INDEX(Backbone!$K$1:$K$893,MATCH(I54,Backbone!$A$1:$A$893,0))","v":8.6999999999999993},null,{"$f":"INDEX(Backbone!$L$2:$L$893,MATCH(I54,Backbone!$A$2:$A$893,0))","v":9.3000000000000007},null,{"$f":"INDEX(Backbone!$M$2:$M$893,MATCH(I54,Backbone!$A$2:$A$893,0))","v":9},null,{"$f":"INDEX(Backbone!$N$2:$N$893,MATCH(I54,Backbone!$A$2:$A$893,0))","v":10},null,{"$f":"INDEX(Backbone!$O$2:$O$893,MATCH(I54,Backbone!$A$2:$A$893,0))","v":7.8},null,{"$f":"INDEX(Backbone!$P$2:$P$893,MATCH(I54,Backbone!$A$2:$A$893,0))","v":7},null,{"$f":"INDEX(Backbone!$Q$2:$Q$893,MATCH(I54,Backbone!$A$2:$A$893,0))","v":0.85888888888888881},null,null,{"$f":"(AG54*$AG$22+AI54*$AI$22+AK54*$AK$22+AM54*$AM$22+AO54*$AO$22+AQ54*$AQ$22+AS54*$AS$22+AU54*$AU$22+AW54*$AW$22)/(SUM($AG$22:$AW$22)*10)","v":{"$error":"#DIV/0!"}},null,null,"Aller à \nBoîte à outils: ",null,{"$f":"HYPERLINK(\"#\"&ADDRESS(MATCH(I54,Toolbox!$C$1:$C$300),1,,,\"Toolbox\"),VLOOKUP(I54,Toolbox!$C$1:$C$300,1,FALSE))","v":"Logiciel d'information de santé au niveau des districts 2 (DHIS2) "}]
[]
[]
[]
[]
[]
[null,null,null,null,null,null,null,null,{"$f":"Backbone!A166","v":"EMPRES Système mondial d'information sur les maladies animales (EMPRES-i)"},null,null,null,null,null,null,"Un système d'information sécurisé en ligne pour aider les services vétérinaires au niveau des pays en leur fournissant une base de données de référence sur les maladies animales, y compris les zoonoses, à l'échelon régional et mondial.",null,null,null,null,null,null,null,null,{"$f":"INDEX(Backbone!$R$2:$R$893,MATCH(I60,Backbone!$A$2:$A$893,0))","v":"Matériel ou logiciel"},null,null,null,{"$f":"INDEX(Backbone!$S$2:$S$893,MATCH(I60,Backbone!$A$2:$A$893,0))","v":"Spécifique du secteur; Généralisée"},null,null,null,{"$f":"INDEX(Backbone!$H$2:$H$893,MATCH(I60,Backbone!$A$2:$A$893,0))","v":9},null,{"$f":"INDEX(Backbone!$I$2:$I$893,MATCH(I60,Backbone!$A$2:$A$893,0))","v":8.3000000000000007},null,{"$f":"INDEX(Backbone!$J$2:$J$893,MATCH(I60,Backbone!$A$2:$A$893,0))","v":8.9},null,{"$f":"INDEX(Backbone!$K$1:$K$893,MATCH(I60,Backbone!$A$1:$A$893,0))","v":8.6999999999999993},null,{"$f":"INDEX(Backbone!$L$2:$L$893,MATCH(I60,Backbone!$A$2:$A$893,0))","v":8},null,{"$f":"INDEX(Backbone!$M$2:$M$893,MATCH(I60,Backbone!$A$2:$A$893,0))","v":7.8},null,{"$f":"INDEX(Backbone!$N$2:$N$893,MATCH(I60,Backbone!$A$2:$A$893,0))","v":7.4},null,{"$f":"INDEX(Backbone!$O$2:$O$893,MATCH(I60,Backbone!$A$2:$A$893,0))","v":4.8},null,{"$f":"INDEX(Backbone!$P$2:$P$893,MATCH(I60,Backbone!$A$2:$A$893,0))","v":4.7},null,{"$f":"INDEX(Backbone!$Q$2:$Q$893,MATCH(I60,Backbone!$A$2:$A$893,0))","v":0.75111111111111106},null,null,{"$f":"(AG60*$AG$22+AI60*$AI$22+AK60*$AK$22+AM60*$AM$22+AO60*$AO$22+AQ60*$AQ$22+AS60*$AS$22+AU60*$AU$22+AW60*$AW$22)/(SUM($AG$22:$AW$22)*10)","v":{"$error":"#DIV/0!"}},null,null,"Aller à \nBoîte à outils: ",null,{"$f":"HYPERLINK(\"#\"&ADDRESS(MATCH(I60,Toolbox!$C$1:$C$300),1,,,\"Toolbox\"),VLOOKUP(I60,Toolbox!$C$1:$C$300,1,FALSE))","v":"EMPRES Système mondial d'information sur les maladies animales (EMPRES-i)"}]
[]
[]
[]
[]
[]
[null,null,null,null,null,null,null,null,{"$f":"Backbone!A531","v":"Système de gestion des données de laboratoire Mini (MiniLIMS)"},null,null,null,null,null,null,"Un système d'information conçu pour la gestion des données d'un laboratoire d'analyse à l'organisation simple.",null,null,null,null,null,null,null,null,{"$f":"INDEX(Backbone!$R$2:$R$893,MATCH(I66,Backbone!$A$2:$A$893,0))","v":"Matériel ou logiciel"},null,null,null,{"$f":"INDEX(Backbone!$S$2:$S$893,MATCH(I66,Backbone!$A$2:$A$893,0))","v":"Spécifique du secteur; Généralisée"},null,null,null,{"$f":"INDEX(Backbone!$H$2:$H$893,MATCH(I66,Backbone!$A$2:$A$893,0))","v":9},null,{"$f":"INDEX(Backbone!$I$2:$I$893,MATCH(I66,Backbone!$A$2:$A$893,0))","v":7.3},null,{"$f":"INDEX(Backbone!$J$2:$J$893,MATCH(I66,Backbone!$A$2:$A$893,0))","v":8.4},null,{"$f":"INDEX(Backbone!$K$1:$K$893,MATCH(I66,Backbone!$A$1:$A$893,0))","v":9.3000000000000007},null,{"$f":"INDEX(Backbone!$L$2:$L$893,MATCH(I66,Backbone!$A$2:$A$893,0))","v":7.2},null,{"$f":"INDEX(Backbone!$M$2:$M$893,MATCH(I66,Backbone!$A$2:$A$893,0))","v":6.5},null,{"$f":"INDEX(Backbone!$N$2:$N$893,MATCH(I66,Backbone!$A$2:$A$893,0))","v":2},null,{"$f":"INDEX(Backbone!$O$2:$O$893,MATCH(I66,Backbone!$A$2:$A$893,0))","v":4.4000000000000004},null,{"$f":"INDEX(Backbone!$P$2:$P$893,MATCH(I66,Backbone!$A$2:$A$893,0))","v":4},null,{"$f":"INDEX(Backbone!$Q$2:$Q$893,MATCH(I66,Backbone!$A$2:$A$893,0))","v":0.64555555555555555},null,null,{"$f":"(AG66*$AG$22+AI66*$AI$22+AK66*$AK$22+AM66*$AM$22+AO66*$AO$22+AQ66*$AQ$22+AS66*$AS$22+AU66*$AU$22+AW66*$AW$22)/(SUM($AG$22:$AW$22)*10)","v":{"$error":"#DIV/0!"}},null,null,"Aller à \nBoîte à outils: ",null,{"$f":"HYPERLINK(\"#\"&ADDRESS(MATCH(I66,Toolbox!$C$1:$C$300),1,,,\"Toolbox\"),VLOOKUP(I66,Toolbox!$C$1:$C$300,1,FALSE))","v":"Système de gestion des données de laboratoire Mini (MiniLIMS)"}]
[]
[]
[]
[]
[]
[null,null,null,null,null,null,null,null,{"$f":"Backbone!A522","v":"Système de gestion des données de laboratoire «SILAB for Africa» (SILABFA)"},null,null,null,null,null,null,"Un Système de gestion des données de laboratoire (LIMS) capable de retracer toutes les étapes du diagnostic, depuis la réception des échantillons jusqu'aux rapports finaux.",null,null,null,null,null,null,null,null,{"$f":"INDEX(Backbone!$R$2:$R$893,MATCH(I72,Backbone!$A$2:$A$893,0))","v":"Matériel ou logiciel"},null,null,null,{"$f":"INDEX(Backbone!$S$2:$S$893,MATCH(I72,Backbone!$A$2:$A$893,0))","v":"Spécifique du secteur; Généralisée"},null,null,null,{"$f":"INDEX(Backbone!$H$2:$H$893,MATCH(I72,Backbone!$A$2:$A$893,0))","v":9.3000000000000007},null,{"$f":"INDEX(Backbone!$I$2:$I$893,MATCH(I72,Backbone!$A$2:$A$893,0))","v":10},null,{"$f":"INDEX(Backbone!$J$2:$J$893,MATCH(I72,Backbone!$A$2:$A$893,0))","v":6.8},null,{"$f":"INDEX(Backbone!$K$1:$K$893,MATCH(I72,Backbone!$A$1:$A$893,0))","v":9.3000000000000007},null,{"$f":"INDEX(Backbone!$L$2:$L$893,MATCH(I72,Backbone!$A$2:$A$893,0))","v":8},null,{"$f":"INDEX(Backbone!$M$2:$M$893,MATCH(I72,Backbone!$A$2:$A$893,0))","v":6.5},null,{"$f":"INDEX(Backbone!$N$2:$N$893,MATCH(I72,Backbone!$A$2:$A$893,0))","v":8},null,{"$f":"INDEX(Backbone!$O$2:$O$893,MATCH(I72,Backbone!$A$2:$A$893,0))","v":7.2},null,{"$f":"INDEX(Backbone!$P$2:$P$893,MATCH(I72,Backbone!$A$2:$A$893,0))","v":8},null,{"$f":"INDEX(Backbone!$Q$2:$Q$893,MATCH(I72,Backbone!$A$2:$A$893,0))","v":0.81222222222222229},null,null,{"$f":"(AG72*$AG$22+AI72*$AI$22+AK72*$AK$22+AM72*$AM$22+AO72*$AO$22+AQ72*$AQ$22+AS72*$AS$22+AU72*$AU$22+AW72*$AW$22)/(SUM($AG$22:$AW$22)*10)","v":{"$error":"#DIV/0!"}},null,null,"Aller à \nBoîte à outils: ",null,{"$f":"HYPERLINK(\"#\"&ADDRESS(MATCH(I72,Toolbox!$C$1:$C$300),1,,,\"Toolbox\"),VLOOKUP(I72,Toolbox!$C$1:$C$300,1,FALSE))","v":"Système de gestion des données de laboratoire «SILAB for Africa» (SILABFA)"}]
[]
[]
[]
[]
[]
[]
[]
[]
[]
[]
[]
[]
[]
[]
[]
[]
[]
[]
[]
[]
[]
[]
[]
[]
[null,null,null,null,null,null,null,null,null,null,null,null,null,null,null,null,null,null,null,null,null,null,null,null,null,null,null,null,null,null,null,null,"Accessibilité",null,"Langue",null,"Facilité d'utilisation",null,"Flexibilité",null,"Besoins de données",null,"Analyse des données",null,"Acceptabilité",null,"«Une seule santé»",null,"Impact"]
[]
[]
[]
[]
[]
[]
[null,null,null,null,null,null,null,null,null,null,null,null,null,null,null,null,null,null,null,null,null,null,null,null,null,null,null,null,null,null,null,null,null,null,null,null,null,null,null,null,null,null,null,null,null,null,null,null,null,null,"SCORE BRUT",null,null,"SCORE AJUSTÉ \n(Selon les préférences de l'utilisateur)"]
[]
[]
[]
[null,"RESSOURCES DE NIVEAU 2",null,"DÉSIGNATION",null,null,null,null,"NOM DE LA RESSOURCE",null,null,null,null,null,null,"BRÈVE DESCRIPTION",null,null,null,null,null,null,null,null,"TYPE DE RESSOURCE",null,null,null,"CARACTÈRE GÉNÉRAL DE LA RESSOURCE"]
[]
[]
[]
[null,null,null,null,null,null,null,null,null,null,null,null,null,null,null,null,null,null,null,null,null,null,null,null,null,null,null,null,null,null,null,null,{"$f":"'Attribute Survey'!S112","v":0},null,{"$f":"'Attribute Survey'!S116","v":0},null,{"$f":"'Attribute Survey'!S120","v":0},null,{"$f":"'Attribute Survey'!S124","v":0},null,{"$f":"'Attribute Survey'!S128","v":0},null,{"$f":"'Attribute Survey'!S132","v":0},null,{"$f":"'Attribute Survey'!S136","v":0},null,{"$f":"'Attribute Survey'!S140","v":0},null,{"$f":"'Attribute Survey'!S144","v":0}]
[null,null,null,"Ressources les mieux adaptées",null,null,null,null,{"$f":"Backbone!A21","v":"AfyaData"},null,null,null,null,null,null,"Un outil de surveillance des maladies «Une seule santé» conçu pour répondre aux besoins de surveillance humaine, animale et environnementale, comprenant une application mobile et une application web.",null,null,null,null,null,null,null,null,{"$f":"INDEX(Backbone!$R$2:$R$893,MATCH(I113,Backbone!$A$2:$A$893,0))","v":"Matériel ou logiciel"},null,null,null,{"$f":"INDEX(Backbone!$S$2:$S$893,MATCH(I113,Backbone!$A$2:$A$893,0))","v":"«Une seule santé»; Généralisée "},null,null,null,{"$f":"INDEX(Backbone!$H$2:$H$893,MATCH(I113,Backbone!$A$2:$A$893,0))","v":7.3},null,{"$f":"INDEX(Backbone!$I$2:$I$893,MATCH(I113,Backbone!$A$2:$A$893,0))","v":10},null,{"$f":"INDEX(Backbone!$J$2:$J$893,MATCH(I113,Backbone!$A$2:$A$893,0))","v":8.1999999999999993},null,{"$f":"INDEX(Backbone!$K$2:$K$893,MATCH(I113,Backbone!$A$2:$A$893,0))","v":7.3},null,{"$f":"INDEX(Backbone!$L$2:$L$893,MATCH(I113,Backbone!$A$2:$A$893,0))","v":7.6},null,{"$f":"INDEX(Backbone!$M$2:$M$893,MATCH(I113,Backbone!$A$2:$A$893,0))","v":8.8000000000000007},null,{"$f":"INDEX(Backbone!$N$2:$N$893,MATCH(I113,Backbone!$A$2:$A$893,0))","v":5.5},null,{"$f":"INDEX(Backbone!$O$2:$O$893,MATCH(I113,Backbone!$A$2:$A$893,0))","v":7.6},null,{"$f":"INDEX(Backbone!$P$2:$P$893,MATCH(I113,Backbone!$A$2:$A$893,0))","v":7},null,{"$f":"INDEX(Backbone!$Q$2:$Q$893,MATCH(I113,Backbone!$A$2:$A$893,0))","v":0.77000000000000013},null,null,{"$f":"(AG113*$AG$22+AI113*$AI$22+AK113*$AK$22+AM113*$AM$22+AO113*$AO$22+AQ113*$AQ$22+AS113*$AS$22+AU113*$AU$22+AW113*$AW$22)/(SUM($AG$22:$AW$22)*10)","v":{"$error":"#DIV/0!"}},null,null,"Aller à \nBoîte à outils: ",null,{"$f":"HYPERLINK(\"#\"&ADDRESS(MATCH(I113,Toolbox!$C$1:$C$300),1,,,\"Toolbox\"),VLOOKUP(I113,Toolbox!$C$1:$C$300,1,FALSE))","v":"AfyaData"}]
[]
[]
[]
[]
[]
[null,null,null,null,null,null,null,null,{"$f":"Backbone!A138","v":"Système électronique intégré de surveillance des maladies (EIDSS)"},null,null,null,null,null,null,"Un système électronique en ligne et personnalisable d'établissement de rapports sur les maladies qui peut aider à la surveillance passive et active de la santé humaine et vétérinaire, aux diagnostics de laboratoire, à la surveillance des vecteurs et à la gestion des foyers épidémiques. ",null,null,null,null,null,null,null,null,{"$f":"INDEX(Backbone!$R$2:$R$893,MATCH(I119,Backbone!$A$2:$A$893,0))","v":"Matériel ou logiciel"},null,null,null,{"$f":"INDEX(Backbone!$S$2:$S$893,MATCH(I119,Backbone!$A$2:$A$893,0))","v":"«Une seule santé»; Généralisée"},null,null,null,{"$f":"INDEX(Backbone!$H$2:$H$893,MATCH(I119,Backbone!$A$2:$A$893,0))","v":6.8},null,{"$f":"INDEX(Backbone!$I$2:$I$893,MATCH(I119,Backbone!$A$2:$A$893,0))","v":10},null,{"$f":"INDEX(Backbone!$J$2:$J$893,MATCH(I119,Backbone!$A$2:$A$893,0))","v":8.4},null,{"$f":"INDEX(Backbone!$K$1:$K$893,MATCH(I119,Backbone!$A$1:$A$893,0))","v":8.6999999999999993},null,{"$f":"INDEX(Backbone!$L$2:$L$893,MATCH(I119,Backbone!$A$2:$A$893,0))","v":9.1},null,{"$f":"INDEX(Backbone!$M$2:$M$893,MATCH(I119,Backbone!$A$2:$A$893,0))","v":8},null,{"$f":"INDEX(Backbone!$N$2:$N$893,MATCH(I119,Backbone!$A$2:$A$893,0))","v":7},null,{"$f":"INDEX(Backbone!$O$2:$O$893,MATCH(I119,Backbone!$A$2:$A$893,0))","v":7.2},null,{"$f":"INDEX(Backbone!$P$2:$P$893,MATCH(I119,Backbone!$A$2:$A$893,0))","v":10},null,{"$f":"INDEX(Backbone!$Q$2:$Q$893,MATCH(I119,Backbone!$A$2:$A$893,0))","v":0.83555555555555561},null,null,{"$f":"(AG119*$AG$22+AI119*$AI$22+AK119*$AK$22+AM119*$AM$22+AO119*$AO$22+AQ119*$AQ$22+AS119*$AS$22+AU119*$AU$22+AW119*$AW$22)/(SUM($AG$22:$AW$22)*10)","v":{"$error":"#DIV/0!"}},null,null,"Aller à \nBoîte à outils: ",null,{"$f":"HYPERLINK(\"#\"&ADDRESS(MATCH(I119,Toolbox!$C$1:$C$300),1,,,\"Toolbox\"),VLOOKUP(I119,Toolbox!$C$1:$C$300,1,FALSE))","v":"Système électronique intégré de surveillance des maladies (EIDSS)"}]
[]
[]
[]
[]
[]
[null,null,null,null,null,null,null,null,{"$f":"Backbone!A604","v":"Application de suivi des expositions et des cas de rage (REACT)"},null,null,null,null,null,null,"Un outil visant à soutenir la mise en œuvre de programmes de gestion intégrée des cas de morsures.",null,null,null,null,null,null,null,null,{"$f":"INDEX(Backbone!$R$2:$R$893,MATCH(I125,Backbone!$A$2:$A$893,0))","v":"Matériel ou logiciel"},null,null,null,{"$f":"INDEX(Backbone!$S$2:$S$893,MATCH(I125,Backbone!$A$2:$A$893,0))","v":"«Une seule santé»; spécifique d'une maladie/menace "},null,null,null,{"$f":"INDEX(Backbone!$H$2:$H$893,MATCH(I125,Backbone!$A$2:$A$893,0))","v":8.6},null,{"$f":"INDEX(Backbone!$I$2:$I$893,MATCH(I125,Backbone!$A$2:$A$893,0))","v":8.6},null,{"$f":"INDEX(Backbone!$J$2:$J$893,MATCH(I125,Backbone!$A$2:$A$893,0))","v":8},null,{"$f":"INDEX(Backbone!$K$1:$K$893,MATCH(I125,Backbone!$A$1:$A$893,0))","v":8.6},null,{"$f":"INDEX(Backbone!$L$2:$L$893,MATCH(I125,Backbone!$A$2:$A$893,0))","v":9.4},null,{"$f":"INDEX(Backbone!$M$2:$M$893,MATCH(I125,Backbone!$A$2:$A$893,0))","v":9.5},null,{"$f":"INDEX(Backbone!$N$2:$N$893,MATCH(I125,Backbone!$A$2:$A$893,0))","v":9},null,{"$f":"INDEX(Backbone!$O$2:$O$893,MATCH(I125,Backbone!$A$2:$A$893,0))","v":9.1999999999999993},null,{"$f":"INDEX(Backbone!$P$2:$P$893,MATCH(I125,Backbone!$A$2:$A$893,0))","v":9},null,{"$f":"INDEX(Backbone!$Q$2:$Q$893,MATCH(I125,Backbone!$A$2:$A$893,0))","v":0.88777777777777767},null,null,{"$f":"(AG125*$AG$22+AI125*$AI$22+AK125*$AK$22+AM125*$AM$22+AO125*$AO$22+AQ125*$AQ$22+AS125*$AS$22+AU125*$AU$22+AW125*$AW$22)/(SUM($AG$22:$AW$22)*10)","v":{"$error":"#DIV/0!"}},null,null,"Aller à \nBoîte à outils: ",null,{"$f":"HYPERLINK(\"#\"&ADDRESS(MATCH(I125,Toolbox!$C$1:$C$300),1,,,\"Toolbox\"),VLOOKUP(I125,Toolbox!$C$1:$C$300,1,FALSE))","v":"Application de suivi des expositions et des cas de rage (REACT)"}]
[]
[]
[]
[]
[]
[null,null,null,null,null,null,null,null,{"$f":"Backbone!A489","v":"Suite pour une biosurveillance électronique automatisée mondiale (SAGES)"},null,null,null,null,null,null,"Une suite d'outils logiciels d'exploitation libre conçus pour améliorer la surveillance électronique des maladies dans des situations où les ressources sont limitées.",null,null,null,null,null,null,null,null,{"$f":"INDEX(Backbone!$R$2:$R$893,MATCH(I131,Backbone!$A$2:$A$893,0))","v":"Matériel ou logiciel"},null,null,null,{"$f":"INDEX(Backbone!$S$2:$S$893,MATCH(I131,Backbone!$A$2:$A$893,0))","v":"«Une seule santé»; Généralisée"},null,null,null,{"$f":"INDEX(Backbone!$H$2:$H$893,MATCH(I131,Backbone!$A$2:$A$893,0))","v":9.8000000000000007},null,{"$f":"INDEX(Backbone!$I$2:$I$893,MATCH(I131,Backbone!$A$2:$A$893,0))","v":10},null,{"$f":"INDEX(Backbone!$J$2:$J$893,MATCH(I131,Backbone!$A$2:$A$893,0))","v":10},null,{"$f":"INDEX(Backbone!$K$1:$K$893,MATCH(I131,Backbone!$A$1:$A$893,0))","v":9.3000000000000007},null,{"$f":"INDEX(Backbone!$L$2:$L$893,MATCH(I131,Backbone!$A$2:$A$893,0))","v":8.5},null,{"$f":"INDEX(Backbone!$M$2:$M$893,MATCH(I131,Backbone!$A$2:$A$893,0))","v":9},null,{"$f":"INDEX(Backbone!$N$2:$N$893,MATCH(I131,Backbone!$A$2:$A$893,0))","v":5.5},null,{"$f":"INDEX(Backbone!$O$2:$O$893,MATCH(I131,Backbone!$A$2:$A$893,0))","v":9.5},null,{"$f":"INDEX(Backbone!$P$2:$P$893,MATCH(I131,Backbone!$A$2:$A$893,0))","v":7},null,{"$f":"INDEX(Backbone!$Q$2:$Q$893,MATCH(I131,Backbone!$A$2:$A$893,0))","v":0.87333333333333329},null,null,{"$f":"(AG131*$AG$22+AI131*$AI$22+AK131*$AK$22+AM131*$AM$22+AO131*$AO$22+AQ131*$AQ$22+AS131*$AS$22+AU131*$AU$22+AW131*$AW$22)/(SUM($AG$22:$AW$22)*10)","v":{"$error":"#DIV/0!"}},null,null,"Aller à \nBoîte à outils: ",null,{"$f":"HYPERLINK(\"#\"&ADDRESS(MATCH(I131,Toolbox!$C$1:$C$300),1,,,\"Toolbox\"),VLOOKUP(I131,Toolbox!$C$1:$C$300,1,FALSE))","v":"Suite pour une biosurveillance électronique automatisée mondiale (SAGES)"}]
[]
[]
[]
[]
[]
[null,null,null,null,null,null,null,null,{"$f":"Backbone!A540","v":"Système de gestion et d'analyse de la surveillance et la réponse aux foyers épidémiques (SORMAS)"},null,null,null,null,null,null,"Un système de santé en ligne mobile et d'exploitation libre qui met en œuvre des procédures de contrôle de maladies et de gestion de flambées épidémiques, et assure la surveillance et la détection précoce des foyers épidémiques grâce à une surveillance numérique en temps réel.",null,null,null,null,null,null,null,null,{"$f":"INDEX(Backbone!$R$2:$R$893,MATCH(I137,Backbone!$A$2:$A$893,0))","v":"Matériel ou logiciel"},null,null,null,{"$f":"INDEX(Backbone!$S$2:$S$893,MATCH(I137,Backbone!$A$2:$A$893,0))","v":"Spécifique du secteur; Généralisée"},null,null,null,{"$f":"INDEX(Backbone!$H$2:$H$893,MATCH(I137,Backbone!$A$2:$A$893,0))","v":9.1999999999999993},null,{"$f":"INDEX(Backbone!$I$2:$I$893,MATCH(I137,Backbone!$A$2:$A$893,0))","v":8},null,{"$f":"INDEX(Backbone!$J$2:$J$893,MATCH(I137,Backbone!$A$2:$A$893,0))","v":9.3000000000000007},null,{"$f":"INDEX(Backbone!$K$1:$K$893,MATCH(I137,Backbone!$A$1:$A$893,0))","v":9.1},null,{"$f":"INDEX(Backbone!$L$2:$L$893,MATCH(I137,Backbone!$A$2:$A$893,0))","v":9.3000000000000007},null,{"$f":"INDEX(Backbone!$M$2:$M$893,MATCH(I137,Backbone!$A$2:$A$893,0))","v":9.3000000000000007},null,{"$f":"INDEX(Backbone!$N$2:$N$893,MATCH(I137,Backbone!$A$2:$A$893,0))","v":6.8},null,{"$f":"INDEX(Backbone!$O$2:$O$893,MATCH(I137,Backbone!$A$2:$A$893,0))","v":3.9},null,{"$f":"INDEX(Backbone!$P$2:$P$893,MATCH(I137,Backbone!$A$2:$A$893,0))","v":5.3},null,{"$f":"INDEX(Backbone!$Q$2:$Q$893,MATCH(I137,Backbone!$A$2:$A$893,0))","v":0.78},null,null,{"$f":"(AG137*$AG$22+AI137*$AI$22+AK137*$AK$22+AM137*$AM$22+AO137*$AO$22+AQ137*$AQ$22+AS137*$AS$22+AU137*$AU$22+AW137*$AW$22)/(SUM($AG$22:$AW$22)*10)","v":{"$error":"#DIV/0!"}},null,null,"Aller à \nBoîte à outils: ",null,{"$f":"HYPERLINK(\"#\"&ADDRESS(MATCH(I137,Toolbox!$C$1:$C$300),1,,,\"Toolbox\"),VLOOKUP(I137,Toolbox!$C$1:$C$300,1,FALSE))","v":"Système de gestion et d'analyse de la surveillance et la réponse aux foyers épidémiques (SORMAS)"}]
[]
[]
[]
[]
[]
[]
[null,null,null,"Autres ressources intéressantes",null,null,null,null,{"$f":"Backbone!A65","v":"Logiciel d'information de santé au niveau des districts 2 (DHIS2) "},null,null,null,null,null,null,"Une plateforme d'exploitation libre en ligne pour les systèmes d'information sanitaire.",null,null,null,null,null,null,null,null,{"$f":"INDEX(Backbone!$R$2:$R$893,MATCH(I144,Backbone!$A$2:$A$893,0))","v":"Matériel ou logiciel"},null,null,null,{"$f":"INDEX(Backbone!$S$2:$S$893,MATCH(I144,Backbone!$A$2:$A$893,0))","v":"Spécifique du secteur; Généralisée"},null,null,null,{"$f":"INDEX(Backbone!$H$2:$H$893,MATCH(I144,Backbone!$A$2:$A$893,0))","v":8.8000000000000007},null,{"$f":"INDEX(Backbone!$I$2:$I$893,MATCH(I144,Backbone!$A$2:$A$893,0))","v":8.6999999999999993},null,{"$f":"INDEX(Backbone!$J$2:$J$893,MATCH(I144,Backbone!$A$2:$A$893,0))","v":8},null,{"$f":"INDEX(Backbone!$K$1:$K$893,MATCH(I144,Backbone!$A$1:$A$893,0))","v":8.6999999999999993},null,{"$f":"INDEX(Backbone!$L$2:$L$893,MATCH(I144,Backbone!$A$2:$A$893,0))","v":9.3000000000000007},null,{"$f":"INDEX(Backbone!$M$2:$M$893,MATCH(I144,Backbone!$A$2:$A$893,0))","v":9},null,{"$f":"INDEX(Backbone!$N$2:$N$893,MATCH(I144,Backbone!$A$2:$A$893,0))","v":10},null,{"$f":"INDEX(Backbone!$O$2:$O$893,MATCH(I144,Backbone!$A$2:$A$893,0))","v":7.8},null,{"$f":"INDEX(Backbone!$P$2:$P$893,MATCH(I144,Backbone!$A$2:$A$893,0))","v":7},null,{"$f":"INDEX(Backbone!$Q$2:$Q$893,MATCH(I144,Backbone!$A$2:$A$893,0))","v":0.85888888888888881},null,null,{"$f":"(AG144*$AG$22+AI144*$AI$22+AK144*$AK$22+AM144*$AM$22+AO144*$AO$22+AQ144*$AQ$22+AS144*$AS$22+AU144*$AU$22+AW144*$AW$22)/(SUM($AG$22:$AW$22)*10)","v":{"$error":"#DIV/0!"}},null,null,"Aller à \nBoîte à outils: ",null,{"$f":"HYPERLINK(\"#\"&ADDRESS(MATCH(I144,Toolbox!$C$1:$C$300),1,,,\"Toolbox\"),VLOOKUP(I144,Toolbox!$C$1:$C$300,1,FALSE))","v":"Logiciel d'information de santé au niveau des districts 2 (DHIS2) "}]
[]
[]
[]
[]
[]
[null,null,null,null,null,null,null,null,{"$f":"Backbone!A166","v":"EMPRES Système mondial d'information sur les maladies animales (EMPRES-i)"},null,null,null,null,null,null,"Un système d'information sécurisé en ligne pour aider les services vétérinaires au niveau des pays en leur fournissant une base de données de référence sur les maladies animales, y compris les zoonoses, à l'échelon régional et mondial.",null,null,null,null,null,null,null,null,{"$f":"INDEX(Backbone!$R$2:$R$893,MATCH(I150,Backbone!$A$2:$A$893,0))","v":"Matériel ou logiciel"},null,null,null,{"$f":"INDEX(Backbone!$S$2:$S$893,MATCH(I150,Backbone!$A$2:$A$893,0))","v":"Spécifique du secteur; Généralisée"},null,null,null,{"$f":"INDEX(Backbone!$H$2:$H$893,MATCH(I150,Backbone!$A$2:$A$893,0))","v":9},null,{"$f":"INDEX(Backbone!$I$2:$I$893,MATCH(I150,Backbone!$A$2:$A$893,0))","v":8.3000000000000007},null,{"$f":"INDEX(Backbone!$J$2:$J$893,MATCH(I150,Backbone!$A$2:$A$893,0))","v":8.9},null,{"$f":"INDEX(Backbone!$K$1:$K$893,MATCH(I150,Backbone!$A$1:$A$893,0))","v":8.6999999999999993},null,{"$f":"INDEX(Backbone!$L$2:$L$893,MATCH(I150,Backbone!$A$2:$A$893,0))","v":8},null,{"$f":"INDEX(Backbone!$M$2:$M$893,MATCH(I150,Backbone!$A$2:$A$893,0))","v":7.8},null,{"$f":"INDEX(Backbone!$N$2:$N$893,MATCH(I150,Backbone!$A$2:$A$893,0))","v":7.4},null,{"$f":"INDEX(Backbone!$O$2:$O$893,MATCH(I150,Backbone!$A$2:$A$893,0))","v":4.8},null,{"$f":"INDEX(Backbone!$P$2:$P$893,MATCH(I150,Backbone!$A$2:$A$893,0))","v":4.7},null,{"$f":"INDEX(Backbone!$Q$2:$Q$893,MATCH(I150,Backbone!$A$2:$A$893,0))","v":0.75111111111111106},null,null,{"$f":"(AG150*$AG$22+AI150*$AI$22+AK150*$AK$22+AM150*$AM$22+AO150*$AO$22+AQ150*$AQ$22+AS150*$AS$22+AU150*$AU$22+AW150*$AW$22)/(SUM($AG$22:$AW$22)*10)","v":{"$error":"#DIV/0!"}},null,null,"Aller à \nBoîte à outils: ",null,{"$f":"HYPERLINK(\"#\"&ADDRESS(MATCH(I150,Toolbox!$C$1:$C$300),1,,,\"Toolbox\"),VLOOKUP(I150,Toolbox!$C$1:$C$300,1,FALSE))","v":"EMPRES Système mondial d'information sur les maladies animales (EMPRES-i)"}]
[]
[]
[]
[]
[]
[null,null,null,null,null,null,null,null,{"$f":"Backbone!A531","v":"Système de gestion des données de laboratoire Mini (MiniLIMS)"},null,null,null,null,null,null,"Un système d'information conçu pour la gestion des données d'un laboratoire d'analyse à l'organisation simple.",null,null,null,null,null,null,null,null,{"$f":"INDEX(Backbone!$R$2:$R$893,MATCH(I156,Backbone!$A$2:$A$893,0))","v":"Matériel ou logiciel"},null,null,null,{"$f":"INDEX(Backbone!$S$2:$S$893,MATCH(I156,Backbone!$A$2:$A$893,0))","v":"Spécifique du secteur; Généralisée"},null,null,null,{"$f":"INDEX(Backbone!$H$2:$H$893,MATCH(I156,Backbone!$A$2:$A$893,0))","v":9},null,{"$f":"INDEX(Backbone!$I$2:$I$893,MATCH(I156,Backbone!$A$2:$A$893,0))","v":7.3},null,{"$f":"INDEX(Backbone!$J$2:$J$893,MATCH(I156,Backbone!$A$2:$A$893,0))","v":8.4},null,{"$f":"INDEX(Backbone!$K$1:$K$893,MATCH(I156,Backbone!$A$1:$A$893,0))","v":9.3000000000000007},null,{"$f":"INDEX(Backbone!$L$2:$L$893,MATCH(I156,Backbone!$A$2:$A$893,0))","v":7.2},null,{"$f":"INDEX(Backbone!$M$2:$M$893,MATCH(I156,Backbone!$A$2:$A$893,0))","v":6.5},null,{"$f":"INDEX(Backbone!$N$2:$N$893,MATCH(I156,Backbone!$A$2:$A$893,0))","v":2},null,{"$f":"INDEX(Backbone!$O$2:$O$893,MATCH(I156,Backbone!$A$2:$A$893,0))","v":4.4000000000000004},null,{"$f":"INDEX(Backbone!$P$2:$P$893,MATCH(I156,Backbone!$A$2:$A$893,0))","v":4},null,{"$f":"INDEX(Backbone!$Q$2:$Q$893,MATCH(I156,Backbone!$A$2:$A$893,0))","v":0.64555555555555555},null,null,{"$f":"(AG156*$AG$22+AI156*$AI$22+AK156*$AK$22+AM156*$AM$22+AO156*$AO$22+AQ156*$AQ$22+AS156*$AS$22+AU156*$AU$22+AW156*$AW$22)/(SUM($AG$22:$AW$22)*10)","v":{"$error":"#DIV/0!"}},null,null,"Aller à \nBoîte à outils: ",null,{"$f":"HYPERLINK(\"#\"&ADDRESS(MATCH(I156,Toolbox!$C$1:$C$300),1,,,\"Toolbox\"),VLOOKUP(I156,Toolbox!$C$1:$C$300,1,FALSE))","v":"Système de gestion des données de laboratoire Mini (MiniLIMS)"}]
[]
[]
[]
[]
[]
[null,null,null,null,null,null,null,null,{"$f":"Backbone!A522","v":"Système de gestion des données de laboratoire «SILAB for Africa» (SILABFA)"},null,null,null,null,null,null,"Un Système de gestion des données de laboratoire (LIMS) capable de retracer toutes les étapes du diagnostic, depuis la réception des échantillons jusqu'aux rapports finaux.",null,null,null,null,null,null,null,null,{"$f":"INDEX(Backbone!$R$2:$R$893,MATCH(I162,Backbone!$A$2:$A$893,0))","v":"Matériel ou logiciel"},null,null,null,{"$f":"INDEX(Backbone!$S$2:$S$893,MATCH(I162,Backbone!$A$2:$A$893,0))","v":"Spécifique du secteur; Généralisée"},null,null,null,{"$f":"INDEX(Backbone!$H$2:$H$893,MATCH(I162,Backbone!$A$2:$A$893,0))","v":9.3000000000000007},null,{"$f":"INDEX(Backbone!$I$2:$I$893,MATCH(I162,Backbone!$A$2:$A$893,0))","v":10},null,{"$f":"INDEX(Backbone!$J$2:$J$893,MATCH(I162,Backbone!$A$2:$A$893,0))","v":6.8},null,{"$f":"INDEX(Backbone!$K$1:$K$893,MATCH(I162,Backbone!$A$1:$A$893,0))","v":9.3000000000000007},null,{"$f":"INDEX(Backbone!$L$2:$L$893,MATCH(I162,Backbone!$A$2:$A$893,0))","v":8},null,{"$f":"INDEX(Backbone!$M$2:$M$893,MATCH(I162,Backbone!$A$2:$A$893,0))","v":6.5},null,{"$f":"INDEX(Backbone!$N$2:$N$893,MATCH(I162,Backbone!$A$2:$A$893,0))","v":8},null,{"$f":"INDEX(Backbone!$O$2:$O$893,MATCH(I162,Backbone!$A$2:$A$893,0))","v":7.2},null,{"$f":"INDEX(Backbone!$P$2:$P$893,MATCH(I162,Backbone!$A$2:$A$893,0))","v":8},null,{"$f":"INDEX(Backbone!$Q$2:$Q$893,MATCH(I162,Backbone!$A$2:$A$893,0))","v":0.81222222222222229},null,null,{"$f":"(AG162*$AG$22+AI162*$AI$22+AK162*$AK$22+AM162*$AM$22+AO162*$AO$22+AQ162*$AQ$22+AS162*$AS$22+AU162*$AU$22+AW162*$AW$22)/(SUM($AG$22:$AW$22)*10)","v":{"$error":"#DIV/0!"}},null,null,"Aller à \nBoîte à outils: ",null,{"$f":"HYPERLINK(\"#\"&ADDRESS(MATCH(I162,Toolbox!$C$1:$C$300),1,,,\"Toolbox\"),VLOOKUP(I162,Toolbox!$C$1:$C$300,1,FALSE))","v":"Système de gestion des données de laboratoire «SILAB for Africa» (SILABFA)"}]
[]
[]
[]
[]
[]
[]
[]
[]
[]
[]
[]
[]
[]
[]
[]
[]
[]
[]
[]
[]
[]
[]
[]
[null,null,null,null,null,null,null,null,null,null,null,null,null,null,null,null,null,null,null,null,null,null,null,null,null,null,null,null,null,null,null,null,"Accessibilité",null,"Langue",null,"Facilité d'utilisation",null,"Flexibilité",null,"Besoins de données",null,"Analyse des données",null,"Acceptabilité",null,"«Une seule santé»",null,"Impact"]
[]
[]
[]
[]
[]
[]
[null,null,null,null,null,null,null,null,null,null,null,null,null,null,null,null,null,null,null,null,null,null,null,null,null,null,null,null,null,null,null,null,null,null,null,null,null,null,null,null,null,null,null,null,null,null,null,null,null,null,"SCORE BRUT",null,null,"SCORE AJUSTÉ \n(Selon les préférences de l'utilisateur)"]
[]
[]
[]
[null,"RESSOURCES DE NIVEAU 3",null,"DÉSIGNATION",null,null,null,null,"NOM DE LA RESSOURCE",null,null,null,null,null,null,"BRÈVE DESCRIPTION",null,null,null,null,null,null,null,null,"TYPE DE RESSOURCE",null,null,null,"CARACTÈRE GÉNÉRAL DE LA RESSOURCE"]
[]
[]
[]
[null,null,null,null,null,null,null,null,null,null,null,null,null,null,null,null,null,null,null,null,null,null,null,null,null,null,null,null,null,null,null,null,{"$f":"'Attribute Survey'!S201","v":0},null,{"$f":"'Attribute Survey'!S205","v":0},null,{"$f":"'Attribute Survey'!S209","v":0},null,{"$f":"'Attribute Survey'!S213","v":0},null,{"$f":"'Attribute Survey'!S217","v":0},null,{"$f":"'Attribute Survey'!S221","v":0},null,{"$f":"'Attribute Survey'!S225","v":0},null,{"$f":"'Attribute Survey'!S229","v":0},null,{"$f":"'Attribute Survey'!S233","v":0}]
[null,null,null,"Ressources les mieux adaptées",null,null,null,null,{"$f":"Backbone!A138","v":"Système électronique intégré de surveillance des maladies (EIDSS)"},null,null,null,null,null,null,"Un système électronique en ligne et personnalisable d'établissement de rapports sur les maladies qui peut aider à la surveillance passive et active de la santé humaine et vétérinaire, aux diagnostics de laboratoire, à la surveillance des vecteurs et à la gestion des foyers épidémiques. ",null,null,null,null,null,null,null,null,{"$f":"INDEX(Backbone!$R$2:$R$893,MATCH(I202,Backbone!$A$2:$A$893,0))","v":"Matériel ou logiciel"},null,null,null,{"$f":"INDEX(Backbone!$S$2:$S$893,MATCH(I202,Backbone!$A$2:$A$893,0))","v":"«Une seule santé»; Généralisée"},null,null,null,{"$f":"INDEX(Backbone!$H$2:$H$893,MATCH(I202,Backbone!$A$2:$A$893,0))","v":6.8},null,{"$f":"INDEX(Backbone!$I$2:$I$893,MATCH(I202,Backbone!$A$2:$A$893,0))","v":10},null,{"$f":"INDEX(Backbone!$J$2:$J$893,MATCH(I202,Backbone!$A$2:$A$893,0))","v":8.4},null,{"$f":"INDEX(Backbone!$K$2:$K$893,MATCH(I202,Backbone!$A$2:$A$893,0))","v":8.6999999999999993},null,{"$f":"INDEX(Backbone!$L$2:$L$893,MATCH(I202,Backbone!$A$2:$A$893,0))","v":9.1},null,{"$f":"INDEX(Backbone!$M$2:$M$893,MATCH(I202,Backbone!$A$2:$A$893,0))","v":8},null,{"$f":"INDEX(Backbone!$N$2:$N$893,MATCH(I202,Backbone!$A$2:$A$893,0))","v":7},null,{"$f":"INDEX(Backbone!$O$2:$O$893,MATCH(I202,Backbone!$A$2:$A$893,0))","v":7.2},null,{"$f":"INDEX(Backbone!$P$2:$P$893,MATCH(I202,Backbone!$A$2:$A$893,0))","v":10},null,{"$f":"INDEX(Backbone!$Q$2:$Q$893,MATCH(I202,Backbone!$A$2:$A$893,0))","v":0.83555555555555561},null,null,{"$f":"(AG202*$AG$22+AI202*$AI$22+AK202*$AK$22+AM202*$AM$22+AO202*$AO$22+AQ202*$AQ$22+AS202*$AS$22+AU202*$AU$22+AW202*$AW$22)/(SUM($AG$22:$AW$22)*10)","v":{"$error":"#DIV/0!"}},null,null,"Aller à \nBoîte à outils: ",null,{"$f":"HYPERLINK(\"#\"&ADDRESS(MATCH(I202,Toolbox!$C$1:$C$300),1,,,\"Toolbox\"),VLOOKUP(I202,Toolbox!$C$1:$C$300,1,FALSE))","v":"Système électronique intégré de surveillance des maladies (EIDSS)"}]
[]
[]
[]
[]
[]
[null,null,null,null,null,null,null,null,{"$f":"Backbone!A604","v":"Application de suivi des expositions et des cas de rage (REACT)"},null,null,null,null,null,null,"Un outil visant à soutenir la mise en œuvre de programmes de gestion intégrée des cas de morsures.",null,null,null,null,null,null,null,null,{"$f":"INDEX(Backbone!$R$2:$R$893,MATCH(I208,Backbone!$A$2:$A$893,0))","v":"Matériel ou logiciel"},null,null,null,{"$f":"INDEX(Backbone!$S$2:$S$893,MATCH(I208,Backbone!$A$2:$A$893,0))","v":"«Une seule santé»; spécifique d'une maladie/menace "},null,null,null,{"$f":"INDEX(Backbone!$H$2:$H$893,MATCH(I208,Backbone!$A$2:$A$893,0))","v":8.6},null,{"$f":"INDEX(Backbone!$I$2:$I$893,MATCH(I208,Backbone!$A$2:$A$893,0))","v":8.6},null,{"$f":"INDEX(Backbone!$J$2:$J$893,MATCH(I208,Backbone!$A$2:$A$893,0))","v":8},null,{"$f":"INDEX(Backbone!$K$1:$K$893,MATCH(I208,Backbone!$A$1:$A$893,0))","v":8.6},null,{"$f":"INDEX(Backbone!$L$2:$L$893,MATCH(I208,Backbone!$A$2:$A$893,0))","v":9.4},null,{"$f":"INDEX(Backbone!$M$2:$M$893,MATCH(I208,Backbone!$A$2:$A$893,0))","v":9.5},null,{"$f":"INDEX(Backbone!$N$2:$N$893,MATCH(I208,Backbone!$A$2:$A$893,0))","v":9},null,{"$f":"INDEX(Backbone!$O$2:$O$893,MATCH(I208,Backbone!$A$2:$A$893,0))","v":9.1999999999999993},null,{"$f":"INDEX(Backbone!$P$2:$P$893,MATCH(I208,Backbone!$A$2:$A$893,0))","v":9},null,{"$f":"INDEX(Backbone!$Q$2:$Q$893,MATCH(I208,Backbone!$A$2:$A$893,0))","v":0.88777777777777767},null,null,{"$f":"(AG208*$AG$22+AI208*$AI$22+AK208*$AK$22+AM208*$AM$22+AO208*$AO$22+AQ208*$AQ$22+AS208*$AS$22+AU208*$AU$22+AW208*$AW$22)/(SUM($AG$22:$AW$22)*10)","v":{"$error":"#DIV/0!"}},null,null,"Aller à \nBoîte à outils: ",null,{"$f":"HYPERLINK(\"#\"&ADDRESS(MATCH(I208,Toolbox!$C$1:$C$300),1,,,\"Toolbox\"),VLOOKUP(I208,Toolbox!$C$1:$C$300,1,FALSE))","v":"Application de suivi des expositions et des cas de rage (REACT)"}]
[]
[]
[]
[]
[]
[null,null,null,null,null,null,null,null,{"$f":"Backbone!A489","v":"Suite pour une biosurveillance électronique automatisée mondiale (SAGES)"},null,null,null,null,null,null,"Une suite d'outils logiciels d'exploitation libre conçus pour améliorer la surveillance électronique des maladies dans des situations où les ressources sont limitées.",null,null,null,null,null,null,null,null,{"$f":"INDEX(Backbone!$R$2:$R$893,MATCH(I214,Backbone!$A$2:$A$893,0))","v":"Matériel ou logiciel"},null,null,null,{"$f":"INDEX(Backbone!$S$2:$S$893,MATCH(I214,Backbone!$A$2:$A$893,0))","v":"«Une seule santé»; Généralisée"},null,null,null,{"$f":"INDEX(Backbone!$H$2:$H$893,MATCH(I214,Backbone!$A$2:$A$893,0))","v":9.8000000000000007},null,{"$f":"INDEX(Backbone!$I$2:$I$893,MATCH(I214,Backbone!$A$2:$A$893,0))","v":10},null,{"$f":"INDEX(Backbone!$J$2:$J$893,MATCH(I214,Backbone!$A$2:$A$893,0))","v":10},null,{"$f":"INDEX(Backbone!$K$1:$K$893,MATCH(I214,Backbone!$A$1:$A$893,0))","v":9.3000000000000007},null,{"$f":"INDEX(Backbone!$L$2:$L$893,MATCH(I214,Backbone!$A$2:$A$893,0))","v":8.5},null,{"$f":"INDEX(Backbone!$M$2:$M$893,MATCH(I214,Backbone!$A$2:$A$893,0))","v":9},null,{"$f":"INDEX(Backbone!$N$2:$N$893,MATCH(I214,Backbone!$A$2:$A$893,0))","v":5.5},null,{"$f":"INDEX(Backbone!$O$2:$O$893,MATCH(I214,Backbone!$A$2:$A$893,0))","v":9.5},null,{"$f":"INDEX(Backbone!$P$2:$P$893,MATCH(I214,Backbone!$A$2:$A$893,0))","v":7},null,{"$f":"INDEX(Backbone!$Q$2:$Q$893,MATCH(I214,Backbone!$A$2:$A$893,0))","v":0.87333333333333329},null,null,{"$f":"(AG214*$AG$22+AI214*$AI$22+AK214*$AK$22+AM214*$AM$22+AO214*$AO$22+AQ214*$AQ$22+AS214*$AS$22+AU214*$AU$22+AW214*$AW$22)/(SUM($AG$22:$AW$22)*10)","v":{"$error":"#DIV/0!"}},null,null,"Aller à \nBoîte à outils: ",null,{"$f":"HYPERLINK(\"#\"&ADDRESS(MATCH(I214,Toolbox!$C$1:$C$300),1,,,\"Toolbox\"),VLOOKUP(I214,Toolbox!$C$1:$C$300,1,FALSE))","v":"Suite pour une biosurveillance électronique automatisée mondiale (SAGES)"}]
[]
[]
[]
[]
[]
[null,null,null,null,null,null,null,null,{"$f":"Backbone!A540","v":"Système de gestion et d'analyse de la surveillance et la réponse aux foyers épidémiques (SORMAS)"},null,null,null,null,null,null,"Un système de santé en ligne mobile et d'exploitation libre qui met en œuvre des procédures de contrôle de maladies et de gestion de flambées épidémiques, et assure la surveillance et la détection précoce des foyers épidémiques grâce à une surveillance numérique en temps réel.",null,null,null,null,null,null,null,null,{"$f":"INDEX(Backbone!$R$2:$R$893,MATCH(I220,Backbone!$A$2:$A$893,0))","v":"Matériel ou logiciel"},null,null,null,{"$f":"INDEX(Backbone!$S$2:$S$893,MATCH(I220,Backbone!$A$2:$A$893,0))","v":"Spécifique du secteur; Généralisée"},null,null,null,{"$f":"INDEX(Backbone!$H$2:$H$893,MATCH(I220,Backbone!$A$2:$A$893,0))","v":9.1999999999999993},null,{"$f":"INDEX(Backbone!$I$2:$I$893,MATCH(I220,Backbone!$A$2:$A$893,0))","v":8},null,{"$f":"INDEX(Backbone!$J$2:$J$893,MATCH(I220,Backbone!$A$2:$A$893,0))","v":9.3000000000000007},null,{"$f":"INDEX(Backbone!$K$1:$K$893,MATCH(I220,Backbone!$A$1:$A$893,0))","v":9.1},null,{"$f":"INDEX(Backbone!$L$2:$L$893,MATCH(I220,Backbone!$A$2:$A$893,0))","v":9.3000000000000007},null,{"$f":"INDEX(Backbone!$M$2:$M$893,MATCH(I220,Backbone!$A$2:$A$893,0))","v":9.3000000000000007},null,{"$f":"INDEX(Backbone!$N$2:$N$893,MATCH(I220,Backbone!$A$2:$A$893,0))","v":6.8},null,{"$f":"INDEX(Backbone!$O$2:$O$893,MATCH(I220,Backbone!$A$2:$A$893,0))","v":3.9},null,{"$f":"INDEX(Backbone!$P$2:$P$893,MATCH(I220,Backbone!$A$2:$A$893,0))","v":5.3},null,{"$f":"INDEX(Backbone!$Q$2:$Q$893,MATCH(I220,Backbone!$A$2:$A$893,0))","v":0.78},null,null,{"$f":"(AG220*$AG$22+AI220*$AI$22+AK220*$AK$22+AM220*$AM$22+AO220*$AO$22+AQ220*$AQ$22+AS220*$AS$22+AU220*$AU$22+AW220*$AW$22)/(SUM($AG$22:$AW$22)*10)","v":{"$error":"#DIV/0!"}},null,null,"Aller à \nBoîte à outils: ",null,{"$f":"HYPERLINK(\"#\"&ADDRESS(MATCH(I220,Toolbox!$C$1:$C$300),1,,,\"Toolbox\"),VLOOKUP(I220,Toolbox!$C$1:$C$300,1,FALSE))","v":"Système de gestion et d'analyse de la surveillance et la réponse aux foyers épidémiques (SORMAS)"}]
[]
[]
[]
[]
[]
[]
[null,null,null,"Autres ressources intéressantes",null,null,null,null,{"$f":"Backbone!A65","v":"Logiciel d'information de santé au niveau des districts 2 (DHIS2) "},null,null,null,null,null,null,"Une plateforme d'exploitation libre en ligne pour les systèmes d'information sanitaire.",null,null,null,null,null,null,null,null,{"$f":"INDEX(Backbone!$R$2:$R$893,MATCH(I227,Backbone!$A$2:$A$893,0))","v":"Matériel ou logiciel"},null,null,null,{"$f":"INDEX(Backbone!$S$2:$S$893,MATCH(I227,Backbone!$A$2:$A$893,0))","v":"Spécifique du secteur; Généralisée"},null,null,null,{"$f":"INDEX(Backbone!$H$2:$H$893,MATCH(I227,Backbone!$A$2:$A$893,0))","v":8.8000000000000007},null,{"$f":"INDEX(Backbone!$I$2:$I$893,MATCH(I227,Backbone!$A$2:$A$893,0))","v":8.6999999999999993},null,{"$f":"INDEX(Backbone!$J$2:$J$893,MATCH(I227,Backbone!$A$2:$A$893,0))","v":8},null,{"$f":"INDEX(Backbone!$K$1:$K$893,MATCH(I227,Backbone!$A$1:$A$893,0))","v":8.6999999999999993},null,{"$f":"INDEX(Backbone!$L$2:$L$893,MATCH(I227,Backbone!$A$2:$A$893,0))","v":9.3000000000000007},null,{"$f":"INDEX(Backbone!$M$2:$M$893,MATCH(I227,Backbone!$A$2:$A$893,0))","v":9},null,{"$f":"INDEX(Backbone!$N$2:$N$893,MATCH(I227,Backbone!$A$2:$A$893,0))","v":10},null,{"$f":"INDEX(Backbone!$O$2:$O$893,MATCH(I227,Backbone!$A$2:$A$893,0))","v":7.8},null,{"$f":"INDEX(Backbone!$P$2:$P$893,MATCH(I227,Backbone!$A$2:$A$893,0))","v":7},null,{"$f":"INDEX(Backbone!$Q$2:$Q$893,MATCH(I227,Backbone!$A$2:$A$893,0))","v":0.85888888888888881},null,null,{"$f":"(AG227*$AG$22+AI227*$AI$22+AK227*$AK$22+AM227*$AM$22+AO227*$AO$22+AQ227*$AQ$22+AS227*$AS$22+AU227*$AU$22+AW227*$AW$22)/(SUM($AG$22:$AW$22)*10)","v":{"$error":"#DIV/0!"}},null,null,"Aller à \nBoîte à outils: ",null,{"$f":"HYPERLINK(\"#\"&ADDRESS(MATCH(I227,Toolbox!$C$1:$C$300),1,,,\"Toolbox\"),VLOOKUP(I227,Toolbox!$C$1:$C$300,1,FALSE))","v":"Logiciel d'information de santé au niveau des districts 2 (DHIS2) "}]
[]
[]
[]
[]
[]
[null,null,null,null,null,null,null,null,{"$f":"Backbone!A166","v":"EMPRES Système mondial d'information sur les maladies animales (EMPRES-i)"},null,null,null,null,null,null,"Un système d'information sécurisé en ligne pour aider les services vétérinaires au niveau des pays en leur fournissant une base de données de référence sur les maladies animales, y compris les zoonoses, à l'échelon régional et mondial.",null,null,null,null,null,null,null,null,{"$f":"INDEX(Backbone!$R$2:$R$893,MATCH(I233,Backbone!$A$2:$A$893,0))","v":"Matériel ou logiciel"},null,null,null,{"$f":"INDEX(Backbone!$S$2:$S$893,MATCH(I233,Backbone!$A$2:$A$893,0))","v":"Spécifique du secteur; Généralisée"},null,null,null,{"$f":"INDEX(Backbone!$H$2:$H$893,MATCH(I233,Backbone!$A$2:$A$893,0))","v":9},null,{"$f":"INDEX(Backbone!$I$2:$I$893,MATCH(I233,Backbone!$A$2:$A$893,0))","v":8.3000000000000007},null,{"$f":"INDEX(Backbone!$J$2:$J$893,MATCH(I233,Backbone!$A$2:$A$893,0))","v":8.9},null,{"$f":"INDEX(Backbone!$K$1:$K$893,MATCH(I233,Backbone!$A$1:$A$893,0))","v":8.6999999999999993},null,{"$f":"INDEX(Backbone!$L$2:$L$893,MATCH(I233,Backbone!$A$2:$A$893,0))","v":8},null,{"$f":"INDEX(Backbone!$M$2:$M$893,MATCH(I233,Backbone!$A$2:$A$893,0))","v":7.8},null,{"$f":"INDEX(Backbone!$N$2:$N$893,MATCH(I233,Backbone!$A$2:$A$893,0))","v":7.4},null,{"$f":"INDEX(Backbone!$O$2:$O$893,MATCH(I233,Backbone!$A$2:$A$893,0))","v":4.8},null,{"$f":"INDEX(Backbone!$P$2:$P$893,MATCH(I233,Backbone!$A$2:$A$893,0))","v":4.7},null,{"$f":"INDEX(Backbone!$Q$2:$Q$893,MATCH(I233,Backbone!$A$2:$A$893,0))","v":0.75111111111111106},null,null,{"$f":"(AG233*$AG$22+AI233*$AI$22+AK233*$AK$22+AM233*$AM$22+AO233*$AO$22+AQ233*$AQ$22+AS233*$AS$22+AU233*$AU$22+AW233*$AW$22)/(SUM($AG$22:$AW$22)*10)","v":{"$error":"#DIV/0!"}},null,null,"Aller à \nBoîte à outils: ",null,{"$f":"HYPERLINK(\"#\"&ADDRESS(MATCH(I233,Toolbox!$C$1:$C$300),1,,,\"Toolbox\"),VLOOKUP(I233,Toolbox!$C$1:$C$300,1,FALSE))","v":"EMPRES Système mondial d'information sur les maladies animales (EMPRES-i)"}]
[]
[]
[]
[]
[]
[null,null,null,null,null,null,null,null,{"$f":"Backbone!A531","v":"Système de gestion des données de laboratoire Mini (MiniLIMS)"},null,null,null,null,null,null,"Un système d'information conçu pour la gestion des données d'un laboratoire d'analyse à l'organisation simple.",null,null,null,null,null,null,null,null,{"$f":"INDEX(Backbone!$R$2:$R$893,MATCH(I239,Backbone!$A$2:$A$893,0))","v":"Matériel ou logiciel"},null,null,null,{"$f":"INDEX(Backbone!$S$2:$S$893,MATCH(I239,Backbone!$A$2:$A$893,0))","v":"Spécifique du secteur; Généralisée"},null,null,null,{"$f":"INDEX(Backbone!$H$2:$H$893,MATCH(I239,Backbone!$A$2:$A$893,0))","v":9},null,{"$f":"INDEX(Backbone!$I$2:$I$893,MATCH(I239,Backbone!$A$2:$A$893,0))","v":7.3},null,{"$f":"INDEX(Backbone!$J$2:$J$893,MATCH(I239,Backbone!$A$2:$A$893,0))","v":8.4},null,{"$f":"INDEX(Backbone!$K$1:$K$893,MATCH(I239,Backbone!$A$1:$A$893,0))","v":9.3000000000000007},null,{"$f":"INDEX(Backbone!$L$2:$L$893,MATCH(I239,Backbone!$A$2:$A$893,0))","v":7.2},null,{"$f":"INDEX(Backbone!$M$2:$M$893,MATCH(I239,Backbone!$A$2:$A$893,0))","v":6.5},null,{"$f":"INDEX(Backbone!$N$2:$N$893,MATCH(I239,Backbone!$A$2:$A$893,0))","v":2},null,{"$f":"INDEX(Backbone!$O$2:$O$893,MATCH(I239,Backbone!$A$2:$A$893,0))","v":4.4000000000000004},null,{"$f":"INDEX(Backbone!$P$2:$P$893,MATCH(I239,Backbone!$A$2:$A$893,0))","v":4},null,{"$f":"INDEX(Backbone!$Q$2:$Q$893,MATCH(I239,Backbone!$A$2:$A$893,0))","v":0.64555555555555555},null,null,{"$f":"(AG239*$AG$22+AI239*$AI$22+AK239*$AK$22+AM239*$AM$22+AO239*$AO$22+AQ239*$AQ$22+AS239*$AS$22+AU239*$AU$22+AW239*$AW$22)/(SUM($AG$22:$AW$22)*10)","v":{"$error":"#DIV/0!"}},null,null,"Aller à \nBoîte à outils: ",null,{"$f":"HYPERLINK(\"#\"&ADDRESS(MATCH(I239,Toolbox!$C$1:$C$300),1,,,\"Toolbox\"),VLOOKUP(I239,Toolbox!$C$1:$C$300,1,FALSE))","v":"Système de gestion des données de laboratoire Mini (MiniLIMS)"}]
[]
[]
[]
[]
[]
[null,null,null,null,null,null,null,null,{"$f":"Backbone!A522","v":"Système de gestion des données de laboratoire «SILAB for Africa» (SILABFA)"},null,null,null,null,null,null,"Un Système de gestion des données de laboratoire (LIMS) capable de retracer toutes les étapes du diagnostic, depuis la réception des échantillons jusqu'aux rapports finaux.",null,null,null,null,null,null,null,null,{"$f":"INDEX(Backbone!$R$2:$R$893,MATCH(I245,Backbone!$A$2:$A$893,0))","v":"Matériel ou logiciel"},null,null,null,{"$f":"INDEX(Backbone!$S$2:$S$893,MATCH(I245,Backbone!$A$2:$A$893,0))","v":"Spécifique du secteur; Généralisée"},null,null,null,{"$f":"INDEX(Backbone!$H$2:$H$893,MATCH(I245,Backbone!$A$2:$A$893,0))","v":9.3000000000000007},null,{"$f":"INDEX(Backbone!$I$2:$I$893,MATCH(I245,Backbone!$A$2:$A$893,0))","v":10},null,{"$f":"INDEX(Backbone!$J$2:$J$893,MATCH(I245,Backbone!$A$2:$A$893,0))","v":6.8},null,{"$f":"INDEX(Backbone!$K$1:$K$893,MATCH(I245,Backbone!$A$1:$A$893,0))","v":9.3000000000000007},null,{"$f":"INDEX(Backbone!$L$2:$L$893,MATCH(I245,Backbone!$A$2:$A$893,0))","v":8},null,{"$f":"INDEX(Backbone!$M$2:$M$893,MATCH(I245,Backbone!$A$2:$A$893,0))","v":6.5},null,{"$f":"INDEX(Backbone!$N$2:$N$893,MATCH(I245,Backbone!$A$2:$A$893,0))","v":8},null,{"$f":"INDEX(Backbone!$O$2:$O$893,MATCH(I245,Backbone!$A$2:$A$893,0))","v":7.2},null,{"$f":"INDEX(Backbone!$P$2:$P$893,MATCH(I245,Backbone!$A$2:$A$893,0))","v":8},null,{"$f":"INDEX(Backbone!$Q$2:$Q$893,MATCH(I245,Backbone!$A$2:$A$893,0))","v":0.81222222222222229},null,null,{"$f":"(AG245*$AG$22+AI245*$AI$22+AK245*$AK$22+AM245*$AM$22+AO245*$AO$22+AQ245*$AQ$22+AS245*$AS$22+AU245*$AU$22+AW245*$AW$22)/(SUM($AG$22:$AW$22)*10)","v":{"$error":"#DIV/0!"}},null,null,"Aller à \nBoîte à outils: ",null,{"$f":"HYPERLINK(\"#\"&ADDRESS(MATCH(I245,Toolbox!$C$1:$C$300),1,,,\"Toolbox\"),VLOOKUP(I245,Toolbox!$C$1:$C$300,1,FALSE))","v":"Système de gestion des données de laboratoire «SILAB for Africa» (SILABFA)"}]

{"sheet":"I5_tools","index":50,"n_rows":233,"n_cols":59,"rows_kept":233,"cut":false,"hidden":false,"merged":[[232,50,236,51],[232,53,236,54],[232,38,236,38],[232,40,236,40],[232,42,236,42],[232,44,236,44],[232,46,236,46],[232,48,236,48],[225,50,229,51],[225,53,229,54],[225,40,229,40],[225,42,229,42],[225,44,229,44],[225,46,229,46],[225,48,229,48],[232,3,236,6],[232,8,236,13],[232,15,236,22],[232,24,236,26],[232,28,236,30],[232,32,236,32],[232,34,236,34],[232,36,236,36],[225,38,229,38],[219,48,223,48],[219,50,223,51],[219,53,223,54],[225,8,229,13],[225,15,229,22],[225,24,229,26],[225,28,229,30],[225,32,229,32],[225,34,229,34],[225,36,229,36],[219,36,223,36],[219,38,223,38],[219,40,223,40],[219,42,223,42],[219,44,223,44],[219,46,223,46],[219,8,223,13],[219,15,223,22],[219,24,223,26],[219,28,223,30],[219,32,223,32],[219,34,223,34],[213,50,217,51],[213,53,217,54],[207,53,211,54],[213,8,217,13],[213,15,217,22],[213,24,217,26],[213,28,217,30],[213,32,217,32],[213,34,217,34],[213,36,217,36],[213,38,217,38],[213,40,217,40],[207,40,211,40],[207,42,211,42],[207,44,211,44],[207,46,211,46],[207,48,211,48],[207,50,211,51],[201,46,205,46],[201,48,205,48],[201,15,205,22],[201,24,205,26],[201,28,205,30],[201,32,205,32],[201,34,205,34],[201,36,205,36],[213,42,217,42],[213,44,217,44],[213,46,217,46],[213,48,217,48],[192,50,199,51],[192,53,199,54],[196,1,236,1],[196,3,199,6],[196,8,199,13],[196,15,199,22],[196,24,199,26],[196,28,199,30],[201,3,229,6],[201,8,205,13],[201,50,205,51],[201,53,205,54],[207,8,211,13],[207,15,211,22],[207,24,211,26],[207,28,211,30],[207,32,211,32],[207,34,211,34],[207,36,211,36],[207,38,211,38],[201,38,205,38],[201,40,205,40],[201,42,205,42],[201,44,205,44],[185,32,199,32],[185,34,199,34],[185,36,199,36],[185,38,199,38],[185,40,199,40],[185,42,199,42],[185,44,199,44],[185,46,199,46],[185,48,199,48],[154,50,158,51],[154,53,158,54],[160,8,164,13],[160,15,164,22],[160,24,164,26],[160,28,164,30],[160,32,164,32],[160,34,164,34],[160,36,164,36],[160,38,164,38],[154,38,158,38],[154,40,158,40],[154,42,158,42],[154,44,158,44],[154,46,158,46],[154,48,158,48],[160,53,164,54],[160,40,164,40],[160,42,164,42],[160,44,164,44],[160,46,164,46],[160,48,164,48],[160,50,164,51],[142,48,146,48],[142,50,146,51],[142,53,146,54],[148,8,152,13],[148,15,152,22],[148,24,152,26],[148,28,152,30],[148,32,152,32],[148,34,152,34],[142,34,146,34],[142,36,146,36],[142,38,146,38],[142,40,146,40],[142,42,146,42],[142,44,146,44],[148,48,152,48],[148,50,152,51],[148,53,152,54],[148,36,152,36],[148,38,152,38],[148,40,152,40],[148,42,152,42],[148,44,152,44],[148,46,152,46],[142,3,164,6],[142,8,146,13],[142,15,146,22],[142,24,146,26],[142,28,146,30],[142,32,146,32],[135,42,139,42],[135,44,139,44],[135,46,139,46],[111,3,139,6],[142,46,146,46],[154,8,158,13],[154,15,158,22],[154,24,158,26],[154,28,158,30],[154,32,158,32],[154,34,158,34],[154,36,158,36],[123,42,127,42],[123,44,127,44],[123,46,127,46],[129,32,133,32],[129,34,133,34],[129,36,133,36],[135,48,139,48],[135,50,139,51],[135,53,139,54],[129,53,133,54],[135,8,139,13],[135,15,139,22],[135,24,139,26],[135,28,139,30],[135,32,139,32],[135,34,139,34],[135,36,139,36],[135,38,139,38],[135,40,139,40],[129,40,133,40],[129,42,133,42],[129,44,133,44],[129,46,133,46],[129,48,133,48],[129,50,133,51],[129,8,133,13],[129,15,133,22],[129,24,133,26],[129,28,133,30],[129,38,133,38],[111,8,115,13],[111,15,115,22],[111,24,115,26],[111,28,115,30],[111,32,115,32],[117,48,121,48],[117,50,121,51],[111,34,115,34],[111,36,115,36],[111,38,115,38],[111,40,115,40],[111,42,115,42],[111,44,115,44],[117,53,121,54],[123,8,127,13],[123,15,127,22],[123,24,127,26],[123,28,127,30],[123,32,127,32],[123,34,127,34],[123,36,127,36],[117,36,121,36],[117,38,121,38],[117,40,121,40],[117,42,121,42],[117,44,121,44],[117,46,121,46],[123,50,127,51],[123,53,127,54],[123,40,127,40],[117,28,121,30],[117,32,121,32],[117,34,121,34],[123,38,127,38],[123,48,127,48],[95,46,109,46],[95,48,109,48],[102,50,109,51],[102,53,109,54],[106,1,164,1],[106,3,109,6],[106,8,109,13],[106,15,109,22],[106,24,109,26],[106,28,109,30],[95,32,109,32],[95,34,109,34],[95,36,109,36],[95,38,109,38],[95,40,109,40],[95,42,109,42],[95,44,109,44],[111,46,115,46],[111,48,115,48],[111,50,115,51],[111,53,115,54],[117,8,121,13],[117,15,121,22],[117,24,121,26],[71,50,75,51],[71,53,75,54],[71,38,75,38],[71,40,75,40],[71,42,75,42],[71,44,75,44],[71,46,75,46],[71,48,75,48],[65,48,69,48],[65,50,69,51],[65,53,69,54],[65,40,69,40],[65,42,69,42],[65,44,69,44],[65,46,69,46],[59,42,63,42],[59,44,63,44],[59,46,63,46],[59,48,63,48],[59,50,63,51],[59,53,63,54],[53,53,57,54],[59,8,63,13],[59,15,63,22],[59,24,63,26],[59,28,63,30],[59,32,63,32],[59,34,63,34],[59,36,63,36],[59,38,63,38],[59,40,63,40],[53,40,57,40],[53,42,57,42],[53,44,57,44],[53,46,57,46],[53,48,57,48],[53,50,57,51],[53,3,75,6],[53,8,57,13],[53,15,57,22],[53,24,57,26],[53,28,57,30],[53,32,57,32],[53,34,57,34],[53,36,57,36],[53,38,57,38],[71,8,75,13],[71,15,75,22],[71,24,75,26],[71,28,75,30],[71,32,75,32],[71,34,75,34],[71,36,75,36],[65,36,69,36],[65,38,69,38],[65,8,69,13],[65,15,69,22],[65,24,69,26],[65,28,69,30],[65,32,69,32],[65,34,69,34],[40,50,44,51],[40,53,44,54],[46,8,50,13],[46,15,50,22],[46,24,50,26],[46,28,50,30],[46,32,50,32],[46,34,50,34],[46,36,50,36],[46,38,50,38],[40,38,44,38],[40,40,44,40],[40,42,44,42],[40,44,44,44],[40,46,44,46],[40,48,44,48],[46,53,50,54],[46,40,50,40],[46,42,50,42],[46,44,50,44],[46,46,50,46],[46,48,50,48],[46,50,50,51],[40,8,44,13],[40,15,44,22],[40,24,44,26],[40,28,44,30],[40,32,44,32],[40,34,44,34],[40,36,44,36],[34,36,38,36],[34,38,38,38],[34,8,38,13],[34,15,38,22],[34,24,38,26],[34,28,38,30],[34,32,38,32],[34,34,38,34],[34,48,38,48],[34,50,38,51],[34,53,38,54],[34,40,38,40],[34,42,38,42],[34,44,38,44],[34,46,38,46],[28,24,32,26],[28,28,32,30],[28,32,32,32],[28,34,32,34],[28,36,32,36],[28,38,32,38],[28,40,32,40],[28,53,32,54],[22,53,26,54],[28,8,32,13],[28,15,32,22],[22,44,26,44],[22,46,26,46],[22,48,26,48],[22,50,26,51],[22,8,26,13],[22,15,26,22],[22,40,26,40],[22,42,26,42],[22,24,26,26],[22,28,26,30],[22,32,26,32],[22,34,26,34],[22,36,26,36],[22,38,26,38],[1,1,3,61],[6,32,20,32],[6,34,20,34],[6,36,20,36],[6,38,20,38],[6,40,20,40],[6,42,20,42],[6,44,20,44],[6,46,20,46],[6,48,20,48],[13,50,20,51],[13,53,20,54],[17,1,75,1],[17,3,20,6],[17,8,20,13],[17,15,20,22],[17,24,20,26],[17,28,20,30],[22,3,50,6],[28,42,32,42],[28,44,32,44],[28,46,32,46],[28,48,32,48],[28,50,32,51],[22,56,26,57],[22,58,26,62],[28,56,32,57],[28,58,32,62],[34,56,38,57],[34,58,38,62],[40,56,44,57],[40,58,44,62],[46,56,50,57],[46,58,50,62],[53,56,57,57],[53,58,57,62],[59,56,63,57],[59,58,63,62],[65,56,69,57],[65,58,69,62],[71,56,75,57],[71,58,75,62],[111,56,115,57],[111,58,115,62],[117,56,121,57],[117,58,121,62],[123,56,127,57],[123,58,127,62],[129,56,133,57],[129,58,133,62],[135,56,139,57],[135,58,139,62],[142,56,146,57],[142,58,146,62],[213,56,217,57],[213,58,217,62],[219,56,223,57],[219,58,223,62],[225,56,229,57],[225,58,229,62],[232,56,236,57],[232,58,236,62],[148,56,152,57],[148,58,152,62],[154,56,158,57],[154,58,158,62],[160,56,164,57],[160,58,164,62],[201,56,205,57],[201,58,205,62],[207,56,211,57],[207,58,211,62]]}
[]
[null,"Ressources pour les mesures relatives à la confidentialité et à la sécurité des données"]
[]
[]
[]
[]
[null,null,null,null,null,null,null,null,null,null,null,null,null,null,null,null,null,null,null,null,null,null,null,null,null,null,null,null,null,null,null,null,"Accessibilité",null,"Langue",null,"Facilité d'utilisation",null,"Flexibilité",null,"Besoins de données",null,"Analyse des données",null,"Acceptabilité",null,"«Une seule santé»",null,"Impact"]
[]
[]
[]
[]
[]
[]
[null,null,null,null,null,null,null,null,null,null,null,null,null,null,null,null,null,null,null,null,null,null,null,null,null,null,null,null,null,null,null,null,null,null,null,null,null,null,null,null,null,null,null,null,null,null,null,null,null,null,"SCORE BRUT",null,null,"SCORE AJUSTÉ \n(Selon les préférences de l'utilisateur)"]
[]
[]
[]
[null,"RESSOURCES DE NIVEAU 1",null,"DÉSIGNATION",null,null,null,null,"NOM DE LA RESSOURCE",null,null,null,null,null,null,"BRÈVE DESCRIPTION",null,null,null,null,null,null,null,null,"TYPE DE RESSOURCE",null,null,null,"CARACTÈRE GÉNÉRAL DE LA RESSOURCE"]
[]
[]
[]
[null,null,null,null,null,null,null,null,null,null,null,null,null,null,null,null,null,null,null,null,null,null,null,null,null,null,null,null,null,null,null,null,{"$f":"'Attribute Survey'!S22","v":0},null,{"$f":"'Attribute Survey'!S26","v":0},null,{"$f":"'Attribute Survey'!S30","v":0},null,{"$f":"'Attribute Survey'!S34","v":0},null,{"$f":"'Attribute Survey'!S38","v":0},null,{"$f":"'Attribute Survey'!S42","v":0},null,{"$f":"'Attribute Survey'!S46","v":0},null,{"$f":"'Attribute Survey'!S50","v":0},null,{"$f":"'Attribute Survey'!S54","v":0}]
[null,null,null,"Ressources les mieux adaptées",null,null,null,null,{"$f":"Backbone!A65","v":"Logiciel d'information de santé au niveau des districts 2 (DHIS2) "},null,null,null,null,null,null,"Une plateforme d'exploitation libre en ligne pour les systèmes d'information sanitaire.",null,null,null,null,null,null,null,null,{"$f":"INDEX(Backbone!$R$2:$R$893,MATCH(I23,Backbone!$A$2:$A$893,0))","v":"Matériel ou logiciel"},null,null,null,{"$f":"INDEX(Backbone!$S$2:$S$893,MATCH(I23,Backbone!$A$2:$A$893,0))","v":"Spécifique du secteur; Généralisée"},null,null,null,{"$f":"INDEX(Backbone!$H$2:$H$893,MATCH(I23,Backbone!$A$2:$A$893,0))","v":8.8000000000000007},null,{"$f":"INDEX(Backbone!$I$2:$I$893,MATCH(I23,Backbone!$A$2:$A$893,0))","v":8.6999999999999993},null,{"$f":"INDEX(Backbone!$J$2:$J$893,MATCH(I23,Backbone!$A$2:$A$893,0))","v":8},null,{"$f":"INDEX(Backbone!$K$2:$K$893,MATCH(I23,Backbone!$A$2:$A$893,0))","v":8.6999999999999993},null,{"$f":"INDEX(Backbone!$L$2:$L$893,MATCH(I23,Backbone!$A$2:$A$893,0))","v":9.3000000000000007},null,{"$f":"INDEX(Backbone!$M$2:$M$893,MATCH(I23,Backbone!$A$2:$A$893,0))","v":9},null,{"$f":"INDEX(Backbone!$N$2:$N$893,MATCH(I23,Backbone!$A$2:$A$893,0))","v":10},null,{"$f":"INDEX(Backbone!$O$2:$O$893,MATCH(I23,Backbone!$A$2:$A$893,0))","v":7.8},null,{"$f":"INDEX(Backbone!$P$2:$P$893,MATCH(I23,Backbone!$A$2:$A$893,0))","v":7},null,{"$f":"INDEX(Backbone!$Q$2:$Q$893,MATCH(I23,Backbone!$A$2:$A$893,0))","v":0.85888888888888881},null,null,{"$f":"(AG23*$AG$22+AI23*$AI$22+AK23*$AK$22+AM23*$AM$22+AO23*$AO$22+AQ23*$AQ$22+AS23*$AS$22+AU23*$AU$22+AW23*$AW$22)/(SUM($AG$22:$AW$22)*10)","v":{"$error":"#DIV/0!"}},null,null,"Aller à \nBoîte à outils: ",null,{"$f":"HYPERLINK(\"#\"&ADDRESS(MATCH(I23,Toolbox!$C$1:$C$300),1,,,\"Toolbox\"),VLOOKUP(I23,Toolbox!$C$1:$C$300,1,FALSE))","v":"Logiciel d'information de santé au niveau des districts 2 (DHIS2) "}]
[]
[]
[]
[]
[]
[null,null,null,null,null,null,null,null,{"$f":"Backbone!A138","v":"Système électronique intégré de surveillance des maladies (EIDSS)"},null,null,null,null,null,null,"Un système électronique en ligne et personnalisable d'établissement de rapports sur les maladies qui peut aider à la surveillance passive et active de la santé humaine et vétérinaire, aux diagnostics de laboratoire, à la surveillance des vecteurs et à la gestion des foyers épidémiques. ",null,null,null,null,null,null,null,null,{"$f":"INDEX(Backbone!$R$2:$R$893,MATCH(I29,Backbone!$A$2:$A$893,0))","v":"Matériel ou logiciel"},null,null,null,{"$f":"INDEX(Backbone!$S$2:$S$893,MATCH(I29,Backbone!$A$2:$A$893,0))","v":"«Une seule santé»; Généralisée"},null,null,null,{"$f":"INDEX(Backbone!$H$2:$H$893,MATCH(I29,Backbone!$A$2:$A$893,0))","v":6.8},null,{"$f":"INDEX(Backbone!$I$2:$I$893,MATCH(I29,Backbone!$A$2:$A$893,0))","v":10},null,{"$f":"INDEX(Backbone!$J$2:$J$893,MATCH(I29,Backbone!$A$2:$A$893,0))","v":8.4},null,{"$f":"INDEX(Backbone!$K$1:$K$893,MATCH(I29,Backbone!$A$1:$A$893,0))","v":8.6999999999999993},null,{"$f":"INDEX(Backbone!$L$2:$L$893,MATCH(I29,Backbone!$A$2:$A$893,0))","v":9.1},null,{"$f":"INDEX(Backbone!$M$2:$M$893,MATCH(I29,Backbone!$A$2:$A$893,0))","v":8},null,{"$f":"INDEX(Backbone!$N$2:$N$893,MATCH(I29,Backbone!$A$2:$A$893,0))","v":7},null,{"$f":"INDEX(Backbone!$O$2:$O$893,MATCH(I29,Backbone!$A$2:$A$893,0))","v":7.2},null,{"$f":"INDEX(Backbone!$P$2:$P$893,MATCH(I29,Backbone!$A$2:$A$893,0))","v":10},null,{"$f":"INDEX(Backbone!$Q$2:$Q$893,MATCH(I29,Backbone!$A$2:$A$893,0))","v":0.83555555555555561},null,null,{"$f":"(AG29*$AG$22+AI29*$AI$22+AK29*$AK$22+AM29*$AM$22+AO29*$AO$22+AQ29*$AQ$22+AS29*$AS$22+AU29*$AU$22+AW29*$AW$22)/(SUM($AG$22:$AW$22)*10)","v":{"$error":"#DIV/0!"}},null,null,"Aller à \nBoîte à outils: ",null,{"$f":"HYPERLINK(\"#\"&ADDRESS(MATCH(I29,Toolbox!$C$1:$C$300),1,,,\"Toolbox\"),VLOOKUP(I29,Toolbox!$C$1:$C$300,1,FALSE))","v":"Système électronique intégré de surveillance des maladies (EIDSS)"}]
[]
[]
[]
[]
[]
[null,null,null,null,null,null,null,null,{"$f":"Backbone!A604","v":"Application de suivi des expositions et des cas de rage (REACT)"},null,null,null,null,null,null,"Un outil visant à soutenir la mise en œuvre de programmes de gestion intégrée des cas de morsures.",null,null,null,null,null,null,null,null,{"$f":"INDEX(Backbone!$R$2:$R$893,MATCH(I35,Backbone!$A$2:$A$893,0))","v":"Matériel ou logiciel"},null,null,null,{"$f":"INDEX(Backbone!$S$2:$S$893,MATCH(I35,Backbone!$A$2:$A$893,0))","v":"«Une seule santé»; spécifique d'une maladie/menace "},null,null,null,{"$f":"INDEX(Backbone!$H$2:$H$893,MATCH(I35,Backbone!$A$2:$A$893,0))","v":8.6},null,{"$f":"INDEX(Backbone!$I$2:$I$893,MATCH(I35,Backbone!$A$2:$A$893,0))","v":8.6},null,{"$f":"INDEX(Backbone!$J$2:$J$893,MATCH(I35,Backbone!$A$2:$A$893,0))","v":8},null,{"$f":"INDEX(Backbone!$K$1:$K$893,MATCH(I35,Backbone!$A$1:$A$893,0))","v":8.6},null,{"$f":"INDEX(Backbone!$L$2:$L$893,MATCH(I35,Backbone!$A$2:$A$893,0))","v":9.4},null,{"$f":"INDEX(Backbone!$M$2:$M$893,MATCH(I35,Backbone!$A$2:$A$893,0))","v":9.5},null,{"$f":"INDEX(Backbone!$N$2:$N$893,MATCH(I35,Backbone!$A$2:$A$893,0))","v":9},null,{"$f":"INDEX(Backbone!$O$2:$O$893,MATCH(I35,Backbone!$A$2:$A$893,0))","v":9.1999999999999993},null,{"$f":"INDEX(Backbone!$P$2:$P$893,MATCH(I35,Backbone!$A$2:$A$893,0))","v":9},null,{"$f":"INDEX(Backbone!$Q$2:$Q$893,MATCH(I35,Backbone!$A$2:$A$893,0))","v":0.88777777777777767},null,null,{"$f":"(AG35*$AG$22+AI35*$AI$22+AK35*$AK$22+AM35*$AM$22+AO35*$AO$22+AQ35*$AQ$22+AS35*$AS$22+AU35*$AU$22+AW35*$AW$22)/(SUM($AG$22:$AW$22)*10)","v":{"$error":"#DIV/0!"}},null,null,"Aller à \nBoîte à outils: ",null,{"$f":"HYPERLINK(\"#\"&ADDRESS(MATCH(I35,Toolbox!$C$1:$C$300),1,,,\"Toolbox\"),VLOOKUP(I35,Toolbox!$C$1:$C$300,1,FALSE))","v":"Application de suivi des expositions et des cas de rage (REACT)"}]
[]
[]
[]
[]
[]
[null,null,null,null,null,null,null,null,{"$f":"Backbone!A489","v":"Suite pour une biosurveillance électronique automatisée mondiale (SAGES)"},null,null,null,null,null,null,"Une suite d'outils logiciels d'exploitation libre conçus pour améliorer la surveillance électronique des maladies dans des situations où les ressources sont limitées.",null,null,null,null,null,null,null,null,{"$f":"INDEX(Backbone!$R$2:$R$893,MATCH(I41,Backbone!$A$2:$A$893,0))","v":"Matériel ou logiciel"},null,null,null,{"$f":"INDEX(Backbone!$S$2:$S$893,MATCH(I41,Backbone!$A$2:$A$893,0))","v":"«Une seule santé»; Généralisée"},null,null,null,{"$f":"INDEX(Backbone!$H$2:$H$893,MATCH(I41,Backbone!$A$2:$A$893,0))","v":9.8000000000000007},null,{"$f":"INDEX(Backbone!$I$2:$I$893,MATCH(I41,Backbone!$A$2:$A$893,0))","v":10},null,{"$f":"INDEX(Backbone!$J$2:$J$893,MATCH(I41,Backbone!$A$2:$A$893,0))","v":10},null,{"$f":"INDEX(Backbone!$K$1:$K$893,MATCH(I41,Backbone!$A$1:$A$893,0))","v":9.3000000000000007},null,{"$f":"INDEX(Backbone!$L$2:$L$893,MATCH(I41,Backbone!$A$2:$A$893,0))","v":8.5},null,{"$f":"INDEX(Backbone!$M$2:$M$893,MATCH(I41,Backbone!$A$2:$A$893,0))","v":9},null,{"$f":"INDEX(Backbone!$N$2:$N$893,MATCH(I41,Backbone!$A$2:$A$893,0))","v":5.5},null,{"$f":"INDEX(Backbone!$O$2:$O$893,MATCH(I41,Backbone!$A$2:$A$893,0))","v":9.5},null,{"$f":"INDEX(Backbone!$P$2:$P$893,MATCH(I41,Backbone!$A$2:$A$893,0))","v":7},null,{"$f":"INDEX(Backbone!$Q$2:$Q$893,MATCH(I41,Backbone!$A$2:$A$893,0))","v":0.87333333333333329},null,null,{"$f":"(AG41*$AG$22+AI41*$AI$22+AK41*$AK$22+AM41*$AM$22+AO41*$AO$22+AQ41*$AQ$22+AS41*$AS$22+AU41*$AU$22+AW41*$AW$22)/(SUM($AG$22:$AW$22)*10)","v":{"$error":"#DIV/0!"}},null,null,"Aller à \nBoîte à outils: ",null,{"$f":"HYPERLINK(\"#\"&ADDRESS(MATCH(I41,Toolbox!$C$1:$C$300),1,,,\"Toolbox\"),VLOOKUP(I41,Toolbox!$C$1:$C$300,1,FALSE))","v":"Suite pour une biosurveillance électronique automatisée mondiale (SAGES)"}]
[]
[]
[]
[]
[]
[null,null,null,null,null,null,null,null,{"$f":"Backbone!A540","v":"Système de gestion et d'analyse de la surveillance et la réponse aux foyers épidémiques (SORMAS)"},null,null,null,null,null,null,"Un système de santé en ligne mobile et d'exploitation libre qui met en œuvre des procédures de contrôle de maladies et de gestion de flambées épidémiques, et assure la surveillance et la détection précoce des foyers épidémiques grâce à une surveillance numérique en temps réel.",null,null,null,null,null,null,null,null,{"$f":"INDEX(Backbone!$R$2:$R$893,MATCH(I47,Backbone!$A$2:$A$893,0))","v":"Matériel ou logiciel"},null,null,null,{"$f":"INDEX(Backbone!$S$2:$S$893,MATCH(I47,Backbone!$A$2:$A$893,0))","v":"Spécifique du secteur; Généralisée"},null,null,null,{"$f":"INDEX(Backbone!$H$2:$H$893,MATCH(I47,Backbone!$A$2:$A$893,0))","v":9.1999999999999993},null,{"$f":"INDEX(Backbone!$I$2:$I$893,MATCH(I47,Backbone!$A$2:$A$893,0))","v":8},null,{"$f":"INDEX(Backbone!$J$2:$J$893,MATCH(I47,Backbone!$A$2:$A$893,0))","v":9.3000000000000007},null,{"$f":"INDEX(Backbone!$K$1:$K$893,MATCH(I47,Backbone!$A$1:$A$893,0))","v":9.1},null,{"$f":"INDEX(Backbone!$L$2:$L$893,MATCH(I47,Backbone!$A$2:$A$893,0))","v":9.3000000000000007},null,{"$f":"INDEX(Backbone!$M$2:$M$893,MATCH(I47,Backbone!$A$2:$A$893,0))","v":9.3000000000000007},null,{"$f":"INDEX(Backbone!$N$2:$N$893,MATCH(I47,Backbone!$A$2:$A$893,0))","v":6.8},null,{"$f":"INDEX(Backbone!$O$2:$O$893,MATCH(I47,Backbone!$A$2:$A$893,0))","v":3.9},null,{"$f":"INDEX(Backbone!$P$2:$P$893,MATCH(I47,Backbone!$A$2:$A$893,0))","v":5.3},null,{"$f":"INDEX(Backbone!$Q$2:$Q$893,MATCH(I47,Backbone!$A$2:$A$893,0))","v":0.78},null,null,{"$f":"(AG47*$AG$22+AI47*$AI$22+AK47*$AK$22+AM47*$AM$22+AO47*$AO$22+AQ47*$AQ$22+AS47*$AS$22+AU47*$AU$22+AW47*$AW$22)/(SUM($AG$22:$AW$22)*10)","v":{"$error":"#DIV/0!"}},null,null,"Aller à \nBoîte à outils: ",null,{"$f":"HYPERLINK(\"#\"&ADDRESS(MATCH(I47,Toolbox!$C$1:$C$300),1,,,\"Toolbox\"),VLOOKUP(I47,Toolbox!$C$1:$C$300,1,FALSE))","v":"Système de gestion et d'analyse de la surveillance et la réponse aux foyers épidémiques (SORMAS)"}]
[]
[]
[]
[]
[]
[]
[null,null,null,"Autres ressources intéressantes",null,null,null,null,{"$f":"Backbone!A42","v":"Outil d'autoévaluation APHL pour l'informatique"},null,null,null,null,null,null,"Un outil qui permet aux laboratoires de santé publique d'évaluer les points forts et les lacunes des capacités informatiques au regard de 19 domaines opérationnels essentiels.",null,null,null,null,null,null,null,null,{"$f":"INDEX(Backbone!$R$2:$R$893,MATCH(I54,Backbone!$A$2:$A$893,0))","v":"Document d'orientation"},null,null,null,{"$f":"INDEX(Backbone!$S$2:$S$893,MATCH(I54,Backbone!$A$2:$A$893,0))","v":"Spécifique du secteur; Généralisée"},null,null,null,{"$f":"INDEX(Backbone!$H$2:$H$893,MATCH(I54,Backbone!$A$2:$A$893,0))","v":9.1},null,{"$f":"INDEX(Backbone!$I$2:$I$893,MATCH(I54,Backbone!$A$2:$A$893,0))","v":6.7},null,{"$f":"INDEX(Backbone!$J$2:$J$893,MATCH(I54,Backbone!$A$2:$A$893,0))","v":8.3000000000000007},null,{"$f":"INDEX(Backbone!$K$1:$K$893,MATCH(I54,Backbone!$A$1:$A$893,0))","v":8.4},null,{"$f":"INDEX(Backbone!$L$2:$L$893,MATCH(I54,Backbone!$A$2:$A$893,0))","v":8.1},null,{"$f":"INDEX(Backbone!$M$2:$M$893,MATCH(I54,Backbone!$A$2:$A$893,0))","v":8.5},null,{"$f":"INDEX(Backbone!$N$2:$N$893,MATCH(I54,Backbone!$A$2:$A$893,0))","v":5},null,{"$f":"INDEX(Backbone!$O$2:$O$893,MATCH(I54,Backbone!$A$2:$A$893,0))","v":6.1},null,{"$f":"INDEX(Backbone!$P$2:$P$893,MATCH(I54,Backbone!$A$2:$A$893,0))","v":4.3},null,{"$f":"INDEX(Backbone!$Q$2:$Q$893,MATCH(I54,Backbone!$A$2:$A$893,0))","v":0.71666666666666667},null,null,{"$f":"(AG54*$AG$22+AI54*$AI$22+AK54*$AK$22+AM54*$AM$22+AO54*$AO$22+AQ54*$AQ$22+AS54*$AS$22+AU54*$AU$22+AW54*$AW$22)/(SUM($AG$22:$AW$22)*10)","v":{"$error":"#DIV/0!"}},null,null,"Aller à \nBoîte à outils: ",null,{"$f":"HYPERLINK(\"#\"&ADDRESS(MATCH(I54,Toolbox!$C$1:$C$300),1,,,\"Toolbox\"),VLOOKUP(I54,Toolbox!$C$1:$C$300,1,FALSE))","v":"Outil d'autoévaluation APHL pour l'informatique"}]
[]
[]
[]
[]
[]
[null,null,null,null,null,null,null,null,{"$f":"Backbone!A166","v":"EMPRES Système mondial d'information sur les maladies animales (EMPRES-i)"},null,null,null,null,null,null,"Un système d'information sécurisé en ligne pour aider les services vétérinaires au niveau des pays en leur fournissant une base de données de référence sur les maladies animales, y compris les zoonoses, à l'échelon régional et mondial.",null,null,null,null,null,null,null,null,{"$f":"INDEX(Backbone!$R$2:$R$893,MATCH(I60,Backbone!$A$2:$A$893,0))","v":"Matériel ou logiciel"},null,null,null,{"$f":"INDEX(Backbone!$S$2:$S$893,MATCH(I60,Backbone!$A$2:$A$893,0))","v":"Spécifique du secteur; Généralisée"},null,null,null,{"$f":"INDEX(Backbone!$H$2:$H$893,MATCH(I60,Backbone!$A$2:$A$893,0))","v":9},null,{"$f":"INDEX(Backbone!$I$2:$I$893,MATCH(I60,Backbone!$A$2:$A$893,0))","v":8.3000000000000007},null,{"$f":"INDEX(Backbone!$J$2:$J$893,MATCH(I60,Backbone!$A$2:$A$893,0))","v":8.9},null,{"$f":"INDEX(Backbone!$K$1:$K$893,MATCH(I60,Backbone!$A$1:$A$893,0))","v":8.6999999999999993},null,{"$f":"INDEX(Backbone!$L$2:$L$893,MATCH(I60,Backbone!$A$2:$A$893,0))","v":8},null,{"$f":"INDEX(Backbone!$M$2:$M$893,MATCH(I60,Backbone!$A$2:$A$893,0))","v":7.8},null,{"$f":"INDEX(Backbone!$N$2:$N$893,MATCH(I60,Backbone!$A$2:$A$893,0))","v":7.4},null,{"$f":"INDEX(Backbone!$O$2:$O$893,MATCH(I60,Backbone!$A$2:$A$893,0))","v":4.8},null,{"$f":"INDEX(Backbone!$P$2:$P$893,MATCH(I60,Backbone!$A$2:$A$893,0))","v":4.7},null,{"$f":"INDEX(Backbone!$Q$2:$Q$893,MATCH(I60,Backbone!$A$2:$A$893,0))","v":0.75111111111111106},null,null,{"$f":"(AG60*$AG$22+AI60*$AI$22+AK60*$AK$22+AM60*$AM$22+AO60*$AO$22+AQ60*$AQ$22+AS60*$AS$22+AU60*$AU$22+AW60*$AW$22)/(SUM($AG$22:$AW$22)*10)","v":{"$error":"#DIV/0!"}},null,null,"Aller à \nBoîte à outils: ",null,{"$f":"HYPERLINK(\"#\"&ADDRESS(MATCH(I60,Toolbox!$C$1:$C$300),1,,,\"Toolbox\"),VLOOKUP(I60,Toolbox!$C$1:$C$300,1,FALSE))","v":"EMPRES Système mondial d'information sur les maladies animales (EMPRES-i)"}]
[]
[]
[]
[]
[]
[null,null,null,null,null,null,null,null,{"$f":"Backbone!A531","v":"Système de gestion des données de laboratoire Mini (MiniLIMS)"},null,null,null,null,null,null,"Un système d'information conçu pour la gestion des données d'un laboratoire d'analyse à l'organisation simple.",null,null,null,null,null,null,null,null,{"$f":"INDEX(Backbone!$R$2:$R$893,MATCH(I66,Backbone!$A$2:$A$893,0))","v":"Matériel ou logiciel"},null,null,null,{"$f":"INDEX(Backbone!$S$2:$S$893,MATCH(I66,Backbone!$A$2:$A$893,0))","v":"Spécifique du secteur; Généralisée"},null,null,null,{"$f":"INDEX(Backbone!$H$2:$H$893,MATCH(I66,Backbone!$A$2:$A$893,0))","v":9},null,{"$f":"INDEX(Backbone!$I$2:$I$893,MATCH(I66,Backbone!$A$2:$A$893,0))","v":7.3},null,{"$f":"INDEX(Backbone!$J$2:$J$893,MATCH(I66,Backbone!$A$2:$A$893,0))","v":8.4},null,{"$f":"INDEX(Backbone!$K$1:$K$893,MATCH(I66,Backbone!$A$1:$A$893,0))","v":9.3000000000000007},null,{"$f":"INDEX(Backbone!$L$2:$L$893,MATCH(I66,Backbone!$A$2:$A$893,0))","v":7.2},null,{"$f":"INDEX(Backbone!$M$2:$M$893,MATCH(I66,Backbone!$A$2:$A$893,0))","v":6.5},null,{"$f":"INDEX(Backbone!$N$2:$N$893,MATCH(I66,Backbone!$A$2:$A$893,0))","v":2},null,{"$f":"INDEX(Backbone!$O$2:$O$893,MATCH(I66,Backbone!$A$2:$A$893,0))","v":4.4000000000000004},null,{"$f":"INDEX(Backbone!$P$2:$P$893,MATCH(I66,Backbone!$A$2:$A$893,0))","v":4},null,{"$f":"INDEX(Backbone!$Q$2:$Q$893,MATCH(I66,Backbone!$A$2:$A$893,0))","v":0.64555555555555555},null,null,{"$f":"(AG66*$AG$22+AI66*$AI$22+AK66*$AK$22+AM66*$AM$22+AO66*$AO$22+AQ66*$AQ$22+AS66*$AS$22+AU66*$AU$22+AW66*$AW$22)/(SUM($AG$22:$AW$22)*10)","v":{"$error":"#DIV/0!"}},null,null,"Aller à \nBoîte à outils: ",null,{"$f":"HYPERLINK(\"#\"&ADDRESS(MATCH(I66,Toolbox!$C$1:$C$300),1,,,\"Toolbox\"),VLOOKUP(I66,Toolbox!$C$1:$C$300,1,FALSE))","v":"Système de gestion des données de laboratoire Mini (MiniLIMS)"}]
[]
[]
[]
[]
[]
[null,null,null,null,null,null,null,null,{"$f":"Backbone!A522","v":"Système de gestion des données de laboratoire «SILAB for Africa» (SILABFA)"},null,null,null,null,null,null,"Un Système de gestion des données de laboratoire (LIMS) capable de retracer toutes les étapes du diagnostic, depuis la réception des échantillons jusqu'aux rapports finaux.",null,null,null,null,null,null,null,null,{"$f":"INDEX(Backbone!$R$2:$R$893,MATCH(I72,Backbone!$A$2:$A$893,0))","v":"Matériel ou logiciel"},null,null,null,{"$f":"INDEX(Backbone!$S$2:$S$893,MATCH(I72,Backbone!$A$2:$A$893,0))","v":"Spécifique du secteur; Généralisée"},null,null,null,{"$f":"INDEX(Backbone!$H$2:$H$893,MATCH(I72,Backbone!$A$2:$A$893,0))","v":9.3000000000000007},null,{"$f":"INDEX(Backbone!$I$2:$I$893,MATCH(I72,Backbone!$A$2:$A$893,0))","v":10},null,{"$f":"INDEX(Backbone!$J$2:$J$893,MATCH(I72,Backbone!$A$2:$A$893,0))","v":6.8},null,{"$f":"INDEX(Backbone!$K$1:$K$893,MATCH(I72,Backbone!$A$1:$A$893,0))","v":9.3000000000000007},null,{"$f":"INDEX(Backbone!$L$2:$L$893,MATCH(I72,Backbone!$A$2:$A$893,0))","v":8},null,{"$f":"INDEX(Backbone!$M$2:$M$893,MATCH(I72,Backbone!$A$2:$A$893,0))","v":6.5},null,{"$f":"INDEX(Backbone!$N$2:$N$893,MATCH(I72,Backbone!$A$2:$A$893,0))","v":8},null,{"$f":"INDEX(Backbone!$O$2:$O$893,MATCH(I72,Backbone!$A$2:$A$893,0))","v":7.2},null,{"$f":"INDEX(Backbone!$P$2:$P$893,MATCH(I72,Backbone!$A$2:$A$893,0))","v":8},null,{"$f":"INDEX(Backbone!$Q$2:$Q$893,MATCH(I72,Backbone!$A$2:$A$893,0))","v":0.81222222222222229},null,null,{"$f":"(AG72*$AG$22+AI72*$AI$22+AK72*$AK$22+AM72*$AM$22+AO72*$AO$22+AQ72*$AQ$22+AS72*$AS$22+AU72*$AU$22+AW72*$AW$22)/(SUM($AG$22:$AW$22)*10)","v":{"$error":"#DIV/0!"}},null,null,"Aller à \nBoîte à outils: ",null,{"$f":"HYPERLINK(\"#\"&ADDRESS(MATCH(I72,Toolbox!$C$1:$C$300),1,,,\"Toolbox\"),VLOOKUP(I72,Toolbox!$C$1:$C$300,1,FALSE))","v":"Système de gestion des données de laboratoire «SILAB for Africa» (SILABFA)"}]
[]
[]
[]
[]
[]
[]
[]
[]
[]
[]
[]
[]
[]
[]
[]
[]
[]
[]
[]
[]
[]
[]
[]
[null,null,null,null,null,null,null,null,null,null,null,null,null,null,null,null,null,null,null,null,null,null,null,null,null,null,null,null,null,null,null,null,"Accessibilité",null,"Langue",null,"Facilité d'utilisation",null,"Flexibilité",null,"Besoins de données",null,"Analyse des données",null,"Acceptabilité",null,"«Une seule santé»",null,"Impact"]
[]
[]
[]
[]
[]
[]
[null,null,null,null,null,null,null,null,null,null,null,null,null,null,null,null,null,null,null,null,null,null,null,null,null,null,null,null,null,null,null,null,null,null,null,null,null,null,null,null,null,null,null,null,null,null,null,null,null,null,"SCORE BRUT",null,null,"SCORE AJUSTÉ \n(Selon les préférences de l'utilisateur)"]
[]
[]
[]
[null,"RESSOURCES DE NIVEAU 2",null,"DÉSIGNATION",null,null,null,null,"NOM DE LA RESSOURCE",null,null,null,null,null,null,"BRÈVE DESCRIPTION",null,null,null,null,null,null,null,null,"TYPE DE RESSOURCE",null,null,null,"CARACTÈRE GÉNÉRAL DE LA RESSOURCE"]
[]
[]
[]
[null,null,null,null,null,null,null,null,null,null,null,null,null,null,null,null,null,null,null,null,null,null,null,null,null,null,null,null,null,null,null,null,{"$f":"'Attribute Survey'!S111","v":0},null,{"$f":"'Attribute Survey'!S115","v":0},null,{"$f":"'Attribute Survey'!S119","v":0},null,{"$f":"'Attribute Survey'!S123","v":0},null,{"$f":"'Attribute Survey'!S127","v":0},null,{"$f":"'Attribute Survey'!S131","v":0},null,{"$f":"'Attribute Survey'!S135","v":0},null,{"$f":"'Attribute Survey'!S139","v":0},null,{"$f":"'Attribute Survey'!S143","v":0}]
[null,null,null,"Ressources les mieux adaptées",null,null,null,null,{"$f":"Backbone!A65","v":"Logiciel d'information de santé au niveau des districts 2 (DHIS2) "},null,null,null,null,null,null,"Une plateforme d'exploitation libre en ligne pour les systèmes d'information sanitaire.",null,null,null,null,null,null,null,null,{"$f":"INDEX(Backbone!$R$2:$R$893,MATCH(I112,Backbone!$A$2:$A$893,0))","v":"Matériel ou logiciel"},null,null,null,{"$f":"INDEX(Backbone!$S$2:$S$893,MATCH(I112,Backbone!$A$2:$A$893,0))","v":"Spécifique du secteur; Généralisée"},null,null,null,{"$f":"INDEX(Backbone!$H$2:$H$893,MATCH(I112,Backbone!$A$2:$A$893,0))","v":8.8000000000000007},null,{"$f":"INDEX(Backbone!$I$2:$I$893,MATCH(I112,Backbone!$A$2:$A$893,0))","v":8.6999999999999993},null,{"$f":"INDEX(Backbone!$J$2:$J$893,MATCH(I112,Backbone!$A$2:$A$893,0))","v":8},null,{"$f":"INDEX(Backbone!$K$2:$K$893,MATCH(I112,Backbone!$A$2:$A$893,0))","v":8.6999999999999993},null,{"$f":"INDEX(Backbone!$L$2:$L$893,MATCH(I112,Backbone!$A$2:$A$893,0))","v":9.3000000000000007},null,{"$f":"INDEX(Backbone!$M$2:$M$893,MATCH(I112,Backbone!$A$2:$A$893,0))","v":9},null,{"$f":"INDEX(Backbone!$N$2:$N$893,MATCH(I112,Backbone!$A$2:$A$893,0))","v":10},null,{"$f":"INDEX(Backbone!$O$2:$O$893,MATCH(I112,Backbone!$A$2:$A$893,0))","v":7.8},null,{"$f":"INDEX(Backbone!$P$2:$P$893,MATCH(I112,Backbone!$A$2:$A$893,0))","v":7},null,{"$f":"INDEX(Backbone!$Q$2:$Q$893,MATCH(I112,Backbone!$A$2:$A$893,0))","v":0.85888888888888881},null,null,{"$f":"(AG112*$AG$22+AI112*$AI$22+AK112*$AK$22+AM112*$AM$22+AO112*$AO$22+AQ112*$AQ$22+AS112*$AS$22+AU112*$AU$22+AW112*$AW$22)/(SUM($AG$22:$AW$22)*10)","v":{"$error":"#DIV/0!"}},null,null,"Aller à \nBoîte à outils: ",null,{"$f":"HYPERLINK(\"#\"&ADDRESS(MATCH(I112,Toolbox!$C$1:$C$300),1,,,\"Toolbox\"),VLOOKUP(I112,Toolbox!$C$1:$C$300,1,FALSE))","v":"Logiciel d'information de santé au niveau des districts 2 (DHIS2) "}]
[]
[]
[]
[]
[]
[null,null,null,null,null,null,null,null,{"$f":"Backbone!A138","v":"Système électronique intégré de surveillance des maladies (EIDSS)"},null,null,null,null,null,null,"Un système électronique en ligne et personnalisable d'établissement de rapports sur les maladies qui peut aider à la surveillance passive et active de la santé humaine et vétérinaire, aux diagnostics de laboratoire, à la surveillance des vecteurs et à la gestion des foyers épidémiques. ",null,null,null,null,null,null,null,null,{"$f":"INDEX(Backbone!$R$2:$R$893,MATCH(I118,Backbone!$A$2:$A$893,0))","v":"Matériel ou logiciel"},null,null,null,{"$f":"INDEX(Backbone!$S$2:$S$893,MATCH(I118,Backbone!$A$2:$A$893,0))","v":"«Une seule santé»; Généralisée"},null,null,null,{"$f":"INDEX(Backbone!$H$2:$H$893,MATCH(I118,Backbone!$A$2:$A$893,0))","v":6.8},null,{"$f":"INDEX(Backbone!$I$2:$I$893,MATCH(I118,Backbone!$A$2:$A$893,0))","v":10},null,{"$f":"INDEX(Backbone!$J$2:$J$893,MATCH(I118,Backbone!$A$2:$A$893,0))","v":8.4},null,{"$f":"INDEX(Backbone!$K$1:$K$893,MATCH(I118,Backbone!$A$1:$A$893,0))","v":8.6999999999999993},null,{"$f":"INDEX(Backbone!$L$2:$L$893,MATCH(I118,Backbone!$A$2:$A$893,0))","v":9.1},null,{"$f":"INDEX(Backbone!$M$2:$M$893,MATCH(I118,Backbone!$A$2:$A$893,0))","v":8},null,{"$f":"INDEX(Backbone!$N$2:$N$893,MATCH(I118,Backbone!$A$2:$A$893,0))","v":7},null,{"$f":"INDEX(Backbone!$O$2:$O$893,MATCH(I118,Backbone!$A$2:$A$893,0))","v":7.2},null,{"$f":"INDEX(Backbone!$P$2:$P$893,MATCH(I118,Backbone!$A$2:$A$893,0))","v":10},null,{"$f":"INDEX(Backbone!$Q$2:$Q$893,MATCH(I118,Backbone!$A$2:$A$893,0))","v":0.83555555555555561},null,null,{"$f":"(AG118*$AG$22+AI118*$AI$22+AK118*$AK$22+AM118*$AM$22+AO118*$AO$22+AQ118*$AQ$22+AS118*$AS$22+AU118*$AU$22+AW118*$AW$22)/(SUM($AG$22:$AW$22)*10)","v":{"$error":"#DIV/0!"}},null,null,"Aller à \nBoîte à outils: ",null,{"$f":"HYPERLINK(\"#\"&ADDRESS(MATCH(I118,Toolbox!$C$1:$C$300),1,,,\"Toolbox\"),VLOOKUP(I118,Toolbox!$C$1:$C$300,1,FALSE))","v":"Système électronique intégré de surveillance des maladies (EIDSS)"}]
[]
[]
[]
[]
[]
[null,null,null,null,null,null,null,null,{"$f":"Backbone!A604","v":"Application de suivi des expositions et des cas de rage (REACT)"},null,null,null,null,null,null,"Un outil visant à soutenir la mise en œuvre de programmes de gestion intégrée des cas de morsures.",null,null,null,null,null,null,null,null,{"$f":"INDEX(Backbone!$R$2:$R$893,MATCH(I124,Backbone!$A$2:$A$893,0))","v":"Matériel ou logiciel"},null,null,null,{"$f":"INDEX(Backbone!$S$2:$S$893,MATCH(I124,Backbone!$A$2:$A$893,0))","v":"«Une seule santé»; spécifique d'une maladie/menace "},null,null,null,{"$f":"INDEX(Backbone!$H$2:$H$893,MATCH(I124,Backbone!$A$2:$A$893,0))","v":8.6},null,{"$f":"INDEX(Backbone!$I$2:$I$893,MATCH(I124,Backbone!$A$2:$A$893,0))","v":8.6},null,{"$f":"INDEX(Backbone!$J$2:$J$893,MATCH(I124,Backbone!$A$2:$A$893,0))","v":8},null,{"$f":"INDEX(Backbone!$K$1:$K$893,MATCH(I124,Backbone!$A$1:$A$893,0))","v":8.6},null,{"$f":"INDEX(Backbone!$L$2:$L$893,MATCH(I124,Backbone!$A$2:$A$893,0))","v":9.4},null,{"$f":"INDEX(Backbone!$M$2:$M$893,MATCH(I124,Backbone!$A$2:$A$893,0))","v":9.5},null,{"$f":"INDEX(Backbone!$N$2:$N$893,MATCH(I124,Backbone!$A$2:$A$893,0))","v":9},null,{"$f":"INDEX(Backbone!$O$2:$O$893,MATCH(I124,Backbone!$A$2:$A$893,0))","v":9.1999999999999993},null,{"$f":"INDEX(Backbone!$P$2:$P$893,MATCH(I124,Backbone!$A$2:$A$893,0))","v":9},null,{"$f":"INDEX(Backbone!$Q$2:$Q$893,MATCH(I124,Backbone!$A$2:$A$893,0))","v":0.88777777777777767},null,null,{"$f":"(AG124*$AG$22+AI124*$AI$22+AK124*$AK$22+AM124*$AM$22+AO124*$AO$22+AQ124*$AQ$22+AS124*$AS$22+AU124*$AU$22+AW124*$AW$22)/(SUM($AG$22:$AW$22)*10)","v":{"$error":"#DIV/0!"}},null,null,"Aller à \nBoîte à outils: ",null,{"$f":"HYPERLINK(\"#\"&ADDRESS(MATCH(I124,Toolbox!$C$1:$C$300),1,,,\"Toolbox\"),VLOOKUP(I124,Toolbox!$C$1:$C$300,1,FALSE))","v":"Application de suivi des expositions et des cas de rage (REACT)"}]
[]
[]
[]
[]
[]
[null,null,null,null,null,null,null,null,{"$f":"Backbone!A489","v":"Suite pour une biosurveillance électronique automatisée mondiale (SAGES)"},null,null,null,null,null,null,"Une suite d'outils logiciels d'exploitation libre conçus pour améliorer la surveillance électronique des maladies dans des situations où les ressources sont limitées.",null,null,null,null,null,null,null,null,{"$f":"INDEX(Backbone!$R$2:$R$893,MATCH(I130,Backbone!$A$2:$A$893,0))","v":"Matériel ou logiciel"},null,null,null,{"$f":"INDEX(Backbone!$S$2:$S$893,MATCH(I130,Backbone!$A$2:$A$893,0))","v":"«Une seule santé»; Généralisée"},null,null,null,{"$f":"INDEX(Backbone!$H$2:$H$893,MATCH(I130,Backbone!$A$2:$A$893,0))","v":9.8000000000000007},null,{"$f":"INDEX(Backbone!$I$2:$I$893,MATCH(I130,Backbone!$A$2:$A$893,0))","v":10},null,{"$f":"INDEX(Backbone!$J$2:$J$893,MATCH(I130,Backbone!$A$2:$A$893,0))","v":10},null,{"$f":"INDEX(Backbone!$K$1:$K$893,MATCH(I130,Backbone!$A$1:$A$893,0))","v":9.3000000000000007},null,{"$f":"INDEX(Backbone!$L$2:$L$893,MATCH(I130,Backbone!$A$2:$A$893,0))","v":8.5},null,{"$f":"INDEX(Backbone!$M$2:$M$893,MATCH(I130,Backbone!$A$2:$A$893,0))","v":9},null,{"$f":"INDEX(Backbone!$N$2:$N$893,MATCH(I130,Backbone!$A$2:$A$893,0))","v":5.5},null,{"$f":"INDEX(Backbone!$O$2:$O$893,MATCH(I130,Backbone!$A$2:$A$893,0))","v":9.5},null,{"$f":"INDEX(Backbone!$P$2:$P$893,MATCH(I130,Backbone!$A$2:$A$893,0))","v":7},null,{"$f":"INDEX(Backbone!$Q$2:$Q$893,MATCH(I130,Backbone!$A$2:$A$893,0))","v":0.87333333333333329},null,null,{"$f":"(AG130*$AG$22+AI130*$AI$22+AK130*$AK$22+AM130*$AM$22+AO130*$AO$22+AQ130*$AQ$22+AS130*$AS$22+AU130*$AU$22+AW130*$AW$22)/(SUM($AG$22:$AW$22)*10)","v":{"$error":"#DIV/0!"}},null,null,"Aller à \nBoîte à outils: ",null,{"$f":"HYPERLINK(\"#\"&ADDRESS(MATCH(I130,Toolbox!$C$1:$C$300),1,,,\"Toolbox\"),VLOOKUP(I130,Toolbox!$C$1:$C$300,1,FALSE))","v":"Suite pour une biosurveillance électronique automatisée mondiale (SAGES)"}]
[]
[]
[]
[]
[]
[null,null,null,null,null,null,null,null,{"$f":"Backbone!A540","v":"Système de gestion et d'analyse de la surveillance et la réponse aux foyers épidémiques (SORMAS)"},null,null,null,null,null,null,"Un système de santé en ligne mobile et d'exploitation libre qui met en œuvre des procédures de contrôle de maladies et de gestion de flambées épidémiques, et assure la surveillance et la détection précoce des foyers épidémiques grâce à une surveillance numérique en temps réel.",null,null,null,null,null,null,null,null,{"$f":"INDEX(Backbone!$R$2:$R$893,MATCH(I136,Backbone!$A$2:$A$893,0))","v":"Matériel ou logiciel"},null,null,null,{"$f":"INDEX(Backbone!$S$2:$S$893,MATCH(I136,Backbone!$A$2:$A$893,0))","v":"Spécifique du secteur; Généralisée"},null,null,null,{"$f":"INDEX(Backbone!$H$2:$H$893,MATCH(I136,Backbone!$A$2:$A$893,0))","v":9.1999999999999993},null,{"$f":"INDEX(Backbone!$I$2:$I$893,MATCH(I136,Backbone!$A$2:$A$893,0))","v":8},null,{"$f":"INDEX(Backbone!$J$2:$J$893,MATCH(I136,Backbone!$A$2:$A$893,0))","v":9.3000000000000007},null,{"$f":"INDEX(Backbone!$K$1:$K$893,MATCH(I136,Backbone!$A$1:$A$893,0))","v":9.1},null,{"$f":"INDEX(Backbone!$L$2:$L$893,MATCH(I136,Backbone!$A$2:$A$893,0))","v":9.3000000000000007},null,{"$f":"INDEX(Backbone!$M$2:$M$893,MATCH(I136,Backbone!$A$2:$A$893,0))","v":9.3000000000000007},null,{"$f":"INDEX(Backbone!$N$2:$N$893,MATCH(I136,Backbone!$A$2:$A$893,0))","v":6.8},null,{"$f":"INDEX(Backbone!$O$2:$O$893,MATCH(I136,Backbone!$A$2:$A$893,0))","v":3.9},null,{"$f":"INDEX(Backbone!$P$2:$P$893,MATCH(I136,Backbone!$A$2:$A$893,0))","v":5.3},null,{"$f":"INDEX(Backbone!$Q$2:$Q$893,MATCH(I136,Backbone!$A$2:$A$893,0))","v":0.78},null,null,{"$f":"(AG136*$AG$22+AI136*$AI$22+AK136*$AK$22+AM136*$AM$22+AO136*$AO$22+AQ136*$AQ$22+AS136*$AS$22+AU136*$AU$22+AW136*$AW$22)/(SUM($AG$22:$AW$22)*10)","v":{"$error":"#DIV/0!"}},null,null,"Aller à \nBoîte à outils: ",null,{"$f":"HYPERLINK(\"#\"&ADDRESS(MATCH(I136,Toolbox!$C$1:$C$300),1,,,\"Toolbox\"),VLOOKUP(I136,Toolbox!$C$1:$C$300,1,FALSE))","v":"Système de gestion et d'analyse de la surveillance et la réponse aux foyers épidémiques (SORMAS)"}]
[]
[]
[]
[]
[]
[]
[null,null,null,"Autres ressources intéressantes",null,null,null,null,{"$f":"Backbone!A42","v":"Outil d'autoévaluation APHL pour l'informatique"},null,null,null,null,null,null,"Un outil qui permet aux laboratoires de santé publique d'évaluer les points forts et les lacunes des capacités informatiques au regard de 19 domaines opérationnels essentiels.",null,null,null,null,null,null,null,null,{"$f":"INDEX(Backbone!$R$2:$R$893,MATCH(I143,Backbone!$A$2:$A$893,0))","v":"Document d'orientation"},null,null,null,{"$f":"INDEX(Backbone!$S$2:$S$893,MATCH(I143,Backbone!$A$2:$A$893,0))","v":"Spécifique du secteur; Généralisée"},null,null,null,{"$f":"INDEX(Backbone!$H$2:$H$893,MATCH(I143,Backbone!$A$2:$A$893,0))","v":9.1},null,{"$f":"INDEX(Backbone!$I$2:$I$893,MATCH(I143,Backbone!$A$2:$A$893,0))","v":6.7},null,{"$f":"INDEX(Backbone!$J$2:$J$893,MATCH(I143,Backbone!$A$2:$A$893,0))","v":8.3000000000000007},null,{"$f":"INDEX(Backbone!$K$1:$K$893,MATCH(I143,Backbone!$A$1:$A$893,0))","v":8.4},null,{"$f":"INDEX(Backbone!$L$2:$L$893,MATCH(I143,Backbone!$A$2:$A$893,0))","v":8.1},null,{"$f":"INDEX(Backbone!$M$2:$M$893,MATCH(I143,Backbone!$A$2:$A$893,0))","v":8.5},null,{"$f":"INDEX(Backbone!$N$2:$N$893,MATCH(I143,Backbone!$A$2:$A$893,0))","v":5},null,{"$f":"INDEX(Backbone!$O$2:$O$893,MATCH(I143,Backbone!$A$2:$A$893,0))","v":6.1},null,{"$f":"INDEX(Backbone!$P$2:$P$893,MATCH(I143,Backbone!$A$2:$A$893,0))","v":4.3},null,{"$f":"INDEX(Backbone!$Q$2:$Q$893,MATCH(I143,Backbone!$A$2:$A$893,0))","v":0.71666666666666667},null,null,{"$f":"(AG143*$AG$22+AI143*$AI$22+AK143*$AK$22+AM143*$AM$22+AO143*$AO$22+AQ143*$AQ$22+AS143*$AS$22+AU143*$AU$22+AW143*$AW$22)/(SUM($AG$22:$AW$22)*10)","v":{"$error":"#DIV/0!"}},null,null,"Aller à \nBoîte à outils: ",null,{"$f":"HYPERLINK(\"#\"&ADDRESS(MATCH(I143,Toolbox!$C$1:$C$300),1,,,\"Toolbox\"),VLOOKUP(I143,Toolbox!$C$1:$C$300,1,FALSE))","v":"Outil d'autoévaluation APHL pour l'informatique"}]
[]
[]
[]
[]
[]
[null,null,null,null,null,null,null,null,{"$f":"Backbone!A166","v":"EMPRES Système mondial d'information sur les maladies animales (EMPRES-i)"},null,null,null,null,null,null,"Un système d'information sécurisé en ligne pour aider les services vétérinaires au niveau des pays en leur fournissant une base de données de référence sur les maladies animales, y compris les zoonoses, à l'échelon régional et mondial.",null,null,null,null,null,null,null,null,{"$f":"INDEX(Backbone!$R$2:$R$893,MATCH(I149,Backbone!$A$2:$A$893,0))","v":"Matériel ou logiciel"},null,null,null,{"$f":"INDEX(Backbone!$S$2:$S$893,MATCH(I149,Backbone!$A$2:$A$893,0))","v":"Spécifique du secteur; Généralisée"},null,null,null,{"$f":"INDEX(Backbone!$H$2:$H$893,MATCH(I149,Backbone!$A$2:$A$893,0))","v":9},null,{"$f":"INDEX(Backbone!$I$2:$I$893,MATCH(I149,Backbone!$A$2:$A$893,0))","v":8.3000000000000007},null,{"$f":"INDEX(Backbone!$J$2:$J$893,MATCH(I149,Backbone!$A$2:$A$893,0))","v":8.9},null,{"$f":"INDEX(Backbone!$K$1:$K$893,MATCH(I149,Backbone!$A$1:$A$893,0))","v":8.6999999999999993},null,{"$f":"INDEX(Backbone!$L$2:$L$893,MATCH(I149,Backbone!$A$2:$A$893,0))","v":8},null,{"$f":"INDEX(Backbone!$M$2:$M$893,MATCH(I149,Backbone!$A$2:$A$893,0))","v":7.8},null,{"$f":"INDEX(Backbone!$N$2:$N$893,MATCH(I149,Backbone!$A$2:$A$893,0))","v":7.4},null,{"$f":"INDEX(Backbone!$O$2:$O$893,MATCH(I149,Backbone!$A$2:$A$893,0))","v":4.8},null,{"$f":"INDEX(Backbone!$P$2:$P$893,MATCH(I149,Backbone!$A$2:$A$893,0))","v":4.7},null,{"$f":"INDEX(Backbone!$Q$2:$Q$893,MATCH(I149,Backbone!$A$2:$A$893,0))","v":0.75111111111111106},null,null,{"$f":"(AG149*$AG$22+AI149*$AI$22+AK149*$AK$22+AM149*$AM$22+AO149*$AO$22+AQ149*$AQ$22+AS149*$AS$22+AU149*$AU$22+AW149*$AW$22)/(SUM($AG$22:$AW$22)*10)","v":{"$error":"#DIV/0!"}},null,null,"Aller à \nBoîte à outils: ",null,{"$f":"HYPERLINK(\"#\"&ADDRESS(MATCH(I149,Toolbox!$C$1:$C$300),1,,,\"Toolbox\"),VLOOKUP(I149,Toolbox!$C$1:$C$300,1,FALSE))","v":"EMPRES Système mondial d'information sur les maladies animales (EMPRES-i)"}]
[]
[]
[]
[]
[]
[null,null,null,null,null,null,null,null,{"$f":"Backbone!A531","v":"Système de gestion des données de laboratoire Mini (MiniLIMS)"},null,null,null,null,null,null,"Un système d'information conçu pour la gestion des données d'un laboratoire d'analyse à l'organisation simple.",null,null,null,null,null,null,null,null,{"$f":"INDEX(Backbone!$R$2:$R$893,MATCH(I155,Backbone!$A$2:$A$893,0))","v":"Matériel ou logiciel"},null,null,null,{"$f":"INDEX(Backbone!$S$2:$S$893,MATCH(I155,Backbone!$A$2:$A$893,0))","v":"Spécifique du secteur; Généralisée"},null,null,null,{"$f":"INDEX(Backbone!$H$2:$H$893,MATCH(I155,Backbone!$A$2:$A$893,0))","v":9},null,{"$f":"INDEX(Backbone!$I$2:$I$893,MATCH(I155,Backbone!$A$2:$A$893,0))","v":7.3},null,{"$f":"INDEX(Backbone!$J$2:$J$893,MATCH(I155,Backbone!$A$2:$A$893,0))","v":8.4},null,{"$f":"INDEX(Backbone!$K$1:$K$893,MATCH(I155,Backbone!$A$1:$A$893,0))","v":9.3000000000000007},null,{"$f":"INDEX(Backbone!$L$2:$L$893,MATCH(I155,Backbone!$A$2:$A$893,0))","v":7.2},null,{"$f":"INDEX(Backbone!$M$2:$M$893,MATCH(I155,Backbone!$A$2:$A$893,0))","v":6.5},null,{"$f":"INDEX(Backbone!$N$2:$N$893,MATCH(I155,Backbone!$A$2:$A$893,0))","v":2},null,{"$f":"INDEX(Backbone!$O$2:$O$893,MATCH(I155,Backbone!$A$2:$A$893,0))","v":4.4000000000000004},null,{"$f":"INDEX(Backbone!$P$2:$P$893,MATCH(I155,Backbone!$A$2:$A$893,0))","v":4},null,{"$f":"INDEX(Backbone!$Q$2:$Q$893,MATCH(I155,Backbone!$A$2:$A$893,0))","v":0.64555555555555555},null,null,{"$f":"(AG155*$AG$22+AI155*$AI$22+AK155*$AK$22+AM155*$AM$22+AO155*$AO$22+AQ155*$AQ$22+AS155*$AS$22+AU155*$AU$22+AW155*$AW$22)/(SUM($AG$22:$AW$22)*10)","v":{"$error":"#DIV/0!"}},null,null,"Aller à \nBoîte à outils: ",null,{"$f":"HYPERLINK(\"#\"&ADDRESS(MATCH(I155,Toolbox!$C$1:$C$300),1,,,\"Toolbox\"),VLOOKUP(I155,Toolbox!$C$1:$C$300,1,FALSE))","v":"Système de gestion des données de laboratoire Mini (MiniLIMS)"}]
[]
[]
[]
[]
[]
[null,null,null,null,null,null,null,null,{"$f":"Backbone!A522","v":"Système de gestion des données de laboratoire «SILAB for Africa» (SILABFA)"},null,null,null,null,null,null,"Un Système de gestion des données de laboratoire (LIMS) capable de retracer toutes les étapes du diagnostic, depuis la réception des échantillons jusqu'aux rapports finaux.",null,null,null,null,null,null,null,null,{"$f":"INDEX(Backbone!$R$2:$R$893,MATCH(I161,Backbone!$A$2:$A$893,0))","v":"Matériel ou logiciel"},null,null,null,{"$f":"INDEX(Backbone!$S$2:$S$893,MATCH(I161,Backbone!$A$2:$A$893,0))","v":"Spécifique du secteur; Généralisée"},null,null,null,{"$f":"INDEX(Backbone!$H$2:$H$893,MATCH(I161,Backbone!$A$2:$A$893,0))","v":9.3000000000000007},null,{"$f":"INDEX(Backbone!$I$2:$I$893,MATCH(I161,Backbone!$A$2:$A$893,0))","v":10},null,{"$f":"INDEX(Backbone!$J$2:$J$893,MATCH(I161,Backbone!$A$2:$A$893,0))","v":6.8},null,{"$f":"INDEX(Backbone!$K$1:$K$893,MATCH(I161,Backbone!$A$1:$A$893,0))","v":9.3000000000000007},null,{"$f":"INDEX(Backbone!$L$2:$L$893,MATCH(I161,Backbone!$A$2:$A$893,0))","v":8},null,{"$f":"INDEX(Backbone!$M$2:$M$893,MATCH(I161,Backbone!$A$2:$A$893,0))","v":6.5},null,{"$f":"INDEX(Backbone!$N$2:$N$893,MATCH(I161,Backbone!$A$2:$A$893,0))","v":8},null,{"$f":"INDEX(Backbone!$O$2:$O$893,MATCH(I161,Backbone!$A$2:$A$893,0))","v":7.2},null,{"$f":"INDEX(Backbone!$P$2:$P$893,MATCH(I161,Backbone!$A$2:$A$893,0))","v":8},null,{"$f":"INDEX(Backbone!$Q$2:$Q$893,MATCH(I161,Backbone!$A$2:$A$893,0))","v":0.81222222222222229},null,null,{"$f":"(AG161*$AG$22+AI161*$AI$22+AK161*$AK$22+AM161*$AM$22+AO161*$AO$22+AQ161*$AQ$22+AS161*$AS$22+AU161*$AU$22+AW161*$AW$22)/(SUM($AG$22:$AW$22)*10)","v":{"$error":"#DIV/0!"}},null,null,"Aller à \nBoîte à outils: ",null,{"$f":"HYPERLINK(\"#\"&ADDRESS(MATCH(I161,Toolbox!$C$1:$C$300),1,,,\"Toolbox\"),VLOOKUP(I161,Toolbox!$C$1:$C$300,1,FALSE))","v":"Système de gestion des données de laboratoire «SILAB for Africa» (SILABFA)"}]
[]
[]
[]
[]
[]
[]
[]
[]
[]
[]
[]
[]
[]
[]
[]
[]
[]
[]
[]
[]
[]
[]
[]
[]
[null,null,null,null,null,null,null,null,null,null,null,null,null,null,null,null,null,null,null,null,null,null,null,null,null,null,null,null,null,null,null,null,"Accessibilité",null,"Langue",null,"Facilité d'utilisation",null,"Flexibilité",null,"Besoins de données",null,"Analyse des données",null,"Acceptabilité",null,"«Une seule santé»",null,"Impact"]
[]
[]
[]
[]
[]
[]
[null,null,null,null,null,null,null,null,null,null,null,null,null,null,null,null,null,null,null,null,null,null,null,null,null,null,null,null,null,null,null,null,null,null,null,null,null,null,null,null,null,null,null,null,null,null,null,null,null,null,"SCORE BRUT",null,null,"SCORE AJUSTÉ \n(Selon les préférences de l'utilisateur)"]
[]
[]
[]
[null,"RESSOURCES DE NIVEAU 3",null,"DÉSIGNATION",null,null,null,null,"NOM DE LA RESSOURCE",null,null,null,null,null,null,"BRÈVE DESCRIPTION",null,null,null,null,null,null,null,null,"TYPE DE RESSOURCE",null,null,null,"CARACTÈRE GÉNÉRAL DE LA RESSOURCE"]
[]
[]
[]
[null,null,null,null,null,null,null,null,null,null,null,null,null,null,null,null,null,null,null,null,null,null,null,null,null,null,null,null,null,null,null,null,{"$f":"'Attribute Survey'!S201","v":0},null,{"$f":"'Attribute Survey'!S205","v":0},null,{"$f":"'Attribute Survey'!S209","v":0},null,{"$f":"'Attribute Survey'!S213","v":0},null,{"$f":"'Attribute Survey'!S217","v":0},null,{"$f":"'Attribute Survey'!S221","v":0},null,{"$f":"'Attribute Survey'!S225","v":0},null,{"$f":"'Attribute Survey'!S229","v":0},null,{"$f":"'Attribute Survey'!S233","v":0}]
[null,null,null,"Ressources les mieux adaptées",null,null,null,null,{"$f":"Backbone!A65","v":"Logiciel d'information de santé au niveau des districts 2 (DHIS2) "},null,null,null,null,null,null,"Une plateforme d'exploitation libre en ligne pour les systèmes d'information sanitaire.",null,null,null,null,null,null,null,null,{"$f":"INDEX(Backbone!$R$2:$R$893,MATCH(I202,Backbone!$A$2:$A$893,0))","v":"Matériel ou logiciel"},null,null,null,{"$f":"INDEX(Backbone!$S$2:$S$893,MATCH(I202,Backbone!$A$2:$A$893,0))","v":"Spécifique du secteur; Généralisée"},null,null,null,{"$f":"INDEX(Backbone!$H$2:$H$893,MATCH(I202,Backbone!$A$2:$A$893,0))","v":8.8000000000000007},null,{"$f":"INDEX(Backbone!$I$2:$I$893,MATCH(I202,Backbone!$A$2:$A$893,0))","v":8.6999999999999993},null,{"$f":"INDEX(Backbone!$J$2:$J$893,MATCH(I202,Backbone!$A$2:$A$893,0))","v":8},null,{"$f":"INDEX(Backbone!$K$2:$K$893,MATCH(I202,Backbone!$A$2:$A$893,0))","v":8.6999999999999993},null,{"$f":"INDEX(Backbone!$L$2:$L$893,MATCH(I202,Backbone!$A$2:$A$893,0))","v":9.3000000000000007},null,{"$f":"INDEX(Backbone!$M$2:$M$893,MATCH(I202,Backbone!$A$2:$A$893,0))","v":9},null,{"$f":"INDEX(Backbone!$N$2:$N$893,MATCH(I202,Backbone!$A$2:$A$893,0))","v":10},null,{"$f":"INDEX(Backbone!$O$2:$O$893,MATCH(I202,Backbone!$A$2:$A$893,0))","v":7.8},null,{"$f":"INDEX(Backbone!$P$2:$P$893,MATCH(I202,Backbone!$A$2:$A$893,0))","v":7},null,{"$f":"INDEX(Backbone!$Q$2:$Q$893,MATCH(I202,Backbone!$A$2:$A$893,0))","v":0.85888888888888881},null,null,{"$f":"(AG202*$AG$22+AI202*$AI$22+AK202*$AK$22+AM202*$AM$22+AO202*$AO$22+AQ202*$AQ$22+AS202*$AS$22+AU202*$AU$22+AW202*$AW$22)/(SUM($AG$22:$AW$22)*10)","v":{"$error":"#DIV/0!"}},null,null,"Aller à \nBoîte à outils: ",null,{"$f":"HYPERLINK(\"#\"&ADDRESS(MATCH(I202,Toolbox!$C$1:$C$300),1,,,\"Toolbox\"),VLOOKUP(I202,Toolbox!$C$1:$C$300,1,FALSE))","v":"Logiciel d'information de santé au niveau des districts 2 (DHIS2) "}]
[]
[]
[]
[]
[]
[null,null,null,null,null,null,null,null,{"$f":"Backbone!A138","v":"Système électronique intégré de surveillance des maladies (EIDSS)"},null,null,null,null,null,null,"Un système électronique en ligne et personnalisable d'établissement de rapports sur les maladies qui peut aider à la surveillance passive et active de la santé humaine et vétérinaire, aux diagnostics de laboratoire, à la surveillance des vecteurs et à la gestion des foyers épidémiques. ",null,null,null,null,null,null,null,null,{"$f":"INDEX(Backbone!$R$2:$R$893,MATCH(I208,Backbone!$A$2:$A$893,0))","v":"Matériel ou logiciel"},null,null,null,{"$f":"INDEX(Backbone!$S$2:$S$893,MATCH(I208,Backbone!$A$2:$A$893,0))","v":"«Une seule santé»; Généralisée"},null,null,null,{"$f":"INDEX(Backbone!$H$2:$H$893,MATCH(I208,Backbone!$A$2:$A$893,0))","v":6.8},null,{"$f":"INDEX(Backbone!$I$2:$I$893,MATCH(I208,Backbone!$A$2:$A$893,0))","v":10},null,{"$f":"INDEX(Backbone!$J$2:$J$893,MATCH(I208,Backbone!$A$2:$A$893,0))","v":8.4},null,{"$f":"INDEX(Backbone!$K$1:$K$893,MATCH(I208,Backbone!$A$1:$A$893,0))","v":8.6999999999999993},null,{"$f":"INDEX(Backbone!$L$2:$L$893,MATCH(I208,Backbone!$A$2:$A$893,0))","v":9.1},null,{"$f":"INDEX(Backbone!$M$2:$M$893,MATCH(I208,Backbone!$A$2:$A$893,0))","v":8},null,{"$f":"INDEX(Backbone!$N$2:$N$893,MATCH(I208,Backbone!$A$2:$A$893,0))","v":7},null,{"$f":"INDEX(Backbone!$O$2:$O$893,MATCH(I208,Backbone!$A$2:$A$893,0))","v":7.2},null,{"$f":"INDEX(Backbone!$P$2:$P$893,MATCH(I208,Backbone!$A$2:$A$893,0))","v":10},null,{"$f":"INDEX(Backbone!$Q$2:$Q$893,MATCH(I208,Backbone!$A$2:$A$893,0))","v":0.83555555555555561},null,null,{"$f":"(AG208*$AG$22+AI208*$AI$22+AK208*$AK$22+AM208*$AM$22+AO208*$AO$22+AQ208*$AQ$22+AS208*$AS$22+AU208*$AU$22+AW208*$AW$22)/(SUM($AG$22:$AW$22)*10)","v":{"$error":"#DIV/0!"}},null,null,"Aller à \nBoîte à outils: ",null,{"$f":"HYPERLINK(\"#\"&ADDRESS(MATCH(I208,Toolbox!$C$1:$C$300),1,,,\"Toolbox\"),VLOOKUP(I208,Toolbox!$C$1:$C$300,1,FALSE))","v":"Système électronique intégré de surveillance des maladies (EIDSS)"}]
[]
[]
[]
[]
[]
[null,null,null,null,null,null,null,null,{"$f":"Backbone!A604","v":"Application de suivi des expositions et des cas de rage (REACT)"},null,null,null,null,null,null,"Un outil visant à soutenir la mise en œuvre de programmes de gestion intégrée des cas de morsures.",null,null,null,null,null,null,null,null,{"$f":"INDEX(Backbone!$R$2:$R$893,MATCH(I214,Backbone!$A$2:$A$893,0))","v":"Matériel ou logiciel"},null,null,null,{"$f":"INDEX(Backbone!$S$2:$S$893,MATCH(I214,Backbone!$A$2:$A$893,0))","v":"«Une seule santé»; spécifique d'une maladie/menace "},null,null,null,{"$f":"INDEX(Backbone!$H$2:$H$893,MATCH(I214,Backbone!$A$2:$A$893,0))","v":8.6},null,{"$f":"INDEX(Backbone!$I$2:$I$893,MATCH(I214,Backbone!$A$2:$A$893,0))","v":8.6},null,{"$f":"INDEX(Backbone!$J$2:$J$893,MATCH(I214,Backbone!$A$2:$A$893,0))","v":8},null,{"$f":"INDEX(Backbone!$K$1:$K$893,MATCH(I214,Backbone!$A$1:$A$893,0))","v":8.6},null,{"$f":"INDEX(Backbone!$L$2:$L$893,MATCH(I214,Backbone!$A$2:$A$893,0))","v":9.4},null,{"$f":"INDEX(Backbone!$M$2:$M$893,MATCH(I214,Backbone!$A$2:$A$893,0))","v":9.5},null,{"$f":"INDEX(Backbone!$N$2:$N$893,MATCH(I214,Backbone!$A$2:$A$893,0))","v":9},null,{"$f":"INDEX(Backbone!$O$2:$O$893,MATCH(I214,Backbone!$A$2:$A$893,0))","v":9.1999999999999993},null,{"$f":"INDEX(Backbone!$P$2:$P$893,MATCH(I214,Backbone!$A$2:$A$893,0))","v":9},null,{"$f":"INDEX(Backbone!$Q$2:$Q$893,MATCH(I214,Backbone!$A$2:$A$893,0))","v":0.88777777777777767},null,null,{"$f":"(AG214*$AG$22+AI214*$AI$22+AK214*$AK$22+AM214*$AM$22+AO214*$AO$22+AQ214*$AQ$22+AS214*$AS$22+AU214*$AU$22+AW214*$AW$22)/(SUM($AG$22:$AW$22)*10)","v":{"$error":"#DIV/0!"}},null,null,"Aller à \nBoîte à outils: ",null,{"$f":"HYPERLINK(\"#\"&ADDRESS(MATCH(I214,Toolbox!$C$1:$C$300),1,,,\"Toolbox\"),VLOOKUP(I214,Toolbox!$C$1:$C$300,1,FALSE))","v":"Application de suivi des expositions et des cas de rage (REACT)"}]
[]
[]
[]
[]
[]
[null,null,null,null,null,null,null,null,{"$f":"Backbone!A489","v":"Suite pour une biosurveillance électronique automatisée mondiale (SAGES)"},null,null,null,null,null,null,"Une suite d'outils logiciels d'exploitation libre conçus pour améliorer la surveillance électronique des maladies dans des situations où les ressources sont limitées.",null,null,null,null,null,null,null,null,{"$f":"INDEX(Backbone!$R$2:$R$893,MATCH(I220,Backbone!$A$2:$A$893,0))","v":"Matériel ou logiciel"},null,null,null,{"$f":"INDEX(Backbone!$S$2:$S$893,MATCH(I220,Backbone!$A$2:$A$893,0))","v":"«Une seule santé»; Généralisée"},null,null,null,{"$f":"INDEX(Backbone!$H$2:$H$893,MATCH(I220,Backbone!$A$2:$A$893,0))","v":9.8000000000000007},null,{"$f":"INDEX(Backbone!$I$2:$I$893,MATCH(I220,Backbone!$A$2:$A$893,0))","v":10},null,{"$f":"INDEX(Backbone!$J$2:$J$893,MATCH(I220,Backbone!$A$2:$A$893,0))","v":10},null,{"$f":"INDEX(Backbone!$K$1:$K$893,MATCH(I220,Backbone!$A$1:$A$893,0))","v":9.3000000000000007},null,{"$f":"INDEX(Backbone!$L$2:$L$893,MATCH(I220,Backbone!$A$2:$A$893,0))","v":8.5},null,{"$f":"INDEX(Backbone!$M$2:$M$893,MATCH(I220,Backbone!$A$2:$A$893,0))","v":9},null,{"$f":"INDEX(Backbone!$N$2:$N$893,MATCH(I220,Backbone!$A$2:$A$893,0))","v":5.5},null,{"$f":"INDEX(Backbone!$O$2:$O$893,MATCH(I220,Backbone!$A$2:$A$893,0))","v":9.5},null,{"$f":"INDEX(Backbone!$P$2:$P$893,MATCH(I220,Backbone!$A$2:$A$893,0))","v":7},null,{"$f":"INDEX(Backbone!$Q$2:$Q$893,MATCH(I220,Backbone!$A$2:$A$893,0))","v":0.87333333333333329},null,null,{"$f":"(AG220*$AG$22+AI220*$AI$22+AK220*$AK$22+AM220*$AM$22+AO220*$AO$22+AQ220*$AQ$22+AS220*$AS$22+AU220*$AU$22+AW220*$AW$22)/(SUM($AG$22:$AW$22)*10)","v":{"$error":"#DIV/0!"}},null,null,"Aller à \nBoîte à outils: ",null,{"$f":"HYPERLINK(\"#\"&ADDRESS(MATCH(I220,Toolbox!$C$1:$C$300),1,,,\"Toolbox\"),VLOOKUP(I220,Toolbox!$C$1:$C$300,1,FALSE))","v":"Suite pour une biosurveillance électronique automatisée mondiale (SAGES)"}]
[]
[]
[]
[]
[]
[null,null,null,null,null,null,null,null,{"$f":"Backbone!A540","v":"Système de gestion et d'analyse de la surveillance et la réponse aux foyers épidémiques (SORMAS)"},null,null,null,null,null,null,"Un système de santé en ligne mobile et d'exploitation libre qui met en œuvre des procédures de contrôle de maladies et de gestion de flambées épidémiques, et assure la surveillance et la détection précoce des foyers épidémiques grâce à une surveillance numérique en temps réel.",null,null,null,null,null,null,null,null,{"$f":"INDEX(Backbone!$R$2:$R$893,MATCH(I226,Backbone!$A$2:$A$893,0))","v":"Matériel ou logiciel"},null,null,null,{"$f":"INDEX(Backbone!$S$2:$S$893,MATCH(I226,Backbone!$A$2:$A$893,0))","v":"Spécifique du secteur; Généralisée"},null,null,null,{"$f":"INDEX(Backbone!$H$2:$H$893,MATCH(I226,Backbone!$A$2:$A$893,0))","v":9.1999999999999993},null,{"$f":"INDEX(Backbone!$I$2:$I$893,MATCH(I226,Backbone!$A$2:$A$893,0))","v":8},null,{"$f":"INDEX(Backbone!$J$2:$J$893,MATCH(I226,Backbone!$A$2:$A$893,0))","v":9.3000000000000007},null,{"$f":"INDEX(Backbone!$K$1:$K$893,MATCH(I226,Backbone!$A$1:$A$893,0))","v":9.1},null,{"$f":"INDEX(Backbone!$L$2:$L$893,MATCH(I226,Backbone!$A$2:$A$893,0))","v":9.3000000000000007},null,{"$f":"INDEX(Backbone!$M$2:$M$893,MATCH(I226,Backbone!$A$2:$A$893,0))","v":9.3000000000000007},null,{"$f":"INDEX(Backbone!$N$2:$N$893,MATCH(I226,Backbone!$A$2:$A$893,0))","v":6.8},null,{"$f":"INDEX(Backbone!$O$2:$O$893,MATCH(I226,Backbone!$A$2:$A$893,0))","v":3.9},null,{"$f":"INDEX(Backbone!$P$2:$P$893,MATCH(I226,Backbone!$A$2:$A$893,0))","v":5.3},null,{"$f":"INDEX(Backbone!$Q$2:$Q$893,MATCH(I226,Backbone!$A$2:$A$893,0))","v":0.78},null,null,{"$f":"(AG226*$AG$22+AI226*$AI$22+AK226*$AK$22+AM226*$AM$22+AO226*$AO$22+AQ226*$AQ$22+AS226*$AS$22+AU226*$AU$22+AW226*$AW$22)/(SUM($AG$22:$AW$22)*10)","v":{"$error":"#DIV/0!"}},null,null,"Aller à \nBoîte à outils: ",null,{"$f":"HYPERLINK(\"#\"&ADDRESS(MATCH(I226,Toolbox!$C$1:$C$300),1,,,\"Toolbox\"),VLOOKUP(I226,Toolbox!$C$1:$C$300,1,FALSE))","v":"Système de gestion et d'analyse de la surveillance et la réponse aux foyers épidémiques (SORMAS)"}]
[]
[]
[]
[]
[]
[]
[null,null,null,"Autres ressources intéressantes",null,null,null,null,{"$f":"Backbone!A42","v":"Outil d'autoévaluation APHL pour l'informatique"},null,null,null,null,null,null,"Un outil qui permet aux laboratoires de santé publique d'évaluer les points forts et les lacunes des capacités informatiques au regard de 19 domaines opérationnels essentiels.",null,null,null,null,null,null,null,null,{"$f":"INDEX(Backbone!$R$2:$R$893,MATCH(I233,Backbone!$A$2:$A$893,0))","v":"Document d'orientation"},null,null,null,{"$f":"INDEX(Backbone!$S$2:$S$893,MATCH(I233,Backbone!$A$2:$A$893,0))","v":"Spécifique du secteur; Généralisée"},null,null,null,{"$f":"INDEX(Backbone!$H$2:$H$893,MATCH(I233,Backbone!$A$2:$A$893,0))","v":9.1},null,{"$f":"INDEX(Backbone!$I$2:$I$893,MATCH(I233,Backbone!$A$2:$A$893,0))","v":6.7},null,{"$f":"INDEX(Backbone!$J$2:$J$893,MATCH(I233,Backbone!$A$2:$A$893,0))","v":8.3000000000000007},null,{"$f":"INDEX(Backbone!$K$1:$K$893,MATCH(I233,Backbone!$A$1:$A$893,0))","v":8.4},null,{"$f":"INDEX(Backbone!$L$2:$L$893,MATCH(I233,Backbone!$A$2:$A$893,0))","v":8.1},null,{"$f":"INDEX(Backbone!$M$2:$M$893,MATCH(I233,Backbone!$A$2:$A$893,0))","v":8.5},null,{"$f":"INDEX(Backbone!$N$2:$N$893,MATCH(I233,Backbone!$A$2:$A$893,0))","v":5},null,{"$f":"INDEX(Backbone!$O$2:$O$893,MATCH(I233,Backbone!$A$2:$A$893,0))","v":6.1},null,{"$f":"INDEX(Backbone!$P$2:$P$893,MATCH(I233,Backbone!$A$2:$A$893,0))","v":4.3},null,{"$f":"INDEX(Backbone!$Q$2:$Q$893,MATCH(I233,Backbone!$A$2:$A$893,0))","v":0.71666666666666667},null,null,{"$f":"(AG233*$AG$22+AI233*$AI$22+AK233*$AK$22+AM233*$AM$22+AO233*$AO$22+AQ233*$AQ$22+AS233*$AS$22+AU233*$AU$22+AW233*$AW$22)/(SUM($AG$22:$AW$22)*10)","v":{"$error":"#DIV/0!"}},null,null,"Aller à \nBoîte à outils: ",null,{"$f":"HYPERLINK(\"#\"&ADDRESS(MATCH(I233,Toolbox!$C$1:$C$300),1,,,\"Toolbox\"),VLOOKUP(I233,Toolbox!$C$1:$C$300,1,FALSE))","v":"Outil d'autoévaluation APHL pour l'informatique"}]

{"sheet":"I6_tools","index":51,"n_rows":241,"n_cols":59,"rows_kept":241,"cut":false,"hidden":false,"merged":[[240,36,244,36],[234,36,238,36],[234,38,238,38],[240,50,244,51],[240,53,244,54],[240,38,244,38],[240,40,244,40],[240,42,244,42],[240,44,244,44],[240,46,244,46],[240,48,244,48],[234,48,238,48],[234,50,238,51],[234,53,238,54],[234,40,238,40],[234,42,238,42],[234,44,238,44],[234,46,238,46],[234,8,238,13],[234,15,238,22],[234,24,238,26],[234,28,238,30],[234,32,238,32],[234,34,238,34],[240,8,244,13],[240,15,244,22],[240,24,244,26],[240,28,244,30],[240,32,244,32],[240,34,244,34],[222,34,226,34],[222,36,226,36],[222,48,226,48],[222,50,226,51],[222,53,226,54],[228,8,232,13],[228,15,232,22],[228,24,232,26],[228,28,232,30],[228,32,232,32],[228,34,232,34],[228,36,232,36],[228,46,232,46],[228,48,232,48],[228,50,232,51],[228,53,232,54],[222,46,226,46],[222,32,226,32],[210,53,214,54],[216,8,220,13],[216,15,220,22],[216,24,220,26],[216,28,220,30],[216,32,220,32],[216,34,220,34],[216,36,220,36],[216,38,220,38],[216,40,220,40],[216,48,220,48],[216,50,220,51],[216,53,220,54],[216,46,220,46],[210,44,214,44],[210,46,214,46],[210,48,214,48],[210,50,214,51],[198,53,202,54],[204,8,208,13],[204,15,208,22],[204,24,208,26],[204,28,208,30],[204,32,208,32],[204,34,208,34],[198,8,202,13],[198,15,202,22],[198,24,202,26],[198,28,202,30],[198,32,202,32],[198,34,202,34],[204,53,208,54],[204,38,208,38],[204,40,208,40],[204,42,208,42],[204,44,208,44],[204,46,208,46],[204,48,208,48],[204,50,208,51],[198,44,202,44],[198,46,202,46],[198,48,202,48],[198,50,202,51],[193,1,244,1],[193,3,196,6],[193,8,196,13],[193,15,196,22],[193,24,196,26],[193,28,196,30],[198,3,244,6],[228,44,232,44],[222,44,226,44],[216,44,220,44],[210,8,214,13],[210,15,214,22],[210,24,214,26],[210,28,214,30],[210,32,214,32],[210,34,214,34],[210,36,214,36],[210,38,214,38],[210,40,214,40],[222,8,226,13],[222,15,226,22],[222,24,226,26],[222,28,226,30],[158,48,162,48],[158,50,162,51],[158,53,162,54],[182,32,196,32],[182,34,196,34],[182,36,196,36],[182,38,196,38],[182,40,196,40],[182,42,196,42],[182,44,196,44],[182,46,196,46],[182,48,196,48],[189,50,196,51],[189,53,196,54],[158,8,162,13],[158,15,162,22],[158,24,162,26],[158,28,162,30],[158,32,162,32],[158,34,162,34],[158,36,162,36],[158,38,162,38],[152,36,156,36],[152,38,156,38],[146,48,150,48],[146,50,150,51],[146,53,150,54],[152,8,156,13],[152,15,156,22],[152,24,156,26],[152,28,156,30],[152,32,156,32],[152,34,156,34],[152,50,156,51],[152,53,156,54],[152,40,156,40],[152,42,156,42],[152,44,156,44],[152,46,156,46],[146,8,150,13],[146,15,150,22],[146,24,150,26],[146,28,150,30],[146,32,150,32],[146,34,150,34],[146,42,150,42],[146,44,150,44],[146,46,150,46],[140,48,144,48],[140,50,144,51],[140,53,144,54],[134,8,138,13],[134,15,138,22],[134,24,138,26],[134,28,138,30],[134,32,138,32],[134,34,138,34],[134,36,138,36],[140,8,144,13],[140,15,144,22],[140,24,144,26],[140,28,144,30],[140,32,144,32],[140,34,144,34],[140,36,144,36],[140,38,144,38],[140,40,144,40],[134,38,138,38],[134,40,138,40],[134,46,138,46],[134,48,138,48],[134,53,138,54],[122,8,126,13],[122,15,126,22],[122,24,126,26],[122,28,126,30],[122,32,126,32],[122,34,126,34],[122,36,126,36],[134,50,138,51],[140,42,144,42],[140,44,144,44],[128,8,132,13],[128,15,132,22],[128,24,132,26],[128,28,132,30],[128,32,132,32],[128,34,132,34],[134,42,138,42],[134,44,138,44],[128,36,132,36],[128,38,132,38],[128,40,132,40],[128,42,132,42],[128,44,132,44],[140,46,144,46],[116,48,120,48],[116,50,120,51],[116,53,120,54],[116,46,120,46],[122,46,126,46],[122,48,126,48],[122,50,126,51],[122,53,126,54],[128,48,132,48],[128,50,132,51],[128,53,132,54],[128,46,132,46],[116,34,120,34],[116,36,120,36],[116,38,120,38],[116,40,120,40],[116,42,120,42],[116,44,120,44],[122,38,126,38],[122,40,126,40],[122,42,126,42],[122,44,126,44],[110,42,114,42],[110,44,114,44],[110,46,114,46],[110,48,114,48],[110,50,114,51],[110,53,114,54],[105,28,108,30],[110,3,162,6],[110,8,114,13],[110,15,114,22],[110,24,114,26],[110,28,114,30],[116,8,120,13],[116,15,120,22],[116,24,120,26],[116,28,120,30],[94,44,108,44],[94,46,108,46],[94,48,108,48],[101,50,108,51],[101,53,108,54],[158,44,162,44],[158,46,162,46],[152,48,156,48],[105,1,162,1],[105,3,108,6],[105,8,108,13],[105,15,108,22],[105,24,108,26],[70,50,74,51],[70,53,74,54],[22,3,74,6],[17,1,74,1],[94,32,108,32],[94,34,108,34],[94,36,108,36],[94,38,108,38],[94,40,108,40],[94,42,108,42],[70,38,74,38],[70,40,74,40],[70,42,74,42],[70,44,74,44],[70,46,74,46],[70,48,74,48],[64,48,68,48],[64,50,68,51],[64,53,68,54],[70,8,74,13],[70,15,74,22],[70,24,74,26],[70,28,74,30],[70,32,74,32],[70,34,74,34],[70,36,74,36],[64,36,68,36],[64,38,68,38],[64,42,68,42],[64,44,68,44],[64,46,68,46],[64,8,68,13],[64,15,68,22],[64,24,68,26],[64,28,68,30],[64,32,68,32],[64,34,68,34],[58,46,62,46],[58,48,62,48],[58,50,62,51],[58,53,62,54],[52,53,56,54],[58,8,62,13],[58,15,62,22],[58,24,62,26],[58,28,62,30],[58,32,62,32],[58,34,62,34],[58,36,62,36],[58,38,62,38],[58,40,62,40],[52,40,56,40],[52,42,56,42],[52,44,56,44],[52,46,56,46],[52,48,56,48],[52,50,56,51],[52,8,56,13],[52,15,56,22],[52,24,56,26],[52,28,56,30],[52,34,56,34],[52,36,56,36],[52,38,56,38],[228,38,232,38],[228,40,232,40],[228,42,232,42],[222,38,226,38],[222,40,226,40],[222,42,226,42],[216,42,220,42],[210,42,214,42],[198,38,202,38],[198,40,202,40],[198,42,202,42],[198,36,202,36],[204,36,208,36],[158,40,162,40],[158,42,162,42],[146,36,150,36],[146,38,150,38],[146,40,150,40],[110,34,114,34],[110,36,114,36],[64,40,68,40],[110,38,114,38],[110,40,114,40],[110,32,114,32],[116,32,120,32],[40,48,44,48],[40,50,44,51],[40,53,44,54],[40,36,44,36],[40,38,44,38],[40,40,44,40],[40,42,44,42],[40,44,44,44],[40,46,44,46],[46,50,50,51],[46,53,50,54],[46,38,50,38],[46,40,50,40],[46,42,50,42],[46,44,50,44],[46,46,50,46],[46,48,50,48],[58,42,62,42],[58,44,62,44],[52,32,56,32],[40,8,44,13],[40,15,44,22],[40,24,44,26],[40,28,44,30],[40,32,44,32],[40,34,44,34],[34,42,38,42],[34,44,38,44],[34,46,38,46],[34,53,38,54],[28,53,32,54],[34,8,38,13],[34,15,38,22],[34,24,38,26],[34,28,38,30],[34,32,38,32],[34,34,38,34],[34,36,38,36],[34,38,38,38],[34,40,38,40],[28,40,32,40],[28,42,32,42],[28,44,32,44],[28,46,32,46],[28,48,32,48],[28,50,32,51],[22,8,26,13],[22,15,26,22],[22,24,26,26],[22,28,26,30],[22,32,26,32],[22,34,26,34],[22,36,26,36],[34,48,38,48],[34,50,38,51],[46,8,50,13],[46,15,50,22],[46,24,50,26],[46,28,50,30],[46,32,50,32],[46,34,50,34],[46,36,50,36],[13,50,20,51],[13,53,20,54],[22,50,26,51],[22,53,26,54],[28,8,32,13],[28,15,32,22],[28,24,32,26],[28,28,32,30],[28,32,32,32],[28,34,32,34],[28,36,32,36],[28,38,32,38],[22,38,26,38],[22,40,26,40],[22,42,26,42],[22,44,26,44],[22,46,26,46],[22,56,26,57],[22,58,26,62],[1,1,3,62],[28,56,32,57],[28,58,32,62],[34,56,38,57],[34,58,38,62],[40,56,44,57],[40,58,44,62],[17,3,20,6],[17,8,20,13],[17,15,20,22],[17,24,20,26],[17,28,20,30],[6,32,20,32],[6,34,20,34],[6,36,20,36],[6,38,20,38],[6,40,20,40],[6,42,20,42],[6,44,20,44],[6,46,20,46],[6,48,20,48],[22,48,26,48],[46,56,50,57],[46,58,50,62],[52,56,56,57],[52,58,56,62],[58,56,62,57],[58,58,62,62],[64,56,68,57],[64,58,68,62],[70,56,74,57],[70,58,74,62],[110,56,114,57],[110,58,114,62],[116,56,120,57],[116,58,120,62],[122,56,126,57],[122,58,126,62],[128,56,132,57],[128,58,132,62],[134,56,138,57],[134,58,138,62],[140,56,144,57],[140,58,144,62],[146,56,150,57],[146,58,150,62],[152,56,156,57],[152,58,156,62],[158,56,162,57],[158,58,162,62],[198,56,202,57],[198,58,202,62],[234,56,238,57],[234,58,238,62],[240,56,244,57],[240,58,244,62],[204,56,208,57],[204,58,208,62],[210,56,214,57],[210,58,214,62],[216,56,220,57],[216,58,220,62],[222,56,226,57],[222,58,226,62],[228,56,232,57],[228,58,232,62]]}
[]
[null,"Ressources pour la mise en œuvre de systèmes de surveillance coordonnés"]
[]
[]
[]
[]
[null,null,null,null,null,null,null,null,null,null,null,null,null,null,null,null,null,null,null,null,null,null,null,null,null,null,null,null,null,null,null,null,"Accessibilité",null,"Langue",null,"Facilité d'utilisation",null,"Flexibilité",null,"Besoins de données",null,"Analyse des données",null,"Acceptabilité",null,"«Une seule santé»",null,"Impact"]
[]
[]
[]
[]
[]
[]
[null,null,null,null,null,null,null,null,null,null,null,null,null,null,null,null,null,null,null,null,null,null,null,null,null,null,null,null,null,null,null,null,null,null,null,null,null,null,null,null,null,null,null,null,null,null,null,null,null,null,"SCORE BRUT",null,null,"SCORE AJUSTÉ \n(Selon les préférences de l'utilisateur)"]
[]
[]
[]
[null,"RESSOURCES DE NIVEAU 1",null,"DÉSIGNATION",null,null,null,null,"NOM DE LA RESSOURCE",null,null,null,null,null,null,"BRÈVE DESCRIPTION",null,null,null,null,null,null,null,null,"TYPE DE RESSOURCE",null,null,null,"CARACTÈRE GÉNÉRAL DE LA RESSOURCE"]
[]
[]
[]
[null,null,null,null,null,null,null,null,null,null,null,null,null,null,null,null,null,null,null,null,null,null,null,null,null,null,null,null,null,null,null,null,{"$f":"'Attribute Survey'!S22","v":0},null,{"$f":"'Attribute Survey'!S26","v":0},null,{"$f":"'Attribute Survey'!S30","v":0},null,{"$f":"'Attribute Survey'!S34","v":0},null,{"$f":"'Attribute Survey'!S38","v":0},null,{"$f":"'Attribute Survey'!S42","v":0},null,{"$f":"'Attribute Survey'!S46","v":0},null,{"$f":"'Attribute Survey'!S50","v":0},null,{"$f":"'Attribute Survey'!S54","v":0}]
[null,null,null,"Autres ressources intéressantes",null,null,null,null,{"$f":"Backbone!A2","v":"Cadre de surveillance basé sur les événements des CDC en Afrique"},null,null,null,null,null,null,"Des orientations à l'attention des professionnels de la santé publique qui cherchent à mettre en œuvre la surveillance basée sur les événements à tous les échelons administratifs de leur pays.",null,null,null,null,null,null,null,null,{"$f":"INDEX(Backbone!$R$2:$R$893,MATCH(I23,Backbone!$A$2:$A$893,0))","v":"Document d'orientation"},null,null,null,{"$f":"INDEX(Backbone!$S$2:$S$893,MATCH(I23,Backbone!$A$2:$A$893,0))","v":"«Une seule santé»; Généralisée "},null,null,null,{"$f":"INDEX(Backbone!$H$2:$H$893,MATCH(I23,Backbone!$A$2:$A$893,0))","v":8},null,{"$f":"INDEX(Backbone!$I$2:$I$893,MATCH(I23,Backbone!$A$2:$A$893,0))","v":6},null,{"$f":"INDEX(Backbone!$J$2:$J$893,MATCH(I23,Backbone!$A$2:$A$893,0))","v":8.1999999999999993},null,{"$f":"INDEX(Backbone!$K$1:$K$893,MATCH(I23,Backbone!$A$1:$A$893,0))","v":8.3000000000000007},null,{"$f":"INDEX(Backbone!$L$2:$L$893,MATCH(I23,Backbone!$A$2:$A$893,0))","v":6.1},null,{"$f":"INDEX(Backbone!$M$2:$M$893,MATCH(I23,Backbone!$A$2:$A$893,0))","v":3.5},null,{"$f":"INDEX(Backbone!$N$2:$N$893,MATCH(I23,Backbone!$A$2:$A$893,0))","v":4},null,{"$f":"INDEX(Backbone!$O$2:$O$893,MATCH(I23,Backbone!$A$2:$A$893,0))","v":7},null,{"$f":"INDEX(Backbone!$P$2:$P$893,MATCH(I23,Backbone!$A$2:$A$893,0))","v":6},null,{"$f":"INDEX(Backbone!$Q$2:$Q$893,MATCH(I23,Backbone!$A$2:$A$893,0))","v":0.63222222222222224},null,null,{"$f":"(AG23*$AG$22+AI23*$AI$22+AK23*$AK$22+AM23*$AM$22+AO23*$AO$22+AQ23*$AQ$22+AS23*$AS$22+AU23*$AU$22+AW23*$AW$22)/(SUM($AG$22:$AW$22)*10)","v":{"$error":"#DIV/0!"}},null,null,"Aller à \nBoîte à outils: ",null,{"$f":"HYPERLINK(\"#\"&ADDRESS(MATCH(I23,Toolbox!$C$1:$C$300),1,,,\"Toolbox\"),VLOOKUP(I23,Toolbox!$C$1:$C$300,1,FALSE))","v":"Cadre de surveillance basé sur les événements des CDC en Afrique"}]
[]
[]
[]
[]
[]
[null,null,null,null,null,null,null,null,{"$f":"Backbone!A21","v":"AfyaData"},null,null,null,null,null,null,"Un outil de surveillance des maladies «Une seule santé» conçu pour répondre aux besoins de surveillance humaine, animale et environnementale, comprenant une application mobile et une application web.",null,null,null,null,null,null,null,null,{"$f":"INDEX(Backbone!$R$2:$R$893,MATCH(I29,Backbone!$A$2:$A$893,0))","v":"Matériel ou logiciel"},null,null,null,{"$f":"INDEX(Backbone!$S$2:$S$893,MATCH(I29,Backbone!$A$2:$A$893,0))","v":"«Une seule santé»; Généralisée "},null,null,null,{"$f":"INDEX(Backbone!$H$2:$H$893,MATCH(I29,Backbone!$A$2:$A$893,0))","v":7.3},null,{"$f":"INDEX(Backbone!$I$2:$I$893,MATCH(I29,Backbone!$A$2:$A$893,0))","v":10},null,{"$f":"INDEX(Backbone!$J$2:$J$893,MATCH(I29,Backbone!$A$2:$A$893,0))","v":8.1999999999999993},null,{"$f":"INDEX(Backbone!$K$1:$K$893,MATCH(I29,Backbone!$A$1:$A$893,0))","v":7.3},null,{"$f":"INDEX(Backbone!$L$2:$L$893,MATCH(I29,Backbone!$A$2:$A$893,0))","v":7.6},null,{"$f":"INDEX(Backbone!$M$2:$M$893,MATCH(I29,Backbone!$A$2:$A$893,0))","v":8.8000000000000007},null,{"$f":"INDEX(Backbone!$N$2:$N$893,MATCH(I29,Backbone!$A$2:$A$893,0))","v":5.5},null,{"$f":"INDEX(Backbone!$O$2:$O$893,MATCH(I29,Backbone!$A$2:$A$893,0))","v":7.6},null,{"$f":"INDEX(Backbone!$P$2:$P$893,MATCH(I29,Backbone!$A$2:$A$893,0))","v":7},null,{"$f":"INDEX(Backbone!$Q$2:$Q$893,MATCH(I29,Backbone!$A$2:$A$893,0))","v":0.77000000000000013},null,null,{"$f":"(AG29*$AG$22+AI29*$AI$22+AK29*$AK$22+AM29*$AM$22+AO29*$AO$22+AQ29*$AQ$22+AS29*$AS$22+AU29*$AU$22+AW29*$AW$22)/(SUM($AG$22:$AW$22)*10)","v":{"$error":"#DIV/0!"}},null,null,"Aller à \nBoîte à outils: ",null,{"$f":"HYPERLINK(\"#\"&ADDRESS(MATCH(I29,Toolbox!$C$1:$C$300),1,,,\"Toolbox\"),VLOOKUP(I29,Toolbox!$C$1:$C$300,1,FALSE))","v":"AfyaData"}]
[]
[]
[]
[]
[]
[null,null,null,null,null,null,null,null,{"$f":"Backbone!A138","v":"Système électronique intégré de surveillance des maladies (EIDSS)"},null,null,null,null,null,null,"Un système électronique en ligne et personnalisable d'établissement de rapports sur les maladies qui peut aider à la surveillance passive et active de la santé humaine et vétérinaire, aux diagnostics de laboratoire, à la surveillance des vecteurs et à la gestion des foyers épidémiques. ",null,null,null,null,null,null,null,null,{"$f":"INDEX(Backbone!$R$2:$R$893,MATCH(I35,Backbone!$A$2:$A$893,0))","v":"Matériel ou logiciel"},null,null,null,{"$f":"INDEX(Backbone!$S$2:$S$893,MATCH(I35,Backbone!$A$2:$A$893,0))","v":"«Une seule santé»; Généralisée"},null,null,null,{"$f":"INDEX(Backbone!$H$2:$H$893,MATCH(I35,Backbone!$A$2:$A$893,0))","v":6.8},null,{"$f":"INDEX(Backbone!$I$2:$I$893,MATCH(I35,Backbone!$A$2:$A$893,0))","v":10},null,{"$f":"INDEX(Backbone!$J$2:$J$893,MATCH(I35,Backbone!$A$2:$A$893,0))","v":8.4},null,{"$f":"INDEX(Backbone!$K$1:$K$893,MATCH(I35,Backbone!$A$1:$A$893,0))","v":8.6999999999999993},null,{"$f":"INDEX(Backbone!$L$2:$L$893,MATCH(I35,Backbone!$A$2:$A$893,0))","v":9.1},null,{"$f":"INDEX(Backbone!$M$2:$M$893,MATCH(I35,Backbone!$A$2:$A$893,0))","v":8},null,{"$f":"INDEX(Backbone!$N$2:$N$893,MATCH(I35,Backbone!$A$2:$A$893,0))","v":7},null,{"$f":"INDEX(Backbone!$O$2:$O$893,MATCH(I35,Backbone!$A$2:$A$893,0))","v":7.2},null,{"$f":"INDEX(Backbone!$P$2:$P$893,MATCH(I35,Backbone!$A$2:$A$893,0))","v":10},null,{"$f":"INDEX(Backbone!$Q$2:$Q$893,MATCH(I35,Backbone!$A$2:$A$893,0))","v":0.83555555555555561},null,null,{"$f":"(AG35*$AG$22+AI35*$AI$22+AK35*$AK$22+AM35*$AM$22+AO35*$AO$22+AQ35*$AQ$22+AS35*$AS$22+AU35*$AU$22+AW35*$AW$22)/(SUM($AG$22:$AW$22)*10)","v":{"$error":"#DIV/0!"}},null,null,"Aller à \nBoîte à outils: ",null,{"$f":"HYPERLINK(\"#\"&ADDRESS(MATCH(I35,Toolbox!$C$1:$C$300),1,,,\"Toolbox\"),VLOOKUP(I35,Toolbox!$C$1:$C$300,1,FALSE))","v":"Système électronique intégré de surveillance des maladies (EIDSS)"}]
[]
[]
[]
[]
[]
[null,null,null,null,null,null,null,null,{"$f":"Backbone!A531","v":"Système de gestion des données de laboratoire Mini (MiniLIMS)"},null,null,null,null,null,null,"Un système d'information conçu pour la gestion des données d'un laboratoire d'analyse à l'organisation simple.",null,null,null,null,null,null,null,null,{"$f":"INDEX(Backbone!$R$2:$R$893,MATCH(I41,Backbone!$A$2:$A$893,0))","v":"Matériel ou logiciel"},null,null,null,{"$f":"INDEX(Backbone!$S$2:$S$893,MATCH(I41,Backbone!$A$2:$A$893,0))","v":"Spécifique du secteur; Généralisée"},null,null,null,{"$f":"INDEX(Backbone!$H$2:$H$893,MATCH(I41,Backbone!$A$2:$A$893,0))","v":9},null,{"$f":"INDEX(Backbone!$I$2:$I$893,MATCH(I41,Backbone!$A$2:$A$893,0))","v":7.3},null,{"$f":"INDEX(Backbone!$J$2:$J$893,MATCH(I41,Backbone!$A$2:$A$893,0))","v":8.4},null,{"$f":"INDEX(Backbone!$K$1:$K$893,MATCH(I41,Backbone!$A$1:$A$893,0))","v":9.3000000000000007},null,{"$f":"INDEX(Backbone!$L$2:$L$893,MATCH(I41,Backbone!$A$2:$A$893,0))","v":7.2},null,{"$f":"INDEX(Backbone!$M$2:$M$893,MATCH(I41,Backbone!$A$2:$A$893,0))","v":6.5},null,{"$f":"INDEX(Backbone!$N$2:$N$893,MATCH(I41,Backbone!$A$2:$A$893,0))","v":2},null,{"$f":"INDEX(Backbone!$O$2:$O$893,MATCH(I41,Backbone!$A$2:$A$893,0))","v":4.4000000000000004},null,{"$f":"INDEX(Backbone!$P$2:$P$893,MATCH(I41,Backbone!$A$2:$A$893,0))","v":4},null,{"$f":"INDEX(Backbone!$Q$2:$Q$893,MATCH(I41,Backbone!$A$2:$A$893,0))","v":0.64555555555555555},null,null,{"$f":"(AG41*$AG$22+AI41*$AI$22+AK41*$AK$22+AM41*$AM$22+AO41*$AO$22+AQ41*$AQ$22+AS41*$AS$22+AU41*$AU$22+AW41*$AW$22)/(SUM($AG$22:$AW$22)*10)","v":{"$error":"#DIV/0!"}},null,null,"Aller à \nBoîte à outils: ",null,{"$f":"HYPERLINK(\"#\"&ADDRESS(MATCH(I41,Toolbox!$C$1:$C$300),1,,,\"Toolbox\"),VLOOKUP(I41,Toolbox!$C$1:$C$300,1,FALSE))","v":"Système de gestion des données de laboratoire Mini (MiniLIMS)"}]
[]
[]
[]
[]
[]
[null,null,null,null,null,null,null,null,{"$f":"Backbone!A522","v":"Système de gestion des données de laboratoire «SILAB for Africa» (SILABFA)"},null,null,null,null,null,null,"Un Système de gestion des données de laboratoire (LIMS) capable de retracer toutes les étapes du diagnostic, depuis la réception des échantillons jusqu'aux rapports finaux.",null,null,null,null,null,null,null,null,{"$f":"INDEX(Backbone!$R$2:$R$893,MATCH(I47,Backbone!$A$2:$A$893,0))","v":"Matériel ou logiciel"},null,null,null,{"$f":"INDEX(Backbone!$S$2:$S$893,MATCH(I47,Backbone!$A$2:$A$893,0))","v":"Spécifique du secteur; Généralisée"},null,null,null,{"$f":"INDEX(Backbone!$H$2:$H$893,MATCH(I47,Backbone!$A$2:$A$893,0))","v":9.3000000000000007},null,{"$f":"INDEX(Backbone!$I$2:$I$893,MATCH(I47,Backbone!$A$2:$A$893,0))","v":10},null,{"$f":"INDEX(Backbone!$J$2:$J$893,MATCH(I47,Backbone!$A$2:$A$893,0))","v":6.8},null,{"$f":"INDEX(Backbone!$K$1:$K$893,MATCH(I47,Backbone!$A$1:$A$893,0))","v":9.3000000000000007},null,{"$f":"INDEX(Backbone!$L$2:$L$893,MATCH(I47,Backbone!$A$2:$A$893,0))","v":8},null,{"$f":"INDEX(Backbone!$M$2:$M$893,MATCH(I47,Backbone!$A$2:$A$893,0))","v":6.5},null,{"$f":"INDEX(Backbone!$N$2:$N$893,MATCH(I47,Backbone!$A$2:$A$893,0))","v":8},null,{"$f":"INDEX(Backbone!$O$2:$O$893,MATCH(I47,Backbone!$A$2:$A$893,0))","v":7.2},null,{"$f":"INDEX(Backbone!$P$2:$P$893,MATCH(I47,Backbone!$A$2:$A$893,0))","v":8},null,{"$f":"INDEX(Backbone!$Q$2:$Q$893,MATCH(I47,Backbone!$A$2:$A$893,0))","v":0.81222222222222229},null,null,{"$f":"(AG47*$AG$22+AI47*$AI$22+AK47*$AK$22+AM47*$AM$22+AO47*$AO$22+AQ47*$AQ$22+AS47*$AS$22+AU47*$AU$22+AW47*$AW$22)/(SUM($AG$22:$AW$22)*10)","v":{"$error":"#DIV/0!"}},null,null,"Aller à \nBoîte à outils: ",null,{"$f":"HYPERLINK(\"#\"&ADDRESS(MATCH(I47,Toolbox!$C$1:$C$300),1,,,\"Toolbox\"),VLOOKUP(I47,Toolbox!$C$1:$C$300,1,FALSE))","v":"Système de gestion des données de laboratoire «SILAB for Africa» (SILABFA)"}]
[]
[]
[]
[]
[]
[null,null,null,null,null,null,null,null,{"$f":"Backbone!A271","v":"Analyse du réseau des infrastructures de laboratoire (LINA)"},null,null,null,null,null,null,"Une application en ligne facile à utiliser fournissant une fonctionnalité avancée de modélisation computationnelle et d'analyse de données offrant la possibilité de visualiser facilement, à l'aide d'organigrammes, les capacités et les moyens du réseau national de laboratoires, mais aussi de chaque laboratoire séparément.",null,null,null,null,null,null,null,null,{"$f":"INDEX(Backbone!$R$2:$R$893,MATCH(I53,Backbone!$A$2:$A$893,0))","v":"Matériel ou logiciel"},null,null,null,{"$f":"INDEX(Backbone!$S$2:$S$893,MATCH(I53,Backbone!$A$2:$A$893,0))","v":"«Une seule santé»; Généralisée"},null,null,null,{"$f":"INDEX(Backbone!$H$2:$H$893,MATCH(I53,Backbone!$A$2:$A$893,0))","v":9.6},null,{"$f":"INDEX(Backbone!$I$2:$I$893,MATCH(I53,Backbone!$A$2:$A$893,0))","v":6},null,{"$f":"INDEX(Backbone!$J$2:$J$893,MATCH(I53,Backbone!$A$2:$A$893,0))","v":7.6},null,{"$f":"INDEX(Backbone!$K$1:$K$893,MATCH(I53,Backbone!$A$1:$A$893,0))","v":9},null,{"$f":"INDEX(Backbone!$L$2:$L$893,MATCH(I53,Backbone!$A$2:$A$893,0))","v":8.3000000000000007},null,{"$f":"INDEX(Backbone!$M$2:$M$893,MATCH(I53,Backbone!$A$2:$A$893,0))","v":7},null,{"$f":"INDEX(Backbone!$N$2:$N$893,MATCH(I53,Backbone!$A$2:$A$893,0))","v":3},null,{"$f":"INDEX(Backbone!$O$2:$O$893,MATCH(I53,Backbone!$A$2:$A$893,0))","v":9.1},null,{"$f":"INDEX(Backbone!$P$2:$P$893,MATCH(I53,Backbone!$A$2:$A$893,0))","v":4},null,{"$f":"INDEX(Backbone!$Q$2:$Q$893,MATCH(I53,Backbone!$A$2:$A$893,0))","v":0.69555555555555559},null,null,{"$f":"(AG53*$AG$22+AI53*$AI$22+AK53*$AK$22+AM53*$AM$22+AO53*$AO$22+AQ53*$AQ$22+AS53*$AS$22+AU53*$AU$22+AW53*$AW$22)/(SUM($AG$22:$AW$22)*10)","v":{"$error":"#DIV/0!"}},null,null,"Aller à \nBoîte à outils: ",null,{"$f":"HYPERLINK(\"#\"&ADDRESS(MATCH(I53,Toolbox!$C$1:$C$300),1,,,\"Toolbox\"),VLOOKUP(I53,Toolbox!$C$1:$C$300,1,FALSE))","v":"Analyse du réseau des infrastructures de laboratoire (LINA)"}]
[]
[]
[]
[]
[]
[null,null,null,null,null,null,null,null,{"$f":"Backbone!A604","v":"Application de suivi des expositions et des cas de rage (REACT)"},null,null,null,null,null,null,"Un outil visant à soutenir la mise en œuvre de programmes de gestion intégrée des cas de morsures.",null,null,null,null,null,null,null,null,{"$f":"INDEX(Backbone!$R$2:$R$893,MATCH(I59,Backbone!$A$2:$A$893,0))","v":"Matériel ou logiciel"},null,null,null,{"$f":"INDEX(Backbone!$S$2:$S$893,MATCH(I59,Backbone!$A$2:$A$893,0))","v":"«Une seule santé»; spécifique d'une maladie/menace "},null,null,null,{"$f":"INDEX(Backbone!$H$2:$H$893,MATCH(I59,Backbone!$A$2:$A$893,0))","v":8.6},null,{"$f":"INDEX(Backbone!$I$2:$I$893,MATCH(I59,Backbone!$A$2:$A$893,0))","v":8.6},null,{"$f":"INDEX(Backbone!$J$2:$J$893,MATCH(I59,Backbone!$A$2:$A$893,0))","v":8},null,{"$f":"INDEX(Backbone!$K$1:$K$893,MATCH(I59,Backbone!$A$1:$A$893,0))","v":8.6},null,{"$f":"INDEX(Backbone!$L$2:$L$893,MATCH(I59,Backbone!$A$2:$A$893,0))","v":9.4},null,{"$f":"INDEX(Backbone!$M$2:$M$893,MATCH(I59,Backbone!$A$2:$A$893,0))","v":9.5},null,{"$f":"INDEX(Backbone!$N$2:$N$893,MATCH(I59,Backbone!$A$2:$A$893,0))","v":9},null,{"$f":"INDEX(Backbone!$O$2:$O$893,MATCH(I59,Backbone!$A$2:$A$893,0))","v":9.1999999999999993},null,{"$f":"INDEX(Backbone!$P$2:$P$893,MATCH(I59,Backbone!$A$2:$A$893,0))","v":9},null,{"$f":"INDEX(Backbone!$Q$2:$Q$893,MATCH(I59,Backbone!$A$2:$A$893,0))","v":0.88777777777777767},null,null,{"$f":"(AG59*$AG$22+AI59*$AI$22+AK59*$AK$22+AM59*$AM$22+AO59*$AO$22+AQ59*$AQ$22+AS59*$AS$22+AU59*$AU$22+AW59*$AW$22)/(SUM($AG$22:$AW$22)*10)","v":{"$error":"#DIV/0!"}},null,null,"Aller à \nBoîte à outils: ",null,{"$f":"HYPERLINK(\"#\"&ADDRESS(MATCH(I59,Toolbox!$C$1:$C$300),1,,,\"Toolbox\"),VLOOKUP(I59,Toolbox!$C$1:$C$300,1,FALSE))","v":"Application de suivi des expositions et des cas de rage (REACT)"}]
[]
[]
[]
[]
[]
[null,null,null,null,null,null,null,null,{"$f":"Backbone!A489","v":"Suite pour une biosurveillance électronique automatisée mondiale (SAGES)"},null,null,null,null,null,null,"Une suite d'outils logiciels d'exploitation libre conçus pour améliorer la surveillance électronique des maladies dans des situations où les ressources sont limitées.",null,null,null,null,null,null,null,null,{"$f":"INDEX(Backbone!$R$2:$R$893,MATCH(I65,Backbone!$A$2:$A$893,0))","v":"Matériel ou logiciel"},null,null,null,{"$f":"INDEX(Backbone!$S$2:$S$893,MATCH(I65,Backbone!$A$2:$A$893,0))","v":"«Une seule santé»; Généralisée"},null,null,null,{"$f":"INDEX(Backbone!$H$2:$H$893,MATCH(I65,Backbone!$A$2:$A$893,0))","v":9.8000000000000007},null,{"$f":"INDEX(Backbone!$I$2:$I$893,MATCH(I65,Backbone!$A$2:$A$893,0))","v":10},null,{"$f":"INDEX(Backbone!$J$2:$J$893,MATCH(I65,Backbone!$A$2:$A$893,0))","v":10},null,{"$f":"INDEX(Backbone!$K$1:$K$893,MATCH(I65,Backbone!$A$1:$A$893,0))","v":9.3000000000000007},null,{"$f":"INDEX(Backbone!$L$2:$L$893,MATCH(I65,Backbone!$A$2:$A$893,0))","v":8.5},null,{"$f":"INDEX(Backbone!$M$2:$M$893,MATCH(I65,Backbone!$A$2:$A$893,0))","v":9},null,{"$f":"INDEX(Backbone!$N$2:$N$893,MATCH(I65,Backbone!$A$2:$A$893,0))","v":5.5},null,{"$f":"INDEX(Backbone!$O$2:$O$893,MATCH(I65,Backbone!$A$2:$A$893,0))","v":9.5},null,{"$f":"INDEX(Backbone!$P$2:$P$893,MATCH(I65,Backbone!$A$2:$A$893,0))","v":7},null,{"$f":"INDEX(Backbone!$Q$2:$Q$893,MATCH(I65,Backbone!$A$2:$A$893,0))","v":0.87333333333333329},null,null,{"$f":"(AG65*$AG$22+AI65*$AI$22+AK65*$AK$22+AM65*$AM$22+AO65*$AO$22+AQ65*$AQ$22+AS65*$AS$22+AU65*$AU$22+AW65*$AW$22)/(SUM($AG$22:$AW$22)*10)","v":{"$error":"#DIV/0!"}},null,null,"Aller à \nBoîte à outils: ",null,{"$f":"HYPERLINK(\"#\"&ADDRESS(MATCH(I65,Toolbox!$C$1:$C$300),1,,,\"Toolbox\"),VLOOKUP(I65,Toolbox!$C$1:$C$300,1,FALSE))","v":"Suite pour une biosurveillance électronique automatisée mondiale (SAGES)"}]
[]
[]
[]
[]
[]
[null,null,null,null,null,null,null,null,{"$f":"Backbone!A450","v":"Outil d'évaluation des progrès vers l'éradication de la rage (TAPER)"},null,null,null,null,null,null,"Cet outil facilite l'évaluation des données de surveillance de la rage collectées de manière régulière, en vue de fournir des orientations de gestion actualisées et adaptées aux conditions locales.",null,null,null,null,null,null,null,null,{"$f":"INDEX(Backbone!$R$2:$R$893,MATCH(I71,Backbone!$A$2:$A$893,0))","v":"Matériel ou logiciel"},null,null,null,{"$f":"INDEX(Backbone!$S$2:$S$893,MATCH(I71,Backbone!$A$2:$A$893,0))","v":"«Une seule santé»; spécifique d'une maladie/menace "},null,null,null,{"$f":"INDEX(Backbone!$H$2:$H$893,MATCH(I71,Backbone!$A$2:$A$893,0))","v":9.6},null,{"$f":"INDEX(Backbone!$I$2:$I$893,MATCH(I71,Backbone!$A$2:$A$893,0))","v":10},null,{"$f":"INDEX(Backbone!$J$2:$J$893,MATCH(I71,Backbone!$A$2:$A$893,0))","v":7.3},null,{"$f":"INDEX(Backbone!$K$1:$K$893,MATCH(I71,Backbone!$A$1:$A$893,0))","v":8},null,{"$f":"INDEX(Backbone!$L$2:$L$893,MATCH(I71,Backbone!$A$2:$A$893,0))","v":8.8000000000000007},null,{"$f":"INDEX(Backbone!$M$2:$M$893,MATCH(I71,Backbone!$A$2:$A$893,0))","v":5.5},null,{"$f":"INDEX(Backbone!$N$2:$N$893,MATCH(I71,Backbone!$A$2:$A$893,0))","v":4.3},null,{"$f":"INDEX(Backbone!$O$2:$O$893,MATCH(I71,Backbone!$A$2:$A$893,0))","v":7.9},null,{"$f":"INDEX(Backbone!$P$2:$P$893,MATCH(I71,Backbone!$A$2:$A$893,0))","v":6},null,{"$f":"INDEX(Backbone!$Q$2:$Q$893,MATCH(I71,Backbone!$A$2:$A$893,0))","v":0.74888888888888894},null,null,{"$f":"(AG71*$AG$22+AI71*$AI$22+AK71*$AK$22+AM71*$AM$22+AO71*$AO$22+AQ71*$AQ$22+AS71*$AS$22+AU71*$AU$22+AW71*$AW$22)/(SUM($AG$22:$AW$22)*10)","v":{"$error":"#DIV/0!"}},null,null,"Aller à \nBoîte à outils: ",null,{"$f":"HYPERLINK(\"#\"&ADDRESS(MATCH(I71,Toolbox!$C$1:$C$300),1,,,\"Toolbox\"),VLOOKUP(I71,Toolbox!$C$1:$C$300,1,FALSE))","v":"Outil d'évaluation des progrès vers l'éradication de la rage (TAPER)"}]
[]
[]
[]
[]
[]
[]
[]
[]
[]
[]
[]
[]
[]
[]
[]
[]
[]
[]
[]
[]
[]
[]
[]
[null,null,null,null,null,null,null,null,null,null,null,null,null,null,null,null,null,null,null,null,null,null,null,null,null,null,null,null,null,null,null,null,"Accessibilité",null,"Langue",null,"Facilité d'utilisation",null,"Flexibilité",null,"Besoins de données",null,"Analyse des données",null,"Acceptabilité",null,"«Une seule santé»",null,"Impact"]
[]
[]
[]
[]
[]
[]
[null,null,null,null,null,null,null,null,null,null,null,null,null,null,null,null,null,null,null,null,null,null,null,null,null,null,null,null,null,null,null,null,null,null,null,null,null,null,null,null,null,null,null,null,null,null,null,null,null,null,"SCORE BRUT",null,null,"SCORE AJUSTÉ \n(Selon les préférences de l'utilisateur)"]
[]
[]
[]
[null,"RESSOURCES DE NIVEAU 2",null,"DÉSIGNATION",null,null,null,null,"NOM DE LA RESSOURCE",null,null,null,null,null,null,"BRÈVE DESCRIPTION",null,null,null,null,null,null,null,null,"TYPE DE RESSOURCE",null,null,null,"CARACTÈRE GÉNÉRAL DE LA RESSOURCE"]
[]
[]
[]
[null,null,null,null,null,null,null,null,null,null,null,null,null,null,null,null,null,null,null,null,null,null,null,null,null,null,null,null,null,null,null,null,{"$f":"'Attribute Survey'!S110","v":0},null,{"$f":"'Attribute Survey'!S114","v":0},null,{"$f":"'Attribute Survey'!S118","v":0},null,{"$f":"'Attribute Survey'!S122","v":0},null,{"$f":"'Attribute Survey'!S126","v":0},null,{"$f":"'Attribute Survey'!S130","v":0},null,{"$f":"'Attribute Survey'!S134","v":0},null,{"$f":"'Attribute Survey'!S138","v":0},null,{"$f":"'Attribute Survey'!S142","v":0}]
[null,null,null,"Autres ressources intéressantes",null,null,null,null,{"$f":"Backbone!A2","v":"Cadre de surveillance basé sur les événements des CDC en Afrique"},null,null,null,null,null,null,"Des orientations à l'attention des professionnels de la santé publique qui cherchent à mettre en œuvre la surveillance basée sur les événements à tous les échelons administratifs de leur pays.",null,null,null,null,null,null,null,null,{"$f":"INDEX(Backbone!$R$2:$R$893,MATCH(I111,Backbone!$A$2:$A$893,0))","v":"Document d'orientation"},null,null,null,{"$f":"INDEX(Backbone!$S$2:$S$893,MATCH(I111,Backbone!$A$2:$A$893,0))","v":"«Une seule santé»; Généralisée "},null,null,null,{"$f":"INDEX(Backbone!$H$2:$H$893,MATCH(I111,Backbone!$A$2:$A$893,0))","v":8},null,{"$f":"INDEX(Backbone!$I$2:$I$893,MATCH(I111,Backbone!$A$2:$A$893,0))","v":6},null,{"$f":"INDEX(Backbone!$J$2:$J$893,MATCH(I111,Backbone!$A$2:$A$893,0))","v":8.1999999999999993},null,{"$f":"INDEX(Backbone!$K$1:$K$893,MATCH(I111,Backbone!$A$1:$A$893,0))","v":8.3000000000000007},null,{"$f":"INDEX(Backbone!$L$2:$L$893,MATCH(I111,Backbone!$A$2:$A$893,0))","v":6.1},null,{"$f":"INDEX(Backbone!$M$2:$M$893,MATCH(I111,Backbone!$A$2:$A$893,0))","v":3.5},null,{"$f":"INDEX(Backbone!$N$2:$N$893,MATCH(I111,Backbone!$A$2:$A$893,0))","v":4},null,{"$f":"INDEX(Backbone!$O$2:$O$893,MATCH(I111,Backbone!$A$2:$A$893,0))","v":7},null,{"$f":"INDEX(Backbone!$P$2:$P$893,MATCH(I111,Backbone!$A$2:$A$893,0))","v":6},null,{"$f":"INDEX(Backbone!$Q$2:$Q$893,MATCH(I111,Backbone!$A$2:$A$893,0))","v":0.63222222222222224},null,null,{"$f":"(AG111*$AG$22+AI111*$AI$22+AK111*$AK$22+AM111*$AM$22+AO111*$AO$22+AQ111*$AQ$22+AS111*$AS$22+AU111*$AU$22+AW111*$AW$22)/(SUM($AG$22:$AW$22)*10)","v":{"$error":"#DIV/0!"}},null,null,"Aller à \nBoîte à outils: ",null,{"$f":"HYPERLINK(\"#\"&ADDRESS(MATCH(I111,Toolbox!$C$1:$C$300),1,,,\"Toolbox\"),VLOOKUP(I111,Toolbox!$C$1:$C$300,1,FALSE))","v":"Cadre de surveillance basé sur les événements des CDC en Afrique"}]
[]
[]
[]
[]
[]
[null,null,null,null,null,null,null,null,{"$f":"Backbone!A21","v":"AfyaData"},null,null,null,null,null,null,"Un outil de surveillance des maladies «Une seule santé» conçu pour répondre aux besoins de surveillance humaine, animale et environnementale, comprenant une application mobile et une application web.",null,null,null,null,null,null,null,null,{"$f":"INDEX(Backbone!$R$2:$R$893,MATCH(I117,Backbone!$A$2:$A$893,0))","v":"Matériel ou logiciel"},null,null,null,{"$f":"INDEX(Backbone!$S$2:$S$893,MATCH(I117,Backbone!$A$2:$A$893,0))","v":"«Une seule santé»; Généralisée "},null,null,null,{"$f":"INDEX(Backbone!$H$2:$H$893,MATCH(I117,Backbone!$A$2:$A$893,0))","v":7.3},null,{"$f":"INDEX(Backbone!$I$2:$I$893,MATCH(I117,Backbone!$A$2:$A$893,0))","v":10},null,{"$f":"INDEX(Backbone!$J$2:$J$893,MATCH(I117,Backbone!$A$2:$A$893,0))","v":8.1999999999999993},null,{"$f":"INDEX(Backbone!$K$1:$K$893,MATCH(I117,Backbone!$A$1:$A$893,0))","v":7.3},null,{"$f":"INDEX(Backbone!$L$2:$L$893,MATCH(I117,Backbone!$A$2:$A$893,0))","v":7.6},null,{"$f":"INDEX(Backbone!$M$2:$M$893,MATCH(I117,Backbone!$A$2:$A$893,0))","v":8.8000000000000007},null,{"$f":"INDEX(Backbone!$N$2:$N$893,MATCH(I117,Backbone!$A$2:$A$893,0))","v":5.5},null,{"$f":"INDEX(Backbone!$O$2:$O$893,MATCH(I117,Backbone!$A$2:$A$893,0))","v":7.6},null,{"$f":"INDEX(Backbone!$P$2:$P$893,MATCH(I117,Backbone!$A$2:$A$893,0))","v":7},null,{"$f":"INDEX(Backbone!$Q$2:$Q$893,MATCH(I117,Backbone!$A$2:$A$893,0))","v":0.77000000000000013},null,null,{"$f":"(AG117*$AG$22+AI117*$AI$22+AK117*$AK$22+AM117*$AM$22+AO117*$AO$22+AQ117*$AQ$22+AS117*$AS$22+AU117*$AU$22+AW117*$AW$22)/(SUM($AG$22:$AW$22)*10)","v":{"$error":"#DIV/0!"}},null,null,"Aller à \nBoîte à outils: ",null,{"$f":"HYPERLINK(\"#\"&ADDRESS(MATCH(I117,Toolbox!$C$1:$C$300),1,,,\"Toolbox\"),VLOOKUP(I117,Toolbox!$C$1:$C$300,1,FALSE))","v":"AfyaData"}]
[]
[]
[]
[]
[]
[null,null,null,null,null,null,null,null,{"$f":"Backbone!A138","v":"Système électronique intégré de surveillance des maladies (EIDSS)"},null,null,null,null,null,null,"Un système électronique en ligne et personnalisable d'établissement de rapports sur les maladies qui peut aider à la surveillance passive et active de la santé humaine et vétérinaire, aux diagnostics de laboratoire, à la surveillance des vecteurs et à la gestion des foyers épidémiques. ",null,null,null,null,null,null,null,null,{"$f":"INDEX(Backbone!$R$2:$R$893,MATCH(I123,Backbone!$A$2:$A$893,0))","v":"Matériel ou logiciel"},null,null,null,{"$f":"INDEX(Backbone!$S$2:$S$893,MATCH(I123,Backbone!$A$2:$A$893,0))","v":"«Une seule santé»; Généralisée"},null,null,null,{"$f":"INDEX(Backbone!$H$2:$H$893,MATCH(I123,Backbone!$A$2:$A$893,0))","v":6.8},null,{"$f":"INDEX(Backbone!$I$2:$I$893,MATCH(I123,Backbone!$A$2:$A$893,0))","v":10},null,{"$f":"INDEX(Backbone!$J$2:$J$893,MATCH(I123,Backbone!$A$2:$A$893,0))","v":8.4},null,{"$f":"INDEX(Backbone!$K$1:$K$893,MATCH(I123,Backbone!$A$1:$A$893,0))","v":8.6999999999999993},null,{"$f":"INDEX(Backbone!$L$2:$L$893,MATCH(I123,Backbone!$A$2:$A$893,0))","v":9.1},null,{"$f":"INDEX(Backbone!$M$2:$M$893,MATCH(I123,Backbone!$A$2:$A$893,0))","v":8},null,{"$f":"INDEX(Backbone!$N$2:$N$893,MATCH(I123,Backbone!$A$2:$A$893,0))","v":7},null,{"$f":"INDEX(Backbone!$O$2:$O$893,MATCH(I123,Backbone!$A$2:$A$893,0))","v":7.2},null,{"$f":"INDEX(Backbone!$P$2:$P$893,MATCH(I123,Backbone!$A$2:$A$893,0))","v":10},null,{"$f":"INDEX(Backbone!$Q$2:$Q$893,MATCH(I123,Backbone!$A$2:$A$893,0))","v":0.83555555555555561},null,null,{"$f":"(AG123*$AG$22+AI123*$AI$22+AK123*$AK$22+AM123*$AM$22+AO123*$AO$22+AQ123*$AQ$22+AS123*$AS$22+AU123*$AU$22+AW123*$AW$22)/(SUM($AG$22:$AW$22)*10)","v":{"$error":"#DIV/0!"}},null,null,"Aller à \nBoîte à outils: ",null,{"$f":"HYPERLINK(\"#\"&ADDRESS(MATCH(I123,Toolbox!$C$1:$C$300),1,,,\"Toolbox\"),VLOOKUP(I123,Toolbox!$C$1:$C$300,1,FALSE))","v":"Système électronique intégré de surveillance des maladies (EIDSS)"}]
[]
[]
[]
[]
[]
[null,null,null,null,null,null,null,null,{"$f":"Backbone!A531","v":"Système de gestion des données de laboratoire Mini (MiniLIMS)"},null,null,null,null,null,null,"Un système d'information conçu pour la gestion des données d'un laboratoire d'analyse à l'organisation simple.",null,null,null,null,null,null,null,null,{"$f":"INDEX(Backbone!$R$2:$R$893,MATCH(I129,Backbone!$A$2:$A$893,0))","v":"Matériel ou logiciel"},null,null,null,{"$f":"INDEX(Backbone!$S$2:$S$893,MATCH(I129,Backbone!$A$2:$A$893,0))","v":"Spécifique du secteur; Généralisée"},null,null,null,{"$f":"INDEX(Backbone!$H$2:$H$893,MATCH(I129,Backbone!$A$2:$A$893,0))","v":9},null,{"$f":"INDEX(Backbone!$I$2:$I$893,MATCH(I129,Backbone!$A$2:$A$893,0))","v":7.3},null,{"$f":"INDEX(Backbone!$J$2:$J$893,MATCH(I129,Backbone!$A$2:$A$893,0))","v":8.4},null,{"$f":"INDEX(Backbone!$K$1:$K$893,MATCH(I129,Backbone!$A$1:$A$893,0))","v":9.3000000000000007},null,{"$f":"INDEX(Backbone!$L$2:$L$893,MATCH(I129,Backbone!$A$2:$A$893,0))","v":7.2},null,{"$f":"INDEX(Backbone!$M$2:$M$893,MATCH(I129,Backbone!$A$2:$A$893,0))","v":6.5},null,{"$f":"INDEX(Backbone!$N$2:$N$893,MATCH(I129,Backbone!$A$2:$A$893,0))","v":2},null,{"$f":"INDEX(Backbone!$O$2:$O$893,MATCH(I129,Backbone!$A$2:$A$893,0))","v":4.4000000000000004},null,{"$f":"INDEX(Backbone!$P$2:$P$893,MATCH(I129,Backbone!$A$2:$A$893,0))","v":4},null,{"$f":"INDEX(Backbone!$Q$2:$Q$893,MATCH(I129,Backbone!$A$2:$A$893,0))","v":0.64555555555555555},null,null,{"$f":"(AG129*$AG$22+AI129*$AI$22+AK129*$AK$22+AM129*$AM$22+AO129*$AO$22+AQ129*$AQ$22+AS129*$AS$22+AU129*$AU$22+AW129*$AW$22)/(SUM($AG$22:$AW$22)*10)","v":{"$error":"#DIV/0!"}},null,null,"Aller à \nBoîte à outils: ",null,{"$f":"HYPERLINK(\"#\"&ADDRESS(MATCH(I129,Toolbox!$C$1:$C$300),1,,,\"Toolbox\"),VLOOKUP(I129,Toolbox!$C$1:$C$300,1,FALSE))","v":"Système de gestion des données de laboratoire Mini (MiniLIMS)"}]
[]
[]
[]
[]
[]
[null,null,null,null,null,null,null,null,{"$f":"Backbone!A522","v":"Système de gestion des données de laboratoire «SILAB for Africa» (SILABFA)"},null,null,null,null,null,null,"Un Système de gestion des données de laboratoire (LIMS) capable de retracer toutes les étapes du diagnostic, depuis la réception des échantillons jusqu'aux rapports finaux.",null,null,null,null,null,null,null,null,{"$f":"INDEX(Backbone!$R$2:$R$893,MATCH(I135,Backbone!$A$2:$A$893,0))","v":"Matériel ou logiciel"},null,null,null,{"$f":"INDEX(Backbone!$S$2:$S$893,MATCH(I135,Backbone!$A$2:$A$893,0))","v":"Spécifique du secteur; Généralisée"},null,null,null,{"$f":"INDEX(Backbone!$H$2:$H$893,MATCH(I135,Backbone!$A$2:$A$893,0))","v":9.3000000000000007},null,{"$f":"INDEX(Backbone!$I$2:$I$893,MATCH(I135,Backbone!$A$2:$A$893,0))","v":10},null,{"$f":"INDEX(Backbone!$J$2:$J$893,MATCH(I135,Backbone!$A$2:$A$893,0))","v":6.8},null,{"$f":"INDEX(Backbone!$K$1:$K$893,MATCH(I135,Backbone!$A$1:$A$893,0))","v":9.3000000000000007},null,{"$f":"INDEX(Backbone!$L$2:$L$893,MATCH(I135,Backbone!$A$2:$A$893,0))","v":8},null,{"$f":"INDEX(Backbone!$M$2:$M$893,MATCH(I135,Backbone!$A$2:$A$893,0))","v":6.5},null,{"$f":"INDEX(Backbone!$N$2:$N$893,MATCH(I135,Backbone!$A$2:$A$893,0))","v":8},null,{"$f":"INDEX(Backbone!$O$2:$O$893,MATCH(I135,Backbone!$A$2:$A$893,0))","v":7.2},null,{"$f":"INDEX(Backbone!$P$2:$P$893,MATCH(I135,Backbone!$A$2:$A$893,0))","v":8},null,{"$f":"INDEX(Backbone!$Q$2:$Q$893,MATCH(I135,Backbone!$A$2:$A$893,0))","v":0.81222222222222229},null,null,{"$f":"(AG135*$AG$22+AI135*$AI$22+AK135*$AK$22+AM135*$AM$22+AO135*$AO$22+AQ135*$AQ$22+AS135*$AS$22+AU135*$AU$22+AW135*$AW$22)/(SUM($AG$22:$AW$22)*10)","v":{"$error":"#DIV/0!"}},null,null,"Aller à \nBoîte à outils: ",null,{"$f":"HYPERLINK(\"#\"&ADDRESS(MATCH(I135,Toolbox!$C$1:$C$300),1,,,\"Toolbox\"),VLOOKUP(I135,Toolbox!$C$1:$C$300,1,FALSE))","v":"Système de gestion des données de laboratoire «SILAB for Africa» (SILABFA)"}]
[]
[]
[]
[]
[]
[null,null,null,null,null,null,null,null,{"$f":"Backbone!A271","v":"Analyse du réseau des infrastructures de laboratoire (LINA)"},null,null,null,null,null,null,"Une application en ligne facile à utiliser fournissant une fonctionnalité avancée de modélisation computationnelle et d'analyse de données offrant la possibilité de visualiser facilement, à l'aide d'organigrammes, les capacités et les moyens du réseau national de laboratoires, mais aussi de chaque laboratoire séparément.",null,null,null,null,null,null,null,null,{"$f":"INDEX(Backbone!$R$2:$R$893,MATCH(I141,Backbone!$A$2:$A$893,0))","v":"Matériel ou logiciel"},null,null,null,{"$f":"INDEX(Backbone!$S$2:$S$893,MATCH(I141,Backbone!$A$2:$A$893,0))","v":"«Une seule santé»; Généralisée"},null,null,null,{"$f":"INDEX(Backbone!$H$2:$H$893,MATCH(I141,Backbone!$A$2:$A$893,0))","v":9.6},null,{"$f":"INDEX(Backbone!$I$2:$I$893,MATCH(I141,Backbone!$A$2:$A$893,0))","v":6},null,{"$f":"INDEX(Backbone!$J$2:$J$893,MATCH(I141,Backbone!$A$2:$A$893,0))","v":7.6},null,{"$f":"INDEX(Backbone!$K$1:$K$893,MATCH(I141,Backbone!$A$1:$A$893,0))","v":9},null,{"$f":"INDEX(Backbone!$L$2:$L$893,MATCH(I141,Backbone!$A$2:$A$893,0))","v":8.3000000000000007},null,{"$f":"INDEX(Backbone!$M$2:$M$893,MATCH(I141,Backbone!$A$2:$A$893,0))","v":7},null,{"$f":"INDEX(Backbone!$N$2:$N$893,MATCH(I141,Backbone!$A$2:$A$893,0))","v":3},null,{"$f":"INDEX(Backbone!$O$2:$O$893,MATCH(I141,Backbone!$A$2:$A$893,0))","v":9.1},null,{"$f":"INDEX(Backbone!$P$2:$P$893,MATCH(I141,Backbone!$A$2:$A$893,0))","v":4},null,{"$f":"INDEX(Backbone!$Q$2:$Q$893,MATCH(I141,Backbone!$A$2:$A$893,0))","v":0.69555555555555559},null,null,{"$f":"(AG141*$AG$22+AI141*$AI$22+AK141*$AK$22+AM141*$AM$22+AO141*$AO$22+AQ141*$AQ$22+AS141*$AS$22+AU141*$AU$22+AW141*$AW$22)/(SUM($AG$22:$AW$22)*10)","v":{"$error":"#DIV/0!"}},null,null,"Aller à \nBoîte à outils: ",null,{"$f":"HYPERLINK(\"#\"&ADDRESS(MATCH(I141,Toolbox!$C$1:$C$300),1,,,\"Toolbox\"),VLOOKUP(I141,Toolbox!$C$1:$C$300,1,FALSE))","v":"Analyse du réseau des infrastructures de laboratoire (LINA)"}]
[]
[]
[]
[]
[]
[null,null,null,null,null,null,null,null,{"$f":"Backbone!A604","v":"Application de suivi des expositions et des cas de rage (REACT)"},null,null,null,null,null,null,"Un outil visant à soutenir la mise en œuvre de programmes de gestion intégrée des cas de morsures.",null,null,null,null,null,null,null,null,{"$f":"INDEX(Backbone!$R$2:$R$893,MATCH(I147,Backbone!$A$2:$A$893,0))","v":"Matériel ou logiciel"},null,null,null,{"$f":"INDEX(Backbone!$S$2:$S$893,MATCH(I147,Backbone!$A$2:$A$893,0))","v":"«Une seule santé»; spécifique d'une maladie/menace "},null,null,null,{"$f":"INDEX(Backbone!$H$2:$H$893,MATCH(I147,Backbone!$A$2:$A$893,0))","v":8.6},null,{"$f":"INDEX(Backbone!$I$2:$I$893,MATCH(I147,Backbone!$A$2:$A$893,0))","v":8.6},null,{"$f":"INDEX(Backbone!$J$2:$J$893,MATCH(I147,Backbone!$A$2:$A$893,0))","v":8},null,{"$f":"INDEX(Backbone!$K$1:$K$893,MATCH(I147,Backbone!$A$1:$A$893,0))","v":8.6},null,{"$f":"INDEX(Backbone!$L$2:$L$893,MATCH(I147,Backbone!$A$2:$A$893,0))","v":9.4},null,{"$f":"INDEX(Backbone!$M$2:$M$893,MATCH(I147,Backbone!$A$2:$A$893,0))","v":9.5},null,{"$f":"INDEX(Backbone!$N$2:$N$893,MATCH(I147,Backbone!$A$2:$A$893,0))","v":9},null,{"$f":"INDEX(Backbone!$O$2:$O$893,MATCH(I147,Backbone!$A$2:$A$893,0))","v":9.1999999999999993},null,{"$f":"INDEX(Backbone!$P$2:$P$893,MATCH(I147,Backbone!$A$2:$A$893,0))","v":9},null,{"$f":"INDEX(Backbone!$Q$2:$Q$893,MATCH(I147,Backbone!$A$2:$A$893,0))","v":0.88777777777777767},null,null,{"$f":"(AG147*$AG$22+AI147*$AI$22+AK147*$AK$22+AM147*$AM$22+AO147*$AO$22+AQ147*$AQ$22+AS147*$AS$22+AU147*$AU$22+AW147*$AW$22)/(SUM($AG$22:$AW$22)*10)","v":{"$error":"#DIV/0!"}},null,null,"Aller à \nBoîte à outils: ",null,{"$f":"HYPERLINK(\"#\"&ADDRESS(MATCH(I147,Toolbox!$C$1:$C$300),1,,,\"Toolbox\"),VLOOKUP(I147,Toolbox!$C$1:$C$300,1,FALSE))","v":"Application de suivi des expositions et des cas de rage (REACT)"}]
[]
[]
[]
[]
[]
[null,null,null,null,null,null,null,null,{"$f":"Backbone!A489","v":"Suite pour une biosurveillance électronique automatisée mondiale (SAGES)"},null,null,null,null,null,null,"Une suite d'outils logiciels d'exploitation libre conçus pour améliorer la surveillance électronique des maladies dans des situations où les ressources sont limitées.",null,null,null,null,null,null,null,null,{"$f":"INDEX(Backbone!$R$2:$R$893,MATCH(I153,Backbone!$A$2:$A$893,0))","v":"Matériel ou logiciel"},null,null,null,{"$f":"INDEX(Backbone!$S$2:$S$893,MATCH(I153,Backbone!$A$2:$A$893,0))","v":"«Une seule santé»; Généralisée"},null,null,null,{"$f":"INDEX(Backbone!$H$2:$H$893,MATCH(I153,Backbone!$A$2:$A$893,0))","v":9.8000000000000007},null,{"$f":"INDEX(Backbone!$I$2:$I$893,MATCH(I153,Backbone!$A$2:$A$893,0))","v":10},null,{"$f":"INDEX(Backbone!$J$2:$J$893,MATCH(I153,Backbone!$A$2:$A$893,0))","v":10},null,{"$f":"INDEX(Backbone!$K$1:$K$893,MATCH(I153,Backbone!$A$1:$A$893,0))","v":9.3000000000000007},null,{"$f":"INDEX(Backbone!$L$2:$L$893,MATCH(I153,Backbone!$A$2:$A$893,0))","v":8.5},null,{"$f":"INDEX(Backbone!$M$2:$M$893,MATCH(I153,Backbone!$A$2:$A$893,0))","v":9},null,{"$f":"INDEX(Backbone!$N$2:$N$893,MATCH(I153,Backbone!$A$2:$A$893,0))","v":5.5},null,{"$f":"INDEX(Backbone!$O$2:$O$893,MATCH(I153,Backbone!$A$2:$A$893,0))","v":9.5},null,{"$f":"INDEX(Backbone!$P$2:$P$893,MATCH(I153,Backbone!$A$2:$A$893,0))","v":7},null,{"$f":"INDEX(Backbone!$Q$2:$Q$893,MATCH(I153,Backbone!$A$2:$A$893,0))","v":0.87333333333333329},null,null,{"$f":"(AG153*$AG$22+AI153*$AI$22+AK153*$AK$22+AM153*$AM$22+AO153*$AO$22+AQ153*$AQ$22+AS153*$AS$22+AU153*$AU$22+AW153*$AW$22)/(SUM($AG$22:$AW$22)*10)","v":{"$error":"#DIV/0!"}},null,null,"Aller à \nBoîte à outils: ",null,{"$f":"HYPERLINK(\"#\"&ADDRESS(MATCH(I153,Toolbox!$C$1:$C$300),1,,,\"Toolbox\"),VLOOKUP(I153,Toolbox!$C$1:$C$300,1,FALSE))","v":"Suite pour une biosurveillance électronique automatisée mondiale (SAGES)"}]
[]
[]
[]
[]
[]
[null,null,null,null,null,null,null,null,{"$f":"Backbone!A450","v":"Outil d'évaluation des progrès vers l'éradication de la rage (TAPER)"},null,null,null,null,null,null,"Cet outil facilite l'évaluation des données de surveillance de la rage collectées de manière régulière, en vue de fournir des orientations de gestion actualisées et adaptées aux conditions locales.",null,null,null,null,null,null,null,null,{"$f":"INDEX(Backbone!$R$2:$R$893,MATCH(I159,Backbone!$A$2:$A$893,0))","v":"Matériel ou logiciel"},null,null,null,{"$f":"INDEX(Backbone!$S$2:$S$893,MATCH(I159,Backbone!$A$2:$A$893,0))","v":"«Une seule santé»; spécifique d'une maladie/menace "},null,null,null,{"$f":"INDEX(Backbone!$H$2:$H$893,MATCH(I159,Backbone!$A$2:$A$893,0))","v":9.6},null,{"$f":"INDEX(Backbone!$I$2:$I$893,MATCH(I159,Backbone!$A$2:$A$893,0))","v":10},null,{"$f":"INDEX(Backbone!$J$2:$J$893,MATCH(I159,Backbone!$A$2:$A$893,0))","v":7.3},null,{"$f":"INDEX(Backbone!$K$1:$K$893,MATCH(I159,Backbone!$A$1:$A$893,0))","v":8},null,{"$f":"INDEX(Backbone!$L$2:$L$893,MATCH(I159,Backbone!$A$2:$A$893,0))","v":8.8000000000000007},null,{"$f":"INDEX(Backbone!$M$2:$M$893,MATCH(I159,Backbone!$A$2:$A$893,0))","v":5.5},null,{"$f":"INDEX(Backbone!$N$2:$N$893,MATCH(I159,Backbone!$A$2:$A$893,0))","v":4.3},null,{"$f":"INDEX(Backbone!$O$2:$O$893,MATCH(I159,Backbone!$A$2:$A$893,0))","v":7.9},null,{"$f":"INDEX(Backbone!$P$2:$P$893,MATCH(I159,Backbone!$A$2:$A$893,0))","v":6},null,{"$f":"INDEX(Backbone!$Q$2:$Q$893,MATCH(I159,Backbone!$A$2:$A$893,0))","v":0.74888888888888894},null,null,{"$f":"(AG159*$AG$22+AI159*$AI$22+AK159*$AK$22+AM159*$AM$22+AO159*$AO$22+AQ159*$AQ$22+AS159*$AS$22+AU159*$AU$22+AW159*$AW$22)/(SUM($AG$22:$AW$22)*10)","v":{"$error":"#DIV/0!"}},null,null,"Aller à \nBoîte à outils: ",null,{"$f":"HYPERLINK(\"#\"&ADDRESS(MATCH(I159,Toolbox!$C$1:$C$300),1,,,\"Toolbox\"),VLOOKUP(I159,Toolbox!$C$1:$C$300,1,FALSE))","v":"Outil d'évaluation des progrès vers l'éradication de la rage (TAPER)"}]
[]
[]
[]
[]
[]
[]
[]
[]
[]
[]
[]
[]
[]
[]
[]
[]
[]
[]
[]
[]
[]
[]
[]
[null,null,null,null,null,null,null,null,null,null,null,null,null,null,null,null,null,null,null,null,null,null,null,null,null,null,null,null,null,null,null,null,"Accessibilité",null,"Langue",null,"Facilité d'utilisation",null,"Flexibilité",null,"Besoins de données",null,"Analyse des données",null,"Acceptabilité",null,"«Une seule santé»",null,"Impact"]
[]
[]
[]
[]
[]
[]
[null,null,null,null,null,null,null,null,null,null,null,null,null,null,null,null,null,null,null,null,null,null,null,null,null,null,null,null,null,null,null,null,null,null,null,null,null,null,null,null,null,null,null,null,null,null,null,null,null,null,"SCORE BRUT",null,null,"SCORE AJUSTÉ \n(Selon les préférences de l'utilisateur)"]
[]
[]
[]
[null,"RESSOURCES DE NIVEAU 3",null,"DÉSIGNATION",null,null,null,null,"NOM DE LA RESSOURCE",null,null,null,null,null,null,"BRÈVE DESCRIPTION",null,null,null,null,null,null,null,null,"TYPE DE RESSOURCE",null,null,null,"CARACTÈRE GÉNÉRAL DE LA RESSOURCE"]
[]
[]
[]
[null,null,null,null,null,null,null,null,null,null,null,null,null,null,null,null,null,null,null,null,null,null,null,null,null,null,null,null,null,null,null,null,{"$f":"'Attribute Survey'!S198","v":0},null,{"$f":"'Attribute Survey'!S202","v":0},null,{"$f":"'Attribute Survey'!S206","v":0},null,{"$f":"'Attribute Survey'!S210","v":0},null,{"$f":"'Attribute Survey'!S214","v":0},null,{"$f":"'Attribute Survey'!S218","v":0},null,{"$f":"'Attribute Survey'!S222","v":0},null,{"$f":"'Attribute Survey'!S226","v":0},null,{"$f":"'Attribute Survey'!S230","v":0}]
[null,null,null,"Autres ressources intéressantes",null,null,null,null,{"$f":"Backbone!A2","v":"Cadre de surveillance basé sur les événements des CDC en Afrique"},null,null,null,null,null,null,"Des orientations à l'attention des professionnels de la santé publique qui cherchent à mettre en œuvre la surveillance basée sur les événements à tous les échelons administratifs de leur pays.",null,null,null,null,null,null,null,null,{"$f":"INDEX(Backbone!$R$2:$R$893,MATCH(I199,Backbone!$A$2:$A$893,0))","v":"Document d'orientation"},null,null,null,{"$f":"INDEX(Backbone!$S$2:$S$893,MATCH(I199,Backbone!$A$2:$A$893,0))","v":"«Une seule santé»; Généralisée "},null,null,null,{"$f":"INDEX(Backbone!$H$2:$H$893,MATCH(I199,Backbone!$A$2:$A$893,0))","v":8},null,{"$f":"INDEX(Backbone!$I$2:$I$893,MATCH(I199,Backbone!$A$2:$A$893,0))","v":6},null,{"$f":"INDEX(Backbone!$J$2:$J$893,MATCH(I199,Backbone!$A$2:$A$893,0))","v":8.1999999999999993},null,{"$f":"INDEX(Backbone!$K$1:$K$893,MATCH(I199,Backbone!$A$1:$A$893,0))","v":8.3000000000000007},null,{"$f":"INDEX(Backbone!$L$2:$L$893,MATCH(I199,Backbone!$A$2:$A$893,0))","v":6.1},null,{"$f":"INDEX(Backbone!$M$2:$M$893,MATCH(I199,Backbone!$A$2:$A$893,0))","v":3.5},null,{"$f":"INDEX(Backbone!$N$2:$N$893,MATCH(I199,Backbone!$A$2:$A$893,0))","v":4},null,{"$f":"INDEX(Backbone!$O$2:$O$893,MATCH(I199,Backbone!$A$2:$A$893,0))","v":7},null,{"$f":"INDEX(Backbone!$P$2:$P$893,MATCH(I199,Backbone!$A$2:$A$893,0))","v":6},null,{"$f":"INDEX(Backbone!$Q$2:$Q$893,MATCH(I199,Backbone!$A$2:$A$893,0))","v":0.63222222222222224},null,null,{"$f":"(AG199*$AG$22+AI199*$AI$22+AK199*$AK$22+AM199*$AM$22+AO199*$AO$22+AQ199*$AQ$22+AS199*$AS$22+AU199*$AU$22+AW199*$AW$22)/(SUM($AG$22:$AW$22)*10)","v":{"$error":"#DIV/0!"}},null,null,"Aller à \nBoîte à outils: ",null,{"$f":"HYPERLINK(\"#\"&ADDRESS(MATCH(I199,Toolbox!$C$1:$C$300),1,,,\"Toolbox\"),VLOOKUP(I199,Toolbox!$C$1:$C$300,1,FALSE))","v":"Cadre de surveillance basé sur les événements des CDC en Afrique"}]
[]
[]
[]
[]
[]
[null,null,null,null,null,null,null,null,{"$f":"Backbone!A138","v":"Système électronique intégré de surveillance des maladies (EIDSS)"},null,null,null,null,null,null,"Un système électronique en ligne et personnalisable d'établissement de rapports sur les maladies qui peut aider à la surveillance passive et active de la santé humaine et vétérinaire, aux diagnostics de laboratoire, à la surveillance des vecteurs et à la gestion des foyers épidémiques. ",null,null,null,null,null,null,null,null,{"$f":"INDEX(Backbone!$R$2:$R$893,MATCH(I205,Backbone!$A$2:$A$893,0))","v":"Matériel ou logiciel"},null,null,null,{"$f":"INDEX(Backbone!$S$2:$S$893,MATCH(I205,Backbone!$A$2:$A$893,0))","v":"«Une seule santé»; Généralisée"},null,null,null,{"$f":"INDEX(Backbone!$H$2:$H$893,MATCH(I205,Backbone!$A$2:$A$893,0))","v":6.8},null,{"$f":"INDEX(Backbone!$I$2:$I$893,MATCH(I205,Backbone!$A$2:$A$893,0))","v":10},null,{"$f":"INDEX(Backbone!$J$2:$J$893,MATCH(I205,Backbone!$A$2:$A$893,0))","v":8.4},null,{"$f":"INDEX(Backbone!$K$1:$K$893,MATCH(I205,Backbone!$A$1:$A$893,0))","v":8.6999999999999993},null,{"$f":"INDEX(Backbone!$L$2:$L$893,MATCH(I205,Backbone!$A$2:$A$893,0))","v":9.1},null,{"$f":"INDEX(Backbone!$M$2:$M$893,MATCH(I205,Backbone!$A$2:$A$893,0))","v":8},null,{"$f":"INDEX(Backbone!$N$2:$N$893,MATCH(I205,Backbone!$A$2:$A$893,0))","v":7},null,{"$f":"INDEX(Backbone!$O$2:$O$893,MATCH(I205,Backbone!$A$2:$A$893,0))","v":7.2},null,{"$f":"INDEX(Backbone!$P$2:$P$893,MATCH(I205,Backbone!$A$2:$A$893,0))","v":10},null,{"$f":"INDEX(Backbone!$Q$2:$Q$893,MATCH(I205,Backbone!$A$2:$A$893,0))","v":0.83555555555555561},null,null,{"$f":"(AG205*$AG$22+AI205*$AI$22+AK205*$AK$22+AM205*$AM$22+AO205*$AO$22+AQ205*$AQ$22+AS205*$AS$22+AU205*$AU$22+AW205*$AW$22)/(SUM($AG$22:$AW$22)*10)","v":{"$error":"#DIV/0!"}},null,null,"Aller à \nBoîte à outils: ",null,{"$f":"HYPERLINK(\"#\"&ADDRESS(MATCH(I205,Toolbox!$C$1:$C$300),1,,,\"Toolbox\"),VLOOKUP(I205,Toolbox!$C$1:$C$300,1,FALSE))","v":"Système électronique intégré de surveillance des maladies (EIDSS)"}]
[]
[]
[]
[]
[]
[null,null,null,null,null,null,null,null,{"$f":"Backbone!A531","v":"Système de gestion des données de laboratoire Mini (MiniLIMS)"},null,null,null,null,null,null,"Un système d'information conçu pour la gestion des données d'un laboratoire d'analyse à l'organisation simple.",null,null,null,null,null,null,null,null,{"$f":"INDEX(Backbone!$R$2:$R$893,MATCH(I211,Backbone!$A$2:$A$893,0))","v":"Matériel ou logiciel"},null,null,null,{"$f":"INDEX(Backbone!$S$2:$S$893,MATCH(I211,Backbone!$A$2:$A$893,0))","v":"Spécifique du secteur; Généralisée"},null,null,null,{"$f":"INDEX(Backbone!$H$2:$H$893,MATCH(I211,Backbone!$A$2:$A$893,0))","v":9},null,{"$f":"INDEX(Backbone!$I$2:$I$893,MATCH(I211,Backbone!$A$2:$A$893,0))","v":7.3},null,{"$f":"INDEX(Backbone!$J$2:$J$893,MATCH(I211,Backbone!$A$2:$A$893,0))","v":8.4},null,{"$f":"INDEX(Backbone!$K$1:$K$893,MATCH(I211,Backbone!$A$1:$A$893,0))","v":9.3000000000000007},null,{"$f":"INDEX(Backbone!$L$2:$L$893,MATCH(I211,Backbone!$A$2:$A$893,0))","v":7.2},null,{"$f":"INDEX(Backbone!$M$2:$M$893,MATCH(I211,Backbone!$A$2:$A$893,0))","v":6.5},null,{"$f":"INDEX(Backbone!$N$2:$N$893,MATCH(I211,Backbone!$A$2:$A$893,0))","v":2},null,{"$f":"INDEX(Backbone!$O$2:$O$893,MATCH(I211,Backbone!$A$2:$A$893,0))","v":4.4000000000000004},null,{"$f":"INDEX(Backbone!$P$2:$P$893,MATCH(I211,Backbone!$A$2:$A$893,0))","v":4},null,{"$f":"INDEX(Backbone!$Q$2:$Q$893,MATCH(I211,Backbone!$A$2:$A$893,0))","v":0.64555555555555555},null,null,{"$f":"(AG211*$AG$22+AI211*$AI$22+AK211*$AK$22+AM211*$AM$22+AO211*$AO$22+AQ211*$AQ$22+AS211*$AS$22+AU211*$AU$22+AW211*$AW$22)/(SUM($AG$22:$AW$22)*10)","v":{"$error":"#DIV/0!"}},null,null,"Aller à \nBoîte à outils: ",null,{"$f":"HYPERLINK(\"#\"&ADDRESS(MATCH(I211,Toolbox!$C$1:$C$300),1,,,\"Toolbox\"),VLOOKUP(I211,Toolbox!$C$1:$C$300,1,FALSE))","v":"Système de gestion des données de laboratoire Mini (MiniLIMS)"}]
[]
[]
[]
[]
[]
[null,null,null,null,null,null,null,null,{"$f":"Backbone!A522","v":"Système de gestion des données de laboratoire «SILAB for Africa» (SILABFA)"},null,null,null,null,null,null,"Un Système de gestion des données de laboratoire (LIMS) capable de retracer toutes les étapes du diagnostic, depuis la réception des échantillons jusqu'aux rapports finaux.",null,null,null,null,null,null,null,null,{"$f":"INDEX(Backbone!$R$2:$R$893,MATCH(I217,Backbone!$A$2:$A$893,0))","v":"Matériel ou logiciel"},null,null,null,{"$f":"INDEX(Backbone!$S$2:$S$893,MATCH(I217,Backbone!$A$2:$A$893,0))","v":"Spécifique du secteur; Généralisée"},null,null,null,{"$f":"INDEX(Backbone!$H$2:$H$893,MATCH(I217,Backbone!$A$2:$A$893,0))","v":9.3000000000000007},null,{"$f":"INDEX(Backbone!$I$2:$I$893,MATCH(I217,Backbone!$A$2:$A$893,0))","v":10},null,{"$f":"INDEX(Backbone!$J$2:$J$893,MATCH(I217,Backbone!$A$2:$A$893,0))","v":6.8},null,{"$f":"INDEX(Backbone!$K$1:$K$893,MATCH(I217,Backbone!$A$1:$A$893,0))","v":9.3000000000000007},null,{"$f":"INDEX(Backbone!$L$2:$L$893,MATCH(I217,Backbone!$A$2:$A$893,0))","v":8},null,{"$f":"INDEX(Backbone!$M$2:$M$893,MATCH(I217,Backbone!$A$2:$A$893,0))","v":6.5},null,{"$f":"INDEX(Backbone!$N$2:$N$893,MATCH(I217,Backbone!$A$2:$A$893,0))","v":8},null,{"$f":"INDEX(Backbone!$O$2:$O$893,MATCH(I217,Backbone!$A$2:$A$893,0))","v":7.2},null,{"$f":"INDEX(Backbone!$P$2:$P$893,MATCH(I217,Backbone!$A$2:$A$893,0))","v":8},null,{"$f":"INDEX(Backbone!$Q$2:$Q$893,MATCH(I217,Backbone!$A$2:$A$893,0))","v":0.81222222222222229},null,null,{"$f":"(AG217*$AG$22+AI217*$AI$22+AK217*$AK$22+AM217*$AM$22+AO217*$AO$22+AQ217*$AQ$22+AS217*$AS$22+AU217*$AU$22+AW217*$AW$22)/(SUM($AG$22:$AW$22)*10)","v":{"$error":"#DIV/0!"}},null,null,"Aller à \nBoîte à outils: ",null,{"$f":"HYPERLINK(\"#\"&ADDRESS(MATCH(I217,Toolbox!$C$1:$C$300),1,,,\"Toolbox\"),VLOOKUP(I217,Toolbox!$C$1:$C$300,1,FALSE))","v":"Système de gestion des données de laboratoire «SILAB for Africa» (SILABFA)"}]
[]
[]
[]
[]
[]
[null,null,null,null,null,null,null,null,{"$f":"Backbone!A271","v":"Analyse du réseau des infrastructures de laboratoire (LINA)"},null,null,null,null,null,null,"Une application en ligne facile à utiliser fournissant une fonctionnalité avancée de modélisation computationnelle et d'analyse de données offrant la possibilité de visualiser facilement, à l'aide d'organigrammes, les capacités et les moyens du réseau national de laboratoires, mais aussi de chaque laboratoire séparément. ",null,null,null,null,null,null,null,null,{"$f":"INDEX(Backbone!$R$2:$R$893,MATCH(I223,Backbone!$A$2:$A$893,0))","v":"Matériel ou logiciel"},null,null,null,{"$f":"INDEX(Backbone!$S$2:$S$893,MATCH(I223,Backbone!$A$2:$A$893,0))","v":"«Une seule santé»; Généralisée"},null,null,null,{"$f":"INDEX(Backbone!$H$2:$H$893,MATCH(I223,Backbone!$A$2:$A$893,0))","v":9.6},null,{"$f":"INDEX(Backbone!$I$2:$I$893,MATCH(I223,Backbone!$A$2:$A$893,0))","v":6},null,{"$f":"INDEX(Backbone!$J$2:$J$893,MATCH(I223,Backbone!$A$2:$A$893,0))","v":7.6},null,{"$f":"INDEX(Backbone!$K$1:$K$893,MATCH(I223,Backbone!$A$1:$A$893,0))","v":9},null,{"$f":"INDEX(Backbone!$L$2:$L$893,MATCH(I223,Backbone!$A$2:$A$893,0))","v":8.3000000000000007},null,{"$f":"INDEX(Backbone!$M$2:$M$893,MATCH(I223,Backbone!$A$2:$A$893,0))","v":7},null,{"$f":"INDEX(Backbone!$N$2:$N$893,MATCH(I223,Backbone!$A$2:$A$893,0))","v":3},null,{"$f":"INDEX(Backbone!$O$2:$O$893,MATCH(I223,Backbone!$A$2:$A$893,0))","v":9.1},null,{"$f":"INDEX(Backbone!$P$2:$P$893,MATCH(I223,Backbone!$A$2:$A$893,0))","v":4},null,{"$f":"INDEX(Backbone!$Q$2:$Q$893,MATCH(I223,Backbone!$A$2:$A$893,0))","v":0.69555555555555559},null,null,{"$f":"(AG223*$AG$22+AI223*$AI$22+AK223*$AK$22+AM223*$AM$22+AO223*$AO$22+AQ223*$AQ$22+AS223*$AS$22+AU223*$AU$22+AW223*$AW$22)/(SUM($AG$22:$AW$22)*10)","v":{"$error":"#DIV/0!"}},null,null,"Aller à \nBoîte à outils: ",null,{"$f":"HYPERLINK(\"#\"&ADDRESS(MATCH(I223,Toolbox!$C$1:$C$300),1,,,\"Toolbox\"),VLOOKUP(I223,Toolbox!$C$1:$C$300,1,FALSE))","v":"Analyse du réseau des infrastructures de laboratoire (LINA)"}]
[]
[]
[]
[]
[]
[null,null,null,null,null,null,null,null,{"$f":"Backbone!A604","v":"Application de suivi des expositions et des cas de rage (REACT)"},null,null,null,null,null,null,"Un outil visant à soutenir la mise en œuvre de programmes de gestion intégrée des cas de morsures.",null,null,null,null,null,null,null,null,{"$f":"INDEX(Backbone!$R$2:$R$893,MATCH(I229,Backbone!$A$2:$A$893,0))","v":"Matériel ou logiciel"},null,null,null,{"$f":"INDEX(Backbone!$S$2:$S$893,MATCH(I229,Backbone!$A$2:$A$893,0))","v":"«Une seule santé»; spécifique d'une maladie/menace "},null,null,null,{"$f":"INDEX(Backbone!$H$2:$H$893,MATCH(I229,Backbone!$A$2:$A$893,0))","v":8.6},null,{"$f":"INDEX(Backbone!$I$2:$I$893,MATCH(I229,Backbone!$A$2:$A$893,0))","v":8.6},null,{"$f":"INDEX(Backbone!$J$2:$J$893,MATCH(I229,Backbone!$A$2:$A$893,0))","v":8},null,{"$f":"INDEX(Backbone!$K$1:$K$893,MATCH(I229,Backbone!$A$1:$A$893,0))","v":8.6},null,{"$f":"INDEX(Backbone!$L$2:$L$893,MATCH(I229,Backbone!$A$2:$A$893,0))","v":9.4},null,{"$f":"INDEX(Backbone!$M$2:$M$893,MATCH(I229,Backbone!$A$2:$A$893,0))","v":9.5},null,{"$f":"INDEX(Backbone!$N$2:$N$893,MATCH(I229,Backbone!$A$2:$A$893,0))","v":9},null,{"$f":"INDEX(Backbone!$O$2:$O$893,MATCH(I229,Backbone!$A$2:$A$893,0))","v":9.1999999999999993},null,{"$f":"INDEX(Backbone!$P$2:$P$893,MATCH(I229,Backbone!$A$2:$A$893,0))","v":9},null,{"$f":"INDEX(Backbone!$Q$2:$Q$893,MATCH(I229,Backbone!$A$2:$A$893,0))","v":0.88777777777777767},null,null,{"$f":"(AG229*$AG$22+AI229*$AI$22+AK229*$AK$22+AM229*$AM$22+AO229*$AO$22+AQ229*$AQ$22+AS229*$AS$22+AU229*$AU$22+AW229*$AW$22)/(SUM($AG$22:$AW$22)*10)","v":{"$error":"#DIV/0!"}},null,null,"Aller à \nBoîte à outils: ",null,{"$f":"HYPERLINK(\"#\"&ADDRESS(MATCH(I229,Toolbox!$C$1:$C$300),1,,,\"Toolbox\"),VLOOKUP(I229,Toolbox!$C$1:$C$300,1,FALSE))","v":"Application de suivi des expositions et des cas de rage (REACT)"}]
[]
[]
[]
[]
[]
[null,null,null,null,null,null,null,null,{"$f":"Backbone!A489","v":"Suite pour une biosurveillance électronique automatisée mondiale (SAGES)"},null,null,null,null,null,null,"Une suite d'outils logiciels d'exploitation libre conçus pour améliorer la surveillance électronique des maladies dans des situations où les ressources sont limitées.",null,null,null,null,null,null,null,null,{"$f":"INDEX(Backbone!$R$2:$R$893,MATCH(I235,Backbone!$A$2:$A$893,0))","v":"Matériel ou logiciel"},null,null,null,{"$f":"INDEX(Backbone!$S$2:$S$893,MATCH(I235,Backbone!$A$2:$A$893,0))","v":"«Une seule santé»; Généralisée"},null,null,null,{"$f":"INDEX(Backbone!$H$2:$H$893,MATCH(I235,Backbone!$A$2:$A$893,0))","v":9.8000000000000007},null,{"$f":"INDEX(Backbone!$I$2:$I$893,MATCH(I235,Backbone!$A$2:$A$893,0))","v":10},null,{"$f":"INDEX(Backbone!$J$2:$J$893,MATCH(I235,Backbone!$A$2:$A$893,0))","v":10},null,{"$f":"INDEX(Backbone!$K$1:$K$893,MATCH(I235,Backbone!$A$1:$A$893,0))","v":9.3000000000000007},null,{"$f":"INDEX(Backbone!$L$2:$L$893,MATCH(I235,Backbone!$A$2:$A$893,0))","v":8.5},null,{"$f":"INDEX(Backbone!$M$2:$M$893,MATCH(I235,Backbone!$A$2:$A$893,0))","v":9},null,{"$f":"INDEX(Backbone!$N$2:$N$893,MATCH(I235,Backbone!$A$2:$A$893,0))","v":5.5},null,{"$f":"INDEX(Backbone!$O$2:$O$893,MATCH(I235,Backbone!$A$2:$A$893,0))","v":9.5},null,{"$f":"INDEX(Backbone!$P$2:$P$893,MATCH(I235,Backbone!$A$2:$A$893,0))","v":7},null,{"$f":"INDEX(Backbone!$Q$2:$Q$893,MATCH(I235,Backbone!$A$2:$A$893,0))","v":0.87333333333333329},null,null,{"$f":"(AG235*$AG$22+AI235*$AI$22+AK235*$AK$22+AM235*$AM$22+AO235*$AO$22+AQ235*$AQ$22+AS235*$AS$22+AU235*$AU$22+AW235*$AW$22)/(SUM($AG$22:$AW$22)*10)","v":{"$error":"#DIV/0!"}},null,null,"Aller à \nBoîte à outils: ",null,{"$f":"HYPERLINK(\"#\"&ADDRESS(MATCH(I235,Toolbox!$C$1:$C$300),1,,,\"Toolbox\"),VLOOKUP(I235,Toolbox!$C$1:$C$300,1,FALSE))","v":"Suite pour une biosurveillance électronique automatisée mondiale (SAGES)"}]
[]
[]
[]
[]
[]
[null,null,null,null,null,null,null,null,{"$f":"Backbone!A450","v":"Outil d'évaluation des progrès vers l'éradication de la rage (TAPER)"},null,null,null,null,null,null,"Cet outil facilite l'évaluation des données de surveillance de la rage collectées de manière régulière, en vue de fournir des orientations de gestion actualisées et adaptées aux conditions locales.",null,null,null,null,null,null,null,null,{"$f":"INDEX(Backbone!$R$2:$R$893,MATCH(I241,Backbone!$A$2:$A$893,0))","v":"Matériel ou logiciel"},null,null,null,{"$f":"INDEX(Backbone!$S$2:$S$893,MATCH(I241,Backbone!$A$2:$A$893,0))","v":"«Une seule santé»; spécifique d'une maladie/menace "},null,null,null,{"$f":"INDEX(Backbone!$H$2:$H$893,MATCH(I241,Backbone!$A$2:$A$893,0))","v":9.6},null,{"$f":"INDEX(Backbone!$I$2:$I$893,MATCH(I241,Backbone!$A$2:$A$893,0))","v":10},null,{"$f":"INDEX(Backbone!$J$2:$J$893,MATCH(I241,Backbone!$A$2:$A$893,0))","v":7.3},null,{"$f":"INDEX(Backbone!$K$1:$K$893,MATCH(I241,Backbone!$A$1:$A$893,0))","v":8},null,{"$f":"INDEX(Backbone!$L$2:$L$893,MATCH(I241,Backbone!$A$2:$A$893,0))","v":8.8000000000000007},null,{"$f":"INDEX(Backbone!$M$2:$M$893,MATCH(I241,Backbone!$A$2:$A$893,0))","v":5.5},null,{"$f":"INDEX(Backbone!$N$2:$N$893,MATCH(I241,Backbone!$A$2:$A$893,0))","v":4.3},null,{"$f":"INDEX(Backbone!$O$2:$O$893,MATCH(I241,Backbone!$A$2:$A$893,0))","v":7.9},null,{"$f":"INDEX(Backbone!$P$2:$P$893,MATCH(I241,Backbone!$A$2:$A$893,0))","v":6},null,{"$f":"INDEX(Backbone!$Q$2:$Q$893,MATCH(I241,Backbone!$A$2:$A$893,0))","v":0.74888888888888894},null,null,{"$f":"(AG241*$AG$22+AI241*$AI$22+AK241*$AK$22+AM241*$AM$22+AO241*$AO$22+AQ241*$AQ$22+AS241*$AS$22+AU241*$AU$22+AW241*$AW$22)/(SUM($AG$22:$AW$22)*10)","v":{"$error":"#DIV/0!"}},null,null,"Aller à \nBoîte à outils: ",null,{"$f":"HYPERLINK(\"#\"&ADDRESS(MATCH(I241,Toolbox!$C$1:$C$300),1,,,\"Toolbox\"),VLOOKUP(I241,Toolbox!$C$1:$C$300,1,FALSE))","v":"Outil d'évaluation des progrès vers l'éradication de la rage (TAPER)"}]

{"sheet":"I7_tools","index":52,"n_rows":220,"n_cols":59,"rows_kept":220,"cut":false,"hidden":false,"merged":[[219,53,223,54],[219,36,223,36],[219,38,223,38],[219,40,223,40],[219,42,223,42],[219,44,223,44],[219,46,223,46],[207,48,211,48],[207,50,211,51],[219,48,223,48],[219,50,223,51],[207,40,211,40],[207,42,211,42],[207,44,211,44],[207,46,211,46],[219,8,223,13],[219,15,223,22],[219,24,223,26],[219,28,223,30],[219,32,223,32],[219,34,223,34],[213,42,217,42],[213,44,217,44],[213,46,217,46],[213,32,217,32],[213,34,217,34],[213,36,217,36],[213,38,217,38],[213,40,217,40],[200,53,204,54],[200,36,204,36],[200,38,204,38],[200,40,204,40],[200,42,204,42],[200,44,204,44],[200,46,204,46],[207,3,223,6],[207,8,211,13],[207,15,211,22],[207,24,211,26],[207,28,211,30],[207,32,211,32],[207,34,211,34],[207,36,211,36],[207,38,211,38],[213,48,217,48],[213,50,217,51],[213,53,217,54],[207,53,211,54],[213,8,217,13],[213,15,217,22],[213,24,217,26],[213,28,217,30],[188,46,192,46],[188,48,192,48],[188,50,192,51],[188,24,192,26],[188,28,192,30],[188,32,192,32],[188,34,192,34],[188,36,192,36],[200,8,204,13],[200,15,204,22],[200,24,204,26],[200,28,204,30],[200,32,204,32],[200,34,204,34],[194,42,198,42],[194,44,198,44],[194,46,198,46],[200,48,204,48],[200,50,204,51],[194,28,198,30],[194,32,198,32],[194,34,198,34],[194,36,198,36],[194,38,198,38],[194,40,198,40],[188,40,192,40],[188,42,192,42],[188,44,192,44],[188,38,192,38],[179,53,186,54],[183,1,223,1],[183,3,186,6],[183,8,186,13],[183,15,186,22],[183,24,186,26],[183,28,186,30],[188,3,204,6],[188,8,192,13],[188,15,192,22],[172,40,186,40],[172,42,186,42],[172,44,186,44],[172,46,186,46],[172,48,186,48],[179,50,186,51],[194,48,198,48],[194,50,198,51],[194,53,198,54],[188,53,192,54],[194,8,198,13],[194,15,198,22],[194,24,198,26],[136,3,152,6],[100,1,152,1],[172,32,186,32],[172,34,186,34],[172,36,186,36],[172,38,186,38],[148,42,152,42],[148,44,152,44],[148,46,152,46],[111,46,115,46],[105,44,109,44],[105,46,109,46],[100,28,103,30],[105,3,133,6],[89,44,103,44],[89,46,103,46],[123,15,127,22],[123,24,127,26],[123,28,127,30],[123,32,127,32],[123,34,127,34],[123,36,127,36],[123,38,127,38],[148,48,152,48],[148,50,152,51],[148,53,152,54],[142,53,146,54],[148,8,152,13],[148,15,152,22],[148,24,152,26],[148,28,152,30],[148,32,152,32],[148,34,152,34],[148,36,152,36],[148,38,152,38],[148,40,152,40],[142,40,146,40],[142,42,146,42],[142,44,146,44],[142,46,146,46],[142,48,146,48],[142,50,146,51],[142,8,146,13],[142,15,146,22],[142,24,146,26],[142,28,146,30],[142,32,146,32],[142,34,146,34],[142,36,146,36],[142,38,146,38],[136,38,140,38],[129,50,133,51],[129,53,133,54],[129,42,133,42],[129,44,133,44],[129,46,133,46],[129,48,133,48],[136,50,140,51],[136,53,140,54],[136,42,140,42],[136,44,140,44],[136,46,140,46],[136,48,140,48],[136,8,140,13],[136,15,140,22],[136,24,140,26],[136,28,140,30],[136,32,140,32],[136,34,140,34],[136,36,140,36],[129,38,133,38],[129,40,133,40],[136,40,140,40],[117,48,121,48],[117,50,121,51],[117,53,121,54],[129,8,133,13],[129,15,133,22],[129,24,133,26],[129,28,133,30],[129,32,133,32],[129,34,133,34],[129,36,133,36],[117,36,121,36],[117,38,121,38],[117,40,121,40],[117,42,121,42],[117,44,121,44],[117,46,121,46],[123,53,127,54],[123,40,127,40],[123,42,127,42],[123,44,127,44],[123,46,127,46],[123,48,127,48],[123,50,127,51],[123,8,127,13],[117,8,121,13],[117,15,121,22],[117,24,121,26],[117,28,121,30],[117,32,121,32],[117,34,121,34],[111,34,115,34],[111,36,115,36],[111,38,115,38],[105,48,109,48],[105,50,109,51],[105,53,109,54],[111,8,115,13],[111,15,115,22],[111,24,115,26],[111,28,115,30],[111,32,115,32],[105,32,109,32],[105,34,109,34],[105,36,109,36],[105,38,109,38],[105,40,109,40],[105,42,109,42],[105,8,109,13],[105,15,109,22],[105,24,109,26],[105,28,109,30],[111,48,115,48],[111,50,115,51],[111,53,115,54],[111,40,115,40],[111,42,115,42],[111,44,115,44],[100,3,103,6],[100,8,103,13],[100,15,103,22],[100,24,103,26],[89,32,103,32],[89,34,103,34],[89,36,103,36],[89,38,103,38],[89,40,103,40],[65,36,69,36],[65,38,69,38],[65,40,69,40],[65,42,69,42],[65,44,69,44],[65,46,69,46],[89,48,103,48],[96,50,103,51],[96,53,103,54],[89,42,103,42],[53,46,57,46],[53,48,57,48],[53,50,57,51],[59,42,63,42],[59,44,63,44],[59,46,63,46],[65,48,69,48],[65,50,69,51],[65,53,69,54],[59,28,63,30],[59,32,63,32],[59,34,63,34],[59,36,63,36],[59,38,63,38],[59,40,63,40],[53,40,57,40],[53,42,57,42],[53,44,57,44],[34,50,38,51],[34,53,38,54],[53,3,69,6],[53,8,57,13],[53,15,57,22],[53,24,57,26],[53,28,57,30],[53,32,57,32],[53,34,57,34],[53,36,57,36],[53,38,57,38],[65,8,69,13],[65,15,69,22],[65,24,69,26],[65,28,69,30],[65,32,69,32],[65,34,69,34],[59,48,63,48],[59,50,63,51],[59,53,63,54],[53,53,57,54],[59,8,63,13],[59,15,63,22],[59,24,63,26],[46,53,50,54],[46,38,50,38],[46,40,50,40],[46,42,50,42],[46,44,50,44],[46,46,50,46],[46,48,50,48],[40,48,44,48],[40,50,44,51],[40,53,44,54],[40,40,44,40],[40,42,44,42],[40,44,44,44],[40,46,44,46],[6,40,20,40],[6,42,20,42],[6,44,20,44],[6,46,20,46],[6,48,20,48],[13,50,20,51],[13,53,20,54],[17,1,69,1],[17,3,20,6],[17,8,20,13],[17,15,20,22],[28,42,32,42],[17,24,20,26],[28,44,32,44],[28,46,32,46],[28,48,32,48],[28,50,32,51],[28,24,32,26],[28,28,32,30],[40,24,44,26],[40,28,44,30],[40,32,44,32],[40,34,44,34],[46,50,50,51],[46,34,50,34],[46,36,50,36],[40,36,44,36],[40,38,44,38],[40,8,44,13],[40,15,44,22],[6,32,20,32],[6,34,20,34],[6,36,20,36],[6,38,20,38],[34,15,38,22],[34,28,38,30],[22,46,26,46],[22,48,26,48],[22,15,26,22],[22,24,26,26],[22,28,26,30],[22,32,26,32],[17,28,20,30],[22,3,50,6],[22,8,26,13],[34,42,38,42],[34,44,38,44],[34,46,38,46],[34,48,38,48],[34,32,38,32],[34,34,38,34],[34,36,38,36],[34,38,38,38],[34,40,38,40],[28,40,32,40],[46,8,50,13],[46,15,50,22],[46,24,50,26],[46,28,50,30],[46,32,50,32],[1,1,3,62],[22,56,26,57],[22,58,26,62],[28,56,32,57],[28,58,32,62],[34,56,38,57],[34,58,38,62],[28,53,32,54],[34,8,38,13],[34,24,38,26],[22,50,26,51],[22,53,26,54],[28,8,32,13],[28,15,32,22],[28,32,32,32],[28,34,32,34],[28,36,32,36],[28,38,32,38],[22,38,26,38],[22,40,26,40],[22,42,26,42],[22,34,26,34],[22,36,26,36],[22,44,26,44],[40,56,44,57],[40,58,44,62],[46,56,50,57],[46,58,50,62],[53,56,57,57],[53,58,57,62],[59,56,63,57],[59,58,63,62],[65,56,69,57],[65,58,69,62],[105,56,109,57],[105,58,109,62],[111,56,115,57],[111,58,115,62],[117,56,121,57],[117,58,121,62],[123,56,127,57],[123,58,127,62],[129,56,133,57],[129,58,133,62],[200,56,204,57],[200,58,204,62],[207,56,211,57],[207,58,211,62],[213,56,217,57],[213,58,217,62],[219,56,223,57],[219,58,223,62],[136,56,140,57],[136,58,140,62],[142,56,146,57],[142,58,146,62],[148,56,152,57],[148,58,152,62],[188,56,192,57],[188,58,192,62],[194,56,198,57],[194,58,198,62]]}
[]
[null,"Ressources pour le partage des données"]
[]
[]
[]
[]
[null,null,null,null,null,null,null,null,null,null,null,null,null,null,null,null,null,null,null,null,null,null,null,null,null,null,null,null,null,null,null,null,"Accessibilité",null,"Langue",null,"Facilité d'utilisation",null,"Flexibilité",null,"Besoins de données",null,"Analyse des données",null,"Acceptabilité",null,"«Une seule santé»",null,"Impact"]
[]
[]
[]
[]
[]
[]
[null,null,null,null,null,null,null,null,null,null,null,null,null,null,null,null,null,null,null,null,null,null,null,null,null,null,null,null,null,null,null,null,null,null,null,null,null,null,null,null,null,null,null,null,null,null,null,null,null,null,"SCORE BRUT",null,null,"SCORE AJUSTÉ \n(Selon les préférences de l'utilisateur)"]
[]
[]
[]
[null,"RESSOURCES DE NIVEAU 1",null,"DÉSIGNATION",null,null,null,null,"NOM DE LA RESSOURCE",null,null,null,null,null,null,"BRÈVE DESCRIPTION",null,null,null,null,null,null,null,null,"TYPE DE RESSOURCE",null,null,null,"CARACTÈRE GÉNÉRAL DE LA RESSOURCE"]
[]
[]
[]
[null,null,null,null,null,null,null,null,null,null,null,null,null,null,null,null,null,null,null,null,null,null,null,null,null,null,null,null,null,null,null,null,{"$f":"'Attribute Survey'!S22","v":0},null,{"$f":"'Attribute Survey'!S26","v":0},null,{"$f":"'Attribute Survey'!S30","v":0},null,{"$f":"'Attribute Survey'!S34","v":0},null,{"$f":"'Attribute Survey'!S38","v":0},null,{"$f":"'Attribute Survey'!S42","v":0},null,{"$f":"'Attribute Survey'!S46","v":0},null,{"$f":"'Attribute Survey'!S50","v":0},null,{"$f":"'Attribute Survey'!S54","v":0}]
[null,null,null,"Ressources les mieux adaptées",null,null,null,null,{"$f":"Backbone!A21","v":"AfyaData"},null,null,null,null,null,null,"Un outil de surveillance des maladies «Une seule santé» conçu pour répondre aux besoins de surveillance humaine, animale et environnementale, comprenant une application mobile et une application web.",null,null,null,null,null,null,null,null,{"$f":"INDEX(Backbone!$R$2:$R$893,MATCH(I23,Backbone!$A$2:$A$893,0))","v":"Matériel ou logiciel"},null,null,null,{"$f":"INDEX(Backbone!$S$2:$S$893,MATCH(I23,Backbone!$A$2:$A$893,0))","v":"«Une seule santé»; Généralisée "},null,null,null,{"$f":"INDEX(Backbone!$H$2:$H$893,MATCH(I23,Backbone!$A$2:$A$893,0))","v":7.3},null,{"$f":"INDEX(Backbone!$I$2:$I$893,MATCH(I23,Backbone!$A$2:$A$893,0))","v":10},null,{"$f":"INDEX(Backbone!$J$2:$J$893,MATCH(I23,Backbone!$A$2:$A$893,0))","v":8.1999999999999993},null,{"$f":"INDEX(Backbone!$K$2:$K$893,MATCH(I23,Backbone!$A$2:$A$893,0))","v":7.3},null,{"$f":"INDEX(Backbone!$L$2:$L$893,MATCH(I23,Backbone!$A$2:$A$893,0))","v":7.6},null,{"$f":"INDEX(Backbone!$M$2:$M$893,MATCH(I23,Backbone!$A$2:$A$893,0))","v":8.8000000000000007},null,{"$f":"INDEX(Backbone!$N$2:$N$893,MATCH(I23,Backbone!$A$2:$A$893,0))","v":5.5},null,{"$f":"INDEX(Backbone!$O$2:$O$893,MATCH(I23,Backbone!$A$2:$A$893,0))","v":7.6},null,{"$f":"INDEX(Backbone!$P$2:$P$893,MATCH(I23,Backbone!$A$2:$A$893,0))","v":7},null,{"$f":"INDEX(Backbone!$Q$2:$Q$893,MATCH(I23,Backbone!$A$2:$A$893,0))","v":0.77000000000000013},null,null,{"$f":"(AG23*$AG$22+AI23*$AI$22+AK23*$AK$22+AM23*$AM$22+AO23*$AO$22+AQ23*$AQ$22+AS23*$AS$22+AU23*$AU$22+AW23*$AW$22)/(SUM($AG$22:$AW$22)*10)","v":{"$error":"#DIV/0!"}},null,null,"Aller à \nBoîte à outils: ",null,{"$f":"HYPERLINK(\"#\"&ADDRESS(MATCH(I23,Toolbox!$C$1:$C$300),1,,,\"Toolbox\"),VLOOKUP(I23,Toolbox!$C$1:$C$300,1,FALSE))","v":"AfyaData"}]
[]
[]
[]
[]
[]
[null,null,null,null,null,null,null,null,{"$f":"Backbone!A65","v":"Logiciel d'information de santé au niveau des districts 2 (DHIS2) "},null,null,null,null,null,null,"Une plateforme d'exploitation libre en ligne pour les systèmes d'information sanitaire.",null,null,null,null,null,null,null,null,{"$f":"INDEX(Backbone!$R$2:$R$893,MATCH(I29,Backbone!$A$2:$A$893,0))","v":"Matériel ou logiciel"},null,null,null,{"$f":"INDEX(Backbone!$S$2:$S$893,MATCH(I29,Backbone!$A$2:$A$893,0))","v":"Spécifique du secteur; Généralisée"},null,null,null,{"$f":"INDEX(Backbone!$H$2:$H$893,MATCH(I29,Backbone!$A$2:$A$893,0))","v":8.8000000000000007},null,{"$f":"INDEX(Backbone!$I$2:$I$893,MATCH(I29,Backbone!$A$2:$A$893,0))","v":8.6999999999999993},null,{"$f":"INDEX(Backbone!$J$2:$J$893,MATCH(I29,Backbone!$A$2:$A$893,0))","v":8},null,{"$f":"INDEX(Backbone!$K$2:$K$893,MATCH(I29,Backbone!$A$2:$A$893,0))","v":8.6999999999999993},null,{"$f":"INDEX(Backbone!$L$2:$L$893,MATCH(I29,Backbone!$A$2:$A$893,0))","v":9.3000000000000007},null,{"$f":"INDEX(Backbone!$M$2:$M$893,MATCH(I29,Backbone!$A$2:$A$893,0))","v":9},null,{"$f":"INDEX(Backbone!$N$2:$N$893,MATCH(I29,Backbone!$A$2:$A$893,0))","v":10},null,{"$f":"INDEX(Backbone!$O$2:$O$893,MATCH(I29,Backbone!$A$2:$A$893,0))","v":7.8},null,{"$f":"INDEX(Backbone!$P$2:$P$893,MATCH(I29,Backbone!$A$2:$A$893,0))","v":7},null,{"$f":"INDEX(Backbone!$Q$2:$Q$893,MATCH(I29,Backbone!$A$2:$A$893,0))","v":0.85888888888888881},null,null,{"$f":"(AG29*$AG$22+AI29*$AI$22+AK29*$AK$22+AM29*$AM$22+AO29*$AO$22+AQ29*$AQ$22+AS29*$AS$22+AU29*$AU$22+AW29*$AW$22)/(SUM($AG$22:$AW$22)*10)","v":{"$error":"#DIV/0!"}},null,null,"Aller à \nBoîte à outils: ",null,{"$f":"HYPERLINK(\"#\"&ADDRESS(MATCH(I29,Toolbox!$C$1:$C$300),1,,,\"Toolbox\"),VLOOKUP(I29,Toolbox!$C$1:$C$300,1,FALSE))","v":"Logiciel d'information de santé au niveau des districts 2 (DHIS2) "}]
[]
[]
[]
[]
[]
[null,null,null,null,null,null,null,null,{"$f":"Backbone!A138","v":"Système électronique intégré de surveillance des maladies (EIDSS)"},null,null,null,null,null,null,"Un système électronique en ligne et personnalisable d'établissement de rapports sur les maladies qui peut aider à la surveillance passive et active de la santé humaine et vétérinaire, aux diagnostics de laboratoire, à la surveillance des vecteurs et à la gestion des foyers épidémiques. ",null,null,null,null,null,null,null,null,{"$f":"INDEX(Backbone!$R$2:$R$893,MATCH(I35,Backbone!$A$2:$A$893,0))","v":"Matériel ou logiciel"},null,null,null,{"$f":"INDEX(Backbone!$S$2:$S$893,MATCH(I35,Backbone!$A$2:$A$893,0))","v":"«Une seule santé»; Généralisée"},null,null,null,{"$f":"INDEX(Backbone!$H$2:$H$893,MATCH(I35,Backbone!$A$2:$A$893,0))","v":6.8},null,{"$f":"INDEX(Backbone!$I$2:$I$893,MATCH(I35,Backbone!$A$2:$A$893,0))","v":10},null,{"$f":"INDEX(Backbone!$J$2:$J$893,MATCH(I35,Backbone!$A$2:$A$893,0))","v":8.4},null,{"$f":"INDEX(Backbone!$K$1:$K$893,MATCH(I35,Backbone!$A$1:$A$893,0))","v":8.6999999999999993},null,{"$f":"INDEX(Backbone!$L$2:$L$893,MATCH(I35,Backbone!$A$2:$A$893,0))","v":9.1},null,{"$f":"INDEX(Backbone!$M$2:$M$893,MATCH(I35,Backbone!$A$2:$A$893,0))","v":8},null,{"$f":"INDEX(Backbone!$N$2:$N$893,MATCH(I35,Backbone!$A$2:$A$893,0))","v":7},null,{"$f":"INDEX(Backbone!$O$2:$O$893,MATCH(I35,Backbone!$A$2:$A$893,0))","v":7.2},null,{"$f":"INDEX(Backbone!$P$2:$P$893,MATCH(I35,Backbone!$A$2:$A$893,0))","v":10},null,{"$f":"INDEX(Backbone!$Q$2:$Q$893,MATCH(I35,Backbone!$A$2:$A$893,0))","v":0.83555555555555561},null,null,{"$f":"(AG35*$AG$22+AI35*$AI$22+AK35*$AK$22+AM35*$AM$22+AO35*$AO$22+AQ35*$AQ$22+AS35*$AS$22+AU35*$AU$22+AW35*$AW$22)/(SUM($AG$22:$AW$22)*10)","v":{"$error":"#DIV/0!"}},null,null,"Aller à \nBoîte à outils: ",null,{"$f":"HYPERLINK(\"#\"&ADDRESS(MATCH(I35,Toolbox!$C$1:$C$300),1,,,\"Toolbox\"),VLOOKUP(I35,Toolbox!$C$1:$C$300,1,FALSE))","v":"Système électronique intégré de surveillance des maladies (EIDSS)"}]
[]
[]
[]
[]
[]
[null,null,null,null,null,null,null,null,{"$f":"Backbone!A195","v":"Surveillance intégrée de la maladie et la riposte (IDSR)"},null,null,null,null,null,null,"Une stratégie visant à renforcer les capacités pour la détection, la confirmation et la réponse aux cas suspects et à l'apparition de foyers épidémiques, ainsi que pour l'utilisation des informations afin de prédire et de planifier les événements de santé publique.",null,null,null,null,null,null,null,null,{"$f":"INDEX(Backbone!$R$2:$R$893,MATCH(I41,Backbone!$A$2:$A$893,0))","v":"Document d'orientation"},null,null,null,{"$f":"INDEX(Backbone!$S$2:$S$893,MATCH(I41,Backbone!$A$2:$A$893,0))","v":"Spécifique du secteur; Généralisée"},null,null,null,{"$f":"INDEX(Backbone!$H$2:$H$893,MATCH(I41,Backbone!$A$2:$A$893,0))","v":7.4},null,{"$f":"INDEX(Backbone!$I$2:$I$893,MATCH(I41,Backbone!$A$2:$A$893,0))","v":10},null,{"$f":"INDEX(Backbone!$J$2:$J$893,MATCH(I41,Backbone!$A$2:$A$893,0))","v":7.4},null,{"$f":"INDEX(Backbone!$K$1:$K$893,MATCH(I41,Backbone!$A$1:$A$893,0))","v":8.6999999999999993},null,{"$f":"INDEX(Backbone!$L$2:$L$893,MATCH(I41,Backbone!$A$2:$A$893,0))","v":6.7},null,{"$f":"INDEX(Backbone!$M$2:$M$893,MATCH(I41,Backbone!$A$2:$A$893,0))","v":4.5},null,{"$f":"INDEX(Backbone!$N$2:$N$893,MATCH(I41,Backbone!$A$2:$A$893,0))","v":8},null,{"$f":"INDEX(Backbone!$O$2:$O$893,MATCH(I41,Backbone!$A$2:$A$893,0))","v":7.2},null,{"$f":"INDEX(Backbone!$P$2:$P$893,MATCH(I41,Backbone!$A$2:$A$893,0))","v":8.5},null,{"$f":"INDEX(Backbone!$Q$2:$Q$893,MATCH(I41,Backbone!$A$2:$A$893,0))","v":0.76},null,null,{"$f":"(AG41*$AG$22+AI41*$AI$22+AK41*$AK$22+AM41*$AM$22+AO41*$AO$22+AQ41*$AQ$22+AS41*$AS$22+AU41*$AU$22+AW41*$AW$22)/(SUM($AG$22:$AW$22)*10)","v":{"$error":"#DIV/0!"}},null,null,"Aller à \nBoîte à outils: ",null,{"$f":"HYPERLINK(\"#\"&ADDRESS(MATCH(I41,Toolbox!$C$1:$C$300),1,,,\"Toolbox\"),VLOOKUP(I41,Toolbox!$C$1:$C$300,1,FALSE))","v":"Surveillance intégrée de la maladie et la riposte (IDSR)"}]
[]
[]
[]
[]
[]
[null,null,null,null,null,null,null,null,{"$f":"Backbone!A489","v":"Suite pour une biosurveillance électronique automatisée mondiale (SAGES)"},null,null,null,null,null,null,"Une suite d'outils logiciels d'exploitation libre conçus pour améliorer la surveillance électronique des maladies dans des situations où les ressources sont limitées.",null,null,null,null,null,null,null,null,{"$f":"INDEX(Backbone!$R$2:$R$893,MATCH(I47,Backbone!$A$2:$A$893,0))","v":"Matériel ou logiciel"},null,null,null,{"$f":"INDEX(Backbone!$S$2:$S$893,MATCH(I47,Backbone!$A$2:$A$893,0))","v":"«Une seule santé»; Généralisée"},null,null,null,{"$f":"INDEX(Backbone!$H$2:$H$893,MATCH(I47,Backbone!$A$2:$A$893,0))","v":9.8000000000000007},null,{"$f":"INDEX(Backbone!$I$2:$I$893,MATCH(I47,Backbone!$A$2:$A$893,0))","v":10},null,{"$f":"INDEX(Backbone!$J$2:$J$893,MATCH(I47,Backbone!$A$2:$A$893,0))","v":10},null,{"$f":"INDEX(Backbone!$K$1:$K$893,MATCH(I47,Backbone!$A$1:$A$893,0))","v":9.3000000000000007},null,{"$f":"INDEX(Backbone!$L$2:$L$893,MATCH(I47,Backbone!$A$2:$A$893,0))","v":8.5},null,{"$f":"INDEX(Backbone!$M$2:$M$893,MATCH(I47,Backbone!$A$2:$A$893,0))","v":9},null,{"$f":"INDEX(Backbone!$N$2:$N$893,MATCH(I47,Backbone!$A$2:$A$893,0))","v":5.5},null,{"$f":"INDEX(Backbone!$O$2:$O$893,MATCH(I47,Backbone!$A$2:$A$893,0))","v":9.5},null,{"$f":"INDEX(Backbone!$P$2:$P$893,MATCH(I47,Backbone!$A$2:$A$893,0))","v":7},null,{"$f":"INDEX(Backbone!$Q$2:$Q$893,MATCH(I47,Backbone!$A$2:$A$893,0))","v":0.87333333333333329},null,null,{"$f":"(AG47*$AG$22+AI47*$AI$22+AK47*$AK$22+AM47*$AM$22+AO47*$AO$22+AQ47*$AQ$22+AS47*$AS$22+AU47*$AU$22+AW47*$AW$22)/(SUM($AG$22:$AW$22)*10)","v":{"$error":"#DIV/0!"}},null,null,"Aller à \nBoîte à outils: ",null,{"$f":"HYPERLINK(\"#\"&ADDRESS(MATCH(I47,Toolbox!$C$1:$C$300),1,,,\"Toolbox\"),VLOOKUP(I47,Toolbox!$C$1:$C$300,1,FALSE))","v":"Suite pour une biosurveillance électronique automatisée mondiale (SAGES)"}]
[]
[]
[]
[]
[]
[]
[null,null,null,"Autres ressources intéressantes",null,null,null,null,{"$f":"Backbone!A155","v":"Initiative de veille épidémique à sources ouvertes (EIOS)"},null,null,null,null,null,null,"L'initiative EIOS est le fruit d'une collaboration unique entre l'OMS et plusieurs parties prenantes qui regroupe des initiatives, des réseaux et des systèmes, nouveaux et existants, afin de créer une approche «Une seule santé» unifiée pour tous les dangers visant à la détection précoce, la vérification et l'évaluation des risques et des menaces pour la santé publique à partir d'informations d'exploitation libre.",null,null,null,null,null,null,null,null,{"$f":"INDEX(Backbone!$R$2:$R$893,MATCH(I54,Backbone!$A$2:$A$893,0))","v":"Matériel ou logiciel"},null,null,null,{"$f":"INDEX(Backbone!$S$2:$S$893,MATCH(I54,Backbone!$A$2:$A$893,0))","v":"«Une seule santé»; Généralisée"},null,null,null,{"$f":"INDEX(Backbone!$H$2:$H$893,MATCH(I54,Backbone!$A$2:$A$893,0))","v":8.4},null,{"$f":"INDEX(Backbone!$I$2:$I$893,MATCH(I54,Backbone!$A$2:$A$893,0))","v":9},null,{"$f":"INDEX(Backbone!$J$2:$J$893,MATCH(I54,Backbone!$A$2:$A$893,0))","v":7.4},null,{"$f":"INDEX(Backbone!$K$1:$K$893,MATCH(I54,Backbone!$A$1:$A$893,0))","v":9},null,{"$f":"INDEX(Backbone!$L$2:$L$893,MATCH(I54,Backbone!$A$2:$A$893,0))","v":8.8000000000000007},null,{"$f":"INDEX(Backbone!$M$2:$M$893,MATCH(I54,Backbone!$A$2:$A$893,0))","v":8},null,{"$f":"INDEX(Backbone!$N$2:$N$893,MATCH(I54,Backbone!$A$2:$A$893,0))","v":5.5},null,{"$f":"INDEX(Backbone!$O$2:$O$893,MATCH(I54,Backbone!$A$2:$A$893,0))","v":9.1999999999999993},null,{"$f":"INDEX(Backbone!$P$2:$P$893,MATCH(I54,Backbone!$A$2:$A$893,0))","v":6},null,{"$f":"INDEX(Backbone!$Q$2:$Q$893,MATCH(I54,Backbone!$A$2:$A$893,0))","v":0.79222222222222216},null,null,{"$f":"(AG54*$AG$22+AI54*$AI$22+AK54*$AK$22+AM54*$AM$22+AO54*$AO$22+AQ54*$AQ$22+AS54*$AS$22+AU54*$AU$22+AW54*$AW$22)/(SUM($AG$22:$AW$22)*10)","v":{"$error":"#DIV/0!"}},null,null,"Aller à \nBoîte à outils: ",null,{"$f":"HYPERLINK(\"#\"&ADDRESS(MATCH(I54,Toolbox!$C$1:$C$300),1,,,\"Toolbox\"),VLOOKUP(I54,Toolbox!$C$1:$C$300,1,FALSE))","v":"Initiative de veille épidémique à sources ouvertes (EIOS)"}]
[]
[]
[]
[]
[]
[null,null,null,null,null,null,null,null,{"$f":"Backbone!A648","v":"Boîte à outils pour la planification de la préparation et la réponse"},null,null,null,null,null,null,"Cette boîte à outils est conçue pour aider les pays à élaborer des plans multisectoriels de préparation et de réponse aux événements de santé publique. ",null,null,null,null,null,null,null,null,{"$f":"INDEX(Backbone!$R$2:$R$893,MATCH(I60,Backbone!$A$2:$A$893,0))","v":"Document d'orientation"},null,null,null,{"$f":"INDEX(Backbone!$S$2:$S$893,MATCH(I60,Backbone!$A$2:$A$893,0))","v":"«Une seule santé»; Généralisée"},null,null,null,{"$f":"INDEX(Backbone!$H$2:$H$893,MATCH(I60,Backbone!$A$2:$A$893,0))","v":8.4},null,{"$f":"INDEX(Backbone!$I$2:$I$893,MATCH(I60,Backbone!$A$2:$A$893,0))","v":8},null,{"$f":"INDEX(Backbone!$J$2:$J$893,MATCH(I60,Backbone!$A$2:$A$893,0))","v":8.4},null,{"$f":"INDEX(Backbone!$K$1:$K$893,MATCH(I60,Backbone!$A$1:$A$893,0))","v":6.7},null,{"$f":"INDEX(Backbone!$L$2:$L$893,MATCH(I60,Backbone!$A$2:$A$893,0))","v":2},null,{"$f":"INDEX(Backbone!$M$2:$M$893,MATCH(I60,Backbone!$A$2:$A$893,0))","v":3.5},null,{"$f":"INDEX(Backbone!$N$2:$N$893,MATCH(I60,Backbone!$A$2:$A$893,0))","v":4},null,{"$f":"INDEX(Backbone!$O$2:$O$893,MATCH(I60,Backbone!$A$2:$A$893,0))","v":6.4},null,{"$f":"INDEX(Backbone!$P$2:$P$893,MATCH(I60,Backbone!$A$2:$A$893,0))","v":8},null,{"$f":"INDEX(Backbone!$Q$2:$Q$893,MATCH(I60,Backbone!$A$2:$A$893,0))","v":0.61555555555555552},null,null,{"$f":"(AG60*$AG$22+AI60*$AI$22+AK60*$AK$22+AM60*$AM$22+AO60*$AO$22+AQ60*$AQ$22+AS60*$AS$22+AU60*$AU$22+AW60*$AW$22)/(SUM($AG$22:$AW$22)*10)","v":{"$error":"#DIV/0!"}},null,null,"Aller à \nBoîte à outils: ",null,{"$f":"HYPERLINK(\"#\"&ADDRESS(MATCH(I60,Toolbox!$C$1:$C$300),1,,,\"Toolbox\"),VLOOKUP(I60,Toolbox!$C$1:$C$300,1,FALSE))","v":"Boîte à outils pour la planification de la préparation et la réponse"}]
[]
[]
[]
[]
[]
[null,null,null,null,null,null,null,null,{"$f":"Backbone!A604","v":"Application de suivi des expositions et des cas de rage (REACT)"},null,null,null,null,null,null,"Un outil visant à soutenir la mise en œuvre de programmes de gestion intégrée des cas de morsures.",null,null,null,null,null,null,null,null,{"$f":"INDEX(Backbone!$R$2:$R$893,MATCH(I66,Backbone!$A$2:$A$893,0))","v":"Matériel ou logiciel"},null,null,null,{"$f":"INDEX(Backbone!$S$2:$S$893,MATCH(I66,Backbone!$A$2:$A$893,0))","v":"«Une seule santé»; spécifique d'une maladie/menace "},null,null,null,{"$f":"INDEX(Backbone!$H$2:$H$893,MATCH(I66,Backbone!$A$2:$A$893,0))","v":8.6},null,{"$f":"INDEX(Backbone!$I$2:$I$893,MATCH(I66,Backbone!$A$2:$A$893,0))","v":8.6},null,{"$f":"INDEX(Backbone!$J$2:$J$893,MATCH(I66,Backbone!$A$2:$A$893,0))","v":8},null,{"$f":"INDEX(Backbone!$K$1:$K$893,MATCH(I66,Backbone!$A$1:$A$893,0))","v":8.6},null,{"$f":"INDEX(Backbone!$L$2:$L$893,MATCH(I66,Backbone!$A$2:$A$893,0))","v":9.4},null,{"$f":"INDEX(Backbone!$M$2:$M$893,MATCH(I66,Backbone!$A$2:$A$893,0))","v":9.5},null,{"$f":"INDEX(Backbone!$N$2:$N$893,MATCH(I66,Backbone!$A$2:$A$893,0))","v":9},null,{"$f":"INDEX(Backbone!$O$2:$O$893,MATCH(I66,Backbone!$A$2:$A$893,0))","v":9.1999999999999993},null,{"$f":"INDEX(Backbone!$P$2:$P$893,MATCH(I66,Backbone!$A$2:$A$893,0))","v":9},null,{"$f":"INDEX(Backbone!$Q$2:$Q$893,MATCH(I66,Backbone!$A$2:$A$893,0))","v":0.88777777777777767},null,null,{"$f":"(AG66*$AG$22+AI66*$AI$22+AK66*$AK$22+AM66*$AM$22+AO66*$AO$22+AQ66*$AQ$22+AS66*$AS$22+AU66*$AU$22+AW66*$AW$22)/(SUM($AG$22:$AW$22)*10)","v":{"$error":"#DIV/0!"}},null,null,"Aller à \nBoîte à outils: ",null,{"$f":"HYPERLINK(\"#\"&ADDRESS(MATCH(I66,Toolbox!$C$1:$C$300),1,,,\"Toolbox\"),VLOOKUP(I66,Toolbox!$C$1:$C$300,1,FALSE))","v":"Application de suivi des expositions et des cas de rage (REACT)"}]
[]
[]
[]
[]
[]
[]
[]
[]
[]
[]
[]
[]
[]
[]
[]
[]
[]
[]
[]
[]
[]
[]
[]
[null,null,null,null,null,null,null,null,null,null,null,null,null,null,null,null,null,null,null,null,null,null,null,null,null,null,null,null,null,null,null,null,"Accessibilité",null,"Langue",null,"Facilité d'utilisation",null,"Flexibilité",null,"Besoins de données",null,"Analyse des données",null,"Acceptabilité",null,"«Une seule santé»",null,"Impact"]
[]
[]
[]
[]
[]
[]
[null,null,null,null,null,null,null,null,null,null,null,null,null,null,null,null,null,null,null,null,null,null,null,null,null,null,null,null,null,null,null,null,null,null,null,null,null,null,null,null,null,null,null,null,null,null,null,null,null,null,"SCORE BRUT",null,null,"SCORE AJUSTÉ \n(Selon les préférences de l'utilisateur)"]
[]
[]
[]
[null,"RESSOURCES DE NIVEAU 2",null,"DÉSIGNATION",null,null,null,null,"NOM DE LA RESSOURCE",null,null,null,null,null,null,"BRÈVE DESCRIPTION",null,null,null,null,null,null,null,null,"TYPE DE RESSOURCE",null,null,null,"CARACTÈRE GÉNÉRAL DE LA RESSOURCE"]
[]
[]
[]
[null,null,null,null,null,null,null,null,null,null,null,null,null,null,null,null,null,null,null,null,null,null,null,null,null,null,null,null,null,null,null,null,{"$f":"'Attribute Survey'!S211","v":0},null,{"$f":"'Attribute Survey'!S215","v":0},null,{"$f":"'Attribute Survey'!S219","v":0},null,{"$f":"'Attribute Survey'!S223","v":0},null,{"$f":"'Attribute Survey'!S227","v":0},null,{"$f":"'Attribute Survey'!S231","v":0},null,{"$f":"'Attribute Survey'!S235","v":0},null,{"$f":"'Attribute Survey'!S239","v":0},null,{"$f":"'Attribute Survey'!S243","v":0}]
[null,null,null,"Ressources les mieux adaptées",null,null,null,null,{"$f":"Backbone!A21","v":"AfyaData"},null,null,null,null,null,null,"Un outil de surveillance des maladies «Une seule santé» conçu pour répondre aux besoins de surveillance humaine, animale et environnementale, comprenant une application mobile et une application web.",null,null,null,null,null,null,null,null,{"$f":"INDEX(Backbone!$R$2:$R$893,MATCH(I106,Backbone!$A$2:$A$893,0))","v":"Matériel ou logiciel"},null,null,null,{"$f":"INDEX(Backbone!$S$2:$S$893,MATCH(I106,Backbone!$A$2:$A$893,0))","v":"«Une seule santé»; Généralisée "},null,null,null,{"$f":"INDEX(Backbone!$H$2:$H$893,MATCH(I106,Backbone!$A$2:$A$893,0))","v":7.3},null,{"$f":"INDEX(Backbone!$I$2:$I$893,MATCH(I106,Backbone!$A$2:$A$893,0))","v":10},null,{"$f":"INDEX(Backbone!$J$2:$J$893,MATCH(I106,Backbone!$A$2:$A$893,0))","v":8.1999999999999993},null,{"$f":"INDEX(Backbone!$K$2:$K$893,MATCH(I106,Backbone!$A$2:$A$893,0))","v":7.3},null,{"$f":"INDEX(Backbone!$L$2:$L$893,MATCH(I106,Backbone!$A$2:$A$893,0))","v":7.6},null,{"$f":"INDEX(Backbone!$M$2:$M$893,MATCH(I106,Backbone!$A$2:$A$893,0))","v":8.8000000000000007},null,{"$f":"INDEX(Backbone!$N$2:$N$893,MATCH(I106,Backbone!$A$2:$A$893,0))","v":5.5},null,{"$f":"INDEX(Backbone!$O$2:$O$893,MATCH(I106,Backbone!$A$2:$A$893,0))","v":7.6},null,{"$f":"INDEX(Backbone!$P$2:$P$893,MATCH(I106,Backbone!$A$2:$A$893,0))","v":7},null,{"$f":"INDEX(Backbone!$Q$2:$Q$893,MATCH(I106,Backbone!$A$2:$A$893,0))","v":0.77000000000000013},null,null,{"$f":"(AG106*$AG$22+AI106*$AI$22+AK106*$AK$22+AM106*$AM$22+AO106*$AO$22+AQ106*$AQ$22+AS106*$AS$22+AU106*$AU$22+AW106*$AW$22)/(SUM($AG$22:$AW$22)*10)","v":{"$error":"#DIV/0!"}},null,null,"Aller à \nBoîte à outils: ",null,{"$f":"HYPERLINK(\"#\"&ADDRESS(MATCH(I106,Toolbox!$C$1:$C$300),1,,,\"Toolbox\"),VLOOKUP(I106,Toolbox!$C$1:$C$300,1,FALSE))","v":"AfyaData"}]
[]
[]
[]
[]
[]
[null,null,null,null,null,null,null,null,{"$f":"Backbone!A65","v":"Logiciel d'information de santé au niveau des districts 2 (DHIS2) "},null,null,null,null,null,null,"Une plateforme d'exploitation libre en ligne pour les systèmes d'information sanitaire.",null,null,null,null,null,null,null,null,{"$f":"INDEX(Backbone!$R$2:$R$893,MATCH(I112,Backbone!$A$2:$A$893,0))","v":"Matériel ou logiciel"},null,null,null,{"$f":"INDEX(Backbone!$S$2:$S$893,MATCH(I112,Backbone!$A$2:$A$893,0))","v":"Spécifique du secteur; Généralisée"},null,null,null,{"$f":"INDEX(Backbone!$H$2:$H$893,MATCH(I112,Backbone!$A$2:$A$893,0))","v":8.8000000000000007},null,{"$f":"INDEX(Backbone!$I$2:$I$893,MATCH(I112,Backbone!$A$2:$A$893,0))","v":8.6999999999999993},null,{"$f":"INDEX(Backbone!$J$2:$J$893,MATCH(I112,Backbone!$A$2:$A$893,0))","v":8},null,{"$f":"INDEX(Backbone!$K$2:$K$893,MATCH(I112,Backbone!$A$2:$A$893,0))","v":8.6999999999999993},null,{"$f":"INDEX(Backbone!$L$2:$L$893,MATCH(I112,Backbone!$A$2:$A$893,0))","v":9.3000000000000007},null,{"$f":"INDEX(Backbone!$M$2:$M$893,MATCH(I112,Backbone!$A$2:$A$893,0))","v":9},null,{"$f":"INDEX(Backbone!$N$2:$N$893,MATCH(I112,Backbone!$A$2:$A$893,0))","v":10},null,{"$f":"INDEX(Backbone!$O$2:$O$893,MATCH(I112,Backbone!$A$2:$A$893,0))","v":7.8},null,{"$f":"INDEX(Backbone!$P$2:$P$893,MATCH(I112,Backbone!$A$2:$A$893,0))","v":7},null,{"$f":"INDEX(Backbone!$Q$2:$Q$893,MATCH(I112,Backbone!$A$2:$A$893,0))","v":0.85888888888888881},null,null,{"$f":"(AG112*$AG$22+AI112*$AI$22+AK112*$AK$22+AM112*$AM$22+AO112*$AO$22+AQ112*$AQ$22+AS112*$AS$22+AU112*$AU$22+AW112*$AW$22)/(SUM($AG$22:$AW$22)*10)","v":{"$error":"#DIV/0!"}},null,null,"Aller à \nBoîte à outils: ",null,{"$f":"HYPERLINK(\"#\"&ADDRESS(MATCH(I112,Toolbox!$C$1:$C$300),1,,,\"Toolbox\"),VLOOKUP(I112,Toolbox!$C$1:$C$300,1,FALSE))","v":"Logiciel d'information de santé au niveau des districts 2 (DHIS2) "}]
[]
[]
[]
[]
[]
[null,null,null,null,null,null,null,null,{"$f":"Backbone!A138","v":"Système électronique intégré de surveillance des maladies (EIDSS)"},null,null,null,null,null,null,"Un système électronique en ligne et personnalisable d'établissement de rapports sur les maladies qui peut aider à la surveillance passive et active de la santé humaine et vétérinaire, aux diagnostics de laboratoire, à la surveillance des vecteurs et à la gestion des foyers épidémiques.",null,null,null,null,null,null,null,null,{"$f":"INDEX(Backbone!$R$2:$R$893,MATCH(I118,Backbone!$A$2:$A$893,0))","v":"Matériel ou logiciel"},null,null,null,{"$f":"INDEX(Backbone!$S$2:$S$893,MATCH(I118,Backbone!$A$2:$A$893,0))","v":"«Une seule santé»; Généralisée"},null,null,null,{"$f":"INDEX(Backbone!$H$2:$H$893,MATCH(I118,Backbone!$A$2:$A$893,0))","v":6.8},null,{"$f":"INDEX(Backbone!$I$2:$I$893,MATCH(I118,Backbone!$A$2:$A$893,0))","v":10},null,{"$f":"INDEX(Backbone!$J$2:$J$893,MATCH(I118,Backbone!$A$2:$A$893,0))","v":8.4},null,{"$f":"INDEX(Backbone!$K$1:$K$893,MATCH(I118,Backbone!$A$1:$A$893,0))","v":8.6999999999999993},null,{"$f":"INDEX(Backbone!$L$2:$L$893,MATCH(I118,Backbone!$A$2:$A$893,0))","v":9.1},null,{"$f":"INDEX(Backbone!$M$2:$M$893,MATCH(I118,Backbone!$A$2:$A$893,0))","v":8},null,{"$f":"INDEX(Backbone!$N$2:$N$893,MATCH(I118,Backbone!$A$2:$A$893,0))","v":7},null,{"$f":"INDEX(Backbone!$O$2:$O$893,MATCH(I118,Backbone!$A$2:$A$893,0))","v":7.2},null,{"$f":"INDEX(Backbone!$P$2:$P$893,MATCH(I118,Backbone!$A$2:$A$893,0))","v":10},null,{"$f":"INDEX(Backbone!$Q$2:$Q$893,MATCH(I118,Backbone!$A$2:$A$893,0))","v":0.83555555555555561},null,null,{"$f":"(AG118*$AG$22+AI118*$AI$22+AK118*$AK$22+AM118*$AM$22+AO118*$AO$22+AQ118*$AQ$22+AS118*$AS$22+AU118*$AU$22+AW118*$AW$22)/(SUM($AG$22:$AW$22)*10)","v":{"$error":"#DIV/0!"}},null,null,"Aller à \nBoîte à outils: ",null,{"$f":"HYPERLINK(\"#\"&ADDRESS(MATCH(I118,Toolbox!$C$1:$C$300),1,,,\"Toolbox\"),VLOOKUP(I118,Toolbox!$C$1:$C$300,1,FALSE))","v":"Système électronique intégré de surveillance des maladies (EIDSS)"}]
[]
[]
[]
[]
[]
[null,null,null,null,null,null,null,null,{"$f":"Backbone!A195","v":"Surveillance intégrée de la maladie et la riposte (IDSR)"},null,null,null,null,null,null,"Une stratégie visant à renforcer les capacités pour la détection, la confirmation et la réponse aux cas suspects et à l'apparition de foyers épidémiques, ainsi que pour l'utilisation des informations afin de prédire et de planifier les événements de santé publique.",null,null,null,null,null,null,null,null,{"$f":"INDEX(Backbone!$R$2:$R$893,MATCH(I124,Backbone!$A$2:$A$893,0))","v":"Document d'orientation"},null,null,null,{"$f":"INDEX(Backbone!$S$2:$S$893,MATCH(I124,Backbone!$A$2:$A$893,0))","v":"Spécifique du secteur; Généralisée"},null,null,null,{"$f":"INDEX(Backbone!$H$2:$H$893,MATCH(I124,Backbone!$A$2:$A$893,0))","v":7.4},null,{"$f":"INDEX(Backbone!$I$2:$I$893,MATCH(I124,Backbone!$A$2:$A$893,0))","v":10},null,{"$f":"INDEX(Backbone!$J$2:$J$893,MATCH(I124,Backbone!$A$2:$A$893,0))","v":7.4},null,{"$f":"INDEX(Backbone!$K$1:$K$893,MATCH(I124,Backbone!$A$1:$A$893,0))","v":8.6999999999999993},null,{"$f":"INDEX(Backbone!$L$2:$L$893,MATCH(I124,Backbone!$A$2:$A$893,0))","v":6.7},null,{"$f":"INDEX(Backbone!$M$2:$M$893,MATCH(I124,Backbone!$A$2:$A$893,0))","v":4.5},null,{"$f":"INDEX(Backbone!$N$2:$N$893,MATCH(I124,Backbone!$A$2:$A$893,0))","v":8},null,{"$f":"INDEX(Backbone!$O$2:$O$893,MATCH(I124,Backbone!$A$2:$A$893,0))","v":7.2},null,{"$f":"INDEX(Backbone!$P$2:$P$893,MATCH(I124,Backbone!$A$2:$A$893,0))","v":8.5},null,{"$f":"INDEX(Backbone!$Q$2:$Q$893,MATCH(I124,Backbone!$A$2:$A$893,0))","v":0.76},null,null,{"$f":"(AG124*$AG$22+AI124*$AI$22+AK124*$AK$22+AM124*$AM$22+AO124*$AO$22+AQ124*$AQ$22+AS124*$AS$22+AU124*$AU$22+AW124*$AW$22)/(SUM($AG$22:$AW$22)*10)","v":{"$error":"#DIV/0!"}},null,null,"Aller à \nBoîte à outils: ",null,{"$f":"HYPERLINK(\"#\"&ADDRESS(MATCH(I124,Toolbox!$C$1:$C$300),1,,,\"Toolbox\"),VLOOKUP(I124,Toolbox!$C$1:$C$300,1,FALSE))","v":"Surveillance intégrée de la maladie et la riposte (IDSR)"}]
[]
[]
[]
[]
[]
[null,null,null,null,null,null,null,null,{"$f":"Backbone!A489","v":"Suite pour une biosurveillance électronique automatisée mondiale (SAGES)"},null,null,null,null,null,null,"Une suite d'outils logiciels d'exploitation libre conçus pour améliorer la surveillance électronique des maladies dans des situations où les ressources sont limitées.",null,null,null,null,null,null,null,null,{"$f":"INDEX(Backbone!$R$2:$R$893,MATCH(I130,Backbone!$A$2:$A$893,0))","v":"Matériel ou logiciel"},null,null,null,{"$f":"INDEX(Backbone!$S$2:$S$893,MATCH(I130,Backbone!$A$2:$A$893,0))","v":"«Une seule santé»; Généralisée"},null,null,null,{"$f":"INDEX(Backbone!$H$2:$H$893,MATCH(I130,Backbone!$A$2:$A$893,0))","v":9.8000000000000007},null,{"$f":"INDEX(Backbone!$I$2:$I$893,MATCH(I130,Backbone!$A$2:$A$893,0))","v":10},null,{"$f":"INDEX(Backbone!$J$2:$J$893,MATCH(I130,Backbone!$A$2:$A$893,0))","v":10},null,{"$f":"INDEX(Backbone!$K$1:$K$893,MATCH(I130,Backbone!$A$1:$A$893,0))","v":9.3000000000000007},null,{"$f":"INDEX(Backbone!$L$2:$L$893,MATCH(I130,Backbone!$A$2:$A$893,0))","v":8.5},null,{"$f":"INDEX(Backbone!$M$2:$M$893,MATCH(I130,Backbone!$A$2:$A$893,0))","v":9},null,{"$f":"INDEX(Backbone!$N$2:$N$893,MATCH(I130,Backbone!$A$2:$A$893,0))","v":5.5},null,{"$f":"INDEX(Backbone!$O$2:$O$893,MATCH(I130,Backbone!$A$2:$A$893,0))","v":9.5},null,{"$f":"INDEX(Backbone!$P$2:$P$893,MATCH(I130,Backbone!$A$2:$A$893,0))","v":7},null,{"$f":"INDEX(Backbone!$Q$2:$Q$893,MATCH(I130,Backbone!$A$2:$A$893,0))","v":0.87333333333333329},null,null,{"$f":"(AG130*$AG$22+AI130*$AI$22+AK130*$AK$22+AM130*$AM$22+AO130*$AO$22+AQ130*$AQ$22+AS130*$AS$22+AU130*$AU$22+AW130*$AW$22)/(SUM($AG$22:$AW$22)*10)","v":{"$error":"#DIV/0!"}},null,null,"Aller à \nBoîte à outils: ",null,{"$f":"HYPERLINK(\"#\"&ADDRESS(MATCH(I130,Toolbox!$C$1:$C$300),1,,,\"Toolbox\"),VLOOKUP(I130,Toolbox!$C$1:$C$300,1,FALSE))","v":"Suite pour une biosurveillance électronique automatisée mondiale (SAGES)"}]
[]
[]
[]
[]
[]
[]
[null,null,null,"Autres ressources intéressantes",null,null,null,null,{"$f":"Backbone!A155","v":"Initiative de veille épidémique à sources ouvertes (EIOS)"},null,null,null,null,null,null,"L'initiative EIOS est le fruit d'une collaboration unique entre l'OMS et plusieurs parties prenantes qui regroupe des initiatives, des réseaux et des systèmes, nouveaux et existants, afin de créer une approche «Une seule santé» unifiée pour tous les dangers visant à la détection précoce, la vérification et l'évaluation des risques et des menaces pour la santé publique à partir d'informations d'exploitation libre.",null,null,null,null,null,null,null,null,{"$f":"INDEX(Backbone!$R$2:$R$893,MATCH(I137,Backbone!$A$2:$A$893,0))","v":"Matériel ou logiciel"},null,null,null,{"$f":"INDEX(Backbone!$S$2:$S$893,MATCH(I137,Backbone!$A$2:$A$893,0))","v":"«Une seule santé»; Généralisée"},null,null,null,{"$f":"INDEX(Backbone!$H$2:$H$893,MATCH(I137,Backbone!$A$2:$A$893,0))","v":8.4},null,{"$f":"INDEX(Backbone!$I$2:$I$893,MATCH(I137,Backbone!$A$2:$A$893,0))","v":9},null,{"$f":"INDEX(Backbone!$J$2:$J$893,MATCH(I137,Backbone!$A$2:$A$893,0))","v":7.4},null,{"$f":"INDEX(Backbone!$K$1:$K$893,MATCH(I137,Backbone!$A$1:$A$893,0))","v":9},null,{"$f":"INDEX(Backbone!$L$2:$L$893,MATCH(I137,Backbone!$A$2:$A$893,0))","v":8.8000000000000007},null,{"$f":"INDEX(Backbone!$M$2:$M$893,MATCH(I137,Backbone!$A$2:$A$893,0))","v":8},null,{"$f":"INDEX(Backbone!$N$2:$N$893,MATCH(I137,Backbone!$A$2:$A$893,0))","v":5.5},null,{"$f":"INDEX(Backbone!$O$2:$O$893,MATCH(I137,Backbone!$A$2:$A$893,0))","v":9.1999999999999993},null,{"$f":"INDEX(Backbone!$P$2:$P$893,MATCH(I137,Backbone!$A$2:$A$893,0))","v":6},null,{"$f":"INDEX(Backbone!$Q$2:$Q$893,MATCH(I137,Backbone!$A$2:$A$893,0))","v":0.79222222222222216},null,null,{"$f":"(AG137*$AG$22+AI137*$AI$22+AK137*$AK$22+AM137*$AM$22+AO137*$AO$22+AQ137*$AQ$22+AS137*$AS$22+AU137*$AU$22+AW137*$AW$22)/(SUM($AG$22:$AW$22)*10)","v":{"$error":"#DIV/0!"}},null,null,"Aller à \nBoîte à outils: ",null,{"$f":"HYPERLINK(\"#\"&ADDRESS(MATCH(I137,Toolbox!$C$1:$C$300),1,,,\"Toolbox\"),VLOOKUP(I137,Toolbox!$C$1:$C$300,1,FALSE))","v":"Initiative de veille épidémique à sources ouvertes (EIOS)"}]
[]
[]
[]
[]
[]
[null,null,null,null,null,null,null,null,{"$f":"Backbone!A648","v":"Boîte à outils pour la planification de la préparation et la réponse"},null,null,null,null,null,null,"Cette boîte à outils est conçue pour aider les pays à élaborer des plans multisectoriels de préparation et de réponse aux événements de santé publique. ",null,null,null,null,null,null,null,null,{"$f":"INDEX(Backbone!$R$2:$R$893,MATCH(I143,Backbone!$A$2:$A$893,0))","v":"Document d'orientation"},null,null,null,{"$f":"INDEX(Backbone!$S$2:$S$893,MATCH(I143,Backbone!$A$2:$A$893,0))","v":"«Une seule santé»; Généralisée"},null,null,null,{"$f":"INDEX(Backbone!$H$2:$H$893,MATCH(I143,Backbone!$A$2:$A$893,0))","v":8.4},null,{"$f":"INDEX(Backbone!$I$2:$I$893,MATCH(I143,Backbone!$A$2:$A$893,0))","v":8},null,{"$f":"INDEX(Backbone!$J$2:$J$893,MATCH(I143,Backbone!$A$2:$A$893,0))","v":8.4},null,{"$f":"INDEX(Backbone!$K$1:$K$893,MATCH(I143,Backbone!$A$1:$A$893,0))","v":6.7},null,{"$f":"INDEX(Backbone!$L$2:$L$893,MATCH(I143,Backbone!$A$2:$A$893,0))","v":2},null,{"$f":"INDEX(Backbone!$M$2:$M$893,MATCH(I143,Backbone!$A$2:$A$893,0))","v":3.5},null,{"$f":"INDEX(Backbone!$N$2:$N$893,MATCH(I143,Backbone!$A$2:$A$893,0))","v":4},null,{"$f":"INDEX(Backbone!$O$2:$O$893,MATCH(I143,Backbone!$A$2:$A$893,0))","v":6.4},null,{"$f":"INDEX(Backbone!$P$2:$P$893,MATCH(I143,Backbone!$A$2:$A$893,0))","v":8},null,{"$f":"INDEX(Backbone!$Q$2:$Q$893,MATCH(I143,Backbone!$A$2:$A$893,0))","v":0.61555555555555552},null,null,{"$f":"(AG143*$AG$22+AI143*$AI$22+AK143*$AK$22+AM143*$AM$22+AO143*$AO$22+AQ143*$AQ$22+AS143*$AS$22+AU143*$AU$22+AW143*$AW$22)/(SUM($AG$22:$AW$22)*10)","v":{"$error":"#DIV/0!"}},null,null,"Aller à \nBoîte à outils: ",null,{"$f":"HYPERLINK(\"#\"&ADDRESS(MATCH(I143,Toolbox!$C$1:$C$300),1,,,\"Toolbox\"),VLOOKUP(I143,Toolbox!$C$1:$C$300,1,FALSE))","v":"Boîte à outils pour la planification de la préparation et la réponse"}]
[]
[]
[]
[]
[]
[null,null,null,null,null,null,null,null,{"$f":"Backbone!A604","v":"Application de suivi des expositions et des cas de rage (REACT)"},null,null,null,null,null,null,"Un outil visant à soutenir la mise en œuvre de programmes de gestion intégrée des cas de morsures.",null,null,null,null,null,null,null,null,{"$f":"INDEX(Backbone!$R$2:$R$893,MATCH(I149,Backbone!$A$2:$A$893,0))","v":"Matériel ou logiciel"},null,null,null,{"$f":"INDEX(Backbone!$S$2:$S$893,MATCH(I149,Backbone!$A$2:$A$893,0))","v":"«Une seule santé»; spécifique d'une maladie/menace "},null,null,null,{"$f":"INDEX(Backbone!$H$2:$H$893,MATCH(I149,Backbone!$A$2:$A$893,0))","v":8.6},null,{"$f":"INDEX(Backbone!$I$2:$I$893,MATCH(I149,Backbone!$A$2:$A$893,0))","v":8.6},null,{"$f":"INDEX(Backbone!$J$2:$J$893,MATCH(I149,Backbone!$A$2:$A$893,0))","v":8},null,{"$f":"INDEX(Backbone!$K$1:$K$893,MATCH(I149,Backbone!$A$1:$A$893,0))","v":8.6},null,{"$f":"INDEX(Backbone!$L$2:$L$893,MATCH(I149,Backbone!$A$2:$A$893,0))","v":9.4},null,{"$f":"INDEX(Backbone!$M$2:$M$893,MATCH(I149,Backbone!$A$2:$A$893,0))","v":9.5},null,{"$f":"INDEX(Backbone!$N$2:$N$893,MATCH(I149,Backbone!$A$2:$A$893,0))","v":9},null,{"$f":"INDEX(Backbone!$O$2:$O$893,MATCH(I149,Backbone!$A$2:$A$893,0))","v":9.1999999999999993},null,{"$f":"INDEX(Backbone!$P$2:$P$893,MATCH(I149,Backbone!$A$2:$A$893,0))","v":9},null,{"$f":"INDEX(Backbone!$Q$2:$Q$893,MATCH(I149,Backbone!$A$2:$A$893,0))","v":0.88777777777777767},null,null,{"$f":"(AG149*$AG$22+AI149*$AI$22+AK149*$AK$22+AM149*$AM$22+AO149*$AO$22+AQ149*$AQ$22+AS149*$AS$22+AU149*$AU$22+AW149*$AW$22)/(SUM($AG$22:$AW$22)*10)","v":{"$error":"#DIV/0!"}},null,null,"Aller à \nBoîte à outils: ",null,{"$f":"HYPERLINK(\"#\"&ADDRESS(MATCH(I149,Toolbox!$C$1:$C$300),1,,,\"Toolbox\"),VLOOKUP(I149,Toolbox!$C$1:$C$300,1,FALSE))","v":"Application de suivi des expositions et des cas de rage (REACT)"}]
[]
[]
[]
[]
[]
[]
[]
[]
[]
[]
[]
[]
[]
[]
[]
[]
[]
[]
[]
[]
[]
[]
[]
[null,null,null,null,null,null,null,null,null,null,null,null,null,null,null,null,null,null,null,null,null,null,null,null,null,null,null,null,null,null,null,null,"Accessibilité",null,"Langue",null,"Facilité d'utilisation",null,"Flexibilité",null,"Besoins de données",null,"Analyse des données",null,"Acceptabilité",null,"«Une seule santé»",null,"Impact"]
[]
[]
[]
[]
[]
[]
[null,null,null,null,null,null,null,null,null,null,null,null,null,null,null,null,null,null,null,null,null,null,null,null,null,null,null,null,null,null,null,null,null,null,null,null,null,null,null,null,null,null,null,null,null,null,null,null,null,null,"SCORE BRUT",null,null,"SCORE AJUSTÉ \n(Selon les préférences de l'utilisateur)"]
[]
[]
[]
[null,"RESSOURCES DE NIVEAU 3",null,"DÉSIGNATION",null,null,null,null,"NOM DE LA RESSOURCE",null,null,null,null,null,null,"BRÈVE DESCRIPTION",null,null,null,null,null,null,null,null,"TYPE DE RESSOURCE",null,null,null,"CARACTÈRE GÉNÉRAL DE LA RESSOURCE"]
[]
[]
[]
[null,null,null,null,null,null,null,null,null,null,null,null,null,null,null,null,null,null,null,null,null,null,null,null,null,null,null,null,null,null,null,null,{"$f":"'Attribute Survey'!S294","v":0},null,{"$f":"'Attribute Survey'!S298","v":0},null,{"$f":"'Attribute Survey'!S302","v":0},null,{"$f":"'Attribute Survey'!S306","v":0},null,{"$f":"'Attribute Survey'!S310","v":0},null,{"$f":"'Attribute Survey'!S314","v":0},null,{"$f":"'Attribute Survey'!S318","v":0},null,{"$f":"'Attribute Survey'!S322","v":0},null,{"$f":"'Attribute Survey'!S326","v":0}]
[null,null,null,"Ressources les mieux adaptées",null,null,null,null,{"$f":"Backbone!A65","v":"Logiciel d'information de santé au niveau des districts 2 (DHIS2) "},null,null,null,null,null,null,"Une plateforme d'exploitation libre en ligne pour les systèmes d'information sanitaire.",null,null,null,null,null,null,null,null,{"$f":"INDEX(Backbone!$R$2:$R$893,MATCH(I189,Backbone!$A$2:$A$893,0))","v":"Matériel ou logiciel"},null,null,null,{"$f":"INDEX(Backbone!$S$2:$S$893,MATCH(I189,Backbone!$A$2:$A$893,0))","v":"Spécifique du secteur; Généralisée"},null,null,null,{"$f":"INDEX(Backbone!$H$2:$H$893,MATCH(I189,Backbone!$A$2:$A$893,0))","v":8.8000000000000007},null,{"$f":"INDEX(Backbone!$I$2:$I$893,MATCH(I189,Backbone!$A$2:$A$893,0))","v":8.6999999999999993},null,{"$f":"INDEX(Backbone!$J$2:$J$893,MATCH(I189,Backbone!$A$2:$A$893,0))","v":8},null,{"$f":"INDEX(Backbone!$K$2:$K$893,MATCH(I189,Backbone!$A$2:$A$893,0))","v":8.6999999999999993},null,{"$f":"INDEX(Backbone!$L$2:$L$893,MATCH(I189,Backbone!$A$2:$A$893,0))","v":9.3000000000000007},null,{"$f":"INDEX(Backbone!$M$2:$M$893,MATCH(I189,Backbone!$A$2:$A$893,0))","v":9},null,{"$f":"INDEX(Backbone!$N$2:$N$893,MATCH(I189,Backbone!$A$2:$A$893,0))","v":10},null,{"$f":"INDEX(Backbone!$O$2:$O$893,MATCH(I189,Backbone!$A$2:$A$893,0))","v":7.8},null,{"$f":"INDEX(Backbone!$P$2:$P$893,MATCH(I189,Backbone!$A$2:$A$893,0))","v":7},null,{"$f":"INDEX(Backbone!$Q$2:$Q$893,MATCH(I189,Backbone!$A$2:$A$893,0))","v":0.85888888888888881},null,null,{"$f":"(AG189*$AG$22+AI189*$AI$22+AK189*$AK$22+AM189*$AM$22+AO189*$AO$22+AQ189*$AQ$22+AS189*$AS$22+AU189*$AU$22+AW189*$AW$22)/(SUM($AG$22:$AW$22)*10)","v":{"$error":"#DIV/0!"}},null,null,"Aller à \nBoîte à outils: ",null,{"$f":"HYPERLINK(\"#\"&ADDRESS(MATCH(I189,Toolbox!$C$1:$C$300),1,,,\"Toolbox\"),VLOOKUP(I189,Toolbox!$C$1:$C$300,1,FALSE))","v":"Logiciel d'information de santé au niveau des districts 2 (DHIS2) "}]
[]
[]
[]
[]
[]
[null,null,null,null,null,null,null,null,{"$f":"Backbone!A138","v":"Système électronique intégré de surveillance des maladies (EIDSS)"},null,null,null,null,null,null,"Un système électronique en ligne et personnalisable d'établissement de rapports sur les maladies qui peut aider à la surveillance passive et active de la santé humaine et vétérinaire, aux diagnostics de laboratoire, à la surveillance des vecteurs et à la gestion des foyers épidémiques. ",null,null,null,null,null,null,null,null,{"$f":"INDEX(Backbone!$R$2:$R$893,MATCH(I195,Backbone!$A$2:$A$893,0))","v":"Matériel ou logiciel"},null,null,null,{"$f":"INDEX(Backbone!$S$2:$S$893,MATCH(I195,Backbone!$A$2:$A$893,0))","v":"«Une seule santé»; Généralisée"},null,null,null,{"$f":"INDEX(Backbone!$H$2:$H$893,MATCH(I195,Backbone!$A$2:$A$893,0))","v":6.8},null,{"$f":"INDEX(Backbone!$I$2:$I$893,MATCH(I195,Backbone!$A$2:$A$893,0))","v":10},null,{"$f":"INDEX(Backbone!$J$2:$J$893,MATCH(I195,Backbone!$A$2:$A$893,0))","v":8.4},null,{"$f":"INDEX(Backbone!$K$2:$K$893,MATCH(I195,Backbone!$A$2:$A$893,0))","v":8.6999999999999993},null,{"$f":"INDEX(Backbone!$L$2:$L$893,MATCH(I195,Backbone!$A$2:$A$893,0))","v":9.1},null,{"$f":"INDEX(Backbone!$M$2:$M$893,MATCH(I195,Backbone!$A$2:$A$893,0))","v":8},null,{"$f":"INDEX(Backbone!$N$2:$N$893,MATCH(I195,Backbone!$A$2:$A$893,0))","v":7},null,{"$f":"INDEX(Backbone!$O$2:$O$893,MATCH(I195,Backbone!$A$2:$A$893,0))","v":7.2},null,{"$f":"INDEX(Backbone!$P$2:$P$893,MATCH(I195,Backbone!$A$2:$A$893,0))","v":10},null,{"$f":"INDEX(Backbone!$Q$2:$Q$893,MATCH(I195,Backbone!$A$2:$A$893,0))","v":0.83555555555555561},null,null,{"$f":"(AG195*$AG$22+AI195*$AI$22+AK195*$AK$22+AM195*$AM$22+AO195*$AO$22+AQ195*$AQ$22+AS195*$AS$22+AU195*$AU$22+AW195*$AW$22)/(SUM($AG$22:$AW$22)*10)","v":{"$error":"#DIV/0!"}},null,null,"Aller à \nBoîte à outils: ",null,{"$f":"HYPERLINK(\"#\"&ADDRESS(MATCH(I195,Toolbox!$C$1:$C$300),1,,,\"Toolbox\"),VLOOKUP(I195,Toolbox!$C$1:$C$300,1,FALSE))","v":"Système électronique intégré de surveillance des maladies (EIDSS)"}]
[]
[]
[]
[]
[]
[null,null,null,null,null,null,null,null,{"$f":"Backbone!A489","v":"Suite pour une biosurveillance électronique automatisée mondiale (SAGES)"},null,null,null,null,null,null,"Une suite d'outils logiciels d'exploitation libre conçus pour améliorer la surveillance électronique des maladies dans des situations où les ressources sont limitées.",null,null,null,null,null,null,null,null,{"$f":"INDEX(Backbone!$R$2:$R$893,MATCH(I201,Backbone!$A$2:$A$893,0))","v":"Matériel ou logiciel"},null,null,null,{"$f":"INDEX(Backbone!$S$2:$S$893,MATCH(I201,Backbone!$A$2:$A$893,0))","v":"«Une seule santé»; Généralisée"},null,null,null,{"$f":"INDEX(Backbone!$H$2:$H$893,MATCH(I201,Backbone!$A$2:$A$893,0))","v":9.8000000000000007},null,{"$f":"INDEX(Backbone!$I$2:$I$893,MATCH(I201,Backbone!$A$2:$A$893,0))","v":10},null,{"$f":"INDEX(Backbone!$J$2:$J$893,MATCH(I201,Backbone!$A$2:$A$893,0))","v":10},null,{"$f":"INDEX(Backbone!$K$1:$K$893,MATCH(I201,Backbone!$A$1:$A$893,0))","v":9.3000000000000007},null,{"$f":"INDEX(Backbone!$L$2:$L$893,MATCH(I201,Backbone!$A$2:$A$893,0))","v":8.5},null,{"$f":"INDEX(Backbone!$M$2:$M$893,MATCH(I201,Backbone!$A$2:$A$893,0))","v":9},null,{"$f":"INDEX(Backbone!$N$2:$N$893,MATCH(I201,Backbone!$A$2:$A$893,0))","v":5.5},null,{"$f":"INDEX(Backbone!$O$2:$O$893,MATCH(I201,Backbone!$A$2:$A$893,0))","v":9.5},null,{"$f":"INDEX(Backbone!$P$2:$P$893,MATCH(I201,Backbone!$A$2:$A$893,0))","v":7},null,{"$f":"INDEX(Backbone!$Q$2:$Q$893,MATCH(I201,Backbone!$A$2:$A$893,0))","v":0.87333333333333329},null,null,{"$f":"(AG201*$AG$22+AI201*$AI$22+AK201*$AK$22+AM201*$AM$22+AO201*$AO$22+AQ201*$AQ$22+AS201*$AS$22+AU201*$AU$22+AW201*$AW$22)/(SUM($AG$22:$AW$22)*10)","v":{"$error":"#DIV/0!"}},null,null,"Aller à \nBoîte à outils: ",null,{"$f":"HYPERLINK(\"#\"&ADDRESS(MATCH(I201,Toolbox!$C$1:$C$300),1,,,\"Toolbox\"),VLOOKUP(I201,Toolbox!$C$1:$C$300,1,FALSE))","v":"Suite pour une biosurveillance électronique automatisée mondiale (SAGES)"}]
[]
[]
[]
[]
[]
[]
[null,null,null,"Autres ressources intéressantes",null,null,null,null,{"$f":"Backbone!A155","v":"Initiative de veille épidémique à sources ouvertes (EIOS)"},null,null,null,null,null,null,"L'initiative EIOS est le fruit d'une collaboration unique entre l'OMS et plusieurs parties prenantes qui regroupe des initiatives, des réseaux et des systèmes, nouveaux et existants, afin de créer une approche «Une seule santé» unifiée pour tous les dangers visant à la détection précoce, la vérification et l'évaluation des risques et des menaces pour la santé publique à partir d'informations d'exploitation libre.",null,null,null,null,null,null,null,null,{"$f":"INDEX(Backbone!$R$2:$R$893,MATCH(I208,Backbone!$A$2:$A$893,0))","v":"Matériel ou logiciel"},null,null,null,{"$f":"INDEX(Backbone!$S$2:$S$893,MATCH(I208,Backbone!$A$2:$A$893,0))","v":"«Une seule santé»; Généralisée"},null,null,null,{"$f":"INDEX(Backbone!$H$2:$H$893,MATCH(I208,Backbone!$A$2:$A$893,0))","v":8.4},null,{"$f":"INDEX(Backbone!$I$2:$I$893,MATCH(I208,Backbone!$A$2:$A$893,0))","v":9},null,{"$f":"INDEX(Backbone!$J$2:$J$893,MATCH(I208,Backbone!$A$2:$A$893,0))","v":7.4},null,{"$f":"INDEX(Backbone!$K$1:$K$893,MATCH(I208,Backbone!$A$1:$A$893,0))","v":9},null,{"$f":"INDEX(Backbone!$L$2:$L$893,MATCH(I208,Backbone!$A$2:$A$893,0))","v":8.8000000000000007},null,{"$f":"INDEX(Backbone!$M$2:$M$893,MATCH(I208,Backbone!$A$2:$A$893,0))","v":8},null,{"$f":"INDEX(Backbone!$N$2:$N$893,MATCH(I208,Backbone!$A$2:$A$893,0))","v":5.5},null,{"$f":"INDEX(Backbone!$O$2:$O$893,MATCH(I208,Backbone!$A$2:$A$893,0))","v":9.1999999999999993},null,{"$f":"INDEX(Backbone!$P$2:$P$893,MATCH(I208,Backbone!$A$2:$A$893,0))","v":6},null,{"$f":"INDEX(Backbone!$Q$2:$Q$893,MATCH(I208,Backbone!$A$2:$A$893,0))","v":0.79222222222222216},null,null,{"$f":"(AG208*$AG$22+AI208*$AI$22+AK208*$AK$22+AM208*$AM$22+AO208*$AO$22+AQ208*$AQ$22+AS208*$AS$22+AU208*$AU$22+AW208*$AW$22)/(SUM($AG$22:$AW$22)*10)","v":{"$error":"#DIV/0!"}},null,null,"Aller à \nBoîte à outils: ",null,{"$f":"HYPERLINK(\"#\"&ADDRESS(MATCH(I208,Toolbox!$C$1:$C$300),1,,,\"Toolbox\"),VLOOKUP(I208,Toolbox!$C$1:$C$300,1,FALSE))","v":"Initiative de veille épidémique à sources ouvertes (EIOS)"}]
[]
[]
[]
[]
[]
[null,null,null,null,null,null,null,null,{"$f":"Backbone!A648","v":"Boîte à outils pour la planification de la préparation et la réponse"},null,null,null,null,null,null,"Cette boîte à outils est conçue pour aider les pays à élaborer des plans multisectoriels de préparation et de réponse aux événements de santé publique. ",null,null,null,null,null,null,null,null,{"$f":"INDEX(Backbone!$R$2:$R$893,MATCH(I214,Backbone!$A$2:$A$893,0))","v":"Document d'orientation"},null,null,null,{"$f":"INDEX(Backbone!$S$2:$S$893,MATCH(I214,Backbone!$A$2:$A$893,0))","v":"«Une seule santé»; Généralisée"},null,null,null,{"$f":"INDEX(Backbone!$H$2:$H$893,MATCH(I214,Backbone!$A$2:$A$893,0))","v":8.4},null,{"$f":"INDEX(Backbone!$I$2:$I$893,MATCH(I214,Backbone!$A$2:$A$893,0))","v":8},null,{"$f":"INDEX(Backbone!$J$2:$J$893,MATCH(I214,Backbone!$A$2:$A$893,0))","v":8.4},null,{"$f":"INDEX(Backbone!$K$1:$K$893,MATCH(I214,Backbone!$A$1:$A$893,0))","v":6.7},null,{"$f":"INDEX(Backbone!$L$2:$L$893,MATCH(I214,Backbone!$A$2:$A$893,0))","v":2},null,{"$f":"INDEX(Backbone!$M$2:$M$893,MATCH(I214,Backbone!$A$2:$A$893,0))","v":3.5},null,{"$f":"INDEX(Backbone!$N$2:$N$893,MATCH(I214,Backbone!$A$2:$A$893,0))","v":4},null,{"$f":"INDEX(Backbone!$O$2:$O$893,MATCH(I214,Backbone!$A$2:$A$893,0))","v":6.4},null,{"$f":"INDEX(Backbone!$P$2:$P$893,MATCH(I214,Backbone!$A$2:$A$893,0))","v":8},null,{"$f":"INDEX(Backbone!$Q$2:$Q$893,MATCH(I214,Backbone!$A$2:$A$893,0))","v":0.61555555555555552},null,null,{"$f":"(AG214*$AG$22+AI214*$AI$22+AK214*$AK$22+AM214*$AM$22+AO214*$AO$22+AQ214*$AQ$22+AS214*$AS$22+AU214*$AU$22+AW214*$AW$22)/(SUM($AG$22:$AW$22)*10)","v":{"$error":"#DIV/0!"}},null,null,"Aller à \nBoîte à outils: ",null,{"$f":"HYPERLINK(\"#\"&ADDRESS(MATCH(I214,Toolbox!$C$1:$C$300),1,,,\"Toolbox\"),VLOOKUP(I214,Toolbox!$C$1:$C$300,1,FALSE))","v":"Boîte à outils pour la planification de la préparation et la réponse"}]
[]
[]
[]
[]
[]
[null,null,null,null,null,null,null,null,{"$f":"Backbone!A604","v":"Application de suivi des expositions et des cas de rage (REACT)"},null,null,null,null,null,null,"Un outil visant à soutenir la mise en œuvre de programmes de gestion intégrée des cas de morsures.",null,null,null,null,null,null,null,null,{"$f":"INDEX(Backbone!$R$2:$R$893,MATCH(I220,Backbone!$A$2:$A$893,0))","v":"Matériel ou logiciel"},null,null,null,{"$f":"INDEX(Backbone!$S$2:$S$893,MATCH(I220,Backbone!$A$2:$A$893,0))","v":"«Une seule santé»; spécifique d'une maladie/menace "},null,null,null,{"$f":"INDEX(Backbone!$H$2:$H$893,MATCH(I220,Backbone!$A$2:$A$893,0))","v":8.6},null,{"$f":"INDEX(Backbone!$I$2:$I$893,MATCH(I220,Backbone!$A$2:$A$893,0))","v":8.6},null,{"$f":"INDEX(Backbone!$J$2:$J$893,MATCH(I220,Backbone!$A$2:$A$893,0))","v":8},null,{"$f":"INDEX(Backbone!$K$1:$K$893,MATCH(I220,Backbone!$A$1:$A$893,0))","v":8.6},null,{"$f":"INDEX(Backbone!$L$2:$L$893,MATCH(I220,Backbone!$A$2:$A$893,0))","v":9.4},null,{"$f":"INDEX(Backbone!$M$2:$M$893,MATCH(I220,Backbone!$A$2:$A$893,0))","v":9.5},null,{"$f":"INDEX(Backbone!$N$2:$N$893,MATCH(I220,Backbone!$A$2:$A$893,0))","v":9},null,{"$f":"INDEX(Backbone!$O$2:$O$893,MATCH(I220,Backbone!$A$2:$A$893,0))","v":9.1999999999999993},null,{"$f":"INDEX(Backbone!$P$2:$P$893,MATCH(I220,Backbone!$A$2:$A$893,0))","v":9},null,{"$f":"INDEX(Backbone!$Q$2:$Q$893,MATCH(I220,Backbone!$A$2:$A$893,0))","v":0.88777777777777767},null,null,{"$f":"(AG220*$AG$22+AI220*$AI$22+AK220*$AK$22+AM220*$AM$22+AO220*$AO$22+AQ220*$AQ$22+AS220*$AS$22+AU220*$AU$22+AW220*$AW$22)/(SUM($AG$22:$AW$22)*10)","v":{"$error":"#DIV/0!"}},null,null,"Aller à \nBoîte à outils: ",null,{"$f":"HYPERLINK(\"#\"&ADDRESS(MATCH(I220,Toolbox!$C$1:$C$300),1,,,\"Toolbox\"),VLOOKUP(I220,Toolbox!$C$1:$C$300,1,FALSE))","v":"Application de suivi des expositions et des cas de rage (REACT)"}]

{"sheet":"I8_tools","index":53,"n_rows":166,"n_cols":59,"rows_kept":166,"cut":false,"hidden":false,"merged":[[146,1,170,1],[165,53,169,54],[165,40,169,40],[165,42,169,42],[165,44,169,44],[165,46,169,46],[165,48,169,48],[165,50,169,51],[159,50,163,51],[159,53,163,54],[165,8,169,13],[165,15,169,22],[165,24,169,26],[165,28,169,30],[165,32,169,32],[165,34,169,34],[165,36,169,36],[165,38,169,38],[159,38,163,38],[159,40,163,40],[159,42,163,42],[159,44,163,44],[159,46,163,46],[159,48,163,48],[159,3,169,6],[159,8,163,13],[159,15,163,22],[159,24,163,26],[159,28,163,30],[159,32,163,32],[159,34,163,34],[159,36,163,36],[152,46,156,46],[152,3,156,6],[152,8,156,13],[152,15,156,22],[152,24,156,26],[152,28,156,30],[152,32,156,32],[152,48,156,48],[152,50,156,51],[152,53,156,54],[152,34,156,34],[152,36,156,36],[152,38,156,38],[152,40,156,40],[152,42,156,42],[152,44,156,44],[136,46,150,46],[136,48,150,48],[143,50,150,51],[143,53,150,54],[147,3,150,6],[147,8,150,13],[147,15,150,22],[147,24,150,26],[147,28,150,30],[136,32,150,32],[136,34,150,34],[136,36,150,36],[136,38,150,38],[136,40,150,40],[136,42,150,42],[136,44,150,44],[112,40,116,40],[112,42,116,42],[112,44,116,44],[106,53,110,54],[106,40,110,40],[106,42,110,42],[106,44,110,44],[106,46,110,46],[106,48,110,48],[106,50,110,51],[112,48,116,48],[112,50,116,51],[112,53,116,54],[112,46,116,46],[106,3,116,6],[106,8,110,13],[106,15,110,22],[106,24,110,26],[106,28,110,30],[106,32,110,32],[106,34,110,34],[106,36,110,36],[106,38,110,38],[112,8,116,13],[112,15,116,22],[112,24,116,26],[112,28,116,30],[112,32,116,32],[112,34,116,34],[112,36,116,36],[112,38,116,38],[99,50,103,51],[99,53,103,54],[99,38,103,38],[99,40,103,40],[99,42,103,42],[99,44,103,44],[99,46,103,46],[99,48,103,48],[99,8,103,13],[99,15,103,22],[99,24,103,26],[99,28,103,30],[99,32,103,32],[99,34,103,34],[99,36,103,36],[93,48,97,48],[93,50,97,51],[93,53,97,54],[93,34,97,34],[93,36,97,36],[93,38,97,38],[93,40,97,40],[93,42,97,42],[93,44,97,44],[77,48,91,48],[84,50,91,51],[84,53,91,54],[88,1,116,1],[88,3,91,6],[88,8,91,13],[88,15,91,22],[88,24,91,26],[77,32,91,32],[77,34,91,34],[77,36,91,36],[77,38,91,38],[77,40,91,40],[77,42,91,42],[93,8,97,13],[93,15,97,22],[93,24,97,26],[93,28,97,30],[93,32,97,32],[88,28,91,30],[93,3,103,6],[77,44,91,44],[77,46,91,46],[93,46,97,46],[53,50,57,51],[53,53,57,54],[47,53,51,54],[53,8,57,13],[53,15,57,22],[53,24,57,26],[53,28,57,30],[53,32,57,32],[53,34,57,34],[53,36,57,36],[53,38,57,38],[53,40,57,40],[47,40,51,40],[47,42,51,42],[47,44,51,44],[47,46,51,46],[47,48,51,48],[47,50,51,51],[41,50,45,51],[41,53,45,54],[47,8,51,13],[47,15,51,22],[47,24,51,26],[47,28,51,30],[47,32,51,32],[47,34,51,34],[47,36,51,36],[47,38,51,38],[41,38,45,38],[41,40,45,40],[41,42,45,42],[41,44,45,44],[41,46,45,46],[41,48,45,48],[41,3,57,6],[41,8,45,13],[41,15,45,22],[41,24,45,26],[41,28,45,30],[41,32,45,32],[41,34,45,34],[41,36,45,36],[34,48,38,48],[53,42,57,42],[53,44,57,44],[53,46,57,46],[53,48,57,48],[34,50,38,51],[34,53,38,54],[34,36,38,36],[34,38,38,38],[34,40,38,40],[34,42,38,42],[34,44,38,44],[34,46,38,46],[34,8,38,13],[34,15,38,22],[34,24,38,26],[34,28,38,30],[34,32,38,32],[34,34,38,34],[28,53,32,54],[28,40,32,40],[28,42,32,42],[28,44,32,44],[28,46,32,46],[28,48,32,48],[28,50,32,51],[22,50,26,51],[22,53,26,54],[22,40,26,40],[22,42,26,42],[22,44,26,44],[22,46,26,46],[22,48,26,48],[28,34,32,34],[28,36,32,36],[28,38,32,38],[22,38,26,38],[22,15,26,22],[22,24,26,26],[22,28,26,30],[22,32,26,32],[22,34,26,34],[22,36,26,36],[17,24,20,26],[17,28,20,30],[22,3,38,6],[22,8,26,13],[28,8,32,13],[28,15,32,22],[28,24,32,26],[28,28,32,30],[28,32,32,32],[1,1,3,62],[22,56,26,57],[22,58,26,62],[28,56,32,57],[28,58,32,62],[34,56,38,57],[34,58,38,62],[41,56,45,57],[41,58,45,62],[6,32,20,32],[6,34,20,34],[6,36,20,36],[6,38,20,38],[6,40,20,40],[6,42,20,42],[6,44,20,44],[6,46,20,46],[6,48,20,48],[13,50,20,51],[13,53,20,54],[17,1,57,1],[17,3,20,6],[17,8,20,13],[17,15,20,22],[112,56,116,57],[112,58,116,62],[152,56,156,57],[152,58,156,62],[159,56,163,57],[159,58,163,62],[165,56,169,57],[165,58,169,62],[47,56,51,57],[47,58,51,62],[53,56,57,57],[53,58,57,62],[93,56,97,57],[93,58,97,62],[99,56,103,57],[99,58,103,62],[106,56,110,57],[106,58,110,62]]}
[]
[null,"Ressources pour la communication et l'utilisation des données"]
[]
[]
[]
[]
[null,null,null,null,null,null,null,null,null,null,null,null,null,null,null,null,null,null,null,null,null,null,null,null,null,null,null,null,null,null,null,null,"Accessibilité",null,"Langue",null,"Facilité d'utilisation",null,"Flexibilité",null,"Besoins de données",null,"Analyse des données",null,"Acceptabilité",null,"«Une seule santé»",null,"Impact"]
[]
[]
[]
[]
[]
[]
[null,null,null,null,null,null,null,null,null,null,null,null,null,null,null,null,null,null,null,null,null,null,null,null,null,null,null,null,null,null,null,null,null,null,null,null,null,null,null,null,null,null,null,null,null,null,null,null,null,null,"SCORE BRUT",null,null,"SCORE AJUSTÉ \n(Selon les préférences de l'utilisateur)"]
[]
[]
[]
[null,"RESSOURCES DE NIVEAU 1",null,"DÉSIGNATION",null,null,null,null,"NOM DE LA RESSOURCE",null,null,null,null,null,null,"BRÈVE DESCRIPTION",null,null,null,null,null,null,null,null,"TYPE DE RESSOURCE",null,null,null,"CARACTÈRE GÉNÉRAL DE LA RESSOURCE"]
[]
[]
[]
[null,null,null,null,null,null,null,null,null,null,null,null,null,null,null,null,null,null,null,null,null,null,null,null,null,null,null,null,null,null,null,null,{"$f":"'Attribute Survey'!S22","v":0},null,{"$f":"'Attribute Survey'!S26","v":0},null,{"$f":"'Attribute Survey'!S30","v":0},null,{"$f":"'Attribute Survey'!S34","v":0},null,{"$f":"'Attribute Survey'!S38","v":0},null,{"$f":"'Attribute Survey'!S42","v":0},null,{"$f":"'Attribute Survey'!S46","v":0},null,{"$f":"'Attribute Survey'!S50","v":0},null,{"$f":"'Attribute Survey'!S54","v":0}]
[null,null,null,"Ressources les mieux adaptées",null,null,null,null,{"$f":"Backbone!A21","v":"AfyaData"},null,null,null,null,null,null,"Un outil de surveillance des maladies «Une seule santé» conçu pour répondre aux besoins de surveillance humaine, animale et environnementale, comprenant une application mobile et une application web.",null,null,null,null,null,null,null,null,{"$f":"INDEX(Backbone!$R$2:$R$893,MATCH(I23,Backbone!$A$2:$A$893,0))","v":"Matériel ou logiciel"},null,null,null,{"$f":"INDEX(Backbone!$S$2:$S$893,MATCH(I23,Backbone!$A$2:$A$893,0))","v":"«Une seule santé»; Généralisée "},null,null,null,{"$f":"INDEX(Backbone!$H$2:$H$893,MATCH(I23,Backbone!$A$2:$A$893,0))","v":7.3},null,{"$f":"INDEX(Backbone!$I$2:$I$893,MATCH(I23,Backbone!$A$2:$A$893,0))","v":10},null,{"$f":"INDEX(Backbone!$J$2:$J$893,MATCH(I23,Backbone!$A$2:$A$893,0))","v":8.1999999999999993},null,{"$f":"INDEX(Backbone!$K$2:$K$893,MATCH(I23,Backbone!$A$2:$A$893,0))","v":7.3},null,{"$f":"INDEX(Backbone!$L$2:$L$893,MATCH(I23,Backbone!$A$2:$A$893,0))","v":7.6},null,{"$f":"INDEX(Backbone!$M$2:$M$893,MATCH(I23,Backbone!$A$2:$A$893,0))","v":8.8000000000000007},null,{"$f":"INDEX(Backbone!$N$2:$N$893,MATCH(I23,Backbone!$A$2:$A$893,0))","v":5.5},null,{"$f":"INDEX(Backbone!$O$2:$O$893,MATCH(I23,Backbone!$A$2:$A$893,0))","v":7.6},null,{"$f":"INDEX(Backbone!$P$2:$P$893,MATCH(I23,Backbone!$A$2:$A$893,0))","v":7},null,{"$f":"INDEX(Backbone!$Q$2:$Q$893,MATCH(I23,Backbone!$A$2:$A$893,0))","v":0.77000000000000013},null,null,{"$f":"(AG23*$AG$22+AI23*$AI$22+AK23*$AK$22+AM23*$AM$22+AO23*$AO$22+AQ23*$AQ$22+AS23*$AS$22+AU23*$AU$22+AW23*$AW$22)/(SUM($AG$22:$AW$22)*10)","v":{"$error":"#DIV/0!"}},null,null,"Aller à \nBoîte à outils: ",null,{"$f":"HYPERLINK(\"#\"&ADDRESS(MATCH(I23,Toolbox!$C$1:$C$300),1,,,\"Toolbox\"),VLOOKUP(I23,Toolbox!$C$1:$C$300,1,FALSE))","v":"AfyaData"}]
[]
[]
[]
[]
[]
[null,null,null,null,null,null,null,null,{"$f":"Backbone!A65","v":"Logiciel d'information de santé au niveau des districts 2 (DHIS2) "},null,null,null,null,null,null,"Une plateforme d'exploitation libre en ligne pour les systèmes d'information sanitaire.",null,null,null,null,null,null,null,null,{"$f":"INDEX(Backbone!$R$2:$R$893,MATCH(I29,Backbone!$A$2:$A$893,0))","v":"Matériel ou logiciel"},null,null,null,{"$f":"INDEX(Backbone!$S$2:$S$893,MATCH(I29,Backbone!$A$2:$A$893,0))","v":"Spécifique du secteur; Généralisée"},null,null,null,{"$f":"INDEX(Backbone!$H$2:$H$893,MATCH(I29,Backbone!$A$2:$A$893,0))","v":8.8000000000000007},null,{"$f":"INDEX(Backbone!$I$2:$I$893,MATCH(I29,Backbone!$A$2:$A$893,0))","v":8.6999999999999993},null,{"$f":"INDEX(Backbone!$J$2:$J$893,MATCH(I29,Backbone!$A$2:$A$893,0))","v":8},null,{"$f":"INDEX(Backbone!$K$2:$K$893,MATCH(I29,Backbone!$A$2:$A$893,0))","v":8.6999999999999993},null,{"$f":"INDEX(Backbone!$L$2:$L$893,MATCH(I29,Backbone!$A$2:$A$893,0))","v":9.3000000000000007},null,{"$f":"INDEX(Backbone!$M$2:$M$893,MATCH(I29,Backbone!$A$2:$A$893,0))","v":9},null,{"$f":"INDEX(Backbone!$N$2:$N$893,MATCH(I29,Backbone!$A$2:$A$893,0))","v":10},null,{"$f":"INDEX(Backbone!$O$2:$O$893,MATCH(I29,Backbone!$A$2:$A$893,0))","v":7.8},null,{"$f":"INDEX(Backbone!$P$2:$P$893,MATCH(I29,Backbone!$A$2:$A$893,0))","v":7},null,{"$f":"INDEX(Backbone!$Q$2:$Q$893,MATCH(I29,Backbone!$A$2:$A$893,0))","v":0.85888888888888881},null,null,{"$f":"(AG29*$AG$22+AI29*$AI$22+AK29*$AK$22+AM29*$AM$22+AO29*$AO$22+AQ29*$AQ$22+AS29*$AS$22+AU29*$AU$22+AW29*$AW$22)/(SUM($AG$22:$AW$22)*10)","v":{"$error":"#DIV/0!"}},null,null,"Aller à \nBoîte à outils: ",null,{"$f":"HYPERLINK(\"#\"&ADDRESS(MATCH(I29,Toolbox!$C$1:$C$300),1,,,\"Toolbox\"),VLOOKUP(I29,Toolbox!$C$1:$C$300,1,FALSE))","v":"Logiciel d'information de santé au niveau des districts 2 (DHIS2) "}]
[]
[]
[]
[]
[]
[null,null,null,null,null,null,null,null,{"$f":"Backbone!A195","v":"Surveillance intégrée de la maladie et la riposte (IDSR)"},null,null,null,null,null,null,"Une stratégie visant à renforcer les capacités pour la détection, la confirmation et la réponse aux cas suspects et à l'apparition de foyers épidémiques, ainsi que pour l'utilisation des informations afin de prédire et de planifier les événements de santé publique.",null,null,null,null,null,null,null,null,{"$f":"INDEX(Backbone!$R$2:$R$893,MATCH(I35,Backbone!$A$2:$A$893,0))","v":"Document d'orientation"},null,null,null,{"$f":"INDEX(Backbone!$S$2:$S$893,MATCH(I35,Backbone!$A$2:$A$893,0))","v":"Spécifique du secteur; Généralisée"},null,null,null,{"$f":"INDEX(Backbone!$H$2:$H$893,MATCH(I35,Backbone!$A$2:$A$893,0))","v":7.4},null,{"$f":"INDEX(Backbone!$I$2:$I$893,MATCH(I35,Backbone!$A$2:$A$893,0))","v":10},null,{"$f":"INDEX(Backbone!$J$2:$J$893,MATCH(I35,Backbone!$A$2:$A$893,0))","v":7.4},null,{"$f":"INDEX(Backbone!$K$1:$K$893,MATCH(I35,Backbone!$A$1:$A$893,0))","v":8.6999999999999993},null,{"$f":"INDEX(Backbone!$L$2:$L$893,MATCH(I35,Backbone!$A$2:$A$893,0))","v":6.7},null,{"$f":"INDEX(Backbone!$M$2:$M$893,MATCH(I35,Backbone!$A$2:$A$893,0))","v":4.5},null,{"$f":"INDEX(Backbone!$N$2:$N$893,MATCH(I35,Backbone!$A$2:$A$893,0))","v":8},null,{"$f":"INDEX(Backbone!$O$2:$O$893,MATCH(I35,Backbone!$A$2:$A$893,0))","v":7.2},null,{"$f":"INDEX(Backbone!$P$2:$P$893,MATCH(I35,Backbone!$A$2:$A$893,0))","v":8.5},null,{"$f":"INDEX(Backbone!$Q$2:$Q$893,MATCH(I35,Backbone!$A$2:$A$893,0))","v":0.76},null,null,{"$f":"(AG35*$AG$22+AI35*$AI$22+AK35*$AK$22+AM35*$AM$22+AO35*$AO$22+AQ35*$AQ$22+AS35*$AS$22+AU35*$AU$22+AW35*$AW$22)/(SUM($AG$22:$AW$22)*10)","v":{"$error":"#DIV/0!"}},null,null,"Aller à \nBoîte à outils: ",null,{"$f":"HYPERLINK(\"#\"&ADDRESS(MATCH(I35,Toolbox!$C$1:$C$300),1,,,\"Toolbox\"),VLOOKUP(I35,Toolbox!$C$1:$C$300,1,FALSE))","v":"Surveillance intégrée de la maladie et la riposte (IDSR)"}]
[]
[]
[]
[]
[]
[]
[null,null,null,"Autres ressources intéressantes",null,null,null,null,{"$f":"Backbone!A155","v":"Initiative de veille épidémique à sources ouvertes (EIOS)"},null,null,null,null,null,null,"L'initiative EIOS est le fruit d'une collaboration unique entre l'OMS et plusieurs parties prenantes qui regroupe des initiatives, des réseaux et des systèmes, nouveaux et existants, afin de créer une approche «Une seule santé» unifiée pour tous les dangers visant à la détection précoce, la vérification et l'évaluation des risques et des menaces pour la santé publique à partir d'informations d'exploitation libre.",null,null,null,null,null,null,null,null,{"$f":"INDEX(Backbone!$R$2:$R$893,MATCH(I42,Backbone!$A$2:$A$893,0))","v":"Matériel ou logiciel"},null,null,null,{"$f":"INDEX(Backbone!$S$2:$S$893,MATCH(I42,Backbone!$A$2:$A$893,0))","v":"«Une seule santé»; Généralisée"},null,null,null,{"$f":"INDEX(Backbone!$H$2:$H$893,MATCH(I42,Backbone!$A$2:$A$893,0))","v":8.4},null,{"$f":"INDEX(Backbone!$I$2:$I$893,MATCH(I42,Backbone!$A$2:$A$893,0))","v":9},null,{"$f":"INDEX(Backbone!$J$2:$J$893,MATCH(I42,Backbone!$A$2:$A$893,0))","v":7.4},null,{"$f":"INDEX(Backbone!$K$1:$K$893,MATCH(I42,Backbone!$A$1:$A$893,0))","v":9},null,{"$f":"INDEX(Backbone!$L$2:$L$893,MATCH(I42,Backbone!$A$2:$A$893,0))","v":8.8000000000000007},null,{"$f":"INDEX(Backbone!$M$2:$M$893,MATCH(I42,Backbone!$A$2:$A$893,0))","v":8},null,{"$f":"INDEX(Backbone!$N$2:$N$893,MATCH(I42,Backbone!$A$2:$A$893,0))","v":5.5},null,{"$f":"INDEX(Backbone!$O$2:$O$893,MATCH(I42,Backbone!$A$2:$A$893,0))","v":9.1999999999999993},null,{"$f":"INDEX(Backbone!$P$2:$P$893,MATCH(I42,Backbone!$A$2:$A$893,0))","v":6},null,{"$f":"INDEX(Backbone!$Q$2:$Q$893,MATCH(I42,Backbone!$A$2:$A$893,0))","v":0.79222222222222216},null,null,{"$f":"(AG42*$AG$22+AI42*$AI$22+AK42*$AK$22+AM42*$AM$22+AO42*$AO$22+AQ42*$AQ$22+AS42*$AS$22+AU42*$AU$22+AW42*$AW$22)/(SUM($AG$22:$AW$22)*10)","v":{"$error":"#DIV/0!"}},null,null,"Aller à \nBoîte à outils: ",null,{"$f":"HYPERLINK(\"#\"&ADDRESS(MATCH(I42,Toolbox!$C$1:$C$300),1,,,\"Toolbox\"),VLOOKUP(I42,Toolbox!$C$1:$C$300,1,FALSE))","v":"Initiative de veille épidémique à sources ouvertes (EIOS)"}]
[]
[]
[]
[]
[]
[null,null,null,null,null,null,null,null,{"$f":"Backbone!A166","v":"EMPRES Système mondial d'information sur les maladies animales (EMPRES-i)"},null,null,null,null,null,null,"Un système d'information sécurisé en ligne pour aider les services vétérinaires au niveau des pays en leur fournissant une base de données de référence sur les maladies animales, y compris les zoonoses, à l'échelon régional et mondial.",null,null,null,null,null,null,null,null,{"$f":"INDEX(Backbone!$R$2:$R$893,MATCH(I48,Backbone!$A$2:$A$893,0))","v":"Matériel ou logiciel"},null,null,null,{"$f":"INDEX(Backbone!$S$2:$S$893,MATCH(I48,Backbone!$A$2:$A$893,0))","v":"Spécifique du secteur; Généralisée"},null,null,null,{"$f":"INDEX(Backbone!$H$2:$H$893,MATCH(I48,Backbone!$A$2:$A$893,0))","v":9},null,{"$f":"INDEX(Backbone!$I$2:$I$893,MATCH(I48,Backbone!$A$2:$A$893,0))","v":8.3000000000000007},null,{"$f":"INDEX(Backbone!$J$2:$J$893,MATCH(I48,Backbone!$A$2:$A$893,0))","v":8.9},null,{"$f":"INDEX(Backbone!$K$1:$K$893,MATCH(I48,Backbone!$A$1:$A$893,0))","v":8.6999999999999993},null,{"$f":"INDEX(Backbone!$L$2:$L$893,MATCH(I48,Backbone!$A$2:$A$893,0))","v":8},null,{"$f":"INDEX(Backbone!$M$2:$M$893,MATCH(I48,Backbone!$A$2:$A$893,0))","v":7.8},null,{"$f":"INDEX(Backbone!$N$2:$N$893,MATCH(I48,Backbone!$A$2:$A$893,0))","v":7.4},null,{"$f":"INDEX(Backbone!$O$2:$O$893,MATCH(I48,Backbone!$A$2:$A$893,0))","v":4.8},null,{"$f":"INDEX(Backbone!$P$2:$P$893,MATCH(I48,Backbone!$A$2:$A$893,0))","v":4.7},null,{"$f":"INDEX(Backbone!$Q$2:$Q$893,MATCH(I48,Backbone!$A$2:$A$893,0))","v":0.75111111111111106},null,null,{"$f":"(AG48*$AG$22+AI48*$AI$22+AK48*$AK$22+AM48*$AM$22+AO48*$AO$22+AQ48*$AQ$22+AS48*$AS$22+AU48*$AU$22+AW48*$AW$22)/(SUM($AG$22:$AW$22)*10)","v":{"$error":"#DIV/0!"}},null,null,"Aller à \nBoîte à outils: ",null,{"$f":"HYPERLINK(\"#\"&ADDRESS(MATCH(I48,Toolbox!$C$1:$C$300),1,,,\"Toolbox\"),VLOOKUP(I48,Toolbox!$C$1:$C$300,1,FALSE))","v":"EMPRES Système mondial d'information sur les maladies animales (EMPRES-i)"}]
[]
[]
[]
[]
[]
[null,null,null,null,null,null,null,null,{"$f":"Backbone!A604","v":"Application de suivi des expositions et des cas de rage (REACT)"},null,null,null,null,null,null,"Un outil visant à soutenir la mise en œuvre de programmes de gestion intégrée des cas de morsures.",null,null,null,null,null,null,null,null,{"$f":"INDEX(Backbone!$R$2:$R$893,MATCH(I54,Backbone!$A$2:$A$893,0))","v":"Matériel ou logiciel"},null,null,null,{"$f":"INDEX(Backbone!$S$2:$S$893,MATCH(I54,Backbone!$A$2:$A$893,0))","v":"«Une seule santé»; spécifique d'une maladie/menace "},null,null,null,{"$f":"INDEX(Backbone!$H$2:$H$893,MATCH(I54,Backbone!$A$2:$A$893,0))","v":8.6},null,{"$f":"INDEX(Backbone!$I$2:$I$893,MATCH(I54,Backbone!$A$2:$A$893,0))","v":8.6},null,{"$f":"INDEX(Backbone!$J$2:$J$893,MATCH(I54,Backbone!$A$2:$A$893,0))","v":8},null,{"$f":"INDEX(Backbone!$K$1:$K$893,MATCH(I54,Backbone!$A$1:$A$893,0))","v":8.6},null,{"$f":"INDEX(Backbone!$L$2:$L$893,MATCH(I54,Backbone!$A$2:$A$893,0))","v":9.4},null,{"$f":"INDEX(Backbone!$M$2:$M$893,MATCH(I54,Backbone!$A$2:$A$893,0))","v":9.5},null,{"$f":"INDEX(Backbone!$N$2:$N$893,MATCH(I54,Backbone!$A$2:$A$893,0))","v":9},null,{"$f":"INDEX(Backbone!$O$2:$O$893,MATCH(I54,Backbone!$A$2:$A$893,0))","v":9.1999999999999993},null,{"$f":"INDEX(Backbone!$P$2:$P$893,MATCH(I54,Backbone!$A$2:$A$893,0))","v":9},null,{"$f":"INDEX(Backbone!$Q$2:$Q$893,MATCH(I54,Backbone!$A$2:$A$893,0))","v":0.88777777777777767},null,null,{"$f":"(AG54*$AG$22+AI54*$AI$22+AK54*$AK$22+AM54*$AM$22+AO54*$AO$22+AQ54*$AQ$22+AS54*$AS$22+AU54*$AU$22+AW54*$AW$22)/(SUM($AG$22:$AW$22)*10)","v":{"$error":"#DIV/0!"}},null,null,"Aller à \nBoîte à outils: ",null,{"$f":"HYPERLINK(\"#\"&ADDRESS(MATCH(I54,Toolbox!$C$1:$C$300),1,,,\"Toolbox\"),VLOOKUP(I54,Toolbox!$C$1:$C$300,1,FALSE))","v":"Application de suivi des expositions et des cas de rage (REACT)"}]
[]
[]
[]
[]
[]
[]
[]
[]
[]
[]
[]
[]
[]
[]
[]
[]
[]
[]
[]
[]
[]
[]
[]
[null,null,null,null,null,null,null,null,null,null,null,null,null,null,null,null,null,null,null,null,null,null,null,null,null,null,null,null,null,null,null,null,"Accessibilité",null,"Langue",null,"Facilité d'utilisation",null,"Flexibilité",null,"Besoins de données",null,"Analyse des données",null,"Acceptabilité",null,"«Une seule santé»",null,"Impact"]
[]
[]
[]
[]
[]
[]
[null,null,null,null,null,null,null,null,null,null,null,null,null,null,null,null,null,null,null,null,null,null,null,null,null,null,null,null,null,null,null,null,null,null,null,null,null,null,null,null,null,null,null,null,null,null,null,null,null,null,"SCORE BRUT",null,null,"SCORE AJUSTÉ \n(Selon les préférences de l'utilisateur)"]
[]
[]
[]
[null,"RESSOURCES DE NIVEAU 2",null,"DÉSIGNATION",null,null,null,null,"NOM DE LA RESSOURCE",null,null,null,null,null,null,"BRÈVE DESCRIPTION",null,null,null,null,null,null,null,null,"TYPE DE RESSOURCE",null,null,null,"CARACTÈRE GÉNÉRAL DE LA RESSOURCE"]
[]
[]
[]
[null,null,null,null,null,null,null,null,null,null,null,null,null,null,null,null,null,null,null,null,null,null,null,null,null,null,null,null,null,null,null,null,{"$f":"'Attribute Survey'!S211","v":0},null,{"$f":"'Attribute Survey'!S215","v":0},null,{"$f":"'Attribute Survey'!S219","v":0},null,{"$f":"'Attribute Survey'!S223","v":0},null,{"$f":"'Attribute Survey'!S227","v":0},null,{"$f":"'Attribute Survey'!S231","v":0},null,{"$f":"'Attribute Survey'!S235","v":0},null,{"$f":"'Attribute Survey'!S239","v":0},null,{"$f":"'Attribute Survey'!S243","v":0}]
[null,null,null,"Ressources les mieux adaptées",null,null,null,null,{"$f":"Backbone!A65","v":"Logiciel d'information de santé au niveau des districts 2 (DHIS2) "},null,null,null,null,null,null,"Une plateforme d'exploitation libre en ligne pour les systèmes d'information sanitaire.",null,null,null,null,null,null,null,null,{"$f":"INDEX(Backbone!$R$2:$R$893,MATCH(I94,Backbone!$A$2:$A$893,0))","v":"Matériel ou logiciel"},null,null,null,{"$f":"INDEX(Backbone!$S$2:$S$893,MATCH(I94,Backbone!$A$2:$A$893,0))","v":"Spécifique du secteur; Généralisée"},null,null,null,{"$f":"INDEX(Backbone!$H$2:$H$893,MATCH(I94,Backbone!$A$2:$A$893,0))","v":8.8000000000000007},null,{"$f":"INDEX(Backbone!$I$2:$I$893,MATCH(I94,Backbone!$A$2:$A$893,0))","v":8.6999999999999993},null,{"$f":"INDEX(Backbone!$J$2:$J$893,MATCH(I94,Backbone!$A$2:$A$893,0))","v":8},null,{"$f":"INDEX(Backbone!$K$2:$K$893,MATCH(I94,Backbone!$A$2:$A$893,0))","v":8.6999999999999993},null,{"$f":"INDEX(Backbone!$L$2:$L$893,MATCH(I94,Backbone!$A$2:$A$893,0))","v":9.3000000000000007},null,{"$f":"INDEX(Backbone!$M$2:$M$893,MATCH(I94,Backbone!$A$2:$A$893,0))","v":9},null,{"$f":"INDEX(Backbone!$N$2:$N$893,MATCH(I94,Backbone!$A$2:$A$893,0))","v":10},null,{"$f":"INDEX(Backbone!$O$2:$O$893,MATCH(I94,Backbone!$A$2:$A$893,0))","v":7.8},null,{"$f":"INDEX(Backbone!$P$2:$P$893,MATCH(I94,Backbone!$A$2:$A$893,0))","v":7},null,{"$f":"INDEX(Backbone!$Q$2:$Q$893,MATCH(I94,Backbone!$A$2:$A$893,0))","v":0.85888888888888881},null,null,{"$f":"(AG94*$AG$22+AI94*$AI$22+AK94*$AK$22+AM94*$AM$22+AO94*$AO$22+AQ94*$AQ$22+AS94*$AS$22+AU94*$AU$22+AW94*$AW$22)/(SUM($AG$22:$AW$22)*10)","v":{"$error":"#DIV/0!"}},null,null,"Aller à \nBoîte à outils: ",null,{"$f":"HYPERLINK(\"#\"&ADDRESS(MATCH(I94,Toolbox!$C$1:$C$300),1,,,\"Toolbox\"),VLOOKUP(I94,Toolbox!$C$1:$C$300,1,FALSE))","v":"Logiciel d'information de santé au niveau des districts 2 (DHIS2) "}]
[]
[]
[]
[]
[]
[null,null,null,null,null,null,null,null,{"$f":"Backbone!A195","v":"Surveillance intégrée de la maladie et la riposte (IDSR)"},null,null,null,null,null,null,"Une stratégie visant à renforcer les capacités pour la détection, la confirmation et la réponse aux cas suspects et à l'apparition de foyers épidémiques, ainsi que pour l'utilisation des informations afin de prédire et de planifier les événements de santé publique.",null,null,null,null,null,null,null,null,{"$f":"INDEX(Backbone!$R$2:$R$893,MATCH(I100,Backbone!$A$2:$A$893,0))","v":"Document d'orientation"},null,null,null,{"$f":"INDEX(Backbone!$S$2:$S$893,MATCH(I100,Backbone!$A$2:$A$893,0))","v":"Spécifique du secteur; Généralisée"},null,null,null,{"$f":"INDEX(Backbone!$H$2:$H$893,MATCH(I100,Backbone!$A$2:$A$893,0))","v":7.4},null,{"$f":"INDEX(Backbone!$I$2:$I$893,MATCH(I100,Backbone!$A$2:$A$893,0))","v":10},null,{"$f":"INDEX(Backbone!$J$2:$J$893,MATCH(I100,Backbone!$A$2:$A$893,0))","v":7.4},null,{"$f":"INDEX(Backbone!$K$1:$K$893,MATCH(I100,Backbone!$A$1:$A$893,0))","v":8.6999999999999993},null,{"$f":"INDEX(Backbone!$L$2:$L$893,MATCH(I100,Backbone!$A$2:$A$893,0))","v":6.7},null,{"$f":"INDEX(Backbone!$M$2:$M$893,MATCH(I100,Backbone!$A$2:$A$893,0))","v":4.5},null,{"$f":"INDEX(Backbone!$N$2:$N$893,MATCH(I100,Backbone!$A$2:$A$893,0))","v":8},null,{"$f":"INDEX(Backbone!$O$2:$O$893,MATCH(I100,Backbone!$A$2:$A$893,0))","v":7.2},null,{"$f":"INDEX(Backbone!$P$2:$P$893,MATCH(I100,Backbone!$A$2:$A$893,0))","v":8.5},null,{"$f":"INDEX(Backbone!$Q$2:$Q$893,MATCH(I100,Backbone!$A$2:$A$893,0))","v":0.76},null,null,{"$f":"(AG100*$AG$22+AI100*$AI$22+AK100*$AK$22+AM100*$AM$22+AO100*$AO$22+AQ100*$AQ$22+AS100*$AS$22+AU100*$AU$22+AW100*$AW$22)/(SUM($AG$22:$AW$22)*10)","v":{"$error":"#DIV/0!"}},null,null,"Aller à \nBoîte à outils: ",null,{"$f":"HYPERLINK(\"#\"&ADDRESS(MATCH(I100,Toolbox!$C$1:$C$300),1,,,\"Toolbox\"),VLOOKUP(I100,Toolbox!$C$1:$C$300,1,FALSE))","v":"Surveillance intégrée de la maladie et la riposte (IDSR)"}]
[]
[]
[]
[]
[]
[]
[null,null,null,"Autres ressources intéressantes",null,null,null,null,{"$f":"Backbone!A155","v":"Initiative de veille épidémique à sources ouvertes (EIOS)"},null,null,null,null,null,null,"L'initiative EIOS est le fruit d'une collaboration unique entre l'OMS et plusieurs parties prenantes qui regroupe des initiatives, des réseaux et des systèmes, nouveaux et existants, afin de créer une approche «Une seule santé» unifiée pour tous les dangers visant à la détection précoce, la vérification et l'évaluation des risques et des menaces pour la santé publique à partir d'informations d'exploitation libre.",null,null,null,null,null,null,null,null,{"$f":"INDEX(Backbone!$R$2:$R$893,MATCH(I107,Backbone!$A$2:$A$893,0))","v":"Matériel ou logiciel"},null,null,null,{"$f":"INDEX(Backbone!$S$2:$S$893,MATCH(I107,Backbone!$A$2:$A$893,0))","v":"«Une seule santé»; Généralisée"},null,null,null,{"$f":"INDEX(Backbone!$H$2:$H$893,MATCH(I107,Backbone!$A$2:$A$893,0))","v":8.4},null,{"$f":"INDEX(Backbone!$I$2:$I$893,MATCH(I107,Backbone!$A$2:$A$893,0))","v":9},null,{"$f":"INDEX(Backbone!$J$2:$J$893,MATCH(I107,Backbone!$A$2:$A$893,0))","v":7.4},null,{"$f":"INDEX(Backbone!$K$1:$K$893,MATCH(I107,Backbone!$A$1:$A$893,0))","v":9},null,{"$f":"INDEX(Backbone!$L$2:$L$893,MATCH(I107,Backbone!$A$2:$A$893,0))","v":8.8000000000000007},null,{"$f":"INDEX(Backbone!$M$2:$M$893,MATCH(I107,Backbone!$A$2:$A$893,0))","v":8},null,{"$f":"INDEX(Backbone!$N$2:$N$893,MATCH(I107,Backbone!$A$2:$A$893,0))","v":5.5},null,{"$f":"INDEX(Backbone!$O$2:$O$893,MATCH(I107,Backbone!$A$2:$A$893,0))","v":9.1999999999999993},null,{"$f":"INDEX(Backbone!$P$2:$P$893,MATCH(I107,Backbone!$A$2:$A$893,0))","v":6},null,{"$f":"INDEX(Backbone!$Q$2:$Q$893,MATCH(I107,Backbone!$A$2:$A$893,0))","v":0.79222222222222216},null,null,{"$f":"(AG107*$AG$22+AI107*$AI$22+AK107*$AK$22+AM107*$AM$22+AO107*$AO$22+AQ107*$AQ$22+AS107*$AS$22+AU107*$AU$22+AW107*$AW$22)/(SUM($AG$22:$AW$22)*10)","v":{"$error":"#DIV/0!"}},null,null,"Aller à \nBoîte à outils: ",null,{"$f":"HYPERLINK(\"#\"&ADDRESS(MATCH(I107,Toolbox!$C$1:$C$300),1,,,\"Toolbox\"),VLOOKUP(I107,Toolbox!$C$1:$C$300,1,FALSE))","v":"Initiative de veille épidémique à sources ouvertes (EIOS)"}]
[]
[]
[]
[]
[]
[null,null,null,null,null,null,null,null,{"$f":"Backbone!A604","v":"Application de suivi des expositions et des cas de rage (REACT)"},null,null,null,null,null,null,"Un outil visant à soutenir la mise en œuvre de programmes de gestion intégrée des cas de morsures.",null,null,null,null,null,null,null,null,{"$f":"INDEX(Backbone!$R$2:$R$893,MATCH(I113,Backbone!$A$2:$A$893,0))","v":"Matériel ou logiciel"},null,null,null,{"$f":"INDEX(Backbone!$S$2:$S$893,MATCH(I113,Backbone!$A$2:$A$893,0))","v":"«Une seule santé»; spécifique d'une maladie/menace "},null,null,null,{"$f":"INDEX(Backbone!$H$2:$H$893,MATCH(I113,Backbone!$A$2:$A$893,0))","v":8.6},null,{"$f":"INDEX(Backbone!$I$2:$I$893,MATCH(I113,Backbone!$A$2:$A$893,0))","v":8.6},null,{"$f":"INDEX(Backbone!$J$2:$J$893,MATCH(I113,Backbone!$A$2:$A$893,0))","v":8},null,{"$f":"INDEX(Backbone!$K$1:$K$893,MATCH(I113,Backbone!$A$1:$A$893,0))","v":8.6},null,{"$f":"INDEX(Backbone!$L$2:$L$893,MATCH(I113,Backbone!$A$2:$A$893,0))","v":9.4},null,{"$f":"INDEX(Backbone!$M$2:$M$893,MATCH(I113,Backbone!$A$2:$A$893,0))","v":9.5},null,{"$f":"INDEX(Backbone!$N$2:$N$893,MATCH(I113,Backbone!$A$2:$A$893,0))","v":9},null,{"$f":"INDEX(Backbone!$O$2:$O$893,MATCH(I113,Backbone!$A$2:$A$893,0))","v":9.1999999999999993},null,{"$f":"INDEX(Backbone!$P$2:$P$893,MATCH(I113,Backbone!$A$2:$A$893,0))","v":9},null,{"$f":"INDEX(Backbone!$Q$2:$Q$893,MATCH(I113,Backbone!$A$2:$A$893,0))","v":0.88777777777777767},null,null,{"$f":"(AG113*$AG$22+AI113*$AI$22+AK113*$AK$22+AM113*$AM$22+AO113*$AO$22+AQ113*$AQ$22+AS113*$AS$22+AU113*$AU$22+AW113*$AW$22)/(SUM($AG$22:$AW$22)*10)","v":{"$error":"#DIV/0!"}},null,null,"Aller à \nBoîte à outils: ",null,{"$f":"HYPERLINK(\"#\"&ADDRESS(MATCH(I113,Toolbox!$C$1:$C$300),1,,,\"Toolbox\"),VLOOKUP(I113,Toolbox!$C$1:$C$300,1,FALSE))","v":"Application de suivi des expositions et des cas de rage (REACT)"}]
[]
[]
[]
[]
[]
[]
[]
[]
[]
[]
[]
[]
[]
[]
[]
[]
[]
[]
[]
[]
[]
[]
[]
[null,null,null,null,null,null,null,null,null,null,null,null,null,null,null,null,null,null,null,null,null,null,null,null,null,null,null,null,null,null,null,null,"Accessibilité",null,"Langue",null,"Facilité d'utilisation",null,"Flexibilité",null,"Besoins de données",null,"Analyse des données",null,"Acceptabilité",null,"«Une seule santé»",null,"Impact"]
[]
[]
[]
[]
[]
[]
[null,null,null,null,null,null,null,null,null,null,null,null,null,null,null,null,null,null,null,null,null,null,null,null,null,null,null,null,null,null,null,null,null,null,null,null,null,null,null,null,null,null,null,null,null,null,null,null,null,null,"SCORE BRUT",null,null,"SCORE AJUSTÉ \n(Selon les préférences de l'utilisateur)"]
[]
[]
[null,"RESSOURCES DE NIVEAU 3"]
[null,null,null,"DÉSIGNATION",null,null,null,null,"NOM DE LA RESSOURCE",null,null,null,null,null,null,"BRÈVE DESCRIPTION",null,null,null,null,null,null,null,null,"TYPE DE RESSOURCE",null,null,null,"CARACTÈRE GÉNÉRAL DE LA RESSOURCE"]
[]
[]
[]
[null,null,null,null,null,null,null,null,null,null,null,null,null,null,null,null,null,null,null,null,null,null,null,null,null,null,null,null,null,null,null,null,{"$f":"'Attribute Survey'!S294","v":0},null,{"$f":"'Attribute Survey'!S298","v":0},null,{"$f":"'Attribute Survey'!S302","v":0},null,{"$f":"'Attribute Survey'!S306","v":0},null,{"$f":"'Attribute Survey'!S310","v":0},null,{"$f":"'Attribute Survey'!S314","v":0},null,{"$f":"'Attribute Survey'!S318","v":0},null,{"$f":"'Attribute Survey'!S322","v":0},null,{"$f":"'Attribute Survey'!S326","v":0}]
[null,null,null,"Ressources les mieux adaptées",null,null,null,null,{"$f":"Backbone!A195","v":"Surveillance intégrée de la maladie et la riposte (IDSR)"},null,null,null,null,null,null,"Une stratégie visant à renforcer les capacités pour la détection, la confirmation et la réponse aux cas suspects et à l'apparition de foyers épidémiques, ainsi que pour l'utilisation des informations afin de prédire et de planifier les événements de santé publique.",null,null,null,null,null,null,null,null,{"$f":"INDEX(Backbone!$R$2:$R$893,MATCH(I153,Backbone!$A$2:$A$893,0))","v":"Document d'orientation"},null,null,null,{"$f":"INDEX(Backbone!$S$2:$S$893,MATCH(I153,Backbone!$A$2:$A$893,0))","v":"Spécifique du secteur; Généralisée"},null,null,null,{"$f":"INDEX(Backbone!$H$2:$H$893,MATCH(I153,Backbone!$A$2:$A$893,0))","v":7.4},null,{"$f":"INDEX(Backbone!$I$2:$I$893,MATCH(I153,Backbone!$A$2:$A$893,0))","v":10},null,{"$f":"INDEX(Backbone!$J$2:$J$893,MATCH(I153,Backbone!$A$2:$A$893,0))","v":7.4},null,{"$f":"INDEX(Backbone!$K$2:$K$893,MATCH(I153,Backbone!$A$2:$A$893,0))","v":8.6999999999999993},null,{"$f":"INDEX(Backbone!$L$2:$L$893,MATCH(I153,Backbone!$A$2:$A$893,0))","v":6.7},null,{"$f":"INDEX(Backbone!$M$2:$M$893,MATCH(I153,Backbone!$A$2:$A$893,0))","v":4.5},null,{"$f":"INDEX(Backbone!$N$2:$N$893,MATCH(I153,Backbone!$A$2:$A$893,0))","v":8},null,{"$f":"INDEX(Backbone!$O$2:$O$893,MATCH(I153,Backbone!$A$2:$A$893,0))","v":7.2},null,{"$f":"INDEX(Backbone!$P$2:$P$893,MATCH(I153,Backbone!$A$2:$A$893,0))","v":8.5},null,{"$f":"INDEX(Backbone!$Q$2:$Q$893,MATCH(I153,Backbone!$A$2:$A$893,0))","v":0.76},null,null,{"$f":"(AG153*$AG$22+AI153*$AI$22+AK153*$AK$22+AM153*$AM$22+AO153*$AO$22+AQ153*$AQ$22+AS153*$AS$22+AU153*$AU$22+AW153*$AW$22)/(SUM($AG$22:$AW$22)*10)","v":{"$error":"#DIV/0!"}},null,null,"Aller à \nBoîte à outils: ",null,{"$f":"HYPERLINK(\"#\"&ADDRESS(MATCH(I153,Toolbox!$C$1:$C$300),1,,,\"Toolbox\"),VLOOKUP(I153,Toolbox!$C$1:$C$300,1,FALSE))","v":"Surveillance intégrée de la maladie et la riposte (IDSR)"}]
[]
[]
[]
[]
[]
[]
[null,null,null,"Autres ressources intéressantes",null,null,null,null,{"$f":"Backbone!A65","v":"Logiciel d'information de santé au niveau des districts 2 (DHIS2) "},null,null,null,null,null,null,"Une plateforme d'exploitation libre en ligne pour les systèmes d'information sanitaire.",null,null,null,null,null,null,null,null,{"$f":"INDEX(Backbone!$R$2:$R$893,MATCH(I160,Backbone!$A$2:$A$893,0))","v":"Matériel ou logiciel"},null,null,null,{"$f":"INDEX(Backbone!$S$2:$S$893,MATCH(I160,Backbone!$A$2:$A$893,0))","v":"Spécifique du secteur; Généralisée"},null,null,null,{"$f":"INDEX(Backbone!$H$2:$H$893,MATCH(I160,Backbone!$A$2:$A$893,0))","v":8.8000000000000007},null,{"$f":"INDEX(Backbone!$I$2:$I$893,MATCH(I160,Backbone!$A$2:$A$893,0))","v":8.6999999999999993},null,{"$f":"INDEX(Backbone!$J$2:$J$893,MATCH(I160,Backbone!$A$2:$A$893,0))","v":8},null,{"$f":"INDEX(Backbone!$K$1:$K$893,MATCH(I160,Backbone!$A$1:$A$893,0))","v":8.6999999999999993},null,{"$f":"INDEX(Backbone!$L$2:$L$893,MATCH(I160,Backbone!$A$2:$A$893,0))","v":9.3000000000000007},null,{"$f":"INDEX(Backbone!$M$2:$M$893,MATCH(I160,Backbone!$A$2:$A$893,0))","v":9},null,{"$f":"INDEX(Backbone!$N$2:$N$893,MATCH(I160,Backbone!$A$2:$A$893,0))","v":10},null,{"$f":"INDEX(Backbone!$O$2:$O$893,MATCH(I160,Backbone!$A$2:$A$893,0))","v":7.8},null,{"$f":"INDEX(Backbone!$P$2:$P$893,MATCH(I160,Backbone!$A$2:$A$893,0))","v":7},null,{"$f":"INDEX(Backbone!$Q$2:$Q$893,MATCH(I160,Backbone!$A$2:$A$893,0))","v":0.85888888888888881},null,null,{"$f":"(AG160*$AG$22+AI160*$AI$22+AK160*$AK$22+AM160*$AM$22+AO160*$AO$22+AQ160*$AQ$22+AS160*$AS$22+AU160*$AU$22+AW160*$AW$22)/(SUM($AG$22:$AW$22)*10)","v":{"$error":"#DIV/0!"}},null,null,"Aller à \nBoîte à outils: ",null,{"$f":"HYPERLINK(\"#\"&ADDRESS(MATCH(I160,Toolbox!$C$1:$C$300),1,,,\"Toolbox\"),VLOOKUP(I160,Toolbox!$C$1:$C$300,1,FALSE))","v":"Logiciel d'information de santé au niveau des districts 2 (DHIS2) "}]
[]
[]
[]
[]
[]
[null,null,null,null,null,null,null,null,{"$f":"Backbone!A155","v":"Initiative de veille épidémique à sources ouvertes (EIOS)"},null,null,null,null,null,null,"L'initiative EIOS est le fruit d'une collaboration unique entre l'OMS et plusieurs parties prenantes qui regroupe des initiatives, des réseaux et des systèmes, nouveaux et existants, afin de créer une approche «Une seule santé» unifiée pour tous les dangers visant à la détection précoce, la vérification et l'évaluation des risques et des menaces pour la santé publique à partir d'informations d'exploitation libre.",null,null,null,null,null,null,null,null,{"$f":"INDEX(Backbone!$R$2:$R$893,MATCH(I166,Backbone!$A$2:$A$893,0))","v":"Matériel ou logiciel"},null,null,null,{"$f":"INDEX(Backbone!$S$2:$S$893,MATCH(I166,Backbone!$A$2:$A$893,0))","v":"«Une seule santé»; Généralisée"},null,null,null,{"$f":"INDEX(Backbone!$H$2:$H$893,MATCH(I166,Backbone!$A$2:$A$893,0))","v":8.4},null,{"$f":"INDEX(Backbone!$I$2:$I$893,MATCH(I166,Backbone!$A$2:$A$893,0))","v":9},null,{"$f":"INDEX(Backbone!$J$2:$J$893,MATCH(I166,Backbone!$A$2:$A$893,0))","v":7.4},null,{"$f":"INDEX(Backbone!$K$1:$K$893,MATCH(I166,Backbone!$A$1:$A$893,0))","v":9},null,{"$f":"INDEX(Backbone!$L$2:$L$893,MATCH(I166,Backbone!$A$2:$A$893,0))","v":8.8000000000000007},null,{"$f":"INDEX(Backbone!$M$2:$M$893,MATCH(I166,Backbone!$A$2:$A$893,0))","v":8},null,{"$f":"INDEX(Backbone!$N$2:$N$893,MATCH(I166,Backbone!$A$2:$A$893,0))","v":5.5},null,{"$f":"INDEX(Backbone!$O$2:$O$893,MATCH(I166,Backbone!$A$2:$A$893,0))","v":9.1999999999999993},null,{"$f":"INDEX(Backbone!$P$2:$P$893,MATCH(I166,Backbone!$A$2:$A$893,0))","v":6},null,{"$f":"INDEX(Backbone!$Q$2:$Q$893,MATCH(I166,Backbone!$A$2:$A$893,0))","v":0.79222222222222216},null,null,{"$f":"(AG166*$AG$22+AI166*$AI$22+AK166*$AK$22+AM166*$AM$22+AO166*$AO$22+AQ166*$AQ$22+AS166*$AS$22+AU166*$AU$22+AW166*$AW$22)/(SUM($AG$22:$AW$22)*10)","v":{"$error":"#DIV/0!"}},null,null,"Aller à \nBoîte à outils: ",null,{"$f":"HYPERLINK(\"#\"&ADDRESS(MATCH(I166,Toolbox!$C$1:$C$300),1,,,\"Toolbox\"),VLOOKUP(I166,Toolbox!$C$1:$C$300,1,FALSE))","v":"Initiative de veille épidémique à sources ouvertes (EIOS)"}]

{"sheet":"I9_tools","index":54,"n_rows":41,"n_cols":59,"rows_kept":41,"cut":false,"hidden":false,"merged":[[40,48,44,48],[40,50,44,51],[40,53,44,54],[40,36,44,36],[40,38,44,38],[40,40,44,40],[40,42,44,42],[40,44,44,44],[40,46,44,46],[40,8,44,13],[40,15,44,22],[40,24,44,26],[40,28,44,30],[40,32,44,32],[34,50,38,51],[34,53,38,54],[28,53,32,54],[34,8,38,13],[34,15,38,22],[34,24,38,26],[34,28,38,30],[34,32,38,32],[34,34,38,34],[34,36,38,36],[34,38,38,38],[34,40,38,40],[28,40,32,40],[28,42,32,42],[28,44,32,44],[28,46,32,46],[28,50,32,51],[22,50,26,51],[22,53,26,54],[28,8,32,13],[28,15,32,22],[28,24,32,26],[28,28,32,30],[28,32,32,32],[28,34,32,34],[28,36,32,36],[28,38,32,38],[22,38,26,38],[22,40,26,40],[22,42,26,42],[22,44,26,44],[34,46,38,46],[22,48,26,48],[22,15,26,22],[22,24,26,26],[22,28,26,30],[22,32,26,32],[22,34,26,34],[22,36,26,36],[28,48,32,48],[34,48,38,48],[6,46,20,46],[6,48,20,48],[13,50,20,51],[13,53,20,54],[17,1,44,1],[17,3,20,6],[17,8,20,13],[17,15,20,22],[17,24,20,26],[17,28,20,30],[22,3,44,6],[22,8,26,13],[22,46,26,46],[40,34,44,34],[34,42,38,42],[34,44,38,44],[34,56,38,57],[34,58,38,62],[40,56,44,57],[40,58,44,62],[1,1,3,62],[22,56,26,57],[22,58,26,62],[28,56,32,57],[28,58,32,62],[6,32,20,32],[6,34,20,34],[6,36,20,36],[6,38,20,38],[6,40,20,40],[6,42,20,42],[6,44,20,44]]}
[]
[null,"Ressources pour la conformité aux exigences internationales en matière de notification"]
[]
[]
[]
[]
[null,null,null,null,null,null,null,null,null,null,null,null,null,null,null,null,null,null,null,null,null,null,null,null,null,null,null,null,null,null,null,null,"Accessibilité",null,"Langue",null,"Facilité d'utilisation",null,"Flexibilité",null,"Besoins de données",null,"Analyse des données",null,"Acceptabilité",null,"«Une seule santé»",null,"Impact"]
[]
[]
[]
[]
[]
[]
[null,null,null,null,null,null,null,null,null,null,null,null,null,null,null,null,null,null,null,null,null,null,null,null,null,null,null,null,null,null,null,null,null,null,null,null,null,null,null,null,null,null,null,null,null,null,null,null,null,null,"SCORE BRUT",null,null,"SCORE AJUSTÉ \n(Selon les préférences de l'utilisateur)"]
[]
[]
[]
[null,"RESSOURCES DE NIVEAU 1",null,"DÉSIGNATION",null,null,null,null,"NOM DE LA RESSOURCE",null,null,null,null,null,null,"BRÈVE DESCRIPTION",null,null,null,null,null,null,null,null,"TYPE DE RESSOURCE",null,null,null,"CARACTÈRE GÉNÉRAL DE LA RESSOURCE"]
[]
[]
[]
[null,null,null,null,null,null,null,null,null,null,null,null,null,null,null,null,null,null,null,null,null,null,null,null,null,null,null,null,null,null,null,null,{"$f":"'Attribute Survey'!S22","v":0},null,{"$f":"'Attribute Survey'!S26","v":0},null,{"$f":"'Attribute Survey'!S30","v":0},null,{"$f":"'Attribute Survey'!S34","v":0},null,{"$f":"'Attribute Survey'!S38","v":0},null,{"$f":"'Attribute Survey'!S42","v":0},null,{"$f":"'Attribute Survey'!S46","v":0},null,{"$f":"'Attribute Survey'!S50","v":0},null,{"$f":"'Attribute Survey'!S54","v":0}]
[null,null,null,"Autres ressources intéressantes",null,null,null,null,{"$f":"Backbone!A163","v":"Event Mobile Application (EMAi)"},null,null,null,null,null,null,"Une application d'établissement de rapports en temps réel utilisée pour collecter des informations de terrain sur les maladies animales, qui génère des rapports géoréférencés transmis à l'interface utilisateur pays à travers le Système mondial d'information sur les maladies animales de la FAO (EMPRES-i).",null,null,null,null,null,null,null,null,{"$f":"INDEX(Backbone!$R$2:$R$893,MATCH(I23,Backbone!$A$2:$A$893,0))","v":"Matériel ou logiciel"},null,null,null,{"$f":"INDEX(Backbone!$S$2:$S$893,MATCH(I23,Backbone!$A$2:$A$893,0))","v":"Spécifique du secteur; Généralisée"},null,null,null,{"$f":"INDEX(Backbone!$H$2:$H$893,MATCH(I23,Backbone!$A$2:$A$893,0))","v":8.9},null,{"$f":"INDEX(Backbone!$I$2:$I$893,MATCH(I23,Backbone!$A$2:$A$893,0))","v":7.7},null,{"$f":"INDEX(Backbone!$J$2:$J$893,MATCH(I23,Backbone!$A$2:$A$893,0))","v":9.1},null,{"$f":"INDEX(Backbone!$K$1:$K$893,MATCH(I23,Backbone!$A$1:$A$893,0))","v":6},null,{"$f":"INDEX(Backbone!$L$2:$L$893,MATCH(I23,Backbone!$A$2:$A$893,0))","v":8.3000000000000007},null,{"$f":"INDEX(Backbone!$M$2:$M$893,MATCH(I23,Backbone!$A$2:$A$893,0))","v":9.3000000000000007},null,{"$f":"INDEX(Backbone!$N$2:$N$893,MATCH(I23,Backbone!$A$2:$A$893,0))","v":6.7},null,{"$f":"INDEX(Backbone!$O$2:$O$893,MATCH(I23,Backbone!$A$2:$A$893,0))","v":4.5},null,{"$f":"INDEX(Backbone!$P$2:$P$893,MATCH(I23,Backbone!$A$2:$A$893,0))","v":5.7},null,{"$f":"INDEX(Backbone!$Q$2:$Q$893,MATCH(I23,Backbone!$A$2:$A$893,0))","v":0.73555555555555563},null,null,{"$f":"(AG23*$AG$22+AI23*$AI$22+AK23*$AK$22+AM23*$AM$22+AO23*$AO$22+AQ23*$AQ$22+AS23*$AS$22+AU23*$AU$22+AW23*$AW$22)/(SUM($AG$22:$AW$22)*10)","v":{"$error":"#DIV/0!"}},null,null,"Aller à \nBoîte à outils: ",null,{"$f":"HYPERLINK(\"#\"&ADDRESS(MATCH(I23,Toolbox!$C$1:$C$300),1,,,\"Toolbox\"),VLOOKUP(I23,Toolbox!$C$1:$C$300,1,FALSE))","v":"Event Mobile Application (EMAi)"}]
[]
[]
[]
[]
[]
[null,null,null,null,null,null,null,null,{"$f":"Backbone!A195","v":"Surveillance intégrée de la maladie et la riposte (IDSR)"},null,null,null,null,null,null,"Une stratégie visant à renforcer les capacités pour la détection, la confirmation et la réponse aux cas suspects et à l'apparition de foyers épidémiques, ainsi que pour l'utilisation des informations afin de prédire et de planifier les événements de santé publique.",null,null,null,null,null,null,null,null,{"$f":"INDEX(Backbone!$R$2:$R$893,MATCH(I29,Backbone!$A$2:$A$893,0))","v":"Document d'orientation"},null,null,null,{"$f":"INDEX(Backbone!$S$2:$S$893,MATCH(I29,Backbone!$A$2:$A$893,0))","v":"Spécifique du secteur; Généralisée"},null,null,null,{"$f":"INDEX(Backbone!$H$2:$H$893,MATCH(I29,Backbone!$A$2:$A$893,0))","v":7.4},null,{"$f":"INDEX(Backbone!$I$2:$I$893,MATCH(I29,Backbone!$A$2:$A$893,0))","v":10},null,{"$f":"INDEX(Backbone!$J$2:$J$893,MATCH(I29,Backbone!$A$2:$A$893,0))","v":7.4},null,{"$f":"INDEX(Backbone!$K$1:$K$893,MATCH(I29,Backbone!$A$1:$A$893,0))","v":8.6999999999999993},null,{"$f":"INDEX(Backbone!$L$2:$L$893,MATCH(I29,Backbone!$A$2:$A$893,0))","v":6.7},null,{"$f":"INDEX(Backbone!$M$2:$M$893,MATCH(I29,Backbone!$A$2:$A$893,0))","v":4.5},null,{"$f":"INDEX(Backbone!$N$2:$N$893,MATCH(I29,Backbone!$A$2:$A$893,0))","v":8},null,{"$f":"INDEX(Backbone!$O$2:$O$893,MATCH(I29,Backbone!$A$2:$A$893,0))","v":7.2},null,{"$f":"INDEX(Backbone!$P$2:$P$893,MATCH(I29,Backbone!$A$2:$A$893,0))","v":8.5},null,{"$f":"INDEX(Backbone!$Q$2:$Q$893,MATCH(I29,Backbone!$A$2:$A$893,0))","v":0.76},null,null,{"$f":"(AG29*$AG$22+AI29*$AI$22+AK29*$AK$22+AM29*$AM$22+AO29*$AO$22+AQ29*$AQ$22+AS29*$AS$22+AU29*$AU$22+AW29*$AW$22)/(SUM($AG$22:$AW$22)*10)","v":{"$error":"#DIV/0!"}},null,null,"Aller à \nBoîte à outils: ",null,{"$f":"HYPERLINK(\"#\"&ADDRESS(MATCH(I29,Toolbox!$C$1:$C$300),1,,,\"Toolbox\"),VLOOKUP(I29,Toolbox!$C$1:$C$300,1,FALSE))","v":"Surveillance intégrée de la maladie et la riposte (IDSR)"}]
[]
[]
[]
[]
[]
[null,null,null,null,null,null,null,null,{"$f":"Backbone!A256","v":"Évaluation externe conjointe (EEC) "},null,null,null,null,null,null,"Le processus d'évaluation externe de la capacité des pays à prévenir, détecter et répondre rapidement aux menaces pour la santé publique, accessible aux États Membres de l'OMS.",null,null,null,null,null,null,null,null,{"$f":"INDEX(Backbone!$R$2:$R$893,MATCH(I35,Backbone!$A$2:$A$893,0))","v":"Outil ou processus dirigé/facilité"},null,null,null,{"$f":"INDEX(Backbone!$S$2:$S$893,MATCH(I35,Backbone!$A$2:$A$893,0))","v":"«Une seule santé»; Généralisée"},null,null,null,{"$f":"INDEX(Backbone!$H$2:$H$893,MATCH(I35,Backbone!$A$2:$A$893,0))","v":8.6999999999999993},null,{"$f":"INDEX(Backbone!$I$2:$I$893,MATCH(I35,Backbone!$A$2:$A$893,0))","v":10},null,{"$f":"INDEX(Backbone!$J$2:$J$893,MATCH(I35,Backbone!$A$2:$A$893,0))","v":7},null,{"$f":"INDEX(Backbone!$K$1:$K$893,MATCH(I35,Backbone!$A$1:$A$893,0))","v":6.3},null,{"$f":"INDEX(Backbone!$L$2:$L$893,MATCH(I35,Backbone!$A$2:$A$893,0))","v":7.7},null,{"$f":"INDEX(Backbone!$M$2:$M$893,MATCH(I35,Backbone!$A$2:$A$893,0))","v":4.7},null,{"$f":"INDEX(Backbone!$N$2:$N$893,MATCH(I35,Backbone!$A$2:$A$893,0))","v":6},null,{"$f":"INDEX(Backbone!$O$2:$O$893,MATCH(I35,Backbone!$A$2:$A$893,0))","v":9.5},null,{"$f":"INDEX(Backbone!$P$2:$P$893,MATCH(I35,Backbone!$A$2:$A$893,0))","v":10},null,{"$f":"INDEX(Backbone!$Q$2:$Q$893,MATCH(I35,Backbone!$A$2:$A$893,0))","v":0.77666666666666673},null,null,{"$f":"(AG35*$AG$22+AI35*$AI$22+AK35*$AK$22+AM35*$AM$22+AO35*$AO$22+AQ35*$AQ$22+AS35*$AS$22+AU35*$AU$22+AW35*$AW$22)/(SUM($AG$22:$AW$22)*10)","v":{"$error":"#DIV/0!"}},null,null,"Aller à \nBoîte à outils: ",null,{"$f":"HYPERLINK(\"#\"&ADDRESS(MATCH(I35,Toolbox!$C$1:$C$300),1,,,\"Toolbox\"),VLOOKUP(I35,Toolbox!$C$1:$C$300,1,FALSE))","v":"Évaluation externe conjointe (EEC) "}]
[]
[]
[]
[]
[]
[null,null,null,null,null,null,null,null,{"$f":"Backbone!A571","v":"Organisation mondiale de la santé animale (OMSA) Application Alerts du Système mondial d'information sanitaire (WAHIS)"},null,null,null,null,null,null,"Application qui permet à ses utilisateurs de recevoir, sur leurs téléphones mobiles ou tablettes, des alertes sanitaires (notifications immédiates) et des rapports de suivi dès qu'ils sont publiés par l'OMSA.",null,null,null,null,null,null,null,null,{"$f":"INDEX(Backbone!$R$2:$R$893,MATCH(I41,Backbone!$A$2:$A$893,0))","v":"Matériel ou logiciel"},null,null,null,{"$f":"INDEX(Backbone!$S$2:$S$893,MATCH(I41,Backbone!$A$2:$A$893,0))","v":"Spécifique du secteur; Généralisée"},null,null,null,{"$f":"INDEX(Backbone!$H$2:$H$893,MATCH(I41,Backbone!$A$2:$A$893,0))","v":9.6999999999999993},null,{"$f":"INDEX(Backbone!$I$2:$I$893,MATCH(I41,Backbone!$A$2:$A$893,0))","v":10},null,{"$f":"INDEX(Backbone!$J$2:$J$893,MATCH(I41,Backbone!$A$2:$A$893,0))","v":8.8000000000000007},null,{"$f":"INDEX(Backbone!$K$1:$K$893,MATCH(I41,Backbone!$A$1:$A$893,0))","v":8.6999999999999993},null,{"$f":"INDEX(Backbone!$L$2:$L$893,MATCH(I41,Backbone!$A$2:$A$893,0))","v":8.3000000000000007},null,{"$f":"INDEX(Backbone!$M$2:$M$893,MATCH(I41,Backbone!$A$2:$A$893,0))","v":5},null,{"$f":"INDEX(Backbone!$N$2:$N$893,MATCH(I41,Backbone!$A$2:$A$893,0))","v":7.5},null,{"$f":"INDEX(Backbone!$O$2:$O$893,MATCH(I41,Backbone!$A$2:$A$893,0))","v":3.3},null,{"$f":"INDEX(Backbone!$P$2:$P$893,MATCH(I41,Backbone!$A$2:$A$893,0))","v":6},null,{"$f":"INDEX(Backbone!$Q$2:$Q$893,MATCH(I41,Backbone!$A$2:$A$893,0))","v":0.74777777777777776},null,null,{"$f":"(AG41*$AG$22+AI41*$AI$22+AK41*$AK$22+AM41*$AM$22+AO41*$AO$22+AQ41*$AQ$22+AS41*$AS$22+AU41*$AU$22+AW41*$AW$22)/(SUM($AG$22:$AW$22)*10)","v":{"$error":"#DIV/0!"}},null,null,"Aller à \nBoîte à outils: ",null,{"$f":"HYPERLINK(\"#\"&ADDRESS(MATCH(I41,Toolbox!$C$1:$C$300),1,,,\"Toolbox\"),VLOOKUP(I41,Toolbox!$C$1:$C$300,1,FALSE))","v":"Organisation mondiale de la santé animale (OMSA) Application Alerts du Système mondial d'information sanitaire (WAHIS)"}]

{"sheet":"I10_tools","index":55,"n_rows":209,"n_cols":59,"rows_kept":209,"cut":false,"hidden":false,"merged":[[34,50,38,51],[40,8,44,13],[40,15,44,22],[40,24,44,26],[40,28,44,30],[40,32,44,32],[40,34,44,34],[40,36,44,36],[40,38,44,38],[40,40,44,40],[208,50,212,51],[208,53,212,54],[34,8,38,13],[34,15,38,22],[34,24,38,26],[34,28,38,30],[34,32,38,32],[34,34,38,34],[34,36,38,36],[34,38,38,38],[208,38,212,38],[208,40,212,40],[208,42,212,42],[208,44,212,44],[208,46,212,46],[208,48,212,48],[201,50,205,51],[201,53,205,54],[201,40,205,40],[201,42,205,42],[201,44,205,44],[201,46,205,46],[201,48,205,48],[195,53,199,54],[208,3,212,6],[208,8,212,13],[208,15,212,22],[208,24,212,26],[208,28,212,30],[208,32,212,32],[208,34,212,34],[208,36,212,36],[201,38,205,38],[201,8,205,13],[201,15,205,22],[201,24,205,26],[201,28,205,30],[201,32,205,32],[201,34,205,34],[201,36,205,36],[195,50,199,51],[189,50,193,51],[189,53,193,54],[195,8,199,13],[195,15,199,22],[195,24,199,26],[195,28,199,30],[195,32,199,32],[195,34,199,34],[195,36,199,36],[195,38,199,38],[189,38,193,38],[189,40,193,40],[189,42,193,42],[189,44,193,44],[189,46,193,46],[189,48,193,48],[189,15,193,22],[189,24,193,26],[189,28,193,30],[189,32,193,32],[189,34,193,34],[189,36,193,36],[180,50,187,51],[180,53,187,54],[184,1,212,1],[184,3,187,6],[184,8,187,13],[184,15,187,22],[184,24,187,26],[184,28,187,30],[189,3,205,6],[189,8,193,13],[173,32,187,32],[173,34,187,34],[173,36,187,36],[173,38,187,38],[173,40,187,40],[173,42,187,42],[173,44,187,44],[173,46,187,46],[173,48,187,48],[195,40,199,40],[195,42,199,42],[195,44,199,44],[195,46,199,46],[195,48,199,48],[142,48,146,48],[142,50,146,51],[142,53,146,54],[148,8,152,13],[148,15,152,22],[148,24,152,26],[148,28,152,30],[148,32,152,32],[148,34,152,34],[142,34,146,34],[142,36,146,36],[142,38,146,38],[142,40,146,40],[142,42,146,42],[142,44,146,44],[148,48,152,48],[148,50,152,51],[148,53,152,54],[148,36,152,36],[148,38,152,38],[148,40,152,40],[148,42,152,42],[148,44,152,44],[148,46,152,46],[142,3,152,6],[142,8,146,13],[142,15,146,22],[142,24,146,26],[142,28,146,30],[142,32,146,32],[135,42,139,42],[135,44,139,44],[135,46,139,46],[117,3,139,6],[142,46,146,46],[135,8,139,13],[135,15,139,22],[135,24,139,26],[135,28,139,30],[135,32,139,32],[135,34,139,34],[135,36,139,36],[135,38,139,38],[135,40,139,40],[117,8,121,13],[117,15,121,22],[117,24,121,26],[117,28,121,30],[123,50,127,51],[123,53,127,54],[123,36,127,36],[123,38,127,38],[123,40,127,40],[123,42,127,42],[123,44,127,44],[123,46,127,46],[135,48,139,48],[135,50,139,51],[135,53,139,54],[129,53,133,54],[129,40,133,40],[129,42,133,42],[129,44,133,44],[129,46,133,46],[129,48,133,48],[129,50,133,51],[117,32,121,32],[129,34,133,34],[129,36,133,36],[129,38,133,38],[123,48,127,48],[129,8,133,13],[129,15,133,22],[129,24,133,26],[129,28,133,30],[129,32,133,32],[123,28,127,30],[123,32,127,32],[123,34,127,34],[117,34,121,34],[117,36,121,36],[117,38,121,38],[117,40,121,40],[117,42,121,42],[117,44,121,44],[101,46,115,46],[101,48,115,48],[108,50,115,51],[108,53,115,54],[112,1,152,1],[112,3,115,6],[112,8,115,13],[112,15,115,22],[112,24,115,26],[112,28,115,30],[101,32,115,32],[101,34,115,34],[101,36,115,36],[101,38,115,38],[101,40,115,40],[101,42,115,42],[101,44,115,44],[117,46,121,46],[117,48,121,48],[117,50,121,51],[117,53,121,54],[123,8,127,13],[123,15,127,22],[123,24,127,26],[77,42,81,42],[77,44,81,44],[77,46,81,46],[77,48,81,48],[77,50,81,51],[77,53,81,54],[71,53,75,54],[77,8,81,13],[77,15,81,22],[77,24,81,26],[77,28,81,30],[77,32,81,32],[77,34,81,34],[77,36,81,36],[77,38,81,38],[77,40,81,40],[71,40,75,40],[71,42,75,42],[71,44,75,44],[71,46,75,46],[71,48,75,48],[71,50,75,51],[58,40,62,40],[58,42,62,42],[58,44,62,44],[58,46,62,46],[58,48,62,48],[65,50,69,51],[65,53,69,54],[71,8,75,13],[71,15,75,22],[71,24,75,26],[71,28,75,30],[71,32,75,32],[71,34,75,34],[71,36,75,36],[71,38,75,38],[65,38,69,38],[65,40,69,40],[65,42,69,42],[65,44,69,44],[65,46,69,46],[65,48,69,48],[65,3,81,6],[65,8,69,13],[65,15,69,22],[65,24,69,26],[65,28,69,30],[65,32,69,32],[65,34,69,34],[65,36,69,36],[58,38,62,38],[52,48,56,48],[52,50,56,51],[52,53,56,54],[58,8,62,13],[58,15,62,22],[58,24,62,26],[58,28,62,30],[58,32,62,32],[58,34,62,34],[58,36,62,36],[52,36,56,36],[52,38,56,38],[52,40,56,40],[52,42,56,42],[52,44,56,44],[52,46,56,46],[52,8,56,13],[52,15,56,22],[52,24,56,26],[52,28,56,30],[52,32,56,32],[52,34,56,34],[58,50,62,51],[58,53,62,54],[46,8,50,13],[46,15,50,22],[46,24,50,26],[46,28,50,30],[46,32,50,32],[46,34,50,34],[46,36,50,36],[46,38,50,38],[46,40,50,40],[22,24,26,26],[22,28,26,30],[22,32,26,32],[22,34,26,34],[22,36,26,36],[46,42,50,42],[46,44,50,44],[46,46,50,46],[46,48,50,48],[28,40,32,40],[28,42,32,42],[28,44,32,44],[28,46,32,46],[28,48,32,48],[40,42,44,42],[40,44,44,44],[40,46,44,46],[40,48,44,48],[34,40,38,40],[34,42,38,42],[34,44,38,44],[34,46,38,46],[34,48,38,48],[17,2,81,2],[17,3,20,6],[17,8,20,13],[17,15,20,22],[17,24,20,26],[17,28,20,30],[22,3,62,6],[22,8,26,13],[22,50,26,51],[28,8,32,13],[28,15,32,22],[28,24,32,26],[28,28,32,30],[28,32,32,32],[28,34,32,34],[28,36,32,36],[28,38,32,38],[22,38,26,38],[22,40,26,40],[22,42,26,42],[22,44,26,44],[22,46,26,46],[22,48,26,48],[22,15,26,22],[34,58,38,62],[40,56,44,57],[40,58,44,62],[46,56,50,57],[46,58,50,62],[6,32,20,32],[6,34,20,34],[6,36,20,36],[6,38,20,38],[6,40,20,40],[6,42,20,42],[6,44,20,44],[6,46,20,46],[6,48,20,48],[13,50,20,51],[13,53,20,54],[22,53,26,54],[46,50,50,51],[46,53,50,54],[28,53,32,54],[28,50,32,51],[40,50,44,51],[40,53,44,54],[34,53,38,54],[208,56,212,57],[208,58,212,62],[117,56,121,57],[117,58,121,62],[123,56,127,57],[123,58,127,62],[129,56,133,57],[129,58,133,62],[135,56,139,57],[135,58,139,62],[142,56,146,57],[142,58,146,62],[1,1,3,62],[148,56,152,57],[148,58,152,62],[189,56,193,57],[189,58,193,62],[195,56,199,57],[195,58,199,62],[201,56,205,57],[201,58,205,62],[52,56,56,57],[52,58,56,62],[58,56,62,57],[58,58,62,62],[65,56,69,57],[65,58,69,62],[71,56,75,57],[71,58,75,62],[77,56,81,57],[77,58,81,62],[22,56,26,57],[22,58,26,62],[28,56,32,57],[28,58,32,62],[34,56,38,57]]}
[]
[null,"Ressources pour la visualisation et l'analyse coordonnées des données"]
[]
[]
[]
[]
[null,null,null,null,null,null,null,null,null,null,null,null,null,null,null,null,null,null,null,null,null,null,null,null,null,null,null,null,null,null,null,null,"Accessibilité",null,"Langue",null,"Facilité d'utilisation",null,"Flexibilité",null,"Besoins de données",null,"Analyse des données",null,"Acceptabilité",null,"«Une seule santé»",null,"Impact"]
[]
[]
[]
[]
[]
[]
[null,null,null,null,null,null,null,null,null,null,null,null,null,null,null,null,null,null,null,null,null,null,null,null,null,null,null,null,null,null,null,null,null,null,null,null,null,null,null,null,null,null,null,null,null,null,null,null,null,null,"SCORE BRUT",null,null,"SCORE AJUSTÉ \n(Selon les préférences de l'utilisateur)"]
[]
[]
[]
[null,null,"RESSOURCES DE NIVEAU 1","DÉSIGNATION",null,null,null,null,"NOM DE LA RESSOURCE",null,null,null,null,null,null,"BRÈVE DESCRIPTION",null,null,null,null,null,null,null,null,"TYPE DE RESSOURCE",null,null,null,"CARACTÈRE GÉNÉRAL DE LA RESSOURCE"]
[]
[]
[]
[null,null,null,null,null,null,null,null,null,null,null,null,null,null,null,null,null,null,null,null,null,null,null,null,null,null,null,null,null,null,null,null,{"$f":"'Attribute Survey'!S22","v":0},null,{"$f":"'Attribute Survey'!S26","v":0},null,{"$f":"'Attribute Survey'!S30","v":0},null,{"$f":"'Attribute Survey'!S34","v":0},null,{"$f":"'Attribute Survey'!S38","v":0},null,{"$f":"'Attribute Survey'!S42","v":0},null,{"$f":"'Attribute Survey'!S46","v":0},null,{"$f":"'Attribute Survey'!S50","v":0},null,{"$f":"'Attribute Survey'!S54","v":0}]
[null,null,null,"Ressources les mieux adaptées",null,null,null,null,{"$f":"Backbone!A21","v":"AfyaData"},null,null,null,null,null,null,"Un outil de surveillance des maladies «Une seule santé» conçu pour répondre aux besoins de surveillance humaine, animale et environnementale, comprenant une application mobile et une application web.",null,null,null,null,null,null,null,null,{"$f":"INDEX(Backbone!$R$2:$R$893,MATCH(I23,Backbone!$A$2:$A$893,0))","v":"Matériel ou logiciel"},null,null,null,{"$f":"INDEX(Backbone!$S$2:$S$893,MATCH(I23,Backbone!$A$2:$A$893,0))","v":"«Une seule santé»; Généralisée "},null,null,null,{"$f":"INDEX(Backbone!$H$2:$H$893,MATCH(I23,Backbone!$A$2:$A$893,0))","v":7.3},null,{"$f":"INDEX(Backbone!$I$2:$I$893,MATCH(I23,Backbone!$A$2:$A$893,0))","v":10},null,{"$f":"INDEX(Backbone!$J$2:$J$893,MATCH(I23,Backbone!$A$2:$A$893,0))","v":8.1999999999999993},null,{"$f":"INDEX(Backbone!$K$2:$K$893,MATCH(I23,Backbone!$A$2:$A$893,0))","v":7.3},null,{"$f":"INDEX(Backbone!$L$2:$L$893,MATCH(I23,Backbone!$A$2:$A$893,0))","v":7.6},null,{"$f":"INDEX(Backbone!$M$2:$M$893,MATCH(I23,Backbone!$A$2:$A$893,0))","v":8.8000000000000007},null,{"$f":"INDEX(Backbone!$N$2:$N$893,MATCH(I23,Backbone!$A$2:$A$893,0))","v":5.5},null,{"$f":"INDEX(Backbone!$O$2:$O$893,MATCH(I23,Backbone!$A$2:$A$893,0))","v":7.6},null,{"$f":"INDEX(Backbone!$P$2:$P$893,MATCH(I23,Backbone!$A$2:$A$893,0))","v":7},null,{"$f":"INDEX(Backbone!$Q$2:$Q$893,MATCH(I23,Backbone!$A$2:$A$893,0))","v":0.77000000000000013},null,null,{"$f":"(AG23*$AG$22+AI23*$AI$22+AK23*$AK$22+AM23*$AM$22+AO23*$AO$22+AQ23*$AQ$22+AS23*$AS$22+AU23*$AU$22+AW23*$AW$22)/(SUM($AG$22:$AW$22)*10)","v":{"$error":"#DIV/0!"}},null,null,"Aller à \nBoîte à outils: ",null,{"$f":"HYPERLINK(\"#\"&ADDRESS(MATCH(I23,Toolbox!$C$1:$C$300),1,,,\"Toolbox\"),VLOOKUP(I23,Toolbox!$C$1:$C$300,1,FALSE))","v":"AfyaData"}]
[]
[]
[]
[]
[]
[null,null,null,null,null,null,null,null,{"$f":"Backbone!A65","v":"Logiciel d'information de santé au niveau des districts 2 (DHIS2) "},null,null,null,null,null,null,"Une plateforme d'exploitation libre en ligne pour les systèmes d'information sanitaire.",null,null,null,null,null,null,null,null,{"$f":"INDEX(Backbone!$R$2:$R$893,MATCH(I29,Backbone!$A$2:$A$893,0))","v":"Matériel ou logiciel"},null,null,null,{"$f":"INDEX(Backbone!$S$2:$S$893,MATCH(I29,Backbone!$A$2:$A$893,0))","v":"Spécifique du secteur; Généralisée"},null,null,null,{"$f":"INDEX(Backbone!$H$2:$H$893,MATCH(I29,Backbone!$A$2:$A$893,0))","v":8.8000000000000007},null,{"$f":"INDEX(Backbone!$I$2:$I$893,MATCH(I29,Backbone!$A$2:$A$893,0))","v":8.6999999999999993},null,{"$f":"INDEX(Backbone!$J$2:$J$893,MATCH(I29,Backbone!$A$2:$A$893,0))","v":8},null,{"$f":"INDEX(Backbone!$K$1:$K$893,MATCH(I29,Backbone!$A$1:$A$893,0))","v":8.6999999999999993},null,{"$f":"INDEX(Backbone!$L$2:$L$893,MATCH(I29,Backbone!$A$2:$A$893,0))","v":9.3000000000000007},null,{"$f":"INDEX(Backbone!$M$2:$M$893,MATCH(I29,Backbone!$A$2:$A$893,0))","v":9},null,{"$f":"INDEX(Backbone!$N$2:$N$893,MATCH(I29,Backbone!$A$2:$A$893,0))","v":10},null,{"$f":"INDEX(Backbone!$O$2:$O$893,MATCH(I29,Backbone!$A$2:$A$893,0))","v":7.8},null,{"$f":"INDEX(Backbone!$P$2:$P$893,MATCH(I29,Backbone!$A$2:$A$893,0))","v":7},null,{"$f":"INDEX(Backbone!$Q$2:$Q$893,MATCH(I29,Backbone!$A$2:$A$893,0))","v":0.85888888888888881},null,null,{"$f":"(AG29*$AG$22+AI29*$AI$22+AK29*$AK$22+AM29*$AM$22+AO29*$AO$22+AQ29*$AQ$22+AS29*$AS$22+AU29*$AU$22+AW29*$AW$22)/(SUM($AG$22:$AW$22)*10)","v":{"$error":"#DIV/0!"}},null,null,"Aller à \nBoîte à outils: ",null,{"$f":"HYPERLINK(\"#\"&ADDRESS(MATCH(I29,Toolbox!$C$1:$C$300),1,,,\"Toolbox\"),VLOOKUP(I29,Toolbox!$C$1:$C$300,1,FALSE))","v":"Logiciel d'information de santé au niveau des districts 2 (DHIS2) "}]
[]
[]
[]
[]
[]
[null,null,null,null,null,null,null,null,{"$f":"Backbone!A138","v":"Système électronique intégré de surveillance des maladies (EIDSS)"},null,null,null,null,null,null,"Un système électronique en ligne et personnalisable d'établissement de rapports sur les maladies qui peut aider à la surveillance passive et active de la santé humaine et vétérinaire, aux diagnostics de laboratoire, à la surveillance des vecteurs et à la gestion des foyers épidémiques. ",null,null,null,null,null,null,null,null,{"$f":"INDEX(Backbone!$R$2:$R$893,MATCH(I35,Backbone!$A$2:$A$893,0))","v":"Matériel ou logiciel"},null,null,null,{"$f":"INDEX(Backbone!$S$2:$S$893,MATCH(I35,Backbone!$A$2:$A$893,0))","v":"«Une seule santé»; Généralisée"},null,null,null,{"$f":"INDEX(Backbone!$H$2:$H$893,MATCH(I35,Backbone!$A$2:$A$893,0))","v":6.8},null,{"$f":"INDEX(Backbone!$I$2:$I$893,MATCH(I35,Backbone!$A$2:$A$893,0))","v":10},null,{"$f":"INDEX(Backbone!$J$2:$J$893,MATCH(I35,Backbone!$A$2:$A$893,0))","v":8.4},null,{"$f":"INDEX(Backbone!$K$1:$K$893,MATCH(I35,Backbone!$A$1:$A$893,0))","v":8.6999999999999993},null,{"$f":"INDEX(Backbone!$L$2:$L$893,MATCH(I35,Backbone!$A$2:$A$893,0))","v":9.1},null,{"$f":"INDEX(Backbone!$M$2:$M$893,MATCH(I35,Backbone!$A$2:$A$893,0))","v":8},null,{"$f":"INDEX(Backbone!$N$2:$N$893,MATCH(I35,Backbone!$A$2:$A$893,0))","v":7},null,{"$f":"INDEX(Backbone!$O$2:$O$893,MATCH(I35,Backbone!$A$2:$A$893,0))","v":7.2},null,{"$f":"INDEX(Backbone!$P$2:$P$893,MATCH(I35,Backbone!$A$2:$A$893,0))","v":10},null,{"$f":"INDEX(Backbone!$Q$2:$Q$893,MATCH(I35,Backbone!$A$2:$A$893,0))","v":0.83555555555555561},null,null,{"$f":"(AG35*$AG$22+AI35*$AI$22+AK35*$AK$22+AM35*$AM$22+AO35*$AO$22+AQ35*$AQ$22+AS35*$AS$22+AU35*$AU$22+AW35*$AW$22)/(SUM($AG$22:$AW$22)*10)","v":{"$error":"#DIV/0!"}},null,null,"Aller à \nBoîte à outils: ",null,{"$f":"HYPERLINK(\"#\"&ADDRESS(MATCH(I35,Toolbox!$C$1:$C$300),1,,,\"Toolbox\"),VLOOKUP(I35,Toolbox!$C$1:$C$300,1,FALSE))","v":"Système électronique intégré de surveillance des maladies (EIDSS)"}]
[]
[]
[]
[]
[]
[null,null,null,null,null,null,null,null,{"$f":"Backbone!A195","v":"Surveillance intégrée de la maladie et la riposte (IDSR)"},null,null,null,null,null,null,"Une stratégie visant à renforcer les capacités pour la détection, la confirmation et la réponse aux cas suspects et à l'apparition de foyers épidémiques, ainsi que pour l'utilisation des informations afin de prédire et de planifier les événements de santé publique.",null,null,null,null,null,null,null,null,{"$f":"INDEX(Backbone!$R$2:$R$893,MATCH(I41,Backbone!$A$2:$A$893,0))","v":"Document d'orientation"},null,null,null,{"$f":"INDEX(Backbone!$S$2:$S$893,MATCH(I41,Backbone!$A$2:$A$893,0))","v":"Spécifique du secteur; Généralisée"},null,null,null,{"$f":"INDEX(Backbone!$H$2:$H$893,MATCH(I41,Backbone!$A$2:$A$893,0))","v":7.4},null,{"$f":"INDEX(Backbone!$I$2:$I$893,MATCH(I41,Backbone!$A$2:$A$893,0))","v":10},null,{"$f":"INDEX(Backbone!$J$2:$J$893,MATCH(I41,Backbone!$A$2:$A$893,0))","v":7.4},null,{"$f":"INDEX(Backbone!$K$1:$K$893,MATCH(I41,Backbone!$A$1:$A$893,0))","v":8.6999999999999993},null,{"$f":"INDEX(Backbone!$L$2:$L$893,MATCH(I41,Backbone!$A$2:$A$893,0))","v":6.7},null,{"$f":"INDEX(Backbone!$M$2:$M$893,MATCH(I41,Backbone!$A$2:$A$893,0))","v":4.5},null,{"$f":"INDEX(Backbone!$N$2:$N$893,MATCH(I41,Backbone!$A$2:$A$893,0))","v":8},null,{"$f":"INDEX(Backbone!$O$2:$O$893,MATCH(I41,Backbone!$A$2:$A$893,0))","v":7.2},null,{"$f":"INDEX(Backbone!$P$2:$P$893,MATCH(I41,Backbone!$A$2:$A$893,0))","v":8.5},null,{"$f":"INDEX(Backbone!$Q$2:$Q$893,MATCH(I41,Backbone!$A$2:$A$893,0))","v":0.76},null,null,{"$f":"(AG41*$AG$22+AI41*$AI$22+AK41*$AK$22+AM41*$AM$22+AO41*$AO$22+AQ41*$AQ$22+AS41*$AS$22+AU41*$AU$22+AW41*$AW$22)/(SUM($AG$22:$AW$22)*10)","v":{"$error":"#DIV/0!"}},null,null,"Aller à \nBoîte à outils: ",null,{"$f":"HYPERLINK(\"#\"&ADDRESS(MATCH(I41,Toolbox!$C$1:$C$300),1,,,\"Toolbox\"),VLOOKUP(I41,Toolbox!$C$1:$C$300,1,FALSE))","v":"Surveillance intégrée de la maladie et la riposte (IDSR)"}]
[]
[]
[]
[]
[]
[null,null,null,null,null,null,null,null,{"$f":"Backbone!A271","v":"Analyse du réseau des infrastructures de laboratoire (LINA)"},null,null,null,null,null,null,"Une application en ligne facile à utiliser fournissant une fonctionnalité avancée de modélisation computationnelle et d'analyse de données offrant la possibilité de visualiser facilement, à l'aide d'organigrammes, les capacités et les moyens du réseau national de laboratoires, mais aussi de chaque laboratoire séparément.\n\n\n",null,null,null,null,null,null,null,null,{"$f":"INDEX(Backbone!$R$2:$R$893,MATCH(I47,Backbone!$A$2:$A$893,0))","v":"Matériel ou logiciel"},null,null,null,{"$f":"INDEX(Backbone!$S$2:$S$893,MATCH(I47,Backbone!$A$2:$A$893,0))","v":"«Une seule santé»; Généralisée"},null,null,null,{"$f":"INDEX(Backbone!$H$2:$H$893,MATCH(I47,Backbone!$A$2:$A$893,0))","v":9.6},null,{"$f":"INDEX(Backbone!$I$2:$I$893,MATCH(I47,Backbone!$A$2:$A$893,0))","v":6},null,{"$f":"INDEX(Backbone!$J$2:$J$893,MATCH(I47,Backbone!$A$2:$A$893,0))","v":7.6},null,{"$f":"INDEX(Backbone!$K$1:$K$893,MATCH(I47,Backbone!$A$1:$A$893,0))","v":9},null,{"$f":"INDEX(Backbone!$L$2:$L$893,MATCH(I47,Backbone!$A$2:$A$893,0))","v":8.3000000000000007},null,{"$f":"INDEX(Backbone!$M$2:$M$893,MATCH(I47,Backbone!$A$2:$A$893,0))","v":7},null,{"$f":"INDEX(Backbone!$N$2:$N$893,MATCH(I47,Backbone!$A$2:$A$893,0))","v":3},null,{"$f":"INDEX(Backbone!$O$2:$O$893,MATCH(I47,Backbone!$A$2:$A$893,0))","v":9.1},null,{"$f":"INDEX(Backbone!$P$2:$P$893,MATCH(I47,Backbone!$A$2:$A$893,0))","v":4},null,{"$f":"INDEX(Backbone!$Q$2:$Q$893,MATCH(I47,Backbone!$A$2:$A$893,0))","v":0.69555555555555559},null,null,{"$f":"(AG47*$AG$22+AI47*$AI$22+AK47*$AK$22+AM47*$AM$22+AO47*$AO$22+AQ47*$AQ$22+AS47*$AS$22+AU47*$AU$22+AW47*$AW$22)/(SUM($AG$22:$AW$22)*10)","v":{"$error":"#DIV/0!"}},null,null,"Aller à \nBoîte à outils: ",null,{"$f":"HYPERLINK(\"#\"&ADDRESS(MATCH(I47,Toolbox!$C$1:$C$300),1,,,\"Toolbox\"),VLOOKUP(I47,Toolbox!$C$1:$C$300,1,FALSE))","v":"Analyse du réseau des infrastructures de laboratoire (LINA)"}]
[]
[]
[]
[]
[]
[null,null,null,null,null,null,null,null,{"$f":"Backbone!A489","v":"Suite pour une biosurveillance électronique automatisée mondiale (SAGES)"},null,null,null,null,null,null,"Une suite d'outils logiciels d'exploitation libre conçus pour améliorer la surveillance électronique des maladies dans des situations où les ressources sont limitées.",null,null,null,null,null,null,null,null,{"$f":"INDEX(Backbone!$R$2:$R$893,MATCH(I53,Backbone!$A$2:$A$893,0))","v":"Matériel ou logiciel"},null,null,null,{"$f":"INDEX(Backbone!$S$2:$S$893,MATCH(I53,Backbone!$A$2:$A$893,0))","v":"«Une seule santé»; Généralisée"},null,null,null,{"$f":"INDEX(Backbone!$H$2:$H$893,MATCH(I53,Backbone!$A$2:$A$893,0))","v":9.8000000000000007},null,{"$f":"INDEX(Backbone!$I$2:$I$893,MATCH(I53,Backbone!$A$2:$A$893,0))","v":10},null,{"$f":"INDEX(Backbone!$J$2:$J$893,MATCH(I53,Backbone!$A$2:$A$893,0))","v":10},null,{"$f":"INDEX(Backbone!$K$1:$K$893,MATCH(I53,Backbone!$A$1:$A$893,0))","v":9.3000000000000007},null,{"$f":"INDEX(Backbone!$L$2:$L$893,MATCH(I53,Backbone!$A$2:$A$893,0))","v":8.5},null,{"$f":"INDEX(Backbone!$M$2:$M$893,MATCH(I53,Backbone!$A$2:$A$893,0))","v":9},null,{"$f":"INDEX(Backbone!$N$2:$N$893,MATCH(I53,Backbone!$A$2:$A$893,0))","v":5.5},null,{"$f":"INDEX(Backbone!$O$2:$O$893,MATCH(I53,Backbone!$A$2:$A$893,0))","v":9.5},null,{"$f":"INDEX(Backbone!$P$2:$P$893,MATCH(I53,Backbone!$A$2:$A$893,0))","v":7},null,{"$f":"INDEX(Backbone!$Q$2:$Q$893,MATCH(I53,Backbone!$A$2:$A$893,0))","v":0.87333333333333329},null,null,{"$f":"(AG53*$AG$22+AI53*$AI$22+AK53*$AK$22+AM53*$AM$22+AO53*$AO$22+AQ53*$AQ$22+AS53*$AS$22+AU53*$AU$22+AW53*$AW$22)/(SUM($AG$22:$AW$22)*10)","v":{"$error":"#DIV/0!"}},null,null,"Aller à \nBoîte à outils: ",null,{"$f":"HYPERLINK(\"#\"&ADDRESS(MATCH(I53,Toolbox!$C$1:$C$300),1,,,\"Toolbox\"),VLOOKUP(I53,Toolbox!$C$1:$C$300,1,FALSE))","v":"Suite pour une biosurveillance électronique automatisée mondiale (SAGES)"}]
[]
[]
[]
[]
[]
[null,null,null,null,null,null,null,null,{"$f":"Backbone!A540","v":"Système de gestion et d'analyse de la surveillance et la réponse aux foyers épidémiques (SORMAS)"},null,null,null,null,null,null,"Un système de santé en ligne mobile et d'exploitation libre qui met en œuvre des procédures de contrôle de maladies et de gestion de flambées épidémiques, et assure la surveillance et la détection précoce des foyers épidémiques grâce à une surveillance numérique en temps réel.",null,null,null,null,null,null,null,null,{"$f":"INDEX(Backbone!$R$2:$R$893,MATCH(I59,Backbone!$A$2:$A$893,0))","v":"Matériel ou logiciel"},null,null,null,{"$f":"INDEX(Backbone!$S$2:$S$893,MATCH(I59,Backbone!$A$2:$A$893,0))","v":"Spécifique du secteur; Généralisée"},null,null,null,{"$f":"INDEX(Backbone!$H$2:$H$893,MATCH(I59,Backbone!$A$2:$A$893,0))","v":9.1999999999999993},null,{"$f":"INDEX(Backbone!$I$2:$I$893,MATCH(I59,Backbone!$A$2:$A$893,0))","v":8},null,{"$f":"INDEX(Backbone!$J$2:$J$893,MATCH(I59,Backbone!$A$2:$A$893,0))","v":9.3000000000000007},null,{"$f":"INDEX(Backbone!$K$1:$K$893,MATCH(I59,Backbone!$A$1:$A$893,0))","v":9.1},null,{"$f":"INDEX(Backbone!$L$2:$L$893,MATCH(I59,Backbone!$A$2:$A$893,0))","v":9.3000000000000007},null,{"$f":"INDEX(Backbone!$M$2:$M$893,MATCH(I59,Backbone!$A$2:$A$893,0))","v":9.3000000000000007},null,{"$f":"INDEX(Backbone!$N$2:$N$893,MATCH(I59,Backbone!$A$2:$A$893,0))","v":6.8},null,{"$f":"INDEX(Backbone!$O$2:$O$893,MATCH(I59,Backbone!$A$2:$A$893,0))","v":3.9},null,{"$f":"INDEX(Backbone!$P$2:$P$893,MATCH(I59,Backbone!$A$2:$A$893,0))","v":5.3},null,{"$f":"INDEX(Backbone!$Q$2:$Q$893,MATCH(I59,Backbone!$A$2:$A$893,0))","v":0.78},null,null,{"$f":"(AG59*$AG$22+AI59*$AI$22+AK59*$AK$22+AM59*$AM$22+AO59*$AO$22+AQ59*$AQ$22+AS59*$AS$22+AU59*$AU$22+AW59*$AW$22)/(SUM($AG$22:$AW$22)*10)","v":{"$error":"#DIV/0!"}},null,null,"Aller à \nBoîte à outils: ",null,{"$f":"HYPERLINK(\"#\"&ADDRESS(MATCH(I59,Toolbox!$C$1:$C$300),1,,,\"Toolbox\"),VLOOKUP(I59,Toolbox!$C$1:$C$300,1,FALSE))","v":"Système de gestion et d'analyse de la surveillance et la réponse aux foyers épidémiques (SORMAS)"}]
[]
[]
[]
[]
[]
[]
[null,null,null,"Autres ressources intéressantes",null,null,null,null,{"$f":"Backbone!A179","v":"FoodChain-Lab (FCL) "},null,null,null,null,null,null,"Un logiciel de traçage libre et gratuit qui fournit des analyses de traçage des denrées alimentaires en amont et en aval afin d'identifier la source d'une contamination causant des foyers épidémiques d'origine alimentaire ou d'autres incidents liés à l'alimentation.",null,null,null,null,null,null,null,null,{"$f":"INDEX(Backbone!$R$2:$R$893,MATCH(I66,Backbone!$A$2:$A$893,0))","v":"Matériel ou logiciel"},null,null,null,{"$f":"INDEX(Backbone!$S$2:$S$893,MATCH(I66,Backbone!$A$2:$A$893,0))","v":"«Une seule santé»; spécifique d'une maladie/menace "},null,null,null,{"$f":"INDEX(Backbone!$H$2:$H$893,MATCH(I66,Backbone!$A$2:$A$893,0))","v":9.6999999999999993},null,{"$f":"INDEX(Backbone!$I$2:$I$893,MATCH(I66,Backbone!$A$2:$A$893,0))","v":6},null,{"$f":"INDEX(Backbone!$J$2:$J$893,MATCH(I66,Backbone!$A$2:$A$893,0))","v":7.9},null,{"$f":"INDEX(Backbone!$K$1:$K$893,MATCH(I66,Backbone!$A$1:$A$893,0))","v":7.8},null,{"$f":"INDEX(Backbone!$L$2:$L$893,MATCH(I66,Backbone!$A$2:$A$893,0))","v":8.1},null,{"$f":"INDEX(Backbone!$M$2:$M$893,MATCH(I66,Backbone!$A$2:$A$893,0))","v":8},null,{"$f":"INDEX(Backbone!$N$2:$N$893,MATCH(I66,Backbone!$A$2:$A$893,0))","v":7.9},null,{"$f":"INDEX(Backbone!$O$2:$O$893,MATCH(I66,Backbone!$A$2:$A$893,0))","v":8.4},null,{"$f":"INDEX(Backbone!$P$2:$P$893,MATCH(I66,Backbone!$A$2:$A$893,0))","v":9.6999999999999993},null,{"$f":"INDEX(Backbone!$Q$2:$Q$893,MATCH(I66,Backbone!$A$2:$A$893,0))","v":0.81666666666666665},null,null,{"$f":"(AG66*$AG$22+AI66*$AI$22+AK66*$AK$22+AM66*$AM$22+AO66*$AO$22+AQ66*$AQ$22+AS66*$AS$22+AU66*$AU$22+AW66*$AW$22)/(SUM($AG$22:$AW$22)*10)","v":{"$error":"#DIV/0!"}},null,null,"Aller à \nBoîte à outils: ",null,{"$f":"HYPERLINK(\"#\"&ADDRESS(MATCH(I66,Toolbox!$C$1:$C$300),1,,,\"Toolbox\"),VLOOKUP(I66,Toolbox!$C$1:$C$300,1,FALSE))","v":"FoodChain-Lab (FCL) "}]
[]
[]
[]
[]
[]
[null,null,null,null,null,null,null,null,{"$f":"Backbone!A571","v":"Organisation mondiale de la santé animale (OMSA) Application Alerts du Système mondial d'information sanitaire (WAHIS)"},null,null,null,null,null,null,"Application qui permet à ses utilisateurs de recevoir, sur leurs téléphones mobiles ou tablettes, des alertes sanitaires (notifications immédiates) et des rapports de suivi dès qu'ils sont publiés par l'OMSA.",null,null,null,null,null,null,null,null,{"$f":"INDEX(Backbone!$R$2:$R$893,MATCH(I72,Backbone!$A$2:$A$893,0))","v":"Matériel ou logiciel"},null,null,null,{"$f":"INDEX(Backbone!$S$2:$S$893,MATCH(I72,Backbone!$A$2:$A$893,0))","v":"Spécifique du secteur; Généralisée"},null,null,null,{"$f":"INDEX(Backbone!$H$2:$H$893,MATCH(I72,Backbone!$A$2:$A$893,0))","v":9.6999999999999993},null,{"$f":"INDEX(Backbone!$I$2:$I$893,MATCH(I72,Backbone!$A$2:$A$893,0))","v":10},null,{"$f":"INDEX(Backbone!$J$2:$J$893,MATCH(I72,Backbone!$A$2:$A$893,0))","v":8.8000000000000007},null,{"$f":"INDEX(Backbone!$K$1:$K$893,MATCH(I72,Backbone!$A$1:$A$893,0))","v":8.6999999999999993},null,{"$f":"INDEX(Backbone!$L$2:$L$893,MATCH(I72,Backbone!$A$2:$A$893,0))","v":8.3000000000000007},null,{"$f":"INDEX(Backbone!$M$2:$M$893,MATCH(I72,Backbone!$A$2:$A$893,0))","v":5},null,{"$f":"INDEX(Backbone!$N$2:$N$893,MATCH(I72,Backbone!$A$2:$A$893,0))","v":7.5},null,{"$f":"INDEX(Backbone!$O$2:$O$893,MATCH(I72,Backbone!$A$2:$A$893,0))","v":3.3},null,{"$f":"INDEX(Backbone!$P$2:$P$893,MATCH(I72,Backbone!$A$2:$A$893,0))","v":6},null,{"$f":"INDEX(Backbone!$Q$2:$Q$893,MATCH(I72,Backbone!$A$2:$A$893,0))","v":0.74777777777777776},null,null,{"$f":"(AG72*$AG$22+AI72*$AI$22+AK72*$AK$22+AM72*$AM$22+AO72*$AO$22+AQ72*$AQ$22+AS72*$AS$22+AU72*$AU$22+AW72*$AW$22)/(SUM($AG$22:$AW$22)*10)","v":{"$error":"#DIV/0!"}},null,null,"Aller à \nBoîte à outils: ",null,{"$f":"HYPERLINK(\"#\"&ADDRESS(MATCH(I72,Toolbox!$C$1:$C$300),1,,,\"Toolbox\"),VLOOKUP(I72,Toolbox!$C$1:$C$300,1,FALSE))","v":"Organisation mondiale de la santé animale (OMSA) Application Alerts du Système mondial d'information sanitaire (WAHIS)"}]
[]
[]
[]
[]
[]
[null,null,null,null,null,null,null,null,{"$f":"Backbone!A604","v":"Application de suivi des expositions et des cas de rage (REACT)"},null,null,null,null,null,null,"Un outil visant à soutenir la mise en œuvre de programmes de gestion intégrée des cas de morsures.",null,null,null,null,null,null,null,null,{"$f":"INDEX(Backbone!$R$2:$R$893,MATCH(I78,Backbone!$A$2:$A$893,0))","v":"Matériel ou logiciel"},null,null,null,{"$f":"INDEX(Backbone!$S$2:$S$893,MATCH(I78,Backbone!$A$2:$A$893,0))","v":"«Une seule santé»; spécifique d'une maladie/menace "},null,null,null,{"$f":"INDEX(Backbone!$H$2:$H$893,MATCH(I78,Backbone!$A$2:$A$893,0))","v":8.6},null,{"$f":"INDEX(Backbone!$I$2:$I$893,MATCH(I78,Backbone!$A$2:$A$893,0))","v":8.6},null,{"$f":"INDEX(Backbone!$J$2:$J$893,MATCH(I78,Backbone!$A$2:$A$893,0))","v":8},null,{"$f":"INDEX(Backbone!$K$1:$K$893,MATCH(I78,Backbone!$A$1:$A$893,0))","v":8.6},null,{"$f":"INDEX(Backbone!$L$2:$L$893,MATCH(I78,Backbone!$A$2:$A$893,0))","v":9.4},null,{"$f":"INDEX(Backbone!$M$2:$M$893,MATCH(I78,Backbone!$A$2:$A$893,0))","v":9.5},null,{"$f":"INDEX(Backbone!$N$2:$N$893,MATCH(I78,Backbone!$A$2:$A$893,0))","v":9},null,{"$f":"INDEX(Backbone!$O$2:$O$893,MATCH(I78,Backbone!$A$2:$A$893,0))","v":9.1999999999999993},null,{"$f":"INDEX(Backbone!$P$2:$P$893,MATCH(I78,Backbone!$A$2:$A$893,0))","v":9},null,{"$f":"INDEX(Backbone!$Q$2:$Q$893,MATCH(I78,Backbone!$A$2:$A$893,0))","v":0.88777777777777767},null,null,{"$f":"(AG78*$AG$22+AI78*$AI$22+AK78*$AK$22+AM78*$AM$22+AO78*$AO$22+AQ78*$AQ$22+AS78*$AS$22+AU78*$AU$22+AW78*$AW$22)/(SUM($AG$22:$AW$22)*10)","v":{"$error":"#DIV/0!"}},null,null,"Aller à \nBoîte à outils: ",null,{"$f":"HYPERLINK(\"#\"&ADDRESS(MATCH(I78,Toolbox!$C$1:$C$300),1,,,\"Toolbox\"),VLOOKUP(I78,Toolbox!$C$1:$C$300,1,FALSE))","v":"Application de suivi des expositions et des cas de rage (REACT)"}]
[]
[]
[]
[]
[]
[]
[]
[]
[]
[]
[]
[]
[]
[]
[]
[]
[]
[]
[]
[]
[]
[]
[]
[null,null,null,null,null,null,null,null,null,null,null,null,null,null,null,null,null,null,null,null,null,null,null,null,null,null,null,null,null,null,null,null,"Accessibilité",null,"Langue",null,"Facilité d'utilisation",null,"Flexibilité",null,"Besoins de données",null,"Analyse des données",null,"Acceptabilité",null,"«Une seule santé»",null,"Impact"]
[]
[]
[]
[]
[]
[]
[null,null,null,null,null,null,null,null,null,null,null,null,null,null,null,null,null,null,null,null,null,null,null,null,null,null,null,null,null,null,null,null,null,null,null,null,null,null,null,null,null,null,null,null,null,null,null,null,null,null,"SCORE BRUT",null,null,"SCORE AJUSTÉ \n(Selon les préférences de l'utilisateur)"]
[]
[]
[]
[null,"RESSOURCES DE NIVEAU 2",null,"DÉSIGNATION",null,null,null,null,"NOM DE LA RESSOURCE",null,null,null,null,null,null,"BRÈVE DESCRIPTION",null,null,null,null,null,null,null,null,"TYPE DE RESSOURCE",null,null,null,"CARACTÈRE GÉNÉRAL DE LA RESSOURCE"]
[]
[]
[]
[null,null,null,null,null,null,null,null,null,null,null,null,null,null,null,null,null,null,null,null,null,null,null,null,null,null,null,null,null,null,null,null,{"$f":"'Attribute Survey'!S111","v":0},null,{"$f":"'Attribute Survey'!S115","v":0},null,{"$f":"'Attribute Survey'!S119","v":0},null,{"$f":"'Attribute Survey'!S123","v":0},null,{"$f":"'Attribute Survey'!S127","v":0},null,{"$f":"'Attribute Survey'!S131","v":0},null,{"$f":"'Attribute Survey'!S135","v":0},null,{"$f":"'Attribute Survey'!S139","v":0},null,{"$f":"'Attribute Survey'!S143","v":0}]
[null,null,null,"Ressources les mieux adaptées",null,null,null,null,{"$f":"Backbone!A195","v":"Surveillance intégrée de la maladie et la riposte (IDSR)"},null,null,null,null,null,null,"Une stratégie visant à renforcer les capacités pour la détection, la confirmation et la réponse aux cas suspects et à l'apparition de foyers épidémiques, ainsi que pour l'utilisation des informations afin de prédire et de planifier les événements de santé publique.",null,null,null,null,null,null,null,null,{"$f":"INDEX(Backbone!$R$2:$R$893,MATCH(I118,Backbone!$A$2:$A$893,0))","v":"Document d'orientation"},null,null,null,{"$f":"INDEX(Backbone!$S$2:$S$893,MATCH(I118,Backbone!$A$2:$A$893,0))","v":"Spécifique du secteur; Généralisée"},null,null,null,{"$f":"INDEX(Backbone!$H$2:$H$893,MATCH(I118,Backbone!$A$2:$A$893,0))","v":7.4},null,{"$f":"INDEX(Backbone!$I$2:$I$893,MATCH(I118,Backbone!$A$2:$A$893,0))","v":10},null,{"$f":"INDEX(Backbone!$J$2:$J$893,MATCH(I118,Backbone!$A$2:$A$893,0))","v":7.4},null,{"$f":"INDEX(Backbone!$K$2:$K$893,MATCH(I118,Backbone!$A$2:$A$893,0))","v":8.6999999999999993},null,{"$f":"INDEX(Backbone!$L$2:$L$893,MATCH(I118,Backbone!$A$2:$A$893,0))","v":6.7},null,{"$f":"INDEX(Backbone!$M$2:$M$893,MATCH(I118,Backbone!$A$2:$A$893,0))","v":4.5},null,{"$f":"INDEX(Backbone!$N$2:$N$893,MATCH(I118,Backbone!$A$2:$A$893,0))","v":8},null,{"$f":"INDEX(Backbone!$O$2:$O$893,MATCH(I118,Backbone!$A$2:$A$893,0))","v":7.2},null,{"$f":"INDEX(Backbone!$P$2:$P$893,MATCH(I118,Backbone!$A$2:$A$893,0))","v":8.5},null,{"$f":"INDEX(Backbone!$Q$2:$Q$893,MATCH(I118,Backbone!$A$2:$A$893,0))","v":0.76},null,null,{"$f":"(AG118*$AG$22+AI118*$AI$22+AK118*$AK$22+AM118*$AM$22+AO118*$AO$22+AQ118*$AQ$22+AS118*$AS$22+AU118*$AU$22+AW118*$AW$22)/(SUM($AG$22:$AW$22)*10)","v":{"$error":"#DIV/0!"}},null,null,"Aller à \nBoîte à outils: ",null,{"$f":"HYPERLINK(\"#\"&ADDRESS(MATCH(I118,Toolbox!$C$1:$C$300),1,,,\"Toolbox\"),VLOOKUP(I118,Toolbox!$C$1:$C$300,1,FALSE))","v":"Surveillance intégrée de la maladie et la riposte (IDSR)"}]
[]
[]
[]
[]
[]
[null,null,null,null,null,null,null,null,{"$f":"Backbone!A271","v":"Analyse du réseau des infrastructures de laboratoire (LINA)"},null,null,null,null,null,null,"Une application en ligne facile à utiliser fournissant une fonctionnalité avancée de modélisation computationnelle et d'analyse de données offrant la possibilité de visualiser facilement, à l'aide d'organigrammes, les capacités et les moyens du réseau national de laboratoires, mais aussi de chaque laboratoire séparément.\n\n\n",null,null,null,null,null,null,null,null,{"$f":"INDEX(Backbone!$R$2:$R$893,MATCH(I124,Backbone!$A$2:$A$893,0))","v":"Matériel ou logiciel"},null,null,null,{"$f":"INDEX(Backbone!$S$2:$S$893,MATCH(I124,Backbone!$A$2:$A$893,0))","v":"«Une seule santé»; Généralisée"},null,null,null,{"$f":"INDEX(Backbone!$H$2:$H$893,MATCH(I124,Backbone!$A$2:$A$893,0))","v":9.6},null,{"$f":"INDEX(Backbone!$I$2:$I$893,MATCH(I124,Backbone!$A$2:$A$893,0))","v":6},null,{"$f":"INDEX(Backbone!$J$2:$J$893,MATCH(I124,Backbone!$A$2:$A$893,0))","v":7.6},null,{"$f":"INDEX(Backbone!$K$1:$K$893,MATCH(I124,Backbone!$A$1:$A$893,0))","v":9},null,{"$f":"INDEX(Backbone!$L$2:$L$893,MATCH(I124,Backbone!$A$2:$A$893,0))","v":8.3000000000000007},null,{"$f":"INDEX(Backbone!$M$2:$M$893,MATCH(I124,Backbone!$A$2:$A$893,0))","v":7},null,{"$f":"INDEX(Backbone!$N$2:$N$893,MATCH(I124,Backbone!$A$2:$A$893,0))","v":3},null,{"$f":"INDEX(Backbone!$O$2:$O$893,MATCH(I124,Backbone!$A$2:$A$893,0))","v":9.1},null,{"$f":"INDEX(Backbone!$P$2:$P$893,MATCH(I124,Backbone!$A$2:$A$893,0))","v":4},null,{"$f":"INDEX(Backbone!$Q$2:$Q$893,MATCH(I124,Backbone!$A$2:$A$893,0))","v":0.69555555555555559},null,null,{"$f":"(AG124*$AG$22+AI124*$AI$22+AK124*$AK$22+AM124*$AM$22+AO124*$AO$22+AQ124*$AQ$22+AS124*$AS$22+AU124*$AU$22+AW124*$AW$22)/(SUM($AG$22:$AW$22)*10)","v":{"$error":"#DIV/0!"}},null,null,"Aller à \nBoîte à outils: ",null,{"$f":"HYPERLINK(\"#\"&ADDRESS(MATCH(I124,Toolbox!$C$1:$C$300),1,,,\"Toolbox\"),VLOOKUP(I124,Toolbox!$C$1:$C$300,1,FALSE))","v":"Analyse du réseau des infrastructures de laboratoire (LINA)"}]
[]
[]
[]
[]
[]
[null,null,null,null,null,null,null,null,{"$f":"Backbone!A489","v":"Suite pour une biosurveillance électronique automatisée mondiale (SAGES)"},null,null,null,null,null,null,"Une suite d'outils logiciels d'exploitation libre conçus pour améliorer la surveillance électronique des maladies dans des situations où les ressources sont limitées.",null,null,null,null,null,null,null,null,{"$f":"INDEX(Backbone!$R$2:$R$893,MATCH(I130,Backbone!$A$2:$A$893,0))","v":"Matériel ou logiciel"},null,null,null,{"$f":"INDEX(Backbone!$S$2:$S$893,MATCH(I130,Backbone!$A$2:$A$893,0))","v":"«Une seule santé»; Généralisée"},null,null,null,{"$f":"INDEX(Backbone!$H$2:$H$893,MATCH(I130,Backbone!$A$2:$A$893,0))","v":9.8000000000000007},null,{"$f":"INDEX(Backbone!$I$2:$I$893,MATCH(I130,Backbone!$A$2:$A$893,0))","v":10},null,{"$f":"INDEX(Backbone!$J$2:$J$893,MATCH(I130,Backbone!$A$2:$A$893,0))","v":10},null,{"$f":"INDEX(Backbone!$K$1:$K$893,MATCH(I130,Backbone!$A$1:$A$893,0))","v":9.3000000000000007},null,{"$f":"INDEX(Backbone!$L$2:$L$893,MATCH(I130,Backbone!$A$2:$A$893,0))","v":8.5},null,{"$f":"INDEX(Backbone!$M$2:$M$893,MATCH(I130,Backbone!$A$2:$A$893,0))","v":9},null,{"$f":"INDEX(Backbone!$N$2:$N$893,MATCH(I130,Backbone!$A$2:$A$893,0))","v":5.5},null,{"$f":"INDEX(Backbone!$O$2:$O$893,MATCH(I130,Backbone!$A$2:$A$893,0))","v":9.5},null,{"$f":"INDEX(Backbone!$P$2:$P$893,MATCH(I130,Backbone!$A$2:$A$893,0))","v":7},null,{"$f":"INDEX(Backbone!$Q$2:$Q$893,MATCH(I130,Backbone!$A$2:$A$893,0))","v":0.87333333333333329},null,null,{"$f":"(AG130*$AG$22+AI130*$AI$22+AK130*$AK$22+AM130*$AM$22+AO130*$AO$22+AQ130*$AQ$22+AS130*$AS$22+AU130*$AU$22+AW130*$AW$22)/(SUM($AG$22:$AW$22)*10)","v":{"$error":"#DIV/0!"}},null,null,"Aller à \nBoîte à outils: ",null,{"$f":"HYPERLINK(\"#\"&ADDRESS(MATCH(I130,Toolbox!$C$1:$C$300),1,,,\"Toolbox\"),VLOOKUP(I130,Toolbox!$C$1:$C$300,1,FALSE))","v":"Suite pour une biosurveillance électronique automatisée mondiale (SAGES)"}]
[]
[]
[]
[]
[]
[null,null,null,null,null,null,null,null,{"$f":"Backbone!A540","v":"Système de gestion et d'analyse de la surveillance et la réponse aux foyers épidémiques (SORMAS)"},null,null,null,null,null,null,"Un système de santé en ligne mobile et d'exploitation libre qui met en œuvre des procédures de contrôle de maladies et de gestion de flambées épidémiques, et assure la surveillance et la détection précoce des foyers épidémiques grâce à une surveillance numérique en temps réel.",null,null,null,null,null,null,null,null,{"$f":"INDEX(Backbone!$R$2:$R$893,MATCH(I136,Backbone!$A$2:$A$893,0))","v":"Matériel ou logiciel"},null,null,null,{"$f":"INDEX(Backbone!$S$2:$S$893,MATCH(I136,Backbone!$A$2:$A$893,0))","v":"Spécifique du secteur; Généralisée"},null,null,null,{"$f":"INDEX(Backbone!$H$2:$H$893,MATCH(I136,Backbone!$A$2:$A$893,0))","v":9.1999999999999993},null,{"$f":"INDEX(Backbone!$I$2:$I$893,MATCH(I136,Backbone!$A$2:$A$893,0))","v":8},null,{"$f":"INDEX(Backbone!$J$2:$J$893,MATCH(I136,Backbone!$A$2:$A$893,0))","v":9.3000000000000007},null,{"$f":"INDEX(Backbone!$K$1:$K$893,MATCH(I136,Backbone!$A$1:$A$893,0))","v":9.1},null,{"$f":"INDEX(Backbone!$L$2:$L$893,MATCH(I136,Backbone!$A$2:$A$893,0))","v":9.3000000000000007},null,{"$f":"INDEX(Backbone!$M$2:$M$893,MATCH(I136,Backbone!$A$2:$A$893,0))","v":9.3000000000000007},null,{"$f":"INDEX(Backbone!$N$2:$N$893,MATCH(I136,Backbone!$A$2:$A$893,0))","v":6.8},null,{"$f":"INDEX(Backbone!$O$2:$O$893,MATCH(I136,Backbone!$A$2:$A$893,0))","v":3.9},null,{"$f":"INDEX(Backbone!$P$2:$P$893,MATCH(I136,Backbone!$A$2:$A$893,0))","v":5.3},null,{"$f":"INDEX(Backbone!$Q$2:$Q$893,MATCH(I136,Backbone!$A$2:$A$893,0))","v":0.78},null,null,{"$f":"(AG136*$AG$22+AI136*$AI$22+AK136*$AK$22+AM136*$AM$22+AO136*$AO$22+AQ136*$AQ$22+AS136*$AS$22+AU136*$AU$22+AW136*$AW$22)/(SUM($AG$22:$AW$22)*10)","v":{"$error":"#DIV/0!"}},null,null,"Aller à \nBoîte à outils: ",null,{"$f":"HYPERLINK(\"#\"&ADDRESS(MATCH(I136,Toolbox!$C$1:$C$300),1,,,\"Toolbox\"),VLOOKUP(I136,Toolbox!$C$1:$C$300,1,FALSE))","v":"Système de gestion et d'analyse de la surveillance et la réponse aux foyers épidémiques (SORMAS)"}]
[]
[]
[]
[]
[]
[]
[null,null,null,"Autres ressources intéressantes",null,null,null,null,{"$f":"Backbone!A571","v":"Organisation mondiale de la santé animale (OMSA) Application Alerts du Système mondial d'information sanitaire (WAHIS)"},null,null,null,null,null,null,"Application qui permet à ses utilisateurs de recevoir, sur leurs téléphones mobiles ou tablettes, des alertes sanitaires (notifications immédiates) et des rapports de suivi dès qu'ils sont publiés par l'OMSA.",null,null,null,null,null,null,null,null,{"$f":"INDEX(Backbone!$R$2:$R$893,MATCH(I143,Backbone!$A$2:$A$893,0))","v":"Matériel ou logiciel"},null,null,null,{"$f":"INDEX(Backbone!$S$2:$S$893,MATCH(I143,Backbone!$A$2:$A$893,0))","v":"Spécifique du secteur; Généralisée"},null,null,null,{"$f":"INDEX(Backbone!$H$2:$H$893,MATCH(I143,Backbone!$A$2:$A$893,0))","v":9.6999999999999993},null,{"$f":"INDEX(Backbone!$I$2:$I$893,MATCH(I143,Backbone!$A$2:$A$893,0))","v":10},null,{"$f":"INDEX(Backbone!$J$2:$J$893,MATCH(I143,Backbone!$A$2:$A$893,0))","v":8.8000000000000007},null,{"$f":"INDEX(Backbone!$K$1:$K$893,MATCH(I143,Backbone!$A$1:$A$893,0))","v":8.6999999999999993},null,{"$f":"INDEX(Backbone!$L$2:$L$893,MATCH(I143,Backbone!$A$2:$A$893,0))","v":8.3000000000000007},null,{"$f":"INDEX(Backbone!$M$2:$M$893,MATCH(I143,Backbone!$A$2:$A$893,0))","v":5},null,{"$f":"INDEX(Backbone!$N$2:$N$893,MATCH(I143,Backbone!$A$2:$A$893,0))","v":7.5},null,{"$f":"INDEX(Backbone!$O$2:$O$893,MATCH(I143,Backbone!$A$2:$A$893,0))","v":3.3},null,{"$f":"INDEX(Backbone!$P$2:$P$893,MATCH(I143,Backbone!$A$2:$A$893,0))","v":6},null,{"$f":"INDEX(Backbone!$Q$2:$Q$893,MATCH(I143,Backbone!$A$2:$A$893,0))","v":0.74777777777777776},null,null,{"$f":"(AG143*$AG$22+AI143*$AI$22+AK143*$AK$22+AM143*$AM$22+AO143*$AO$22+AQ143*$AQ$22+AS143*$AS$22+AU143*$AU$22+AW143*$AW$22)/(SUM($AG$22:$AW$22)*10)","v":{"$error":"#DIV/0!"}},null,null,"Aller à \nBoîte à outils: ",null,{"$f":"HYPERLINK(\"#\"&ADDRESS(MATCH(I143,Toolbox!$C$1:$C$300),1,,,\"Toolbox\"),VLOOKUP(I143,Toolbox!$C$1:$C$300,1,FALSE))","v":"Organisation mondiale de la santé animale (OMSA) Application Alerts du Système mondial d'information sanitaire (WAHIS)"}]
[]
[]
[]
[]
[]
[null,null,null,null,null,null,null,null,{"$f":"Backbone!A604","v":"Application de suivi des expositions et des cas de rage (REACT)"},null,null,null,null,null,null,"Un outil visant à soutenir la mise en œuvre de programmes de gestion intégrée des cas de morsures.",null,null,null,null,null,null,null,null,{"$f":"INDEX(Backbone!$R$2:$R$893,MATCH(I149,Backbone!$A$2:$A$893,0))","v":"Matériel ou logiciel"},null,null,null,{"$f":"INDEX(Backbone!$S$2:$S$893,MATCH(I149,Backbone!$A$2:$A$893,0))","v":"«Une seule santé»; spécifique d'une maladie/menace "},null,null,null,{"$f":"INDEX(Backbone!$H$2:$H$893,MATCH(I149,Backbone!$A$2:$A$893,0))","v":8.6},null,{"$f":"INDEX(Backbone!$I$2:$I$893,MATCH(I149,Backbone!$A$2:$A$893,0))","v":8.6},null,{"$f":"INDEX(Backbone!$J$2:$J$893,MATCH(I149,Backbone!$A$2:$A$893,0))","v":8},null,{"$f":"INDEX(Backbone!$K$1:$K$893,MATCH(I149,Backbone!$A$1:$A$893,0))","v":8.6},null,{"$f":"INDEX(Backbone!$L$2:$L$893,MATCH(I149,Backbone!$A$2:$A$893,0))","v":9.4},null,{"$f":"INDEX(Backbone!$M$2:$M$893,MATCH(I149,Backbone!$A$2:$A$893,0))","v":9.5},null,{"$f":"INDEX(Backbone!$N$2:$N$893,MATCH(I149,Backbone!$A$2:$A$893,0))","v":9},null,{"$f":"INDEX(Backbone!$O$2:$O$893,MATCH(I149,Backbone!$A$2:$A$893,0))","v":9.1999999999999993},null,{"$f":"INDEX(Backbone!$P$2:$P$893,MATCH(I149,Backbone!$A$2:$A$893,0))","v":9},null,{"$f":"INDEX(Backbone!$Q$2:$Q$893,MATCH(I149,Backbone!$A$2:$A$893,0))","v":0.88777777777777767},null,null,{"$f":"(AG149*$AG$22+AI149*$AI$22+AK149*$AK$22+AM149*$AM$22+AO149*$AO$22+AQ149*$AQ$22+AS149*$AS$22+AU149*$AU$22+AW149*$AW$22)/(SUM($AG$22:$AW$22)*10)","v":{"$error":"#DIV/0!"}},null,null,"Aller à \nBoîte à outils: ",null,{"$f":"HYPERLINK(\"#\"&ADDRESS(MATCH(I149,Toolbox!$C$1:$C$300),1,,,\"Toolbox\"),VLOOKUP(I149,Toolbox!$C$1:$C$300,1,FALSE))","v":"Application de suivi des expositions et des cas de rage (REACT)"}]
[]
[]
[]
[]
[]
[]
[]
[]
[]
[]
[]
[]
[]
[]
[]
[]
[]
[]
[]
[]
[]
[]
[]
[]
[null,null,null,null,null,null,null,null,null,null,null,null,null,null,null,null,null,null,null,null,null,null,null,null,null,null,null,null,null,null,null,null,"Accessibilité",null,"Langue",null,"Facilité d'utilisation",null,"Flexibilité",null,"Besoins de données",null,"Analyse des données",null,"Acceptabilité",null,"«Une seule santé»",null,"Impact"]
[]
[]
[]
[]
[]
[]
[null,null,null,null,null,null,null,null,null,null,null,null,null,null,null,null,null,null,null,null,null,null,null,null,null,null,null,null,null,null,null,null,null,null,null,null,null,null,null,null,null,null,null,null,null,null,null,null,null,null,"SCORE BRUT",null,null,"SCORE AJUSTÉ \n(Selon les préférences de l'utilisateur)"]
[]
[]
[]
[null,"RESSOURCES DE NIVEAU 3",null,"DÉSIGNATION",null,null,null,null,"NOM DE LA RESSOURCE",null,null,null,null,null,null,"BRÈVE DESCRIPTION",null,null,null,null,null,null,null,null,"TYPE DE RESSOURCE",null,null,null,"CARACTÈRE GÉNÉRAL DE LA RESSOURCE"]
[]
[]
[]
[null,null,null,null,null,null,null,null,null,null,null,null,null,null,null,null,null,null,null,null,null,null,null,null,null,null,null,null,null,null,null,null,{"$f":"'Attribute Survey'!S201","v":0},null,{"$f":"'Attribute Survey'!S205","v":0},null,{"$f":"'Attribute Survey'!S209","v":0},null,{"$f":"'Attribute Survey'!S213","v":0},null,{"$f":"'Attribute Survey'!S217","v":0},null,{"$f":"'Attribute Survey'!S221","v":0},null,{"$f":"'Attribute Survey'!S225","v":0},null,{"$f":"'Attribute Survey'!S229","v":0},null,{"$f":"'Attribute Survey'!S233","v":0}]
[null,null,null,"Ressources les mieux adaptées",null,null,null,null,{"$f":"Backbone!A195","v":"Surveillance intégrée de la maladie et la riposte (IDSR)"},null,null,null,null,null,null,"Une stratégie visant à renforcer les capacités pour la détection, la confirmation et la réponse aux cas suspects et à l'apparition de foyers épidémiques, ainsi que pour l'utilisation des informations afin de prédire et de planifier les événements de santé publique.",null,null,null,null,null,null,null,null,{"$f":"INDEX(Backbone!$R$2:$R$893,MATCH(I190,Backbone!$A$2:$A$893,0))","v":"Document d'orientation"},null,null,null,{"$f":"INDEX(Backbone!$S$2:$S$893,MATCH(I190,Backbone!$A$2:$A$893,0))","v":"Spécifique du secteur; Généralisée"},null,null,null,{"$f":"INDEX(Backbone!$H$2:$H$893,MATCH(I190,Backbone!$A$2:$A$893,0))","v":7.4},null,{"$f":"INDEX(Backbone!$I$2:$I$893,MATCH(I190,Backbone!$A$2:$A$893,0))","v":10},null,{"$f":"INDEX(Backbone!$J$2:$J$893,MATCH(I190,Backbone!$A$2:$A$893,0))","v":7.4},null,{"$f":"INDEX(Backbone!$K$2:$K$893,MATCH(I190,Backbone!$A$2:$A$893,0))","v":8.6999999999999993},null,{"$f":"INDEX(Backbone!$L$2:$L$893,MATCH(I190,Backbone!$A$2:$A$893,0))","v":6.7},null,{"$f":"INDEX(Backbone!$M$2:$M$893,MATCH(I190,Backbone!$A$2:$A$893,0))","v":4.5},null,{"$f":"INDEX(Backbone!$N$2:$N$893,MATCH(I190,Backbone!$A$2:$A$893,0))","v":8},null,{"$f":"INDEX(Backbone!$O$2:$O$893,MATCH(I190,Backbone!$A$2:$A$893,0))","v":7.2},null,{"$f":"INDEX(Backbone!$P$2:$P$893,MATCH(I190,Backbone!$A$2:$A$893,0))","v":8.5},null,{"$f":"INDEX(Backbone!$Q$2:$Q$893,MATCH(I190,Backbone!$A$2:$A$893,0))","v":0.76},null,null,{"$f":"(AG190*$AG$22+AI190*$AI$22+AK190*$AK$22+AM190*$AM$22+AO190*$AO$22+AQ190*$AQ$22+AS190*$AS$22+AU190*$AU$22+AW190*$AW$22)/(SUM($AG$22:$AW$22)*10)","v":{"$error":"#DIV/0!"}},null,null,"Aller à \nBoîte à outils: ",null,{"$f":"HYPERLINK(\"#\"&ADDRESS(MATCH(I190,Toolbox!$C$1:$C$300),1,,,\"Toolbox\"),VLOOKUP(I190,Toolbox!$C$1:$C$300,1,FALSE))","v":"Surveillance intégrée de la maladie et la riposte (IDSR)"}]
[]
[]
[]
[]
[]
[null,null,null,null,null,null,null,null,{"$f":"Backbone!A271","v":"Analyse du réseau des infrastructures de laboratoire (LINA)"},null,null,null,null,null,null,"Une application en ligne facile à utiliser fournissant une fonctionnalité avancée de modélisation computationnelle et d'analyse de données offrant la possibilité de visualiser facilement, à l'aide d'organigrammes, les capacités et les moyens du réseau national de laboratoires, mais aussi de chaque laboratoire séparément. \n\n\n",null,null,null,null,null,null,null,null,{"$f":"INDEX(Backbone!$R$2:$R$893,MATCH(I196,Backbone!$A$2:$A$893,0))","v":"Matériel ou logiciel"},null,null,null,{"$f":"INDEX(Backbone!$S$2:$S$893,MATCH(I196,Backbone!$A$2:$A$893,0))","v":"«Une seule santé»; Généralisée"},null,null,null,{"$f":"INDEX(Backbone!$H$2:$H$893,MATCH(I196,Backbone!$A$2:$A$893,0))","v":9.6},null,{"$f":"INDEX(Backbone!$I$2:$I$893,MATCH(I196,Backbone!$A$2:$A$893,0))","v":6},null,{"$f":"INDEX(Backbone!$J$2:$J$893,MATCH(I196,Backbone!$A$2:$A$893,0))","v":7.6},null,{"$f":"INDEX(Backbone!$K$1:$K$893,MATCH(I196,Backbone!$A$1:$A$893,0))","v":9},null,{"$f":"INDEX(Backbone!$L$2:$L$893,MATCH(I196,Backbone!$A$2:$A$893,0))","v":8.3000000000000007},null,{"$f":"INDEX(Backbone!$M$2:$M$893,MATCH(I196,Backbone!$A$2:$A$893,0))","v":7},null,{"$f":"INDEX(Backbone!$N$2:$N$893,MATCH(I196,Backbone!$A$2:$A$893,0))","v":3},null,{"$f":"INDEX(Backbone!$O$2:$O$893,MATCH(I196,Backbone!$A$2:$A$893,0))","v":9.1},null,{"$f":"INDEX(Backbone!$P$2:$P$893,MATCH(I196,Backbone!$A$2:$A$893,0))","v":4},null,{"$f":"INDEX(Backbone!$Q$2:$Q$893,MATCH(I196,Backbone!$A$2:$A$893,0))","v":0.69555555555555559},null,null,{"$f":"(AG196*$AG$22+AI196*$AI$22+AK196*$AK$22+AM196*$AM$22+AO196*$AO$22+AQ196*$AQ$22+AS196*$AS$22+AU196*$AU$22+AW196*$AW$22)/(SUM($AG$22:$AW$22)*10)","v":{"$error":"#DIV/0!"}},null,null,"Aller à \nBoîte à outils: ",null,{"$f":"HYPERLINK(\"#\"&ADDRESS(MATCH(I196,Toolbox!$C$1:$C$300),1,,,\"Toolbox\"),VLOOKUP(I196,Toolbox!$C$1:$C$300,1,FALSE))","v":"Analyse du réseau des infrastructures de laboratoire (LINA)"}]
[]
[]
[]
[]
[]
[null,null,null,null,null,null,null,null,{"$f":"Backbone!A540","v":"Système de gestion et d'analyse de la surveillance et la réponse aux foyers épidémiques (SORMAS)"},null,null,null,null,null,null,"Un système de santé en ligne mobile et d'exploitation libre qui met en œuvre des procédures de contrôle de maladies et de gestion de flambées épidémiques, et assure la surveillance et la détection précoce des foyers épidémiques grâce à une surveillance numérique en temps réel.",null,null,null,null,null,null,null,null,{"$f":"INDEX(Backbone!$R$2:$R$893,MATCH(I202,Backbone!$A$2:$A$893,0))","v":"Matériel ou logiciel"},null,null,null,{"$f":"INDEX(Backbone!$S$2:$S$893,MATCH(I202,Backbone!$A$2:$A$893,0))","v":"Spécifique du secteur; Généralisée"},null,null,null,{"$f":"INDEX(Backbone!$H$2:$H$893,MATCH(I202,Backbone!$A$2:$A$893,0))","v":9.1999999999999993},null,{"$f":"INDEX(Backbone!$I$2:$I$893,MATCH(I202,Backbone!$A$2:$A$893,0))","v":8},null,{"$f":"INDEX(Backbone!$J$2:$J$893,MATCH(I202,Backbone!$A$2:$A$893,0))","v":9.3000000000000007},null,{"$f":"INDEX(Backbone!$K$1:$K$893,MATCH(I202,Backbone!$A$1:$A$893,0))","v":9.1},null,{"$f":"INDEX(Backbone!$L$2:$L$893,MATCH(I202,Backbone!$A$2:$A$893,0))","v":9.3000000000000007},null,{"$f":"INDEX(Backbone!$M$2:$M$893,MATCH(I202,Backbone!$A$2:$A$893,0))","v":9.3000000000000007},null,{"$f":"INDEX(Backbone!$N$2:$N$893,MATCH(I202,Backbone!$A$2:$A$893,0))","v":6.8},null,{"$f":"INDEX(Backbone!$O$2:$O$893,MATCH(I202,Backbone!$A$2:$A$893,0))","v":3.9},null,{"$f":"INDEX(Backbone!$P$2:$P$893,MATCH(I202,Backbone!$A$2:$A$893,0))","v":5.3},null,{"$f":"INDEX(Backbone!$Q$2:$Q$893,MATCH(I202,Backbone!$A$2:$A$893,0))","v":0.78},null,null,{"$f":"(AG202*$AG$22+AI202*$AI$22+AK202*$AK$22+AM202*$AM$22+AO202*$AO$22+AQ202*$AQ$22+AS202*$AS$22+AU202*$AU$22+AW202*$AW$22)/(SUM($AG$22:$AW$22)*10)","v":{"$error":"#DIV/0!"}},null,null,"Aller à \nBoîte à outils: ",null,{"$f":"HYPERLINK(\"#\"&ADDRESS(MATCH(I202,Toolbox!$C$1:$C$300),1,,,\"Toolbox\"),VLOOKUP(I202,Toolbox!$C$1:$C$300,1,FALSE))","v":"Système de gestion et d'analyse de la surveillance et la réponse aux foyers épidémiques (SORMAS)"}]
[]
[]
[]
[]
[]
[]
[null,null,null,"Autres ressources intéressantes",null,null,null,null,{"$f":"Backbone!A604","v":"Application de suivi des expositions et des cas de rage (REACT)"},null,null,null,null,null,null,"Un outil visant à soutenir la mise en œuvre de programmes de gestion intégrée des cas de morsures.",null,null,null,null,null,null,null,null,{"$f":"INDEX(Backbone!$R$2:$R$893,MATCH(I209,Backbone!$A$2:$A$893,0))","v":"Matériel ou logiciel"},null,null,null,{"$f":"INDEX(Backbone!$S$2:$S$893,MATCH(I209,Backbone!$A$2:$A$893,0))","v":"«Une seule santé»; spécifique d'une maladie/menace "},null,null,null,{"$f":"INDEX(Backbone!$H$2:$H$893,MATCH(I209,Backbone!$A$2:$A$893,0))","v":8.6},null,{"$f":"INDEX(Backbone!$I$2:$I$893,MATCH(I209,Backbone!$A$2:$A$893,0))","v":8.6},null,{"$f":"INDEX(Backbone!$J$2:$J$893,MATCH(I209,Backbone!$A$2:$A$893,0))","v":8},null,{"$f":"INDEX(Backbone!$K$1:$K$893,MATCH(I209,Backbone!$A$1:$A$893,0))","v":8.6},null,{"$f":"INDEX(Backbone!$L$2:$L$893,MATCH(I209,Backbone!$A$2:$A$893,0))","v":9.4},null,{"$f":"INDEX(Backbone!$M$2:$M$893,MATCH(I209,Backbone!$A$2:$A$893,0))","v":9.5},null,{"$f":"INDEX(Backbone!$N$2:$N$893,MATCH(I209,Backbone!$A$2:$A$893,0))","v":9},null,{"$f":"INDEX(Backbone!$O$2:$O$893,MATCH(I209,Backbone!$A$2:$A$893,0))","v":9.1999999999999993},null,{"$f":"INDEX(Backbone!$P$2:$P$893,MATCH(I209,Backbone!$A$2:$A$893,0))","v":9},null,{"$f":"INDEX(Backbone!$Q$2:$Q$893,MATCH(I209,Backbone!$A$2:$A$893,0))","v":0.88777777777777767},null,null,{"$f":"(AG209*$AG$22+AI209*$AI$22+AK209*$AK$22+AM209*$AM$22+AO209*$AO$22+AQ209*$AQ$22+AS209*$AS$22+AU209*$AU$22+AW209*$AW$22)/(SUM($AG$22:$AW$22)*10)","v":{"$error":"#DIV/0!"}},null,null,"Aller à \nBoîte à outils: ",null,{"$f":"HYPERLINK(\"#\"&ADDRESS(MATCH(I209,Toolbox!$C$1:$C$300),1,,,\"Toolbox\"),VLOOKUP(I209,Toolbox!$C$1:$C$300,1,FALSE))","v":"Application de suivi des expositions et des cas de rage (REACT)"}]

{"sheet":"ME1_tools","index":56,"n_rows":154,"n_cols":59,"rows_kept":154,"cut":false,"hidden":false,"merged":[[153,46,157,46],[153,48,157,48],[153,50,157,51],[153,53,157,54],[141,3,157,6],[147,48,151,48],[147,50,151,51],[147,53,151,54],[153,8,157,13],[153,15,157,22],[153,24,157,26],[153,28,157,30],[153,32,157,32],[153,34,157,34],[153,36,157,36],[147,34,151,34],[147,36,151,36],[147,38,151,38],[147,40,151,40],[147,42,151,42],[147,44,151,44],[153,44,157,44],[147,46,151,46],[141,50,145,51],[76,1,104,1],[147,8,151,13],[147,15,151,22],[147,24,151,26],[147,28,151,30],[147,32,151,32],[134,1,158,1],[100,40,104,40],[100,42,104,42],[141,32,145,32],[141,34,145,34],[141,36,145,36],[153,38,157,38],[153,40,157,40],[153,42,157,42],[88,3,104,6],[81,8,85,13],[81,15,85,22],[81,24,85,26],[81,28,85,30],[81,32,85,32],[81,34,85,34],[94,40,98,40],[94,42,98,42],[94,36,98,36],[94,38,98,38],[141,53,145,54],[100,8,104,13],[100,15,104,22],[100,24,104,26],[100,28,104,30],[100,32,104,32],[100,34,104,34],[100,36,104,36],[100,38,104,38],[141,38,145,38],[141,40,145,40],[141,42,145,42],[141,44,145,44],[141,46,145,46],[141,48,145,48],[141,8,145,13],[141,15,145,22],[141,24,145,26],[141,28,145,30],[100,53,104,54],[124,46,138,46],[124,48,138,48],[131,50,138,51],[131,53,138,54],[135,3,138,6],[135,8,138,13],[135,15,138,22],[135,24,138,26],[135,28,138,30],[100,44,104,44],[100,46,104,46],[100,48,104,48],[100,50,104,51],[124,32,138,32],[124,34,138,34],[124,36,138,36],[124,38,138,38],[124,40,138,40],[124,42,138,42],[124,44,138,44],[88,46,92,46],[88,48,92,48],[88,50,92,51],[88,53,92,54],[94,8,98,13],[94,15,98,22],[94,24,98,26],[94,28,98,30],[94,32,98,32],[94,34,98,34],[88,34,92,34],[88,36,92,36],[88,38,92,38],[88,40,92,40],[88,42,92,42],[88,44,92,44],[88,8,92,13],[88,15,92,22],[88,24,92,26],[88,28,92,30],[88,32,92,32],[94,48,98,48],[94,50,98,51],[94,46,98,46],[94,53,98,54],[65,48,79,48],[72,50,79,51],[72,53,79,54],[76,3,79,6],[76,8,79,13],[76,15,79,22],[76,24,79,26],[76,28,79,30],[81,3,85,6],[81,48,85,48],[81,50,85,51],[81,53,85,54],[81,36,85,36],[81,38,85,38],[81,40,85,40],[81,42,85,42],[81,44,85,44],[81,46,85,46],[65,32,79,32],[65,34,79,34],[65,36,79,36],[65,38,79,38],[94,44,98,44],[35,8,39,13],[35,15,39,22],[35,24,39,26],[35,28,39,30],[35,32,39,32],[35,34,39,34],[65,42,79,42],[65,44,79,44],[65,46,79,46],[41,38,45,38],[41,40,45,40],[41,42,45,42],[41,44,45,44],[41,46,45,46],[65,40,79,40],[41,36,45,36],[35,36,39,36],[35,38,39,38],[35,40,39,40],[35,42,39,42],[35,44,39,44],[35,46,39,46],[41,24,45,26],[41,28,45,30],[41,50,45,51],[41,53,45,54],[41,48,45,48],[35,48,39,48],[13,50,20,51],[13,53,20,54],[17,1,45,1],[17,3,20,6],[17,8,20,13],[17,15,20,22],[29,46,33,46],[29,48,33,48],[29,50,33,51],[29,40,33,40],[29,42,33,42],[29,44,33,44],[29,28,33,30],[29,32,33,32],[22,34,26,34],[22,36,26,36],[35,50,39,51],[35,53,39,54],[41,8,45,13],[41,15,45,22],[41,32,45,32],[41,34,45,34],[6,32,20,32],[6,34,20,34],[6,36,20,36],[6,38,20,38],[6,40,20,40],[6,42,20,42],[6,44,20,44],[6,46,20,46],[6,48,20,48],[29,53,33,54],[22,50,26,51],[29,34,33,34],[29,36,33,36],[29,38,33,38],[22,15,26,22],[22,24,26,26],[22,28,26,30],[22,32,26,32],[1,1,3,62],[22,56,26,57],[22,58,26,62],[29,56,33,57],[29,58,33,62],[35,56,39,57],[35,58,39,62],[41,56,45,57],[41,58,45,62],[17,24,20,26],[17,28,20,30],[22,3,26,6],[22,8,26,13],[29,3,45,6],[29,8,33,13],[29,15,33,22],[29,24,33,26],[22,53,26,54],[22,38,26,38],[22,40,26,40],[22,42,26,42],[22,44,26,44],[22,46,26,46],[22,48,26,48],[147,56,151,57],[147,58,151,62],[153,56,157,57],[153,58,157,62],[81,56,85,57],[81,58,85,62],[88,56,92,57],[88,58,92,62],[94,56,98,57],[94,58,98,62],[100,56,104,57],[100,58,104,62],[141,56,145,57],[141,58,145,62]]}
[]
[null,"Ressources sous forme d'exercices de simulation"]
[]
[]
[]
[]
[null,null,null,null,null,null,null,null,null,null,null,null,null,null,null,null,null,null,null,null,null,null,null,null,null,null,null,null,null,null,null,null,"Accessibilité",null,"Langue",null,"Facilité d'utilisation",null,"Flexibilité",null,"Besoins de données",null,"Analyse des données",null,"Acceptabilité",null,"«Une seule santé»",null,"Impact"]
[]
[]
[]
[]
[]
[]
[null,null,null,null,null,null,null,null,null,null,null,null,null,null,null,null,null,null,null,null,null,null,null,null,null,null,null,null,null,null,null,null,null,null,null,null,null,null,null,null,null,null,null,null,null,null,null,null,null,null,"SCORE BRUT",null,null,"SCORE AJUSTÉ \n(Selon les préférences de l'utilisateur)"]
[]
[]
[]
[null,"RESSOURCES DE NIVEAU 1",null,"DÉSIGNATION",null,null,null,null,"NOM DE LA RESSOURCE",null,null,null,null,null,null,"BRÈVE DESCRIPTION",null,null,null,null,null,null,null,null,"TYPE DE RESSOURCE",null,null,null,"CARACTÈRE GÉNÉRAL DE LA RESSOURCE"]
[]
[]
[]
[null,null,null,null,null,null,null,null,null,null,null,null,null,null,null,null,null,null,null,null,null,null,null,null,null,null,null,null,null,null,null,null,{"$f":"'Attribute Survey'!S22","v":0},null,{"$f":"'Attribute Survey'!S26","v":0},null,{"$f":"'Attribute Survey'!S30","v":0},null,{"$f":"'Attribute Survey'!S34","v":0},null,{"$f":"'Attribute Survey'!S38","v":0},null,{"$f":"'Attribute Survey'!S42","v":0},null,{"$f":"'Attribute Survey'!S46","v":0},null,{"$f":"'Attribute Survey'!S50","v":0},null,{"$f":"'Attribute Survey'!S54","v":0}]
[null,null,null,"Ressources les mieux adaptées",null,null,null,null,{"$f":"Backbone!A677","v":"Boîte à outils de simulation"},null,null,null,null,null,null,"Cette boîte à outils aide les plateformes «Une seule santé» et autres parties prenantes à choisir le type de simulation approprié et à concevoir et mettre en œuvre une simulation efficace.",null,null,null,null,null,null,null,null,{"$f":"INDEX(Backbone!$R$2:$R$893,MATCH(I23,Backbone!$A$2:$A$893,0))","v":"Document d'orientation"},null,null,null,{"$f":"INDEX(Backbone!$S$2:$S$893,MATCH(I23,Backbone!$A$2:$A$893,0))","v":"«Une seule santé»; Généralisée"},null,null,null,{"$f":"INDEX(Backbone!$H$2:$H$893,MATCH(I23,Backbone!$A$2:$A$893,0))","v":8.4},null,{"$f":"INDEX(Backbone!$I$2:$I$893,MATCH(I23,Backbone!$A$2:$A$893,0))","v":8},null,{"$f":"INDEX(Backbone!$J$2:$J$893,MATCH(I23,Backbone!$A$2:$A$893,0))","v":8.4},null,{"$f":"INDEX(Backbone!$K$2:$K$893,MATCH(I23,Backbone!$A$2:$A$893,0))","v":6.7},null,{"$f":"INDEX(Backbone!$L$2:$L$893,MATCH(I23,Backbone!$A$2:$A$893,0))","v":2},null,{"$f":"INDEX(Backbone!$M$2:$M$893,MATCH(I23,Backbone!$A$2:$A$893,0))","v":3.5},null,{"$f":"INDEX(Backbone!$N$2:$N$893,MATCH(I23,Backbone!$A$2:$A$893,0))","v":4},null,{"$f":"INDEX(Backbone!$O$2:$O$893,MATCH(I23,Backbone!$A$2:$A$893,0))","v":6.4},null,{"$f":"INDEX(Backbone!$P$2:$P$893,MATCH(I23,Backbone!$A$2:$A$893,0))","v":8},null,{"$f":"INDEX(Backbone!$Q$2:$Q$893,MATCH(I23,Backbone!$A$2:$A$893,0))","v":0.61555555555555552},null,null,{"$f":"(AG23*$AG$22+AI23*$AI$22+AK23*$AK$22+AM23*$AM$22+AO23*$AO$22+AQ23*$AQ$22+AS23*$AS$22+AU23*$AU$22+AW23*$AW$22)/(SUM($AG$22:$AW$22)*10)","v":{"$error":"#DIV/0!"}},null,null,"Aller à \nBoîte à outils: ",null,{"$f":"HYPERLINK(\"#\"&ADDRESS(MATCH(I23,Toolbox!$C$1:$C$300),1,,,\"Toolbox\"),VLOOKUP(I23,Toolbox!$C$1:$C$300,1,FALSE))","v":"Boîte à outils de simulation"}]
[]
[]
[]
[]
[]
[]
[null,null,null,"Autres ressources intéressantes",null,null,null,null,{"$f":"Backbone!A271","v":"Analyse du réseau des infrastructures de laboratoire (LINA)"},null,null,null,null,null,null,"Une application en ligne facile à utiliser fournissant une fonctionnalité avancée de modélisation computationnelle et d'analyse de données offrant la possibilité de visualiser facilement, à l'aide d'organigrammes, les capacités et les moyens du réseau national de laboratoires, mais aussi de chaque laboratoire séparément.",null,null,null,null,null,null,null,null,{"$f":"INDEX(Backbone!$R$2:$R$893,MATCH(I30,Backbone!$A$2:$A$893,0))","v":"Matériel ou logiciel"},null,null,null,{"$f":"INDEX(Backbone!$S$2:$S$893,MATCH(I30,Backbone!$A$2:$A$893,0))","v":"«Une seule santé»; Généralisée"},null,null,null,{"$f":"INDEX(Backbone!$H$2:$H$893,MATCH(I30,Backbone!$A$2:$A$893,0))","v":9.6},null,{"$f":"INDEX(Backbone!$I$2:$I$893,MATCH(I30,Backbone!$A$2:$A$893,0))","v":6},null,{"$f":"INDEX(Backbone!$J$2:$J$893,MATCH(I30,Backbone!$A$2:$A$893,0))","v":7.6},null,{"$f":"INDEX(Backbone!$K$1:$K$893,MATCH(I30,Backbone!$A$1:$A$893,0))","v":9},null,{"$f":"INDEX(Backbone!$L$2:$L$893,MATCH(I30,Backbone!$A$2:$A$893,0))","v":8.3000000000000007},null,{"$f":"INDEX(Backbone!$M$2:$M$893,MATCH(I30,Backbone!$A$2:$A$893,0))","v":7},null,{"$f":"INDEX(Backbone!$N$2:$N$893,MATCH(I30,Backbone!$A$2:$A$893,0))","v":3},null,{"$f":"INDEX(Backbone!$O$2:$O$893,MATCH(I30,Backbone!$A$2:$A$893,0))","v":9.1},null,{"$f":"INDEX(Backbone!$P$2:$P$893,MATCH(I30,Backbone!$A$2:$A$893,0))","v":4},null,{"$f":"INDEX(Backbone!$Q$2:$Q$893,MATCH(I30,Backbone!$A$2:$A$893,0))","v":0.69555555555555559},null,null,{"$f":"(AG30*$AG$22+AI30*$AI$22+AK30*$AK$22+AM30*$AM$22+AO30*$AO$22+AQ30*$AQ$22+AS30*$AS$22+AU30*$AU$22+AW30*$AW$22)/(SUM($AG$22:$AW$22)*10)","v":{"$error":"#DIV/0!"}},null,null,"Aller à \nBoîte à outils: ",null,{"$f":"HYPERLINK(\"#\"&ADDRESS(MATCH(I30,Toolbox!$C$1:$C$300),1,,,\"Toolbox\"),VLOOKUP(I30,Toolbox!$C$1:$C$300,1,FALSE))","v":"Analyse du réseau des infrastructures de laboratoire (LINA)"}]
[]
[]
[]
[]
[]
[null,null,null,null,null,null,null,null,{"$f":"Backbone!A383","v":"Boîte à outils de cartographie et de ressources des systèmes «Une seule santé» (OH-SMART)"},null,null,null,null,null,null,"Un processus en six étapes qui aide les parties prenantes de plusieurs secteurs à cartographier, analyser et améliorer tout système existant qui nécessite une collaboration interdisciplinaire et multisectorielle.",null,null,null,null,null,null,null,null,{"$f":"INDEX(Backbone!$R$2:$R$893,MATCH(I36,Backbone!$A$2:$A$893,0))","v":"Outil ou processus dirigé/facilité"},null,null,null,{"$f":"INDEX(Backbone!$S$2:$S$893,MATCH(I36,Backbone!$A$2:$A$893,0))","v":"«Une seule santé»; Généralisée"},null,null,null,{"$f":"INDEX(Backbone!$H$2:$H$893,MATCH(I36,Backbone!$A$2:$A$893,0))","v":8.6999999999999993},null,{"$f":"INDEX(Backbone!$I$2:$I$893,MATCH(I36,Backbone!$A$2:$A$893,0))","v":7.3},null,{"$f":"INDEX(Backbone!$J$2:$J$893,MATCH(I36,Backbone!$A$2:$A$893,0))","v":8.4},null,{"$f":"INDEX(Backbone!$K$1:$K$893,MATCH(I36,Backbone!$A$1:$A$893,0))","v":9.3000000000000007},null,{"$f":"INDEX(Backbone!$L$2:$L$893,MATCH(I36,Backbone!$A$2:$A$893,0))","v":8.1999999999999993},null,{"$f":"INDEX(Backbone!$M$2:$M$893,MATCH(I36,Backbone!$A$2:$A$893,0))","v":7.4},null,{"$f":"INDEX(Backbone!$N$2:$N$893,MATCH(I36,Backbone!$A$2:$A$893,0))","v":9.5},null,{"$f":"INDEX(Backbone!$O$2:$O$893,MATCH(I36,Backbone!$A$2:$A$893,0))","v":10},null,{"$f":"INDEX(Backbone!$P$2:$P$893,MATCH(I36,Backbone!$A$2:$A$893,0))","v":10},null,{"$f":"INDEX(Backbone!$Q$2:$Q$893,MATCH(I36,Backbone!$A$2:$A$893,0))","v":0.87555555555555564},null,null,{"$f":"(AG36*$AG$22+AI36*$AI$22+AK36*$AK$22+AM36*$AM$22+AO36*$AO$22+AQ36*$AQ$22+AS36*$AS$22+AU36*$AU$22+AW36*$AW$22)/(SUM($AG$22:$AW$22)*10)","v":{"$error":"#DIV/0!"}},null,null,"Aller à \nBoîte à outils: ",null,{"$f":"HYPERLINK(\"#\"&ADDRESS(MATCH(I36,Toolbox!$C$1:$C$300),1,,,\"Toolbox\"),VLOOKUP(I36,Toolbox!$C$1:$C$300,1,FALSE))","v":"Boîte à outils de cartographie et de ressources des systèmes «Une seule santé» (OH-SMART)"}]
[]
[]
[]
[]
[]
[null,null,null,null,null,null,null,null,{"$f":"Backbone!A489","v":"Suite pour une biosurveillance électronique automatisée mondiale (SAGES)"},null,null,null,null,null,null,"Une suite d'outils logiciels d'exploitation libre conçus pour améliorer la surveillance électronique des maladies dans des situations où les ressources sont limitées.",null,null,null,null,null,null,null,null,{"$f":"INDEX(Backbone!$R$2:$R$893,MATCH(I42,Backbone!$A$2:$A$893,0))","v":"Matériel ou logiciel"},null,null,null,{"$f":"INDEX(Backbone!$S$2:$S$893,MATCH(I42,Backbone!$A$2:$A$893,0))","v":"«Une seule santé»; Généralisée"},null,null,null,{"$f":"INDEX(Backbone!$H$2:$H$893,MATCH(I42,Backbone!$A$2:$A$893,0))","v":9.8000000000000007},null,{"$f":"INDEX(Backbone!$I$2:$I$893,MATCH(I42,Backbone!$A$2:$A$893,0))","v":10},null,{"$f":"INDEX(Backbone!$J$2:$J$893,MATCH(I42,Backbone!$A$2:$A$893,0))","v":10},null,{"$f":"INDEX(Backbone!$K$1:$K$893,MATCH(I42,Backbone!$A$1:$A$893,0))","v":9.3000000000000007},null,{"$f":"INDEX(Backbone!$L$2:$L$893,MATCH(I42,Backbone!$A$2:$A$893,0))","v":8.5},null,{"$f":"INDEX(Backbone!$M$2:$M$893,MATCH(I42,Backbone!$A$2:$A$893,0))","v":9},null,{"$f":"INDEX(Backbone!$N$2:$N$893,MATCH(I42,Backbone!$A$2:$A$893,0))","v":5.5},null,{"$f":"INDEX(Backbone!$O$2:$O$893,MATCH(I42,Backbone!$A$2:$A$893,0))","v":9.5},null,{"$f":"INDEX(Backbone!$P$2:$P$893,MATCH(I42,Backbone!$A$2:$A$893,0))","v":7},null,{"$f":"INDEX(Backbone!$Q$2:$Q$893,MATCH(I42,Backbone!$A$2:$A$893,0))","v":0.87333333333333329},null,null,{"$f":"(AG42*$AG$22+AI42*$AI$22+AK42*$AK$22+AM42*$AM$22+AO42*$AO$22+AQ42*$AQ$22+AS42*$AS$22+AU42*$AU$22+AW42*$AW$22)/(SUM($AG$22:$AW$22)*10)","v":{"$error":"#DIV/0!"}},null,null,"Aller à \nBoîte à outils: ",null,{"$f":"HYPERLINK(\"#\"&ADDRESS(MATCH(I42,Toolbox!$C$1:$C$300),1,,,\"Toolbox\"),VLOOKUP(I42,Toolbox!$C$1:$C$300,1,FALSE))","v":"Suite pour une biosurveillance électronique automatisée mondiale (SAGES)"}]
[]
[]
[]
[]
[]
[]
[]
[]
[]
[]
[]
[]
[]
[]
[]
[]
[]
[]
[]
[]
[]
[]
[]
[null,null,null,null,null,null,null,null,null,null,null,null,null,null,null,null,null,null,null,null,null,null,null,null,null,null,null,null,null,null,null,null,"Accessibilité",null,"Langue",null,"Facilité d'utilisation",null,"Flexibilité",null,"Besoins de données",null,"Analyse des données",null,"Acceptabilité",null,"«Une seule santé»",null,"Impact"]
[]
[]
[]
[]
[]
[]
[null,null,null,null,null,null,null,null,null,null,null,null,null,null,null,null,null,null,null,null,null,null,null,null,null,null,null,null,null,null,null,null,null,null,null,null,null,null,null,null,null,null,null,null,null,null,null,null,null,null,"SCORE BRUT",null,null,"SCORE AJUSTÉ \n(Selon les préférences de l'utilisateur)"]
[]
[]
[]
[null,"RESSOURCES DE NIVEAU 2",null,"DÉSIGNATION",null,null,null,null,"NOM DE LA RESSOURCE",null,null,null,null,null,null,"BRÈVE DESCRIPTION",null,null,null,null,null,null,null,null,"TYPE DE RESSOURCE",null,null,null,"CARACTÈRE GÉNÉRAL DE LA RESSOURCE"]
[]
[]
[]
[null,null,null,null,null,null,null,null,null,null,null,null,null,null,null,null,null,null,null,null,null,null,null,null,null,null,null,null,null,null,null,null,{"$f":"'Attribute Survey'!S111","v":0},null,{"$f":"'Attribute Survey'!S115","v":0},null,{"$f":"'Attribute Survey'!S119","v":0},null,{"$f":"'Attribute Survey'!S123","v":0},null,{"$f":"'Attribute Survey'!S127","v":0},null,{"$f":"'Attribute Survey'!S131","v":0},null,{"$f":"'Attribute Survey'!S135","v":0},null,{"$f":"'Attribute Survey'!S139","v":0},null,{"$f":"'Attribute Survey'!S143","v":0}]
[null,null,null,"Ressources les mieux adaptées",null,null,null,null,{"$f":"Backbone!A677","v":"Boîte à outils de simulation"},null,null,null,null,null,null,"Cette boîte à outils aide les plateformes «Une seule santé» et autres parties prenantes à choisir le type de simulation approprié et à concevoir et mettre en œuvre une simulation efficace.",null,null,null,null,null,null,null,null,{"$f":"INDEX(Backbone!$R$2:$R$893,MATCH(I82,Backbone!$A$2:$A$893,0))","v":"Document d'orientation"},null,null,null,{"$f":"INDEX(Backbone!$S$2:$S$893,MATCH(I82,Backbone!$A$2:$A$893,0))","v":"«Une seule santé»; Généralisée"},null,null,null,{"$f":"INDEX(Backbone!$H$2:$H$893,MATCH(I82,Backbone!$A$2:$A$893,0))","v":8.4},null,{"$f":"INDEX(Backbone!$I$2:$I$893,MATCH(I82,Backbone!$A$2:$A$893,0))","v":8},null,{"$f":"INDEX(Backbone!$J$2:$J$893,MATCH(I82,Backbone!$A$2:$A$893,0))","v":8.4},null,{"$f":"INDEX(Backbone!$K$2:$K$893,MATCH(I82,Backbone!$A$2:$A$893,0))","v":6.7},null,{"$f":"INDEX(Backbone!$L$2:$L$893,MATCH(I82,Backbone!$A$2:$A$893,0))","v":2},null,{"$f":"INDEX(Backbone!$M$2:$M$893,MATCH(I82,Backbone!$A$2:$A$893,0))","v":3.5},null,{"$f":"INDEX(Backbone!$N$2:$N$893,MATCH(I82,Backbone!$A$2:$A$893,0))","v":4},null,{"$f":"INDEX(Backbone!$O$2:$O$893,MATCH(I82,Backbone!$A$2:$A$893,0))","v":6.4},null,{"$f":"INDEX(Backbone!$P$2:$P$893,MATCH(I82,Backbone!$A$2:$A$893,0))","v":8},null,{"$f":"INDEX(Backbone!$Q$2:$Q$893,MATCH(I82,Backbone!$A$2:$A$893,0))","v":0.61555555555555552},null,null,{"$f":"(AG82*$AG$22+AI82*$AI$22+AK82*$AK$22+AM82*$AM$22+AO82*$AO$22+AQ82*$AQ$22+AS82*$AS$22+AU82*$AU$22+AW82*$AW$22)/(SUM($AG$22:$AW$22)*10)","v":{"$error":"#DIV/0!"}},null,null,"Aller à \nBoîte à outils: ",null,{"$f":"HYPERLINK(\"#\"&ADDRESS(MATCH(I82,Toolbox!$C$1:$C$300),1,,,\"Toolbox\"),VLOOKUP(I82,Toolbox!$C$1:$C$300,1,FALSE))","v":"Boîte à outils de simulation"}]
[]
[]
[]
[]
[]
[]
[null,null,null,"Autres ressources intéressantes",null,null,null,null,{"$f":"Backbone!A271","v":"Analyse du réseau des infrastructures de laboratoire (LINA)"},null,null,null,null,null,null,"Une application en ligne facile à utiliser fournissant une fonctionnalité avancée de modélisation computationnelle et d'analyse de données offrant la possibilité de visualiser facilement, à l'aide d'organigrammes, les capacités et les moyens du réseau national de laboratoires, mais aussi de chaque laboratoire séparément.\n\n\n",null,null,null,null,null,null,null,null,{"$f":"INDEX(Backbone!$R$2:$R$893,MATCH(I89,Backbone!$A$2:$A$893,0))","v":"Matériel ou logiciel"},null,null,null,{"$f":"INDEX(Backbone!$S$2:$S$893,MATCH(I89,Backbone!$A$2:$A$893,0))","v":"«Une seule santé»; Généralisée"},null,null,null,{"$f":"INDEX(Backbone!$H$2:$H$893,MATCH(I89,Backbone!$A$2:$A$893,0))","v":9.6},null,{"$f":"INDEX(Backbone!$I$2:$I$893,MATCH(I89,Backbone!$A$2:$A$893,0))","v":6},null,{"$f":"INDEX(Backbone!$J$2:$J$893,MATCH(I89,Backbone!$A$2:$A$893,0))","v":7.6},null,{"$f":"INDEX(Backbone!$K$1:$K$893,MATCH(I89,Backbone!$A$1:$A$893,0))","v":9},null,{"$f":"INDEX(Backbone!$L$2:$L$893,MATCH(I89,Backbone!$A$2:$A$893,0))","v":8.3000000000000007},null,{"$f":"INDEX(Backbone!$M$2:$M$893,MATCH(I89,Backbone!$A$2:$A$893,0))","v":7},null,{"$f":"INDEX(Backbone!$N$2:$N$893,MATCH(I89,Backbone!$A$2:$A$893,0))","v":3},null,{"$f":"INDEX(Backbone!$O$2:$O$893,MATCH(I89,Backbone!$A$2:$A$893,0))","v":9.1},null,{"$f":"INDEX(Backbone!$P$2:$P$893,MATCH(I89,Backbone!$A$2:$A$893,0))","v":4},null,{"$f":"INDEX(Backbone!$Q$2:$Q$893,MATCH(I89,Backbone!$A$2:$A$893,0))","v":0.69555555555555559},null,null,{"$f":"(AG89*$AG$22+AI89*$AI$22+AK89*$AK$22+AM89*$AM$22+AO89*$AO$22+AQ89*$AQ$22+AS89*$AS$22+AU89*$AU$22+AW89*$AW$22)/(SUM($AG$22:$AW$22)*10)","v":{"$error":"#DIV/0!"}},null,null,"Aller à \nBoîte à outils: ",null,{"$f":"HYPERLINK(\"#\"&ADDRESS(MATCH(I89,Toolbox!$C$1:$C$300),1,,,\"Toolbox\"),VLOOKUP(I89,Toolbox!$C$1:$C$300,1,FALSE))","v":"Analyse du réseau des infrastructures de laboratoire (LINA)"}]
[]
[]
[]
[]
[]
[null,null,null,null,null,null,null,null,{"$f":"Backbone!A383","v":"Boîte à outils de cartographie et de ressources des systèmes «Une seule santé» (OH-SMART)"},null,null,null,null,null,null,"Un processus en six étapes qui aide les parties prenantes de plusieurs secteurs à cartographier, analyser et améliorer tout système existant qui nécessite une collaboration interdisciplinaire et multisectorielle. ",null,null,null,null,null,null,null,null,{"$f":"INDEX(Backbone!$R$2:$R$893,MATCH(I95,Backbone!$A$2:$A$893,0))","v":"Outil ou processus dirigé/facilité"},null,null,null,{"$f":"INDEX(Backbone!$S$2:$S$893,MATCH(I95,Backbone!$A$2:$A$893,0))","v":"«Une seule santé»; Généralisée"},null,null,null,{"$f":"INDEX(Backbone!$H$2:$H$893,MATCH(I95,Backbone!$A$2:$A$893,0))","v":8.6999999999999993},null,{"$f":"INDEX(Backbone!$I$2:$I$893,MATCH(I95,Backbone!$A$2:$A$893,0))","v":7.3},null,{"$f":"INDEX(Backbone!$J$2:$J$893,MATCH(I95,Backbone!$A$2:$A$893,0))","v":8.4},null,{"$f":"INDEX(Backbone!$K$1:$K$893,MATCH(I95,Backbone!$A$1:$A$893,0))","v":9.3000000000000007},null,{"$f":"INDEX(Backbone!$L$2:$L$893,MATCH(I95,Backbone!$A$2:$A$893,0))","v":8.1999999999999993},null,{"$f":"INDEX(Backbone!$M$2:$M$893,MATCH(I95,Backbone!$A$2:$A$893,0))","v":7.4},null,{"$f":"INDEX(Backbone!$N$2:$N$893,MATCH(I95,Backbone!$A$2:$A$893,0))","v":9.5},null,{"$f":"INDEX(Backbone!$O$2:$O$893,MATCH(I95,Backbone!$A$2:$A$893,0))","v":10},null,{"$f":"INDEX(Backbone!$P$2:$P$893,MATCH(I95,Backbone!$A$2:$A$893,0))","v":10},null,{"$f":"INDEX(Backbone!$Q$2:$Q$893,MATCH(I95,Backbone!$A$2:$A$893,0))","v":0.87555555555555564},null,null,{"$f":"(AG95*$AG$22+AI95*$AI$22+AK95*$AK$22+AM95*$AM$22+AO95*$AO$22+AQ95*$AQ$22+AS95*$AS$22+AU95*$AU$22+AW95*$AW$22)/(SUM($AG$22:$AW$22)*10)","v":{"$error":"#DIV/0!"}},null,null,"Aller à \nBoîte à outils: ",null,{"$f":"HYPERLINK(\"#\"&ADDRESS(MATCH(I95,Toolbox!$C$1:$C$300),1,,,\"Toolbox\"),VLOOKUP(I95,Toolbox!$C$1:$C$300,1,FALSE))","v":"Boîte à outils de cartographie et de ressources des systèmes «Une seule santé» (OH-SMART)"}]
[]
[]
[]
[]
[]
[null,null,null,null,null,null,null,null,{"$f":"Backbone!A489","v":"Suite pour une biosurveillance électronique automatisée mondiale (SAGES)"},null,null,null,null,null,null,"Une suite d'outils logiciels d'exploitation libre conçus pour améliorer la surveillance électronique des maladies dans des situations où les ressources sont limitées.",null,null,null,null,null,null,null,null,{"$f":"INDEX(Backbone!$R$2:$R$893,MATCH(I101,Backbone!$A$2:$A$893,0))","v":"Matériel ou logiciel"},null,null,null,{"$f":"INDEX(Backbone!$S$2:$S$893,MATCH(I101,Backbone!$A$2:$A$893,0))","v":"«Une seule santé»; Généralisée"},null,null,null,{"$f":"INDEX(Backbone!$H$2:$H$893,MATCH(I101,Backbone!$A$2:$A$893,0))","v":9.8000000000000007},null,{"$f":"INDEX(Backbone!$I$2:$I$893,MATCH(I101,Backbone!$A$2:$A$893,0))","v":10},null,{"$f":"INDEX(Backbone!$J$2:$J$893,MATCH(I101,Backbone!$A$2:$A$893,0))","v":10},null,{"$f":"INDEX(Backbone!$K$1:$K$893,MATCH(I101,Backbone!$A$1:$A$893,0))","v":9.3000000000000007},null,{"$f":"INDEX(Backbone!$L$2:$L$893,MATCH(I101,Backbone!$A$2:$A$893,0))","v":8.5},null,{"$f":"INDEX(Backbone!$M$2:$M$893,MATCH(I101,Backbone!$A$2:$A$893,0))","v":9},null,{"$f":"INDEX(Backbone!$N$2:$N$893,MATCH(I101,Backbone!$A$2:$A$893,0))","v":5.5},null,{"$f":"INDEX(Backbone!$O$2:$O$893,MATCH(I101,Backbone!$A$2:$A$893,0))","v":9.5},null,{"$f":"INDEX(Backbone!$P$2:$P$893,MATCH(I101,Backbone!$A$2:$A$893,0))","v":7},null,{"$f":"INDEX(Backbone!$Q$2:$Q$893,MATCH(I101,Backbone!$A$2:$A$893,0))","v":0.87333333333333329},null,null,{"$f":"(AG101*$AG$22+AI101*$AI$22+AK101*$AK$22+AM101*$AM$22+AO101*$AO$22+AQ101*$AQ$22+AS101*$AS$22+AU101*$AU$22+AW101*$AW$22)/(SUM($AG$22:$AW$22)*10)","v":{"$error":"#DIV/0!"}},null,null,"Aller à \nBoîte à outils: ",null,{"$f":"HYPERLINK(\"#\"&ADDRESS(MATCH(I101,Toolbox!$C$1:$C$300),1,,,\"Toolbox\"),VLOOKUP(I101,Toolbox!$C$1:$C$300,1,FALSE))","v":"Suite pour une biosurveillance électronique automatisée mondiale (SAGES)"}]
[]
[]
[]
[]
[]
[]
[]
[]
[]
[]
[]
[]
[]
[]
[]
[]
[]
[]
[]
[]
[]
[]
[]
[null,null,null,null,null,null,null,null,null,null,null,null,null,null,null,null,null,null,null,null,null,null,null,null,null,null,null,null,null,null,null,null,"Accessibilité",null,"Langue",null,"Facilité d'utilisation",null,"Flexibilité",null,"Besoins de données",null,"Analyse des données",null,"Acceptabilité",null,"«Une seule santé»",null,"Impact"]
[]
[]
[]
[]
[]
[]
[null,null,null,null,null,null,null,null,null,null,null,null,null,null,null,null,null,null,null,null,null,null,null,null,null,null,null,null,null,null,null,null,null,null,null,null,null,null,null,null,null,null,null,null,null,null,null,null,null,null,"SCORE BRUT",null,null,"SCORE AJUSTÉ \n(Selon les préférences de l'utilisateur)"]
[]
[]
[null,"RESSOURCES DE NIVEAU 3"]
[null,null,null,"DÉSIGNATION",null,null,null,null,"NOM DE LA RESSOURCE",null,null,null,null,null,null,"BRÈVE DESCRIPTION",null,null,null,null,null,null,null,null,"TYPE DE RESSOURCE",null,null,null,"CARACTÈRE GÉNÉRAL DE LA RESSOURCE"]
[]
[]
[]
[null,null,null,null,null,null,null,null,null,null,null,null,null,null,null,null,null,null,null,null,null,null,null,null,null,null,null,null,null,null,null,null,{"$f":"'Attribute Survey'!S201","v":0},null,{"$f":"'Attribute Survey'!S205","v":0},null,{"$f":"'Attribute Survey'!S209","v":0},null,{"$f":"'Attribute Survey'!S213","v":0},null,{"$f":"'Attribute Survey'!S217","v":0},null,{"$f":"'Attribute Survey'!S221","v":0},null,{"$f":"'Attribute Survey'!S225","v":0},null,{"$f":"'Attribute Survey'!S229","v":0},null,{"$f":"'Attribute Survey'!S233","v":0}]
[]
[null,null,null,"Autres ressources intéressantes",null,null,null,null,{"$f":"Backbone!A383","v":"Boîte à outils de cartographie et de ressources des systèmes «Une seule santé» (OH-SMART)"},null,null,null,null,null,null,"Un processus en six étapes qui aide les parties prenantes de plusieurs secteurs à cartographier, analyser et améliorer tout système existant qui nécessite une collaboration interdisciplinaire et multisectorielle.",null,null,null,null,null,null,null,null,{"$f":"INDEX(Backbone!$R$2:$R$893,MATCH(I142,Backbone!$A$2:$A$893,0))","v":"Outil ou processus dirigé/facilité"},null,null,null,{"$f":"INDEX(Backbone!$S$2:$S$893,MATCH(I142,Backbone!$A$2:$A$893,0))","v":"«Une seule santé»; Généralisée"},null,null,null,{"$f":"INDEX(Backbone!$H$2:$H$893,MATCH(I142,Backbone!$A$2:$A$893,0))","v":8.6999999999999993},null,{"$f":"INDEX(Backbone!$I$2:$I$893,MATCH(I142,Backbone!$A$2:$A$893,0))","v":7.3},null,{"$f":"INDEX(Backbone!$J$2:$J$893,MATCH(I142,Backbone!$A$2:$A$893,0))","v":8.4},null,{"$f":"INDEX(Backbone!$K$1:$K$893,MATCH(I142,Backbone!$A$1:$A$893,0))","v":9.3000000000000007},null,{"$f":"INDEX(Backbone!$L$2:$L$893,MATCH(I142,Backbone!$A$2:$A$893,0))","v":8.1999999999999993},null,{"$f":"INDEX(Backbone!$M$2:$M$893,MATCH(I142,Backbone!$A$2:$A$893,0))","v":7.4},null,{"$f":"INDEX(Backbone!$N$2:$N$893,MATCH(I142,Backbone!$A$2:$A$893,0))","v":9.5},null,{"$f":"INDEX(Backbone!$O$2:$O$893,MATCH(I142,Backbone!$A$2:$A$893,0))","v":10},null,{"$f":"INDEX(Backbone!$P$2:$P$893,MATCH(I142,Backbone!$A$2:$A$893,0))","v":10},null,{"$f":"INDEX(Backbone!$Q$2:$Q$893,MATCH(I142,Backbone!$A$2:$A$893,0))","v":0.87555555555555564},null,null,{"$f":"(AG142*$AG$22+AI142*$AI$22+AK142*$AK$22+AM142*$AM$22+AO142*$AO$22+AQ142*$AQ$22+AS142*$AS$22+AU142*$AU$22+AW142*$AW$22)/(SUM($AG$22:$AW$22)*10)","v":{"$error":"#DIV/0!"}},null,null,"Aller à \nBoîte à outils: ",null,{"$f":"HYPERLINK(\"#\"&ADDRESS(MATCH(I142,Toolbox!$C$1:$C$300),1,,,\"Toolbox\"),VLOOKUP(I142,Toolbox!$C$1:$C$300,1,FALSE))","v":"Boîte à outils de cartographie et de ressources des systèmes «Une seule santé» (OH-SMART)"}]
[]
[]
[]
[]
[]
[null,null,null,null,null,null,null,null,{"$f":"Backbone!A677","v":"Boîte à outils de simulation"},null,null,null,null,null,null,"Cette boîte à outils aide les plateformes «Une seule santé» et autres parties prenantes à choisir le type de simulation approprié et à concevoir et mettre en œuvre une simulation efficace.",null,null,null,null,null,null,null,null,{"$f":"INDEX(Backbone!$R$2:$R$893,MATCH(I148,Backbone!$A$2:$A$893,0))","v":"Document d'orientation"},null,null,null,{"$f":"INDEX(Backbone!$S$2:$S$893,MATCH(I148,Backbone!$A$2:$A$893,0))","v":"«Une seule santé»; Généralisée"},null,null,null,{"$f":"INDEX(Backbone!$H$2:$H$893,MATCH(I148,Backbone!$A$2:$A$893,0))","v":8.4},null,{"$f":"INDEX(Backbone!$I$2:$I$893,MATCH(I148,Backbone!$A$2:$A$893,0))","v":8},null,{"$f":"INDEX(Backbone!$J$2:$J$893,MATCH(I148,Backbone!$A$2:$A$893,0))","v":8.4},null,{"$f":"INDEX(Backbone!$K$1:$K$893,MATCH(I148,Backbone!$A$1:$A$893,0))","v":6.7},null,{"$f":"INDEX(Backbone!$L$2:$L$893,MATCH(I148,Backbone!$A$2:$A$893,0))","v":2},null,{"$f":"INDEX(Backbone!$M$2:$M$893,MATCH(I148,Backbone!$A$2:$A$893,0))","v":3.5},null,{"$f":"INDEX(Backbone!$N$2:$N$893,MATCH(I148,Backbone!$A$2:$A$893,0))","v":4},null,{"$f":"INDEX(Backbone!$O$2:$O$893,MATCH(I148,Backbone!$A$2:$A$893,0))","v":6.4},null,{"$f":"INDEX(Backbone!$P$2:$P$893,MATCH(I148,Backbone!$A$2:$A$893,0))","v":8},null,{"$f":"INDEX(Backbone!$Q$2:$Q$893,MATCH(I148,Backbone!$A$2:$A$893,0))","v":0.61555555555555552},null,null,{"$f":"(AG148*$AG$22+AI148*$AI$22+AK148*$AK$22+AM148*$AM$22+AO148*$AO$22+AQ148*$AQ$22+AS148*$AS$22+AU148*$AU$22+AW148*$AW$22)/(SUM($AG$22:$AW$22)*10)","v":{"$error":"#DIV/0!"}},null,null,"Aller à \nBoîte à outils: ",null,{"$f":"HYPERLINK(\"#\"&ADDRESS(MATCH(I148,Toolbox!$C$1:$C$300),1,,,\"Toolbox\"),VLOOKUP(I148,Toolbox!$C$1:$C$300,1,FALSE))","v":"Boîte à outils de simulation"}]
[]
[]
[]
[]
[]
[null,null,null,null,null,null,null,null,{"$f":"Backbone!A489","v":"Suite pour une biosurveillance électronique automatisée mondiale (SAGES)"},null,null,null,null,null,null,"Une suite d'outils logiciels d'exploitation libre conçus pour améliorer la surveillance électronique des maladies dans des situations où les ressources sont limitées.",null,null,null,null,null,null,null,null,{"$f":"INDEX(Backbone!$R$2:$R$893,MATCH(I154,Backbone!$A$2:$A$893,0))","v":"Matériel ou logiciel"},null,null,null,{"$f":"INDEX(Backbone!$S$2:$S$893,MATCH(I154,Backbone!$A$2:$A$893,0))","v":"«Une seule santé»; Généralisée"},null,null,null,{"$f":"INDEX(Backbone!$H$2:$H$893,MATCH(I154,Backbone!$A$2:$A$893,0))","v":9.8000000000000007},null,{"$f":"INDEX(Backbone!$I$2:$I$893,MATCH(I154,Backbone!$A$2:$A$893,0))","v":10},null,{"$f":"INDEX(Backbone!$J$2:$J$893,MATCH(I154,Backbone!$A$2:$A$893,0))","v":10},null,{"$f":"INDEX(Backbone!$K$1:$K$893,MATCH(I154,Backbone!$A$1:$A$893,0))","v":9.3000000000000007},null,{"$f":"INDEX(Backbone!$L$2:$L$893,MATCH(I154,Backbone!$A$2:$A$893,0))","v":8.5},null,{"$f":"INDEX(Backbone!$M$2:$M$893,MATCH(I154,Backbone!$A$2:$A$893,0))","v":9},null,{"$f":"INDEX(Backbone!$N$2:$N$893,MATCH(I154,Backbone!$A$2:$A$893,0))","v":5.5},null,{"$f":"INDEX(Backbone!$O$2:$O$893,MATCH(I154,Backbone!$A$2:$A$893,0))","v":9.5},null,{"$f":"INDEX(Backbone!$P$2:$P$893,MATCH(I154,Backbone!$A$2:$A$893,0))","v":7},null,{"$f":"INDEX(Backbone!$Q$2:$Q$893,MATCH(I154,Backbone!$A$2:$A$893,0))","v":0.87333333333333329},null,null,{"$f":"(AG154*$AG$22+AI154*$AI$22+AK154*$AK$22+AM154*$AM$22+AO154*$AO$22+AQ154*$AQ$22+AS154*$AS$22+AU154*$AU$22+AW154*$AW$22)/(SUM($AG$22:$AW$22)*10)","v":{"$error":"#DIV/0!"}},null,null,"Aller à \nBoîte à outils: ",null,{"$f":"HYPERLINK(\"#\"&ADDRESS(MATCH(I154,Toolbox!$C$1:$C$300),1,,,\"Toolbox\"),VLOOKUP(I154,Toolbox!$C$1:$C$300,1,FALSE))","v":"Suite pour une biosurveillance électronique automatisée mondiale (SAGES)"}]

{"sheet":"ME2_tools","index":57,"n_rows":178,"n_cols":59,"rows_kept":178,"cut":false,"hidden":false,"merged":[[177,48,181,48],[177,50,181,51],[177,53,181,54],[159,3,181,6],[152,1,181,1],[177,36,181,36],[177,38,181,38],[177,40,181,40],[177,42,181,42],[177,44,181,44],[177,46,181,46],[177,8,181,13],[177,15,181,22],[177,24,181,26],[177,28,181,30],[177,32,181,32],[177,34,181,34],[171,50,175,51],[171,53,175,54],[171,38,175,38],[171,40,175,40],[171,42,175,42],[171,44,175,44],[171,46,175,46],[118,44,122,44],[118,46,122,46],[118,48,122,48],[118,50,122,51],[118,53,122,54],[100,3,122,6],[118,32,122,32],[118,34,122,34],[118,36,122,36],[118,38,122,38],[118,40,122,40],[118,42,122,42],[112,48,116,48],[112,50,116,51],[112,53,116,54],[112,46,116,46],[106,46,110,46],[106,48,110,48],[106,50,110,51],[106,53,110,54],[106,34,110,34],[106,36,110,36],[106,38,110,38],[106,40,110,40],[29,3,57,6],[17,1,57,1],[118,8,122,13],[118,15,122,22],[118,24,122,26],[118,28,122,30],[88,1,122,1],[53,42,57,42],[53,44,57,44],[47,32,51,32],[47,34,51,34],[47,36,51,36],[47,38,51,38],[112,36,116,36],[112,38,116,38],[112,40,116,40],[112,42,116,42],[112,44,116,44],[112,8,116,13],[112,15,116,22],[112,24,116,26],[112,28,116,30],[112,32,116,32],[112,34,116,34],[53,46,57,46],[53,48,57,48],[53,50,57,51],[53,53,57,54],[47,53,51,54],[53,8,57,13],[53,15,57,22],[53,24,57,26],[53,28,57,30],[53,32,57,32],[53,34,57,34],[53,36,57,36],[53,38,57,38],[53,40,57,40],[47,40,51,40],[47,42,51,42],[47,44,51,44],[47,46,51,46],[47,48,51,48],[47,50,51,51],[47,8,51,13],[47,15,51,22],[47,24,51,26],[47,28,51,30],[171,48,175,48],[165,48,169,48],[165,50,169,51],[165,53,169,54],[171,8,175,13],[171,15,175,22],[171,24,175,26],[171,28,175,30],[171,32,175,32],[171,34,175,34],[171,36,175,36],[165,36,169,36],[165,38,169,38],[165,40,169,40],[165,42,169,42],[165,44,169,44],[165,46,169,46],[159,46,163,46],[159,48,163,48],[159,50,163,51],[159,53,163,54],[165,8,169,13],[165,15,169,22],[165,24,169,26],[165,28,169,30],[165,32,169,32],[165,34,169,34],[159,34,163,34],[159,36,163,36],[159,38,163,38],[159,40,163,40],[159,42,163,42],[159,44,163,44],[159,8,163,13],[159,15,163,22],[159,24,163,26],[159,28,163,30],[159,32,163,32],[142,46,156,46],[142,48,156,48],[149,50,156,51],[149,53,156,54],[153,3,156,6],[153,8,156,13],[153,15,156,22],[153,24,156,26],[153,28,156,30],[142,32,156,32],[142,34,156,34],[142,36,156,36],[142,38,156,38],[142,40,156,40],[142,42,156,42],[142,44,156,44],[106,42,110,42],[106,44,110,44],[100,44,104,44],[100,46,104,46],[100,48,104,48],[100,50,104,51],[100,53,104,54],[106,8,110,13],[106,15,110,22],[106,24,110,26],[106,28,110,30],[106,32,110,32],[100,32,104,32],[100,34,104,34],[100,36,104,36],[100,38,104,38],[100,40,104,40],[100,42,104,42],[93,50,97,51],[93,53,97,54],[100,8,104,13],[100,15,104,22],[100,24,104,26],[100,28,104,30],[93,32,97,32],[93,34,97,34],[93,36,97,36],[93,38,97,38],[93,40,97,40],[93,42,97,42],[93,3,97,6],[93,8,97,13],[93,15,97,22],[93,24,97,26],[93,28,97,30],[77,44,91,44],[77,46,91,46],[77,48,91,48],[93,44,97,44],[93,46,97,46],[93,48,97,48],[84,50,91,51],[84,53,91,54],[88,3,91,6],[88,8,91,13],[88,15,91,22],[88,24,91,26],[77,32,91,32],[77,34,91,34],[77,36,91,36],[77,38,91,38],[77,40,91,40],[77,42,91,42],[88,28,91,30],[41,42,45,42],[41,44,45,44],[41,46,45,46],[41,48,45,48],[41,50,45,51],[41,53,45,54],[35,53,39,54],[41,8,45,13],[41,15,45,22],[41,24,45,26],[41,28,45,30],[41,32,45,32],[41,34,45,34],[41,36,45,36],[41,38,45,38],[41,40,45,40],[35,40,39,40],[35,42,39,42],[35,44,39,44],[35,46,39,46],[35,48,39,48],[35,50,39,51],[29,50,33,51],[29,53,33,54],[35,8,39,13],[35,15,39,22],[35,24,39,26],[35,28,39,30],[35,32,39,32],[35,34,39,34],[35,36,39,36],[35,38,39,38],[29,38,33,38],[29,40,33,40],[29,42,33,42],[29,44,33,44],[29,46,33,46],[29,48,33,48],[29,8,33,13],[29,15,33,22],[29,24,33,26],[29,28,33,30],[29,32,33,32],[29,34,33,34],[29,36,33,36],[22,38,26,38],[22,40,26,40],[22,15,26,22],[22,24,26,26],[22,28,26,30],[22,32,26,32],[22,34,26,34],[22,36,26,36],[13,50,20,51],[13,53,20,54],[17,3,20,6],[17,8,20,13],[17,15,20,22],[17,24,20,26],[17,28,20,30],[1,1,3,62],[22,3,26,6],[22,8,26,13],[22,50,26,51],[22,53,26,54],[22,42,26,42],[22,44,26,44],[22,46,26,46],[22,48,26,48],[6,32,20,32],[6,34,20,34],[6,36,20,36],[6,38,20,38],[6,40,20,40],[6,42,20,42],[6,44,20,44],[6,46,20,46],[6,48,20,48],[22,56,26,57],[22,58,26,62],[29,56,33,57],[29,58,33,62],[35,56,39,57],[35,58,39,62],[41,56,45,57],[41,58,45,62],[47,56,51,57],[47,58,51,62],[53,56,57,57],[53,58,57,62],[93,56,97,57],[93,58,97,62],[100,56,104,57],[100,58,104,62],[106,56,110,57],[106,58,110,62],[112,56,116,57],[112,58,116,62],[118,56,122,57],[118,58,122,62],[159,56,163,57],[159,58,163,62],[165,56,169,57],[165,58,169,62],[171,56,175,57],[171,58,175,62],[177,56,181,57],[177,58,181,62]]}
[]
[null,"Ressources pour la planification du suivi et de l'évaluation"]
[]
[]
[]
[]
[null,null,null,null,null,null,null,null,null,null,null,null,null,null,null,null,null,null,null,null,null,null,null,null,null,null,null,null,null,null,null,null,"Accessibilité",null,"Langue",null,"Facilité d'utilisation",null,"Flexibilité",null,"Besoins de données",null,"Analyse des données",null,"Acceptabilité",null,"«Une seule santé»",null,"Impact"]
[]
[]
[]
[]
[]
[]
[null,null,null,null,null,null,null,null,null,null,null,null,null,null,null,null,null,null,null,null,null,null,null,null,null,null,null,null,null,null,null,null,null,null,null,null,null,null,null,null,null,null,null,null,null,null,null,null,null,null,"SCORE BRUT",null,null,"SCORE AJUSTÉ \n(Selon les préférences de l'utilisateur)"]
[]
[]
[]
[null,"RESSOURCES DE NIVEAU 1",null,"DÉSIGNATION",null,null,null,null,"NOM DE LA RESSOURCE",null,null,null,null,null,null,"BRÈVE DESCRIPTION",null,null,null,null,null,null,null,null,"TYPE DE RESSOURCE",null,null,null,"CARACTÈRE GÉNÉRAL DE LA RESSOURCE"]
[]
[]
[]
[null,null,null,null,null,null,null,null,null,null,null,null,null,null,null,null,null,null,null,null,null,null,null,null,null,null,null,null,null,null,null,null,{"$f":"'Attribute Survey'!S22","v":0},null,{"$f":"'Attribute Survey'!S26","v":0},null,{"$f":"'Attribute Survey'!S30","v":0},null,{"$f":"'Attribute Survey'!S34","v":0},null,{"$f":"'Attribute Survey'!S38","v":0},null,{"$f":"'Attribute Survey'!S42","v":0},null,{"$f":"'Attribute Survey'!S46","v":0},null,{"$f":"'Attribute Survey'!S50","v":0},null,{"$f":"'Attribute Survey'!S54","v":0}]
[null,null,null,"Ressources les mieux adaptées",null,null,null,null,{"$f":"Backbone!A561","v":"Cadre d'évaluation de la surveillance (SurF)"},null,null,null,null,null,null,"Un cadre d'évaluation des systèmes de surveillance utilisable dans les domaines de la biosécurité, de la santé végétale ou animale. ",null,null,null,null,null,null,null,null,{"$f":"INDEX(Backbone!$R$2:$R$893,MATCH(I23,Backbone!$A$2:$A$893,0))","v":"Document d'orientation"},null,null,null,{"$f":"INDEX(Backbone!$S$2:$S$893,MATCH(I23,Backbone!$A$2:$A$893,0))","v":"«Une seule santé»; Généralisée"},null,null,null,{"$f":"INDEX(Backbone!$H$2:$H$893,MATCH(I23,Backbone!$A$2:$A$893,0))","v":7.6},null,{"$f":"INDEX(Backbone!$I$2:$I$893,MATCH(I23,Backbone!$A$2:$A$893,0))","v":6},null,{"$f":"INDEX(Backbone!$J$2:$J$893,MATCH(I23,Backbone!$A$2:$A$893,0))","v":8},null,{"$f":"INDEX(Backbone!$K$2:$K$893,MATCH(I23,Backbone!$A$2:$A$893,0))","v":8.6999999999999993},null,{"$f":"INDEX(Backbone!$L$2:$L$893,MATCH(I23,Backbone!$A$2:$A$893,0))","v":8.6},null,{"$f":"INDEX(Backbone!$M$2:$M$893,MATCH(I23,Backbone!$A$2:$A$893,0))","v":4.0999999999999996},null,{"$f":"INDEX(Backbone!$N$2:$N$893,MATCH(I23,Backbone!$A$2:$A$893,0))","v":4},null,{"$f":"INDEX(Backbone!$O$2:$O$893,MATCH(I23,Backbone!$A$2:$A$893,0))","v":8},null,{"$f":"INDEX(Backbone!$P$2:$P$893,MATCH(I23,Backbone!$A$2:$A$893,0))","v":4},null,{"$f":"INDEX(Backbone!$Q$2:$Q$893,MATCH(I23,Backbone!$A$2:$A$893,0))","v":0.65555555555555556},null,null,{"$f":"(AG23*$AG$22+AI23*$AI$22+AK23*$AK$22+AM23*$AM$22+AO23*$AO$22+AQ23*$AQ$22+AS23*$AS$22+AU23*$AU$22+AW23*$AW$22)/(SUM($AG$22:$AW$22)*10)","v":{"$error":"#DIV/0!"}},null,null,"Aller à \nBoîte à outils: ",null,{"$f":"HYPERLINK(\"#\"&ADDRESS(MATCH(I23,Toolbox!$C$1:$C$300),1,,,\"Toolbox\"),VLOOKUP(I23,Toolbox!$C$1:$C$300,1,FALSE))","v":"Cadre d'évaluation de la surveillance (SurF)"}]
[]
[]
[]
[]
[]
[]
[null,null,null,"Autres ressources intéressantes",null,null,null,null,{"$f":"Backbone!A575","v":"Résistance aux antimicrobiens: un manuel pour la mise en œuvre de plans d'action nationaux"},null,null,null,null,null,null,"Le manuel pour la mise en œuvre de plans d'action nationaux destinés à lutter contre la résistance aux antimicrobiens.",null,null,null,null,null,null,null,null,{"$f":"INDEX(Backbone!$R$2:$R$893,MATCH(I30,Backbone!$A$2:$A$893,0))","v":"Document d'orientation"},null,null,null,{"$f":"INDEX(Backbone!$S$2:$S$893,MATCH(I30,Backbone!$A$2:$A$893,0))","v":"«Une seule santé»; spécifique d'une maladie/menace "},null,null,null,{"$f":"INDEX(Backbone!$H$2:$H$893,MATCH(I30,Backbone!$A$2:$A$893,0))","v":10},null,{"$f":"INDEX(Backbone!$I$2:$I$893,MATCH(I30,Backbone!$A$2:$A$893,0))","v":6},null,{"$f":"INDEX(Backbone!$J$2:$J$893,MATCH(I30,Backbone!$A$2:$A$893,0))","v":6.6},null,{"$f":"INDEX(Backbone!$K$1:$K$893,MATCH(I30,Backbone!$A$1:$A$893,0))","v":8.6999999999999993},null,{"$f":"INDEX(Backbone!$L$2:$L$893,MATCH(I30,Backbone!$A$2:$A$893,0))","v":8},null,{"$f":"INDEX(Backbone!$M$2:$M$893,MATCH(I30,Backbone!$A$2:$A$893,0))","v":3.8},null,{"$f":"INDEX(Backbone!$N$2:$N$893,MATCH(I30,Backbone!$A$2:$A$893,0))","v":4.5},null,{"$f":"INDEX(Backbone!$O$2:$O$893,MATCH(I30,Backbone!$A$2:$A$893,0))","v":9},null,{"$f":"INDEX(Backbone!$P$2:$P$893,MATCH(I30,Backbone!$A$2:$A$893,0))","v":10},null,{"$f":"INDEX(Backbone!$Q$2:$Q$893,MATCH(I30,Backbone!$A$2:$A$893,0))","v":0.74},null,null,{"$f":"(AG30*$AG$22+AI30*$AI$22+AK30*$AK$22+AM30*$AM$22+AO30*$AO$22+AQ30*$AQ$22+AS30*$AS$22+AU30*$AU$22+AW30*$AW$22)/(SUM($AG$22:$AW$22)*10)","v":{"$error":"#DIV/0!"}},null,null,"Aller à \nBoîte à outils: ",null,{"$f":"HYPERLINK(\"#\"&ADDRESS(MATCH(I30,Toolbox!$C$1:$C$300),1,,,\"Toolbox\"),VLOOKUP(I30,Toolbox!$C$1:$C$300,1,FALSE))","v":"Résistance aux antimicrobiens: un manuel pour la mise en œuvre de plans d'action nationaux"}]
[]
[]
[]
[]
[]
[null,null,null,null,null,null,null,null,{"$f":"Backbone!A83","v":"Évaluation ECDC des systèmes de suivi et de surveillance de la qualité des données - Manuel des méthodes et des applications "},null,null,null,null,null,null,"Un manuel pour le suivi de la qualité des données de surveillance des maladies à l'attention des professionnels de la santé publique.",null,null,null,null,null,null,null,null,{"$f":"INDEX(Backbone!$R$2:$R$893,MATCH(I36,Backbone!$A$2:$A$893,0))","v":"Document d'orientation"},null,null,null,{"$f":"INDEX(Backbone!$S$2:$S$893,MATCH(I36,Backbone!$A$2:$A$893,0))","v":"Spécifique du secteur; Généralisée"},null,null,null,{"$f":"INDEX(Backbone!$H$2:$H$893,MATCH(I36,Backbone!$A$2:$A$893,0))","v":8.1999999999999993},null,{"$f":"INDEX(Backbone!$I$2:$I$893,MATCH(I36,Backbone!$A$2:$A$893,0))","v":6},null,{"$f":"INDEX(Backbone!$J$2:$J$893,MATCH(I36,Backbone!$A$2:$A$893,0))","v":6.4},null,{"$f":"INDEX(Backbone!$K$1:$K$893,MATCH(I36,Backbone!$A$1:$A$893,0))","v":7.3},null,{"$f":"INDEX(Backbone!$L$2:$L$893,MATCH(I36,Backbone!$A$2:$A$893,0))","v":7.7},null,{"$f":"INDEX(Backbone!$M$2:$M$893,MATCH(I36,Backbone!$A$2:$A$893,0))","v":4.5},null,{"$f":"INDEX(Backbone!$N$2:$N$893,MATCH(I36,Backbone!$A$2:$A$893,0))","v":5.3},null,{"$f":"INDEX(Backbone!$O$2:$O$893,MATCH(I36,Backbone!$A$2:$A$893,0))","v":6.2},null,{"$f":"INDEX(Backbone!$P$2:$P$893,MATCH(I36,Backbone!$A$2:$A$893,0))","v":8},null,{"$f":"INDEX(Backbone!$Q$2:$Q$893,MATCH(I36,Backbone!$A$2:$A$893,0))","v":0.66222222222222227},null,null,{"$f":"(AG36*$AG$22+AI36*$AI$22+AK36*$AK$22+AM36*$AM$22+AO36*$AO$22+AQ36*$AQ$22+AS36*$AS$22+AU36*$AU$22+AW36*$AW$22)/(SUM($AG$22:$AW$22)*10)","v":{"$error":"#DIV/0!"}},null,null,"Aller à \nBoîte à outils: ",null,{"$f":"HYPERLINK(\"#\"&ADDRESS(MATCH(I36,Toolbox!$C$1:$C$300),1,,,\"Toolbox\"),VLOOKUP(I36,Toolbox!$C$1:$C$300,1,FALSE))","v":"Évaluation ECDC des systèmes de suivi et de surveillance de la qualité des données - Manuel des méthodes et des applications "}]
[]
[]
[]
[]
[]
[null,null,null,null,null,null,null,null,{"$f":"Backbone!A510","v":"Cadre d'évaluation de la surveillance (SERVAL)"},null,null,null,null,null,null,"Un guide par étapes sur la façon de planifier, de structurer et de mener à bien l'évaluation des systèmes de surveillance de la santé animale.",null,null,null,null,null,null,null,null,{"$f":"INDEX(Backbone!$R$2:$R$893,MATCH(I42,Backbone!$A$2:$A$893,0))","v":"Document d'orientation"},null,null,null,{"$f":"INDEX(Backbone!$S$2:$S$893,MATCH(I42,Backbone!$A$2:$A$893,0))","v":"Spécifique du secteur; Généralisée"},null,null,null,{"$f":"INDEX(Backbone!$H$2:$H$893,MATCH(I42,Backbone!$A$2:$A$893,0))","v":8.8000000000000007},null,{"$f":"INDEX(Backbone!$I$2:$I$893,MATCH(I42,Backbone!$A$2:$A$893,0))","v":9},null,{"$f":"INDEX(Backbone!$J$2:$J$893,MATCH(I42,Backbone!$A$2:$A$893,0))","v":9},null,{"$f":"INDEX(Backbone!$K$1:$K$893,MATCH(I42,Backbone!$A$1:$A$893,0))","v":10},null,{"$f":"INDEX(Backbone!$L$2:$L$893,MATCH(I42,Backbone!$A$2:$A$893,0))","v":8.1},null,{"$f":"INDEX(Backbone!$M$2:$M$893,MATCH(I42,Backbone!$A$2:$A$893,0))","v":3.3},null,{"$f":"INDEX(Backbone!$N$2:$N$893,MATCH(I42,Backbone!$A$2:$A$893,0))","v":4},null,{"$f":"INDEX(Backbone!$O$2:$O$893,MATCH(I42,Backbone!$A$2:$A$893,0))","v":6.8},null,{"$f":"INDEX(Backbone!$P$2:$P$893,MATCH(I42,Backbone!$A$2:$A$893,0))","v":8},null,{"$f":"INDEX(Backbone!$Q$2:$Q$893,MATCH(I42,Backbone!$A$2:$A$893,0))","v":0.74444444444444446},null,null,{"$f":"(AG42*$AG$22+AI42*$AI$22+AK42*$AK$22+AM42*$AM$22+AO42*$AO$22+AQ42*$AQ$22+AS42*$AS$22+AU42*$AU$22+AW42*$AW$22)/(SUM($AG$22:$AW$22)*10)","v":{"$error":"#DIV/0!"}},null,null,"Aller à \nBoîte à outils: ",null,{"$f":"HYPERLINK(\"#\"&ADDRESS(MATCH(I42,Toolbox!$C$1:$C$300),1,,,\"Toolbox\"),VLOOKUP(I42,Toolbox!$C$1:$C$300,1,FALSE))","v":"Cadre d'évaluation de la surveillance (SERVAL)"}]
[]
[]
[]
[]
[]
[null,null,null,null,null,null,null,null,{"$f":"Backbone!A483","v":"Outils de surveillance en ligne (SURVTOOLS) "},null,null,null,null,null,null,"Ensemble d'outils de conception et d'évaluation de la surveillance destinés aux techniciens compétents chargés de concevoir, de mettre en œuvre ou d'évaluer la surveillance de la santé animale.",null,null,null,null,null,null,null,null,{"$f":"INDEX(Backbone!$R$2:$R$893,MATCH(I48,Backbone!$A$2:$A$893,0))","v":"Matériel ou logiciel"},null,null,null,{"$f":"INDEX(Backbone!$S$2:$S$893,MATCH(I48,Backbone!$A$2:$A$893,0))","v":"Spécifique du secteur; Généralisée"},null,null,null,{"$f":"INDEX(Backbone!$H$2:$H$893,MATCH(I48,Backbone!$A$2:$A$893,0))","v":9.6},null,{"$f":"INDEX(Backbone!$I$2:$I$893,MATCH(I48,Backbone!$A$2:$A$893,0))","v":2},null,{"$f":"INDEX(Backbone!$J$2:$J$893,MATCH(I48,Backbone!$A$2:$A$893,0))","v":6.7},null,{"$f":"INDEX(Backbone!$K$1:$K$893,MATCH(I48,Backbone!$A$1:$A$893,0))","v":6.7},null,{"$f":"INDEX(Backbone!$L$2:$L$893,MATCH(I48,Backbone!$A$2:$A$893,0))","v":6.6},null,{"$f":"INDEX(Backbone!$M$2:$M$893,MATCH(I48,Backbone!$A$2:$A$893,0))","v":3.5},null,{"$f":"INDEX(Backbone!$N$2:$N$893,MATCH(I48,Backbone!$A$2:$A$893,0))","v":6.7},null,{"$f":"INDEX(Backbone!$O$2:$O$893,MATCH(I48,Backbone!$A$2:$A$893,0))","v":4.9000000000000004},null,{"$f":"INDEX(Backbone!$P$2:$P$893,MATCH(I48,Backbone!$A$2:$A$893,0))","v":4.7},null,{"$f":"INDEX(Backbone!$Q$2:$Q$893,MATCH(I48,Backbone!$A$2:$A$893,0))","v":0.57111111111111112},null,null,{"$f":"(AG48*$AG$22+AI48*$AI$22+AK48*$AK$22+AM48*$AM$22+AO48*$AO$22+AQ48*$AQ$22+AS48*$AS$22+AU48*$AU$22+AW48*$AW$22)/(SUM($AG$22:$AW$22)*10)","v":{"$error":"#DIV/0!"}},null,null,"Aller à \nBoîte à outils: ",null,{"$f":"HYPERLINK(\"#\"&ADDRESS(MATCH(I48,Toolbox!$C$1:$C$300),1,,,\"Toolbox\"),VLOOKUP(I48,Toolbox!$C$1:$C$300,1,FALSE))","v":"Outils de surveillance en ligne (SURVTOOLS) "}]
[]
[]
[]
[]
[]
[null,null,null,null,null,null,null,null,{"$f":"Backbone!A296","v":"Directives actualisées pour l'évaluation des systèmes de surveillance de la santé publique "},null,null,null,null,null,null,"Ce rapport fournit des directives actualisées pour l'évaluation des systèmes de surveillance, en décrivant des tâches et des activités connexes qui peuvent être appliquées au système de surveillance de la santé publique.",null,null,null,null,null,null,null,null,{"$f":"INDEX(Backbone!$R$2:$R$893,MATCH(I54,Backbone!$A$2:$A$893,0))","v":"Document d'orientation"},null,null,null,{"$f":"INDEX(Backbone!$S$2:$S$893,MATCH(I54,Backbone!$A$2:$A$893,0))","v":"Spécifique du secteur; Généralisée"},null,null,null,{"$f":"INDEX(Backbone!$H$2:$H$893,MATCH(I54,Backbone!$A$2:$A$893,0))","v":7.6},null,{"$f":"INDEX(Backbone!$I$2:$I$893,MATCH(I54,Backbone!$A$2:$A$893,0))","v":8},null,{"$f":"INDEX(Backbone!$J$2:$J$893,MATCH(I54,Backbone!$A$2:$A$893,0))","v":7.2},null,{"$f":"INDEX(Backbone!$K$1:$K$893,MATCH(I54,Backbone!$A$1:$A$893,0))","v":8.6999999999999993},null,{"$f":"INDEX(Backbone!$L$2:$L$893,MATCH(I54,Backbone!$A$2:$A$893,0))","v":7.7},null,{"$f":"INDEX(Backbone!$M$2:$M$893,MATCH(I54,Backbone!$A$2:$A$893,0))","v":2.2999999999999998},null,{"$f":"INDEX(Backbone!$N$2:$N$893,MATCH(I54,Backbone!$A$2:$A$893,0))","v":4},null,{"$f":"INDEX(Backbone!$O$2:$O$893,MATCH(I54,Backbone!$A$2:$A$893,0))","v":5.8},null,{"$f":"INDEX(Backbone!$P$2:$P$893,MATCH(I54,Backbone!$A$2:$A$893,0))","v":4},null,{"$f":"INDEX(Backbone!$Q$2:$Q$893,MATCH(I54,Backbone!$A$2:$A$893,0))","v":0.61444444444444446},null,null,{"$f":"(AG54*$AG$22+AI54*$AI$22+AK54*$AK$22+AM54*$AM$22+AO54*$AO$22+AQ54*$AQ$22+AS54*$AS$22+AU54*$AU$22+AW54*$AW$22)/(SUM($AG$22:$AW$22)*10)","v":{"$error":"#DIV/0!"}},null,null,"Aller à \nBoîte à outils: ",null,{"$f":"HYPERLINK(\"#\"&ADDRESS(MATCH(I54,Toolbox!$C$1:$C$300),1,,,\"Toolbox\"),VLOOKUP(I54,Toolbox!$C$1:$C$300,1,FALSE))","v":"Directives actualisées pour l'évaluation des systèmes de surveillance de la santé publique "}]
[]
[]
[]
[]
[]
[]
[]
[]
[]
[]
[]
[]
[]
[]
[]
[]
[]
[]
[]
[]
[]
[]
[]
[null,null,null,null,null,null,null,null,null,null,null,null,null,null,null,null,null,null,null,null,null,null,null,null,null,null,null,null,null,null,null,null,"Accessibilité",null,"Langue",null,"Facilité d'utilisation",null,"Flexibilité",null,"Besoins de données",null,"Analyse des données",null,"Acceptabilité",null,"«Une seule santé»",null,"Impact"]
[]
[]
[]
[]
[]
[]
[null,null,null,null,null,null,null,null,null,null,null,null,null,null,null,null,null,null,null,null,null,null,null,null,null,null,null,null,null,null,null,null,null,null,null,null,null,null,null,null,null,null,null,null,null,null,null,null,null,null,"SCORE BRUT",null,null,"SCORE AJUSTÉ \n(Selon les préférences de l'utilisateur)"]
[]
[]
[]
[null,"RESSOURCES DE NIVEAU 2",null,"DÉSIGNATION",null,null,null,null,"NOM DE LA RESSOURCE",null,null,null,null,null,null,"BRÈVE DESCRIPTION",null,null,null,null,null,null,null,null,"TYPE DE RESSOURCE",null,null,null,"CARACTÈRE GÉNÉRAL DE LA RESSOURCE"]
[]
[]
[]
[null,null,null,null,null,null,null,null,null,null,null,null,null,null,null,null,null,null,null,null,null,null,null,null,null,null,null,null,null,null,null,null,{"$f":"'Attribute Survey'!S111","v":0},null,{"$f":"'Attribute Survey'!S115","v":0},null,{"$f":"'Attribute Survey'!S119","v":0},null,{"$f":"'Attribute Survey'!S123","v":0},null,{"$f":"'Attribute Survey'!S127","v":0},null,{"$f":"'Attribute Survey'!S131","v":0},null,{"$f":"'Attribute Survey'!S135","v":0},null,{"$f":"'Attribute Survey'!S139","v":0},null,{"$f":"'Attribute Survey'!S143","v":0}]
[null,null,null,"Ressources les mieux adaptées",null,null,null,null,{"$f":"Backbone!A561","v":"Cadre d'évaluation de la surveillance (SurF)"},null,null,null,null,null,null,"Un cadre d'évaluation des systèmes de surveillance utilisable dans les domaines de la biosécurité, de la santé végétale ou animale. ",null,null,null,null,null,null,null,null,{"$f":"INDEX(Backbone!$R$2:$R$893,MATCH(I94,Backbone!$A$2:$A$893,0))","v":"Document d'orientation"},null,null,null,{"$f":"INDEX(Backbone!$S$2:$S$893,MATCH(I94,Backbone!$A$2:$A$893,0))","v":"«Une seule santé»; Généralisée"},null,null,null,{"$f":"INDEX(Backbone!$H$2:$H$893,MATCH(I94,Backbone!$A$2:$A$893,0))","v":7.6},null,{"$f":"INDEX(Backbone!$I$2:$I$893,MATCH(I94,Backbone!$A$2:$A$893,0))","v":6},null,{"$f":"INDEX(Backbone!$J$2:$J$893,MATCH(I94,Backbone!$A$2:$A$893,0))","v":8},null,{"$f":"INDEX(Backbone!$K$2:$K$893,MATCH(I94,Backbone!$A$2:$A$893,0))","v":8.6999999999999993},null,{"$f":"INDEX(Backbone!$L$2:$L$893,MATCH(I94,Backbone!$A$2:$A$893,0))","v":8.6},null,{"$f":"INDEX(Backbone!$M$2:$M$893,MATCH(I94,Backbone!$A$2:$A$893,0))","v":4.0999999999999996},null,{"$f":"INDEX(Backbone!$N$2:$N$893,MATCH(I94,Backbone!$A$2:$A$893,0))","v":4},null,{"$f":"INDEX(Backbone!$O$2:$O$893,MATCH(I94,Backbone!$A$2:$A$893,0))","v":8},null,{"$f":"INDEX(Backbone!$P$2:$P$893,MATCH(I94,Backbone!$A$2:$A$893,0))","v":4},null,{"$f":"INDEX(Backbone!$Q$2:$Q$893,MATCH(I94,Backbone!$A$2:$A$893,0))","v":0.65555555555555556},null,null,{"$f":"(AG94*$AG$22+AI94*$AI$22+AK94*$AK$22+AM94*$AM$22+AO94*$AO$22+AQ94*$AQ$22+AS94*$AS$22+AU94*$AU$22+AW94*$AW$22)/(SUM($AG$22:$AW$22)*10)","v":{"$error":"#DIV/0!"}},null,null,"Aller à \nBoîte à outils: ",null,{"$f":"HYPERLINK(\"#\"&ADDRESS(MATCH(I94,Toolbox!$C$1:$C$300),1,,,\"Toolbox\"),VLOOKUP(I94,Toolbox!$C$1:$C$300,1,FALSE))","v":"Cadre d'évaluation de la surveillance (SurF)"}]
[]
[]
[]
[]
[]
[]
[null,null,null,"Autres ressources intéressantes",null,null,null,null,{"$f":"Backbone!A83","v":"Évaluation ECDC des systèmes de suivi et de surveillance de la qualité des données - Manuel des méthodes et des applications "},null,null,null,null,null,null,"Un manuel pour le suivi de la qualité des données de surveillance des maladies à l'attention des professionnels de la santé publique.",null,null,null,null,null,null,null,null,{"$f":"INDEX(Backbone!$R$2:$R$893,MATCH(I101,Backbone!$A$2:$A$893,0))","v":"Document d'orientation"},null,null,null,{"$f":"INDEX(Backbone!$S$2:$S$893,MATCH(I101,Backbone!$A$2:$A$893,0))","v":"Spécifique du secteur; Généralisée"},null,null,null,{"$f":"INDEX(Backbone!$H$2:$H$893,MATCH(I101,Backbone!$A$2:$A$893,0))","v":8.1999999999999993},null,{"$f":"INDEX(Backbone!$I$2:$I$893,MATCH(I101,Backbone!$A$2:$A$893,0))","v":6},null,{"$f":"INDEX(Backbone!$J$2:$J$893,MATCH(I101,Backbone!$A$2:$A$893,0))","v":6.4},null,{"$f":"INDEX(Backbone!$K$1:$K$893,MATCH(I101,Backbone!$A$1:$A$893,0))","v":7.3},null,{"$f":"INDEX(Backbone!$L$2:$L$893,MATCH(I101,Backbone!$A$2:$A$893,0))","v":7.7},null,{"$f":"INDEX(Backbone!$M$2:$M$893,MATCH(I101,Backbone!$A$2:$A$893,0))","v":4.5},null,{"$f":"INDEX(Backbone!$N$2:$N$893,MATCH(I101,Backbone!$A$2:$A$893,0))","v":5.3},null,{"$f":"INDEX(Backbone!$O$2:$O$893,MATCH(I101,Backbone!$A$2:$A$893,0))","v":6.2},null,{"$f":"INDEX(Backbone!$P$2:$P$893,MATCH(I101,Backbone!$A$2:$A$893,0))","v":8},null,{"$f":"INDEX(Backbone!$Q$2:$Q$893,MATCH(I101,Backbone!$A$2:$A$893,0))","v":0.66222222222222227},null,null,{"$f":"(AG101*$AG$22+AI101*$AI$22+AK101*$AK$22+AM101*$AM$22+AO101*$AO$22+AQ101*$AQ$22+AS101*$AS$22+AU101*$AU$22+AW101*$AW$22)/(SUM($AG$22:$AW$22)*10)","v":{"$error":"#DIV/0!"}},null,null,"Aller à \nBoîte à outils: ",null,{"$f":"HYPERLINK(\"#\"&ADDRESS(MATCH(I101,Toolbox!$C$1:$C$300),1,,,\"Toolbox\"),VLOOKUP(I101,Toolbox!$C$1:$C$300,1,FALSE))","v":"Évaluation ECDC des systèmes de suivi et de surveillance de la qualité des données - Manuel des méthodes et des applications "}]
[]
[]
[]
[]
[]
[null,null,null,null,null,null,null,null,{"$f":"Backbone!A332","v":"Réseau pour l'évaluation de l'approche «Une seule santé» (NEOH)"},null,null,null,null,null,null,"Un outil au format Excel qui mesure la conformité d'un système de surveillance au principe «Une seule santé». ",null,null,null,null,null,null,null,null,{"$f":"INDEX(Backbone!$R$2:$R$893,MATCH(I107,Backbone!$A$2:$A$893,0))","v":"Document d'orientation"},null,null,null,{"$f":"INDEX(Backbone!$S$2:$S$893,MATCH(I107,Backbone!$A$2:$A$893,0))","v":"«Une seule santé»; Généralisée"},null,null,null,{"$f":"INDEX(Backbone!$H$2:$H$893,MATCH(I107,Backbone!$A$2:$A$893,0))","v":8.3000000000000007},null,{"$f":"INDEX(Backbone!$I$2:$I$893,MATCH(I107,Backbone!$A$2:$A$893,0))","v":7.7},null,{"$f":"INDEX(Backbone!$J$2:$J$893,MATCH(I107,Backbone!$A$2:$A$893,0))","v":5.3},null,{"$f":"INDEX(Backbone!$K$1:$K$893,MATCH(I107,Backbone!$A$1:$A$893,0))","v":8.9},null,{"$f":"INDEX(Backbone!$L$2:$L$893,MATCH(I107,Backbone!$A$2:$A$893,0))","v":7.8},null,{"$f":"INDEX(Backbone!$M$2:$M$893,MATCH(I107,Backbone!$A$2:$A$893,0))","v":4.7},null,{"$f":"INDEX(Backbone!$N$2:$N$893,MATCH(I107,Backbone!$A$2:$A$893,0))","v":5.3},null,{"$f":"INDEX(Backbone!$O$2:$O$893,MATCH(I107,Backbone!$A$2:$A$893,0))","v":8},null,{"$f":"INDEX(Backbone!$P$2:$P$893,MATCH(I107,Backbone!$A$2:$A$893,0))","v":5.3},null,{"$f":"INDEX(Backbone!$Q$2:$Q$893,MATCH(I107,Backbone!$A$2:$A$893,0))","v":0.68111111111111111},null,null,{"$f":"(AG107*$AG$22+AI107*$AI$22+AK107*$AK$22+AM107*$AM$22+AO107*$AO$22+AQ107*$AQ$22+AS107*$AS$22+AU107*$AU$22+AW107*$AW$22)/(SUM($AG$22:$AW$22)*10)","v":{"$error":"#DIV/0!"}},null,null,"Aller à \nBoîte à outils: ",null,{"$f":"HYPERLINK(\"#\"&ADDRESS(MATCH(I107,Toolbox!$C$1:$C$300),1,,,\"Toolbox\"),VLOOKUP(I107,Toolbox!$C$1:$C$300,1,FALSE))","v":"Réseau pour l'évaluation de l'approche «Une seule santé» (NEOH)"}]
[]
[]
[]
[]
[]
[null,null,null,null,null,null,null,null,{"$f":"Backbone!A510","v":"Cadre d'évaluation de la surveillance (SERVAL)"},null,null,null,null,null,null,"Un guide par étapes sur la façon de planifier, de structurer et de mener à bien l'évaluation des systèmes de surveillance de la santé animale.",null,null,null,null,null,null,null,null,{"$f":"INDEX(Backbone!$R$2:$R$893,MATCH(I113,Backbone!$A$2:$A$893,0))","v":"Document d'orientation"},null,null,null,{"$f":"INDEX(Backbone!$S$2:$S$893,MATCH(I113,Backbone!$A$2:$A$893,0))","v":"Spécifique du secteur; Généralisée"},null,null,null,{"$f":"INDEX(Backbone!$H$2:$H$893,MATCH(I113,Backbone!$A$2:$A$893,0))","v":8.8000000000000007},null,{"$f":"INDEX(Backbone!$I$2:$I$893,MATCH(I113,Backbone!$A$2:$A$893,0))","v":9},null,{"$f":"INDEX(Backbone!$J$2:$J$893,MATCH(I113,Backbone!$A$2:$A$893,0))","v":9},null,{"$f":"INDEX(Backbone!$K$1:$K$893,MATCH(I113,Backbone!$A$1:$A$893,0))","v":10},null,{"$f":"INDEX(Backbone!$L$2:$L$893,MATCH(I113,Backbone!$A$2:$A$893,0))","v":8.1},null,{"$f":"INDEX(Backbone!$M$2:$M$893,MATCH(I113,Backbone!$A$2:$A$893,0))","v":3.3},null,{"$f":"INDEX(Backbone!$N$2:$N$893,MATCH(I113,Backbone!$A$2:$A$893,0))","v":4},null,{"$f":"INDEX(Backbone!$O$2:$O$893,MATCH(I113,Backbone!$A$2:$A$893,0))","v":6.8},null,{"$f":"INDEX(Backbone!$P$2:$P$893,MATCH(I113,Backbone!$A$2:$A$893,0))","v":8},null,{"$f":"INDEX(Backbone!$Q$2:$Q$893,MATCH(I113,Backbone!$A$2:$A$893,0))","v":0.74444444444444446},null,null,{"$f":"(AG113*$AG$22+AI113*$AI$22+AK113*$AK$22+AM113*$AM$22+AO113*$AO$22+AQ113*$AQ$22+AS113*$AS$22+AU113*$AU$22+AW113*$AW$22)/(SUM($AG$22:$AW$22)*10)","v":{"$error":"#DIV/0!"}},null,null,"Aller à \nBoîte à outils: ",null,{"$f":"HYPERLINK(\"#\"&ADDRESS(MATCH(I113,Toolbox!$C$1:$C$300),1,,,\"Toolbox\"),VLOOKUP(I113,Toolbox!$C$1:$C$300,1,FALSE))","v":"Cadre d'évaluation de la surveillance (SERVAL)"}]
[]
[]
[]
[]
[]
[null,null,null,null,null,null,null,null,{"$f":"Backbone!A296","v":"Directives actualisées pour l'évaluation des systèmes de surveillance de la santé publique "},null,null,null,null,null,null,"Ce rapport fournit des directives actualisées pour l'évaluation des systèmes de surveillance, en décrivant des tâches et des activités connexes qui peuvent être appliquées au système de surveillance de la santé publique.",null,null,null,null,null,null,null,null,{"$f":"INDEX(Backbone!$R$2:$R$893,MATCH(I119,Backbone!$A$2:$A$893,0))","v":"Document d'orientation"},null,null,null,{"$f":"INDEX(Backbone!$S$2:$S$893,MATCH(I119,Backbone!$A$2:$A$893,0))","v":"Spécifique du secteur; Généralisée"},null,null,null,{"$f":"INDEX(Backbone!$H$2:$H$893,MATCH(I119,Backbone!$A$2:$A$893,0))","v":7.6},null,{"$f":"INDEX(Backbone!$I$2:$I$893,MATCH(I119,Backbone!$A$2:$A$893,0))","v":8},null,{"$f":"INDEX(Backbone!$J$2:$J$893,MATCH(I119,Backbone!$A$2:$A$893,0))","v":7.2},null,{"$f":"INDEX(Backbone!$K$1:$K$893,MATCH(I119,Backbone!$A$1:$A$893,0))","v":8.6999999999999993},null,{"$f":"INDEX(Backbone!$L$2:$L$893,MATCH(I119,Backbone!$A$2:$A$893,0))","v":7.7},null,{"$f":"INDEX(Backbone!$M$2:$M$893,MATCH(I119,Backbone!$A$2:$A$893,0))","v":2.2999999999999998},null,{"$f":"INDEX(Backbone!$N$2:$N$893,MATCH(I119,Backbone!$A$2:$A$893,0))","v":4},null,{"$f":"INDEX(Backbone!$O$2:$O$893,MATCH(I119,Backbone!$A$2:$A$893,0))","v":5.8},null,{"$f":"INDEX(Backbone!$P$2:$P$893,MATCH(I119,Backbone!$A$2:$A$893,0))","v":4},null,{"$f":"INDEX(Backbone!$Q$2:$Q$893,MATCH(I119,Backbone!$A$2:$A$893,0))","v":0.61444444444444446},null,null,{"$f":"(AG119*$AG$22+AI119*$AI$22+AK119*$AK$22+AM119*$AM$22+AO119*$AO$22+AQ119*$AQ$22+AS119*$AS$22+AU119*$AU$22+AW119*$AW$22)/(SUM($AG$22:$AW$22)*10)","v":{"$error":"#DIV/0!"}},null,null,"Aller à \nBoîte à outils: ",null,{"$f":"HYPERLINK(\"#\"&ADDRESS(MATCH(I119,Toolbox!$C$1:$C$300),1,,,\"Toolbox\"),VLOOKUP(I119,Toolbox!$C$1:$C$300,1,FALSE))","v":"Directives actualisées pour l'évaluation des systèmes de surveillance de la santé publique "}]
[]
[]
[]
[]
[]
[]
[]
[]
[]
[]
[]
[]
[]
[]
[]
[]
[]
[]
[]
[]
[]
[]
[]
[null,null,null,null,null,null,null,null,null,null,null,null,null,null,null,null,null,null,null,null,null,null,null,null,null,null,null,null,null,null,null,null,"Accessibilité",null,"Langue",null,"Facilité d'utilisation",null,"Flexibilité",null,"Besoins de données",null,"Analyse des données",null,"Acceptabilité",null,"«Une seule santé»",null,"Impact"]
[]
[]
[]
[]
[]
[]
[null,null,null,null,null,null,null,null,null,null,null,null,null,null,null,null,null,null,null,null,null,null,null,null,null,null,null,null,null,null,null,null,null,null,null,null,null,null,null,null,null,null,null,null,null,null,null,null,null,null,"SCORE BRUT",null,null,"SCORE AJUSTÉ \n(Selon les préférences de l'utilisateur)"]
[]
[]
[null,"RESSOURCES DE NIVEAU 3"]
[null,null,null,"DÉSIGNATION",null,null,null,null,"NOM DE LA RESSOURCE",null,null,null,null,null,null,"BRÈVE DESCRIPTION",null,null,null,null,null,null,null,null,"TYPE DE RESSOURCE",null,null,null,"CARACTÈRE GÉNÉRAL DE LA RESSOURCE"]
[]
[]
[]
[null,null,null,null,null,null,null,null,null,null,null,null,null,null,null,null,null,null,null,null,null,null,null,null,null,null,null,null,null,null,null,null,{"$f":"'Attribute Survey'!S201","v":0},null,{"$f":"'Attribute Survey'!S205","v":0},null,{"$f":"'Attribute Survey'!S209","v":0},null,{"$f":"'Attribute Survey'!S213","v":0},null,{"$f":"'Attribute Survey'!S217","v":0},null,{"$f":"'Attribute Survey'!S221","v":0},null,{"$f":"'Attribute Survey'!S225","v":0},null,{"$f":"'Attribute Survey'!S229","v":0},null,{"$f":"'Attribute Survey'!S233","v":0}]
[]
[null,null,null,"Autres ressources intéressantes",null,null,null,null,{"$f":"Backbone!A83","v":"Évaluation ECDC des systèmes de suivi et de surveillance de la qualité des données - Manuel des méthodes et des applications "},null,null,null,null,null,null,"Un manuel pour le suivi de la qualité des données de surveillance des maladies à l'attention des professionnels de la santé publique.",null,null,null,null,null,null,null,null,{"$f":"INDEX(Backbone!$R$2:$R$893,MATCH(I160,Backbone!$A$2:$A$893,0))","v":"Document d'orientation"},null,null,null,{"$f":"INDEX(Backbone!$S$2:$S$893,MATCH(I160,Backbone!$A$2:$A$893,0))","v":"Spécifique du secteur; Généralisée"},null,null,null,{"$f":"INDEX(Backbone!$H$2:$H$893,MATCH(I160,Backbone!$A$2:$A$893,0))","v":8.1999999999999993},null,{"$f":"INDEX(Backbone!$I$2:$I$893,MATCH(I160,Backbone!$A$2:$A$893,0))","v":6},null,{"$f":"INDEX(Backbone!$J$2:$J$893,MATCH(I160,Backbone!$A$2:$A$893,0))","v":6.4},null,{"$f":"INDEX(Backbone!$K$1:$K$893,MATCH(I160,Backbone!$A$1:$A$893,0))","v":7.3},null,{"$f":"INDEX(Backbone!$L$2:$L$893,MATCH(I160,Backbone!$A$2:$A$893,0))","v":7.7},null,{"$f":"INDEX(Backbone!$M$2:$M$893,MATCH(I160,Backbone!$A$2:$A$893,0))","v":4.5},null,{"$f":"INDEX(Backbone!$N$2:$N$893,MATCH(I160,Backbone!$A$2:$A$893,0))","v":5.3},null,{"$f":"INDEX(Backbone!$O$2:$O$893,MATCH(I160,Backbone!$A$2:$A$893,0))","v":6.2},null,{"$f":"INDEX(Backbone!$P$2:$P$893,MATCH(I160,Backbone!$A$2:$A$893,0))","v":8},null,{"$f":"INDEX(Backbone!$Q$2:$Q$893,MATCH(I160,Backbone!$A$2:$A$893,0))","v":0.66222222222222227},null,null,{"$f":"(AG160*$AG$22+AI160*$AI$22+AK160*$AK$22+AM160*$AM$22+AO160*$AO$22+AQ160*$AQ$22+AS160*$AS$22+AU160*$AU$22+AW160*$AW$22)/(SUM($AG$22:$AW$22)*10)","v":{"$error":"#DIV/0!"}},null,null,"Aller à \nBoîte à outils: ",null,{"$f":"HYPERLINK(\"#\"&ADDRESS(MATCH(I160,Toolbox!$C$1:$C$300),1,,,\"Toolbox\"),VLOOKUP(I160,Toolbox!$C$1:$C$300,1,FALSE))","v":"Évaluation ECDC des systèmes de suivi et de surveillance de la qualité des données - Manuel des méthodes et des applications "}]
[]
[]
[]
[]
[]
[null,null,null,null,null,null,null,null,{"$f":"Backbone!A552","v":"Règlement sanitaire international (2005): outil d’autoévaluation pour l'établissement de rapports annuels par les États Parties (SPAR)"},null,null,null,null,null,null,"Un outil d'établissement de rapports qui aide les États parties au Règlement sanitaire international (RSI) à s'acquitter de leur obligation de rendre compte chaque année à l'Assemblée mondiale de la santé (WHA) du respect des exigences en matière de capacités prévues par ledit règlement.",null,null,null,null,null,null,null,null,{"$f":"INDEX(Backbone!$R$2:$R$893,MATCH(I166,Backbone!$A$2:$A$893,0))","v":"Outil d'autoévaluation"},null,null,null,{"$f":"INDEX(Backbone!$S$2:$S$893,MATCH(I166,Backbone!$A$2:$A$893,0))","v":"«Une seule santé»; Généralisée"},null,null,null,{"$f":"INDEX(Backbone!$H$2:$H$893,MATCH(I166,Backbone!$A$2:$A$893,0))","v":9.9},null,{"$f":"INDEX(Backbone!$I$2:$I$893,MATCH(I166,Backbone!$A$2:$A$893,0))","v":10},null,{"$f":"INDEX(Backbone!$J$2:$J$893,MATCH(I166,Backbone!$A$2:$A$893,0))","v":9.3000000000000007},null,{"$f":"INDEX(Backbone!$K$1:$K$893,MATCH(I166,Backbone!$A$1:$A$893,0))","v":7.3},null,{"$f":"INDEX(Backbone!$L$2:$L$893,MATCH(I166,Backbone!$A$2:$A$893,0))","v":9.4},null,{"$f":"INDEX(Backbone!$M$2:$M$893,MATCH(I166,Backbone!$A$2:$A$893,0))","v":9},null,{"$f":"INDEX(Backbone!$N$2:$N$893,MATCH(I166,Backbone!$A$2:$A$893,0))","v":8.5},null,{"$f":"INDEX(Backbone!$O$2:$O$893,MATCH(I166,Backbone!$A$2:$A$893,0))","v":6.3},null,{"$f":"INDEX(Backbone!$P$2:$P$893,MATCH(I166,Backbone!$A$2:$A$893,0))","v":6.7},null,{"$f":"INDEX(Backbone!$Q$2:$Q$893,MATCH(I166,Backbone!$A$2:$A$893,0))","v":0.84888888888888892},null,null,{"$f":"(AG166*$AG$22+AI166*$AI$22+AK166*$AK$22+AM166*$AM$22+AO166*$AO$22+AQ166*$AQ$22+AS166*$AS$22+AU166*$AU$22+AW166*$AW$22)/(SUM($AG$22:$AW$22)*10)","v":{"$error":"#DIV/0!"}},null,null,"Aller à \nBoîte à outils: ",null,{"$f":"HYPERLINK(\"#\"&ADDRESS(MATCH(I166,Toolbox!$C$1:$C$300),1,,,\"Toolbox\"),VLOOKUP(I166,Toolbox!$C$1:$C$300,1,FALSE))","v":"Règlement sanitaire international (2005): outil d’autoévaluation pour l'établissement de rapports annuels par les États Parties (SPAR)"}]
[]
[]
[]
[]
[]
[null,null,null,null,null,null,null,null,{"$f":"Backbone!A332","v":"Réseau pour l'évaluation de l'approche «Une seule santé» (NEOH)"},null,null,null,null,null,null,"Un outil au format Excel qui mesure la conformité d'un système de surveillance au principe «Une seule santé».",null,null,null,null,null,null,null,null,{"$f":"INDEX(Backbone!$R$2:$R$893,MATCH(I172,Backbone!$A$2:$A$893,0))","v":"Document d'orientation"},null,null,null,{"$f":"INDEX(Backbone!$S$2:$S$893,MATCH(I172,Backbone!$A$2:$A$893,0))","v":"«Une seule santé»; Généralisée"},null,null,null,{"$f":"INDEX(Backbone!$H$2:$H$893,MATCH(I172,Backbone!$A$2:$A$893,0))","v":8.3000000000000007},null,{"$f":"INDEX(Backbone!$I$2:$I$893,MATCH(I172,Backbone!$A$2:$A$893,0))","v":7.7},null,{"$f":"INDEX(Backbone!$J$2:$J$893,MATCH(I172,Backbone!$A$2:$A$893,0))","v":5.3},null,{"$f":"INDEX(Backbone!$K$1:$K$893,MATCH(I172,Backbone!$A$1:$A$893,0))","v":8.9},null,{"$f":"INDEX(Backbone!$L$2:$L$893,MATCH(I172,Backbone!$A$2:$A$893,0))","v":7.8},null,{"$f":"INDEX(Backbone!$M$2:$M$893,MATCH(I172,Backbone!$A$2:$A$893,0))","v":4.7},null,{"$f":"INDEX(Backbone!$N$2:$N$893,MATCH(I172,Backbone!$A$2:$A$893,0))","v":5.3},null,{"$f":"INDEX(Backbone!$O$2:$O$893,MATCH(I172,Backbone!$A$2:$A$893,0))","v":8},null,{"$f":"INDEX(Backbone!$P$2:$P$893,MATCH(I172,Backbone!$A$2:$A$893,0))","v":5.3},null,{"$f":"INDEX(Backbone!$Q$2:$Q$893,MATCH(I172,Backbone!$A$2:$A$893,0))","v":0.68111111111111111},null,null,{"$f":"(AG172*$AG$22+AI172*$AI$22+AK172*$AK$22+AM172*$AM$22+AO172*$AO$22+AQ172*$AQ$22+AS172*$AS$22+AU172*$AU$22+AW172*$AW$22)/(SUM($AG$22:$AW$22)*10)","v":{"$error":"#DIV/0!"}},null,null,"Aller à \nBoîte à outils: ",null,{"$f":"HYPERLINK(\"#\"&ADDRESS(MATCH(I172,Toolbox!$C$1:$C$300),1,,,\"Toolbox\"),VLOOKUP(I172,Toolbox!$C$1:$C$300,1,FALSE))","v":"Réseau pour l'évaluation de l'approche «Une seule santé» (NEOH)"}]
[]
[]
[]
[]
[]
[null,null,null,null,null,null,null,null,{"$f":"Backbone!A296","v":"Directives actualisées pour l'évaluation des systèmes de surveillance de la santé publique "},null,null,null,null,null,null,"Ce rapport fournit des directives actualisées pour l'évaluation des systèmes de surveillance, en décrivant des tâches et des activités connexes qui peuvent être appliquées au système de surveillance de la santé publique.",null,null,null,null,null,null,null,null,{"$f":"INDEX(Backbone!$R$2:$R$893,MATCH(I178,Backbone!$A$2:$A$893,0))","v":"Document d'orientation"},null,null,null,{"$f":"INDEX(Backbone!$S$2:$S$893,MATCH(I178,Backbone!$A$2:$A$893,0))","v":"Spécifique du secteur; Généralisée"},null,null,null,{"$f":"INDEX(Backbone!$H$2:$H$893,MATCH(I178,Backbone!$A$2:$A$893,0))","v":7.6},null,{"$f":"INDEX(Backbone!$I$2:$I$893,MATCH(I178,Backbone!$A$2:$A$893,0))","v":8},null,{"$f":"INDEX(Backbone!$J$2:$J$893,MATCH(I178,Backbone!$A$2:$A$893,0))","v":7.2},null,{"$f":"INDEX(Backbone!$K$1:$K$893,MATCH(I178,Backbone!$A$1:$A$893,0))","v":8.6999999999999993},null,{"$f":"INDEX(Backbone!$L$2:$L$893,MATCH(I178,Backbone!$A$2:$A$893,0))","v":7.7},null,{"$f":"INDEX(Backbone!$M$2:$M$893,MATCH(I178,Backbone!$A$2:$A$893,0))","v":2.2999999999999998},null,{"$f":"INDEX(Backbone!$N$2:$N$893,MATCH(I178,Backbone!$A$2:$A$893,0))","v":4},null,{"$f":"INDEX(Backbone!$O$2:$O$893,MATCH(I178,Backbone!$A$2:$A$893,0))","v":5.8},null,{"$f":"INDEX(Backbone!$P$2:$P$893,MATCH(I178,Backbone!$A$2:$A$893,0))","v":4},null,{"$f":"INDEX(Backbone!$Q$2:$Q$893,MATCH(I178,Backbone!$A$2:$A$893,0))","v":0.61444444444444446},null,null,{"$f":"(AG178*$AG$22+AI178*$AI$22+AK178*$AK$22+AM178*$AM$22+AO178*$AO$22+AQ178*$AQ$22+AS178*$AS$22+AU178*$AU$22+AW178*$AW$22)/(SUM($AG$22:$AW$22)*10)","v":{"$error":"#DIV/0!"}},null,null,"Aller à \nBoîte à outils: ",null,{"$f":"HYPERLINK(\"#\"&ADDRESS(MATCH(I178,Toolbox!$C$1:$C$300),1,,,\"Toolbox\"),VLOOKUP(I178,Toolbox!$C$1:$C$300,1,FALSE))","v":"Directives actualisées pour l'évaluation des systèmes de surveillance de la santé publique "}]

{"sheet":"ME3_tools","index":58,"n_rows":196,"n_cols":59,"rows_kept":196,"cut":false,"hidden":false,"merged":[[195,53,199,54],[195,40,199,40],[195,42,199,42],[195,44,199,44],[195,46,199,46],[195,48,199,48],[195,50,199,51],[189,50,193,51],[189,53,193,54],[189,40,193,40],[189,42,193,42],[189,44,193,44],[189,48,193,48],[195,8,199,13],[195,15,199,22],[195,24,199,26],[195,28,199,30],[195,32,199,32],[195,34,199,34],[195,36,199,36],[195,38,199,38],[189,34,193,34],[189,36,193,36],[189,38,193,38],[183,38,187,38],[183,40,187,40],[183,42,187,42],[183,44,187,44],[183,46,187,46],[183,48,187,48],[165,1,199,1],[165,3,168,6],[165,8,168,13],[165,15,168,22],[165,24,168,26],[165,28,168,30],[170,3,174,6],[170,8,174,13],[189,46,193,46],[177,3,199,6],[189,8,193,13],[189,15,193,22],[189,24,193,26],[189,28,193,30],[189,32,193,32],[170,42,174,42],[170,28,174,30],[170,32,174,32],[170,44,174,44],[170,46,174,46],[170,34,174,34],[170,36,174,36],[170,38,174,38],[170,40,174,40],[170,15,174,22],[170,24,174,26],[124,53,128,54],[154,32,168,32],[154,34,168,34],[124,50,128,51],[124,46,128,46],[118,48,122,48],[118,50,122,51],[118,53,122,54],[118,36,122,36],[170,48,174,48],[170,50,174,51],[170,53,174,54],[161,50,168,51],[161,53,168,54],[130,53,134,54],[154,36,168,36],[154,38,168,38],[154,40,168,40],[154,42,168,42],[154,44,168,44],[154,46,168,46],[154,48,168,48],[130,40,134,40],[130,42,134,42],[130,44,134,44],[130,46,134,46],[130,48,134,48],[130,50,134,51],[124,48,128,48],[112,46,116,46],[106,53,110,54],[112,8,116,13],[112,15,116,22],[112,24,116,26],[112,28,116,30],[112,32,116,32],[112,34,116,34],[112,36,116,36],[112,38,116,38],[112,40,116,40],[106,32,110,32],[106,34,110,34],[106,36,110,36],[106,38,110,38],[106,40,110,40],[106,42,110,42],[106,50,110,51],[112,50,116,51],[112,53,116,54],[112,48,116,48],[106,44,110,44],[106,46,110,46],[106,48,110,48],[118,46,122,46],[124,8,128,13],[124,15,128,22],[124,24,128,26],[124,28,128,30],[124,32,128,32],[124,34,128,34],[118,34,122,34],[118,38,122,38],[118,40,122,40],[118,42,122,42],[118,44,122,44],[118,8,122,13],[118,15,122,22],[118,24,122,26],[99,28,103,30],[99,32,103,32],[99,34,103,34],[118,28,122,30],[118,32,122,32],[112,42,116,42],[124,40,128,40],[124,42,128,42],[124,44,128,44],[112,44,116,44],[59,46,63,46],[41,32,45,32],[41,34,45,34],[94,1,134,1],[99,3,103,6],[106,3,134,6],[106,8,110,13],[106,15,110,22],[106,24,110,26],[106,28,110,30],[124,36,128,36],[124,38,128,38],[130,8,134,13],[130,15,134,22],[130,24,134,26],[130,28,134,30],[130,32,134,32],[130,34,134,34],[130,36,134,36],[130,38,134,38],[94,3,97,6],[99,8,103,13],[99,15,103,22],[99,24,103,26],[53,32,57,32],[53,34,57,34],[53,36,57,36],[41,40,45,40],[41,42,45,42],[41,15,45,22],[41,24,45,26],[41,28,45,30],[83,44,97,44],[47,15,51,22],[47,24,51,26],[47,28,51,30],[47,32,51,32],[47,34,51,34],[47,36,51,36],[41,44,45,44],[59,44,63,44],[177,50,181,51],[177,53,181,54],[183,8,187,13],[183,15,187,22],[183,24,187,26],[183,28,187,30],[183,32,187,32],[183,34,187,34],[183,36,187,36],[177,36,181,36],[177,38,181,38],[177,40,181,40],[177,42,181,42],[177,44,181,44],[177,46,181,46],[177,8,181,13],[177,15,181,22],[177,24,181,26],[177,28,181,30],[177,32,181,32],[177,34,181,34],[177,48,181,48],[183,50,187,51],[183,53,187,54],[99,48,103,48],[99,50,103,51],[99,53,103,54],[99,36,103,36],[99,38,103,38],[99,40,103,40],[99,42,103,42],[99,44,103,44],[99,46,103,46],[83,48,97,48],[90,50,97,51],[90,53,97,54],[94,8,97,13],[94,15,97,22],[94,24,97,26],[94,28,97,30],[83,32,97,32],[83,34,97,34],[83,36,97,36],[83,38,97,38],[83,40,97,40],[83,42,97,42],[83,46,97,46],[59,48,63,48],[53,48,57,48],[53,50,57,51],[53,53,57,54],[59,8,63,13],[59,15,63,22],[59,24,63,26],[59,28,63,30],[59,32,63,32],[53,44,57,44],[53,46,57,46],[53,38,57,38],[59,50,63,51],[59,53,63,54],[53,40,57,40],[59,38,63,38],[59,40,63,40],[59,42,63,42],[53,42,57,42],[59,34,63,34],[59,36,63,36],[53,8,57,13],[53,15,57,22],[53,24,57,26],[22,48,26,48],[22,50,26,51],[22,53,26,54],[28,53,32,54],[35,53,39,54],[28,40,32,40],[28,42,32,42],[28,44,32,44],[28,46,32,46],[28,48,32,48],[28,50,32,51],[35,46,39,46],[35,48,39,48],[35,50,39,51],[35,40,39,40],[35,42,39,42],[35,44,39,44],[35,32,39,32],[41,36,45,36],[41,38,45,38],[47,38,51,38],[47,40,51,40],[47,42,51,42],[41,8,45,13],[22,44,26,44],[22,46,26,46],[47,8,51,13],[41,46,45,46],[22,32,26,32],[22,34,26,34],[22,36,26,36],[28,24,32,26],[28,28,32,30],[28,32,32,32],[28,34,32,34],[28,36,32,36],[28,8,32,13],[28,15,32,22],[47,50,51,51],[47,53,51,54],[47,44,51,44],[47,46,51,46],[47,48,51,48],[41,48,45,48],[41,50,45,51],[41,53,45,54],[35,34,39,34],[35,36,39,36],[35,38,39,38],[17,3,20,6],[17,8,20,13],[17,15,20,22],[17,24,20,26],[17,28,20,30],[17,1,63,1],[22,3,32,6],[22,8,26,13],[22,15,26,22],[22,24,26,26],[22,28,26,30],[35,8,39,13],[35,15,39,22],[35,24,39,26],[35,28,39,30],[35,3,63,6],[53,28,57,30],[1,1,3,62],[22,56,26,57],[22,58,26,62],[28,56,32,57],[28,58,32,62],[35,56,39,57],[35,58,39,62],[41,56,45,57],[41,58,45,62],[28,38,32,38],[22,38,26,38],[22,40,26,40],[22,42,26,42],[6,32,20,32],[6,34,20,34],[6,36,20,36],[6,38,20,38],[6,40,20,40],[6,42,20,42],[6,44,20,44],[6,46,20,46],[6,48,20,48],[13,50,20,51],[13,53,20,54],[47,56,51,57],[47,58,51,62],[53,56,57,57],[53,58,57,62],[59,56,63,57],[59,58,63,62],[99,56,103,57],[99,58,103,62],[106,56,110,57],[106,58,110,62],[177,56,181,57],[177,58,181,62],[183,56,187,57],[183,58,187,62],[189,56,193,57],[189,58,193,62],[195,56,199,57],[195,58,199,62],[112,56,116,57],[112,58,116,62],[118,56,122,57],[118,58,122,62],[124,56,128,57],[124,58,128,62],[130,56,134,57],[130,58,134,62],[170,56,174,57],[170,58,174,62]]}
[]
[null,"Ressources sur les normes de qualité des données"]
[]
[]
[]
[]
[null,null,null,null,null,null,null,null,null,null,null,null,null,null,null,null,null,null,null,null,null,null,null,null,null,null,null,null,null,null,null,null,"Accessibilité",null,"Langue",null,"Facilité d'utilisation",null,"Flexibilité",null,"Besoins de données",null,"Analyse des données",null,"Acceptabilité",null,"«Une seule santé»",null,"Impact"]
[]
[]
[]
[]
[]
[]
[null,null,null,null,null,null,null,null,null,null,null,null,null,null,null,null,null,null,null,null,null,null,null,null,null,null,null,null,null,null,null,null,null,null,null,null,null,null,null,null,null,null,null,null,null,null,null,null,null,null,"SCORE BRUT",null,null,"SCORE AJUSTÉ \n(Selon les préférences de l'utilisateur)"]
[]
[]
[]
[null,"RESSOURCES DE NIVEAU 1",null,"DÉSIGNATION",null,null,null,null,"NOM DE LA RESSOURCE",null,null,null,null,null,null,"BRÈVE DESCRIPTION",null,null,null,null,null,null,null,null,"TYPE DE RESSOURCE",null,null,null,"CARACTÈRE GÉNÉRAL DE LA RESSOURCE"]
[]
[]
[]
[null,null,null,null,null,null,null,null,null,null,null,null,null,null,null,null,null,null,null,null,null,null,null,null,null,null,null,null,null,null,null,null,{"$f":"'Attribute Survey'!S22","v":0},null,{"$f":"'Attribute Survey'!S26","v":0},null,{"$f":"'Attribute Survey'!S30","v":0},null,{"$f":"'Attribute Survey'!S34","v":0},null,{"$f":"'Attribute Survey'!S38","v":0},null,{"$f":"'Attribute Survey'!S42","v":0},null,{"$f":"'Attribute Survey'!S46","v":0},null,{"$f":"'Attribute Survey'!S50","v":0},null,{"$f":"'Attribute Survey'!S54","v":0}]
[null,null,null,"Ressources les mieux adaptées",null,null,null,null,{"$f":"Backbone!A595","v":"Boîte à outils pour le contrôle de la qualité des données (DQR)"},null,null,null,null,null,null,"Directives et outils servant de base à une approche normalisée et holistique de la qualité des données qui favorise l'institutionnalisation d'une évaluation régulière de la qualité des données dans les pays.",null,null,null,null,null,null,null,null,{"$f":"INDEX(Backbone!$R$2:$R$893,MATCH(I23,Backbone!$A$2:$A$893,0))","v":"Outil d'autoévaluation"},null,null,null,{"$f":"INDEX(Backbone!$S$2:$S$893,MATCH(I23,Backbone!$A$2:$A$893,0))","v":"Spécifique du secteur; Généralisée"},null,null,null,{"$f":"INDEX(Backbone!$H$2:$H$893,MATCH(I23,Backbone!$A$2:$A$893,0))","v":7.7},null,{"$f":"INDEX(Backbone!$I$2:$I$893,MATCH(I23,Backbone!$A$2:$A$893,0))","v":7},null,{"$f":"INDEX(Backbone!$J$2:$J$893,MATCH(I23,Backbone!$A$2:$A$893,0))","v":7.7},null,{"$f":"INDEX(Backbone!$K$2:$K$893,MATCH(I23,Backbone!$A$2:$A$893,0))","v":10},null,{"$f":"INDEX(Backbone!$L$2:$L$893,MATCH(I23,Backbone!$A$2:$A$893,0))","v":6.3},null,{"$f":"INDEX(Backbone!$M$2:$M$893,MATCH(I23,Backbone!$A$2:$A$893,0))","v":4.8},null,{"$f":"INDEX(Backbone!$N$2:$N$893,MATCH(I23,Backbone!$A$2:$A$893,0))","v":5.5},null,{"$f":"INDEX(Backbone!$O$2:$O$893,MATCH(I23,Backbone!$A$2:$A$893,0))","v":5},null,{"$f":"INDEX(Backbone!$P$2:$P$893,MATCH(I23,Backbone!$A$2:$A$893,0))","v":4},null,{"$f":"INDEX(Backbone!$Q$2:$Q$893,MATCH(I23,Backbone!$A$2:$A$893,0))","v":0.64444444444444438},null,null,{"$f":"(AG23*$AG$22+AI23*$AI$22+AK23*$AK$22+AM23*$AM$22+AO23*$AO$22+AQ23*$AQ$22+AS23*$AS$22+AU23*$AU$22+AW23*$AW$22)/(SUM($AG$22:$AW$22)*10)","v":{"$error":"#DIV/0!"}},null,null,"Aller à \nBoîte à outils: ",null,{"$f":"HYPERLINK(\"#\"&ADDRESS(MATCH(I23,Toolbox!$C$1:$C$300),1,,,\"Toolbox\"),VLOOKUP(I23,Toolbox!$C$1:$C$300,1,FALSE))","v":"Boîte à outils pour le contrôle de la qualité des données (DQR)"}]
[]
[]
[]
[]
[]
[null,null,null,null,null,null,null,null,{"$f":"Backbone!A83","v":"Évaluation ECDC des systèmes de suivi et de surveillance de la qualité des données - Manuel des méthodes et des applications "},null,null,null,null,null,null,"Un manuel pour le suivi de la qualité des données de surveillance des maladies à l'attention des professionnels de la santé publique.",null,null,null,null,null,null,null,null,{"$f":"INDEX(Backbone!$R$2:$R$893,MATCH(I29,Backbone!$A$2:$A$893,0))","v":"Document d'orientation"},null,null,null,{"$f":"INDEX(Backbone!$S$2:$S$893,MATCH(I29,Backbone!$A$2:$A$893,0))","v":"Spécifique du secteur; Généralisée"},null,null,null,{"$f":"INDEX(Backbone!$H$2:$H$893,MATCH(I29,Backbone!$A$2:$A$893,0))","v":8.1999999999999993},null,{"$f":"INDEX(Backbone!$I$2:$I$893,MATCH(I29,Backbone!$A$2:$A$893,0))","v":6},null,{"$f":"INDEX(Backbone!$J$2:$J$893,MATCH(I29,Backbone!$A$2:$A$893,0))","v":6.4},null,{"$f":"INDEX(Backbone!$K$1:$K$893,MATCH(I29,Backbone!$A$1:$A$893,0))","v":7.3},null,{"$f":"INDEX(Backbone!$L$2:$L$893,MATCH(I29,Backbone!$A$2:$A$893,0))","v":7.7},null,{"$f":"INDEX(Backbone!$M$2:$M$893,MATCH(I29,Backbone!$A$2:$A$893,0))","v":4.5},null,{"$f":"INDEX(Backbone!$N$2:$N$893,MATCH(I29,Backbone!$A$2:$A$893,0))","v":5.3},null,{"$f":"INDEX(Backbone!$O$2:$O$893,MATCH(I29,Backbone!$A$2:$A$893,0))","v":6.2},null,{"$f":"INDEX(Backbone!$P$2:$P$893,MATCH(I29,Backbone!$A$2:$A$893,0))","v":8},null,{"$f":"INDEX(Backbone!$Q$2:$Q$893,MATCH(I29,Backbone!$A$2:$A$893,0))","v":0.66222222222222227},null,null,{"$f":"(AG29*$AG$22+AI29*$AI$22+AK29*$AK$22+AM29*$AM$22+AO29*$AO$22+AQ29*$AQ$22+AS29*$AS$22+AU29*$AU$22+AW29*$AW$22)/(SUM($AG$22:$AW$22)*10)","v":{"$error":"#DIV/0!"}},null,null,"Aller à \nBoîte à outils: ",null,{"$f":"HYPERLINK(\"#\"&ADDRESS(MATCH(I29,Toolbox!$C$1:$C$300),1,,,\"Toolbox\"),VLOOKUP(I29,Toolbox!$C$1:$C$300,1,FALSE))","v":"Évaluation ECDC des systèmes de suivi et de surveillance de la qualité des données - Manuel des méthodes et des applications "}]
[]
[]
[]
[]
[]
[]
[null,null,null,"Autres ressources intéressantes",null,null,null,null,{"$f":"Backbone!A33","v":"Cadre pour le renforcement de la prévention et du contrôle de l'anthrax "},null,null,null,null,null,null,"Le Cadre présente un historique de la maladie du charbon et explique comment améliorer la prévention et le contrôle de cette maladie chez les animaux et les humains.",null,null,null,null,null,null,null,null,{"$f":"INDEX(Backbone!$R$2:$R$893,MATCH(I36,Backbone!$A$2:$A$893,0))","v":"Document d'orientation"},null,null,null,{"$f":"INDEX(Backbone!$S$2:$S$893,MATCH(I36,Backbone!$A$2:$A$893,0))","v":"«Une seule santé»; spécifique d'une maladie/menace "},null,null,null,{"$f":"INDEX(Backbone!$H$2:$H$893,MATCH(I36,Backbone!$A$2:$A$893,0))","v":9.1},null,{"$f":"INDEX(Backbone!$I$2:$I$893,MATCH(I36,Backbone!$A$2:$A$893,0))","v":10},null,{"$f":"INDEX(Backbone!$J$2:$J$893,MATCH(I36,Backbone!$A$2:$A$893,0))","v":8.6},null,{"$f":"INDEX(Backbone!$K$1:$K$893,MATCH(I36,Backbone!$A$1:$A$893,0))","v":4.7},null,{"$f":"INDEX(Backbone!$L$2:$L$893,MATCH(I36,Backbone!$A$2:$A$893,0))","v":9.1999999999999993},null,{"$f":"INDEX(Backbone!$M$2:$M$893,MATCH(I36,Backbone!$A$2:$A$893,0))","v":2},null,{"$f":"INDEX(Backbone!$N$2:$N$893,MATCH(I36,Backbone!$A$2:$A$893,0))","v":6.3},null,{"$f":"INDEX(Backbone!$O$2:$O$893,MATCH(I36,Backbone!$A$2:$A$893,0))","v":4.3},null,{"$f":"INDEX(Backbone!$P$2:$P$893,MATCH(I36,Backbone!$A$2:$A$893,0))","v":6},null,{"$f":"INDEX(Backbone!$Q$2:$Q$893,MATCH(I36,Backbone!$A$2:$A$893,0))","v":0.66888888888888887},null,null,{"$f":"(AG36*$AG$22+AI36*$AI$22+AK36*$AK$22+AM36*$AM$22+AO36*$AO$22+AQ36*$AQ$22+AS36*$AS$22+AU36*$AU$22+AW36*$AW$22)/(SUM($AG$22:$AW$22)*10)","v":{"$error":"#DIV/0!"}},null,null,"Aller à \nBoîte à outils: ",null,{"$f":"HYPERLINK(\"#\"&ADDRESS(MATCH(I36,Toolbox!$C$1:$C$300),1,,,\"Toolbox\"),VLOOKUP(I36,Toolbox!$C$1:$C$300,1,FALSE))","v":"Cadre pour le renforcement de la prévention et du contrôle de l'anthrax "}]
[]
[]
[]
[]
[]
[null,null,null,null,null,null,null,null,{"$f":"Backbone!A195","v":"Surveillance intégrée de la maladie et la riposte (IDSR)"},null,null,null,null,null,null,"Une stratégie visant à renforcer les capacités pour la détection, la confirmation et la réponse aux cas suspects et à l'apparition de foyers épidémiques, ainsi que pour l'utilisation des informations afin de prédire et de planifier les événements de santé publique.",null,null,null,null,null,null,null,null,{"$f":"INDEX(Backbone!$R$2:$R$893,MATCH(I42,Backbone!$A$2:$A$893,0))","v":"Document d'orientation"},null,null,null,{"$f":"INDEX(Backbone!$S$2:$S$893,MATCH(I42,Backbone!$A$2:$A$893,0))","v":"Spécifique du secteur; Généralisée"},null,null,null,{"$f":"INDEX(Backbone!$H$2:$H$893,MATCH(I42,Backbone!$A$2:$A$893,0))","v":7.4},null,{"$f":"INDEX(Backbone!$I$2:$I$893,MATCH(I42,Backbone!$A$2:$A$893,0))","v":10},null,{"$f":"INDEX(Backbone!$J$2:$J$893,MATCH(I42,Backbone!$A$2:$A$893,0))","v":7.4},null,{"$f":"INDEX(Backbone!$K$1:$K$893,MATCH(I42,Backbone!$A$1:$A$893,0))","v":8.6999999999999993},null,{"$f":"INDEX(Backbone!$L$2:$L$893,MATCH(I42,Backbone!$A$2:$A$893,0))","v":6.7},null,{"$f":"INDEX(Backbone!$M$2:$M$893,MATCH(I42,Backbone!$A$2:$A$893,0))","v":4.5},null,{"$f":"INDEX(Backbone!$N$2:$N$893,MATCH(I42,Backbone!$A$2:$A$893,0))","v":8},null,{"$f":"INDEX(Backbone!$O$2:$O$893,MATCH(I42,Backbone!$A$2:$A$893,0))","v":7.2},null,{"$f":"INDEX(Backbone!$P$2:$P$893,MATCH(I42,Backbone!$A$2:$A$893,0))","v":8.5},null,{"$f":"INDEX(Backbone!$Q$2:$Q$893,MATCH(I42,Backbone!$A$2:$A$893,0))","v":0.76},null,null,{"$f":"(AG42*$AG$22+AI42*$AI$22+AK42*$AK$22+AM42*$AM$22+AO42*$AO$22+AQ42*$AQ$22+AS42*$AS$22+AU42*$AU$22+AW42*$AW$22)/(SUM($AG$22:$AW$22)*10)","v":{"$error":"#DIV/0!"}},null,null,"Aller à \nBoîte à outils: ",null,{"$f":"HYPERLINK(\"#\"&ADDRESS(MATCH(I42,Toolbox!$C$1:$C$300),1,,,\"Toolbox\"),VLOOKUP(I42,Toolbox!$C$1:$C$300,1,FALSE))","v":"Surveillance intégrée de la maladie et la riposte (IDSR)"}]
[]
[]
[]
[]
[]
[null,null,null,null,null,null,null,null,{"$f":"Backbone!A510","v":"Cadre d'évaluation de la surveillance (SERVAL)"},null,null,null,null,null,null,"Un guide par étapes sur la façon de planifier, de structurer et de mener à bien l'évaluation des systèmes de surveillance de la santé animale.",null,null,null,null,null,null,null,null,{"$f":"INDEX(Backbone!$R$2:$R$893,MATCH(I48,Backbone!$A$2:$A$893,0))","v":"Document d'orientation"},null,null,null,{"$f":"INDEX(Backbone!$S$2:$S$893,MATCH(I48,Backbone!$A$2:$A$893,0))","v":"Spécifique du secteur; Généralisée"},null,null,null,{"$f":"INDEX(Backbone!$H$2:$H$893,MATCH(I48,Backbone!$A$2:$A$893,0))","v":8.8000000000000007},null,{"$f":"INDEX(Backbone!$I$2:$I$893,MATCH(I48,Backbone!$A$2:$A$893,0))","v":9},null,{"$f":"INDEX(Backbone!$J$2:$J$893,MATCH(I48,Backbone!$A$2:$A$893,0))","v":9},null,{"$f":"INDEX(Backbone!$K$1:$K$893,MATCH(I48,Backbone!$A$1:$A$893,0))","v":10},null,{"$f":"INDEX(Backbone!$L$2:$L$893,MATCH(I48,Backbone!$A$2:$A$893,0))","v":8.1},null,{"$f":"INDEX(Backbone!$M$2:$M$893,MATCH(I48,Backbone!$A$2:$A$893,0))","v":3.3},null,{"$f":"INDEX(Backbone!$N$2:$N$893,MATCH(I48,Backbone!$A$2:$A$893,0))","v":4},null,{"$f":"INDEX(Backbone!$O$2:$O$893,MATCH(I48,Backbone!$A$2:$A$893,0))","v":6.8},null,{"$f":"INDEX(Backbone!$P$2:$P$893,MATCH(I48,Backbone!$A$2:$A$893,0))","v":8},null,{"$f":"INDEX(Backbone!$Q$2:$Q$893,MATCH(I48,Backbone!$A$2:$A$893,0))","v":0.74444444444444446},null,null,{"$f":"(AG48*$AG$22+AI48*$AI$22+AK48*$AK$22+AM48*$AM$22+AO48*$AO$22+AQ48*$AQ$22+AS48*$AS$22+AU48*$AU$22+AW48*$AW$22)/(SUM($AG$22:$AW$22)*10)","v":{"$error":"#DIV/0!"}},null,null,"Aller à \nBoîte à outils: ",null,{"$f":"HYPERLINK(\"#\"&ADDRESS(MATCH(I48,Toolbox!$C$1:$C$300),1,,,\"Toolbox\"),VLOOKUP(I48,Toolbox!$C$1:$C$300,1,FALSE))","v":"Cadre d'évaluation de la surveillance (SERVAL)"}]
[]
[]
[]
[]
[]
[null,null,null,null,null,null,null,null,{"$f":"Backbone!A561","v":"Cadre d'évaluation de la surveillance (SurF)"},null,null,null,null,null,null,"Un cadre d'évaluation des systèmes de surveillance utilisable dans les domaines de la biosécurité, de la santé végétale ou animale. ",null,null,null,null,null,null,null,null,{"$f":"INDEX(Backbone!$R$2:$R$893,MATCH(I54,Backbone!$A$2:$A$893,0))","v":"Document d'orientation"},null,null,null,{"$f":"INDEX(Backbone!$S$2:$S$893,MATCH(I54,Backbone!$A$2:$A$893,0))","v":"«Une seule santé»; Généralisée"},null,null,null,{"$f":"INDEX(Backbone!$H$2:$H$893,MATCH(I54,Backbone!$A$2:$A$893,0))","v":7.6},null,{"$f":"INDEX(Backbone!$I$2:$I$893,MATCH(I54,Backbone!$A$2:$A$893,0))","v":6},null,{"$f":"INDEX(Backbone!$J$2:$J$893,MATCH(I54,Backbone!$A$2:$A$893,0))","v":8},null,{"$f":"INDEX(Backbone!$K$1:$K$893,MATCH(I54,Backbone!$A$1:$A$893,0))","v":8.6999999999999993},null,{"$f":"INDEX(Backbone!$L$2:$L$893,MATCH(I54,Backbone!$A$2:$A$893,0))","v":8.6},null,{"$f":"INDEX(Backbone!$M$2:$M$893,MATCH(I54,Backbone!$A$2:$A$893,0))","v":4.0999999999999996},null,{"$f":"INDEX(Backbone!$N$2:$N$893,MATCH(I54,Backbone!$A$2:$A$893,0))","v":4},null,{"$f":"INDEX(Backbone!$O$2:$O$893,MATCH(I54,Backbone!$A$2:$A$893,0))","v":8},null,{"$f":"INDEX(Backbone!$P$2:$P$893,MATCH(I54,Backbone!$A$2:$A$893,0))","v":4},null,{"$f":"INDEX(Backbone!$Q$2:$Q$893,MATCH(I54,Backbone!$A$2:$A$893,0))","v":0.65555555555555556},null,null,{"$f":"(AG54*$AG$22+AI54*$AI$22+AK54*$AK$22+AM54*$AM$22+AO54*$AO$22+AQ54*$AQ$22+AS54*$AS$22+AU54*$AU$22+AW54*$AW$22)/(SUM($AG$22:$AW$22)*10)","v":{"$error":"#DIV/0!"}},null,null,"Aller à \nBoîte à outils: ",null,{"$f":"HYPERLINK(\"#\"&ADDRESS(MATCH(I54,Toolbox!$C$1:$C$300),1,,,\"Toolbox\"),VLOOKUP(I54,Toolbox!$C$1:$C$300,1,FALSE))","v":"Cadre d'évaluation de la surveillance (SurF)"}]
[]
[]
[]
[]
[]
[null,null,null,null,null,null,null,null,{"$f":"Backbone!A296","v":"Directives actualisées pour l'évaluation des systèmes de surveillance de la santé publique "},null,null,null,null,null,null,"Ce rapport fournit des directives actualisées pour l'évaluation des systèmes de surveillance, en décrivant des tâches et des activités connexes qui peuvent être appliquées au système de surveillance de la santé publique.",null,null,null,null,null,null,null,null,{"$f":"INDEX(Backbone!$R$2:$R$893,MATCH(I60,Backbone!$A$2:$A$893,0))","v":"Document d'orientation"},null,null,null,{"$f":"INDEX(Backbone!$S$2:$S$893,MATCH(I60,Backbone!$A$2:$A$893,0))","v":"Spécifique du secteur; Généralisée"},null,null,null,{"$f":"INDEX(Backbone!$H$2:$H$893,MATCH(I60,Backbone!$A$2:$A$893,0))","v":7.6},null,{"$f":"INDEX(Backbone!$I$2:$I$893,MATCH(I60,Backbone!$A$2:$A$893,0))","v":8},null,{"$f":"INDEX(Backbone!$J$2:$J$893,MATCH(I60,Backbone!$A$2:$A$893,0))","v":7.2},null,{"$f":"INDEX(Backbone!$K$1:$K$893,MATCH(I60,Backbone!$A$1:$A$893,0))","v":8.6999999999999993},null,{"$f":"INDEX(Backbone!$L$2:$L$893,MATCH(I60,Backbone!$A$2:$A$893,0))","v":7.7},null,{"$f":"INDEX(Backbone!$M$2:$M$893,MATCH(I60,Backbone!$A$2:$A$893,0))","v":2.2999999999999998},null,{"$f":"INDEX(Backbone!$N$2:$N$893,MATCH(I60,Backbone!$A$2:$A$893,0))","v":4},null,{"$f":"INDEX(Backbone!$O$2:$O$893,MATCH(I60,Backbone!$A$2:$A$893,0))","v":5.8},null,{"$f":"INDEX(Backbone!$P$2:$P$893,MATCH(I60,Backbone!$A$2:$A$893,0))","v":4},null,{"$f":"INDEX(Backbone!$Q$2:$Q$893,MATCH(I60,Backbone!$A$2:$A$893,0))","v":0.61444444444444446},null,null,{"$f":"(AG60*$AG$22+AI60*$AI$22+AK60*$AK$22+AM60*$AM$22+AO60*$AO$22+AQ60*$AQ$22+AS60*$AS$22+AU60*$AU$22+AW60*$AW$22)/(SUM($AG$22:$AW$22)*10)","v":{"$error":"#DIV/0!"}},null,null,"Aller à \nBoîte à outils: ",null,{"$f":"HYPERLINK(\"#\"&ADDRESS(MATCH(I60,Toolbox!$C$1:$C$300),1,,,\"Toolbox\"),VLOOKUP(I60,Toolbox!$C$1:$C$300,1,FALSE))","v":"Directives actualisées pour l'évaluation des systèmes de surveillance de la santé publique "}]
[]
[]
[]
[]
[]
[]
[]
[]
[]
[]
[]
[]
[]
[]
[]
[]
[]
[]
[]
[]
[]
[]
[]
[null,null,null,null,null,null,null,null,null,null,null,null,null,null,null,null,null,null,null,null,null,null,null,null,null,null,null,null,null,null,null,null,"Accessibilité",null,"Langue",null,"Facilité d'utilisation",null,"Flexibilité",null,"Besoins de données",null,"Analyse des données",null,"Acceptabilité",null,"«Une seule santé»",null,"Impact"]
[]
[]
[]
[]
[]
[]
[null,null,null,null,null,null,null,null,null,null,null,null,null,null,null,null,null,null,null,null,null,null,null,null,null,null,null,null,null,null,null,null,null,null,null,null,null,null,null,null,null,null,null,null,null,null,null,null,null,null,"SCORE BRUT",null,null,"SCORE AJUSTÉ \n(Selon les préférences de l'utilisateur)"]
[]
[]
[]
[null,"RESSOURCES DE NIVEAU 2",null,"DÉSIGNATION",null,null,null,null,"NOM DE LA RESSOURCE",null,null,null,null,null,null,"BRÈVE DESCRIPTION",null,null,null,null,null,null,null,null,"TYPE DE RESSOURCE",null,null,null,"CARACTÈRE GÉNÉRAL DE LA RESSOURCE"]
[]
[]
[]
[null,null,null,null,null,null,null,null,null,null,null,null,null,null,null,null,null,null,null,null,null,null,null,null,null,null,null,null,null,null,null,null,{"$f":"'Attribute Survey'!S99","v":0},null,{"$f":"'Attribute Survey'!S103","v":0},null,{"$f":"'Attribute Survey'!S107","v":0},null,{"$f":"'Attribute Survey'!S111","v":0},null,{"$f":"'Attribute Survey'!S115","v":0},null,{"$f":"'Attribute Survey'!S119","v":0},null,{"$f":"'Attribute Survey'!S123","v":0},null,{"$f":"'Attribute Survey'!S127","v":0},null,{"$f":"'Attribute Survey'!S131","v":0}]
[null,null,null,"Ressources les mieux adaptées",null,null,null,null,{"$f":"Backbone!A595","v":"Boîte à outils pour le contrôle de la qualité des données (DQR)"},null,null,null,null,null,null,"Directives et outils servant de base à une approche normalisée et holistique de la qualité des données qui favorise l'institutionnalisation d'une évaluation régulière de la qualité des données dans les pays.",null,null,null,null,null,null,null,null,{"$f":"INDEX(Backbone!$R$2:$R$893,MATCH(I100,Backbone!$A$2:$A$893,0))","v":"Outil d'autoévaluation"},null,null,null,{"$f":"INDEX(Backbone!$S$2:$S$893,MATCH(I100,Backbone!$A$2:$A$893,0))","v":"Spécifique du secteur; Généralisée"},null,null,null,{"$f":"INDEX(Backbone!$H$2:$H$893,MATCH(I100,Backbone!$A$2:$A$893,0))","v":7.7},null,{"$f":"INDEX(Backbone!$I$2:$I$893,MATCH(I100,Backbone!$A$2:$A$893,0))","v":7},null,{"$f":"INDEX(Backbone!$J$2:$J$893,MATCH(I100,Backbone!$A$2:$A$893,0))","v":7.7},null,{"$f":"INDEX(Backbone!$K$2:$K$893,MATCH(I100,Backbone!$A$2:$A$893,0))","v":10},null,{"$f":"INDEX(Backbone!$L$2:$L$893,MATCH(I100,Backbone!$A$2:$A$893,0))","v":6.3},null,{"$f":"INDEX(Backbone!$M$2:$M$893,MATCH(I100,Backbone!$A$2:$A$893,0))","v":4.8},null,{"$f":"INDEX(Backbone!$N$2:$N$893,MATCH(I100,Backbone!$A$2:$A$893,0))","v":5.5},null,{"$f":"INDEX(Backbone!$O$2:$O$893,MATCH(I100,Backbone!$A$2:$A$893,0))","v":5},null,{"$f":"INDEX(Backbone!$P$2:$P$893,MATCH(I100,Backbone!$A$2:$A$893,0))","v":4},null,{"$f":"INDEX(Backbone!$Q$2:$Q$893,MATCH(I100,Backbone!$A$2:$A$893,0))","v":0.64444444444444438},null,null,{"$f":"(AG100*$AG$22+AI100*$AI$22+AK100*$AK$22+AM100*$AM$22+AO100*$AO$22+AQ100*$AQ$22+AS100*$AS$22+AU100*$AU$22+AW100*$AW$22)/(SUM($AG$22:$AW$22)*10)","v":{"$error":"#DIV/0!"}},null,null,"Aller à \nBoîte à outils: ",null,{"$f":"HYPERLINK(\"#\"&ADDRESS(MATCH(I100,Toolbox!$C$1:$C$300),1,,,\"Toolbox\"),VLOOKUP(I100,Toolbox!$C$1:$C$300,1,FALSE))","v":"Boîte à outils pour le contrôle de la qualité des données (DQR)"}]
[]
[]
[]
[]
[]
[]
[null,null,null,"Autres ressources intéressantes",null,null,null,null,{"$f":"Backbone!A83","v":"Évaluation ECDC des systèmes de suivi et de surveillance de la qualité des données - Manuel des méthodes et des applications "},null,null,null,null,null,null,"Un manuel pour le suivi de la qualité des données de surveillance des maladies à l'attention des professionnels de la santé publique.",null,null,null,null,null,null,null,null,{"$f":"INDEX(Backbone!$R$2:$R$893,MATCH(I107,Backbone!$A$2:$A$893,0))","v":"Document d'orientation"},null,null,null,{"$f":"INDEX(Backbone!$S$2:$S$893,MATCH(I107,Backbone!$A$2:$A$893,0))","v":"Spécifique du secteur; Généralisée"},null,null,null,{"$f":"INDEX(Backbone!$H$2:$H$893,MATCH(I107,Backbone!$A$2:$A$893,0))","v":8.1999999999999993},null,{"$f":"INDEX(Backbone!$I$2:$I$893,MATCH(I107,Backbone!$A$2:$A$893,0))","v":6},null,{"$f":"INDEX(Backbone!$J$2:$J$893,MATCH(I107,Backbone!$A$2:$A$893,0))","v":6.4},null,{"$f":"INDEX(Backbone!$K$1:$K$893,MATCH(I107,Backbone!$A$1:$A$893,0))","v":7.3},null,{"$f":"INDEX(Backbone!$L$2:$L$893,MATCH(I107,Backbone!$A$2:$A$893,0))","v":7.7},null,{"$f":"INDEX(Backbone!$M$2:$M$893,MATCH(I107,Backbone!$A$2:$A$893,0))","v":4.5},null,{"$f":"INDEX(Backbone!$N$2:$N$893,MATCH(I107,Backbone!$A$2:$A$893,0))","v":5.3},null,{"$f":"INDEX(Backbone!$O$2:$O$893,MATCH(I107,Backbone!$A$2:$A$893,0))","v":6.2},null,{"$f":"INDEX(Backbone!$P$2:$P$893,MATCH(I107,Backbone!$A$2:$A$893,0))","v":8},null,{"$f":"INDEX(Backbone!$Q$2:$Q$893,MATCH(I107,Backbone!$A$2:$A$893,0))","v":0.66222222222222227},null,null,{"$f":"(AG107*$AG$22+AI107*$AI$22+AK107*$AK$22+AM107*$AM$22+AO107*$AO$22+AQ107*$AQ$22+AS107*$AS$22+AU107*$AU$22+AW107*$AW$22)/(SUM($AG$22:$AW$22)*10)","v":{"$error":"#DIV/0!"}},null,null,"Aller à \nBoîte à outils: ",null,{"$f":"HYPERLINK(\"#\"&ADDRESS(MATCH(I107,Toolbox!$C$1:$C$300),1,,,\"Toolbox\"),VLOOKUP(I107,Toolbox!$C$1:$C$300,1,FALSE))","v":"Évaluation ECDC des systèmes de suivi et de surveillance de la qualité des données - Manuel des méthodes et des applications "}]
[]
[]
[]
[]
[]
[null,null,null,null,null,null,null,null,{"$f":"Backbone!A195","v":"Surveillance intégrée de la maladie et la riposte (IDSR)"},null,null,null,null,null,null,"Une stratégie visant à renforcer les capacités pour la détection, la confirmation et la réponse aux cas suspects et à l'apparition de foyers épidémiques, ainsi que pour l'utilisation des informations afin de prédire et de planifier les événements de santé publique.",null,null,null,null,null,null,null,null,{"$f":"INDEX(Backbone!$R$2:$R$893,MATCH(I113,Backbone!$A$2:$A$893,0))","v":"Document d'orientation"},null,null,null,{"$f":"INDEX(Backbone!$S$2:$S$893,MATCH(I113,Backbone!$A$2:$A$893,0))","v":"Spécifique du secteur; Généralisée"},null,null,null,{"$f":"INDEX(Backbone!$H$2:$H$893,MATCH(I113,Backbone!$A$2:$A$893,0))","v":7.4},null,{"$f":"INDEX(Backbone!$I$2:$I$893,MATCH(I113,Backbone!$A$2:$A$893,0))","v":10},null,{"$f":"INDEX(Backbone!$J$2:$J$893,MATCH(I113,Backbone!$A$2:$A$893,0))","v":7.4},null,{"$f":"INDEX(Backbone!$K$1:$K$893,MATCH(I113,Backbone!$A$1:$A$893,0))","v":8.6999999999999993},null,{"$f":"INDEX(Backbone!$L$2:$L$893,MATCH(I113,Backbone!$A$2:$A$893,0))","v":6.7},null,{"$f":"INDEX(Backbone!$M$2:$M$893,MATCH(I113,Backbone!$A$2:$A$893,0))","v":4.5},null,{"$f":"INDEX(Backbone!$N$2:$N$893,MATCH(I113,Backbone!$A$2:$A$893,0))","v":8},null,{"$f":"INDEX(Backbone!$O$2:$O$893,MATCH(I113,Backbone!$A$2:$A$893,0))","v":7.2},null,{"$f":"INDEX(Backbone!$P$2:$P$893,MATCH(I113,Backbone!$A$2:$A$893,0))","v":8.5},null,{"$f":"INDEX(Backbone!$Q$2:$Q$893,MATCH(I113,Backbone!$A$2:$A$893,0))","v":0.76},null,null,{"$f":"(AG113*$AG$22+AI113*$AI$22+AK113*$AK$22+AM113*$AM$22+AO113*$AO$22+AQ113*$AQ$22+AS113*$AS$22+AU113*$AU$22+AW113*$AW$22)/(SUM($AG$22:$AW$22)*10)","v":{"$error":"#DIV/0!"}},null,null,"Aller à \nBoîte à outils: ",null,{"$f":"HYPERLINK(\"#\"&ADDRESS(MATCH(I113,Toolbox!$C$1:$C$300),1,,,\"Toolbox\"),VLOOKUP(I113,Toolbox!$C$1:$C$300,1,FALSE))","v":"Surveillance intégrée de la maladie et la riposte (IDSR)"}]
[]
[]
[]
[]
[]
[null,null,null,null,null,null,null,null,{"$f":"Backbone!A489","v":"Suite pour une biosurveillance électronique automatisée mondiale (SAGES)"},null,null,null,null,null,null,"Une suite d'outils logiciels d'exploitation libre conçus pour améliorer la surveillance électronique des maladies dans des situations où les ressources sont limitées.",null,null,null,null,null,null,null,null,{"$f":"INDEX(Backbone!$R$2:$R$893,MATCH(I119,Backbone!$A$2:$A$893,0))","v":"Matériel ou logiciel"},null,null,null,{"$f":"INDEX(Backbone!$S$2:$S$893,MATCH(I119,Backbone!$A$2:$A$893,0))","v":"«Une seule santé»; Généralisée"},null,null,null,{"$f":"INDEX(Backbone!$H$2:$H$893,MATCH(I119,Backbone!$A$2:$A$893,0))","v":9.8000000000000007},null,{"$f":"INDEX(Backbone!$I$2:$I$893,MATCH(I119,Backbone!$A$2:$A$893,0))","v":10},null,{"$f":"INDEX(Backbone!$J$2:$J$893,MATCH(I119,Backbone!$A$2:$A$893,0))","v":10},null,{"$f":"INDEX(Backbone!$K$1:$K$893,MATCH(I119,Backbone!$A$1:$A$893,0))","v":9.3000000000000007},null,{"$f":"INDEX(Backbone!$L$2:$L$893,MATCH(I119,Backbone!$A$2:$A$893,0))","v":8.5},null,{"$f":"INDEX(Backbone!$M$2:$M$893,MATCH(I119,Backbone!$A$2:$A$893,0))","v":9},null,{"$f":"INDEX(Backbone!$N$2:$N$893,MATCH(I119,Backbone!$A$2:$A$893,0))","v":5.5},null,{"$f":"INDEX(Backbone!$O$2:$O$893,MATCH(I119,Backbone!$A$2:$A$893,0))","v":9.5},null,{"$f":"INDEX(Backbone!$P$2:$P$893,MATCH(I119,Backbone!$A$2:$A$893,0))","v":7},null,{"$f":"INDEX(Backbone!$Q$2:$Q$893,MATCH(I119,Backbone!$A$2:$A$893,0))","v":0.87333333333333329},null,null,{"$f":"(AG119*$AG$22+AI119*$AI$22+AK119*$AK$22+AM119*$AM$22+AO119*$AO$22+AQ119*$AQ$22+AS119*$AS$22+AU119*$AU$22+AW119*$AW$22)/(SUM($AG$22:$AW$22)*10)","v":{"$error":"#DIV/0!"}},null,null,"Aller à \nBoîte à outils: ",null,{"$f":"HYPERLINK(\"#\"&ADDRESS(MATCH(I119,Toolbox!$C$1:$C$300),1,,,\"Toolbox\"),VLOOKUP(I119,Toolbox!$C$1:$C$300,1,FALSE))","v":"Suite pour une biosurveillance électronique automatisée mondiale (SAGES)"}]
[]
[]
[]
[]
[]
[null,null,null,null,null,null,null,null,{"$f":"Backbone!A561","v":"Cadre d'évaluation de la surveillance (SurF)"},null,null,null,null,null,null,"Un cadre d'évaluation des systèmes de surveillance utilisable dans les domaines de la biosécurité, de la santé végétale ou animale. ",null,null,null,null,null,null,null,null,{"$f":"INDEX(Backbone!$R$2:$R$893,MATCH(I125,Backbone!$A$2:$A$893,0))","v":"Document d'orientation"},null,null,null,{"$f":"INDEX(Backbone!$S$2:$S$893,MATCH(I125,Backbone!$A$2:$A$893,0))","v":"«Une seule santé»; Généralisée"},null,null,null,{"$f":"INDEX(Backbone!$H$2:$H$893,MATCH(I125,Backbone!$A$2:$A$893,0))","v":7.6},null,{"$f":"INDEX(Backbone!$I$2:$I$893,MATCH(I125,Backbone!$A$2:$A$893,0))","v":6},null,{"$f":"INDEX(Backbone!$J$2:$J$893,MATCH(I125,Backbone!$A$2:$A$893,0))","v":8},null,{"$f":"INDEX(Backbone!$K$1:$K$893,MATCH(I125,Backbone!$A$1:$A$893,0))","v":8.6999999999999993},null,{"$f":"INDEX(Backbone!$L$2:$L$893,MATCH(I125,Backbone!$A$2:$A$893,0))","v":8.6},null,{"$f":"INDEX(Backbone!$M$2:$M$893,MATCH(I125,Backbone!$A$2:$A$893,0))","v":4.0999999999999996},null,{"$f":"INDEX(Backbone!$N$2:$N$893,MATCH(I125,Backbone!$A$2:$A$893,0))","v":4},null,{"$f":"INDEX(Backbone!$O$2:$O$893,MATCH(I125,Backbone!$A$2:$A$893,0))","v":8},null,{"$f":"INDEX(Backbone!$P$2:$P$893,MATCH(I125,Backbone!$A$2:$A$893,0))","v":4},null,{"$f":"INDEX(Backbone!$Q$2:$Q$893,MATCH(I125,Backbone!$A$2:$A$893,0))","v":0.65555555555555556},null,null,{"$f":"(AG125*$AG$22+AI125*$AI$22+AK125*$AK$22+AM125*$AM$22+AO125*$AO$22+AQ125*$AQ$22+AS125*$AS$22+AU125*$AU$22+AW125*$AW$22)/(SUM($AG$22:$AW$22)*10)","v":{"$error":"#DIV/0!"}},null,null,"Aller à \nBoîte à outils: ",null,{"$f":"HYPERLINK(\"#\"&ADDRESS(MATCH(I125,Toolbox!$C$1:$C$300),1,,,\"Toolbox\"),VLOOKUP(I125,Toolbox!$C$1:$C$300,1,FALSE))","v":"Cadre d'évaluation de la surveillance (SurF)"}]
[]
[]
[]
[]
[]
[null,null,null,null,null,null,null,null,{"$f":"Backbone!A296","v":"Directives actualisées pour l'évaluation des systèmes de surveillance de la santé publique "},null,null,null,null,null,null,"Ce rapport fournit des directives actualisées pour l'évaluation des systèmes de surveillance, en décrivant des tâches et des activités connexes qui peuvent être appliquées au système de surveillance de la santé publique.",null,null,null,null,null,null,null,null,{"$f":"INDEX(Backbone!$R$2:$R$893,MATCH(I131,Backbone!$A$2:$A$893,0))","v":"Document d'orientation"},null,null,null,{"$f":"INDEX(Backbone!$S$2:$S$893,MATCH(I131,Backbone!$A$2:$A$893,0))","v":"Spécifique du secteur; Généralisée"},null,null,null,{"$f":"INDEX(Backbone!$H$2:$H$893,MATCH(I131,Backbone!$A$2:$A$893,0))","v":7.6},null,{"$f":"INDEX(Backbone!$I$2:$I$893,MATCH(I131,Backbone!$A$2:$A$893,0))","v":8},null,{"$f":"INDEX(Backbone!$J$2:$J$893,MATCH(I131,Backbone!$A$2:$A$893,0))","v":7.2},null,{"$f":"INDEX(Backbone!$K$1:$K$893,MATCH(I131,Backbone!$A$1:$A$893,0))","v":8.6999999999999993},null,{"$f":"INDEX(Backbone!$L$2:$L$893,MATCH(I131,Backbone!$A$2:$A$893,0))","v":7.7},null,{"$f":"INDEX(Backbone!$M$2:$M$893,MATCH(I131,Backbone!$A$2:$A$893,0))","v":2.2999999999999998},null,{"$f":"INDEX(Backbone!$N$2:$N$893,MATCH(I131,Backbone!$A$2:$A$893,0))","v":4},null,{"$f":"INDEX(Backbone!$O$2:$O$893,MATCH(I131,Backbone!$A$2:$A$893,0))","v":5.8},null,{"$f":"INDEX(Backbone!$P$2:$P$893,MATCH(I131,Backbone!$A$2:$A$893,0))","v":4},null,{"$f":"INDEX(Backbone!$Q$2:$Q$893,MATCH(I131,Backbone!$A$2:$A$893,0))","v":0.61444444444444446},null,null,{"$f":"(AG131*$AG$22+AI131*$AI$22+AK131*$AK$22+AM131*$AM$22+AO131*$AO$22+AQ131*$AQ$22+AS131*$AS$22+AU131*$AU$22+AW131*$AW$22)/(SUM($AG$22:$AW$22)*10)","v":{"$error":"#DIV/0!"}},null,null,"Aller à \nBoîte à outils: ",null,{"$f":"HYPERLINK(\"#\"&ADDRESS(MATCH(I131,Toolbox!$C$1:$C$300),1,,,\"Toolbox\"),VLOOKUP(I131,Toolbox!$C$1:$C$300,1,FALSE))","v":"Directives actualisées pour l'évaluation des systèmes de surveillance de la santé publique "}]
[]
[]
[]
[]
[]
[]
[]
[]
[]
[]
[]
[]
[]
[]
[]
[]
[]
[]
[]
[]
[]
[]
[]
[null,null,null,null,null,null,null,null,null,null,null,null,null,null,null,null,null,null,null,null,null,null,null,null,null,null,null,null,null,null,null,null,"Accessibilité",null,"Langue",null,"Facilité d'utilisation",null,"Flexibilité",null,"Besoins de données",null,"Analyse des données",null,"Acceptabilité",null,"«Une seule santé»",null,"Impact"]
[]
[]
[]
[]
[]
[]
[null,null,null,null,null,null,null,null,null,null,null,null,null,null,null,null,null,null,null,null,null,null,null,null,null,null,null,null,null,null,null,null,null,null,null,null,null,null,null,null,null,null,null,null,null,null,null,null,null,null,"SCORE BRUT",null,null,"SCORE AJUSTÉ \n(Selon les préférences de l'utilisateur)"]
[]
[]
[]
[null,"RESSOURCES DE NIVEAU 3",null,"DÉSIGNATION",null,null,null,null,"NOM DE LA RESSOURCE",null,null,null,null,null,null,"BRÈVE DESCRIPTION",null,null,null,null,null,null,null,null,"TYPE DE RESSOURCE",null,null,null,"CARACTÈRE GÉNÉRAL DE LA RESSOURCE"]
[]
[]
[]
[null,null,null,null,null,null,null,null,null,null,null,null,null,null,null,null,null,null,null,null,null,null,null,null,null,null,null,null,null,null,null,null,{"$f":"'Attribute Survey'!S170","v":0},null,{"$f":"'Attribute Survey'!S174","v":0},null,{"$f":"'Attribute Survey'!S178","v":0},null,{"$f":"'Attribute Survey'!S182","v":0},null,{"$f":"'Attribute Survey'!S186","v":0},null,{"$f":"'Attribute Survey'!S190","v":0},null,{"$f":"'Attribute Survey'!S194","v":0},null,{"$f":"'Attribute Survey'!S198","v":0},null,{"$f":"'Attribute Survey'!S202","v":0}]
[null,null,null,"Ressources les mieux adaptées",null,null,null,null,{"$f":"Backbone!A595","v":"Boîte à outils pour le contrôle de la qualité des données (DQR)"},null,null,null,null,null,null,"Directives et outils servant de base à une approche normalisée et holistique de la qualité des données qui favorise l'institutionnalisation d'une évaluation régulière de la qualité des données dans les pays.",null,null,null,null,null,null,null,null,{"$f":"INDEX(Backbone!$R$2:$R$893,MATCH(I171,Backbone!$A$2:$A$893,0))","v":"Outil d'autoévaluation"},null,null,null,{"$f":"INDEX(Backbone!$S$2:$S$893,MATCH(I171,Backbone!$A$2:$A$893,0))","v":"Spécifique du secteur; Généralisée"},null,null,null,{"$f":"INDEX(Backbone!$H$2:$H$893,MATCH(I171,Backbone!$A$2:$A$893,0))","v":7.7},null,{"$f":"INDEX(Backbone!$I$2:$I$893,MATCH(I171,Backbone!$A$2:$A$893,0))","v":7},null,{"$f":"INDEX(Backbone!$J$2:$J$893,MATCH(I171,Backbone!$A$2:$A$893,0))","v":7.7},null,{"$f":"INDEX(Backbone!$K$2:$K$893,MATCH(I171,Backbone!$A$2:$A$893,0))","v":10},null,{"$f":"INDEX(Backbone!$L$2:$L$893,MATCH(I171,Backbone!$A$2:$A$893,0))","v":6.3},null,{"$f":"INDEX(Backbone!$M$2:$M$893,MATCH(I171,Backbone!$A$2:$A$893,0))","v":4.8},null,{"$f":"INDEX(Backbone!$N$2:$N$893,MATCH(I171,Backbone!$A$2:$A$893,0))","v":5.5},null,{"$f":"INDEX(Backbone!$O$2:$O$893,MATCH(I171,Backbone!$A$2:$A$893,0))","v":5},null,{"$f":"INDEX(Backbone!$P$2:$P$893,MATCH(I171,Backbone!$A$2:$A$893,0))","v":4},null,{"$f":"INDEX(Backbone!$Q$2:$Q$893,MATCH(I171,Backbone!$A$2:$A$893,0))","v":0.64444444444444438},null,null,{"$f":"(AG171*$AG$22+AI171*$AI$22+AK171*$AK$22+AM171*$AM$22+AO171*$AO$22+AQ171*$AQ$22+AS171*$AS$22+AU171*$AU$22+AW171*$AW$22)/(SUM($AG$22:$AW$22)*10)","v":{"$error":"#DIV/0!"}},null,null,"Aller à \nBoîte à outils: ",null,{"$f":"HYPERLINK(\"#\"&ADDRESS(MATCH(I171,Toolbox!$C$1:$C$300),1,,,\"Toolbox\"),VLOOKUP(I171,Toolbox!$C$1:$C$300,1,FALSE))","v":"Boîte à outils pour le contrôle de la qualité des données (DQR)"}]
[]
[]
[]
[]
[]
[]
[null,null,null,"Autres ressources intéressantes",null,null,null,null,{"$f":"Backbone!A83","v":"Évaluation ECDC des systèmes de suivi et de surveillance de la qualité des données - Manuel des méthodes et des applications "},null,null,null,null,null,null,"Un manuel pour le suivi de la qualité des données de surveillance des maladies à l'attention des professionnels de la santé publique.",null,null,null,null,null,null,null,null,{"$f":"INDEX(Backbone!$R$2:$R$893,MATCH(I178,Backbone!$A$2:$A$893,0))","v":"Document d'orientation"},null,null,null,{"$f":"INDEX(Backbone!$S$2:$S$893,MATCH(I178,Backbone!$A$2:$A$893,0))","v":"Spécifique du secteur; Généralisée"},null,null,null,{"$f":"INDEX(Backbone!$H$2:$H$893,MATCH(I178,Backbone!$A$2:$A$893,0))","v":8.1999999999999993},null,{"$f":"INDEX(Backbone!$I$2:$I$893,MATCH(I178,Backbone!$A$2:$A$893,0))","v":6},null,{"$f":"INDEX(Backbone!$J$2:$J$893,MATCH(I178,Backbone!$A$2:$A$893,0))","v":6.4},null,{"$f":"INDEX(Backbone!$K$1:$K$893,MATCH(I178,Backbone!$A$1:$A$893,0))","v":7.3},null,{"$f":"INDEX(Backbone!$L$2:$L$893,MATCH(I178,Backbone!$A$2:$A$893,0))","v":7.7},null,{"$f":"INDEX(Backbone!$M$2:$M$893,MATCH(I178,Backbone!$A$2:$A$893,0))","v":4.5},null,{"$f":"INDEX(Backbone!$N$2:$N$893,MATCH(I178,Backbone!$A$2:$A$893,0))","v":5.3},null,{"$f":"INDEX(Backbone!$O$2:$O$893,MATCH(I178,Backbone!$A$2:$A$893,0))","v":6.2},null,{"$f":"INDEX(Backbone!$P$2:$P$893,MATCH(I178,Backbone!$A$2:$A$893,0))","v":8},null,{"$f":"INDEX(Backbone!$Q$2:$Q$893,MATCH(I178,Backbone!$A$2:$A$893,0))","v":0.66222222222222227},null,null,{"$f":"(AG178*$AG$22+AI178*$AI$22+AK178*$AK$22+AM178*$AM$22+AO178*$AO$22+AQ178*$AQ$22+AS178*$AS$22+AU178*$AU$22+AW178*$AW$22)/(SUM($AG$22:$AW$22)*10)","v":{"$error":"#DIV/0!"}},null,null,"Aller à \nBoîte à outils: ",null,{"$f":"HYPERLINK(\"#\"&ADDRESS(MATCH(I178,Toolbox!$C$1:$C$300),1,,,\"Toolbox\"),VLOOKUP(I178,Toolbox!$C$1:$C$300,1,FALSE))","v":"Évaluation ECDC des systèmes de suivi et de surveillance de la qualité des données - Manuel des méthodes et des applications "}]
[]
[]
[]
[]
[]
[null,null,null,null,null,null,null,null,{"$f":"Backbone!A195","v":"Surveillance intégrée de la maladie et la riposte (IDSR)"},null,null,null,null,null,null,"Une stratégie visant à renforcer les capacités pour la détection, la confirmation et la réponse aux cas suspects et à l'apparition de foyers épidémiques, ainsi que pour l'utilisation des informations afin de prédire et de planifier les événements de santé publique.",null,null,null,null,null,null,null,null,{"$f":"INDEX(Backbone!$R$2:$R$893,MATCH(I184,Backbone!$A$2:$A$893,0))","v":"Document d'orientation"},null,null,null,{"$f":"INDEX(Backbone!$S$2:$S$893,MATCH(I184,Backbone!$A$2:$A$893,0))","v":"Spécifique du secteur; Généralisée"},null,null,null,{"$f":"INDEX(Backbone!$H$2:$H$893,MATCH(I184,Backbone!$A$2:$A$893,0))","v":7.4},null,{"$f":"INDEX(Backbone!$I$2:$I$893,MATCH(I184,Backbone!$A$2:$A$893,0))","v":10},null,{"$f":"INDEX(Backbone!$J$2:$J$893,MATCH(I184,Backbone!$A$2:$A$893,0))","v":7.4},null,{"$f":"INDEX(Backbone!$K$1:$K$893,MATCH(I184,Backbone!$A$1:$A$893,0))","v":8.6999999999999993},null,{"$f":"INDEX(Backbone!$L$2:$L$893,MATCH(I184,Backbone!$A$2:$A$893,0))","v":6.7},null,{"$f":"INDEX(Backbone!$M$2:$M$893,MATCH(I184,Backbone!$A$2:$A$893,0))","v":4.5},null,{"$f":"INDEX(Backbone!$N$2:$N$893,MATCH(I184,Backbone!$A$2:$A$893,0))","v":8},null,{"$f":"INDEX(Backbone!$O$2:$O$893,MATCH(I184,Backbone!$A$2:$A$893,0))","v":7.2},null,{"$f":"INDEX(Backbone!$P$2:$P$893,MATCH(I184,Backbone!$A$2:$A$893,0))","v":8.5},null,{"$f":"INDEX(Backbone!$Q$2:$Q$893,MATCH(I184,Backbone!$A$2:$A$893,0))","v":0.76},null,null,{"$f":"(AG184*$AG$22+AI184*$AI$22+AK184*$AK$22+AM184*$AM$22+AO184*$AO$22+AQ184*$AQ$22+AS184*$AS$22+AU184*$AU$22+AW184*$AW$22)/(SUM($AG$22:$AW$22)*10)","v":{"$error":"#DIV/0!"}},null,null,"Aller à \nBoîte à outils: ",null,{"$f":"HYPERLINK(\"#\"&ADDRESS(MATCH(I184,Toolbox!$C$1:$C$300),1,,,\"Toolbox\"),VLOOKUP(I184,Toolbox!$C$1:$C$300,1,FALSE))","v":"Surveillance intégrée de la maladie et la riposte (IDSR)"}]
[]
[]
[]
[]
[]
[null,null,null,null,null,null,null,null,{"$f":"Backbone!A561","v":"Cadre d'évaluation de la surveillance (SurF)"},null,null,null,null,null,null,"Un cadre d'évaluation des systèmes de surveillance utilisable dans les domaines de la biosécurité, de la santé végétale ou animale. ",null,null,null,null,null,null,null,null,{"$f":"INDEX(Backbone!$R$2:$R$893,MATCH(I190,Backbone!$A$2:$A$893,0))","v":"Document d'orientation"},null,null,null,{"$f":"INDEX(Backbone!$S$2:$S$893,MATCH(I190,Backbone!$A$2:$A$893,0))","v":"«Une seule santé»; Généralisée"},null,null,null,{"$f":"INDEX(Backbone!$H$2:$H$893,MATCH(I190,Backbone!$A$2:$A$893,0))","v":7.6},null,{"$f":"INDEX(Backbone!$I$2:$I$893,MATCH(I190,Backbone!$A$2:$A$893,0))","v":6},null,{"$f":"INDEX(Backbone!$J$2:$J$893,MATCH(I190,Backbone!$A$2:$A$893,0))","v":8},null,{"$f":"INDEX(Backbone!$K$1:$K$893,MATCH(I190,Backbone!$A$1:$A$893,0))","v":8.6999999999999993},null,{"$f":"INDEX(Backbone!$L$2:$L$893,MATCH(I190,Backbone!$A$2:$A$893,0))","v":8.6},null,{"$f":"INDEX(Backbone!$M$2:$M$893,MATCH(I190,Backbone!$A$2:$A$893,0))","v":4.0999999999999996},null,{"$f":"INDEX(Backbone!$N$2:$N$893,MATCH(I190,Backbone!$A$2:$A$893,0))","v":4},null,{"$f":"INDEX(Backbone!$O$2:$O$893,MATCH(I190,Backbone!$A$2:$A$893,0))","v":8},null,{"$f":"INDEX(Backbone!$P$2:$P$893,MATCH(I190,Backbone!$A$2:$A$893,0))","v":4},null,{"$f":"INDEX(Backbone!$Q$2:$Q$893,MATCH(I190,Backbone!$A$2:$A$893,0))","v":0.65555555555555556},null,null,{"$f":"(AG190*$AG$22+AI190*$AI$22+AK190*$AK$22+AM190*$AM$22+AO190*$AO$22+AQ190*$AQ$22+AS190*$AS$22+AU190*$AU$22+AW190*$AW$22)/(SUM($AG$22:$AW$22)*10)","v":{"$error":"#DIV/0!"}},null,null,"Aller à \nBoîte à outils: ",null,{"$f":"HYPERLINK(\"#\"&ADDRESS(MATCH(I190,Toolbox!$C$1:$C$300),1,,,\"Toolbox\"),VLOOKUP(I190,Toolbox!$C$1:$C$300,1,FALSE))","v":"Cadre d'évaluation de la surveillance (SurF)"}]
[]
[]
[]
[]
[]
[null,null,null,null,null,null,null,null,{"$f":"Backbone!A296","v":"Directives actualisées pour l'évaluation des systèmes de surveillance de la santé publique "},null,null,null,null,null,null,"Ce rapport fournit des directives actualisées pour l'évaluation des systèmes de surveillance, en décrivant des tâches et des activités connexes qui peuvent être appliquées au système de surveillance de la santé publique.",null,null,null,null,null,null,null,null,{"$f":"INDEX(Backbone!$R$2:$R$893,MATCH(I196,Backbone!$A$2:$A$893,0))","v":"Document d'orientation"},null,null,null,{"$f":"INDEX(Backbone!$S$2:$S$893,MATCH(I196,Backbone!$A$2:$A$893,0))","v":"Spécifique du secteur; Généralisée"},null,null,null,{"$f":"INDEX(Backbone!$H$2:$H$893,MATCH(I196,Backbone!$A$2:$A$893,0))","v":7.6},null,{"$f":"INDEX(Backbone!$I$2:$I$893,MATCH(I196,Backbone!$A$2:$A$893,0))","v":8},null,{"$f":"INDEX(Backbone!$J$2:$J$893,MATCH(I196,Backbone!$A$2:$A$893,0))","v":7.2},null,{"$f":"INDEX(Backbone!$K$1:$K$893,MATCH(I196,Backbone!$A$1:$A$893,0))","v":8.6999999999999993},null,{"$f":"INDEX(Backbone!$L$2:$L$893,MATCH(I196,Backbone!$A$2:$A$893,0))","v":7.7},null,{"$f":"INDEX(Backbone!$M$2:$M$893,MATCH(I196,Backbone!$A$2:$A$893,0))","v":2.2999999999999998},null,{"$f":"INDEX(Backbone!$N$2:$N$893,MATCH(I196,Backbone!$A$2:$A$893,0))","v":4},null,{"$f":"INDEX(Backbone!$O$2:$O$893,MATCH(I196,Backbone!$A$2:$A$893,0))","v":5.8},null,{"$f":"INDEX(Backbone!$P$2:$P$893,MATCH(I196,Backbone!$A$2:$A$893,0))","v":4},null,{"$f":"INDEX(Backbone!$Q$2:$Q$893,MATCH(I196,Backbone!$A$2:$A$893,0))","v":0.61444444444444446},null,null,{"$f":"(AG196*$AG$22+AI196*$AI$22+AK196*$AK$22+AM196*$AM$22+AO196*$AO$22+AQ196*$AQ$22+AS196*$AS$22+AU196*$AU$22+AW196*$AW$22)/(SUM($AG$22:$AW$22)*10)","v":{"$error":"#DIV/0!"}},null,null,"Aller à \nBoîte à outils: ",null,{"$f":"HYPERLINK(\"#\"&ADDRESS(MATCH(I196,Toolbox!$C$1:$C$300),1,,,\"Toolbox\"),VLOOKUP(I196,Toolbox!$C$1:$C$300,1,FALSE))","v":"Directives actualisées pour l'évaluation des systèmes de surveillance de la santé publique "}]

{"sheet":"Activities","index":59,"n_rows":29,"n_cols":24,"rows_kept":29,"cut":false,"hidden":false,"merged":[[19,11,21,11],[22,11,24,11],[4,11,6,11],[7,11,9,11],[10,11,12,11],[13,11,15,11],[16,11,18,11],[0,0,0,3],[0,5,0,7],[0,10,0,13],[0,15,0,18],[0,20,0,23],[13,6,14,6],[15,6,17,6],[18,6,19,6],[20,6,22,6],[1,1,3,1],[4,1,6,1],[7,1,9,1],[1,6,3,6],[4,6,6,6],[7,6,8,6],[9,6,10,6],[1,21,3,21],[4,21,6,21],[7,21,9,21],[23,6,25,6],[26,6,27,6],[1,11,3,11],[1,16,3,16],[4,16,6,16],[7,16,9,16],[10,16,12,16],[13,16,15,16],[16,16,18,16],[19,16,21,16],[22,16,24,16],[26,16,28,16],[11,6,12,6]]}
["PLANIFICATION PRÉALABLE",null,null,null,null,"ÉVALUATION",null,null,null,null,"PLANIFICATION",null,null,null,null,"MISE EN ŒUVRE",null,null,null,null,"Suivi et évaluation"]
["PP-1","PP-1 Identification préliminaire des parties prenantes","Des coordonnateurs, des «champions» ou des groupes de travail techniques ont été identifiés dans tous les secteurs participants au niveau national pour planifier la mise en œuvre de la surveillance coordonnée.","N1",null,"E-1","E-1 Cartographie des parties prenantes","Des parties prenantes travaillant dans les domaines de la surveillance, de l'épidémiologie, des laboratoires et du partage d'informations ont été identifiées","N1",null,"Pl-1","PL-1 Volonté politique","Les décideurs pour le système de surveillance coordonné ont été identifiés","N1",null,"ME-1","ME-1 Mobilisation des ressources financières","Il existe un financement destiné à la surveillance coordonnée au niveau national","N1",null,"SE-1","SE-1 Exercices de simulation","Des exercices de simulation sont réalisés pour évaluer l'efficacité et la fonctionnalité du système de surveillance coordonné au niveau national  ","N1"]
["PP-1",null,"Des coordonnateurs, des «champions» ou des groupes de travail techniques ont été identifiés dans tous les secteurs participants et à tous les niveaux du pays pour planifier la mise en œuvre de la surveillance coordonnée.","N2",null,"E-1",null,"L'analyse des parties prenantes a été utilisée pour identifier les participants à tous les niveaux du pays ","N2",null,"Pl-1",null,"Il existe une volonté politique de mettre en place un système de surveillance coordonné, ainsi que des défenseurs à tous les niveaux du pays","N2",null,"ME-1 ",null,"Il existe un financement destiné à la surveillance coordonnée à tous les niveaux du pays","N2",null,"SE-1",null,"Des exercices de simulation sont réalisés pour évaluer l'efficacité et la fonctionnalité du système de surveillance coordonné à tous les niveaux du pays  ","N2"]
["PP-1",null,"Des coordonnateurs, des «champions» ou des groupes de travail techniques (y compris des coordonnateurs ou des «champions» identifiés) chargés de la surveillance coordonnée ont été institutionnalisés (par exemple, par le biais d'un organe directeur tel qu'un MCM)   ","N3",null,"E-1",null,"Les rôles et responsabilités des parties prenantes ont été institutionnalisés et adoptés dans les politiques","N3",null,"Pl-1",null,"Il existe une stratégie de promotion qui communique aux décideurs des informations sur le système de surveillance coordonné","N3",null,"ME-1",null,"Un financement durable (c'est-à-dire intégré au budget national) est alloué aux activités de surveillance coordonnées, et a été évalué et considéré comme étant conforme aux objectifs du système de surveillance coordonné","N3",null,"SE-1",null,"Les résultats des exercices de simulation sont utilisés pour orienter et réviser les plans de surveillance coordonnée ","N3"]
["PP-2.1","PP-2 Priorisation","Il existe une liste de zoonoses priorisées à intégrer dans un système de surveillance coordonné","N1",null,"E-2","E-2 Évaluation des connexions entre les systèmes de surveillance","Les interconnexions entre les systèmes de surveillance des zoonoses actuellement priorisées ont été évaluées entre les secteurs","N1",null,"PL-2","PL-2 Éléments de données communs","Les éléments de données communs sont identifiés et accordés au sein de chaque secteur participant dans le but de remplir les objectifs analytiques communs du système de surveillance coordonné au niveau national","N1",null,"ME-2","ME-2 Mobilisation des ressources humaines et des parties prenantes","Des coordonnateurs ou des groupes de travail techniques se réunissent de façon ad hoc","N1",null,"SE-2","SE-2 Planification du suivi et de l'évaluation","Il existe un plan de suivi et d'évaluation qui est conforme aux objectifs du système de surveillance coordonné","N1"]
["PP-2.1",null,"Une liste des zoonoses est largement diffusée aux niveaux infranational et communautaire","N2",null,"E-2",null,"Les interconnexions entre les systèmes de surveillance actuels ont été évaluées parmi les secteurs et à tous les niveaux du pays","N2",null,"PL-2",null,"Les éléments de données communs sont identifiés et accordés au sein de chaque secteur participant dans le but de remplir les objectifs analytiques communs du système de surveillance coordonné à tous les niveaux du pays","N2",null,"ME-2",null,"Des coordonnateurs ou des groupes de travail techniques se réunissent régulièrement et abordent les questions prioritaires au fur et à mesure qu'elles se présentent","N2",null,"SE-2",null,"Le plan de suivi et d'évaluation est implanté pour surveiller les performances et les avancées du système de surveillance coordonné","N2"]
["PP-2.1",null,"Une liste des zoonoses est établie en utilisant une approche multisectorielle «Une seule santé». Une telle approche impliquerait tous les secteurs concernés dans un processus de priorisation fondé sur des preuves, transparent et reproductible","N3",null,"E-2",null,"Les interconnexions entre les systèmes de surveillance coordonnés ont été évaluées et sont considérées comme étant conformes aux objectifs du système de surveillance coordonné","N3",null,"PL-2",null,"Les éléments de données communs sont normalisés entre les secteurs participants sur la base des objectifs analytiques communs du système de surveillance coordonné et sont conformes aux normes internationales en matière de données","N3",null,"ME-2",null,"Des groupes de travail techniques effectuent un examen régulier et optimisent les activités de surveillance coordonnées ","N3",null,"SE-2",null,"Les résultats du suivi et de l'évaluation améliorent ou étendent de manière itérative le système de surveillance coordonné et s'alignent sur les recommandations et les normes internationales. ","N3"]
["PP-3.1","PP-3 Établissement des objectifs","Les objectifs, les rôles et les responsabilités de tous les secteurs participant au système de surveillance coordonné sont accordés au niveau national","N1",null,"E-3","E-3 Évaluation des cadres juridiques","Les cadres juridiques (règles, politiques, directives et réglementations, y compris les normes internationales) qui régissent les normes d'éthique et de confidentialité en matière de surveillance et de partage des données ont été évalués","N1",null,"PL-3","PL-3 Cadres et plans stratégiques pour une surveillance coordonnée","Une collecte et un examen multisectoriels des documents stratégiques nationaux (stratégies, cadres et plans stratégiques) liés au système de surveillance coordonné ont été effectués à des fins de planification","N1",null,"ME-3\n","ME-3 Échange de données et partage d'informations","Il existe un mécanisme de partage de données entre les secteurs au niveau national","N1",null,"SE-3","SE-3 Normes de qualité des données ","Il existe une méthodologie de gestion de la qualité des données","N1"]
["PP-3.1",null,"Les objectifs, les rôles et les responsabilités de tous les secteurs participant au système de surveillance coordonné sont accordés et étendus à tous les niveaux du pays","N2",null,"E-3",null,"Les cadres juridiques (règles, politiques, directives et réglementations, y compris les normes internationales) qui régissent les normes d'éthique et de confidentialité en matière de surveillance et de partage des données sont évalués à tous les niveaux du pays ","N3",null,"PL-3",null,"Les documents stratégiques nationaux (stratégies, cadres et plans stratégiques) du système de surveillance coordonné ont été consolidés et interconnectés sur la base d'une évaluation à tous les niveaux du pays","N2",null,"ME-3 \n",null,"Il existe un mécanisme de partage des données entre les secteurs à tous les niveaux du pays","N2",null,"SE-3",null,"La qualité des données a été testée et considérée comme étant conforme aux objectifs du système de surveillance coordonné ","N2"]
["PP-3.1",null,"Les objectifs, les rôles et les responsabilités du système de surveillance coordonné ont été réévalués pour refléter les besoins réels du système de surveillance coordonné ","N3",null,null,null,null,null,null,"PL-3",null,"Les documents stratégiques (stratégies, cadres et plans stratégiques) révisés du système de surveillance coordonné ont été alignés sur les recommandations et les normes internationales.","N3",null,"ME-3 \n",null,"Il existe un mécanisme de partage de données qui est accessible, fonctionnel et utilisable par tous les secteurs participants","N3",null,"SE-3",null,"La qualité des données est conforme aux normes et recommandations internationales ","N3"]
[null,null,null,null,null,null,null,null,null,null,"PL-4","PL-4 Plans opérationnels au niveau national ","Une collecte et un examen multisectoriels des plans opérationnels et autres documents importants (y compris des plans de surveillance, des définitions de cas, des protocoles et des procédures opérationnelles standard) liés au système de surveillance coordonné ont été effectués à des fins de planification\n","N1",null,"ME-4\n","ME-4 Stockage des données","Une structure et un lieu sont prévus pour stocker et conserver les données de plusieurs secteurs au niveau national.","N1"]
[null,null,null,null,null,null,null,null,null,null,"PL-4",null,"Les plans opérationnels et autres documents importants (y compris des plans de surveillance, des définitions de cas, des protocoles et des procédures opérationnelles standard) révisés liés au système de surveillance coordonné et de partage d'informations ont été approuvés par les organisations chargées de la surveillance à tous les niveaux du pays\n","N2",null,"ME-4\n",null,"Une structure et un lieu sont prévus pour stocker et conserver les données de plusieurs secteurs à tous les niveaux du pays","N2"]
[null,null,null,null,null,null,null,null,null,null,"PL-4",null,"Les plans opérationnels (y compris les plans de surveillance, les définitions de cas, les protocoles et les procédures opérationnelles standard) révisés pour le système de surveillance coordonné sont alignés sur les directives et recommandations internationales.\n","N3",null,"ME-4\n",null,"Il existe une structure et un endroit pour stocker et conserver les données de tous les secteurs concernés par la surveillance qui sont accessibles, fonctionnels et utilisables par tous les secteurs participants","N3"]
[null,null,null,null,null,null,null,null,null,null,"PL-5","PL-5 Planification financière","Il existe un plan budgétaire et un mécanisme de distribution des fonds destinés à la surveillance coordonnée au niveau national","N1",null,"ME-5\n","ME-5 Mesures relatives à la confidentialité et à la sécurité des données","Il existe des mesures de confidentialité et de sécurité des données visant à protéger les données de surveillance coordonnée au niveau national","N1"]
[null,null,null,null,null,null,null,null,null,null,"PL-5",null,"Il existe un plan budgétaire et un mécanisme de distribution des fonds destinés à la surveillance coordonnée à tous les niveaux du pays","N2",null,"ME-5\n",null,"Il existe des mesures de confidentialité et de sécurité des données visant à protéger les données de surveillance coordonnée à tous les niveaux du pays","N2"]
[null,null,null,null,null,"E-4","E-4 Cartographie des infrastructures","Des exercices basiques de cartographie des infrastructures (telle que définie au point 4.1 du GTZ) ont été utilisés pour décrire la structure et les connexions sectorielles et intersectorielles ","N1",null,"PL-5",null,"Le plan budgétaire et un mécanisme de distribution des fonds ont été évalués et considérés comme étant conformes aux objectifs du système de surveillance coordonné. ","N3",null,"ME-5\n",null,"Il existe des mesures de confidentialité et de sécurité des données visant à protéger les données de surveillance coordonnée, qui ont été évaluées et sont considérées comme étant conformes aux objectifs du système de surveillance coordonné","N3"]
[null,null,null,null,null,"E-4",null,"La cartographie des infrastructures (telle que décrite au point 4.1 du GTZ) a été utilisée pour décrire la plupart des domaines à cartographier","N2",null,"PL-6","PL-6 Planification des ressources humaines","Il existe un plan d'éducation et de formation pour le système de surveillance coordonné, basé sur l'évaluation des ressources humaines au niveau national","N1",null,"ME-6","I-6 Mise en œuvre de systèmes de surveillance coordonnés","Le système de surveillance coordonné fait l'objet d'un projet pilote dans des zones ciblées","N1"]
[null,null,null,null,null,"E-4",null,"La cartographie complète des infrastructures (telle que décrite au point 4.1 du GTZ) a été utilisée pour décrire la totalité des domaines à cartographier.","N3",null,"PL-6",null,"Il existe un plan d'éducation et de formation pour le système de surveillance coordonné, basé sur l'évaluation des ressources humaines à tous les niveaux du pays","N2",null,"ME-6",null,"Le système de surveillance coordonné a été étendu à d'autres domaines sur la base de mises en œuvre pilotes","N2"]
[null,null,null,null,null,"E-5","E-5 Évaluation des besoins économiques","Des évaluations économiques ont été utilisées pour déterminer les besoins financiers nationaux du système de surveillance coordonné ","N1",null,"PL-6",null,"L'éducation et la formation de la main-d'œuvre sont liées à la planification multisectorielle nationale des ressources humaines et s'appuient sur les compétences et les évaluations internationales.\n","N3",null,"ME-6",null,"Le système de surveillance coordonné est un programme à l'échelon national","N3"]
[null,null,null,null,null,"E-5",null,"Des évaluations économiques ont été utilisées pour déterminer les besoins financiers à tous les niveaux du pays du système de surveillance coordonné ","N3",null,"PL-7","PL-7 Planification des cadres juridiques","Les cadres juridiques nécessaires (règles, politiques, directives et réglementations, y compris les normes internationales) ont été normalisés entre les différents secteurs sur la base d'une évaluation au niveau national","N1",null,"ME-7","ME-7 Partage des données de surveillance","Les données de surveillance sont partagées de manière informelle ou formelle de façon ad hoc au niveau national","N1"]
[null,null,null,null,null,"E-6","E-6 Évaluation de la capacité des laboratoires","Des évaluations de laboratoires ont été utilisées pour identifier des laboratoires de référence nationaux ou internationaux qualifiés capables d'effectuer des tests pour soutenir les activités de surveillance coordonnées","N1",null,"PL-7",null,"Les cadres juridiques nécessaires (règles, politiques, directives et réglementations, y compris les normes internationales) ont été normalisés entre les différents secteurs sur la base d'une évaluation à tous les niveaux du pays","N2",null,"ME-7",null,"Les données de surveillance sont partagées de manière informelle ou formelle, de façon régulière et en temps utile, à tous les niveaux du pays","N2"]
[null,null,null,null,null,"E-6",null," Des évaluations de laboratoires ont été utilisées pour identifier à tous les niveaux (y compris international) des laboratoires qualifiés capables d'effectuer des tests pour soutenir les activités de surveillance coordonnées","N2",null,"PL-7",null,"Les cadres juridiques révisés du système de surveillance coordonné ont été alignés sur les recommandations et les normes internationales. ","N3",null,"ME-7",null,"Les données de surveillance sont partagées de façon systématique et régulière et en temps utile entre tous les secteurs participants par le biais d'une ou plusieurs plateforme(s) interopérable(s) ou conjointe(s) ","N3"]
[null,null,null,null,null,"E-6",null,"Des évaluations de laboratoires ont été utilisées pour identifier un réseau de laboratoires qualifiés capables d'effectuer des tests pour soutenir les activités de surveillance coordonnées","N3",null,"PL-8","PL-8 Planification coordonnée de la communication","La terminologie et les messages de communication sont alignés sur l'ensemble des secteurs participant au système de surveillance coordonné au niveau national.","N1",null,"ME-8 ","ME-8 Communication et partage d'informations","Les informations sont partagées et communiquées de manière ad hoc avec les parties prenantes concernées","N1"]
[null,null,null,null,null,"E-7","E-7 Évaluation du transport et de l'interprétation des laboratoires","L'harmonisation des fournitures, des chaînes de transport et de l'interprétation des résultats des laboratoires a été évaluée entre les secteurs participants au niveau national","N1",null,"PL-8",null,"La terminologie et les messages de communication sont alignés sur l'ensemble des secteurs participant au système de surveillance coordonné et diffusés à tous les niveaux du pays","N2",null,"ME-8 ",null,"Les informations sont partagées et communiquées de façon régulière avec les parties prenantes concernées","N2"]
[null,null,null,null,null,"E-7",null,"L'harmonisation des fournitures, des chaînes de transport et de l'interprétation des résultats des laboratoires entre les secteurs participants a été évaluée à tous les niveaux du pays","N2",null,"PL-8",null,"Il existe une stratégie et/ou un plan de communication (comprenant une terminologie et une messagerie) qui régissent la communication avec les parties prenantes et le public pour le système de surveillance coordonné","N3",null,"ME-8 ",null,"Il existe un partage régulier et en temps utile des informations avec les parties prenantes concernées, y compris les entités transfrontalières, régionales et internationales","N3"]
[null,null,null,null,null,"E-7",null,"Le degré d'harmonisation dans les fournitures, les chaînes de transport et l'interprétation des résultats entre les secteurs participants a été évalué et considéré comme étant conforme aux objectifs du système de surveillance coordonné","N3",null,null,null,null,null,null,"ME-9","ME-9 Exigences internationales en matière de notification","Les exigences de notification internationale pour toutes les zoonoses sont respectées","N1"]
[null,null,null,null,null,"E-8","E-8 Évaluation des ressources humaines","Des évaluations ont été réalisées pour identifier les exigences, les compétences, les besoins et les lacunes au niveau national en matière de ressources humaines","N1",null,null,null,null,null,null,"ME-10","ME-10 Visualisation et analyse coordonnées des données","Des données de surveillance coordonnée sont utilisées pour générer des résultats (par exemple, des chiffres, des graphiques, des rapports ou des bulletins) qui sont diffusés au niveau national","N1"]
[null,null,null,null,null,"E-8",null," Des évaluations ont été réalisées pour identifier les exigences, les compétences, les besoins et les lacunes à tous les niveaux du pays en matière de ressources humaines","N3",null,null,null,null,null,null,"ME-10",null,"Des données de surveillance coordonnée sont utilisées pour générer des résultats (par exemple, des chiffres, des graphiques, des rapports ou des bulletins) qui sont diffusés aux parties prenantes à tous les niveaux du pays","N2"]
[null,null,null,null,null,null,null,null,null,null,null,null,null,null,null,"ME-10",null,"Les données de surveillance coordonnée, y compris les rapports de suivi et d'évaluation (S&E), sont utilisées pour générer des résultats qui orientent la réponse, les politiques et la programmation","N3"]