{"text_format":"1","workbook":"xlsx","n_sheets":60,"sheets":["Instructions","Map","Attribute Survey","Results","Resource selection","Prioritization and roadmap","Development plan","Tools by activity","Backbone","Section I","Focal Points","Prioritization","Goal Setting","Section II","Stakeholders","Plans & Organization","Policy & Legal","Budgets & Finances","Workforce","Laboratory","Data Storage & Sharing","Communication & Reporting","Section III","Simulation Exercises","M & E Planning","Data Quality Standards","Toolbox","PP1_tools","PP2_tools","PP3_tools","A1_tools","A2_tools","A3_tools","A7_tools","A8_tools","A9_tools","A10_tools","A11_tools","P1_tools","P2_tools","P3_tools","P4_tools","P5_tools","P6_tools","P7_tools","P8_tools","I1_tools","I2_tools","I3_tools","I4_tools","I5_tools","I6_tools","I7_tools","I8_tools","I9_tools","I10_tools","ME1_tools","ME2_tools","ME3_tools","Activities"],"not_rendered":{"charts":0,"images":2,"macros":1,"external_links":1,"defined_names":3,"comments":16,"pivot_tables":0},"unopened":[],"bounds":{"document_bytes":16777216,"sheet_cells":100000,"rows_first":2000,"rows_last":500,"rows_between":2000,"halvings":0,"cell_chars":16384,"cell_head_chars":4096},"cells_cut":0,"cells_raw":0,"read":"whole","date_system":"1900"}

{"sheet":"Instructions","index":0,"n_rows":135,"n_cols":2,"rows_kept":135,"cut":false,"hidden":false,"merged":[[134,1,134,5],[2,1,2,5],[35,1,132,5],[5,1,5,5],[7,1,7,5],[9,1,32,5],[34,1,34,5]]}
["Редакция: июль 2022 г."]
[]
[null,"Настоящее практическое пособие для рабочего инструмента по эпиднадзору и обмену информацией (РИ ЭОИ) следует использовать вместе с руководством по РИ ЭОИ, доступным по ссылке: https://www.fao.org/documents/card/en/c/cc0716en "]
[]
[]
[null,"Рабочий инструмент по эпиднадзору и обмену информацией"]
[]
[null,"ПРАКТИЧЕСКОЕ ПОСОБИЕ РИ ЭОИ"]
[]
[null,"\nПрактическое пособие РИ ЭОИ является основной частью Рабочего инструмента по эпиднадзору и обмену информацией (РИ ЭОИ). РИ ЭОИ обеспечивает поддержку национальным органам государственного управления в их работе по созданию или укреплению межотраслевой координированной системы эпиднадзора и обмена информацией (ЭОИ) в отношении зоонозов на основе концепции «Единое здоровье». РИ ЭОИ был разработан в рамках трехстороннего сотрудничества (ФАО, ВОЗ и МЭБ) в целях создания рабочих инструментов для оказания помощи странам в реализации рекомендаций, содержащихся в Трехстороннем руководстве по зоонозам (ТРЗ), и укреплению усилий стран по применению подхода «Единое здоровье» к решению проблемы зоонозов. \nПрактическое пособие РИ ЭОИ помогает пользователям применять поэтапный подход для оценки степени развития в стране координированной системы эпиднадзора и обмена информацией с использованием пяти этапов развития потенциала по координации эпиднадзора за зоонозами, разбитых на три раздела: \nРаздел 1. Предварительное планирование; \nРаздел 2. Оценка; Планирование; Внедрение; \nРаздел 3. Мониторинг и оценка.  \nДанные разделы содержат пакет из 32 различных мероприятий по развитию ЭОИ, объединенных в 14 категорий.\nПосле прохождения всех этапов оценки пользователи переходят к процессу планирования, во время которого с помьщью практического пособия РИ ЭОИ они определяют мероприятия, которые создадут или укрепят национальную систему эпиднадзора за зоонозами и обмена информацией, с составлением списка предлагаемых ресурсов и инструментов для выполнения каждого этапа, а также разрабатывают дорожную карту для реализации этих мероприятий.\n"]
[]
[]
[]
[]
[]
[]
[]
[]
[]
[]
[]
[]
[]
[]
[]
[]
[]
[]
[]
[]
[]
[]
[]
[]
[null,"Инструкции"]
[null,"Перед использованием практического пособия РИ ЭОИ пользователям настоятельно рекомендуется прочитать руководство по РИ ЭОИ и данные инструкции.\n\nОценка \n•  После прочтения инструкций начните работу со страницы «Карта», воспользовавшись навигационным меню слева или нажав на кнопку «Далее: Карта» в правом верхнем или нижнем углу. На ней схематически представлен процесс оценки и возможен быстрый доступ к различным этапам процесса применения РИ ЭОИ в практическом пособии. Оценку можно проводить последовательно в соответствии с порядком областей деятельности в каждом разделе с помощью кнопки «Далее» в нижней части страниц или в предпочтительном для пользователя порядке, непосредственно переходя к намеченным областям через «Карту».\n•  Начните оценку с раздела 1: этап «Предварительное планирование», нажав на кнопку «Раздел I».  \n \n    -  Выполните процесс оценки таким же образом для уровня 2 и уровня 3. Обратите внимание, что некоторые мероприятия предполагают только один или два уровня потенциала, например, только уровень 1 или уровень 1 и уровень 3.\n    -  Поле для комментариев можно использовать для записи важных моментов обсуждения.\n    -  После завершения всех мероприятий для одной области перейдите к следующей области, нажав кнопку «Далее» или используя навигацию по карте. \n    -  После прохождения всех областей в одном разделе перейдите к следующему разделу с помощью кнопки «Далее» или через страницу карты и повторите процесс. Пользователи могут вернуться к предыдущей области с помощью кнопки «Назад».\n    -  После заполнения всех трех разделов при необходимости вернитесь на страницу «Карта» для корректировки любых оценок. \n\nПросмотр результатов оценки\n•  После завершения оценки перейдите на страницу «Результаты оценки», используя навигационное меню слева или нажав на кнопку «Далее: Результаты оценки» на странице последней области деятельности «Стандарты качества данных», или с помощью карты. \n•  Просмотрите «Результаты оценки».  Данная страница отражает следующий уровень потенциала (уровень 1, уровень 2 или уровень 3) 32 оцениваемых мероприятий в качестве «целевого уровня потенциала», который страна должна достичь на следующей стадии. Например, если в отношении конкретного мероприятия достигнут уровень потенциала 1, то целевым уровнем потенциала будет «уровень 2».  Мероприятие считается полностью реализованным и отвечающим установленным требованиям, если страна достигла 3-го уровня потенциала.\n•  Если для уровня целевого потенциала в качестве результата указано «Н/П», это означает, что оценка для данного мероприятия не завершена, поэтому вернитесь на страницу оценки данного мероприятия, используя соответствующую кнопку справа рядом с колонкой «Руководство по ресурсам». \n\nВыбор инструментов и ресурсов для обеспечения выполнения мероприятий\n•  Перейдите на страницу «Обзор параметров» при помощи навигационного меню.\n\n    Присвойте балльную оценку (от 0 до 100) каждому из девяти параметров, описывающих инструменты и ресурсы, в соответствующем поле справа от описания параметра. Сделайте это таким образом, чтобы в общей сложности по всем девяти параметрам было распределено 100 баллов, взвешенных в соответствии с их относительной важностью при выборе ресурса для пользователя.\n •  После завершения обзора параметров перейдите на страницу «Результаты оценки» практического пособия РИ ЭОИ с помощью кнопки навигационного меню «Результаты оценки» или кнопки «Далее: Результаты оценки», расположенной внизу.  \n    -   Стрелки для каждого мероприятия на странице «Результаты оценки» обозначают ссылки на «страницы с ресурсами» с перечнем рекомендуемых ресурсов и инструментов, которые могут помочь в достижение целевого уровня потенциала для данного мероприятия. Переход к странице с ресурсами для каждого мероприятия осуществляется по соответствующей ссылке.\n    -   Страницы ресурсов содержат список ресурсов для каждого мероприятия, сгруппированных по назначению.   «Наиболее подходящие» ресурсы — это ресурсы, основное предназначение или функция которых заключаются в оказании пользователю непосредственной поддержки в выполнении определенного мероприятия. А «Другие полезные» ресурсы — это ресурсы, которые частично или опосредованно помогают пользователю в выполнении определенного мероприятия. \n    -   Для каждого включенного в список ресурса на страницах ресурсов дано его краткое описание, а также информация по виду и общей направленности ресурса: ориентирован ли ресурс на конкретный сектор или основан на принципах концепции «Единое здоровье»; направлен ли он на борьбу с конкретным заболеванием или же универсален для всех зоонозов либо инфекционных заболеваний.\n    -   На странице также указаны балльные оценки каждого инструмента от рецензентов из команды разработчиков РИ ЭОИ, с тем чтобы помочь пользователям в процессе выбора ресурсов. Для облегчения выбора представлены как исходные баллы, полученные в процессе оценки инструмента, так и взвешенные оценки, основанные на баллах, присвоенных пользователями каждому из девяти параметров.\n    -   Соответствующая кнопка «Перейти в реестр ресурсов» обеспечивает доступ к более подробной информации по каждому ресурсу в реестре ресурсов.\n    -   Выберите один или два ресурса-кандидата для содействия в выполнении каждого мероприятия на основе информации, представленной по каждому ресурсу.\n• Используя навигационное меню, перейдите на страницу «Выбор ресурсов». Внесите выбранные ресурсы в колонку «Ресурс 1», используя выпадающий список для каждого мероприятия. Для записи второго варианта ресурса, если он выбран, используйте колонку «Ресурс 2».\n\nПриоритизация и дорожная карта\n• Используя навигационное меню, перейдите на страницу «Приоритизация и дорожная карта».\n    -  В отношении каждого целевого мероприятия выберите из выпадающего списка время и приоритетность осуществления (например: «необходимо осуществить сейчас — в течение 1 года» — высокий приоритет; «необходимо начать в течение 2–3 лет» — средний приоритет; «необходимо начать в течение более 3 лет» — низкий приоритет). Если мероприятие оценивается как завершенное, выберите «завершено» из выпадающего списка и не рассматривайте его при обсуждении.\n    -  Определите и согласуйте сроки осуществления (например: 3 года или 5 лет) плана развития системы ЭОИ. \n    -  Выберите мероприятия, которые будут осуществляться в рамках данного плана развития системы ЭОИ исходя из времени и приоритетности их выполнения и с учетом согласованных сроков плана (например: для 3-летнего плана можно выбрать мероприятия с высоким и средним приоритетом).\n    -  В отношении мероприятий, которые было решено не включать в план, выберите «не включать в этот план» из выпадающего списка.\n    -  Измените диаграмму Ганта в соответствии с выбранным сроком плана развития (например: 5 лет, начиная с 1 квартала 2020 г.).\n    -  В отношении каждого целевого мероприятия, выбранного для плана развития системы ЭОИ, определите сроки выполнения, включая продолжительность мероприятия (например: один квартал, два квартала или до конца периода планирования) и время его начала (например: первый квартал года 1) с учетом времени выполнения и приоритетности, ранее определенных для данного мероприятия. Укажите эти сроки на диаграмме Ганта с помощью цветовой палитры и выпадающих списков в столбцах «Квартал начала мероприятия» и «Продолжительность мероприятия».\n\nПлан развития\n• Используя навигационное меню, перейдите на страницу «План развития».\nВ таблице плана развития в результате сделанного выбора на предыдущих страницах и согласно описанию выше автоматически отражаются следующие элементы:\n      -  Мероприятие и целевой уровень потенциала \n      -  Выбранные ресурсы и инструменты\n      -  Время начала мероприятия\n      -  Продолжительность мероприятия\nЗаполните оставшиеся столбцы по каждому мероприятию, включая перечень действий, необходимых для его выполнения, распределение функций и обязанностей по выполнению этих действий, ожидаемые трудности, координационные центры, а также индикаторы для мониторинга и презентации достижений и привлечения ресурсов и поддержки. Проверьте и при необходимости скорректируйте все элементы, отраженные в различных рабочих листах.\n\n"]
[]
[]
[]
[]
[]
[]
[]
[]
[]
[]
[]
[]
[]
[]
[]
[]
[]
[]
[]
[]
[]
[]
[]
[]
[]
[]
[]
[]
[]
[]
[]
[]
[]
[]
[]
[]
[]
[]
[]
[]
[]
[]
[]
[]
[]
[]
[]
[]
[]
[]
[]
[]
[]
[]
[]
[]
[]
[]
[]
[]
[]
[]
[]
[]
[]
[]
[]
[]
[]
[]
[]
[]
[]
[]
[]
[]
[]
[]
[]
[]
[]
[]
[]
[]
[]
[]
[]
[]
[]
[]
[]
[]
[]
[]
[]
[]
[]
[]
[null,"©Всемирная организация здравоохранения (ВОЗ), Продовольственная и сельскохозяйственная организация Объединенных Наций (ФАО) и Всемирная организация по охране здоровья животных (МЭБ), 2022 г. Все права защищены."]

{"sheet":"Map","index":1,"n_rows":6,"n_cols":2,"rows_kept":6,"cut":false,"hidden":false,"merged":[[2,1,3,30],[12,1,73,30],[5,1,10,30]]}
[]
[]
[null,"Рабочий инструмент по эпиднадзору и обмену информацией"]
[]
[]
[null,"ПРАКТИЧЕСКОЕ ПОСОБИЕ РИ ЭОИ: КАРТА"]

{"sheet":"Attribute Survey","index":2,"n_rows":58,"n_cols":22,"rows_kept":58,"cut":false,"hidden":false,"merged":[[53,2,55,5],[37,7,39,16],[41,7,43,16],[45,7,47,16],[49,7,51,16],[53,7,55,16],[17,21,23,24],[1,1,3,25],[13,1,15,25],[5,1,11,25],[29,2,31,5],[21,18,23,19],[17,2,19,5],[17,18,19,19],[21,2,23,5],[25,2,27,5],[17,7,19,16],[21,7,23,16],[25,7,27,16],[29,7,31,16],[33,2,35,5],[53,18,55,19],[57,18,58,19],[25,18,27,19],[29,18,31,19],[33,18,35,19],[37,18,39,19],[41,18,43,19],[45,18,47,19],[49,18,51,19],[37,2,39,5],[41,2,43,5],[45,2,47,5],[49,2,51,5],[33,7,35,16],[57,2,58,16]]}
[]
[null,"Обзор параметров"]
[]
[]
[]
[null,"Вы завершили оценку по всем трем разделам! Перед тем как переходить к странице «Результаты», оцените параметры любого конкретного ресурса согласно их релевантности для вашего применения. На данном этапе вы можете присвоить взвешенные значения 9 разным параметрам, используемым для оценки ресурсов в РИ ЭОИ. \nПри этом следует исходить из их относительной важности для вас при выборе этих ресурсов. Присвоенные значения позволят рассчитать скорректированную пользователем общую оценку для каждого ресурса на основе балльных оценок, присвоенных командой рецензентов РИ ЭОИ. \nБлагодаря взвешенной оценке вы сможете лучше определить ресурсы, соответствующие вашим предпочтениям."]
[]
[]
[]
[]
[]
[]
[]
[null,"Необходимо присвоить балльную оценку (от 1 до 100) каждому описанному ниже параметру так, чтобы общая сумма баллов по всем параметрам составила 100. "]
[]
[]
[]
[null,null,"ПАРАМЕТР",null,null,null,null,"ОПИСАНИЕ ПАРАМЕТРА",null,null,null,null,null,null,null,null,null,null,"БАЛЛЬНАЯ ОЦЕНКА \n(от 1 до 100, чтобы в сумме получилось 100)",null,null,"←Каждый балл должен быть от 1 до 100, чтобы общая сумма по всем параметрам получилась 100!"]
[]
[]
[]
[null,null,"Доступность",null,null,null,null,"Логистическое обеспечение доступа и использования инструмента; оценивается открытость или доступность, стоимость и поддержка пользователей",null,null,null,null,null,null,null,null,null,null,0]
[]
[]
[]
[null,null,"Язык",null,null,null,null,"Наличие ресурса на разных языках и простота перевода ресурса на другие языки",null,null,null,null,null,null,null,null,null,null,0]
[]
[]
[]
[null,null,"Простота использования",null,null,null,null,"Уровень сложности и трудности навигации и освоения ресурса, а также технические или операционные навыки, необходимые для использования ресурса ",null,null,null,null,null,null,null,null,null,null,0]
[]
[]
[]
[null,null,"Гибкость",null,null,null,null,"Возможность адаптации инструмента для использования в различных контекстах и сценариях",null,null,null,null,null,null,null,null,null,null,0]
[]
[]
[]
[null,null,"Потребности в данных",null,null,null,null,"Требования к работе систем и устройств для обеспечения функционирования ресурса, а также хранение и безопасность данных",null,null,null,null,null,null,null,null,null,null,0]
[]
[]
[]
[null,null,"Анализ данных",null,null,null,null,"Способы обработки и проверки качества данных, в том числе возможность получения выходных материалов и отчетности",null,null,null,null,null,null,null,null,null,null,0]
[]
[]
[]
[null,null,"Приемлемость",null,null,null,null,"Показатели приемлемости ресурса для использования на основе публикаций, отчетов и/или количество пилотных проектов и внедрений",null,null,null,null,null,null,null,null,null,null,0]
[]
[]
[]
[null,null,"«Единое здоровье»",null,null,null,null,"Способность ресурса содействовать коммуникации и сотрудничеству между различными секторами в рамках подхода «Единое здоровье» (здравоохранение человека, охрана здоровья животных, охрана окружающей среды и заинтересованные партнеры)",null,null,null,null,null,null,null,null,null,null,0]
[]
[]
[]
[null,null,"Воздействие",null,null,null,null,"Фактические данные о достигнутых улучшениях в сфере «Единого здоровья» или потенциала в области эпиднадзора в результате применения ресурса, основанные на показателях мониторинга и оценки или примерах из прошлого",null,null,null,null,null,null,null,null,null,null,0]
[]
[]
[]
[null,null,"ИТОГО",null,null,null,null,null,null,null,null,null,null,null,null,null,null,null,{"$f":"SUM(S22:T56)","v":0}]

{"sheet":"Results","index":3,"n_rows":135,"n_cols":31,"rows_kept":135,"cut":false,"hidden":false,"merged":[[20,1,50,4],[132,24,132,28],[133,24,133,28],[134,24,134,28],[124,1,134,4],[124,6,126,8],[124,10,126,17],[124,19,126,22],[124,24,124,28],[125,24,125,28],[126,24,126,28],[128,6,130,8],[128,10,130,17],[128,19,130,22],[128,24,128,28],[129,24,129,28],[130,24,130,28],[132,6,134,8],[132,10,134,17],[132,19,134,22],[120,6,122,8],[120,10,122,17],[120,19,122,22],[120,24,120,28],[121,24,121,28],[122,24,122,28],[116,6,118,8],[116,10,118,17],[116,19,118,22],[116,24,116,28],[117,24,117,28],[118,24,118,28],[112,6,114,8],[112,10,114,17],[112,19,114,22],[112,24,112,28],[113,24,113,28],[114,24,114,28],[108,6,110,8],[108,10,110,17],[108,19,110,22],[108,24,108,28],[109,24,109,28],[110,24,110,28],[104,24,104,28],[105,24,105,28],[104,6,106,8],[104,10,106,17],[104,19,106,22],[106,24,106,28],[100,6,102,8],[100,10,102,17],[100,19,102,22],[100,24,100,28],[101,24,101,28],[102,24,102,28],[96,6,98,8],[96,10,98,17],[96,19,98,22],[96,24,96,28],[97,24,97,28],[98,24,98,28],[92,6,94,8],[92,10,94,17],[92,19,94,22],[92,24,92,28],[93,24,93,28],[94,24,94,28],[84,19,86,22],[84,24,84,28],[85,24,85,28],[86,24,86,28],[88,6,90,8],[88,10,90,17],[88,19,90,22],[88,24,88,28],[89,24,89,28],[90,24,90,28],[52,1,82,4],[84,6,86,8],[84,10,86,17],[84,1,122,4],[80,6,82,8],[80,10,82,17],[80,19,82,22],[80,24,80,28],[81,24,81,28],[82,24,82,28],[76,6,78,8],[76,10,78,17],[76,19,78,22],[76,24,76,28],[77,24,77,28],[78,24,78,28],[72,6,74,8],[72,10,74,17],[72,19,74,22],[72,24,72,28],[73,24,73,28],[74,24,74,28],[68,6,70,8],[68,10,70,17],[68,19,70,22],[68,24,68,28],[69,24,69,28],[70,24,70,28],[64,6,66,8],[64,10,66,17],[64,19,66,22],[64,24,64,28],[65,24,65,28],[66,24,66,28],[60,6,62,8],[60,10,62,17],[60,19,62,22],[60,24,60,28],[61,24,61,28],[62,24,62,28],[56,6,58,8],[56,10,58,17],[56,19,58,22],[56,24,56,28],[57,24,57,28],[58,24,58,28],[52,6,54,8],[52,10,54,17],[52,19,54,22],[52,24,52,28],[53,24,53,28],[54,24,54,28],[48,6,50,8],[48,10,50,17],[48,19,50,22],[48,24,48,28],[49,24,49,28],[50,24,50,28],[44,6,46,8],[44,10,46,17],[44,19,46,22],[44,24,44,28],[45,24,45,28],[46,24,46,28],[40,6,42,8],[40,10,42,17],[40,19,42,22],[40,24,40,28],[41,24,41,28],[42,24,42,28],[36,6,38,8],[36,10,38,17],[36,19,38,22],[36,24,36,28],[37,24,37,28],[38,24,38,28],[32,6,34,8],[32,10,34,17],[32,19,34,22],[32,24,32,28],[33,24,33,28],[34,24,34,28],[26,24,26,28],[28,24,28,28],[29,24,29,28],[30,24,30,28],[20,24,20,28],[21,24,21,28],[22,24,22,28],[24,24,24,28],[25,24,25,28],[16,19,18,22],[16,24,16,28],[17,24,17,28],[18,24,18,28],[10,24,10,28],[8,19,10,22],[8,6,10,8],[5,10,6,17],[8,10,10,17],[12,10,14,17],[16,10,18,17],[5,23,6,23],[3,29,6,32],[12,6,14,8],[12,19,14,22],[28,6,30,8],[28,10,30,17],[28,19,30,22],[12,24,12,28],[13,24,13,28],[14,24,14,28],[1,1,3,28],[8,24,8,28],[9,24,9,28],[5,1,6,4],[5,6,6,8],[5,19,6,22],[20,6,22,8],[20,19,22,22],[20,10,22,17],[24,6,26,8],[24,10,26,17],[24,19,26,22],[5,24,6,28],[8,1,18,4],[16,6,18,8]]}
[]
[null,"РЕЗУЛЬТАТЫ ОЦЕНКИ"]
[]
[]
[]
[null,"ЭТАП",null,null,null,null,"МЕРОПРИЯТИЕ",null,null,null,"Описание мероприятия",null,null,null,null,null,null,null,null,"Целевой уровень потенциала",null,null,null,"Индикатор уровня","Руководство по ресурсам"]
[]
[]
[null,"Предварительное \nпланирование",null,null,null,null,{"$f":"\"\"&Activities!B2","v":"ПП-1 Предварительное выявление заинтересованных сторон"},null,null,null,{"$f":"IF('Focal Points'!O44=0,AE9,IF(AND('Focal Points'!O44=1,'Focal Points'!X44=0),AE10,IF(AND('Focal Points'!X44=1,'Focal Points'!AG44=0),AE11,\"Complete\")))","v":"Во всех участвующих секторах на национальном уровне определены координаторы, «лидеры» или технические рабочие группы для планирования внедрения координированного эпиднадзора"},null,null,null,null,null,null,null,null,{"$f":"IF('Focal Points'!O44=\"\",\"N/A\",IF(AND('Focal Points'!O44=0),\"1\",IF(AND('Focal Points'!O44=1,'Focal Points'!X44=0),\"2\",IF(AND('Focal Points'!X44=1,'Focal Points'!AG44=0),\"3\",\"Complete\"))))","v":"N/A"},null,null,null,"→","Посмотреть ресурсы уровня 1",null,null,null,null,null,{"$f":"Activities!C2","v":"Во всех участвующих секторах на национальном уровне определены координаторы, «лидеры» или технические рабочие группы для планирования внедрения координированного эпиднадзора"}]
[null,null,null,null,null,null,null,null,null,null,null,null,null,null,null,null,null,null,null,null,null,null,null,"→","Ресурсов уровня 2 нет (смотрите уровень 1)",null,null,null,null,null,{"$f":"Activities!C3","v":"Во всех участвующих секторах на всех уровнях в стране определены координаторы, «лидеры» или технические рабочие группы для планирования внедрения координированного эпиднадзора"}]
[null,null,null,null,null,null,null,null,null,null,null,null,null,null,null,null,null,null,null,null,null,null,null,"→","Посмотреть ресурсы уровня 3",null,null,null,null,null,{"$f":"Activities!C4","v":"Координаторы, «лидеры» или технические рабочие группы (включая выявленных координаторов или «лидеров») в области координированного эпиднадзора институализированы (например: в рамках руководящего органа, такого как МКМ)   "}]
[]
[null,null,null,null,null,null,{"$f":"\"\"&Activities!B5","v":"ПП-2 Приоритизация"},null,null,null,{"$f":"IF(Prioritization!O44=0,AE13,IF(AND(Prioritization!O44=1,Prioritization!X44=0),AE14,IF(AND(Prioritization!X44=1,Prioritization!AG44=0),AE15,\"Complete\")))","v":"Существует список приоритетных зоонозов, подлежащих включению в координированную систему эпиднадзора"},null,null,null,null,null,null,null,null,{"$f":"IF(Prioritization!O44=\"\",\"N/A\",IF(AND(Prioritization!O44=0),\"1\",IF(AND(Prioritization!O44=1,Prioritization!X44=0),\"2\",IF(AND(Prioritization!X44=1,Prioritization!AG44=0),\"3\",\"Complete\"))))","v":"N/A"},null,null,null,"→","Посмотреть ресурсы уровня 1",null,null,null,null,null,{"$f":"Activities!C5","v":"Существует список приоритетных зоонозов, подлежащих включению в координированную систему эпиднадзора"}]
[null,null,null,null,null,null,null,null,null,null,null,null,null,null,null,null,null,null,null,null,null,null,null,"→","Ресурсов уровня 2 нет (смотрите уровень 1)",null,null,null,null,null,{"$f":"Activities!C6","v":"Список зоонозов широко распространен на субнациональном уровне и уровне сообществ"}]
[null,null,null,null,null,null,null,null,null,null,null,null,null,null,null,null,null,null,null,null,null,null,null,"→","Ресурсов уровня 3 нет (смотрите уровень 1)",null,null,null,null,null,{"$f":"Activities!C7","v":"Список зоонозов составляется с использованием межотраслевого подхода «Единое здоровье». Такой подход предполагает участие всех соответствующих секторов в основанном на фактических данных, прозрачном и воспроизводимом процессе определения приоритетов"}]
[]
[null,null,null,null,null,null,{"$f":"\"\"&Activities!B8","v":"ПП-3 Постановка целей"},null,null,null,{"$f":"IF('Goal Setting'!O44=0,AE17,IF(AND('Goal Setting'!O44=1,'Goal Setting'!X44=0),AE18,IF(AND('Goal Setting'!X44=1,'Goal Setting'!AG44=0),AE19,\"Complete\")))","v":"Цель(и), функции и обязанности всех участвующих секторов координированной системы эпиднадзора согласованы на национальном уровне"},null,null,null,null,null,null,null,null,{"$f":"IF('Goal Setting'!O44=\"\",\"N/A\",IF(AND('Goal Setting'!O44=0),\"1\",IF(AND('Goal Setting'!O44=1,'Goal Setting'!X44=0),\"2\",IF(AND('Goal Setting'!X44=1,'Goal Setting'!AG44=0),\"3\",\"Complete\"))))","v":"N/A"},null,null,null,"→","Посмотреть ресурсы уровня 1",null,null,null,null,null,{"$f":"Activities!C8","v":"Цель(и), функции и обязанности всех участвующих секторов координированной системы эпиднадзора согласованы на национальном уровне"}]
[null,null,null,null,null,null,null,null,null,null,null,null,null,null,null,null,null,null,null,null,null,null,null,"→","Посмотреть ресурсы уровня 2",null,null,null,null,null,{"$f":"Activities!C9","v":"Цель(и), функции и обязанности всех участвующих секторов координированной системы эпиднадзора согласованы и охватывают все уровни в стране"}]
[null,null,null,null,null,null,null,null,null,null,null,null,null,null,null,null,null,null,null,null,null,null,null,"→","Посмотреть ресурсы уровня 3",null,null,null,null,null,{"$f":"Activities!C10","v":"Цель(и), функции и обязанности в рамках координированной системы эпиднадзора пересмотрены для учета текущих потребностей координированной системы эпиднадзора "}]
[]
[null,"Оценка",null,null,null,null,{"$f":"\"\"&Activities!G2","v":"О-1 Картирование заинтересованных сторон"},null,null,null,{"$f":"IF(Stakeholders!O44=0,AE21,IF(AND(Stakeholders!O44=1,Stakeholders!X44=0),AE22,IF(AND(Stakeholders!X44=1,Stakeholders!AG44=0),AE23,\"Complete\")))","v":"Заинтересованные стороны в области эпиднадзора, эпидемиологии, лабораторных исследований и обмена информацией выявлены"},null,null,null,null,null,null,null,null,{"$f":"IF(Stakeholders!O44=\"\",\"N/A\",IF(AND(Stakeholders!O44=0),\"1\",IF(AND(Stakeholders!O44=1,Stakeholders!X44=0),\"2\",IF(AND(Stakeholders!X44=1,Stakeholders!AG44=0),\"3\",\"Complete\"))))","v":"N/A"},null,null,null,"→","Посмотреть ресурсы уровня 1",null,null,null,null,null,{"$f":"Activities!H2","v":"Заинтересованные стороны в области эпиднадзора, эпидемиологии, лабораторных исследований и обмена информацией выявлены"}]
[null,null,null,null,null,null,null,null,null,null,null,null,null,null,null,null,null,null,null,null,null,null,null,"→","Посмотреть ресурсы уровня 2",null,null,null,null,null,{"$f":"Activities!H3","v":"В ходе анализа заинтересованных сторон определены участники на всех уровнях в стране "}]
[null,null,null,null,null,null,null,null,null,null,null,null,null,null,null,null,null,null,null,null,null,null,null,"→","Посмотреть ресурсы уровня 3",null,null,null,null,null,{"$f":"Activities!H4","v":"Функции и обязанности заинтересованных сторон институционализированы и включены в политические документы"}]
[]
[null,null,null,null,null,null,{"$f":"\"\"&Activities!G5","v":"О-2 Оценка взаимосвязей в системе эпиднадзора"},null,null,null,{"$f":"IF('Plans & Organization'!O44=0,AE25,IF(AND('Plans & Organization'!O44=1,'Plans & Organization'!X44=0),AE26,IF(AND('Plans & Organization'!X44=1,'Plans & Organization'!AG44=0),AE27,\"Complete\")))","v":"Оценка взаимосвязей между существующими системами эпиднадзора за приоритетными зоонозами проведена на межотраслевом уровне"},null,null,null,null,null,null,null,null,{"$f":"IF('Plans & Organization'!O44=\"\",\"N/A\",IF(AND('Plans & Organization'!O44=0),\"1\",IF(AND('Plans & Organization'!O44=1,'Plans & Organization'!X44=0),\"2\",IF(AND('Plans & Organization'!X44=1,'Plans & Organization'!AG44=0),\"3\",\"Complete\"))))","v":"N/A"},null,null,null,"→","Посмотреть ресурсы уровня 1",null,null,null,null,null,{"$f":"Activities!H5","v":"Оценка взаимосвязей между существующими системами эпиднадзора за приоритетными зоонозами проведена на межотраслевом уровне"}]
[null,null,null,null,null,null,null,null,null,null,null,null,null,null,null,null,null,null,null,null,null,null,null,"→","Посмотреть ресурсы уровня 2",null,null,null,null,null,{"$f":"Activities!H6","v":"Оценка взаимосвязей между существующими системами эпиднадзора проведена на межотраслевом уровне и на всех уровнях в стране"}]
[null,null,null,null,null,null,null,null,null,null,null,null,null,null,null,null,null,null,null,null,null,null,null,"→","Посмотреть ресурсы уровня 3",null,null,null,null,null,{"$f":"Activities!H7","v":"Взаимосвязи между существующими системами эпиднадзора проанализированы и признаны соответствующими целям координированной системы эпиднадзора"}]
[]
[null,null,null,null,null,null,{"$f":"\"\"&Activities!G8","v":"О-3 Оценка нормативно-правовой базы"},null,null,null,{"$f":"IF('Policy & Legal'!O44=0,AE29,IF(AND('Policy & Legal'!O44=1,'Policy & Legal'!AG44=0),AE31,\"Complete\"))","v":"Оценка нормативно-правовой базы (правил, политики, руководящих принципов и положений, включая международные стандарты), регулирующей стандарты этики и конфиденциальности в области эпиднадзора и обмена данными, проведена"},null,null,null,null,null,null,null,null,{"$f":"IF('Policy & Legal'!O44=\"\",\"N/A\",IF(AND('Policy & Legal'!O44=0),\"1\",IF(AND('Policy & Legal'!O44=1,'Policy & Legal'!AG44=0),\"3\",\"Complete\")))","v":"N/A"},null,null,null,"→","Посмотреть ресурсы уровня 1",null,null,null,null,null,{"$f":"Activities!H8","v":"Оценка нормативно-правовой базы (правил, политики, руководящих принципов и положений, включая международные стандарты), регулирующей стандарты этики и конфиденциальности в области эпиднадзора и обмена данными, проведена"}]
[null,null,null,null,null,null,null,null,null,null,null,null,null,null,null,null,null,null,null,null,null,null,null,"→"]
[null,null,null,null,null,null,null,null,null,null,null,null,null,null,null,null,null,null,null,null,null,null,null,"→","Ресурсов уровня 3 нет (смотрите уровень 1)",null,null,null,null,null,{"$f":"Activities!H9","v":"Оценка нормативно-правовой базы (правил, политики, руководящих принципов и положений, включая международные стандарты), регулирующей стандарты этики и конфиденциальности в области эпиднадзора и обмена данными, проводится на всех уровнях в стране "}]
[]
[null,null,null,null,null,null,{"$f":"\"\"&Activities!G16","v":"О-4 Картирование инфраструктуры"},null,null,null,{"$f":"IF('Plans & Organization'!O60=0,AE33,IF(AND('Plans & Organization'!O60=1,'Plans & Organization'!X60=0),AE34,IF(AND('Plans & Organization'!X60=1,'Plans & Organization'!AG60=0),AE35,\"Complete\")))","v":"В результате проведения базового картирования инфраструктуры (в соответствие с ТРЗ, гл. 4.1) были описаны структура и взаимосвязи внутри секторов и между ними "},null,null,null,null,null,null,null,null,{"$f":"IF('Plans & Organization'!O60=\"\",\"N/A\",IF(AND('Plans & Organization'!O60=0),\"1\",IF(AND('Plans & Organization'!O60=1,'Plans & Organization'!X60=0),\"2\",IF(AND('Plans & Organization'!X60=1,'Plans & Organization'!AG60=0),\"3\",\"Complete\"))))","v":"N/A"},null,null,null,"→","Посмотреть ресурсы уровня 1",null,null,null,null,null,{"$f":"Activities!H16","v":"В результате проведения базового картирования инфраструктуры (в соответствие с ТРЗ, гл. 4.1) были описаны структура и взаимосвязи внутри секторов и между ними "}]
[null,null,null,null,null,null,null,null,null,null,null,null,null,null,null,null,null,null,null,null,null,null,null,"→","Посмотреть ресурсы уровня 2",null,null,null,null,null,{"$f":"Activities!H17","v":"В ходе картирования инфраструктуры описано большинство подлежащих картированию областей (в соответствие с ТРЗ, гл. 4.1)"}]
[null,null,null,null,null,null,null,null,null,null,null,null,null,null,null,null,null,null,null,null,null,null,null,"→","Ресурсов уровня 3 нет (смотрите уровень 2)",null,null,null,null,null,{"$f":"Activities!H18","v":"Полное картирование инфраструктуры использовано для описания всех подлежащих картированию областей (в соответствие с ТРЗ, гл. 4.1)."}]
[]
[null,null,null,null,null,null,{"$f":"\"\"&Activities!G19","v":"О-5 Оценка экономических потребностей"},null,null,null,{"$f":"IF('Budgets & Finances'!O44=0,AE37,IF(AND('Budgets & Finances'!O44=1,'Budgets & Finances'!AG44=0),AE39,\"Complete\"))","v":"Экономические оценки были использованы для определения национальных финансовых потребностей координированной системы эпиднадзора "},null,null,null,null,null,null,null,null,{"$f":"IF('Budgets & Finances'!O44=\"\",\"N/A\",IF(AND('Budgets & Finances'!O44=0),\"1\",IF(AND('Budgets & Finances'!O44=1,'Budgets & Finances'!AG44=0),\"3\",\"Complete\")))","v":"N/A"},null,null,null,"→","Посмотреть ресурсы уровня 1",null,null,null,null,null,{"$f":"Activities!H19","v":"Экономические оценки были использованы для определения национальных финансовых потребностей координированной системы эпиднадзора "}]
[]
[null,null,null,null,null,null,null,null,null,null,null,null,null,null,null,null,null,null,null,null,null,null,null,"→","Посмотреть ресурсы уровня 3",null,null,null,null,null,{"$f":"Activities!H20","v":"Экономические оценки проведены для определения финансовых потребностей на всех уровнях в стране в отношении координированной системы эпиднадзора "}]
[]
[null,null,null,null,null,null,{"$f":"\"\"&Activities!G21","v":"О-6 Оценка лабораторного потенциала"},null,null,null,{"$f":"IF(Laboratory!O44=0,AE41,IF(AND(Laboratory!O44=1,Laboratory!X44=0),AE42,IF(AND(Laboratory!X44=1,Laboratory!AG44=0),AE43,\"Complete\")))","v":"В результате проведения оценок лабораторного потенциала были определены квалифицированные национальные или международные референс-лаборатории, которые могут проводить тестирование для поддержки деятельности в рамках координированного эпиднадзора"},null,null,null,null,null,null,null,null,{"$f":"IF(Laboratory!O44=\"\",\"N/A\",IF(AND(Laboratory!O44=0),\"1\",IF(AND(Laboratory!O44=1,Laboratory!X44=0),\"2\",IF(AND(Laboratory!X44=1,Laboratory!AG44=0),\"3\",\"Complete\"))))","v":"N/A"},null,null,null,"→","Посмотреть ресурсы уровня 1",null,null,null,null,null,{"$f":"Activities!H21","v":"В результате проведения оценок лабораторного потенциала были определены квалифицированные национальные или международные референс-лаборатории, которые могут проводить тестирование для поддержки деятельности в рамках координированного эпиднадзора"}]
[null,null,null,null,null,null,null,null,null,null,null,null,null,null,null,null,null,null,null,null,null,null,null,"→","Посмотреть ресурсы уровня 2",null,null,null,null,null,{"$f":"Activities!H22","v":" В результате проведения оценок лабораторного потенциала были определены квалифицированные лаборатории на всех уровнях (включая международный), которые могут проводить тестирование для поддержки мероприятий в рамках координированного эпиднадзора"}]
[null,null,null,null,null,null,null,null,null,null,null,null,null,null,null,null,null,null,null,null,null,null,null,"→","Ресурсов уровня 3 нет (смотрите уровень 2)",null,null,null,null,null,{"$f":"Activities!H23","v":"В результате проведения оценок лабораторного потенциала выявлена сеть квалифицированных лабораторий, которые могут проводить тестирование для поддержки мероприятий в рамках координированного эпиднадзора"}]
[]
[null,null,null,null,null,null,{"$f":"\"\"&Activities!G24","v":"О-7 Лабораторная логистика и интерпретация результатов исследований"},null,null,null,{"$f":"IF(Laboratory!O62=0,AE45,IF(AND(Laboratory!O62=1,Laboratory!X62=0),AE46,IF(AND(Laboratory!X62=1,Laboratory!AG62=0),AE47,\"Complete\")))","v":"Поставки лабораторных материалов, транспортные цепочки и методы интерпретации результатов оценены на предмет согласования между участвующими секторами на национальном уровне"},null,null,null,null,null,null,null,null,{"$f":"IF(Laboratory!O62=\"\",\"N/A\",IF(AND(Laboratory!O62=0),\"1\",IF(AND(Laboratory!O62=1,Laboratory!X62=0),\"2\",IF(AND(Laboratory!X62=1,Laboratory!AG62=0),\"3\",\"Complete\"))))","v":"N/A"},null,null,null,"→","Посмотреть ресурсы уровня 1",null,null,null,null,null,{"$f":"Activities!H24","v":"Поставки лабораторных материалов, транспортные цепочки и методы интерпретации результатов оценены на предмет согласования между участвующими секторами на национальном уровне"}]
[null,null,null,null,null,null,null,null,null,null,null,null,null,null,null,null,null,null,null,null,null,null,null,"→","Посмотреть ресурсы уровня 2",null,null,null,null,null,{"$f":"Activities!H25","v":"Поставки лабораторных материалов, транспортные цепочки и методы интерпретации результатов оценены на предмет согласования между участвующими секторами на всех уровнях в стране"}]
[null,null,null,null,null,null,null,null,null,null,null,null,null,null,null,null,null,null,null,null,null,null,null,"→","Ресурсов уровня 3 нет (смотрите уровень 2)",null,null,null,null,null,{"$f":"Activities!H26","v":"Степень согласованности способов поставок лабораторных материалов, транспортных цепочек и методов интерпретации результатов между участвующими секторами оценена и признана соответствующей целям координированной системы эпиднадзора"}]
[]
[null,null,null,null,null,null,{"$f":"\"\"&Activities!G27","v":"О-8 Оценка кадровых ресурсов"},null,null,null,{"$f":"IF(Workforce!O44=0,AE49,IF(AND(Workforce!O44=1,Workforce!AG44=0),AE51,\"Complete\"))","v":"Оценки кадровых ресурсов проведены для определения текущих требований, компетенций, потребностей и пробелов в области кадрового потенциала на национальном уровне"},null,null,null,null,null,null,null,null,{"$f":"IF(Workforce!O44=\"\",\"N/A\",IF(AND(Workforce!O44=0),\"1\",IF(AND(Workforce!O44=1,Workforce!AG44=0),\"3\",\"Complete\")))","v":"N/A"},null,null,null,"→","Посмотреть ресурсы уровня 1",null,null,null,null,null,{"$f":"Activities!H27","v":"Оценки кадровых ресурсов проведены для определения текущих требований, компетенций, потребностей и пробелов в области кадрового потенциала на национальном уровне"}]
[]
[null,null,null,null,null,null,null,null,null,null,null,null,null,null,null,null,null,null,null,null,null,null,null,"→","Посмотреть ресурсы уровня 3",null,null,null,null,null,{"$f":"Activities!H28","v":" Оценка кадровых ресурсов проведена для определения текущих требований, компетенций, потребностей и пробелов в области кадрового потенциала на всех уровнях в стране"}]
[]
[null,"Планирование",null,null,null,null,{"$f":"\"\"&Activities!L2","v":"ПЛ-1 Политическая воля"},null,null,null,{"$f":"IF(Stakeholders!O66=0,AE53,IF(AND(Stakeholders!O66=1,Stakeholders!X66=0),AE54,IF(AND(Stakeholders!X66=1,Stakeholders!AG66=0),AE55,\"Complete\")))","v":"Определены лица, принимающие решения в отношении создания координированной системы эпиднадзора"},null,null,null,null,null,null,null,null,{"$f":"IF(Stakeholders!O66=\"\",\"N/A\",IF(AND(Stakeholders!O66=0),\"1\",IF(AND(Stakeholders!O66=1,Stakeholders!X66=0),\"2\",IF(AND(Stakeholders!X66=1,Stakeholders!AG66=0),\"3\",\"Complete\"))))","v":"N/A"},null,null,null,"→","Посмотреть ресурсы уровня 1",null,null,null,null,null,{"$f":"Activities!M2","v":"Определены лица, принимающие решения в отношении создания координированной системы эпиднадзора"}]
[null,null,null,null,null,null,null,null,null,null,null,null,null,null,null,null,null,null,null,null,null,null,null,"→","Посмотреть ресурсы уровня 2",null,null,null,null,null,{"$f":"Activities!M3","v":"Политическая поддержка координированной системы эпиднадзора сформирована, и ее сторонники имеются на всех страновых уровнях"}]
[null,null,null,null,null,null,null,null,null,null,null,null,null,null,null,null,null,null,null,null,null,null,null,"→","Посмотреть ресурсы уровня 3",null,null,null,null,null,{"$f":"Activities!M4","v":"Имеется стратегия информационно-разъяснительной работы, которая служит основой для коммуникации с лицами, принимающими решения, по вопросам координированной системы эпиднадзора"}]
[]
[null,null,null,null,null,null,{"$f":"\"\"&Activities!L5","v":"ПЛ-2 Общие элементы данных"},null,null,null,{"$f":"IF('Data Storage & Sharing'!O44=0,AE57,IF(AND('Data Storage & Sharing'!O44=1,'Data Storage & Sharing'!X44=0),AE58,IF(AND('Data Storage & Sharing'!X44=1,'Data Storage & Sharing'!AG44=0),AE59,\"Complete\")))","v":"В каждом участвующем секторе общие элементы данных для достижения общих аналитических целей координированной системы эпиднадзора определены и согласованы на национальном уровне"},null,null,null,null,null,null,null,null,{"$f":"IF('Data Storage & Sharing'!O44=\"\",\"N/A\",IF(AND('Data Storage & Sharing'!O44=0),\"1\",IF(AND('Data Storage & Sharing'!O44=1,'Data Storage & Sharing'!X44=0),\"2\",IF(AND('Data Storage & Sharing'!X44=1,'Data Storage & Sharing'!AG44=0),\"3\",\"Complete\"))))","v":"N/A"},null,null,null,"→","Посмотреть ресурсы уровня 1",null,null,null,null,null,{"$f":"Activities!M5","v":"В каждом участвующем секторе общие элементы данных для достижения общих аналитических целей координированной системы эпиднадзора определены и согласованы на национальном уровне"}]
[null,null,null,null,null,null,null,null,null,null,null,null,null,null,null,null,null,null,null,null,null,null,null,"→","Посмотреть ресурсы уровня 2",null,null,null,null,null,{"$f":"Activities!M6","v":"В каждом участвующем секторе общие элементы данных для достижения общих аналитических целей координированной системы эпиднадзора определены и согласованы на всех уровнях в стране"}]
[null,null,null,null,null,null,null,null,null,null,null,null,null,null,null,null,null,null,null,null,null,null,null,"→","Посмотреть ресурсы уровня 3",null,null,null,null,null,{"$f":"Activities!M7","v":"Общие элементы данных стандартизированы во всех участвующих секторах на основе общих аналитических целей координированной системы эпиднадзора и отвечают международным стандартам данных"}]
[]
[null,null,null,null,null,null,{"$f":"\"\"&Activities!L8","v":"ПЛ-3 Стратегические планы и рамочные документы по координированному эпиднадзору"},null,null,null,{"$f":"IF('Plans & Organization'!O82=0,AE61,IF(AND('Plans & Organization'!O82=1,'Plans & Organization'!X82=0),AE62,IF(AND('Plans & Organization'!X82=1,'Plans & Organization'!AG82=0),AE63,\"Complete\")))","v":"В целях планирования проведен межотраслевой сбор и обзор национальных стратегических документов (стратегий, рамочных программ и стратегических планов), относящихся к координированной системе эпиднадзора"},null,null,null,null,null,null,null,null,{"$f":"IF('Plans & Organization'!O82=\"\",\"N/A\",IF(AND('Plans & Organization'!O82=0),\"1\",IF(AND('Plans & Organization'!O82=1,'Plans & Organization'!X82=0),\"2\",IF(AND('Plans & Organization'!X82=1,'Plans & Organization'!AG82=0),\"3\",\"Complete\"))))","v":"N/A"},null,null,null,"→","Посмотреть ресурсы уровня 1",null,null,null,null,null,{"$f":"Activities!M8","v":"В целях планирования проведен межотраслевой сбор и обзор национальных стратегических документов (стратегий, рамочных программ и стратегических планов), относящихся к координированной системе эпиднадзора"}]
[null,null,null,null,null,null,null,null,null,null,null,null,null,null,null,null,null,null,null,null,null,null,null,"→","Посмотреть ресурсы уровня 2",null,null,null,null,null,{"$f":"Activities!M9","v":"Национальные стратегические документы (стратегии, рамочные программы и стратегические планы) по координированной системе эпиднадзора сведены воедино и согласованы на основе результатов оценки на всех уровнях в стране"}]
[null,null,null,null,null,null,null,null,null,null,null,null,null,null,null,null,null,null,null,null,null,null,null,"→","Посмотреть ресурсы уровня 3",null,null,null,null,null,{"$f":"Activities!M10","v":"Пересмотренные стратегические документы (стратегии, рамочные программы и стратегические планы) по координированной системе эпиднадзора приведены в соответствие с международными стандартами и рекомендациями"}]
[]
[null,null,null,null,null,null,{"$f":"\"\"&Activities!L11","v":"ПЛ-4 Национальные оперативные планы "},null,null,null,{"$f":"IF('Plans & Organization'!O98=0,AE65,IF(AND('Plans & Organization'!O98=1,'Plans & Organization'!X98=0),AE66,IF(AND('Plans & Organization'!X98=1,'Plans & Organization'!AG98=0),AE67,\"Complete\")))","v":"В целях планирования проведен межотраслевой сбор и обзор национальных оперативных планов и других важные документов (включая планы эпиднадзора, определения случаев, протоколы и стандартные операционные процедуры), относящихся к координированной системе эпиднадзора\n"},null,null,null,null,null,null,null,null,{"$f":"IF('Plans & Organization'!O98=\"\",\"N/A\",IF(AND('Plans & Organization'!O98=0),\"1\",IF(AND('Plans & Organization'!O98=1,'Plans & Organization'!X98=0),\"2\",IF(AND('Plans & Organization'!X98=1,'Plans & Organization'!AG98=0),\"3\",\"Complete\"))))","v":"N/A"},null,null,null,"→","Посмотреть ресурсы уровня 1",null,null,null,null,null,{"$f":"Activities!M11","v":"В целях планирования проведен межотраслевой сбор и обзор национальных оперативных планов и других важные документов (включая планы эпиднадзора, определения случаев, протоколы и стандартные операционные процедуры), относящихся к координированной системе эпиднадзора\n"}]
[null,null,null,null,null,null,null,null,null,null,null,null,null,null,null,null,null,null,null,null,null,null,null,"→","Посмотреть ресурсы уровня 2",null,null,null,null,null,{"$f":"Activities!M12","v":"Пересмотренные оперативные планы и другие важные документы (включая планы эпиднадзора, определения случаев, протоколы и стандартные операционные процедуры), относящиеся к координированной системе эпиднадзора и обмена информацией, утверждены всеми ведомствами, осуществляющими эпиднадзор на всех уровнях в стране\n"}]
[null,null,null,null,null,null,null,null,null,null,null,null,null,null,null,null,null,null,null,null,null,null,null,"→","Посмотреть ресурсы уровня 3",null,null,null,null,null,{"$f":"Activities!M13","v":"Пересмотренные оперативные планы (включая планы эпиднадзора, определения случаев, протоколы и стандартные операционные процедуры), относящиеся к координированной системе эпиднадзора, приведены в соответствие с международными руководящими указаниями и рекомендациями\n"}]
[]
[null,null,null,null,null,null,{"$f":"\"\"&Activities!L14","v":"ПЛ-5 Финансовое планирование"},null,null,null,{"$f":"IF('Budgets & Finances'!O66=0,AE69,IF(AND('Budgets & Finances'!O66=1,'Budgets & Finances'!X66=0),AE70,IF(AND('Budgets & Finances'!X66=1,'Budgets & Finances'!AG66=0),AE71,\"Complete\")))","v":"Имеются бюджетный план и механизм распределения средств для осуществления координированного эпиднадзора на национальном уровне"},null,null,null,null,null,null,null,null,{"$f":"IF('Budgets & Finances'!O66=\"\",\"N/A\",IF(AND('Budgets & Finances'!O66=0),\"1\",IF(AND('Budgets & Finances'!O66=1,'Budgets & Finances'!X66=0),\"2\",IF(AND('Budgets & Finances'!X66=1,'Budgets & Finances'!AG66=0),\"3\",\"Complete\"))))","v":"N/A"},null,null,null,"→","Посмотреть ресурсы уровня 1",null,null,null,null,null,{"$f":"Activities!M14","v":"Имеются бюджетный план и механизм распределения средств для осуществления координированного эпиднадзора на национальном уровне"}]
[null,null,null,null,null,null,null,null,null,null,null,null,null,null,null,null,null,null,null,null,null,null,null,"→","Ресурсов уровня 2 нет (смотрите уровень 1)",null,null,null,null,null,{"$f":"Activities!M15","v":"Имеются бюджетный план и механизм распределения средств для осуществления координированного эпиднадзора на всех страновых уровнях"}]
[null,null,null,null,null,null,null,null,null,null,null,null,null,null,null,null,null,null,null,null,null,null,null,"→","Ресурсов уровня 3 нет (смотрите уровень 1)",null,null,null,null,null,{"$f":"Activities!M16","v":"Бюджетный план и механизм распределения средств подвергнуты оценке и признаны соответствующими целям координированной системы эпиднадзора "}]
[]
[null,null,null,null,null,null,{"$f":"\"\"&Activities!L17","v":"ПЛ-6 Планирование в области кадровых ресурсов"},null,null,null,{"$f":"IF(Workforce!O66=0,AE73,IF(AND(Workforce!O66=1,Workforce!X66=0),AE74,IF(AND(Workforce!X66=1,Workforce!AG66=0),AE75,\"Complete\")))","v":"План обучения и профессиональной подготовки кадров для координированной системы эпиднадзора разработан на основе оценки кадровых ресурсов на национальном уровне"},null,null,null,null,null,null,null,null,{"$f":"IF(Workforce!O66=\"\",\"N/A\",IF(AND(Workforce!O66=0),\"1\",IF(AND(Workforce!O66=1,Workforce!X66=0),\"2\",IF(AND(Workforce!X66=1,Workforce!AG66=0),\"3\",\"Complete\"))))","v":"N/A"},null,null,null,"→","Посмотреть ресурсы уровня 1",null,null,null,null,null,{"$f":"Activities!M17","v":"План обучения и профессиональной подготовки кадров для координированной системы эпиднадзора разработан на основе оценки кадровых ресурсов на национальном уровне"}]
[null,null,null,null,null,null,null,null,null,null,null,null,null,null,null,null,null,null,null,null,null,null,null,"→","Ресурсов уровня 2 нет (смотрите уровень 1)",null,null,null,null,null,{"$f":"Activities!M18","v":"План обучения и профессиональной подготовки кадров для координированной системы эпиднадзора разработан на основе оценки кадровых ресурсов для всех страновых уровней"}]
[null,null,null,null,null,null,null,null,null,null,null,null,null,null,null,null,null,null,null,null,null,null,null,"→","Ресурсов уровня 3 нет (смотрите уровень 1)",null,null,null,null,null,{"$f":"Activities!M19","v":"Образование и профессиональная подготовка кадров включены в процесс национального межотраслевого кадрового планирования с учетом международных компетенций и оценок\n"}]
[]
[null,null,null,null,null,null,{"$f":"\"\"&Activities!L20","v":"ПЛ-7 Обеспечение нормативно-правовой базы"},null,null,null,{"$f":"IF('Policy & Legal'!O66=0,AE77,IF(AND('Policy & Legal'!O66=1,'Policy & Legal'!X66=0),AE78,IF(AND('Policy & Legal'!X66=1,'Policy & Legal'!AG66=0),AE79,\"Complete\")))","v":"По результатам оценки необходимые нормативно-правовые рамки (правила, стратегии, руководства и положения, включая международные стандарты) стандартизированы во всех секторах на национальном уровне"},null,null,null,null,null,null,null,null,{"$f":"IF('Policy & Legal'!O66=\"\",\"N/A\",IF(AND('Policy & Legal'!O66=0),\"1\",IF(AND('Policy & Legal'!O66=1,'Policy & Legal'!X66=0),\"2\",IF(AND('Policy & Legal'!X66=1,'Policy & Legal'!AG66=0),\"3\",\"Complete\"))))","v":"N/A"},null,null,null,"→","Посмотреть ресурсы уровня 1",null,null,null,null,null,{"$f":"Activities!M20","v":"По результатам оценки необходимые нормативно-правовые рамки (правила, стратегии, руководства и положения, включая международные стандарты) стандартизированы во всех секторах на национальном уровне"}]
[null,null,null,null,null,null,null,null,null,null,null,null,null,null,null,null,null,null,null,null,null,null,null,"→","Ресурсов уровня 2 нет (смотрите уровень 1)",null,null,null,null,null,{"$f":"Activities!M21","v":"По результатам оценки необходимые нормативно-правовые рамки (правила, стратегии, руководства и положения, включая международные стандарты) стандартизированы во всех секторах на всех страновых уровнях"}]
[null,null,null,null,null,null,null,null,null,null,null,null,null,null,null,null,null,null,null,null,null,null,null,"→","Посмотреть ресурсы уровня 3",null,null,null,null,null,{"$f":"Activities!M22","v":"Пересмотренные нормативно-правовые рамки для координированной системы эпиднадзора приведены в соответствие с международными стандартами и рекомендациями. "}]
[]
[null,null,null,null,null,null,{"$f":"\"\"&Activities!L23","v":"ПЛ-8 Планирование скоординированной коммуникации"},null,null,null,{"$f":"IF('Communication & Reporting'!O44=0,AE81,IF(AND('Communication & Reporting'!O44=1,'Communication & Reporting'!X44=0),AE82,IF(AND('Communication & Reporting'!X44=1,'Communication & Reporting'!AG44=0),AE83,\"Complete\")))","v":"Проведено согласование коммуникационной терминологии и сообщений между всеми секторами, участвующими в координированной системе эпиднадзора на национальном уровне."},null,null,null,null,null,null,null,null,{"$f":"IF('Communication & Reporting'!O44=\"\",\"N/A\",IF(AND('Communication & Reporting'!O44=0),\"1\",IF(AND('Communication & Reporting'!O44=1,'Communication & Reporting'!X44=0),\"2\",IF(AND('Communication & Reporting'!X44=1,'Communication & Reporting'!AG44=0),\"3\",\"Complete\"))))","v":"N/A"},null,null,null,"→","Посмотреть ресурсы уровня 1",null,null,null,null,null,{"$f":"Activities!M23","v":"Проведено согласование коммуникационной терминологии и сообщений между всеми секторами, участвующими в координированной системе эпиднадзора на национальном уровне."}]
[null,null,null,null,null,null,null,null,null,null,null,null,null,null,null,null,null,null,null,null,null,null,null,"→","Посмотреть ресурсы уровня 2",null,null,null,null,null,{"$f":"Activities!M24","v":"Согласованная коммуникационная терминология и сообщения между всеми секторами, участвующими в координированной системе эпиднадзора, доведены до всех уровней в стране"}]
[null,null,null,null,null,null,null,null,null,null,null,null,null,null,null,null,null,null,null,null,null,null,null,"→","Посмотреть ресурсы уровня 3",null,null,null,null,null,{"$f":"Activities!M25","v":"Существует стратегия коммуникации и/или план коммуникации (включающий терминологию и формы сообщений), на основе которых осуществляется коммуникация с заинтересованными сторонами и населением в рамках координированной системы эпиднадзора"}]
[]
[null,"Внедрение",null,null,null,null,{"$f":"\"\"&Activities!Q2","v":"В-1 Привлечение финансовых ресурсов"},null,null,null,{"$f":"IF('Budgets & Finances'!O88=0,AE85,IF(AND('Budgets & Finances'!O88=1,'Budgets & Finances'!X88=0),AE86,IF(AND('Budgets & Finances'!X88=1,'Budgets & Finances'!AG88=0),AE87,\"Complete\")))","v":"Имеется финансирование для осуществления координированного эпиднадзора на национальном уровне"},null,null,null,null,null,null,null,null,{"$f":"IF('Budgets & Finances'!O88=\"\",\"N/A\",IF(AND('Budgets & Finances'!O88=0),\"1\",IF(AND('Budgets & Finances'!O88=1,'Budgets & Finances'!X88=0),\"2\",IF(AND('Budgets & Finances'!X88=1,'Budgets & Finances'!AG88=0),\"3\",\"Complete\"))))","v":"N/A"},null,null,null,"→","Посмотреть ресурсы уровня 1",null,null,null,null,null,{"$f":"Activities!R2","v":"Имеется финансирование для осуществления координированного эпиднадзора на национальном уровне"}]
[null,null,null,null,null,null,null,null,null,null,null,null,null,null,null,null,null,null,null,null,null,null,null,"→","Посмотреть ресурсы уровня 2",null,null,null,null,null,{"$f":"Activities!R3","v":"Финансирование для осуществления координированного эпиднадзора имеется на всех уровнях в стране"}]
[null,null,null,null,null,null,null,null,null,null,null,null,null,null,null,null,null,null,null,null,null,null,null,"→","Посмотреть ресурсы уровня 3",null,null,null,null,null,{"$f":"Activities!R4","v":"Устойчивое финансирование (т. е. заложенное в национальный бюджет) выделено на мероприятия по координированному эпиднадзору, оценено и признано соответствующим целям координированной системы эпиднадзора"}]
[]
[null,null,null,null,null,null,{"$f":"\"\"&Activities!Q5","v":"В-2 Привлечение кадровых ресурсов и заинтересованных сторон"},null,null,null,{"$f":"IF(Stakeholders!O88=0,AE89,IF(AND(Stakeholders!O88=1,Stakeholders!X88=0),AE90,IF(AND(Stakeholders!X88=1,Stakeholders!AG88=0),AE91,\"Complete\")))","v":"Координаторы или технические рабочие группы проводят совещания эпизодически"},null,null,null,null,null,null,null,null,{"$f":"IF(Stakeholders!O88=\"\",\"N/A\",IF(AND(Stakeholders!O88=0),\"1\",IF(AND(Stakeholders!O88=1,Stakeholders!X88=0),\"2\",IF(AND(Stakeholders!X88=1,Stakeholders!AG88=0),\"3\",\"Complete\"))))","v":"N/A"},null,null,null,"→","Посмотреть ресурсы уровня 1",null,null,null,null,null,{"$f":"Activities!R5","v":"Координаторы или технические рабочие группы проводят совещания эпизодически"}]
[null,null,null,null,null,null,null,null,null,null,null,null,null,null,null,null,null,null,null,null,null,null,null,"→","Посмотреть ресурсы уровня 2",null,null,null,null,null,{"$f":"Activities!R6","v":"Координаторы или технические рабочие группы встречаются на регулярной основе и для решения приоритетных вопросов по мере их возникновения"}]
[null,null,null,null,null,null,null,null,null,null,null,null,null,null,null,null,null,null,null,null,null,null,null,"→","Посмотреть ресурсы уровня 3",null,null,null,null,null,{"$f":"Activities!R7","v":"Технические рабочие группы регулярно проводят обзоры мероприятий по координированному эпиднадзору и ее оптимизацию "}]
[]
[null,null,null,null,null,null,{"$f":"\"\"&Activities!Q8","v":"В-3 Обмен данными и информацией"},null,null,null,{"$f":"IF('Data Storage & Sharing'!O65=0,AE93,IF(AND('Data Storage & Sharing'!O65=1,'Data Storage & Sharing'!X65=0),AE94,IF(AND('Data Storage & Sharing'!X65=1,'Data Storage & Sharing'!AG65=0),AE95,\"Complete\")))","v":"Существует механизм обмена данными между секторами на национальном уровне"},null,null,null,null,null,null,null,null,{"$f":"IF('Data Storage & Sharing'!O65=\"\",\"N/A\",IF(AND('Data Storage & Sharing'!O65=0),\"1\",IF(AND('Data Storage & Sharing'!O65=1,'Data Storage & Sharing'!X65=0),\"2\",IF(AND('Data Storage & Sharing'!X65=1,'Data Storage & Sharing'!AG65=0),\"3\",\"Complete\"))))","v":"N/A"},null,null,null,"→","Посмотреть ресурсы уровня 1",null,null,null,null,null,{"$f":"Activities!R8","v":"Существует механизм обмена данными между секторами на национальном уровне"}]
[null,null,null,null,null,null,null,null,null,null,null,null,null,null,null,null,null,null,null,null,null,null,null,"→","Посмотреть ресурсы уровня 2",null,null,null,null,null,{"$f":"Activities!R9","v":"Существует механизм обмена данными между секторами на всех страновых уровнях"}]
[null,null,null,null,null,null,null,null,null,null,null,null,null,null,null,null,null,null,null,null,null,null,null,"→","Посмотреть ресурсы уровня 3",null,null,null,null,null,{"$f":"Activities!R10","v":"Существует доступный, функциональный и удобный для использования всеми участвующими секторами механизм обмена данными"}]
[]
[null,null,null,null,null,null,{"$f":"\"\"&Activities!Q11","v":"В-4 Хранение данных"},null,null,null,{"$f":"IF('Data Storage & Sharing'!O81=0,AE97,IF(AND('Data Storage & Sharing'!O81=1,'Data Storage & Sharing'!X81=0),AE98,IF(AND('Data Storage & Sharing'!X81=1,'Data Storage & Sharing'!AG81=0),AE99,\"Complete\")))","v":"Существуют структура и место для хранения и ведения данных, получаемых из различных секторов, на национальном уровне."},null,null,null,null,null,null,null,null,{"$f":"IF('Data Storage & Sharing'!O81=\"\",\"N/A\",IF(AND('Data Storage & Sharing'!O81=0),\"1\",IF(AND('Data Storage & Sharing'!O81=1,'Data Storage & Sharing'!X81=0),\"2\",IF(AND('Data Storage & Sharing'!X81=1,'Data Storage & Sharing'!AG81=0),\"3\",\"Complete\"))))","v":"N/A"},null,null,null,"→","Посмотреть ресурсы уровня 1",null,null,null,null,null,{"$f":"Activities!R11","v":"Существуют структура и место для хранения и ведения данных, получаемых из различных секторов, на национальном уровне."}]
[null,null,null,null,null,null,null,null,null,null,null,null,null,null,null,null,null,null,null,null,null,null,null,"→","Посмотреть ресурсы уровня 2",null,null,null,null,null,{"$f":"Activities!R12","v":"Существуют структура и место для хранения и ведения данных, получаемых из различных секторов, на всех уровнях в стране"}]
[null,null,null,null,null,null,null,null,null,null,null,null,null,null,null,null,null,null,null,null,null,null,null,"→","Посмотреть ресурсы уровня 3",null,null,null,null,null,{"$f":"Activities!R13","v":"Существуют доступная, функциональная и используемая всеми участвующими секторами структура и место для хранения и ведения данных, получаемых из всех соответствующих секторов"}]
[]
[null,null,null,null,null,null,{"$f":"\"\"&Activities!Q14","v":"В-5 Меры по обеспечению конфиденциальности и безопасности данных"},null,null,null,{"$f":"IF('Data Storage & Sharing'!O97=0,AE101,IF(AND('Data Storage & Sharing'!O97=1,'Data Storage & Sharing'!X97=0),AE102,IF(AND('Data Storage & Sharing'!X97=1,'Data Storage & Sharing'!AG97=0),AE103,\"Complete\")))","v":"Меры по обеспечению конфиденциальности и безопасности данных для защиты данных координированного эпиднадзора применяются на национальном уровне"},null,null,null,null,null,null,null,null,{"$f":"IF('Data Storage & Sharing'!O97=\"\",\"N/A\",IF(AND('Data Storage & Sharing'!O97=0),\"1\",IF(AND('Data Storage & Sharing'!O97=1,'Data Storage & Sharing'!X97=0),\"2\",IF(AND('Data Storage & Sharing'!X97=1,'Data Storage & Sharing'!AG97=0),\"3\",\"Complete\"))))","v":"N/A"},null,null,null,"→","Посмотреть ресурсы уровня 1",null,null,null,null,null,{"$f":"Activities!R14","v":"Меры по обеспечению конфиденциальности и безопасности данных для защиты данных координированного эпиднадзора применяются на национальном уровне"}]
[null,null,null,null,null,null,null,null,null,null,null,null,null,null,null,null,null,null,null,null,null,null,null,"→","Посмотреть ресурсы уровня 2",null,null,null,null,null,{"$f":"Activities!R15","v":"Меры по обеспечению конфиденциальности и безопасности данных для защиты данных координированного эпиднадзора применяются на всех страновых уровнях"}]
[null,null,null,null,null,null,null,null,null,null,null,null,null,null,null,null,null,null,null,null,null,null,null,"→","Посмотреть ресурсы уровня 3",null,null,null,null,null,{"$f":"Activities!R16","v":"Меры по обеспечению конфиденциальности и безопасности данных для защиты данных координированного эпиднадзора прошли оценку и соответствуют целям координированной системы эпиднадзора"}]
[]
[null,null,null,null,null,null,{"$f":"\"\"&Activities!Q17","v":"В-6 Внедрение координированной системы эпиднадзора"},null,null,null,{"$f":"IF('Plans & Organization'!O120=0,AE105,IF(AND('Plans & Organization'!O120=1,'Plans & Organization'!X120=0),AE106,IF(AND('Plans & Organization'!X120=1,'Plans & Organization'!AG120=0),AE107,\"Complete\")))","v":"Запущен пилотный проект координированной системы эпиднадзора в целевых регионах"},null,null,null,null,null,null,null,null,{"$f":"IF('Plans & Organization'!O120=\"\",\"N/A\",IF(AND('Plans & Organization'!O120=0),\"1\",IF(AND('Plans & Organization'!O120=1,'Plans & Organization'!X120=0),\"2\",IF(AND('Plans & Organization'!X120=1,'Plans & Organization'!AG120=0),\"3\",\"Complete\"))))","v":"N/A"},null,null,null,"→","Посмотреть ресурсы уровня 1",null,null,null,null,null,{"$f":"Activities!R17","v":"Запущен пилотный проект координированной системы эпиднадзора в целевых регионах"}]
[null,null,null,null,null,null,null,null,null,null,null,null,null,null,null,null,null,null,null,null,null,null,null,"→","Посмотреть ресурсы уровня 2",null,null,null,null,null,{"$f":"Activities!R18","v":"Координированная система эпиднадзора расширена до дополнительных областей исходя из пилотных внедрений"}]
[null,null,null,null,null,null,null,null,null,null,null,null,null,null,null,null,null,null,null,null,null,null,null,"→","Посмотреть ресурсы уровня 3",null,null,null,null,null,{"$f":"Activities!R19","v":"Координированная системы эпиднадзора является общегосударственной программой"}]
[]
[null,null,null,null,null,null,{"$f":"\"\"&Activities!Q20","v":"В-7 Обмен данными эпиднадзора"},null,null,null,{"$f":"IF('Data Storage & Sharing'!O113=0,AE109,IF(AND('Data Storage & Sharing'!O113=1,'Data Storage & Sharing'!X113=0),AE110,IF(AND('Data Storage & Sharing'!X113=1,'Data Storage & Sharing'!AG113=0),AE111,\"Complete\")))","v":"Обмен данными эпиднадзора осуществляется неофициально или официально эпизодически на национальном уровне"},null,null,null,null,null,null,null,null,{"$f":"IF('Data Storage & Sharing'!O113=\"\",\"N/A\",IF(AND('Data Storage & Sharing'!O113=0),\"1\",IF(AND('Data Storage & Sharing'!O113=1,'Data Storage & Sharing'!X113=0),\"2\",IF(AND('Data Storage & Sharing'!X113=1,'Data Storage & Sharing'!AG113=0),\"3\",\"Complete\"))))","v":"N/A"},null,null,null,"→","Посмотреть ресурсы уровня 1",null,null,null,null,null,{"$f":"Activities!R20","v":"Обмен данными эпиднадзора осуществляется неофициально или официально эпизодически на национальном уровне"}]
[null,null,null,null,null,null,null,null,null,null,null,null,null,null,null,null,null,null,null,null,null,null,null,"→","Посмотреть ресурсы уровня 2",null,null,null,null,null,{"$f":"Activities!R21","v":"Обмен данными эпиднадзора осуществляется неофициально или официально регулярно и своевременно на всех уровнях в стране"}]
[null,null,null,null,null,null,null,null,null,null,null,null,null,null,null,null,null,null,null,null,null,null,null,"→","Посмотреть ресурсы уровня 3",null,null,null,null,null,{"$f":"Activities!R22","v":"Данные эпиднадзора систематически, регулярно и своевременно предоставляются всем участвующим секторам через универсальную или объединенную платформу (платформы) "}]
[]
[null,null,null,null,null,null,{"$f":"\"\"&Activities!Q23","v":"В-8 Коммуникация и обмен информацией"},null,null,null,{"$f":"IF('Communication & Reporting'!O65=0,AE113,IF(AND('Communication & Reporting'!O65=1,'Communication & Reporting'!X65=0),AE114,IF(AND('Communication & Reporting'!X65=1,'Communication & Reporting'!AG65=0),AE115,\"Complete\")))","v":"Осуществляется эпизодический обмен информацией и коммуникация с соответствующими заинтересованными сторонами"},null,null,null,null,null,null,null,null,{"$f":"IF('Communication & Reporting'!O65=\"\",\"N/A\",IF(AND('Communication & Reporting'!O65=0),\"1\",IF(AND('Communication & Reporting'!O65=1,'Communication & Reporting'!X65=0),\"2\",IF(AND('Communication & Reporting'!X65=1,'Communication & Reporting'!AG65=0),\"3\",\"Complete\"))))","v":"N/A"},null,null,null,"→","Посмотреть ресурсы уровня 1",null,null,null,null,null,{"$f":"Activities!R23","v":"Осуществляется эпизодический обмен информацией и коммуникация с соответствующими заинтересованными сторонами"}]
[null,null,null,null,null,null,null,null,null,null,null,null,null,null,null,null,null,null,null,null,null,null,null,"→","Посмотреть ресурсы уровня 2",null,null,null,null,null,{"$f":"Activities!R24","v":"Осуществляется регулярный обмен информацией и коммуникация с соответствующими заинтересованными сторонами"}]
[null,null,null,null,null,null,null,null,null,null,null,null,null,null,null,null,null,null,null,null,null,null,null,"→","Посмотреть ресурсы уровня 3",null,null,null,null,null,{"$f":"Activities!R25","v":"Осуществляется регулярный и своевременный обмен информацией с соответствующими заинтересованными сторонами, включая трансграничные, региональные и международные структуры"}]
[]
[null,null,null,null,null,null,{"$f":"\"\"&Activities!Q26","v":"В-9 Международные требования в отношении оповещений"},null,null,null,{"$f":"IF('Communication & Reporting'!O81=0,AE117,\"Complete\")","v":"Соблюдение международных требований в отношении оповещения обо всех случаях зоонозов"},null,null,null,null,null,null,null,null,{"$f":"IF('Communication & Reporting'!O81=\"\",\"N/A\",IF(AND('Communication & Reporting'!O65=0),\"1\",\"Complete\"))","v":"N/A"},null,null,null,"→","Посмотреть ресурсы уровня 1",null,null,null,null,null,{"$f":"Activities!R26","v":"Соблюдение международных требований в отношении оповещения обо всех случаях зоонозов"}]
[]
[null,null,null,null,null,null,null,null,null,null,null,null,null,null,null,null,null,null,null,null,null,null,null,"→"]
[]
[null,null,null,null,null,null,{"$f":"\"\"&Activities!Q27","v":"B-10 Визуализация и анализ данных координированного эпиднадзора"},null,null,null,{"$f":"IF('Communication & Reporting'!O97=0,AE121,IF(AND('Communication & Reporting'!O97=1,'Communication & Reporting'!X97=0),AE122,IF(AND('Communication & Reporting'!X97=1,'Communication & Reporting'!AG97=0),AE123,\"Complete\")))","v":"Данные координированного эпиднадзора позволяют получить выходные материалы (например: рисунки, графики, отчеты или бюллетени), которые распространяются на национальном уровне"},null,null,null,null,null,null,null,null,{"$f":"IF('Communication & Reporting'!O97=\"\",\"N/A\",IF(AND('Communication & Reporting'!O97=0),\"1\",IF(AND('Communication & Reporting'!O97=1,'Communication & Reporting'!X97=0),\"2\",IF(AND('Communication & Reporting'!X97=1,'Communication & Reporting'!AG97=0),\"3\",\"Complete\"))))","v":"N/A"},null,null,null,"→","Посмотреть ресурсы уровня 1",null,null,null,null,null,{"$f":"Activities!R27","v":"Данные координированного эпиднадзора позволяют получить выходные материалы (например: рисунки, графики, отчеты или бюллетени), которые распространяются на национальном уровне"}]
[null,null,null,null,null,null,null,null,null,null,null,null,null,null,null,null,null,null,null,null,null,null,null,"→","Посмотреть ресурсы уровня 2",null,null,null,null,null,{"$f":"Activities!R28","v":"Данные координированного эпиднадзора позволяют получить выходные материалы (например: рисунки, графики, отчеты или бюллетени), которые распространяются среди заинтересованных сторон на всех уровнях в стране"}]
[null,null,null,null,null,null,null,null,null,null,null,null,null,null,null,null,null,null,null,null,null,null,null,"→","Посмотреть ресурсы уровня 3",null,null,null,null,null,{"$f":"Activities!R29","v":"Данные координированного эпиднадзора, включая отчеты о результатах мониторинга и оценки, позволяют получить выходные материалы, которые используются при разработке ответных мер, политики и программ"}]
[]
[null,"Мониторинг и оценка",null,null,null,null,"МО-1\nИмитационные учения",null,null,null,{"$f":"IF('Simulation Exercises'!O44=0,AE125,IF(AND('Simulation Exercises'!O44=1,'Simulation Exercises'!X44=0),AE126,IF(AND('Simulation Exercises'!X44=1,'Simulation Exercises'!AG44=0),AE127,\"Complete\")))","v":"Имитационные учения проводятся для оценки эффективности и функциональности координированной системы эпиднадзора на национальном уровне  "},null,null,null,null,null,null,null,null,{"$f":"IF('Simulation Exercises'!O44=\"\",\"N/A\",IF(AND('Simulation Exercises'!O44=0),\"1\",IF(AND('Simulation Exercises'!O44=1,'Simulation Exercises'!X44=0),\"2\",IF(AND('Simulation Exercises'!X44=1,'Simulation Exercises'!AG44=0),\"3\",\"Complete\"))))","v":"N/A"},null,null,null,"→","Посмотреть ресурсы уровня 1",null,null,null,null,null,{"$f":"Activities!W2","v":"Имитационные учения проводятся для оценки эффективности и функциональности координированной системы эпиднадзора на национальном уровне  "}]
[null,null,null,null,null,null,null,null,null,null,null,null,null,null,null,null,null,null,null,null,null,null,null,"→","Посмотреть ресурсы уровня 2",null,null,null,null,null,{"$f":"Activities!W3","v":"Имитационные учения проводятся для оценки эффективности и функциональности координированной системы эпиднадзора на всех уровнях в стране  "}]
[null,null,null,null,null,null,null,null,null,null,null,null,null,null,null,null,null,null,null,null,null,null,null,"→","Посмотреть ресурсы уровня 3",null,null,null,null,null,{"$f":"Activities!W4","v":"Результаты имитационных учений используются при составлении и пересмотре планов по координированному эпиднадзору "}]
[]
[null,null,null,null,null,null,{"$f":"\"\"&Activities!V5","v":"МО-2 Планирование деятельности по мониторингу и оценке"},null,null,null,{"$f":"IF('M & E Planning'!O44=0,AE129,IF(AND('M & E Planning'!O44=1,'M & E Planning'!X44=0),AE130,IF(AND('M & E Planning'!X44=1,'M & E Planning'!AG44=0),AE131,\"Complete\")))","v":"Существует план мониторинга и оценки, отвечающий целям координированной системы эпиднадзора"},null,null,null,null,null,null,null,null,{"$f":"IF('M & E Planning'!O44=\"\",\"N/A\",IF(AND('M & E Planning'!O44=0),\"1\",IF(AND('M & E Planning'!O44=1,'M & E Planning'!X44=0),\"2\",IF(AND('M & E Planning'!X44=1,'M & E Planning'!AG44=0),\"3\",\"Complete\"))))","v":"N/A"},null,null,null,"→","Посмотреть ресурсы уровня 1",null,null,null,null,null,{"$f":"Activities!W5","v":"Существует план мониторинга и оценки, отвечающий целям координированной системы эпиднадзора"}]
[null,null,null,null,null,null,null,null,null,null,null,null,null,null,null,null,null,null,null,null,null,null,null,"→","Ресурсов уровня 2 нет (смотрите уровень 1)",null,null,null,null,null,{"$f":"Activities!W6","v":"С помощью плана мониторинга и оценки оценивается эффективность деятельности и достигнутый прогресс в рамках координированной системы эпиднадзора"}]
[null,null,null,null,null,null,null,null,null,null,null,null,null,null,null,null,null,null,null,null,null,null,null,"→","Ресурсов уровня 3 нет (смотрите уровень 1)",null,null,null,null,null,{"$f":"Activities!W7","v":"Результаты мониторинга и оценки позволяют последовательно совершенствовать или расширять координированную систему эпиднадзора и приводить ее в соответствие с международными стандартами и рекомендациями "}]
[]
[null,null,null,null,null,null,"МО-3\nСтандарты качества данных",null,null,null,{"$f":"IF('Data Quality Standards'!O44=0,AE133,IF(AND('Data Quality Standards'!O44=1,'Data Quality Standards'!X44=0),AE134,IF(AND('Data Quality Standards'!X44=1,'Data Quality Standards'!AG44=0),AE135,\"Complete\")))","v":"Существует методология управления качеством данных"},null,null,null,null,null,null,null,null,{"$f":"IF('Data Quality Standards'!O44=\"\",\"N/A\",IF(AND('Data Quality Standards'!O44=0),\"1\",IF(AND('Data Quality Standards'!O44=1,'Data Quality Standards'!X44=0),\"2\",IF(AND('Data Quality Standards'!X44=1,'Data Quality Standards'!AG44=0),\"3\",\"Complete\"))))","v":"N/A"},null,null,null,"→","Посмотреть ресурсы уровня 1",null,null,null,null,null,{"$f":"Activities!W8","v":"Существует методология управления качеством данных"}]
[null,null,null,null,null,null,null,null,null,null,null,null,null,null,null,null,null,null,null,null,null,null,null,"→","Посмотреть ресурсы уровня 2",null,null,null,null,null,{"$f":"Activities!W9","v":"Качество данных проверено и признано соответствующим целям координированной системы эпиднадзора  "}]
[null,null,null,null,null,null,null,null,null,null,null,null,null,null,null,null,null,null,null,null,null,null,null,"→","Посмотреть ресурсы уровня 3",null,null,null,null,null,{"$f":"Activities!W10","v":"Качество данных соответствует международным стандартам и рекомендациям "}]

{"sheet":"Resource selection","index":4,"n_rows":74,"n_cols":12,"rows_kept":74,"cut":false,"hidden":false,"merged":[[1,1,3,11],[43,1,45,1],[47,1,49,1],[51,1,59,1],[61,1,67,1],[16,1,20,1],[33,1,35,1],[37,1,41,1],[22,1,31,1]]}
[]
[null,"ВЫБОР ИНСТРУМЕНТОВ И РЕСУРСОВ"]
[]
[]
[]
[]
[]
[]
[null,"ОБЛАСТЬ",null,"МЕРОПРИЯТИЕ",null,"Целевой уровень потенциала",null,"Описание",null,"Ресурс 1",null,"Ресурс 2"]
[]
[null,"Координаторы",null,"ПП-1 \nПредварительное выявление заинтересованных сторон",null,{"$f":"Results!T9","v":"N/A"},null,{"$f":"Results!K9","v":"Во всех участвующих секторах на национальном уровне определены координаторы, «лидеры» или технические рабочие группы для планирования внедрения координированного эпиднадзора"}]
[]
[null,"Приоритизация",null,"ПП-2\nПриоритизация",null,{"$f":"Results!T13","v":"N/A"},null,{"$f":"Results!K13","v":"Существует список приоритетных зоонозов, подлежащих включению в координированную систему эпиднадзора"}]
[]
[null,"Постановка целей",null,"ПП-3\nПостановка целей",null,{"$f":"Results!T17","v":"N/A"},null,{"$f":"Results!K17","v":"Цель(и), функции и обязанности всех участвующих секторов координированной системы эпиднадзора согласованы на национальном уровне"}]
[]
[null,"Заинтересованные стороны",null,"О-1\nКартирование заинтересованных сторон",null,{"$f":"Results!T21","v":"N/A"},null,{"$f":"Results!K21","v":"Заинтересованные стороны в области эпиднадзора, эпидемиологии, лабораторных исследований и обмена информацией выявлены"}]
[]
[null,null,null,"ПЛ-1\nПолитическая воля",null,{"$f":"Results!T9","v":"N/A"},null,{"$f":"Results!K53","v":"Определены лица, принимающие решения в отношении создания координированной системы эпиднадзора"}]
[]
[null,null,null,"В-2 \nПривлечение кадровых ресурсов и заинтересованных сторон",null,{"$f":"Results!T89","v":"N/A"},null,{"$f":"Results!K89","v":"Координаторы или технические рабочие группы проводят совещания эпизодически"}]
[]
[null,"Планы и организация",null,"О-2\nОценка взаимосвязей в системе эпиднадзора",null,{"$f":"Results!T25","v":"N/A"},null,{"$f":"Results!K25","v":"Оценка взаимосвязей между существующими системами эпиднадзора за приоритетными зоонозами проведена на межотраслевом уровне"}]
[]
[]
[null,null,null,"О-4\nКартирование инфраструктуры",null,{"$f":"Results!T33","v":"N/A"},null,{"$f":"Results!K33","v":"В результате проведения базового картирования инфраструктуры (в соответствие с ТРЗ, гл. 4.1) были описаны структура и взаимосвязи внутри секторов и между ними "}]
[]
[null,null,null,"ПЛ-3\nСтратегические планы и рамочные документы по координированному эпиднадзору",null,{"$f":"Results!T61","v":"N/A"},null,{"$f":"Results!K61","v":"В целях планирования проведен межотраслевой сбор и обзор национальных стратегических документов (стратегий, рамочных программ и стратегических планов), относящихся к координированной системе эпиднадзора"}]
[]
[null,null,null,"ПЛ-4\nНациональные оперативные планы",null,{"$f":"Results!T65","v":"N/A"},null,{"$f":"Results!K65","v":"В целях планирования проведен межотраслевой сбор и обзор национальных оперативных планов и других важные документов (включая планы эпиднадзора, определения случаев, протоколы и стандартные операционные процедуры), относящихся к координированной системе эпиднадзора\n"}]
[]
[null,null,null,"В-6\nВнедрение координированной системы эпиднадзора",null,{"$f":"Results!T105","v":"N/A"},null,{"$f":"Results!K105","v":"Запущен пилотный проект координированной системы эпиднадзора в целевых регионах"}]
[]
[null,"Политика и право",null,"О-3\nОценка нормативно-правовой базы",null,{"$f":"Results!T29","v":"N/A"},null,{"$f":"Results!K29","v":"Оценка нормативно-правовой базы (правил, политики, руководящих принципов и положений, включая международные стандарты), регулирующей стандарты этики и конфиденциальности в области эпиднадзора и обмена данными, проведена"}]
[]
[null,null,null,"ПЛ-7\nОбеспечение нормативно-правовой базы",null,{"$f":"Results!T77","v":"N/A"},null,{"$f":"Results!K77","v":"По результатам оценки необходимые нормативно-правовые рамки (правила, стратегии, руководства и положения, включая международные стандарты) стандартизированы во всех секторах на национальном уровне"}]
[]
[null,"Бюджеты и финансы",null,"О-5\nОценка экономических потребностей",null,{"$f":"Results!T37","v":"N/A"},null,{"$f":"Results!K37","v":"Экономические оценки были использованы для определения национальных финансовых потребностей координированной системы эпиднадзора "}]
[]
[null,null,null,"ПЛ-5\nФинансовое планирование",null,{"$f":"Results!T69","v":"N/A"},null,{"$f":"Results!K69","v":"Имеются бюджетный план и механизм распределения средств для осуществления координированного эпиднадзора на национальном уровне"}]
[]
[null,null,null,"В-1\nПривлечение финансовых ресурсов",null,{"$f":"Results!T85","v":"N/A"},null,{"$f":"Results!K85","v":"Имеется финансирование для осуществления координированного эпиднадзора на национальном уровне"}]
[]
[null,"Кадровые ресурсы",null,"О-8\nОценка кадровых ресурсов",null,{"$f":"Results!T49","v":"N/A"},null,{"$f":"Results!K49","v":"Оценки кадровых ресурсов проведены для определения текущих требований, компетенций, потребностей и пробелов в области кадрового потенциала на национальном уровне"}]
[]
[null,null,null,"ПЛ-6\nПланирование в области кадровых ресурсов",null,{"$f":"Results!T73","v":"N/A"},null,{"$f":"Results!K73","v":"План обучения и профессиональной подготовки кадров для координированной системы эпиднадзора разработан на основе оценки кадровых ресурсов на национальном уровне"}]
[]
[null,"Лаборатория",null,"О-6\nОценка лабораторного потенциала",null,{"$f":"Results!T41","v":"N/A"},null,{"$f":"Results!K41","v":"В результате проведения оценок лабораторного потенциала были определены квалифицированные национальные или международные референс-лаборатории, которые могут проводить тестирование для поддержки деятельности в рамках координированного эпиднадзора"}]
[]
[null,null,null,"О-7\nОценка лабораторной логистики и интерпретации результатов исследований",null,{"$f":"Results!T45","v":"N/A"},null,{"$f":"Results!K45","v":"Поставки лабораторных материалов, транспортные цепочки и методы интерпретации результатов оценены на предмет согласования между участвующими секторами на национальном уровне"}]
[]
[null,"Хранение и обмен данными",null,"ПЛ-2\nОбщие элементы данных",null,{"$f":"Results!T57","v":"N/A"},null,{"$f":"Results!K57","v":"В каждом участвующем секторе общие элементы данных для достижения общих аналитических целей координированной системы эпиднадзора определены и согласованы на национальном уровне"}]
[]
[null,null,null,"В-3\nОбмен данными и информацией",null,{"$f":"Results!T93","v":"N/A"},null,{"$f":"Results!K93","v":"Существует механизм обмена данными между секторами на национальном уровне"}]
[]
[null,null,null,"В-4\nХранение данных",null,{"$f":"Results!T97","v":"N/A"},null,{"$f":"Results!K97","v":"Существуют структура и место для хранения и ведения данных, получаемых из различных секторов, на национальном уровне."}]
[]
[null,null,null,"В-5\nМеры по обеспечению конфиденциальности и безопасности данных",null,{"$f":"Results!T101","v":"N/A"},null,{"$f":"Results!K101","v":"Меры по обеспечению конфиденциальности и безопасности данных для защиты данных координированного эпиднадзора применяются на национальном уровне"}]
[]
[null,null,null,"В-7\nОбмен данными координированного эпиднадзора",null,{"$f":"Results!T109","v":"N/A"},null,{"$f":"Results!K109","v":"Обмен данными эпиднадзора осуществляется неофициально или официально эпизодически на национальном уровне"}]
[]
[null,"Коммуникация и отчетность",null,"ПЛ-8\nПланирование скоординированной коммуникации",null,{"$f":"Results!T81","v":"N/A"},null,{"$f":"Results!K81","v":"Проведено согласование коммуникационной терминологии и сообщений между всеми секторами, участвующими в координированной системе эпиднадзора на национальном уровне."}]
[]
[null,null,null,"B-8\nКоммуникация и обмен информацией",null,{"$f":"Results!T113","v":"N/A"},null,{"$f":"Results!K113","v":"Осуществляется эпизодический обмен информацией и коммуникация с соответствующими заинтересованными сторонами"}]
[]
[null,null,null,"B-9\nСоблюдение международных требований в отношении оповещений",null,{"$f":"Results!T117","v":"N/A"},null,{"$f":"Results!K117","v":"Соблюдение международных требований в отношении оповещения обо всех случаях зоонозов"}]
[]
[null,null,null,"B-10\nВизуализация и анализ данных координированного эпиднадзора",null,{"$f":"Results!T121","v":"N/A"},null,{"$f":"Results!K121","v":"Данные координированного эпиднадзора позволяют получить выходные материалы (например: рисунки, графики, отчеты или бюллетени), которые распространяются на национальном уровне"}]
[]
[null,"Имитационные учения",null,"МО-1\nИмитационные учения",null,{"$f":"Results!T125","v":"N/A"},null,{"$f":"Results!K125","v":"Имитационные учения проводятся для оценки эффективности и функциональности координированной системы эпиднадзора на национальном уровне  "}]
[]
[null,"Планирование деятельности по мониторингу и оценке",null,"MO-2\nПланирование деятельности по мониторингу и оценке",null,{"$f":"Results!T129","v":"N/A"},null,{"$f":"Results!K129","v":"Существует план мониторинга и оценки, отвечающий целям координированной системы эпиднадзора"}]
[]
[null,"Стандарты качества данных",null,"МО-3\nСтандарты качества данных ",null,{"$f":"Results!T133","v":"N/A"},null,{"$f":"Results!K133","v":"Существует методология управления качеством данных"}]

{"sheet":"Prioritization and roadmap","index":5,"n_rows":73,"n_cols":38,"rows_kept":73,"cut":false,"hidden":false,"merged":[[46,1,48,1],[50,1,58,1],[60,1,66,1],[1,1,3,34],[7,19,7,22],[7,23,7,26],[7,27,7,30],[7,31,7,34],[42,1,44,1],[7,15,7,18],[15,1,19,1],[32,1,34,1],[36,1,40,1],[21,1,30,1]]}
[]
[null,"ПРИОРИТИЗАЦИЯ И ДОРОЖНАЯ КАРТА"]
[]
[]
[]
[]
[]
[null,"ОБЛАСТЬ",null,"МЕРОПРИЯТИЕ",null,"Целевой уровень потенциала",null,"Описание",null,"Начало и приоритетность внедрения мероприятий ",null,"Время начала мероприятия",null,"Продолжительность мероприятия ",null,"Год 1 (например, 2022)",null,null,null,"Год 2 ",null,null,null,"Год 3",null,null,null,"Год 4",null,null,null,"Год 5"]
[null,null,null,null,null,null,null,null,null,null,null,null,null,null,null,"1 кв.","2 кв.","3 кв.","4 кв.","1 кв.","2 кв.","3 кв.","4 кв.","1 кв.","2 кв.","3 кв.","4 кв.","1 кв.","2 кв.","3 кв.","4 кв.","1 кв.","2 кв.","3 кв.","4 кв."]
[null,"Координаторы",null,"ПП-1 \nПредварительное выявление заинтересованных сторон",null,{"$f":"Results!T9","v":"N/A"},null,{"$f":"Results!K9","v":"Во всех участвующих секторах на национальном уровне определены координаторы, «лидеры» или технические рабочие группы для планирования внедрения координированного эпиднадзора"}]
[null,null,null,null,null,null,null,null,null,null,null,null,null,null,null,null,null,null,null,null,null,null,null,null,null,null,null,null,null,null,null,null,null,null,null,null,null,"Год 1-Четв 1, Год 1-Четв 2, Год 1-Четв 3, Год 1-Четв 4,Год 2-Четв 1, Год 2-Четв 2, Год 2-Четв 3, Год 2-Четв 4, Год 3-Четв 1, Год 3-Четв 2, Год 3-Четв 3, Год 3-Четв 4,Год 4-Четв 1,Год 4-Четв 2, Год 4-Четв 3, Год 4-Четв 4, Год 5-Четв 1, Год 5-Четв 2, Год 5-Четв 3, Год 5-Четв 4"]
[null,"Приоритизация",null,"ПП-2\nПриоритизация",null,{"$f":"Results!T13","v":"N/A"},null,{"$f":"Results!K13","v":"Существует список приоритетных зоонозов, подлежащих включению в координированную систему эпиднадзора"}]
[]
[null,"Постановка целей",null,"ПП-3\nПостановка целей",null,{"$f":"Results!T17","v":"N/A"},null,{"$f":"Results!K17","v":"Цель(и), функции и обязанности всех участвующих секторов координированной системы эпиднадзора согласованы на национальном уровне"}]
[]
[null,"Заинтересованные стороны",null,"О-1\nКартирование заинтересованных сторон",null,{"$f":"Results!T21","v":"N/A"},null,{"$f":"Results!K21","v":"Заинтересованные стороны в области эпиднадзора, эпидемиологии, лабораторных исследований и обмена информацией выявлены"}]
[]
[null,null,null,"ПЛ-1\nПолитическая воля",null,{"$f":"Results!T9","v":"N/A"},null,{"$f":"Results!K53","v":"Определены лица, принимающие решения в отношении создания координированной системы эпиднадзора"}]
[]
[null,null,null,"В-2 \nПривлечение кадровых ресурсов и заинтересованных сторон",null,{"$f":"Results!T89","v":"N/A"},null,{"$f":"Results!K89","v":"Координаторы или технические рабочие группы проводят совещания эпизодически"}]
[]
[null,"Планы и организация",null,"О-2\nОценка взаимосвязей в системе эпиднадзора",null,{"$f":"Results!T25","v":"N/A"},null,{"$f":"Results!K25","v":"Оценка взаимосвязей между существующими системами эпиднадзора за приоритетными зоонозами проведена на межотраслевом уровне"}]
[]
[]
[null,null,null,"О-4\nКартирование инфраструктуры",null,{"$f":"Results!T33","v":"N/A"},null,{"$f":"Results!K33","v":"В результате проведения базового картирования инфраструктуры (в соответствие с ТРЗ, гл. 4.1) были описаны структура и взаимосвязи внутри секторов и между ними "}]
[]
[null,null,null,"ПЛ-3\nРамочные документы и стратегические планы по координированному эпиднадзору",null,{"$f":"Results!T61","v":"N/A"},null,{"$f":"Results!K61","v":"В целях планирования проведен межотраслевой сбор и обзор национальных стратегических документов (стратегий, рамочных программ и стратегических планов), относящихся к координированной системе эпиднадзора"}]
[]
[null,null,null,"ПЛ-4\nНациональные планы и протоколы по эпиднадзору (Национальные оперативные планы)",null,{"$f":"Results!T65","v":"N/A"},null,{"$f":"Results!K65","v":"В целях планирования проведен межотраслевой сбор и обзор национальных оперативных планов и других важные документов (включая планы эпиднадзора, определения случаев, протоколы и стандартные операционные процедуры), относящихся к координированной системе эпиднадзора\n"}]
[]
[null,null,null,"В-6\nВнедрение координированной системы эпиднадзора",null,{"$f":"Results!T105","v":"N/A"},null,{"$f":"Results!K105","v":"Запущен пилотный проект координированной системы эпиднадзора в целевых регионах"}]
[]
[null,"Политика и право",null,"О-3\nОценка нормативно-правовой базы",null,{"$f":"Results!T29","v":"N/A"},null,{"$f":"Results!K29","v":"Оценка нормативно-правовой базы (правил, политики, руководящих принципов и положений, включая международные стандарты), регулирующей стандарты этики и конфиденциальности в области эпиднадзора и обмена данными, проведена"}]
[]
[null,null,null,"ПЛ-7\nОбеспечение нормативно-правовой базы",null,{"$f":"Results!T77","v":"N/A"},null,{"$f":"Results!K77","v":"По результатам оценки необходимые нормативно-правовые рамки (правила, стратегии, руководства и положения, включая международные стандарты) стандартизированы во всех секторах на национальном уровне"}]
[]
[null,"Бюджеты и финансы",null,"О-5\nОценка экономических потребностей",null,{"$f":"Results!T37","v":"N/A"},null,{"$f":"Results!K37","v":"Экономические оценки были использованы для определения национальных финансовых потребностей координированной системы эпиднадзора "}]
[]
[null,null,null,"ПЛ-5\nФинансовое планирование",null,{"$f":"Results!T69","v":"N/A"},null,{"$f":"Results!K69","v":"Имеются бюджетный план и механизм распределения средств для осуществления координированного эпиднадзора на национальном уровне"}]
[]
[null,null,null,"В-1\nПривлечение финансовых ресурсов",null,{"$f":"Results!T85","v":"N/A"},null,{"$f":"Results!K85","v":"Имеется финансирование для осуществления координированного эпиднадзора на национальном уровне"}]
[]
[null,"Кадровые ресурсы",null,"О-8\nОценка кадровых ресурсов",null,{"$f":"Results!T49","v":"N/A"},null,{"$f":"Results!K49","v":"Оценки кадровых ресурсов проведены для определения текущих требований, компетенций, потребностей и пробелов в области кадрового потенциала на национальном уровне"}]
[]
[null,null,null,"ПЛ-6\nПланирование в области кадровых ресурсов",null,{"$f":"Results!T73","v":"N/A"},null,{"$f":"Results!K73","v":"План обучения и профессиональной подготовки кадров для координированной системы эпиднадзора разработан на основе оценки кадровых ресурсов на национальном уровне"}]
[]
[null,"Лаборатория",null,"О-6\nОценка лабораторного потенциала",null,{"$f":"Results!T41","v":"N/A"},null,{"$f":"Results!K41","v":"В результате проведения оценок лабораторного потенциала были определены квалифицированные национальные или международные референс-лаборатории, которые могут проводить тестирование для поддержки деятельности в рамках координированного эпиднадзора"}]
[]
[null,null,null,"О-7\nОценка лабораторной логистики и интерпретации результатов исследований",null,{"$f":"Results!T45","v":"N/A"},null,{"$f":"Results!K45","v":"Поставки лабораторных материалов, транспортные цепочки и методы интерпретации результатов оценены на предмет согласования между участвующими секторами на национальном уровне"}]
[]
[null,"Хранение и обмен данными",null,"ПЛ-2\nОбщие элементы данных",null,{"$f":"Results!T57","v":"N/A"},null,{"$f":"Results!K57","v":"В каждом участвующем секторе общие элементы данных для достижения общих аналитических целей координированной системы эпиднадзора определены и согласованы на национальном уровне"}]
[]
[null,null,null,"В-3\nОбмен данными и информацией",null,{"$f":"Results!T93","v":"N/A"},null,{"$f":"Results!K93","v":"Существует механизм обмена данными между секторами на национальном уровне"}]
[]
[null,null,null,"В-4\nХранение данных",null,{"$f":"Results!T97","v":"N/A"},null,{"$f":"Results!K97","v":"Существуют структура и место для хранения и ведения данных, получаемых из различных секторов, на национальном уровне."}]
[]
[null,null,null,"В-5\nМеры по обеспечению конфиденциальности и безопасности данных",null,{"$f":"Results!T101","v":"N/A"},null,{"$f":"Results!K101","v":"Меры по обеспечению конфиденциальности и безопасности данных для защиты данных координированного эпиднадзора применяются на национальном уровне"}]
[]
[null,null,null,"В-7\nОбмен данными",null,{"$f":"Results!T109","v":"N/A"},null,{"$f":"Results!K109","v":"Обмен данными эпиднадзора осуществляется неофициально или официально эпизодически на национальном уровне"}]
[]
[null,"Коммуникация и отчетность",null,"ПЛ-8\nПланирование скоординированной коммуникации",null,{"$f":"Results!T81","v":"N/A"},null,{"$f":"Results!K81","v":"Проведено согласование коммуникационной терминологии и сообщений между всеми секторами, участвующими в координированной системе эпиднадзора на национальном уровне."}]
[]
[null,null,null,"B-8\nКоммуникация и использование данных",null,{"$f":"Results!T113","v":"N/A"},null,{"$f":"Results!K113","v":"Осуществляется эпизодический обмен информацией и коммуникация с соответствующими заинтересованными сторонами"}]
[]
[null,null,null,"B-9\nСоблюдение международных требований в отношении оповещений",null,{"$f":"Results!T117","v":"N/A"},null,{"$f":"Results!K117","v":"Соблюдение международных требований в отношении оповещения обо всех случаях зоонозов"}]
[]
[null,null,null,"B-10\nВизуализация и анализ данных координированного эпиднадзора",null,{"$f":"Results!T121","v":"N/A"},null,{"$f":"Results!K121","v":"Данные координированного эпиднадзора позволяют получить выходные материалы (например: рисунки, графики, отчеты или бюллетени), которые распространяются на национальном уровне"}]
[]
[null,"Имитационные учения",null,"МО-1\nИмитационные учения",null,{"$f":"Results!T125","v":"N/A"},null,{"$f":"Results!K125","v":"Имитационные учения проводятся для оценки эффективности и функциональности координированной системы эпиднадзора на национальном уровне  "}]
[]
[null,"Планирование деятельности по мониторингу и оценке",null,"MO-2\nПланирование деятельности по мониторингу и оценке",null,{"$f":"Results!T129","v":"N/A"},null,{"$f":"Results!K129","v":"Существует план мониторинга и оценки, отвечающий целям координированной системы эпиднадзора"}]
[]
[null,"Стандарты качества данных",null,"МО-3\nСтандарты качества данных ",null,{"$f":"Results!T133","v":"N/A"},null,{"$f":"Results!K133","v":"Существует методология управления качеством данных"}]

{"sheet":"Development plan","index":6,"n_rows":56,"n_cols":13,"rows_kept":56,"cut":false,"hidden":false,"merged":[[46,1,49,1],[7,1,7,12],[10,1,10,12],[17,1,19,1],[27,1,28,1],[1,1,3,12],[30,1,32,1],[34,1,35,1],[37,1,38,1],[40,1,44,1],[21,1,25,1]]}
[]
[null,"ПЛАН РАЗВИТИЯ"]
[]
[]
[]
[null,"ОБЛАСТЬ","МЕРОПРИЯТИЕ","Описание","Выбранные ресурсы и инструменты","Действия","Ведущий сектор и функции/обязанности каждого партнера","Возможные трудности","Время начала мероприятия","Продолжительность мероприятия","Контактное лицо каждого партнера (имя, должность, организация, сектор)","Индикатор для данного требования","Другие замечания"]
[]
[null,"ПРИМЕР"]
[null,"Приоритизация","ПП-2\nПриоритизация","Существует список приоритетных зоонозов, подлежащих включению в координированную систему эпиднадзора","OHZDP","Провести приоритизацию зоонозов (например: посредством проведения семинара по приоритизации зоонозов (OHZDP) в соответствии с подходом «Единое здоровье», организованного центром по контролю и профилактике заболеваний (ЦКПЗ))\n\nПо результатам приоритизации обновить перечни приоритетных заболеваний секторов","Ведущий сектор: Охрана здоровья животных (AH)\nПредставитель сектора «Здравоохранение человека» (HH) свяжется с ЦКПЗ для определения участников от сектора HH. Представитель AH будет координировать логистическое обеспечение и организацию места проведения мероприятия","Для проведения межотраслевого мероприятия могут понадобиться дополнительные средства;\nОбсудить возможность проведения семинара OHZDP с ЦКПЗ.","Год 1-кв. 2\n","1 квартал","Линда Бьянка, директор Службы охраны здоровья животных, Министерство сельского хозяйства\n\nДэн Фишер, директор Службы здравоохранения, Министерство здравоохранения","Мероприятие по приоритизации состоялось; на нем присутствовали все соответствующие секторы\n\nПеречни приоритетных заболеваний обновлены в соответствие с результатами приоритизации для всех секторов"]
[]
[null,"ПЛАН"]
[null,"Координаторы","ПП-1 \nПредварительное выявление заинтересованных сторон",{"$f":"Results!K9","v":"Во всех участвующих секторах на национальном уровне определены координаторы, «лидеры» или технические рабочие группы для планирования внедрения координированного эпиднадзора"},{"$f":"'Resource selection'!J11","v":0},null,null,null,{"$f":"'Prioritization and roadmap'!L10","v":0},{"$f":"'Prioritization and roadmap'!N10","v":0}]
[]
[null,"Приоритизация","ПП-2\nПриоритизация",{"$f":"Results!K13","v":"Существует список приоритетных зоонозов, подлежащих включению в координированную систему эпиднадзора"},{"$f":"'Resource selection'!J13","v":0},null,null,null,{"$f":"'Prioritization and roadmap'!L12","v":0},{"$f":"'Prioritization and roadmap'!N12","v":0}]
[]
[null,"Постановка целей","ПП-3\nПостановка целей",{"$f":"Results!K17","v":"Цель(и), функции и обязанности всех участвующих секторов координированной системы эпиднадзора согласованы на национальном уровне"},{"$f":"'Resource selection'!J15","v":0},null,null,null,{"$f":"'Prioritization and roadmap'!L14","v":0},{"$f":"'Prioritization and roadmap'!N14","v":0}]
[]
[null,"Заинтересованные стороны","О-1\nКартирование заинтересованных сторон",{"$f":"Results!K21","v":"Заинтересованные стороны в области эпиднадзора, эпидемиологии, лабораторных исследований и обмена информацией выявлены"},{"$f":"'Resource selection'!J17","v":0},null,null,null,{"$f":"'Prioritization and roadmap'!L16","v":0},{"$f":"'Prioritization and roadmap'!N16","v":0}]
[null,null,"ПЛ-1\nПолитическая воля",{"$f":"Results!K53","v":"Определены лица, принимающие решения в отношении создания координированной системы эпиднадзора"},{"$f":"'Resource selection'!J19","v":0},null,null,null,{"$f":"'Prioritization and roadmap'!L18","v":0},{"$f":"'Prioritization and roadmap'!N18","v":0}]
[null,null,"В-2 \nПривлечение кадровых ресурсов и заинтересованных сторон",{"$f":"Results!K89","v":"Координаторы или технические рабочие группы проводят совещания эпизодически"},{"$f":"'Resource selection'!J21","v":0},null,null,null,{"$f":"'Prioritization and roadmap'!L20","v":0},{"$f":"'Prioritization and roadmap'!N20","v":0}]
[]
[null,"Планы и организация","О-2\nОценка взаимосвязей в системе эпиднадзора",{"$f":"Results!K25","v":"Оценка взаимосвязей между существующими системами эпиднадзора за приоритетными зоонозами проведена на межотраслевом уровне"},{"$f":"'Resource selection'!J23","v":0},null,null,null,{"$f":"'Prioritization and roadmap'!L22","v":0},{"$f":"'Prioritization and roadmap'!N22","v":0}]
[null,null,"О-4\nКартирование инфраструктуры",{"$f":"Results!K33","v":"В результате проведения базового картирования инфраструктуры (в соответствие с ТРЗ, гл. 4.1) были описаны структура и взаимосвязи внутри секторов и между ними "},{"$f":"'Resource selection'!J26","v":0},null,null,null,{"$f":"'Prioritization and roadmap'!L25","v":0},{"$f":"'Prioritization and roadmap'!N25","v":0}]
[null,null,"ПЛ-3\nРамочные документы и стратегические планы по координированному эпиднадзору",{"$f":"Results!K61","v":"В целях планирования проведен межотраслевой сбор и обзор национальных стратегических документов (стратегий, рамочных программ и стратегических планов), относящихся к координированной системе эпиднадзора"},{"$f":"'Resource selection'!J28","v":0},null,null,null,{"$f":"'Prioritization and roadmap'!L27","v":0},{"$f":"'Prioritization and roadmap'!N27","v":0}]
[null,null,"ПЛ-4\nНациональные планы и протоколы по эпиднадзору (Национальные оперативные планы)",{"$f":"Results!K65","v":"В целях планирования проведен межотраслевой сбор и обзор национальных оперативных планов и других важные документов (включая планы эпиднадзора, определения случаев, протоколы и стандартные операционные процедуры), относящихся к координированной системе эпиднадзора\n"},{"$f":"'Resource selection'!J30","v":0},null,null,null,{"$f":"'Prioritization and roadmap'!L29","v":0},{"$f":"'Prioritization and roadmap'!N29","v":0}]
[null,null,"В-6\nВнедрение координированной системы эпиднадзора",{"$f":"Results!K105","v":"Запущен пилотный проект координированной системы эпиднадзора в целевых регионах"},{"$f":"'Resource selection'!J32","v":0},null,null,null,{"$f":"'Prioritization and roadmap'!L31","v":0},{"$f":"'Prioritization and roadmap'!N31","v":0}]
[]
[null,"Политика и право","О-3\nОценка нормативно-правовой базы",{"$f":"Results!K29","v":"Оценка нормативно-правовой базы (правил, политики, руководящих принципов и положений, включая международные стандарты), регулирующей стандарты этики и конфиденциальности в области эпиднадзора и обмена данными, проведена"},{"$f":"'Resource selection'!J34","v":0},null,null,null,{"$f":"'Prioritization and roadmap'!L33","v":0},{"$f":"'Prioritization and roadmap'!N33","v":0}]
[null,null,"ПЛ-7\nОбеспечение нормативно-правовой базы",{"$f":"Results!K77","v":"По результатам оценки необходимые нормативно-правовые рамки (правила, стратегии, руководства и положения, включая международные стандарты) стандартизированы во всех секторах на национальном уровне"},{"$f":"'Resource selection'!J36","v":0},null,null,null,{"$f":"'Prioritization and roadmap'!L35","v":0},{"$f":"'Prioritization and roadmap'!N35","v":0}]
[]
[null,"Бюджеты и финансы","О-5\nОценка экономических потребностей",{"$f":"Results!K37","v":"Экономические оценки были использованы для определения национальных финансовых потребностей координированной системы эпиднадзора "},{"$f":"'Resource selection'!J38","v":0},null,null,null,{"$f":"'Prioritization and roadmap'!L37","v":0},{"$f":"'Prioritization and roadmap'!N37","v":0}]
[null,null,"ПЛ-5\nФинансовое планирование",{"$f":"Results!K69","v":"Имеются бюджетный план и механизм распределения средств для осуществления координированного эпиднадзора на национальном уровне"},{"$f":"'Resource selection'!J40","v":0},null,null,null,{"$f":"'Prioritization and roadmap'!L39","v":0},{"$f":"'Prioritization and roadmap'!N39","v":0}]
[null,null,"В-1\nПривлечение финансовых ресурсов",{"$f":"Results!K85","v":"Имеется финансирование для осуществления координированного эпиднадзора на национальном уровне"},{"$f":"'Resource selection'!J42","v":0},null,null,null,{"$f":"'Prioritization and roadmap'!L41","v":0},{"$f":"'Prioritization and roadmap'!N41","v":0}]
[]
[null,"Кадровые ресурсы","О-8\nОценка кадровых ресурсов",{"$f":"Results!K49","v":"Оценки кадровых ресурсов проведены для определения текущих требований, компетенций, потребностей и пробелов в области кадрового потенциала на национальном уровне"},{"$f":"'Resource selection'!J44","v":0},null,null,null,{"$f":"'Prioritization and roadmap'!L43","v":0},{"$f":"'Prioritization and roadmap'!N43","v":0}]
[null,null,"ПЛ-6\nПланирование в области кадровых ресурсов",{"$f":"Results!K73","v":"План обучения и профессиональной подготовки кадров для координированной системы эпиднадзора разработан на основе оценки кадровых ресурсов на национальном уровне"},{"$f":"'Resource selection'!J46","v":0},null,null,null,{"$f":"'Prioritization and roadmap'!L45","v":0},{"$f":"'Prioritization and roadmap'!N45","v":0}]
[]
[null,"Лаборатория","О-6\nОценка лабораторного потенциала",{"$f":"Results!K41","v":"В результате проведения оценок лабораторного потенциала были определены квалифицированные национальные или международные референс-лаборатории, которые могут проводить тестирование для поддержки деятельности в рамках координированного эпиднадзора"},{"$f":"'Resource selection'!J48","v":0},null,null,null,{"$f":"'Prioritization and roadmap'!L47","v":0},{"$f":"'Prioritization and roadmap'!N47","v":0}]
[null,null,"О-7\nОценка лабораторной логистики и интерпретации результатов исследований",{"$f":"Results!K45","v":"Поставки лабораторных материалов, транспортные цепочки и методы интерпретации результатов оценены на предмет согласования между участвующими секторами на национальном уровне"},{"$f":"'Resource selection'!J50","v":0},null,null,null,{"$f":"'Prioritization and roadmap'!L49","v":0},{"$f":"'Prioritization and roadmap'!N49","v":0}]
[]
[null,"Хранение и обмен данными","ПЛ-2\nОбщие элементы данных",{"$f":"Results!K57","v":"В каждом участвующем секторе общие элементы данных для достижения общих аналитических целей координированной системы эпиднадзора определены и согласованы на национальном уровне"},{"$f":"'Resource selection'!J52","v":0},null,null,null,{"$f":"'Prioritization and roadmap'!L51","v":0},{"$f":"'Prioritization and roadmap'!N51","v":0}]
[null,null,"В-3\nОбмен данными и информацией",{"$f":"Results!K93","v":"Существует механизм обмена данными между секторами на национальном уровне"},{"$f":"'Resource selection'!J54","v":0},null,null,null,{"$f":"'Prioritization and roadmap'!L53","v":0},{"$f":"'Prioritization and roadmap'!N53","v":0}]
[null,null,"В-4\nХранение данных",{"$f":"Results!K97","v":"Существуют структура и место для хранения и ведения данных, получаемых из различных секторов, на национальном уровне."},{"$f":"'Resource selection'!J56","v":0},null,null,null,{"$f":"'Prioritization and roadmap'!L55","v":0},{"$f":"'Prioritization and roadmap'!N55","v":0}]
[null,null,"В-5\nМеры по обеспечению конфиденциальности и безопасности данных",{"$f":"Results!K101","v":"Меры по обеспечению конфиденциальности и безопасности данных для защиты данных координированного эпиднадзора применяются на национальном уровне"},{"$f":"'Resource selection'!J58","v":0},null,null,null,{"$f":"'Prioritization and roadmap'!L57","v":0},{"$f":"'Prioritization and roadmap'!N57","v":0}]
[null,null,"В-7\nОбмен данными координированного эпиднадзора",{"$f":"Results!K109","v":"Обмен данными эпиднадзора осуществляется неофициально или официально эпизодически на национальном уровне"},{"$f":"'Resource selection'!J60","v":0},null,null,null,{"$f":"'Prioritization and roadmap'!L59","v":0},{"$f":"'Prioritization and roadmap'!N59","v":0}]
[]
[null,"Коммуникация и отчетность","ПЛ-8\nПланирование скоординированной коммуникации",{"$f":"Results!K81","v":"Проведено согласование коммуникационной терминологии и сообщений между всеми секторами, участвующими в координированной системе эпиднадзора на национальном уровне."},{"$f":"'Resource selection'!J62","v":0},null,null,null,{"$f":"'Prioritization and roadmap'!L61","v":0},{"$f":"'Prioritization and roadmap'!N61","v":0}]
[null,null,"B-8\nКоммуникация и обмен информацией",{"$f":"Results!K113","v":"Осуществляется эпизодический обмен информацией и коммуникация с соответствующими заинтересованными сторонами"},{"$f":"'Resource selection'!J64","v":0},null,null,null,{"$f":"'Prioritization and roadmap'!L63","v":0},{"$f":"'Prioritization and roadmap'!N63","v":0}]
[null,null,"B-9\nСоблюдение международных требований в отношении оповещений",{"$f":"Results!K117","v":"Соблюдение международных требований в отношении оповещения обо всех случаях зоонозов"},{"$f":"'Resource selection'!J66","v":0},null,null,null,{"$f":"'Prioritization and roadmap'!L65","v":0},{"$f":"'Prioritization and roadmap'!N65","v":0}]
[null,null,"B-10\nВизуализация и анализ данных координированного эпиднадзора",{"$f":"Results!K121","v":"Данные координированного эпиднадзора позволяют получить выходные материалы (например: рисунки, графики, отчеты или бюллетени), которые распространяются на национальном уровне"},{"$f":"'Resource selection'!J68","v":0},null,null,null,{"$f":"'Prioritization and roadmap'!L67","v":0},{"$f":"'Prioritization and roadmap'!N67","v":0}]
[]
[null,"Имитационные учения","МО-1\nИмитационные учения",{"$f":"Results!K125","v":"Имитационные учения проводятся для оценки эффективности и функциональности координированной системы эпиднадзора на национальном уровне  "},{"$f":"'Resource selection'!J70","v":0},null,null,null,{"$f":"'Prioritization and roadmap'!L69","v":0},{"$f":"'Prioritization and roadmap'!N69","v":0}]
[]
[null,"Планирование деятельности по мониторингу и оценке","MO-2\nПланирование деятельности по мониторингу и оценке",{"$f":"Results!K129","v":"Существует план мониторинга и оценки, отвечающий целям координированной системы эпиднадзора"},{"$f":"'Resource selection'!J72","v":0},null,null,null,{"$f":"'Prioritization and roadmap'!L71","v":0},{"$f":"'Prioritization and roadmap'!N71","v":0}]
[]
[null,"Стандарты качества данных","МО-3\nСтандарты качества данных ",{"$f":"Results!K133","v":"Существует методология управления качеством данных"},{"$f":"'Resource selection'!J74","v":0},null,null,null,{"$f":"'Prioritization and roadmap'!L73","v":0},{"$f":"'Prioritization and roadmap'!N73","v":0}]

{"sheet":"Tools by activity","index":7,"n_rows":108,"n_cols":9,"rows_kept":108,"cut":false,"hidden":false,"merged":[]}
[]
["ПП-1 Координаторы",null,"О-1 Картирование заинтересованных сторон",null,"ПЛ-1 Политическая воля",null,"В-1 Привлечение финансовых ресурсов",null,"МО-1 Имитационные учения"]
[]
["Рамочная программа Африканских ЦКПЗ по надзору на основе сигнальных событий",null,"Руководство для сбора данных о потенциале страны в отношении охраны здоровья в пограничных районах (BHCDG)",null,"Оценка сотрудничества в рамках межотраслевой системы эпиднадзора (ECoSur)",null,"SurvCost: Инструмент для оценки стоимости комплексной системы эпиднадзора и мер реагирования ",null,"Анализ инфраструктуры лабораторной сети (LINA)"]
["Оценка сотрудничества в рамках межотраслевой системы эпиднадзора (ECoSur)",null,"Оценка сотрудничества в рамках межотраслевой системы эпиднадзора (ECoSur)",null,"Комплексная система эпиднадзора и мер реагирования (IDSR)",null,"Инструмент оценки экономической эффективности системы эпиднадзора за бешенством у животных",null,"Инструментарий для картирования и анализа систем «Единое здоровье» (OH-SMART)"]
["Комплексная система эпиднадзора и мер реагирования (IDSR)",null,"Национальный семинар по выстраиванию связей ММСП-ПВС",null,"Методология для анализа законодательства, относящегося к УПП, в продовольственном и сельскохозяйственном секторе",null,"Инструмент расчета затрат для соответствия Международным медико-санитарным правилам (ММСП) (разработка Джорджтаунского университета)",null,"Инструментарий для проведения имитационных учений"]
["Национальный план действий по обеспечению безопасности в области здравоохранения (NAPHS)",null,"Комплексная система эпиднадзора и мер реагирования (IDSR)",null,"Национальный план действий по обеспечению безопасности в области здравоохранения (NAPHS)",null,"Инструментарий для реализации стратегии устойчивого финансирования в рамках концепции «Единое здоровье»",null,"Пакет программного обеспечения для проведения автоматического глобального электронного биомониторинга (SAGES)"]
["Инструмент для оценки требований и готовности к эпиднадзору на основе концепции «Единое здоровье» (OHSRRT)",null,"Национальный план действий по обеспечению безопасности в области здравоохранения (NAPHS)",null,"Сеть для оценки мероприятий на основе концепции «Единое здоровье» (NEOH)",null,"Инструментарий для реализации стратегии устойчивого финансирования в рамках концепции «Единое здоровье»"]
["Анализ политического поля (PFA)",null,"Анализ пробелов ПВС МЭБ",null,"Инструментарий для пропаганды политики «Единое здоровье»",null,null,null,"МО-2 Планирование деятельности по мониторингу и оценке"]
["Инструмент оценки систем здравоохранения на предмет предотвращения приоритетных зоонозов и борьбы с ними в соответствии с подходом «Единое здоровье» (OH-SAPZ)",null,"Инструмент для оценки требований и готовности к эпиднадзору на основе концепции «Единое здоровье» (OHSRRT)",null,"Инструментарий для моделирования политики «Единое здоровье»",null,"В-2 Привлечение кадровых ресурсов"]
[null,null,"Инструментарий для картирования и анализа систем «Единое здоровье» (OH-SMART)",null,"Анализ политического поля (PFA)",null,null,null,"Устойчивость к противомикробным препаратам: руководство для разработки национальных планов действий"]
["ПП-2 Приоритизация",null,"Анализ политического поля (PFA)",null,"Поэтапный подход к ликвидации бешенства (SARE)",null,"Рамочная программа Африканских ЦКПЗ по надзору на основе сигнальных событий",null,"Оценка системы эпиднадзора и мониторинга качества данных Европейского ЦКПЗ — справочник методов и применений "]
["Инструмент Европейского ЦКПЗ для приоритизации угроз инфекционных заболеваний",null,"Поэтапный подход к ликвидации бешенства (SARE)",null,null,null,"Инструментарий для проведения обзора принятых мер после вспышки заболевания",null,"Международные медико-санитарные правила (2005 г.): инструмент ежегодной отчетности государств-участников на основе самооценки (SPAR)"]
["Составление перечня и классификация приоритетных болезней животных, в том числе передаваемых человеку (Phylum)",null,"Рамочная программа по оценке эпиднадзора за здоровьем животных (SERVAL)",null,"ПЛ-2 Общие элементы данных",null,"Инструментарий для создания руководства по управлению",null,"Сеть для оценки мероприятий на основе концепции «Единое здоровье» (NEOH)"]
["Процесс приоритизации зоонозов на основе концепции «Единое здоровье» (OHZDP)",null,"Инструмент оценки систем здравоохранения на предмет предотвращения приоритетных зоонозов и борьбы с ними в соответствии с подходом «Единое здоровье» (OH-SAPZ)",null,null,null,"Инструментарий для обеспечения готовности и планирования ответных действий",null,"Рамочная программа по оценке эпиднадзора за здоровьем животных (SERVAL)"]
["Инструмент оценки систем здравоохранения на предмет предотвращения приоритетных зоонозов и борьбы с ними в соответствии с подходом «Единое здоровье» (OH-SAPZ)",null,null,null,"Оценка сотрудничества в рамках межотраслевой системы эпиднадзора (ECoSur)",null,null,null,"Рамочная программа по оценке эпиднадзора за биозащитой (SurF)"]
[null,null,"О-2 Оценка взаимосвязей в системе эпиднадзора",null,"Рамочная программа для укрепления мер профилактики и борьбы с сибирской язвой ",null,"В-3 Обмен данными и информацией",null,"Онлайн-инструменты для разработки и оценки систем эпиднадзора (SURVTOOLS) "]
[null,null,null,null,"Национальный семинар по выстраиванию связей ММСП-ПВС",null,null,null,"Обновленные руководящие принципы для оценки систем эпиднадзора за здоровьем человека "]
[null,null,"Рамочная программа Африканских ЦКПЗ по надзору на основе сигнальных событий",null,"Комплексная система эпиднадзора и мер реагирования (IDSR)",null,"Инструмент Afyadata"]
["ПП-3 Постановка целей",null,"Оценка системы эпиднадзора и мониторинга качества данных Европейского ЦКПЗ — справочник методов и применений ",null,"Рамочная программа ЕФСА для сбора данных",null,"Районная информационная система здравоохранения, версия 2 (DHIS2) ",null,"МО-3 Стандарты качества данных"]
["Рамочная программа Африканских ЦКПЗ по надзору на основе сигнальных событий",null,"Инструмент ФАО для оценки работы лабораторий и систем надзора за устойчивостью к противомикробным препаратам (ФАО-АТЛАСС)",null,null,null,"Электронная интегрированная система эпиднадзора за болезнями (EIDSS)"]
["Оценка сотрудничества в рамках межотраслевой системы эпиднадзора (ECoSur)",null,"Инструмент ФАО для оценки эффективности эпиднадзора (SET)",null,"ПЛ-3 Стратегические планы и рамочные документы по координированному эпиднадзору",null,"Глобальная информационная система болезней животных (EMPRES-i)",null,"Инструментарий для оценки качества данных (DQR)"]
["Комплексная система эпиднадзора и мер реагирования (IDSR)",null,"Международные медико-санитарные правила (2005 г.): инструмент ежегодной отчетности государств-участников на основе самооценки (SPAR)",null,null,null,"Мобильное приложение EMA-i для обмена данными о болезнях животных",null,"Оценка системы эпиднадзора и мониторинга качества данных Европейского ЦКПЗ — справочник методов и применений "]
["Национальный план действий по обеспечению безопасности в области здравоохранения (NAPHS)",null,null,null,"Рамочная программа Африканских ЦКПЗ по надзору на основе сигнальных событий",null,"Приложение FoodChain-Lab (FCL) ",null,"Рамочная программа для укрепления мер профилактики и борьбы с сибирской язвой "]
["Сеть для оценки мероприятий на основе концепции «Единое здоровье» (NEOH)",null,"О-3 Оценка нормативно-правовой базы",null,"Устойчивость к противомикробным препаратам: руководство для разработки национальных планов действий",null,"Лабораторная информационная менеджмент-система для африканских ветеринарных служб (SILABFA)",null,"Комплексная система эпиднадзора и мер реагирования (IDSR)"]
["Инструмент для оценки требований и готовности к эпиднадзору на основе концепции «Единое здоровье» (OHSRRT)",null,null,null,"Руководство для сбора данных о потенциале страны в отношении охраны здоровья в пограничных районах (BHCDG)",null,"Лабораторная информационная менеджмент-система, облегченная версия (МиниЛИМС)",null,"Рамочная программа по оценке эпиднадзора за здоровьем животных (SERVAL)"]
[null,null,"Устойчивость к противомикробным препаратам: руководство для разработки национальных планов действий",null,"Оценка сотрудничества в рамках межотраслевой системы эпиднадзора (ECoSur)",null,"Инструментарий для обеспечения готовности и планирования ответных действий",null,"Рамочная программа по оценке эпиднадзора за биозащитой (SurF)"]
[null,null,"Оценка сотрудничества в рамках межотраслевой системы эпиднадзора (ECoSur)",null,"Рамочная программа для оценки систем эпиднадзора за здоровьем человека с целью раннего обнаружения вспышек заболеваний ",null,"Приложение для оценки воздействия бешенства и выявления контактных лиц (REACT)",null,"Пакет программного обеспечения для проведения автоматического глобального электронного биомониторинга (SAGES)"]
[null,null,"Инструментарий для создания руководства по управлению",null,"Рамочная программа для укрепления мер профилактики и борьбы с сибирской язвой ",null,"Система анализа и управления мерами эпиднадзора и реагирования на вспышки (SORMAS)",null,"Обновленные руководящие принципы для оценки систем эпиднадзора за здоровьем человека "]
[null,null,"Международные медико-санитарные правила (2005 г.): инструмент ежегодной отчетности государств-участников на основе самооценки (SPAR)",null,"Национальный семинар по выстраиванию связей ММСП-ПВС",null,"Инициатива по выявлению эпидемиологических угроз с использованием открытых источников (EIOS)"]
[null,null,"Методология для анализа законодательства, относящегося к УПП, в продовольственном и сельскохозяйственном секторе",null,"Комплексная система эпиднадзора и мер реагирования (IDSR)",null,"Пакет программного обеспечения для проведения автоматического глобального электронного биомониторинга (SAGES)"]
[null,null,"Инструмент для оценки требований и готовности к эпиднадзору на основе концепции «Единое здоровье» (OHSRRT)",null,"Инструмент совместной внешней оценки (СВО) "]
[null,null,"Анализ политического поля (PFA)",null,"Методология для анализа законодательства, относящегося к УПП, в продовольственном и сельскохозяйственном секторе",null,"В-4 Хранение данных"]
[null,null,"Поэтапный инструмент по искоренению бруцеллеза (STEB)",null,"Национальный план действий по обеспечению безопасности в области здравоохранения (NAPHS)"]
[null,null,"Поэтапный подход к ликвидации бешенства (SARE)",null,"Сеть для оценки мероприятий на основе концепции «Единое здоровье» (NEOH)",null,"Инструмент Afyadata"]
[null,null,"Национальная программа стандартизации системы общественного здравоохранения для повышения ее эффективности (NPHPSP): Инструмент оценки эффективности местной системы общественного здравоохранения (2-я версия)",null,"Анализ пробелов ПВС МЭБ",null,"Районная информационная система здравоохранения, версия 2 (DHIS2) "]
[null,null,null,null,"Разработка стратегического плана на основе концепции «Единое здоровье»",null,"Электронная интегрированная система эпиднадзора за болезнями (EIDSS)"]
[null,null,"О-4 Картирование инфраструктуры",null,"Инструментарий для картирования и анализа систем «Единое здоровье» (OH-SMART)",null,"Лабораторная информационная менеджмент-система для африканских ветеринарных служб (SILABFA)"]
[null,null,null,null,"Поэтапный инструмент по искоренению бруцеллеза (STEB)",null,"Лабораторная информационная менеджмент-система, облегченная версия (МиниЛИМС)"]
[null,null,"Инструмент самооценки информатизации лабораторий (разработка Ассоциации лабораторий общественного здравоохранения (APHL))",null,"Поэтапный подход к ликвидации бешенства (SARE)",null,"Приложение для оценки воздействия бешенства и выявления контактных лиц (REACT)"]
[null,null,"Инструмент оценки информатизации лабораторий (разработка APHL)",null,"Инструмент оценки систем здравоохранения на предмет предотвращения приоритетных зоонозов и борьбы с ними в соответствии с подходом «Единое здоровье» (OH-SAPZ)",null,"Система анализа и управления мерами эпиднадзора и реагирования на вспышки (SORMAS)"]
[null,null,"Оценка сотрудничества в рамках межотраслевой системы эпиднадзора (ECoSur)",null,"Программа ВОЗ «WHO-CHOICE»",null,"Пакет программного обеспечения для проведения автоматического глобального электронного биомониторинга (SAGES)"]
[null,null,"Национальный семинар по выстраиванию связей ММСП-ПВС"]
[null,null,"Анализ инфраструктуры лабораторной сети (LINA)",null,"ПЛ-4 Национальные оперативные планы",null,"В-5 Меры по обеспечению конфиденциальности и безопасности данных"]
[null,null,"Национальный план действий по обеспечению безопасности в области здравоохранения (NAPHS)"]
[null,null,"Сеть для оценки мероприятий на основе концепции «Единое здоровье» (NEOH)",null,"Рамочная программа Африканских ЦКПЗ по надзору на основе сигнальных событий",null,"Инструмент самооценки информатизации лабораторий (разработка Ассоциации лабораторий общественного здравоохранения (APHL))"]
[null,null,"Анализ пробелов ПВС МЭБ",null,"Руководство для сбора данных о потенциале страны в отношении охраны здоровья в пограничных районах (BHCDG)",null,"Районная информационная система здравоохранения, версия 2 (DHIS2) "]
[null,null,"Инструментарий для картирования и анализа систем «Единое здоровье» (OH-SMART)",null,"Оценка системы эпиднадзора и мониторинга качества данных Европейского ЦКПЗ — справочник методов и применений ",null,"Электронная интегрированная система эпиднадзора за болезнями (EIDSS)"]
[null,null,"Анализ политического поля (PFA)",null,"Инструмент эпидемиологического картирования (EMT)",null,"Глобальная информационная система болезней животных (EMPRES-i)"]
[null,null,"Инструментарий для обеспечения готовности и планирования ответных действий",null,"Оценка сотрудничества в рамках межотраслевой системы эпиднадзора (ECoSur)",null,"Лабораторная информационная менеджмент-система для африканских ветеринарных служб (SILABFA)"]
[null,null,"Инструмент оценки систем здравоохранения на предмет предотвращения приоритетных зоонозов и борьбы с ними в соответствии с подходом «Единое здоровье» (OH-SAPZ)",null,"Инструмент ФАО для оценки эффективности эпиднадзора (SET)",null,"Лабораторная информационная менеджмент-система, облегченная версия (МиниЛИМС)"]
[null,null,"Инструмент ВОЗ для оценки качества лабораторий",null,"Рамочная программа для укрепления мер профилактики и борьбы с сибирской язвой ",null,"Приложение для оценки воздействия бешенства и выявления контактных лиц (REACT)"]
[null,null,null,null,"Руководство для разработки планов эпиднадзора за\nболезнями животных\n\n",null,"Система анализа и управления мерами эпиднадзора и реагирования на вспышки (SORMAS)"]
[null,null,"О-5 Оценка экономических потребностей",null,"Национальный семинар по выстраиванию связей ММСП-ПВС",null,"Пакет программного обеспечения для проведения автоматического глобального электронного биомониторинга (SAGES)"]
[null,null,null,null,"Комплексная система эпиднадзора и мер реагирования (IDSR)"]
[null,null,"SurvCost: Инструмент для оценки стоимости комплексной системы эпиднадзора и мер реагирования",null,"Методология для анализа законодательства, относящегося к УПП, в продовольственном и сельскохозяйственном секторе",null,"В-6 Внедрение координированной системы эпиднадзора"]
[null,null,"Инструмент оценки экономической эффективности системы эпиднадзора за бешенством у животных",null,"Национальный план действий по обеспечению безопасности в области здравоохранения (NAPHS)"]
[null,null,"Оценка сотрудничества в рамках межотраслевой системы эпиднадзора (ECoSur)",null,"Инструмент для оценки требований и готовности к эпиднадзору на основе концепции «Единое здоровье» (OHSRRT)",null,"Рамочная программа Африканских ЦКПЗ по надзору на основе сигнальных событий"]
[null,null,"Инструмент расчета затрат для соответствия Международным медико-санитарным правилам (ММСП) (разработка Джорджтаунского университета)",null,"Инструментарий для обеспечения готовности и планирования ответных действий",null,"Инструмент Afyadata"]
[null,null,"Глобальный механизм ликвидации бешенства у собак (GDREP)",null,"Поэтапный подход к ликвидации бешенства (SARE)",null,"Электронная интегрированная система эпиднадзора за болезнями (EIDSS)"]
[null,null,"Национальный план действий по обеспечению безопасности в области здравоохранения (NAPHS)",null,"Рамочная программа по оценке эпиднадзора за здоровьем животных (SERVAL)",null,"Лабораторная информационная менеджмент-система для африканских ветеринарных служб (SILABFA)"]
[null,null,"Сеть для оценки мероприятий на основе концепции «Единое здоровье» (NEOH)",null,"Онлайн-инструменты для разработки и оценки систем эпиднадзора (SURVTOOLS) ",null,"Лабораторная информационная менеджмент-система, облегченная версия (МиниЛИМС)"]
[null,null,"Анализ пробелов ПВС МЭБ",null,null,null,"Анализ инфраструктуры лабораторной сети (LINA)"]
[null,null,"Инструмент для расчета затрат на вспышки болезней животных",null,null,null,"Приложение для оценки воздействия бешенства и выявления контактных лиц (REACT)"]
[null,null,"Инструмент для оценки стоимости программ вакцинации от бешенства ",null,"ПЛ-5 Финансовое планирование",null,"Пакет программного обеспечения для проведения автоматического глобального электронного биомониторинга (SAGES)"]
[null,null,"Рамочная программа по оценке эпиднадзора за здоровьем животных (SERVAL)",null,null,null,"Инструмент для оценки прогресса на пути к ликвидации бешенства (TAPER)"]
[null,null,"Онлайн-инструменты для разработки и оценки систем эпиднадзора (SURVTOOLS) ",null,"Рамочная программа Африканских ЦКПЗ по надзору на основе сигнальных событий"]
[null,null,"Инструментарий для реализации стратегии устойчивого финансирования в рамках концепции «Единое здоровье»",null,"Оценка системы эпиднадзора и мониторинга качества данных Европейского ЦКПЗ — справочник методов и применений ",null,"В-7 Обмен данными эпиднадзора"]
[null,null,"Программа ВОЗ «WHO-CHOICE»",null,"Рамочная программа для укрепления мер профилактики и борьбы с сибирской язвой "]
[null,null,null,null,"Инструмент расчета затрат для соответствия Международным медико-санитарным правилам (ММСП) (разработка Джорджтаунского университета)",null,"Инструмент Afyadata"]
[null,null,"О-6 Оценка лабораторного потенциала",null,"Руководство для разработки планов эпиднадзора за\nболезнями животных\n\n",null,"Районная информационная система здравоохранения, версия 2 (DHIS2) "]
[null,null,null,null,"Комплексная система эпиднадзора и мер реагирования (IDSR)",null,"Электронная интегрированная система эпиднадзора за болезнями (EIDSS)"]
[null,null,"Оценка сотрудничества в рамках межотраслевой системы эпиднадзора (ECoSur)",null,null,null,"Комплексная система эпиднадзора и мер реагирования (IDSR)"]
[null,null,"Инструмент картирования лабораторий ФАО (LMT)",null,"ПЛ-6 Планирование в области кадровых ресурсов",null,"Инструментарий для обеспечения готовности и планирования ответных действий"]
[null,null,"Анализ инфраструктуры лабораторной сети (LINA)",null,null,null,"Приложение для оценки воздействия бешенства и выявления контактных лиц (REACT)"]
[null,null,"Инструмент для оценки сети эпиднадзора (OASIS)",null,"Комплексная система эпиднадзора и мер реагирования (IDSR)",null,"Инициатива по выявлению эпидемиологических угроз с использованием открытых источников (EIOS)"]
[null,null,"Инструмент ВОЗ для оценки качества лабораторий",null,"Глобальный механизм ликвидации бешенства у собак (GDREP)",null,"Пакет программного обеспечения для проведения автоматического глобального электронного биомониторинга (SAGES)"]
[null,null,"Рамочная программа для укрепления мер профилактики и борьбы с сибирской язвой ",null,"Модель компетенций для лидеров/руководителей лабораторий (GLLP)"]
[null,null,"Комплексная система эпиднадзора и мер реагирования (IDSR)",null,null,null,"В-8 Коммуникация и обмен информацией"]
[null,null,"Инструмент совместной внешней оценки (СВО) ",null,"ПЛ-7 Обеспечение нормативно-правовой базы"]
[null,null,"Инструмент оценки систем здравоохранения на предмет предотвращения приоритетных зоонозов и борьбы с ними в соответствии с подходом «Единое здоровье» (OH-SAPZ)",null,null,null,"Инструмент Afyadata"]
[null,null,"Миссия ПВС МЭБ по лабораториям",null,"Стратегии трансграничной межотраслевой коммуникации и координации",null,"Районная информационная система здравоохранения, версия 2 (DHIS2) "]
[null,null,"Инструментарий для обеспечения готовности и планирования ответных действий",null,"Глобальный механизм ликвидации бешенства у собак (GDREP)",null,"Глобальная информационная система болезней животных (EMPRES-i)"]
[null,null,"Поэтапный инструмент по искоренению бруцеллеза (STEB)",null,"Методология для анализа законодательства, относящегося к УПП, в продовольственном и сельскохозяйственном секторе",null,"Комплексная система эпиднадзора и мер реагирования (IDSR)"]
[null,null,"Поэтапный подход к ликвидации бешенства (SARE)",null,"Анализ пробелов ПВС МЭБ",null,"Приложение для оценки воздействия бешенства и выявления контактных лиц (REACT)"]
[null,null,null,null,"Сборник материалов для организации единых пунктов пограничного контроля",null,"Инициатива по выявлению эпидемиологических угроз с использованием открытых источников (EIOS)"]
[null,null,"О-7 Лабораторная логистика и интерпретация результатов исследований",null,"Поэтапный подход к ликвидации бешенства (SARE)"]
[null,null,null,null,null,null,"В-9 Международные требования в отношении оповещений"]
[null,null,"Инструмент оценки информатизации лабораторий (разработка APHL)",null,"ПЛ-8 Планирование скоординированной коммуникации"]
[null,null,"Оценка сотрудничества в рамках межотраслевой системы эпиднадзора (ECoSur)",null,null,null,"Мобильное приложение EMA-i для обмена данными о болезнях животных"]
[null,null,"Анализ инфраструктуры лабораторной сети (LINA)",null,"Стратегии трансграничной межотраслевой коммуникации и координации",null,"Комплексная система эпиднадзора и мер реагирования (IDSR)"]
[null,null,"Анализ пробелов ПВС МЭБ",null,"Глоссарий Общеевропейской программы «Единое здоровье» (OHEJP)",null,"Инструмент совместной внешней оценки (СВО) "]
[null,null,"Инструментарий для обеспечения готовности и планирования ответных действий",null,"Кодекс по эпиднадзору на основе концепции «Единое здоровье» (OHS) ",null,"Приложение для получения оповещений от ВАХИС МЭБ (OIE WAHIS Alerts)"]
[null,null,"Инструмент для оценки сети эпиднадзора (OASIS)",null,"Инструментарий для обеспечения готовности и планирования ответных действий"]
[null,null,null,null,null,null,"В-10 Визуализация и анализ данных координированного эпиднадзора"]
[null,null,"О-8 Оценка кадровых ресурсов"]
[null,null,null,null,null,null,"Инструмент Afyadata"]
[null,null,"Рамочная программа Африканских ЦКПЗ по надзору на основе сигнальных событий",null,null,null,"Районная информационная система здравоохранения, версия 2 (DHIS2) "]
[null,null,"Руководство для сбора данных о потенциале страны в отношении охраны здоровья в пограничных районах (BHCDG)",null,null,null,"Электронная интегрированная система эпиднадзора за болезнями (EIDSS)"]
[null,null,"Руководящие принципы в отношении уровня компетенции специалистов, работающих в лабораториях общественного здравоохранения: ЦКПЗ и Ассоциация лабораторий общественного здравоохранения",null,null,null,"Приложение FoodChain-Lab (FCL) "]
[null,null,"Инструмент эпидемиологического картирования (EMT)",null,null,null,"Комплексная система эпиднадзора и мер реагирования (IDSR)"]
[null,null,"Оценка сотрудничества в рамках межотраслевой системы эпиднадзора (ECoSur)",null,null,null,"Анализ инфраструктуры лабораторной сети (LINA)"]
[null,null,"Глобальный механизм ликвидации бешенства у собак (GDREP)",null,null,null,"Приложение для получения оповещений от ВАХИС МЭБ (OIE WAHIS Alerts)"]
[null,null,"Комплексная система эпиднадзора и мер реагирования (IDSR)",null,null,null,"Приложение для оценки воздействия бешенства и выявления контактных лиц (REACT)"]
[null,null,"Модель компетенций для лидеров/руководителей лабораторий (GLLP)",null,null,null,"Система анализа и управления мерами эпиднадзора и реагирования на вспышки (SORMAS)"]
[null,null,"Национальный план действий по обеспечению безопасности в области здравоохранения (NAPHS)",null,null,null,"Пакет программного обеспечения для проведения автоматического глобального электронного биомониторинга (SAGES)"]
[null,null,"Инструментарий для картирования и анализа систем «Единое здоровье» (OH-SMART)"]
[null,null,"Инструмент для оценки сети эпиднадзора (OASIS)"]

{"sheet":"Backbone","index":8,"n_rows":691,"n_cols":20,"rows_kept":691,"cut":false,"hidden":false,"merged":[[685,9,690,9],[685,10,690,10],[685,11,690,11],[685,12,690,12],[685,13,690,13],[685,14,690,14],[685,15,690,15],[685,16,690,16],[685,17,690,17],[685,18,690,18],[676,12,678,12],[679,10,681,10],[679,11,681,11],[679,12,681,12],[679,13,681,13],[679,14,681,14],[676,14,678,14],[676,15,678,15],[676,16,678,16],[676,17,678,17],[676,18,678,18],[682,9,683,9],[682,10,683,10],[682,11,683,11],[682,12,683,12],[682,13,683,13],[682,14,683,14],[682,15,683,15],[682,16,683,16],[682,17,683,17],[682,18,683,18],[679,15,681,15],[679,16,681,16],[676,13,678,13],[647,9,673,9],[647,10,673,10],[647,11,673,11],[647,12,673,12],[647,13,673,13],[647,14,673,14],[682,6,683,6],[679,17,681,17],[679,18,681,18],[674,12,675,12],[674,13,675,13],[674,14,675,14],[674,15,675,15],[674,16,675,16],[674,17,675,17],[674,18,675,18],[676,6,678,6],[676,7,678,7],[676,8,678,8],[676,9,678,9],[676,10,678,10],[676,11,678,11],[647,15,673,15],[647,16,673,16],[647,17,673,17],[647,18,673,18],[682,7,683,7],[682,8,683,8],[674,9,675,9],[674,10,675,10],[674,11,675,11],[679,9,681,9],[623,14,626,14],[623,15,626,15],[623,16,626,16],[623,17,626,17],[623,18,626,18],[627,16,632,16],[627,6,632,6],[627,7,632,7],[627,8,632,8],[627,9,632,9],[627,10,632,10],[627,11,632,11],[627,12,632,12],[627,13,632,13],[627,14,632,14],[627,15,632,15],[642,6,646,6],[642,7,646,7],[642,8,646,8],[642,9,646,9],[642,10,646,10],[642,11,646,11],[642,12,646,12],[642,13,646,13],[642,14,646,14],[642,15,646,15],[642,16,646,16],[642,17,646,17],[623,13,626,13],[633,11,641,11],[674,0,675,0],[676,0,678,0],[676,1,678,1],[679,0,681,0],[679,1,681,1],[682,0,683,0],[682,1,683,1],[685,0,690,0],[685,1,686,1],[688,1,690,1],[623,6,626,6],[623,7,626,7],[623,8,626,8],[647,6,673,6],[647,7,673,7],[647,8,673,8],[674,6,675,6],[674,7,675,7],[674,8,675,8],[679,6,681,6],[679,7,681,7],[679,8,681,8],[685,6,690,6],[685,7,690,7],[685,8,690,8],[623,0,626,0],[623,1,624,1],[625,1,626,1],[627,0,632,0],[627,1,631,1],[633,6,641,6],[633,7,641,7],[642,0,646,0],[642,1,643,1],[644,1,646,1],[647,0,673,0],[647,1,650,1],[651,1,660,1],[661,1,668,1],[664,2,665,2],[669,1,673,1],[556,0,559,0],[597,0,602,0],[597,1,602,1],[594,0,596,0],[594,1,596,1],[575,2,576,2],[627,17,632,17],[627,18,632,18],[633,8,641,8],[633,9,641,9],[633,10,641,10],[633,12,641,12],[633,13,641,13],[633,14,641,14],[633,15,641,15],[633,16,641,16],[633,17,641,17],[633,18,641,18],[642,18,646,18],[623,9,626,9],[623,10,626,10],[623,11,626,11],[623,12,626,12],[412,10,413,10],[412,11,413,11],[412,12,413,12],[412,13,413,13],[412,2,413,2],[412,0,413,0],[591,10,593,10],[591,11,593,11],[578,0,590,0],[578,1,590,1],[578,2,580,2],[578,6,590,6],[630,2,631,2],[597,6,602,6],[597,7,602,7],[594,9,596,9],[594,10,596,10],[594,6,596,6],[594,7,596,7],[594,8,596,8],[597,9,602,9],[597,10,602,10],[560,9,565,9],[597,11,602,11],[560,11,565,11],[560,12,565,12],[560,13,565,13],[539,0,550,0],[521,11,529,11],[574,0,577,0],[574,6,577,6],[574,7,577,7],[633,0,641,0],[633,1,641,1],[636,2,638,2],[412,18,413,18],[412,15,413,15],[412,16,413,16],[412,17,413,17],[556,16,559,16],[556,17,559,17],[551,8,555,8],[551,9,555,9],[570,13,572,13],[591,13,593,13],[591,0,593,0],[591,6,593,6],[591,7,593,7],[592,1,593,1],[592,2,593,2],[594,11,596,11],[594,12,596,12],[594,13,596,13],[570,14,572,14],[570,15,572,15],[570,16,572,16],[570,17,572,17],[570,18,572,18],[597,12,602,12],[597,13,602,13],[594,15,596,15],[594,16,596,16],[594,17,596,17],[594,18,596,18],[603,14,622,14],[603,15,622,15],[597,2,599,2],[591,8,593,8],[591,9,593,9],[539,15,550,15],[539,16,550,16],[539,17,550,17],[530,16,538,16],[530,17,538,17],[399,12,411,12],[399,13,411,13],[399,14,411,14],[399,15,411,15],[399,16,411,16],[399,17,411,17],[509,16,515,16],[509,17,515,17],[509,10,515,10],[509,11,515,11],[509,12,515,12],[509,13,515,13],[509,14,515,14],[539,9,550,9],[539,10,550,10],[539,11,550,11],[539,12,550,12],[539,13,550,13],[412,6,413,6],[412,7,413,7],[412,8,413,8],[412,9,413,9],[412,14,413,14],[570,0,573,0],[570,1,573,1],[566,9,569,9],[566,10,569,10],[556,15,559,15],[412,1,413,1],[603,16,622,16],[603,17,622,17],[603,18,622,18],[603,8,622,8],[603,9,622,9],[603,10,622,10],[603,11,622,11],[603,12,622,12],[603,13,622,13],[600,2,602,2],[591,12,593,12],[594,14,596,14],[603,0,622,0],[603,1,622,1],[603,6,622,6],[603,7,622,7],[597,14,602,14],[597,15,602,15],[597,16,602,16],[597,17,602,17],[597,18,602,18],[597,8,602,8],[574,17,577,17],[570,6,572,6],[578,7,590,7],[581,2,583,2],[585,2,587,2],[588,2,590,2],[578,14,590,14],[578,15,590,15],[578,16,590,16],[591,18,593,18],[566,18,569,18],[578,17,590,17],[578,18,590,18],[578,8,590,8],[578,9,590,9],[578,10,590,10],[578,11,590,11],[578,12,590,12],[578,13,590,13],[591,14,593,14],[591,15,593,15],[591,16,593,16],[591,17,593,17],[574,18,577,18],[575,1,576,1],[570,10,572,10],[566,15,569,15],[570,11,572,11],[570,12,572,12],[566,16,569,16],[570,7,572,7],[566,17,569,17],[570,9,572,9],[556,18,559,18],[560,0,565,0],[560,1,565,1],[560,6,565,6],[560,7,565,7],[560,8,565,8],[556,9,559,9],[556,10,559,10],[556,11,559,11],[556,12,559,12],[556,13,559,13],[556,14,559,14],[560,18,565,18],[566,11,569,11],[566,12,569,12],[566,13,569,13],[566,14,569,14],[566,0,569,0],[566,1,567,1],[566,2,567,2],[566,6,569,6],[566,7,569,7],[566,8,569,8],[560,15,565,15],[560,16,565,16],[560,17,565,17],[560,10,565,10],[560,14,565,14],[570,8,572,8],[551,16,555,16],[551,17,555,17],[551,18,555,18],[552,2,554,2],[556,1,559,1],[556,6,559,6],[556,7,559,7],[556,8,559,8],[551,10,555,10],[551,11,555,11],[551,12,555,12],[551,13,555,13],[551,14,555,14],[551,15,555,15],[551,0,555,0],[551,1,554,1],[551,6,555,6],[551,7,555,7],[539,1,550,1],[539,6,550,6],[539,7,550,7],[539,8,550,8],[530,18,538,18],[530,10,538,10],[530,11,538,11],[530,12,538,12],[530,13,538,13],[530,14,538,14],[530,15,538,15],[530,0,538,0],[530,1,538,1],[530,6,538,6],[530,7,538,7],[530,8,538,8],[530,9,538,9],[539,18,550,18],[539,14,550,14],[521,14,529,14],[521,15,529,15],[521,0,529,0],[521,1,529,1],[521,6,529,6],[521,7,529,7],[521,8,529,8],[521,9,529,9],[516,18,520,18],[519,1,520,1],[519,2,520,2],[516,9,520,9],[516,10,520,10],[516,11,520,11],[516,12,520,12],[516,13,520,13],[516,14,520,14],[516,0,520,0],[516,1,518,1],[516,2,518,2],[516,6,520,6],[516,7,520,7],[516,8,520,8],[521,16,529,16],[521,17,529,17],[516,16,520,16],[516,17,520,17],[521,18,529,18],[521,12,529,12],[521,13,529,13],[516,15,520,15],[521,10,529,10],[509,15,515,15],[509,0,515,0],[509,1,512,1],[509,6,515,6],[509,7,515,7],[509,8,515,8],[509,9,515,9],[482,0,487,0],[482,1,485,1],[482,2,483,2],[482,6,487,6],[482,7,487,7],[482,8,487,8],[488,15,508,15],[488,16,508,16],[488,17,508,17],[488,18,508,18],[482,11,487,11],[482,12,487,12],[482,13,487,13],[482,14,487,14],[509,18,515,18],[513,1,515,1],[452,15,480,15],[452,16,480,16],[452,17,480,17],[452,18,480,18],[452,8,480,8],[452,9,480,9],[452,10,480,10],[452,11,480,11],[452,12,480,12],[452,13,480,13],[482,15,487,15],[482,16,487,16],[482,17,487,17],[482,18,487,18],[484,2,485,2],[482,9,487,9],[482,10,487,10],[461,2,462,2],[463,2,465,2],[466,1,480,1],[466,2,468,2],[469,2,471,2],[472,2,474,2],[475,2,477,2],[478,2,480,2],[452,14,480,14],[488,9,508,9],[488,10,508,10],[488,11,508,11],[488,12,508,12],[488,13,508,13],[488,14,508,14],[488,0,508,0],[488,1,504,1],[488,6,508,6],[488,7,508,7],[488,8,508,8],[505,1,508,1],[446,8,448,8],[446,9,448,9],[446,10,448,10],[446,11,448,11],[446,12,448,12],[446,13,448,13],[444,15,445,15],[444,16,445,16],[444,17,445,17],[444,18,445,18],[449,15,451,15],[449,16,451,16],[449,17,451,17],[449,18,451,18],[452,0,480,0],[452,1,465,1],[452,2,453,2],[452,6,480,6],[452,7,480,7],[449,9,451,9],[449,10,451,10],[449,11,451,11],[449,12,451,12],[449,13,451,13],[449,14,451,14],[449,0,451,0],[449,1,451,1],[449,6,451,6],[449,7,451,7],[449,8,451,8],[454,2,456,2],[457,2,458,2],[439,2,440,2],[436,9,443,9],[436,10,443,10],[436,11,443,11],[436,12,443,12],[436,13,443,13],[436,14,443,14],[434,16,435,16],[434,17,435,17],[434,18,435,18],[446,0,448,0],[446,1,447,1],[446,2,447,2],[446,6,448,6],[446,7,448,7],[444,9,445,9],[444,10,445,10],[444,11,445,11],[444,12,445,12],[444,13,445,13],[444,14,445,14],[444,0,445,0],[444,1,445,1],[444,2,445,2],[444,6,445,6],[444,7,445,7],[444,8,445,8],[446,14,448,14],[446,15,448,15],[446,16,448,16],[446,17,448,17],[446,18,448,18],[436,0,443,0],[436,1,438,1],[436,2,438,2],[436,6,443,6],[436,7,443,7],[436,8,443,8],[434,10,435,10],[434,11,435,11],[434,12,435,12],[434,13,435,13],[434,14,435,14],[434,15,435,15],[432,15,433,15],[432,16,433,16],[432,17,433,17],[432,18,433,18],[434,0,435,0],[434,6,435,6],[434,7,435,7],[434,8,435,8],[434,9,435,9],[432,9,433,9],[432,10,433,10],[432,11,433,11],[432,12,433,12],[432,13,433,13],[432,14,433,14],[436,15,443,15],[436,16,443,16],[436,17,443,17],[436,18,443,18],[439,1,442,1],[429,15,431,15],[429,16,431,16],[429,17,431,17],[429,18,431,18],[432,0,433,0],[432,1,433,1],[432,6,433,6],[432,7,433,7],[432,8,433,8],[429,9,431,9],[429,10,431,10],[429,11,431,11],[429,12,431,12],[429,13,431,13],[429,14,431,14],[429,0,431,0],[429,1,430,1],[429,6,431,6],[429,7,431,7],[429,8,431,8],[429,2,430,2],[426,14,428,14],[426,15,428,15],[426,16,428,16],[426,17,428,17],[426,18,428,18],[426,8,428,8],[426,9,428,9],[426,10,428,10],[426,11,428,11],[426,12,428,12],[426,13,428,13],[424,1,425,1],[426,0,428,0],[426,1,428,1],[426,2,428,2],[426,6,428,6],[426,7,428,7],[419,14,425,14],[419,15,425,15],[419,16,425,16],[419,17,425,17],[419,18,425,18],[419,8,425,8],[419,9,425,9],[419,10,425,10],[419,11,425,11],[419,12,425,12],[419,13,425,13],[414,15,416,15],[414,16,416,16],[414,17,416,17],[414,18,416,18],[419,0,425,0],[419,1,423,1],[419,2,420,2],[419,6,425,6],[419,7,425,7],[414,9,416,9],[414,10,416,10],[414,11,416,11],[414,12,416,12],[414,13,416,13],[414,14,416,14],[414,0,416,0],[414,1,416,1],[414,2,416,2],[414,6,416,6],[414,7,416,7],[414,8,416,8],[395,16,398,16],[395,17,398,17],[395,18,398,18],[397,2,398,2],[399,1,402,1],[395,10,398,10],[395,11,398,11],[395,12,398,12],[395,13,398,13],[395,14,398,14],[395,15,398,15],[395,0,398,0],[395,1,398,1],[395,6,398,6],[395,7,398,7],[395,8,398,8],[395,9,398,9],[399,18,411,18],[399,0,411,0],[400,2,402,2],[403,1,410,1],[403,2,404,2],[405,2,407,2],[409,2,410,2],[399,6,411,6],[399,7,411,7],[399,8,411,8],[399,9,411,9],[399,10,411,10],[399,11,411,11],[366,16,381,16],[366,17,381,17],[366,18,381,18],[366,8,381,8],[366,9,381,9],[366,10,381,10],[366,11,381,11],[366,12,381,12],[366,13,381,13],[382,16,393,16],[382,17,393,17],[382,18,393,18],[383,1,390,1],[383,2,385,2],[386,2,388,2],[389,2,390,2],[391,1,393,1],[372,2,374,2],[376,2,378,2],[382,15,393,15],[379,2,381,2],[382,10,393,10],[382,11,393,11],[382,12,393,12],[382,13,393,13],[382,14,393,14],[366,1,371,1],[366,2,368,2],[366,6,378,6],[366,7,381,7],[369,2,371,2],[372,1,381,1],[350,0,365,0],[350,1,365,1],[350,6,365,6],[345,10,349,10],[345,11,349,11],[345,12,349,12],[345,13,349,13],[345,14,349,14],[345,15,349,15],[345,0,349,0],[345,1,349,1],[345,6,349,6],[345,7,349,7],[345,8,349,8],[345,9,349,9],[364,2,365,2],[382,0,393,0],[382,6,393,6],[382,7,393,7],[382,8,393,8],[382,9,393,9],[366,14,381,14],[366,15,381,15],[366,0,381,0],[331,18,344,18],[332,1,340,1],[332,2,333,2],[334,2,335,2],[336,2,338,2],[339,2,340,2],[341,1,342,1],[331,10,344,10],[331,11,344,11],[331,12,344,12],[331,13,344,13],[331,14,344,14],[331,15,344,15],[328,2,330,2],[323,1,330,1],[325,2,327,2],[350,17,365,17],[350,18,365,18],[351,2,353,2],[354,2,355,2],[356,2,357,2],[358,2,360,2],[361,2,363,2],[345,16,349,16],[345,17,349,17],[345,18,349,18],[346,2,348,2],[331,0,344,0],[331,6,344,6],[331,7,344,7],[331,8,344,8],[331,9,344,9],[341,2,342,2],[343,1,344,1],[302,16,330,16],[302,17,330,17],[302,18,330,18],[305,1,322,1],[306,2,308,2],[309,2,311,2],[312,2,313,2],[314,2,315,2],[316,2,317,2],[302,10,330,10],[302,11,330,11],[302,12,330,12],[302,13,330,13],[302,14,330,14],[302,15,330,15],[302,0,330,0],[302,1,304,1],[302,6,330,6],[302,7,330,7],[302,8,330,8],[302,9,330,9],[318,2,319,2],[321,2,322,2],[331,16,344,16],[331,17,344,17],[295,16,301,16],[295,17,301,17],[295,18,301,18],[296,1,301,1],[295,10,301,10],[295,11,301,11],[295,12,301,12],[295,13,301,13],[295,14,301,14],[295,15,301,15],[290,16,294,16],[290,17,294,17],[290,18,294,18],[291,1,294,1],[295,0,301,0],[295,6,301,6],[295,7,301,7],[295,8,301,8],[295,9,301,9],[290,10,294,10],[290,11,294,11],[290,12,294,12],[290,13,294,13],[290,14,294,14],[290,15,294,15],[287,17,289,17],[287,18,289,18],[290,0,294,0],[290,6,294,6],[290,7,294,7],[290,8,294,8],[290,9,294,9],[287,9,289,9],[287,10,289,10],[287,11,289,11],[287,12,289,12],[287,13,289,13],[287,14,289,14],[287,0,289,0],[287,1,289,1],[287,2,289,2],[287,6,289,6],[287,7,289,7],[287,8,289,8],[273,2,275,2],[276,2,278,2],[270,9,286,9],[270,10,286,10],[270,11,286,11],[270,12,286,12],[270,13,286,13],[270,14,286,14],[270,0,286,0],[270,1,284,1],[270,2,272,2],[270,6,286,6],[270,7,286,7],[270,8,286,8],[285,1,286,1],[287,15,289,15],[287,16,289,16],[267,15,269,15],[267,16,269,16],[267,17,269,17],[267,18,269,18],[267,8,269,8],[267,9,269,9],[267,10,269,10],[267,11,269,11],[267,12,269,12],[267,13,269,13],[264,15,266,15],[264,16,266,16],[264,17,266,17],[264,18,266,18],[270,15,286,15],[270,16,286,16],[270,17,286,17],[270,18,286,18],[267,0,269,0],[267,1,269,1],[267,2,269,2],[267,6,269,6],[267,7,269,7],[264,9,266,9],[264,10,266,10],[264,11,266,11],[264,12,266,12],[264,13,266,13],[264,14,266,14],[264,0,266,0],[264,1,265,1],[264,2,265,2],[264,6,266,6],[264,7,266,7],[264,8,266,8],[267,14,269,14],[255,14,263,14],[255,15,263,15],[255,16,263,16],[255,17,263,17],[255,18,263,18],[255,8,263,8],[255,9,263,9],[255,10,263,10],[255,11,263,11],[255,12,263,12],[255,13,263,13],[249,1,254,1],[249,2,251,2],[252,2,254,2],[255,0,263,0],[255,6,263,6],[255,7,263,7],[256,1,261,1],[238,15,254,15],[238,16,254,16],[238,17,254,17],[238,18,254,18],[241,2,243,2],[244,2,245,2],[246,2,248,2],[238,9,254,9],[238,10,254,10],[238,11,254,11],[238,12,254,12],[238,13,254,13],[238,14,254,14],[194,12,232,12],[194,13,232,13],[194,14,232,14],[194,15,232,15],[194,16,232,16],[194,17,232,17],[194,6,232,6],[194,7,232,7],[233,18,237,18],[235,1,236,1],[235,2,236,2],[238,0,254,0],[238,1,248,1],[238,2,240,2],[238,6,254,6],[238,7,254,7],[238,8,254,8],[233,12,237,12],[233,13,237,13],[233,14,237,14],[233,15,237,15],[233,16,237,16],[233,17,237,17],[233,6,237,6],[233,7,237,7],[233,8,237,8],[233,9,237,9],[233,10,237,10],[233,11,237,11],[233,0,237,0],[233,1,234,1],[233,2,234,2],[190,1,192,1],[190,2,192,2],[194,0,232,0],[194,1,198,1],[194,2,196,2],[218,2,219,2],[220,1,229,1],[183,14,192,14],[183,15,192,15],[183,16,192,16],[183,17,192,17],[183,18,192,18],[194,8,232,8],[194,9,232,9],[194,10,232,10],[194,11,232,11],[183,8,192,8],[183,9,192,9],[183,10,192,10],[183,11,192,11],[183,12,192,12],[183,13,192,13],[230,1,232,1],[194,18,232,18],[197,2,198,2],[199,1,206,1],[199,2,201,2],[203,2,204,2],[207,1,219,1],[209,2,211,2],[212,2,214,2],[215,2,217,2],[178,16,181,16],[178,17,181,17],[178,18,181,18],[179,2,181,2],[183,0,192,0],[183,1,189,1],[183,2,184,2],[183,6,192,6],[183,7,192,7],[178,10,181,10],[178,11,181,11],[178,12,181,12],[178,13,181,13],[178,14,181,14],[178,15,181,15],[175,16,177,16],[175,17,177,17],[175,18,177,18],[178,0,181,0],[178,1,181,1]],"merged_total":1322,"flags":["merged_cut"]}
["НАЗВАНИЕ РЕСУРСА","Область","Месторасположение в инструменте","Описание","Уровень\nУ1-Уровень 1\nУ2-Уровень 2\nУ3-Уровень 3","Наиболее подходящие или Другие полезные ресурсы","Статус","Доступность","Язык","Простота использования","Гибкость","Потребности в данных","Анализ данных","Приемлемость","«Единое здоровье»","Воздействие","ОЦЕНКА","Вид ресурса","Общая направленность ресурса"]
["Рамочная программа Африканских ЦКПЗ по надзору на основе сигнальных событий","Предварительное планирование","ПП-1.1","Во всех участвующих секторах на национальном уровне определены координаторы, «лидеры» или технические рабочие группы для планирования внедрения координированного эпиднадзора","У1","ДРУГОЕ ","PASS",8,6,8.1999999999999993,8.3000000000000007,6.1,3.5,4,7,6,0.63222222222222224,"Руководящий документ","«Единое здоровье»; универсальный "]
[null,null,"ПП-3.1","Цель(и), функции и обязанности всех участвующих секторов координированной системы эпиднадзора согласованы на национальном уровне","У1","ДРУГОЕ "]
[null,null,null,"Цель(и), функции и обязанности всех участвующих секторов координированной системы эпиднадзора согласованы и охватывают все уровни в стране","У2","ДРУГОЕ "]
[null,null,null,"Цель(и), функции и обязанности в рамках координированной системы эпиднадзора пересмотрены для учета текущих потребностей координированной системы эпиднадзора ","У3","ДРУГОЕ "]
[null,"Оценка","О-2.1","Оценка взаимосвязей между существующими системами эпиднадзора за приоритетными зоонозами проведена на межотраслевом уровне","У1","ДРУГОЕ "]
[null,null,"О-3.2","Существующие планы эпиднадзора (включая определения случаев, протоколы и стандартные операционные процедуры), относящиеся к координированной системе эпиднадзора, оценены на предмет их возможной консолидации и объединения на национальном уровне","У1","ДРУГОЕ "]
[null,null,null,"Существующие планы эпиднадзора (включая определения случаев, протоколы и стандартные операционные процедуры), относящиеся к координированной системе эпиднадзора, оценены на предмет их возможной консолидации и объединения на всех уровнях в стране","У3","ДРУГОЕ "]
[null,null,"О-6.1","Оценка кадровых ресурсов проведена для определения текущих требований, компетенций, потребностей и пробелов в области кадрового потенциала на всех уровнях в стране","У3","ДРУГОЕ "]
[null,"Планирование","PLG","Н/П","Н/П","Н/П"]
[null,null,"ПЛ-3.1","В целях планирования проведен межотраслевой обзор национальных рамочных программ и стратегических планов, относящихся к координированной системе эпиднадзора.","У1","ДРУГОЕ "]
[null,null,null,"Рамочные программы и стратегические планы по координированной системе эпиднадзора сведены воедино и согласованы на основе результатов оценки на всех уровнях в стране","У2","ДРУГОЕ "]
[null,null,"ПЛ-3.2","В целях планирования проведен межотраслевой обзор национальных планов эпиднадзора (включая оперативные планы/планы действий, определения случаев, протоколы и стандартные операционные процедуры), относящихся к координированной системе эпиднадзора.","У1","ДРУГОЕ "]
[null,null,null,"Планы эпиднадзора (включая оперативные планы/планы действий, определения случаев, протоколы и стандартные операционные процедуры) по координированной системе эпиднадзора сведены воедино и согласованы в целях обмена данными на всех уровнях в стране","У2","ДРУГОЕ "]
[null,"Внедрение","B-2.1","Координаторы или технические рабочие группы проводят совещания эпизодически","У1","ДРУГОЕ "]
[null,null,"B-2.1","Координаторы или технические рабочие группы встречаются на регулярной основе и для решения приоритетных вопросов по мере их возникновения","У2","ДРУГОЕ "]
[null,null,"B-2.1","Технические рабочие группы регулярно проводят обзоры мероприятий по координированному эпиднадзору и ее оптимизацию ","У3","ДРУГОЕ "]
[null,null,"В-4.1","Запущен пилотный проект координированной системы эпиднадзора в целевых регионах","У1","ДРУГОЕ "]
[null,null,"В-4.1","Координированная система эпиднадзора расширена до дополнительных областей исходя из пилотных внедрений","У2","ДРУГОЕ "]
[null,null,"В-4.1","Координированная системы эпиднадзора является общегосударственной программой","У3","ДРУГОЕ "]
["Инструмент AfyaData","Внедрение","B-3.1 \n","Существует механизм обмена данными между секторами на национальном уровне","У1","НАИБОЛЕЕ ПОДХОДЯЩИЙ","PASS",7.3,10,8.1999999999999993,7.3,7.6,8.8000000000000007,5.5,7.6,7,{"$f":"SUM(H21:P21)/90","v":0.77000000000000013},"Оборудование или программное обеспечение","«Единое здоровье»; универсальный "]
[null,null,"B-3.1 \n","Существует механизм обмена данными между секторами на всех страновых уровнях","У2","НАИБОЛЕЕ ПОДХОДЯЩИЙ",null,7.3,10,8.1999999999999993,7.3,7.6,8.8000000000000007,5.5,7.6,7,0.77000000000000013]
[null,null,"B-3.2\n","Существуют структура и место для хранения и ведения данных, получаемых из различных секторов, на национальном уровне.","У1","НАИБОЛЕЕ ПОДХОДЯЩИЙ",null,7.3,10,8.1999999999999993,7.3,7.6,8.8000000000000007,5.5,7.6,7,0.77000000000000013]
[null,null,"B-3.2\n","Существуют структура и место для хранения и ведения данных, получаемых из различных секторов, на всех уровнях в стране","У2","НАИБОЛЕЕ ПОДХОДЯЩИЙ",null,7.3,10,8.1999999999999993,7.3,7.6,8.8000000000000007,5.5,7.6,7,0.77000000000000013]
[null,null,"В-4.1","Запущен пилотный проект координированной системы эпиднадзора в целевых регионах","У1","ДРУГОЕ ",null,7.3,10,8.1999999999999993,7.3,7.6,8.8000000000000007,5.5,7.6,7,0.77000000000000013]
[null,null,"В-4.1","Координированная система эпиднадзора расширена до дополнительных областей исходя из пилотных внедрений","У2","ДРУГОЕ ",null,7.3,10,8.1999999999999993,7.3,7.6,8.8000000000000007,5.5,7.6,7,0.77000000000000013]
[null,null,"B-4.2","Обмен данными осуществляется неофициально или официально эпизодически на национальном уровне","У1","НАИБОЛЕЕ ПОДХОДЯЩИЙ",null,7.3,10,8.1999999999999993,7.3,7.6,8.8000000000000007,5.5,7.6,7,0.77000000000000013]
[null,null,"B-4.2","Обмен данными осуществляется неофициально или официально регулярно и своевременно на всех уровнях в стране","У2","НАИБОЛЕЕ ПОДХОДЯЩИЙ",null,7.3,10,8.1999999999999993,7.3,7.6,8.8000000000000007,5.5,7.6,7,0.77000000000000013]
[null,null,"B-5.1","Осуществляется эпизодический обмен информацией с соответствующими заинтересованными сторонами","У1","НАИБОЛЕЕ ПОДХОДЯЩИЙ",null,7.3,10,8.1999999999999993,7.3,7.6,8.8000000000000007,5.5,7.6,7,0.77000000000000013]
[null,null,"B-5.3","Данные координированного эпиднадзора позволяют получить выходные материалы (например: рисунки, графики, отчеты или бюллетени), которые распространяются на национальном уровне","У1","НАИБОЛЕЕ ПОДХОДЯЩИЙ",null,7.3,10,8.1999999999999993,7.3,7.6,8.8000000000000007,5.5,7.6,7,0.77000000000000013]
["Интегрированная система эпиднадзора за устойчивостью к противомикробным препаратам (консультативная группа AGISAR)","Планирование","PLG","Н/П","Н/П","Н/П","PASS",8.5,6,5.3,3,6.8,2,5.5,10,5,0.5788888888888889,"Руководящий документ","«Единое здоровье»; ориентированный на конкретную болезнь/угрозу "]
[null,"Внедрение","IG","Н/П","Н/П","Н/П"]
["Рамочная программа для укрепления мер профилактики и борьбы с сибирской язвой ","Оценка","О-5.1","В результате проведения оценок лабораторного потенциала были определены квалифицированные национальные или международные референс-лаборатории, которые могут проводить тестирование для поддержки деятельности в рамках координированного эпиднадзора","У1","ДРУГОЕ ","PASS",9.1,10,8.6,4.7,9.1999999999999993,2,6.3,4.3,6,{"$f":"SUM(H33:P33)/90","v":0.66888888888888887},"Руководящий документ","«Единое здоровье»; ориентированный на конкретную болезнь/угрозу "]
[null,"Планирование","ПЛ-2.1","В каждом участвующем секторе общие элементы данных для достижения общих аналитических целей координированной системы эпиднадзора определены и согласованы на национальном уровне","У1","ДРУГОЕ "]
[null,null,"ПЛ-3.1","В целях планирования проведен межотраслевой обзор национальных рамочных программ и стратегических планов, относящихся к координированной системе эпиднадзора.","У1","ДРУГОЕ "]
[null,null,"ПЛ-3.2","В целях планирования проведен межотраслевой обзор национальных планов эпиднадзора (включая оперативные планы/планы действий, определения случаев, протоколы и стандартные операционные процедуры), относящихся к координированной системе эпиднадзора.","У1","ДРУГОЕ "]
[null,"Мониторинг и оценка","МО-3.1","Существует методология управления качеством данных","У1","ДРУГОЕ "]
["Инструмент оценки информатизации лабораторий (разработка APHL)","Оценка","О-3.4","В результате проведения базового картирования инфраструктуры (в соответствие с ТРЗ, гл. 4.1) описаны структура и взаимосвязи внутри секторов и между ними ","У1","ДРУГОЕ ","1 EVAL",8.4,6,8,10,6,4.5,2,2.8,6,{"$f":"SUM(H38:P38)/90","v":0.59666666666666657},"Инструмент или процесс с методическим руководством/пояснениями","Ориентированный на конкретный сектор; универсальный"]
[null,null,null,"В ходе картирования инфраструктуры описано большинство подлежащих картированию областей (в соответствие с ТРЗ, гл. 4.1)","У2","ДРУГОЕ ",null,null,null,8,10,6,4.5,2,2.8,6,0.43666666666666665]
[null,null,"О-5.2","Поставки лабораторных материалов, транспортные цепочки и методы интерпретации результатов оцениваются на предмет согласования между участвующими секторами на национальном уровне","У1","ДРУГОЕ ",null,null,null,8,10,6,4.5,2,2.8,6,0.43666666666666665]
[null,null,null,"Поставки лабораторных материалов, транспортные цепочки и методы интерпретации результатов оценены на предмет согласования между участвующими секторами на всех уровнях в стране","У2","ДРУГОЕ ",null,null,null,8,10,6,4.5,2,2.8,6,0.43666666666666665]
["Инструмент самооценки информатизации лабораторий (разработка Ассоциации лабораторий общественного здравоохранения (APHL))","Оценка","О-3.4","В результате проведения базового картирования инфраструктуры (в соответствие с ТРЗ, гл. 4.1) описаны структура и взаимосвязи внутри секторов и между ними ","У1","ДРУГОЕ ","PASS",9.1,6.7,8.3000000000000007,8.4,8.1,8.5,5,6.1,4.3,0.71666666666666667,"Руководящий документ","Ориентированный на конкретный сектор; универсальный"]
[null,null,null,"В ходе картирования инфраструктуры описано большинство подлежащих картированию областей (в соответствие с ТРЗ, гл. 4.1)","У2","ДРУГОЕ ",null,null,6.7,8.3000000000000007,8.4,8.1,8.5,5,6.1,4.3,0.61555555555555552]
[null,"Внедрение","B-3.3\n","Меры по обеспечению конфиденциальности и безопасности данных для защиты данных координированного эпиднадзора применяются на национальном уровне","У1","ДРУГОЕ ",null,null,6.7,8.3000000000000007,8.4,8.1,8.5,5,6.1,4.3,0.61555555555555552]
[null,null,"B-3.3\n","Меры по обеспечению конфиденциальности и безопасности данных для защиты данных координированного эпиднадзора применяются на всех страновых уровнях","У2","ДРУГОЕ ",null,null,6.7,8.3000000000000007,8.4,8.1,8.5,5,6.1,4.3,0.61555555555555552]
[null,null,"B-3.3\n","Меры по обеспечению конфиденциальности и безопасности данных для защиты данных координированного эпиднадзора прошли оценку и соответствуют целям координированной системы эпиднадзора","У3","ДРУГОЕ ",null,null,6.7,8.3000000000000007,8.4,8.1,8.5,5,6.1,4.3,0.61555555555555552]
["Инструмент ФАО для оценки работы лабораторий и систем надзора за устойчивостью к противомикробным препаратам (ФАО-АТЛАСС)","Оценка","AG","Н/П","Н/П","Н/П","PASS",7.2,10,5.6,7.3,7.3,5.2,8.6999999999999993,5.6,7,{"$f":"SUM(H47:P47)/90","v":0.71},"Инструмент или процесс с методическим руководством/пояснениями","«Единое здоровье»; ориентированный на конкретную болезнь/угрозу "]
[null,null,"О-2.1","Оценка взаимосвязей между существующими системами эпиднадзора за приоритетными зоонозами проведена на межотраслевом уровне","У1","ДРУГОЕ "]
[null,null,null,"Оценка взаимосвязей между существующими системами эпиднадзора проведена на межотраслевом уровне и на всех уровнях в стране","У2","ДРУГОЕ "]
[null,null,null,"Взаимосвязи между существующими системами эпиднадзора проанализированы и признаны соответствующими целям координированной системы эпиднадзора.","У3","ДРУГОЕ "]
["Руководство для сбора данных о потенциале страны в отношении охраны здоровья в пограничных районах (BHCDG)","Оценка","О-1.1","Заинтересованные стороны в области эпиднадзора, эпидемиологии, лабораторных исследований и обмена информацией выявлены","У1","НАИБОЛЕЕ ПОДХОДЯЩИЙ","PASS",8.8000000000000007,6.7,7.6,9,7,3.8,8,8.4,6,{"$f":"SUM(H51:P58)/90","v":0.72555555555555551},"Руководящий документ","«Единое здоровье»; ориентированный на конкретную болезнь/угрозу "]
[null,null,null,"В ходе анализа заинтересованных сторон определены участники на всех уровнях в стране","У2","НАИБОЛЕЕ ПОДХОДЯЩИЙ"]
[null,null,"О-2.1","Оценка взаимосвязей между существующими системами эпиднадзора за приоритетными зоонозами проведена на межотраслевом уровне","У1","ДРУГОЕ "]
[null,null,null,"Оценка взаимосвязей между существующими системами эпиднадзора проведена на межотраслевом уровне и на всех уровнях в стране","У2","ДРУГОЕ "]
[null,null,"О-3.1","Рамочные программы и стратегические планы, относящиеся к координированной системе эпиднадзора, оценены на предмет их возможной консолидации и объединения на национальном уровне","У1","НАИБОЛЕЕ ПОДХОДЯЩИЙ"]
[null,null,"О-3.2","Существующие планы эпиднадзора (включая определения случаев, протоколы и стандартные операционные процедуры), относящиеся к координированной системе эпиднадзора, оценены на предмет их возможной консолидации и объединения на национальном уровне","У1","НАИБОЛЕЕ ПОДХОДЯЩИЙ"]
[null,null,"О-3.3","Существующие планы действий/оперативные планы, относящиеся к координированной системе эпиднадзора, оценены на предмет их возможной консолидации и объединения на национальном уровне","У1","ДРУГОЕ "]
[null,null,"О-6.1","Оценки кадровых ресурсов проведены для определения текущих требований, компетенций, потребностей и пробелов в области кадрового потенциала на национальном уровне","У1","НАИБОЛЕЕ ПОДХОДЯЩИЙ"]
["Руководящие принципы в отношении уровня компетенции специалистов, работающих в лабораториях общественного здравоохранения: ЦКПЗ и Ассоциация лабораторий общественного здравоохранения","Оценка","О-6.1","Оценки кадровых ресурсов проведены для определения текущих требований, компетенций, потребностей и пробелов в области кадрового потенциала на национальном уровне","У1","ДРУГОЕ ","PASS",9,7.8,9.1999999999999993,9.1,6.3,3,2,7.8,4,{"$f":"SUM(H59:P59)/90","v":0.64666666666666661},"Руководящий документ","Ориентированный на конкретный сектор; универсальный"]
[null,null,null,"Оценка кадровых ресурсов проведена для определения текущих требований, компетенций, потребностей и пробелов в области кадрового потенциала на всех уровнях в стране","У3","ДРУГОЕ "]
["Стратегии трансграничной межотраслевой коммуникации и координации","Планирование","ПЛ-2.1","Общие элементы данных стандартизированы во всех участвующих секторах на основе общих аналитических целей координированной системы эпиднадзора и отвечают международным стандартам данных","У3","ДРУГОЕ ",null,8.9,6,7.6,9,5.6,3.5,4,8.3000000000000007,8,{"$f":"SUM(H61:P61)/90","v":0.67666666666666675},"Инструмент или процесс с методическим руководством/пояснениями","«Единое здоровье»; универсальный "]
[null,null,"ПЛ-3.1","Пересмотренные рамочные программы и стратегические планы по координированной системе эпиднадзора приведены в соответствие с международными стандартами и рекомендациями. \n","У3","ДРУГОЕ "]
[null,null,"ПЛ-6.1","Пересмотренные нормативно-правовые рамки для координированной системы эпиднадзора приведены в соответствие с международными стандартами и рекомендациями. ","У3","НАИБОЛЕЕ ПОДХОДЯЩИЙ"]
[null,null,"ПЛ-7.1","Существует стратегия коммуникации и/или план коммуникации (включающий терминологию и формы сообщений), на основе которых осуществляется коммуникация с заинтересованными сторонами и населением в рамках координированной системы эпиднадзора","У3","НАИБОЛЕЕ ПОДХОДЯЩИЙ"]
["Районная информационная система здравоохранения, версия 2 (DHIS2) ","Внедрение","B-3.1 \n","Существует механизм обмена данными между секторами на национальном уровне","У1","НАИБОЛЕЕ ПОДХОДЯЩИЙ","PASS",8.8000000000000007,8.6999999999999993,8,8.6999999999999993,9.3000000000000007,9,10,7.8,7,{"$f":"SUM(H65:P65)/90","v":0.85888888888888881},"Оборудование или программное обеспечение","Ориентированный на конкретный сектор; универсальный"]
[null,null,"B-3.1 \n","Существует механизм обмена данными между секторами на всех страновых уровнях","У2","НАИБОЛЕЕ ПОДХОДЯЩИЙ"]
[null,null,"B-3.1 \n","Существует доступный, функциональный и удобный для использования всеми участвующими секторами механизм обмена данными","У3","ДРУГОЕ "]
[null,null,"B-3.2\n","Существуют структура и место для хранения и ведения данных, получаемых из различных секторов, на национальном уровне.","У1","ДРУГОЕ "]
[null,null,"B-3.2\n","Существуют структура и место для хранения и ведения данных, получаемых из различных секторов, на всех уровнях в стране","У2","ДРУГОЕ "]
[null,null,"B-3.2\n","Существуют доступная, функциональная и используемая всеми участвующими секторами структура и место для хранения и ведения данных, получаемых из всех соответствующих секторов","У3","ДРУГОЕ "]
[null,null,"B-3.3\n","Для защиты данных координированного эпиднадзора применяются меры по обеспечению конфиденциальности и безопасности данных на национальном уровне ","У1","НАИБОЛЕЕ ПОДХОДЯЩИЙ"]
[null,null,"B-3.3\n","Для защиты данных координированного эпиднадзора применяются меры по обеспечению конфиденциальности и безопасности данных на всех уровнях в стране","У2","НАИБОЛЕЕ ПОДХОДЯЩИЙ"]
[null,null,"B-3.3\n","Для защиты данных координированного эпиднадзора, прошедших оценку и соответствующих целям координированной системы эпиднадзора, применяются меры по обеспечению конфиденциальности и безопасности данных ","У3","НАИБОЛЕЕ ПОДХОДЯЩИЙ"]
[null,null,"B-4.2","Обмен данными осуществляется неофициально или официально эпизодически на национальном уровне","У1","НАИБОЛЕЕ ПОДХОДЯЩИЙ"]
[null,null,"B-4.2","Обмен данными осуществляется неофициально или официально регулярно и своевременно на всех уровнях в стране","У2","НАИБОЛЕЕ ПОДХОДЯЩИЙ"]
[null,null,"B-4.2","Данные систематически, регулярно и своевременно предоставляются всем участвующим секторам через универсальную или объединенную платформу(платформы) ","У3","НАИБОЛЕЕ ПОДХОДЯЩИЙ"]
[null,null,"B-5.1 ","Осуществляется эпизодический обмен информацией с соответствующими заинтересованными сторонами","У1","НАИБОЛЕЕ ПОДХОДЯЩИЙ"]
[null,null,"B-5.1 ","Осуществляется регулярный обмен информацией с соответствующими заинтересованными сторонами","У2","НАИБОЛЕЕ ПОДХОДЯЩИЙ"]
[null,null,"B-5.1 ","Осуществляется регулярный и своевременный обмен информацией с соответствующими заинтересованными сторонами, включая трансграничные, региональные и международные структуры","У3","ДРУГОЕ "]
[null,null,"B-5.3","Данные координированного эпиднадзора позволяют получить выходные материалы (например: рисунки, графики, отчеты или бюллетени), которые распространяются на национальном уровне","У1","НАИБОЛЕЕ ПОДХОДЯЩИЙ"]
[null,null,null,"Данные координированного эпиднадзора позволяют получить выходные материалы (например: рисунки, графики, отчеты или бюллетени), которые распространяются среди заинтересованных сторон на всех уровнях в стране","У2","НАИБОЛЕЕ ПОДХОДЯЩИЙ"]
[null,null,null,"Данные координированного эпиднадзора, включая отчеты о результатах мониторинга и оценки, позволяют получить выходные материалы, которые используются при разработке ответных мер, политики и программ","У3","НАИБОЛЕЕ ПОДХОДЯЩИЙ"]
["Оценка системы эпиднадзора и мониторинга качества данных Европейского ЦКПЗ — справочник методов и применений ","Оценка","О-2.1","Оценка взаимосвязей между существующими системами эпиднадзора за приоритетными зоонозами проведена на межотраслевом уровне","У1","ДРУГОЕ ","PASS",8.1999999999999993,6,6.4,7.3,7.7,4.5,5.3,6.2,8,{"$f":"SUM(H83:P83)/90","v":0.66222222222222227},"Руководящий документ","Ориентированный на конкретный сектор; универсальный"]
[null,null,null,"Оценка взаимосвязей между существующими системами эпиднадзора проведена на межотраслевом уровне и на всех уровнях в стране","У2","ДРУГОЕ "]
[null,null,null,"Взаимосвязи между существующими системами эпиднадзора проанализированы и признаны соответствующими целям координированной системы эпиднадзора.","У3","ДРУГОЕ "]
[null,null,"О-3.2","Существующие планы эпиднадзора (включая определения случаев, протоколы и стандартные операционные процедуры), относящиеся к координированной системе эпиднадзора, оценены на предмет их возможной консолидации и объединения на национальном уровне","У1","ДРУГОЕ "]
[null,null,null,"Существующие планы эпиднадзора (включая определения случаев, протоколы и стандартные операционные процедуры), относящиеся к координированной системе эпиднадзора, оценены на предмет их возможной консолидации и объединения на всех уровнях в стране","У3","ДРУГОЕ "]
[null,"Планирование","ПЛ-3.2","В целях планирования проведен межотраслевой обзор национальных планов эпиднадзора (включая оперативные планы/планы действий, определения случаев, протоколы и стандартные операционные процедуры), относящихся к координированной системе эпиднадзора.","У1","ДРУГОЕ "]
[null,null,null,"Планы эпиднадзора (включая оперативные планы/планы действий, определения случаев, протоколы и стандартные операционные процедуры) по координированной системе эпиднадзора сведены воедино и согласованы в целях обмена данными на всех уровнях в стране","У2","ДРУГОЕ "]
[null,null,null,"Пересмотренные планы эпиднадзора (включая оперативные планы/планы действий, определения случаев, протоколы и стандартные операционные процедуры) по координированной системе эпиднадзора приведены в соответствие с международными стандартами и рекомендациями.","У3","ДРУГОЕ "]
[null,"Мониторинг и оценка","МО-2.1","Существует план мониторинга и оценки, отвечающий целям координированной системы эпиднадзора","У1","ДРУГОЕ "]
[null,null,"МО-2.1","С помощью плана мониторинга и оценки оценивается эффективность деятельности и достигнутый прогресс в рамках координированной системы эпиднадзора","У2","ДРУГОЕ "]
[null,null,"МО-2.1","Результаты мониторинга и оценки позволяют последовательно совершенствовать или расширять координированную систему эпиднадзора и приводить ее в соответствие с международными стандартами и рекомендациями ","У3","ДРУГОЕ "]
[null,null,"МО-3.1","Существует методология управления качеством данных","У1","НАИБОЛЕЕ ПОДХОДЯЩИЙ"]
[null,null,"МО-3.1","Качество данных проверено и признано соответствующим целям координированной системы эпиднадзора ","У2","ДРУГОЕ "]
[null,null,"МО-3.1","Качество данных соответствует международным стандартам и рекомендациям ","У3","ДРУГОЕ "]
["Инструмент Европейского ЦКПЗ для приоритизации угроз инфекционных заболеваний","Предварительное планирование","ПП-2.1","Существует список приоритетных зоонозов, подлежащих включению в координированную систему эпиднадзора","У1","НАИБОЛЕЕ ПОДХОДЯЩИЙ","PASS",9.8000000000000007,10,8,8.6999999999999993,7.1,4.5,8,8.5,9,{"$f":"SUM(H97:P97)/90","v":0.81777777777777771},"Инструмент самооценки","Ориентированный на конкретный сектор; универсальный"]
[null,null,null,"Список зоонозов широко распространен на субнациональном уровне и уровне сообществ","У2","НАИБОЛЕЕ ПОДХОДЯЩИЙ"]
[null,null,null,"Список зоонозов составляется с использованием межотраслевого подхода «Единое здоровье». Такой подход предполагает участие всех соответствующих секторов в основанном на фактических данных, прозрачном и воспроизводимом процессе определения приоритетов.","У3","НАИБОЛЕЕ ПОДХОДЯЩИЙ"]
["Оценка сотрудничества в рамках межотраслевой системы эпиднадзора (ECoSur)","Предварительное планирование","PPG","Н/П","Н/П","Н/П","PASS",8.3000000000000007,6,8.5,7.8,8.3000000000000007,6.7,3.3,9.1,4.7,{"$f":"SUM(H100:P100)/90","v":0.69666666666666677},"Инструмент или процесс с методическим руководством/пояснениями","«Единое здоровье»; универсальный"]
[null,null,"ПП-1.1","Во всех участвующих секторах на национальном уровне определены координаторы, «лидеры» или технические рабочие группы для планирования внедрения координированного эпиднадзора","У1","ДРУГОЕ "]
[null,null,null,"Во всех участвующих секторах на всех уровнях в стране определены координаторы, «лидеры» или технические рабочие группы для планирования внедрения координированного эпиднадзора","У2","ДРУГОЕ "]
[null,null,null,"Координаторы, «лидеры» или технические рабочие группы (включая выявленных координаторов или «лидеров») в области координированного эпиднадзора институализированы (например: в рамках руководящего органа, такого как МКМ)   ","У3","ДРУГОЕ "]
[null,null,"ПП-3.1","Цель(и), функции и обязанности всех участвующих секторов координированной системы эпиднадзора согласованы и охватывают все уровни в стране","У2","НАИБОЛЕЕ ПОДХОДЯЩИЙ"]
[null,null,"ПП-3.1","Цель(и), функции и обязанности в рамках координированной системы эпиднадзора пересмотрены для учета текущих потребностей координированной системы эпиднадзора ","У3","НАИБОЛЕЕ ПОДХОДЯЩИЙ"]
[null,"Оценка","AG","Н/П","Н/П","Н/П"]
[null,null,"О-1.1","Заинтересованные стороны в области эпиднадзора, эпидемиологии, лабораторных исследований и обмена информацией выявлены","У1","ДРУГОЕ "]
[null,null,null,"В ходе анализа заинтересованных сторон определены участники на всех уровнях в стране","У2","ДРУГОЕ "]
[null,null,null,"Функции и обязанности заинтересованных сторон институционализированы и включены в политические документы","У3","ДРУГОЕ "]
[null,null,"О-2.1","Оценка взаимосвязей между существующими системами эпиднадзора за приоритетными зоонозами проведена на межотраслевом уровне","У1","ДРУГОЕ "]
[null,null,null,"Оценка взаимосвязей между существующими системами эпиднадзора проведена на межотраслевом уровне и на всех уровнях в стране","У2","ДРУГОЕ "]
[null,null,null,"Взаимосвязи между существующими системами эпиднадзора проанализированы и признаны соответствующими целям координированной системы эпиднадзора.","У3","ДРУГОЕ "]
[null,null,"О-2.2","Оценка нормативно-правовой базы (правил, политики, руководящих принципов и положений, включая международные стандарты), регулирующей стандарты этики и конфиденциальности в области эпиднадзора и обмена данными, проведена.","У1","НАИБОЛЕЕ ПОДХОДЯЩИЙ"]
[null,null,null,"Оценка нормативно-правовой базы (правил, политики, руководящих принципов и положений, включая международные стандарты), регулирующей стандарты этики и конфиденциальности в области эпиднадзора и обмена данными, проводится на всех уровнях в стране ","У3","НАИБОЛЕЕ ПОДХОДЯЩИЙ"]
[null,null,"О-3.1","Рамочные программы и стратегические планы, относящиеся к координированной системе эпиднадзора, оценены на предмет их возможной консолидации и объединения на национальном уровне","У1","ДРУГОЕ "]
[null,null,null,"Рамочные программы и стратегические планы, относящиеся к координированной системе эпиднадзора, оценены на предмет их возможной консолидации и объединения на всех уровнях в стране","У3","ДРУГОЕ "]
[null,null,"О-3.2","Существующие планы эпиднадзора (включая определения случаев, протоколы и стандартные операционные процедуры), относящиеся к координированной системе эпиднадзора, оценены на предмет их возможной консолидации и объединения на национальном уровне","У1","ДРУГОЕ "]
[null,null,null,"Существующие планы эпиднадзора (включая определения случаев, протоколы и стандартные операционные процедуры), относящиеся к координированной системе эпиднадзора, оценены на предмет их возможной консолидации и объединения на всех уровнях в стране","У3","ДРУГОЕ "]
[null,null,"О-3.3","Существующие планы действий/оперативные планы, относящиеся к координированной системе эпиднадзора, оценены на предмет их возможной консолидации и объединения на национальном уровне","У1","ДРУГОЕ "]
[null,null,null,"Существующие планы действий/оперативные планы, относящиеся к координированной системе эпиднадзора, оценены на предмет их возможной консолидации и объединения на всех уровнях в стране","У3","ДРУГОЕ "]
[null,null,"О-3.4","В результате проведения базового картирования инфраструктуры (в соответствие с ТРЗ, гл. 4.1) описаны структура и взаимосвязи внутри секторов и между ними ","У1","ДРУГОЕ "]
[null,null,null,"В ходе картирования инфраструктуры описано большинство подлежащих картированию областей (в соответствие с ТРЗ, гл. 4.1)","У2","ДРУГОЕ "]
[null,null,null,"Полное картирование инфраструктуры использовано для описания всех подлежащих картированию областей (в соответствие с ТРЗ, гл. 4.1).","У3","ДРУГОЕ "]
[null,null,"О-4.1","Экономические оценки были использованы для определения национальных финансовых потребностей координированной системы эпиднадзора ","У1","НАИБОЛЕЕ ПОДХОДЯЩИЙ"]
[null,null,null,"Экономические оценки проведены для определения финансовых потребностей на всех уровнях в стране в отношении координированной системы эпиднадзора ","У3","НАИБОЛЕЕ ПОДХОДЯЩИЙ"]
[null,null,"О-5.1","В результате проведения оценок лабораторного потенциала были определены квалифицированные национальные или международные референс-лаборатории, которые могут проводить тестирование для поддержки деятельности в рамках координированного эпиднадзора","У1","НАИБОЛЕЕ ПОДХОДЯЩИЙ"]
[null,null,null,"В результате проведения оценок лабораторного потенциала были определены квалифицированные лаборатории на всех уровнях (включая международный), которые могут проводить тестирование для поддержки мероприятий в рамках координированного эпиднадзора","У2","НАИБОЛЕЕ ПОДХОДЯЩИЙ"]
[null,null,null,"В результате проведения оценок лабораторного потенциала выявлена сеть квалифицированных лабораторий, которые могут проводить тестирование для поддержки мероприятий в рамках координированного эпиднадзора","У3","НАИБОЛЕЕ ПОДХОДЯЩИЙ"]
[null,null,"О-5.2","Поставки лабораторных материалов, транспортные цепочки и методы интерпретации результатов оцениваются на предмет согласования между участвующими секторами на национальном уровне","У1","НАИБОЛЕЕ ПОДХОДЯЩИЙ"]
[null,null,null,"Поставки лабораторных материалов, транспортные цепочки и методы интерпретации результатов оценены на предмет согласования между участвующими секторами на всех уровнях в стране","У2","НАИБОЛЕЕ ПОДХОДЯЩИЙ"]
[null,null,null,"Степень согласованности способов поставок лабораторных материалов, транспортных цепочек и методов интерпретации результатов между участвующими секторами оценена и признана соответствующей целям координированной системы эпиднадзора","У3","НАИБОЛЕЕ ПОДХОДЯЩИЙ"]
[null,null,"О-6.1","Оценки кадровых ресурсов проведены для определения текущих требований, компетенций, потребностей и пробелов в области кадрового потенциала на национальном уровне","У1","НАИБОЛЕЕ ПОДХОДЯЩИЙ"]
[null,null,"О-6.1","Оценка кадровых ресурсов проведена для определения текущих требований, компетенций, потребностей и пробелов в области кадрового потенциала на всех уровнях в стране","У3","НАИБОЛЕЕ ПОДХОДЯЩИЙ"]
[null,"Планирование","ПЛ-1.1","Определены лица, принимающие решения в отношении координированной системы эпиднадзора","У1","ДРУГОЕ "]
[null,null,"ПЛ-2.1","В каждом участвующем секторе общие элементы данных для достижения общих аналитических целей координированной системы эпиднадзора определены и согласованы на национальном уровне","У1","ДРУГОЕ "]
[null,null,"ПЛ-2.1","В каждом участвующем секторе общие элементы данных для достижения общих аналитических целей координированной системы эпиднадзора определены и согласованы на всех уровнях в стране","У2","ДРУГОЕ "]
["Рамочная программа ЕФСА для сбора данных","Планирование","ПЛ-2.1","В каждом участвующем секторе общие элементы данных для достижения общих аналитических целей координированной системы эпиднадзора определены и согласованы на всех уровнях в стране","У2","ДРУГОЕ ","PASS",8.5,4,6.8,9.3000000000000007,7.1,5.5,5,8.3000000000000007,10,{"$f":"SUM(H137:P137)/90","v":0.71666666666666667},"Оборудование или программное обеспечение","«Единое здоровье»; универсальный"]
["Электронная интегрированная система эпиднадзора за болезнями (EIDSS)","Внедрение","B-3.1 \n","Существует механизм обмена данными между секторами на национальном уровне","У1","НАИБОЛЕЕ ПОДХОДЯЩИЙ","PASS",6.8,10,8.4,8.6999999999999993,9.1,8,7,7.2,10,{"$f":"SUM(H138:P138)/90","v":0.83555555555555561},"Оборудование или программное обеспечение","«Единое здоровье»; универсальный"]
[null,null,"B-3.1 \n","Существует механизм обмена данными между секторами на всех страновых уровнях","У2","НАИБОЛЕЕ ПОДХОДЯЩИЙ"]
[null,null,"B-3.1 \n","Существует доступный, функциональный и удобный для использования всеми участвующими секторами механизм обмена данными","У3","НАИБОЛЕЕ ПОДХОДЯЩИЙ"]
[null,null,"B-3.2\n","Существуют структура и место для хранения и ведения данных, получаемых из различных секторов, на национальном уровне.","У1","НАИБОЛЕЕ ПОДХОДЯЩИЙ"]
[null,null,"B-3.2\n","Существуют структура и место для хранения и ведения данных, получаемых из различных секторов, на всех уровнях в стране","У2","НАИБОЛЕЕ ПОДХОДЯЩИЙ"]
[null,null,"B-3.2\n","Существуют доступная, функциональная и используемая всеми участвующими секторами структура и место для хранения и ведения данных, получаемых из всех соответствующих секторов","У3","НАИБОЛЕЕ ПОДХОДЯЩИЙ"]
[null,null,"B-3.3\n","Для защиты данных координированного эпиднадзора применяются меры по обеспечению конфиденциальности и безопасности данных на национальном уровне ","У1","НАИБОЛЕЕ ПОДХОДЯЩИЙ"]
[null,null,"B-3.3\n","Для защиты данных координированного эпиднадзора применяются меры по обеспечению конфиденциальности и безопасности данных на всех уровнях в стране","У2","НАИБОЛЕЕ ПОДХОДЯЩИЙ"]
[null,null,"B-3.3\n","Для защиты данных координированного эпиднадзора, прошедших оценку и соответствующих целям координированной системы эпиднадзора, применяются меры по обеспечению конфиденциальности и безопасности данных ","У3","НАИБОЛЕЕ ПОДХОДЯЩИЙ"]
[null,null,"В-4.1 ","Запущен пилотный проект координированной системы эпиднадзора в целевых регионах","У1","ДРУГОЕ "]
[null,null,"В-4.1 ","Координированная система эпиднадзора расширена до дополнительных областей исходя из пилотных внедрений","У2","ДРУГОЕ "]
[null,null,"В-4.1 ","Координированная системы эпиднадзора является общегосударственной программой","У3","ДРУГОЕ "]
[null,null,"B-4.2","Обмен данными осуществляется неофициально или официально эпизодически на национальном уровне","У1","НАИБОЛЕЕ ПОДХОДЯЩИЙ"]
[null,null,"B-4.2","Обмен данными осуществляется неофициально или официально регулярно и своевременно на всех уровнях в стране","У2","НАИБОЛЕЕ ПОДХОДЯЩИЙ"]
[null,null,"B-4.2","Данные систематически, регулярно и своевременно предоставляются всем участвующим секторам через универсальную или объединенную платформу(платформы) ","У3","НАИБОЛЕЕ ПОДХОДЯЩИЙ"]
[null,null,"B-5.3","Данные координированного эпиднадзора позволяют получить выходные материалы (например: рисунки, графики, отчеты или бюллетени), которые распространяются на национальном уровне","У1","НАИБОЛЕЕ ПОДХОДЯЩИЙ"]
[null,null,null,"Данные координированного эпиднадзора, включая отчеты о результатах мониторинга и оценки, позволяют получить выходные материалы, которые используются при разработке ответных мер, политики и программ","У3","ДРУГОЕ "]
["Инициатива по выявлению эпидемиологических угроз с использованием открытых источников (EIOS)","Внедрение","B-3.1 \n","Существует механизм обмена данными между секторами на национальном уровне","У1","ДРУГОЕ ","PASS",8.4,9,7.4,9,8.8000000000000007,8,5.5,9.1999999999999993,6,{"$f":"SUM(H155:P155)/90","v":0.79222222222222216},"Оборудование или программное обеспечение","«Единое здоровье»; универсальный"]
[null,null,"B-3.1 \n","Существует доступный, функциональный и удобный для использования всеми участвующими секторами механизм обмена данными","У3","ДРУГОЕ "]
[null,null,"B-4.2","Обмен данными осуществляется неофициально или официально эпизодически на национальном уровне","У1","ДРУГОЕ "]
[null,null,"B-4.2","Обмен данными осуществляется неофициально или официально регулярно и своевременно на всех уровнях в стране","У2","ДРУГОЕ "]
[null,null,"B-4.2","Данные систематически, регулярно и своевременно предоставляются всем участвующим секторам через универсальную или объединенную платформу(платформы) ","У3","ДРУГОЕ "]
[null,null,"B-5.1 ","Осуществляется эпизодический обмен информацией с соответствующими заинтересованными сторонами","У1","ДРУГОЕ "]
[null,null,"B-5.1 ","Осуществляется регулярный обмен информацией с соответствующими заинтересованными сторонами","У2","ДРУГОЕ "]
[null,null,"B-5.1 ","Осуществляется регулярный и своевременный обмен информацией с соответствующими заинтересованными сторонами, включая трансграничные, региональные и международные структуры","У3","ДРУГОЕ "]
["Мобильное приложение EMA-i для обмена данными о болезнях животных","Внедрение","B-3.1 \n","Существует механизм обмена данными между секторами на национальном уровне","У1","ДРУГОЕ ","PASS",8.9,7.7,9.1,6,8.3000000000000007,9.3000000000000007,6.7,4.5,5.7,{"$f":"SUM(H163:P163)/90","v":0.73555555555555563},"Оборудование или программное обеспечение","Ориентированный на конкретный сектор; универсальный"]
[null,null,null,"Существует механизм обмена данными между секторами на всех страновых уровнях","У2","ДРУГОЕ "]
[null,null,"B-5.2","Соблюдение международных требований в отношении оповещения обо всех случаях зоонозов","У1","ДРУГОЕ "]
["Глобальная информационная система болезней животных (EMPRES-i)","Внедрение","B-3.1 \n","Существует механизм обмена данными между секторами на национальном уровне","У1","ДРУГОЕ ","PASS",9,8.3000000000000007,8.9,8.6999999999999993,8,7.8,7.4,4.8,4.7,{"$f":"SUM(H166:P166)/90","v":0.75111111111111106},"Оборудование или программное обеспечение","Ориентированный на конкретный сектор; универсальный"]
[null,null,"B-3.1 \n","Существует механизм обмена данными между секторами на всех страновых уровнях","У2","НАИБОЛЕЕ ПОДХОДЯЩИЙ"]
[null,null,"B-3.2\n","Существуют структура и место для хранения и ведения данных, получаемых из различных секторов, на национальном уровне.","У1","ДРУГОЕ "]
[null,null,"B-3.2\n","Существуют структура и место для хранения и ведения данных, получаемых из различных секторов, на всех уровнях в стране","У2","ДРУГОЕ "]
[null,null,"B-3.2\n","Существуют доступная, функциональная и используемая всеми участвующими секторами структура и место для хранения и ведения данных, получаемых из всех соответствующих секторов","У3","ДРУГОЕ "]
[null,null,"B-3.3\n","Для защиты данных координированного эпиднадзора применяются меры по обеспечению конфиденциальности и безопасности данных на национальном уровне ","У1","ДРУГОЕ "]
[null,null,"B-3.3\n","Для защиты данных координированного эпиднадзора применяются меры по обеспечению конфиденциальности и безопасности данных на всех уровнях в стране","У2","ДРУГОЕ "]
[null,null,"B-5.1","Осуществляется эпизодический обмен информацией с соответствующими заинтересованными сторонами","У1","ДРУГОЕ "]
["Инструмент эпидемиологического картирования (EMT)","Оценка","О-3.2","Существующие планы эпиднадзора (включая определения случаев, протоколы и стандартные операционные процедуры), относящиеся к координированной системе эпиднадзора, оценены на предмет их возможной консолидации и объединения на национальном уровне","У1","ДРУГОЕ ","PASS",6.6,8,7.4,7.3,6.9,5,3.5,6.8,5.5,{"$f":"SUM(H174:P174)/90","v":0.6333333333333333},"Инструмент или процесс с методическим руководством/пояснениями","Ориентированный на конкретный сектор; универсальный"]
[null,null,"О-6.1","Оценки кадровых ресурсов проведены для определения текущих требований, компетенций, потребностей и пробелов в области кадрового потенциала на национальном уровне","У1","НАИБОЛЕЕ ПОДХОДЯЩИЙ"]
["Руководство для разработки планов эпиднадзора за\nболезнями животных\n\n",null,"ПЛ-3.2","В целях планирования проведен межотраслевой обзор национальных планов эпиднадзора (включая оперативные планы/планы действий, определения случаев, протоколы и стандартные операционные процедуры), относящихся к координированной системе эпиднадзора.","У1","ДРУГОЕ ","PASS",9.1999999999999993,10,7.5,8.6999999999999993,5.7,2.5,3.3,5.0999999999999996,4,{"$f":"SUM(H176:P176)/90","v":0.62222222222222223},"Шаблон","Ориентированный на конкретный сектор; универсальный"]
[null,null,"ПЛ-3.2","Планы эпиднадзора (включая оперативные планы/планы действий, определения случаев, протоколы и стандартные операционные процедуры) по координированной системе эпиднадзора сведены воедино и согласованы в целях обмена данными на всех уровнях в стране","У2","ДРУГОЕ "]
[null,null,"ПЛ-3.2","Пересмотренные планы эпиднадзора (включая оперативные планы/планы действий, определения случаев, протоколы и стандартные операционные процедуры) по координированной системе эпиднадзора приведены в соответствие с международными стандартами и рекомендациями.","У3","ДРУГОЕ "]
["Приложение FoodChain-Lab (FCL) ","Внедрение","B-3.1 \n","Существует механизм обмена данными между секторами на национальном уровне","У1","ДРУГОЕ ","PASS",9.6999999999999993,6,7.9,7.8,8.1,8,7.9,8.4,9.6999999999999993,{"$f":"SUM(H179:P179)/90","v":0.81666666666666665},"Оборудование или программное обеспечение","«Единое здоровье»; ориентированный на конкретную болезнь/угрозу "]
[null,null,"B-5.3","Данные координированного эпиднадзора позволяют получить выходные материалы (например: рисунки, графики, отчеты или бюллетени), которые распространяются на национальном уровне","У1","ДРУГОЕ "]
[null,null,null,"Данные координированного эпиднадзора позволяют получить выходные материалы (например: рисунки, графики, отчеты или бюллетени), которые распространяются среди заинтересованных сторон на всех уровнях в стране","У2","ДРУГОЕ "]
[null,null,null,"Данные координированного эпиднадзора, включая отчеты о результатах мониторинга и оценки, позволяют получить выходные материалы, которые используются при разработке ответных мер, политики и программ","У3","ДРУГОЕ "]
["Рамочная программа для оценки систем эпиднадзора за здоровьем человека с целью раннего обнаружения вспышек заболеваний ","Оценка","О-3.1","Рамочные программы и стратегические планы, относящиеся к координированной системе эпиднадзора, оценены на предмет их возможной консолидации и объединения на национальном уровне","У1","ДРУГОЕ ",null,9.1999999999999993,6.7,8.4,8.6999999999999993,7.1,2,2.5,8.1999999999999993,6,{"$f":"SUM(H183:P183)/90","v":0.65333333333333332},"Руководящий документ","Ориентированный на конкретный сектор; универсальный"]
["Глобальный механизм ликвидации бешенства у собак (GDREP)","Оценка","О-4.1","Экономические оценки были использованы для определения национальных финансовых потребностей координированной системы эпиднадзора ","У1","НАИБОЛЕЕ ПОДХОДЯЩИЙ","PASS",9.1,7.3,8.6999999999999993,6,7.9,6,7,6.3,7,{"$f":"SUM(H184:P184)/90","v":0.72555555555555551},"Инструмент самооценки","«Единое здоровье»; ориентированный на конкретную болезнь/угрозу "]
[null,null,null,"Экономические оценки проведены для определения финансовых потребностей на всех уровнях в стране в отношении координированной системы эпиднадзора ","У3","НАИБОЛЕЕ ПОДХОДЯЩИЙ"]
[null,null,"О-6.1","Оценки кадровых ресурсов проведены для определения текущих требований, компетенций, потребностей и пробелов в области кадрового потенциала на национальном уровне","У1","НАИБОЛЕЕ ПОДХОДЯЩИЙ"]
[null,null,null,"Оценка кадровых ресурсов проведена для определения текущих требований, компетенций, потребностей и пробелов в области кадрового потенциала на всех уровнях в стране","У3","ДРУГОЕ "]
[null,null,"ПЛ-5.1","План обучения и профессиональной подготовки кадров для координированной системы эпиднадзора разработан на основе оценки кадровых ресурсов на национальном уровне","У1","ДРУГОЕ "]
[null,null,null,"План обучения и профессиональной подготовки кадров для координированной системы эпиднадзора разработан на основе оценки кадровых ресурсов для всех страновых уровней","У2","ДРУГОЕ "]
[null,null,null,"Образование и профессиональная подготовка кадров включены в процесс национального межотраслевого кадрового планирования с учетом международных компетенций и оценок\n","У3","ДРУГОЕ "]
[null,"Планирование","ПЛ-6.1","По результатам оценки необходимые нормативно-правовые рамки (правила, стратегии, руководства и положения, включая международные стандарты) стандартизированы во всех секторах на национальном уровне","У1","ДРУГОЕ "]
[null,null,null,"По результатам оценки необходимые нормативно-правовые рамки (правила, стратегии, руководства и положения, включая международные стандарты) стандартизированы во всех секторах на всех страновых уровнях","У2","ДРУГОЕ "]
[null,null,null,"Пересмотренные нормативно-правовые рамки для координированной системы эпиднадзора приведены в соответствие с международными стандартами и рекомендациями. ","У3","ДРУГОЕ "]
["Подход к оценке систем здравоохранения (HSAA)","Оценка","AG","Н/П","Н/П","Н/П","1 EVAL",10,10,6.4,4.7,8.3000000000000007,2,3,6,4,{"$f":"SUM(H194:P194)/90","v":0.60444444444444445},"Руководящий документ","Ориентированный на конкретный сектор; универсальный"]
["Комплексная система эпиднадзора и мер реагирования (IDSR)","Предварительное планирование","ПП-1.1","Во всех участвующих секторах на национальном уровне определены координаторы, «лидеры» или технические рабочие группы для планирования внедрения координированного эпиднадзора","У1","ДРУГОЕ ","PASS",7.4,10,7.4,8.6999999999999993,6.7,4.5,8,7.2,8.5,{"$f":"SUM(H195:P195)/90","v":0.76},"Руководящий документ","Ориентированный на конкретный сектор; универсальный"]
[null,null,null,"Во всех участвующих секторах на всех уровнях в стране определены координаторы, «лидеры» или технические рабочие группы для планирования внедрения координированного эпиднадзора","У2","ДРУГОЕ "]
[null,null,null,"Координаторы, «лидеры» или технические рабочие группы (включая выявленных координаторов или «лидеров») в области координированного эпиднадзора институализированы (например: в рамках руководящего органа, такого как МКМ)   ","У3","ДРУГОЕ "]
[null,null,"ПП-3.1","Цель(и), функции и обязанности всех участвующих секторов координированной системы эпиднадзора согласованы на национальном уровне","У1","НАИБОЛЕЕ ПОДХОДЯЩИЙ"]
[null,null,null,"Цель(и), функции и обязанности всех участвующих секторов координированной системы эпиднадзора согласованы и охватывают все уровни в стране","У2","НАИБОЛЕЕ ПОДХОДЯЩИЙ"]
[null,"Оценка","О-1.1","Заинтересованные стороны в области эпиднадзора, эпидемиологии, лабораторных исследований и обмена информацией выявлены","У1","ДРУГОЕ "]
[null,null,null,"В ходе анализа заинтересованных сторон определены участники на всех уровнях в стране","У2","ДРУГОЕ "]
[null,null,null,"Функции и обязанности заинтересованных сторон институционализированы и включены в политические документы","У3","ДРУГОЕ "]
[null,null,"О-2.1","Оценка взаимосвязей между существующими системами эпиднадзора за приоритетными зоонозами проведена на межотраслевом уровне","У1","ДРУГОЕ "]
[null,null,"О-3.2","Существующие планы эпиднадзора (включая определения случаев, протоколы и стандартные операционные процедуры), относящиеся к координированной системе эпиднадзора, оценены на предмет их возможной консолидации и объединения на национальном уровне","У1","НАИБОЛЕЕ ПОДХОДЯЩИЙ"]
[null,null,null,"Существующие планы эпиднадзора (включая определения случаев, протоколы и стандартные операционные процедуры), относящиеся к координированной системе эпиднадзора, оценены на предмет их возможной консолидации и объединения на всех уровнях в стране","У3","НАИБОЛЕЕ ПОДХОДЯЩИЙ"]
[null,null,"О-5.1","В результате проведения оценок лабораторного потенциала были определены квалифицированные национальные или международные референс-лаборатории, которые могут проводить тестирование для поддержки деятельности в рамках координированного эпиднадзора","У1","ДРУГОЕ "]
[null,null,"О-6.1","Оценка кадровых ресурсов проведена для определения текущих требований, компетенций, потребностей и пробелов в области кадрового потенциала на всех уровнях в стране","У3","ДРУГОЕ "]
[null,"Планирование","PLG","Н/П","Н/П","Н/П"]
[null,null,"ПЛ-1.1","Определены лица, принимающие решения в отношении координированной системы эпиднадзора","У1","ДРУГОЕ "]
[null,null,"ПЛ-2.1","В каждом участвующем секторе общие элементы данных для достижения общих аналитических целей координированной системы эпиднадзора определены и согласованы на национальном уровне","У1","ДРУГОЕ "]
[null,null,null,"В каждом участвующем секторе общие элементы данных для достижения общих аналитических целей координированной системы эпиднадзора определены и согласованы на всех уровнях в стране","У2","ДРУГОЕ "]
[null,null,null,"Общие элементы данных стандартизированы во всех участвующих секторах на основе общих аналитических целей координированной системы эпиднадзора и отвечают международным стандартам данных","У3","НАИБОЛЕЕ ПОДХОДЯЩИЙ"]
[null,null,"ПЛ-3.1","В целях планирования проведен межотраслевой обзор национальных рамочных программ и стратегических планов, относящихся к координированной системе эпиднадзора.","У1","ДРУГОЕ "]
[null,null,null,"Рамочные программы и стратегические планы по координированной системе эпиднадзора сведены воедино и согласованы на основе результатов оценки на всех уровнях в стране","У2","ДРУГОЕ "]
[null,null,null,"Пересмотренные рамочные программы и стратегические планы по координированной системе эпиднадзора приведены в соответствие с международными стандартами и рекомендациями. \n","У3","ДРУГОЕ "]
[null,null,"ПЛ-3.2","В целях планирования проведен межотраслевой обзор национальных планов эпиднадзора (включая оперативные планы/планы действий, определения случаев, протоколы и стандартные операционные процедуры), относящихся к координированной системе эпиднадзора.","У1","ДРУГОЕ "]
[null,null,null,"Планы эпиднадзора (включая оперативные планы/планы действий, определения случаев, протоколы и стандартные операционные процедуры) по координированной системе эпиднадзора сведены воедино и согласованы в целях обмена данными на всех уровнях в стране","У2","ДРУГОЕ "]
[null,null,null,"Пересмотренные планы эпиднадзора (включая оперативные планы/планы действий, определения случаев, протоколы и стандартные операционные процедуры) по координированной системе эпиднадзора приведены в соответствие с международными стандартами и рекомендациями.","У3","ДРУГОЕ "]
[null,null,"ПЛ-5.1","План обучения и профессиональной подготовки кадров для координированной системы эпиднадзора разработан на основе оценки кадровых ресурсов на национальном уровне","У1","НАИБОЛЕЕ ПОДХОДЯЩИЙ"]
[null,null,null,"План обучения и профессиональной подготовки кадров для координированной системы эпиднадзора разработан на основе оценки кадровых ресурсов для всех страновых уровней","У2","НАИБОЛЕЕ ПОДХОДЯЩИЙ"]
[null,"Внедрение","IG","Н/П","Н/П","Н/П"]
[null,null,"B-4.2","Обмен данными осуществляется неофициально или официально эпизодически на национальном уровне","У1","НАИБОЛЕЕ ПОДХОДЯЩИЙ"]
[null,null,"B-4.2","Обмен данными осуществляется неофициально или официально регулярно и своевременно на всех уровнях в стране","У2","НАИБОЛЕЕ ПОДХОДЯЩИЙ"]
[null,null,"B-5.1 ","Осуществляется эпизодический обмен информацией с соответствующими заинтересованными сторонами","У1","НАИБОЛЕЕ ПОДХОДЯЩИЙ"]
[null,null,"B-5.1 ","Осуществляется регулярный обмен информацией с соответствующими заинтересованными сторонами","У2","НАИБОЛЕЕ ПОДХОДЯЩИЙ"]
[null,null,"B-5.1 ","Осуществляется регулярный и своевременный обмен информацией с соответствующими заинтересованными сторонами, включая трансграничные, региональные и международные структуры","У3","НАИБОЛЕЕ ПОДХОДЯЩИЙ"]
[null,null,"B-5.2","Соблюдение международных требований в отношении оповещения обо всех случаях зоонозов","У1","ДРУГОЕ "]
[null,null,"B-5.3","Данные координированного эпиднадзора позволяют получить выходные материалы (например: рисунки, графики, отчеты или бюллетени), которые распространяются на национальном уровне","У1","НАИБОЛЕЕ ПОДХОДЯЩИЙ"]
[null,null,"B-5.3","Данные координированного эпиднадзора позволяют получить выходные материалы (например: рисунки, графики, отчеты или бюллетени), которые распространяются среди заинтересованных сторон на всех уровнях в стране","У2","НАИБОЛЕЕ ПОДХОДЯЩИЙ"]
[null,null,"B-5.3","Данные координированного эпиднадзора, включая отчеты о результатах мониторинга и оценки, позволяют получить выходные материалы, которые используются при разработке ответных мер, политики и программ","У3","НАИБОЛЕЕ ПОДХОДЯЩИЙ"]
[null,"Мониторинг и оценка","МО-3.1","Существует методология управления качеством данных","У1","ДРУГОЕ "]
[null,null,"МО-3.1","Качество данных проверено и признано соответствующим целям координированной системы эпиднадзора ","У2","ДРУГОЕ "]
[null,null,"МО-3.1","Качество данных соответствует международным стандартам и рекомендациям ","У3","ДРУГОЕ "]
["Инструмент расчета затрат для соответствия Международным медико-санитарным правилам (ММСП) (разработка Джорджтаунского университета)","Оценка","О-4.1","Экономические оценки были использованы для определения национальных финансовых потребностей координированной системы эпиднадзора","У1","НАИБОЛЕЕ ПОДХОДЯЩИЙ","PASS",9.6,6,9.3000000000000007,7.3,7.1,8.8000000000000007,9.3000000000000007,7.5,8,{"$f":"SUM(H234:P234)/90","v":0.80999999999999994},"Инструмент самооценки","Ориентированный на конкретный сектор; универсальный"]
[null,null,null,"Экономические оценки проведены для определения финансовых потребностей на всех уровнях в стране в отношении координированной системы эпиднадзора ","У3","НАИБОЛЕЕ ПОДХОДЯЩИЙ"]
[null,"Планирование","ПЛ-4.1","Имеются бюджетный план и механизм распределения средств для осуществления координированного эпиднадзора на национальном уровне","У1","ДРУГОЕ "]
[null,null,null,"Имеются бюджетный план и механизм распределения средств для осуществления координированного эпиднадзора на всех страновых уровнях","У2","ДРУГОЕ "]
[null,"Внедрение","B-1.1","Имеется финансирование для осуществления координированного эпиднадзора на национальном уровне","У1","ДРУГОЕ "]
["Национальный семинар по выстраиванию связей ММСП-ПВС","Оценка","О-1.1","Заинтересованные стороны в области эпиднадзора, эпидемиологии, лабораторных исследований и обмена информацией выявлены","У1","НАИБОЛЕЕ ПОДХОДЯЩИЙ","PASS",8.6,10,6.2,10,6,7,9,8.1999999999999993,10,{"$f":"SUM(H239:P239)/90","v":0.83333333333333337},"Инструмент или процесс с методическим руководством/пояснениями","«Единое здоровье»; универсальный"]
[null,null,null,"В ходе анализа заинтересованных сторон определены участники на всех уровнях в стране","У2","НАИБОЛЕЕ ПОДХОДЯЩИЙ"]
[null,null,null,"Функции и обязанности заинтересованных сторон институционализированы и включены в политические документы","У3","НАИБОЛЕЕ ПОДХОДЯЩИЙ"]
[null,null,"О-2.1","Оценка взаимосвязей между существующими системами эпиднадзора за приоритетными зоонозами проведена на межотраслевом уровне","У1","ДРУГОЕ "]
[null,null,null,"Оценка взаимосвязей между существующими системами эпиднадзора проведена на межотраслевом уровне и на всех уровнях в стране","У2","ДРУГОЕ "]
[null,null,null,"Взаимосвязи между существующими системами эпиднадзора проанализированы и признаны соответствующими целям координированной системы эпиднадзора.","У3","НАИБОЛЕЕ ПОДХОДЯЩИЙ"]
[null,null,"О-3.3","Существующие планы действий/оперативные планы, относящиеся к координированной системе эпиднадзора, оценены на предмет их возможной консолидации и объединения на национальном уровне","У1","НАИБОЛЕЕ ПОДХОДЯЩИЙ"]
[null,null,null,"Существующие планы действий/оперативные планы, относящиеся к координированной системе эпиднадзора, оценены на предмет их возможной консолидации и объединения на всех уровнях в стране","У3","НАИБОЛЕЕ ПОДХОДЯЩИЙ"]
[null,null,"О-3.4","В результате проведения базового картирования инфраструктуры (в соответствие с ТРЗ, гл. 4.1) описаны структура и взаимосвязи внутри секторов и между ними ","У1","ДРУГОЕ "]
[null,null,null,"В ходе картирования инфраструктуры описано большинство подлежащих картированию областей (в соответствие с ТРЗ, гл. 4.1)","У2","ДРУГОЕ "]
[null,null,null,"Полное картирование инфраструктуры использовано для описания всех подлежащих картированию областей (в соответствие с ТРЗ, гл. 4.1).","У3","ДРУГОЕ "]
[null,"Планирование","ПЛ-2.1","В каждом участвующем секторе общие элементы данных для достижения общих аналитических целей координированной системы эпиднадзора определены и согласованы на национальном уровне","У1","ДРУГОЕ "]
[null,null,null,"В каждом участвующем секторе общие элементы данных для достижения общих аналитических целей координированной системы эпиднадзора определены и согласованы на всех уровнях в стране","У2","ДРУГОЕ "]
[null,null,null,"Общие элементы данных стандартизированы во всех участвующих секторах на основе общих аналитических целей координированной системы эпиднадзора и отвечают международным стандартам данных","У3","ДРУГОЕ "]
[null,null,"ПЛ-3.1","В целях планирования проведен межотраслевой обзор национальных рамочных программ и стратегических планов, относящихся к координированной системе эпиднадзора.","У1","ДРУГОЕ "]
[null,null,null,"Рамочные программы и стратегические планы по координированной системе эпиднадзора сведены воедино и согласованы на основе результатов оценки на всех уровнях в стране","У2","ДРУГОЕ "]
[null,null,null,"Пересмотренные рамочные программы и стратегические планы по координированной системе эпиднадзора приведены в соответствие с международными стандартами и рекомендациями. \n","У3","ДРУГОЕ "]
["Инструмент совместной внешней оценки (СВО) ","Предварительное планирование","PPG","Н/П","Н/П","Н/П","PASS",8.6999999999999993,10,7,6.3,7.7,4.7,6,9.5,10,{"$f":"SUM(H256:P256)/90","v":0.77666666666666673},"Инструмент или процесс с методическим руководством/пояснениями","«Единое здоровье»; универсальный"]
[null,"Оценка","AG","Н/П","Н/П","Н/П"]
[null,null,"О-2.1","Оценка взаимосвязей между существующими системами эпиднадзора за приоритетными зоонозами проведена на межотраслевом уровне","У1","ДРУГОЕ "]
[null,null,"О-3.1","Рамочные программы и стратегические планы, относящиеся к координированной системе эпиднадзора, оценены на предмет их возможной консолидации и объединения на национальном уровне","У1","ДРУГОЕ "]
[null,null,"О-3.2","Существующие планы эпиднадзора (включая определения случаев, протоколы и стандартные операционные процедуры), относящиеся к координированной системе эпиднадзора, оценены на предмет их возможной консолидации и объединения на национальном уровне","У1","ДРУГОЕ "]
[null,null,"О-3.3","Существующие планы действий/оперативные планы, относящиеся к координированной системе эпиднадзора, оценены на предмет их возможной консолидации и объединения на национальном уровне","У1","ДРУГОЕ "]
[null,null,"О-5.1","В результате проведения оценок лабораторного потенциала были определены квалифицированные национальные или международные референс-лаборатории, которые могут проводить тестирование для поддержки деятельности в рамках координированного эпиднадзора","У1","ДРУГОЕ "]
[null,"Планирование","PLG","Н/П","У3","ДРУГОЕ "]
[null,"Внедрение","B-5.2","Соблюдение международных требований в отношении оповещения обо всех случаях зоонозов","У1","ДРУГОЕ "]
["Модель компетенций для лидеров/руководителей лабораторий (GLLP)","Оценка","О-6.1","Оценки кадровых ресурсов проведены для определения текущих требований, компетенций, потребностей и пробелов в области кадрового потенциала на национальном уровне","У1","НАИБОЛЕЕ ПОДХОДЯЩИЙ","PASS",9.6,8,8.4,9.6999999999999993,7.3,2.2999999999999998,5,8.9,4,{"$f":"SUM(H265:P265)/90","v":0.70222222222222219},"Руководящий документ","«Единое здоровье»; универсальный"]
[null,null,null,"Оценка кадровых ресурсов проведена для определения текущих требований, компетенций, потребностей и пробелов в области кадрового потенциала на всех уровнях в стране","У3","НАИБОЛЕЕ ПОДХОДЯЩИЙ"]
[null,"Планирование","ПЛ-5.1","План обучения и профессиональной подготовки кадров для координированной системы эпиднадзора разработан на основе оценки кадровых ресурсов на национальном уровне","У1","ДРУГОЕ "]
["Инструмент картирования лабораторий ФАО (LMT)","Оценка","О-5.1","В результате проведения оценок лабораторного потенциала были определены квалифицированные национальные или международные референс-лаборатории, которые могут проводить тестирование для поддержки деятельности в рамках координированного эпиднадзора","У1","НАИБОЛЕЕ ПОДХОДЯЩИЙ","PASS",9.8000000000000007,10,9.1999999999999993,7.8,7.2,7.1,9.6999999999999993,3,4.7,{"$f":"SUM(H268:P268)/90","v":0.76111111111111107},"Инструмент самооценки","Ориентированный на конкретный сектор; универсальный"]
[null,null,null,"В результате проведения оценок лабораторного потенциала были определены квалифицированные лаборатории на всех уровнях (включая международный), которые могут проводить тестирование для поддержки мероприятий в рамках координированного эпиднадзора","У2","НАИБОЛЕЕ ПОДХОДЯЩИЙ"]
[null,null,null,"В результате проведения оценок лабораторного потенциала выявлена сеть квалифицированных лабораторий, которые могут проводить тестирование для поддержки мероприятий в рамках координированного эпиднадзора","У3","НАИБОЛЕЕ ПОДХОДЯЩИЙ"]
["Анализ инфраструктуры лабораторной сети (LINA)","Оценка","О-3.4","В результате проведения базового картирования инфраструктуры (в соответствие с ТРЗ, гл. 4.1) описаны структура и взаимосвязи внутри секторов и между ними ","У1","ДРУГОЕ ","Pass",9.6,6,7.6,9,8.3000000000000007,7,3,9.1,4,0.69555555555555559,"Оборудование или программное обеспечение","«Единое здоровье»; универсальный"]
[null,null,null,"В ходе картирования инфраструктуры описано большинство подлежащих картированию областей (в соответствие с ТРЗ, гл. 4.1)","У2","ДРУГОЕ "]
[null,null,null,"Полное картирование инфраструктуры использовано для описания всех подлежащих картированию областей (в соответствие с ТРЗ, гл. 4.1).","У3","ДРУГОЕ "]
[null,null,"О-5.1","В результате проведения оценок лабораторного потенциала были определены квалифицированные национальные или международные референс-лаборатории, которые могут проводить тестирование для поддержки деятельности в рамках координированного эпиднадзора","У1","НАИБОЛЕЕ ПОДХОДЯЩИЙ"]
[null,null,null,"В результате проведения оценок лабораторного потенциала были определены квалифицированные лаборатории на всех уровнях (включая международный), которые могут проводить тестирование для поддержки мероприятий в рамках координированного эпиднадзора","У2","НАИБОЛЕЕ ПОДХОДЯЩИЙ"]
[null,null,null,"В результате проведения оценок лабораторного потенциала выявлена сеть квалифицированных лабораторий, которые могут проводить тестирование для поддержки мероприятий в рамках координированного эпиднадзора","У3","НАИБОЛЕЕ ПОДХОДЯЩИЙ"]
[null,null,"О-5.2","Поставки лабораторных материалов, транспортные цепочки и методы интерпретации результатов оцениваются на предмет согласования между участвующими секторами на национальном уровне","У1","НАИБОЛЕЕ ПОДХОДЯЩИЙ"]
[null,null,null,"Поставки лабораторных материалов, транспортные цепочки и методы интерпретации результатов оценены на предмет согласования между участвующими секторами на всех уровнях в стране","У2","НАИБОЛЕЕ ПОДХОДЯЩИЙ"]
[null,null,null,"Степень согласованности способов поставок лабораторных материалов, транспортных цепочек и методов интерпретации результатов между участвующими секторами оценена и признана соответствующей целям координированной системы эпиднадзора","У3","НАИБОЛЕЕ ПОДХОДЯЩИЙ"]
[null,null,"В-4.1 ","Запущен пилотный проект координированной системы эпиднадзора в целевых регионах","У1","ДРУГОЕ "]
[null,null,"В-4.1 ","Координированная система эпиднадзора расширена до дополнительных областей исходя из пилотных внедрений","У2","ДРУГОЕ "]
[null,null,"В-4.1 ","Координированная системы эпиднадзора является общегосударственной программой","У3","ДРУГОЕ "]
[null,null,"B-5.3","Данные координированного эпиднадзора позволяют получить выходные материалы (например: рисунки, графики, отчеты или бюллетени), которые распространяются на национальном уровне","У1","НАИБОЛЕЕ ПОДХОДЯЩИЙ"]
[null,null,"B-5.3","Данные координированного эпиднадзора позволяют получить выходные материалы (например: рисунки, графики, отчеты или бюллетени), которые распространяются среди заинтересованных сторон на всех уровнях в стране","У2","НАИБОЛЕЕ ПОДХОДЯЩИЙ"]
[null,null,"B-5.3","Данные координированного эпиднадзора, включая отчеты о результатах мониторинга и оценки, позволяют получить выходные материалы, которые используются при разработке ответных мер, политики и программ","У3","НАИБОЛЕЕ ПОДХОДЯЩИЙ"]
[null,"Мониторинг и оценка","МО-1.1","Имитационные учения проводятся для оценки эффективности и функциональности координированной системы эпиднадзора на национальном уровне  ","У1","ДРУГОЕ "]
[null,null,"МО-1.1","Имитационные учения проводятся для оценки эффективности и функциональности координированной системы эпиднадзора на всех уровнях в стране  ","У2","ДРУГОЕ "]
["Составление перечня и классификация приоритетных болезней животных, в том числе передаваемых человеку (Phylum)","Предварительное планирование","ПП-2.1","Существует список приоритетных зоонозов, подлежащих включению в координированную систему эпиднадзора","У1","ДРУГОЕ ","PASS",6.9,8,6.2,8.3000000000000007,7.5,7.3,5.5,8.6999999999999993,4,{"$f":"SUM(H288:P288)/90","v":0.69333333333333336},"Инструмент самооценки","Ориентированный на конкретный сектор; универсальный"]
[null,null,null,"Список зоонозов широко распространен на субнациональном уровне и уровне сообществ","У2","ДРУГОЕ "]
[null,null,null,"Список зоонозов составляется с использованием межотраслевого подхода «Единое здоровье». Такой подход предполагает участие всех соответствующих секторов в основанном на фактических данных, прозрачном и воспроизводимом процессе определения приоритетов.","У3","ДРУГОЕ "]
["Методология для анализа законодательства, относящегося к УПП, в продовольственном и сельскохозяйственном секторе","Оценка","О-2.2","Оценка нормативно-правовой базы (правил, политики, руководящих принципов и положений, включая международные стандарты), регулирующей стандарты этики и конфиденциальности в области эпиднадзора и обмена данными, проведена.","У1","ДРУГОЕ ","PASS",7.4,5.5,7.6,4,8.1999999999999993,4.5,4.5,6.6,4.5,{"$f":"SUM(H291:P291)/90","v":0.58666666666666667},"Руководящий документ","«Единое здоровье»; универсальный"]
[null,"Планирование","ПЛ-1.1","Определены лица, принимающие решения в отношении координированной системы эпиднадзора","У1","ДРУГОЕ "]
[null,null,"ПЛ-3.1","В целях планирования проведен межотраслевой обзор национальных рамочных программ и стратегических планов, относящихся к координированной системе эпиднадзора.","У1","ДРУГОЕ "]
[null,null,"ПЛ-3.2","В целях планирования проведен межотраслевой обзор национальных планов эпиднадзора (включая оперативные планы/планы действий, определения случаев, протоколы и стандартные операционные процедуры), относящихся к координированной системе эпиднадзора.","У1","ДРУГОЕ "]
[null,null,"ПЛ-6.1","По результатам оценки необходимые нормативно-правовые рамки (правила, стратегии, руководства и положения, включая международные стандарты) стандартизированы во всех секторах на национальном уровне","У1","ДРУГОЕ "]
["Обновленные руководящие принципы для оценки систем эпиднадзора за здоровьем человека ","Оценка","AG","Н/П","Н/П","Н/П","PASS",7.6,8,7.2,8.6999999999999993,7.7,2.2999999999999998,4,5.8,4,{"$f":"SUM(H296:P296)/90","v":0.61444444444444446},"Руководящий документ","Ориентированный на конкретный сектор; универсальный"]
[null,"Мониторинг и оценка","МО-2.1","Существует план мониторинга и оценки, отвечающий целям координированной системы эпиднадзора","У1","ДРУГОЕ "]
[null,null,"МО-2.1","С помощью плана мониторинга и оценки оценивается эффективность деятельности и достигнутый прогресс в рамках координированной системы эпиднадзора","У2","ДРУГОЕ "]
[null,null,"МО-2.1","Результаты мониторинга и оценки позволяют последовательно совершенствовать или расширять координированную систему эпиднадзора и приводить ее в соответствие с международными стандартами и рекомендациями ","У3","ДРУГОЕ "]
[null,null,"МО-3.1","Существует методология управления качеством данных","У1","ДРУГОЕ "]
[null,null,"МО-3.1","Качество данных проверено и признано соответствующим целям координированной системы эпиднадзора ","У2","ДРУГОЕ "]
[null,null,"МО-3.1","Качество данных соответствует международным стандартам и рекомендациям ","У3","ДРУГОЕ "]
["Национальный план действий по обеспечению безопасности в области здравоохранения (NAPHS)","Предварительное планирование","PPG","Н/П","Н/П","Н/П","PASS",8,9,7.8,10,8,4.5,10,10,10,{"$f":"SUM(H303:P303)/90","v":0.85888888888888881},"Руководящий документ","«Единое здоровье»; универсальный"]
[null,null,"ПП-1.1","Координаторы, «лидеры» или технические рабочие группы (включая выявленных координаторов или «лидеров») в области координированного эпиднадзора институализированы (например: в рамках руководящего органа, такого как МКМ)   ","У3","ДРУГОЕ "]
[null,null,"ПП-3.1","Цель(и), функции и обязанности в рамках координированной системы эпиднадзора пересмотрены для учета текущих потребностей координированной системы эпиднадзора ","У3","НАИБОЛЕЕ ПОДХОДЯЩИЙ"]
[null,"Оценка","AG","Н/П","Н/П","Н/П"]
[null,null,"О-1.1","Заинтересованные стороны в области эпиднадзора, эпидемиологии, лабораторных исследований и обмена информацией выявлены","У1","ДРУГОЕ "]
[null,null,null,"В ходе анализа заинтересованных сторон определены участники на всех уровнях в стране","У2","ДРУГОЕ "]
[null,null,null,"Функции и обязанности заинтересованных сторон институционализированы и включены в политические документы","У3","НАИБОЛЕЕ ПОДХОДЯЩИЙ"]
[null,null,"О-2.1","Оценка взаимосвязей между существующими системами эпиднадзора за приоритетными зоонозами проведена на межотраслевом уровне","У1","ДРУГОЕ "]
[null,null,null,"Оценка взаимосвязей между существующими системами эпиднадзора проведена на межотраслевом уровне и на всех уровнях в стране","У2","ДРУГОЕ "]
[null,null,null,"Взаимосвязи между существующими системами эпиднадзора проанализированы и признаны соответствующими целям координированной системы эпиднадзора.","У3","ДРУГОЕ "]
[null,null,"О-3.1","Рамочные программы и стратегические планы, относящиеся к координированной системе эпиднадзора, оценены на предмет их возможной консолидации и объединения на национальном уровне","У1","ДРУГОЕ "]
[null,null,null,"Рамочные программы и стратегические планы, относящиеся к координированной системе эпиднадзора, оценены на предмет их возможной консолидации и объединения на всех уровнях в стране","У3","ДРУГОЕ "]
[null,null,"О-3.2","Существующие планы эпиднадзора (включая определения случаев, протоколы и стандартные операционные процедуры), относящиеся к координированной системе эпиднадзора, оценены на предмет их возможной консолидации и объединения на национальном уровне","У1","ДРУГОЕ "]
[null,null,null,"Существующие планы эпиднадзора (включая определения случаев, протоколы и стандартные операционные процедуры), относящиеся к координированной системе эпиднадзора, оценены на предмет их возможной консолидации и объединения на всех уровнях в стране","У3","ДРУГОЕ "]
[null,null,"О-3.4","В результате проведения базового картирования инфраструктуры (в соответствие с ТРЗ, гл. 4.1) описаны структура и взаимосвязи внутри секторов и между ними ","У1","ДРУГОЕ "]
[null,null,null,"В ходе картирования инфраструктуры описано большинство подлежащих картированию областей (в соответствие с ТРЗ, гл. 4.1)","У2","ДРУГОЕ "]
[null,null,"О-4.1","Экономические оценки были использованы для определения национальных финансовых потребностей координированной системы эпиднадзора ","У1","ДРУГОЕ "]
[null,null,null,"Экономические оценки проведены для определения финансовых потребностей на всех уровнях в стране в отношении координированной системы эпиднадзора ","У3","ДРУГОЕ "]
[null,null,"О-5.1","В результате проведения оценок лабораторного потенциала были определены квалифицированные лаборатории на всех уровнях (включая международный), которые могут проводить тестирование для поддержки мероприятий в рамках координированного эпиднадзора","У2","ДРУГОЕ "]
[null,null,"О-6.1","Оценки кадровых ресурсов проведены для определения текущих требований, компетенций, потребностей и пробелов в области кадрового потенциала на национальном уровне","У1","ДРУГОЕ "]
[null,null,null,"Оценка кадровых ресурсов проведена для определения текущих требований, компетенций, потребностей и пробелов в области кадрового потенциала на всех уровнях в стране","У3","ДРУГОЕ "]
[null,"Планирование","PLG","Н/П","Н/П","Н/П"]
[null,null,"ПЛ-1.1","Имеется стратегия пропагандистской деятельности , которая служит основой для коммуникации с лицами, принимающими решения, по вопросам координированной системы эпиднадзора","У3","ДРУГОЕ "]
[null,null,"ПЛ-3.1","В целях планирования проведен межотраслевой обзор национальных рамочных программ и стратегических планов, относящихся к координированной системе эпиднадзора.","У1","ДРУГОЕ "]
[null,null,null,"Рамочные программы и стратегические планы по координированной системе эпиднадзора сведены воедино и согласованы на основе результатов оценки на всех уровнях в стране","У2","ДРУГОЕ "]
[null,null,null,"Пересмотренные рамочные программы и стратегические планы по координированной системе эпиднадзора приведены в соответствие с международными стандартами и рекомендациями. \n","У3","ДРУГОЕ "]
[null,null,"ПЛ-3.2","В целях планирования проведен межотраслевой обзор национальных планов эпиднадзора (включая оперативные планы/планы действий, определения случаев, протоколы и стандартные операционные процедуры), относящихся к координированной системе эпиднадзора.","У1","ДРУГОЕ "]
[null,null,null,"Планы эпиднадзора (включая оперативные планы/планы действий, определения случаев, протоколы и стандартные операционные процедуры) по координированной системе эпиднадзора сведены воедино и согласованы в целях обмена данными на всех уровнях в стране","У2","ДРУГОЕ "]
[null,null,null,"Пересмотренные планы эпиднадзора (включая оперативные планы/планы действий, определения случаев, протоколы и стандартные операционные процедуры) по координированной системе эпиднадзора приведены в соответствие с международными стандартами и рекомендациями.","У3","ДРУГОЕ "]
["Сеть для оценки мероприятий на основе концепции «Единое здоровье» (NEOH)","Предварительное планирование","ПП-3.1","Цель(и), функции и обязанности всех участвующих секторов координированной системы эпиднадзора согласованы и охватывают все уровни в стране","У2","ДРУГОЕ ","PASS",8.3000000000000007,7.7,5.3,8.9,7.8,4.7,5.3,8,5.3,{"$f":"SUM(H332:P332)/90","v":0.68111111111111111},"Руководящий документ","«Единое здоровье»; универсальный"]
[null,"Оценка","О-3.1","Рамочные программы и стратегические планы, относящиеся к координированной системе эпиднадзора, оценены на предмет их возможной консолидации и объединения на национальном уровне","У1","ДРУГОЕ "]
[null,null,null,"Рамочные программы и стратегические планы, относящиеся к координированной системе эпиднадзора, оценены на предмет их возможной консолидации и объединения на всех уровнях в стране","У3","ДРУГОЕ "]
[null,null,"О-3.3","Существующие планы действий/оперативные планы, относящиеся к координированной системе эпиднадзора, оценены на предмет их возможной консолидации и объединения на национальном уровне","У1","ДРУГОЕ "]
[null,null,null,"Существующие планы действий/оперативные планы, относящиеся к координированной системе эпиднадзора, оценены на предмет их возможной консолидации и объединения на всех уровнях в стране","У3","ДРУГОЕ "]
[null,null,"О-3.4","В результате проведения базового картирования инфраструктуры (в соответствие с ТРЗ, гл. 4.1) описаны структура и взаимосвязи внутри секторов и между ними ","У1","ДРУГОЕ "]
[null,null,null,"В ходе картирования инфраструктуры описано большинство подлежащих картированию областей (в соответствие с ТРЗ, гл. 4.1)","У2","ДРУГОЕ "]
[null,null,null,"Полное картирование инфраструктуры использовано для описания всех подлежащих картированию областей (в соответствие с ТРЗ, гл. 4.1).","У3","ДРУГОЕ "]
[null,null,"О-4.1","Экономические оценки были использованы для определения национальных финансовых потребностей координированной системы эпиднадзора ","У1","ДРУГОЕ "]
[null,null,null,"Экономические оценки проведены для определения финансовых потребностей на всех уровнях в стране в отношении координированной системы эпиднадзора ","У3","ДРУГОЕ "]
[null,"Планирование","ПЛ-1.1","Политическая поддержка координированной системы эпиднадзора сформирована, и ее сторонники имеются на всех страновых уровнях","У2","ДРУГОЕ "]
[null,null,null,"Имеется стратегия пропагандистской деятельности , которая служит основой для коммуникации с лицами, принимающими решения, по вопросам координированной системы эпиднадзора","У3","ДРУГОЕ "]
[null,"Мониторинг и оценка","МО-2.1","С помощью плана мониторинга и оценки оценивается эффективность деятельности и достигнутый прогресс в рамках координированной системы эпиднадзора","У2","ДРУГОЕ "]
[null,null,"МО-2.1","Результаты мониторинга и оценки позволяют последовательно совершенствовать или расширять координированную систему эпиднадзора и приводить ее в соответствие с международными стандартами и рекомендациями ","У3","ДРУГОЕ "]
["Национальная программа стандартизации системы общественного здравоохранения для повышения ее эффективности (NPHPSP): Инструмент оценки эффективности местной системы общественного здравоохранения (2-я версия)","Оценка","AG","Н/П","Н/П","Н/П","PASS",8.4,10,9.6,8.6999999999999993,10,6,5,4,6,{"$f":"SUM(H346:P346)/90","v":0.75222222222222224},"Руководящий документ","Ориентированный на конкретный сектор; универсальный"]
[null,null,"О-2.1","Оценка взаимосвязей между существующими системами эпиднадзора за приоритетными зоонозами проведена на межотраслевом уровне","У1","ДРУГОЕ "]
[null,null,null,"Оценка взаимосвязей между существующими системами эпиднадзора проведена на межотраслевом уровне и на всех уровнях в стране","У2","ДРУГОЕ "]
[null,null,null,"Взаимосвязи между существующими системами эпиднадзора проанализированы и признаны соответствующими целям координированной системы эпиднадзора.","У3","ДРУГОЕ "]
[null,null,"О-2.2","Оценка нормативно-правовой базы (правил, политики, руководящих принципов и положений, включая международные стандарты), регулирующей стандарты этики и конфиденциальности в области эпиднадзора и обмена данными, проведена.","У1","ДРУГОЕ "]
["Инструмент для оценки сети эпиднадзора (OASIS)","Оценка","AG","Н/П","Н/П","Н/П","PASS",8.1999999999999993,7,8,8.3000000000000007,7,6.5,4.5,5.0999999999999996,4.5,{"$f":"SUM(H351:P351)/90","v":0.65666666666666673},"Инструмент самооценки","Ориентированный на конкретный сектор; универсальный"]
[null,null,"О-2.1","Оценка взаимосвязей между существующими системами эпиднадзора за приоритетными зоонозами проведена на межотраслевом уровне","У1","НАИБОЛЕЕ ПОДХОДЯЩИЙ",null,8.1999999999999993,7,8,8.3000000000000007,7,6.5,4.5,5.0999999999999996,4.5,{"$f":"SUM(H352:P352)/90","v":0.65666666666666673}]
[null,null,null,"Оценка взаимосвязей между существующими системами эпиднадзора проведена на межотраслевом уровне и на всех уровнях в стране","У2","НАИБОЛЕЕ ПОДХОДЯЩИЙ",null,8.1999999999999993,7,8,8.3000000000000007,7,6.5,4.5,5.0999999999999996,4.5,{"$f":"SUM(H353:P353)/90","v":0.65666666666666673}]
[null,null,null,"Взаимосвязи между существующими системами эпиднадзора проанализированы и признаны соответствующими целям координированной системы эпиднадзора.","У3","НАИБОЛЕЕ ПОДХОДЯЩИЙ",null,8.1999999999999993,7,8,8.3000000000000007,7,6.5,4.5,5.0999999999999996,4.5,{"$f":"SUM(H354:P354)/90","v":0.65666666666666673}]
[null,null,"О-3.2","Существующие планы эпиднадзора (включая определения случаев, протоколы и стандартные операционные процедуры), относящиеся к координированной системе эпиднадзора, оценены на предмет их возможной консолидации и объединения на национальном уровне","У1","НАИБОЛЕЕ ПОДХОДЯЩИЙ",null,8.1999999999999993,7,8,8.3000000000000007,7,6.5,4.5,5.0999999999999996,4.5,{"$f":"SUM(H355:P355)/90","v":0.65666666666666673}]
[null,null,null,"Существующие планы эпиднадзора (включая определения случаев, протоколы и стандартные операционные процедуры), относящиеся к координированной системе эпиднадзора, оценены на предмет их возможной консолидации и объединения на всех уровнях в стране","У3","НАИБОЛЕЕ ПОДХОДЯЩИЙ",null,8.1999999999999993,7,8,8.3000000000000007,7,6.5,4.5,5.0999999999999996,4.5]
[null,null,"О-3.3","Существующие планы действий/оперативные планы, относящиеся к координированной системе эпиднадзора, оценены на предмет их возможной консолидации и объединения на национальном уровне","У1","ДРУГОЕ "]
[null,null,null,"Существующие планы действий/оперативные планы, относящиеся к координированной системе эпиднадзора, оценены на предмет их возможной консолидации и объединения на всех уровнях в стране","У3","ДРУГОЕ "]
[null,null,"О-5.1","В результате проведения оценок лабораторного потенциала были определены квалифицированные национальные или международные референс-лаборатории, которые могут проводить тестирование для поддержки деятельности в рамках координированного эпиднадзора","У1","НАИБОЛЕЕ ПОДХОДЯЩИЙ",null,8.1999999999999993,7,8,8.3000000000000007,7,6.5,4.5,5.0999999999999996,4.5]
[null,null,null,"В результате проведения оценок лабораторного потенциала были определены квалифицированные лаборатории на всех уровнях (включая международный), которые могут проводить тестирование для поддержки мероприятий в рамках координированного эпиднадзора","У2","НАИБОЛЕЕ ПОДХОДЯЩИЙ",null,8.1999999999999993,7,8,8.3000000000000007,7,6.5,4.5,5.0999999999999996,4.5]
[null,null,null,"В результате проведения оценок лабораторного потенциала выявлена сеть квалифицированных лабораторий, которые могут проводить тестирование для поддержки мероприятий в рамках координированного эпиднадзора","У3","НАИБОЛЕЕ ПОДХОДЯЩИЙ",null,8.1999999999999993,7,8,8.3000000000000007,7,6.5,4.5,5.0999999999999996,4.5]
[null,null,"О-5.2","Поставки лабораторных материалов, транспортные цепочки и методы интерпретации результатов оцениваются на предмет согласования между участвующими секторами на национальном уровне","У1","НАИБОЛЕЕ ПОДХОДЯЩИЙ"]
[null,null,null,"Поставки лабораторных материалов, транспортные цепочки и методы интерпретации результатов оценены на предмет согласования между участвующими секторами на всех уровнях в стране","У2","НАИБОЛЕЕ ПОДХОДЯЩИЙ"]
[null,null,null,"Степень согласованности способов поставок лабораторных материалов, транспортных цепочек и методов интерпретации результатов между участвующими секторами оценена и признана соответствующей целям координированной системы эпиднадзора","У3","НАИБОЛЕЕ ПОДХОДЯЩИЙ"]
[null,null,"О-6.1","Оценки кадровых ресурсов проведены для определения текущих требований, компетенций, потребностей и пробелов в области кадрового потенциала на национальном уровне","У1","НАИБОЛЕЕ ПОДХОДЯЩИЙ"]
[null,null,null,"Оценка кадровых ресурсов проведена для определения текущих требований, компетенций, потребностей и пробелов в области кадрового потенциала на всех уровнях в стране","У3","НАИБОЛЕЕ ПОДХОДЯЩИЙ"]
["Инструмент оценки систем здравоохранения на предмет предотвращения приоритетных зоонозов и борьбы с ними в соответствии с подходом «Единое здоровье» (OH-SAPZ)","Предварительное планирование","ПП-1.1","Во всех участвующих секторах на национальном уровне определены координаторы, «лидеры» или технические рабочие группы для планирования внедрения координированного эпиднадзора","У1","ДРУГОЕ ","PASS",7.9,7.3,7.2,7.8,6.5,5.2,4,8.3000000000000007,9.6999999999999993,{"$f":"SUM(H367:P367)/90","v":0.71000000000000008},"Инструмент самооценки","«Единое здоровье»; универсальный"]
[null,null,null,"Во всех участвующих секторах на всех уровнях в стране определены координаторы, «лидеры» или технические рабочие группы для планирования внедрения координированного эпиднадзора","У2","ДРУГОЕ "]
[null,null,null,"Координаторы, «лидеры» или технические рабочие группы (включая выявленных координаторов или «лидеров») в области координированного эпиднадзора институализированы (например: в рамках руководящего органа, такого как МКМ)   ","У3","ДРУГОЕ "]
[null,null,"ПП-2.1","Существует список приоритетных зоонозов, подлежащих включению в координированную систему эпиднадзора","У1","НАИБОЛЕЕ ПОДХОДЯЩИЙ"]
[null,null,null,"Список зоонозов широко распространен на субнациональном уровне и уровне сообществ","У2","НАИБОЛЕЕ ПОДХОДЯЩИЙ"]
[null,null,null,"Список зоонозов составляется с использованием межотраслевого подхода «Единое здоровье». Такой подход предполагает участие всех соответствующих секторов в основанном на фактических данных, прозрачном и воспроизводимом процессе определения приоритетов.","У3","НАИБОЛЕЕ ПОДХОДЯЩИЙ"]
[null,"Оценка","О-1.1","Заинтересованные стороны в области эпиднадзора, эпидемиологии, лабораторных исследований и обмена информацией выявлены","У1","НАИБОЛЕЕ ПОДХОДЯЩИЙ"]
[null,null,null,"В ходе анализа заинтересованных сторон определены участники на всех уровнях в стране","У2","НАИБОЛЕЕ ПОДХОДЯЩИЙ"]
[null,null,null,"Функции и обязанности заинтересованных сторон институционализированы и включены в политические документы","У3","НАИБОЛЕЕ ПОДХОДЯЩИЙ"]
[null,null,"О-3.1","Рамочные программы и стратегические планы, относящиеся к координированной системе эпиднадзора, оценены на предмет их возможной консолидации и объединения на национальном уровне","У1","НАИБОЛЕЕ ПОДХОДЯЩИЙ"]
[null,null,"О-3.4","В результате проведения базового картирования инфраструктуры (в соответствие с ТРЗ, гл. 4.1) описаны структура и взаимосвязи внутри секторов и между ними ","У1","НАИБОЛЕЕ ПОДХОДЯЩИЙ"]
[null,null,null,"В ходе картирования инфраструктуры описано большинство подлежащих картированию областей (в соответствие с ТРЗ, гл. 4.1)","У2","НАИБОЛЕЕ ПОДХОДЯЩИЙ"]
[null,null,null,"Полное картирование инфраструктуры использовано для описания всех подлежащих картированию областей (в соответствие с ТРЗ, гл. 4.1).","У3","НАИБОЛЕЕ ПОДХОДЯЩИЙ"]
[null,null,"О-5.1","В результате проведения оценок лабораторного потенциала были определены квалифицированные национальные или международные референс-лаборатории, которые могут проводить тестирование для поддержки деятельности в рамках координированного эпиднадзора","У1","ДРУГОЕ "]
[null,null,null,"В результате проведения оценок лабораторного потенциала были определены квалифицированные лаборатории на всех уровнях (включая международный), которые могут проводить тестирование для поддержки мероприятий в рамках координированного эпиднадзора","У2","ДРУГОЕ "]
[null,null,null,"В результате проведения оценок лабораторного потенциала выявлена сеть квалифицированных лабораторий, которые могут проводить тестирование для поддержки мероприятий в рамках координированного эпиднадзора","У3","ДРУГОЕ "]
["Инструментарий для картирования и анализа систем «Единое здоровье» (OH-SMART)","Предварительное планирование","PPG","Н/П","Н/П","Н/П","PASS",8.6999999999999993,7.3,8.4,9.3000000000000007,8.1999999999999993,7.4,9.5,10,10,{"$f":"SUM(H383:P383)/90","v":0.87555555555555564},"Инструмент или процесс с методическим руководством/пояснениями","«Единое здоровье»; универсальный"]
[null,"Оценка","О-1.1","Заинтересованные стороны в области эпиднадзора, эпидемиологии, лабораторных исследований и обмена информацией выявлены","У1","НАИБОЛЕЕ ПОДХОДЯЩИЙ"]
[null,null,null,"В ходе анализа заинтересованных сторон определены участники на всех уровнях в стране","У2","НАИБОЛЕЕ ПОДХОДЯЩИЙ"]
[null,null,null,"Функции и обязанности заинтересованных сторон институционализированы и включены в политические документы","У3","НАИБОЛЕЕ ПОДХОДЯЩИЙ"]
[null,null,"О-3.4","В результате проведения базового картирования инфраструктуры (в соответствие с ТРЗ, гл. 4.1) описаны структура и взаимосвязи внутри секторов и между ними ","У1","НАИБОЛЕЕ ПОДХОДЯЩИЙ"]
[null,null,null,"В ходе картирования инфраструктуры описано большинство подлежащих картированию областей (в соответствие с ТРЗ, гл. 4.1)","У2","НАИБОЛЕЕ ПОДХОДЯЩИЙ"]
[null,null,null,"Полное картирование инфраструктуры использовано для описания всех подлежащих картированию областей (в соответствие с ТРЗ, гл. 4.1).","У3","НАИБОЛЕЕ ПОДХОДЯЩИЙ"]
[null,null,"О-6.1","Оценки кадровых ресурсов проведены для определения текущих требований, компетенций, потребностей и пробелов в области кадрового потенциала на национальном уровне","У1","НАИБОЛЕЕ ПОДХОДЯЩИЙ"]
[null,null,null,"Оценка кадровых ресурсов проведена для определения текущих требований, компетенций, потребностей и пробелов в области кадрового потенциала на всех уровнях в стране","У3","НАИБОЛЕЕ ПОДХОДЯЩИЙ"]
[null,"Мониторинг и оценка","МО-1.1","Имитационные учения проводятся для оценки эффективности и функциональности координированной системы эпиднадзора на национальном уровне  ","У1","ДРУГОЕ "]
[null,null,"МО-1.1","Имитационные учения проводятся для оценки эффективности и функциональности координированной системы эпиднадзора на всех уровнях в стране  ","У2","ДРУГОЕ "]
[null,null,"МО-1.1","Результаты имитационных учений используются при составлении и пересмотре планов по координированному эпиднадзору ","У3","ДРУГОЕ "]
["Оценка для улучшения планирования и повышения эффективности на основе принципа «Единое здоровье» (OH-APP)","Планирование","PLG","Н/П","Н/П","Н/П","PASS",9.5,9,9.4,7.3,9.1999999999999993,10,8,7.9,5.5,{"$f":"SUM(H395:P395)/90","v":0.84222222222222221},"Инструмент или процесс с методическим руководством/пояснениями","«Единое здоровье»; универсальный"]
["Кодекс по эпиднадзору на основе концепции «Единое здоровье» (OHS) ","Планирование","ПЛ-2.1","Общие элементы данных стандартизированы во всех участвующих секторах на основе общих аналитических целей координированной системы эпиднадзора и отвечают международным стандартам данных","У3","НАИБОЛЕЕ ПОДХОДЯЩИЙ","PASS",9,6,8.5,8.6999999999999993,8.1,2.8,2,6,5,{"$f":"SUM(H396:P396)/90","v":0.62333333333333329},"Инструмент самооценки","«Единое здоровье»; универсальный"]
[null,null,"ПЛ-3.2","Пересмотренные планы эпиднадзора (включая оперативные планы/планы действий, определения случаев, протоколы и стандартные операционные процедуры) по координированной системе эпиднадзора приведены в соответствие с международными стандартами и рекомендациями.","У3","НАИБОЛЕЕ ПОДХОДЯЩИЙ"]
[null,null,"ПЛ-7.1","Проведено согласование коммуникационной терминологии и сообщений между всеми секторами, участвующими в координированной системе эпиднадзора на национальном уровне.","У1","НАИБОЛЕЕ ПОДХОДЯЩИЙ"]
[null,null,null,"Согласованная коммуникационная терминология и сообщения между всеми секторами, участвующими в координированной системе эпиднадзора, доведены до всех уровней в стране","У2","НАИБОЛЕЕ ПОДХОДЯЩИЙ"]
["Инструмент для оценки требований и готовности к эпиднадзору на основе концепции «Единое здоровье» (OHSRRT)","Предварительное планирование","ПП-1.1","Координаторы, «лидеры» или технические рабочие группы (включая выявленных координаторов или «лидеров») в области координированного эпиднадзора институализированы (например: в рамках руководящего органа, такого как МКМ)   ","У3","ДРУГОЕ ","PASS",8,6,7.4,8.6999999999999993,6,2.5,2,9.6,5.5,{"$f":"SUM(H400:P400)/90","v":0.61888888888888882},"Инструмент самооценки","«Единое здоровье»; универсальный"]
[null,null,"ПП-3.1","Цель(и), функции и обязанности всех участвующих секторов координированной системы эпиднадзора согласованы на национальном уровне","У1","НАИБОЛЕЕ ПОДХОДЯЩИЙ"]
[null,null,null,"Цель(и), функции и обязанности всех участвующих секторов координированной системы эпиднадзора согласованы и охватывают все уровни в стране","У2","НАИБОЛЕЕ ПОДХОДЯЩИЙ"]
[null,null,null,"Цель(и), функции и обязанности в рамках координированной системы эпиднадзора пересмотрены для учета текущих потребностей координированной системы эпиднадзора ","У3","НАИБОЛЕЕ ПОДХОДЯЩИЙ"]
[null,"Оценка","О-1.1","Заинтересованные стороны в области эпиднадзора, эпидемиологии, лабораторных исследований и обмена информацией выявлены","У1","НАИБОЛЕЕ ПОДХОДЯЩИЙ"]
[null,null,null,"В ходе анализа заинтересованных сторон определены участники на всех уровнях в стране","У2","ДРУГОЕ "]
[null,null,"О-2.1","Оценка взаимосвязей между существующими системами эпиднадзора за приоритетными зоонозами проведена на межотраслевом уровне","У1","ДРУГОЕ "]
[null,null,null,"Оценка взаимосвязей между существующими системами эпиднадзора проведена на межотраслевом уровне и на всех уровнях в стране","У2","ДРУГОЕ "]
[null,null,null,"Взаимосвязи между существующими системами эпиднадзора проанализированы и признаны соответствующими целям координированной системы эпиднадзора.","У3","ДРУГОЕ "]
[null,null,"О-2.2","Оценка нормативно-правовой базы (правил, политики, руководящих принципов и положений, включая международные стандарты), регулирующей стандарты этики и конфиденциальности в области эпиднадзора и обмена данными, проведена.","У1","ДРУГОЕ "]
[null,null,"О-3.2","Существующие планы эпиднадзора (включая определения случаев, протоколы и стандартные операционные процедуры), относящиеся к координированной системе эпиднадзора, оценены на предмет их возможной консолидации и объединения на национальном уровне","У1","ДРУГОЕ "]
[null,null,null,"Существующие планы эпиднадзора (включая определения случаев, протоколы и стандартные операционные процедуры), относящиеся к координированной системе эпиднадзора, оценены на предмет их возможной консолидации и объединения на всех уровнях в стране","У3","ДРУГОЕ "]
[null,"Планирование","ПЛ-2.1","Общие элементы данных стандартизированы во всех участвующих секторах на основе общих аналитических целей координированной системы эпиднадзора и отвечают международным стандартам данных","У3","ДРУГОЕ "]
["Инструментарий для картирования и анализа систем «Единое здоровье» (OH-SMART)","Планирование","ПЛ-3.1","В целях планирования проведен межотраслевой обзор национальных рамочных программ и стратегических планов, относящихся к координированной системе эпиднадзора.","У1","ДРУГОЕ ","PASS",8.6999999999999993,7.3,8.4,9.3000000000000007,8.1999999999999993,7.4,9.5,10,10,{"$f":"SUM(H413:P413)/90","v":0.87555555555555564},"Инструмент или процесс с методическим руководством/пояснениями","«Единое здоровье»; универсальный"]
[null,null,null,"Рамочные программы и стратегические планы по координированной системе эпиднадзора сведены воедино и согласованы на основе результатов оценки на всех уровнях в стране","У2","ДРУГОЕ "]
["Процесс приоритизации зоонозов на основе концепции «Единое здоровье» (OHZDP)","Предварительное планирование","ПП-2.1","Существует список приоритетных зоонозов, подлежащих включению в координированную систему эпиднадзора","У1","НАИБОЛЕЕ ПОДХОДЯЩИЙ","PASS",8,9.3000000000000007,9.1,6.7,7,7.3,8.3000000000000007,9.1,9.3000000000000007,{"$f":"SUM(H415:P415)/90","v":0.82333333333333325},"Инструмент или процесс с методическим руководством/пояснениями","«Единое здоровье»; универсальный"]
[null,null,null,"Список зоонозов широко распространен на субнациональном уровне и уровне сообществ","У2","НАИБОЛЕЕ ПОДХОДЯЩИЙ"]
[null,null,null,"Список зоонозов составляется с использованием межотраслевого подхода «Единое здоровье». Такой подход предполагает участие всех соответствующих секторов в основанном на фактических данных, прозрачном и воспроизводимом процессе определения приоритетов.","У3","НАИБОЛЕЕ ПОДХОДЯЩИЙ"]
["Сборник материалов для организации единых пунктов пограничного контроля","Планирование","ПЛ-6.1","Пересмотренные нормативно-правовые рамки для координированной системы эпиднадзора приведены в соответствие с международными стандартами и рекомендациями. ","У3","ДРУГОЕ ","1 Eval",8.4,2,6,10,8.6,2,8,5.5,8,{"$f":"SUM(H418:P418)/90","v":0.65},"Руководящий документ","«Единое здоровье»; ориентированный на конкретную болезнь/угрозу "]
["Система оценки эффективности ветеринарных служб (ПВС), разработанная Всемирной организацией охраны здоровья животных (МЭБ)","Оценка","AG","Н/П","Н/П","Н/П","PASS",7.5,8,4.9000000000000004,4.7,6.7,5.5,9.5,4.9000000000000004,6,{"$f":"SUM(H419:P419)/90","v":0.64111111111111108},"Инструмент или процесс с методическим руководством/пояснениями","Ориентированный на конкретный сектор; универсальный"]
["Анализ пробелов ПВС, разработанный Всемирной организацией охраны здоровья животных (МЭБ)","Оценка","О-1.1","Заинтересованные стороны в области эпиднадзора, эпидемиологии, лабораторных исследований и обмена информацией выявлены","У1","ДРУГОЕ ","PASS",6.8,8,5.6,10,6,4.3,9.5,4.7,7,{"$f":"SUM(H420:P420)/90","v":0.68777777777777771},"Инструмент или процесс с методическим руководством/пояснениями","Ориентированный на конкретный сектор; универсальный"]
[null,null,null,"В ходе анализа заинтересованных сторон определены участники на всех уровнях в стране","У2","ДРУГОЕ "]
[null,null,"О-3.4","В результате проведения базового картирования инфраструктуры (в соответствие с ТРЗ, гл. 4.1) описаны структура и взаимосвязи внутри секторов и между ними ","У1","ДРУГОЕ "]
[null,null,"О-4.1","Экономические оценки были использованы для определения национальных финансовых потребностей координированной системы эпиднадзора ","У1","ДРУГОЕ "]
[null,null,"О-5.2","Поставки лабораторных материалов, транспортные цепочки и методы интерпретации результатов оцениваются на предмет согласования между участвующими секторами на национальном уровне","У1","ДРУГОЕ "]
[null,"Планирование","ПЛ-3.1","В целях планирования проведен межотраслевой обзор национальных рамочных программ и стратегических планов, относящихся к координированной системе эпиднадзора.","У1","ДРУГОЕ "]
[null,null,"ПЛ-6.1","По результатам оценки необходимые нормативно-правовые рамки (правила, стратегии, руководства и положения, включая международные стандарты) стандартизированы во всех секторах на национальном уровне","У1","ДРУГОЕ "]
["Миссия ПВС по лабораториям, разработанная Всемирной организацией охраны здоровья животных (МЭБ)","Оценка","О-5.1","В результате проведения оценок лабораторного потенциала были определены квалифицированные национальные или международные референс-лаборатории, которые могут проводить тестирование для поддержки деятельности в рамках координированного эпиднадзора","У1","ДРУГОЕ ","Pass",7.6,9,5.4,3.3,7.6,4,6,4.3,4,{"$f":"SUM(H427:P427)/90","v":0.56888888888888889},"Инструмент или процесс с методическим руководством/пояснениями","Ориентированный на конкретный сектор; универсальный"]
[null,null,null,"В результате проведения оценок лабораторного потенциала были определены квалифицированные лаборатории на всех уровнях (включая международный), которые могут проводить тестирование для поддержки мероприятий в рамках координированного эпиднадзора","У2","ДРУГОЕ "]
[null,null,null,"В результате проведения оценок лабораторного потенциала выявлена сеть квалифицированных лабораторий, которые могут проводить тестирование для поддержки мероприятий в рамках координированного эпиднадзора","У3","ДРУГОЕ "]
["Инструмент для расчета затрат на вспышки болезней животных","Оценка","О-4.1","Экономические оценки были использованы для определения национальных финансовых потребностей координированной системы эпиднадзора","У1","НАИБОЛЕЕ ПОДХОДЯЩИЙ","PASS",8.5,7.3,9.3000000000000007,9.1,7.8,7.2,2.9,8.3000000000000007,7.3,{"$f":"SUM(H430:P430)/90","v":0.75222222222222224},"Инструмент самооценки","«Единое здоровье»; универсальный"]
[null,null,null,"Экономические оценки проведены для определения финансовых потребностей на всех уровнях в стране в отношении координированной системы эпиднадзора ","У3","НАИБОЛЕЕ ПОДХОДЯЩИЙ"]
[null,"Планирование","ПЛ-4.1","Имеются бюджетный план и механизм распределения средств для осуществления координированного эпиднадзора на национальном уровне","У1","ДРУГОЕ "]
["Глоссарий Общеевропейской программы «Единое здоровье» (OHEJP)","Планирование","ПЛ-7.1","Проведено согласование коммуникационной терминологии и сообщений между всеми секторами, участвующими в координированной системе эпиднадзора на национальном уровне.","У1","НАИБОЛЕЕ ПОДХОДЯЩИЙ","PASS",8.8000000000000007,6,8.4,7,9.1999999999999993,7.6,7,7.1,5,{"$f":"SUM(H433:P433)/90","v":0.73444444444444457},"Оборудование или программное обеспечение","«Единое здоровье»; универсальный"]
[null,null,"ПЛ-7.1","Согласованная коммуникационная терминология и сообщения между всеми секторами, участвующими в координированной системе эпиднадзора, доведены до всех уровней в стране","У2","НАИБОЛЕЕ ПОДХОДЯЩИЙ"]
["Методика поэтапного решения проблемы устойчивости к противомикробным препаратам (МПР УПП)","Оценка","AG","Н/П","Н/П","Н/П","PASS",7,7,8.1999999999999993,4,7.9,7.7,5,7.3,4,{"$f":"SUM(H435:P435)/90","v":0.64555555555555555},"Инструмент или процесс с методическим руководством/пояснениями","«Единое здоровье»; универсальный"]
[null,"Планирование","PLG","Н/П","Н/П","Н/П"]
["Анализ политического поля (PFA)","Предварительное планирование","ПП-1.1","Во всех участвующих секторах на национальном уровне определены координаторы, «лидеры» или технические рабочие группы для планирования внедрения координированного эпиднадзора","У1","НАИБОЛЕЕ ПОДХОДЯЩИЙ","PASS",7.8,8,9.8000000000000007,10,7.1,4,7,8.8000000000000007,5,{"$f":"SUM(H437:P437)/90","v":0.75},"Руководящий документ","«Единое здоровье»; универсальный"]
[null,null,null,"Во всех участвующих секторах на всех уровнях в стране определены координаторы, «лидеры» или технические рабочие группы для планирования внедрения координированного эпиднадзора","У2","НАИБОЛЕЕ ПОДХОДЯЩИЙ"]
[null,null,null,"Координаторы, «лидеры» или технические рабочие группы (включая выявленных координаторов или «лидеров») в области координированного эпиднадзора институализированы (например: в рамках руководящего органа, такого как МКМ)   ","У3","ДРУГОЕ "]
[null,"Оценка","О-1.1","Заинтересованные стороны в области эпиднадзора, эпидемиологии, лабораторных исследований и обмена информацией выявлены","У1","НАИБОЛЕЕ ПОДХОДЯЩИЙ"]
[null,null,null,"В ходе анализа заинтересованных сторон определены участники на всех уровнях в стране","У2","ДРУГОЕ "]
[null,null,"О-2.2","Оценка нормативно-правовой базы (правил, политики, руководящих принципов и положений, включая международные стандарты), регулирующей стандарты этики и конфиденциальности в области эпиднадзора и обмена данными, проведена.","У1","НАИБОЛЕЕ ПОДХОДЯЩИЙ"]
[null,null,"О-3.4","В результате проведения базового картирования инфраструктуры (в соответствие с ТРЗ, гл. 4.1) описаны структура и взаимосвязи внутри секторов и между ними ","У1","ДРУГОЕ "]
[null,"Планирование","ПЛ-1.1","Определены лица, принимающие решения в отношении координированной системы эпиднадзора","У1","ДРУГОЕ "]
["Инструмент для оценки стоимости программ вакцинации от бешенства ","Оценка","О-4.1","Экономические оценки проведены для определения финансовых потребностей на всех уровнях в стране в отношении координированной системы эпиднадзора ","У1","ДРУГОЕ ","PASS",9.1999999999999993,6,6.6,4,7.1,5.5,4,7.6,8,{"$f":"SUM(H445:P445)/90","v":0.64444444444444449},"Инструмент самооценки","«Единое здоровье»; ориентированный на конкретную болезнь/угрозу "]
[null,null,null,"Экономические оценки были использованы для определения национальных финансовых потребностей координированной системы эпиднадзора ","У3","ДРУГОЕ "]
["Инструмент оценки экономической эффективности системы эпиднадзора за бешенством у животных","Оценка","О-4.1","Экономические оценки были использованы для определения национальных финансовых потребностей координированной системы эпиднадзора ","У1","НАИБОЛЕЕ ПОДХОДЯЩИЙ","PASS",9.6,6,7,8.6999999999999993,6.7,6.8,6,8.8000000000000007,8,{"$f":"SUM(H447:P447)/90","v":0.75111111111111106},"Инструмент самооценки","«Единое здоровье»; ориентированный на конкретную болезнь/угрозу "]
[null,null,null,"Экономические оценки проведены для определения финансовых потребностей на всех уровнях в стране в отношении координированной системы эпиднадзора ","У3","НАИБОЛЕЕ ПОДХОДЯЩИЙ"]
[null,"Внедрение","B-1.1 ","Имеется финансирование для осуществления координированного эпиднадзора на национальном уровне","У1","ДРУГОЕ "]
["Инструмент для оценки прогресса на пути к ликвидации бешенства (TAPER)","Внедрение","В-4.1 ","Запущен пилотный проект координированной системы эпиднадзора в целевых регионах","У1","ДРУГОЕ ","PASS",9.6,10,7.3,8,8.8000000000000007,5.5,4.3,7.9,6,{"$f":"SUM(H450:P450)/90","v":0.74888888888888894},"Оборудование или программное обеспечение","«Единое здоровье»; ориентированный на конкретную болезнь/угрозу "]
[null,null,"В-4.1 ","Координированная система эпиднадзора расширена до дополнительных областей исходя из пилотных внедрений","У2","ДРУГОЕ "]
[null,null,"В-4.1 ","Координированная системы эпиднадзора является общегосударственной программой","У3","ДРУГОЕ "]
["Поэтапный подход к ликвидации бешенства (SARE)","Оценка","О-1.1","Заинтересованные стороны в области эпиднадзора, эпидемиологии, лабораторных исследований и обмена информацией выявлены","У1","НАИБОЛЕЕ ПОДХОДЯЩИЙ","PASS",8,9,6.6,3.3,5.7,6.8,8,8.6,9.5,{"$f":"SUM(H453:P453)/90","v":0.72777777777777775},"Инструмент самооценки","«Единое здоровье»; ориентированный на конкретную болезнь/угрозу "]
[null,null,null,"В ходе анализа заинтересованных сторон определены участники на всех уровнях в стране","У2","ДРУГОЕ "]
[null,null,"О-2.1","Оценка взаимосвязей между существующими системами эпиднадзора за приоритетными зоонозами проведена на межотраслевом уровне","У1","ДРУГОЕ "]
[null,null,null,"Оценка взаимосвязей между существующими системами эпиднадзора проведена на межотраслевом уровне и на всех уровнях в стране","У2","ДРУГОЕ "]
[null,null,null,"Взаимосвязи между существующими системами эпиднадзора проанализированы и признаны соответствующими целям координированной системы эпиднадзора.","У3","ДРУГОЕ "]
[null,null,"О-2.2","Оценка нормативно-правовой базы (правил, политики, руководящих принципов и положений, включая международные стандарты), регулирующей стандарты этики и конфиденциальности в области эпиднадзора и обмена данными, проведена.","У1","ДРУГОЕ "]
[null,null,null,"Оценка нормативно-правовой базы (правил, политики, руководящих принципов и положений, включая международные стандарты), регулирующей стандарты этики и конфиденциальности в области эпиднадзора и обмена данными, проводится на всех уровнях в стране ","У3","ДРУГОЕ "]
[null,null,"О-3.2","Существующие планы эпиднадзора (включая определения случаев, протоколы и стандартные операционные процедуры), относящиеся к координированной системе эпиднадзора, оценены на предмет их возможной консолидации и объединения на национальном уровне","У1","НАИБОЛЕЕ ПОДХОДЯЩИЙ"]
[null,null,"О-3.2","Существующие планы эпиднадзора (включая определения случаев, протоколы и стандартные операционные процедуры), относящиеся к координированной системе эпиднадзора, оценены на предмет их возможной консолидации и объединения на всех уровнях в стране","У3","НАИБОЛЕЕ ПОДХОДЯЩИЙ"]
[null,null,"О-3.3","Существующие планы действий/оперативные планы, относящиеся к координированной системе эпиднадзора, оценены на предмет их возможной консолидации и объединения на национальном уровне","У1","ДРУГОЕ "]
[null,null,null,"Существующие планы действий/оперативные планы, относящиеся к координированной системе эпиднадзора, оценены на предмет их возможной консолидации и объединения на всех уровнях в стране","У3","ДРУГОЕ "]
[null,null,"О-5.1","В результате проведения оценок лабораторного потенциала были определены квалифицированные национальные или международные референс-лаборатории, которые могут проводить тестирование для поддержки деятельности в рамках координированного эпиднадзора","У1","ДРУГОЕ "]
[null,null,null,"В результате проведения оценок лабораторного потенциала были определены квалифицированные лаборатории на всех уровнях (включая международный), которые могут проводить тестирование для поддержки мероприятий в рамках координированного эпиднадзора","У2","ДРУГОЕ "]
[null,null,null,"В результате проведения оценок лабораторного потенциала выявлена сеть квалифицированных лабораторий, которые могут проводить тестирование для поддержки мероприятий в рамках координированного эпиднадзора","У3","ДРУГОЕ "]
[null,"Планирование","ПЛ-1.1","Определены лица, принимающие решения в отношении координированной системы эпиднадзора","У1","ДРУГОЕ "]
[null,null,null,"Политическая поддержка координированной системы эпиднадзора сформирована, и ее сторонники имеются на всех страновых уровнях","У2","НАИБОЛЕЕ ПОДХОДЯЩИЙ"]
[null,null,null,"Имеется стратегия пропагандистской деятельности , которая служит основой для коммуникации с лицами, принимающими решения, по вопросам координированной системы эпиднадзора","У3","НАИБОЛЕЕ ПОДХОДЯЩИЙ"]
[null,null,"ПЛ-3.1","В целях планирования проведен межотраслевой обзор национальных рамочных программ и стратегических планов, относящихся к координированной системе эпиднадзора.","У1","ДРУГОЕ "]
[null,null,null,"Рамочные программы и стратегические планы по координированной системе эпиднадзора сведены воедино и согласованы на основе результатов оценки на всех уровнях в стране","У2","НАИБОЛЕЕ ПОДХОДЯЩИЙ"]
[null,null,null,"Пересмотренные рамочные программы и стратегические планы по координированной системе эпиднадзора приведены в соответствие с международными стандартами и рекомендациями. \n","У3","НАИБОЛЕЕ ПОДХОДЯЩИЙ"]
[null,null,"ПЛ-3.2","В целях планирования проведен межотраслевой обзор национальных планов эпиднадзора (включая оперативные планы/планы действий, определения случаев, протоколы и стандартные операционные процедуры), относящихся к координированной системе эпиднадзора.","У1","ДРУГОЕ "]
[null,null,null,"Планы эпиднадзора (включая оперативные планы/планы действий, определения случаев, протоколы и стандартные операционные процедуры) по координированной системе эпиднадзора сведены воедино и согласованы в целях обмена данными на всех уровнях в стране","У2","ДРУГОЕ "]
[null,null,null,"Пересмотренные планы эпиднадзора (включая оперативные планы/планы действий, определения случаев, протоколы и стандартные операционные процедуры) по координированной системе эпиднадзора приведены в соответствие с международными стандартами и рекомендациями.","У3","ДРУГОЕ "]
[null,null,"ПЛ-6.1","По результатам оценки необходимые нормативно-правовые рамки (правила, стратегии, руководства и положения, включая международные стандарты) стандартизированы во всех секторах на национальном уровне","У1","ДРУГОЕ "]
[null,null,null,"По результатам оценки необходимые нормативно-правовые рамки (правила, стратегии, руководства и положения, включая международные стандарты) стандартизированы во всех секторах на всех страновых уровнях","У2","ДРУГОЕ "]
[null,null,null,"Пересмотренные нормативно-правовые рамки для координированной системы эпиднадзора приведены в соответствие с международными стандартами и рекомендациями. ","У3","ДРУГОЕ "]
[null,null,"ПЛ-7.1","Проведено согласование коммуникационной терминологии и сообщений между всеми секторами, участвующими в координированной системе эпиднадзора на национальном уровне.","У1","ДРУГОЕ "]
[null,null,null,"Согласованная коммуникационная терминология и сообщения между всеми секторами, участвующими в координированной системе эпиднадзора, доведены до всех уровней в стране","У2","ДРУГОЕ "]
[null,null,null,"Существует стратегия коммуникации и/или план коммуникации (включающий терминологию и формы сообщений), на основе которых осуществляется коммуникация с заинтересованными сторонами и населением в рамках координированной системы эпиднадзора","У3","ДРУГОЕ "]
["Картирование ресурсов для соблюдения ММСП и обеспечения санитарно-эпидемиологической безопасности (REMAP)","Предварительное планирование","PPG","Н/П","Н/П","Н/П","PASS",9.6,4.7,8,7,5.9,5,4,7.2,4,{"$f":"SUM(H482:P482)/90","v":0.61555555555555563},"Оборудование или программное обеспечение","«Единое здоровье»; универсальный"]
["Онлайн-инструменты для разработки и оценки систем эпиднадзора (SURVTOOLS) ","Оценка","О-3.2","Существующие планы эпиднадзора (включая определения случаев, протоколы и стандартные операционные процедуры), относящиеся к координированной системе эпиднадзора, оценены на предмет их возможной консолидации и объединения на национальном уровне","У1","ДРУГОЕ ","PASS",9.6,2,6.7,6.7,6.6,3.5,6.7,4.9000000000000004,4.7,{"$f":"SUM(H483:P483)/90","v":0.57111111111111112},"Оборудование или программное обеспечение","Ориентированный на конкретный сектор; универсальный"]
[null,null,null,"Существующие планы эпиднадзора (включая определения случаев, протоколы и стандартные операционные процедуры), относящиеся к координированной системе эпиднадзора, оценены на предмет их возможной консолидации и объединения на всех уровнях в стране","У3","ДРУГОЕ "]
[null,null,"О-4.1","Экономические оценки были использованы для определения национальных финансовых потребностей координированной системы эпиднадзора ","У1","НАИБОЛЕЕ ПОДХОДЯЩИЙ"]
[null,null,null,"Экономические оценки проведены для определения финансовых потребностей на всех уровнях в стране в отношении координированной системы эпиднадзора ","У3","НАИБОЛЕЕ ПОДХОДЯЩИЙ"]
[null,"Планирование","ПЛ-3.2","В целях планирования проведен межотраслевой обзор национальных планов эпиднадзора (включая оперативные планы/планы действий, определения случаев, протоколы и стандартные операционные процедуры), относящихся к координированной системе эпиднадзора.","У1","ДРУГОЕ "]
[null,"Мониторинг и оценка","МО-2.1","Существует план мониторинга и оценки, отвечающий целям координированной системы эпиднадзора","У1","ДРУГОЕ "]
["Пакет программного обеспечения для проведения автоматического глобального электронного биомониторинга (SAGES)","Внедрение","B-3.1 \n","Существует механизм обмена данными между секторами на национальном уровне","У1","НАИБОЛЕЕ ПОДХОДЯЩИЙ","PASS",9.8000000000000007,10,10,9.3000000000000007,8.5,9,5.5,9.5,7,{"$f":"SUM(H489:P489)/90","v":0.87333333333333329},"Оборудование или программное обеспечение","«Единое здоровье»; универсальный"]
[null,null,"B-3.1 \n","Существует механизм обмена данными между секторами на всех страновых уровнях","У2","НАИБОЛЕЕ ПОДХОДЯЩИЙ"]
[null,null,"B-3.1 \n","Существует доступный, функциональный и удобный для использования всеми участвующими секторами механизм обмена данными","У3","НАИБОЛЕЕ ПОДХОДЯЩИЙ"]
[null,null,"B-3.2\n","Существуют структура и место для хранения и ведения данных, получаемых из различных секторов, на национальном уровне.","У1","НАИБОЛЕЕ ПОДХОДЯЩИЙ"]
[null,null,"B-3.2\n","Существуют структура и место для хранения и ведения данных, получаемых из различных секторов, на всех уровнях в стране","У2","НАИБОЛЕЕ ПОДХОДЯЩИЙ"]
[null,null,"B-3.2\n","Существуют доступная, функциональная и используемая всеми участвующими секторами структура и место для хранения и ведения данных, получаемых из всех соответствующих секторов","У3","НАИБОЛЕЕ ПОДХОДЯЩИЙ"]
[null,null,"B-3.3\n","Для защиты данных координированного эпиднадзора применяются меры по обеспечению конфиденциальности и безопасности данных на национальном уровне ","У1","НАИБОЛЕЕ ПОДХОДЯЩИЙ"]
[null,null,"B-3.3\n","Для защиты данных координированного эпиднадзора применяются меры по обеспечению конфиденциальности и безопасности данных на всех уровнях в стране","У2","НАИБОЛЕЕ ПОДХОДЯЩИЙ"]
[null,null,"B-3.3\n","Для защиты данных координированного эпиднадзора, прошедших оценку и соответствующих целям координированной системы эпиднадзора, применяются меры по обеспечению конфиденциальности и безопасности данных ","У3","НАИБОЛЕЕ ПОДХОДЯЩИЙ"]
[null,null,"В-4.1 ","Запущен пилотный проект координированной системы эпиднадзора в целевых регионах","У1","ДРУГОЕ "]
[null,null,"В-4.1 ","Координированная система эпиднадзора расширена до дополнительных областей исходя из пилотных внедрений","У2","ДРУГОЕ "]
[null,null,"В-4.1 ","Координированная системы эпиднадзора является общегосударственной программой","У3","ДРУГОЕ "]
[null,null,"B-4.2","Обмен данными осуществляется неофициально или официально эпизодически на национальном уровне","У1","НАИБОЛЕЕ ПОДХОДЯЩИЙ"]
[null,null,"B-4.2","Обмен данными осуществляется неофициально или официально регулярно и своевременно на всех уровнях в стране","У2","НАИБОЛЕЕ ПОДХОДЯЩИЙ"]
[null,null,"B-4.2","Данные систематически, регулярно и своевременно предоставляются всем участвующим секторам через универсальную или объединенную платформу(платформы) ","У3","НАИБОЛЕЕ ПОДХОДЯЩИЙ"]
[null,null,"B-5.3","Данные координированного эпиднадзора позволяют получить выходные материалы (например: рисунки, графики, отчеты или бюллетени), которые распространяются на национальном уровне","У1","НАИБОЛЕЕ ПОДХОДЯЩИЙ"]
[null,null,"B-5.3","Данные координированного эпиднадзора позволяют получить выходные материалы (например: рисунки, графики, отчеты или бюллетени), которые распространяются среди заинтересованных сторон на всех уровнях в стране","У2","НАИБОЛЕЕ ПОДХОДЯЩИЙ"]
[null,"Мониторинг и оценка","МО-1.1","Имитационные учения проводятся для оценки эффективности и функциональности координированной системы эпиднадзора на национальном уровне  ","У1","ДРУГОЕ "]
[null,null,"МО-1.1","Имитационные учения проводятся для оценки эффективности и функциональности координированной системы эпиднадзора на всех уровнях в стране  ","У2","ДРУГОЕ "]
[null,null,"МО-1.1","Результаты имитационных учений используются при составлении и пересмотре планов по координированному эпиднадзору ","У3","ДРУГОЕ "]
[null,null,"МО-3.1","Качество данных проверено и признано соответствующим целям координированной системы эпиднадзора ","У2","ДРУГОЕ "]
["Рамочная программа по оценке эпиднадзора за здоровьем животных (SERVAL)","Оценка","AG","Н/П","Н/П","Н/П","PASS",8.8000000000000007,9,9,10,8.1,3.3,4,6.8,8,{"$f":"SUM(H510:P510)/90","v":0.74444444444444446},"Руководящий документ","Ориентированный на конкретный сектор; универсальный"]
[null,null,"О-1.1","Заинтересованные стороны в области эпиднадзора, эпидемиологии, лабораторных исследований и обмена информацией выявлены","У1","ДРУГОЕ "]
[null,null,"О-3.2","Существующие планы эпиднадзора (включая определения случаев, протоколы и стандартные операционные процедуры), относящиеся к координированной системе эпиднадзора, оценены на предмет их возможной консолидации и объединения на национальном уровне","У1","ДРУГОЕ "]
[null,null,"О-4.1","Экономические оценки были использованы для определения национальных финансовых потребностей координированной системы эпиднадзора ","У1","ДРУГОЕ "]
[null,"Мониторинг и оценка","МО-2.1","Существует план мониторинга и оценки, отвечающий целям координированной системы эпиднадзора","У1","ДРУГОЕ "]
[null,null,"МО-2.1","С помощью плана мониторинга и оценки оценивается эффективность деятельности и достигнутый прогресс в рамках координированной системы эпиднадзора","У2","ДРУГОЕ "]
[null,null,"МО-3.1","Существует методология управления качеством данных","У1","ДРУГОЕ "]
["Инструмент ФАО для оценки эффективности эпиднадзора (SET)","Оценка","О-2.1","Оценка взаимосвязей между существующими системами эпиднадзора за приоритетными зоонозами проведена на межотраслевом уровне","У1","НАИБОЛЕЕ ПОДХОДЯЩИЙ","PASS",8.1999999999999993,8.3000000000000007,7,7.7,6.7,6.3,8,6.8,8.5,{"$f":"SUM(H517:P517)/90","v":0.75},"Инструмент или процесс с методическим руководством/пояснениями","Ориентированный на конкретный сектор; универсальный"]
[null,null,null,"Оценка взаимосвязей между существующими системами эпиднадзора проведена на межотраслевом уровне и на всех уровнях в стране","У2","НАИБОЛЕЕ ПОДХОДЯЩИЙ"]
[null,null,null,"Взаимосвязи между существующими системами эпиднадзора проанализированы и признаны соответствующими целям координированной системы эпиднадзора.","У3","НАИБОЛЕЕ ПОДХОДЯЩИЙ"]
[null,"Оценка","О-3.2","Существующие планы эпиднадзора (включая определения случаев, протоколы и стандартные операционные процедуры), относящиеся к координированной системе эпиднадзора, оценены на предмет их возможной консолидации и объединения на национальном уровне","У1","НАИБОЛЕЕ ПОДХОДЯЩИЙ"]
[null,null,null,"Существующие планы эпиднадзора (включая определения случаев, протоколы и стандартные операционные процедуры), относящиеся к координированной системе эпиднадзора, оценены на предмет их возможной консолидации и объединения на всех уровнях в стране","У3","НАИБОЛЕЕ ПОДХОДЯЩИЙ"]
["Лабораторная информационная менеджмент-система для африканских ветеринарных служб (SILABFA)","Внедрение","B-3.1 \n","Существует механизм обмена данными между секторами на национальном уровне","У1","ДРУГОЕ ","1 Eval",9.3000000000000007,10,6.8,9.3000000000000007,8,6.5,8,7.2,8,{"$f":"SUM(H522:P522)/90","v":0.81222222222222229},"Оборудование или программное обеспечение","Ориентированный на конкретный сектор; универсальный"]
[null,null,"B-3.2\n","Существуют структура и место для хранения и ведения данных, получаемых из различных секторов, на национальном уровне.","У1","ДРУГОЕ "]
[null,null,"B-3.2\n","Существуют структура и место для хранения и ведения данных, получаемых из различных секторов, на всех уровнях в стране","У2","ДРУГОЕ "]
[null,null,"B-3.2\n","Существуют доступная, функциональная и используемая всеми участвующими секторами структура и место для хранения и ведения данных, получаемых из всех соответствующих секторов","У3","ДРУГОЕ "]
[null,null,"B-3.3\n","Для защиты данных координированного эпиднадзора применяются меры по обеспечению конфиденциальности и безопасности данных на национальном уровне ","У1","ДРУГОЕ "]
[null,null,"B-3.3\n","Для защиты данных координированного эпиднадзора применяются меры по обеспечению конфиденциальности и безопасности данных на всех уровнях в стране","У2","ДРУГОЕ "]
[null,null,"В-4.1 ","Запущен пилотный проект координированной системы эпиднадзора в целевых регионах","У1","ДРУГОЕ "]
[null,null,"В-4.1 ","Координированная система эпиднадзора расширена до дополнительных областей исходя из пилотных внедрений","У2","ДРУГОЕ "]
[null,null,"В-4.1 ","Координированная системы эпиднадзора является общегосударственной программой","У3","ДРУГОЕ "]
["Лабораторная информационная менеджмент-система, облегченная версия (МиниЛИМС)","Внедрение","B-3.1 \n","Существует механизм обмена данными между секторами на национальном уровне","У1","ДРУГОЕ ","1 Eval",9,7.3,8.4,9.3000000000000007,7.2,6.5,2,4.4000000000000004,4,{"$f":"SUM(H531:P531)/90","v":0.64555555555555555},"Оборудование или программное обеспечение","Ориентированный на конкретный сектор; универсальный"]
[null,null,"B-3.2\n","Существуют структура и место для хранения и ведения данных, получаемых из различных секторов, на национальном уровне.","У1","ДРУГОЕ "]
[null,null,"B-3.2\n","Существуют структура и место для хранения и ведения данных, получаемых из различных секторов, на всех уровнях в стране","У2","ДРУГОЕ "]
[null,null,"B-3.2\n","Существуют доступная, функциональная и используемая всеми участвующими секторами структура и место для хранения и ведения данных, получаемых из всех соответствующих секторов","У3","ДРУГОЕ "]
[null,null,"B-3.3\n","Для защиты данных координированного эпиднадзора применяются меры по обеспечению конфиденциальности и безопасности данных на национальном уровне ","У1","ДРУГОЕ "]
[null,null,"B-3.3\n","Для защиты данных координированного эпиднадзора применяются меры по обеспечению конфиденциальности и безопасности данных на всех уровнях в стране","У2","ДРУГОЕ "]
[null,null,"В-4.1 ","Запущен пилотный проект координированной системы эпиднадзора в целевых регионах","У1","ДРУГОЕ "]
[null,null,"В-4.1 ","Координированная система эпиднадзора расширена до дополнительных областей исходя из пилотных внедрений","У2","ДРУГОЕ "]
[null,null,"В-4.1 ","Координированная системы эпиднадзора является общегосударственной программой","У3","ДРУГОЕ "]
["Система анализа и управления мерами эпиднадзора и реагирования на вспышки (SORMAS)","Внедрение","B-3.1 \n","Существует механизм обмена данными между секторами на национальном уровне","У1","НАИБОЛЕЕ ПОДХОДЯЩИЙ","PASS",9.1999999999999993,8,9.3000000000000007,9.1,9.3000000000000007,9.3000000000000007,6.8,3.9,5.3,{"$f":"SUM(H540:P540)/90","v":0.78},"Оборудование или программное обеспечение","Ориентированный на конкретный сектор; универсальный"]
[null,null,"B-3.1 \n","Существует механизм обмена данными между секторами на всех страновых уровнях","У2","НАИБОЛЕЕ ПОДХОДЯЩИЙ"]
[null,null,"B-3.1 \n","Существует доступный, функциональный и удобный для использования всеми участвующими секторами механизм обмена данными","У3","НАИБОЛЕЕ ПОДХОДЯЩИЙ"]
[null,null,"B-3.2\n","Существуют структура и место для хранения и ведения данных, получаемых из различных секторов, на национальном уровне.","У1","НАИБОЛЕЕ ПОДХОДЯЩИЙ"]
[null,null,"B-3.2\n","Существуют структура и место для хранения и ведения данных, получаемых из различных секторов, на всех уровнях в стране","У2","НАИБОЛЕЕ ПОДХОДЯЩИЙ"]
[null,null,"B-3.2\n","Существуют доступная, функциональная и используемая всеми участвующими секторами структура и место для хранения и ведения данных, получаемых из всех соответствующих секторов","У3","НАИБОЛЕЕ ПОДХОДЯЩИЙ"]
[null,null,"B-3.3\n","Для защиты данных координированного эпиднадзора применяются меры по обеспечению конфиденциальности и безопасности данных на национальном уровне ","У1","НАИБОЛЕЕ ПОДХОДЯЩИЙ"]
[null,null,"B-3.3\n","Для защиты данных координированного эпиднадзора применяются меры по обеспечению конфиденциальности и безопасности данных на всех уровнях в стране","У2","НАИБОЛЕЕ ПОДХОДЯЩИЙ"]
[null,null,"B-3.3\n","Меры по обеспечению конфиденциальности и безопасности данных для защиты данных координированного эпиднадзора прошли оценку и соответствуют целям координированной системы эпиднадзора","У3","НАИБОЛЕЕ ПОДХОДЯЩИЙ"]
[null,null,"B-5.3","Данные координированного эпиднадзора позволяют получить выходные материалы (например: рисунки, графики, отчеты или бюллетени), которые распространяются на национальном уровне","У1","НАИБОЛЕЕ ПОДХОДЯЩИЙ"]
[null,null,"B-5.3","Данные координированного эпиднадзора позволяют получить выходные материалы (например: рисунки, графики, отчеты или бюллетени), которые распространяются среди заинтересованных сторон на всех уровнях в стране","У2","НАИБОЛЕЕ ПОДХОДЯЩИЙ"]
[null,null,"B-5.3","Данные координированного эпиднадзора, включая отчеты о результатах мониторинга и оценки, позволяют получить выходные материалы, которые используются при разработке ответных мер, политики и программ","У3","НАИБОЛЕЕ ПОДХОДЯЩИЙ"]
["Международные медико-санитарные правила (2005 г.): инструмент ежегодной отчетности государств-участников на основе самооценки (SPAR)","Оценка","AG","Н/П","Н/П","Н/П","PASS",9.9,10,9.3000000000000007,7.3,9.4,9,8.5,6.3,6.7,{"$f":"SUM(H552:P552)/90","v":0.84888888888888892},"Инструмент самооценки","«Единое здоровье»; универсальный"]
[null,null,"О-2.1","Оценка взаимосвязей между существующими системами эпиднадзора за приоритетными зоонозами проведена на межотраслевом уровне","У1","ДРУГОЕ "]
[null,null,null,"Оценка взаимосвязей между существующими системами эпиднадзора проведена на межотраслевом уровне и на всех уровнях в стране","У2","ДРУГОЕ "]
[null,null,null,"Взаимосвязи между существующими системами эпиднадзора проанализированы и признаны соответствующими целям координированной системы эпиднадзора.","У3","ДРУГОЕ "]
[null,"Мониторинг и оценка","МО-2.1","Результаты мониторинга и оценки позволяют последовательно совершенствовать или расширять координированную систему эпиднадзора и приводить ее в соответствие с международными стандартами и рекомендациями ","У3","ДРУГОЕ "]
["Поэтапный инструмент по искоренению бруцеллеза (STEB)","Планирование","О-2.2","Оценка нормативно-правовой базы (правил, политики, руководящих принципов и положений, включая международные стандарты), регулирующей стандарты этики и конфиденциальности в области эпиднадзора и обмена данными, проведена.","У1","ДРУГОЕ ","PASS",9,10,7.6,3.7,5.7,7.3,7,8.6,8,{"$f":"SUM(H557:P557)/90","v":0.7433333333333334},"Инструмент или процесс с методическим руководством/пояснениями","«Единое здоровье»; ориентированный на конкретную болезнь/угрозу "]
[null,null,"О-3.2","Существующие планы эпиднадзора (включая определения случаев, протоколы и стандартные операционные процедуры), относящиеся к координированной системе эпиднадзора, оценены на предмет их возможной консолидации и объединения на национальном уровне","У1","ДРУГОЕ "]
[null,null,"О-5.1","В результате проведения оценок лабораторного потенциала были определены квалифицированные национальные или международные референс-лаборатории, которые могут проводить тестирование для поддержки деятельности в рамках координированного эпиднадзора","У1","ДРУГОЕ "]
[null,null,"ПЛ-3.1","В целях планирования проведен межотраслевой обзор национальных рамочных программ и стратегических планов, относящихся к координированной системе эпиднадзора.","У1","ДРУГОЕ "]
["Рамочная программа по оценке эпиднадзора за биозащитой (SurF)","Оценка","AG","Н/П","Н/П","Н/П","PASS",7.6,6,8,8.6999999999999993,8.6,4.0999999999999996,4,8,4,{"$f":"SUM(H561:P561)/90","v":0.65555555555555556},"Руководящий документ","«Единое здоровье»; универсальный"]
[null,null,"МО-2.1","Существует план мониторинга и оценки, отвечающий целям координированной системы эпиднадзора","У1","НАИБОЛЕЕ ПОДХОДЯЩИЙ"]
[null,null,"МО-2.1","С помощью плана мониторинга и оценки оценивается эффективность деятельности и достигнутый прогресс в рамках координированной системы эпиднадзора","У2","НАИБОЛЕЕ ПОДХОДЯЩИЙ"]
[null,null,"МО-3.1","Существует методология управления качеством данных","У1","ДРУГОЕ "]
[null,null,"МО-3.1","Качество данных проверено и признано соответствующим целям координированной системы эпиднадзора ","У2","ДРУГОЕ "]
[null,null,"МО-3.1","Качество данных соответствует международным стандартам и рекомендациям ","У3","ДРУГОЕ "]
["SurvCost: Инструмент для оценки стоимости комплексной системы эпиднадзора и мер реагирования","Оценка","О-4.1","Экономические оценки были использованы для определения национальных финансовых потребностей координированной системы эпиднадзора ","У1","НАИБОЛЕЕ ПОДХОДЯЩИЙ","PASS",9.8000000000000007,8,7.6,9.6999999999999993,7.7,5.8,7,7.3,8,{"$f":"SUM(H567:P567)/90","v":0.78777777777777769},"Инструмент самооценки","Ориентированный на конкретный сектор; универсальный"]
[null,null,null,"Экономические оценки проведены для определения финансовых потребностей на всех уровнях в стране в отношении координированной системы эпиднадзора ","У3","НАИБОЛЕЕ ПОДХОДЯЩИЙ"]
[null,"Планирование","ПЛ-4.1","Имеются бюджетный план и механизм распределения средств для осуществления координированного эпиднадзора на национальном уровне","У1","ДРУГОЕ "]
[null,"Внедрение","B-1.1 ","Имеется финансирование для осуществления координированного эпиднадзора на национальном уровне","У1","ДРУГОЕ "]
["Приложение Всемирной организации охраны здоровья животных (МЭБ) для получения оповещений от ВАХИС (WAHIS Alerts)","Внедрение","B-5.2","Соблюдение международных требований в отношении оповещения обо всех случаях зоонозов","У1","ДРУГОЕ ","PASS",9.6999999999999993,10,8.8000000000000007,8.6999999999999993,8.3000000000000007,5,7.5,3.3,6,{"$f":"SUM(H571:P571)/90","v":0.74777777777777776},"Оборудование или программное обеспечение","Ориентированный на конкретный сектор; универсальный"]
[null,null,"B-5.3","Данные координированного эпиднадзора позволяют получить выходные материалы (например: рисунки, графики, отчеты или бюллетени), которые распространяются на национальном уровне","У1","ДРУГОЕ "]
[null,null,"B-5.3","Данные координированного эпиднадзора позволяют получить выходные материалы (например: рисунки, графики, отчеты или бюллетени), которые распространяются среди заинтересованных сторон на всех уровнях в стране","У2","ДРУГОЕ "]
[]
["Устойчивость к противомикробным препаратам: руководство для разработки национальных планов действий","Оценка","О-2.2","Оценка нормативно-правовой базы (правил, политики, руководящих принципов и положений, включая международные стандарты), регулирующей стандарты этики и конфиденциальности в области эпиднадзора и обмена данными, проведена.","У1","ДРУГОЕ ","PASS",10,6,6.6,8.6999999999999993,8,3.8,4.5,9,10,{"$f":"SUM(H575:P575)/90","v":0.74},"Руководящий документ","«Единое здоровье»; ориентированный на конкретную болезнь/угрозу "]
[null,"Планирование","ПЛ-3.1","В целях планирования проведен межотраслевой обзор национальных рамочных программ и стратегических планов, относящихся к координированной системе эпиднадзора.","У1","ДРУГОЕ ",null,null,10,7,6,6.7666666666666675,6,10,6.8,8,{"$f":"SUM(H576:P576)/90","v":0.67296296296296287}]
[null,null,null,"Рамочные программы и стратегические планы по координированной системе эпиднадзора сведены воедино и согласованы на основе результатов оценки на всех уровнях в стране","У2","ДРУГОЕ "]
[null,"Мониторинг и оценка","МО-2.1","Существует план мониторинга и оценки, отвечающий целям координированной системы эпиднадзора","У1","ДРУГОЕ "]
[]
[null,null,null,null,null,null,null,null,null,null,null,null,null,null,null,null,null,null,null,"НЕ ДОБАВЛЯТЬ"]
[]
[]
[]
[]
[]
[]
[]
[]
[]
[]
[]
["Программа ВОЗ «WHO-CHOICE»","Оценка","О-4.1","Экономические оценки были использованы для определения национальных финансовых потребностей координированной системы эпиднадзора ","У1","ДРУГОЕ ","PASS",9.6,8,7.4,5.3,7.3,5,8.5,5,9,{"$f":"SUM(H592:P592)/90","v":0.72333333333333327},"Инструмент самооценки","Ориентированный на конкретный сектор; универсальный"]
[null,"Планирование","ПЛ-3.1","В целях планирования проведен межотраслевой обзор национальных рамочных программ и стратегических планов, относящихся к координированной системе эпиднадзора.","У1","ДРУГОЕ "]
[null,null,null,"Рамочные программы и стратегические планы по координированной системе эпиднадзора сведены воедино и согласованы на основе результатов оценки на всех уровнях в стране","У2","ДРУГОЕ "]
["Инструментарий для оценки качества данных (DQR)","Мониторинг и оценка","МО-3.1","Существует методология управления качеством данных","У1","НАИБОЛЕЕ ПОДХОДЯЩИЙ","PASS",7.7,7,7.7,10,6.3,4.8,5.5,5,4,{"$f":"SUM(H595:P595)/90","v":0.64444444444444438},"Инструмент самооценки","Ориентированный на конкретный сектор; универсальный"]
[null,null,"МО-3.1","Качество данных проверено и признано соответствующим целям координированной системы эпиднадзора ","У2","НАИБОЛЕЕ ПОДХОДЯЩИЙ"]
[null,null,"МО-3.1","Качество данных соответствует международным стандартам и рекомендациям ","У3","НАИБОЛЕЕ ПОДХОДЯЩИЙ"]
["Инструмент ВОЗ для оценки качества лабораторий","Оценка","О-3.4","В результате проведения базового картирования инфраструктуры (в соответствие с ТРЗ, гл. 4.1) описаны структура и взаимосвязи внутри секторов и между ними ","У1","ДРУГОЕ ","PASS",9,10,6.4,6,7.2,5.5,6,5.8,4,{"$f":"SUM(H598:P598)/90","v":0.66555555555555557},"Инструмент самооценки","Ориентированный на конкретный сектор; универсальный"]
[null,null,null,"В ходе картирования инфраструктуры описано большинство подлежащих картированию областей (в соответствие с ТРЗ, гл. 4.1)","У2","ДРУГОЕ "]
[null,null,null,"Полное картирование инфраструктуры использовано для описания всех подлежащих картированию областей (в соответствие с ТРЗ, гл. 4.1).","У3","ДРУГОЕ "]
[null,null,"О-5.1","В результате проведения оценок лабораторного потенциала были определены квалифицированные национальные или международные референс-лаборатории, которые могут проводить тестирование для поддержки деятельности в рамках координированного эпиднадзора","У1","НАИБОЛЕЕ ПОДХОДЯЩИЙ"]
[null,null,null,"В результате проведения оценок лабораторного потенциала были определены квалифицированные лаборатории на всех уровнях (включая международный), которые могут проводить тестирование для поддержки мероприятий в рамках координированного эпиднадзора","У2","НАИБОЛЕЕ ПОДХОДЯЩИЙ"]
[null,null,null,"В результате проведения оценок лабораторного потенциала выявлена сеть квалифицированных лабораторий, которые могут проводить тестирование для поддержки мероприятий в рамках координированного эпиднадзора","У3","НАИБОЛЕЕ ПОДХОДЯЩИЙ"]
["Приложение для оценки воздействия бешенства и выявления контактных лиц (REACT)","Внедрение","B-3.1 \n","Существует механизм обмена данными между секторами на национальном уровне","У1","НАИБОЛЕЕ ПОДХОДЯЩИЙ","1 EVAL",8.6,8.6,8,8.6,9.4,9.5,9,9.1999999999999993,9,{"$f":"SUM(H604:P604)/90","v":0.88777777777777767},"Оборудование или программное обеспечение","«Единое здоровье»; ориентированный на конкретную болезнь/угрозу "]
[null,null,"B-3.1 \n","Существует механизм обмена данными между секторами на всех страновых уровнях","У2","НАИБОЛЕЕ ПОДХОДЯЩИЙ"]
[null,null,"B-3.1 \n","Существует доступный, функциональный и удобный для использования всеми участвующими секторами механизм обмена данными","У3","НАИБОЛЕЕ ПОДХОДЯЩИЙ"]
[null,null,"B-3.2\n","Существуют структура и место для хранения и ведения данных, получаемых из различных секторов, на национальном уровне.","У1","НАИБОЛЕЕ ПОДХОДЯЩИЙ"]
[null,null,"B-3.2\n","Существуют структура и место для хранения и ведения данных, получаемых из различных секторов, на всех уровнях в стране","У2","НАИБОЛЕЕ ПОДХОДЯЩИЙ"]
[null,null,"B-3.2\n","Существуют доступная, функциональная и используемая всеми участвующими секторами структура и место для хранения и ведения данных, получаемых из всех соответствующих секторов","У3","НАИБОЛЕЕ ПОДХОДЯЩИЙ"]
[null,null,"B-3.3\n","Для защиты данных координированного эпиднадзора применяются меры по обеспечению конфиденциальности и безопасности данных на национальном уровне ","У1","НАИБОЛЕЕ ПОДХОДЯЩИЙ"]
[null,null,"B-3.3\n","Для защиты данных координированного эпиднадзора применяются меры по обеспечению конфиденциальности и безопасности данных на всех уровнях в стране","У2","НАИБОЛЕЕ ПОДХОДЯЩИЙ"]
[null,null,"B-3.3\n","Для защиты данных координированного эпиднадзора, прошедших оценку и соответствующих целям координированной системы эпиднадзора, применяются меры по обеспечению конфиденциальности и безопасности данных ","У3","НАИБОЛЕЕ ПОДХОДЯЩИЙ"]
[null,null,"В-4.1 ","Запущен пилотный проект координированной системы эпиднадзора в целевых регионах","У1","ДРУГОЕ "]
[null,null,"В-4.1 ","Координированная система эпиднадзора расширена до дополнительных областей исходя из пилотных внедрений","У2","ДРУГОЕ "]
[null,null,"В-4.1 ","Координированная системы эпиднадзора является общегосударственной программой","У3","ДРУГОЕ "]
[null,null,"B-4.2","Обмен данными осуществляется неофициально или официально эпизодически на национальном уровне","У1","ДРУГОЕ "]
[null,null,"B-4.2","Обмен данными осуществляется неофициально или официально регулярно и своевременно на всех уровнях в стране","У2","ДРУГОЕ "]
[null,null,"B-4.2","Данные систематически, регулярно и своевременно предоставляются всем участвующим секторам через универсальную или объединенную платформу(платформы) ","У3","ДРУГОЕ "]
[null,null,"B-5.1 ","Осуществляется регулярный обмен информацией с соответствующими заинтересованными сторонами","У1","ДРУГОЕ "]
[null,null,"B-5.1 ","Осуществляется регулярный и своевременный обмен информацией с соответствующими заинтересованными сторонами, включая трансграничные, региональные и международные структуры","У2","ДРУГОЕ "]
[null,null,"B-5.3","Данные координированного эпиднадзора позволяют получить выходные материалы (например: рисунки, графики, отчеты или бюллетени), которые распространяются на национальном уровне","У1","ДРУГОЕ "]
[null,null,"B-5.3","Данные координированного эпиднадзора позволяют получить выходные материалы (например: рисунки, графики, отчеты или бюллетени), которые распространяются среди заинтересованных сторон на всех уровнях в стране","У2","ДРУГОЕ "]
[null,null,"B-5.3","Данные координированного эпиднадзора, включая отчеты о результатах мониторинга и оценки, позволяют получить выходные материалы, которые используются при разработке ответных мер, политики и программ","У3","ДРУГОЕ "]
["Инструментарий для картирования заинтересованных сторон на основе концепции «Единое здоровье»","Предварительное планирование","ПП-1.1","Во всех участвующих секторах на национальном уровне определены координаторы, «лидеры» или технические рабочие группы для планирования внедрения координированного эпиднадзора","У1","НАИБОЛЕЕ ПОДХОДЯЩИЙ","1 EVAL",8.4,8,8.4,6.7,2,3.5,4,6.4,8,{"$f":"SUM(H624:P624)/90","v":0.61555555555555552},"Руководящий документ","«Единое здоровье»; универсальный"]
[null,null,"ПП-1.1","Во всех участвующих секторах на всех уровнях в стране определены координаторы, «лидеры» или технические рабочие группы для планирования внедрения координированного эпиднадзора","У2","НАИБОЛЕЕ ПОДХОДЯЩИЙ"]
[null,"Оценка","О-1.1","Заинтересованные стороны в области эпиднадзора, эпидемиологии, лабораторных исследований и обмена информацией выявлены","У1","НАИБОЛЕЕ ПОДХОДЯЩИЙ"]
[null,null,"О-1.1","В ходе анализа заинтересованных сторон определены участники на всех уровнях в стране","У2","НАИБОЛЕЕ ПОДХОДЯЩИЙ"]
["Инструментарий для создания организационной структуры и определения круга ведения","Предварительное планирование","ПП-1.1","Во всех участвующих секторах на национальном уровне определены координаторы, «лидеры» или технические рабочие группы для планирования внедрения координированного эпиднадзора","У1","НАИБОЛЕЕ ПОДХОДЯЩИЙ","1 EVAL",8.4,8,8.4,6.7,2,3.5,4,6.4,8,{"$f":"SUM(H628:P628)/90","v":0.61555555555555552},"Руководящий документ","«Единое здоровье»; универсальный"]
[null,null,"ПП-1.1","Во всех участвующих секторах на всех уровнях в стране определены координаторы, «лидеры» или технические рабочие группы для планирования внедрения координированного эпиднадзора","У2","НАИБОЛЕЕ ПОДХОДЯЩИЙ"]
[null,null,"ПП-1.1","Координаторы, «лидеры» или технические рабочие группы (включая выявленных координаторов или «лидеров») в области координированного эпиднадзора институализированы (например: в рамках руководящего органа, такого как МКМ)   ","У3","НАИБОЛЕЕ ПОДХОДЯЩИЙ"]
[null,null,"ПП-3.1","Цель(и), функции и обязанности всех участвующих секторов координированной системы эпиднадзора согласованы на национальном уровне","У1","ДРУГОЕ "]
[null,null,null,"Цель(и), функции и обязанности всех участвующих секторов координированной системы эпиднадзора согласованы и охватывают все уровни в стране","У2","ДРУГОЕ "]
[null,"Оценка","О-1.1","Функции и обязанности заинтересованных сторон институционализированы и включены в политические документы","У3","ДРУГОЕ "]
["Инструментарий для создания руководства по управлению","Предварительное планирование","О-2.2","Оценка нормативно-правовой базы (правил, политики, руководящих принципов и положений, включая международные стандарты), регулирующей стандарты этики и конфиденциальности в области эпиднадзора и обмена данными, проведена.","У1","ДРУГОЕ ","1 EVAL",8.4,8,8.4,6.7,2,3.5,4,6.4,8,{"$f":"SUM(H634:P634)/90","v":0.61555555555555552},"Руководящий документ","«Единое здоровье»; универсальный"]
[null,null,"ПП-1.1","Во всех участвующих секторах на национальном уровне определены координаторы, «лидеры» или технические рабочие группы для планирования внедрения координированного эпиднадзора","У1","НАИБОЛЕЕ ПОДХОДЯЩИЙ"]
[null,null,"ПП-1.1","Во всех участвующих секторах на всех уровнях в стране определены координаторы, «лидеры» или технические рабочие группы для планирования внедрения координированного эпиднадзора","У2","НАИБОЛЕЕ ПОДХОДЯЩИЙ"]
[null,null,"ПП-3.1","Цель(и), функции и обязанности всех участвующих секторов координированной системы эпиднадзора согласованы на национальном уровне","У1","НАИБОЛЕЕ ПОДХОДЯЩИЙ"]
[null,null,null,"Цель(и), функции и обязанности всех участвующих секторов координированной системы эпиднадзора согласованы и охватывают все уровни в стране","У2","НАИБОЛЕЕ ПОДХОДЯЩИЙ"]
[null,null,null,"Цель(и), функции и обязанности в рамках координированной системы эпиднадзора пересмотрены для учета текущих потребностей координированной системы эпиднадзора ","У3","НАИБОЛЕЕ ПОДХОДЯЩИЙ"]
[null,null,"B-2.1","Координаторы или технические рабочие группы проводят совещания эпизодически","У1","НАИБОЛЕЕ ПОДХОДЯЩИЙ"]
[null,null,"B-2.1","Координаторы или технические рабочие группы встречаются на регулярной основе и для решения приоритетных вопросов по мере их возникновения","У2","НАИБОЛЕЕ ПОДХОДЯЩИЙ"]
[null,null,"B-2.1","Технические рабочие группы регулярно проводят обзоры мероприятий по координированному эпиднадзору и ее оптимизацию ","У3","НАИБОЛЕЕ ПОДХОДЯЩИЙ"]
["Разработка стратегического плана на основе концепции «Единое здоровье»","Оценка","О-3.1","Рамочные программы и стратегические планы, относящиеся к координированной системе эпиднадзора, оценены на предмет их возможной консолидации и объединения на национальном уровне","У1","ДРУГОЕ ","1 EVAL",8.4,8,8.4,6.7,2,3.5,4,6.4,8,{"$f":"SUM(H643:P643)/90","v":0.61555555555555552},"Руководящий документ","«Единое здоровье»; универсальный"]
[null,null,"О-3.1","Рамочные программы и стратегические планы, относящиеся к координированной системе эпиднадзора, оценены на предмет их возможной консолидации и объединения на всех уровнях в стране","У3","ДРУГОЕ "]
[null,"Планирование","ПЛ-3.1","В целях планирования проведен межотраслевой обзор национальных рамочных программ и стратегических планов, относящихся к координированной системе эпиднадзора.","У1","ДРУГОЕ "]
[null,null,"ПЛ-3.1","Рамочные программы и стратегические планы по координированной системе эпиднадзора сведены воедино и согласованы на основе результатов оценки на всех уровнях в стране","У2","ДРУГОЕ "]
[null,null,"ПЛ-3.1","Пересмотренные рамочные программы и стратегические планы по координированной системе эпиднадзора приведены в соответствие с международными стандартами и рекомендациями. \n","У3","ДРУГОЕ "]
["Инструментарий для обеспечения готовности и планирования ответных действий","Предварительное планирование","ПП-1.1","Во всех участвующих секторах на национальном уровне определены координаторы, «лидеры» или технические рабочие группы для планирования внедрения координированного эпиднадзора","У1","НАИБОЛЕЕ ПОДХОДЯЩИЙ","1 EVAL",8.4,8,8.4,6.7,2,3.5,4,6.4,8,{"$f":"SUM(H648:P648)/90","v":0.61555555555555552},"Руководящий документ","«Единое здоровье»; универсальный"]
[null,null,"ПП-1.1","Во всех участвующих секторах на всех уровнях в стране определены координаторы, «лидеры» или технические рабочие группы для планирования внедрения координированного эпиднадзора","У2","НАИБОЛЕЕ ПОДХОДЯЩИЙ"]
[null,null,"ПП-3.1","Цель(и), функции и обязанности всех участвующих секторов координированной системы эпиднадзора согласованы на национальном уровне","У1","ДРУГОЕ "]
[null,null,"ПП-3.1","Цель(и), функции и обязанности всех участвующих секторов координированной системы эпиднадзора согласованы и охватывают все уровни в стране","У2","ДРУГОЕ "]
[null,"Оценка","О-2.1","Оценка взаимосвязей между существующими системами эпиднадзора за приоритетными зоонозами проведена на межотраслевом уровне","У1","ДРУГОЕ "]
[null,null,"О-3.2","Существующие планы эпиднадзора (включая определения случаев, протоколы и стандартные операционные процедуры), относящиеся к координированной системе эпиднадзора, оценены на предмет их возможной консолидации и объединения на национальном уровне","У1","НАИБОЛЕЕ ПОДХОДЯЩИЙ"]
[null,null,"О-3.2","Существующие планы эпиднадзора (включая определения случаев, протоколы и стандартные операционные процедуры), относящиеся к координированной системе эпиднадзора, оценены на предмет их возможной консолидации и объединения на всех уровнях в стране","У3","НАИБОЛЕЕ ПОДХОДЯЩИЙ"]
[null,null,"О-3.3","Существующие планы действий/оперативные планы, относящиеся к координированной системе эпиднадзора, оценены на предмет их возможной консолидации и объединения на национальном уровне","У1","НАИБОЛЕЕ ПОДХОДЯЩИЙ"]
[null,null,"О-3.3","Существующие планы действий/оперативные планы, относящиеся к координированной системе эпиднадзора, оценены на предмет их возможной консолидации и объединения на всех уровнях в стране","У3","НАИБОЛЕЕ ПОДХОДЯЩИЙ"]
[null,null,"О-3.4","В результате проведения базового картирования инфраструктуры (в соответствие с ТРЗ, гл. 4.1) описаны структура и взаимосвязи внутри секторов и между ними ","У1","ДРУГОЕ "]
[null,null,"О-3.4","В ходе картирования инфраструктуры описано большинство подлежащих картированию областей (в соответствие с ТРЗ, гл. 4.1)","У2","ДРУГОЕ "]
[null,null,"О-5.1","В результате проведения оценок лабораторного потенциала были определены квалифицированные национальные или международные референс-лаборатории, которые могут проводить тестирование для поддержки деятельности в рамках координированного эпиднадзора","У1","ДРУГОЕ "]
[null,null,"О-5.2","Поставки лабораторных материалов, транспортные цепочки и методы интерпретации результатов оцениваются на предмет согласования между участвующими секторами на национальном уровне","У1","ДРУГОЕ "]
[null,null,"О-5.2","Поставки лабораторных материалов, транспортные цепочки и методы интерпретации результатов оценены на предмет согласования между участвующими секторами на всех уровнях в стране","У2","ДРУГОЕ "]
[null,"Планирование","ПЛ-3.2","В целях планирования проведен межотраслевой обзор национальных планов эпиднадзора (включая оперативные планы/планы действий, определения случаев, протоколы и стандартные операционные процедуры), относящихся к координированной системе эпиднадзора.","У1","ДРУГОЕ "]
[null,null,"ПЛ-3.2","Планы эпиднадзора (включая оперативные планы/планы действий, определения случаев, протоколы и стандартные операционные процедуры) по координированной системе эпиднадзора сведены воедино и согласованы в целях обмена данными на всех уровнях в стране","У2","ДРУГОЕ "]
[null,null,"ПЛ-3.2","Пересмотренные планы эпиднадзора (включая оперативные планы/планы действий, определения случаев, протоколы и стандартные операционные процедуры) по координированной системе эпиднадзора приведены в соответствие с международными стандартами и рекомендациями.","У3","ДРУГОЕ "]
[null,null,"ПЛ-4.1","Имеются бюджетный план и механизм распределения средств для осуществления координированного эпиднадзора на национальном уровне","У1","ДРУГОЕ "]
[null,null,null,"Имеются бюджетный план и механизм распределения средств для осуществления координированного эпиднадзора на всех страновых уровнях","У2","ДРУГОЕ "]
[null,null,"ПЛ-7.1","Проведено согласование коммуникационной терминологии и сообщений между всеми секторами, участвующими в координированной системе эпиднадзора на национальном уровне.","У1","НАИБОЛЕЕ ПОДХОДЯЩИЙ"]
[null,null,"ПЛ-7.1","Согласованная коммуникационная терминология и сообщения между всеми секторами, участвующими в координированной системе эпиднадзора, доведены до всех уровней в стране","У2","НАИБОЛЕЕ ПОДХОДЯЩИЙ"]
[null,null,"ПЛ-7.1","Существует стратегия коммуникации и/или план коммуникации (включающий терминологию и формы сообщений), на основе которых осуществляется коммуникация с заинтересованными сторонами и населением в рамках координированной системы эпиднадзора","У3","НАИБОЛЕЕ ПОДХОДЯЩИЙ"]
[null,"Внедрение","B-2.1","Технические рабочие группы регулярно проводят обзоры мероприятий по координированному эпиднадзору и ее оптимизацию ","У3","ДРУГОЕ "]
[null,null,"B-3.1 \n","Существует механизм обмена данными между секторами на национальном уровне","У1","ДРУГОЕ "]
[null,null,"B-4.2","Обмен данными осуществляется неофициально или официально эпизодически на национальном уровне","У1","ДРУГОЕ "]
[null,null,"B-4.2","Обмен данными осуществляется неофициально или официально регулярно и своевременно на всех уровнях в стране","У2","ДРУГОЕ "]
[null,null,"B-4.2","Данные систематически, регулярно и своевременно предоставляются всем участвующим секторам через универсальную или объединенную платформу(платформы) ","У3","ДРУГОЕ "]
["Инструментарий для включения концепции «Единое здоровье» в директивные документы и технические руководства","Оценка","О-3.2","Существующие планы эпиднадзора (включая определения случаев, протоколы и стандартные операционные процедуры), относящиеся к координированной системе эпиднадзора, оценены на предмет их возможной консолидации и объединения на национальном уровне","У1","НАИБОЛЕЕ ПОДХОДЯЩИЙ","1 EVAL",8.4,8,8.4,6.7,2,3.5,4,6.4,8,{"$f":"SUM(H675:P675)/90","v":0.61555555555555552},"Руководящий документ","«Единое здоровье»; универсальный"]
[null,null,"О-3.2","Существующие планы эпиднадзора (включая определения случаев, протоколы и стандартные операционные процедуры), относящиеся к координированной системе эпиднадзора, оценены на предмет их возможной консолидации и объединения на всех уровнях в стране","У3","НАИБОЛЕЕ ПОДХОДЯЩИЙ"]
["Инструментарий для проведения имитационных учений","Мониторинг и оценка","МО-1.1","Имитационные учения проводятся для оценки эффективности и функциональности координированной системы эпиднадзора на национальном уровне  ","У1","НАИБОЛЕЕ ПОДХОДЯЩИЙ","1 EVAL",8.4,8,8.4,6.7,2,3.5,4,6.4,8,{"$f":"SUM(H677:P677)/90","v":0.61555555555555552},"Руководящий документ","«Единое здоровье»; универсальный"]
[null,null,"МО-1.1","Имитационные учения проводятся для оценки эффективности и функциональности координированной системы эпиднадзора на всех уровнях в стране  ","У2","НАИБОЛЕЕ ПОДХОДЯЩИЙ"]
[null,null,"МО-1.1","Результаты имитационных учений используются при составлении и пересмотре планов по координированному эпиднадзору ","У3","ДРУГОЕ "]
["Инструментарий для проведения обзора принятых мер после вспышки заболевания","Внедрение","B-2.1 ","Координаторы или технические рабочие группы проводят совещания эпизодически","У1","ДРУГОЕ ","1 EVAL",8.4,8,8.4,6.7,2,3.5,4,6.4,8,{"$f":"SUM(H680:P680)/90","v":0.61555555555555552},"Руководящий документ","«Единое здоровье»; универсальный"]
[null,null,"B-2.1 ","Координаторы или технические рабочие группы встречаются на регулярной основе и для решения приоритетных вопросов по мере их возникновения","У2","ДРУГОЕ "]
[null,null,"B-2.1 ","Технические рабочие группы регулярно проводят обзоры мероприятий по координированному эпиднадзору и ее оптимизацию ","У3","ДРУГОЕ "]
["Инструментарий для пропаганды политики «Единое здоровье»","Планирование","ПЛ-1.1","Политическая поддержка координированной системы эпиднадзора сформирована, и ее сторонники имеются на всех страновых уровнях","У2","НАИБОЛЕЕ ПОДХОДЯЩИЙ","1 EVAL",8.4,8,8.4,6.7,2,3.5,4,6.4,8,{"$f":"SUM(H683:P683)/90","v":0.61555555555555552},"Руководящий документ","«Единое здоровье»; универсальный"]
[null,null,"ПЛ-1.1","Имеется стратегия пропагандистской деятельности , которая служит основой для коммуникации с лицами, принимающими решения, по вопросам координированной системы эпиднадзора","У3","НАИБОЛЕЕ ПОДХОДЯЩИЙ"]
["Инструментарий для моделирования политики «Единое здоровье»","Планирование","ПЛ-1.1","Политическая поддержка координированной системы эпиднадзора сформирована, и ее сторонники имеются на всех страновых уровнях","У2","ДРУГОЕ ","1 EVAL",8.4,8,8.4,6.7,2,3.5,4,6.4,8,{"$f":"SUM(H685:P685)/90","v":0.61555555555555552},"Руководящий документ","«Единое здоровье»; универсальный"]
["Инструментарий для реализации стратегии устойчивого финансирования в рамках концепции «Единое здоровье»","Оценка","О-4.1","Экономические оценки были использованы для определения национальных финансовых потребностей координированной системы эпиднадзора ","У1","НАИБОЛЕЕ ПОДХОДЯЩИЙ","1 EVAL",8.4,8,8.4,6.7,2,3.5,4,6.4,8,0.61555555555555552,"Руководящий документ","«Единое здоровье»; универсальный"]
[null,null,"О-4.1","Экономические оценки проведены для определения финансовых потребностей на всех уровнях в стране в отношении координированной системы эпиднадзора ","У3","НАИБОЛЕЕ ПОДХОДЯЩИЙ"]
[null,"Планирование","ПЛ-4.1","Имеются бюджетный план и механизм распределения средств для осуществления координированного эпиднадзора на национальном уровне","У1","ДРУГОЕ "]
[null,"Внедрение","B-1.1 ","Имеется финансирование для осуществления координированного эпиднадзора на национальном уровне","У1","НАИБОЛЕЕ ПОДХОДЯЩИЙ"]
[null,null,"B-1.1 ","Финансирование для осуществления координированного эпиднадзора имеется на всех уровнях в стране","У2","НАИБОЛЕЕ ПОДХОДЯЩИЙ"]
[null,null,"B-1.1 ","Устойчивое финансирование (т. е. заложенное в национальный бюджет) выделено на мероприятия по координированному эпиднадзору, оценено и признано соответствующим целям координированной системы эпиднадзора","У3","НАИБОЛЕЕ ПОДХОДЯЩИЙ"]

{"sheet":"Section I","index":9,"n_rows":21,"n_cols":2,"rows_kept":21,"cut":false,"hidden":false,"merged":[[2,1,5,30],[16,1,18,30],[20,1,28,30],[7,1,14,30]]}
[]
[]
[null,"РАЗДЕЛ I: ПРЕДВАРИТЕЛЬНОЕ ПЛАНИРОВАНИЕ"]
[]
[]
[]
[]
[null,"В данном разделе инструмента будут представлены первые пять этапов процесса построения координированного эпиднадзора: Предварительное планирование. \n\nВам предстоит оценить в общей сложности три мероприятия по трем областям."]
[]
[]
[]
[]
[]
[]
[]
[]
[null,"Обзор этапа предварительного планирования"]
[]
[]
[]
[null,"Этап предварительного планирования включает подготовительные шаги, предшествующие работе по созданию или укреплению координированной системы эпиднадзора за зоонозами. Они включают такие мероприятия, как предварительное выявление заинтересованных сторон, определение приоритетных зоонозов для включения в систему, а также определение задач и постановка целей для системы. Эти шаги важны для создания прочного основания для построения или укрепления функциональной координированной системы эпиднадзора.\n\nРесурсы, представленные в данном разделе, следует выбирать на данном подготовительном этапе, предшествующем созданию или укреплению национальной координированной системы эпиднадзора за зоонозами, при помощи РИ ЭОИ."]

{"sheet":"Focal Points","index":10,"n_rows":44,"n_cols":37,"rows_kept":44,"cut":false,"hidden":false,"merged":[[43,28,44,30],[43,32,44,33],[30,5,44,8],[36,17,37,17],[36,26,37,26],[42,14,42,15],[43,10,44,12],[43,14,44,15],[43,17,44,17],[43,19,44,21],[43,23,44,24],[43,26,44,26],[30,35,44,40],[45,12,46,15],[2,1,4,33],[26,16,46,16],[27,1,28,3],[27,10,28,15],[27,19,28,24],[27,28,28,33],[30,10,41,15],[7,1,9,33],[11,1,24,33],[27,5,28,8],[43,34,44,34],[30,1,44,3],[30,19,41,24],[30,28,41,33]]}
[]
[]
[null,"Координаторы"]
[]
[]
[]
[]
[null,"Исходя из имеющегося уровня потенциала в вашей стране, выберите «1», если каждое мероприятие ниже выполнено, или «0», если процесс еще не завершен."]
[]
[]
[]
[null,"ВАЖНЫЕ ЗАМЕЧАНИЯ:\n    ·Выберите «1», если данный уровень потенциала достигнут, и «0», если мероприятие не было выполнено или находится в процессе выполнения.\n    ·Если данный уровень потенциала достигнут и выбран ответ «1», то для мероприятия становится активным следующий уровень потенциала.\n    ·Если такой уровень потенциала не применим к вашей ситуации, выберите «0».\n    ·Если вы не знаете ответ, выберите «0».\n    ·Если уровень потенциала состоит из двух элементов, и они объединены предлогом «И», то ОБА элементы должны быть выполнены, чтобы можно было выбрать ответ «1».\n \nОСНОВНОЕ ДОПУЩЕНИЕ: \n    ·Поскольку РИ ЭОИ относится к развитию системы координированного эпиднадзора и обмена информацией, ответ «1» подразумевает, что данный уровень потенциала достигнут во всех секторах на основе концепции «Единое здоровье», относящихся к данному мероприятию. Если это нет так, выберите «0»."]
[]
[]
[]
[]
[]
[]
[]
[null,null,null,null,null,null,null,null,null,null,null,null,null,null,null,null,null,null,null,null,null,null,null,null,null,null,null,null,null,null,null,null,null,null,null,null,1]
[null,null,null,null,null,null,null,null,null,null,null,null,null,null,null,null,null,null,null,null,null,null,null,null,null,null,null,null,null,null,null,null,null,null,null,null,0]
[]
[]
[]
[]
[]
[]
[null,"ЭТАП",null,null,null,"МЕРОПРИЯТИЕ",null,null,null,null,"УРОВЕНЬ 1",null,null,null,null,null,null,null,null,"УРОВЕНЬ 2",null,null,null,null,null,null,null,null,"УРОВЕНЬ 3"]
[]
[]
[null,"Предварительное планирование",null,null,null,{"$f":"Activities!B2","v":"ПП-1 Предварительное выявление заинтересованных сторон"},null,null,null,null,{"$f":"Activities!C2","v":"Во всех участвующих секторах на национальном уровне определены координаторы, «лидеры» или технические рабочие группы для планирования внедрения координированного эпиднадзора"},null,null,null,null,null,null,null,null,{"$f":"Activities!C3","v":"Во всех участвующих секторах на всех уровнях в стране определены координаторы, «лидеры» или технические рабочие группы для планирования внедрения координированного эпиднадзора"},null,null,null,null,null,null,null,null,{"$f":"Activities!C4","v":"Координаторы, «лидеры» или технические рабочие группы (включая выявленных координаторов или «лидеров») в области координированного эпиднадзора институализированы (например: в рамках руководящего органа, такого как МКМ)   "},null,null,null,null,null,null,"КОММЕНТАРИИ: "]
[]
[]
[]
[]
[]
[null,null,null,null,null,null,null,null,null,null,null,null,null,null,null,null,null,"(если да)",null,null,null,null,null,null,null,null,"(если да)"]
[]
[]
[]
[]
[]
[]
[null,null,null,null,null,null,null,null,null,null,"ОТВЕТ:",null,null,null,null,null,null,{"$f":"IF(O44=\"Yes\",1,0)","v":0},null,"ОТВЕТ:",null,null,null,null,null,null,{"$f":"IF(X44=\"Yes\",1,0)","v":0},null,"ОТВЕТ:"]

{"sheet":"Prioritization","index":11,"n_rows":44,"n_cols":37,"rows_kept":44,"cut":false,"hidden":false,"merged":[[2,1,4,33],[7,1,9,33],[11,1,24,33],[26,16,46,16],[27,1,28,3],[27,5,28,8],[27,10,28,15],[27,19,28,24],[27,28,28,33],[30,1,44,3],[45,13,46,15],[30,35,44,40],[30,5,44,8],[30,10,41,15],[30,19,41,24],[30,28,41,33],[36,17,37,17],[36,26,37,26],[42,14,42,15],[43,10,44,12],[43,14,44,15],[43,17,44,17],[43,19,44,21],[43,23,44,24],[43,26,44,26],[43,28,44,30],[43,32,44,33]]}
[]
[]
[null,"Приоритизация"]
[]
[]
[]
[]
[null,"Исходя из имеющегося уровня потенциала в вашей стране, выберите «1», если каждое мероприятие ниже выполнено, или «0», если мероприятие не выполнено / процесс еще не завершен."]
[]
[]
[]
[null,"ВАЖНЫЕ ЗАМЕЧАНИЯ:\n    ·Выберите «1», если данный уровень потенциала достигнут, и «0», если мероприятие не было выполнено или находится в процессе выполнения.\n    ·Если данный уровень потенциала достигнут и выбран ответ «1», то для мероприятия становится активным следующий уровень потенциала.\n    ·Если такой уровень потенциала не применим к вашей ситуации, выберите «0».\n    ·Если вы не знаете ответ, выберите «0».\n    ·Если уровень потенциала состоит из двух элементов, и они объединены предлогом «И», то ОБА элементы должны быть выполнены, чтобы можно было выбрать ответ «1».\n \nОСНОВНОЕ ДОПУЩЕНИЕ: \n    ·Поскольку РИ ЭОИ относится к развитию системы координированного эпиднадзора и обмена информацией, ответ «1» подразумевает, что данный уровень потенциала достигнут во всех секторах на основе концепции «Единое здоровье», относящихся к данному мероприятию. Если это нет так, выберите «0»."]
[]
[]
[]
[]
[]
[]
[]
[null,null,null,null,null,null,null,null,null,null,null,null,null,null,null,null,null,null,null,null,null,null,null,null,null,null,null,null,null,null,null,null,null,null,null,null,1]
[null,null,null,null,null,null,null,null,null,null,null,null,null,null,null,null,null,null,null,null,null,null,null,null,null,null,null,null,null,null,null,null,null,null,null,null,0]
[]
[]
[]
[]
[null," "]
[]
[null,"ЭТАП",null,null,null,"МЕРОПРИЯТИЕ",null,null,null,null,"УРОВЕНЬ 1",null,null,null,null,null,null,null,null,"УРОВЕНЬ 2",null,null,null,null,null,null,null,null,"УРОВЕНЬ 3"]
[]
[]
[null,"Предварительное планирование",null,null,null,{"$f":"Activities!B5","v":"ПП-2 Приоритизация"},null,null,null,null,{"$f":"Activities!C5","v":"Существует список приоритетных зоонозов, подлежащих включению в координированную систему эпиднадзора"},null,null,null,null,null,null,null,null,{"$f":"Activities!C6","v":"Список зоонозов широко распространен на субнациональном уровне и уровне сообществ"},null,null,null,null,null,null,null,null,{"$f":"Activities!C7","v":"Список зоонозов составляется с использованием межотраслевого подхода «Единое здоровье». Такой подход предполагает участие всех соответствующих секторов в основанном на фактических данных, прозрачном и воспроизводимом процессе определения приоритетов"},null,null,null,null,null,null,"КОММЕНТАРИИ:"]
[]
[]
[]
[]
[]
[null,null,null,null,null,null,null,null,null,null,null,null,null,null,null,null,null,"(если да)",null,null,null,null,null,null,null,null,"(если да)"]
[]
[]
[]
[]
[]
[]
[null,null,null,null,null,null,null,null,null,null,"ОТВЕТ:",null,null,null,null,null,null,{"$f":"IF(O44=\"Yes\",1,0)","v":0},null,"ОТВЕТ:",null,null,null,null,null,null,{"$f":"IF(X44=\"Yes\",1,0)","v":0},null,"ОТВЕТ:"]

{"sheet":"Goal Setting","index":12,"n_rows":44,"n_cols":37,"rows_kept":44,"cut":false,"hidden":false,"merged":[[43,28,44,30],[43,32,44,33],[2,1,4,33],[7,1,9,33],[11,1,24,33],[26,16,46,16],[27,1,28,3],[27,5,28,8],[27,10,28,15],[27,19,28,24],[27,28,28,33],[30,1,44,3],[30,35,44,40],[45,13,46,15],[43,34,44,34],[30,5,44,8],[30,10,41,15],[30,19,41,24],[30,28,41,33],[36,17,37,17],[36,26,37,26],[42,14,42,15],[43,10,44,12],[43,14,44,15],[43,17,44,17],[43,19,44,21],[43,23,44,24],[43,26,44,26]]}
[]
[]
[null,"Постановка целей"]
[]
[]
[]
[]
[null,"Исходя из имеющегося уровня потенциала в вашей стране, выберите «1», если каждое мероприятие ниже выполнено, или «0», если мероприятие не выполнено / процесс еще не завершен."]
[]
[]
[]
[null,"ВАЖНЫЕ ЗАМЕЧАНИЯ:\n    ·Выберите «1», если данный уровень потенциала достигнут, и «0», если мероприятие не было выполнено или находится в процессе выполнения.\n    ·Если данный уровень потенциала достигнут и выбран ответ «1», то для мероприятия становится активным следующий уровень потенциала.\n    ·Если такой уровень потенциала не применим к вашей ситуации, выберите «0».\n    ·Если вы не знаете ответ, выберите «0».\n    ·Если уровень потенциала состоит из двух элементов, и они объединены предлогом «И», то ОБА элементы должны быть выполнены, чтобы можно было выбрать ответ «1».\n \nОСНОВНОЕ ДОПУЩЕНИЕ: \n    ·Поскольку РИ ЭОИ относится к развитию системы координированного эпиднадзора и обмена информацией, ответ «1» подразумевает, что данный уровень потенциала достигнут во всех секторах на основе концепции «Единое здоровье», относящихся к данному мероприятию. Если это нет так, выберите «0». "]
[]
[]
[]
[]
[]
[]
[]
[null,null,null,null,null,null,null,null,null,null,null,null,null,null,null,null,null,null,null,null,null,null,null,null,null,null,null,null,null,null,null,null,null,null,null,null,1]
[null,null,null,null,null,null,null,null,null,null,null,null,null,null,null,null,null,null,null,null,null,null,null,null,null,null,null,null,null,null,null,null,null,null,null,null,0]
[]
[]
[]
[]
[]
[]
[null,"ЭТАП",null,null,null,"МЕРОПРИЯТИЕ",null,null,null,null,"УРОВЕНЬ 1",null,null,null,null,null,null,null,null,"УРОВЕНЬ 2",null,null,null,null,null,null,null,null,"УРОВЕНЬ 3"]
[]
[]
[null,"Предварительное планирование",null,null,null,{"$f":"Activities!B8","v":"ПП-3 Постановка целей"},null,null,null,null,{"$f":"Activities!C8","v":"Цель(и), функции и обязанности всех участвующих секторов координированной системы эпиднадзора согласованы на национальном уровне"},null,null,null,null,null,null,null,null,{"$f":"Activities!C9","v":"Цель(и), функции и обязанности всех участвующих секторов координированной системы эпиднадзора согласованы и охватывают все уровни в стране"},null,null,null,null,null,null,null,null,{"$f":"Activities!C10","v":"Цель(и), функции и обязанности в рамках координированной системы эпиднадзора пересмотрены для учета текущих потребностей координированной системы эпиднадзора "},null,null,null,null,null,null,"КОММЕНТАРИИ:"]
[]
[]
[]
[]
[]
[null,null,null,null,null,null,null,null,null,null,null,null,null,null,null,null,null,"(если да)",null,null,null,null,null,null,null,null,"(если да)"]
[]
[]
[]
[]
[]
[]
[null,null,null,null,null,null,null,null,null,null,"ОТВЕТ:",null,null,null,null,null,null,{"$f":"IF(O44=\"Yes\",1,0)","v":0},null,"ОТВЕТ:",null,null,null,null,null,null,{"$f":"IF(X44=\"Yes\",1,0)","v":0},null,"ОТВЕТ:",null,null,null,null,null,{"$f":"IF(AG44=\"Yes\",1,0)","v":0}]

{"sheet":"Section II","index":13,"n_rows":49,"n_cols":2,"rows_kept":49,"cut":false,"hidden":false,"merged":[[2,1,5,30],[44,1,46,30],[48,1,56,30],[7,1,14,30],[16,1,18,30],[20,1,28,30],[30,1,32,30],[34,1,42,30]]}
[]
[]
[null,"РАЗДЕЛ II: ОЦЕНКА, ПЛАНИРОВАНИЕ и ВНЕДРЕНИЕ"]
[]
[]
[]
[]
[null,"Вы закончили раздел «Предварительное планирование», и сейчас в данном разделе вы переходите к следующим трем этапам, необходимым для построения координированного эпиднадзора: оценка, планирование и внедрение. \n\nВам предстоит оценить двадцать девять мероприятий по восьми областям."]
[]
[]
[]
[]
[]
[]
[]
[]
[null,"Обзор этапа оценки"]
[]
[]
[]
[null,"Этап оценки охватывает мероприятия по определению потребностей или пробелов в существующей координированной системе ЭОИ и ее инфраструктуре или системе эпиднадзора за состоянием здоровья населения и инфраструктуре отдельных задействованных секторов с учетом текущего положения дел и желаемых изменений. В них входят такие мероприятия, как картирование заинтересованных сторон, оценки стратегических и оперативных планов, оценки экономических потребностей и картирование инфраструктуры.\n\nРесурсы, представленные в данном разделе, следует выбирать при помощи РИ ЭОИ, чтобы выполнить мероприятия на данном этапе оценки для создания или укрепления национальной координированной системы эпиднадзора за зоонозами."]
[]
[]
[]
[]
[]
[]
[]
[]
[]
[null,"Обзор этапа планирования"]
[]
[]
[]
[null,"Этап планирования подразумевает подготовку оперативных или ориентированных на конкретные действия описаний мероприятий, которые участвующие сектора должны выполнить отдельно или вместе, а также других действий, осуществляемых в ходе подготовки к развитию или укреплению потенциала координированного эпиднадзора. Он включает такие мероприятия, как создание необходимой политической и правовой базы, разработка стратегий и планов эпиднадзора, подготовка бюджетов и определение необходимых объемов финансирования, а также планирование координации коммуникационной работы.  \n \nРесурсы, представленные в данном разделе, следует выбирать при помощи РИ ЭОИ, чтобы выполнить мероприятия на данном этапе планирования для создания или укрепления национальной координированной системы эпиднадзора за зоонозами."]
[]
[]
[]
[]
[]
[]
[]
[]
[]
[null,"Обзор этапа внедрения"]
[]
[]
[]
[null,"Этап внедрения включает мероприятия, которые участвующие сектора должны выполнить отдельно или вместе, и требования, подлежащие выполнению до реализации планов и развития координированной системы ЭОИ, например: внедрение мер по обеспечению конфиденциальности и безопасности данных, использование механизмов для обмена данными и хранения данных, обмен информацией и привлечение финансовых ресурсов. \n\nРесурсы, представленные в данном разделе, следует выбирать при помощи РИ ЭОИ, чтобы выполнить мероприятия на данном этапе внедрения для создания или укрепления национальной координированной системы эпиднадзора за зоонозами. "]

{"sheet":"Stakeholders","index":14,"n_rows":88,"n_cols":37,"rows_kept":88,"cut":false,"hidden":false,"merged":[[71,28,72,33],[70,16,91,16],[74,1,88,3],[74,5,88,8],[74,10,85,15],[74,19,85,24],[74,28,85,33],[80,17,81,17],[87,28,88,30],[87,32,88,33],[80,26,81,26],[86,14,86,15],[87,14,88,15],[87,17,88,17],[87,19,88,21],[87,23,88,24],[71,1,72,3],[71,5,72,8],[71,10,72,15],[71,19,72,24],[87,26,88,26],[87,10,88,12],[65,19,66,21],[48,16,69,16],[65,28,66,30],[65,32,66,33],[52,28,63,33],[58,17,59,17],[58,26,59,26],[65,23,66,24],[65,26,66,26],[43,10,44,12],[43,14,44,15],[43,17,44,17],[52,1,66,3],[52,5,66,8],[52,10,63,15],[49,1,50,3],[49,5,50,8],[49,10,50,15],[64,14,64,15],[65,10,66,12],[65,14,66,15],[65,17,66,17],[2,1,4,33],[7,1,9,33],[11,1,24,33],[26,16,47,16],[27,1,28,3],[27,5,28,8],[27,10,28,15],[27,19,28,24],[27,28,28,33],[30,1,44,3],[43,26,44,26],[43,28,44,30],[43,32,44,33],[30,5,44,8],[30,10,41,15],[30,19,41,24],[30,35,44,40],[89,13,90,15],[52,35,66,40],[74,35,88,40],[45,13,46,15],[67,13,68,15],[43,34,44,34],[30,28,41,33],[36,17,37,17],[36,26,37,26],[42,14,42,15],[52,19,63,24],[43,19,44,21],[43,23,44,24],[49,19,50,24],[49,28,50,33]]}
[]
[]
[null,"Заинтересованные стороны"]
[]
[]
[]
[]
[null,"Исходя из имеющегося уровня потенциала в вашей стране, выберите «1», если каждое мероприятие ниже выполнено, или «0», если мероприятие не выполнено / процесс еще не завершен."]
[]
[]
[]
[null,"ВАЖНЫЕ ЗАМЕЧАНИЯ:\n    ·Выберите «1», если данный уровень потенциала достигнут, и «0», если мероприятие не было выполнено или находится в процессе выполнения.\n    ·Если данный уровень потенциала достигнут и выбран ответ «1», то для мероприятия становится активным следующий уровень потенциала.\n    ·Если такой уровень потенциала не применим к вашей ситуации, выберите «0».\n    ·Если вы не знаете ответ, выберите «0».\n    ·Если уровень потенциала состоит из двух элементов, и они объединены предлогом «И», то ОБА элементы должны быть выполнены, чтобы можно было выбрать ответ «1».\n \nОСНОВНОЕ ДОПУЩЕНИЕ: \n    ·Поскольку РИ ЭОИ относится к развитию системы координированного эпиднадзора и обмена информацией, ответ «1» подразумевает, что данный уровень потенциала достигнут во всех секторах на основе концепции «Единое здоровье», относящихся к данному мероприятию. Если это нет так, выберите «0»."]
[]
[]
[]
[]
[]
[]
[]
[null,null,null,null,null,null,null,null,null,null,null,null,null,null,null,null,null,null,null,null,null,null,null,null,null,null,null,null,null,null,null,null,null,null,null,null,1]
[null,null,null,null,null,null,null,null,null,null,null,null,null,null,null,null,null,null,null,null,null,null,null,null,null,null,null,null,null,null,null,null,null,null,null,null,0]
[]
[]
[]
[]
[]
[]
[null,"ЭТАП",null,null,null,"МЕРОПРИЯТИЕ",null,null,null,null,"УРОВЕНЬ 1",null,null,null,null,null,null,null,null,"УРОВЕНЬ 2",null,null,null,null,null,null,null,null,"УРОВЕНЬ 3"]
[]
[]
[null,"Оценка",null,null,null,{"$f":"Activities!G2","v":"О-1 Картирование заинтересованных сторон"},null,null,null,null,{"$f":"Activities!H2","v":"Заинтересованные стороны в области эпиднадзора, эпидемиологии, лабораторных исследований и обмена информацией выявлены"},null,null,null,null,null,null,null,null,{"$f":"Activities!H3","v":"В ходе анализа заинтересованных сторон определены участники на всех уровнях в стране "},null,null,null,null,null,null,null,null,{"$f":"Activities!H4","v":"Функции и обязанности заинтересованных сторон институционализированы и включены в политические документы"},null,null,null,null,null,null,"КОММЕНТАРИИ:"]
[]
[]
[]
[]
[]
[null,null,null,null,null,null,null,null,null,null,null,null,null,null,null,null,null,"(если да)",null,null,null,null,null,null,null,null,"(если да)"]
[]
[]
[]
[]
[]
[]
[null,null,null,null,null,null,null,null,null,null,"ОТВЕТ:",null,null,null,null,null,null,{"$f":"IF(O44=\"Yes\",1,0)","v":0},null,"ОТВЕТ:",null,null,null,null,null,null,{"$f":"IF(X44=\"Yes\",1,0)","v":0},null,"ОТВЕТ:",null,null,null,null,null,{"$f":"IF(AG44=\"Yes\",1,0)","v":0}]
[]
[]
[]
[]
[]
[null,"ЭТАП",null,null,null,"МЕРОПРИЯТИЕ",null,null,null,null,"УРОВЕНЬ 1",null,null,null,null,null,null,null,null,"УРОВЕНЬ 2",null,null,null,null,null,null,null,null,"УРОВЕНЬ 3"]
[]
[]
[null,"Планирование",null,null,null,{"$f":"Activities!L2","v":"ПЛ-1 Политическая воля"},null,null,null,null,{"$f":"Activities!M2","v":"Определены лица, принимающие решения в отношении создания координированной системы эпиднадзора"},null,null,null,null,null,null,null,null,{"$f":"Activities!M3","v":"Политическая поддержка координированной системы эпиднадзора сформирована, и ее сторонники имеются на всех страновых уровнях"},null,null,null,null,null,null,null,null,{"$f":"Activities!M4","v":"Имеется стратегия информационно-разъяснительной работы, которая служит основой для коммуникации с лицами, принимающими решения, по вопросам координированной системы эпиднадзора"},null,null,null,null,null,null,"КОММЕНТАРИИ:"]
[]
[]
[]
[]
[]
[null,null,null,null,null,null,null,null,null,null,null,null,null,null,null,null,null,"(если да)",null,null,null,null,null,null,null,null,"(если да)"]
[]
[]
[]
[]
[]
[]
[null,null,null,null,null,null,null,null,null,null,"ОТВЕТ:",null,null,null,null,null,null,{"$f":"IF(O66=\"Yes\",1,0)","v":0},null,"ОТВЕТ:",null,null,null,null,null,null,{"$f":"IF(X66=\"Yes\",1,0)","v":0},null,"ОТВЕТ:"]
[]
[]
[]
[]
[]
[null,"ЭТАП",null,null,null,"МЕРОПРИЯТИЕ",null,null,null,null,"УРОВЕНЬ 1",null,null,null,null,null,null,null,null,"УРОВЕНЬ 2",null,null,null,null,null,null,null,null,"УРОВЕНЬ 3"]
[]
[]
[null,"Внедрение",null,null,null,{"$f":"Activities!Q5","v":"В-2 Привлечение кадровых ресурсов и заинтересованных сторон"},null,null,null,null,{"$f":"Activities!R5","v":"Координаторы или технические рабочие группы проводят совещания эпизодически"},null,null,null,null,null,null,null,null,{"$f":"Activities!R6","v":"Координаторы или технические рабочие группы встречаются на регулярной основе и для решения приоритетных вопросов по мере их возникновения"},null,null,null,null,null,null,null,null,{"$f":"Activities!R7","v":"Технические рабочие группы регулярно проводят обзоры мероприятий по координированному эпиднадзору и ее оптимизацию "},null,null,null,null,null,null,"КОММЕНТАРИИ:"]
[]
[]
[]
[]
[]
[null,null,null,null,null,null,null,null,null,null,null,null,null,null,null,null,null,"(если да)",null,null,null,null,null,null,null,null,"(если да)"]
[]
[]
[]
[]
[]
[]
[null,null,null,null,null,null,null,null,null,null,"ОТВЕТ:",null,null,null,null,null,null,{"$f":"IF(O88=\"Yes\",1,0)","v":0},null,"ОТВЕТ:",null,null,null,null,null,null,{"$f":"IF(X88=\"Yes\",1,0)","v":0},null,"ОТВЕТ:"]

{"sheet":"Plans & Organization","index":15,"n_rows":120,"n_cols":37,"rows_kept":120,"cut":false,"hidden":false,"merged":[[119,32,120,33],[97,32,98,33],[65,28,66,33],[65,1,66,3],[30,1,60,3],[84,5,98,8],[84,10,95,15],[84,19,95,24],[84,28,95,33],[90,17,91,17],[90,26,91,26],[96,14,96,15],[97,10,98,12],[59,19,60,21],[59,23,60,24],[59,26,60,26],[59,28,60,30],[59,32,60,33],[99,13,100,15],[68,1,98,3],[97,14,98,15],[97,17,98,17],[97,19,98,21],[97,23,98,24],[97,28,98,30],[46,5,60,8],[46,10,57,15],[46,19,57,24],[46,28,57,33],[52,17,53,17],[52,26,53,26],[58,14,58,15],[59,10,60,12],[59,14,60,15],[59,17,60,17],[65,5,66,8],[65,10,66,15],[65,19,66,24],[68,10,79,15],[68,19,79,24],[103,1,104,3],[103,5,104,8],[103,10,104,15],[103,19,104,24],[103,28,104,33],[106,1,120,3],[106,5,120,8],[68,28,79,33],[74,17,75,17],[74,26,75,26],[80,14,80,15],[81,10,82,12],[81,14,82,15],[81,17,82,17],[81,19,82,21],[81,23,82,24],[81,26,82,26],[119,28,120,30],[119,10,120,12],[119,14,120,15],[119,17,120,17],[119,19,120,21],[119,23,120,24],[68,5,82,8],[2,1,4,33],[7,1,9,33],[11,1,24,33],[26,16,45,16],[27,1,28,3],[27,5,28,8],[27,10,28,15],[27,19,28,24],[27,28,28,33],[30,5,44,8],[30,10,41,15],[30,19,41,24],[30,28,41,33],[36,17,37,17],[36,26,37,26],[42,14,42,15],[43,10,44,12],[43,14,44,15],[121,13,122,15],[106,35,120,40],[30,35,44,40],[46,35,60,40],[68,35,82,40],[84,35,98,40],[43,34,44,34],[119,26,120,26],[106,10,117,15],[106,19,117,24],[106,28,117,33],[112,17,113,17],[112,26,113,26],[118,14,118,15],[81,28,82,30],[81,32,82,33],[61,13,62,15],[43,19,44,21],[43,23,44,24],[43,26,44,26],[43,28,44,30],[43,32,44,33],[43,17,44,17],[97,26,98,26]]}
[]
[]
[null,"Планы и организация"]
[]
[]
[]
[]
[null,"Исходя из имеющегося уровня потенциала в вашей стране, выберите «1», если каждое мероприятие ниже выполнено, или «0», если мероприятие не выполнено / процесс еще не завершен."]
[]
[]
[]
[null,"ВАЖНЫЕ ЗАМЕЧАНИЯ:\n    ·Выберите «1», если данный уровень потенциала достигнут, и «0», если мероприятие не было выполнено или находится в процессе выполнения.\n    ·Если данный уровень потенциала достигнут и выбран ответ «1», то для мероприятия становится активным следующий уровень потенциала.\n    ·Если такой уровень потенциала не применим к вашей ситуации, выберите «0».\n    ·Если вы не знаете ответ, выберите «0».\n    ·Если уровень потенциала состоит из двух элементов, и они объединены предлогом «И», то ОБА элементы должны быть выполнены, чтобы можно было выбрать ответ «1».\n \nОСНОВНОЕ ДОПУЩЕНИЕ: \n    ·Поскольку РИ ЭОИ относится к развитию системы координированного эпиднадзора и обмена информацией, ответ «1» подразумевает, что данный уровень потенциала достигнут во всех секторах на основе концепции «Единое здоровье», относящихся к данному мероприятию. Если это нет так, выберите «0»."]
[]
[]
[]
[]
[]
[]
[]
[null,null,null,null,null,null,null,null,null,null,null,null,null,null,null,null,null,null,null,null,null,null,null,null,null,null,null,null,null,null,null,null,null,null,null,null,1]
[null,null,null,null,null,null,null,null,null,null,null,null,null,null,null,null,null,null,null,null,null,null,null,null,null,null,null,null,null,null,null,null,null,null,null,null,0]
[]
[]
[]
[]
[]
[]
[null,"ЭТАП",null,null,null,"МЕРОПРИЯТИЕ",null,null,null,null,"УРОВЕНЬ 1",null,null,null,null,null,null,null,null,"УРОВЕНЬ 2",null,null,null,null,null,null,null,null,"УРОВЕНЬ 3"]
[]
[]
[null,"Оценка",null,null,null,{"$f":"Activities!G5","v":"О-2 Оценка взаимосвязей в системе эпиднадзора"},null,null,null,null,{"$f":"Activities!H5","v":"Оценка взаимосвязей между существующими системами эпиднадзора за приоритетными зоонозами проведена на межотраслевом уровне"},null,null,null,null,null,null,null,null,{"$f":"Activities!H6","v":"Оценка взаимосвязей между существующими системами эпиднадзора проведена на межотраслевом уровне и на всех уровнях в стране"},null,null,null,null,null,null,null,null,{"$f":"Activities!H7","v":"Взаимосвязи между существующими системами эпиднадзора проанализированы и признаны соответствующими целям координированной системы эпиднадзора"},null,null,null,null,null,null,"КОММЕНТАРИИ:"]
[]
[]
[]
[]
[]
[null,null,null,null,null,null,null,null,null,null,null,null,null,null,null,null,null,"(если да)",null,null,null,null,null,null,null,null,"(если да)"]
[]
[]
[]
[]
[]
[]
[null,null,null,null,null,null,null,null,null,null,"ОТВЕТ:",null,null,null,null,null,null,{"$f":"IF(O44=\"Yes\",1,0)","v":0},null,"ОТВЕТ:",null,null,null,null,null,null,{"$f":"IF(X44=\"Yes\",1,0)","v":0},null,"ОТВЕТ:",null,null,null,null,null,{"$f":"IF(AG44=\"Yes\",1,0)","v":0}]
[]
[]
[null,null,null,null,null,{"$f":"Activities!G16","v":"О-4 Картирование инфраструктуры"},null,null,null,null,{"$f":"Activities!H16","v":"В результате проведения базового картирования инфраструктуры (в соответствие с ТРЗ, гл. 4.1) были описаны структура и взаимосвязи внутри секторов и между ними "},null,null,null,null,null,null,null,null,{"$f":"Activities!H17","v":"В ходе картирования инфраструктуры описано большинство подлежащих картированию областей (в соответствие с ТРЗ, гл. 4.1)"},null,null,null,null,null,null,null,null,{"$f":"Activities!H18","v":"Полное картирование инфраструктуры использовано для описания всех подлежащих картированию областей (в соответствие с ТРЗ, гл. 4.1)."},null,null,null,null,null,null,"КОММЕНТАРИИ:"]
[]
[]
[]
[]
[]
[null,null,null,null,null,null,null,null,null,null,null,null,null,null,null,null,null,"(если да)",null,null,null,null,null,null,null,null,"(если да)"]
[]
[]
[]
[]
[]
[]
[null,null,null,null,null,null,null,null,null,null,"ОТВЕТ:",null,null,null,null,null,null,{"$f":"IF(O60=\"Yes\",1,0)","v":0},null,"ОТВЕТ:",null,null,null,null,null,null,{"$f":"IF(X60=\"Yes\",1,0)","v":0},null,"ОТВЕТ:"]
[]
[]
[]
[]
[]
[null,"ЭТАП",null,null,null,"МЕРОПРИЯТИЕ",null,null,null,null,"УРОВЕНЬ 1",null,null,null,null,null,null,null,null,"УРОВЕНЬ 2",null,null,null,null,null,null,null,null,"УРОВЕНЬ 3"]
[]
[]
[null,"Планирование",null,null,null,{"$f":"Activities!L8","v":"ПЛ-3 Стратегические планы и рамочные документы по координированному эпиднадзору"},null,null,null,null,{"$f":"Activities!M8","v":"В целях планирования проведен межотраслевой сбор и обзор национальных стратегических документов (стратегий, рамочных программ и стратегических планов), относящихся к координированной системе эпиднадзора"},null,null,null,null,null,null,null,null,{"$f":"Activities!M9","v":"Национальные стратегические документы (стратегии, рамочные программы и стратегические планы) по координированной системе эпиднадзора сведены воедино и согласованы на основе результатов оценки на всех уровнях в стране"},null,null,null,null,null,null,null,null,{"$f":"Activities!M10","v":"Пересмотренные стратегические документы (стратегии, рамочные программы и стратегические планы) по координированной системе эпиднадзора приведены в соответствие с международными стандартами и рекомендациями"},null,null,null,null,null,null,"КОММЕНТАРИИ:"]
[]
[]
[]
[]
[]
[null,null,null,null,null,null,null,null,null,null,null,null,null,null,null,null,null,"(если да)",null,null,null,null,null,null,null,null,"(если да)"]
[]
[]
[]
[]
[]
[]
[null,null,null,null,null,null,null,null,null,null,"ОТВЕТ:",null,null,null,null,null,null,{"$f":"IF(O82=\"Yes\",1,0)","v":0},null,"ОТВЕТ:",null,null,null,null,null,null,{"$f":"IF(X82=\"Yes\",1,0)","v":0},null,"ОТВЕТ:"]
[]
[]
[null,null,null,null,null,{"$f":"Activities!L11","v":"ПЛ-4 Национальные оперативные планы "},null,null,null,null,{"$f":"Activities!M11","v":"В целях планирования проведен межотраслевой сбор и обзор национальных оперативных планов и других важные документов (включая планы эпиднадзора, определения случаев, протоколы и стандартные операционные процедуры), относящихся к координированной системе эпиднадзора\n"},null,null,null,null,null,null,null,null,{"$f":"Activities!M12","v":"Пересмотренные оперативные планы и другие важные документы (включая планы эпиднадзора, определения случаев, протоколы и стандартные операционные процедуры), относящиеся к координированной системе эпиднадзора и обмена информацией, утверждены всеми ведомствами, осуществляющими эпиднадзор на всех уровнях в стране\n"},null,null,null,null,null,null,null,null,{"$f":"Activities!M13","v":"Пересмотренные оперативные планы (включая планы эпиднадзора, определения случаев, протоколы и стандартные операционные процедуры), относящиеся к координированной системе эпиднадзора, приведены в соответствие с международными руководящими указаниями и рекомендациями\n"},null,null,null,null,null,null,"КОММЕНТАРИИ:"]
[]
[]
[]
[]
[]
[null,null,null,null,null,null,null,null,null,null,null,null,null,null,null,null,null,"(если да)",null,null,null,null,null,null,null,null,"(если да)"]
[]
[]
[]
[]
[]
[]
[null,null,null,null,null,null,null,null,null,null,"ОТВЕТ:",null,null,null,null,null,null,{"$f":"IF(O98=\"Yes\",1,0)","v":0},null,"ОТВЕТ:",null,null,null,null,null,null,{"$f":"IF(X98=\"Yes\",1,0)","v":0},null,"ОТВЕТ:"]
[]
[]
[]
[]
[]
[null,"ЭТАП",null,null,null,"МЕРОПРИЯТИЕ",null,null,null,null,"УРОВЕНЬ 1",null,null,null,null,null,null,null,null,"УРОВЕНЬ 2",null,null,null,null,null,null,null,null,"УРОВЕНЬ 3"]
[]
[]
[null,"Внедрение",null,null,null,{"$f":"Activities!Q17","v":"В-6 Внедрение координированной системы эпиднадзора"},null,null,null,null,{"$f":"Activities!R17","v":"Запущен пилотный проект координированной системы эпиднадзора в целевых регионах"},null,null,null,null,null,null,null,null,{"$f":"Activities!R18","v":"Координированная система эпиднадзора расширена до дополнительных областей исходя из пилотных внедрений"},null,null,null,null,null,null,null,null,{"$f":"Activities!R19","v":"Координированная системы эпиднадзора является общегосударственной программой"},null,null,null,null,null,null,"КОММЕНТАРИИ:"]
[]
[]
[]
[]
[]
[null,null,null,null,null,null,null,null,null,null,null,null,null,null,null,null,null,"(если да)",null,null,null,null,null,null,null,null,"(если да)"]
[]
[]
[]
[]
[]
[]
[null,null,null,null,null,null,null,null,null,null,"ОТВЕТ:",null,null,null,null,null,null,{"$f":"IF(O120=\"Yes\",1,0)","v":0},null,"ОТВЕТ:",null,null,null,null,null,null,{"$f":"IF(X120=\"Yes\",1,0)","v":0},null,"ОТВЕТ:"]

{"sheet":"Policy & Legal","index":16,"n_rows":66,"n_cols":37,"rows_kept":66,"cut":false,"hidden":false,"merged":[[67,16,69,16],[52,28,63,33],[58,17,59,17],[58,26,59,26],[65,23,66,24],[65,26,66,26],[49,28,50,33],[64,14,64,15],[65,10,66,12],[65,14,66,15],[65,17,66,17],[65,19,66,21],[48,16,66,16],[65,28,66,30],[65,32,66,33],[52,1,66,3],[52,5,66,8],[52,10,63,15],[52,19,63,24],[43,26,44,26],[49,1,50,3],[49,5,50,8],[49,10,50,15],[49,19,50,24],[30,28,41,33],[36,26,37,26],[42,14,42,15],[43,10,44,12],[43,14,44,15],[34,20,35,23],[43,28,44,30],[43,32,44,33],[67,13,68,15],[30,35,44,40],[52,35,66,40],[2,1,4,33],[7,1,9,33],[11,1,24,33],[26,16,47,16],[27,1,28,3],[27,5,28,8],[27,10,28,15],[27,28,28,33],[30,1,44,3],[45,13,46,15],[43,34,44,34],[30,5,44,8],[30,10,41,15]]}
[]
[]
[null,"Политика и право"]
[]
[]
[]
[]
[null,"Исходя из имеющегося уровня потенциала в вашей стране, выберите «1», если каждое мероприятие ниже выполнено, или «0», если мероприятие не выполнено / процесс еще не завершен."]
[]
[]
[]
[null,"ВАЖНЫЕ ЗАМЕЧАНИЯ:\n    ·Выберите «1», если данный уровень потенциала достигнут, и «0», если мероприятие не было выполнено или находится в процессе выполнения.\n    ·Если данный уровень потенциала достигнут и выбран ответ «1», то для мероприятия становится активным следующий уровень потенциала.\n    ·Если такой уровень потенциала не применим к вашей ситуации, выберите «0».\n    ·Если вы не знаете ответ, выберите «0».\n    ·Если уровень потенциала состоит из двух элементов, и они объединены предлогом «И», то ОБА элементы должны быть выполнены, чтобы можно было выбрать ответ «1».\n \nОСНОВНОЕ ДОПУЩЕНИЕ: \n    ·Поскольку РИ ЭОИ относится к развитию системы координированного эпиднадзора и обмена информацией, ответ «1» подразумевает, что данный уровень потенциала достигнут во всех секторах на основе концепции «Единое здоровье», относящихся к данному мероприятию. Если это нет так, выберите «0». "]
[]
[]
[]
[]
[]
[]
[]
[null,null,null,null,null,null,null,null,null,null,null,null,null,null,null,null,null,null,null,null,null,null,null,null,null,null,null,null,null,null,null,null,null,null,null,null,1]
[null,null,null,null,null,null,null,null,null,null,null,null,null,null,null,null,null,null,null,null,null,null,null,null,null,null,null,null,null,null,null,null,null,null,null,null,0]
[]
[]
[]
[]
[]
[]
[null,"ЭТАП",null,null,null,"МЕРОПРИЯТИЕ",null,null,null,null,"УРОВЕНЬ 1",null,null,null,null,null,null,null,null,null,null,null,null,null,null,null,null,null,"УРОВЕНЬ 3"]
[]
[]
[null,"Оценка",null,null,null,{"$f":"Activities!G8","v":"О-3 Оценка нормативно-правовой базы"},null,null,null,null,{"$f":"Activities!H8","v":"Оценка нормативно-правовой базы (правил, политики, руководящих принципов и положений, включая международные стандарты), регулирующей стандарты этики и конфиденциальности в области эпиднадзора и обмена данными, проведена"},null,null,null,null,null,null,null,null,null,null,null,null,null,null,null,null,null,{"$f":"Activities!H9","v":"Оценка нормативно-правовой базы (правил, политики, руководящих принципов и положений, включая международные стандарты), регулирующей стандарты этики и конфиденциальности в области эпиднадзора и обмена данными, проводится на всех уровнях в стране "},null,null,null,null,null,null,"КОММЕНТАРИИ:"]
[]
[]
[]
[null,null,null,null,null,null,null,null,null,null,null,null,null,null,null,null,null,null,null,null,"(если да)"]
[]
[]
[]
[]
[]
[]
[]
[]
[null,null,null,null,null,null,null,null,null,null,"ОТВЕТ:",null,null,null,null,null,null,null,null,null,null,null,null,null,null,null,{"$f":"IF(X44=\"Yes\",1,0)","v":0},null,"ОТВЕТ:",null,null,null,null,null,{"$f":"IF(AG44=\"Yes\",1,0)","v":0}]
[]
[]
[]
[]
[]
[null,"ЭТАП",null,null,null,"МЕРОПРИЯТИЕ",null,null,null,null,"УРОВЕНЬ 1",null,null,null,null,null,null,null,null,"УРОВЕНЬ 2",null,null,null,null,null,null,null,null,"УРОВЕНЬ 3"]
[]
[]
[null,"Планирование",null,null,null,{"$f":"Activities!L20","v":"ПЛ-7 Обеспечение нормативно-правовой базы"},null,null,null,null,{"$f":"Activities!M20","v":"По результатам оценки необходимые нормативно-правовые рамки (правила, стратегии, руководства и положения, включая международные стандарты) стандартизированы во всех секторах на национальном уровне"},null,null,null,null,null,null,null,null,{"$f":"Activities!M21","v":"По результатам оценки необходимые нормативно-правовые рамки (правила, стратегии, руководства и положения, включая международные стандарты) стандартизированы во всех секторах на всех страновых уровнях"},null,null,null,null,null,null,null,null,{"$f":"Activities!M22","v":"Пересмотренные нормативно-правовые рамки для координированной системы эпиднадзора приведены в соответствие с международными стандартами и рекомендациями. "},null,null,null,null,null,null,"КОММЕНТАРИИ:"]
[]
[]
[]
[]
[]
[null,null,null,null,null,null,null,null,null,null,null,null,null,null,null,null,null,"(если да)",null,null,null,null,null,null,null,null,"(если да)"]
[]
[]
[]
[]
[]
[]
[null,null,null,null,null,null,null,null,null,null,"ОТВЕТ:",null,null,null,null,null,null,{"$f":"IF(O66=\"Yes\",1,0)","v":0},null,"ОТВЕТ:",null,null,null,null,null,null,{"$f":"IF(X66=\"Yes\",1,0)","v":0},null,"ОТВЕТ:"]

{"sheet":"Budgets & Finances","index":17,"n_rows":88,"n_cols":37,"rows_kept":88,"cut":false,"hidden":false,"merged":[[2,1,4,33],[7,1,9,33],[11,1,24,33],[26,16,47,16],[27,1,28,3],[27,5,28,8],[27,10,28,15],[27,28,28,33],[30,1,44,3],[30,5,44,8],[30,10,41,15],[30,28,41,33],[34,20,35,23],[36,26,37,26],[42,14,42,15],[45,13,46,15],[43,34,44,34],[48,16,66,16],[49,1,50,3],[49,5,50,8],[49,10,50,15],[49,19,50,24],[49,28,50,33],[52,1,66,3],[52,5,66,8],[52,10,63,15],[43,10,44,12],[43,14,44,15],[43,26,44,26],[43,28,44,30],[43,32,44,33],[65,10,66,12],[71,1,72,3],[71,5,72,8],[71,10,72,15],[71,19,72,24],[65,14,66,15],[65,17,66,17],[65,19,66,21],[65,23,66,24],[67,13,68,15],[74,1,88,3],[74,5,88,8],[74,10,85,15],[74,19,85,24],[74,28,85,33],[80,17,81,17],[80,26,81,26],[86,14,86,15],[87,10,88,12],[87,14,88,15],[87,17,88,17],[87,19,88,21],[87,23,88,24],[87,26,88,26],[87,28,88,30],[89,13,90,15],[30,35,44,40],[52,35,66,40],[74,35,88,40],[89,16,91,16],[70,16,88,16],[87,32,88,33],[52,28,63,33],[58,17,59,17],[58,26,59,26],[71,28,72,33],[65,26,66,26],[65,28,66,30],[65,32,66,33],[52,19,63,24],[64,14,64,15]]}
[]
[]
[null,"Бюджеты и финансы"]
[]
[]
[]
[]
[null,"Исходя из имеющегося уровня потенциала в вашей стране, выберите «1», если каждое мероприятие ниже выполнено, или «0», если мероприятие не выполнено / процесс еще не завершен."]
[]
[]
[]
[null,"ВАЖНЫЕ ЗАМЕЧАНИЯ:\n    ·Выберите «1», если данный уровень потенциала достигнут, и «0», если мероприятие не было выполнено или находится в процессе выполнения.\n    ·Если данный уровень потенциала достигнут и выбран ответ «1», то для мероприятия становится активным следующий уровень потенциала.\n    ·Если такой уровень потенциала не применим к вашей ситуации, выберите «0».\n    ·Если вы не знаете ответ, выберите «0».\n    ·Если уровень потенциала состоит из двух элементов, и они объединены предлогом «И», то ОБА элементы должны быть выполнены, чтобы можно было выбрать ответ «1».\n \nОСНОВНОЕ ДОПУЩЕНИЕ: \n    ·Поскольку РИ ЭОИ относится к развитию системы координированного эпиднадзора и обмена информацией, ответ «1» подразумевает, что данный уровень потенциала достигнут во всех секторах на основе концепции «Единое здоровье», относящихся к данному мероприятию. Если это нет так, выберите «0»."]
[]
[]
[]
[]
[]
[]
[]
[null,null,null,null,null,null,null,null,null,null,null,null,null,null,null,null,null,null,null,null,null,null,null,null,null,null,null,null,null,null,null,null,null,null,null,null,1]
[null,null,null,null,null,null,null,null,null,null,null,null,null,null,null,null,null,null,null,null,null,null,null,null,null,null,null,null,null,null,null,null,null,null,null,null,0]
[]
[]
[]
[]
[]
[]
[null,"ЭТАП",null,null,null,"МЕРОПРИЯТИЕ",null,null,null,null,"УРОВЕНЬ 1",null,null,null,null,null,null,null,null,null,null,null,null,null,null,null,null,null,"УРОВЕНЬ 3"]
[]
[]
[null,"Оценка",null,null,null,{"$f":"Activities!G19","v":"О-5 Оценка экономических потребностей"},null,null,null,null,{"$f":"Activities!H19","v":"Экономические оценки были использованы для определения национальных финансовых потребностей координированной системы эпиднадзора "},null,null,null,null,null,null,null,null,null,null,null,null,null,null,null,null,null,{"$f":"Activities!H20","v":"Экономические оценки проведены для определения финансовых потребностей на всех уровнях в стране в отношении координированной системы эпиднадзора "},null,null,null,null,null,null,"КОММЕНТАРИИ:"]
[]
[]
[]
[null,null,null,null,null,null,null,null,null,null,null,null,null,null,null,null,null,null,null,null,"(если да)"]
[]
[]
[]
[]
[]
[]
[]
[]
[null,null,null,null,null,null,null,null,null,null,"ОТВЕТ:",null,null,null,null,null,null,null,null,null,null,null,null,null,null,null,{"$f":"IF(X44=\"Yes\",1,0)","v":0},null,"ОТВЕТ:",null,null,null,null,null,{"$f":"IF(AG44=\"Yes\",1,0)","v":0}]
[]
[]
[]
[]
[]
[null,"ЭТАП",null,null,null,"МЕРОПРИЯТИЕ",null,null,null,null,"УРОВЕНЬ 1",null,null,null,null,null,null,null,null,"УРОВЕНЬ 2",null,null,null,null,null,null,null,null,"УРОВЕНЬ 3"]
[]
[]
[null,"Планирование",null,null,null,{"$f":"Activities!L14","v":"ПЛ-5 Финансовое планирование"},null,null,null,null,{"$f":"Activities!M14","v":"Имеются бюджетный план и механизм распределения средств для осуществления координированного эпиднадзора на национальном уровне"},null,null,null,null,null,null,null,null,{"$f":"Activities!M15","v":"Имеются бюджетный план и механизм распределения средств для осуществления координированного эпиднадзора на всех страновых уровнях"},null,null,null,null,null,null,null,null,{"$f":"Activities!M16","v":"Бюджетный план и механизм распределения средств подвергнуты оценке и признаны соответствующими целям координированной системы эпиднадзора "},null,null,null,null,null,null,"КОММЕНТАРИИ:"]
[]
[]
[]
[]
[]
[null,null,null,null,null,null,null,null,null,null,null,null,null,null,null,null,null,"(если да)",null,null,null,null,null,null,null,null,"(если да)"]
[]
[]
[]
[]
[]
[]
[null,null,null,null,null,null,null,null,null,null,"ОТВЕТ:",null,null,null,null,null,null,{"$f":"IF(O66=\"Yes\",1,0)","v":0},null,"ОТВЕТ:",null,null,null,null,null,null,{"$f":"IF(X66=\"Yes\",1,0)","v":0},null,"ОТВЕТ:"]
[]
[]
[]
[]
[]
[null,"ЭТАП",null,null,null,"МЕРОПРИЯТИЕ",null,null,null,null,"УРОВЕНЬ 1",null,null,null,null,null,null,null,null,"УРОВЕНЬ 2",null,null,null,null,null,null,null,null,"УРОВЕНЬ 3"]
[]
[]
[null,"Внедрение",null,null,null,{"$f":"Activities!Q2","v":"В-1 Привлечение финансовых ресурсов"},null,null,null,null,{"$f":"Activities!R2","v":"Имеется финансирование для осуществления координированного эпиднадзора на национальном уровне"},null,null,null,null,null,null,null,null,{"$f":"Activities!R3","v":"Финансирование для осуществления координированного эпиднадзора имеется на всех уровнях в стране"},null,null,null,null,null,null,null,null,{"$f":"Activities!R4","v":"Устойчивое финансирование (т. е. заложенное в национальный бюджет) выделено на мероприятия по координированному эпиднадзору, оценено и признано соответствующим целям координированной системы эпиднадзора"},null,null,null,null,null,null,"КОММЕНТАРИИ:"]
[]
[]
[]
[]
[]
[null,null,null,null,null,null,null,null,null,null,null,null,null,null,null,null,null,"(если да)",null,null,null,null,null,null,null,null,"(если да)"]
[]
[]
[]
[]
[]
[]
[null,null,null,null,null,null,null,null,null,null,"ОТВЕТ:",null,null,null,null,null,null,{"$f":"IF(O88=\"Yes\",1,0)","v":0},null,"ОТВЕТ:",null,null,null,null,null,null,{"$f":"IF(X88=\"Yes\",1,0)","v":0},null,"ОТВЕТ:"]

{"sheet":"Workforce","index":18,"n_rows":66,"n_cols":37,"rows_kept":66,"cut":false,"hidden":false,"merged":[[2,1,4,33],[7,1,9,33],[11,1,24,33],[26,16,47,16],[27,1,28,3],[27,5,28,8],[27,10,28,15],[27,28,28,33],[30,1,44,3],[30,5,44,8],[30,10,41,15],[30,28,41,33],[34,20,35,23],[36,26,37,26],[42,14,42,15],[45,13,46,15],[52,1,66,3],[52,5,66,8],[52,10,63,15],[43,10,44,12],[43,14,44,15],[64,14,64,15],[49,1,50,3],[49,5,50,8],[49,10,50,15],[49,28,50,33],[65,10,66,12],[65,14,66,15],[65,17,66,17],[65,19,66,21],[65,26,66,26],[48,16,66,16],[67,13,68,15],[30,35,44,40],[52,35,66,40],[65,28,66,30],[65,32,66,33],[67,16,69,16],[52,19,63,24],[52,28,63,33],[58,17,59,17],[58,26,59,26],[65,23,66,24],[43,34,44,34],[43,26,44,26],[43,28,44,30],[43,32,44,33],[49,19,50,24]]}
[]
[]
[null,"Кадровые ресурсы"]
[]
[]
[]
[]
[null,"Исходя из имеющегося уровня потенциала в вашей стране, выберите «1», если каждое мероприятие ниже выполнено, или «0», если мероприятие не выполнено / процесс еще не завершен."]
[]
[]
[]
[null,"ВАЖНЫЕ ЗАМЕЧАНИЯ:\n    ·Выберите «1», если данный уровень потенциала достигнут, и «0», если мероприятие не было выполнено или находится в процессе выполнения.\n    ·Если данный уровень потенциала достигнут и выбран ответ «1», то для мероприятия становится активным следующий уровень потенциала.\n    ·Если такой уровень потенциала не применим к вашей ситуации, выберите «0».\n    ·Если вы не знаете ответ, выберите «0».\n    ·Если уровень потенциала состоит из двух элементов, и они объединены предлогом «И», то ОБА элементы должны быть выполнены, чтобы можно было выбрать ответ «1».\n \nОСНОВНОЕ ДОПУЩЕНИЕ: \n    ·Поскольку РИ ЭОИ относится к развитию системы координированного эпиднадзора и обмена информацией, ответ «1» подразумевает, что данный уровень потенциала достигнут во всех секторах на основе концепции «Единое здоровье», относящихся к данному мероприятию. Если это нет так, выберите «0». "]
[]
[]
[]
[]
[]
[]
[]
[null,null,null,null,null,null,null,null,null,null,null,null,null,null,null,null,null,null,null,null,null,null,null,null,null,null,null,null,null,null,null,null,null,null,null,null,1]
[null,null,null,null,null,null,null,null,null,null,null,null,null,null,null,null,null,null,null,null,null,null,null,null,null,null,null,null,null,null,null,null,null,null,null,null,0]
[]
[]
[]
[]
[]
[]
[null,"ЭТАП",null,null,null,"МЕРОПРИЯТИЕ",null,null,null,null,"УРОВЕНЬ 1",null,null,null,null,null,null,null,null,null,null,null,null,null,null,null,null,null,"УРОВЕНЬ 3"]
[]
[]
[null,"Оценка",null,null,null,{"$f":"Activities!G27","v":"О-8 Оценка кадровых ресурсов"},null,null,null,null,{"$f":"Activities!H27","v":"Оценки кадровых ресурсов проведены для определения текущих требований, компетенций, потребностей и пробелов в области кадрового потенциала на национальном уровне"},null,null,null,null,null,null,null,null,null,null,null,null,null,null,null,null,null,{"$f":"Activities!H28","v":" Оценка кадровых ресурсов проведена для определения текущих требований, компетенций, потребностей и пробелов в области кадрового потенциала на всех уровнях в стране"},null,null,null,null,null,null,"КОММЕНТАРИИ:"]
[]
[]
[]
[null,null,null,null,null,null,null,null,null,null,null,null,null,null,null,null,null,null,null,null,"(если да)"]
[]
[]
[]
[]
[]
[]
[]
[]
[null,null,null,null,null,null,null,null,null,null,"ОТВЕТ:",null,null,null,null,null,null,null,null,null,null,null,null,null,null,null,{"$f":"IF(X44=\"Yes\",1,0)","v":0},null,"ОТВЕТ:",null,null,null,null,null,{"$f":"IF(AG44=\"Yes\",1,0)","v":0}]
[]
[]
[]
[]
[]
[null,"ЭТАП",null,null,null,"МЕРОПРИЯТИЕ",null,null,null,null,"УРОВЕНЬ 1",null,null,null,null,null,null,null,null,"УРОВЕНЬ 2",null,null,null,null,null,null,null,null,"УРОВЕНЬ 3"]
[]
[]
[null,"Планирование",null,null,null,{"$f":"Activities!L17","v":"ПЛ-6 Планирование в области кадровых ресурсов"},null,null,null,null,{"$f":"Activities!M17","v":"План обучения и профессиональной подготовки кадров для координированной системы эпиднадзора разработан на основе оценки кадровых ресурсов на национальном уровне"},null,null,null,null,null,null,null,null,{"$f":"Activities!M18","v":"План обучения и профессиональной подготовки кадров для координированной системы эпиднадзора разработан на основе оценки кадровых ресурсов для всех страновых уровней"},null,null,null,null,null,null,null,null,{"$f":"Activities!M19","v":"Образование и профессиональная подготовка кадров включены в процесс национального межотраслевого кадрового планирования с учетом международных компетенций и оценок\n"},null,null,null,null,null,null,"КОММЕНТАРИИ:"]
[]
[]
[]
[]
[]
[null,null,null,null,null,null,null,null,null,null,null,null,null,null,null,null,null,"(если да)",null,null,null,null,null,null,null,null,"(если да)"]
[]
[]
[]
[]
[]
[]
[null,null,null,null,null,null,null,null,null,null,"ОТВЕТ:",null,null,null,null,null,null,{"$f":"IF(O66=\"Yes\",1,0)","v":0},null,"ОТВЕТ:",null,null,null,null,null,null,{"$f":"IF(X66=\"Yes\",1,0)","v":0},null,"ОТВЕТ:"]

{"sheet":"Laboratory","index":19,"n_rows":62,"n_cols":37,"rows_kept":62,"cut":false,"hidden":false,"merged":[[2,1,4,33],[7,1,9,33],[11,1,24,33],[26,16,45,16],[27,1,28,3],[27,5,28,8],[27,10,28,15],[27,19,28,24],[27,28,28,33],[30,1,62,3],[48,5,62,8],[48,10,59,15],[48,19,59,24],[48,28,59,33],[54,17,55,17],[54,26,55,26],[30,5,44,8],[30,10,41,15],[30,19,41,24],[30,28,41,33],[36,17,37,17],[36,26,37,26],[42,14,42,15],[43,10,44,12],[43,14,44,15],[43,17,44,17],[43,19,44,21],[43,23,44,24],[43,26,44,26],[43,28,44,30],[43,32,44,33],[61,10,62,12],[61,32,62,33],[61,14,62,15],[61,17,62,17],[61,19,62,21],[61,23,62,24],[61,26,62,26],[61,28,62,30],[45,13,46,15],[63,13,64,15],[30,35,44,40],[48,35,62,40],[60,14,60,15],[43,34,44,34]]}
[]
[]
[null,"Лаборатория"]
[]
[]
[]
[]
[null,"Исходя из имеющегося уровня потенциала в вашей стране, выберите «1», если каждое мероприятие ниже выполнено, или «0», если мероприятие не выполнено / процесс еще не завершен."]
[]
[]
[]
[null,"ВАЖНЫЕ ЗАМЕЧАНИЯ:\n    ·Выберите «1», если данный уровень потенциала достигнут, и «0», если мероприятие не было выполнено или находится в процессе выполнения.\n    ·Если данный уровень потенциала достигнут и выбран ответ «1», то для мероприятия становится активным следующий уровень потенциала.\n    ·Если такой уровень потенциала не применим к вашей ситуации, выберите «0».\n    ·Если вы не знаете ответ, выберите «0».\n    ·Если уровень потенциала состоит из двух элементов, и они объединены предлогом «И», то ОБА элементы должны быть выполнены, чтобы можно было выбрать ответ «1».\n \nОСНОВНОЕ ДОПУЩЕНИЕ: \n    ·Поскольку РИ ЭОИ относится к развитию системы координированного эпиднадзора и обмена информацией, ответ «1» подразумевает, что данный уровень потенциала достигнут во всех секторах на основе концепции «Единое здоровье», относящихся к данному мероприятию. Если это нет так, выберите «0»."]
[]
[]
[]
[]
[]
[]
[]
[null,null,null,null,null,null,null,null,null,null,null,null,null,null,null,null,null,null,null,null,null,null,null,null,null,null,null,null,null,null,null,null,null,null,null,null,1]
[null,null,null,null,null,null,null,null,null,null,null,null,null,null,null,null,null,null,null,null,null,null,null,null,null,null,null,null,null,null,null,null,null,null,null,null,0]
[]
[]
[]
[]
[]
[]
[null,"ЭТАП",null,null,null,"МЕРОПРИЯТИЕ",null,null,null,null,"УРОВЕНЬ 1",null,null,null,null,null,null,null,null,"УРОВЕНЬ 2",null,null,null,null,null,null,null,null,"УРОВЕНЬ 3"]
[]
[]
[null,"Оценка",null,null,null,{"$f":"Activities!G21","v":"О-6 Оценка лабораторного потенциала"},null,null,null,null,{"$f":"Activities!H21","v":"В результате проведения оценок лабораторного потенциала были определены квалифицированные национальные или международные референс-лаборатории, которые могут проводить тестирование для поддержки деятельности в рамках координированного эпиднадзора"},null,null,null,null,null,null,null,null,{"$f":"Activities!H22","v":" В результате проведения оценок лабораторного потенциала были определены квалифицированные лаборатории на всех уровнях (включая международный), которые могут проводить тестирование для поддержки мероприятий в рамках координированного эпиднадзора"},null,null,null,null,null,null,null,null,{"$f":"Activities!H23","v":"В результате проведения оценок лабораторного потенциала выявлена сеть квалифицированных лабораторий, которые могут проводить тестирование для поддержки мероприятий в рамках координированного эпиднадзора"},null,null,null,null,null,null,"КОММЕНТАРИИ:"]
[]
[]
[]
[]
[]
[null,null,null,null,null,null,null,null,null,null,null,null,null,null,null,null,null,"(если да)",null,null,null,null,null,null,null,null,"(если да)"]
[]
[]
[]
[]
[]
[]
[null,null,null,null,null,null,null,null,null,null,"ОТВЕТ:",null,null,null,null,null,null,{"$f":"IF(O44=\"Yes\",1,0)","v":0},null,"ОТВЕТ:",null,null,null,null,null,null,{"$f":"IF(X44=\"Yes\",1,0)","v":0},null,"ОТВЕТ:",null,null,null,null,null,{"$f":"IF(AG44=\"Yes\",1,0)","v":0}]
[]
[]
[]
[]
[null,null,null,null,null,{"$f":"Activities!G24","v":"О-7 Лабораторная логистика и интерпретация результатов исследований"},null,null,null,null,{"$f":"Activities!H24","v":"Поставки лабораторных материалов, транспортные цепочки и методы интерпретации результатов оценены на предмет согласования между участвующими секторами на национальном уровне"},null,null,null,null,null,null,null,null,{"$f":"Activities!H25","v":"Поставки лабораторных материалов, транспортные цепочки и методы интерпретации результатов оценены на предмет согласования между участвующими секторами на всех уровнях в стране"},null,null,null,null,null,null,null,null,{"$f":"Activities!H26","v":"Степень согласованности способов поставок лабораторных материалов, транспортных цепочек и методов интерпретации результатов между участвующими секторами оценена и признана соответствующей целям координированной системы эпиднадзора"},null,null,null,null,null,null,"КОММЕНТАРИИ:"]
[]
[]
[]
[]
[]
[null,null,null,null,null,null,null,null,null,null,null,null,null,null,null,null,null,"(если да)",null,null,null,null,null,null,null,null,"(если да)"]
[]
[]
[]
[]
[]
[]
[null,null,null,null,null,null,null,null,null,null,"ОТВЕТ:",null,null,null,null,null,null,{"$f":"IF(O62=\"Yes\",1,0)","v":0},null,"ОТВЕТ:",null,null,null,null,null,null,{"$f":"IF(X62=\"Yes\",1,0)","v":0},null,"ОТВЕТ:"]

{"sheet":"Data Storage & Sharing","index":20,"n_rows":113,"n_cols":37,"rows_kept":113,"cut":false,"hidden":false,"merged":[[67,19,78,24],[67,28,78,33],[2,1,4,33],[7,1,9,33],[11,1,24,33],[26,16,28,16],[27,1,28,3],[27,5,28,8],[27,10,28,15],[27,19,28,24],[27,28,28,33],[43,32,44,33],[30,1,44,3],[30,5,44,8],[30,10,41,15],[30,19,41,24],[30,28,41,33],[36,17,37,17],[36,26,37,26],[42,14,42,15],[43,10,44,12],[43,14,44,15],[43,17,44,17],[43,19,44,21],[43,23,44,24],[43,26,44,26],[43,28,44,30],[48,1,49,3],[48,5,49,8],[48,10,49,15],[48,19,49,24],[48,28,49,33],[64,28,65,30],[64,32,65,33],[51,5,65,8],[51,10,62,15],[51,19,62,24],[51,28,62,33],[57,17,58,17],[57,26,58,26],[63,14,63,15],[64,10,65,12],[64,14,65,15],[80,32,81,33],[83,5,97,8],[83,10,94,15],[83,19,94,24],[83,28,94,33],[89,17,90,17],[89,26,90,26],[95,14,95,15],[96,10,97,12],[80,10,81,12],[80,14,81,15],[80,17,81,17],[80,19,81,21],[80,23,81,24],[99,5,113,8],[99,10,110,15],[99,19,110,24],[99,28,110,33],[105,17,106,17],[105,26,106,26],[111,14,111,15],[112,10,113,12],[112,14,113,15],[51,1,113,3],[112,17,113,17],[112,19,113,21],[112,23,113,24],[112,26,113,26],[96,26,97,26],[73,17,74,17],[73,26,74,26],[79,14,79,15],[80,26,81,26],[64,17,65,17],[64,19,65,21],[64,23,65,24],[64,26,65,26],[67,5,81,8],[67,10,78,15],[45,13,46,15],[114,13,115,15],[30,35,44,40],[51,35,65,40],[67,35,81,40],[83,35,97,40],[99,35,113,40],[112,28,113,30],[112,32,113,33],[96,32,97,33],[96,14,97,15],[96,17,97,17],[96,19,97,21],[96,23,97,24],[96,28,97,30],[80,28,81,30]]}
[]
[]
[null,"Хранение и обмен данными"]
[]
[]
[]
[]
[null,"Исходя из имеющегося уровня потенциала в вашей стране, выберите «1», если каждое мероприятие ниже выполнено, или «0», если мероприятие не выполнено / процесс еще не завершен."]
[]
[]
[]
[null,"ВАЖНЫЕ ЗАМЕЧАНИЯ:\n    ·Выберите «1», если данный уровень потенциала достигнут, и «0», если мероприятие не было выполнено или находится в процессе выполнения.\n    ·Если данный уровень потенциала достигнут и выбран ответ «1», то для мероприятия становится активным следующий уровень потенциала.\n    ·Если такой уровень потенциала не применим к вашей ситуации, выберите «0».\n    ·Если вы не знаете ответ, выберите «0».\n    ·Если уровень потенциала состоит из двух элементов, и они объединены предлогом «И», то ОБА элементы должны быть выполнены, чтобы можно было выбрать ответ «1».\n \nОСНОВНОЕ ДОПУЩЕНИЕ: \n    ·Поскольку РИ ЭОИ относится к развитию координированноq системы эпиднадзора и обмена информацией, ответ «1» подразумевает, что данный уровень потенциала достигнут КАК МИНИМУМ В ДВУХ СЕКТОРАХ, ОТНОСЯЩИХСЯ К КОНЦЕПЦИИ «ЕДИНОЕ ЗДОРОВЬЕ». Если уровень потенциала достигнут лишь в одном секторе, выберите «0». "]
[]
[]
[]
[]
[]
[]
[]
[null,null,null,null,null,null,null,null,null,null,null,null,null,null,null,null,null,null,null,null,null,null,null,null,null,null,null,null,null,null,null,null,null,null,null,null,1]
[null,null,null,null,null,null,null,null,null,null,null,null,null,null,null,null,null,null,null,null,null,null,null,null,null,null,null,null,null,null,null,null,null,null,null,null,0]
[]
[]
[]
[]
[]
[]
[null,"ЭТАП",null,null,null,"МЕРОПРИЯТИЕ",null,null,null,null,"УРОВЕНЬ 1",null,null,null,null,null,null,null,null,"УРОВЕНЬ 2",null,null,null,null,null,null,null,null,"УРОВЕНЬ 3"]
[]
[]
[null,"Планирование",null,null,null,{"$f":"Activities!L5","v":"ПЛ-2 Общие элементы данных"},null,null,null,null,{"$f":"Activities!M5","v":"В каждом участвующем секторе общие элементы данных для достижения общих аналитических целей координированной системы эпиднадзора определены и согласованы на национальном уровне"},null,null,null,null,null,null,null,null,{"$f":"Activities!M6","v":"В каждом участвующем секторе общие элементы данных для достижения общих аналитических целей координированной системы эпиднадзора определены и согласованы на всех уровнях в стране"},null,null,null,null,null,null,null,null,{"$f":"Activities!M7","v":"Общие элементы данных стандартизированы во всех участвующих секторах на основе общих аналитических целей координированной системы эпиднадзора и отвечают международным стандартам данных"},null,null,null,null,null,null,"КОММЕНТАРИИ:"]
[]
[]
[]
[]
[]
[null,null,null,null,null,null,null,null,null,null,null,null,null,null,null,null,null,"(если да)",null,null,null,null,null,null,null,null,"(если да)"]
[]
[]
[]
[]
[]
[]
[null,null,null,null,null,null,null,null,null,null,"ОТВЕТ:",null,null,null,null,null,null,{"$f":"IF(O44=\"Yes\",1,0)","v":0},null,"ОТВЕТ:",null,null,null,null,null,null,{"$f":"IF(X44=\"Yes\",1,0)","v":0},null,"ОТВЕТ:"]
[]
[]
[]
[]
[null,"ЭТАП",null,null,null,"МЕРОПРИЯТИЕ",null,null,null,null,"УРОВЕНЬ 1",null,null,null,null,null,null,null,null,"УРОВЕНЬ 2",null,null,null,null,null,null,null,null,"УРОВЕНЬ 3"]
[]
[]
[null,"Внедрение",null,null,null,{"$f":"Activities!Q8","v":"В-3 Обмен данными и информацией"},null,null,null,null,{"$f":"Activities!R8","v":"Существует механизм обмена данными между секторами на национальном уровне"},null,null,null,null,null,null,null,null,{"$f":"Activities!R9","v":"Существует механизм обмена данными между секторами на всех страновых уровнях"},null,null,null,null,null,null,null,null,{"$f":"Activities!R10","v":"Существует доступный, функциональный и удобный для использования всеми участвующими секторами механизм обмена данными"},null,null,null,null,null,null,"КОММЕНТАРИИ:"]
[]
[]
[]
[]
[]
[null,null,null,null,null,null,null,null,null,null,null,null,null,null,null,null,null,"(если да)",null,null,null,null,null,null,null,null,"(если да)"]
[]
[]
[]
[]
[]
[]
[null,null,null,null,null,null,null,null,null,null,"ОТВЕТ:",null,null,null,null,null,null,{"$f":"IF(O65=\"Yes\",1,0)","v":0},null,"ОТВЕТ:",null,null,null,null,null,null,{"$f":"IF(X65=\"Yes\",1,0)","v":0},null,"ОТВЕТ:"]
[]
[]
[null,null,null,null,null,{"$f":"Activities!Q11","v":"В-4 Хранение данных"},null,null,null,null,{"$f":"Activities!R11","v":"Существуют структура и место для хранения и ведения данных, получаемых из различных секторов, на национальном уровне."},null,null,null,null,null,null,null,null,{"$f":"Activities!R12","v":"Существуют структура и место для хранения и ведения данных, получаемых из различных секторов, на всех уровнях в стране"},null,null,null,null,null,null,null,null,{"$f":"Activities!R13","v":"Существуют доступная, функциональная и используемая всеми участвующими секторами структура и место для хранения и ведения данных, получаемых из всех соответствующих секторов"},null,null,null,null,null,null,"КОММЕНТАРИИ:"]
[]
[]
[]
[]
[]
[null,null,null,null,null,null,null,null,null,null,null,null,null,null,null,null,null,"(если да)",null,null,null,null,null,null,null,null,"(если да)"]
[]
[]
[]
[]
[]
[]
[null,null,null,null,null,null,null,null,null,null,"ОТВЕТ:",null,null,null,null,null,null,{"$f":"IF(O81=\"Yes\",1,0)","v":0},null,"ОТВЕТ:",null,null,null,null,null,null,{"$f":"IF(X81=\"Yes\",1,0)","v":0},null,"ОТВЕТ:"]
[]
[]
[null,null,null,null,null,{"$f":"Activities!Q14","v":"В-5 Меры по обеспечению конфиденциальности и безопасности данных"},null,null,null,null,{"$f":"Activities!R14","v":"Меры по обеспечению конфиденциальности и безопасности данных для защиты данных координированного эпиднадзора применяются на национальном уровне"},null,null,null,null,null,null,null,null,{"$f":"Activities!R15","v":"Меры по обеспечению конфиденциальности и безопасности данных для защиты данных координированного эпиднадзора применяются на всех страновых уровнях"},null,null,null,null,null,null,null,null,{"$f":"Activities!R16","v":"Меры по обеспечению конфиденциальности и безопасности данных для защиты данных координированного эпиднадзора прошли оценку и соответствуют целям координированной системы эпиднадзора"},null,null,null,null,null,null,"КОММЕНТАРИИ:"]
[]
[]
[]
[]
[]
[null,null,null,null,null,null,null,null,null,null,null,null,null,null,null,null,null,"(если да)",null,null,null,null,null,null,null,null,"(если да)"]
[]
[]
[]
[]
[]
[]
[null,null,null,null,null,null,null,null,null,null,"ОТВЕТ:",null,null,null,null,null,null,{"$f":"IF(O97=\"Yes\",1,0)","v":0},null,"ОТВЕТ:",null,null,null,null,null,null,{"$f":"IF(X97=\"Yes\",1,0)","v":0},null,"ОТВЕТ:"]
[]
[]
[null,null,null,null,null,{"$f":"Activities!Q20","v":"В-7 Обмен данными эпиднадзора"},null,null,null,null,{"$f":"Activities!R20","v":"Обмен данными эпиднадзора осуществляется неофициально или официально эпизодически на национальном уровне"},null,null,null,null,null,null,null,null,{"$f":"Activities!R21","v":"Обмен данными эпиднадзора осуществляется неофициально или официально регулярно и своевременно на всех уровнях в стране"},null,null,null,null,null,null,null,null,{"$f":"Activities!R22","v":"Данные эпиднадзора систематически, регулярно и своевременно предоставляются всем участвующим секторам через универсальную или объединенную платформу (платформы) "},null,null,null,null,null,null,"КОММЕНТАРИИ:"]
[]
[]
[]
[]
[]
[null,null,null,null,null,null,null,null,null,null,null,null,null,null,null,null,null,"(если да)",null,null,null,null,null,null,null,null,"(если да)"]
[]
[]
[]
[]
[]
[]
[null,null,null,null,null,null,null,null,null,null,"ОТВЕТ:",null,null,null,null,null,null,{"$f":"IF(O113=\"Yes\",1,0)","v":0},null,"ОТВЕТ:",null,null,null,null,null,null,{"$f":"IF(X113=\"Yes\",1,0)","v":0},null,"ОТВЕТ:"]

{"sheet":"Communication & Reporting","index":21,"n_rows":97,"n_cols":37,"rows_kept":97,"cut":false,"hidden":false,"merged":[[2,1,4,33],[7,1,9,33],[11,1,24,33],[26,16,28,16],[27,1,28,3],[27,5,28,8],[27,10,28,15],[27,19,28,24],[27,28,28,33],[30,1,44,3],[30,5,44,8],[30,10,41,15],[30,19,41,24],[30,28,41,33],[36,17,37,17],[36,26,37,26],[42,14,42,15],[43,10,44,12],[43,14,44,15],[43,17,44,17],[43,19,44,21],[43,23,44,24],[43,26,44,26],[43,28,44,30],[48,1,49,3],[48,5,49,8],[48,10,49,15],[48,19,49,24],[48,28,49,33],[51,5,65,8],[51,10,62,15],[51,19,62,24],[51,28,62,33],[57,17,58,17],[57,26,58,26],[63,14,63,15],[64,10,65,12],[64,14,65,15],[64,28,65,30],[67,5,81,8],[67,10,78,15],[73,17,74,17],[73,26,74,26],[79,14,79,15],[80,10,81,12],[96,10,97,12],[96,14,97,15],[80,14,81,15],[80,17,81,17],[80,19,81,21],[51,1,97,3],[96,17,97,17],[96,19,97,21],[96,23,97,24],[96,26,97,26],[80,26,81,26],[64,17,65,17],[64,19,65,21],[64,23,65,24],[64,26,65,26],[83,5,97,8],[83,10,94,15],[83,19,94,24],[89,17,90,17],[89,26,90,26],[95,14,95,15],[45,13,46,15],[98,13,99,15],[30,35,44,40],[51,35,65,40],[83,35,97,40],[96,28,97,30],[96,32,97,33],[80,32,81,33],[83,28,94,33],[80,23,81,24],[64,32,65,33],[80,28,81,30],[43,32,44,33],[67,35,81,40]]}
[]
[]
[null,"Коммуникация и отчетность"]
[]
[]
[]
[]
[null,"Исходя из имеющегося уровня потенциала в вашей стране, выберите «1», если каждое мероприятие ниже выполнено, или «0», если мероприятие не выполнено / процесс еще не завершен."]
[]
[]
[]
[null,"ВАЖНЫЕ ЗАМЕЧАНИЯ:\n    ·Выберите «1», если данный уровень потенциала достигнут, и «0», если мероприятие не было выполнено или находится в процессе выполнения.\n    ·Если данный уровень потенциала достигнут и выбран ответ «1», то для мероприятия становится активным следующий уровень потенциала.\n    ·Если такой уровень потенциала не применим к вашей ситуации, выберите «0».\n    ·Если вы не знаете ответ, выберите «0».\n    ·Если уровень потенциала состоит из двух элементов, и они объединены предлогом «И», то ОБА элементы должны быть выполнены, чтобы можно было выбрать ответ «1».\n \nОСНОВНОЕ ДОПУЩЕНИЕ: \n    ·Поскольку РИ ЭОИ относится к развитию координированноq системы эпиднадзора и обмена информацией, ответ «1» подразумевает, что данный уровень потенциала достигнут КАК МИНИМУМ В ДВУХ СЕКТОРАХ, ОТНОСЯЩИХСЯ К КОНЦЕПЦИИ «ЕДИНОЕ ЗДОРОВЬЕ». Если уровень потенциала достигнут лишь в одном секторе, выберите «0». "]
[]
[]
[]
[]
[]
[]
[]
[null,null,null,null,null,null,null,null,null,null,null,null,null,null,null,null,null,null,null,null,null,null,null,null,null,null,null,null,null,null,null,null,null,null,null,null,1]
[null,null,null,null,null,null,null,null,null,null,null,null,null,null,null,null,null,null,null,null,null,null,null,null,null,null,null,null,null,null,null,null,null,null,null,null,0]
[]
[]
[]
[]
[]
[]
[null,"ЭТАП",null,null,null,"МЕРОПРИЯТИЕ",null,null,null,null,"УРОВЕНЬ 1",null,null,null,null,null,null,null,null,"УРОВЕНЬ 2",null,null,null,null,null,null,null,null,"УРОВЕНЬ 3"]
[]
[]
[null,"Планирование",null,null,null,{"$f":"Activities!L23","v":"ПЛ-8 Планирование скоординированной коммуникации"},null,null,null,null,{"$f":"Activities!M23","v":"Проведено согласование коммуникационной терминологии и сообщений между всеми секторами, участвующими в координированной системе эпиднадзора на национальном уровне."},null,null,null,null,null,null,null,null,{"$f":"Activities!M24","v":"Согласованная коммуникационная терминология и сообщения между всеми секторами, участвующими в координированной системе эпиднадзора, доведены до всех уровней в стране"},null,null,null,null,null,null,null,null,{"$f":"Activities!M25","v":"Существует стратегия коммуникации и/или план коммуникации (включающий терминологию и формы сообщений), на основе которых осуществляется коммуникация с заинтересованными сторонами и населением в рамках координированной системы эпиднадзора"},null,null,null,null,null,null,"КОММЕНТАРИИ:"]
[]
[]
[]
[]
[]
[null,null,null,null,null,null,null,null,null,null,null,null,null,null,null,null,null,"(если да)",null,null,null,null,null,null,null,null,"(если да)"]
[]
[]
[]
[]
[]
[]
[null,null,null,null,null,null,null,null,null,null,"ОТВЕТ:",null,null,null,null,null,null,{"$f":"IF(O44=\"Yes\",1,0)","v":0},null,"ОТВЕТ:",null,null,null,null,null,null,{"$f":"IF(X44=\"Yes\",1,0)","v":0},null,"ОТВЕТ:"]
[]
[]
[]
[]
[null,"ЭТАП",null,null,null,"МЕРОПРИЯТИЕ",null,null,null,null,"УРОВЕНЬ 1",null,null,null,null,null,null,null,null,"УРОВЕНЬ 2",null,null,null,null,null,null,null,null,"УРОВЕНЬ 3"]
[]
[]
[null,"Внедрение",null,null,null,{"$f":"Activities!Q23","v":"В-8 Коммуникация и обмен информацией"},null,null,null,null,{"$f":"Activities!R23","v":"Осуществляется эпизодический обмен информацией и коммуникация с соответствующими заинтересованными сторонами"},null,null,null,null,null,null,null,null,{"$f":"Activities!R24","v":"Осуществляется регулярный обмен информацией и коммуникация с соответствующими заинтересованными сторонами"},null,null,null,null,null,null,null,null,{"$f":"Activities!R25","v":"Осуществляется регулярный и своевременный обмен информацией с соответствующими заинтересованными сторонами, включая трансграничные, региональные и международные структуры"},null,null,null,null,null,null,"КОММЕНТАРИИ:"]
[]
[]
[]
[]
[]
[null,null,null,null,null,null,null,null,null,null,null,null,null,null,null,null,null,"(если да)",null,null,null,null,null,null,null,null,"(если да)"]
[]
[]
[]
[]
[]
[]
[null,null,null,null,null,null,null,null,null,null,"ОТВЕТ:",null,null,null,null,null,null,{"$f":"IF(O65=\"Yes\",1,0)","v":0},null,"ОТВЕТ:",null,null,null,null,null,null,{"$f":"IF(X65=\"Yes\",1,0)","v":0},null,"ОТВЕТ:"]
[]
[]
[null,null,null,null,null,{"$f":"Activities!Q26","v":"В-9 Международные требования в отношении оповещений"},null,null,null,null,{"$f":"Activities!R26","v":"Соблюдение международных требований в отношении оповещения обо всех случаях зоонозов"},null,null,null,null,null,null,null,null,null,null,null,null,null,null,null,null,null,null,null,null,null,null,null,null,"КОММЕНТАРИИ:"]
[]
[]
[]
[]
[]
[]
[]
[]
[]
[]
[]
[]
[null,null,null,null,null,null,null,null,null,null,"ОТВЕТ:"]
[]
[]
[null,null,null,null,null,{"$f":"Activities!Q27","v":"B-10 Визуализация и анализ данных координированного эпиднадзора"},null,null,null,null,{"$f":"Activities!R27","v":"Данные координированного эпиднадзора позволяют получить выходные материалы (например: рисунки, графики, отчеты или бюллетени), которые распространяются на национальном уровне"},null,null,null,null,null,null,null,null,{"$f":"Activities!R28","v":"Данные координированного эпиднадзора позволяют получить выходные материалы (например: рисунки, графики, отчеты или бюллетени), которые распространяются среди заинтересованных сторон на всех уровнях в стране"},null,null,null,null,null,null,null,null,{"$f":"Activities!R29","v":"Данные координированного эпиднадзора, включая отчеты о результатах мониторинга и оценки, позволяют получить выходные материалы, которые используются при разработке ответных мер, политики и программ"},null,null,null,null,null,null,"КОММЕНТАРИИ:"]
[]
[]
[]
[]
[]
[null,null,null,null,null,null,null,null,null,null,null,null,null,null,null,null,null,"(если да)",null,null,null,null,null,null,null,null,"(если да)"]
[]
[]
[]
[]
[]
[]
[null,null,null,null,null,null,null,null,null,null,"ОТВЕТ:",null,null,null,null,null,null,{"$f":"IF(O97=\"Yes\",1,0)","v":0},null,"ОТВЕТ:",null,null,null,null,null,null,{"$f":"IF(X97=\"Yes\",1,0)","v":0},null,"ОТВЕТ:"]

{"sheet":"Section III","index":22,"n_rows":21,"n_cols":2,"rows_kept":21,"cut":false,"hidden":false,"merged":[[2,1,5,30],[7,1,14,30],[16,1,18,30],[20,1,28,30]]}
[]
[]
[null,"РАЗДЕЛ III: МОНИТОРИНГ И ОЦЕНКА"]
[]
[]
[]
[]
[null,"В данном разделе инструмента будут представлены заключительные пять этапов процесса построения координированного эпиднадзора: Мониторинг и оценка. \n\nВам предстоит оценить в общей сложности три мероприятия по трем областям."]
[]
[]
[]
[]
[]
[]
[]
[]
[null,"Обзор этапа мониторинга и оценки"]
[]
[]
[]
[null,"Этап мониторинга и оценки включает мероприятия по измерению и оценке эффективности мероприятий в рамках координированного эпиднадзора и координированной системы ЭОИ, проводимые с целью постоянного, последовательного совершенствования системы. В них входят такие мероприятия, как имитационные учения, управление качеством данных, планирование деятельности по мониторингу и оценке. \n\nРесурсы, представленные в данном разделе, следует выбирать при помощи РИ ЭОИ, чтобы выполнить мероприятия на данном этапе мониторинга и оценки для создания или укрепления национальной координированной системы эпиднадзора за зоонозами."]

{"sheet":"Simulation Exercises","index":23,"n_rows":44,"n_cols":37,"rows_kept":44,"cut":false,"hidden":false,"merged":[[43,32,44,33],[2,1,4,33],[7,1,9,33],[11,1,24,33],[26,16,46,16],[27,1,28,3],[27,5,28,8],[27,10,28,15],[27,19,28,24],[27,28,28,33],[30,1,44,3],[45,13,46,15],[30,35,44,40],[43,34,44,34],[30,5,44,8],[30,10,41,15],[30,19,41,24],[30,28,41,33],[36,17,37,17],[36,26,37,26],[42,14,42,15],[43,10,44,12],[43,14,44,15],[43,17,44,17],[43,19,44,21],[43,23,44,24],[43,26,44,26],[43,28,44,30]]}
[]
[]
[null,"Имитационные учения"]
[]
[]
[]
[]
[null,"Исходя из имеющегося уровня потенциала в вашей стране, выберите «1», если каждое мероприятие ниже выполнено, или «0», если мероприятие не выполнено / процесс еще не завершен."]
[]
[]
[]
[null,"ВАЖНЫЕ ЗАМЕЧАНИЯ:\n    ·Выберите «1», если данный уровень потенциала достигнут, и «0», если мероприятие не было выполнено или находится в процессе выполнения.\n    ·Если данный уровень потенциала достигнут и выбран ответ «1», то для мероприятия становится активным следующий уровень потенциала.\n    ·Если такой уровень потенциала не применим к вашей ситуации, выберите «0».\n    ·Если вы не знаете ответ, выберите «0».\n    ·Если уровень потенциала состоит из двух элементов, и они объединены предлогом «И», то ОБА элементы должны быть выполнены, чтобы можно было выбрать ответ «1».\n \nОСНОВНОЕ ДОПУЩЕНИЕ: \n    ·Поскольку РИ ЭОИ относится к развитию системы координированного эпиднадзора и обмена информацией, ответ «1» подразумевает, что данный уровень потенциала достигнут во всех секторах на основе концепции «Единое здоровье», относящихся к данному мероприятию. Если это нет так, выберите «0»."]
[]
[]
[]
[]
[]
[]
[]
[null,null,null,null,null,null,null,null,null,null,null,null,null,null,null,null,null,null,null,null,null,null,null,null,null,null,null,null,null,null,null,null,null,null,null,null,1]
[null,null,null,null,null,null,null,null,null,null,null,null,null,null,null,null,null,null,null,null,null,null,null,null,null,null,null,null,null,null,null,null,null,null,null,null,0]
[]
[]
[]
[]
[]
[]
[null,"ОБЛАСТЬ",null,null,null,"МЕРОПРИЯТИЕ",null,null,null,null,"УРОВЕНЬ 1",null,null,null,null,null,null,null,null,"УРОВЕНЬ 2",null,null,null,null,null,null,null,null,"УРОВЕНЬ 3"]
[]
[]
[null,"Мониторинг и оценка",null,null,null,{"$f":"Activities!V2","v":"МО-1 Имитационные учения"},null,null,null,null,{"$f":"Activities!W2","v":"Имитационные учения проводятся для оценки эффективности и функциональности координированной системы эпиднадзора на национальном уровне  "},null,null,null,null,null,null,null,null,{"$f":"Activities!W3","v":"Имитационные учения проводятся для оценки эффективности и функциональности координированной системы эпиднадзора на всех уровнях в стране  "},null,null,null,null,null,null,null,null,{"$f":"Activities!W4","v":"Результаты имитационных учений используются при составлении и пересмотре планов по координированному эпиднадзору "},null,null,null,null,null,null,"КОММЕНТАРИИ:"]
[]
[]
[]
[]
[]
[null,null,null,null,null,null,null,null,null,null,null,null,null,null,null,null,null,"(если да)",null,null,null,null,null,null,null,null,"(если да)"]
[]
[]
[]
[]
[]
[]
[null,null,null,null,null,null,null,null,null,null,"ОТВЕТ:",null,null,null,null,null,null,{"$f":"IF(O44=\"Yes\",1,0)","v":0},null,"ОТВЕТ:",null,null,null,null,null,null,{"$f":"IF(X44=\"Yes\",1,0)","v":0},null,"ОТВЕТ:",null,null,null,null,null,{"$f":"IF(AG44=\"Yes\",1,0)","v":0}]

{"sheet":"M & E Planning","index":24,"n_rows":44,"n_cols":37,"rows_kept":44,"cut":false,"hidden":false,"merged":[[43,28,44,30],[43,32,44,33],[2,1,4,33],[7,1,9,33],[11,1,24,33],[26,16,46,16],[27,1,28,3],[27,5,28,8],[27,10,28,15],[27,19,28,24],[27,28,28,33],[30,1,44,3],[30,35,44,40],[45,13,46,15],[43,34,44,34],[30,5,44,8],[30,10,41,15],[30,19,41,24],[30,28,41,33],[36,17,37,17],[36,26,37,26],[42,14,42,15],[43,10,44,12],[43,14,44,15],[43,17,44,17],[43,19,44,21],[43,23,44,24],[43,26,44,26]]}
[]
[]
[null,"Планирование деятельности по мониторингу и оценке"]
[]
[]
[]
[]
[null,"Исходя из имеющегося уровня потенциала в вашей стране, выберите «1», если каждое мероприятие ниже выполнено, или «0», если мероприятие не выполнено / процесс еще не завершен."]
[]
[]
[]
[null,"ВАЖНЫЕ ЗАМЕЧАНИЯ:\n    ·Выберите «1», если данный уровень потенциала достигнут, и «0», если мероприятие не было выполнено или находится в процессе выполнения.\n    ·Если данный уровень потенциала достигнут и выбран ответ «1», то для мероприятия становится активным следующий уровень потенциала.\n    ·Если такой уровень потенциала не применим к вашей ситуации, выберите «0».\n    ·Если вы не знаете ответ, выберите «0».\n    ·Если уровень потенциала состоит из двух элементов, и они объединены предлогом «И», то ОБА элементы должны быть выполнены, чтобы можно было выбрать ответ «1».\n \nОСНОВНОЕ ДОПУЩЕНИЕ: \n    ·Поскольку РИ ЭОИ относится к развитию системы координированного эпиднадзора и обмена информацией, ответ «1» подразумевает, что данный уровень потенциала достигнут во всех секторах на основе концепции «Единое здоровье», относящихся к данному мероприятию. Если это нет так, выберите «0»."]
[]
[]
[]
[]
[]
[]
[]
[null,null,null,null,null,null,null,null,null,null,null,null,null,null,null,null,null,null,null,null,null,null,null,null,null,null,null,null,null,null,null,null,null,null,null,null,1]
[null,null,null,null,null,null,null,null,null,null,null,null,null,null,null,null,null,null,null,null,null,null,null,null,null,null,null,null,null,null,null,null,null,null,null,null,0]
[]
[]
[]
[]
[]
[]
[null,"ЭТАП",null,null,null,"МЕРОПРИЯТИЕ",null,null,null,null,"УРОВЕНЬ 1",null,null,null,null,null,null,null,null,"УРОВЕНЬ 2",null,null,null,null,null,null,null,null,"УРОВЕНЬ 3"]
[]
[]
[null,"Мониторинг и оценка",null,null,null,{"$f":"Activities!V5","v":"МО-2 Планирование деятельности по мониторингу и оценке"},null,null,null,null,{"$f":"Activities!W5","v":"Существует план мониторинга и оценки, отвечающий целям координированной системы эпиднадзора"},null,null,null,null,null,null,null,null,{"$f":"Activities!W6","v":"С помощью плана мониторинга и оценки оценивается эффективность деятельности и достигнутый прогресс в рамках координированной системы эпиднадзора"},null,null,null,null,null,null,null,null,{"$f":"Activities!W7","v":"Результаты мониторинга и оценки позволяют последовательно совершенствовать или расширять координированную систему эпиднадзора и приводить ее в соответствие с международными стандартами и рекомендациями "},null,null,null,null,null,null,"КОММЕНТАРИИ:"]
[]
[]
[]
[]
[]
[null,null,null,null,null,null,null,null,null,null,null,null,null,null,null,null,null,"(если да)",null,null,null,null,null,null,null,null,"(если да)"]
[]
[]
[]
[]
[]
[]
[null,null,null,null,null,null,null,null,null,null,"ОТВЕТ:",null,null,null,null,null,null,{"$f":"IF(O44=\"Yes\",1,0)","v":0},null,"ОТВЕТ:",null,null,null,null,null,null,{"$f":"IF(X44=\"Yes\",1,0)","v":0},null,"ОТВЕТ:",null,null,null,null,null,{"$f":"IF(AG44=\"Yes\",1,0)","v":0}]

{"sheet":"Data Quality Standards","index":25,"n_rows":44,"n_cols":37,"rows_kept":44,"cut":false,"hidden":false,"merged":[[43,28,44,30],[43,32,44,33],[2,1,4,33],[7,1,9,33],[11,1,24,33],[26,16,46,16],[27,1,28,3],[27,5,28,8],[27,10,28,15],[27,19,28,24],[27,28,28,33],[30,1,44,3],[29,35,43,40],[45,13,46,15],[43,34,44,34],[30,5,44,8],[30,10,41,15],[30,19,41,24],[30,28,41,33],[36,17,37,17],[36,26,37,26],[42,14,42,15],[43,10,44,12],[43,14,44,15],[43,17,44,17],[43,19,44,21],[43,23,44,24],[43,26,44,26]]}
[]
[]
[null,"Стандарты качества данных"]
[]
[]
[]
[]
[null,"Исходя из имеющегося уровня потенциала в вашей стране, выберите «1», если каждое мероприятие ниже выполнено, или «0», если мероприятие не выполнено / процесс еще не завершен."]
[]
[]
[]
[null,"ВАЖНЫЕ ЗАМЕЧАНИЯ:\n    ·Выберите «1», если данный уровень потенциала достигнут, и «0», если мероприятие не было выполнено или находится в процессе выполнения.\n    ·Если данный уровень потенциала достигнут и выбран ответ «1», то для мероприятия становится активным следующий уровень потенциала.\n    ·Если такой уровень потенциала не применим к вашей ситуации, выберите «0».\n    ·Если вы не знаете ответ, выберите «0».\n    ·Если уровень потенциала состоит из двух элементов, и они объединены предлогом «И», то ОБА элементы должны быть выполнены, чтобы можно было выбрать ответ «1».\n \nОСНОВНОЕ ДОПУЩЕНИЕ: \n    ·Поскольку РИ ЭОИ относится к развитию системы координированного эпиднадзора и обмена информацией, ответ «1» подразумевает, что данный уровень потенциала достигнут во всех секторах на основе концепции «Единое здоровье», относящихся к данному мероприятию. Если это нет так, выберите «0»."]
[]
[]
[]
[]
[]
[]
[]
[null,null,null,null,null,null,null,null,null,null,null,null,null,null,null,null,null,null,null,null,null,null,null,null,null,null,null,null,null,null,null,null,null,null,null,null,1]
[null,null,null,null,null,null,null,null,null,null,null,null,null,null,null,null,null,null,null,null,null,null,null,null,null,null,null,null,null,null,null,null,null,null,null,null,0]
[]
[]
[]
[]
[]
[]
[null,"ЭТАП",null,null,null,"МЕРОПРИЯТИЕ",null,null,null,null,"УРОВЕНЬ 1",null,null,null,null,null,null,null,null,"УРОВЕНЬ 2",null,null,null,null,null,null,null,null,"УРОВЕНЬ 3"]
[]
[null,null,null,null,null,null,null,null,null,null,null,null,null,null,null,null,null,null,null,null,null,null,null,null,null,null,null,null,null,null,null,null,null,null,null,"КОММЕНТАРИИ:"]
[null,"Мониторинг и оценка",null,null,null,{"$f":"Activities!V8","v":"МО-3 Стандарты качества данных "},null,null,null,null,{"$f":"Activities!W8","v":"Существует методология управления качеством данных"},null,null,null,null,null,null,null,null,{"$f":"Activities!W9","v":"Качество данных проверено и признано соответствующим целям координированной системы эпиднадзора  "},null,null,null,null,null,null,null,null,{"$f":"Activities!W10","v":"Качество данных соответствует международным стандартам и рекомендациям "}]
[]
[]
[]
[]
[]
[null,null,null,null,null,null,null,null,null,null,null,null,null,null,null,null,null,"(если да)",null,null,null,null,null,null,null,null,"(если да)"]
[]
[]
[]
[]
[]
[]
[null,null,null,null,null,null,null,null,null,null,"ОТВЕТ:",null,null,null,null,null,null,{"$f":"IF(O44=\"Yes\",1,0)","v":0},null,"ОТВЕТ:",null,null,null,null,null,null,{"$f":"IF(X44=\"Yes\",1,0)","v":0},null,"ОТВЕТ:",null,null,null,null,null,{"$f":"IF(AG44=\"Yes\",1,0)","v":0}]

{"sheet":"Toolbox","index":26,"n_rows":87,"n_cols":12,"rows_kept":87,"cut":false,"hidden":false,"merged":[]}
[null,"Номер","НАЗВАНИЕ РЕСУРСА","КРАТКОЕ ОПИСАНИЕ","ССЫЛКА НА РЕСУРС","ЗАМЕЧАНИЕ","ПОЛЕЗНЫЕ МАТЕРИАЛЫ и ВИДЕО","ПУБЛИКАЦИИ",null,null,"$A$1"]
[null,1,{"$f":"Backbone!A567","v":"SurvCost: Инструмент для оценки стоимости комплексной системы эпиднадзора и мер реагирования"},"Инструмент SurvCost создан для оценки стоимости Комплексной системы эпиднадзора и мер реагирования (IDSR). Он разработан на базе Microsoft Excel и предназначен для стран, внедряющих и укрепляющих свои системы эпиднадзора за инфекционными заболеваниями.","https://www.cdc.gov/globalhealth/healthprotection/idsr/pdf/survcost2.xls",null,"https://www.cdc.gov/globalhealth/healthprotection/idsr/pdf/SurvCost-Manual-Jan-2008.pdf",null,null,"$A$1","$G$80","$A$1"]
[null,2,{"$f":"Backbone!A271","v":"Анализ инфраструктуры лабораторной сети (LINA)"},"LINA — это простое в использовании веб-приложение с функциями сложного компьютерного моделирования и анализа данных. В нем визуально, в форме карт, представлены возможности и потенциал национальной сети лабораторий и каждой лаборатории в отдельности. Оно может использоваться как при создании сети лабораторий в стране, так и для регулярной, основанной на потребностях оценки (прогнозирование разных ситуаций, особенно на случай вспышек). Настоящий инструмент помогает оптимизировать сеть перевозки проб, развитие потенциала лабораторий, планирование программ по борьбе с заболеваниями, поддержку для быстрого реагирования (например, во время вспышек: определение имеющегося потенциала, равномерное распределение нагрузки в лаборатории). ",null,"Более подробно о возможности доступа к инструменту можно узнать у Патрика Финли (pdfinle@sandia.gov) и Уолтера Бейлера (webeyel@sandia.gov)",null,null,null,null,null,{"$f":"ADDRESS(ROW(B1),COLUMN(B1))","v":"$B$1"}]
[null,3,{"$f":"Backbone!A437","v":"Анализ политического поля (PFA)"},"Анализ политического поля (PFA) — это специализированное картирование заинтересованных сторон с целью визуального представления системы организаций и их взаимодействия по конкретному вопросу политики. С помощью PFA можно определить организации (государственные, частные или некоммерческие) на разных уровнях системы (местном, национальном, региональном и международном) и картировать созданные этими организациями структуры (политику, рамочные программы, руководящие принципы, физические и технологические инфраструктуры). Это позволяет отдельным лицам внимательно ориентироваться в этих структурах для надлежащего распределения ресурсов и вовлечения заинтересованных лиц. С его помощью можно также определить критически важные точки в межотраслевой системе, где отдельные участники способны оказать какое-либо влияние или вызвать необходимые изменения. В ролике PFA объясняется простой процесс картирования, а специальные шаблоны помогают пользователям анализировать свои карты, чтобы полученная информация послужила основой для разработки программ и политики.","Ролик: https://www.youtube.com/watch?v=v26_j72svjM&feature=youtu.be","Данный ресурс представляют разработанные для РИ ЭОИ видеоролик и шаблон PFA. \nЕсли у вас есть вопросы или вы хотите использовать PFA, свяжитесь с Кейли Мюре Эррикаборд (myhre044@umn.edu) \n",null,"https://www.researchgate.net/publication/242456068_Analyzing_Policy_Fields_Helping_Students_Understand_Complex_State_and_Local_Contexts   \n\nhttp://www.jodisandfort.org/uploads/4/5/0/9/45098387/policy_field_audit.pdf"]
[null,4,{"$f":"Backbone!A420","v":"Анализ пробелов ПВС, разработанный Всемирной организацией охраны здоровья животных (МЭБ)"},"Страны-члены МЭБ могут направить запрос на Анализ пробелов ПВС, который поможет им составить подробный план исходя из результатов оценки ПВС. Анализ пробелов ПВС (с использованием инструмента расчета затрат ПВС) — это тщательно структурированные учения, проводимые с национальными ветеринарными службами для определения их приоритетных целей, а также стратегий, мероприятий и объема инвестиций, необходимых для достижения этих целей. В ходе миссии ветеринарные службы страны, при помощи группы сертифицированных экспертов МЭБ и используя результаты оценки ПВС в качестве исходных данных, разрабатывают стратегические и рассчитанные по стоимости меры по улучшению эффективности своей работы и достижению национальных целей. ","https://www.woah.org/en/what-we-offer/improving-veterinary-services/pvs-pathway/","Миссию по оценке пробелов ПВС можно запросить после получения одобренного отчета по миссии ПВС.","http://www.oie.int/solidarity/pvs-pathway/planning-gap-analysis/"]
[null,5,{"$f":"Backbone!A166","v":"Глобальная информационная система болезней животных (EMPRES-i)"},"Защищенная информационная онлайн-система, созданная в помощь национальным ветеринарным службам. Она обеспечивает сбор глобальных и региональных данных о заболеваниях и является глобальной справочной базой данных о болезнях животных, включая зоонозы. ","Общедоступный вебсайт:\nhttp://empres-i.fao.org/eipws3g/\nВнутренний сайт ФАО: https://caf.fao.org/login?service=http%3A%2F%2Fempres-i.fao.org%2Fempresi3g%2Findex.html%3Fwsid%3Dempresi%26lang%3DEN-en%26proxy%3Dfalse\n","Ссылка на публичный ресурс имеется в открытом доступе. Для доступа к внутренней версии ФАО необходимо получить разрешение от менеджера проектов, зарегистрировать свою личную электронную почту и получить пароль от ИТ-департамента ФАО.","http://empres-i.fao.org/eipws3g/assets/docs/EMPRES-i_Manual.pdf\nhttps://youtu.be/oLa5MRe3qDw\nhttps://youtu.be/5WkB4q5DR6k\nhttps://youtu.be/6tef0goSBlY\nhttps://youtu.be/Ew9TukjBbB0\n","http://www.fao.org/3/a-i4386e.pdf\n\nhttp://www.fao.org/publications/card/fr/c/4296b6d5-14c9-5e72-b467-15f09baa29de/\n\nhttps://www.ijidonline.com/article/S1201-9712(18)34603-4/fulltext\n\nhttps://www.researchgate.net/publication/311821964\n\nhttp://www.fao.org/3/a-i4386e.pdf\n\n"]
[null,6,{"$f":"Backbone!A184","v":"Глобальный механизм ликвидации бешенства у собак (GDREP)"},"Инструмент на базе Excel с простым в использовании интерфейсом, включающим разные аспекты программы по ликвидации бешенства у собак, разбит на две основные категории: эпидемиологические/логистические и финансовые аспекты соответственно","https://rabiesalliance.org/app/gdrep\nhttps://rabiesalliance.org/capacity-building/gdrep","Инструмент можно скачать в качестве отдельного Excel-файла в данной публикации: https://www.ncbi.nlm.nih.gov/pmc/articles/PMC5300989/ или по ссылке: https://rabiesalliance.org/capacity-building/gdrep","https://rabiesalliance.org/capacity-building/gdrep ","https://www.ncbi.nlm.nih.gov/pmc/articles/PMC5300989/\n\nhttps://journals.plos.org/plosntds/article?id=10.1371/journal.pntd.0006756\n\nhttps://wwwnc.cdc.gov/eid/article/23/12/17-1148_article\n"]
[null,7,{"$f":"Backbone!A433","v":"Глоссарий Общеевропейской программы «Единое здоровье» (OHEJP)"},"Онлайн-глоссарий OHEJP, создаваемый в рамках концепции «Единое здоровье» силами сообщества, включает более 1000 различных терминов по темам здравоохранения человека, охраны здоровья животных и безопасности пищевых продуктов, относящихся к «Единому здоровью» или конкретному сектору.  Более того, глоссарий OHEJP позволяет подчеркнуть сходства и различия между секторами.   ","https://foodrisklabs.bfr.bund.de/oh-collaboration/ ",null,"https://foodrisklabs.bfr.bund.de/oh-collaboration/\n\nhttps://data.d4science.net/nPk4\n\nhttps://oh-surveillance-codex.readthedocs.io/en/latest/2-the-collaboration-principle.html#ohejp-glossary"]
[null,8,{"$f":"Backbone!A155","v":"Инициатива по выявлению эпидемиологических угроз с использованием открытых источников (EIOS)"},"Инициатива EIOS — это уникальное сотрудничество между ВОЗ и различными заинтересованными сторонами, объединяющее новые и существующие инициативы, сети и системы для создания унифицированного подхода «Единое здоровье», учитывающего все угрозы, к раннему обнаружению, проверке и оценке рисков и угроз для здоровья людей с использованием открытых источников.","https://portal.who.int/eios/Login","Более подробно об этой инициативе или об участие в ней можно узнать у Основной группы EIOS:\neios@who.int"]
[null,9,{"$f":"Backbone!A21","v":"Инструмент AfyaData"},"AfyaData — это инструмент эпиднадзора, основанный на концепции «Единое здоровье» и разработанный для эпиднадзора в области здравоохранения человека, охраны здоровья животных и окружающей среды. Он включает (а) мобильное приложение для сбора данных и получения обратной связи (обмена сообщениями), и (б) веб-приложение для управления данными, пользователями и бланками эпиднадзора, которые могут распространяться среди сборщиков данных на основе набора протоколов авторизации доступа.","https://github.com/sacids/afyadata1.2\nhttps://github.com/sacids/AfyaDataApp\n",null,"http://www.sacids.org/news/one-health-community-afyadata-tool/","https://publichealth.jmir.org/2017/4/e94/\nhttps://www.openaccessgovernment.org/one-health-surveillance-systems/62354/"]
[null,10,{"$f":"Backbone!A598","v":"Инструмент ВОЗ для оценки качества лабораторий"},"Настоящий инструмент включает пошаговое руководство и рабочие таблицы для сбора данных с целью оценки: 1. стратегической организации и правительственной поддержки на национальном уровне (структура, организация и регламент национальной лабораторной системы (систем)); 2. конкретных технических возможностей на уровне лабораторий (избранные, репрезентативные для страны лаборатории). Инструмент состоит из двух частей: одна используется для оценки лабораторной системы (ИОЛ/система), другая — для оценки отдельных лабораторий (ИОЛ/объект). В каждой части имеется PDF-файл и Excel-файл. Excel-файл упрощает сбор данных благодаря автоматическим расчетам, подсчету баллов и агрегации данных. Оба вопросника можно использовать вместе или отдельно друг от друга."," https://www.who.int/ihr/publications/laboratory_tool/en/ ","Доступны версии на английском, французском, испанском и русском языках."]
[null,11,{"$f":"Backbone!A450","v":"Инструмент для оценки прогресса на пути к ликвидации бешенства (TAPER)"},"Настоящий инструмент позволяет анализировать регулярно собираемые данные эпиднадзора за бешенством, чтобы давать актуальные рекомендации для контроля за ситуацией в каждом конкретном случае и чтобы преодолевать препятствия и продолжать двигаться по пути искоренения бешенства.","https://boydorr.shinyapps.io/paho_rabies/\nhttps://github.com/katiehampson1978/paho_rabies","Алгоритм простой и может быть реализован при помощи кода из Github-репозитория; более подробно в манускрипте, который в настоящий момент на пересмотре. Чтобы узнать, как адаптироваться к другим настройкам, свяжитесь с Исти Рысава (istyrysava@gmail.com) или Кейти Хэмпсон (Katie.Hampson@glasgow.ac.uk)",null,"https://doi.org/10.1186/s12879-020-05457-x"]
[null,12,{"$f":"Backbone!A351","v":"Инструмент для оценки сети эпиднадзора (OASIS)"},"Настоящий стандартизированный полуколичественный инструмент предназначен для оценки систем эпиднадзора за зоонозами и болезнями животных. Он включает 78 критериев оценки, которые сгруппированы по десяти разделам, представляющим функциональные элементы системы эпиднадзора. Каждому критерию присваивается балл согласно предписанию в руководстве по оценке. В итоге получается три графических оценки. OASIS следует использовать с участием лиц, ответственных за оцениваемую систему\n\n\n","https://www.plateforme-esa.fr/article/l-outil-d-evaluation-oasis","Доступны версии на английском и французском языках",null,"https://www.cambridge.org/core/journals/epidemiology-and-infection/article/oasis-an-assessment-tool-of-epidemiological-surveillance-systems-in-animal-health-and-food-safety/845374EB93FAE51055A5354A02C4BE33/core-reader"]
[null,13,{"$f":"Backbone!A445","v":"Инструмент для оценки стоимости программ вакцинации от бешенства "},"Инструмент на базе Excel для оценки эпидемиологического бремени бешенства у собак и возможного эпидемиологического и экономического эффекта программы вакцинации собак от бешенства.","https://www.ncbi.nlm.nih.gov/pubmed/29791440","Файл Excel может быть загружен дополнительно."]
[null,14,{"$f":"Backbone!A400","v":"Инструмент для оценки требований и готовности к эпиднадзору на основе концепции «Единое здоровье» (OHSRRT)"},"OHSRRT — это инструмент оценки требований и готовности к эпиднадзору, позволяющий определить уровень готовности страны и собрать требования для развития системы эпиднадзора на основе концепции «Единое здоровье» исходя из важнейших факторов успеха. Он содержит руководство по взаимодействию с заинтересованными сторонами и анкету, шаблон для сбора и классификации данных и описывает процесс оценки готовности и требований OHSRRT.  Инструмент структурирован таким образом, что полученные благодаря ему результаты служат основанием для составления Отчета об анализе требований и разработки функциональных требований к рабочей системе эпиднадзора «Единое здоровье». ",null,"Для получения информации по инструменту свяжитесь с Сектором ЦКПЗ по экстренному реагированию и восстановлению, Офисом ЦКПЗ «Единое здоровье» или Лабораторией прикладной физики Университета Джонса Хопкинса\nКонтактное лицо в Лаборатории прикладной физики Университета Джонса Хопкинса: Карен Мейденбауэр, д.в.н., магистр общественного здравоохранения\nKaren.meidenbauer@jhuapl.edu"]
[null,15,{"$f":"Backbone!A430","v":"Инструмент для расчета затрат на вспышки болезней животных"},"Инструмент сбора данных на базе Excel для расчета затрат в стране на проведение стандартных расследований вспышек и меры борьбы с ними. С его помощью можно стандартизировать сбор данных по ресурсам, используемым при расследовании вспышек и борьбе с ними, установить основные факторы, определяющие величину затрат, и подготовить годовые бюджеты. ",null,"Если вы хотите использовать данный инструмент для расчета затрат (OCT), получить доступ к справочным материалам или ответы на вопросы, свяжитесь с доктором Синтией Х. Кассел (chcassell@cdc.gov) или доктором Махалейт А. Вулдесадик (mwoldetsadik@cdc.gov) "]
[null,16,{"$f":"Backbone!A97","v":"Инструмент Европейского ЦКПЗ для приоритизации угроз инфекционных заболеваний"},"Настоящий инструмент на базе Excel обеспечивает приоритизацию угроз инфекционных заболеваний при помощи прозрачного, сопоставимого подхода и с возможностью методологического воспроизведения. Он проводит относительное ранжирование различных угроз инфекционных заболеваний. Его следует использовать как дополнение к другим методам, также способствующим принятию решений в вопросе планирования готовности.","https://www.ecdc.europa.eu/en/publications-data/ecdc-tool-prioritisation-infectious-disease-threats","Электронная почта для связи: publications@ecdc.europa.eu; info@ecdc.europa.eu","https://www.ecdc.europa.eu/sites/default/files/documents/Tool-for-disease-priority-ranking_handbook-update-dec-18.pdf","https://www.ecdc.europa.eu/en/publications-data/literature-review-best-practices-ranking-emerging-infectious-disease-threats\n\nhttps://www.eurosurveillance.org/content/10.2807/1560-7917.ES.2016.21.17.30212"]
[null,17,{"$f":"Backbone!A268","v":"Инструмент картирования лабораторий ФАО (LMT)"},"Инструмент LMT предназначен для оценки функциональности ветеринарных лабораторий при помощи двухуровневого процесса: i) при помощи подробного и стандартизированного вопросника, с участием внешнего эксперта или путем самооценки, проводится оценка функциональности лаборатории; ii) полученные данные загружаются в цифровое приложение, которое создает на их основе графики и таблицы, и в итоге получается срез с уровнем функциональности данной лаборатории и ее развитием во времени — срез можно делать на ежегодной основе. Данный инструмент также позволяет оценить исходное состояние лаборатории перед каким-либо вмешательством, чтобы можно было точно измерить прогресс и результаты такого вмешательства. ","http://www.fao.org/ag/againfo/programmes/en/empres/news_130514.html","Английская и французская версии доступны онлайн, другие языки по запросу: китайский, тайский, азербайджанский, русский, индонезийский\nДля связи: EMPRES-Lab-Unit@fao.org\n\nLMT — это линейка инструментов, и Ядро LMT можно расширить с помощью модулей: на данный момент имеются Модуль LMT-безопасность и Модуль LMT-УПП. \n",null,"https://www.ncbi.nlm.nih.gov/pmc/articles/PMC6136606/"]
[null,18,{"$f":"Backbone!A38","v":"Инструмент оценки информатизации лабораторий (разработка APHL)"},"Инструмент для сбора исходной информации от лабораторий для регистрации потока данных, рабочих процессов, инфраструктуры, кадровых ресурсов и программ обучения, доступного оборудования, процессов управления данными, в том числе их учет и отчетность.  В инструмент внесены изменения в зависимости от типа оцениваемой лаборатории.  ","https://www.aphl.org/aboutAPHL/publications/Documents/GH-2018Nov-LIS-Guidebook-web.pdf ","Инструмент находится в Приложение «Е» (F) указанного документа."]
[null,19,{"$f":"Backbone!A367","v":"Инструмент оценки систем здравоохранения на предмет предотвращения приоритетных зоонозов и борьбы с ними в соответствии с подходом «Единое здоровье» (OH-SAPZ)"},"Настоящий инструмент призван упростить планомерные оценки национальных структур для координации в рамках подхода «Единое здоровье» с точки зрения профилактики и выявления зоонозов и мер борьбы с ними.  Пользователям будет предложено пройти процесс, состоящий из трех этапов: приоритизация заболеваний, картирование систем в учреждениях эпиднадзора и лабораториях, анализ и рекомендации. В целом, процесс OH-SAPZ предназначен для выявления сильных и слабых сторон страны с точки зрения межотраслевой коммуникации и координации, где в то же время даны четкие шаги для устранения выявленных пробелов. ","https://ghss.georgetown.edu/oh-sapz/","Запросы на шаблоны, слайды и сценарии направлять по электронной почте.\nErin.Sorrell@georgetown.edu, Claire.Standley@georgetown.edu\n","Руководство пользователя OH-SAPZ: https://ghss.georgetown.edu/oh-sapz/\n\n","https://www.ncbi.nlm.nih.gov/pmc/articles/PMC4600904/\n\nhttps://www.ncbi.nlm.nih.gov/pmc/articles/PMC6479159/\n\n"]
[null,20,{"$f":"Backbone!A447","v":"Инструмент оценки экономической эффективности системы эпиднадзора за бешенством у животных"},"Инструмент на базе Excel для расчета затрат и эффективности программ профилактики бешенства.","https://www.ncbi.nlm.nih.gov/pubmed/28719253","Файл Excel может быть загружен дополнительно.\n"]
[null,21,{"$f":"Backbone!A234","v":"Инструмент расчета затрат для соответствия Международным медико-санитарным правилам (ММСП) (разработка Джорджтаунского университета)"},"Инструмент расчета затрат для соответствия ММСП позволяет пользователям разработать смету расходов на развитие устойчивого потенциала согласно Международным медико-санитарные правилам (ММСП). Интуитивно-понятный интерфейс рассчитывает расходы на улучшения, необходимые для достижения нужного потенциала, исходя из полевых практик и руководства для достижения определенного технического потенциала, указанных в Совместной внешней оценке.","https://ghscosting.org/",null,null,"https://pubmed.ncbi.nlm.nih.gov/30167334/\nhttps://www.liebertpub.com/doi/pdf/10.1089/hs.2019.0063\nhttps://ghscosting.org/export/IHR%20Costing%20Tool%20-%20Definitions%20and%20References.pdf "]
[null,22,{"$f":"Backbone!A42","v":"Инструмент самооценки информатизации лабораторий (разработка Ассоциации лабораторий общественного здравоохранения (APHL))"},"Настоящий инструмент позволяет лабораториям общественного здравоохранения оценить свои сильные стороны и пробелы в вопросе потенциала информатизации по 19 функциональным направлениям работы лабораторий. Данные собираются в течение длительного времени, что позволяет лабораториям измерять рост и использовать полученные результаты, чтобы эффективно добиваться выполнения своих потребностей.","https://www.aphl.org/programs/informatics/Documents/LEI_2013Jun_Informatics-Self-Assessment-Tool-for-PHLs.pdf","Инструмент самооценки информатизации лабораторий доступен как в формате PDF, так и онлайн. Онлайн-версия позволяет зарегистрированным пользователям сохранять проделанную работу и сравнивать предыдущие оценки. Кроме того, благодаря большим графическим возможностям системы обеспечивается наглядное отображение данных. Информацию по доступу к веб-версии можно запросить по электронной почте:  rachel.sheperd@aphl.org"]
[null,23,{"$f":"Backbone!A256","v":"Инструмент совместной внешней оценки (СВО) "},"Данный инструмент предназначен для оценки потенциала страны в отношении профилактики и выявления угроз здоровью населения и быстрого реагирования на них вне зависимости от того, произошли ли они естественно, в результате умышленных действий или случайно. Оценка стран при помощи СВО происходит по 19 индикаторам, отражающим разный уровень потенциала страны, начиная от «не реализовано» до «полностью реализовано, испытано и осуществляется».","https://www.who.int/publications/i/item/joint-external-evaluation-tool-(jee-tool)---second-edition\nhttps://apps.who.int/iris/bitstream/handle/10665/204368/9789241510172_eng.pdf?sequence=1","Для поддержки свяжитесь с национальным или региональным бюро ВОЗ.","https://www.who.int/publications/i/item/handbook-for-the-integration-of-the-oie-pvs-results-into-the-jee-process"]
[null,24,{"$f":"Backbone!A47","v":"Инструмент ФАО для оценки работы лабораторий и систем надзора за устойчивостью к противомикробным препаратам (ФАО-АТЛАСС)"},"Инструмент ФАО для оценки работы лабораторий и систем надзора за устойчивостью к противомикробным препаратам (ФАО-АТЛАСС) увеличивает потенциал страны для надзора за УПП, способствуя более унифицированному и координированному надзору за УПП на национальном, региональном и глобальном уровнях.Он предназначен для генерирования исходных данных и адаптированных рекомендаций для увеличения потенциала национальных служб по выявлению УПП и общенациональной системы эпиднадзора за УПП для продовольственного и сельскохозяйственного секторов при помощи внешних оценок и самооценок (проводимых квалифицированными внешними или национальными экспертами АТЛАСС).  ФАО-АТЛАСС состоит из двух основных модулей: ФАО-АТЛАСС Надзор и ФАО-АТЛАСС Лаборатория. Он рассчитан на работу в нескольких направлениях: получение данных по УПП (сеть лабораторий), сбор и анализ данных по УПП, управление, коммуникация и устойчивое развитие в целом","http://www.fao.org/antimicrobial-resistance/resources/tools/fao-atlass/en/","Сделать запрос на миссию АТЛАСС можно в национальном/региональном офисе ФАО и/или по электронной почте EMPRES-Lab-Unit@fao.org ",null,"http://www.fao.org/antimicrobial-resistance/resources/tools/fao-atlass/en/"]
[null,25,{"$f":"Backbone!A517","v":"Инструмент ФАО для оценки эффективности эпиднадзора (SET)"},"Инструмент для оценки эффективности эпиднадзора (SET) используется для оценки национальных систем надзора за болезнями животных с помощью комплексной и повторяемой методологии. Для генерирования графиков, отображающих сильные и слабые стороны систем, проводятся собеседования, начиная с основных ответственных лиц в центральном аппарате власти до животноводов на местах. Затем эти графики используются для разработки совместно с ветеринарными службами планов по улучшению этих систем. ",null,"Доступ к инструменту можно получить у разработчиков, и, если SET представляет для вас интерес, следует связаться с ними заранее, чтобы они прислали вам последние версии документов и нужную методологию. Контакты координаторов можно найти на странице проекта здесь:\n http://www.fao.org/ag/againfo/programmes/en/empres/tools_SET.html \n","http://www.fao.org/ag/againfo/programmes/en/empres/tools_SET.html\nhttps://fao.adobeconnect.com/_a1026619000/faoset/ \nhttps://fao.adobeconnect.com/_a1026619000/p6w4mnvs0d2f/?proto=true","http://www.fao.org/3/CA1770EN/ca1770en.pdf\nhttp://www.fao.org/3/CA1832FR/ca1832fr.pdf\nhttp://www.fao.org/3/CA1778EN/ca1778en.pdf\nhttp://www.fao.org/3/CA2917FR/ca2917fr.pdf\nhttp://www.fao.org/3/ca3754en/ca3754en.pdf\nhttp://www.fao.org/3/ca5753fr/ca5753fr.pdf\nhttp://www.fao.org/3/ca7549en/ca7549en.pdf\n\n\n"]
[null,26,{"$f":"Backbone!A174","v":"Инструмент эпидемиологического картирования (EMT)"},"Инструмент на базе Excel для оценки национального эпидемиологического потенциала ветеринарных служб. Он предназначен для комплексных оценок эпидемиологического потенциала ветеринарных служб на национальном, субнациональном и местном уровнях с участием различных заинтересованных сторон.  Задачей EMT является оценка эпидемиологического потенциала с точки зрения разных секторов и дисциплин, таких как охрана здоровья животных, здравоохранение человека, охрана окружающей среды, эпидемиология, лаборатория. Акцент делается на 3 основных технических направления (организационный, задействованные в эпидемиологии кадры и области применения эпидемиологического потенциала).",null,"Для получения более подробной информации по EMT отправьте запрос в региональное представительство ФАО по Азиатско-тихоокеанскому региону: Kachen.Wongsathapornchai@fao.org\n"]
[null,27,{"$f":"Backbone!A675","v":"Инструментарий для включения концепции «Единое здоровье» в директивные документы и технические руководства"},"Настоящий инструментарий описывает процесс включения концепции «Единое здоровье» в новые или существующие отраслевые и межотраслевые директивные и технические руководящие документы, включая руководства, стандартные операционные процедуры (СОП), протоколы и планы, как часть более масштабной работы, направленной на пропаганду политики «Единое здоровье» и обеспечение межотраслевой готовности и мер реагирования.","https://www.onehealthapp.org/","Раздел «Ресурсы \"Единое здоровье\"» "]
[null,28,{"$f":"Backbone!A624","v":"Инструментарий для картирования заинтересованных сторон на основе концепции «Единое здоровье»"},"Настоящий инструментарий описывает процесс планирования и осуществления картирования заинтересованных сторон. В нем дан обзор каждого этапа пошагового процесса картирования заинтересованных сторон. Целью такого процесса является выявление и анализ всех важнейших участников, которые будут задействованы в создании платформы «Единое здоровье» (ЕЗ) и реализации ее функций, а также содействие развитию и внедрению мероприятий ЕЗ, таких как разработка технических руководств и политики. Инструменты в данном инструментарии можно адаптировать к контексту конкретной страны.","https://www.onehealthapp.org/","См. раздел «Ресурсы \"Единое здоровье\"» Программы OH-APP "]
[null,29,{"$f":"Backbone!A383","v":"Инструментарий для картирования и анализа систем «Единое здоровье» (OH-SMART)"},"Процесс OH-SMART состоит из шести этапов, которые позволяют заинтересованным сторонам из разных секторов картировать, анализировать и улучшать существующую систему, требующую междисциплинарного и межотраслевого взаимодействия. Его можно использовать для укрепления систем, основанных на концепции «Единое здоровье», на общинном, местном, субнациональном, национальном и региональном уровнях, для реализации любых межотраслевых задач, включая пересмотр рамочных программ по экстренному реагированию, улучшение планов действий в отношении устойчивости к противомикробным препаратам, создание межведомственных протоколов о сотрудничестве в борьбе с инфекционными заболеваниями, а также поддержку совместного управления рисками на уровне общин.",null,"Руководство координатора OH-SMART доступно для тех, кто прошел обучение на Исполнителя или Старшего координатора. Исполнители OH-SMART проходят обучение для исполнителей и получают поддержку в рамках семинара OH-SMART, после чего они могут применять инструментарий самостоятельно. Обучение инструкторов проходит на регулярной основе онлайн или в очном формате в рамках внедрения OH-SMART.  При оплате онлайн-обучения исполнителям будет предоставлен наставник и помощь в адаптировании и внедрении инструмента для конкретного применения.\nДля связи: Кейти Пеликан, pelicank@umn.edu\n","https://oh-smart.umn.edu/\n\n","Публикации OH-SMART:\nhttps://oh-smart.umn.edu/oh-smart-action/oh-smart-publications\n\n\n\n\n"]
[null,30,{"$f":"Backbone!A685","v":"Инструментарий для моделирования политики «Единое здоровье»"},"Настоящий инструментарий позволяет ответственным лицам понять характер и масштаб того, как изменения в поголовье скота и популяции человека могут повлиять на здоровье животных, людей и окружающей среды, а также предлагает им некоторые варианты политики.","https://www.onehealthapp.org/","См. раздел «Ресурсы \"Единое здоровье\"» Программы OH-APP "]
[null,31,{"$f":"Backbone!A648","v":"Инструментарий для обеспечения готовности и планирования ответных действий"},"Настоящий инструментарий предназначен для разработки странами их межотраслевых планов по обеспечению готовности и ответных действий в отношении событий общественного здравоохранения, включая события с изначально невыясненной этиологией; он может использоваться как странами, у которых нет таких планов, так и странами, которые хотят укрепить уже существующие планы, техническую документацию или стандартные операционные процедуры. Созданный на базе рамочной программы Африканского региона ВОЗ по планированию в отношении событий с изначально невыясненной этиологией, настоящий инструментарий дает подробное техническое описание процесса развития межотраслевого потенциала по обеспечению готовности и планированию ответных действий.","https://www.onehealthapp.org/","См. раздел «Ресурсы \"Единое здоровье\"» Программы OH-APP "]
[null,32,{"$f":"Backbone!A595","v":"Инструментарий для оценки качества данных (DQR)"},"Инструментарий для оценки качества данных (DQR) предлагает комплексный подход к качеству данных. Он включает руководящие принципы и инструменты, закладывающие основу для стандартизированного и целостного подхода к качеству данных, который призывает к институционализации регулярных оценок качества данных в странах. Данный инструментарий разбит на три модуля, каждый из которых содержит свои методы и инструменты: (1) Рамочная программа и показатели; (2) Теоретический обзор качества данных; (3) Верификация данных и оценка системы.","https://www.measureevaluation.org/our-work/data-quality/data-quality-review"]
[null,33,{"$f":"Backbone!A677","v":"Инструментарий для проведения имитационных учений"},"Имитационные учения моделируют реальные ситуации с целью оценки или укрепления протоколов и потенциала по обеспечению готовности. Они позволяют организациям выявить пробелы и слабые стороны в квалификации и способностях сотрудников. Как правило, имитационные учения проводятся платформами для изучения и укрепления уровня взаимодействия между секторами, реализующими принцип «Единое здоровье», в их работе по обеспечению готовности. Настоящий инструментарий позволяет платформам и другим заинтересованным сторонам выбрать нужный тип моделирования, а также спроектировать и внедрить эффективное моделирование. Он создан с целью предоставления высокоуровневого обзора имитационных учений.","https://www.onehealthapp.org/","Раздел «Ресурсы \"Единое здоровье\"» "]
[null,34,{"$f":"Backbone!A680","v":"Инструментарий для проведения обзора принятых мер после вспышки заболевания"},"Настоящий инструментарий помогает представителям платформы «Единое здоровье» в пошаговом процессе планирования и проведения Обзора принятых мер (ОПМ) после вспышки заболевания.  ","https://www.onehealthapp.org/","См. раздел «Ресурсы \"Единое здоровье\"» Программы OH-APP "]
[null,35,{"$f":"Backbone!A683","v":"Инструментарий для пропаганды политики «Единое здоровье»"},"Настоящий инструментарий позволяет заинтересованным сторонам разрабатывать и внедрять стратегию пропаганды политики «Единое здоровье», которая помогает им доносить информацию до нужных лиц и получать поддержку тех, кто принимает решения, определять пропагандистские инструменты и мероприятия для укрепления сотрудничества и политики, а также готовить союзников и лидеров для реализации целей «Единое здоровье».","https://www.onehealthapp.org/","См. раздел «Ресурсы \"Единое здоровье\"» Программы OH-APP "]
[null,36,{"$f":"Backbone!A686","v":"Инструментарий для реализации стратегии устойчивого финансирования в рамках концепции «Единое здоровье»"},"Данный инструментарий призван поддерживать платформы «Единое здоровье» и другие координационные механизмы в их работе по привлечению и получению средств на организацию работы платформы и ее мероприятий в долгосрочной перспективе.","https://www.onehealthapp.org/","См. раздел «Ресурсы \"Единое здоровье\"» Программы OH-APP "]
[null,37,{"$f":"Backbone!A628","v":"Инструментарий для создания организационной структуры и определения круга ведения"},"Настоящий инструментарий описывает общий процесс и инструменты, которые нужны стране для создания или пересмотра организационной структуры платформы «Единое здоровье», включая схему организационной структуры и круг ведения. В ходе создания или пересмотра организационных структур платформы, следует поставить цель\nдобиться признания платформы «Единое здоровье», ее официального одобрения всеми необходимыми ведомствами и высокопоставленными чиновниками. ","https://www.onehealthapp.org/","Раздел «Ресурсы \"Единое здоровье\"» "]
[null,38,{"$f":"Backbone!A634","v":"Инструментарий для создания руководства по управлению"},"Для целей эффективности национальным платформам «Единое здоровье» следует разрабатывать и согласовывать процессы управления, четко определяющие принципы функционирования платформы. Данный инструментарий описывает процесс разработки руководства по управлению, отражающее цель платформы, ее функции и обязанности, протоколы встреч и коммуникаций, распределение кадровых, финансовых и технических ресурсов, а также методы оценки и отчетности по эффективности работы.","https://www.onehealthapp.org/","Раздел «Ресурсы \"Единое здоровье\"» "]
[null,39,{"$f":"Backbone!A31","v":"Интегрированная система эпиднадзора за устойчивостью к противомикробным препаратам (консультативная группа AGISAR)"},"Настоящее руководство разработано в помощь странам-членам ВОЗ и другим заинтересованным сторонам в создании и развитии программ интегрированного эпиднадзора за устойчивостью к противомикробным препаратам у пищевых бактерий (т.е. бактерий, обычно передаваемых с пищей). В нем содержатся подробные примеры из некоторых стран.","https://apps.who.int/iris/bitstream/handle/10665/255747/9789241512411-eng.pdf?sequence=1","Ресурс может быть адаптирован для разработки системы координированного эпиднадзора за зоонозами. "]
[null,40,{"$f":"Backbone!A482","v":"Картирование ресурсов для соблюдения ММСП и обеспечения санитарно-эпидемиологической безопасности (REMAP)"},"Картирование ресурсов и анализ воздействия на инвестиции в области обеспечения санитарно-эпидемиологической безопасности (REMAP) — это разработанный ВОЗ инструмент на базе Excel для картирования ресурсов (доступных и потенциальных), способствующих построению и поддержанию потенциала ММСП на уровне страны. ВОЗ помогает странам разрабатывать подходящие шаблоны и контрольные перечни для REMAP исходя из контекста страны. Это возможно благодаря консультациям с межотраслевыми национальными заинтересованными лицами, включая доноров и партнеров.",null,"Для получения более подробной информации или доступа, свяжитесь с командой SPH (Стратегическое партнерство по обеспечению санитарно-эпидемиологической безопасности и готовности к чрезвычайным ситуациям): sph@who.int","https://apps.who.int/iris/bitstream/handle/10665/329385/WHO-WHE-CPI-2019.17-eng.pdf?sequence=1&isAllowed=y"]
[null,41,{"$f":"Backbone!A396","v":"Кодекс по эпиднадзору на основе концепции «Единое здоровье» (OHS) "},"Рамочная программа высокого уровня, поддерживающая взаимодействие, взаимопонимание, обмен знаниями и совместимость данных среди секторов, осуществляющих эпиднадзор в рамках концепции «Единое здоровье». В кодексе OHS представлен обзор практических ресурсов, а также даны ссылки на случаи успешного применения этих ресурсов.","https://oh-surveillance-codex.readthedocs.io/en/latest/index.html"]
[null,42,{"$f":"Backbone!A195","v":"Комплексная система эпиднадзора и мер реагирования (IDSR)"},"Комплексная стратегия АФРБ ВОЗ с целью укрепить потенциал стран для выявления и подтверждения предполагаемых случаев заболевания и вспышек и реагирования на них, а также для использования информации для прогнозирования событий в области общественного здравоохранения и планирования мер реагирования на них на всех уровнях системы здравоохранения. ","https://www.afro.who.int/publications/technical-guidelines-integrated-disease-surveillance-and-response-african-region-third",null,"https://www.tephinet.org/integrated-disease-surveillance-and-response-idsr-elearning-course\n\nhttps://www.cdc.gov/globalhealth/healthprotection/idsr/pdf/idsr-matrix_28x18_english.pdf\n\nhttps://www.who.int/csr/labepidemiology/projects/diseasesurv/en/\n\nhttps://www.afro.who.int/publications/guide-introduction-idsr-curricula-health-training-institutions"]
[null,43,{"$f":"Backbone!A522","v":"Лабораторная информационная менеджмент-система для африканских ветеринарных служб (SILABFA)"},"SILABFA — лабораторная информационная менеджмент-система (ЛИМС), разработанная итальянской государственной лабораторией (IZSAM) и внедряемая в странах Африки. Система позволяет отследить все этапы диагностирования от получения образцов до лабораторных заключений. Модули по статистике, инвентаризации, финансовому контролю и биобанкам полностью интегрированы. SILABFA совместима со внешними системами.","https://demo.izs.it/silabfa_eth/","Доступ к бесплатной демоверсии можно запросить по электронной почте: silab.support@izs.it\nДемо-среда основана на используемых для разработки данных испытаний без привязки к реальным случаям.\n",null,"ЦИО: 10.1089/tmj.2018.0208\n\nhttp://www.sidilv.org/index.php/component/docman/doc_download/123-volume-atti-sidilv-2016?Itemid=\n\nhttps://www.ncbi.nlm.nih.gov/pubmed/23038071\n"]
[null,44,{"$f":"Backbone!A531","v":"Лабораторная информационная менеджмент-система, облегченная версия (МиниЛИМС)"},"МиниЛИМС — информационная система для управления лабораторией анализов с простой организационной структурой. Собирается информация по местам отбора проб, типу выбранного материала и выбранному биологическому виду, проведенным анализам, полученным результатам и хранению проб. Имеется встроенный модуль по УПП. ","https://demo.izs.it/silabfa_mini/ ","Доступ к бесплатной демоверсии можно запросить по электронной почте: silab.support@izs.it\nДемо-среда основана на используемых для разработки данных испытаний без привязки к реальным случаям.\n"]
[null,45,{"$f":"Backbone!A552","v":"Международные медико-санитарные правила (2005 г.): инструмент ежегодной отчетности государств-участников на основе самооценки (SPAR)"},"Инструмент отчетности, помогающий государствам-участникам Международных медико-санитарных правил (ММСП) в выполнении их обязательств по представлению ежегодных докладов Всемирной ассамблее здравоохранения (ВАЗ) по выполнению ими требований в отношении потенциала в соответствие с ММСП, а также поощряющий прозрачность и взаимную подотчетность среди государств-участников на пути к глобальной безопасности в области общественного здравоохранения в соответствие с Рамочной программой ВОЗ по мониторингу и оценке выполнения ММСП.","в формате PDF \nhttps://apps.who.int/iris/bitstream/handle/10665/272432/WHO-WHE-CPI-2018.16-eng.pdf?sequence=1 ; \nонлайн-инструмент\nhttps://extranet.who.int/e-spar","Онлайн-платформа для отчетности SPAR доступна для национальных координаторов ММСП.","https://extranet.who.int/sph/news/ihr-self-assessment-annual-reporting-tool-spar-2018"]
[null,46,{"$f":"Backbone!A435","v":"Методика поэтапного решения проблемы устойчивости к противомикробным препаратам (МПР УПП)"},"Методика ФАО поэтапного решения проблемы устойчивости к противомикробным препаратам (МПР УПП ФАО) — это рабочий инструмент самооценки, помогающий странам в разработке и внедрении межотраслевого национального плана действий на основе концепции «Единое здоровье» для борьбы с УПП. Он включает инструмент самооценки для количественного измерения уровня внедрения.",null,"Чтобы получить доступ к инструменту в электронном письме, отправьте запрос на FAO-AMR-PMP@fao.org ","http://www.fao.org/antimicrobial-resistance/resources/tools/fao-pmp-amr/en/\n\n","http://www.fao.org/antimicrobial-resistance/resources/tools/fao-pmp-amr/en/\n\nhttp://www.fao.org/europe/news/detail-news/en/c/1200272/\n\nhttp://www.fao.org/africa/news/detail-news/en/c/1190787"]
[null,47,{"$f":"Backbone!A291","v":"Методология для анализа законодательства, относящегося к УПП, в продовольственном и сельскохозяйственном секторе"},"Это инструмент, разработанный ФАО для проведения анализов государственного законодательства, относящегося к УПП в продовольственном и сельскохозяйственном секторах.  Методология может использоваться в процессе правового анализа, помогающего выявить пробелы и слабые стороны в государственном законодательстве, относящемся к УПП и применению противомикробных препаратов, а также помочь оценить соответствие различных типов национальных и региональных правовых инструментов международным стандартам по решению проблемы УПП. ",null,"Более подробно о возможности доступа к инструменту можно узнать в Службе по правовым вопросам развития при Управлении ФАО по правовым вопросам по электронной почте: LEGN-Chief@fao.org\n"]
[null,48,{"$f":"Backbone!A427","v":"Миссия ПВС по лабораториям, разработанная Всемирной организацией охраны здоровья животных (МЭБ)"},"Миссия ПВС по лабораториям является частью специальных программ МЭБ в поддержку стран. Данные миссии проводятся не только для определения ресурсов, необходимых национальной лабораторной сети, но и для оценки релевантности ее структуры и жизнеспособности в контексте страны, и делается это для представления ветеринарным службам элементов, необходимых для принятия стратегических решений. Кроме того, в ходе миссии проводится анализ взаимоотношений национальной лабораторной сети со всеми остальными поставщиками услуг.","https://www.oie.int/fileadmin/Home/eng/Support_to_OIE_Members/pdf/OIE_PVS_Pathway_Laboratory_Manual_2014.pdf","Запрос на проведение миссии ПВС следует направлять от делегата страны в МЭБ Генеральному директору МЭБ.","https://rr-asia.oie.int/wp-content/uploads/2019/12/6a-managing-an-oie-pvs-evaluation-part-1_bangkok-dec-2019.pdf"]
[null,49,{"$f":"Backbone!A163","v":"Мобильное приложение EMA-i для обмена данными о болезнях животных"},"EMA-i — это разработанное ФАО приложение для передачи данных в реальном времени.  Оно позволяет сотрудникам ветеринарных служб собирать информацию о болезнях животных на местах, передаваемую затем по сети. Приложение генерирует отчеты с географической привязкой, которые передаются на пользовательский интерфейс страны в Глобальной информационной системе болезней животных (EMPRES-i) для безопасного хранения и обработки данных. Инструмент адаптируется под требования каждой страны в отношении передачи информации о болезнях.",null,"Электронная почта для получения более подробной информации или получения доступа: Sabina.Ramazzotto@fao.org",null,"http://www.fao.org/3/a-i4853e.pdf\nhttp://www.fao.org/3/CA1078EN/ca1078en.pdf\nhttp://boutique.oie.int/extrait/24tekola657670.pdf"]
[null,50,{"$f":"Backbone!A265","v":"Модель компетенций для лидеров/руководителей лабораторий (GLLP)"},"Модель компетенций для лидеров/руководителей лабораторий обозначает девять важных компетенций, которыми должны обладать лидеры/руководители лабораторий для создания устойчивой «Национальной системы лабораторий здравоохранения» и управления ею, включающей лаборатории, проводящие исследования материалов от людей, животных, окружающей среды, сельского хозяйства, продуктов питания, и химические лаборатории, с целью выявления и профилактики заболеваний, и борьбы с ними силами систем здравоохранения по всему миру.","https://www.who.int/ihr/publications/laboratory-leadership-competency-framework-first-edition/en/\n\nhttps://www.who.int/ihr/publications/laboratory-leadership-competency-framework-first-edition/fr/\n\nhttps://www.who.int/ihr/publications/laboratory-leadership-competency-framework-first-edition/ru/\n\nhttps://www.who.int/ihr/publications/laboratory-leadership-competency-framework-first-edition/es/","Модель компетенций для лидеров/руководителей лабораторий доступна на английском, французском, русском и испанском языках.\nМодель компетенций для лидеров/руководителей лабораторий поддерживает развитие Глобальной программы для лидеров/руководителей лабораторий.\n","https://www.who.int/ihr/lyon/global-laboratory-leadership-programme/en/","https://www.frontiersin.org/articles/10.3389/fpubh.2019.00199/full \n\nhttps://apps.who.int/iris/bitstream/handle/10665/325635/WER24may2019-xiv-xvii-eng-fre.pdf \n\nhttp://dx.doi.org/10.2471/BLT.17.195883 "]
[null,51,{"$f":"Backbone!A346","v":"Национальная программа стандартизации системы общественного здравоохранения для повышения ее эффективности (NPHPSP): Инструмент оценки эффективности местной системы общественного здравоохранения (2-я версия)"},"Оценка эффективности проводится для укрепления и усовершенствования системы общественного здравоохранения. Инструмент NPHPSP основан на рамочной программе десяти основных функций общественного здравоохранения. По каждой из основных функций, типовые стандарты описывают главные мероприятия, проводимые на местном уровне, или соответствуют им. В ходе оценки участники с разных концов местной системы здравоохранения могут обсуждать и сравнивать результаты своей работы с каждым из 30 типовых стандартов. ","https://www.cdc.gov/publichealthgateway/nphps/index.html?CDC_AA_refVal=https%3A%2F%2Fwww.cdc.gov%2Fnphpsp%2Findex.html","Инструмент разработан для систем общественного здравоохранения США. Может быть взят за основу для адаптации под местные реалии."]
[null,52,{"$f":"Backbone!A303","v":"Национальный план действий по обеспечению безопасности в области здравоохранения (NAPHS)"},"Организуемый самими странами и охватывающий много лет процесс планирования, способный ускорить внедрение основных возможностей ММСП и основывающийся на концепции «Единое здоровье» и общегосударственном подходе ко всем видам опасностей. Этот план отражает национальные приоритеты в отношении обеспечения безопасности в области здравоохранения, объединяет секторы, выявляет партнеров и предусматривает выделение ресурсов на наращивание потенциала для обеспечения безопасности в области здравоохранения. Кроме того, NAPHS обеспечивает всеобъемлющий процесс, охватывающий все текущие инициативы в области обеспечения готовности в стране наряду с действующим в стране механизмом управления рисками в условиях чрезвычайных ситуаций в области здравоохранения и бедствий. \n","https://apps.who.int/iris/bitstream/handle/10665/312220/WHO-WHE-CPI-19.5-eng.pdf?sequence=1","На сайте представлен большой объем информации, но странам, по всей видимости, необходимо в этом процессе тесно взаимодействовать с ВОЗ"]
[null,53,{"$f":"Backbone!A239","v":"Национальный семинар по выстраиванию связей ММСП-ПВС"},"Данный инструмент используется для проведения семинара для заинтересованных сторон, применяющих принцип «Единое здоровье» (ЕЗ), на котором обсуждаются требования ММСП, а также координация между сторонами ЕЗ и их действия, направленные на соблюдение требований Международных медико-санитарных правил (ММСП). Семинар предназначен для «диагностирования» межотраслевой координации по различным вопросам и создания дорожной карты по межотраслевой координации с точки зрения ее дальнейшего развития, чтобы продолжать двигаться в направлении соблюдения ММСП и высоких показателей на национальном уровне. ","https://extranet.who.int/sph/ihr-pvs-bridging-workshop","Доступны версии на английском, русском, французском языках \nОрганизовано ВОЗ и МЭБ. Контактные лица для связи по вопросам оценки: Стефан де ла Рок де Северак (delarocques@who.int) и доктор Франсуа Кейя (f.caya@oie.int) ",null,"\nhttps://www.ncbi.nlm.nih.gov/pubmed/31564739"]
[null,54,{"$f":"Backbone!A296","v":"Обновленные руководящие принципы для оценки систем эпиднадзора за здоровьем человека "},"Настоящий отчет предоставляет обновленные руководящие принципы для оценки систем эпиднадзора в соответствии с Рамочной программой ЦКПЗ для оценки программ в сфере общественного здравоохранения, исследование и обсуждение опасений, связанных с системами эпиднадзора за здоровьем человека, и отзывов, полученных от сообщества сектора общественного здравоохранения. Руководящие принципы в данном отчете описывают множество задач и связанных мероприятий, применимых к системе эпиднадзора за здоровьем человека","https://www.cdc.gov/mmwr/preview/mmwrhtml/rr5013a1.htm"]
[null,55,{"$f":"Backbone!A483","v":"Онлайн-инструменты для разработки и оценки систем эпиднадзора (SURVTOOLS) "},"Объединенные инструменты для проектирования и оценки эпиднадзора предназначены для компетентных технических пользователей, проектирующих, внедряющих или оценивающих системы эпиднадзора за здоровьем животных. Они инструктируют пользователей для прохождения важных этапов цикла «проектирование – оценка – перепроектирование» с целью стратегического планирования системы эпиднадзора за здоровьем животных, а также позволяют разобраться в ключевых понятиях, методах и требованиях.","https://survtools.org\n\nhttps://survtools.org/wiki/surveillance-design-framework/doku.php\n\nhttps://survtools.org/wiki/surveillance-evaluation/doku.php","SURVTOOLS имеются в открытом онлайн-доступе (https://survtools.org/; необходима регистрация). ","https://www.youtube.com/watch?v=6bXBn-Kglp8&feature=youtu.be&list=PLPamJyFyCit8UGPOaEwr_bR0LCKkcKzJ6\n\nhttps://www.youtube.com/watch?v=8aLKTw7z63U&feature=youtu.be","https://doi.org/10.1016/j.prevetmed.2019.104777\n\nhttps://www.researchgate.net/publication/299393001_RISKSUR_tools_taking_animal_health_surveillance_into_the_future_through_interdisciplinary_integration_of_scientific_evidence\n\ndoi.org/10.1186/s12917-016-0822-5 "]
[null,56,{"$f":"Backbone!A395","v":"Оценка для улучшения планирования и повышения эффективности на основе принципа «Единое здоровье» (OH-APP)"},"OH-APP — это рамочная программа мониторинга для межотраслевых координационных механизмов (МКМ) для ежегодной самооценки их организационного потенциала и эффективности, результаты которой будут использоваться для планирования и развития. OH-APP дополняет совместную внешнюю оценку ВОЗ (СВО) благодаря более конкретным индикаторам, имеющимся для измерения зрелости МКМ и отслеживания его развития в сторону устойчивого механизма, способного координировать взаимодействие между секторами и заинтересованными сторонами в вопросе обеспечения готовности и мер реагирования на угрозы здоровью людей. Обучение OH-APP проходит в виде двухдневного семинара с использованием инструментов для совместного принятия решений. Результаты оценки служат основой для принятия решений в отношении совместного планирования, внедрения и реагирования на угрозы здоровью населения.","https://www.onehealthapp.org/","Для доступа к приложению можно использовать вымышленное название страны «Конкордия».\nДля целей внутренней отчетности результаты оценки для других стран, кроме Конкордии, могут добавлять только пользователи с официальными логинами «Единое здоровье». Функционал остается тем же, поэтому пользователи могут использовать данное приложение для оценки организационного потенциала и эффективности платформы «Единое здоровье» в контексте своей страны без официальной регистрации."]
[null,57,{"$f":"Backbone!A83","v":"Оценка системы эпиднадзора и мониторинга качества данных Европейского ЦКПЗ — справочник методов и применений "}," Справочник по мониторингу качества данных эпиднадзора для специалистов сектора общественного здравоохранения. Он служит руководством для выполнения процессов мониторинга качества данных и оценки систем эпиднадзора в странах-членах ЕС/ЕЭЗ, а также помогает специалистам сектора общественного здравоохранения в их ежедневной работе с данными эпиднадзора за инфекционными заболеваниями.  ","https://www.ecdc.europa.eu/en/publications-data/data-quality-monitoring-and-surveillance-system-evaluation-handbook-methods-and",null,null,"https://bmjopenquality.bmj.com/content/4/1/u209037.w3663; https://www.ncbi.nlm.nih.gov/pmc/articles/PMC5372144/"]
[null,58,{"$f":"Backbone!A100","v":"Оценка сотрудничества в рамках межотраслевой системы эпиднадзора (ECoSur)"},"EcoSur — это полуколичественный инструмент для оценки организации и функционирования взаимодействия в межотраслевой системе эпиднадзора и для анализа сильных и слабых сторон такого взаимодействия. В конечном счете результаты оценки могут дать толчок созданию рекомендаций для улучшения взаимодействия в межотраслевой системе эпиднадзора.","https://survtools.org/wiki/surveillance-evaluation/doku.php?id=quality_of_the_collaboration",null,null,"https://doi.org/10.3389/fvets.2019.00109\n\nhttp://www.theses.fr/s168606"]
[null,59,{"$f":"Backbone!A489","v":"Пакет программного обеспечения для проведения автоматического глобального электронного биомониторинга (SAGES)"},"Пакет программного обеспечения в свободном доступе с открытым исходным кодом для улучшения электронного эпиднадзора в условиях ограниченных ресурсов. SAGES задействует инструменты электронного эпиднадзора в сочетании с другими свободно доступными совместимыми инструментами, а также имеющейся местной технологической инфраструктурой, для обеспечения и/или укрепления потенциала электронного эпиднадзора по всему миру.  Функционал SAGES включает мобильный сбор данных, пространственно-временной анализ при помощи географического картографирования, обнаружение аномальных явлений и возможность динамических запросов. \n","https://github.com/sages-health/openessence ","Для получения более подробной информации свяжитесь с Лабораторией прикладной физики Университета Джонса Хопкинса\nКонтактное лицо в Лаборатории прикладной физики Университета Джонса Хопкинса:\nШраддха Патель\nShraddha.patel@jhuapl.edu \n","https://www.jhuapl.edu/sages/","https://doi.org/10.1186/1472-6947-12-99\n\nhttps://doi.org/10.1371/journal.pone.0019750"]
[null,60,{"$f":"Backbone!A194","v":"Подход к оценке систем здравоохранения (HSAA)"},"HSAA предназначена для помощи в диагностировании эффективности систем здравоохранения и сборе общесистемной информации с целью улучшения работы по планированию в секторе здравоохранения. При таком подходе рассматривается вся система здравоохранения, включая ее управление, финансирование, оказание медицинских услуг, кадровые ресурсы, фармацевтический менеджмент и информационные системы здравоохранения, с учетом частного сектора, который является важным, но зачастую упускаемым из виду элементом системы здравоохранения.","https://www.hfgproject.org/the-health-system-assessment-approach-a-how-to-manual/ "]
[null,61,{"$f":"Backbone!A557","v":"Поэтапный инструмент по искоренению бруцеллеза (STEB)"},"Настоящий инструмент самооценки на базе электронных таблиц создан в помощь странам в оценке имеющегося потенциала профилактики и искоренения бруцеллеза и борьбы с ним. При помощи STEB, выявляющего пробелы в потенциале, страны могут проводить мероприятия с использованием подхода «Единое здоровье» для профилактики и искоренения бруцеллеза и борьбы с ним. ",null,"Для получения более подробной информации или доступа отправьте запрос на onehealth@cdc.gov и bspb@cdc.gov"]
[null,62,{"$f":"Backbone!A453","v":"Поэтапный подход к ликвидации бешенства (SARE)"},"SARE является рабочим инструментом планирования, мониторинга и оценки для реализации, разработки и доработки программ борьбы с бешенством. Он представлен в виде оценочной таблицы Excel с измеряемыми этапами, которые разработаны как логическая последовательность мероприятий от Этапа 0 до Этапа 5, призванных искоренить передаваемое собаками бешенство.","https://caninerabiesblueprint.org/A-stepwise-approach-to-planning?lang=en","Запросить оценочную таблицу SARE можно на сайте\n https://rabiesblueprint.org/sare.html","https://caninerabiesblueprint.org/IMG/pdf/sare_outline_2017_f.pdf"]
[null,63,{"$f":"Backbone!A179","v":"Приложение FoodChain-Lab (FCL) "},"FoodChain-Lab (FCL) — это бесплатное программное обеспечение для отслеживания с открытым исходным кодом. Оно позволяет отслеживать продукты питания по всей цепочки поставки как вперед, так и назад, чтобы определить источник заражения, вызвавший вспышку заболевания пищевого происхождения или иной инцидент, связанный с пищевыми продуктами. В FCL есть функции сбора данных, управления и визуализации, а также методы интерактивного анализа. FCL успешно применялось при нескольких вспышках заболеваний.","https://foodrisklabs.bfr.bund.de/foodchain-lab/\nhttps://fcl-portal.bfr.berlin/\n",null,"https://foodrisklabs.bfr.bund.de/foodchain-lab/\nhttps://foodrisklabs.bfr.bund.de/foodchain-lab/\nhttps://github.com/SiLeBAT/BfROpenLab\nhttps://github.com/SiLeBAT/fcl-client\n","https://www.liebertpub.com/doi/pdf/10.1089/fpd.2012.1296\n\nhttps://journals.plos.org/plosone/article?id=10.1371/journal.pone.0151977\n\nhttps://efsa.onlinelibrary.wiley.com/doi/epdf/10.2903/sp.efsa.2019.EN-1742\n\n"]
[null,64,{"$f":"Backbone!A571","v":"Приложение Всемирной организации охраны здоровья животных (МЭБ) для получения оповещений от ВАХИС (WAHIS Alerts)"},"Приложение WAHIS Alerts позволяет пользователям получать на мобильный телефон или планшет (мгновенные) оповещения о болезнях животных и последующие отчеты по мере их публикации МЭБ.",null,"Онлайн-магазины App store, Google Playstore, Play Market","https://www.oie.int/en/for-the-media/press-releases/detail/article/oie-alerts-and-animal-health-information-now-available-on-your-smartphone-or-tablet/"]
[null,65,{"$f":"Backbone!A604","v":"Приложение для оценки воздействия бешенства и выявления контактных лиц (REACT)"},"Инструмент, помогающий реализации комплексных программ управления случаями укусов (IBCM). Представленный в виде приложения, данный инструмент обеспечивает стандартизированные, систематические полевые исследования людей, подверженных риску заражения бешенством, и животных с подозрением на бешенство. С его помощью можно собирать данные и в реальном времени получить обратную связь в отношении процедуры проведения исследования IBCM, риска наличия бешенства у исследуемых животных и организации карантина. Приложение следит за случаями в течение долгого времени, позволяя пользователям отслеживать важную эпидемиологическую и санитарную информацию в долгосрочной перспективе. Сбор данных происходит в оффлайн режиме, но их можно сразу же загрузить на общий защищенный сервер, доступный авторизованным пользователям из организаций охраны здоровья животных и здравоохранения человека. Персонализированный вебсайт позволяет пользователям визуализировать и анализировать данные IBCM и данные о рисках заражения бешенством с целью ведения руководящих принципов по лечению жертв укусов, а также управления информацией для организации мероприятий по борьбе с бешенством, таких как вакцинация собак. ","https://rabiestaskforce.com/toolkit\n\n","Доступно на английском, французском, испанском, вьетнамском и тайском языках.\nОсновные задачи приложения: сбор/обобщение/поверхностный анализ данных для исследования/регистрации случаев бешенства у людей и животных, — но при этом оно может быть адаптировано ко многим ситуациям, так как позволяет пользователям создавать любые виды отчетов. "," https://www.youtube.com/watch?v=BQJ5D6wGIeg"," https://www.cdc.gov/mmwr/volumes/68/wr/mm6832a6.htm"]
[null,66,{"$f":"Backbone!A592","v":"Программа ВОЗ «WHO-CHOICE»"},"Настоящая программа помогает странам расставить приоритеты в отношении системы здравоохранения с учетом затрат и последствий. Она состоит из различных методов и инструментов.\nКомпонент программы, касающийся Общей экономической эффективности, призван определить мероприятия в сфере здравоохранения с наилучшим соотношением цены и качества, т.е. с большей выгодой для здоровья от каждого потраченного доллара. Инструмент «Единое здоровье» помогает странам анализировать затраты и целесообразность их стратегических планов, а также оценивать потенциальную результативность этих планов.\n","https://www.who.int/news-room/feature-stories/detail/new-cost-effectiveness-updates-from-who-choice"]
[null,67,{"$f":"Backbone!A415","v":"Процесс приоритизации зоонозов на основе концепции «Единое здоровье» (OHZDP)"},"Данный инструмент на базе Excel является пошаговым руководством для принятия решений и выполнения в ходе семинара межотраслевого процесса приоритизации на основе концепции «Единое здоровье». Используемый процесс варьирует от качественного до полуколичественного и до количественного, и в ходе него участники разрабатывают ряд критериев для приоритизации зоонозов, затем составляют репрезентативные вопросы для этих критериев, ранжируют критерии и вычисляют рейтинговые значения с учетом этой информации.",null,"Для связи: onehealth@cdc.gov"]
[null,68,{"$f":"Backbone!A643","v":"Разработка стратегического плана на основе концепции «Единое здоровье»"},"Настоящий инструмент представляет собой пошаговое руководство для разработки национального стратегического плана на основе концепции «Единое здоровье» при помощи коллективного подхода с учетом потребностей заинтересованных сторон. Стратегический план на основе концепции «Единое здоровье» — это национальный директивный документ, который излагает координированный, межотраслевой подход «Единое здоровье» к угрозам заболевания, вызывающим беспокойство в области общественного здравоохранения, особенно угрозам зоонозов. Он также служит основанием для планирования работы платформы и пропаганды с целью привлечения ресурсов.","https://www.onehealthapp.org/","См. раздел «Ресурсы \"Единое здоровье\"» Программы OH-APP "]
[null,69,{"$f":"Backbone!A65","v":"Районная информационная система здравоохранения, версия 2 (DHIS2) "},"DHIS2 — это онлайн-платформа информационной системы управления в системе здравоохранения (HMIS) с открытым исходным кодом. Эта платформа отличается тем, что имеет хранилище данных, графические возможности и функцию генерации анализов из реальных данных в режиме реального времени для пользователей данных и руководящих работников. DHIS2 является бесплатным и открытым программным обеспечением. У каждый страны имеется своя собственная «копия» платформы DHIS2 с полными правами владения приложением и данными. При содействии экспертов сообщества DHIS2 министерства здравоохранения настраивают собственную информационную систему поверх типовой платформы.  ","https://www.dhis2.org/home","Разработка основного программного обеспечения DHIS2 ведется в рамках Программы информационных систем здравоохранения (HISP) в Университете Осло (УО).\nЭлектронная почта для связи: post@dhis2.org  "]
[null,70,{"$f":"Backbone!A2","v":"Рамочная программа Африканских ЦКПЗ по надзору на основе сигнальных событий"},"Рамочная программа для осуществления надзора на основе сигнальных событий (НОС) представляет собой руководство для работников системы общественного здравоохранения, стремящихся внедрить НОС на всех административных уровнях своей страны. Для стран Африканского союза, реализующих Комплексную стратегию эпиднадзора и мер реагирования (IDSR), настоящий документ дополняет данную стратегию и может усилить работу по ее внедрению.","https://africacdc.org/download/africa-cdc-event-based-surveillance-framework/ \n\n","Поскольку надзор на основе индикаторов и надзор на основе событий совместно являются компонентом раннего предупреждения и реагирования системы эпиднадзора за здоровьем населения, настоящая рамочная программа предназначена для внедрения НОС.\nДоступны версии на английском и французском языках."]
[null,71,{"$f":"Backbone!A183","v":"Рамочная программа для оценки систем эпиднадзора за здоровьем человека с целью раннего обнаружения вспышек заболеваний "},"Оперативная рамочная программа по планированию и оценке систем синдромного надзора.  Она помогает планировать и оценивать всю систему эпиднадзора на предмет соответствия ряду самоопределенных критериев","https://www.researchgate.net/publication/8576839_Framework_for_Evaluating_Public_Health_Surveillance_Systems_for_Early_Detection_of_Outbreaks_Recommendations_from_the_CDC_Working_Group"]
[null,72,{"$f":"Backbone!A33","v":"Рамочная программа для укрепления мер профилактики и борьбы с сибирской язвой "},"Данная рамочная программа рассказывает о сибирской язве и о том, как усилить меры профилактики и борьбы с сибирской язвой у животных и людей. Она предназначена для чиновников систем общественного здравоохранения и охраны здоровья животных в эндемичных по сибирской язве странах. Программу можно использовать для обучения мерам профилактики и борьбы с сибирской язвой или в качестве краткого справочника для плановых органов в сфере общественного здравоохранения.","https://www.cdc.gov/anthrax/resources/anthrax-framework.html",null,null,"https://wwwnc.cdc.gov/eid/article/23/13/17-0431_article "]
[null,73,{"$f":"Backbone!A137","v":"Рамочная программа ЕФСА для сбора данных"},"Онлайн-инструмент для сбора данных. Данные обязательны к подаче всеми странами-членами ЕС. Он предназначен для упрощения процесса сбора данных по зоонозам между сторонами и их последующего обмена, а также извлечения и повторного использования данных."," https://dcf.efsa.europa.eu/dcf-war/dc","Требуется авторизация. Электронная почта для получения дополнительной информации: Mario.MONGUIDI@efsa.europa.eu ","https://efsa.onlinelibrary.wiley.com/doi/pdf/10.2903/j.efsa.2014.3945"]
[null,74,{"$f":"Backbone!A561","v":"Рамочная программа по оценке эпиднадзора за биозащитой (SurF)"}," Рамочная программа оценки систем эпиднадзора, которую можно использовать для обеспечения биозащиты, здоровья животных и растений. Она была разработана Министерством сельского и лесного хозяйства Новой Зеландии для внутреннего пользования, но сейчас доступна для любой организации.","https://www.mpi.govt.nz/dmsdocument/18091/direct",null,null,"https://onlinelibrary.wiley.com/doi/full/10.1111/tbed.12898 \n\n"]
[null,75,{"$f":"Backbone!A510","v":"Рамочная программа по оценке эпиднадзора за здоровьем животных (SERVAL)"},"Пошаговое руководство по планированию, структурированию и оценке систем надзора за здоровьем животных, проверенное и испытанное на ветеринарном секторе Великобритании. Оно предназначено для комплексной оценки как отдельных элементов эпиднадзора (мероприятий), так и целых программ эпиднадзора. \n","https://www.rvc.ac.uk/Media/Default/VEEPH/Documents/SERVAL.pdf"]
[null,76,{"$f":"Backbone!A176","v":"Руководство для разработки планов эпиднадзора за\nболезнями животных\n\n"},"Общий шаблон с рамочной программой для планирования эпиднадзора за инфекционными заболеваниями","http://www.fao.org/3/cb3252en/cb3252en.pdf"]
[null,77,{"$f":"Backbone!A51","v":"Руководство для сбора данных о потенциале страны в отношении охраны здоровья в пограничных районах (BHCDG)"},"В Руководстве для сбора данных о потенциале страны в отношении охраны здоровья в пограничных районах содержатся шаблонные инструменты, которые помогают проводить обсуждения с представителями национальных, районных и наземных пограничных служб по семи темам, связанным с охраной здоровья на границе: 1. Особенности пограничного пункта 2. Наличие медико-санитарных служб 3. Планирование мер реагирования и соответствующее обучение 4. Системы эпиднадзора 5. Системы коммуникации 6. Социальная мобилизация 7. Обмен информацией между граничащими странами и регионами.",null,"Более подробную информацию по данному ресурсу можно запросить у Глобальной группы ЦКПЗ по охране здоровья в пограничных районах по электронной почте: gbht@cdc.gov "]
[null,78,{"$f":"Backbone!A59","v":"Руководящие принципы в отношении уровня компетенции специалистов, работающих в лабораториях общественного здравоохранения: ЦКПЗ и Ассоциация лабораторий общественного здравоохранения"},"Настоящие руководящие принципы обозначают знания, навыки и способности, которыми должны обладать специалисты лабораторий общественного здравоохранения (ЛОЗ), чтобы эффективно и результативно предоставлять основные услуги ЛОЗ.  ","https://www.cdc.gov/mmwr/preview/mmwrhtml/su6401a1.htm?s_cid=su6401a1_w","Может использоваться для определенных видов мероприятий государственного сектора и, тем самым, способствовать построению элементов координированного эпиднадзора."]
[null,79,{"$f":"Backbone!A418","v":"Сборник материалов для организации единых пунктов пограничного контроля"},"Настоящий ресурс, разработанный странами Восточной Африки и непосредственно применимый к ним, дает подробное описание ряда соображений, которые следует принимать во внимание национальным ведомствам двух граничащих стран при организации общей системы контроля перемещений людей и товаров через приоритетные наземные пограничные пункты. ","https://www.tralac.org/documents/resources/african-union/1682-osbp-sourcebook-2nd-edition-may-2016/file.html"]
[null,80,{"$f":"Backbone!A332","v":"Сеть для оценки мероприятий на основе концепции «Единое здоровье» (NEOH)"},"Как часть рамочной программы оценки данная сеть оценивает приверженность системы эпиднадзора принципу «Единое здоровье» (или степень применения подхода «Единое здоровье», ЕЗ), начисляя баллы важнейшим аспектам интеграции, таким как мышление, планирование, работа, обучение, обмен и системная организация в рамках концепции «Единое здоровье», и делает это при помощи стандартных рабочих листов Excel, на каждом из которых нужно ответить не более чем на 17 вопросов.","https://www.wageningenacademic.com/doi/abs/10.3920/978-90-8686-875-9\n\nhttps://www.wageningenacademic.com/doi/suppl/10.3920/978-90-8686-875-9/suppl_file/%20NEOH_ESM_4_The%20neoh%20evaluation%20tools.xlsx ",null,"https://www.wageningenacademic.com/doi/suppl/10.3920/978-90-8686-875-9/suppl_file/%20NEOH_ESM_4_The%20neoh%20evaluation%20tools.xlsx\nhttps://www.wageningenacademic.com/doi/suppl/10.3920/978-90-8686-875-9","https://www.frontiersin.org/articles/10.3389/fpubh.2017.00020/full\nhttps://www.frontiersin.org/articles/10.3389/fvets.2018.00033/full\nhttps://www.frontiersin.org/articles/10.3389/fpubh.2018.00045/full\nhttps://www.frontiersin.org/articles/10.3389/fpubh.2018.00074/full\nhttps://www.frontiersin.org/articles/10.3389/fvets.2018.00147/full\nhttps://www.frontiersin.org/articles/10.3389/fvets.2018.00163/full\nhttps://www.frontiersin.org/articles/10.3389/fvets.2018.00023/full\nhttps://www.frontiersin.org/articles/10.3389/fvets.2017.00238/full\nhttps://www.frontiersin.org/articles/10.3389/fpubh.2017.00236/full\n\n"]
[null,81,{"$f":"Backbone!A540","v":"Система анализа и управления мерами эпиднадзора и реагирования на вспышки (SORMAS)"},"Мобильная система eHealth с открытым исходным кодом, которая помимо эпиднадзора и раннего обнаружения вспышек обрабатывает процедуры борьбы с заболеваниями и управления вспышками при помощи цифрового эпиднадзора в реальном времени, включая периферийные учреждения здравоохранения и лаборатории.","https://github.com/hzi-braunschweig","Система может быть адаптирована для использования с координированной системой эпиднадзора на основе принципа «Единое здоровье». Электронная почта для получения дополнительной информации: sormas@helmholtz-hzi.de",null,"https://www.ncbi.nlm.nih.gov/pubmed/30147081;\n\nhttps://www.thieme-connect.com/products/ejournals/abstract/10.1055/s-0037-1605995\n\nhttps://www.ncbi.nlm.nih.gov/pubmed/30373727\n\n\n"]
[null,82,{"$f":"Backbone!A419","v":"Система оценки эффективности ветеринарных служб (ПВС), разработанная Всемирной организацией охраны здоровья животных (МЭБ)"},"Представляет собой независимую оценку внутри страны группой экспертов, подготовленных МЭБ, которые собирают и анализируют исходную информацию и свидетельства, сведенные воедино во время миссии, в том числе масштабный полевой компонент. Во время миссии используется инструмент ПВС МЭБ, при помощи которого систематически оцениваются 45 критически важных компетенций.  По результатам оценки составляется итоговый отчет, в котором в соответствие с международными стандартами МЭБ дается обзор состояния ветеринарных служб, оценивается их эффективность и выявляются сильные и слабые стороны.","https://www.oie.int/solidarity/pvs-pathway/","Запрос на проведение миссии ПВС следует направлять от делегата страны в МЭБ Генеральному директору МЭБ.","https://rr-asia.oie.int/wp-content/uploads/2019/12/6a-managing-an-oie-pvs-evaluation-part-1_bangkok-dec-2019.pdf"]
[null,83,{"$f":"Backbone!A288","v":"Составление перечня и классификация приоритетных болезней животных, в том числе передаваемых человеку (Phylum)"},"Данный инструмент классификации и приоритизации разработан для выполнения аналитических этапов протокола. Он представляет собой Excel-файл, состоящий из нескольких модулей. Каждому модулю отведен отдельный рабочий лист, где оценивается определенное воздействие или тип данных.","https://www.oie.int/solidarity/global-studies/categorisation-of-animal-diseases/",null,"https://www.who.int/ihr/procedures/mission-reports/en/"]
[null,84,{"$f":"Backbone!A61","v":"Стратегии трансграничной межотраслевой коммуникации и координации"},"Данный инструмент является обучающими модулями для практических семинарных занятий.  Он предназначен для содействия заинтересованным сторонам в процессе определения отраслевых механизмов обмена информацией и создания межотраслевых или трансграничных механизмов обмена информацией. Они могут быть подробными и готовыми к эксплуатации либо высокого уровня, в зависимости от задач пользователя. ",null,"Для получения более подробной информации или выражения интереса по данному ресурсу свяжитесь с Глобальной группой ЦКПЗ США по охране здоровья в пограничных районах по электронной почте: gbht@cdc.gov",null,"https://wwwnc.cdc.gov/eid/article/23/13/17-0520_article\nhttps://www.liebertpub.com/doi/10.1089/hs.2019.0080\n"]
[null,85,{"$f":"Backbone!A575","v":"Устойчивость к противомикробным препаратам: руководство для разработки национальных планов действий"},"Руководство для разработки национальных планов действий для решения проблемы устойчивости к противомикробным препаратам. В дополнение к настоящему руководству ВОЗ, совместно с ФАО и МЭБ, разработали ряд вспомогательных инструментов. Среди них: образец круга ведения для предлагаемых координационных механизмов, национальный план действий стандартного образца, образец плана мониторинга и оценки и контрольный перечень. ","https://apps.who.int/iris/bitstream/handle/10665/204470/9789241549530_eng.pdf","Данное руководство и вспомогательные материалы могут быть рассмотрены на предмет адаптации для целей эпиднадзора за зоонозами."]
[null,86,{"$f":"Backbone!A138","v":"Электронная интегрированная система эпиднадзора за болезнями (EIDSS)"},"Настоящая электронная онлайн-система передачи эпидемиологической информации адаптируется под требования заказчика. Она создана для пассивного и активного эпиднадзора при содействии медицинских и ветеринарных учреждений, для лабораторной диагностики, надзора за переносчиками и управления вспышками заболеваний с целью обеспечения потока информации почти в режиме реального времени для принятия решений по инфекционным заболеваниям.","Github.com/EIDSS"]

{"sheet":"PP1_tools","index":27,"n_rows":96,"n_cols":59,"rows_kept":96,"cut":false,"hidden":false,"merged":[[89,46,93,46],[89,48,93,48],[89,50,93,51],[89,53,93,54],[95,8,99,13],[95,15,99,22],[95,24,99,26],[95,28,99,30],[95,32,99,32],[95,34,99,34],[89,34,93,34],[89,36,93,36],[89,38,93,38],[89,40,93,40],[95,48,99,48],[95,50,99,51],[95,53,99,54],[95,36,99,36],[95,38,99,38],[95,40,99,40],[95,42,99,42],[95,44,99,44],[95,46,99,46],[89,42,93,42],[89,44,93,44],[89,8,93,13],[89,15,93,22],[89,24,93,26],[89,28,93,30],[89,32,93,32],[84,3,87,6],[84,8,87,13],[84,15,87,22],[84,24,87,26],[84,28,87,30],[73,42,87,42],[73,44,87,44],[89,3,99,6],[73,46,87,46],[73,48,87,48],[80,50,87,51],[80,53,87,54],[47,48,51,48],[47,50,51,51],[47,53,51,54],[29,3,51,6],[17,1,51,1],[73,32,87,32],[73,34,87,34],[73,36,87,36],[73,38,87,38],[73,40,87,40],[47,36,51,36],[47,38,51,38],[47,40,51,40],[47,42,51,42],[47,44,51,44],[47,46,51,46],[47,8,51,13],[47,15,51,22],[47,24,51,26],[47,28,51,30],[41,53,45,54],[22,3,26,6],[41,34,45,34],[41,36,45,36],[41,38,45,38],[41,40,45,40],[41,42,45,42],[41,44,45,44],[41,8,45,13],[41,15,45,22],[41,24,45,26],[41,28,45,30],[41,32,45,32],[35,42,39,42],[35,44,39,44],[35,46,39,46],[35,48,39,48],[35,50,39,51],[35,53,39,54],[29,8,33,13],[29,15,33,22],[29,42,33,42],[29,44,33,44],[29,46,33,46],[29,48,33,48],[29,50,33,51],[47,32,51,32],[47,34,51,34],[35,8,39,13],[35,15,39,22],[35,24,39,26],[35,28,39,30],[35,32,39,32],[35,34,39,34],[35,36,39,36],[41,46,45,46],[41,48,45,48],[41,50,45,51],[22,34,26,34],[22,36,26,36],[29,24,33,26],[29,28,33,30],[29,32,33,32],[29,34,33,34],[29,36,33,36],[29,38,33,38],[29,40,33,40],[13,53,20,54],[89,56,93,57],[17,3,20,6],[17,8,20,13],[17,15,20,22],[17,24,20,26],[17,28,20,30],[22,8,26,13],[22,50,26,51],[22,53,26,54],[22,40,26,40],[22,42,26,42],[22,44,26,44],[22,46,26,46],[22,38,26,38],[6,48,20,48],[35,40,39,40],[35,38,39,38],[13,50,20,51],[22,48,26,48],[22,15,26,22],[22,24,26,26],[22,28,26,30],[22,32,26,32],[95,56,99,57],[1,1,3,62],[22,58,26,62],[29,58,33,62],[35,58,39,62],[41,58,45,62],[47,58,51,62],[89,58,93,62],[95,58,99,62],[47,56,51,57],[22,56,26,57],[29,56,33,57],[35,56,39,57],[41,56,45,57],[79,1,104,1],[6,32,20,32],[6,34,20,34],[6,36,20,36],[6,38,20,38],[6,40,20,40],[6,42,20,42],[6,44,20,44],[6,46,20,46],[29,53,33,54]]}
[]
[null,"Ресурсы по координаторам"]
[]
[]
[]
[]
[null,null,null,null,null,null,null,null,null,null,null,null,null,null,null,null,null,null,null,null,null,null,null,null,null,null,null,null,null,null,null,null,"Доступность",null,"Язык",null,"Простота использования",null,"Гибкость",null,"Потребности в данных",null,"Анализ данных",null,"Приемлемость",null,"«Единое здоровье»",null,"Воздействие"]
[]
[]
[]
[]
[]
[]
[null,null,null,null,null,null,null,null,null,null,null,null,null,null,null,null,null,null,null,null,null,null,null,null,null,null,null,null,null,null,null,null,null,null,null,null,null,null,null,null,null,null,null,null,null,null,null,null,null,null,"ИСХОДНАЯ ОЦЕНКА",null,null,"СКОРРЕКТИРОВАННАЯ ОЦЕНКА \n(Исходя из предпочтений пользователей)"]
[]
[]
[]
[null,"РЕСУРСЫ УРОВНЯ 1",null,"КЛАССИФИКАЦИЯ",null,null,null,null,"НАЗВАНИЕ РЕСУРСА",null,null,null,null,null,null,"КРАТКОЕ ОПИСАНИЕ",null,null,null,null,null,null,null,null,"ВИД РЕСУРСА",null,null,null,"ОБЩАЯ НАПРАВЛЕННОСТЬ РЕСУРСА"]
[]
[]
[]
[null,null,null,null,null,null,null,null,null,null,null,null,null,null,null,null,null,null,null,null,null,null,null,null,null,null,null,null,null,null,null,null,{"$f":"'Attribute Survey'!S22","v":0},null,{"$f":"'Attribute Survey'!S26","v":0},null,{"$f":"'Attribute Survey'!S30","v":0},null,{"$f":"'Attribute Survey'!S34","v":0},null,{"$f":"'Attribute Survey'!S38","v":0},null,{"$f":"'Attribute Survey'!S42","v":0},null,{"$f":"'Attribute Survey'!S46","v":0},null,{"$f":"'Attribute Survey'!S50","v":0},null,{"$f":"'Attribute Survey'!S54","v":0}]
[null,null,null,"Наиболее подходящие ресурсы",null,null,null,null,{"$f":"Backbone!A437","v":"Анализ политического поля (PFA)"},null,null,null,null,null,null,"Специализированное картирование заинтересованных сторон, позволяющее визуализировать систему организаций и взаимодействие между ними по конкретному вопросу политики",null,null,null,null,null,null,null,null,{"$f":"INDEX(Backbone!$R2:$R893,MATCH(I23,Backbone!$A2:$A893,0))","v":"Руководящий документ"},null,null,null,{"$f":"INDEX(Backbone!$S2:$S893,MATCH(I23,Backbone!$A2:$A893,0))","v":"«Единое здоровье»; универсальный"},null,null,null,{"$f":"INDEX(Backbone!$H2:$H893,MATCH(I23,Backbone!$A2:$A893,0))","v":7.8},null,{"$f":"INDEX(Backbone!$I2:$I893,MATCH(I23,Backbone!$A2:$A893,0))","v":8},null,{"$f":"INDEX(Backbone!$J2:$J893,MATCH(I23,Backbone!$A2:$A893,0))","v":9.8000000000000007},null,{"$f":"INDEX(Backbone!$K2:$K893,MATCH(I23,Backbone!$A2:$A893,0))","v":10},null,{"$f":"INDEX(Backbone!$L2:$L893,MATCH(I23,Backbone!$A2:$A893,0))","v":7.1},null,{"$f":"INDEX(Backbone!$M2:$M893,MATCH(I23,Backbone!$A2:$A893,0))","v":4},null,{"$f":"INDEX(Backbone!$N2:$N893,MATCH(I23,Backbone!$A2:$A893,0))","v":7},null,{"$f":"INDEX(Backbone!$O2:$O893,MATCH(I23,Backbone!$A2:$A893,0))","v":8.8000000000000007},null,{"$f":"INDEX(Backbone!$P2:$P893,MATCH(I23,Backbone!$A2:$A893,0))","v":5},null,{"$f":"INDEX(Backbone!$Q2:$Q893,MATCH(I23,Backbone!$A2:$A893,0))","v":0.75},null,null,{"$f":"(AG23*AG22+AI23*AI22+AK23*AK22+AM23*AM22+AO23*AO22+AQ23*AQ22+AS23*AS22+AU23*AU22+AW23*AW22)/(SUM(AG22:AW22)*10)","v":{"$error":"#DIV/0!"}},null,null,"Перейти в Реестр ресурсов: ",null,{"$f":"HYPERLINK(\"#\"&ADDRESS(MATCH(I23,Toolbox!$C$1:$C$30010),1,,,\"Toolbox\"),VLOOKUP(I23,Toolbox!$C$1:$C$30010,1,FALSE))","v":"Анализ политического поля (PFA)"}]
[]
[]
[]
[]
[]
[]
[null,null,null,"Другие полезные ресурсы",null,null,null,null,{"$f":"Backbone!A2","v":"Рамочная программа Африканских ЦКПЗ по надзору на основе сигнальных событий"},null,null,null,null,null,null,"Руководство для работников системы общественного здравоохранения, стремящихся внедрить надзор на основе событий на всех административных уровнях.",null,null,null,null,null,null,null,null,{"$f":"INDEX(Backbone!$R2:$R893,MATCH(I30,Backbone!$A2:$A893,0))","v":"Руководящий документ"},null,null,null,{"$f":"INDEX(Backbone!$S2:$S893,MATCH(I30,Backbone!$A2:$A893,0))","v":"«Единое здоровье»; универсальный "},null,null,null,{"$f":"INDEX(Backbone!$H2:$H893,MATCH(I30,Backbone!$A2:$A893,0))","v":8},null,{"$f":"INDEX(Backbone!$I2:$I893,MATCH(I30,Backbone!$A2:$A893,0))","v":6},null,{"$f":"INDEX(Backbone!$J2:$J893,MATCH(I30,Backbone!$A2:$A893,0))","v":8.1999999999999993},null,{"$f":"INDEX(Backbone!$K2:$K893,MATCH(I30,Backbone!$A2:$A893,0))","v":8.3000000000000007},null,{"$f":"INDEX(Backbone!$L2:$L893,MATCH(I30,Backbone!$A2:$A893,0))","v":6.1},null,{"$f":"INDEX(Backbone!$M2:$M893,MATCH(I30,Backbone!$A2:$A893,0))","v":3.5},null,{"$f":"INDEX(Backbone!$N2:$N893,MATCH(I30,Backbone!$A2:$A893,0))","v":4},null,{"$f":"INDEX(Backbone!$O2:$O893,MATCH(I30,Backbone!$A2:$A893,0))","v":7},null,{"$f":"INDEX(Backbone!$P2:$P893,MATCH(I30,Backbone!$A2:$A893,0))","v":6},null,{"$f":"INDEX(Backbone!$Q2:$Q893,MATCH(I30,Backbone!$A2:$A893,0))","v":0.63222222222222224},null,null,{"$f":"(AG30*AG22+AI30*AI22+AK30*AK22+AM30*AM22+AO30*AO22+AQ30*AQ22+AS30*AS22+AU30*AU22+AW30*AW22)/(SUM(AG22:AW22)*10)","v":{"$error":"#DIV/0!"}},null,null,"Перейти в Реестр ресурсов: ",null,{"$f":"HYPERLINK(\"#\"&ADDRESS(MATCH(I30,Toolbox!$C$1:$C$300),1,,,\"Toolbox\"),VLOOKUP(I30,Toolbox!$C$1:$C$300,1,FALSE))","v":"Рамочная программа Африканских ЦКПЗ по надзору на основе сигнальных событий"}]
[]
[]
[]
[]
[]
[null,null,null,null,null,null,null,null,{"$f":"Backbone!A100","v":"Оценка сотрудничества в рамках межотраслевой системы эпиднадзора (ECoSur)"},null,null,null,null,null,null,"Инструмент, предназначенный для оценки организации и функционирования взаимодействия в системе межотраслевого эпиднадзора и для анализа сильных и слабых сторон такого взаимодействия. ",null,null,null,null,null,null,null,null,{"$f":"INDEX(Backbone!$R2:$R893,MATCH(I36,Backbone!$A2:$A893,0))","v":"Инструмент или процесс с методическим руководством/пояснениями"},null,null,null,{"$f":"INDEX(Backbone!$S2:$S893,MATCH(I36,Backbone!$A2:$A893,0))","v":"«Единое здоровье»; универсальный"},null,null,null,{"$f":"INDEX(Backbone!$H2:$H893,MATCH(I36,Backbone!$A2:$A893,0))","v":8.3000000000000007},null,{"$f":"INDEX(Backbone!$I2:$I893,MATCH(I36,Backbone!$A2:$A893,0))","v":6},null,{"$f":"INDEX(Backbone!$J2:$J893,MATCH(I36,Backbone!$A2:$A893,0))","v":8.5},null,{"$f":"INDEX(Backbone!$K2:$K893,MATCH(I36,Backbone!$A2:$A893,0))","v":7.8},null,{"$f":"INDEX(Backbone!$L2:$L893,MATCH(I36,Backbone!$A2:$A893,0))","v":8.3000000000000007},null,{"$f":"INDEX(Backbone!$M2:$M893,MATCH(I36,Backbone!$A2:$A893,0))","v":6.7},null,{"$f":"INDEX(Backbone!$N2:$N893,MATCH(I36,Backbone!$A2:$A893,0))","v":3.3},null,{"$f":"INDEX(Backbone!$O2:$O893,MATCH(I36,Backbone!$A2:$A893,0))","v":9.1},null,{"$f":"INDEX(Backbone!$P2:$P893,MATCH(I36,Backbone!$A2:$A893,0))","v":4.7},null,{"$f":"INDEX(Backbone!$Q2:$Q893,MATCH(I36,Backbone!$A2:$A893,0))","v":0.69666666666666677},null,null,{"$f":"(AG36*AG22+AI36*AI22+AK36*AK22+AM36*AM22+AO36*AO22+AQ36*AQ22+AS36*AS22+AU36*AU22+AW36*AW22)/(SUM(AG22:AW22)*10)","v":{"$error":"#DIV/0!"}},null,null,"Перейти в Реестр ресурсов: ",null,{"$f":"HYPERLINK(\"#\"&ADDRESS(MATCH(I36,Toolbox!$C$1:$C$300),1,,,\"Toolbox\"),VLOOKUP(I36,Toolbox!$C$1:$C$300,1,FALSE))","v":"Оценка сотрудничества в рамках межотраслевой системы эпиднадзора (ECoSur)"}]
[]
[]
[]
[]
[]
[null,null,null,null,null,null,null,null,{"$f":"Backbone!A195","v":"Комплексная система эпиднадзора и мер реагирования (IDSR)"},null,null,null,null,null,null,"Стратегия, разработанная с целью укрепить потенциал стран для выявления и подтверждения предполагаемых случаев заболевания и вспышек и реагирования на них, а также для использования информации для прогнозирования событий в области общественного здравоохранения и планирования мер реагирования на них. ",null,null,null,null,null,null,null,null,{"$f":"INDEX(Backbone!$R2:$R893,MATCH(I42,Backbone!$A2:$A893,0))","v":"Руководящий документ"},null,null,null,{"$f":"INDEX(Backbone!$S2:$S893,MATCH(I42,Backbone!$A2:$A893,0))","v":"Ориентированный на конкретный сектор; универсальный"},null,null,null,{"$f":"INDEX(Backbone!$H2:$H893,MATCH(I42,Backbone!$A2:$A893,0))","v":7.4},null,{"$f":"INDEX(Backbone!$I2:$I893,MATCH(I42,Backbone!$A2:$A893,0))","v":10},null,{"$f":"INDEX(Backbone!$J2:$J893,MATCH(I42,Backbone!$A2:$A893,0))","v":7.4},null,{"$f":"INDEX(Backbone!$K2:$K893,MATCH(I42,Backbone!$A2:$A893,0))","v":8.6999999999999993},null,{"$f":"INDEX(Backbone!$L2:$L893,MATCH(I42,Backbone!$A2:$A893,0))","v":6.7},null,{"$f":"INDEX(Backbone!$M2:$M893,MATCH(I42,Backbone!$A2:$A893,0))","v":4.5},null,{"$f":"INDEX(Backbone!$N2:$N893,MATCH(I42,Backbone!$A2:$A893,0))","v":8},null,{"$f":"INDEX(Backbone!$O2:$O893,MATCH(I42,Backbone!$A2:$A893,0))","v":7.2},null,{"$f":"INDEX(Backbone!$P2:$P893,MATCH(I42,Backbone!$A2:$A893,0))","v":8.5},null,{"$f":"INDEX(Backbone!$Q2:$Q893,MATCH(I42,Backbone!$A2:$A893,0))","v":0.76},null,null,{"$f":"(AG42*AG22+AI42*AI22+AK42*AK22+AM42*AM22+AO42*AO22+AQ42*AQ22+AS42*AS22+AU42*AU22+AW42*AW22)/(SUM(AG22:AW22)*10)","v":{"$error":"#DIV/0!"}},null,null,"Перейти в Реестр ресурсов: ",null,{"$f":"HYPERLINK(\"#\"&ADDRESS(MATCH(I42,Toolbox!$C$1:$C$300),1,,,\"Toolbox\"),VLOOKUP(I42,Toolbox!$C$1:$C$300,1,FALSE))","v":"Комплексная система эпиднадзора и мер реагирования (IDSR)"}]
[]
[]
[]
[]
[]
[null,null,null,null,null,null,null,null,{"$f":"Backbone!A367","v":"Инструмент оценки систем здравоохранения на предмет предотвращения приоритетных зоонозов и борьбы с ними в соответствии с подходом «Единое здоровье» (OH-SAPZ)"},null,null,null,null,null,null,"Настоящий инструмент призван упростить планомерные оценки национальных структур для координации в рамках подхода «Единое здоровье» с точки зрения профилактики и выявления зоонозов и мер борьбы с ними.  ",null,null,null,null,null,null,null,null,{"$f":"INDEX(Backbone!$R2:$R893,MATCH(I48,Backbone!$A2:$A893,0))","v":"Инструмент самооценки"},null,null,null,{"$f":"INDEX(Backbone!$S2:$S893,MATCH(I48,Backbone!$A2:$A893,0))","v":"«Единое здоровье»; универсальный"},null,null,null,{"$f":"INDEX(Backbone!$H2:$H893,MATCH(I48,Backbone!$A2:$A893,0))","v":7.9},null,{"$f":"INDEX(Backbone!$I2:$I893,MATCH(I48,Backbone!$A2:$A893,0))","v":7.3},null,{"$f":"INDEX(Backbone!$J2:$J893,MATCH(I48,Backbone!$A2:$A893,0))","v":7.2},null,{"$f":"INDEX(Backbone!$K2:$K893,MATCH(I48,Backbone!$A2:$A893,0))","v":7.8},null,{"$f":"INDEX(Backbone!$L2:$L893,MATCH(I48,Backbone!$A2:$A893,0))","v":6.5},null,{"$f":"INDEX(Backbone!$M2:$M893,MATCH(I48,Backbone!$A2:$A893,0))","v":5.2},null,{"$f":"INDEX(Backbone!$N2:$N893,MATCH(I48,Backbone!$A2:$A893,0))","v":4},null,{"$f":"INDEX(Backbone!$O2:$O893,MATCH(I48,Backbone!$A2:$A893,0))","v":8.3000000000000007},null,{"$f":"INDEX(Backbone!$P2:$P893,MATCH(I48,Backbone!$A2:$A893,0))","v":9.6999999999999993},null,{"$f":"INDEX(Backbone!$Q2:$Q893,MATCH(I48,Backbone!$A2:$A893,0))","v":0.71000000000000008},null,null,{"$f":"(AG48*AG22+AI48*AI22+AK48*AK22+AM48*AM22+AO48*AO22+AQ48*AQ22+AS48*AS22+AU48*AU22+AW48*AW22)/(SUM(AG22:AW22)*10)","v":{"$error":"#DIV/0!"}},null,null,"Перейти в Реестр ресурсов: ",null,{"$f":"HYPERLINK(\"#\"&ADDRESS(MATCH(I48,Toolbox!C1:C300),1,,,\"Toolbox\"),VLOOKUP(I48,Toolbox!C1:C300,1,FALSE))","v":"Инструмент оценки систем здравоохранения на предмет предотвращения приоритетных зоонозов и борьбы с ними в соответствии с подходом «Единое здоровье» (OH-SAPZ)"}]
[]
[]
[]
[]
[]
[]
[]
[]
[]
[]
[]
[]
[]
[]
[]
[]
[]
[]
[]
[]
[]
[]
[]
[]
[]
[null,null,null,null,null,null,null,null,null,null,null,null,null,null,null,null,null,null,null,null,null,null,null,null,null,null,null,null,null,null,null,null,"Доступность",null,"Язык",null,"Простота использования",null,"Гибкость",null,"Потребности в данных",null,"Анализ данных",null,"Приемлемость",null,"«Единое здоровье»",null,"Воздействие"]
[]
[]
[]
[]
[]
[null,"РЕСУРСЫ УРОВНЯ 3"]
[null,null,null,null,null,null,null,null,null,null,null,null,null,null,null,null,null,null,null,null,null,null,null,null,null,null,null,null,null,null,null,null,null,null,null,null,null,null,null,null,null,null,null,null,null,null,null,null,null,null,"ИСХОДНАЯ ОЦЕНКА",null,null,"СКОРРЕКТИРОВАННАЯ ОЦЕНКА \n(Исходя из предпочтений пользователей)"]
[]
[]
[]
[null,null,null,"КЛАССИФИКАЦИЯ",null,null,null,null,"НАЗВАНИЕ РЕСУРСА",null,null,null,null,null,null,"КРАТКОЕ ОПИСАНИЕ",null,null,null,null,null,null,null,null,"ВИД РЕСУРСА",null,null,null,"ОБЩАЯ НАПРАВЛЕННОСТЬ РЕСУРСА"]
[]
[]
[]
[]
[null,null,null,"Другие полезные ресурсы",null,null,null,null,{"$f":"Backbone!A303","v":"Национальный план действий по обеспечению безопасности в области здравоохранения (NAPHS)"},null,null,null,null,null,null,"Организуемый самими странами процесс планирования, способный ускорить внедрение основных возможностей Международных медико-санитарных правил (ММСП) и основывающийся на концепции «Единое здоровье» и общегосударственном подходе ко всем видам опасностей.",null,null,null,null,null,null,null,null,{"$f":"INDEX(Backbone!$R2:$R893,MATCH(I90,Backbone!$A2:$A893,0))","v":"Руководящий документ"},null,null,null,{"$f":"INDEX(Backbone!$S2:$S893,MATCH(I90,Backbone!$A2:$A893,0))","v":"«Единое здоровье»; универсальный"},null,null,null,{"$f":"INDEX(Backbone!$H2:$H893,MATCH(I90,Backbone!$A2:$A893,0))","v":8},null,{"$f":"INDEX(Backbone!$I2:$I893,MATCH(I90,Backbone!$A2:$A893,0))","v":9},null,{"$f":"INDEX(Backbone!$J2:$J893,MATCH(I90,Backbone!$A2:$A893,0))","v":7.8},null,{"$f":"INDEX(Backbone!$K2:$K893,MATCH(I90,Backbone!$A2:$A893,0))","v":10},null,{"$f":"INDEX(Backbone!$L2:$L893,MATCH(I90,Backbone!$A2:$A893,0))","v":8},null,{"$f":"INDEX(Backbone!$M2:$M893,MATCH(I90,Backbone!$A2:$A893,0))","v":4.5},null,{"$f":"INDEX(Backbone!$N2:$N893,MATCH(I90,Backbone!$A2:$A893,0))","v":10},null,{"$f":"INDEX(Backbone!$O2:$O893,MATCH(I90,Backbone!$A2:$A893,0))","v":10},null,{"$f":"INDEX(Backbone!$P2:$P893,MATCH(I90,Backbone!$A2:$A893,0))","v":10},null,{"$f":"INDEX(Backbone!$Q2:$Q893,MATCH(I90,Backbone!$A2:$A893,0))","v":0.85888888888888881},null,null,{"$f":"(AG90*AG22+AI90*AI22+AK90*AK22+AM90*AM22+AO90*AO22+AQ90*AQ22+AS90*AS22+AU90*AU22+AW90*AW22)/(SUM(AG22:AW22)*10)","v":{"$error":"#DIV/0!"}},null,null,"Перейти в Реестр ресурсов: ",null,{"$f":"HYPERLINK(\"#\"&ADDRESS(MATCH(I90,Toolbox!$C$1:$C$300),1,,,\"Toolbox\"),VLOOKUP(I90,Toolbox!$C$1:$C$300,1,FALSE))","v":"Национальный план действий по обеспечению безопасности в области здравоохранения (NAPHS)"}]
[]
[]
[]
[]
[]
[null,null,null,null,null,null,null,null,{"$f":"Backbone!A400","v":"Инструмент для оценки требований и готовности к эпиднадзору на основе концепции «Единое здоровье» (OHSRRT)"},null,null,null,null,null,null,"Инструмент оценки требований и готовности к эпиднадзору, позволяющий определить уровень готовности страны и собрать требования для развития системы эпиднадзора на основе концепции «Единое здоровье» исходя из важнейших факторов успеха.",null,null,null,null,null,null,null,null,{"$f":"INDEX(Backbone!$R2:$R893,MATCH(I96,Backbone!$A2:$A893,0))","v":"Инструмент самооценки"},null,null,null,{"$f":"INDEX(Backbone!$S2:$S893,MATCH(I96,Backbone!$A2:$A893,0))","v":"«Единое здоровье»; универсальный"},null,null,null,{"$f":"INDEX(Backbone!$H2:$H893,MATCH(I96,Backbone!$A2:$A893,0))","v":8},null,{"$f":"INDEX(Backbone!$I2:$I893,MATCH(I96,Backbone!$A2:$A893,0))","v":6},null,{"$f":"INDEX(Backbone!$J2:$J893,MATCH(I96,Backbone!$A2:$A893,0))","v":7.4},null,{"$f":"INDEX(Backbone!$K2:$K893,MATCH(I96,Backbone!$A2:$A893,0))","v":8.6999999999999993},null,{"$f":"INDEX(Backbone!$L2:$L893,MATCH(I96,Backbone!$A2:$A893,0))","v":6},null,{"$f":"INDEX(Backbone!$M2:$M893,MATCH(I96,Backbone!$A2:$A893,0))","v":2.5},null,{"$f":"INDEX(Backbone!$N2:$N893,MATCH(I96,Backbone!$A2:$A893,0))","v":2},null,{"$f":"INDEX(Backbone!$O2:$O893,MATCH(I96,Backbone!$A2:$A893,0))","v":9.6},null,{"$f":"INDEX(Backbone!$P2:$P893,MATCH(I96,Backbone!$A2:$A893,0))","v":5.5},null,{"$f":"INDEX(Backbone!$Q2:$Q893,MATCH(I96,Backbone!$A2:$A893,0))","v":0.61888888888888882},null,null,{"$f":"(AG96*AG22+AI96*AI22+AK96*AK22+AM96*AM22+AO96*AO22+AQ96*AQ22+AS96*AS22+AU96*AU22+AW96*AW22)/(SUM(AG22:AW22)*10)","v":{"$error":"#DIV/0!"}},null,null,"Перейти в Реестр ресурсов: ",null,{"$f":"HYPERLINK(\"#\"&ADDRESS(MATCH(I96,Toolbox!$C$1:$C$300),1,,,\"Toolbox\"),VLOOKUP(I96,Toolbox!$C$1:$C$300,1,FALSE))","v":"Инструмент для оценки требований и готовности к эпиднадзору на основе концепции «Единое здоровье» (OHSRRT)"}]

{"sheet":"PP2_tools","index":28,"n_rows":42,"n_cols":59,"rows_kept":42,"cut":false,"hidden":false,"merged":[[17,3,20,6],[17,8,20,13],[17,15,20,22],[34,15,38,22],[41,15,45,22],[28,15,32,22],[22,8,26,13],[22,15,26,22],[34,8,38,13],[41,8,45,13],[28,8,32,13],[22,3,38,6],[17,1,45,1],[6,32,20,32],[6,34,20,34],[6,36,20,36],[6,38,20,38],[34,32,38,32],[41,32,45,32],[34,34,38,34],[41,34,45,34],[41,24,45,26],[41,28,45,30],[41,3,45,6],[17,24,20,26],[17,28,20,30],[28,38,32,38],[28,34,32,34],[6,40,20,40],[13,50,20,51],[13,53,20,54],[6,44,20,44],[6,46,20,46],[6,48,20,48],[28,28,32,30],[22,44,26,44],[22,32,26,32],[22,34,26,34],[22,36,26,36],[22,38,26,38],[22,40,26,40],[41,40,45,40],[41,36,45,36],[41,44,45,44],[28,36,32,36],[34,38,38,38],[41,38,45,38],[41,53,45,54],[28,53,32,54],[34,46,38,46],[41,46,45,46],[28,46,32,46],[34,48,38,48],[41,48,45,48],[28,48,32,48],[41,50,45,51],[22,50,26,51],[34,24,38,26],[34,28,38,30],[28,50,32,51],[34,53,38,54],[28,40,32,40],[34,44,38,44],[28,44,32,44],[28,42,32,42],[22,53,26,54],[22,46,26,46],[22,48,26,48],[34,40,38,40],[34,36,38,36],[28,24,32,26],[28,32,32,32],[41,56,45,57],[1,1,3,62],[22,58,26,62],[28,58,32,62],[34,58,38,62],[41,58,45,62],[22,56,26,57],[28,56,32,57],[34,56,38,57],[6,42,20,42],[22,42,26,42],[34,42,38,42],[41,42,45,42],[22,24,26,26],[22,28,26,30],[34,50,38,51]]}
[]
[null,"Ресурсы по приоритизации"]
[]
[]
[]
[]
[null,null,null,null,null,null,null,null,null,null,null,null,null,null,null,null,null,null,null,null,null,null,null,null,null,null,null,null,null,null,null,null,"Доступность",null,"Язык",null,"Простота использования",null,"Гибкость",null,"Потребности в данных",null,"Анализ данных",null,"Приемлемость",null,"«Единое здоровье»",null,"Воздействие"]
[]
[]
[]
[]
[]
[]
[null,null,null,null,null,null,null,null,null,null,null,null,null,null,null,null,null,null,null,null,null,null,null,null,null,null,null,null,null,null,null,null,null,null,null,null,null,null,null,null,null,null,null,null,null,null,null,null,null,null,"ИСХОДНАЯ ОЦЕНКА",null,null,"СКОРРЕКТИРОВАННАЯ ОЦЕНКА \n(Исходя из предпочтений пользователей)"]
[]
[]
[]
[null,"РЕСУРСЫ УРОВНЯ 1",null,"КЛАССИФИКАЦИЯ",null,null,null,null,"НАЗВАНИЕ РЕСУРСА",null,null,null,null,null,null,"КРАТКОЕ ОПИСАНИЕ",null,null,null,null,null,null,null,null,"ВИД РЕСУРСА",null,null,null,"ОБЩАЯ НАПРАВЛЕННОСТЬ РЕСУРСА"]
[]
[]
[]
[null,null,null,null,null,null,null,null,null,null,null,null,null,null,null,null,null,null,null,null,null,null,null,null,null,null,null,null,null,null,null,null,{"$f":"'Attribute Survey'!S22","v":0},null,{"$f":"'Attribute Survey'!S26","v":0},null,{"$f":"'Attribute Survey'!S30","v":0},null,{"$f":"'Attribute Survey'!S34","v":0},null,{"$f":"'Attribute Survey'!S38","v":0},null,{"$f":"'Attribute Survey'!S42","v":0},null,{"$f":"'Attribute Survey'!S46","v":0},null,{"$f":"'Attribute Survey'!S50","v":0},null,{"$f":"'Attribute Survey'!S54","v":0}]
[null,null,null,"Наиболее подходящие ресурсы",null,null,null,null,{"$f":"Backbone!A97","v":"Инструмент Европейского ЦКПЗ для приоритизации угроз инфекционных заболеваний"},null,null,null,null,null,null,"Инструмент на базе Excel для приоритизации угроз инфекционных заболеваний",null,null,null,null,null,null,null,null,{"$f":"INDEX(Backbone!$R2:$R893,MATCH(I23,Backbone!$A2:$A893,0))","v":"Инструмент самооценки"},null,null,null,{"$f":"INDEX(Backbone!$S2:$S893,MATCH(I23,Backbone!$A2:$A893,0))","v":"Ориентированный на конкретный сектор; универсальный"},null,null,null,{"$f":"INDEX(Backbone!$H2:$H893,MATCH(I23,Backbone!$A2:$A893,0))","v":9.8000000000000007},null,{"$f":"INDEX(Backbone!$I2:$I893,MATCH(I23,Backbone!$A2:$A893,0))","v":10},null,{"$f":"INDEX(Backbone!$J2:$J893,MATCH(I23,Backbone!$A2:$A893,0))","v":8},null,{"$f":"INDEX(Backbone!$K2:$K893,MATCH(I23,Backbone!$A2:$A893,0))","v":8.6999999999999993},null,{"$f":"INDEX(Backbone!$L2:$L893,MATCH(I23,Backbone!$A2:$A893,0))","v":7.1},null,{"$f":"INDEX(Backbone!$M2:$M893,MATCH(I23,Backbone!$A2:$A893,0))","v":4.5},null,{"$f":"INDEX(Backbone!$N2:$N893,MATCH(I23,Backbone!$A2:$A893,0))","v":8},null,{"$f":"INDEX(Backbone!$O2:$O893,MATCH(I23,Backbone!$A2:$A893,0))","v":8.5},null,{"$f":"INDEX(Backbone!$P2:$P893,MATCH(I23,Backbone!$A2:$A893,0))","v":9},null,{"$f":"INDEX(Backbone!$Q2:$Q893,MATCH(I23,Backbone!$A2:$A893,0))","v":0.81777777777777771},null,null,{"$f":"(AG23*AG22+AI23*AI22+AK23*AK22+AM23*AM22+AO23*AO22+AQ23*AQ22+AS23*AS22+AU23*AU22+AW23*AW22)/(SUM(AG22:AW22)*10)","v":{"$error":"#DIV/0!"}},null,null,"Перейти в Реестр ресурсов: ",null,{"$f":"HYPERLINK(\"#\"&ADDRESS(MATCH(I23,Toolbox!$C$1:$C$300),1,,,\"Toolbox\"),VLOOKUP(I23,Toolbox!$C$1:$C$300,1,FALSE))","v":"Инструмент Европейского ЦКПЗ для приоритизации угроз инфекционных заболеваний"}]
[]
[]
[]
[]
[]
[null,null,null,null,null,null,null,null,{"$f":"Backbone!A367","v":"Инструмент оценки систем здравоохранения на предмет предотвращения приоритетных зоонозов и борьбы с ними в соответствии с подходом «Единое здоровье» (OH-SAPZ)"},null,null,null,null,null,null,"Настоящий инструмент призван упростить планомерные оценки национальных структур для координации в рамках подхода «Единое здоровье» с точки зрения профилактики и выявления зоонозов и мер борьбы с ними.  ",null,null,null,null,null,null,null,null,{"$f":"INDEX(Backbone!$R2:$R893,MATCH(I29,Backbone!$A2:$A893,0))","v":"Инструмент самооценки"},null,null,null,{"$f":"INDEX(Backbone!$S2:$S893,MATCH(I29,Backbone!$A2:$A893,0))","v":"«Единое здоровье»; универсальный"},null,null,null,{"$f":"INDEX(Backbone!$H2:$H893,MATCH(I29,Backbone!$A2:$A893,0))","v":7.9},null,{"$f":"INDEX(Backbone!$I2:$I893,MATCH(I29,Backbone!$A2:$A893,0))","v":7.3},null,{"$f":"INDEX(Backbone!$J2:$J893,MATCH(I29,Backbone!$A2:$A893,0))","v":7.2},null,{"$f":"INDEX(Backbone!$K2:$K893,MATCH(I29,Backbone!$A2:$A893,0))","v":7.8},null,{"$f":"INDEX(Backbone!$L2:$L893,MATCH(I29,Backbone!$A2:$A893,0))","v":6.5},null,{"$f":"INDEX(Backbone!$M2:$M893,MATCH(I29,Backbone!$A2:$A893,0))","v":5.2},null,{"$f":"INDEX(Backbone!$N2:$N893,MATCH(I29,Backbone!$A2:$A893,0))","v":4},null,{"$f":"INDEX(Backbone!$O2:$O893,MATCH(I29,Backbone!$A2:$A893,0))","v":8.3000000000000007},null,{"$f":"INDEX(Backbone!$P2:$P893,MATCH(I29,Backbone!$A2:$A893,0))","v":9.6999999999999993},null,{"$f":"INDEX(Backbone!$Q2:$Q893,MATCH(I29,Backbone!$A2:$A893,0))","v":0.71000000000000008},null,null,{"$f":"(AG29*AG22+AI29*AI22+AK29*AK22+AM29*AM22+AO29*AO22+AQ29*AQ22+AS29*AS22+AU29*AU22+AW29*AW22)/(SUM(AG22:AW22)*10)","v":{"$error":"#DIV/0!"}},null,null,"Перейти в Реестр ресурсов: ",null,{"$f":"HYPERLINK(\"#\"&ADDRESS(MATCH(I29,Toolbox!$C$1:$C$300),1,,,\"Toolbox\"),VLOOKUP(I29,Toolbox!$C$1:$C$300,1,FALSE))","v":"Инструмент оценки систем здравоохранения на предмет предотвращения приоритетных зоонозов и борьбы с ними в соответствии с подходом «Единое здоровье» (OH-SAPZ)"}]
[]
[]
[]
[]
[]
[null,null,null,null,null,null,null,null,{"$f":"Backbone!A415","v":"Процесс приоритизации зоонозов на основе концепции «Единое здоровье» (OHZDP)"},null,null,null,null,null,null,"Инструмент на базе Excel, представляющий собой пошаговое руководство для принятия решений и осуществления межотраслевого процесса приоритизации на основе концепции «Единое здоровье» в форме семинара. ",null,null,null,null,null,null,null,null,{"$f":"INDEX(Backbone!$R2:$R893,MATCH(I35,Backbone!$A2:$A893,0))","v":"Инструмент или процесс с методическим руководством/пояснениями"},null,null,null,{"$f":"INDEX(Backbone!$S2:$S893,MATCH(I35,Backbone!$A2:$A893,0))","v":"«Единое здоровье»; универсальный"},null,null,null,{"$f":"INDEX(Backbone!$H2:$H893,MATCH(I35,Backbone!$A2:$A893,0))","v":8},null,{"$f":"INDEX(Backbone!$I2:$I893,MATCH(I35,Backbone!$A2:$A893,0))","v":9.3000000000000007},null,{"$f":"INDEX(Backbone!$J2:$J893,MATCH(I35,Backbone!$A2:$A893,0))","v":9.1},null,{"$f":"INDEX(Backbone!$K2:$K893,MATCH(I35,Backbone!$A2:$A893,0))","v":6.7},null,{"$f":"INDEX(Backbone!$L2:$L893,MATCH(I35,Backbone!$A2:$A893,0))","v":7},null,{"$f":"INDEX(Backbone!$M2:$M893,MATCH(I35,Backbone!$A2:$A893,0))","v":7.3},null,{"$f":"INDEX(Backbone!$N2:$N893,MATCH(I35,Backbone!$A2:$A893,0))","v":8.3000000000000007},null,{"$f":"INDEX(Backbone!$O2:$O893,MATCH(I35,Backbone!$A2:$A893,0))","v":9.1},null,{"$f":"INDEX(Backbone!$P2:$P893,MATCH(I35,Backbone!$A2:$A893,0))","v":9.3000000000000007},null,{"$f":"INDEX(Backbone!$Q2:$Q893,MATCH(I35,Backbone!$A2:$A893,0))","v":0.82333333333333325},null,null,{"$f":"(AG35*AG22+AI35*AI22+AK35*AK22+AM35*AM22+AO35*AO22+AQ35*AQ22+AS35*AS22+AU35*AU22+AW35*AW22)/(SUM(AG22:AW22)*10)","v":{"$error":"#DIV/0!"}},null,null,"Перейти в Реестр ресурсов: ",null,{"$f":"HYPERLINK(\"#\"&ADDRESS(MATCH(I35,Toolbox!$C$1:$C$300),1,,,\"Toolbox\"),VLOOKUP(I35,Toolbox!$C$1:$C$300,1,FALSE))","v":"Процесс приоритизации зоонозов на основе концепции «Единое здоровье» (OHZDP)"}]
[]
[]
[]
[]
[]
[]
[null,null,null,"Другие полезные ресурсы",null,null,null,null,{"$f":"Backbone!A288","v":"Составление перечня и классификация приоритетных болезней животных, в том числе передаваемых человеку (Phylum)"},null,null,null,null,null,null,"Данный инструмент классификации и приоритизации на базе Excel разработан для выполнения аналитических этапов протокола. ",null,null,null,null,null,null,null,null,{"$f":"INDEX(Backbone!$R2:$R893,MATCH(I42,Backbone!$A2:$A893,0))","v":"Инструмент самооценки"},null,null,null,{"$f":"INDEX(Backbone!$S2:$S893,MATCH(I42,Backbone!$A2:$A893,0))","v":"Ориентированный на конкретный сектор; универсальный"},null,null,null,{"$f":"INDEX(Backbone!$H2:$H893,MATCH(I42,Backbone!$A2:$A893,0))","v":6.9},null,{"$f":"INDEX(Backbone!$I2:$I893,MATCH(I42,Backbone!$A2:$A893,0))","v":8},null,{"$f":"INDEX(Backbone!$J2:$J893,MATCH(I42,Backbone!$A2:$A893,0))","v":6.2},null,{"$f":"INDEX(Backbone!$K2:$K893,MATCH(I42,Backbone!$A2:$A893,0))","v":8.3000000000000007},null,{"$f":"INDEX(Backbone!$L2:$L893,MATCH(I42,Backbone!$A2:$A893,0))","v":7.5},null,{"$f":"INDEX(Backbone!$M2:$M893,MATCH(I42,Backbone!$A2:$A893,0))","v":7.3},null,{"$f":"INDEX(Backbone!$N2:$N893,MATCH(I42,Backbone!$A2:$A893,0))","v":5.5},null,{"$f":"INDEX(Backbone!$O2:$O893,MATCH(I42,Backbone!$A2:$A893,0))","v":8.6999999999999993},null,{"$f":"INDEX(Backbone!$P2:$P893,MATCH(I42,Backbone!$A2:$A893,0))","v":4},null,{"$f":"INDEX(Backbone!$Q2:$Q893,MATCH(I42,Backbone!$A2:$A893,0))","v":0.69333333333333336},null,null,{"$f":"(AG42*AG22+AI42*AI22+AK42*AK22+AM42*AM22+AO42*AO22+AQ42*AQ22+AS42*AS22+AU42*AU22+AW42*AW22)/(SUM(AG22:AW22)*10)","v":{"$error":"#DIV/0!"}},null,null,"Перейти в Реестр ресурсов: ",null,{"$f":"HYPERLINK(\"#\"&ADDRESS(MATCH(I42,Toolbox!$C$1:$C$300),1,,,\"Toolbox\"),VLOOKUP(I42,Toolbox!$C$1:$C$300,1,FALSE))","v":"Составление перечня и классификация приоритетных болезней животных, в том числе передаваемых человеку (Phylum)"}]

{"sheet":"PP3_tools","index":29,"n_rows":138,"n_cols":59,"rows_kept":138,"cut":false,"hidden":false,"merged":[[131,3,141,6],[123,1,145,1],[131,53,135,54],[137,8,141,13],[137,15,141,22],[137,24,141,26],[137,28,141,30],[137,32,141,32],[137,34,141,34],[137,36,141,36],[137,38,141,38],[137,40,141,40],[137,42,141,42],[137,44,141,44],[137,46,141,46],[137,48,141,48],[137,50,141,51],[137,53,141,54],[115,48,129,48],[122,50,129,51],[122,53,129,54],[126,3,129,6],[126,8,129,13],[126,15,129,22],[126,24,129,26],[126,28,129,30],[131,8,135,13],[131,15,135,22],[131,24,135,26],[131,28,135,30],[131,32,135,32],[131,34,135,34],[131,36,135,36],[131,38,135,38],[131,40,135,40],[131,42,135,42],[131,44,135,44],[131,46,135,46],[131,48,135,48],[131,50,135,51],[68,1,93,1],[115,32,129,32],[115,34,129,34],[115,36,129,36],[115,38,129,38],[115,40,129,40],[115,42,129,42],[115,44,129,44],[115,46,129,46],[61,46,75,46],[61,48,75,48],[68,50,75,51],[84,3,88,6],[77,3,81,6],[77,40,81,40],[77,42,81,42],[77,44,81,44],[13,50,20,51],[13,53,20,54],[17,1,39,1],[17,3,20,6],[17,8,20,13],[17,15,20,22],[17,24,20,26],[17,28,20,30],[22,8,26,13],[22,50,26,51],[22,53,26,54],[28,8,32,13],[28,15,32,22],[28,24,32,26],[6,32,20,32],[6,34,20,34],[6,36,20,36],[6,38,20,38],[6,40,20,40],[6,42,20,42],[6,44,20,44],[6,46,20,46],[6,48,20,48],[35,8,39,13],[35,15,39,22],[35,24,39,26],[35,28,39,30],[35,32,39,32],[35,34,39,34],[35,36,39,36],[35,38,39,38],[28,38,32,38],[28,28,32,30],[28,32,32,32],[28,34,32,34],[28,36,32,36],[22,48,26,48],[22,15,26,22],[22,24,26,26],[22,28,26,30],[22,32,26,32],[22,34,26,34],[22,36,26,36],[22,38,26,38],[22,40,26,40],[22,42,26,42],[22,44,26,44],[22,46,26,46],[35,53,39,54],[35,40,39,40],[35,42,39,42],[35,44,39,44],[35,46,39,46],[35,48,39,48],[35,50,39,51],[28,50,32,51],[28,53,32,54],[28,40,32,40],[28,42,32,42],[28,44,32,44],[28,46,32,46],[28,48,32,48],[72,24,75,26],[72,28,75,30],[61,32,75,32],[61,34,75,34],[61,36,75,36],[61,38,75,38],[61,40,75,40],[61,42,75,42],[61,44,75,44],[77,32,81,32],[84,48,88,48],[84,50,88,51],[84,53,88,54],[22,3,32,6],[35,3,39,6],[84,36,88,36],[84,38,88,38],[84,40,88,40],[84,42,88,42],[84,44,88,44],[84,46,88,46],[77,46,81,46],[77,48,81,48],[77,50,81,51],[77,53,81,54],[84,8,88,13],[84,15,88,22],[84,24,88,26],[84,28,88,30],[68,53,75,54],[72,3,75,6],[72,8,75,13],[72,15,75,22],[84,56,88,57],[84,58,88,62],[131,56,135,57],[131,58,135,62],[137,56,141,57],[137,58,141,62],[1,1,3,62],[22,56,26,57],[22,58,26,62],[28,56,32,57],[28,58,32,62],[35,56,39,57],[35,58,39,62],[77,56,81,57],[77,58,81,62],[84,32,88,32],[84,34,88,34],[77,34,81,34],[77,36,81,36],[77,38,81,38],[77,8,81,13],[77,15,81,22],[77,24,81,26],[77,28,81,30]]}
[]
[null,"Ресурсы по постановке целей"]
[]
[]
[]
[]
[null,null,null,null,null,null,null,null,null,null,null,null,null,null,null,null,null,null,null,null,null,null,null,null,null,null,null,null,null,null,null,null,"Доступность",null,"Язык",null,"Простота использования",null,"Гибкость",null,"Потребности в данных",null,"Анализ данных",null,"Приемлемость",null,"«Единое здоровье»",null,"Воздействие"]
[]
[]
[]
[]
[]
[]
[null,null,null,null,null,null,null,null,null,null,null,null,null,null,null,null,null,null,null,null,null,null,null,null,null,null,null,null,null,null,null,null,null,null,null,null,null,null,null,null,null,null,null,null,null,null,null,null,null,null,"ИСХОДНАЯ ОЦЕНКА",null,null,"СКОРРЕКТИРОВАННАЯ ОЦЕНКА \n(Исходя из предпочтений пользователей)"]
[]
[]
[]
[null,"РЕСУРСЫ УРОВНЯ 1",null,"КЛАССИФИКАЦИЯ",null,null,null,null,"НАЗВАНИЕ РЕСУРСА",null,null,null,null,null,null,"КРАТКОЕ ОПИСАНИЕ",null,null,null,null,null,null,null,null,"ВИД РЕСУРСА",null,null,null,"ОБЩАЯ НАПРАВЛЕННОСТЬ РЕСУРСА"]
[]
[]
[]
[null,null,null,null,null,null,null,null,null,null,null,null,null,null,null,null,null,null,null,null,null,null,null,null,null,null,null,null,null,null,null,null,{"$f":"'Attribute Survey'!S22","v":0},null,{"$f":"'Attribute Survey'!S26","v":0},null,{"$f":"'Attribute Survey'!S30","v":0},null,{"$f":"'Attribute Survey'!S34","v":0},null,{"$f":"'Attribute Survey'!S38","v":0},null,{"$f":"'Attribute Survey'!S42","v":0},null,{"$f":"'Attribute Survey'!S46","v":0},null,{"$f":"'Attribute Survey'!S50","v":0},null,{"$f":"'Attribute Survey'!S54","v":0}]
[null,null,null,"Наиболее подходящие ресурсы",null,null,null,null,"Комплексная система эпиднадзора и мер реагирования (IDSR)",null,null,null,null,null,null,"Стратегия, разработанная с целью укрепить потенциал стран для выявления и подтверждения предполагаемых случаев заболевания и вспышек и реагирования на них, а также для использования информации для прогнозирования событий в области общественного здравоохранения и планирования мер реагирования на них. ",null,null,null,null,null,null,null,null,{"$f":"INDEX(Backbone!R2:R893,MATCH(I23,Backbone!A2:A893,0))","v":"Руководящий документ"},null,null,null,{"$f":"INDEX(Backbone!S2:S893,MATCH(I23,Backbone!A2:A893,0))","v":"Ориентированный на конкретный сектор; универсальный"},null,null,null,{"$f":"INDEX(Backbone!H2:H893,MATCH(I23,Backbone!A2:A893,0))","v":7.4},null,{"$f":"INDEX(Backbone!I2:I893,MATCH(I23,Backbone!A2:A893,0))","v":10},null,{"$f":"INDEX(Backbone!J2:J893,MATCH(I23,Backbone!A2:A893,0))","v":7.4},null,{"$f":"INDEX(Backbone!K2:K893,MATCH(I23,Backbone!A2:A893,0))","v":8.6999999999999993},null,{"$f":"INDEX(Backbone!L2:L893,MATCH(I23,Backbone!A2:A893,0))","v":6.7},null,{"$f":"INDEX(Backbone!M2:M893,MATCH(I23,Backbone!A2:A893,0))","v":4.5},null,{"$f":"INDEX(Backbone!N2:N893,MATCH(I23,Backbone!A2:A893,0))","v":8},null,{"$f":"INDEX(Backbone!O2:O893,MATCH(I23,Backbone!A2:A893,0))","v":7.2},null,{"$f":"INDEX(Backbone!P2:P893,MATCH(I23,Backbone!A2:A893,0))","v":8.5},null,{"$f":"INDEX(Backbone!Q2:Q893,MATCH(I23,Backbone!A2:A893,0))","v":0.76},null,null,{"$f":"(AG23*AG22+AI23*AI22+AK23*AK22+AM23*AM22+AO23*AO22+AQ23*AQ22+AS23*AS22+AU23*AU22+AW23*AW22)/(SUM(AG22:AW22)*10)","v":{"$error":"#DIV/0!"}},null,null,"Перейти в Реестр ресурсов: ",null,{"$f":"HYPERLINK(\"#\"&ADDRESS(MATCH(I23,Toolbox!$C$1:$C$300),1,,,\"Toolbox\"),VLOOKUP(I23,Toolbox!$C$1:$C$300,1,FALSE))","v":"Комплексная система эпиднадзора и мер реагирования (IDSR)"}]
[]
[]
[]
[]
[]
[null,null,null,null,null,null,null,null,"Инструмент для оценки требований и готовности к эпиднадзору на основе концепции «Единое здоровье» (OHSRRT)",null,null,null,null,null,null,"Инструмент оценки требований и готовности к эпиднадзору, позволяющий определить уровень готовности страны и собрать требования для развития системы эпиднадзора на основе концепции «Единое здоровье» исходя из важнейших факторов успеха",null,null,null,null,null,null,null,null,{"$f":"INDEX(Backbone!R2:R893,MATCH(I29,Backbone!A2:A893,0))","v":"Инструмент самооценки"},null,null,null,{"$f":"INDEX(Backbone!S2:S893,MATCH(I29,Backbone!A2:A893,0))","v":"«Единое здоровье»; универсальный"},null,null,null,{"$f":"INDEX(Backbone!H2:H893,MATCH(I29,Backbone!A2:A893,0))","v":8},null,{"$f":"INDEX(Backbone!I2:I893,MATCH(I29,Backbone!A2:A893,0))","v":6},null,{"$f":"INDEX(Backbone!J2:J893,MATCH(I29,Backbone!A2:A893,0))","v":7.4},null,{"$f":"INDEX(Backbone!K2:K893,MATCH(I29,Backbone!A2:A893,0))","v":8.6999999999999993},null,{"$f":"INDEX(Backbone!L2:L893,MATCH(I29,Backbone!A2:A893,0))","v":6},null,{"$f":"INDEX(Backbone!M2:M893,MATCH(I29,Backbone!A2:A893,0))","v":2.5},null,{"$f":"INDEX(Backbone!N2:N893,MATCH(I29,Backbone!A2:A893,0))","v":2},null,{"$f":"INDEX(Backbone!O2:O893,MATCH(I29,Backbone!A2:A893,0))","v":9.6},null,{"$f":"INDEX(Backbone!P2:P893,MATCH(I29,Backbone!A2:A893,0))","v":5.5},null,{"$f":"INDEX(Backbone!Q2:Q893,MATCH(I29,Backbone!A2:A893,0))","v":0.61888888888888882},null,null,{"$f":"(AG29*AG22+AI29*AI22+AK29*AK22+AM29*AM22+AO29*AO22+AQ29*AQ22+AS29*AS22+AU29*AU22+AW29*AW22)/(SUM(AG22:AW22)*10)","v":{"$error":"#DIV/0!"}},null,null,"Перейти в Реестр ресурсов: ",null,{"$f":"HYPERLINK(\"#\"&ADDRESS(MATCH(I29,Toolbox!$C$1:$C$300),1,,,\"Toolbox\"),VLOOKUP(I29,Toolbox!$C$1:$C$300,1,FALSE))","v":"Инструмент для оценки требований и готовности к эпиднадзору на основе концепции «Единое здоровье» (OHSRRT)"}]
[]
[]
[]
[]
[]
[]
[null,null,null,"Другие полезные ресурсы",null,null,null,null,"Рамочная программа Африканских ЦКПЗ по надзору на основе сигнальных событий",null,null,null,null,null,null,"Руководство для работников системы общественного здравоохранения, стремящихся внедрить надзор на основе событий на всех административных уровнях",null,null,null,null,null,null,null,null,{"$f":"INDEX(Backbone!R2:R893,MATCH(I36,Backbone!A2:A893,0))","v":"Руководящий документ"},null,null,null,{"$f":"INDEX(Backbone!S2:S893,MATCH(I36,Backbone!A2:A893,0))","v":"«Единое здоровье»; универсальный "},null,null,null,{"$f":"INDEX(Backbone!H2:H893,MATCH(I36,Backbone!A2:A893,0))","v":8},null,{"$f":"INDEX(Backbone!I2:I893,MATCH(I36,Backbone!A2:A893,0))","v":6},null,{"$f":"INDEX(Backbone!J2:J893,MATCH(I36,Backbone!A2:A893,0))","v":8.1999999999999993},null,{"$f":"INDEX(Backbone!K2:K893,MATCH(I36,Backbone!A2:A893,0))","v":8.3000000000000007},null,{"$f":"INDEX(Backbone!L2:L893,MATCH(I36,Backbone!A2:A893,0))","v":6.1},null,{"$f":"INDEX(Backbone!M2:M893,MATCH(I36,Backbone!A2:A893,0))","v":3.5},null,{"$f":"INDEX(Backbone!N2:N893,MATCH(I36,Backbone!A2:A893,0))","v":4},null,{"$f":"INDEX(Backbone!O2:O893,MATCH(I36,Backbone!A2:A893,0))","v":7},null,{"$f":"INDEX(Backbone!P2:P893,MATCH(I36,Backbone!A2:A893,0))","v":6},null,{"$f":"INDEX(Backbone!Q2:Q893,MATCH(I36,Backbone!A2:A893,0))","v":0.63222222222222224},null,null,{"$f":"(AG36*AG22+AI36*AI22+AK36*AK22+AM36*AM22+AO36*AO22+AQ36*AQ22+AS36*AS22+AU36*AU22+AW36*AW22)/(SUM(AG22:AW22)*10)","v":{"$error":"#DIV/0!"}},null,null,"Перейти в Реестр ресурсов: ",null,{"$f":"HYPERLINK(\"#\"&ADDRESS(MATCH(I36,Toolbox!$C$1:$C$300),1,,,\"Toolbox\"),VLOOKUP(I36,Toolbox!$C$1:$C$300,1,FALSE))","v":"Рамочная программа Африканских ЦКПЗ по надзору на основе сигнальных событий"}]
[]
[]
[]
[]
[]
[]
[]
[]
[]
[]
[]
[]
[]
[]
[]
[]
[]
[]
[]
[]
[]
[]
[]
[]
[]
[null,null,null,null,null,null,null,null,null,null,null,null,null,null,null,null,null,null,null,null,null,null,null,null,null,null,null,null,null,null,null,null,"Доступность",null,"Язык",null,"Простота использования",null,"Гибкость",null,"Потребности в данных",null,"Анализ данных",null,"Приемлемость",null,"«Единое здоровье»",null,"Воздействие"]
[]
[]
[]
[]
[]
[]
[null,"РЕСУРСЫ УРОВНЯ 2",null,null,null,null,null,null,null,null,null,null,null,null,null,null,null,null,null,null,null,null,null,null,null,null,null,null,null,null,null,null,null,null,null,null,null,null,null,null,null,null,null,null,null,null,null,null,null,null,"ИСХОДНАЯ ОЦЕНКА",null,null,"СКОРРЕКТИРОВАННАЯ ОЦЕНКА \n(Исходя из предпочтений пользователей)"]
[]
[]
[]
[null,null,null,"КЛАССИФИКАЦИЯ",null,null,null,null,"НАЗВАНИЕ РЕСУРСА",null,null,null,null,null,null,"КРАТКОЕ ОПИСАНИЕ",null,null,null,null,null,null,null,null,"ВИД РЕСУРСА",null,null,null,"ОБЩАЯ НАПРАВЛЕННОСТЬ РЕСУРСА"]
[]
[]
[]
[]
[null,null,null,"Наиболее подходящие ресурсы",null,null,null,null,{"$f":"Backbone!A100","v":"Оценка сотрудничества в рамках межотраслевой системы эпиднадзора (ECoSur)"},null,null,null,null,null,null,"\nИнструмент, предназначенный для оценки организации и функционирования взаимодействия в системе межотраслевого эпиднадзора и для анализа сильных и слабых сторон такого взаимодействия\n",null,null,null,null,null,null,null,null,{"$f":"Backbone!R100","v":"Инструмент или процесс с методическим руководством/пояснениями"},null,null,null,{"$f":"Backbone!S100","v":"«Единое здоровье»; универсальный"},null,null,null,{"$f":"Backbone!H100","v":8.3000000000000007},null,{"$f":"Backbone!I100","v":6},null,{"$f":"Backbone!J100","v":8.5},null,{"$f":"Backbone!K100","v":7.8},null,{"$f":"Backbone!L100","v":8.3000000000000007},null,{"$f":"Backbone!M100","v":6.7},null,{"$f":"Backbone!N100","v":3.3},null,{"$f":"Backbone!O100","v":9.1},null,{"$f":"Backbone!P100","v":4.7},null,{"$f":"Backbone!Q100","v":0.69666666666666677},null,null,{"$f":"(AG78*AG22+AI78*AI22+AK78*AK22+AM78*AM22+AO78*AO22+AQ78*AQ22+AS78*AS22+AU78*AU22+AW78*AW22)/(SUM(AG22:AW22)*10)","v":{"$error":"#DIV/0!"}},null,null,"Перейти в Реестр ресурсов: ",null,{"$f":"HYPERLINK(\"#\"&ADDRESS(MATCH(I78,Toolbox!$C$1:$C$300),1,,,\"Toolbox\"),VLOOKUP(I78,Toolbox!$C$1:$C$300,1,FALSE))","v":"Оценка сотрудничества в рамках межотраслевой системы эпиднадзора (ECoSur)"}]
[]
[]
[]
[]
[]
[]
[null,null,null,"Другие полезные ресурсы",null,null,null,null,{"$f":"Backbone!A332","v":"Сеть для оценки мероприятий на основе концепции «Единое здоровье» (NEOH)"},null,null,null,null,null,null,"Инструмент на базе Excel для оценки приверженности системы эпиднадзора принципу «Единое здоровье» (или степень применения подхода «Единое здоровье», ЕЗ) ",null,null,null,null,null,null,null,null,{"$f":"Backbone!R332","v":"Руководящий документ"},null,null,null,{"$f":"Backbone!S332","v":"«Единое здоровье»; универсальный"},null,null,null,{"$f":"Backbone!H332","v":8.3000000000000007},null,{"$f":"Backbone!I332","v":7.7},null,{"$f":"Backbone!J332","v":5.3},null,{"$f":"Backbone!K332","v":8.9},null,{"$f":"Backbone!L332","v":7.8},null,{"$f":"Backbone!M332","v":4.7},null,{"$f":"Backbone!N332","v":5.3},null,{"$f":"Backbone!O332","v":8},null,{"$f":"Backbone!P332","v":5.3},null,{"$f":"Backbone!Q332","v":0.68111111111111111},null,null,{"$f":"(AG85*AG22+AI85*AI22+AK85*AK22+AM85*AM22+AO85*AO22+AQ85*AQ22+AS85*AS22+AU85*AU22+AW85*AW22)/(SUM(AG22:AW22)*10)","v":{"$error":"#DIV/0!"}},null,null,"Перейти в Реестр ресурсов: ",null,{"$f":"HYPERLINK(\"#\"&ADDRESS(MATCH(I85,Toolbox!$C$1:$C$300),1,,,\"Toolbox\"),VLOOKUP(I85,Toolbox!$C$1:$C$300,1,FALSE))","v":"Сеть для оценки мероприятий на основе концепции «Единое здоровье» (NEOH)"}]
[]
[]
[]
[]
[]
[]
[]
[]
[]
[]
[]
[]
[]
[]
[]
[]
[]
[]
[]
[]
[]
[]
[]
[]
[]
[]
[]
[]
[]
[]
[null,null,null,null,null,null,null,null,null,null,null,null,null,null,null,null,null,null,null,null,null,null,null,null,null,null,null,null,null,null,null,null,"Доступность",null,"Язык",null,"Простота использования",null,"Гибкость",null,"Потребности в данных",null,"Анализ данных",null,"Приемлемость",null,"«Единое здоровье»",null,"Воздействие"]
[]
[]
[]
[]
[]
[]
[null,null,null,null,null,null,null,null,null,null,null,null,null,null,null,null,null,null,null,null,null,null,null,null,null,null,null,null,null,null,null,null,null,null,null,null,null,null,null,null,null,null,null,null,null,null,null,null,null,null,"ИСХОДНАЯ ОЦЕНКА",null,null,"СКОРРЕКТИРОВАННАЯ ОЦЕНКА \n(Исходя из предпочтений пользователей)"]
[null,"РЕСУРСЫ УРОВНЯ 3"]
[]
[]
[null,null,null,"КЛАССИФИКАЦИЯ",null,null,null,null,"НАЗВАНИЕ РЕСУРСА",null,null,null,null,null,null,"КРАТКОЕ ОПИСАНИЕ",null,null,null,null,null,null,null,null,"ВИД РЕСУРСА",null,null,null,"ОБЩАЯ НАПРАВЛЕННОСТЬ РЕСУРСА"]
[]
[]
[]
[]
[null,null,null,"Наиболее подходящие ресурсы",null,null,null,null,{"$f":"Backbone!A100","v":"Оценка сотрудничества в рамках межотраслевой системы эпиднадзора (ECoSur)"},null,null,null,null,null,null,"Инструмент, предназначенный для оценки организации и функционирования взаимодействия в системе межотраслевого эпиднадзора и для анализа сильных и слабых сторон такого взаимодействия. ",null,null,null,null,null,null,null,null,{"$f":"Backbone!R100","v":"Инструмент или процесс с методическим руководством/пояснениями"},null,null,null,{"$f":"Backbone!S100","v":"«Единое здоровье»; универсальный"},null,null,null,{"$f":"Backbone!H100","v":8.3000000000000007},null,{"$f":"Backbone!I100","v":6},null,{"$f":"Backbone!J100","v":8.5},null,{"$f":"Backbone!K100","v":7.8},null,{"$f":"Backbone!L100","v":8.3000000000000007},null,{"$f":"Backbone!M100","v":6.7},null,{"$f":"Backbone!N100","v":3.3},null,{"$f":"Backbone!O100","v":9.1},null,{"$f":"Backbone!P100","v":4.7},null,{"$f":"Backbone!Q100","v":0.69666666666666677},null,null,{"$f":"(AG132*AG22+AI132*AI22+AK132*AK22+AM132*AM22+AO132*AO22+AQ132*AQ22+AS132*AS22+AU132*AU22+AW132*AW22)/(SUM(AG22:AW22)*10)","v":{"$error":"#DIV/0!"}},null,null,"Перейти в Реестр ресурсов: ",null,{"$f":"HYPERLINK(\"#\"&ADDRESS(MATCH(I132,Toolbox!$C$1:$C$300),1,,,\"Toolbox\"),VLOOKUP(I132,Toolbox!$C$1:$C$300,1,FALSE))","v":"Оценка сотрудничества в рамках межотраслевой системы эпиднадзора (ECoSur)"}]
[]
[]
[]
[]
[]
[null,null,null,null,null,null,null,null,{"$f":"Backbone!A303","v":"Национальный план действий по обеспечению безопасности в области здравоохранения (NAPHS)"},null,null,null,null,null,null,"Организуемый самими странами процесс планирования, способный ускорить внедрение основных возможностей Международных медико-санитарных правил (ММСП) и основывающийся на концепции «Единое здоровье» и общегосударственном подходе ко всем видам опасностей.",null,null,null,null,null,null,null,null,{"$f":"Backbone!R303","v":"Руководящий документ"},null,null,null,{"$f":"Backbone!S303","v":"«Единое здоровье»; универсальный"},null,null,null,{"$f":"Backbone!H303","v":8},null,{"$f":"Backbone!I303","v":9},null,{"$f":"Backbone!J303","v":7.8},null,{"$f":"Backbone!K303","v":10},null,{"$f":"Backbone!L303","v":8},null,{"$f":"Backbone!M303","v":4.5},null,{"$f":"Backbone!N303","v":10},null,{"$f":"Backbone!O303","v":10},null,{"$f":"Backbone!P303","v":10},null,{"$f":"Backbone!Q303","v":0.85888888888888881},null,null,{"$f":"(AG138*AG22+AI138*AI22+AK138*AK22+AM138*AM22+AO138*AO22+AQ138*AQ22+AS138*AS22+AU138*AU22+AW138*AW22)/(SUM(AG22:AW22)*10)","v":{"$error":"#DIV/0!"}},null,null,"Перейти в Реестр ресурсов: ",null,{"$f":"HYPERLINK(\"#\"&ADDRESS(MATCH(I138,Toolbox!$C$1:$C$300),1,,,\"Toolbox\"),VLOOKUP(I138,Toolbox!$C$1:$C$300,1,FALSE))","v":"Национальный план действий по обеспечению безопасности в области здравоохранения (NAPHS)"}]

{"sheet":"A1_tools","index":30,"n_rows":262,"n_cols":59,"rows_kept":262,"cut":false,"hidden":false,"merged":[[89,53,93,54],[65,3,93,6],[17,1,93,1],[89,40,93,40],[89,42,93,42],[89,44,93,44],[89,46,93,46],[89,48,93,48],[89,50,93,51],[77,50,81,51],[77,53,81,54],[89,8,93,13],[89,15,93,22],[89,24,93,26],[89,28,93,30],[89,32,93,32],[89,34,93,34],[89,36,93,36],[89,38,93,38],[77,38,81,38],[77,40,81,40],[77,42,81,42],[77,44,81,44],[77,46,81,46],[58,53,62,54],[65,50,69,51],[65,8,69,13],[65,15,69,22],[65,24,69,26],[65,28,69,30],[65,32,69,32],[65,34,69,34],[77,48,81,48],[58,36,62,36],[58,38,62,38],[58,40,62,40],[77,8,81,13],[77,15,81,22],[77,24,81,26],[77,28,81,30],[77,32,81,32],[77,34,81,34],[77,36,81,36],[71,46,75,46],[71,48,75,48],[65,36,69,36],[65,38,69,38],[58,8,62,13],[58,15,62,22],[58,24,62,26],[58,28,62,30],[58,42,62,42],[58,44,62,44],[58,46,62,46],[58,48,62,48],[58,50,62,51],[52,48,56,48],[52,50,56,51],[52,46,56,46],[46,42,50,42],[46,44,50,44],[46,46,50,46],[46,48,50,48],[52,8,56,13],[52,15,56,22],[52,24,56,26],[52,28,56,30],[52,32,56,32],[52,34,56,34],[52,36,56,36],[52,38,56,38],[46,38,50,38],[46,8,50,13],[46,15,50,22],[46,24,50,26],[46,28,50,30],[46,32,50,32],[46,34,50,34],[46,36,50,36],[52,44,56,44],[40,36,44,36],[40,38,44,38],[40,8,44,13],[40,15,44,22],[40,24,44,26],[40,28,44,30],[40,32,44,32],[40,34,44,34],[46,40,50,40],[65,53,69,54],[65,40,69,40],[65,42,69,42],[65,44,69,44],[65,46,69,46],[65,48,69,48],[34,42,38,42],[34,44,38,44],[34,46,38,46],[34,48,38,48],[34,50,38,51],[34,53,38,54],[40,48,44,48],[40,50,44,51],[40,53,44,54],[40,40,44,40],[40,42,44,42],[40,44,44,44],[40,46,44,46],[52,53,56,54],[52,40,56,40],[52,42,56,42],[46,50,50,51],[46,53,50,54],[83,53,87,54],[83,38,87,38],[83,40,87,40],[83,42,87,42],[83,44,87,44],[83,46,87,46],[83,48,87,48],[71,42,75,42],[71,44,75,44],[71,50,75,51],[71,53,75,54],[71,40,75,40],[71,34,75,34],[71,36,75,36],[71,8,75,13],[71,15,75,22],[71,24,75,26],[71,28,75,30],[71,32,75,32],[83,50,87,51],[28,24,32,26],[28,28,32,30],[28,32,32,32],[28,34,32,34],[28,36,32,36],[28,38,32,38],[58,32,62,32],[58,34,62,34],[83,8,87,13],[83,15,87,22],[83,24,87,26],[83,28,87,30],[83,32,87,32],[83,34,87,34],[83,36,87,36],[71,38,75,38],[13,50,20,51],[13,53,20,54],[17,3,20,6],[17,8,20,13],[17,15,20,22],[17,24,20,26],[17,28,20,30],[6,46,20,46],[6,48,20,48],[28,53,32,54],[34,8,38,13],[34,15,38,22],[34,24,38,26],[34,28,38,30],[34,32,38,32],[34,34,38,34],[34,36,38,36],[34,38,38,38],[34,40,38,40],[28,40,32,40],[28,42,32,42],[28,44,32,44],[28,46,32,46],[28,48,32,48],[28,50,32,51],[28,8,32,13],[28,15,32,22],[1,1,3,62],[22,3,62,6],[22,8,26,13],[22,50,26,51],[22,53,26,54],[22,38,26,38],[22,40,26,40],[22,42,26,42],[22,44,26,44],[22,46,26,46],[22,48,26,48],[22,15,26,22],[22,24,26,26],[22,28,26,30],[22,32,26,32],[22,34,26,34],[22,36,26,36],[6,32,20,32],[6,34,20,34],[6,36,20,36],[6,38,20,38],[6,40,20,40],[6,42,20,42],[6,44,20,44],[130,44,134,44],[130,46,134,46],[130,48,134,48],[130,50,134,51],[130,53,134,54],[114,32,128,32],[114,34,128,34],[114,36,128,36],[114,38,128,38],[114,40,128,40],[114,42,128,42],[114,44,128,44],[114,46,128,46],[114,48,128,48],[136,28,140,30],[136,32,140,32],[136,34,140,34],[136,36,140,36],[136,38,140,38],[136,40,140,40],[121,50,128,51],[121,53,128,54],[125,3,128,6],[125,8,128,13],[125,15,128,22],[125,24,128,26],[125,28,128,30],[130,3,170,6],[130,8,134,13],[130,15,134,22],[130,24,134,26],[130,28,134,30],[130,32,134,32],[130,34,134,34],[130,36,134,36],[130,38,134,38],[130,40,134,40],[130,42,134,42],[136,42,140,42],[136,44,140,44],[136,46,140,46],[136,48,140,48],[136,50,140,51],[136,53,140,54],[142,8,146,13],[142,15,146,22],[142,24,146,26],[142,28,146,30],[142,32,146,32],[142,34,146,34],[142,36,146,36],[142,38,146,38],[142,40,146,40],[142,42,146,42],[142,44,146,44],[142,46,146,46],[142,48,146,48],[142,50,146,51],[142,53,146,54],[136,8,140,13],[136,15,140,22],[136,24,140,26],[148,48,152,48],[148,50,152,51],[148,53,152,54],[154,8,158,13],[154,15,158,22],[154,24,158,26],[154,28,158,30],[154,32,158,32],[154,34,158,34],[154,36,158,36],[154,38,158,38],[154,40,158,40],[154,42,158,42],[154,44,158,44],[154,46,158,46],[154,48,158,48],[154,50,158,51],[154,53,158,54],[148,8,152,13],[148,15,152,22],[148,24,152,26],[148,28,152,30],[148,32,152,32],[148,34,152,34],[160,36,164,36],[160,38,164,38],[160,40,164,40],[148,42,152,42],[148,44,152,44],[148,46,152,46],[148,36,152,36],[148,38,152,38],[148,40,152,40],[160,42,164,42],[160,44,164,44],[160,46,164,46],[160,48,164,48],[160,50,164,51],[160,53,164,54],[166,8,170,13],[166,15,170,22],[166,24,170,26],[166,28,170,30],[166,32,170,32],[166,34,170,34],[166,36,170,36],[166,38,170,38],[166,40,170,40],[166,42,170,42],[166,44,170,44],[166,46,170,46],[166,48,170,48],[166,50,170,51],[166,53,170,54],[160,8,164,13],[160,15,164,22],[160,24,164,26],[160,28,164,30],[160,32,164,32],[160,34,164,34],[173,24,177,26],[173,28,177,30],[173,32,177,32],[173,34,177,34],[173,36,177,36],[173,38,177,38],[185,8,189,13],[185,15,189,22],[185,24,189,26],[185,28,189,30],[185,32,189,32],[185,34,189,34],[185,36,189,36],[185,38,189,38],[173,40,177,40],[173,42,177,42],[173,44,177,44],[173,46,177,46],[173,48,177,48],[173,50,177,51],[173,53,177,54],[179,8,183,13],[179,15,183,22],[179,24,183,26],[179,28,183,30],[179,32,183,32],[179,34,183,34],[179,36,183,36],[179,38,183,38],[179,40,183,40],[179,42,183,42],[179,44,183,44],[179,46,183,46],[179,48,183,48],[179,50,183,51],[179,53,183,54],[173,8,177,13],[173,15,177,22],[125,1,195,1],[173,3,195,6],[185,40,189,40],[185,42,189,42],[185,44,189,44],[185,46,189,46],[185,48,189,48],[185,50,189,51],[185,53,189,54],[191,8,195,13],[191,15,195,22],[191,24,195,26],[191,28,195,30],[191,32,195,32],[191,34,195,34],[191,36,195,36],[191,38,195,38],[191,40,195,40],[191,42,195,42],[191,44,195,44],[191,46,195,46],[191,48,195,48],[191,50,195,51],[191,53,195,54],[221,50,228,51],[221,53,228,54],[225,1,265,1],[225,3,228,6],[225,8,228,13],[225,15,228,22],[225,24,228,26],[225,28,228,30],[230,3,252,6],[214,32,228,32],[214,34,228,34],[214,36,228,36],[214,38,228,38],[214,40,228,40],[214,42,228,42],[214,44,228,44],[214,46,228,46],[214,48,228,48],[230,48,234,48],[230,50,234,51],[230,53,234,54],[236,8,240,13],[236,15,240,22],[236,24,240,26],[236,48,240,48],[236,50,240,51],[236,53,240,54],[230,8,234,13],[230,15,234,22],[230,24,234,26],[230,28,234,30],[230,32,234,32],[230,34,234,34],[236,28,240,30],[236,32,240,32],[236,34,240,34],[236,36,240,36],[236,38,240,38],[236,40,240,40],[236,42,240,42],[236,44,240,44],[236,46,240,46],[242,36,246,36],[242,38,246,38],[242,40,246,40],[230,42,234,42],[230,44,234,44],[230,46,234,46],[230,36,234,36],[230,38,234,38],[230,40,234,40],[242,42,246,42],[242,44,246,44],[242,46,246,46],[242,48,246,48],[242,50,246,51],[242,53,246,54],[248,8,252,13],[248,15,252,22],[248,24,252,26],[248,28,252,30],[248,32,252,32],[248,34,252,34],[248,36,252,36],[248,38,252,38],[248,40,252,40],[248,42,252,42],[248,44,252,44],[248,46,252,46],[248,48,252,48],[248,50,252,51],[248,53,252,54],[242,8,246,13],[242,15,246,22],[242,24,246,26],[242,28,246,30],[242,32,246,32],[242,34,246,34],[255,3,265,6],[255,8,259,13],[255,15,259,22],[255,24,259,26],[255,28,259,30],[255,32,259,32],[255,34,259,34],[255,36,259,36],[255,38,259,38],[255,40,259,40],[255,42,259,42],[255,44,259,44],[255,46,259,46],[255,48,259,48],[255,50,259,51],[255,53,259,54],[261,8,265,13],[261,15,265,22],[261,24,265,26],[261,28,265,30],[261,32,265,32],[261,34,265,34],[261,36,265,36],[261,38,265,38],[261,40,265,40],[261,42,265,42],[261,44,265,44],[261,46,265,46],[261,48,265,48],[261,50,265,51],[261,53,265,54],[22,56,26,57],[22,58,26,62],[28,56,32,57],[28,58,32,62],[34,56,38,57],[34,58,38,62],[40,56,44,57],[40,58,44,62],[46,56,50,57],[46,58,50,62],[52,56,56,57],[52,58,56,62],[58,56,62,57],[58,58,62,62],[65,56,69,57],[65,58,69,62],[71,56,75,57],[71,58,75,62],[77,56,81,57],[77,58,81,62],[83,56,87,57],[83,58,87,62],[89,56,93,57],[89,58,93,62],[130,56,134,57],[130,58,134,62],[136,56,140,57],[136,58,140,62],[142,56,146,57],[142,58,146,62],[148,56,152,57],[148,58,152,62],[154,56,158,57],[154,58,158,62],[160,56,164,57],[160,58,164,62],[166,56,170,57],[166,58,170,62],[173,56,177,57],[173,58,177,62],[242,56,246,57],[242,58,246,62],[248,56,252,57],[248,58,252,62],[255,56,259,57],[255,58,259,62],[261,56,265,57],[261,58,265,62],[179,56,183,57],[179,58,183,62],[185,56,189,57],[185,58,189,62],[191,56,195,57],[191,58,195,62],[230,56,234,57],[230,58,234,62],[236,56,240,57],[236,58,240,62]]}
[]
[null,"Ресурсы по картированию заинтересованных сторон"]
[]
[]
[]
[]
[null,null,null,null,null,null,null,null,null,null,null,null,null,null,null,null,null,null,null,null,null,null,null,null,null,null,null,null,null,null,null,null,"Доступность",null,"Язык",null,"Простота использования",null,"Гибкость",null,"Потребности в данных",null,"Анализ данных",null,"Приемлемость",null,"«Единое здоровье»",null,"Воздействие"]
[]
[]
[]
[]
[]
[]
[null,null,null,null,null,null,null,null,null,null,null,null,null,null,null,null,null,null,null,null,null,null,null,null,null,null,null,null,null,null,null,null,null,null,null,null,null,null,null,null,null,null,null,null,null,null,null,null,null,null,"ИСХОДНАЯ ОЦЕНКА",null,null,"СКОРРЕКТИРОВАННАЯ ОЦЕНКА \n(Исходя из предпочтений пользователей)"]
[]
[]
[]
[null,"РЕСУРСЫ УРОВНЯ 1",null,"КЛАССИФИКАЦИЯ",null,null,null,null,"НАЗВАНИЕ РЕСУРСА",null,null,null,null,null,null,"КРАТКОЕ ОПИСАНИЕ",null,null,null,null,null,null,null,null,"ВИД РЕСУРСА",null,null,null,"ОБЩАЯ НАПРАВЛЕННОСТЬ РЕСУРСА"]
[]
[]
[]
[null,null,null,null,null,null,null,null,null,null,null,null,null,null,null,null,null,null,null,null,null,null,null,null,null,null,null,null,null,null,null,null,{"$f":"'Attribute Survey'!S22","v":0},null,{"$f":"'Attribute Survey'!S26","v":0},null,{"$f":"'Attribute Survey'!S30","v":0},null,{"$f":"'Attribute Survey'!S34","v":0},null,{"$f":"'Attribute Survey'!S38","v":0},null,{"$f":"'Attribute Survey'!S42","v":0},null,{"$f":"'Attribute Survey'!S46","v":0},null,{"$f":"'Attribute Survey'!S50","v":0},null,{"$f":"'Attribute Survey'!S54","v":0}]
[null,null,null,"Наиболее подходящие ресурсы",null,null,null,null,{"$f":"Backbone!A51","v":"Руководство для сбора данных о потенциале страны в отношении охраны здоровья в пограничных районах (BHCDG)"},null,null,null,null,null,null,"Шаблонные инструменты, помогающие в проведении обсуждений с представителями национальных, районных и наземных пограничных служб по вопросам охраны здоровья на границе ",null,null,null,null,null,null,null,null,{"$f":"INDEX(Backbone!$R2:$R893,MATCH(I23,Backbone!$A2:$A893,0))","v":"Руководящий документ"},null,null,null,{"$f":"INDEX(Backbone!$S2:$S893,MATCH(I23,Backbone!$A2:$A893,0))","v":"«Единое здоровье»; ориентированный на конкретную болезнь/угрозу "},null,null,null,{"$f":"INDEX(Backbone!$H2:$H893,MATCH(I23,Backbone!$A2:$A893,0))","v":8.8000000000000007},null,{"$f":"INDEX(Backbone!$I2:$I893,MATCH(I23,Backbone!$A2:$A893,0))","v":6.7},null,{"$f":"INDEX(Backbone!$J2:$J893,MATCH(I23,Backbone!$A2:$A893,0))","v":7.6},null,{"$f":"INDEX(Backbone!$K2:$K893,MATCH(I23,Backbone!$A2:$A893,0))","v":9},null,{"$f":"INDEX(Backbone!$L2:$L893,MATCH(I23,Backbone!$A2:$A893,0))","v":7},null,{"$f":"INDEX(Backbone!$M2:$M893,MATCH(I23,Backbone!$A2:$A893,0))","v":3.8},null,{"$f":"INDEX(Backbone!$N2:$N893,MATCH(I23,Backbone!$A2:$A893,0))","v":8},null,{"$f":"INDEX(Backbone!$O2:$O893,MATCH(I23,Backbone!$A2:$A893,0))","v":8.4},null,{"$f":"INDEX(Backbone!$P2:$P893,MATCH(I23,Backbone!$A2:$A893,0))","v":6},null,{"$f":"INDEX(Backbone!$Q2:$Q893,MATCH(I23,Backbone!$A2:$A893,0))","v":0.72555555555555551},null,null,{"$f":"(AG23*$AG$22+AI23*$AI$22+AK23*$AK$22+AM23*$AM$22+AO23*$AO$22+AQ23*$AQ$22+AS23*$AS$22+AU23*$AU$22+AW23*$AW$22)/(SUM($AG$22:$AW$22)*10)","v":{"$error":"#DIV/0!"}},null,null,"Перейти в Реестр ресурсов: ",null,{"$f":"HYPERLINK(\"#\"&ADDRESS(MATCH(I23,Toolbox!$C$1:$C$300),1,,,\"Toolbox\"),VLOOKUP(I23,Toolbox!$C$1:$C$300,1,FALSE))","v":"Руководство для сбора данных о потенциале страны в отношении охраны здоровья в пограничных районах (BHCDG)"}]
[]
[]
[]
[]
[]
[null,null,null,null,null,null,null,null,{"$f":"Backbone!A239","v":"Национальный семинар по выстраиванию связей ММСП-ПВС"},null,null,null,null,null,null," Семинар, позволяющий секторам охраны здоровья животных и здравоохранения человека в странах определить, где пересекается их работа, при необходимости создавать соответствующие связи для обеспечения взаимодействия. ",null,null,null,null,null,null,null,null,{"$f":"INDEX(Backbone!$R$2:$R$893,MATCH(I29,Backbone!$A$2:$A$893,0))","v":"Инструмент или процесс с методическим руководством/пояснениями"},null,null,null,{"$f":"INDEX(Backbone!$S$2:$S$893,MATCH(I29,Backbone!$A$2:$A$893,0))","v":"«Единое здоровье»; универсальный"},null,null,null,{"$f":"INDEX(Backbone!$H$2:$H$893,MATCH(I29,Backbone!$A$2:$A$893,0))","v":8.6},null,{"$f":"INDEX(Backbone!$I$2:$I$893,MATCH(I29,Backbone!$A$2:$A$893,0))","v":10},null,{"$f":"INDEX(Backbone!$J$2:$J$893,MATCH(I29,Backbone!$A$2:$A$893,0))","v":6.2},null,{"$f":"INDEX(Backbone!$K$2:$K$893,MATCH(I29,Backbone!$A$2:$A$893,0))","v":10},null,{"$f":"INDEX(Backbone!$L$2:$L$893,MATCH(I29,Backbone!$A$2:$A$893,0))","v":6},null,{"$f":"INDEX(Backbone!$M$2:$M$893,MATCH(I29,Backbone!$A$2:$A$893,0))","v":7},null,{"$f":"INDEX(Backbone!$N$2:$N$893,MATCH(I29,Backbone!$A$2:$A$893,0))","v":9},null,{"$f":"INDEX(Backbone!$O$2:$O$893,MATCH(I29,Backbone!$A$2:$A$893,0))","v":8.1999999999999993},null,{"$f":"INDEX(Backbone!$P$2:$P$893,MATCH(I29,Backbone!$A$2:$A$893,0))","v":10},null,{"$f":"INDEX(Backbone!$Q$2:$Q$893,MATCH(I29,Backbone!$A$2:$A$893,0))","v":0.83333333333333337},null,null,{"$f":"(AG29*$AG$22+AI29*$AI$22+AK29*$AK$22+AM29*$AM$22+AO29*$AO$22+AQ29*$AQ$22+AS29*$AS$22+AU29*$AU$22+AW29*$AW$22)/(SUM($AG$22:$AW$22)*10)","v":{"$error":"#DIV/0!"}},null,null,"Перейти в Реестр ресурсов: ",null,{"$f":"HYPERLINK(\"#\"&ADDRESS(MATCH(I29,Toolbox!$C$1:$C$300),1,,,\"Toolbox\"),VLOOKUP(I29,Toolbox!$C$1:$C$300,1,FALSE))","v":"Национальный семинар по выстраиванию связей ММСП-ПВС"}]
[]
[]
[]
[]
[]
[null,null,null,null,null,null,null,null,{"$f":"Backbone!A400","v":"Инструмент для оценки требований и готовности к эпиднадзору на основе концепции «Единое здоровье» (OHSRRT)"},null,null,null,null,null,null,"Инструмент оценки требований и готовности к эпиднадзору, позволяющий определить уровень готовности страны и собрать требования для развития системы эпиднадзора на основе концепции «Единое здоровье» исходя из важнейших факторов успеха.",null,null,null,null,null,null,null,null,{"$f":"INDEX(Backbone!$R$2:$R$893,MATCH(I35,Backbone!$A$2:$A$893,0))","v":"Инструмент самооценки"},null,null,null,{"$f":"INDEX(Backbone!$S$2:$S$893,MATCH(I35,Backbone!$A$2:$A$893,0))","v":"«Единое здоровье»; универсальный"},null,null,null,{"$f":"INDEX(Backbone!$H$2:$H$893,MATCH(I35,Backbone!$A$2:$A$893,0))","v":8},null,{"$f":"INDEX(Backbone!$I$2:$I$893,MATCH(I35,Backbone!$A$2:$A$893,0))","v":6},null,{"$f":"INDEX(Backbone!$J$2:$J$893,MATCH(I35,Backbone!$A$2:$A$893,0))","v":7.4},null,{"$f":"INDEX(Backbone!$K$1:$K$893,MATCH(I35,Backbone!$A$1:$A$893,0))","v":8.6999999999999993},null,{"$f":"INDEX(Backbone!$L$2:$L$893,MATCH(I35,Backbone!$A$2:$A$893,0))","v":6},null,{"$f":"INDEX(Backbone!$M$2:$M$893,MATCH(I35,Backbone!$A$2:$A$893,0))","v":2.5},null,{"$f":"INDEX(Backbone!$N$2:$N$893,MATCH(I35,Backbone!$A$2:$A$893,0))","v":2},null,{"$f":"INDEX(Backbone!$O$2:$O$893,MATCH(I35,Backbone!$A$2:$A$893,0))","v":9.6},null,{"$f":"INDEX(Backbone!$P$2:$P$893,MATCH(I35,Backbone!$A$2:$A$893,0))","v":5.5},null,{"$f":"INDEX(Backbone!$Q$2:$Q$893,MATCH(I35,Backbone!$A$2:$A$893,0))","v":0.61888888888888882},null,null,{"$f":"(AG35*$AG$22+AI35*$AI$22+AK35*$AK$22+AM35*$AM$22+AO35*$AO$22+AQ35*$AQ$22+AS35*$AS$22+AU35*$AU$22+AW35*$AW$22)/(SUM($AG$22:$AW$22)*10)","v":{"$error":"#DIV/0!"}},null,null,"Перейти в Реестр ресурсов: ",null,{"$f":"HYPERLINK(\"#\"&ADDRESS(MATCH(I35,Toolbox!$C$1:$C$300),1,,,\"Toolbox\"),VLOOKUP(I35,Toolbox!$C$1:$C$300,1,FALSE))","v":"Инструмент для оценки требований и готовности к эпиднадзору на основе концепции «Единое здоровье» (OHSRRT)"}]
[]
[]
[]
[]
[]
[null,null,null,null,null,null,null,null,{"$f":"Backbone!A367","v":"Инструмент оценки систем здравоохранения на предмет предотвращения приоритетных зоонозов и борьбы с ними в соответствии с подходом «Единое здоровье» (OH-SAPZ)"},null,null,null,null,null,null,"Настоящий инструмент призван упростить планомерные оценки национальных структур для координации в рамках подхода «Единое здоровье» с точки зрения профилактики и выявления зоонозов и мер борьбы с ними.  ",null,null,null,null,null,null,null,null,{"$f":"INDEX(Backbone!$R$2:$R$893,MATCH(I41,Backbone!$A$2:$A$893,0))","v":"Инструмент самооценки"},null,null,null,{"$f":"INDEX(Backbone!$S$2:$S$893,MATCH(I41,Backbone!$A$2:$A$893,0))","v":"«Единое здоровье»; универсальный"},null,null,null,{"$f":"INDEX(Backbone!$H$2:$H$893,MATCH(I41,Backbone!$A$2:$A$893,0))","v":7.9},null,{"$f":"INDEX(Backbone!$I$2:$I$893,MATCH(I41,Backbone!$A$2:$A$893,0))","v":7.3},null,{"$f":"INDEX(Backbone!$J$2:$J$893,MATCH(I41,Backbone!$A$2:$A$893,0))","v":7.2},null,{"$f":"INDEX(Backbone!$K$1:$K$893,MATCH(I41,Backbone!$A$1:$A$893,0))","v":7.8},null,{"$f":"INDEX(Backbone!$L$2:$L$893,MATCH(I41,Backbone!$A$2:$A$893,0))","v":6.5},null,{"$f":"INDEX(Backbone!$M$2:$M$893,MATCH(I41,Backbone!$A$2:$A$893,0))","v":5.2},null,{"$f":"INDEX(Backbone!$N$2:$N$893,MATCH(I41,Backbone!$A$2:$A$893,0))","v":4},null,{"$f":"INDEX(Backbone!$O$2:$O$893,MATCH(I41,Backbone!$A$2:$A$893,0))","v":8.3000000000000007},null,{"$f":"INDEX(Backbone!$P$2:$P$893,MATCH(I41,Backbone!$A$2:$A$893,0))","v":9.6999999999999993},null,{"$f":"INDEX(Backbone!$Q$2:$Q$893,MATCH(I41,Backbone!$A$2:$A$893,0))","v":0.71000000000000008},null,null,{"$f":"(AG41*$AG$22+AI41*$AI$22+AK41*$AK$22+AM41*$AM$22+AO41*$AO$22+AQ41*$AQ$22+AS41*$AS$22+AU41*$AU$22+AW41*$AW$22)/(SUM($AG$22:$AW$22)*10)","v":{"$error":"#DIV/0!"}},null,null,"Перейти в Реестр ресурсов: ",null,{"$f":"HYPERLINK(\"#\"&ADDRESS(MATCH(I41,Toolbox!$C$1:$C$300),1,,,\"Toolbox\"),VLOOKUP(I41,Toolbox!$C$1:$C$300,1,FALSE))","v":"Инструмент оценки систем здравоохранения на предмет предотвращения приоритетных зоонозов и борьбы с ними в соответствии с подходом «Единое здоровье» (OH-SAPZ)"}]
[]
[]
[]
[]
[]
[null,null,null,null,null,null,null,null,{"$f":"Backbone!A383","v":"Инструментарий для картирования и анализа систем «Единое здоровье» (OH-SMART)"},null,null,null,null,null,null,"Процесс, позволяющий заинтересованным сторонам из нескольких секторов картировать, анализировать и улучшать существующую систему, которая требует междисциплинарного и межотраслевого взаимодействия.",null,null,null,null,null,null,null,null,{"$f":"INDEX(Backbone!$R$2:$R$893,MATCH(I47,Backbone!$A$2:$A$893,0))","v":"Инструмент или процесс с методическим руководством/пояснениями"},null,null,null,{"$f":"INDEX(Backbone!$S$2:$S$893,MATCH(I47,Backbone!$A$2:$A$893,0))","v":"«Единое здоровье»; универсальный"},null,null,null,{"$f":"INDEX(Backbone!$H$2:$H$893,MATCH(I47,Backbone!$A$2:$A$893,0))","v":8.6999999999999993},null,{"$f":"INDEX(Backbone!$I$2:$I$893,MATCH(I47,Backbone!$A$2:$A$893,0))","v":7.3},null,{"$f":"INDEX(Backbone!$J$2:$J$893,MATCH(I47,Backbone!$A$2:$A$893,0))","v":8.4},null,{"$f":"INDEX(Backbone!$K$1:$K$893,MATCH(I47,Backbone!$A$1:$A$893,0))","v":9.3000000000000007},null,{"$f":"INDEX(Backbone!$L$2:$L$893,MATCH(I47,Backbone!$A$2:$A$893,0))","v":8.1999999999999993},null,{"$f":"INDEX(Backbone!$M$2:$M$893,MATCH(I47,Backbone!$A$2:$A$893,0))","v":7.4},null,{"$f":"INDEX(Backbone!$N$2:$N$893,MATCH(I47,Backbone!$A$2:$A$893,0))","v":9.5},null,{"$f":"INDEX(Backbone!$O$2:$O$893,MATCH(I47,Backbone!$A$2:$A$893,0))","v":10},null,{"$f":"INDEX(Backbone!$P$2:$P$893,MATCH(I47,Backbone!$A$2:$A$893,0))","v":10},null,{"$f":"INDEX(Backbone!$Q$2:$Q$893,MATCH(I47,Backbone!$A$2:$A$893,0))","v":0.87555555555555564},null,null,{"$f":"(AG47*$AG$22+AI47*$AI$22+AK47*$AK$22+AM47*$AM$22+AO47*$AO$22+AQ47*$AQ$22+AS47*$AS$22+AU47*$AU$22+AW47*$AW$22)/(SUM($AG$22:$AW$22)*10)","v":{"$error":"#DIV/0!"}},null,null,"Перейти в Реестр ресурсов: ",null,{"$f":"HYPERLINK(\"#\"&ADDRESS(MATCH(I47,Toolbox!$C$1:$C$300),1,,,\"Toolbox\"),VLOOKUP(I47,Toolbox!$C$1:$C$300,1,FALSE))","v":"Инструментарий для картирования и анализа систем «Единое здоровье» (OH-SMART)"}]
[]
[]
[]
[]
[]
[null,null,null,null,null,null,null,null,{"$f":"Backbone!A437","v":"Анализ политического поля (PFA)"},null,null,null,null,null,null,"Специализированное картирование заинтересованных сторон, позволяющее визуализировать систему организаций и взаимодействие между ними по конкретному вопросу политики. ",null,null,null,null,null,null,null,null,{"$f":"INDEX(Backbone!$R$2:$R$893,MATCH(I53,Backbone!$A$2:$A$893,0))","v":"Руководящий документ"},null,null,null,{"$f":"INDEX(Backbone!$S$2:$S$893,MATCH(I53,Backbone!$A$2:$A$893,0))","v":"«Единое здоровье»; универсальный"},null,null,null,{"$f":"INDEX(Backbone!$H$2:$H$893,MATCH(I53,Backbone!$A$2:$A$893,0))","v":7.8},null,{"$f":"INDEX(Backbone!$I$2:$I$893,MATCH(I53,Backbone!$A$2:$A$893,0))","v":8},null,{"$f":"INDEX(Backbone!$J$2:$J$893,MATCH(I53,Backbone!$A$2:$A$893,0))","v":9.8000000000000007},null,{"$f":"INDEX(Backbone!$K$1:$K$893,MATCH(I53,Backbone!$A$1:$A$893,0))","v":10},null,{"$f":"INDEX(Backbone!$L$2:$L$893,MATCH(I53,Backbone!$A$2:$A$893,0))","v":7.1},null,{"$f":"INDEX(Backbone!$M$2:$M$893,MATCH(I53,Backbone!$A$2:$A$893,0))","v":4},null,{"$f":"INDEX(Backbone!$N$2:$N$893,MATCH(I53,Backbone!$A$2:$A$893,0))","v":7},null,{"$f":"INDEX(Backbone!$O$2:$O$893,MATCH(I53,Backbone!$A$2:$A$893,0))","v":8.8000000000000007},null,{"$f":"INDEX(Backbone!$P$2:$P$893,MATCH(I53,Backbone!$A$2:$A$893,0))","v":5},null,{"$f":"INDEX(Backbone!$Q$2:$Q$893,MATCH(I53,Backbone!$A$2:$A$893,0))","v":0.75},null,null,{"$f":"(AG53*$AG$22+AI53*$AI$22+AK53*$AK$22+AM53*$AM$22+AO53*$AO$22+AQ53*$AQ$22+AS53*$AS$22+AU53*$AU$22+AW53*$AW$22)/(SUM($AG$22:$AW$22)*10)","v":{"$error":"#DIV/0!"}},null,null,"Перейти в Реестр ресурсов: ",null,{"$f":"HYPERLINK(\"#\"&ADDRESS(MATCH(I53,Toolbox!$C$1:$C$300),1,,,\"Toolbox\"),VLOOKUP(I53,Toolbox!$C$1:$C$300,1,FALSE))","v":"Анализ политического поля (PFA)"}]
[]
[]
[]
[]
[]
[null,null,null,null,null,null,null,null,{"$f":"Backbone!A453","v":"Поэтапный подход к ликвидации бешенства (SARE)"},null,null,null,null,null,null,"Рабочий инструмент на базе Excel по планированию, мониторингу и оценке для реализации, разработки и доработки программ борьбы с бешенством. ",null,null,null,null,null,null,null,null,{"$f":"INDEX(Backbone!$R$2:$R$893,MATCH(I59,Backbone!$A$2:$A$893,0))","v":"Инструмент самооценки"},null,null,null,{"$f":"INDEX(Backbone!$S$2:$S$893,MATCH(I59,Backbone!$A$2:$A$893,0))","v":"«Единое здоровье»; ориентированный на конкретную болезнь/угрозу "},null,null,null,{"$f":"INDEX(Backbone!$H$2:$H$893,MATCH(I59,Backbone!$A$2:$A$893,0))","v":8},null,{"$f":"INDEX(Backbone!$I$2:$I$893,MATCH(I59,Backbone!$A$2:$A$893,0))","v":9},null,{"$f":"INDEX(Backbone!$J$2:$J$893,MATCH(I59,Backbone!$A$2:$A$893,0))","v":6.6},null,{"$f":"INDEX(Backbone!$K$1:$K$893,MATCH(I59,Backbone!$A$1:$A$893,0))","v":3.3},null,{"$f":"INDEX(Backbone!$L$2:$L$893,MATCH(I59,Backbone!$A$2:$A$893,0))","v":5.7},null,{"$f":"INDEX(Backbone!$M$2:$M$893,MATCH(I59,Backbone!$A$2:$A$893,0))","v":6.8},null,{"$f":"INDEX(Backbone!$N$2:$N$893,MATCH(I59,Backbone!$A$2:$A$893,0))","v":8},null,{"$f":"INDEX(Backbone!$O$2:$O$893,MATCH(I59,Backbone!$A$2:$A$893,0))","v":8.6},null,{"$f":"INDEX(Backbone!$P$2:$P$893,MATCH(I59,Backbone!$A$2:$A$893,0))","v":9.5},null,{"$f":"INDEX(Backbone!$Q$2:$Q$893,MATCH(I59,Backbone!$A$2:$A$893,0))","v":0.72777777777777775},null,null,{"$f":"(AG59*$AG$22+AI59*$AI$22+AK59*$AK$22+AM59*$AM$22+AO59*$AO$22+AQ59*$AQ$22+AS59*$AS$22+AU59*$AU$22+AW59*$AW$22)/(SUM($AG$22:$AW$22)*10)","v":{"$error":"#DIV/0!"}},null,null,"Перейти в Реестр ресурсов: ",null,{"$f":"HYPERLINK(\"#\"&ADDRESS(MATCH(I59,Toolbox!$C$1:$C$300),1,,,\"Toolbox\"),VLOOKUP(I59,Toolbox!$C$1:$C$300,1,FALSE))","v":"Поэтапный подход к ликвидации бешенства (SARE)"}]
[]
[]
[]
[]
[]
[]
[null,null,null,"Другие полезные ресурсы",null,null,null,null,{"$f":"Backbone!A100","v":"Оценка сотрудничества в рамках межотраслевой системы эпиднадзора (ECoSur)"},null,null,null,null,null,null,"Инструмент, предназначенный для оценки организации и функционирования взаимодействия в системе межотраслевого эпиднадзора и для анализа сильных и слабых сторон такого взаимодействия. ",null,null,null,null,null,null,null,null,{"$f":"INDEX(Backbone!$R$2:$R$893,MATCH(I66,Backbone!$A$2:$A$893,0))","v":"Инструмент или процесс с методическим руководством/пояснениями"},null,null,null,{"$f":"INDEX(Backbone!$S$2:$S$893,MATCH(I66,Backbone!$A$2:$A$893,0))","v":"«Единое здоровье»; универсальный"},null,null,null,{"$f":"INDEX(Backbone!$H$2:$H$893,MATCH(I66,Backbone!$A$2:$A$893,0))","v":8.3000000000000007},null,{"$f":"INDEX(Backbone!$I$2:$I$893,MATCH(I66,Backbone!$A$2:$A$893,0))","v":6},null,{"$f":"INDEX(Backbone!$J$2:$J$893,MATCH(I66,Backbone!$A$2:$A$893,0))","v":8.5},null,{"$f":"INDEX(Backbone!$K$1:$K$893,MATCH(I66,Backbone!$A$1:$A$893,0))","v":7.8},null,{"$f":"INDEX(Backbone!$L$2:$L$893,MATCH(I66,Backbone!$A$2:$A$893,0))","v":8.3000000000000007},null,{"$f":"INDEX(Backbone!$M$2:$M$893,MATCH(I66,Backbone!$A$2:$A$893,0))","v":6.7},null,{"$f":"INDEX(Backbone!$N$2:$N$893,MATCH(I66,Backbone!$A$2:$A$893,0))","v":3.3},null,{"$f":"INDEX(Backbone!$O$2:$O$893,MATCH(I66,Backbone!$A$2:$A$893,0))","v":9.1},null,{"$f":"INDEX(Backbone!$P$2:$P$893,MATCH(I66,Backbone!$A$2:$A$893,0))","v":4.7},null,{"$f":"INDEX(Backbone!$Q$2:$Q$893,MATCH(I66,Backbone!$A$2:$A$893,0))","v":0.69666666666666677},null,null,{"$f":"(AG66*$AG$22+AI66*$AI$22+AK66*$AK$22+AM66*$AM$22+AO66*$AO$22+AQ66*$AQ$22+AS66*$AS$22+AU66*$AU$22+AW66*$AW$22)/(SUM($AG$22:$AW$22)*10)","v":{"$error":"#DIV/0!"}},null,null,"Перейти в Реестр ресурсов: ",null,{"$f":"HYPERLINK(\"#\"&ADDRESS(MATCH(I66,Toolbox!$C$1:$C$300),1,,,\"Toolbox\"),VLOOKUP(I66,Toolbox!$C$1:$C$300,1,FALSE))","v":"Оценка сотрудничества в рамках межотраслевой системы эпиднадзора (ECoSur)"}]
[]
[]
[]
[]
[]
[null,null,null,null,null,null,null,null,{"$f":"Backbone!A195","v":"Комплексная система эпиднадзора и мер реагирования (IDSR)"},null,null,null,null,null,null,"Стратегия, разработанная с целью укрепить потенциал стран для выявления и подтверждения предполагаемых случаев заболевания и вспышек и реагирования на них, а также для использования информации для прогнозирования событий в области общественного здравоохранения и планирования мер реагирования на них. ",null,null,null,null,null,null,null,null,{"$f":"INDEX(Backbone!$R$2:$R$893,MATCH(I72,Backbone!$A$2:$A$893,0))","v":"Руководящий документ"},null,null,null,{"$f":"INDEX(Backbone!$S$2:$S$893,MATCH(I72,Backbone!$A$2:$A$893,0))","v":"Ориентированный на конкретный сектор; универсальный"},null,null,null,{"$f":"INDEX(Backbone!$H$2:$H$893,MATCH(I72,Backbone!$A$2:$A$893,0))","v":7.4},null,{"$f":"INDEX(Backbone!$I$2:$I$893,MATCH(I72,Backbone!$A$2:$A$893,0))","v":10},null,{"$f":"INDEX(Backbone!$J$2:$J$893,MATCH(I72,Backbone!$A$2:$A$893,0))","v":7.4},null,{"$f":"INDEX(Backbone!$K$1:$K$893,MATCH(I72,Backbone!$A$1:$A$893,0))","v":8.6999999999999993},null,{"$f":"INDEX(Backbone!$L$2:$L$893,MATCH(I72,Backbone!$A$2:$A$893,0))","v":6.7},null,{"$f":"INDEX(Backbone!$M$2:$M$893,MATCH(I72,Backbone!$A$2:$A$893,0))","v":4.5},null,{"$f":"INDEX(Backbone!$N$2:$N$893,MATCH(I72,Backbone!$A$2:$A$893,0))","v":8},null,{"$f":"INDEX(Backbone!$O$2:$O$893,MATCH(I72,Backbone!$A$2:$A$893,0))","v":7.2},null,{"$f":"INDEX(Backbone!$P$2:$P$893,MATCH(I72,Backbone!$A$2:$A$893,0))","v":8.5},null,{"$f":"INDEX(Backbone!$Q$2:$Q$893,MATCH(I72,Backbone!$A$2:$A$893,0))","v":0.76},null,null,{"$f":"(AG72*$AG$22+AI72*$AI$22+AK72*$AK$22+AM72*$AM$22+AO72*$AO$22+AQ72*$AQ$22+AS72*$AS$22+AU72*$AU$22+AW72*$AW$22)/(SUM($AG$22:$AW$22)*10)","v":{"$error":"#DIV/0!"}},null,null,"Перейти в Реестр ресурсов: ",null,{"$f":"HYPERLINK(\"#\"&ADDRESS(MATCH(I72,Toolbox!$C$1:$C$300),1,,,\"Toolbox\"),VLOOKUP(I72,Toolbox!$C$1:$C$300,1,FALSE))","v":"Комплексная система эпиднадзора и мер реагирования (IDSR)"}]
[]
[]
[]
[]
[]
[null,null,null,null,null,null,null,null,{"$f":"Backbone!A303","v":"Национальный план действий по обеспечению безопасности в области здравоохранения (NAPHS)"},null,null,null,null,null,null,"Организуемый самими странами процесс планирования, способный ускорить внедрение основных возможностей Международных медико-санитарных правил (ММСП) и основывающийся на концепции «Единое здоровье» и общегосударственном подходе ко всем видам опасностей.",null,null,null,null,null,null,null,null,{"$f":"INDEX(Backbone!$R$2:$R$893,MATCH(I78,Backbone!$A$2:$A$893,0))","v":"Руководящий документ"},null,null,null,{"$f":"INDEX(Backbone!$S$2:$S$893,MATCH(I78,Backbone!$A$2:$A$893,0))","v":"«Единое здоровье»; универсальный"},null,null,null,{"$f":"INDEX(Backbone!$H$2:$H$893,MATCH(I78,Backbone!$A$2:$A$893,0))","v":8},null,{"$f":"INDEX(Backbone!$I$2:$I$893,MATCH(I78,Backbone!$A$2:$A$893,0))","v":9},null,{"$f":"INDEX(Backbone!$J$2:$J$893,MATCH(I78,Backbone!$A$2:$A$893,0))","v":7.8},null,{"$f":"INDEX(Backbone!$K$1:$K$893,MATCH(I78,Backbone!$A$1:$A$893,0))","v":10},null,{"$f":"INDEX(Backbone!$L$2:$L$893,MATCH(I78,Backbone!$A$2:$A$893,0))","v":8},null,{"$f":"INDEX(Backbone!$M$2:$M$893,MATCH(I78,Backbone!$A$2:$A$893,0))","v":4.5},null,{"$f":"INDEX(Backbone!$N$2:$N$893,MATCH(I78,Backbone!$A$2:$A$893,0))","v":10},null,{"$f":"INDEX(Backbone!$O$2:$O$893,MATCH(I78,Backbone!$A$2:$A$893,0))","v":10},null,{"$f":"INDEX(Backbone!$P$2:$P$893,MATCH(I78,Backbone!$A$2:$A$893,0))","v":10},null,{"$f":"INDEX(Backbone!$Q$2:$Q$893,MATCH(I78,Backbone!$A$2:$A$893,0))","v":0.85888888888888881},null,null,{"$f":"(AG78*$AG$22+AI78*$AI$22+AK78*$AK$22+AM78*$AM$22+AO78*$AO$22+AQ78*$AQ$22+AS78*$AS$22+AU78*$AU$22+AW78*$AW$22)/(SUM($AG$22:$AW$22)*10)","v":{"$error":"#DIV/0!"}},null,null,"Перейти в Реестр ресурсов: ",null,{"$f":"HYPERLINK(\"#\"&ADDRESS(MATCH(I78,Toolbox!$C$1:$C$300),1,,,\"Toolbox\"),VLOOKUP(I78,Toolbox!$C$1:$C$300,1,FALSE))","v":"Национальный план действий по обеспечению безопасности в области здравоохранения (NAPHS)"}]
[]
[]
[]
[]
[]
[null,null,null,null,null,null,null,null,{"$f":"Backbone!A420","v":"Анализ пробелов ПВС, разработанный Всемирной организацией охраны здоровья животных (МЭБ)"},null,null,null,null,null,null,"Анализ пробелов ПВС — это учения, проводимые с национальными ветеринарными службами для определения их приоритетных целей, а также стратегий, мероприятий и объема инвестиций, необходимых для достижения этих целей.",null,null,null,null,null,null,null,null,{"$f":"INDEX(Backbone!$R$2:$R$893,MATCH(I84,Backbone!$A$2:$A$893,0))","v":"Инструмент или процесс с методическим руководством/пояснениями"},null,null,null,{"$f":"INDEX(Backbone!$S$2:$S$893,MATCH(I84,Backbone!$A$2:$A$893,0))","v":"Ориентированный на конкретный сектор; универсальный"},null,null,null,{"$f":"INDEX(Backbone!$H$2:$H$893,MATCH(I84,Backbone!$A$2:$A$893,0))","v":6.8},null,{"$f":"INDEX(Backbone!$I$2:$I$893,MATCH(I84,Backbone!$A$2:$A$893,0))","v":8},null,{"$f":"INDEX(Backbone!$J$2:$J$893,MATCH(I84,Backbone!$A$2:$A$893,0))","v":5.6},null,{"$f":"INDEX(Backbone!$K$1:$K$893,MATCH(I84,Backbone!$A$1:$A$893,0))","v":10},null,{"$f":"INDEX(Backbone!$L$2:$L$893,MATCH(I84,Backbone!$A$2:$A$893,0))","v":6},null,{"$f":"INDEX(Backbone!$M$2:$M$893,MATCH(I84,Backbone!$A$2:$A$893,0))","v":4.3},null,{"$f":"INDEX(Backbone!$N$2:$N$893,MATCH(I84,Backbone!$A$2:$A$893,0))","v":9.5},null,{"$f":"INDEX(Backbone!$O$2:$O$893,MATCH(I84,Backbone!$A$2:$A$893,0))","v":4.7},null,{"$f":"INDEX(Backbone!$P$2:$P$893,MATCH(I84,Backbone!$A$2:$A$893,0))","v":7},null,{"$f":"INDEX(Backbone!$Q$2:$Q$893,MATCH(I84,Backbone!$A$2:$A$893,0))","v":0.68777777777777771},null,null,{"$f":"(AG84*$AG$22+AI84*$AI$22+AK84*$AK$22+AM84*$AM$22+AO84*$AO$22+AQ84*$AQ$22+AS84*$AS$22+AU84*$AU$22+AW84*$AW$22)/(SUM($AG$22:$AW$22)*10)","v":{"$error":"#DIV/0!"}},null,null,"Перейти в Реестр ресурсов: ",null,{"$f":"HYPERLINK(\"#\"&ADDRESS(MATCH(I84,Toolbox!$C$1:$C$300),1,,,\"Toolbox\"),VLOOKUP(I84,Toolbox!$C$1:$C$300,1,FALSE))","v":"Анализ пробелов ПВС, разработанный Всемирной организацией охраны здоровья животных (МЭБ)"}]
[]
[]
[]
[]
[]
[null,null,null,null,null,null,null,null,{"$f":"Backbone!A510","v":"Рамочная программа по оценке эпиднадзора за здоровьем животных (SERVAL)"},null,null,null,null,null,null,"Пошаговое руководство по планированию, структурированию и оценке систем надзора за здоровьем животных.\n",null,null,null,null,null,null,null,null,{"$f":"INDEX(Backbone!$R$2:$R$893,MATCH(I90,Backbone!$A$2:$A$893,0))","v":"Руководящий документ"},null,null,null,{"$f":"INDEX(Backbone!$S$2:$S$893,MATCH(I90,Backbone!$A$2:$A$893,0))","v":"Ориентированный на конкретный сектор; универсальный"},null,null,null,{"$f":"INDEX(Backbone!$H$2:$H$893,MATCH(I90,Backbone!$A$2:$A$893,0))","v":8.8000000000000007},null,{"$f":"INDEX(Backbone!$I$2:$I$893,MATCH(I90,Backbone!$A$2:$A$893,0))","v":9},null,{"$f":"INDEX(Backbone!$J$2:$J$893,MATCH(I90,Backbone!$A$2:$A$893,0))","v":9},null,{"$f":"INDEX(Backbone!$K$1:$K$893,MATCH(I90,Backbone!$A$1:$A$893,0))","v":10},null,{"$f":"INDEX(Backbone!$L$2:$L$893,MATCH(I90,Backbone!$A$2:$A$893,0))","v":8.1},null,{"$f":"INDEX(Backbone!$M$2:$M$893,MATCH(I90,Backbone!$A$2:$A$893,0))","v":3.3},null,{"$f":"INDEX(Backbone!$N$2:$N$893,MATCH(I90,Backbone!$A$2:$A$893,0))","v":4},null,{"$f":"INDEX(Backbone!$O$2:$O$893,MATCH(I90,Backbone!$A$2:$A$893,0))","v":6.8},null,{"$f":"INDEX(Backbone!$P$2:$P$893,MATCH(I90,Backbone!$A$2:$A$893,0))","v":8},null,{"$f":"INDEX(Backbone!$Q$2:$Q$893,MATCH(I90,Backbone!$A$2:$A$893,0))","v":0.74444444444444446},null,null,{"$f":"(AG90*$AG$22+AI90*$AI$22+AK90*$AK$22+AM90*$AM$22+AO90*$AO$22+AQ90*$AQ$22+AS90*$AS$22+AU90*$AU$22+AW90*$AW$22)/(SUM($AG$22:$AW$22)*10)","v":{"$error":"#DIV/0!"}},null,null,"Перейти в Реестр ресурсов: ",null,{"$f":"HYPERLINK(\"#\"&ADDRESS(MATCH(I90,Toolbox!$C$1:$C$300),1,,,\"Toolbox\"),VLOOKUP(I90,Toolbox!$C$1:$C$300,1,FALSE))","v":"Рамочная программа по оценке эпиднадзора за здоровьем животных (SERVAL)"}]
[]
[]
[]
[]
[]
[]
[]
[]
[]
[]
[]
[]
[]
[]
[]
[]
[]
[]
[]
[]
[]
[]
[]
[]
[null,null,null,null,null,null,null,null,null,null,null,null,null,null,null,null,null,null,null,null,null,null,null,null,null,null,null,null,null,null,null,null,"Доступность",null,"Язык",null,"Простота использования",null,"Гибкость",null,"Потребности в данных",null,"Анализ данных",null,"Приемлемость",null,"«Единое здоровье»",null,"Воздействие"]
[]
[]
[]
[]
[]
[]
[null,null,null,null,null,null,null,null,null,null,null,null,null,null,null,null,null,null,null,null,null,null,null,null,null,null,null,null,null,null,null,null,null,null,null,null,null,null,null,null,null,null,null,null,null,null,null,null,null,null,"ИСХОДНАЯ ОЦЕНКА",null,null,"СКОРРЕКТИРОВАННАЯ ОЦЕНКА \n(Исходя из предпочтений пользователей)"]
[]
[]
[]
[null,"РЕСУРСЫ УРОВНЯ 2",null,"КЛАССИФИКАЦИЯ",null,null,null,null,"НАЗВАНИЕ РЕСУРСА",null,null,null,null,null,null,"КРАТКОЕ ОПИСАНИЕ",null,null,null,null,null,null,null,null,"ВИД РЕСУРСА",null,null,null,"ОБЩАЯ НАПРАВЛЕННОСТЬ РЕСУРСА"]
[]
[]
[]
[null,null,null,null,null,null,null,null,null,null,null,null,null,null,null,null,null,null,null,null,null,null,null,null,null,null,null,null,null,null,null,null,{"$f":"'Attribute Survey'!S130","v":0},null,{"$f":"'Attribute Survey'!S134","v":0},null,{"$f":"'Attribute Survey'!S138","v":0},null,{"$f":"'Attribute Survey'!S142","v":0},null,{"$f":"'Attribute Survey'!S146","v":0},null,{"$f":"'Attribute Survey'!S150","v":0},null,{"$f":"'Attribute Survey'!S154","v":0},null,{"$f":"'Attribute Survey'!S158","v":0},null,{"$f":"'Attribute Survey'!S162","v":0}]
[null,null,null,"Наиболее подходящие ресурсы",null,null,null,null,{"$f":"Backbone!A51","v":"Руководство для сбора данных о потенциале страны в отношении охраны здоровья в пограничных районах (BHCDG)"},null,null,null,null,null,null,"Шаблонные инструменты, помогающие в проведении обсуждений с представителями национальных, районных и наземных пограничных служб по вопросам охраны здоровья на границе ",null,null,null,null,null,null,null,null,{"$f":"INDEX(Backbone!$R2:$R893,MATCH(I131,Backbone!$A2:$A893,0))","v":"Руководящий документ"},null,null,null,{"$f":"INDEX(Backbone!S2:S893,MATCH(I131,Backbone!A2:A893,0))","v":"«Единое здоровье»; ориентированный на конкретную болезнь/угрозу "},null,null,null,{"$f":"INDEX(Backbone!H2:H893,MATCH(I131,Backbone!A2:A893,0))","v":8.8000000000000007},null,{"$f":"INDEX(Backbone!I2:I893,MATCH(I131,Backbone!A2:A893,0))","v":6.7},null,{"$f":"INDEX(Backbone!J2:J893,MATCH(I131,Backbone!A2:A893,0))","v":7.6},null,{"$f":"INDEX(Backbone!K2:K893,MATCH(I131,Backbone!A2:A893,0))","v":9},null,{"$f":"INDEX(Backbone!L2:L893,MATCH(I131,Backbone!A2:A893,0))","v":7},null,{"$f":"INDEX(Backbone!M2:M893,MATCH(I131,Backbone!A2:A893,0))","v":3.8},null,{"$f":"INDEX(Backbone!N2:N893,MATCH(I131,Backbone!A2:A893,0))","v":8},null,{"$f":"INDEX(Backbone!O2:O893,MATCH(I131,Backbone!A2:A893,0))","v":8.4},null,{"$f":"INDEX(Backbone!P2:P893,MATCH(I131,Backbone!A2:A893,0))","v":6},null,{"$f":"INDEX(Backbone!Q2:Q893,MATCH(I131,Backbone!A2:A893,0))","v":0.72555555555555551},null,null,{"$f":"(AG131*AG22+AI23*AI22+AK131*AK22+AM131*AM22+AO131*AO22+AQ131*AQ22+AS131*AS22+AU131*AU22+AW131*AW22)/(SUM(AG22:AW22)*10)","v":{"$error":"#DIV/0!"}},null,null,"Перейти в Реестр ресурсов: ",null,{"$f":"HYPERLINK(\"#\"&ADDRESS(MATCH(I131,Toolbox!$C$1:$C$300),1,,,\"Toolbox\"),VLOOKUP(I131,Toolbox!$C$1:$C$300,1,FALSE))","v":"Руководство для сбора данных о потенциале страны в отношении охраны здоровья в пограничных районах (BHCDG)"}]
[]
[]
[]
[]
[]
[null,null,null,null,null,null,null,null,{"$f":"Backbone!A239","v":"Национальный семинар по выстраиванию связей ММСП-ПВС"},null,null,null,null,null,null," Семинар, позволяющий секторам охраны здоровья животных и здравоохранения человека в странах определить, где пересекается их работа, при необходимости создавать соответствующие связи для обеспечения взаимодействия. ",null,null,null,null,null,null,null,null,{"$f":"INDEX(Backbone!$R$2:$R$893,MATCH(I137,Backbone!$A$2:$A$893,0))","v":"Инструмент или процесс с методическим руководством/пояснениями"},null,null,null,{"$f":"INDEX(Backbone!$S$2:$S$893,MATCH(I137,Backbone!$A$2:$A$893,0))","v":"«Единое здоровье»; универсальный"},null,null,null,{"$f":"INDEX(Backbone!$H$2:$H$893,MATCH(I137,Backbone!$A$2:$A$893,0))","v":8.6},null,{"$f":"INDEX(Backbone!$I$2:$I$893,MATCH(I137,Backbone!$A$2:$A$893,0))","v":10},null,{"$f":"INDEX(Backbone!$J$2:$J$893,MATCH(I137,Backbone!$A$2:$A$893,0))","v":6.2},null,{"$f":"INDEX(Backbone!$K$2:$K$893,MATCH(I137,Backbone!$A$2:$A$893,0))","v":10},null,{"$f":"INDEX(Backbone!$L$2:$L$893,MATCH(I137,Backbone!$A$2:$A$893,0))","v":6},null,{"$f":"INDEX(Backbone!$M$2:$M$893,MATCH(I137,Backbone!$A$2:$A$893,0))","v":7},null,{"$f":"INDEX(Backbone!$N$2:$N$893,MATCH(I137,Backbone!$A$2:$A$893,0))","v":9},null,{"$f":"INDEX(Backbone!$O$2:$O$893,MATCH(I137,Backbone!$A$2:$A$893,0))","v":8.1999999999999993},null,{"$f":"INDEX(Backbone!$P$2:$P$893,MATCH(I137,Backbone!$A$2:$A$893,0))","v":10},null,{"$f":"INDEX(Backbone!$Q$2:$Q$893,MATCH(I137,Backbone!$A$2:$A$893,0))","v":0.83333333333333337},null,null,{"$f":"(AG137*$AG$22+AI137*$AI$22+AK137*$AK$22+AM137*$AM$22+AO137*$AO$22+AQ137*$AQ$22+AS137*$AS$22+AU137*$AU$22+AW137*$AW$22)/(SUM($AG$22:$AW$22)*10)","v":{"$error":"#DIV/0!"}},null,null,"Перейти в Реестр ресурсов: ",null,{"$f":"HYPERLINK(\"#\"&ADDRESS(MATCH(I137,Toolbox!$C$1:$C$300),1,,,\"Toolbox\"),VLOOKUP(I137,Toolbox!$C$1:$C$300,1,FALSE))","v":"Национальный семинар по выстраиванию связей ММСП-ПВС"}]
[]
[]
[]
[]
[]
[null,null,null,null,null,null,null,null,{"$f":"Backbone!A400","v":"Инструмент для оценки требований и готовности к эпиднадзору на основе концепции «Единое здоровье» (OHSRRT)"},null,null,null,null,null,null,"Инструмент оценки требований и готовности к эпиднадзору, позволяющий определить уровень готовности страны и собрать требования для развития системы эпиднадзора на основе концепции «Единое здоровье» исходя из важнейших факторов успеха.",null,null,null,null,null,null,null,null,{"$f":"INDEX(Backbone!$R$2:$R$893,MATCH(I143,Backbone!$A$2:$A$893,0))","v":"Инструмент самооценки"},null,null,null,{"$f":"INDEX(Backbone!$S$2:$S$893,MATCH(I143,Backbone!$A$2:$A$893,0))","v":"«Единое здоровье»; универсальный"},null,null,null,{"$f":"INDEX(Backbone!$H$2:$H$893,MATCH(I143,Backbone!$A$2:$A$893,0))","v":8},null,{"$f":"INDEX(Backbone!$I$2:$I$893,MATCH(I143,Backbone!$A$2:$A$893,0))","v":6},null,{"$f":"INDEX(Backbone!$J$2:$J$893,MATCH(I143,Backbone!$A$2:$A$893,0))","v":7.4},null,{"$f":"INDEX(Backbone!$K$1:$K$893,MATCH(I143,Backbone!$A$1:$A$893,0))","v":8.6999999999999993},null,{"$f":"INDEX(Backbone!$L$2:$L$893,MATCH(I143,Backbone!$A$2:$A$893,0))","v":6},null,{"$f":"INDEX(Backbone!$M$2:$M$893,MATCH(I143,Backbone!$A$2:$A$893,0))","v":2.5},null,{"$f":"INDEX(Backbone!$N$2:$N$893,MATCH(I143,Backbone!$A$2:$A$893,0))","v":2},null,{"$f":"INDEX(Backbone!$O$2:$O$893,MATCH(I143,Backbone!$A$2:$A$893,0))","v":9.6},null,{"$f":"INDEX(Backbone!$P$2:$P$893,MATCH(I143,Backbone!$A$2:$A$893,0))","v":5.5},null,{"$f":"INDEX(Backbone!$Q$2:$Q$893,MATCH(I143,Backbone!$A$2:$A$893,0))","v":0.61888888888888882},null,null,{"$f":"(AG143*$AG$22+AI143*$AI$22+AK143*$AK$22+AM143*$AM$22+AO143*$AO$22+AQ143*$AQ$22+AS143*$AS$22+AU143*$AU$22+AW143*$AW$22)/(SUM($AG$22:$AW$22)*10)","v":{"$error":"#DIV/0!"}},null,null,"Перейти в Реестр ресурсов: ",null,{"$f":"HYPERLINK(\"#\"&ADDRESS(MATCH(I143,Toolbox!$C$1:$C$300),1,,,\"Toolbox\"),VLOOKUP(I143,Toolbox!$C$1:$C$300,1,FALSE))","v":"Инструмент для оценки требований и готовности к эпиднадзору на основе концепции «Единое здоровье» (OHSRRT)"}]
[]
[]
[]
[]
[]
[null,null,null,null,null,null,null,null,{"$f":"Backbone!A367","v":"Инструмент оценки систем здравоохранения на предмет предотвращения приоритетных зоонозов и борьбы с ними в соответствии с подходом «Единое здоровье» (OH-SAPZ)"},null,null,null,null,null,null,"Настоящий инструмент призван упростить планомерные оценки национальных структур для координации в рамках подхода «Единое здоровье» с точки зрения профилактики и выявления зоонозов и мер борьбы с ними.  ",null,null,null,null,null,null,null,null,{"$f":"INDEX(Backbone!$R$2:$R$893,MATCH(I149,Backbone!$A$2:$A$893,0))","v":"Инструмент самооценки"},null,null,null,{"$f":"INDEX(Backbone!$S$2:$S$893,MATCH(I149,Backbone!$A$2:$A$893,0))","v":"«Единое здоровье»; универсальный"},null,null,null,{"$f":"INDEX(Backbone!$H$2:$H$893,MATCH(I149,Backbone!$A$2:$A$893,0))","v":7.9},null,{"$f":"INDEX(Backbone!$I$2:$I$893,MATCH(I149,Backbone!$A$2:$A$893,0))","v":7.3},null,{"$f":"INDEX(Backbone!$J$2:$J$893,MATCH(I149,Backbone!$A$2:$A$893,0))","v":7.2},null,{"$f":"INDEX(Backbone!$K$1:$K$893,MATCH(I149,Backbone!$A$1:$A$893,0))","v":7.8},null,{"$f":"INDEX(Backbone!$L$2:$L$893,MATCH(I149,Backbone!$A$2:$A$893,0))","v":6.5},null,{"$f":"INDEX(Backbone!$M$2:$M$893,MATCH(I149,Backbone!$A$2:$A$893,0))","v":5.2},null,{"$f":"INDEX(Backbone!$N$2:$N$893,MATCH(I149,Backbone!$A$2:$A$893,0))","v":4},null,{"$f":"INDEX(Backbone!$O$2:$O$893,MATCH(I149,Backbone!$A$2:$A$893,0))","v":8.3000000000000007},null,{"$f":"INDEX(Backbone!$P$2:$P$893,MATCH(I149,Backbone!$A$2:$A$893,0))","v":9.6999999999999993},null,{"$f":"INDEX(Backbone!$Q$2:$Q$893,MATCH(I149,Backbone!$A$2:$A$893,0))","v":0.71000000000000008},null,null,{"$f":"(AG149*$AG$22+AI149*$AI$22+AK149*$AK$22+AM149*$AM$22+AO149*$AO$22+AQ149*$AQ$22+AS149*$AS$22+AU149*$AU$22+AW149*$AW$22)/(SUM($AG$22:$AW$22)*10)","v":{"$error":"#DIV/0!"}},null,null,"Перейти в Реестр ресурсов: ",null,{"$f":"HYPERLINK(\"#\"&ADDRESS(MATCH(I149,Toolbox!$C$1:$C$300),1,,,\"Toolbox\"),VLOOKUP(I149,Toolbox!$C$1:$C$300,1,FALSE))","v":"Инструмент оценки систем здравоохранения на предмет предотвращения приоритетных зоонозов и борьбы с ними в соответствии с подходом «Единое здоровье» (OH-SAPZ)"}]
[]
[]
[]
[]
[]
[null,null,null,null,null,null,null,null,{"$f":"Backbone!A413","v":"Инструментарий для картирования и анализа систем «Единое здоровье» (OH-SMART)"},null,null,null,null,null,null,"Процесс, позволяющий заинтересованным сторонам из нескольких секторов картировать, анализировать и улучшать существующую систему, которая требует междисциплинарного и межотраслевого взаимодействия.",null,null,null,null,null,null,null,null,{"$f":"INDEX(Backbone!$R$2:$R$893,MATCH(I155,Backbone!$A$2:$A$893,0))","v":"Инструмент или процесс с методическим руководством/пояснениями"},null,null,null,{"$f":"INDEX(Backbone!$S$2:$S$893,MATCH(I155,Backbone!$A$2:$A$893,0))","v":"«Единое здоровье»; универсальный"},null,null,null,{"$f":"INDEX(Backbone!$H$2:$H$893,MATCH(I155,Backbone!$A$2:$A$893,0))","v":8.6999999999999993},null,{"$f":"INDEX(Backbone!$I$2:$I$893,MATCH(I155,Backbone!$A$2:$A$893,0))","v":7.3},null,{"$f":"INDEX(Backbone!$J$2:$J$893,MATCH(I155,Backbone!$A$2:$A$893,0))","v":8.4},null,{"$f":"INDEX(Backbone!$K$1:$K$893,MATCH(I155,Backbone!$A$1:$A$893,0))","v":9.3000000000000007},null,{"$f":"INDEX(Backbone!$L$2:$L$893,MATCH(I155,Backbone!$A$2:$A$893,0))","v":8.1999999999999993},null,{"$f":"INDEX(Backbone!$M$2:$M$893,MATCH(I155,Backbone!$A$2:$A$893,0))","v":7.4},null,{"$f":"INDEX(Backbone!$N$2:$N$893,MATCH(I155,Backbone!$A$2:$A$893,0))","v":9.5},null,{"$f":"INDEX(Backbone!$O$2:$O$893,MATCH(I155,Backbone!$A$2:$A$893,0))","v":10},null,{"$f":"INDEX(Backbone!$P$2:$P$893,MATCH(I155,Backbone!$A$2:$A$893,0))","v":10},null,{"$f":"INDEX(Backbone!$Q$2:$Q$893,MATCH(I155,Backbone!$A$2:$A$893,0))","v":0.87555555555555564},null,null,{"$f":"(AG155*$AG$22+AI155*$AI$22+AK155*$AK$22+AM155*$AM$22+AO155*$AO$22+AQ155*$AQ$22+AS155*$AS$22+AU155*$AU$22+AW155*$AW$22)/(SUM($AG$22:$AW$22)*10)","v":{"$error":"#DIV/0!"}},null,null,"Перейти в Реестр ресурсов: ",null,{"$f":"HYPERLINK(\"#\"&ADDRESS(MATCH(I155,Toolbox!$C$1:$C$300),1,,,\"Toolbox\"),VLOOKUP(I155,Toolbox!$C$1:$C$300,1,FALSE))","v":"Инструментарий для картирования и анализа систем «Единое здоровье» (OH-SMART)"}]
[]
[]
[]
[]
[]
[null,null,null,null,null,null,null,null,{"$f":"Backbone!A437","v":"Анализ политического поля (PFA)"},null,null,null,null,null,null,"Специализированное картирование заинтересованных сторон, позволяющее визуализировать систему организаций и взаимодействие между ними по конкретному вопросу политики. ",null,null,null,null,null,null,null,null,{"$f":"INDEX(Backbone!$R$2:$R$893,MATCH(I161,Backbone!$A$2:$A$893,0))","v":"Руководящий документ"},null,null,null,{"$f":"INDEX(Backbone!$S$2:$S$893,MATCH(I161,Backbone!$A$2:$A$893,0))","v":"«Единое здоровье»; универсальный"},null,null,null,{"$f":"INDEX(Backbone!$H$2:$H$893,MATCH(I161,Backbone!$A$2:$A$893,0))","v":7.8},null,{"$f":"INDEX(Backbone!$I$2:$I$893,MATCH(I161,Backbone!$A$2:$A$893,0))","v":8},null,{"$f":"INDEX(Backbone!$J$2:$J$893,MATCH(I161,Backbone!$A$2:$A$893,0))","v":9.8000000000000007},null,{"$f":"INDEX(Backbone!$K$1:$K$893,MATCH(I161,Backbone!$A$1:$A$893,0))","v":10},null,{"$f":"INDEX(Backbone!$L$2:$L$893,MATCH(I161,Backbone!$A$2:$A$893,0))","v":7.1},null,{"$f":"INDEX(Backbone!$M$2:$M$893,MATCH(I161,Backbone!$A$2:$A$893,0))","v":4},null,{"$f":"INDEX(Backbone!$N$2:$N$893,MATCH(I161,Backbone!$A$2:$A$893,0))","v":7},null,{"$f":"INDEX(Backbone!$O$2:$O$893,MATCH(I161,Backbone!$A$2:$A$893,0))","v":8.8000000000000007},null,{"$f":"INDEX(Backbone!$P$2:$P$893,MATCH(I161,Backbone!$A$2:$A$893,0))","v":5},null,{"$f":"INDEX(Backbone!$Q$2:$Q$893,MATCH(I161,Backbone!$A$2:$A$893,0))","v":0.75},null,null,{"$f":"(AG161*$AG$22+AI161*$AI$22+AK161*$AK$22+AM161*$AM$22+AO161*$AO$22+AQ161*$AQ$22+AS161*$AS$22+AU161*$AU$22+AW161*$AW$22)/(SUM($AG$22:$AW$22)*10)","v":{"$error":"#DIV/0!"}},null,null,"Перейти в Реестр ресурсов: ",null,{"$f":"HYPERLINK(\"#\"&ADDRESS(MATCH(I161,Toolbox!$C$1:$C$300),1,,,\"Toolbox\"),VLOOKUP(I161,Toolbox!$C$1:$C$300,1,FALSE))","v":"Анализ политического поля (PFA)"}]
[]
[]
[]
[]
[]
[null,null,null,null,null,null,null,null,{"$f":"Backbone!A453","v":"Поэтапный подход к ликвидации бешенства (SARE)"},null,null,null,null,null,null,"Рабочий инструмент на базе Excel по планированию, мониторингу и оценке для реализации, разработки и доработки программ борьбы с бешенством. ",null,null,null,null,null,null,null,null,{"$f":"INDEX(Backbone!$R$2:$R$893,MATCH(I167,Backbone!$A$2:$A$893,0))","v":"Инструмент самооценки"},null,null,null,{"$f":"INDEX(Backbone!$S$2:$S$893,MATCH(I167,Backbone!$A$2:$A$893,0))","v":"«Единое здоровье»; ориентированный на конкретную болезнь/угрозу "},null,null,null,{"$f":"INDEX(Backbone!$H$2:$H$893,MATCH(I167,Backbone!$A$2:$A$893,0))","v":8},null,{"$f":"INDEX(Backbone!$I$2:$I$893,MATCH(I167,Backbone!$A$2:$A$893,0))","v":9},null,{"$f":"INDEX(Backbone!$J$2:$J$893,MATCH(I167,Backbone!$A$2:$A$893,0))","v":6.6},null,{"$f":"INDEX(Backbone!$K$1:$K$893,MATCH(I167,Backbone!$A$1:$A$893,0))","v":3.3},null,{"$f":"INDEX(Backbone!$L$2:$L$893,MATCH(I167,Backbone!$A$2:$A$893,0))","v":5.7},null,{"$f":"INDEX(Backbone!$M$2:$M$893,MATCH(I167,Backbone!$A$2:$A$893,0))","v":6.8},null,{"$f":"INDEX(Backbone!$N$2:$N$893,MATCH(I167,Backbone!$A$2:$A$893,0))","v":8},null,{"$f":"INDEX(Backbone!$O$2:$O$893,MATCH(I167,Backbone!$A$2:$A$893,0))","v":8.6},null,{"$f":"INDEX(Backbone!$P$2:$P$893,MATCH(I167,Backbone!$A$2:$A$893,0))","v":9.5},null,{"$f":"INDEX(Backbone!$Q$2:$Q$893,MATCH(I167,Backbone!$A$2:$A$893,0))","v":0.72777777777777775},null,null,{"$f":"(AG167*$AG$22+AI167*$AI$22+AK167*$AK$22+AM167*$AM$22+AO167*$AO$22+AQ167*$AQ$22+AS167*$AS$22+AU167*$AU$22+AW167*$AW$22)/(SUM($AG$22:$AW$22)*10)","v":{"$error":"#DIV/0!"}},null,null,"Перейти в Реестр ресурсов: ",null,{"$f":"HYPERLINK(\"#\"&ADDRESS(MATCH(I167,Toolbox!$C$1:$C$300),1,,,\"Toolbox\"),VLOOKUP(I167,Toolbox!$C$1:$C$300,1,FALSE))","v":"Поэтапный подход к ликвидации бешенства (SARE)"}]
[]
[]
[]
[]
[]
[]
[null,null,null,"Другие полезные ресурсы",null,null,null,null,{"$f":"Backbone!A100","v":"Оценка сотрудничества в рамках межотраслевой системы эпиднадзора (ECoSur)"},null,null,null,null,null,null,"Инструмент, предназначенный для оценки организации и функционирования взаимодействия в системе межотраслевого эпиднадзора и для анализа сильных и слабых сторон такого взаимодействия. ",null,null,null,null,null,null,null,null,{"$f":"INDEX(Backbone!$R$2:$R$893,MATCH(I174,Backbone!$A$2:$A$893,0))","v":"Инструмент или процесс с методическим руководством/пояснениями"},null,null,null,{"$f":"INDEX(Backbone!$S$2:$S$893,MATCH(I174,Backbone!$A$2:$A$893,0))","v":"«Единое здоровье»; универсальный"},null,null,null,{"$f":"INDEX(Backbone!$H$2:$H$893,MATCH(I174,Backbone!$A$2:$A$893,0))","v":8.3000000000000007},null,{"$f":"INDEX(Backbone!$I$2:$I$893,MATCH(I174,Backbone!$A$2:$A$893,0))","v":6},null,{"$f":"INDEX(Backbone!$J$2:$J$893,MATCH(I174,Backbone!$A$2:$A$893,0))","v":8.5},null,{"$f":"INDEX(Backbone!$K$1:$K$893,MATCH(I174,Backbone!$A$1:$A$893,0))","v":7.8},null,{"$f":"INDEX(Backbone!$L$2:$L$893,MATCH(I174,Backbone!$A$2:$A$893,0))","v":8.3000000000000007},null,{"$f":"INDEX(Backbone!$M$2:$M$893,MATCH(I174,Backbone!$A$2:$A$893,0))","v":6.7},null,{"$f":"INDEX(Backbone!$N$2:$N$893,MATCH(I174,Backbone!$A$2:$A$893,0))","v":3.3},null,{"$f":"INDEX(Backbone!$O$2:$O$893,MATCH(I174,Backbone!$A$2:$A$893,0))","v":9.1},null,{"$f":"INDEX(Backbone!$P$2:$P$893,MATCH(I174,Backbone!$A$2:$A$893,0))","v":4.7},null,{"$f":"INDEX(Backbone!$Q$2:$Q$893,MATCH(I174,Backbone!$A$2:$A$893,0))","v":0.69666666666666677},null,null,{"$f":"(AG174*$AG$22+AI174*$AI$22+AK174*$AK$22+AM174*$AM$22+AO174*$AO$22+AQ174*$AQ$22+AS174*$AS$22+AU174*$AU$22+AW174*$AW$22)/(SUM($AG$22:$AW$22)*10)","v":{"$error":"#DIV/0!"}},null,null,"Перейти в Реестр ресурсов: ",null,{"$f":"HYPERLINK(\"#\"&ADDRESS(MATCH(I174,Toolbox!$C$1:$C$300),1,,,\"Toolbox\"),VLOOKUP(I174,Toolbox!$C$1:$C$300,1,FALSE))","v":"Оценка сотрудничества в рамках межотраслевой системы эпиднадзора (ECoSur)"}]
[]
[]
[]
[]
[]
[null,null,null,null,null,null,null,null,{"$f":"Backbone!A195","v":"Комплексная система эпиднадзора и мер реагирования (IDSR)"},null,null,null,null,null,null,"Стратегия, разработанная с целью укрепить потенциал стран для выявления и подтверждения предполагаемых случаев заболевания и вспышек и реагирования на них, а также для использования информации для прогнозирования событий в области общественного здравоохранения и планирования мер реагирования на них. ",null,null,null,null,null,null,null,null,{"$f":"INDEX(Backbone!$R$2:$R$893,MATCH(I180,Backbone!$A$2:$A$893,0))","v":"Руководящий документ"},null,null,null,{"$f":"INDEX(Backbone!$S$2:$S$893,MATCH(I180,Backbone!$A$2:$A$893,0))","v":"Ориентированный на конкретный сектор; универсальный"},null,null,null,{"$f":"INDEX(Backbone!$H$2:$H$893,MATCH(I180,Backbone!$A$2:$A$893,0))","v":7.4},null,{"$f":"INDEX(Backbone!$I$2:$I$893,MATCH(I180,Backbone!$A$2:$A$893,0))","v":10},null,{"$f":"INDEX(Backbone!$J$2:$J$893,MATCH(I180,Backbone!$A$2:$A$893,0))","v":7.4},null,{"$f":"INDEX(Backbone!$K$1:$K$893,MATCH(I180,Backbone!$A$1:$A$893,0))","v":8.6999999999999993},null,{"$f":"INDEX(Backbone!$L$2:$L$893,MATCH(I180,Backbone!$A$2:$A$893,0))","v":6.7},null,{"$f":"INDEX(Backbone!$M$2:$M$893,MATCH(I180,Backbone!$A$2:$A$893,0))","v":4.5},null,{"$f":"INDEX(Backbone!$N$2:$N$893,MATCH(I180,Backbone!$A$2:$A$893,0))","v":8},null,{"$f":"INDEX(Backbone!$O$2:$O$893,MATCH(I180,Backbone!$A$2:$A$893,0))","v":7.2},null,{"$f":"INDEX(Backbone!$P$2:$P$893,MATCH(I180,Backbone!$A$2:$A$893,0))","v":8.5},null,{"$f":"INDEX(Backbone!$Q$2:$Q$893,MATCH(I180,Backbone!$A$2:$A$893,0))","v":0.76},null,null,{"$f":"(AG180*$AG$22+AI180*$AI$22+AK180*$AK$22+AM180*$AM$22+AO180*$AO$22+AQ180*$AQ$22+AS180*$AS$22+AU180*$AU$22+AW180*$AW$22)/(SUM($AG$22:$AW$22)*10)","v":{"$error":"#DIV/0!"}},null,null,"Перейти в Реестр ресурсов: ",null,{"$f":"HYPERLINK(\"#\"&ADDRESS(MATCH(I180,Toolbox!$C$1:$C$300),1,,,\"Toolbox\"),VLOOKUP(I180,Toolbox!$C$1:$C$300,1,FALSE))","v":"Комплексная система эпиднадзора и мер реагирования (IDSR)"}]
[]
[]
[]
[]
[]
[null,null,null,null,null,null,null,null,{"$f":"Backbone!A303","v":"Национальный план действий по обеспечению безопасности в области здравоохранения (NAPHS)"},null,null,null,null,null,null,"Организуемый самими странами процесс планирования, способный ускорить внедрение основных возможностей Международных медико-санитарных правил (ММСП) и основывающийся на концепции «Единое здоровье» и общегосударственном подходе ко всем видам опасностей.",null,null,null,null,null,null,null,null,{"$f":"INDEX(Backbone!$R$2:$R$893,MATCH(I186,Backbone!$A$2:$A$893,0))","v":"Руководящий документ"},null,null,null,{"$f":"INDEX(Backbone!$S$2:$S$893,MATCH(I186,Backbone!$A$2:$A$893,0))","v":"«Единое здоровье»; универсальный"},null,null,null,{"$f":"INDEX(Backbone!$H$2:$H$893,MATCH(I186,Backbone!$A$2:$A$893,0))","v":8},null,{"$f":"INDEX(Backbone!$I$2:$I$893,MATCH(I186,Backbone!$A$2:$A$893,0))","v":9},null,{"$f":"INDEX(Backbone!$J$2:$J$893,MATCH(I186,Backbone!$A$2:$A$893,0))","v":7.8},null,{"$f":"INDEX(Backbone!$K$1:$K$893,MATCH(I186,Backbone!$A$1:$A$893,0))","v":10},null,{"$f":"INDEX(Backbone!$L$2:$L$893,MATCH(I186,Backbone!$A$2:$A$893,0))","v":8},null,{"$f":"INDEX(Backbone!$M$2:$M$893,MATCH(I186,Backbone!$A$2:$A$893,0))","v":4.5},null,{"$f":"INDEX(Backbone!$N$2:$N$893,MATCH(I186,Backbone!$A$2:$A$893,0))","v":10},null,{"$f":"INDEX(Backbone!$O$2:$O$893,MATCH(I186,Backbone!$A$2:$A$893,0))","v":10},null,{"$f":"INDEX(Backbone!$P$2:$P$893,MATCH(I186,Backbone!$A$2:$A$893,0))","v":10},null,{"$f":"INDEX(Backbone!$Q$2:$Q$893,MATCH(I186,Backbone!$A$2:$A$893,0))","v":0.85888888888888881},null,null,{"$f":"(AG186*$AG$22+AI186*$AI$22+AK186*$AK$22+AM186*$AM$22+AO186*$AO$22+AQ186*$AQ$22+AS186*$AS$22+AU186*$AU$22+AW186*$AW$22)/(SUM($AG$22:$AW$22)*10)","v":{"$error":"#DIV/0!"}},null,null,"Перейти в Реестр ресурсов: ",null,{"$f":"HYPERLINK(\"#\"&ADDRESS(MATCH(I186,Toolbox!$C$1:$C$300),1,,,\"Toolbox\"),VLOOKUP(I186,Toolbox!$C$1:$C$300,1,FALSE))","v":"Национальный план действий по обеспечению безопасности в области здравоохранения (NAPHS)"}]
[]
[]
[]
[]
[]
[null,null,null,null,null,null,null,null,{"$f":"Backbone!A420","v":"Анализ пробелов ПВС, разработанный Всемирной организацией охраны здоровья животных (МЭБ)"},null,null,null,null,null,null,"Анализ пробелов ПВС — это учения, проводимые с национальными ветеринарными службами для определения их приоритетных целей, а также стратегий, мероприятий и объема инвестиций, необходимых для достижения этих целей.",null,null,null,null,null,null,null,null,{"$f":"INDEX(Backbone!$R$2:$R$893,MATCH(I192,Backbone!$A$2:$A$893,0))","v":"Инструмент или процесс с методическим руководством/пояснениями"},null,null,null,{"$f":"INDEX(Backbone!$S$2:$S$893,MATCH(I192,Backbone!$A$2:$A$893,0))","v":"Ориентированный на конкретный сектор; универсальный"},null,null,null,{"$f":"INDEX(Backbone!$H$2:$H$893,MATCH(I192,Backbone!$A$2:$A$893,0))","v":6.8},null,{"$f":"INDEX(Backbone!$I$2:$I$893,MATCH(I192,Backbone!$A$2:$A$893,0))","v":8},null,{"$f":"INDEX(Backbone!$J$2:$J$893,MATCH(I192,Backbone!$A$2:$A$893,0))","v":5.6},null,{"$f":"INDEX(Backbone!$K$1:$K$893,MATCH(I192,Backbone!$A$1:$A$893,0))","v":10},null,{"$f":"INDEX(Backbone!$L$2:$L$893,MATCH(I192,Backbone!$A$2:$A$893,0))","v":6},null,{"$f":"INDEX(Backbone!$M$2:$M$893,MATCH(I192,Backbone!$A$2:$A$893,0))","v":4.3},null,{"$f":"INDEX(Backbone!$N$2:$N$893,MATCH(I192,Backbone!$A$2:$A$893,0))","v":9.5},null,{"$f":"INDEX(Backbone!$O$2:$O$893,MATCH(I192,Backbone!$A$2:$A$893,0))","v":4.7},null,{"$f":"INDEX(Backbone!$P$2:$P$893,MATCH(I192,Backbone!$A$2:$A$893,0))","v":7},null,{"$f":"INDEX(Backbone!$Q$2:$Q$893,MATCH(I192,Backbone!$A$2:$A$893,0))","v":0.68777777777777771},null,null,{"$f":"(AG192*$AG$22+AI192*$AI$22+AK192*$AK$22+AM192*$AM$22+AO192*$AO$22+AQ192*$AQ$22+AS192*$AS$22+AU192*$AU$22+AW192*$AW$22)/(SUM($AG$22:$AW$22)*10)","v":{"$error":"#DIV/0!"}},null,null,"Перейти в Реестр ресурсов: ",null,{"$f":"HYPERLINK(\"#\"&ADDRESS(MATCH(I192,Toolbox!$C$1:$C$300),1,,,\"Toolbox\"),VLOOKUP(I192,Toolbox!$C$1:$C$300,1,FALSE))","v":"Анализ пробелов ПВС, разработанный Всемирной организацией охраны здоровья животных (МЭБ)"}]
[]
[]
[]
[]
[]
[]
[]
[]
[]
[]
[]
[]
[]
[]
[]
[]
[]
[]
[]
[]
[]
[]
[null,null,null,null,null,null,null,null,null,null,null,null,null,null,null,null,null,null,null,null,null,null,null,null,null,null,null,null,null,null,null,null,"Доступность",null,"Язык",null,"Простота использования",null,"Гибкость",null,"Потребности в данных",null,"Анализ данных",null,"Приемлемость",null,"«Единое здоровье»",null,"Воздействие"]
[]
[]
[]
[]
[]
[]
[null,null,null,null,null,null,null,null,null,null,null,null,null,null,null,null,null,null,null,null,null,null,null,null,null,null,null,null,null,null,null,null,null,null,null,null,null,null,null,null,null,null,null,null,null,null,null,null,null,null,"ИСХОДНАЯ ОЦЕНКА",null,null,"СКОРРЕКТИРОВАННАЯ ОЦЕНКА \n(Исходя из предпочтений пользователей)"]
[]
[]
[]
[null,"РЕСУРСЫ УРОВНЯ 3",null,"КЛАССИФИКАЦИЯ",null,null,null,null,"НАЗВАНИЕ РЕСУРСА",null,null,null,null,null,null,"КРАТКОЕ ОПИСАНИЕ",null,null,null,null,null,null,null,null,"ВИД РЕСУРСА",null,null,null,"ОБЩАЯ НАПРАВЛЕННОСТЬ РЕСУРСА"]
[]
[]
[]
[null,null,null,null,null,null,null,null,null,null,null,null,null,null,null,null,null,null,null,null,null,null,null,null,null,null,null,null,null,null,null,null,{"$f":"'Attribute Survey'!S231","v":0},null,{"$f":"'Attribute Survey'!S235","v":0},null,{"$f":"'Attribute Survey'!S239","v":0},null,{"$f":"'Attribute Survey'!S243","v":0},null,{"$f":"'Attribute Survey'!S247","v":0},null,{"$f":"'Attribute Survey'!S251","v":0},null,{"$f":"'Attribute Survey'!S255","v":0},null,{"$f":"'Attribute Survey'!S259","v":0},null,{"$f":"'Attribute Survey'!S263","v":0}]
[null,null,null,"Наиболее подходящие ресурсы",null,null,null,null,{"$f":"Backbone!A239","v":"Национальный семинар по выстраиванию связей ММСП-ПВС"},null,null,null,null,null,null," Семинар, позволяющий секторам охраны здоровья животных и здравоохранения человека в странах определить, где пересекается их работа, при необходимости создавать соответствующие связи для обеспечения взаимодействия. ",null,null,null,null,null,null,null,null,{"$f":"INDEX(Backbone!$R$2:$R$893,MATCH(I231,Backbone!$A$2:$A$893,0))","v":"Инструмент или процесс с методическим руководством/пояснениями"},null,null,null,{"$f":"INDEX(Backbone!$S$2:$S$893,MATCH(I231,Backbone!$A$2:$A$893,0))","v":"«Единое здоровье»; универсальный"},null,null,null,{"$f":"INDEX(Backbone!$H$2:$H$893,MATCH(I231,Backbone!$A$2:$A$893,0))","v":8.6},null,{"$f":"INDEX(Backbone!$I$2:$I$893,MATCH(I231,Backbone!$A$2:$A$893,0))","v":10},null,{"$f":"INDEX(Backbone!$J$2:$J$893,MATCH(I231,Backbone!$A$2:$A$893,0))","v":6.2},null,{"$f":"INDEX(Backbone!$K$2:$K$893,MATCH(I231,Backbone!$A$2:$A$893,0))","v":10},null,{"$f":"INDEX(Backbone!$L$2:$L$893,MATCH(I231,Backbone!$A$2:$A$893,0))","v":6},null,{"$f":"INDEX(Backbone!$M$2:$M$893,MATCH(I231,Backbone!$A$2:$A$893,0))","v":7},null,{"$f":"INDEX(Backbone!$N$2:$N$893,MATCH(I231,Backbone!$A$2:$A$893,0))","v":9},null,{"$f":"INDEX(Backbone!$O$2:$O$893,MATCH(I231,Backbone!$A$2:$A$893,0))","v":8.1999999999999993},null,{"$f":"INDEX(Backbone!$P$2:$P$893,MATCH(I231,Backbone!$A$2:$A$893,0))","v":10},null,{"$f":"INDEX(Backbone!$Q$2:$Q$893,MATCH(I231,Backbone!$A$2:$A$893,0))","v":0.83333333333333337},null,null,{"$f":"(AG231*$AG$22+AI231*$AI$22+AK231*$AK$22+AM231*$AM$22+AO231*$AO$22+AQ231*$AQ$22+AS231*$AS$22+AU231*$AU$22+AW231*$AW$22)/(SUM($AG$22:$AW$22)*10)","v":{"$error":"#DIV/0!"}},null,null,"Перейти в Реестр ресурсов: ",null,{"$f":"HYPERLINK(\"#\"&ADDRESS(MATCH(I231,Toolbox!$C$1:$C$300),1,,,\"Toolbox\"),VLOOKUP(I231,Toolbox!$C$1:$C$300,1,FALSE))","v":"Национальный семинар по выстраиванию связей ММСП-ПВС"}]
[]
[]
[]
[]
[]
[null,null,null,null,null,null,null,null,{"$f":"Backbone!A303","v":"Национальный план действий по обеспечению безопасности в области здравоохранения (NAPHS)"},null,null,null,null,null,null,"Организуемый самими странами процесс планирования, способный ускорить внедрение основных возможностей Международных медико-санитарных правил (ММСП) и основывающийся на концепции «Единое здоровье» и общегосударственном подходе ко всем видам опасностей.",null,null,null,null,null,null,null,null,{"$f":"INDEX(Backbone!$R$2:$R$893,MATCH(I237,Backbone!$A$2:$A$893,0))","v":"Руководящий документ"},null,null,null,{"$f":"INDEX(Backbone!$S$2:$S$893,MATCH(I237,Backbone!$A$2:$A$893,0))","v":"«Единое здоровье»; универсальный"},null,null,null,{"$f":"INDEX(Backbone!$H$2:$H$893,MATCH(I237,Backbone!$A$2:$A$893,0))","v":8},null,{"$f":"INDEX(Backbone!$I$2:$I$893,MATCH(I237,Backbone!$A$2:$A$893,0))","v":9},null,{"$f":"INDEX(Backbone!$J$2:$J$893,MATCH(I237,Backbone!$A$2:$A$893,0))","v":7.8},null,{"$f":"INDEX(Backbone!$K$1:$K$893,MATCH(I237,Backbone!$A$1:$A$893,0))","v":10},null,{"$f":"INDEX(Backbone!$L$2:$L$893,MATCH(I237,Backbone!$A$2:$A$893,0))","v":8},null,{"$f":"INDEX(Backbone!$M$2:$M$893,MATCH(I237,Backbone!$A$2:$A$893,0))","v":4.5},null,{"$f":"INDEX(Backbone!$N$2:$N$893,MATCH(I237,Backbone!$A$2:$A$893,0))","v":10},null,{"$f":"INDEX(Backbone!$O$2:$O$893,MATCH(I237,Backbone!$A$2:$A$893,0))","v":10},null,{"$f":"INDEX(Backbone!$P$2:$P$893,MATCH(I237,Backbone!$A$2:$A$893,0))","v":10},null,{"$f":"INDEX(Backbone!$Q$2:$Q$893,MATCH(I237,Backbone!$A$2:$A$893,0))","v":0.85888888888888881},null,null,{"$f":"(AG237*$AG$22+AI237*$AI$22+AK237*$AK$22+AM237*$AM$22+AO237*$AO$22+AQ237*$AQ$22+AS237*$AS$22+AU237*$AU$22+AW237*$AW$22)/(SUM($AG$22:$AW$22)*10)","v":{"$error":"#DIV/0!"}},null,null,"Перейти в Реестр ресурсов: ",null,{"$f":"HYPERLINK(\"#\"&ADDRESS(MATCH(I237,Toolbox!$C$1:$C$300),1,,,\"Toolbox\"),VLOOKUP(I237,Toolbox!$C$1:$C$300,1,FALSE))","v":"Национальный план действий по обеспечению безопасности в области здравоохранения (NAPHS)"}]
[]
[]
[]
[]
[]
[null,null,null,null,null,null,null,null,{"$f":"Backbone!A367","v":"Инструмент оценки систем здравоохранения на предмет предотвращения приоритетных зоонозов и борьбы с ними в соответствии с подходом «Единое здоровье» (OH-SAPZ)"},null,null,null,null,null,null,"Настоящий инструмент призван упростить планомерные оценки национальных структур для координации в рамках подхода «Единое здоровье» с точки зрения профилактики и выявления зоонозов и мер борьбы с ними.  ",null,null,null,null,null,null,null,null,{"$f":"INDEX(Backbone!$R$2:$R$893,MATCH(I243,Backbone!$A$2:$A$893,0))","v":"Инструмент самооценки"},null,null,null,{"$f":"INDEX(Backbone!$S$2:$S$893,MATCH(I243,Backbone!$A$2:$A$893,0))","v":"«Единое здоровье»; универсальный"},null,null,null,{"$f":"INDEX(Backbone!$H$2:$H$893,MATCH(I243,Backbone!$A$2:$A$893,0))","v":7.9},null,{"$f":"INDEX(Backbone!$I$2:$I$893,MATCH(I243,Backbone!$A$2:$A$893,0))","v":7.3},null,{"$f":"INDEX(Backbone!$J$2:$J$893,MATCH(I243,Backbone!$A$2:$A$893,0))","v":7.2},null,{"$f":"INDEX(Backbone!$K$1:$K$893,MATCH(I243,Backbone!$A$1:$A$893,0))","v":7.8},null,{"$f":"INDEX(Backbone!$L$2:$L$893,MATCH(I243,Backbone!$A$2:$A$893,0))","v":6.5},null,{"$f":"INDEX(Backbone!$M$2:$M$893,MATCH(I243,Backbone!$A$2:$A$893,0))","v":5.2},null,{"$f":"INDEX(Backbone!$N$2:$N$893,MATCH(I243,Backbone!$A$2:$A$893,0))","v":4},null,{"$f":"INDEX(Backbone!$O$2:$O$893,MATCH(I243,Backbone!$A$2:$A$893,0))","v":8.3000000000000007},null,{"$f":"INDEX(Backbone!$P$2:$P$893,MATCH(I243,Backbone!$A$2:$A$893,0))","v":9.6999999999999993},null,{"$f":"INDEX(Backbone!$Q$2:$Q$893,MATCH(I243,Backbone!$A$2:$A$893,0))","v":0.71000000000000008},null,null,{"$f":"(AG243*$AG$22+AI243*$AI$22+AK243*$AK$22+AM243*$AM$22+AO243*$AO$22+AQ243*$AQ$22+AS243*$AS$22+AU243*$AU$22+AW243*$AW$22)/(SUM($AG$22:$AW$22)*10)","v":{"$error":"#DIV/0!"}},null,null,"Перейти в Реестр ресурсов: ",null,{"$f":"HYPERLINK(\"#\"&ADDRESS(MATCH(I243,Toolbox!$C$1:$C$300),1,,,\"Toolbox\"),VLOOKUP(I243,Toolbox!$C$1:$C$300,1,FALSE))","v":"Инструмент оценки систем здравоохранения на предмет предотвращения приоритетных зоонозов и борьбы с ними в соответствии с подходом «Единое здоровье» (OH-SAPZ)"}]
[]
[]
[]
[]
[]
[null,null,null,null,null,null,null,null,{"$f":"Backbone!A383","v":"Инструментарий для картирования и анализа систем «Единое здоровье» (OH-SMART)"},null,null,null,null,null,null,"Процесс, позволяющий заинтересованным сторонам из нескольких секторов картировать, анализировать и улучшать существующую систему, которая требует междисциплинарного и межотраслевого взаимодействия.",null,null,null,null,null,null,null,null,{"$f":"INDEX(Backbone!$R$2:$R$893,MATCH(I249,Backbone!$A$2:$A$893,0))","v":"Инструмент или процесс с методическим руководством/пояснениями"},null,null,null,{"$f":"INDEX(Backbone!$S$2:$S$893,MATCH(I249,Backbone!$A$2:$A$893,0))","v":"«Единое здоровье»; универсальный"},null,null,null,{"$f":"INDEX(Backbone!$H$2:$H$893,MATCH(I249,Backbone!$A$2:$A$893,0))","v":8.6999999999999993},null,{"$f":"INDEX(Backbone!$I$2:$I$893,MATCH(I249,Backbone!$A$2:$A$893,0))","v":7.3},null,{"$f":"INDEX(Backbone!$J$2:$J$893,MATCH(I249,Backbone!$A$2:$A$893,0))","v":8.4},null,{"$f":"INDEX(Backbone!$K$1:$K$893,MATCH(I249,Backbone!$A$1:$A$893,0))","v":9.3000000000000007},null,{"$f":"INDEX(Backbone!$L$2:$L$893,MATCH(I249,Backbone!$A$2:$A$893,0))","v":8.1999999999999993},null,{"$f":"INDEX(Backbone!$M$2:$M$893,MATCH(I249,Backbone!$A$2:$A$893,0))","v":7.4},null,{"$f":"INDEX(Backbone!$N$2:$N$893,MATCH(I249,Backbone!$A$2:$A$893,0))","v":9.5},null,{"$f":"INDEX(Backbone!$O$2:$O$893,MATCH(I249,Backbone!$A$2:$A$893,0))","v":10},null,{"$f":"INDEX(Backbone!$P$2:$P$893,MATCH(I249,Backbone!$A$2:$A$893,0))","v":10},null,{"$f":"INDEX(Backbone!$Q$2:$Q$893,MATCH(I249,Backbone!$A$2:$A$893,0))","v":0.87555555555555564},null,null,{"$f":"(AG249*$AG$22+AI249*$AI$22+AK249*$AK$22+AM249*$AM$22+AO249*$AO$22+AQ249*$AQ$22+AS249*$AS$22+AU249*$AU$22+AW249*$AW$22)/(SUM($AG$22:$AW$22)*10)","v":{"$error":"#DIV/0!"}},null,null,"Перейти в Реестр ресурсов: ",null,{"$f":"HYPERLINK(\"#\"&ADDRESS(MATCH(I249,Toolbox!$C$1:$C$300),1,,,\"Toolbox\"),VLOOKUP(I249,Toolbox!$C$1:$C$300,1,FALSE))","v":"Инструментарий для картирования и анализа систем «Единое здоровье» (OH-SMART)"}]
[]
[]
[]
[]
[]
[]
[null,null,null,"Другие полезные ресурсы",null,null,null,null,{"$f":"Backbone!A100","v":"Оценка сотрудничества в рамках межотраслевой системы эпиднадзора (ECoSur)"},null,null,null,null,null,null,"Инструмент, предназначенный для оценки организации и функционирования взаимодействия в системе межотраслевого эпиднадзора и для анализа сильных и слабых сторон такого взаимодействия. ",null,null,null,null,null,null,null,null,{"$f":"INDEX(Backbone!$R$2:$R$893,MATCH(I256,Backbone!$A$2:$A$893,0))","v":"Инструмент или процесс с методическим руководством/пояснениями"},null,null,null,{"$f":"INDEX(Backbone!$S$2:$S$893,MATCH(I256,Backbone!$A$2:$A$893,0))","v":"«Единое здоровье»; универсальный"},null,null,null,{"$f":"INDEX(Backbone!$H$2:$H$893,MATCH(I256,Backbone!$A$2:$A$893,0))","v":8.3000000000000007},null,{"$f":"INDEX(Backbone!$I$2:$I$893,MATCH(I256,Backbone!$A$2:$A$893,0))","v":6},null,{"$f":"INDEX(Backbone!$J$2:$J$893,MATCH(I256,Backbone!$A$2:$A$893,0))","v":8.5},null,{"$f":"INDEX(Backbone!$K$1:$K$893,MATCH(I256,Backbone!$A$1:$A$893,0))","v":7.8},null,{"$f":"INDEX(Backbone!$L$2:$L$893,MATCH(I256,Backbone!$A$2:$A$893,0))","v":8.3000000000000007},null,{"$f":"INDEX(Backbone!$M$2:$M$893,MATCH(I256,Backbone!$A$2:$A$893,0))","v":6.7},null,{"$f":"INDEX(Backbone!$N$2:$N$893,MATCH(I256,Backbone!$A$2:$A$893,0))","v":3.3},null,{"$f":"INDEX(Backbone!$O$2:$O$893,MATCH(I256,Backbone!$A$2:$A$893,0))","v":9.1},null,{"$f":"INDEX(Backbone!$P$2:$P$893,MATCH(I256,Backbone!$A$2:$A$893,0))","v":4.7},null,{"$f":"INDEX(Backbone!$Q$2:$Q$893,MATCH(I256,Backbone!$A$2:$A$893,0))","v":0.69666666666666677},null,null,{"$f":"(AG256*$AG$22+AI256*$AI$22+AK256*$AK$22+AM256*$AM$22+AO256*$AO$22+AQ256*$AQ$22+AS256*$AS$22+AU256*$AU$22+AW256*$AW$22)/(SUM($AG$22:$AW$22)*10)","v":{"$error":"#DIV/0!"}},null,null,"Перейти в Реестр ресурсов: ",null,{"$f":"HYPERLINK(\"#\"&ADDRESS(MATCH(I256,Toolbox!$C$1:$C$300),1,,,\"Toolbox\"),VLOOKUP(I256,Toolbox!$C$1:$C$300,1,FALSE))","v":"Оценка сотрудничества в рамках межотраслевой системы эпиднадзора (ECoSur)"}]
[]
[]
[]
[]
[]
[null,null,null,null,null,null,null,null,{"$f":"Backbone!A195","v":"Комплексная система эпиднадзора и мер реагирования (IDSR)"},null,null,null,null,null,null,"Стратегия, разработанная с целью укрепить потенциал стран для выявления и подтверждения предполагаемых случаев заболевания и вспышек и реагирования на них, а также для использования информации для прогнозирования событий в области общественного здравоохранения и планирования мер реагирования на них. ",null,null,null,null,null,null,null,null,{"$f":"INDEX(Backbone!$R$2:$R$893,MATCH(I262,Backbone!$A$2:$A$893,0))","v":"Руководящий документ"},null,null,null,{"$f":"INDEX(Backbone!$S$2:$S$893,MATCH(I262,Backbone!$A$2:$A$893,0))","v":"Ориентированный на конкретный сектор; универсальный"},null,null,null,{"$f":"INDEX(Backbone!$H$2:$H$893,MATCH(I262,Backbone!$A$2:$A$893,0))","v":7.4},null,{"$f":"INDEX(Backbone!$I$2:$I$893,MATCH(I262,Backbone!$A$2:$A$893,0))","v":10},null,{"$f":"INDEX(Backbone!$J$2:$J$893,MATCH(I262,Backbone!$A$2:$A$893,0))","v":7.4},null,{"$f":"INDEX(Backbone!$K$1:$K$893,MATCH(I262,Backbone!$A$1:$A$893,0))","v":8.6999999999999993},null,{"$f":"INDEX(Backbone!$L$2:$L$893,MATCH(I262,Backbone!$A$2:$A$893,0))","v":6.7},null,{"$f":"INDEX(Backbone!$M$2:$M$893,MATCH(I262,Backbone!$A$2:$A$893,0))","v":4.5},null,{"$f":"INDEX(Backbone!$N$2:$N$893,MATCH(I262,Backbone!$A$2:$A$893,0))","v":8},null,{"$f":"INDEX(Backbone!$O$2:$O$893,MATCH(I262,Backbone!$A$2:$A$893,0))","v":7.2},null,{"$f":"INDEX(Backbone!$P$2:$P$893,MATCH(I262,Backbone!$A$2:$A$893,0))","v":8.5},null,{"$f":"INDEX(Backbone!$Q$2:$Q$893,MATCH(I262,Backbone!$A$2:$A$893,0))","v":0.76},null,null,{"$f":"(AG262*$AG$22+AI262*$AI$22+AK262*$AK$22+AM262*$AM$22+AO262*$AO$22+AQ262*$AQ$22+AS262*$AS$22+AU262*$AU$22+AW262*$AW$22)/(SUM($AG$22:$AW$22)*10)","v":{"$error":"#DIV/0!"}},null,null,"Перейти в Реестр ресурсов: ",null,{"$f":"HYPERLINK(\"#\"&ADDRESS(MATCH(I262,Toolbox!$C$1:$C$300),1,,,\"Toolbox\"),VLOOKUP(I262,Toolbox!$C$1:$C$300,1,FALSE))","v":"Комплексная система эпиднадзора и мер реагирования (IDSR)"}]

{"sheet":"A2_tools","index":31,"n_rows":167,"n_cols":59,"rows_kept":167,"cut":false,"hidden":false,"merged":[[13,50,20,51],[13,53,20,54],[17,1,51,1],[17,3,20,6],[17,8,20,13],[17,15,20,22],[17,24,20,26],[17,28,20,30],[22,8,26,13],[29,3,51,6],[29,8,33,13],[29,15,33,22],[29,24,33,26],[29,28,33,30],[6,32,20,32],[6,34,20,34],[6,36,20,36],[6,38,20,38],[6,40,20,40],[6,42,20,42],[6,44,20,44],[6,46,20,46],[6,48,20,48],[29,46,33,46],[29,48,33,48],[29,50,33,51],[29,40,33,40],[29,42,33,42],[29,44,33,44],[29,32,33,32],[22,50,26,51],[22,53,26,54],[22,38,26,38],[22,40,26,40],[22,42,26,42],[22,44,26,44],[22,46,26,46],[22,48,26,48],[29,53,33,54],[29,34,33,34],[29,36,33,36],[29,38,33,38],[47,50,51,51],[47,53,51,54],[47,38,51,38],[47,40,51,40],[47,42,51,42],[47,44,51,44],[47,46,51,46],[47,48,51,48],[41,48,45,48],[41,50,45,51],[41,53,45,54],[41,40,45,40],[41,42,45,42],[41,44,45,44],[41,46,45,46],[41,38,45,38],[79,50,86,51],[79,53,86,54],[72,40,86,40],[72,42,86,42],[88,44,92,44],[88,46,92,46],[88,48,92,48],[88,50,92,51],[83,1,111,1],[83,3,86,6],[83,8,86,13],[83,15,86,22],[83,24,86,26],[72,32,86,32],[72,34,86,34],[72,36,86,36],[72,38,86,38],[101,8,105,13],[101,15,105,22],[101,24,105,26],[101,28,105,30],[101,44,105,44],[101,46,105,46],[101,48,105,48],[101,50,105,51],[101,53,105,54],[107,8,111,13],[107,15,111,22],[107,24,111,26],[107,28,111,30],[107,32,111,32],[101,32,105,32],[101,34,105,34],[101,36,105,36],[101,38,105,38],[101,40,105,40],[101,42,105,42],[107,46,111,46],[107,48,111,48],[107,50,111,51],[107,53,111,54],[107,34,111,34],[107,36,111,36],[107,38,111,38],[107,40,111,40],[107,42,111,42],[107,44,111,44],[130,48,144,48],[137,50,144,51],[137,53,144,54],[141,1,170,1],[141,3,144,6],[141,8,144,13],[141,15,144,22],[141,24,144,26],[141,28,144,30],[146,3,151,6],[130,32,144,32],[130,34,144,34],[130,36,144,36],[130,38,144,38],[130,40,144,40],[130,42,144,42],[130,44,144,44],[130,46,144,46],[147,42,151,42],[147,44,151,44],[147,46,151,46],[147,48,151,48],[147,50,151,51],[147,53,151,54],[147,8,151,13],[147,15,151,22],[147,24,151,26],[147,28,151,30],[147,32,151,32],[147,34,151,34],[147,36,151,36],[147,38,151,38],[147,40,151,40],[160,42,164,42],[160,44,164,44],[160,8,164,13],[160,15,164,22],[160,24,164,26],[160,28,164,30],[160,32,164,32],[166,36,170,36],[166,38,170,38],[166,40,170,40],[166,15,170,22],[166,24,170,26],[166,28,170,30],[166,32,170,32],[166,34,170,34],[160,34,164,34],[160,36,164,36],[160,38,164,38],[160,40,164,40],[47,34,51,34],[47,36,51,36],[41,8,45,13],[41,15,45,22],[41,24,45,26],[41,28,45,30],[41,32,45,32],[41,34,45,34],[47,8,51,13],[47,15,51,22],[41,36,45,36],[95,46,99,46],[95,48,99,48],[95,50,99,51],[95,53,99,54],[22,3,26,6],[88,8,92,13],[88,15,92,22],[88,24,92,26],[88,28,92,30],[88,3,92,6],[22,15,26,22],[22,24,26,26],[22,28,26,30],[22,32,26,32],[22,34,26,34],[22,36,26,36],[88,53,92,54],[88,42,92,42],[72,44,86,44],[72,46,86,46],[72,48,86,48],[47,24,51,26],[47,28,51,30],[47,32,51,32],[95,3,111,6],[95,8,99,13],[95,15,99,22],[95,24,99,26],[95,28,99,30],[95,32,99,32],[95,34,99,34],[95,36,99,36],[95,38,99,38],[88,36,92,36],[88,38,92,38],[88,40,92,40],[83,28,86,30],[88,32,92,32],[88,34,92,34],[154,40,158,40],[154,42,158,42],[154,44,158,44],[95,40,99,40],[95,42,99,42],[95,44,99,44],[154,46,158,46],[154,48,158,48],[154,50,158,51],[154,53,158,54],[154,3,170,6],[154,8,158,13],[154,15,158,22],[154,24,158,26],[154,28,158,30],[154,32,158,32],[154,34,158,34],[154,36,158,36],[154,38,158,38],[166,48,170,48],[166,50,170,51],[166,53,170,54],[166,42,170,42],[166,44,170,44],[166,46,170,46],[160,46,164,46],[160,48,164,48],[160,50,164,51],[160,53,164,54],[166,8,170,13],[1,1,3,62],[22,56,26,57],[22,58,26,62],[29,56,33,57],[29,58,33,62],[35,56,39,57],[35,58,39,62],[41,56,45,57],[41,58,45,62],[35,38,39,38],[35,40,39,40],[35,42,39,42],[35,44,39,44],[35,46,39,46],[35,48,39,48],[35,50,39,51],[35,53,39,54],[35,8,39,13],[35,15,39,22],[35,24,39,26],[35,28,39,30],[35,32,39,32],[35,34,39,34],[35,36,39,36],[147,56,151,57],[147,58,151,62],[154,56,158,57],[154,58,158,62],[160,56,164,57],[160,58,164,62],[166,56,170,57],[166,58,170,62],[47,56,51,57],[47,58,51,62],[88,56,92,57],[88,58,92,62],[95,56,99,57],[95,58,99,62],[101,56,105,57],[101,58,105,62],[107,56,111,57],[107,58,111,62]]}
[]
[null,"Ресурсы по оценке взаимосвязей в системе эпиднадзора"]
[]
[]
[]
[]
[null,null,null,null,null,null,null,null,null,null,null,null,null,null,null,null,null,null,null,null,null,null,null,null,null,null,null,null,null,null,null,null,"Доступность",null,"Язык",null,"Простота использования",null,"Гибкость",null,"Потребности в данных",null,"Анализ данных",null,"Приемлемость",null,"«Единое здоровье»",null,"Воздействие"]
[]
[]
[]
[]
[]
[]
[null,null,null,null,null,null,null,null,null,null,null,null,null,null,null,null,null,null,null,null,null,null,null,null,null,null,null,null,null,null,null,null,null,null,null,null,null,null,null,null,null,null,null,null,null,null,null,null,null,null,"ИСХОДНАЯ ОЦЕНКА",null,null,"СКОРРЕКТИРОВАННАЯ ОЦЕНКА \n(Исходя из предпочтений пользователей)"]
[]
[]
[]
[null,"РЕСУРСЫ УРОВНЯ 1",null,"КЛАССИФИКАЦИЯ",null,null,null,null,"НАЗВАНИЕ РЕСУРСА",null,null,null,null,null,null,"КРАТКОЕ ОПИСАНИЕ",null,null,null,null,null,null,null,null,"ВИД РЕСУРСА",null,null,null,"ОБЩАЯ НАПРАВЛЕННОСТЬ РЕСУРСА"]
[]
[]
[]
[null,null,null,null,null,null,null,null,null,null,null,null,null,null,null,null,null,null,null,null,null,null,null,null,null,null,null,null,null,null,null,null,{"$f":"'Attribute Survey'!S22","v":0},null,{"$f":"'Attribute Survey'!S26","v":0},null,{"$f":"'Attribute Survey'!S30","v":0},null,{"$f":"'Attribute Survey'!S34","v":0},null,{"$f":"'Attribute Survey'!S38","v":0},null,{"$f":"'Attribute Survey'!S42","v":0},null,{"$f":"'Attribute Survey'!S46","v":0},null,{"$f":"'Attribute Survey'!S50","v":0},null,{"$f":"'Attribute Survey'!S54","v":0}]
[null,null,null,"Наиболее подходящие ресурсы",null,null,null,null,{"$f":"Backbone!A517","v":"Инструмент ФАО для оценки эффективности эпиднадзора (SET)"},null,null,null,null,null,null,"Используется для оценки национальных систем надзора за болезнями животных с помощью комплексной и повторяемой методологии",null,null,null,null,null,null,null,null,{"$f":"INDEX(Backbone!$R2:$R893,MATCH(I23,Backbone!$A2:$A893,0))","v":"Инструмент или процесс с методическим руководством/пояснениями"},null,null,null,{"$f":"INDEX(Backbone!$S2:$S893,MATCH(I23,Backbone!$A2:$A893,0))","v":"Ориентированный на конкретный сектор; универсальный"},null,null,null,{"$f":"INDEX(Backbone!$H2:$H893,MATCH(I23,Backbone!$A2:$A893,0))","v":8.1999999999999993},null,{"$f":"INDEX(Backbone!$I2:$I893,MATCH(I23,Backbone!$A2:$A893,0))","v":8.3000000000000007},null,{"$f":"INDEX(Backbone!$J2:$J893,MATCH(I23,Backbone!$A2:$A893,0))","v":7},null,{"$f":"INDEX(Backbone!$K2:$K893,MATCH(I23,Backbone!$A2:$A893,0))","v":7.7},null,{"$f":"INDEX(Backbone!$L2:$L893,MATCH(I23,Backbone!$A2:$A893,0))","v":6.7},null,{"$f":"INDEX(Backbone!$M2:$M893,MATCH(I23,Backbone!$A2:$A893,0))","v":6.3},null,{"$f":"INDEX(Backbone!$N2:$N893,MATCH(I23,Backbone!$A2:$A893,0))","v":8},null,{"$f":"INDEX(Backbone!$O2:$O893,MATCH(I23,Backbone!$A2:$A893,0))","v":6.8},null,{"$f":"INDEX(Backbone!$P2:$P893,MATCH(I23,Backbone!$A2:$A893,0))","v":8.5},null,{"$f":"INDEX(Backbone!$Q2:$Q893,MATCH(I23,Backbone!$A2:$A893,0))","v":0.75},null,null,{"$f":"(AG23*$AG$22+AI23*$AI$22+AK23*$AK$22+AM23*$AM$22+AO23*$AO$22+AQ23*$AQ$22+AS23*$AS$22+AU23*$AU$22+AW23*$AW$22)/(SUM($AG$22:$AW$22)*10)","v":{"$error":"#DIV/0!"}},null,null,"Перейти в Реестр ресурсов: ",null,{"$f":"HYPERLINK(\"#\"&ADDRESS(MATCH(I23,Toolbox!$C$1:$C$300),1,,,\"Toolbox\"),VLOOKUP(I23,Toolbox!$C$1:$C$300,1,FALSE))","v":"Инструмент ФАО для оценки эффективности эпиднадзора (SET)"}]
[]
[]
[]
[]
[]
[]
[null,null,null,"Другие полезные ресурсы",null,null,null,null,{"$f":"Backbone!A2","v":"Рамочная программа Африканских ЦКПЗ по надзору на основе сигнальных событий"},null,null,null,null,null,null,"Руководство для работников системы общественного здравоохранения, стремящихся внедрить надзор на основе событий на всех административных уровнях",null,null,null,null,null,null,null,null,{"$f":"INDEX(Backbone!$R$2:$R$893,MATCH(I30,Backbone!$A$2:$A$893,0))","v":"Руководящий документ"},null,null,null,{"$f":"INDEX(Backbone!$S$2:$S$893,MATCH(I30,Backbone!$A$2:$A$893,0))","v":"«Единое здоровье»; универсальный "},null,null,null,{"$f":"INDEX(Backbone!$H$2:$H$893,MATCH(I30,Backbone!$A$2:$A$893,0))","v":8},null,{"$f":"INDEX(Backbone!$I$2:$I$893,MATCH(I30,Backbone!$A$2:$A$893,0))","v":6},null,{"$f":"INDEX(Backbone!$J$2:$J$893,MATCH(I30,Backbone!$A$2:$A$893,0))","v":8.1999999999999993},null,{"$f":"INDEX(Backbone!$K$1:$K$893,MATCH(I30,Backbone!$A$1:$A$893,0))","v":8.3000000000000007},null,{"$f":"INDEX(Backbone!$L$2:$L$893,MATCH(I30,Backbone!$A$2:$A$893,0))","v":6.1},null,{"$f":"INDEX(Backbone!$M$2:$M$893,MATCH(I30,Backbone!$A$2:$A$893,0))","v":3.5},null,{"$f":"INDEX(Backbone!$N$2:$N$893,MATCH(I30,Backbone!$A$2:$A$893,0))","v":4},null,{"$f":"INDEX(Backbone!$O$2:$O$893,MATCH(I30,Backbone!$A$2:$A$893,0))","v":7},null,{"$f":"INDEX(Backbone!$P$2:$P$893,MATCH(I30,Backbone!$A$2:$A$893,0))","v":6},null,{"$f":"INDEX(Backbone!$Q$2:$Q$893,MATCH(I30,Backbone!$A$2:$A$893,0))","v":0.63222222222222224},null,null,{"$f":"(AG30*$AG$22+AI30*$AI$22+AK30*$AK$22+AM30*$AM$22+AO30*$AO$22+AQ30*$AQ$22+AS30*$AS$22+AU30*$AU$22+AW30*$AW$22)/(SUM($AG$22:$AW$22)*10)","v":{"$error":"#DIV/0!"}},null,null,"Перейти в Реестр ресурсов: ",null,{"$f":"HYPERLINK(\"#\"&ADDRESS(MATCH(I30,Toolbox!$C$1:$C$300),1,,,\"Toolbox\"),VLOOKUP(I30,Toolbox!$C$1:$C$300,1,FALSE))","v":"Рамочная программа Африканских ЦКПЗ по надзору на основе сигнальных событий"}]
[]
[]
[]
[]
[]
[null,null,null,null,null,null,null,null,{"$f":"Backbone!A83","v":"Оценка системы эпиднадзора и мониторинга качества данных Европейского ЦКПЗ — справочник методов и применений "},null,null,null,null,null,null,"Справочник по мониторингу качества данных эпиднадзора для специалистов сектора общественного здравоохранения",null,null,null,null,null,null,null,null,{"$f":"INDEX(Backbone!$R$2:$R$893,MATCH(I36,Backbone!$A$2:$A$893,0))","v":"Руководящий документ"},null,null,null,{"$f":"INDEX(Backbone!$S$2:$S$893,MATCH(I36,Backbone!$A$2:$A$893,0))","v":"Ориентированный на конкретный сектор; универсальный"},null,null,null,{"$f":"INDEX(Backbone!$H$2:$H$893,MATCH(I36,Backbone!$A$2:$A$893,0))","v":8.1999999999999993},null,{"$f":"INDEX(Backbone!$I$2:$I$893,MATCH(I36,Backbone!$A$2:$A$893,0))","v":6},null,{"$f":"INDEX(Backbone!$J$2:$J$893,MATCH(I36,Backbone!$A$2:$A$893,0))","v":6.4},null,{"$f":"INDEX(Backbone!$K$1:$K$893,MATCH(I36,Backbone!$A$1:$A$893,0))","v":7.3},null,{"$f":"INDEX(Backbone!$L$2:$L$893,MATCH(I36,Backbone!$A$2:$A$893,0))","v":7.7},null,{"$f":"INDEX(Backbone!$M$2:$M$893,MATCH(I36,Backbone!$A$2:$A$893,0))","v":4.5},null,{"$f":"INDEX(Backbone!$N$2:$N$893,MATCH(I36,Backbone!$A$2:$A$893,0))","v":5.3},null,{"$f":"INDEX(Backbone!$O$2:$O$893,MATCH(I36,Backbone!$A$2:$A$893,0))","v":6.2},null,{"$f":"INDEX(Backbone!$P$2:$P$893,MATCH(I36,Backbone!$A$2:$A$893,0))","v":8},null,{"$f":"INDEX(Backbone!$Q$2:$Q$893,MATCH(I36,Backbone!$A$2:$A$893,0))","v":0.66222222222222227},null,null,{"$f":"(AG36*$AG$22+AI36*$AI$22+AK36*$AK$22+AM36*$AM$22+AO36*$AO$22+AQ36*$AQ$22+AS36*$AS$22+AU36*$AU$22+AW36*$AW$22)/(SUM($AG$22:$AW$22)*10)","v":{"$error":"#DIV/0!"}},null,null,"Перейти в Реестр ресурсов: ",null,{"$f":"HYPERLINK(\"#\"&ADDRESS(MATCH(I36,Toolbox!$C$1:$C$300),1,,,\"Toolbox\"),VLOOKUP(I36,Toolbox!$C$1:$C$300,1,FALSE))","v":"Оценка системы эпиднадзора и мониторинга качества данных Европейского ЦКПЗ — справочник методов и применений "}]
[]
[]
[]
[]
[]
[null,null,null,null,null,null,null,null,{"$f":"Backbone!A47","v":"Инструмент ФАО для оценки работы лабораторий и систем надзора за устойчивостью к противомикробным препаратам (ФАО-АТЛАСС)"},null,null,null,null,null,null,"Инструмент ФАО для оценки работы лабораторий и систем надзора за устойчивостью к противомикробным препаратам (ФАО-АТЛАСС) увеличивает потенциал страны для надзора за УПП, способствуя более унифицированному и координированному надзору за УПП на национальном, региональном и глобальном уровнях.",null,null,null,null,null,null,null,null,{"$f":"INDEX(Backbone!$R$2:$R$893,MATCH(I42,Backbone!$A$2:$A$893,0))","v":"Инструмент или процесс с методическим руководством/пояснениями"},null,null,null,{"$f":"INDEX(Backbone!$S$2:$S$893,MATCH(I42,Backbone!$A$2:$A$893,0))","v":"«Единое здоровье»; ориентированный на конкретную болезнь/угрозу "},null,null,null,{"$f":"INDEX(Backbone!$H$2:$H$893,MATCH(I42,Backbone!$A$2:$A$893,0))","v":7.2},null,{"$f":"INDEX(Backbone!$I$2:$I$893,MATCH(I42,Backbone!$A$2:$A$893,0))","v":10},null,{"$f":"INDEX(Backbone!$J$2:$J$893,MATCH(I42,Backbone!$A$2:$A$893,0))","v":5.6},null,{"$f":"INDEX(Backbone!$K$1:$K$893,MATCH(I42,Backbone!$A$1:$A$893,0))","v":7.3},null,{"$f":"INDEX(Backbone!$L$2:$L$893,MATCH(I42,Backbone!$A$2:$A$893,0))","v":7.3},null,{"$f":"INDEX(Backbone!$M$2:$M$893,MATCH(I42,Backbone!$A$2:$A$893,0))","v":5.2},null,{"$f":"INDEX(Backbone!$N$2:$N$893,MATCH(I42,Backbone!$A$2:$A$893,0))","v":8.6999999999999993},null,{"$f":"INDEX(Backbone!$O$2:$O$893,MATCH(I42,Backbone!$A$2:$A$893,0))","v":5.6},null,{"$f":"INDEX(Backbone!$P$2:$P$893,MATCH(I42,Backbone!$A$2:$A$893,0))","v":7},null,{"$f":"INDEX(Backbone!$Q$2:$Q$893,MATCH(I42,Backbone!$A$2:$A$893,0))","v":0.71},null,null,{"$f":"(AG42*$AG$22+AI42*$AI$22+AK42*$AK$22+AM42*$AM$22+AO42*$AO$22+AQ42*$AQ$22+AS42*$AS$22+AU42*$AU$22+AW42*$AW$22)/(SUM($AG$22:$AW$22)*10)","v":{"$error":"#DIV/0!"}},null,null,"Перейти в Реестр ресурсов: ",null,{"$f":"HYPERLINK(\"#\"&ADDRESS(MATCH(I42,Toolbox!$C$1:$C$300),1,,,\"Toolbox\"),VLOOKUP(I42,Toolbox!$C$1:$C$300,1,FALSE))","v":"Инструмент ФАО для оценки работы лабораторий и систем надзора за устойчивостью к противомикробным препаратам (ФАО-АТЛАСС)"}]
[]
[]
[]
[]
[]
[null,null,null,null,null,null,null,null,{"$f":"Backbone!A552","v":"Международные медико-санитарные правила (2005 г.): инструмент ежегодной отчетности государств-участников на основе самооценки (SPAR)"},null,null,null,null,null,null,"Инструмент отчетности, помогающий государствам-участникам Международных медико-санитарных правил (ММСП) в выполнении их обязательств по представлению ежегодных докладов Всемирной ассамблее здравоохранения (ВАЗ) по выполнению ими требований в отношении потенциала в соответствие с ММСП.",null,null,null,null,null,null,null,null,{"$f":"INDEX(Backbone!$R$2:$R$893,MATCH(I48,Backbone!$A$2:$A$893,0))","v":"Инструмент самооценки"},null,null,null,{"$f":"INDEX(Backbone!$S$2:$S$893,MATCH(I48,Backbone!$A$2:$A$893,0))","v":"«Единое здоровье»; универсальный"},null,null,null,{"$f":"INDEX(Backbone!$H$2:$H$893,MATCH(I48,Backbone!$A$2:$A$893,0))","v":9.9},null,{"$f":"INDEX(Backbone!$I$2:$I$893,MATCH(I48,Backbone!$A$2:$A$893,0))","v":10},null,{"$f":"INDEX(Backbone!$J$2:$J$893,MATCH(I48,Backbone!$A$2:$A$893,0))","v":9.3000000000000007},null,{"$f":"INDEX(Backbone!$K$1:$K$893,MATCH(I48,Backbone!$A$1:$A$893,0))","v":7.3},null,{"$f":"INDEX(Backbone!$L$2:$L$893,MATCH(I48,Backbone!$A$2:$A$893,0))","v":9.4},null,{"$f":"INDEX(Backbone!$M$2:$M$893,MATCH(I48,Backbone!$A$2:$A$893,0))","v":9},null,{"$f":"INDEX(Backbone!$N$2:$N$893,MATCH(I48,Backbone!$A$2:$A$893,0))","v":8.5},null,{"$f":"INDEX(Backbone!$O$2:$O$893,MATCH(I48,Backbone!$A$2:$A$893,0))","v":6.3},null,{"$f":"INDEX(Backbone!$P$2:$P$893,MATCH(I48,Backbone!$A$2:$A$893,0))","v":6.7},null,{"$f":"INDEX(Backbone!$Q$2:$Q$893,MATCH(I48,Backbone!$A$2:$A$893,0))","v":0.84888888888888892},null,null,{"$f":"(AG48*$AG$22+AI48*$AI$22+AK48*$AK$22+AM48*$AM$22+AO48*$AO$22+AQ48*$AQ$22+AS48*$AS$22+AU48*$AU$22+AW48*$AW$22)/(SUM($AG$22:$AW$22)*10)","v":{"$error":"#DIV/0!"}},null,null,"Перейти в Реестр ресурсов: ",null,{"$f":"HYPERLINK(\"#\"&ADDRESS(MATCH(I48,Toolbox!$C$1:$C$300),1,,,\"Toolbox\"),VLOOKUP(I48,Toolbox!$C$1:$C$300,1,FALSE))","v":"Международные медико-санитарные правила (2005 г.): инструмент ежегодной отчетности государств-участников на основе самооценки (SPAR)"}]
[]
[]
[]
[]
[]
[]
[]
[]
[]
[]
[]
[]
[]
[]
[]
[]
[]
[]
[]
[]
[]
[]
[]
[]
[null,null,null,null,null,null,null,null,null,null,null,null,null,null,null,null,null,null,null,null,null,null,null,null,null,null,null,null,null,null,null,null,"Доступность",null,"Язык",null,"Простота использования",null,"Гибкость",null,"Потребности в данных",null,"Анализ данных",null,"Приемлемость",null,"«Единое здоровье»",null,"Воздействие"]
[]
[]
[]
[]
[]
[]
[null,null,null,null,null,null,null,null,null,null,null,null,null,null,null,null,null,null,null,null,null,null,null,null,null,null,null,null,null,null,null,null,null,null,null,null,null,null,null,null,null,null,null,null,null,null,null,null,null,null,"ИСХОДНАЯ ОЦЕНКА",null,null,"СКОРРЕКТИРОВАННАЯ ОЦЕНКА \n(Исходя из предпочтений пользователей)"]
[]
[]
[]
[null,"РЕСУРСЫ УРОВНЯ 2",null,"КЛАССИФИКАЦИЯ",null,null,null,null,"НАЗВАНИЕ РЕСУРСА",null,null,null,null,null,null,"КРАТКОЕ ОПИСАНИЕ",null,null,null,null,null,null,null,null,"ВИД РЕСУРСА",null,null,null,"ОБЩАЯ НАПРАВЛЕННОСТЬ РЕСУРСА"]
[]
[]
[]
[null,null,null,null,null,null,null,null,null,null,null,null,null,null,null,null,null,null,null,null,null,null,null,null,null,null,null,null,null,null,null,null,{"$f":"'Attribute Survey'!S130","v":0},null,{"$f":"'Attribute Survey'!S134","v":0},null,{"$f":"'Attribute Survey'!S138","v":0},null,{"$f":"'Attribute Survey'!S142","v":0},null,{"$f":"'Attribute Survey'!S146","v":0},null,{"$f":"'Attribute Survey'!S150","v":0},null,{"$f":"'Attribute Survey'!S154","v":0},null,{"$f":"'Attribute Survey'!S158","v":0},null,{"$f":"'Attribute Survey'!S162","v":0}]
[null,null,null,"Наиболее подходящие ресурсы",null,null,null,null,{"$f":"Backbone!A517","v":"Инструмент ФАО для оценки эффективности эпиднадзора (SET)"},null,null,null,null,null,null,"Используется для оценки национальных систем надзора за болезнями животных с помощью комплексной и повторяемой методологии",null,null,null,null,null,null,null,null,{"$f":"INDEX(Backbone!$R63:$R954,MATCH(I89,Backbone!$A63:$A954,0))","v":"Инструмент или процесс с методическим руководством/пояснениями"},null,null,null,{"$f":"INDEX(Backbone!$S63:$S954,MATCH(I89,Backbone!$A63:$A954,0))","v":"Ориентированный на конкретный сектор; универсальный"},null,null,null,{"$f":"INDEX(Backbone!$H63:$H954,MATCH(I89,Backbone!$A63:$A954,0))","v":8.1999999999999993},null,{"$f":"INDEX(Backbone!$I63:$I954,MATCH(I89,Backbone!$A63:$A954,0))","v":8.3000000000000007},null,{"$f":"INDEX(Backbone!$J63:$J954,MATCH(I89,Backbone!$A63:$A954,0))","v":7},null,{"$f":"INDEX(Backbone!$K63:$K954,MATCH(I89,Backbone!$A63:$A954,0))","v":7.7},null,{"$f":"INDEX(Backbone!$L63:$L954,MATCH(I89,Backbone!$A63:$A954,0))","v":6.7},null,{"$f":"INDEX(Backbone!$M63:$M954,MATCH(I89,Backbone!$A63:$A954,0))","v":6.3},null,{"$f":"INDEX(Backbone!$N63:$N954,MATCH(I89,Backbone!$A63:$A954,0))","v":8},null,{"$f":"INDEX(Backbone!$O63:$O954,MATCH(I89,Backbone!$A63:$A954,0))","v":6.8},null,{"$f":"INDEX(Backbone!$P63:$P954,MATCH(I89,Backbone!$A63:$A954,0))","v":8.5},null,{"$f":"INDEX(Backbone!$Q63:$Q954,MATCH(I89,Backbone!$A63:$A954,0))","v":0.75},null,null,{"$f":"(AG89*$AG$22+AI89*$AI$22+AK89*$AK$22+AM89*$AM$22+AO89*$AO$22+AQ89*$AQ$22+AS89*$AS$22+AU89*$AU$22+AW89*$AW$22)/(SUM($AG$22:$AW$22)*10)","v":{"$error":"#DIV/0!"}},null,null,"Перейти в Реестр ресурсов: ",null,{"$f":"HYPERLINK(\"#\"&ADDRESS(MATCH(I89,Toolbox!$C$1:$C$300),1,,,\"Toolbox\"),VLOOKUP(I89,Toolbox!$C$1:$C$300,1,FALSE))","v":"Инструмент ФАО для оценки эффективности эпиднадзора (SET)"}]
[]
[]
[]
[]
[]
[]
[null,null,null,"Другие полезные ресурсы",null,null,null,null,{"$f":"Backbone!A83","v":"Оценка системы эпиднадзора и мониторинга качества данных Европейского ЦКПЗ — справочник методов и применений "},null,null,null,null,null,null,"Справочник по мониторингу качества данных эпиднадзора для специалистов сектора общественного здравоохранения",null,null,null,null,null,null,null,null,{"$f":"INDEX(Backbone!$R$2:$R$893,MATCH(I96,Backbone!$A$2:$A$893,0))","v":"Руководящий документ"},null,null,null,{"$f":"INDEX(Backbone!$S$2:$S$893,MATCH(I96,Backbone!$A$2:$A$893,0))","v":"Ориентированный на конкретный сектор; универсальный"},null,null,null,{"$f":"INDEX(Backbone!$H$2:$H$893,MATCH(I96,Backbone!$A$2:$A$893,0))","v":8.1999999999999993},null,{"$f":"INDEX(Backbone!$I$2:$I$893,MATCH(I96,Backbone!$A$2:$A$893,0))","v":6},null,{"$f":"INDEX(Backbone!$J$2:$J$893,MATCH(I96,Backbone!$A$2:$A$893,0))","v":6.4},null,{"$f":"INDEX(Backbone!$K$1:$K$893,MATCH(I96,Backbone!$A$1:$A$893,0))","v":7.3},null,{"$f":"INDEX(Backbone!$L$2:$L$893,MATCH(I96,Backbone!$A$2:$A$893,0))","v":7.7},null,{"$f":"INDEX(Backbone!$M$2:$M$893,MATCH(I96,Backbone!$A$2:$A$893,0))","v":4.5},null,{"$f":"INDEX(Backbone!$N$2:$N$893,MATCH(I96,Backbone!$A$2:$A$893,0))","v":5.3},null,{"$f":"INDEX(Backbone!$O$2:$O$893,MATCH(I96,Backbone!$A$2:$A$893,0))","v":6.2},null,{"$f":"INDEX(Backbone!$P$2:$P$893,MATCH(I96,Backbone!$A$2:$A$893,0))","v":8},null,{"$f":"INDEX(Backbone!$Q$2:$Q$893,MATCH(I96,Backbone!$A$2:$A$893,0))","v":0.66222222222222227},null,null,{"$f":"(AG96*$AG$22+AI96*$AI$22+AK96*$AK$22+AM96*$AM$22+AO96*$AO$22+AQ96*$AQ$22+AS96*$AS$22+AU96*$AU$22+AW96*$AW$22)/(SUM($AG$22:$AW$22)*10)","v":{"$error":"#DIV/0!"}},null,null,"Перейти в Реестр ресурсов: ",null,{"$f":"HYPERLINK(\"#\"&ADDRESS(MATCH(I96,Toolbox!$C$1:$C$300),1,,,\"Toolbox\"),VLOOKUP(I96,Toolbox!$C$1:$C$300,1,FALSE))","v":"Оценка системы эпиднадзора и мониторинга качества данных Европейского ЦКПЗ — справочник методов и применений "}]
[]
[]
[]
[]
[]
[null,null,null,null,null,null,null,null,{"$f":"Backbone!A47","v":"Инструмент ФАО для оценки работы лабораторий и систем надзора за устойчивостью к противомикробным препаратам (ФАО-АТЛАСС)"},null,null,null,null,null,null,"Инструмент ФАО для оценки работы лабораторий и систем надзора за устойчивостью к противомикробным препаратам (ФАО-АТЛАСС) увеличивает потенциал страны для надзора за УПП, способствуя более унифицированному и координированному надзору за УПП на национальном, региональном и глобальном уровнях.",null,null,null,null,null,null,null,null,{"$f":"INDEX(Backbone!$R$2:$R$893,MATCH(I102,Backbone!$A$2:$A$893,0))","v":"Инструмент или процесс с методическим руководством/пояснениями"},null,null,null,{"$f":"INDEX(Backbone!$S$2:$S$893,MATCH(I102,Backbone!$A$2:$A$893,0))","v":"«Единое здоровье»; ориентированный на конкретную болезнь/угрозу "},null,null,null,{"$f":"INDEX(Backbone!$H$2:$H$893,MATCH(I102,Backbone!$A$2:$A$893,0))","v":7.2},null,{"$f":"INDEX(Backbone!$I$2:$I$893,MATCH(I102,Backbone!$A$2:$A$893,0))","v":10},null,{"$f":"INDEX(Backbone!$J$2:$J$893,MATCH(I102,Backbone!$A$2:$A$893,0))","v":5.6},null,{"$f":"INDEX(Backbone!$K$1:$K$893,MATCH(I102,Backbone!$A$1:$A$893,0))","v":7.3},null,{"$f":"INDEX(Backbone!$L$2:$L$893,MATCH(I102,Backbone!$A$2:$A$893,0))","v":7.3},null,{"$f":"INDEX(Backbone!$M$2:$M$893,MATCH(I102,Backbone!$A$2:$A$893,0))","v":5.2},null,{"$f":"INDEX(Backbone!$N$2:$N$893,MATCH(I102,Backbone!$A$2:$A$893,0))","v":8.6999999999999993},null,{"$f":"INDEX(Backbone!$O$2:$O$893,MATCH(I102,Backbone!$A$2:$A$893,0))","v":5.6},null,{"$f":"INDEX(Backbone!$P$2:$P$893,MATCH(I102,Backbone!$A$2:$A$893,0))","v":7},null,{"$f":"INDEX(Backbone!$Q$2:$Q$893,MATCH(I102,Backbone!$A$2:$A$893,0))","v":0.71},null,null,{"$f":"(AG102*$AG$22+AI102*$AI$22+AK102*$AK$22+AM102*$AM$22+AO102*$AO$22+AQ102*$AQ$22+AS102*$AS$22+AU102*$AU$22+AW102*$AW$22)/(SUM($AG$22:$AW$22)*10)","v":{"$error":"#DIV/0!"}},null,null,"Перейти в Реестр ресурсов: ",null,{"$f":"HYPERLINK(\"#\"&ADDRESS(MATCH(I102,Toolbox!$C$1:$C$300),1,,,\"Toolbox\"),VLOOKUP(I102,Toolbox!$C$1:$C$300,1,FALSE))","v":"Инструмент ФАО для оценки работы лабораторий и систем надзора за устойчивостью к противомикробным препаратам (ФАО-АТЛАСС)"}]
[]
[]
[]
[]
[]
[null,null,null,null,null,null,null,null,{"$f":"Backbone!A552","v":"Международные медико-санитарные правила (2005 г.): инструмент ежегодной отчетности государств-участников на основе самооценки (SPAR)"},null,null,null,null,null,null,"Инструмент отчетности, помогающий государствам-участникам Международных медико-санитарных правил (ММСП) в выполнении их обязательств по представлению ежегодных докладов Всемирной ассамблее здравоохранения (ВАЗ) по выполнению ими требований в отношении потенциала в соответствие с ММСП.",null,null,null,null,null,null,null,null,{"$f":"INDEX(Backbone!$R$2:$R$893,MATCH(I108,Backbone!$A$2:$A$893,0))","v":"Инструмент самооценки"},null,null,null,{"$f":"INDEX(Backbone!$S$2:$S$893,MATCH(I108,Backbone!$A$2:$A$893,0))","v":"«Единое здоровье»; универсальный"},null,null,null,{"$f":"INDEX(Backbone!$H$2:$H$893,MATCH(I108,Backbone!$A$2:$A$893,0))","v":9.9},null,{"$f":"INDEX(Backbone!$I$2:$I$893,MATCH(I108,Backbone!$A$2:$A$893,0))","v":10},null,{"$f":"INDEX(Backbone!$J$2:$J$893,MATCH(I108,Backbone!$A$2:$A$893,0))","v":9.3000000000000007},null,{"$f":"INDEX(Backbone!$K$1:$K$893,MATCH(I108,Backbone!$A$1:$A$893,0))","v":7.3},null,{"$f":"INDEX(Backbone!$L$2:$L$893,MATCH(I108,Backbone!$A$2:$A$893,0))","v":9.4},null,{"$f":"INDEX(Backbone!$M$2:$M$893,MATCH(I108,Backbone!$A$2:$A$893,0))","v":9},null,{"$f":"INDEX(Backbone!$N$2:$N$893,MATCH(I108,Backbone!$A$2:$A$893,0))","v":8.5},null,{"$f":"INDEX(Backbone!$O$2:$O$893,MATCH(I108,Backbone!$A$2:$A$893,0))","v":6.3},null,{"$f":"INDEX(Backbone!$P$2:$P$893,MATCH(I108,Backbone!$A$2:$A$893,0))","v":6.7},null,{"$f":"INDEX(Backbone!$Q$2:$Q$893,MATCH(I108,Backbone!$A$2:$A$893,0))","v":0.84888888888888892},null,null,{"$f":"(AG108*$AG$22+AI108*$AI$22+AK108*$AK$22+AM108*$AM$22+AO108*$AO$22+AQ108*$AQ$22+AS108*$AS$22+AU108*$AU$22+AW108*$AW$22)/(SUM($AG$22:$AW$22)*10)","v":{"$error":"#DIV/0!"}},null,null,"Перейти в Реестр ресурсов: ",null,{"$f":"HYPERLINK(\"#\"&ADDRESS(MATCH(I108,Toolbox!$C$1:$C$300),1,,,\"Toolbox\"),VLOOKUP(I108,Toolbox!$C$1:$C$300,1,FALSE))","v":"Международные медико-санитарные правила (2005 г.): инструмент ежегодной отчетности государств-участников на основе самооценки (SPAR)"}]
[]
[]
[]
[]
[]
[]
[]
[]
[]
[]
[]
[]
[]
[]
[]
[]
[]
[]
[]
[]
[]
[]
[null,null,null,null,null,null,null,null,null,null,null,null,null,null,null,null,null,null,null,null,null,null,null,null,null,null,null,null,null,null,null,null,"Доступность",null,"Язык",null,"Простота использования",null,"Гибкость",null,"Потребности в данных",null,"Анализ данных",null,"Приемлемость",null,"«Единое здоровье»",null,"Воздействие"]
[]
[]
[]
[]
[]
[]
[null,null,null,null,null,null,null,null,null,null,null,null,null,null,null,null,null,null,null,null,null,null,null,null,null,null,null,null,null,null,null,null,null,null,null,null,null,null,null,null,null,null,null,null,null,null,null,null,null,null,"ИСХОДНАЯ ОЦЕНКА",null,null,"СКОРРЕКТИРОВАННАЯ ОЦЕНКА \n(Исходя из предпочтений пользователей)"]
[]
[]
[]
[null,"РЕСУРСЫ УРОВНЯ 3",null,"КЛАССИФИКАЦИЯ",null,null,null,null,"НАЗВАНИЕ РЕСУРСА",null,null,null,null,null,null,"КРАТКОЕ ОПИСАНИЕ",null,null,null,null,null,null,null,null,"ВИД РЕСУРСА",null,null,null,"ОБЩАЯ НАПРАВЛЕННОСТЬ РЕСУРСА"]
[]
[]
[]
[null,null,null,null,null,null,null,null,null,null,null,null,null,null,null,null,null,null,null,null,null,null,null,null,null,null,null,null,null,null,null,null,{"$f":"'Attribute Survey'!S231","v":0},null,{"$f":"'Attribute Survey'!S235","v":0},null,{"$f":"'Attribute Survey'!S239","v":0},null,{"$f":"'Attribute Survey'!S243","v":0},null,{"$f":"'Attribute Survey'!S247","v":0},null,{"$f":"'Attribute Survey'!S251","v":0},null,{"$f":"'Attribute Survey'!S255","v":0},null,{"$f":"'Attribute Survey'!S259","v":0},null,{"$f":"'Attribute Survey'!S263","v":0}]
[null,null,null,"Наиболее подходящие ресурсы"]
[null,null,null,null,null,null,null,null,{"$f":"Backbone!A517","v":"Инструмент ФАО для оценки эффективности эпиднадзора (SET)"},null,null,null,null,null,null,"Используется для оценки национальных систем надзора за болезнями животных с помощью комплексной и повторяемой методологии",null,null,null,null,null,null,null,null,{"$f":"INDEX(Backbone!$R$2:$R$893,MATCH(I148,Backbone!$A$2:$A$893,0))","v":"Инструмент или процесс с методическим руководством/пояснениями"},null,null,null,{"$f":"INDEX(Backbone!$S$2:$S$893,MATCH(I148,Backbone!$A$2:$A$893,0))","v":"Ориентированный на конкретный сектор; универсальный"},null,null,null,{"$f":"INDEX(Backbone!$H$2:$H$893,MATCH(I148,Backbone!$A$2:$A$893,0))","v":8.1999999999999993},null,{"$f":"INDEX(Backbone!$I$2:$I$893,MATCH(I148,Backbone!$A$2:$A$893,0))","v":8.3000000000000007},null,{"$f":"INDEX(Backbone!$J$2:$J$893,MATCH(I148,Backbone!$A$2:$A$893,0))","v":7},null,{"$f":"INDEX(Backbone!$K$1:$K$893,MATCH(I148,Backbone!$A$1:$A$893,0))","v":7.7},null,{"$f":"INDEX(Backbone!$L$2:$L$893,MATCH(I148,Backbone!$A$2:$A$893,0))","v":6.7},null,{"$f":"INDEX(Backbone!$M$2:$M$893,MATCH(I148,Backbone!$A$2:$A$893,0))","v":6.3},null,{"$f":"INDEX(Backbone!$N$2:$N$893,MATCH(I148,Backbone!$A$2:$A$893,0))","v":8},null,{"$f":"INDEX(Backbone!$O$2:$O$893,MATCH(I148,Backbone!$A$2:$A$893,0))","v":6.8},null,{"$f":"INDEX(Backbone!$P$2:$P$893,MATCH(I148,Backbone!$A$2:$A$893,0))","v":8.5},null,{"$f":"INDEX(Backbone!$Q$2:$Q$893,MATCH(I148,Backbone!$A$2:$A$893,0))","v":0.75},null,null,{"$f":"(AG148*$AG$22+AI148*$AI$22+AK148*$AK$22+AM148*$AM$22+AO148*$AO$22+AQ148*$AQ$22+AS148*$AS$22+AU148*$AU$22+AW148*$AW$22)/(SUM($AG$22:$AW$22)*10)","v":{"$error":"#DIV/0!"}},null,null,"Перейти в Реестр ресурсов: ",null,{"$f":"HYPERLINK(\"#\"&ADDRESS(MATCH(I148,Toolbox!$C$1:$C$300),1,,,\"Toolbox\"),VLOOKUP(I148,Toolbox!$C$1:$C$300,1,FALSE))","v":"Инструмент ФАО для оценки эффективности эпиднадзора (SET)"}]
[]
[]
[]
[]
[]
[]
[null,null,null,"Другие полезные ресурсы",null,null,null,null,{"$f":"Backbone!A83","v":"Оценка системы эпиднадзора и мониторинга качества данных Европейского ЦКПЗ — справочник методов и применений "},null,null,null,null,null,null,"Справочник по мониторингу качества данных эпиднадзора для специалистов сектора общественного здравоохранения",null,null,null,null,null,null,null,null,{"$f":"INDEX(Backbone!$R$2:$R$893,MATCH(I155,Backbone!$A$2:$A$893,0))","v":"Руководящий документ"},null,null,null,{"$f":"INDEX(Backbone!$S$2:$S$893,MATCH(I155,Backbone!$A$2:$A$893,0))","v":"Ориентированный на конкретный сектор; универсальный"},null,null,null,{"$f":"INDEX(Backbone!$H$2:$H$893,MATCH(I155,Backbone!$A$2:$A$893,0))","v":8.1999999999999993},null,{"$f":"INDEX(Backbone!$I$2:$I$893,MATCH(I155,Backbone!$A$2:$A$893,0))","v":6},null,{"$f":"INDEX(Backbone!$J$2:$J$893,MATCH(I155,Backbone!$A$2:$A$893,0))","v":6.4},null,{"$f":"INDEX(Backbone!$K$1:$K$893,MATCH(I155,Backbone!$A$1:$A$893,0))","v":7.3},null,{"$f":"INDEX(Backbone!$L$2:$L$893,MATCH(I155,Backbone!$A$2:$A$893,0))","v":7.7},null,{"$f":"INDEX(Backbone!$M$2:$M$893,MATCH(I155,Backbone!$A$2:$A$893,0))","v":4.5},null,{"$f":"INDEX(Backbone!$N$2:$N$893,MATCH(I155,Backbone!$A$2:$A$893,0))","v":5.3},null,{"$f":"INDEX(Backbone!$O$2:$O$893,MATCH(I155,Backbone!$A$2:$A$893,0))","v":6.2},null,{"$f":"INDEX(Backbone!$P$2:$P$893,MATCH(I155,Backbone!$A$2:$A$893,0))","v":8},null,{"$f":"INDEX(Backbone!$Q$2:$Q$893,MATCH(I155,Backbone!$A$2:$A$893,0))","v":0.66222222222222227},null,null,{"$f":"(AG155*$AG$22+AI155*$AI$22+AK155*$AK$22+AM155*$AM$22+AO155*$AO$22+AQ155*$AQ$22+AS155*$AS$22+AU155*$AU$22+AW155*$AW$22)/(SUM($AG$22:$AW$22)*10)","v":{"$error":"#DIV/0!"}},null,null,"Перейти в Реестр ресурсов: ",null,{"$f":"HYPERLINK(\"#\"&ADDRESS(MATCH(I155,Toolbox!$C$1:$C$300),1,,,\"Toolbox\"),VLOOKUP(I155,Toolbox!$C$1:$C$300,1,FALSE))","v":"Оценка системы эпиднадзора и мониторинга качества данных Европейского ЦКПЗ — справочник методов и применений "}]
[]
[]
[]
[]
[]
[null,null,null,null,null,null,null,null,{"$f":"Backbone!A47","v":"Инструмент ФАО для оценки работы лабораторий и систем надзора за устойчивостью к противомикробным препаратам (ФАО-АТЛАСС)"},null,null,null,null,null,null,"Инструмент ФАО для оценки работы лабораторий и систем надзора за устойчивостью к противомикробным препаратам (ФАО-АТЛАСС) увеличивает потенциал страны для надзора за УПП, способствуя более унифицированному и координированному надзору за УПП на национальном, региональном и глобальном уровнях.",null,null,null,null,null,null,null,null,{"$f":"INDEX(Backbone!$R$2:$R$893,MATCH(I161,Backbone!$A$2:$A$893,0))","v":"Инструмент или процесс с методическим руководством/пояснениями"},null,null,null,{"$f":"INDEX(Backbone!$S$2:$S$893,MATCH(I161,Backbone!$A$2:$A$893,0))","v":"«Единое здоровье»; ориентированный на конкретную болезнь/угрозу "},null,null,null,{"$f":"INDEX(Backbone!$H$2:$H$893,MATCH(I161,Backbone!$A$2:$A$893,0))","v":7.2},null,{"$f":"INDEX(Backbone!$I$2:$I$893,MATCH(I161,Backbone!$A$2:$A$893,0))","v":10},null,{"$f":"INDEX(Backbone!$J$2:$J$893,MATCH(I161,Backbone!$A$2:$A$893,0))","v":5.6},null,{"$f":"INDEX(Backbone!$K$1:$K$893,MATCH(I161,Backbone!$A$1:$A$893,0))","v":7.3},null,{"$f":"INDEX(Backbone!$L$2:$L$893,MATCH(I161,Backbone!$A$2:$A$893,0))","v":7.3},null,{"$f":"INDEX(Backbone!$M$2:$M$893,MATCH(I161,Backbone!$A$2:$A$893,0))","v":5.2},null,{"$f":"INDEX(Backbone!$N$2:$N$893,MATCH(I161,Backbone!$A$2:$A$893,0))","v":8.6999999999999993},null,{"$f":"INDEX(Backbone!$O$2:$O$893,MATCH(I161,Backbone!$A$2:$A$893,0))","v":5.6},null,{"$f":"INDEX(Backbone!$P$2:$P$893,MATCH(I161,Backbone!$A$2:$A$893,0))","v":7},null,{"$f":"INDEX(Backbone!$Q$2:$Q$893,MATCH(I161,Backbone!$A$2:$A$893,0))","v":0.71},null,null,{"$f":"(AG161*$AG$22+AI161*$AI$22+AK161*$AK$22+AM161*$AM$22+AO161*$AO$22+AQ161*$AQ$22+AS161*$AS$22+AU161*$AU$22+AW161*$AW$22)/(SUM($AG$22:$AW$22)*10)","v":{"$error":"#DIV/0!"}},null,null,"Перейти в Реестр ресурсов: ",null,{"$f":"HYPERLINK(\"#\"&ADDRESS(MATCH(I161,Toolbox!$C$1:$C$300),1,,,\"Toolbox\"),VLOOKUP(I161,Toolbox!$C$1:$C$300,1,FALSE))","v":"Инструмент ФАО для оценки работы лабораторий и систем надзора за устойчивостью к противомикробным препаратам (ФАО-АТЛАСС)"}]
[]
[]
[]
[]
[]
[null,null,null,null,null,null,null,null,{"$f":"Backbone!A552","v":"Международные медико-санитарные правила (2005 г.): инструмент ежегодной отчетности государств-участников на основе самооценки (SPAR)"},null,null,null,null,null,null,"Инструмент отчетности, помогающий государствам-участникам Международных медико-санитарных правил (ММСП) в выполнении их обязательств по представлению ежегодных докладов Всемирной ассамблее здравоохранения (ВАЗ) по выполнению ими требований в отношении потенциала в соответствие с ММСП",null,null,null,null,null,null,null,null,{"$f":"INDEX(Backbone!$R$2:$R$893,MATCH(I167,Backbone!$A$2:$A$893,0))","v":"Инструмент самооценки"},null,null,null,{"$f":"INDEX(Backbone!$S$2:$S$893,MATCH(I167,Backbone!$A$2:$A$893,0))","v":"«Единое здоровье»; универсальный"},null,null,null,{"$f":"INDEX(Backbone!$H$2:$H$893,MATCH(I167,Backbone!$A$2:$A$893,0))","v":9.9},null,{"$f":"INDEX(Backbone!$I$2:$I$893,MATCH(I167,Backbone!$A$2:$A$893,0))","v":10},null,{"$f":"INDEX(Backbone!$J$2:$J$893,MATCH(I167,Backbone!$A$2:$A$893,0))","v":9.3000000000000007},null,{"$f":"INDEX(Backbone!$K$1:$K$893,MATCH(I167,Backbone!$A$1:$A$893,0))","v":7.3},null,{"$f":"INDEX(Backbone!$L$2:$L$893,MATCH(I167,Backbone!$A$2:$A$893,0))","v":9.4},null,{"$f":"INDEX(Backbone!$M$2:$M$893,MATCH(I167,Backbone!$A$2:$A$893,0))","v":9},null,{"$f":"INDEX(Backbone!$N$2:$N$893,MATCH(I167,Backbone!$A$2:$A$893,0))","v":8.5},null,{"$f":"INDEX(Backbone!$O$2:$O$893,MATCH(I167,Backbone!$A$2:$A$893,0))","v":6.3},null,{"$f":"INDEX(Backbone!$P$2:$P$893,MATCH(I167,Backbone!$A$2:$A$893,0))","v":6.7},null,{"$f":"INDEX(Backbone!$Q$2:$Q$893,MATCH(I167,Backbone!$A$2:$A$893,0))","v":0.84888888888888892},null,null,{"$f":"(AG167*$AG$22+AI167*$AI$22+AK167*$AK$22+AM167*$AM$22+AO167*$AO$22+AQ167*$AQ$22+AS167*$AS$22+AU167*$AU$22+AW167*$AW$22)/(SUM($AG$22:$AW$22)*10)","v":{"$error":"#DIV/0!"}},null,null,"Перейти в Реестр ресурсов: ",null,{"$f":"HYPERLINK(\"#\"&ADDRESS(MATCH(I167,Toolbox!$C$1:$C$300),1,,,\"Toolbox\"),VLOOKUP(I167,Toolbox!$C$1:$C$300,1,FALSE))","v":"Международные медико-санитарные правила (2005 г.): инструмент ежегодной отчетности государств-участников на основе самооценки (SPAR)"}]

{"sheet":"A3_tools","index":32,"n_rows":72,"n_cols":59,"rows_kept":72,"cut":false,"hidden":false,"merged":[[13,53,20,54],[17,3,20,6],[17,8,20,13],[17,15,20,22],[17,24,20,26],[17,28,20,30],[22,8,26,13],[6,32,20,32],[6,34,20,34],[6,36,20,36],[6,38,20,38],[6,40,20,40],[6,42,20,42],[6,44,20,44],[6,46,20,46],[6,48,20,48],[22,50,26,51],[22,53,26,54],[22,42,26,42],[22,44,26,44],[22,46,26,46],[22,48,26,48],[22,38,26,38],[22,40,26,40],[22,15,26,22],[22,24,26,26],[22,28,26,30],[22,32,26,32],[22,34,26,34],[22,36,26,36],[13,50,20,51],[35,50,39,51],[28,48,32,48],[28,50,32,51],[35,44,39,44],[35,46,39,46],[35,48,39,48],[28,15,32,22],[28,24,32,26],[28,28,32,30],[28,32,32,32],[28,34,32,34],[35,38,39,38],[35,40,39,40],[35,42,39,42],[35,8,39,13],[35,15,39,22],[35,24,39,26],[35,28,39,30],[35,32,39,32],[35,34,39,34],[35,36,39,36],[41,24,45,26],[41,28,45,30],[41,32,45,32],[41,34,45,34],[41,36,45,36],[41,8,45,13],[41,15,45,22],[53,53,57,54],[53,40,57,40],[53,42,57,42],[53,44,57,44],[53,46,57,46],[53,48,57,48],[41,53,45,54],[47,53,51,54],[35,53,39,54],[59,38,63,38],[41,40,45,40],[41,42,45,42],[41,44,45,44],[41,46,45,46],[41,48,45,48],[41,50,45,51],[53,38,57,38],[53,50,57,51],[47,42,51,42],[47,44,51,44],[47,46,51,46],[47,48,51,48],[47,50,51,51],[41,38,45,38],[59,8,63,13],[59,15,63,22],[59,24,63,26],[59,28,63,30],[59,32,63,32],[59,34,63,34],[59,36,63,36],[71,53,75,54],[65,53,69,54],[59,53,63,54],[59,46,63,46],[59,48,63,48],[59,50,63,51],[71,34,75,34],[71,36,75,36],[71,38,75,38],[65,36,69,36],[65,38,69,38],[65,40,69,40],[59,40,63,40],[59,42,63,42],[59,44,63,44],[65,42,69,42],[71,24,75,26],[47,8,51,13],[47,15,51,22],[47,24,51,26],[47,28,51,30],[47,32,51,32],[47,34,51,34],[47,36,51,36],[47,38,51,38],[47,40,51,40],[71,28,75,30],[71,32,75,32],[65,8,69,13],[65,15,69,22],[65,24,69,26],[65,28,69,30],[65,32,69,32],[65,34,69,34],[22,56,26,57],[28,53,32,54],[53,8,57,13],[53,15,57,22],[53,24,57,26],[53,28,57,30],[53,32,57,32],[53,34,57,34],[53,36,57,36],[28,36,32,36],[28,38,32,38],[28,40,32,40],[28,42,32,42],[28,44,32,44],[28,46,32,46],[28,8,32,13],[22,58,26,62],[1,1,3,62],[28,56,32,57],[28,58,32,62],[35,56,39,57],[35,58,39,62],[41,56,45,57],[41,58,45,62],[35,3,75,6],[22,3,32,6],[17,1,75,1],[71,40,75,40],[71,42,75,42],[71,44,75,44],[71,46,75,46],[71,48,75,48],[71,50,75,51],[65,44,69,44],[65,46,69,46],[65,48,69,48],[65,50,69,51],[71,8,75,13],[71,15,75,22],[47,56,51,57],[47,58,51,62],[53,56,57,57],[53,58,57,62],[59,56,63,57],[59,58,63,62],[65,56,69,57],[65,58,69,62],[71,56,75,57],[71,58,75,62]]}
[]
[null,"Ресурсы по оценке нормативно-правовой базы"]
[]
[]
[]
[]
[null,null,null,null,null,null,null,null,null,null,null,null,null,null,null,null,null,null,null,null,null,null,null,null,null,null,null,null,null,null,null,null,"Доступность",null,"Язык",null,"Простота использования",null,"Гибкость",null,"Потребности в данных",null,"Анализ данных",null,"Приемлемость",null,"«Единое здоровье»",null,"Воздействие"]
[]
[]
[]
[]
[]
[]
[null,null,null,null,null,null,null,null,null,null,null,null,null,null,null,null,null,null,null,null,null,null,null,null,null,null,null,null,null,null,null,null,null,null,null,null,null,null,null,null,null,null,null,null,null,null,null,null,null,null,"ИСХОДНАЯ ОЦЕНКА",null,null,"СКОРРЕКТИРОВАННАЯ ОЦЕНКА \n(Исходя из предпочтений пользователей)"]
[]
[]
[]
[null,"РЕСУРСЫ УРОВНЯ 1",null,"КЛАССИФИКАЦИЯ",null,null,null,null,"НАЗВАНИЕ РЕСУРСА",null,null,null,null,null,null,"КРАТКОЕ ОПИСАНИЕ",null,null,null,null,null,null,null,null,"ВИД РЕСУРСА",null,null,null,"ОБЩАЯ НАПРАВЛЕННОСТЬ РЕСУРСА"]
[]
[]
[]
[null,null,null,null,null,null,null,null,null,null,null,null,null,null,null,null,null,null,null,null,null,null,null,null,null,null,null,null,null,null,null,null,{"$f":"'Attribute Survey'!S22","v":0},null,{"$f":"'Attribute Survey'!S26","v":0},null,{"$f":"'Attribute Survey'!S30","v":0},null,{"$f":"'Attribute Survey'!S34","v":0},null,{"$f":"'Attribute Survey'!S38","v":0},null,{"$f":"'Attribute Survey'!S42","v":0},null,{"$f":"'Attribute Survey'!S46","v":0},null,{"$f":"'Attribute Survey'!S50","v":0},null,{"$f":"'Attribute Survey'!S54","v":0}]
[null,null,null,"Наиболее подходящие ресурсы",null,null,null,null,{"$f":"Backbone!A100","v":"Оценка сотрудничества в рамках межотраслевой системы эпиднадзора (ECoSur)"},null,null,null,null,null,null,"\nИнструмент, предназначенный для оценки организации и функционирования взаимодействия в системе межотраслевого эпиднадзора и для анализа сильных и слабых сторон такого взаимодействия.\n",null,null,null,null,null,null,null,null,{"$f":"INDEX(Backbone!$R2:$R893,MATCH(I23,Backbone!$A2:$A893,0))","v":"Инструмент или процесс с методическим руководством/пояснениями"},null,null,null,{"$f":"INDEX(Backbone!$S2:$S893,MATCH(I23,Backbone!$A2:$A893,0))","v":"«Единое здоровье»; универсальный"},null,null,null,{"$f":"INDEX(Backbone!$H2:$H893,MATCH(I23,Backbone!$A2:$A893,0))","v":8.3000000000000007},null,{"$f":"INDEX(Backbone!$I2:$I893,MATCH(I23,Backbone!$A2:$A893,0))","v":6},null,{"$f":"INDEX(Backbone!$J2:$J893,MATCH(I23,Backbone!$A2:$A893,0))","v":8.5},null,{"$f":"INDEX(Backbone!$K2:$K893,MATCH(I23,Backbone!$A2:$A893,0))","v":7.8},null,{"$f":"INDEX(Backbone!$L2:$L893,MATCH(I23,Backbone!$A2:$A893,0))","v":8.3000000000000007},null,{"$f":"INDEX(Backbone!$M2:$M893,MATCH(I23,Backbone!$A2:$A893,0))","v":6.7},null,{"$f":"INDEX(Backbone!$N2:$N893,MATCH(I23,Backbone!$A2:$A893,0))","v":3.3},null,{"$f":"INDEX(Backbone!$O2:$O893,MATCH(I23,Backbone!$A2:$A893,0))","v":9.1},null,{"$f":"INDEX(Backbone!$P2:$P893,MATCH(I23,Backbone!$A2:$A893,0))","v":4.7},null,{"$f":"INDEX(Backbone!$Q2:$Q893,MATCH(I23,Backbone!$A2:$A893,0))","v":0.69666666666666677},null,null,{"$f":"(AG23*$AG$22+AI23*$AI$22+AK23*$AK$22+AM23*$AM$22+AO23*$AO$22+AQ23*$AQ$22+AS23*$AS$22+AU23*$AU$22+AW23*$AW$22)/(SUM($AG$22:$AW$22)*10)","v":{"$error":"#DIV/0!"}},null,null,"Перейти в Реестр ресурсов: ",null,{"$f":"HYPERLINK(\"#\"&ADDRESS(MATCH(I23,Toolbox!$C$1:$C$300),1,,,\"Toolbox\"),VLOOKUP(I23,Toolbox!$C$1:$C$300,1,FALSE))","v":"Оценка сотрудничества в рамках межотраслевой системы эпиднадзора (ECoSur)"}]
[]
[]
[]
[]
[]
[null,null,null,null,null,null,null,null,{"$f":"Backbone!A437","v":"Анализ политического поля (PFA)"},null,null,null,null,null,null,"Специализированное картирование заинтересованных сторон, позволяющее визуализировать систему организаций и взаимодействие между ними по конкретному вопросу политики.\n\n",null,null,null,null,null,null,null,null,{"$f":"INDEX(Backbone!$R7:$R898,MATCH(I29,Backbone!$A7:$A898,0))","v":"Руководящий документ"},null,null,null,{"$f":"INDEX(Backbone!$S7:$S898,MATCH(I29,Backbone!$A7:$A898,0))","v":"«Единое здоровье»; универсальный"},null,null,null,{"$f":"INDEX(Backbone!$H7:$H898,MATCH(I29,Backbone!$A7:$A898,0))","v":7.8},null,{"$f":"INDEX(Backbone!$I7:$I898,MATCH(I29,Backbone!$A7:$A898,0))","v":8},null,{"$f":"INDEX(Backbone!$J7:$J898,MATCH(I29,Backbone!$A7:$A898,0))","v":9.8000000000000007},null,{"$f":"INDEX(Backbone!$K7:$K898,MATCH(I29,Backbone!$A7:$A898,0))","v":10},null,{"$f":"INDEX(Backbone!$L7:$L898,MATCH(I29,Backbone!$A7:$A898,0))","v":7.1},null,{"$f":"INDEX(Backbone!$M7:$M898,MATCH(I29,Backbone!$A7:$A898,0))","v":4},null,{"$f":"INDEX(Backbone!$N7:$N898,MATCH(I29,Backbone!$A7:$A898,0))","v":7},null,{"$f":"INDEX(Backbone!$O7:$O898,MATCH(I29,Backbone!$A7:$A898,0))","v":8.8000000000000007},null,{"$f":"INDEX(Backbone!$P7:$P898,MATCH(I29,Backbone!$A7:$A898,0))","v":5},null,{"$f":"INDEX(Backbone!$Q7:$Q898,MATCH(I29,Backbone!$A7:$A898,0))","v":0.75},null,null,{"$f":"(AG29*$AG$22+AI29*$AI$22+AK29*$AK$22+AM29*$AM$22+AO29*$AO$22+AQ29*$AQ$22+AS29*$AS$22+AU29*$AU$22+AW29*$AW$22)/(SUM($AG$22:$AW$22)*10)","v":{"$error":"#DIV/0!"}},null,null,"Перейти в Реестр ресурсов: ",null,{"$f":"HYPERLINK(\"#\"&ADDRESS(MATCH(I29,Toolbox!$C$1:$C$300),1,,,\"Toolbox\"),VLOOKUP(I29,Toolbox!$C$1:$C$300,1,FALSE))","v":"Анализ политического поля (PFA)"}]
[]
[]
[]
[]
[]
[]
[null,null,null,"Другие полезные ресурсы",null,null,null,null,{"$f":"Backbone!A575","v":"Устойчивость к противомикробным препаратам: руководство для разработки национальных планов действий"},null,null,null,null,null,null,"Руководство для разработки национальных планов действий для решения проблемы устойчивости к противомикробным препаратам.",null,null,null,null,null,null,null,null,{"$f":"INDEX(Backbone!$R$2:$R$893,MATCH(I36,Backbone!$A$2:$A$893,0))","v":"Руководящий документ"},null,null,null,{"$f":"INDEX(Backbone!$S$2:$S$893,MATCH(I36,Backbone!$A$2:$A$893,0))","v":"«Единое здоровье»; ориентированный на конкретную болезнь/угрозу "},null,null,null,{"$f":"INDEX(Backbone!$H$2:$H$893,MATCH(I36,Backbone!$A$2:$A$893,0))","v":10},null,{"$f":"INDEX(Backbone!$I$2:$I$893,MATCH(I36,Backbone!$A$2:$A$893,0))","v":6},null,{"$f":"INDEX(Backbone!$J$2:$J$893,MATCH(I36,Backbone!$A$2:$A$893,0))","v":6.6},null,{"$f":"INDEX(Backbone!$K$1:$K$893,MATCH(I36,Backbone!$A$1:$A$893,0))","v":8.6999999999999993},null,{"$f":"INDEX(Backbone!$L$2:$L$893,MATCH(I36,Backbone!$A$2:$A$893,0))","v":8},null,{"$f":"INDEX(Backbone!$M$2:$M$893,MATCH(I36,Backbone!$A$2:$A$893,0))","v":3.8},null,{"$f":"INDEX(Backbone!$N$2:$N$893,MATCH(I36,Backbone!$A$2:$A$893,0))","v":4.5},null,{"$f":"INDEX(Backbone!$O$2:$O$893,MATCH(I36,Backbone!$A$2:$A$893,0))","v":9},null,{"$f":"INDEX(Backbone!$P$2:$P$893,MATCH(I36,Backbone!$A$2:$A$893,0))","v":10},null,{"$f":"INDEX(Backbone!$Q$2:$Q$893,MATCH(I36,Backbone!$A$2:$A$893,0))","v":0.74},null,null,{"$f":"(AG36*$AG$22+AI36*$AI$22+AK36*$AK$22+AM36*$AM$22+AO36*$AO$22+AQ36*$AQ$22+AS36*$AS$22+AU36*$AU$22+AW36*$AW$22)/(SUM($AG$22:$AW$22)*10)","v":{"$error":"#DIV/0!"}},null,null,"Перейти в Реестр ресурсов: ",null,{"$f":"HYPERLINK(\"#\"&ADDRESS(MATCH(I36,Toolbox!$C$1:$C$300),1,,,\"Toolbox\"),VLOOKUP(I36,Toolbox!$C$1:$C$300,1,FALSE))","v":"Устойчивость к противомикробным препаратам: руководство для разработки национальных планов действий"}]
[]
[]
[]
[]
[]
[null,null,null,null,null,null,null,null,{"$f":"Backbone!A634","v":"Инструментарий для создания руководства по управлению"},null,null,null,null,null,null,"Инструментарий, описывающий процесс разработки руководства по управлению для платформы «Единое здоровье».",null,null,null,null,null,null,null,null,{"$f":"INDEX(Backbone!$R$2:$R$893,MATCH(I42,Backbone!$A$2:$A$893,0))","v":"Руководящий документ"},null,null,null,{"$f":"INDEX(Backbone!$S$2:$S$893,MATCH(I42,Backbone!$A$2:$A$893,0))","v":"«Единое здоровье»; универсальный"},null,null,null,{"$f":"INDEX(Backbone!$H$2:$H$893,MATCH(I42,Backbone!$A$2:$A$893,0))","v":8.4},null,{"$f":"INDEX(Backbone!$I$2:$I$893,MATCH(I42,Backbone!$A$2:$A$893,0))","v":8},null,{"$f":"INDEX(Backbone!$J$2:$J$893,MATCH(I42,Backbone!$A$2:$A$893,0))","v":8.4},null,{"$f":"INDEX(Backbone!$K$1:$K$893,MATCH(I42,Backbone!$A$1:$A$893,0))","v":6.7},null,{"$f":"INDEX(Backbone!$L$2:$L$893,MATCH(I42,Backbone!$A$2:$A$893,0))","v":2},null,{"$f":"INDEX(Backbone!$M$2:$M$893,MATCH(I42,Backbone!$A$2:$A$893,0))","v":3.5},null,{"$f":"INDEX(Backbone!$N$2:$N$893,MATCH(I42,Backbone!$A$2:$A$893,0))","v":4},null,{"$f":"INDEX(Backbone!$O$2:$O$893,MATCH(I42,Backbone!$A$2:$A$893,0))","v":6.4},null,{"$f":"INDEX(Backbone!$P$2:$P$893,MATCH(I42,Backbone!$A$2:$A$893,0))","v":8},null,{"$f":"INDEX(Backbone!$Q$2:$Q$893,MATCH(I42,Backbone!$A$2:$A$893,0))","v":0.61555555555555552},null,null,{"$f":"(AG42*$AG$22+AI42*$AI$22+AK42*$AK$22+AM42*$AM$22+AO42*$AO$22+AQ42*$AQ$22+AS42*$AS$22+AU42*$AU$22+AW42*$AW$22)/(SUM($AG$22:$AW$22)*10)","v":{"$error":"#DIV/0!"}},null,null,"Перейти в Реестр ресурсов: ",null,{"$f":"HYPERLINK(\"#\"&ADDRESS(MATCH(I42,Toolbox!$C$1:$C$300),1,,,\"Toolbox\"),VLOOKUP(I42,Toolbox!$C$1:$C$300,1,FALSE))","v":"Инструментарий для создания руководства по управлению"}]
[]
[]
[]
[]
[]
[null,null,null,null,null,null,null,null,{"$f":"Backbone!A346","v":"Национальная программа стандартизации системы общественного здравоохранения для повышения ее эффективности (NPHPSP): Инструмент оценки эффективности местной системы общественного здравоохранения (2-я версия)"},null,null,null,null,null,null,"Инструмент оценки эффективности для укрепления и улучшения системы общественного здравоохранения, основанный на рамочной программе десяти основных функций общественного здравоохранения.",null,null,null,null,null,null,null,null,{"$f":"INDEX(Backbone!$R$2:$R$893,MATCH(I48,Backbone!$A$2:$A$893,0))","v":"Руководящий документ"},null,null,null,{"$f":"INDEX(Backbone!$S$2:$S$893,MATCH(I48,Backbone!$A$2:$A$893,0))","v":"Ориентированный на конкретный сектор; универсальный"},null,null,null,{"$f":"INDEX(Backbone!$H$2:$H$893,MATCH(I48,Backbone!$A$2:$A$893,0))","v":8.4},null,{"$f":"INDEX(Backbone!$I$2:$I$893,MATCH(I48,Backbone!$A$2:$A$893,0))","v":10},null,{"$f":"INDEX(Backbone!$J$2:$J$893,MATCH(I48,Backbone!$A$2:$A$893,0))","v":9.6},null,{"$f":"INDEX(Backbone!$K$1:$K$893,MATCH(I48,Backbone!$A$1:$A$893,0))","v":8.6999999999999993},null,{"$f":"INDEX(Backbone!$L$2:$L$893,MATCH(I48,Backbone!$A$2:$A$893,0))","v":10},null,{"$f":"INDEX(Backbone!$M$2:$M$893,MATCH(I48,Backbone!$A$2:$A$893,0))","v":6},null,{"$f":"INDEX(Backbone!$N$2:$N$893,MATCH(I48,Backbone!$A$2:$A$893,0))","v":5},null,{"$f":"INDEX(Backbone!$O$2:$O$893,MATCH(I48,Backbone!$A$2:$A$893,0))","v":4},null,{"$f":"INDEX(Backbone!$P$2:$P$893,MATCH(I48,Backbone!$A$2:$A$893,0))","v":6},null,{"$f":"INDEX(Backbone!$Q$2:$Q$893,MATCH(I48,Backbone!$A$2:$A$893,0))","v":0.75222222222222224},null,null,{"$f":"(AG48*$AG$22+AI48*$AI$22+AK48*$AK$22+AM48*$AM$22+AO48*$AO$22+AQ48*$AQ$22+AS48*$AS$22+AU48*$AU$22+AW48*$AW$22)/(SUM($AG$22:$AW$22)*10)","v":{"$error":"#DIV/0!"}},null,null,"Перейти в Реестр ресурсов: ",null,{"$f":"HYPERLINK(\"#\"&ADDRESS(MATCH(I48,Toolbox!$C$1:$C$300),1,,,\"Toolbox\"),VLOOKUP(I48,Toolbox!$C$1:$C$300,1,FALSE))","v":"Национальная программа стандартизации системы общественного здравоохранения для повышения ее эффективности (NPHPSP): Инструмент оценки эффективности местной системы общественного здравоохранения (2-я версия)"}]
[]
[]
[]
[]
[]
[null,null,null,null,null,null,null,null,{"$f":"Backbone!A291","v":"Методология для анализа законодательства, относящегося к УПП, в продовольственном и сельскохозяйственном секторе"},null,null,null,null,null,null,"Методология, предназначенная для проведения анализов государственного законодательства, относящегося к УПП в продовольственном и сельскохозяйственном секторах.",null,null,null,null,null,null,null,null,{"$f":"INDEX(Backbone!$R$2:$R$893,MATCH(I54,Backbone!$A$2:$A$893,0))","v":"Руководящий документ"},null,null,null,{"$f":"INDEX(Backbone!$S$2:$S$893,MATCH(I54,Backbone!$A$2:$A$893,0))","v":"«Единое здоровье»; универсальный"},null,null,null,{"$f":"INDEX(Backbone!$H$2:$H$893,MATCH(I54,Backbone!$A$2:$A$893,0))","v":7.4},null,{"$f":"INDEX(Backbone!$I$2:$I$893,MATCH(I54,Backbone!$A$2:$A$893,0))","v":5.5},null,{"$f":"INDEX(Backbone!$J$2:$J$893,MATCH(I54,Backbone!$A$2:$A$893,0))","v":7.6},null,{"$f":"INDEX(Backbone!$K$1:$K$893,MATCH(I54,Backbone!$A$1:$A$893,0))","v":4},null,{"$f":"INDEX(Backbone!$L$2:$L$893,MATCH(I54,Backbone!$A$2:$A$893,0))","v":8.1999999999999993},null,{"$f":"INDEX(Backbone!$M$2:$M$893,MATCH(I54,Backbone!$A$2:$A$893,0))","v":4.5},null,{"$f":"INDEX(Backbone!$N$2:$N$893,MATCH(I54,Backbone!$A$2:$A$893,0))","v":4.5},null,{"$f":"INDEX(Backbone!$O$2:$O$893,MATCH(I54,Backbone!$A$2:$A$893,0))","v":6.6},null,{"$f":"INDEX(Backbone!$P$2:$P$893,MATCH(I54,Backbone!$A$2:$A$893,0))","v":4.5},null,{"$f":"INDEX(Backbone!$Q$2:$Q$893,MATCH(I54,Backbone!$A$2:$A$893,0))","v":0.58666666666666667},null,null,{"$f":"(AG54*$AG$22+AI54*$AI$22+AK54*$AK$22+AM54*$AM$22+AO54*$AO$22+AQ54*$AQ$22+AS54*$AS$22+AU54*$AU$22+AW54*$AW$22)/(SUM($AG$22:$AW$22)*10)","v":{"$error":"#DIV/0!"}},null,null,"Перейти в Реестр ресурсов: ",null,{"$f":"HYPERLINK(\"#\"&ADDRESS(MATCH(I54,Toolbox!$C$1:$C$300),1,,,\"Toolbox\"),VLOOKUP(I54,Toolbox!$C$1:$C$300,1,FALSE))","v":"Методология для анализа законодательства, относящегося к УПП, в продовольственном и сельскохозяйственном секторе"}]
[]
[]
[]
[]
[]
[null,null,null,null,null,null,null,null,{"$f":"Backbone!A400","v":"Инструмент для оценки требований и готовности к эпиднадзору на основе концепции «Единое здоровье» (OHSRRT)"},null,null,null,null,null,null,"Инструмент оценки требований и готовности к эпиднадзору, позволяющий определить уровень готовности страны и собрать требования для развития системы эпиднадзора на основе концепции «Единое здоровье» исходя из важнейших факторов успеха. ",null,null,null,null,null,null,null,null,{"$f":"INDEX(Backbone!$R$2:$R$893,MATCH(I60,Backbone!$A$2:$A$893,0))","v":"Инструмент самооценки"},null,null,null,{"$f":"INDEX(Backbone!$S$2:$S$893,MATCH(I60,Backbone!$A$2:$A$893,0))","v":"«Единое здоровье»; универсальный"},null,null,null,{"$f":"INDEX(Backbone!$H$2:$H$893,MATCH(I60,Backbone!$A$2:$A$893,0))","v":8},null,{"$f":"INDEX(Backbone!$I$2:$I$893,MATCH(I60,Backbone!$A$2:$A$893,0))","v":6},null,{"$f":"INDEX(Backbone!$J$2:$J$893,MATCH(I60,Backbone!$A$2:$A$893,0))","v":7.4},null,{"$f":"INDEX(Backbone!$K$1:$K$893,MATCH(I60,Backbone!$A$1:$A$893,0))","v":8.6999999999999993},null,{"$f":"INDEX(Backbone!$L$2:$L$893,MATCH(I60,Backbone!$A$2:$A$893,0))","v":6},null,{"$f":"INDEX(Backbone!$M$2:$M$893,MATCH(I60,Backbone!$A$2:$A$893,0))","v":2.5},null,{"$f":"INDEX(Backbone!$N$2:$N$893,MATCH(I60,Backbone!$A$2:$A$893,0))","v":2},null,{"$f":"INDEX(Backbone!$O$2:$O$893,MATCH(I60,Backbone!$A$2:$A$893,0))","v":9.6},null,{"$f":"INDEX(Backbone!$P$2:$P$893,MATCH(I60,Backbone!$A$2:$A$893,0))","v":5.5},null,{"$f":"INDEX(Backbone!$Q$2:$Q$893,MATCH(I60,Backbone!$A$2:$A$893,0))","v":0.61888888888888882},null,null,{"$f":"(AG60*$AG$22+AI60*$AI$22+AK60*$AK$22+AM60*$AM$22+AO60*$AO$22+AQ60*$AQ$22+AS60*$AS$22+AU60*$AU$22+AW60*$AW$22)/(SUM($AG$22:$AW$22)*10)","v":{"$error":"#DIV/0!"}},null,null,"Перейти в Реестр ресурсов: ",null,{"$f":"HYPERLINK(\"#\"&ADDRESS(MATCH(I60,Toolbox!$C$1:$C$300),1,,,\"Toolbox\"),VLOOKUP(I60,Toolbox!$C$1:$C$300,1,FALSE))","v":"Инструмент для оценки требований и готовности к эпиднадзору на основе концепции «Единое здоровье» (OHSRRT)"}]
[]
[]
[]
[]
[]
[null,null,null,null,null,null,null,null,{"$f":"Backbone!A557","v":"Поэтапный инструмент по искоренению бруцеллеза (STEB)"},null,null,null,null,null,null,"Настоящий инструмент самооценки на базе электронных таблиц создан в помощь странам в оценке имеющегося потенциала профилактики и искоренения бруцеллеза и борьбы с ним.",null,null,null,null,null,null,null,null,{"$f":"INDEX(Backbone!$R$2:$R$893,MATCH(I66,Backbone!$A$2:$A$893,0))","v":"Инструмент или процесс с методическим руководством/пояснениями"},null,null,null,{"$f":"INDEX(Backbone!$S$2:$S$893,MATCH(I66,Backbone!$A$2:$A$893,0))","v":"«Единое здоровье»; ориентированный на конкретную болезнь/угрозу "},null,null,null,{"$f":"INDEX(Backbone!$H$2:$H$893,MATCH(I66,Backbone!$A$2:$A$893,0))","v":9},null,{"$f":"INDEX(Backbone!$I$2:$I$893,MATCH(I66,Backbone!$A$2:$A$893,0))","v":10},null,{"$f":"INDEX(Backbone!$J$2:$J$893,MATCH(I66,Backbone!$A$2:$A$893,0))","v":7.6},null,{"$f":"INDEX(Backbone!$K$1:$K$893,MATCH(I66,Backbone!$A$1:$A$893,0))","v":3.7},null,{"$f":"INDEX(Backbone!$L$2:$L$893,MATCH(I66,Backbone!$A$2:$A$893,0))","v":5.7},null,{"$f":"INDEX(Backbone!$M$2:$M$893,MATCH(I66,Backbone!$A$2:$A$893,0))","v":7.3},null,{"$f":"INDEX(Backbone!$N$2:$N$893,MATCH(I66,Backbone!$A$2:$A$893,0))","v":7},null,{"$f":"INDEX(Backbone!$O$2:$O$893,MATCH(I66,Backbone!$A$2:$A$893,0))","v":8.6},null,{"$f":"INDEX(Backbone!$P$2:$P$893,MATCH(I66,Backbone!$A$2:$A$893,0))","v":8},null,{"$f":"INDEX(Backbone!$Q$2:$Q$893,MATCH(I66,Backbone!$A$2:$A$893,0))","v":0.7433333333333334},null,null,{"$f":"(AG66*$AG$22+AI66*$AI$22+AK66*$AK$22+AM66*$AM$22+AO66*$AO$22+AQ66*$AQ$22+AS66*$AS$22+AU66*$AU$22+AW66*$AW$22)/(SUM($AG$22:$AW$22)*10)","v":{"$error":"#DIV/0!"}},null,null,"Перейти в Реестр ресурсов: ",null,{"$f":"HYPERLINK(\"#\"&ADDRESS(MATCH(I66,Toolbox!$C$1:$C$300),1,,,\"Toolbox\"),VLOOKUP(I66,Toolbox!$C$1:$C$300,1,FALSE))","v":"Поэтапный инструмент по искоренению бруцеллеза (STEB)"}]
[]
[]
[]
[]
[]
[null,null,null,null,null,null,null,null,{"$f":"Backbone!A453","v":"Поэтапный подход к ликвидации бешенства (SARE)"},null,null,null,null,null,null,"Рабочий инструмент планирования, мониторинга и оценки для реализации, разработки и доработки программ борьбы с бешенством.",null,null,null,null,null,null,null,null,{"$f":"INDEX(Backbone!$R$2:$R$893,MATCH(I72,Backbone!$A$2:$A$893,0))","v":"Инструмент самооценки"},null,null,null,{"$f":"INDEX(Backbone!$S$2:$S$893,MATCH(I72,Backbone!$A$2:$A$893,0))","v":"«Единое здоровье»; ориентированный на конкретную болезнь/угрозу "},null,null,null,{"$f":"INDEX(Backbone!$H$2:$H$893,MATCH(I72,Backbone!$A$2:$A$893,0))","v":8},null,{"$f":"INDEX(Backbone!$I$2:$I$893,MATCH(I72,Backbone!$A$2:$A$893,0))","v":9},null,{"$f":"INDEX(Backbone!$J$2:$J$893,MATCH(I72,Backbone!$A$2:$A$893,0))","v":6.6},null,{"$f":"INDEX(Backbone!$K$1:$K$893,MATCH(I72,Backbone!$A$1:$A$893,0))","v":3.3},null,{"$f":"INDEX(Backbone!$L$2:$L$893,MATCH(I72,Backbone!$A$2:$A$893,0))","v":5.7},null,{"$f":"INDEX(Backbone!$M$2:$M$893,MATCH(I72,Backbone!$A$2:$A$893,0))","v":6.8},null,{"$f":"INDEX(Backbone!$N$2:$N$893,MATCH(I72,Backbone!$A$2:$A$893,0))","v":8},null,{"$f":"INDEX(Backbone!$O$2:$O$893,MATCH(I72,Backbone!$A$2:$A$893,0))","v":8.6},null,{"$f":"INDEX(Backbone!$P$2:$P$893,MATCH(I72,Backbone!$A$2:$A$893,0))","v":9.5},null,{"$f":"INDEX(Backbone!$Q$2:$Q$893,MATCH(I72,Backbone!$A$2:$A$893,0))","v":0.72777777777777775},null,null,{"$f":"(AG72*$AG$22+AI72*$AI$22+AK72*$AK$22+AM72*$AM$22+AO72*$AO$22+AQ72*$AQ$22+AS72*$AS$22+AU72*$AU$22+AW72*$AW$22)/(SUM($AG$22:$AW$22)*10)","v":{"$error":"#DIV/0!"}},null,null,"Перейти в Реестр ресурсов: ",null,{"$f":"HYPERLINK(\"#\"&ADDRESS(MATCH(I72,Toolbox!$C$1:$C$300),1,,,\"Toolbox\"),VLOOKUP(I72,Toolbox!$C$1:$C$300,1,FALSE))","v":"Поэтапный подход к ликвидации бешенства (SARE)"}]

{"sheet":"A7_tools","index":33,"n_rows":131,"n_cols":59,"rows_kept":131,"cut":false,"hidden":false,"merged":[[13,50,20,51],[13,53,20,54],[17,3,20,6],[17,8,20,13],[17,15,20,22],[17,24,20,26],[17,28,20,30],[6,32,20,32],[6,34,20,34],[6,36,20,36],[6,38,20,38],[6,40,20,40],[6,42,20,42],[6,44,20,44],[6,46,20,46],[6,48,20,48],[22,3,32,6],[22,8,26,13],[22,50,26,51],[22,53,26,54],[28,8,32,13],[28,15,32,22],[28,24,32,26],[28,28,32,30],[28,32,32,32],[28,34,32,34],[28,36,32,36],[28,38,32,38],[22,38,26,38],[22,40,26,40],[22,42,26,42],[22,44,26,44],[22,46,26,46],[22,48,26,48],[22,15,26,22],[22,24,26,26],[22,28,26,30],[22,32,26,32],[22,34,26,34],[22,36,26,36],[28,53,32,54],[35,8,39,13],[35,15,39,22],[35,24,39,26],[35,28,39,30],[35,32,39,32],[35,34,39,34],[35,36,39,36],[35,38,39,38],[28,40,32,40],[28,42,32,42],[28,44,32,44],[28,46,32,46],[28,48,32,48],[28,50,32,51],[35,53,39,54],[35,40,39,40],[35,42,39,42],[35,44,39,44],[35,46,39,46],[35,48,39,48],[35,50,39,51],[41,8,45,13],[41,15,45,22],[41,24,45,26],[41,28,45,30],[41,32,45,32],[41,34,45,34],[41,36,45,36],[41,38,45,38],[41,40,45,40],[47,34,51,34],[53,50,57,51],[53,53,57,54],[41,42,45,42],[41,44,45,44],[41,46,45,46],[41,48,45,48],[41,50,45,51],[41,53,45,54],[53,40,57,40],[53,42,57,42],[53,44,57,44],[53,46,57,46],[53,48,57,48],[59,36,63,36],[59,38,63,38],[53,38,57,38],[47,48,51,48],[47,50,51,51],[47,53,51,54],[53,8,57,13],[53,15,57,22],[53,24,57,26],[53,28,57,30],[53,32,57,32],[53,34,57,34],[53,36,57,36],[47,36,51,36],[47,38,51,38],[47,40,51,40],[47,42,51,42],[47,44,51,44],[47,46,51,46],[47,8,51,13],[47,15,51,22],[47,24,51,26],[47,28,51,30],[47,32,51,32],[65,42,69,42],[65,44,69,44],[65,46,69,46],[65,48,69,48],[65,50,69,51],[65,53,69,54],[59,53,63,54],[65,8,69,13],[65,15,69,22],[65,24,69,26],[65,28,69,30],[65,32,69,32],[65,34,69,34],[65,36,69,36],[65,38,69,38],[65,40,69,40],[59,40,63,40],[59,42,63,42],[59,44,63,44],[59,46,63,46],[59,48,63,48],[59,50,63,51],[59,8,63,13],[59,15,63,22],[59,24,63,26],[59,28,63,30],[59,32,63,32],[59,34,63,34],[130,3,134,6],[130,8,134,13],[130,15,134,22],[130,24,134,26],[130,28,134,30],[77,8,81,13],[77,15,81,22],[77,24,81,26],[77,28,81,30],[71,8,75,13],[71,15,75,22],[71,24,75,26],[71,28,75,30],[71,32,75,32],[71,34,75,34],[89,8,93,13],[89,15,93,22],[89,24,93,26],[89,28,93,30],[83,8,87,13],[125,3,128,6],[125,8,128,13],[125,15,128,22],[125,24,128,26],[114,32,128,32],[114,34,128,34],[114,36,128,36],[114,38,128,38],[114,40,128,40],[125,28,128,30],[130,50,134,51],[130,53,134,54],[130,32,134,32],[130,34,134,34],[130,36,134,36],[130,38,134,38],[130,40,134,40],[130,42,134,42],[89,48,93,48],[121,50,128,51],[121,53,128,54],[95,40,99,40],[95,42,99,42],[95,44,99,44],[95,46,99,46],[89,46,93,46],[89,32,93,32],[114,44,128,44],[114,46,128,46],[114,48,128,48],[130,44,134,44],[130,46,134,46],[130,48,134,48],[114,42,128,42],[83,48,87,48],[83,50,87,51],[83,53,87,54],[77,46,81,46],[77,48,81,48],[77,50,81,51],[77,53,81,54],[77,40,81,40],[77,42,81,42],[71,46,75,46],[71,48,75,48],[71,50,75,51],[71,53,75,54],[71,36,75,36],[71,38,75,38],[71,40,75,40],[71,42,75,42],[71,44,75,44],[77,32,81,32],[77,34,81,34],[77,36,81,36],[77,38,81,38],[83,36,87,36],[83,38,87,38],[83,40,87,40],[83,42,87,42],[77,44,81,44],[89,40,93,40],[89,42,93,42],[89,44,93,44],[83,44,87,44],[83,46,87,46],[83,15,87,22],[83,24,87,26],[83,28,87,30],[83,32,87,32],[83,34,87,34],[35,58,39,62],[41,56,45,57],[41,58,45,62],[47,56,51,57],[47,58,51,62],[35,3,99,6],[117,1,144,1],[17,1,99,1],[95,48,99,48],[95,50,99,51],[95,53,99,54],[89,50,93,51],[89,53,93,54],[95,8,99,13],[95,15,99,22],[95,24,99,26],[95,28,99,30],[95,32,99,32],[95,34,99,34],[95,36,99,36],[95,38,99,38],[89,34,93,34],[89,36,93,36],[89,38,93,38],[1,1,3,62],[83,56,87,57],[83,58,87,62],[89,56,93,57],[89,58,93,62],[95,56,99,57],[95,58,99,62],[130,56,134,57],[130,58,134,62],[53,56,57,57],[53,58,57,62],[59,56,63,57],[59,58,63,62],[65,56,69,57],[65,58,69,62],[71,56,75,57],[71,58,75,62],[77,56,81,57],[77,58,81,62],[22,56,26,57],[22,58,26,62],[28,56,32,57],[28,58,32,62],[35,56,39,57]]}
[]
[null,"Ресурсы по картированию инфраструктуры"]
[]
[]
[]
[]
[null,null,null,null,null,null,null,null,null,null,null,null,null,null,null,null,null,null,null,null,null,null,null,null,null,null,null,null,null,null,null,null,"Доступность",null,"Язык",null,"Простота использования",null,"Гибкость",null,"Потребности в данных",null,"Анализ данных",null,"Приемлемость",null,"«Единое здоровье»",null,"Воздействие"]
[]
[]
[]
[]
[]
[]
[null,null,null,null,null,null,null,null,null,null,null,null,null,null,null,null,null,null,null,null,null,null,null,null,null,null,null,null,null,null,null,null,null,null,null,null,null,null,null,null,null,null,null,null,null,null,null,null,null,null,"ИСХОДНАЯ ОЦЕНКА",null,null,"СКОРРЕКТИРОВАННАЯ ОЦЕНКА \n(Исходя из предпочтений пользователей)"]
[]
[]
[]
[null,"РЕСУРСЫ УРОВНЯ 1",null,"КЛАССИФИКАЦИЯ",null,null,null,null,"НАЗВАНИЕ РЕСУРСА",null,null,null,null,null,null,"КРАТКОЕ ОПИСАНИЕ",null,null,null,null,null,null,null,null,"ВИД РЕСУРСА",null,null,null,"ОБЩАЯ НАПРАВЛЕННОСТЬ РЕСУРСА"]
[]
[]
[]
[null,null,null,null,null,null,null,null,null,null,null,null,null,null,null,null,null,null,null,null,null,null,null,null,null,null,null,null,null,null,null,null,{"$f":"'Attribute Survey'!S22","v":0},null,{"$f":"'Attribute Survey'!S26","v":0},null,{"$f":"'Attribute Survey'!S30","v":0},null,{"$f":"'Attribute Survey'!S34","v":0},null,{"$f":"'Attribute Survey'!S38","v":0},null,{"$f":"'Attribute Survey'!S42","v":0},null,{"$f":"'Attribute Survey'!S46","v":0},null,{"$f":"'Attribute Survey'!S50","v":0},null,{"$f":"'Attribute Survey'!S54","v":0}]
[null,null,null,"Наиболее подходящие ресурсы",null,null,null,null,{"$f":"Backbone!A367","v":"Инструмент оценки систем здравоохранения на предмет предотвращения приоритетных зоонозов и борьбы с ними в соответствии с подходом «Единое здоровье» (OH-SAPZ)"},null,null,null,null,null,null,"Настоящий инструмент призван упростить планомерные оценки национальных структур для координации в рамках подхода «Единое здоровье» с точки зрения профилактики и выявления зоонозов и мер борьбы с ними.",null,null,null,null,null,null,null,null,{"$f":"INDEX(Backbone!$R2:$R893,MATCH(I23,Backbone!$A2:$A893,0))","v":"Инструмент самооценки"},null,null,null,{"$f":"INDEX(Backbone!$S2:$S893,MATCH(I23,Backbone!$A2:$A893,0))","v":"«Единое здоровье»; универсальный"},null,null,null,{"$f":"INDEX(Backbone!$H2:$H893,MATCH(I23,Backbone!$A2:$A893,0))","v":7.9},null,{"$f":"INDEX(Backbone!$I2:$I893,MATCH(I23,Backbone!$A2:$A893,0))","v":7.3},null,{"$f":"INDEX(Backbone!$J2:$J893,MATCH(I23,Backbone!$A2:$A893,0))","v":7.2},null,{"$f":"INDEX(Backbone!$K2:$K893,MATCH(I23,Backbone!$A2:$A893,0))","v":7.8},null,{"$f":"INDEX(Backbone!$L2:$L893,MATCH(I23,Backbone!$A2:$A893,0))","v":6.5},null,{"$f":"INDEX(Backbone!$M2:$M893,MATCH(I23,Backbone!$A2:$A893,0))","v":5.2},null,{"$f":"INDEX(Backbone!$N2:$N893,MATCH(I23,Backbone!$A2:$A893,0))","v":4},null,{"$f":"INDEX(Backbone!$O2:$O893,MATCH(I23,Backbone!$A2:$A893,0))","v":8.3000000000000007},null,{"$f":"INDEX(Backbone!$P2:$P893,MATCH(I23,Backbone!$A2:$A893,0))","v":9.6999999999999993},null,{"$f":"INDEX(Backbone!$Q2:$Q893,MATCH(I23,Backbone!$A2:$A893,0))","v":0.71000000000000008},null,null,{"$f":"(AG23*$AG$22+AI23*$AI$22+AK23*$AK$22+AM23*$AM$22+AO23*$AO$22+AQ23*$AQ$22+AS23*$AS$22+AU23*$AU$22+AW23*$AW$22)/(SUM($AG$22:$AW$22)*10)","v":{"$error":"#DIV/0!"}},null,null,"Перейти в Реестр ресурсов: ",null,{"$f":"HYPERLINK(\"#\"&ADDRESS(MATCH(I23,Toolbox!$C$1:$C$300),1,,,\"Toolbox\"),VLOOKUP(I23,Toolbox!$C$1:$C$300,1,FALSE))","v":"Инструмент оценки систем здравоохранения на предмет предотвращения приоритетных зоонозов и борьбы с ними в соответствии с подходом «Единое здоровье» (OH-SAPZ)"}]
[]
[]
[]
[]
[]
[null,null,null,null,null,null,null,null,{"$f":"Backbone!A383","v":"Инструментарий для картирования и анализа систем «Единое здоровье» (OH-SMART)"},null,null,null,null,null,null,"Процесс из шести этапов, которые позволяют заинтересованным сторонам из разных секторов картировать, анализировать и улучшать существующую систему, требующую междисциплинарного и межотраслевого взаимодействия.",null,null,null,null,null,null,null,null,{"$f":"INDEX(Backbone!$R7:$R898,MATCH(I29,Backbone!$A7:$A898,0))","v":"Инструмент или процесс с методическим руководством/пояснениями"},null,null,null,{"$f":"INDEX(Backbone!$S7:$S898,MATCH(I29,Backbone!$A7:$A898,0))","v":"«Единое здоровье»; универсальный"},null,null,null,{"$f":"INDEX(Backbone!$H7:$H898,MATCH(I29,Backbone!$A7:$A898,0))","v":8.6999999999999993},null,{"$f":"INDEX(Backbone!$I7:$I898,MATCH(I29,Backbone!$A7:$A898,0))","v":7.3},null,{"$f":"INDEX(Backbone!$J7:$J898,MATCH(I29,Backbone!$A7:$A898,0))","v":8.4},null,{"$f":"INDEX(Backbone!$K7:$K898,MATCH(I29,Backbone!$A7:$A898,0))","v":9.3000000000000007},null,{"$f":"INDEX(Backbone!$L7:$L898,MATCH(I29,Backbone!$A7:$A898,0))","v":8.1999999999999993},null,{"$f":"INDEX(Backbone!$M7:$M898,MATCH(I29,Backbone!$A7:$A898,0))","v":7.4},null,{"$f":"INDEX(Backbone!$N7:$N898,MATCH(I29,Backbone!$A7:$A898,0))","v":9.5},null,{"$f":"INDEX(Backbone!$O7:$O898,MATCH(I29,Backbone!$A7:$A898,0))","v":10},null,{"$f":"INDEX(Backbone!$P7:$P898,MATCH(I29,Backbone!$A7:$A898,0))","v":10},null,{"$f":"INDEX(Backbone!$Q7:$Q898,MATCH(I29,Backbone!$A7:$A898,0))","v":0.87555555555555564},null,null,{"$f":"(AG29*$AG$22+AI29*$AI$22+AK29*$AK$22+AM29*$AM$22+AO29*$AO$22+AQ29*$AQ$22+AS29*$AS$22+AU29*$AU$22+AW29*$AW$22)/(SUM($AG$22:$AW$22)*10)","v":{"$error":"#DIV/0!"}},null,null,"Перейти в Реестр ресурсов: ",null,{"$f":"HYPERLINK(\"#\"&ADDRESS(MATCH(I29,Toolbox!$C$1:$C$300),1,,,\"Toolbox\"),VLOOKUP(I29,Toolbox!$C$1:$C$300,1,FALSE))","v":"Инструментарий для картирования и анализа систем «Единое здоровье» (OH-SMART)"}]
[]
[]
[]
[]
[]
[]
[null,null,null,"Другие полезные ресурсы",null,null,null,null,{"$f":"Backbone!A38","v":"Инструмент оценки информатизации лабораторий (разработка APHL)"},null,null,null,null,null,null,"Инструмент для сбора исходной информации от лабораторий для регистрации потока данных, рабочих процессов, инфраструктуры, кадровых ресурсов и программ обучения, доступного оборудования, процессов управления данными, в том числе их учет и отчетность.",null,null,null,null,null,null,null,null,{"$f":"INDEX(Backbone!$R$2:$R$893,MATCH(I36,Backbone!$A$2:$A$893,0))","v":"Инструмент или процесс с методическим руководством/пояснениями"},null,null,null,{"$f":"INDEX(Backbone!$S$2:$S$893,MATCH(I36,Backbone!$A$2:$A$893,0))","v":"Ориентированный на конкретный сектор; универсальный"},null,null,null,{"$f":"INDEX(Backbone!$H$2:$H$893,MATCH(I36,Backbone!$A$2:$A$893,0))","v":8.4},null,{"$f":"INDEX(Backbone!$I$2:$I$893,MATCH(I36,Backbone!$A$2:$A$893,0))","v":6},null,{"$f":"INDEX(Backbone!$J$2:$J$893,MATCH(I36,Backbone!$A$2:$A$893,0))","v":8},null,{"$f":"INDEX(Backbone!$K$1:$K$893,MATCH(I36,Backbone!$A$1:$A$893,0))","v":10},null,{"$f":"INDEX(Backbone!$L$2:$L$893,MATCH(I36,Backbone!$A$2:$A$893,0))","v":6},null,{"$f":"INDEX(Backbone!$M$2:$M$893,MATCH(I36,Backbone!$A$2:$A$893,0))","v":4.5},null,{"$f":"INDEX(Backbone!$N$2:$N$893,MATCH(I36,Backbone!$A$2:$A$893,0))","v":2},null,{"$f":"INDEX(Backbone!$O$2:$O$893,MATCH(I36,Backbone!$A$2:$A$893,0))","v":2.8},null,{"$f":"INDEX(Backbone!$P$2:$P$893,MATCH(I36,Backbone!$A$2:$A$893,0))","v":6},null,{"$f":"INDEX(Backbone!$Q$2:$Q$893,MATCH(I36,Backbone!$A$2:$A$893,0))","v":0.59666666666666657},null,null,{"$f":"(AG36*$AG$22+AI36*$AI$22+AK36*$AK$22+AM36*$AM$22+AO36*$AO$22+AQ36*$AQ$22+AS36*$AS$22+AU36*$AU$22+AW36*$AW$22)/(SUM($AG$22:$AW$22)*10)","v":{"$error":"#DIV/0!"}},null,null,"Перейти в Реестр ресурсов: ",null,{"$f":"HYPERLINK(\"#\"&ADDRESS(MATCH(I36,Toolbox!$C$1:$C$300),1,,,\"Toolbox\"),VLOOKUP(I36,Toolbox!$C$1:$C$300,1,FALSE))","v":"Инструмент оценки информатизации лабораторий (разработка APHL)"}]
[]
[]
[]
[]
[]
[null,null,null,null,null,null,null,null,{"$f":"Backbone!A42","v":"Инструмент самооценки информатизации лабораторий (разработка Ассоциации лабораторий общественного здравоохранения (APHL))"},null,null,null,null,null,null,"Инструмент, позволяющий лабораториям общественного здравоохранения оценить свои сильные стороны и пробелы в вопросе потенциала информатизации по 19 функциональным направлениям работы лабораторий.",null,null,null,null,null,null,null,null,{"$f":"INDEX(Backbone!$R$2:$R$893,MATCH(I42,Backbone!$A$2:$A$893,0))","v":"Руководящий документ"},null,null,null,{"$f":"INDEX(Backbone!$S$2:$S$893,MATCH(I42,Backbone!$A$2:$A$893,0))","v":"Ориентированный на конкретный сектор; универсальный"},null,null,null,{"$f":"INDEX(Backbone!$H$2:$H$893,MATCH(I42,Backbone!$A$2:$A$893,0))","v":9.1},null,{"$f":"INDEX(Backbone!$I$2:$I$893,MATCH(I42,Backbone!$A$2:$A$893,0))","v":6.7},null,{"$f":"INDEX(Backbone!$J$2:$J$893,MATCH(I42,Backbone!$A$2:$A$893,0))","v":8.3000000000000007},null,{"$f":"INDEX(Backbone!$K$1:$K$893,MATCH(I42,Backbone!$A$1:$A$893,0))","v":8.4},null,{"$f":"INDEX(Backbone!$L$2:$L$893,MATCH(I42,Backbone!$A$2:$A$893,0))","v":8.1},null,{"$f":"INDEX(Backbone!$M$2:$M$893,MATCH(I42,Backbone!$A$2:$A$893,0))","v":8.5},null,{"$f":"INDEX(Backbone!$N$2:$N$893,MATCH(I42,Backbone!$A$2:$A$893,0))","v":5},null,{"$f":"INDEX(Backbone!$O$2:$O$893,MATCH(I42,Backbone!$A$2:$A$893,0))","v":6.1},null,{"$f":"INDEX(Backbone!$P$2:$P$893,MATCH(I42,Backbone!$A$2:$A$893,0))","v":4.3},null,{"$f":"INDEX(Backbone!$Q$2:$Q$893,MATCH(I42,Backbone!$A$2:$A$893,0))","v":0.71666666666666667},null,null,{"$f":"(AG42*$AG$22+AI42*$AI$22+AK42*$AK$22+AM42*$AM$22+AO42*$AO$22+AQ42*$AQ$22+AS42*$AS$22+AU42*$AU$22+AW42*$AW$22)/(SUM($AG$22:$AW$22)*10)","v":{"$error":"#DIV/0!"}},null,null,"Перейти в Реестр ресурсов: ",null,{"$f":"HYPERLINK(\"#\"&ADDRESS(MATCH(I42,Toolbox!$C$1:$C$300),1,,,\"Toolbox\"),VLOOKUP(I42,Toolbox!$C$1:$C$300,1,FALSE))","v":"Инструмент самооценки информатизации лабораторий (разработка Ассоциации лабораторий общественного здравоохранения (APHL))"}]
[]
[]
[]
[]
[]
[null,null,null,null,null,null,null,null,{"$f":"Backbone!A100","v":"Оценка сотрудничества в рамках межотраслевой системы эпиднадзора (ECoSur)"},null,null,null,null,null,null,"Инструмент, предназначенный для оценки организации и функционирования взаимодействия в системе межотраслевого эпиднадзора и для анализа сильных и слабых сторон такого взаимодействия.",null,null,null,null,null,null,null,null,{"$f":"INDEX(Backbone!$R$2:$R$893,MATCH(I48,Backbone!$A$2:$A$893,0))","v":"Инструмент или процесс с методическим руководством/пояснениями"},null,null,null,{"$f":"INDEX(Backbone!$S$2:$S$893,MATCH(I48,Backbone!$A$2:$A$893,0))","v":"«Единое здоровье»; универсальный"},null,null,null,{"$f":"INDEX(Backbone!$H$2:$H$893,MATCH(I48,Backbone!$A$2:$A$893,0))","v":8.3000000000000007},null,{"$f":"INDEX(Backbone!$I$2:$I$893,MATCH(I48,Backbone!$A$2:$A$893,0))","v":6},null,{"$f":"INDEX(Backbone!$J$2:$J$893,MATCH(I48,Backbone!$A$2:$A$893,0))","v":8.5},null,{"$f":"INDEX(Backbone!$K$1:$K$893,MATCH(I48,Backbone!$A$1:$A$893,0))","v":7.8},null,{"$f":"INDEX(Backbone!$L$2:$L$893,MATCH(I48,Backbone!$A$2:$A$893,0))","v":8.3000000000000007},null,{"$f":"INDEX(Backbone!$M$2:$M$893,MATCH(I48,Backbone!$A$2:$A$893,0))","v":6.7},null,{"$f":"INDEX(Backbone!$N$2:$N$893,MATCH(I48,Backbone!$A$2:$A$893,0))","v":3.3},null,{"$f":"INDEX(Backbone!$O$2:$O$893,MATCH(I48,Backbone!$A$2:$A$893,0))","v":9.1},null,{"$f":"INDEX(Backbone!$P$2:$P$893,MATCH(I48,Backbone!$A$2:$A$893,0))","v":4.7},null,{"$f":"INDEX(Backbone!$Q$2:$Q$893,MATCH(I48,Backbone!$A$2:$A$893,0))","v":0.69666666666666677},null,null,{"$f":"(AG48*$AG$22+AI48*$AI$22+AK48*$AK$22+AM48*$AM$22+AO48*$AO$22+AQ48*$AQ$22+AS48*$AS$22+AU48*$AU$22+AW48*$AW$22)/(SUM($AG$22:$AW$22)*10)","v":{"$error":"#DIV/0!"}},null,null,"Перейти в Реестр ресурсов: ",null,{"$f":"HYPERLINK(\"#\"&ADDRESS(MATCH(I48,Toolbox!$C$1:$C$300),1,,,\"Toolbox\"),VLOOKUP(I48,Toolbox!$C$1:$C$300,1,FALSE))","v":"Оценка сотрудничества в рамках межотраслевой системы эпиднадзора (ECoSur)"}]
[]
[]
[]
[]
[]
[null,null,null,null,null,null,null,null,{"$f":"Backbone!A239","v":"Национальный семинар по выстраиванию связей ММСП-ПВС"},null,null,null,null,null,null,"Семинар, в ходе которого заинтересованные стороны подхода «Единое здоровье» (ЕЗ) исследуют возможные пересекающиеся области своей работы, рассматриваемые в рамочных программах развития потенциала МЭБ (ПВС) и ММСП (Рамочная программа мониторинга и оценки ММСП), и при необходимости создают соответствующие связи для обеспечения взаимодействия между секторами.  ",null,null,null,null,null,null,null,null,{"$f":"INDEX(Backbone!$R$2:$R$893,MATCH(I54,Backbone!$A$2:$A$893,0))","v":"Инструмент или процесс с методическим руководством/пояснениями"},null,null,null,{"$f":"INDEX(Backbone!$S$2:$S$893,MATCH(I54,Backbone!$A$2:$A$893,0))","v":"«Единое здоровье»; универсальный"},null,null,null,{"$f":"INDEX(Backbone!$H$2:$H$893,MATCH(I54,Backbone!$A$2:$A$893,0))","v":8.6},null,{"$f":"INDEX(Backbone!$I$2:$I$893,MATCH(I54,Backbone!$A$2:$A$893,0))","v":10},null,{"$f":"INDEX(Backbone!$J$2:$J$893,MATCH(I54,Backbone!$A$2:$A$893,0))","v":6.2},null,{"$f":"INDEX(Backbone!$K$1:$K$893,MATCH(I54,Backbone!$A$1:$A$893,0))","v":10},null,{"$f":"INDEX(Backbone!$L$2:$L$893,MATCH(I54,Backbone!$A$2:$A$893,0))","v":6},null,{"$f":"INDEX(Backbone!$M$2:$M$893,MATCH(I54,Backbone!$A$2:$A$893,0))","v":7},null,{"$f":"INDEX(Backbone!$N$2:$N$893,MATCH(I54,Backbone!$A$2:$A$893,0))","v":9},null,{"$f":"INDEX(Backbone!$O$2:$O$893,MATCH(I54,Backbone!$A$2:$A$893,0))","v":8.1999999999999993},null,{"$f":"INDEX(Backbone!$P$2:$P$893,MATCH(I54,Backbone!$A$2:$A$893,0))","v":10},null,{"$f":"INDEX(Backbone!$Q$2:$Q$893,MATCH(I54,Backbone!$A$2:$A$893,0))","v":0.83333333333333337},null,null,{"$f":"(AG54*$AG$22+AI54*$AI$22+AK54*$AK$22+AM54*$AM$22+AO54*$AO$22+AQ54*$AQ$22+AS54*$AS$22+AU54*$AU$22+AW54*$AW$22)/(SUM($AG$22:$AW$22)*10)","v":{"$error":"#DIV/0!"}},null,null,"Перейти в Реестр ресурсов: ",null,{"$f":"HYPERLINK(\"#\"&ADDRESS(MATCH(I54,Toolbox!$C$1:$C$300),1,,,\"Toolbox\"),VLOOKUP(I54,Toolbox!$C$1:$C$300,1,FALSE))","v":"Национальный семинар по выстраиванию связей ММСП-ПВС"}]
[]
[]
[]
[]
[]
[null,null,null,null,null,null,null,null,{"$f":"Backbone!A271","v":"Анализ инфраструктуры лабораторной сети (LINA)"},null,null,null,null,null,null,"Простое в использовании веб-приложение с функциями сложного компьютерного моделирования и анализа данных с простой визуализацией на базе карт в отношении потенциала и возможностей национальной лабораторной сети и каждой отдельной лаборатории. ",null,null,null,null,null,null,null,null,{"$f":"INDEX(Backbone!$R$2:$R$893,MATCH(I60,Backbone!$A$2:$A$893,0))","v":"Оборудование или программное обеспечение"},null,null,null,{"$f":"INDEX(Backbone!$S$2:$S$893,MATCH(I60,Backbone!$A$2:$A$893,0))","v":"«Единое здоровье»; универсальный"},null,null,null,{"$f":"INDEX(Backbone!$H$2:$H$893,MATCH(I60,Backbone!$A$2:$A$893,0))","v":9.6},null,{"$f":"INDEX(Backbone!$I$2:$I$893,MATCH(I60,Backbone!$A$2:$A$893,0))","v":6},null,{"$f":"INDEX(Backbone!$J$2:$J$893,MATCH(I60,Backbone!$A$2:$A$893,0))","v":7.6},null,{"$f":"INDEX(Backbone!$K$1:$K$893,MATCH(I60,Backbone!$A$1:$A$893,0))","v":9},null,{"$f":"INDEX(Backbone!$L$2:$L$893,MATCH(I60,Backbone!$A$2:$A$893,0))","v":8.3000000000000007},null,{"$f":"INDEX(Backbone!$M$2:$M$893,MATCH(I60,Backbone!$A$2:$A$893,0))","v":7},null,{"$f":"INDEX(Backbone!$N$2:$N$893,MATCH(I60,Backbone!$A$2:$A$893,0))","v":3},null,{"$f":"INDEX(Backbone!$O$2:$O$893,MATCH(I60,Backbone!$A$2:$A$893,0))","v":9.1},null,{"$f":"INDEX(Backbone!$P$2:$P$893,MATCH(I60,Backbone!$A$2:$A$893,0))","v":4},null,{"$f":"INDEX(Backbone!$Q$2:$Q$893,MATCH(I60,Backbone!$A$2:$A$893,0))","v":0.69555555555555559},null,null,{"$f":"(AG60*$AG$22+AI60*$AI$22+AK60*$AK$22+AM60*$AM$22+AO60*$AO$22+AQ60*$AQ$22+AS60*$AS$22+AU60*$AU$22+AW60*$AW$22)/(SUM($AG$22:$AW$22)*10)","v":{"$error":"#DIV/0!"}},null,null,"Перейти в Реестр ресурсов: ",null,{"$f":"HYPERLINK(\"#\"&ADDRESS(MATCH(I60,Toolbox!$C$1:$C$300),1,,,\"Toolbox\"),VLOOKUP(I60,Toolbox!$C$1:$C$300,1,FALSE))","v":"Анализ инфраструктуры лабораторной сети (LINA)"}]
[]
[]
[]
[]
[]
[null,null,null,null,null,null,null,null,{"$f":"Backbone!A303","v":"Национальный план действий по обеспечению безопасности в области здравоохранения (NAPHS)"},null,null,null,null,null,null,"Организуемый самими странами процесс планирования, способный ускорить внедрение основных возможностей Международных медико-санитарных правил (ММСП) и основывающийся на концепции «Единое здоровье» и общегосударственном подходе ко всем видам опасностей.",null,null,null,null,null,null,null,null,{"$f":"INDEX(Backbone!$R$2:$R$893,MATCH(I66,Backbone!$A$2:$A$893,0))","v":"Руководящий документ"},null,null,null,{"$f":"INDEX(Backbone!$S$2:$S$893,MATCH(I66,Backbone!$A$2:$A$893,0))","v":"«Единое здоровье»; универсальный"},null,null,null,{"$f":"INDEX(Backbone!$H$2:$H$893,MATCH(I66,Backbone!$A$2:$A$893,0))","v":8},null,{"$f":"INDEX(Backbone!$I$2:$I$893,MATCH(I66,Backbone!$A$2:$A$893,0))","v":9},null,{"$f":"INDEX(Backbone!$J$2:$J$893,MATCH(I66,Backbone!$A$2:$A$893,0))","v":7.8},null,{"$f":"INDEX(Backbone!$K$1:$K$893,MATCH(I66,Backbone!$A$1:$A$893,0))","v":10},null,{"$f":"INDEX(Backbone!$L$2:$L$893,MATCH(I66,Backbone!$A$2:$A$893,0))","v":8},null,{"$f":"INDEX(Backbone!$M$2:$M$893,MATCH(I66,Backbone!$A$2:$A$893,0))","v":4.5},null,{"$f":"INDEX(Backbone!$N$2:$N$893,MATCH(I66,Backbone!$A$2:$A$893,0))","v":10},null,{"$f":"INDEX(Backbone!$O$2:$O$893,MATCH(I66,Backbone!$A$2:$A$893,0))","v":10},null,{"$f":"INDEX(Backbone!$P$2:$P$893,MATCH(I66,Backbone!$A$2:$A$893,0))","v":10},null,{"$f":"INDEX(Backbone!$Q$2:$Q$893,MATCH(I66,Backbone!$A$2:$A$893,0))","v":0.85888888888888881},null,null,{"$f":"(AG66*$AG$22+AI66*$AI$22+AK66*$AK$22+AM66*$AM$22+AO66*$AO$22+AQ66*$AQ$22+AS66*$AS$22+AU66*$AU$22+AW66*$AW$22)/(SUM($AG$22:$AW$22)*10)","v":{"$error":"#DIV/0!"}},null,null,"Перейти в Реестр ресурсов: ",null,{"$f":"HYPERLINK(\"#\"&ADDRESS(MATCH(I66,Toolbox!$C$1:$C$300),1,,,\"Toolbox\"),VLOOKUP(I66,Toolbox!$C$1:$C$300,1,FALSE))","v":"Национальный план действий по обеспечению безопасности в области здравоохранения (NAPHS)"}]
[]
[]
[]
[]
[]
[null,null,null,null,null,null,null,null,{"$f":"Backbone!A332","v":"Сеть для оценки мероприятий на основе концепции «Единое здоровье» (NEOH)"},null,null,null,null,null,null,"Инструмент на базе Excel для оценки приверженности системы эпиднадзора принципу «Единое здоровье» (или степень применения подхода «Единое здоровье», ЕЗ). ",null,null,null,null,null,null,null,null,{"$f":"INDEX(Backbone!$R$2:$R$893,MATCH(I72,Backbone!$A$2:$A$893,0))","v":"Руководящий документ"},null,null,null,{"$f":"INDEX(Backbone!$S$2:$S$893,MATCH(I72,Backbone!$A$2:$A$893,0))","v":"«Единое здоровье»; универсальный"},null,null,null,{"$f":"INDEX(Backbone!$H$2:$H$893,MATCH(I72,Backbone!$A$2:$A$893,0))","v":8.3000000000000007},null,{"$f":"INDEX(Backbone!$I$2:$I$893,MATCH(I72,Backbone!$A$2:$A$893,0))","v":7.7},null,{"$f":"INDEX(Backbone!$J$2:$J$893,MATCH(I72,Backbone!$A$2:$A$893,0))","v":5.3},null,{"$f":"INDEX(Backbone!$K$1:$K$893,MATCH(I72,Backbone!$A$1:$A$893,0))","v":8.9},null,{"$f":"INDEX(Backbone!$L$2:$L$893,MATCH(I72,Backbone!$A$2:$A$893,0))","v":7.8},null,{"$f":"INDEX(Backbone!$M$2:$M$893,MATCH(I72,Backbone!$A$2:$A$893,0))","v":4.7},null,{"$f":"INDEX(Backbone!$N$2:$N$893,MATCH(I72,Backbone!$A$2:$A$893,0))","v":5.3},null,{"$f":"INDEX(Backbone!$O$2:$O$893,MATCH(I72,Backbone!$A$2:$A$893,0))","v":8},null,{"$f":"INDEX(Backbone!$P$2:$P$893,MATCH(I72,Backbone!$A$2:$A$893,0))","v":5.3},null,{"$f":"INDEX(Backbone!$Q$2:$Q$893,MATCH(I72,Backbone!$A$2:$A$893,0))","v":0.68111111111111111},null,null,{"$f":"(AG72*$AG$22+AI72*$AI$22+AK72*$AK$22+AM72*$AM$22+AO72*$AO$22+AQ72*$AQ$22+AS72*$AS$22+AU72*$AU$22+AW72*$AW$22)/(SUM($AG$22:$AW$22)*10)","v":{"$error":"#DIV/0!"}},null,null,"Перейти в Реестр ресурсов: ",null,{"$f":"HYPERLINK(\"#\"&ADDRESS(MATCH(I72,Toolbox!$C$1:$C$300),1,,,\"Toolbox\"),VLOOKUP(I72,Toolbox!$C$1:$C$300,1,FALSE))","v":"Сеть для оценки мероприятий на основе концепции «Единое здоровье» (NEOH)"}]
[]
[]
[]
[]
[]
[null,null,null,null,null,null,null,null,{"$f":"Backbone!A420","v":"Анализ пробелов ПВС, разработанный Всемирной организацией охраны здоровья животных (МЭБ)"},null,null,null,null,null,null,"Помогает странам составить подробный план исходя из результатов оценки ПВС.",null,null,null,null,null,null,null,null,{"$f":"INDEX(Backbone!$R$2:$R$893,MATCH(I78,Backbone!$A$2:$A$893,0))","v":"Инструмент или процесс с методическим руководством/пояснениями"},null,null,null,{"$f":"INDEX(Backbone!$S$2:$S$893,MATCH(I78,Backbone!$A$2:$A$893,0))","v":"Ориентированный на конкретный сектор; универсальный"},null,null,null,{"$f":"INDEX(Backbone!$H$2:$H$893,MATCH(I78,Backbone!$A$2:$A$893,0))","v":6.8},null,{"$f":"INDEX(Backbone!$I$2:$I$893,MATCH(I78,Backbone!$A$2:$A$893,0))","v":8},null,{"$f":"INDEX(Backbone!$J$2:$J$893,MATCH(I78,Backbone!$A$2:$A$893,0))","v":5.6},null,{"$f":"INDEX(Backbone!$K$1:$K$893,MATCH(I78,Backbone!$A$1:$A$893,0))","v":10},null,{"$f":"INDEX(Backbone!$L$2:$L$893,MATCH(I78,Backbone!$A$2:$A$893,0))","v":6},null,{"$f":"INDEX(Backbone!$M$2:$M$893,MATCH(I78,Backbone!$A$2:$A$893,0))","v":4.3},null,{"$f":"INDEX(Backbone!$N$2:$N$893,MATCH(I78,Backbone!$A$2:$A$893,0))","v":9.5},null,{"$f":"INDEX(Backbone!$O$2:$O$893,MATCH(I78,Backbone!$A$2:$A$893,0))","v":4.7},null,{"$f":"INDEX(Backbone!$P$2:$P$893,MATCH(I78,Backbone!$A$2:$A$893,0))","v":7},null,{"$f":"INDEX(Backbone!$Q$2:$Q$893,MATCH(I78,Backbone!$A$2:$A$893,0))","v":0.68777777777777771},null,null,{"$f":"(AG78*$AG$22+AI78*$AI$22+AK78*$AK$22+AM78*$AM$22+AO78*$AO$22+AQ78*$AQ$22+AS78*$AS$22+AU78*$AU$22+AW78*$AW$22)/(SUM($AG$22:$AW$22)*10)","v":{"$error":"#DIV/0!"}},null,null,"Перейти в Реестр ресурсов: ",null,{"$f":"HYPERLINK(\"#\"&ADDRESS(MATCH(I78,Toolbox!$C$1:$C$300),1,,,\"Toolbox\"),VLOOKUP(I78,Toolbox!$C$1:$C$300,1,FALSE))","v":"Анализ пробелов ПВС, разработанный Всемирной организацией охраны здоровья животных (МЭБ)"}]
[]
[]
[]
[]
[]
[null,null,null,null,null,null,null,null,{"$f":"Backbone!A437","v":"Анализ политического поля (PFA)"},null,null,null,null,null,null,"Специализированное картирование заинтересованных сторон, позволяющее визуализировать систему организаций и взаимодействие между ними по конкретному вопросу политики.",null,null,null,null,null,null,null,null,{"$f":"INDEX(Backbone!$R$2:$R$893,MATCH(I84,Backbone!$A$2:$A$893,0))","v":"Руководящий документ"},null,null,null,{"$f":"INDEX(Backbone!$S$2:$S$893,MATCH(I84,Backbone!$A$2:$A$893,0))","v":"«Единое здоровье»; универсальный"},null,null,null,{"$f":"INDEX(Backbone!$H$2:$H$893,MATCH(I84,Backbone!$A$2:$A$893,0))","v":7.8},null,{"$f":"INDEX(Backbone!$I$2:$I$893,MATCH(I84,Backbone!$A$2:$A$893,0))","v":8},null,{"$f":"INDEX(Backbone!$J$2:$J$893,MATCH(I84,Backbone!$A$2:$A$893,0))","v":9.8000000000000007},null,{"$f":"INDEX(Backbone!$K$1:$K$893,MATCH(I84,Backbone!$A$1:$A$893,0))","v":10},null,{"$f":"INDEX(Backbone!$L$2:$L$893,MATCH(I84,Backbone!$A$2:$A$893,0))","v":7.1},null,{"$f":"INDEX(Backbone!$M$2:$M$893,MATCH(I84,Backbone!$A$2:$A$893,0))","v":4},null,{"$f":"INDEX(Backbone!$N$2:$N$893,MATCH(I84,Backbone!$A$2:$A$893,0))","v":7},null,{"$f":"INDEX(Backbone!$O$2:$O$893,MATCH(I84,Backbone!$A$2:$A$893,0))","v":8.8000000000000007},null,{"$f":"INDEX(Backbone!$P$2:$P$893,MATCH(I84,Backbone!$A$2:$A$893,0))","v":5},null,{"$f":"INDEX(Backbone!$Q$2:$Q$893,MATCH(I84,Backbone!$A$2:$A$893,0))","v":0.75},null,null,{"$f":"(AG84*$AG$22+AI84*$AI$22+AK84*$AK$22+AM84*$AM$22+AO84*$AO$22+AQ84*$AQ$22+AS84*$AS$22+AU84*$AU$22+AW84*$AW$22)/(SUM($AG$22:$AW$22)*10)","v":{"$error":"#DIV/0!"}},null,null,"Перейти в Реестр ресурсов: ",null,{"$f":"HYPERLINK(\"#\"&ADDRESS(MATCH(I84,Toolbox!$C$1:$C$300),1,,,\"Toolbox\"),VLOOKUP(I84,Toolbox!$C$1:$C$300,1,FALSE))","v":"Анализ политического поля (PFA)"}]
[]
[]
[]
[]
[]
[null,null,null,null,null,null,null,null,{"$f":"Backbone!A648","v":"Инструментарий для обеспечения готовности и планирования ответных действий"},null,null,null,null,null,null,"Настоящий инструментарий предназначен для разработки странами их межотраслевых планов по обеспечению готовности и планированию ответных действий в отношении событий общественного здравоохранения. ",null,null,null,null,null,null,null,null,{"$f":"INDEX(Backbone!$R$2:$R$893,MATCH(I90,Backbone!$A$2:$A$893,0))","v":"Руководящий документ"},null,null,null,{"$f":"INDEX(Backbone!$S$2:$S$893,MATCH(I90,Backbone!$A$2:$A$893,0))","v":"«Единое здоровье»; универсальный"},null,null,null,{"$f":"INDEX(Backbone!$H$2:$H$893,MATCH(I90,Backbone!$A$2:$A$893,0))","v":8.4},null,{"$f":"INDEX(Backbone!$I$2:$I$893,MATCH(I90,Backbone!$A$2:$A$893,0))","v":8},null,{"$f":"INDEX(Backbone!$J$2:$J$893,MATCH(I90,Backbone!$A$2:$A$893,0))","v":8.4},null,{"$f":"INDEX(Backbone!$K$1:$K$893,MATCH(I90,Backbone!$A$1:$A$893,0))","v":6.7},null,{"$f":"INDEX(Backbone!$L$2:$L$893,MATCH(I90,Backbone!$A$2:$A$893,0))","v":2},null,{"$f":"INDEX(Backbone!$M$2:$M$893,MATCH(I90,Backbone!$A$2:$A$893,0))","v":3.5},null,{"$f":"INDEX(Backbone!$N$2:$N$893,MATCH(I90,Backbone!$A$2:$A$893,0))","v":4},null,{"$f":"INDEX(Backbone!$O$2:$O$893,MATCH(I90,Backbone!$A$2:$A$893,0))","v":6.4},null,{"$f":"INDEX(Backbone!$P$2:$P$893,MATCH(I90,Backbone!$A$2:$A$893,0))","v":8},null,{"$f":"INDEX(Backbone!$Q$2:$Q$893,MATCH(I90,Backbone!$A$2:$A$893,0))","v":0.61555555555555552},null,null,{"$f":"(AG90*$AG$22+AI90*$AI$22+AK90*$AK$22+AM90*$AM$22+AO90*$AO$22+AQ90*$AQ$22+AS90*$AS$22+AU90*$AU$22+AW90*$AW$22)/(SUM($AG$22:$AW$22)*10)","v":{"$error":"#DIV/0!"}},null,null,"Перейти в Реестр ресурсов: ",null,{"$f":"HYPERLINK(\"#\"&ADDRESS(MATCH(I90,Toolbox!$C$1:$C$300),1,,,\"Toolbox\"),VLOOKUP(I90,Toolbox!$C$1:$C$300,1,FALSE))","v":"Инструментарий для обеспечения готовности и планирования ответных действий"}]
[]
[]
[]
[]
[]
[null,null,null,null,null,null,null,null,{"$f":"Backbone!A598","v":"Инструмент ВОЗ для оценки качества лабораторий"},null,null,null,null,null,null,"Настоящий инструмент является руководством для оценки качества лабораторий и включает рабочие таблицы для сбора данных. Он состоит из двух частей: оценка системы (ИОЛ/система) и оценка отдельных лабораторий (ИОЛ/объект).",null,null,null,null,null,null,null,null,{"$f":"INDEX(Backbone!$R$2:$R$893,MATCH(I96,Backbone!$A$2:$A$893,0))","v":"Инструмент самооценки"},null,null,null,{"$f":"INDEX(Backbone!$S$2:$S$893,MATCH(I96,Backbone!$A$2:$A$893,0))","v":"Ориентированный на конкретный сектор; универсальный"},null,null,null,{"$f":"INDEX(Backbone!$H$2:$H$893,MATCH(I96,Backbone!$A$2:$A$893,0))","v":9},null,{"$f":"INDEX(Backbone!$I$2:$I$893,MATCH(I96,Backbone!$A$2:$A$893,0))","v":10},null,{"$f":"INDEX(Backbone!$J$2:$J$893,MATCH(I96,Backbone!$A$2:$A$893,0))","v":6.4},null,{"$f":"INDEX(Backbone!$K$1:$K$893,MATCH(I96,Backbone!$A$1:$A$893,0))","v":6},null,{"$f":"INDEX(Backbone!$L$2:$L$893,MATCH(I96,Backbone!$A$2:$A$893,0))","v":7.2},null,{"$f":"INDEX(Backbone!$M$2:$M$893,MATCH(I96,Backbone!$A$2:$A$893,0))","v":5.5},null,{"$f":"INDEX(Backbone!$N$2:$N$893,MATCH(I96,Backbone!$A$2:$A$893,0))","v":6},null,{"$f":"INDEX(Backbone!$O$2:$O$893,MATCH(I96,Backbone!$A$2:$A$893,0))","v":5.8},null,{"$f":"INDEX(Backbone!$P$2:$P$893,MATCH(I96,Backbone!$A$2:$A$893,0))","v":4},null,{"$f":"INDEX(Backbone!$Q$2:$Q$893,MATCH(I96,Backbone!$A$2:$A$893,0))","v":0.66555555555555557},null,null,{"$f":"(AG96*$AG$22+AI96*$AI$22+AK96*$AK$22+AM96*$AM$22+AO96*$AO$22+AQ96*$AQ$22+AS96*$AS$22+AU96*$AU$22+AW96*$AW$22)/(SUM($AG$22:$AW$22)*10)","v":{"$error":"#DIV/0!"}},null,null,"Перейти в Реестр ресурсов: ",null,{"$f":"HYPERLINK(\"#\"&ADDRESS(MATCH(I96,Toolbox!$C$1:$C$300),1,,,\"Toolbox\"),VLOOKUP(I96,Toolbox!$C$1:$C$300,1,FALSE))","v":"Инструмент ВОЗ для оценки качества лабораторий"}]
[]
[]
[]
[]
[]
[]
[]
[]
[]
[]
[]
[]
[]
[]
[]
[]
[]
[]
[null,null,null,null,null,null,null,null,null,null,null,null,null,null,null,null,null,null,null,null,null,null,null,null,null,null,null,null,null,null,null,null,"Доступность",null,"Язык",null,"Простота использования",null,"Гибкость",null,"Потребности в данных",null,"Анализ данных",null,"Приемлемость",null,"«Единое здоровье»",null,"Воздействие"]
[]
[]
[null,"РЕСУРСЫ УРОВНЯ 2"]
[]
[]
[]
[null,null,null,null,null,null,null,null,null,null,null,null,null,null,null,null,null,null,null,null,null,null,null,null,null,null,null,null,null,null,null,null,null,null,null,null,null,null,null,null,null,null,null,null,null,null,null,null,null,null,"ИСХОДНАЯ ОЦЕНКА",null,null,"СКОРРЕКТИРОВАННАЯ ОЦЕНКА \n(Исходя из предпочтений пользователей)"]
[]
[]
[]
[null,null,null,"КЛАССИФИКАЦИЯ",null,null,null,null,"НАЗВАНИЕ РЕСУРСА",null,null,null,null,null,null,"КРАТКОЕ ОПИСАНИЕ",null,null,null,null,null,null,null,null,"ВИД РЕСУРСА",null,null,null,"ОБЩАЯ НАПРАВЛЕННОСТЬ РЕСУРСА"]
[]
[]
[]
[null,null,null,null,null,null,null,null,null,null,null,null,null,null,null,null,null,null,null,null,null,null,null,null,null,null,null,null,null,null,null,null,{"$f":"'Attribute Survey'!S105","v":0},null,{"$f":"'Attribute Survey'!S109","v":0},null,{"$f":"'Attribute Survey'!S113","v":0},null,{"$f":"'Attribute Survey'!S117","v":0},null,{"$f":"'Attribute Survey'!S121","v":0},null,{"$f":"'Attribute Survey'!S125","v":0},null,{"$f":"'Attribute Survey'!S129","v":0},null,{"$f":"'Attribute Survey'!S133","v":0},null,{"$f":"'Attribute Survey'!S137","v":0}]
[null,null,null,"Наиболее подходящие ресурсы",null,null,null,null,{"$f":"Backbone!A648","v":"Инструментарий для обеспечения готовности и планирования ответных действий"},null,null,null,null,null,null,"Настоящий инструментарий предназначен для разработки странами их межотраслевых планов по обеспечению готовности и планированию ответных действий в отношении событий общественного здравоохранения. ",null,null,null,null,null,null,null,null,{"$f":"INDEX(Backbone!$R$2:$R$893,MATCH(I131,Backbone!$A$2:$A$893,0))","v":"Руководящий документ"},null,null,null,{"$f":"INDEX(Backbone!$S$2:$S$893,MATCH(I131,Backbone!$A$2:$A$893,0))","v":"«Единое здоровье»; универсальный"},null,null,null,{"$f":"INDEX(Backbone!$H$2:$H$893,MATCH(I131,Backbone!$A$2:$A$893,0))","v":8.4},null,{"$f":"INDEX(Backbone!$I$2:$I$893,MATCH(I131,Backbone!$A$2:$A$893,0))","v":8},null,{"$f":"INDEX(Backbone!$J$2:$J$893,MATCH(I131,Backbone!$A$2:$A$893,0))","v":8.4},null,{"$f":"INDEX(Backbone!$K$2:$K$893,MATCH(I131,Backbone!$A$2:$A$893,0))","v":6.7},null,{"$f":"INDEX(Backbone!$L$2:$L$893,MATCH(I131,Backbone!$A$2:$A$893,0))","v":2},null,{"$f":"INDEX(Backbone!$M$2:$M$893,MATCH(I131,Backbone!$A$2:$A$893,0))","v":3.5},null,{"$f":"INDEX(Backbone!$N$2:$N$893,MATCH(I131,Backbone!$A$2:$A$893,0))","v":4},null,{"$f":"INDEX(Backbone!$O$2:$O$893,MATCH(I131,Backbone!$A$2:$A$893,0))","v":6.4},null,{"$f":"INDEX(Backbone!$P$2:$P$893,MATCH(I131,Backbone!$A$2:$A$893,0))","v":8},null,{"$f":"INDEX(Backbone!$Q$2:$Q$893,MATCH(I131,Backbone!$A$2:$A$893,0))","v":0.61555555555555552},null,null,{"$f":"(AG131*$AG$22+AI131*$AI$22+AK131*$AK$22+AM131*$AM$22+AO131*$AO$22+AQ131*$AQ$22+AS131*$AS$22+AU131*$AU$22+AW131*$AW$22)/(SUM($AG$22:$AW$22)*10)","v":{"$error":"#DIV/0!"}},null,null,"Перейти в Реестр ресурсов: ",null,{"$f":"HYPERLINK(\"#\"&ADDRESS(MATCH(I131,Toolbox!$C$1:$C$300),1,,,\"Toolbox\"),VLOOKUP(I131,Toolbox!$C$1:$C$300,1,FALSE))","v":"Инструментарий для обеспечения готовности и планирования ответных действий"}]

{"sheet":"A8_tools","index":34,"n_rows":137,"n_cols":59,"rows_kept":137,"cut":false,"hidden":false,"merged":[[95,42,99,42],[131,3,134,6],[131,8,134,13],[131,15,134,22],[131,24,134,26],[131,28,134,30],[120,32,134,32],[123,1,148,1],[136,3,140,6],[136,8,140,13],[136,15,140,22],[136,24,140,26],[136,28,140,30],[136,32,140,32],[136,34,140,34],[136,36,140,36],[120,34,134,34],[120,36,134,36],[120,38,134,38],[101,53,105,54],[136,38,140,38],[101,38,105,38],[71,3,105,6],[101,40,105,40],[101,42,105,42],[101,44,105,44],[101,46,105,46],[101,48,105,48],[101,50,105,51],[101,8,105,13],[101,15,105,22],[101,24,105,26],[101,28,105,30],[101,32,105,32],[101,34,105,34],[101,36,105,36],[95,8,99,13],[95,34,99,34],[95,36,99,36],[95,38,99,38],[95,40,99,40],[89,44,93,44],[89,46,93,46],[120,48,134,48],[127,50,134,51],[127,53,134,54],[120,40,134,40],[120,42,134,42],[120,44,134,44],[120,46,134,46],[136,48,140,48],[136,50,140,51],[136,53,140,54],[136,40,140,40],[136,42,140,42],[136,44,140,44],[136,46,140,46],[95,44,99,44],[95,46,99,46],[95,48,99,48],[95,50,99,51],[95,53,99,54],[89,53,93,54],[83,50,87,51],[77,50,81,51],[83,53,87,54],[89,48,93,48],[89,50,93,51],[83,48,87,48],[83,8,87,13],[83,15,87,22],[83,24,87,26],[83,28,87,30],[83,32,87,32],[83,34,87,34],[83,36,87,36],[89,8,93,13],[89,15,93,22],[89,24,93,26],[89,28,93,30],[89,32,93,32],[89,34,93,34],[89,36,93,36],[89,38,93,38],[83,38,87,38],[89,40,93,40],[89,42,93,42],[77,36,81,36],[77,38,81,38],[71,46,75,46],[77,40,81,40],[77,42,81,42],[77,44,81,44],[77,46,81,46],[83,40,87,40],[83,42,87,42],[83,44,87,44],[83,46,87,46],[71,48,75,48],[71,50,75,51],[71,53,75,54],[77,8,81,13],[77,15,81,22],[77,24,81,26],[77,28,81,30],[77,32,81,32],[77,34,81,34],[71,34,75,34],[71,36,75,36],[71,38,75,38],[71,40,75,40],[71,42,75,42],[71,44,75,44],[71,8,75,13],[71,15,75,22],[71,24,75,26],[71,28,75,30],[71,32,75,32],[77,48,81,48],[77,53,81,54],[64,8,68,13],[64,15,68,22],[64,24,68,26],[64,28,68,30],[64,32,68,32],[64,34,68,34],[64,36,68,36],[64,38,68,38],[64,40,68,40],[46,44,50,44],[46,46,50,46],[46,48,50,48],[64,42,68,42],[64,44,68,44],[64,46,68,46],[64,48,68,48],[64,50,68,51],[64,53,68,54],[52,53,56,54],[52,42,56,42],[52,44,56,44],[52,46,56,46],[52,48,56,48],[52,50,56,51],[58,44,62,44],[58,46,62,46],[58,48,62,48],[58,40,62,40],[58,42,62,42],[58,28,62,30],[58,32,62,32],[58,34,62,34],[58,36,62,36],[52,8,56,13],[52,15,56,22],[52,24,56,26],[52,28,56,30],[52,32,56,32],[52,34,56,34],[52,36,56,36],[52,38,56,38],[52,40,56,40],[58,8,62,13],[58,15,62,22],[58,24,62,26],[58,38,62,38],[40,50,44,51],[40,53,44,54],[46,8,50,13],[46,15,50,22],[46,24,50,26],[46,28,50,30],[46,32,50,32],[46,34,50,34],[46,36,50,36],[40,36,44,36],[40,38,44,38],[40,40,44,40],[40,42,44,42],[40,44,44,44],[40,46,44,46],[40,8,44,13],[40,15,44,22],[40,24,44,26],[40,28,44,30],[40,32,44,32],[40,34,44,34],[46,50,50,51],[46,40,50,40],[46,42,50,42],[34,8,38,13],[34,15,38,22],[34,24,38,26],[34,28,38,30],[34,32,38,32],[34,34,38,34],[34,36,38,36],[34,38,38,38],[34,40,38,40],[22,46,26,46],[22,48,26,48],[22,15,26,22],[22,24,26,26],[22,28,26,30],[22,32,26,32],[22,34,26,34],[22,36,26,36],[46,53,50,54],[34,42,38,42],[34,44,38,44],[34,46,38,46],[34,48,38,48],[34,50,38,51],[34,53,38,54],[28,53,32,54],[28,40,32,40],[28,42,32,42],[28,44,32,44],[28,46,32,46],[28,48,32,48],[28,50,32,51],[46,38,50,38],[40,48,44,48],[17,28,20,30],[17,1,105,1],[58,50,62,51],[58,53,62,54],[95,15,99,22],[95,24,99,26],[95,28,99,30],[95,32,99,32],[22,3,68,6],[22,8,26,13],[22,50,26,51],[22,53,26,54],[28,8,32,13],[28,15,32,22],[28,24,32,26],[28,28,32,30],[28,32,32,32],[28,34,32,34],[28,36,32,36],[28,38,32,38],[22,38,26,38],[22,40,26,40],[22,42,26,42],[22,44,26,44],[1,1,3,62],[22,56,26,57],[22,58,26,62],[28,56,32,57],[28,58,32,62],[34,56,38,57],[34,58,38,62],[40,56,44,57],[40,58,44,62],[6,32,20,32],[6,34,20,34],[6,36,20,36],[6,38,20,38],[6,40,20,40],[6,42,20,42],[6,44,20,44],[6,46,20,46],[6,48,20,48],[13,50,20,51],[13,53,20,54],[17,3,20,6],[17,8,20,13],[17,15,20,22],[17,24,20,26],[46,56,50,57],[46,58,50,62],[52,56,56,57],[52,58,56,62],[58,56,62,57],[58,58,62,62],[64,56,68,57],[64,58,68,62],[71,56,75,57],[71,58,75,62],[136,56,140,57],[136,58,140,62],[77,56,81,57],[77,58,81,62],[83,56,87,57],[83,58,87,62],[89,56,93,57],[89,58,93,62],[95,56,99,57],[95,58,99,62],[101,56,105,57],[101,58,105,62]]}
[]
[null,"Ресурсы по оценке экономических потребностей"]
[]
[]
[]
[]
[null,null,null,null,null,null,null,null,null,null,null,null,null,null,null,null,null,null,null,null,null,null,null,null,null,null,null,null,null,null,null,null,"Доступность",null,"Язык",null,"Простота использования",null,"Гибкость",null,"Потребности в данных",null,"Анализ данных",null,"Приемлемость",null,"«Единое здоровье»",null,"Воздействие"]
[]
[]
[]
[]
[]
[]
[null,null,null,null,null,null,null,null,null,null,null,null,null,null,null,null,null,null,null,null,null,null,null,null,null,null,null,null,null,null,null,null,null,null,null,null,null,null,null,null,null,null,null,null,null,null,null,null,null,null,"ИСХОДНАЯ ОЦЕНКА",null,null,"СКОРРЕКТИРОВАННАЯ ОЦЕНКА \n(Исходя из предпочтений пользователей)"]
[]
[]
[]
[null,"РЕСУРСЫ УРОВНЯ 1",null,"КЛАССИФИКАЦИЯ",null,null,null,null,"НАЗВАНИЕ РЕСУРСА",null,null,null,null,null,null,"КРАТКОЕ ОПИСАНИЕ",null,null,null,null,null,null,null,null,"ВИД РЕСУРСА",null,null,null,"ОБЩАЯ НАПРАВЛЕННОСТЬ РЕСУРСА"]
[]
[]
[]
[null,null,null,null,null,null,null,null,null,null,null,null,null,null,null,null,null,null,null,null,null,null,null,null,null,null,null,null,null,null,null,null,{"$f":"'Attribute Survey'!S22","v":0},null,{"$f":"'Attribute Survey'!S26","v":0},null,{"$f":"'Attribute Survey'!S30","v":0},null,{"$f":"'Attribute Survey'!S34","v":0},null,{"$f":"'Attribute Survey'!S38","v":0},null,{"$f":"'Attribute Survey'!S42","v":0},null,{"$f":"'Attribute Survey'!S46","v":0},null,{"$f":"'Attribute Survey'!S50","v":0},null,{"$f":"'Attribute Survey'!S54","v":0}]
[null,null,null,"Наиболее подходящие ресурсы",null,null,null,null,{"$f":"Backbone!A447","v":"Инструмент оценки экономической эффективности системы эпиднадзора за бешенством у животных"},null,null,null,null,null,null,"Инструмент на базе Excel для расчета затрат и эффективности программ профилактики бешенства.",null,null,null,null,null,null,null,null,{"$f":"INDEX(Backbone!$R2:$R893,MATCH(I23,Backbone!$A2:$A893,0))","v":"Инструмент самооценки"},null,null,null,{"$f":"INDEX(Backbone!$S2:$S893,MATCH(I23,Backbone!$A2:$A893,0))","v":"«Единое здоровье»; ориентированный на конкретную болезнь/угрозу "},null,null,null,{"$f":"INDEX(Backbone!$H2:$H893,MATCH(I23,Backbone!$A2:$A893,0))","v":9.6},null,{"$f":"INDEX(Backbone!$I2:$I893,MATCH(I23,Backbone!$A2:$A893,0))","v":6},null,{"$f":"INDEX(Backbone!$J2:$J893,MATCH(I23,Backbone!$A2:$A893,0))","v":7},null,{"$f":"INDEX(Backbone!$K2:$K893,MATCH(I23,Backbone!$A2:$A893,0))","v":8.6999999999999993},null,{"$f":"INDEX(Backbone!$L2:$L893,MATCH(I23,Backbone!$A2:$A893,0))","v":6.7},null,{"$f":"INDEX(Backbone!$M2:$M893,MATCH(I23,Backbone!$A2:$A893,0))","v":6.8},null,{"$f":"INDEX(Backbone!$N2:$N893,MATCH(I23,Backbone!$A2:$A893,0))","v":6},null,{"$f":"INDEX(Backbone!$O2:$O893,MATCH(I23,Backbone!$A2:$A893,0))","v":8.8000000000000007},null,{"$f":"INDEX(Backbone!$P2:$P893,MATCH(I23,Backbone!$A2:$A893,0))","v":8},null,{"$f":"INDEX(Backbone!$Q2:$Q893,MATCH(I23,Backbone!$A2:$A893,0))","v":0.75111111111111106},null,null,{"$f":"(AG23*$AG$22+AI23*$AI$22+AK23*$AK$22+AM23*$AM$22+AO23*$AO$22+AQ23*$AQ$22+AS23*$AS$22+AU23*$AU$22+AW23*$AW$22)/(SUM($AG$22:$AW$22)*10)","v":{"$error":"#DIV/0!"}},null,null,"Перейти в Реестр ресурсов: ",null,{"$f":"HYPERLINK(\"#\"&ADDRESS(MATCH(I23,Toolbox!$C$1:$C$300),1,,,\"Toolbox\"),VLOOKUP(I23,Toolbox!$C$1:$C$300,1,FALSE))","v":"Инструмент оценки экономической эффективности системы эпиднадзора за бешенством у животных"}]
[]
[]
[]
[]
[]
[null,null,null,null,null,null,null,null,{"$f":"Backbone!A100","v":"Оценка сотрудничества в рамках межотраслевой системы эпиднадзора (ECoSur)"},null,null,null,null,null,null,"Инструмент, предназначенный для оценки организации и функционирования взаимодействия в системе межотраслевого эпиднадзора и для анализа сильных и слабых сторон такого взаимодействия.",null,null,null,null,null,null,null,null,{"$f":"INDEX(Backbone!$R$2:$R$893,MATCH(I29,Backbone!$A$2:$A$893,0))","v":"Инструмент или процесс с методическим руководством/пояснениями"},null,null,null,{"$f":"INDEX(Backbone!$S$2:$S$893,MATCH(I29,Backbone!$A$2:$A$893,0))","v":"«Единое здоровье»; универсальный"},null,null,null,{"$f":"INDEX(Backbone!$H$2:$H$893,MATCH(I29,Backbone!$A$2:$A$893,0))","v":8.3000000000000007},null,{"$f":"INDEX(Backbone!$I$2:$I$893,MATCH(I29,Backbone!$A$2:$A$893,0))","v":6},null,{"$f":"INDEX(Backbone!$J$2:$J$893,MATCH(I29,Backbone!$A$2:$A$893,0))","v":8.5},null,{"$f":"INDEX(Backbone!$K$2:$K$893,MATCH(I29,Backbone!$A$2:$A$893,0))","v":7.8},null,{"$f":"INDEX(Backbone!$L$2:$L$893,MATCH(I29,Backbone!$A$2:$A$893,0))","v":8.3000000000000007},null,{"$f":"INDEX(Backbone!$M$2:$M$893,MATCH(I29,Backbone!$A$2:$A$893,0))","v":6.7},null,{"$f":"INDEX(Backbone!$N$2:$N$893,MATCH(I29,Backbone!$A$2:$A$893,0))","v":3.3},null,{"$f":"INDEX(Backbone!$O$2:$O$893,MATCH(I29,Backbone!$A$2:$A$893,0))","v":9.1},null,{"$f":"INDEX(Backbone!$P$2:$P$893,MATCH(I29,Backbone!$A$2:$A$893,0))","v":4.7},null,{"$f":"INDEX(Backbone!$Q$2:$Q$893,MATCH(I29,Backbone!$A$2:$A$893,0))","v":0.69666666666666677},null,null,{"$f":"(AG29*$AG$22+AI29*$AI$22+AK29*$AK$22+AM29*$AM$22+AO29*$AO$22+AQ29*$AQ$22+AS29*$AS$22+AU29*$AU$22+AW29*$AW$22)/(SUM($AG$22:$AW$22)*10)","v":{"$error":"#DIV/0!"}},null,null,"Перейти в Реестр ресурсов: ",null,{"$f":"HYPERLINK(\"#\"&ADDRESS(MATCH(I29,Toolbox!$C$1:$C$300),1,,,\"Toolbox\"),VLOOKUP(I29,Toolbox!$C$1:$C$300,1,FALSE))","v":"Оценка сотрудничества в рамках межотраслевой системы эпиднадзора (ECoSur)"}]
[]
[]
[]
[]
[]
[null,null,null,null,null,null,null,null,{"$f":"Backbone!A184","v":"Глобальный механизм ликвидации бешенства у собак (GDREP)"},null,null,null,null,null,null,"Инструмент на базе Excel с простым в использовании интерфейсом, включающим разные аспекты программы по ликвидации бешенства у собак, разбит на две основные категории: эпидемиологические/логистические и финансовые аспекты соответственно.",null,null,null,null,null,null,null,null,{"$f":"INDEX(Backbone!$R$2:$R$893,MATCH(I35,Backbone!$A$2:$A$893,0))","v":"Инструмент самооценки"},null,null,null,{"$f":"INDEX(Backbone!$S$2:$S$893,MATCH(I35,Backbone!$A$2:$A$893,0))","v":"«Единое здоровье»; ориентированный на конкретную болезнь/угрозу "},null,null,null,{"$f":"INDEX(Backbone!$H$2:$H$893,MATCH(I35,Backbone!$A$2:$A$893,0))","v":9.1},null,{"$f":"INDEX(Backbone!$I$2:$I$893,MATCH(I35,Backbone!$A$2:$A$893,0))","v":7.3},null,{"$f":"INDEX(Backbone!$J$2:$J$893,MATCH(I35,Backbone!$A$2:$A$893,0))","v":8.6999999999999993},null,{"$f":"INDEX(Backbone!$K$1:$K$893,MATCH(I35,Backbone!$A$1:$A$893,0))","v":6},null,{"$f":"INDEX(Backbone!$L$2:$L$893,MATCH(I35,Backbone!$A$2:$A$893,0))","v":7.9},null,{"$f":"INDEX(Backbone!$M$2:$M$893,MATCH(I35,Backbone!$A$2:$A$893,0))","v":6},null,{"$f":"INDEX(Backbone!$N$2:$N$893,MATCH(I35,Backbone!$A$2:$A$893,0))","v":7},null,{"$f":"INDEX(Backbone!$O$2:$O$893,MATCH(I35,Backbone!$A$2:$A$893,0))","v":6.3},null,{"$f":"INDEX(Backbone!$P$2:$P$893,MATCH(I35,Backbone!$A$2:$A$893,0))","v":7},null,{"$f":"INDEX(Backbone!$Q$2:$Q$893,MATCH(I35,Backbone!$A$2:$A$893,0))","v":0.72555555555555551},null,null,{"$f":"(AG35*$AG$22+AI35*$AI$22+AK35*$AK$22+AM35*$AM$22+AO35*$AO$22+AQ35*$AQ$22+AS35*$AS$22+AU35*$AU$22+AW35*$AW$22)/(SUM($AG$22:$AW$22)*10)","v":{"$error":"#DIV/0!"}},null,null,"Перейти в Реестр ресурсов: ",null,{"$f":"HYPERLINK(\"#\"&ADDRESS(MATCH(I35,Toolbox!$C$1:$C$300),1,,,\"Toolbox\"),VLOOKUP(I35,Toolbox!$C$1:$C$300,1,FALSE))","v":"Глобальный механизм ликвидации бешенства у собак (GDREP)"}]
[]
[]
[]
[]
[]
[null,null,null,null,null,null,null,null,{"$f":"Backbone!A234","v":"Инструмент расчета затрат для соответствия Международным медико-санитарным правилам (ММСП) (разработка Джорджтаунского университета)"},null,null,null,null,null,null,"Настоящий инструмент позволяет пользователям разработать смету расходов на развитие устойчивого потенциала согласно Международным медико-санитарным правилам (ММСП).\n\n",null,null,null,null,null,null,null,null,{"$f":"INDEX(Backbone!$R$2:$R$893,MATCH(I41,Backbone!$A$2:$A$893,0))","v":"Инструмент самооценки"},null,null,null,{"$f":"INDEX(Backbone!$S$2:$S$893,MATCH(I41,Backbone!$A$2:$A$893,0))","v":"Ориентированный на конкретный сектор; универсальный"},null,null,null,{"$f":"INDEX(Backbone!$H$2:$H$893,MATCH(I41,Backbone!$A$2:$A$893,0))","v":9.6},null,{"$f":"INDEX(Backbone!$I$2:$I$893,MATCH(I41,Backbone!$A$2:$A$893,0))","v":6},null,{"$f":"INDEX(Backbone!$J$2:$J$893,MATCH(I41,Backbone!$A$2:$A$893,0))","v":9.3000000000000007},null,{"$f":"INDEX(Backbone!$K$1:$K$893,MATCH(I41,Backbone!$A$1:$A$893,0))","v":7.3},null,{"$f":"INDEX(Backbone!$L$2:$L$893,MATCH(I41,Backbone!$A$2:$A$893,0))","v":7.1},null,{"$f":"INDEX(Backbone!$M$2:$M$893,MATCH(I41,Backbone!$A$2:$A$893,0))","v":8.8000000000000007},null,{"$f":"INDEX(Backbone!$N$2:$N$893,MATCH(I41,Backbone!$A$2:$A$893,0))","v":9.3000000000000007},null,{"$f":"INDEX(Backbone!$O$2:$O$893,MATCH(I41,Backbone!$A$2:$A$893,0))","v":7.5},null,{"$f":"INDEX(Backbone!$P$2:$P$893,MATCH(I41,Backbone!$A$2:$A$893,0))","v":8},null,{"$f":"INDEX(Backbone!$Q$2:$Q$893,MATCH(I41,Backbone!$A$2:$A$893,0))","v":0.80999999999999994},null,null,{"$f":"(AG41*$AG$22+AI41*$AI$22+AK41*$AK$22+AM41*$AM$22+AO41*$AO$22+AQ41*$AQ$22+AS41*$AS$22+AU41*$AU$22+AW41*$AW$22)/(SUM($AG$22:$AW$22)*10)","v":{"$error":"#DIV/0!"}},null,null,"Перейти в Реестр ресурсов: ",null,{"$f":"HYPERLINK(\"#\"&ADDRESS(MATCH(I41,Toolbox!$C$1:$C$300),1,,,\"Toolbox\"),VLOOKUP(I41,Toolbox!$C$1:$C$300,1,FALSE))","v":"Инструмент расчета затрат для соответствия Международным медико-санитарным правилам (ММСП) (разработка Джорджтаунского университета)"}]
[]
[]
[]
[]
[]
[null,null,null,null,null,null,null,null,{"$f":"Backbone!A430","v":"Инструмент для расчета затрат на вспышки болезней животных"},null,null,null,null,null,null,"Инструмент сбора данных на базе Excel для расчета затрат в стране на проведение стандартных расследований вспышек и меры борьбы с ними.",null,null,null,null,null,null,null,null,{"$f":"INDEX(Backbone!$R$2:$R$893,MATCH(I47,Backbone!$A$2:$A$893,0))","v":"Инструмент самооценки"},null,null,null,{"$f":"INDEX(Backbone!$S$2:$S$893,MATCH(I47,Backbone!$A$2:$A$893,0))","v":"«Единое здоровье»; универсальный"},null,null,null,{"$f":"INDEX(Backbone!$H$2:$H$893,MATCH(I47,Backbone!$A$2:$A$893,0))","v":8.5},null,{"$f":"INDEX(Backbone!$I$2:$I$893,MATCH(I47,Backbone!$A$2:$A$893,0))","v":7.3},null,{"$f":"INDEX(Backbone!$J$2:$J$893,MATCH(I47,Backbone!$A$2:$A$893,0))","v":9.3000000000000007},null,{"$f":"INDEX(Backbone!$K$1:$K$893,MATCH(I47,Backbone!$A$1:$A$893,0))","v":9.1},null,{"$f":"INDEX(Backbone!$L$2:$L$893,MATCH(I47,Backbone!$A$2:$A$893,0))","v":7.8},null,{"$f":"INDEX(Backbone!$M$2:$M$893,MATCH(I47,Backbone!$A$2:$A$893,0))","v":7.2},null,{"$f":"INDEX(Backbone!$N$2:$N$893,MATCH(I47,Backbone!$A$2:$A$893,0))","v":2.9},null,{"$f":"INDEX(Backbone!$O$2:$O$893,MATCH(I47,Backbone!$A$2:$A$893,0))","v":8.3000000000000007},null,{"$f":"INDEX(Backbone!$P$2:$P$893,MATCH(I47,Backbone!$A$2:$A$893,0))","v":7.3},null,{"$f":"INDEX(Backbone!$Q$2:$Q$893,MATCH(I47,Backbone!$A$2:$A$893,0))","v":0.75222222222222224},null,null,{"$f":"(AG47*$AG$22+AI47*$AI$22+AK47*$AK$22+AM47*$AM$22+AO47*$AO$22+AQ47*$AQ$22+AS47*$AS$22+AU47*$AU$22+AW47*$AW$22)/(SUM($AG$22:$AW$22)*10)","v":{"$error":"#DIV/0!"}},null,null,"Перейти в Реестр ресурсов: ",null,{"$f":"HYPERLINK(\"#\"&ADDRESS(MATCH(I47,Toolbox!$C$1:$C$300),1,,,\"Toolbox\"),VLOOKUP(I47,Toolbox!$C$1:$C$300,1,FALSE))","v":"Инструмент для расчета затрат на вспышки болезней животных"}]
[]
[]
[]
[]
[]
[null,null,null,null,null,null,null,null,{"$f":"Backbone!A483","v":"Онлайн-инструменты для разработки и оценки систем эпиднадзора (SURVTOOLS) "},null,null,null,null,null,null,"Объединенные инструменты для проектирования и оценки эпиднадзора предназначены для компетентных технических пользователей, проектирующих, внедряющих или оценивающих системы эпиднадзора за здоровьем животных.",null,null,null,null,null,null,null,null,{"$f":"INDEX(Backbone!$R$2:$R$893,MATCH(I53,Backbone!$A$2:$A$893,0))","v":"Оборудование или программное обеспечение"},null,null,null,{"$f":"INDEX(Backbone!$S$2:$S$893,MATCH(I53,Backbone!$A$2:$A$893,0))","v":"Ориентированный на конкретный сектор; универсальный"},null,null,null,{"$f":"INDEX(Backbone!$H$2:$H$893,MATCH(I53,Backbone!$A$2:$A$893,0))","v":9.6},null,{"$f":"INDEX(Backbone!$I$2:$I$893,MATCH(I53,Backbone!$A$2:$A$893,0))","v":2},null,{"$f":"INDEX(Backbone!$J$2:$J$893,MATCH(I53,Backbone!$A$2:$A$893,0))","v":6.7},null,{"$f":"INDEX(Backbone!$K$1:$K$893,MATCH(I53,Backbone!$A$1:$A$893,0))","v":6.7},null,{"$f":"INDEX(Backbone!$L$2:$L$893,MATCH(I53,Backbone!$A$2:$A$893,0))","v":6.6},null,{"$f":"INDEX(Backbone!$M$2:$M$893,MATCH(I53,Backbone!$A$2:$A$893,0))","v":3.5},null,{"$f":"INDEX(Backbone!$N$2:$N$893,MATCH(I53,Backbone!$A$2:$A$893,0))","v":6.7},null,{"$f":"INDEX(Backbone!$O$2:$O$893,MATCH(I53,Backbone!$A$2:$A$893,0))","v":4.9000000000000004},null,{"$f":"INDEX(Backbone!$P$2:$P$893,MATCH(I53,Backbone!$A$2:$A$893,0))","v":4.7},null,{"$f":"INDEX(Backbone!$Q$2:$Q$893,MATCH(I53,Backbone!$A$2:$A$893,0))","v":0.57111111111111112},null,null,{"$f":"(AG53*$AG$22+AI53*$AI$22+AK53*$AK$22+AM53*$AM$22+AO53*$AO$22+AQ53*$AQ$22+AS53*$AS$22+AU53*$AU$22+AW53*$AW$22)/(SUM($AG$22:$AW$22)*10)","v":{"$error":"#DIV/0!"}},null,null,"Перейти в Реестр ресурсов: ",null,{"$f":"HYPERLINK(\"#\"&ADDRESS(MATCH(I53,Toolbox!$C$1:$C$300),1,,,\"Toolbox\"),VLOOKUP(I53,Toolbox!$C$1:$C$300,1,FALSE))","v":"Онлайн-инструменты для разработки и оценки систем эпиднадзора (SURVTOOLS) "}]
[]
[]
[]
[]
[]
[null,null,null,null,null,null,null,null,{"$f":"Backbone!A686","v":"Инструментарий для реализации стратегии устойчивого финансирования в рамках концепции «Единое здоровье»"},null,null,null,null,null,null,"Данный инструментарий призван поддерживать платформы «Единое здоровье» и другие координационные механизмы в их работе по привлечению и получению средств на организацию работы платформы и ее мероприятий в долгосрочной перспективе.",null,null,null,null,null,null,null,null,{"$f":"INDEX(Backbone!$R$2:$R$893,MATCH(I59,Backbone!$A$2:$A$893,0))","v":"Руководящий документ"},null,null,null,{"$f":"INDEX(Backbone!$S$2:$S$893,MATCH(I59,Backbone!$A$2:$A$893,0))","v":"«Единое здоровье»; универсальный"},null,null,null,{"$f":"INDEX(Backbone!$H$2:$H$893,MATCH(I59,Backbone!$A$2:$A$893,0))","v":8.4},null,{"$f":"INDEX(Backbone!$I$2:$I$893,MATCH(I59,Backbone!$A$2:$A$893,0))","v":8},null,{"$f":"INDEX(Backbone!$J$2:$J$893,MATCH(I59,Backbone!$A$2:$A$893,0))","v":8.4},null,{"$f":"INDEX(Backbone!$K$1:$K$893,MATCH(I59,Backbone!$A$1:$A$893,0))","v":6.7},null,{"$f":"INDEX(Backbone!$L$2:$L$893,MATCH(I59,Backbone!$A$2:$A$893,0))","v":2},null,{"$f":"INDEX(Backbone!$M$2:$M$893,MATCH(I59,Backbone!$A$2:$A$893,0))","v":3.5},null,{"$f":"INDEX(Backbone!$N$2:$N$893,MATCH(I59,Backbone!$A$2:$A$893,0))","v":4},null,{"$f":"INDEX(Backbone!$O$2:$O$893,MATCH(I59,Backbone!$A$2:$A$893,0))","v":6.4},null,{"$f":"INDEX(Backbone!$P$2:$P$893,MATCH(I59,Backbone!$A$2:$A$893,0))","v":8},null,{"$f":"INDEX(Backbone!$Q$2:$Q$893,MATCH(I59,Backbone!$A$2:$A$893,0))","v":0.61555555555555552},null,null,{"$f":"(AG59*$AG$22+AI59*$AI$22+AK59*$AK$22+AM59*$AM$22+AO59*$AO$22+AQ59*$AQ$22+AS59*$AS$22+AU59*$AU$22+AW59*$AW$22)/(SUM($AG$22:$AW$22)*10)","v":{"$error":"#DIV/0!"}},null,null,"Перейти в Реестр ресурсов: ",null,{"$f":"HYPERLINK(\"#\"&ADDRESS(MATCH(I59,Toolbox!$C$1:$C$300),1,,,\"Toolbox\"),VLOOKUP(I59,Toolbox!$C$1:$C$300,1,FALSE))","v":"Инструментарий для реализации стратегии устойчивого финансирования в рамках концепции «Единое здоровье»"}]
[]
[]
[]
[]
[]
[null,null,null,null,null,null,null,null,{"$f":"Backbone!A567","v":"SurvCost: Инструмент для оценки стоимости комплексной системы эпиднадзора и мер реагирования"},null,null,null,null,null,null,"Инструмент на базе Excel создан для оценки стоимости Комплексной системы эпиднадзора и мер реагирования (IDSR).",null,null,null,null,null,null,null,null,{"$f":"INDEX(Backbone!$R$2:$R$893,MATCH(I65,Backbone!$A$2:$A$893,0))","v":"Инструмент самооценки"},null,null,null,{"$f":"INDEX(Backbone!$S$2:$S$893,MATCH(I65,Backbone!$A$2:$A$893,0))","v":"Ориентированный на конкретный сектор; универсальный"},null,null,null,{"$f":"INDEX(Backbone!$H$2:$H$893,MATCH(I65,Backbone!$A$2:$A$893,0))","v":9.8000000000000007},null,{"$f":"INDEX(Backbone!$I$2:$I$893,MATCH(I65,Backbone!$A$2:$A$893,0))","v":8},null,{"$f":"INDEX(Backbone!$J$2:$J$893,MATCH(I65,Backbone!$A$2:$A$893,0))","v":7.6},null,{"$f":"INDEX(Backbone!$K$1:$K$893,MATCH(I65,Backbone!$A$1:$A$893,0))","v":9.6999999999999993},null,{"$f":"INDEX(Backbone!$L$2:$L$893,MATCH(I65,Backbone!$A$2:$A$893,0))","v":7.7},null,{"$f":"INDEX(Backbone!$M$2:$M$893,MATCH(I65,Backbone!$A$2:$A$893,0))","v":5.8},null,{"$f":"INDEX(Backbone!$N$2:$N$893,MATCH(I65,Backbone!$A$2:$A$893,0))","v":7},null,{"$f":"INDEX(Backbone!$O$2:$O$893,MATCH(I65,Backbone!$A$2:$A$893,0))","v":7.3},null,{"$f":"INDEX(Backbone!$P$2:$P$893,MATCH(I65,Backbone!$A$2:$A$893,0))","v":8},null,{"$f":"INDEX(Backbone!$Q$2:$Q$893,MATCH(I65,Backbone!$A$2:$A$893,0))","v":0.78777777777777769},null,null,{"$f":"(AG65*$AG$22+AI65*$AI$22+AK65*$AK$22+AM65*$AM$22+AO65*$AO$22+AQ65*$AQ$22+AS65*$AS$22+AU65*$AU$22+AW65*$AW$22)/(SUM($AG$22:$AW$22)*10)","v":{"$error":"#DIV/0!"}},null,null,"Перейти в Реестр ресурсов: ",null,{"$f":"HYPERLINK(\"#\"&ADDRESS(MATCH(I65,Toolbox!$C$1:$C$300),1,,,\"Toolbox\"),VLOOKUP(I65,Toolbox!$C$1:$C$300,1,FALSE))","v":"SurvCost: Инструмент для оценки стоимости комплексной системы эпиднадзора и мер реагирования"}]
[]
[]
[]
[]
[]
[]
[null,null,null,"Другие полезные ресурсы",null,null,null,null,{"$f":"Backbone!A303","v":"Национальный план действий по обеспечению безопасности в области здравоохранения (NAPHS)"},null,null,null,null,null,null,"Организуемый самими странами процесс планирования, способный ускорить внедрение основных возможностей Международных медико-санитарных правил (ММСП) и основывающийся на концепции «Единое здоровье» и общегосударственном подходе ко всем видам опасностей.",null,null,null,null,null,null,null,null,{"$f":"INDEX(Backbone!$R$2:$R$893,MATCH(I72,Backbone!$A$2:$A$893,0))","v":"Руководящий документ"},null,null,null,{"$f":"INDEX(Backbone!$S$2:$S$893,MATCH(I72,Backbone!$A$2:$A$893,0))","v":"«Единое здоровье»; универсальный"},null,null,null,{"$f":"INDEX(Backbone!$H$2:$H$893,MATCH(I72,Backbone!$A$2:$A$893,0))","v":8},null,{"$f":"INDEX(Backbone!$I$2:$I$893,MATCH(I72,Backbone!$A$2:$A$893,0))","v":9},null,{"$f":"INDEX(Backbone!$J$2:$J$893,MATCH(I72,Backbone!$A$2:$A$893,0))","v":7.8},null,{"$f":"INDEX(Backbone!$K$1:$K$893,MATCH(I72,Backbone!$A$1:$A$893,0))","v":10},null,{"$f":"INDEX(Backbone!$L$2:$L$893,MATCH(I72,Backbone!$A$2:$A$893,0))","v":8},null,{"$f":"INDEX(Backbone!$M$2:$M$893,MATCH(I72,Backbone!$A$2:$A$893,0))","v":4.5},null,{"$f":"INDEX(Backbone!$N$2:$N$893,MATCH(I72,Backbone!$A$2:$A$893,0))","v":10},null,{"$f":"INDEX(Backbone!$O$2:$O$893,MATCH(I72,Backbone!$A$2:$A$893,0))","v":10},null,{"$f":"INDEX(Backbone!$P$2:$P$893,MATCH(I72,Backbone!$A$2:$A$893,0))","v":10},null,{"$f":"INDEX(Backbone!$Q$2:$Q$893,MATCH(I72,Backbone!$A$2:$A$893,0))","v":0.85888888888888881},null,null,{"$f":"(AG72*$AG$22+AI72*$AI$22+AK72*$AK$22+AM72*$AM$22+AO72*$AO$22+AQ72*$AQ$22+AS72*$AS$22+AU72*$AU$22+AW72*$AW$22)/(SUM($AG$22:$AW$22)*10)","v":{"$error":"#DIV/0!"}},null,null,"Перейти в Реестр ресурсов: ",null,{"$f":"HYPERLINK(\"#\"&ADDRESS(MATCH(I72,Toolbox!$C$1:$C$300),1,,,\"Toolbox\"),VLOOKUP(I72,Toolbox!$C$1:$C$300,1,FALSE))","v":"Национальный план действий по обеспечению безопасности в области здравоохранения (NAPHS)"}]
[]
[]
[]
[]
[]
[null,null,null,null,null,null,null,null,{"$f":"Backbone!A332","v":"Сеть для оценки мероприятий на основе концепции «Единое здоровье» (NEOH)"},null,null,null,null,null,null,"Инструмент на базе Excel для оценки приверженности системы эпиднадзора принципу «Единое здоровье» (или степень применения подхода «Единое здоровье», ЕЗ). ",null,null,null,null,null,null,null,null,{"$f":"INDEX(Backbone!$R$2:$R$893,MATCH(I78,Backbone!$A$2:$A$893,0))","v":"Руководящий документ"},null,null,null,{"$f":"INDEX(Backbone!$S$2:$S$893,MATCH(I78,Backbone!$A$2:$A$893,0))","v":"«Единое здоровье»; универсальный"},null,null,null,{"$f":"INDEX(Backbone!$H$2:$H$893,MATCH(I78,Backbone!$A$2:$A$893,0))","v":8.3000000000000007},null,{"$f":"INDEX(Backbone!$I$2:$I$893,MATCH(I78,Backbone!$A$2:$A$893,0))","v":7.7},null,{"$f":"INDEX(Backbone!$J$2:$J$893,MATCH(I78,Backbone!$A$2:$A$893,0))","v":5.3},null,{"$f":"INDEX(Backbone!$K$1:$K$893,MATCH(I78,Backbone!$A$1:$A$893,0))","v":8.9},null,{"$f":"INDEX(Backbone!$L$2:$L$893,MATCH(I78,Backbone!$A$2:$A$893,0))","v":7.8},null,{"$f":"INDEX(Backbone!$M$2:$M$893,MATCH(I78,Backbone!$A$2:$A$893,0))","v":4.7},null,{"$f":"INDEX(Backbone!$N$2:$N$893,MATCH(I78,Backbone!$A$2:$A$893,0))","v":5.3},null,{"$f":"INDEX(Backbone!$O$2:$O$893,MATCH(I78,Backbone!$A$2:$A$893,0))","v":8},null,{"$f":"INDEX(Backbone!$P$2:$P$893,MATCH(I78,Backbone!$A$2:$A$893,0))","v":5.3},null,{"$f":"INDEX(Backbone!$Q$2:$Q$893,MATCH(I78,Backbone!$A$2:$A$893,0))","v":0.68111111111111111},null,null,{"$f":"(AG78*$AG$22+AI78*$AI$22+AK78*$AK$22+AM78*$AM$22+AO78*$AO$22+AQ78*$AQ$22+AS78*$AS$22+AU78*$AU$22+AW78*$AW$22)/(SUM($AG$22:$AW$22)*10)","v":{"$error":"#DIV/0!"}},null,null,"Перейти в Реестр ресурсов: ",null,{"$f":"HYPERLINK(\"#\"&ADDRESS(MATCH(I78,Toolbox!$C$1:$C$300),1,,,\"Toolbox\"),VLOOKUP(I78,Toolbox!$C$1:$C$300,1,FALSE))","v":"Сеть для оценки мероприятий на основе концепции «Единое здоровье» (NEOH)"}]
[]
[]
[]
[]
[]
[null,null,null,null,null,null,null,null,{"$f":"Backbone!A420","v":"Анализ пробелов ПВС, разработанный Всемирной организацией охраны здоровья животных (МЭБ)"},null,null,null,null,null,null,"Помогает странам составить подробный план исходя из результатов оценки ПВС.\n\n",null,null,null,null,null,null,null,null,{"$f":"INDEX(Backbone!$R$2:$R$893,MATCH(I84,Backbone!$A$2:$A$893,0))","v":"Инструмент или процесс с методическим руководством/пояснениями"},null,null,null,{"$f":"INDEX(Backbone!$S$2:$S$893,MATCH(I84,Backbone!$A$2:$A$893,0))","v":"Ориентированный на конкретный сектор; универсальный"},null,null,null,{"$f":"INDEX(Backbone!$H$2:$H$893,MATCH(I84,Backbone!$A$2:$A$893,0))","v":6.8},null,{"$f":"INDEX(Backbone!$I$2:$I$893,MATCH(I84,Backbone!$A$2:$A$893,0))","v":8},null,{"$f":"INDEX(Backbone!$J$2:$J$893,MATCH(I84,Backbone!$A$2:$A$893,0))","v":5.6},null,{"$f":"INDEX(Backbone!$K$1:$K$893,MATCH(I84,Backbone!$A$1:$A$893,0))","v":10},null,{"$f":"INDEX(Backbone!$L$2:$L$893,MATCH(I84,Backbone!$A$2:$A$893,0))","v":6},null,{"$f":"INDEX(Backbone!$M$2:$M$893,MATCH(I84,Backbone!$A$2:$A$893,0))","v":4.3},null,{"$f":"INDEX(Backbone!$N$2:$N$893,MATCH(I84,Backbone!$A$2:$A$893,0))","v":9.5},null,{"$f":"INDEX(Backbone!$O$2:$O$893,MATCH(I84,Backbone!$A$2:$A$893,0))","v":4.7},null,{"$f":"INDEX(Backbone!$P$2:$P$893,MATCH(I84,Backbone!$A$2:$A$893,0))","v":7},null,{"$f":"INDEX(Backbone!$Q$2:$Q$893,MATCH(I84,Backbone!$A$2:$A$893,0))","v":0.68777777777777771},null,null,{"$f":"(AG84*$AG$22+AI84*$AI$22+AK84*$AK$22+AM84*$AM$22+AO84*$AO$22+AQ84*$AQ$22+AS84*$AS$22+AU84*$AU$22+AW84*$AW$22)/(SUM($AG$22:$AW$22)*10)","v":{"$error":"#DIV/0!"}},null,null,"Перейти в Реестр ресурсов: ",null,{"$f":"HYPERLINK(\"#\"&ADDRESS(MATCH(I84,Toolbox!$C$1:$C$300),1,,,\"Toolbox\"),VLOOKUP(I84,Toolbox!$C$1:$C$300,1,FALSE))","v":"Анализ пробелов ПВС, разработанный Всемирной организацией охраны здоровья животных (МЭБ)"}]
[]
[]
[]
[]
[]
[null,null,null,null,null,null,null,null,{"$f":"Backbone!A445","v":"Инструмент для оценки стоимости программ вакцинации от бешенства "},null,null,null,null,null,null,"Инструмент на базе Excel для оценки эпидемиологического бремени бешенства у собак и возможного эпидемиологического и экономического эффекта программы вакцинации собак от бешенства.",null,null,null,null,null,null,null,null,{"$f":"INDEX(Backbone!$R$2:$R$893,MATCH(I90,Backbone!$A$2:$A$893,0))","v":"Инструмент самооценки"},null,null,null,{"$f":"INDEX(Backbone!$S$2:$S$893,MATCH(I90,Backbone!$A$2:$A$893,0))","v":"«Единое здоровье»; ориентированный на конкретную болезнь/угрозу "},null,null,null,{"$f":"INDEX(Backbone!$H$2:$H$893,MATCH(I90,Backbone!$A$2:$A$893,0))","v":9.1999999999999993},null,{"$f":"INDEX(Backbone!$I$2:$I$893,MATCH(I90,Backbone!$A$2:$A$893,0))","v":6},null,{"$f":"INDEX(Backbone!$J$2:$J$893,MATCH(I90,Backbone!$A$2:$A$893,0))","v":6.6},null,{"$f":"INDEX(Backbone!$K$1:$K$893,MATCH(I90,Backbone!$A$1:$A$893,0))","v":4},null,{"$f":"INDEX(Backbone!$L$2:$L$893,MATCH(I90,Backbone!$A$2:$A$893,0))","v":7.1},null,{"$f":"INDEX(Backbone!$M$2:$M$893,MATCH(I90,Backbone!$A$2:$A$893,0))","v":5.5},null,{"$f":"INDEX(Backbone!$N$2:$N$893,MATCH(I90,Backbone!$A$2:$A$893,0))","v":4},null,{"$f":"INDEX(Backbone!$O$2:$O$893,MATCH(I90,Backbone!$A$2:$A$893,0))","v":7.6},null,{"$f":"INDEX(Backbone!$P$2:$P$893,MATCH(I90,Backbone!$A$2:$A$893,0))","v":8},null,{"$f":"INDEX(Backbone!$Q$2:$Q$893,MATCH(I90,Backbone!$A$2:$A$893,0))","v":0.64444444444444449},null,null,{"$f":"(AG90*$AG$22+AI90*$AI$22+AK90*$AK$22+AM90*$AM$22+AO90*$AO$22+AQ90*$AQ$22+AS90*$AS$22+AU90*$AU$22+AW90*$AW$22)/(SUM($AG$22:$AW$22)*10)","v":{"$error":"#DIV/0!"}},null,null,"Перейти в Реестр ресурсов: ",null,{"$f":"HYPERLINK(\"#\"&ADDRESS(MATCH(I90,Toolbox!$C$1:$C$300),1,,,\"Toolbox\"),VLOOKUP(I90,Toolbox!$C$1:$C$300,1,FALSE))","v":"Инструмент для оценки стоимости программ вакцинации от бешенства "}]
[]
[]
[]
[]
[]
[null,null,null,null,null,null,null,null,{"$f":"Backbone!A510","v":"Рамочная программа по оценке эпиднадзора за здоровьем животных (SERVAL)"},null,null,null,null,null,null,"Пошаговое руководство по планированию, структурированию и оценке систем надзора за здоровьем животных.",null,null,null,null,null,null,null,null,{"$f":"INDEX(Backbone!$R$2:$R$893,MATCH(I96,Backbone!$A$2:$A$893,0))","v":"Руководящий документ"},null,null,null,{"$f":"INDEX(Backbone!$S$2:$S$893,MATCH(I96,Backbone!$A$2:$A$893,0))","v":"Ориентированный на конкретный сектор; универсальный"},null,null,null,{"$f":"INDEX(Backbone!$H$2:$H$893,MATCH(I96,Backbone!$A$2:$A$893,0))","v":8.8000000000000007},null,{"$f":"INDEX(Backbone!$I$2:$I$893,MATCH(I96,Backbone!$A$2:$A$893,0))","v":9},null,{"$f":"INDEX(Backbone!$J$2:$J$893,MATCH(I96,Backbone!$A$2:$A$893,0))","v":9},null,{"$f":"INDEX(Backbone!$K$1:$K$893,MATCH(I96,Backbone!$A$1:$A$893,0))","v":10},null,{"$f":"INDEX(Backbone!$L$2:$L$893,MATCH(I96,Backbone!$A$2:$A$893,0))","v":8.1},null,{"$f":"INDEX(Backbone!$M$2:$M$893,MATCH(I96,Backbone!$A$2:$A$893,0))","v":3.3},null,{"$f":"INDEX(Backbone!$N$2:$N$893,MATCH(I96,Backbone!$A$2:$A$893,0))","v":4},null,{"$f":"INDEX(Backbone!$O$2:$O$893,MATCH(I96,Backbone!$A$2:$A$893,0))","v":6.8},null,{"$f":"INDEX(Backbone!$P$2:$P$893,MATCH(I96,Backbone!$A$2:$A$893,0))","v":8},null,{"$f":"INDEX(Backbone!$Q$2:$Q$893,MATCH(I96,Backbone!$A$2:$A$893,0))","v":0.74444444444444446},null,null,{"$f":"(AG96*$AG$22+AI96*$AI$22+AK96*$AK$22+AM96*$AM$22+AO96*$AO$22+AQ96*$AQ$22+AS96*$AS$22+AU96*$AU$22+AW96*$AW$22)/(SUM($AG$22:$AW$22)*10)","v":{"$error":"#DIV/0!"}},null,null,"Перейти в Реестр ресурсов: ",null,{"$f":"HYPERLINK(\"#\"&ADDRESS(MATCH(I96,Toolbox!$C$1:$C$300),1,,,\"Toolbox\"),VLOOKUP(I96,Toolbox!$C$1:$C$300,1,FALSE))","v":"Рамочная программа по оценке эпиднадзора за здоровьем животных (SERVAL)"}]
[]
[]
[]
[]
[]
[null,null,null,null,null,null,null,null,{"$f":"Backbone!A592","v":"Программа ВОЗ «WHO-CHOICE»"},null,null,null,null,null,null,"Программа, помогающая странам расставлять приоритеты в отношении системы здравоохранения с учетом затрат и последствий.",null,null,null,null,null,null,null,null,{"$f":"INDEX(Backbone!$R$2:$R$893,MATCH(I102,Backbone!$A$2:$A$893,0))","v":"Инструмент самооценки"},null,null,null,{"$f":"INDEX(Backbone!$S$2:$S$893,MATCH(I102,Backbone!$A$2:$A$893,0))","v":"Ориентированный на конкретный сектор; универсальный"},null,null,null,{"$f":"INDEX(Backbone!$H$2:$H$893,MATCH(I102,Backbone!$A$2:$A$893,0))","v":9.6},null,{"$f":"INDEX(Backbone!$I$2:$I$893,MATCH(I102,Backbone!$A$2:$A$893,0))","v":8},null,{"$f":"INDEX(Backbone!$J$2:$J$893,MATCH(I102,Backbone!$A$2:$A$893,0))","v":7.4},null,{"$f":"INDEX(Backbone!$K$1:$K$893,MATCH(I102,Backbone!$A$1:$A$893,0))","v":5.3},null,{"$f":"INDEX(Backbone!$L$2:$L$893,MATCH(I102,Backbone!$A$2:$A$893,0))","v":7.3},null,{"$f":"INDEX(Backbone!$M$2:$M$893,MATCH(I102,Backbone!$A$2:$A$893,0))","v":5},null,{"$f":"INDEX(Backbone!$N$2:$N$893,MATCH(I102,Backbone!$A$2:$A$893,0))","v":8.5},null,{"$f":"INDEX(Backbone!$O$2:$O$893,MATCH(I102,Backbone!$A$2:$A$893,0))","v":5},null,{"$f":"INDEX(Backbone!$P$2:$P$893,MATCH(I102,Backbone!$A$2:$A$893,0))","v":9},null,{"$f":"INDEX(Backbone!$Q$2:$Q$893,MATCH(I102,Backbone!$A$2:$A$893,0))","v":0.72333333333333327},null,null,{"$f":"(AG102*$AG$22+AI102*$AI$22+AK102*$AK$22+AM102*$AM$22+AO102*$AO$22+AQ102*$AQ$22+AS102*$AS$22+AU102*$AU$22+AW102*$AW$22)/(SUM($AG$22:$AW$22)*10)","v":{"$error":"#DIV/0!"}},null,null,"Перейти в Реестр ресурсов: ",null,{"$f":"HYPERLINK(\"#\"&ADDRESS(MATCH(I102,Toolbox!$C$1:$C$300),1,,,\"Toolbox\"),VLOOKUP(I102,Toolbox!$C$1:$C$300,1,FALSE))","v":"Программа ВОЗ «WHO-CHOICE»"}]
[]
[]
[]
[]
[]
[]
[]
[]
[]
[]
[]
[]
[]
[]
[]
[]
[]
[]
[null,null,null,null,null,null,null,null,null,null,null,null,null,null,null,null,null,null,null,null,null,null,null,null,null,null,null,null,null,null,null,null,"Доступность",null,"Язык",null,"Простота использования",null,"Гибкость",null,"Потребности в данных",null,"Анализ данных",null,"Приемлемость",null,"«Единое здоровье»",null,"Воздействие"]
[]
[]
[null,"РЕСУРСЫ УРОВНЯ 3"]
[]
[]
[]
[null,null,null,null,null,null,null,null,null,null,null,null,null,null,null,null,null,null,null,null,null,null,null,null,null,null,null,null,null,null,null,null,null,null,null,null,null,null,null,null,null,null,null,null,null,null,null,null,null,null,"ИСХОДНАЯ ОЦЕНКА",null,null,"СКОРРЕКТИРОВАННАЯ ОЦЕНКА \n(Исходя из предпочтений пользователей)"]
[]
[]
[]
[null,null,null,"КЛАССИФИКАЦИЯ",null,null,null,null,"НАЗВАНИЕ РЕСУРСА",null,null,null,null,null,null,"КРАТКОЕ ОПИСАНИЕ",null,null,null,null,null,null,null,null,"ВИД РЕСУРСА",null,null,null,"ОБЩАЯ НАПРАВЛЕННОСТЬ РЕСУРСА"]
[]
[]
[]
[null,null,null,null,null,null,null,null,null,null,null,null,null,null,null,null,null,null,null,null,null,null,null,null,null,null,null,null,null,null,null,null,{"$f":"'Attribute Survey'!S231","v":0},null,{"$f":"'Attribute Survey'!S235","v":0},null,{"$f":"'Attribute Survey'!S239","v":0},null,{"$f":"'Attribute Survey'!S243","v":0},null,{"$f":"'Attribute Survey'!S247","v":0},null,{"$f":"'Attribute Survey'!S251","v":0},null,{"$f":"'Attribute Survey'!S255","v":0},null,{"$f":"'Attribute Survey'!S259","v":0},null,{"$f":"'Attribute Survey'!S263","v":0}]
[null,null,null,"Наиболее подходящие ресурсы",null,null,null,null,{"$f":"Backbone!A686","v":"Инструментарий для реализации стратегии устойчивого финансирования в рамках концепции «Единое здоровье»"},null,null,null,null,null,null,"Данный инструментарий призван поддерживать платформы «Единое здоровье» и другие координационные механизмы в их работе по привлечению и получению средств на организацию работы платформы и ее мероприятий в долгосрочной перспективе.",null,null,null,null,null,null,null,null,{"$f":"INDEX(Backbone!$R$2:$R$893,MATCH(I137,Backbone!$A$2:$A$893,0))","v":"Руководящий документ"},null,null,null,{"$f":"INDEX(Backbone!$S$2:$S$893,MATCH(I137,Backbone!$A$2:$A$893,0))","v":"«Единое здоровье»; универсальный"},null,null,null,{"$f":"INDEX(Backbone!$H$2:$H$893,MATCH(I137,Backbone!$A$2:$A$893,0))","v":8.4},null,{"$f":"INDEX(Backbone!$I$2:$I$893,MATCH(I137,Backbone!$A$2:$A$893,0))","v":8},null,{"$f":"INDEX(Backbone!$J$2:$J$893,MATCH(I137,Backbone!$A$2:$A$893,0))","v":8.4},null,{"$f":"INDEX(Backbone!$K$2:$K$893,MATCH(I137,Backbone!$A$2:$A$893,0))","v":6.7},null,{"$f":"INDEX(Backbone!$L$2:$L$893,MATCH(I137,Backbone!$A$2:$A$893,0))","v":2},null,{"$f":"INDEX(Backbone!$M$2:$M$893,MATCH(I137,Backbone!$A$2:$A$893,0))","v":3.5},null,{"$f":"INDEX(Backbone!$N$2:$N$893,MATCH(I137,Backbone!$A$2:$A$893,0))","v":4},null,{"$f":"INDEX(Backbone!$O$2:$O$893,MATCH(I137,Backbone!$A$2:$A$893,0))","v":6.4},null,{"$f":"INDEX(Backbone!$P$2:$P$893,MATCH(I137,Backbone!$A$2:$A$893,0))","v":8},null,{"$f":"INDEX(Backbone!$Q$2:$Q$893,MATCH(I137,Backbone!$A$2:$A$893,0))","v":0.61555555555555552},null,null,{"$f":"(AG137*$AG$22+AI137*$AI$22+AK137*$AK$22+AM137*$AM$22+AO137*$AO$22+AQ137*$AQ$22+AS137*$AS$22+AU137*$AU$22+AW137*$AW$22)/(SUM($AG$22:$AW$22)*10)","v":{"$error":"#DIV/0!"}},null,null,"Перейти в Реестр ресурсов: ",null,{"$f":"HYPERLINK(\"#\"&ADDRESS(MATCH(I137,Toolbox!$C$1:$C$300),1,,,\"Toolbox\"),VLOOKUP(I137,Toolbox!$C$1:$C$300,1,FALSE))","v":"Инструментарий для реализации стратегии устойчивого финансирования в рамках концепции «Единое здоровье»"}]

{"sheet":"A9_tools","index":35,"n_rows":131,"n_cols":59,"rows_kept":131,"cut":false,"hidden":false,"merged":[[130,36,134,36],[130,38,134,38],[130,40,134,40],[130,42,134,42],[130,44,134,44],[114,1,144,1],[95,40,99,40],[95,42,99,42],[95,44,99,44],[130,3,134,6],[17,1,99,1],[22,3,50,6],[22,8,26,13],[65,28,69,30],[65,32,69,32],[65,34,69,34],[71,42,75,42],[71,44,75,44],[59,38,63,38],[34,42,38,42],[34,44,38,44],[46,38,50,38],[46,40,50,40],[46,42,50,42],[130,48,134,48],[89,38,93,38],[89,40,93,40],[89,42,93,42],[130,24,134,26],[130,46,134,46],[130,8,134,13],[130,15,134,22],[77,32,81,32],[77,34,81,34],[130,28,134,30],[130,32,134,32],[130,34,134,34],[95,46,99,46],[95,48,99,48],[95,8,99,13],[95,15,99,22],[95,24,99,26],[95,28,99,30],[95,32,99,32],[95,34,99,34],[95,36,99,36],[95,38,99,38],[89,46,93,46],[114,48,128,48],[121,50,128,51],[121,53,128,54],[114,46,128,46],[83,38,87,38],[83,40,87,40],[83,42,87,42],[83,44,87,44],[83,46,87,46],[95,53,99,54],[89,53,93,54],[95,50,99,51],[89,50,93,51],[89,48,93,48],[130,50,134,51],[130,53,134,54],[125,3,128,6],[125,8,128,13],[125,15,128,22],[125,24,128,26],[125,28,128,30],[89,44,93,44],[114,32,128,32],[114,34,128,34],[114,36,128,36],[114,38,128,38],[114,40,128,40],[114,42,128,42],[114,44,128,44],[53,3,99,6],[89,8,93,13],[89,15,93,22],[89,24,93,26],[89,28,93,30],[89,32,93,32],[89,34,93,34],[89,36,93,36],[65,24,69,26],[77,48,81,48],[77,50,81,51],[77,53,81,54],[83,8,87,13],[83,15,87,22],[83,24,87,26],[83,28,87,30],[83,32,87,32],[83,34,87,34],[83,36,87,36],[77,36,81,36],[77,38,81,38],[77,40,81,40],[77,42,81,42],[77,44,81,44],[77,46,81,46],[77,8,81,13],[77,15,81,22],[77,24,81,26],[77,28,81,30],[83,50,87,51],[83,53,87,54],[83,48,87,48],[71,46,75,46],[71,48,75,48],[71,50,75,51],[71,53,75,54],[65,53,69,54],[71,8,75,13],[71,15,75,22],[71,24,75,26],[71,28,75,30],[71,32,75,32],[71,34,75,34],[71,36,75,36],[71,38,75,38],[71,40,75,40],[65,40,69,40],[65,42,69,42],[65,44,69,44],[65,46,69,46],[65,48,69,48],[65,50,69,51],[65,8,69,13],[65,15,69,22],[65,36,69,36],[65,38,69,38],[59,8,63,13],[59,15,63,22],[59,24,63,26],[59,28,63,30],[59,32,63,32],[59,34,63,34],[59,36,63,36],[53,36,57,36],[53,38,57,38],[53,8,57,13],[53,15,57,22],[53,24,57,26],[53,28,57,30],[53,32,57,32],[53,34,57,34],[46,50,50,51],[46,53,50,54],[46,44,50,44],[46,46,50,46],[46,48,50,48],[59,40,63,40],[59,42,63,42],[59,44,63,44],[59,46,63,46],[59,48,63,48],[53,48,57,48],[53,50,57,51],[53,53,57,54],[53,40,57,40],[53,42,57,42],[53,44,57,44],[53,46,57,46],[59,50,63,51],[59,53,63,54],[46,8,50,13],[46,15,50,22],[46,24,50,26],[46,28,50,30],[46,32,50,32],[46,34,50,34],[46,36,50,36],[40,36,44,36],[40,38,44,38],[40,8,44,13],[40,15,44,22],[40,24,44,26],[40,28,44,30],[40,32,44,32],[40,34,44,34],[28,24,32,26],[28,28,32,30],[40,48,44,48],[40,50,44,51],[40,53,44,54],[40,40,44,40],[40,42,44,42],[40,44,44,44],[40,46,44,46],[13,50,20,51],[13,53,20,54],[17,3,20,6],[17,8,20,13],[17,15,20,22],[17,24,20,26],[17,28,20,30],[1,1,3,62],[34,46,38,46],[34,48,38,48],[34,50,38,51],[34,53,38,54],[28,53,32,54],[34,8,38,13],[34,15,38,22],[34,24,38,26],[34,28,38,30],[34,32,38,32],[34,34,38,34],[34,36,38,36],[34,38,38,38],[34,40,38,40],[28,40,32,40],[28,42,32,42],[6,32,20,32],[6,34,20,34],[6,36,20,36],[6,38,20,38],[6,40,20,40],[6,42,20,42],[6,44,20,44],[6,46,20,46],[6,48,20,48],[22,50,26,51],[22,53,26,54],[28,8,32,13],[28,15,32,22],[28,32,32,32],[28,34,32,34],[28,36,32,36],[28,38,32,38],[22,38,26,38],[22,40,26,40],[22,42,26,42],[22,44,26,44],[22,46,26,46],[22,48,26,48],[22,15,26,22],[22,24,26,26],[22,28,26,30],[22,32,26,32],[22,34,26,34],[22,36,26,36],[28,44,32,44],[28,46,32,46],[28,48,32,48],[28,50,32,51],[22,56,26,57],[22,58,26,62],[28,56,32,57],[28,58,32,62],[34,56,38,57],[34,58,38,62],[40,56,44,57],[40,58,44,62],[46,56,50,57],[46,58,50,62],[83,56,87,57],[83,58,87,62],[89,56,93,57],[89,58,93,62],[95,56,99,57],[95,58,99,62],[130,56,134,57],[130,58,134,62],[53,56,57,57],[53,58,57,62],[59,56,63,57],[59,58,63,62],[65,56,69,57],[65,58,69,62],[71,56,75,57],[71,58,75,62],[77,56,81,57],[77,58,81,62]]}
[]
[null,"Ресурсы по оценке лабораторного потенциала"]
[]
[]
[]
[]
[null,null,null,null,null,null,null,null,null,null,null,null,null,null,null,null,null,null,null,null,null,null,null,null,null,null,null,null,null,null,null,null,"Доступность",null,"Язык",null,"Простота использования",null,"Гибкость",null,"Потребности в данных",null,"Анализ данных",null,"Приемлемость",null,"«Единое здоровье»",null,"Воздействие"]
[]
[]
[]
[]
[]
[]
[null,null,null,null,null,null,null,null,null,null,null,null,null,null,null,null,null,null,null,null,null,null,null,null,null,null,null,null,null,null,null,null,null,null,null,null,null,null,null,null,null,null,null,null,null,null,null,null,null,null,"ИСХОДНАЯ ОЦЕНКА",null,null,"СКОРРЕКТИРОВАННАЯ ОЦЕНКА \n(Исходя из предпочтений пользователей)"]
[]
[]
[]
[null,"РЕСУРСЫ УРОВНЯ 1",null,"КЛАССИФИКАЦИЯ",null,null,null,null,"НАЗВАНИЕ РЕСУРСА",null,null,null,null,null,null,"КРАТКОЕ ОПИСАНИЕ",null,null,null,null,null,null,null,null,"ВИД РЕСУРСА",null,null,null,"ОБЩАЯ НАПРАВЛЕННОСТЬ РЕСУРСА"]
[]
[]
[]
[null,null,null,null,null,null,null,null,null,null,null,null,null,null,null,null,null,null,null,null,null,null,null,null,null,null,null,null,null,null,null,null,{"$f":"'Attribute Survey'!S22","v":0},null,{"$f":"'Attribute Survey'!S26","v":0},null,{"$f":"'Attribute Survey'!S30","v":0},null,{"$f":"'Attribute Survey'!S34","v":0},null,{"$f":"'Attribute Survey'!S38","v":0},null,{"$f":"'Attribute Survey'!S42","v":0},null,{"$f":"'Attribute Survey'!S46","v":0},null,{"$f":"'Attribute Survey'!S50","v":0},null,{"$f":"'Attribute Survey'!S54","v":0}]
[null,null,null,"Наиболее подходящие ресурсы",null,null,null,null,{"$f":"Backbone!A100","v":"Оценка сотрудничества в рамках межотраслевой системы эпиднадзора (ECoSur)"},null,null,null,null,null,null,"Инструмент, предназначенный для оценки организации и функционирования взаимодействия в системе межотраслевого эпиднадзора и для анализа сильных и слабых сторон такого взаимодействия.\n\n",null,null,null,null,null,null,null,null,{"$f":"INDEX(Backbone!$R2:$R893,MATCH(I23,Backbone!$A2:$A893,0))","v":"Инструмент или процесс с методическим руководством/пояснениями"},null,null,null,{"$f":"INDEX(Backbone!$S2:$S893,MATCH(I23,Backbone!$A2:$A893,0))","v":"«Единое здоровье»; универсальный"},null,null,null,{"$f":"INDEX(Backbone!$H2:$H893,MATCH(I23,Backbone!$A2:$A893,0))","v":8.3000000000000007},null,{"$f":"INDEX(Backbone!$I2:$I893,MATCH(I23,Backbone!$A2:$A893,0))","v":6},null,{"$f":"INDEX(Backbone!$J2:$J893,MATCH(I23,Backbone!$A2:$A893,0))","v":8.5},null,{"$f":"INDEX(Backbone!$K2:$K893,MATCH(I23,Backbone!$A2:$A893,0))","v":7.8},null,{"$f":"INDEX(Backbone!$L2:$L893,MATCH(I23,Backbone!$A2:$A893,0))","v":8.3000000000000007},null,{"$f":"INDEX(Backbone!$M2:$M893,MATCH(I23,Backbone!$A2:$A893,0))","v":6.7},null,{"$f":"INDEX(Backbone!$N2:$N893,MATCH(I23,Backbone!$A2:$A893,0))","v":3.3},null,{"$f":"INDEX(Backbone!$O2:$O893,MATCH(I23,Backbone!$A2:$A893,0))","v":9.1},null,{"$f":"INDEX(Backbone!$P2:$P893,MATCH(I23,Backbone!$A2:$A893,0))","v":4.7},null,{"$f":"INDEX(Backbone!$Q2:$Q893,MATCH(I23,Backbone!$A2:$A893,0))","v":0.69666666666666677},null,null,{"$f":"(AG23*$AG$22+AI23*$AI$22+AK23*$AK$22+AM23*$AM$22+AO23*$AO$22+AQ23*$AQ$22+AS23*$AS$22+AU23*$AU$22+AW23*$AW$22)/(SUM($AG$22:$AW$22)*10)","v":{"$error":"#DIV/0!"}},null,null,"Перейти в Реестр ресурсов: ",null,{"$f":"HYPERLINK(\"#\"&ADDRESS(MATCH(I23,Toolbox!$C$1:$C$300),1,,,\"Toolbox\"),VLOOKUP(I23,Toolbox!$C$1:$C$300,1,FALSE))","v":"Оценка сотрудничества в рамках межотраслевой системы эпиднадзора (ECoSur)"}]
[]
[]
[]
[]
[]
[null,null,null,null,null,null,null,null,{"$f":"Backbone!A268","v":"Инструмент картирования лабораторий ФАО (LMT)"},null,null,null,null,null,null,"Инструмент на базе Excel предназначен для оценки функциональности ветеринарных лабораторий. ",null,null,null,null,null,null,null,null,{"$f":"INDEX(Backbone!$R$2:$R$893,MATCH(I29,Backbone!$A$2:$A$893,0))","v":"Инструмент самооценки"},null,null,null,{"$f":"INDEX(Backbone!$S$2:$S$893,MATCH(I29,Backbone!$A$2:$A$893,0))","v":"Ориентированный на конкретный сектор; универсальный"},null,null,null,{"$f":"INDEX(Backbone!$H$2:$H$893,MATCH(I29,Backbone!$A$2:$A$893,0))","v":9.8000000000000007},null,{"$f":"INDEX(Backbone!$I$2:$I$893,MATCH(I29,Backbone!$A$2:$A$893,0))","v":10},null,{"$f":"INDEX(Backbone!$J$2:$J$893,MATCH(I29,Backbone!$A$2:$A$893,0))","v":9.1999999999999993},null,{"$f":"INDEX(Backbone!$K$2:$K$893,MATCH(I29,Backbone!$A$2:$A$893,0))","v":7.8},null,{"$f":"INDEX(Backbone!$L$2:$L$893,MATCH(I29,Backbone!$A$2:$A$893,0))","v":7.2},null,{"$f":"INDEX(Backbone!$M$2:$M$893,MATCH(I29,Backbone!$A$2:$A$893,0))","v":7.1},null,{"$f":"INDEX(Backbone!$N$2:$N$893,MATCH(I29,Backbone!$A$2:$A$893,0))","v":9.6999999999999993},null,{"$f":"INDEX(Backbone!$O$2:$O$893,MATCH(I29,Backbone!$A$2:$A$893,0))","v":3},null,{"$f":"INDEX(Backbone!$P$2:$P$893,MATCH(I29,Backbone!$A$2:$A$893,0))","v":4.7},null,{"$f":"INDEX(Backbone!$Q$2:$Q$893,MATCH(I29,Backbone!$A$2:$A$893,0))","v":0.76111111111111107},null,null,{"$f":"(AG29*$AG$22+AI29*$AI$22+AK29*$AK$22+AM29*$AM$22+AO29*$AO$22+AQ29*$AQ$22+AS29*$AS$22+AU29*$AU$22+AW29*$AW$22)/(SUM($AG$22:$AW$22)*10)","v":{"$error":"#DIV/0!"}},null,null,"Перейти в Реестр ресурсов: ",null,{"$f":"HYPERLINK(\"#\"&ADDRESS(MATCH(I29,Toolbox!$C$1:$C$300),1,,,\"Toolbox\"),VLOOKUP(I29,Toolbox!$C$1:$C$300,1,FALSE))","v":"Инструмент картирования лабораторий ФАО (LMT)"}]
[]
[]
[]
[]
[]
[null,null,null,null,null,null,null,null,{"$f":"Backbone!A271","v":"Анализ инфраструктуры лабораторной сети (LINA)"},null,null,null,null,null,null,"Простое в использовании веб-приложение с функциями сложного компьютерного моделирования и анализа данных с простой визуализацией на базе карт в отношении потенциала и возможностей национальной лабораторной сети и каждой отдельной лаборатории.",null,null,null,null,null,null,null,null,{"$f":"INDEX(Backbone!$R$2:$R$893,MATCH(I35,Backbone!$A$2:$A$893,0))","v":"Оборудование или программное обеспечение"},null,null,null,{"$f":"INDEX(Backbone!$S$2:$S$893,MATCH(I35,Backbone!$A$2:$A$893,0))","v":"«Единое здоровье»; универсальный"},null,null,null,{"$f":"INDEX(Backbone!$H$2:$H$893,MATCH(I35,Backbone!$A$2:$A$893,0))","v":9.6},null,{"$f":"INDEX(Backbone!$I$2:$I$893,MATCH(I35,Backbone!$A$2:$A$893,0))","v":6},null,{"$f":"INDEX(Backbone!$J$2:$J$893,MATCH(I35,Backbone!$A$2:$A$893,0))","v":7.6},null,{"$f":"INDEX(Backbone!$K$1:$K$893,MATCH(I35,Backbone!$A$1:$A$893,0))","v":9},null,{"$f":"INDEX(Backbone!$L$2:$L$893,MATCH(I35,Backbone!$A$2:$A$893,0))","v":8.3000000000000007},null,{"$f":"INDEX(Backbone!$M$2:$M$893,MATCH(I35,Backbone!$A$2:$A$893,0))","v":7},null,{"$f":"INDEX(Backbone!$N$2:$N$893,MATCH(I35,Backbone!$A$2:$A$893,0))","v":3},null,{"$f":"INDEX(Backbone!$O$2:$O$893,MATCH(I35,Backbone!$A$2:$A$893,0))","v":9.1},null,{"$f":"INDEX(Backbone!$P$2:$P$893,MATCH(I35,Backbone!$A$2:$A$893,0))","v":4},null,{"$f":"INDEX(Backbone!$Q$2:$Q$893,MATCH(I35,Backbone!$A$2:$A$893,0))","v":0.69555555555555559},null,null,{"$f":"(AG35*$AG$22+AI35*$AI$22+AK35*$AK$22+AM35*$AM$22+AO35*$AO$22+AQ35*$AQ$22+AS35*$AS$22+AU35*$AU$22+AW35*$AW$22)/(SUM($AG$22:$AW$22)*10)","v":{"$error":"#DIV/0!"}},null,null,"Перейти в Реестр ресурсов: ",null,{"$f":"HYPERLINK(\"#\"&ADDRESS(MATCH(I35,Toolbox!$C$1:$C$300),1,,,\"Toolbox\"),VLOOKUP(I35,Toolbox!$C$1:$C$300,1,FALSE))","v":"Анализ инфраструктуры лабораторной сети (LINA)"}]
[]
[]
[]
[]
[]
[null,null,null,null,null,null,null,null,{"$f":"Backbone!A351","v":"Инструмент для оценки сети эпиднадзора (OASIS)"},null,null,null,null,null,null,"Стандартизированный полуколичественный инструмент для оценки систем эпиднадзора за зоонозами и болезнями животных.",null,null,null,null,null,null,null,null,{"$f":"INDEX(Backbone!$R$2:$R$893,MATCH(I41,Backbone!$A$2:$A$893,0))","v":"Инструмент самооценки"},null,null,null,{"$f":"INDEX(Backbone!$S$2:$S$893,MATCH(I41,Backbone!$A$2:$A$893,0))","v":"Ориентированный на конкретный сектор; универсальный"},null,null,null,{"$f":"INDEX(Backbone!$H$2:$H$893,MATCH(I41,Backbone!$A$2:$A$893,0))","v":8.1999999999999993},null,{"$f":"INDEX(Backbone!$I$2:$I$893,MATCH(I41,Backbone!$A$2:$A$893,0))","v":7},null,{"$f":"INDEX(Backbone!$J$2:$J$893,MATCH(I41,Backbone!$A$2:$A$893,0))","v":8},null,{"$f":"INDEX(Backbone!$K$1:$K$893,MATCH(I41,Backbone!$A$1:$A$893,0))","v":8.3000000000000007},null,{"$f":"INDEX(Backbone!$L$2:$L$893,MATCH(I41,Backbone!$A$2:$A$893,0))","v":7},null,{"$f":"INDEX(Backbone!$M$2:$M$893,MATCH(I41,Backbone!$A$2:$A$893,0))","v":6.5},null,{"$f":"INDEX(Backbone!$N$2:$N$893,MATCH(I41,Backbone!$A$2:$A$893,0))","v":4.5},null,{"$f":"INDEX(Backbone!$O$2:$O$893,MATCH(I41,Backbone!$A$2:$A$893,0))","v":5.0999999999999996},null,{"$f":"INDEX(Backbone!$P$2:$P$893,MATCH(I41,Backbone!$A$2:$A$893,0))","v":4.5},null,{"$f":"INDEX(Backbone!$Q$2:$Q$893,MATCH(I41,Backbone!$A$2:$A$893,0))","v":0.65666666666666673},null,null,{"$f":"(AG41*$AG$22+AI41*$AI$22+AK41*$AK$22+AM41*$AM$22+AO41*$AO$22+AQ41*$AQ$22+AS41*$AS$22+AU41*$AU$22+AW41*$AW$22)/(SUM($AG$22:$AW$22)*10)","v":{"$error":"#DIV/0!"}},null,null,"Перейти в Реестр ресурсов: ",null,{"$f":"HYPERLINK(\"#\"&ADDRESS(MATCH(I41,Toolbox!$C$1:$C$300),1,,,\"Toolbox\"),VLOOKUP(I41,Toolbox!$C$1:$C$300,1,FALSE))","v":"Инструмент для оценки сети эпиднадзора (OASIS)"}]
[]
[]
[]
[]
[]
[null,null,null,null,null,null,null,null,{"$f":"Backbone!A598","v":"Инструмент ВОЗ для оценки качества лабораторий"},null,null,null,null,null,null,"Настоящий инструмент является руководством для оценки качества лабораторий и включает рабочие таблицы для сбора данных. Он состоит из двух частей: оценка системы (ИОЛ/система) и оценка отдельных лабораторий (ИОЛ/объект).",null,null,null,null,null,null,null,null,{"$f":"INDEX(Backbone!$R$2:$R$893,MATCH(I47,Backbone!$A$2:$A$893,0))","v":"Инструмент самооценки"},null,null,null,{"$f":"INDEX(Backbone!$S$2:$S$893,MATCH(I47,Backbone!$A$2:$A$893,0))","v":"Ориентированный на конкретный сектор; универсальный"},null,null,null,{"$f":"INDEX(Backbone!$H$2:$H$893,MATCH(I47,Backbone!$A$2:$A$893,0))","v":9},null,{"$f":"INDEX(Backbone!$I$2:$I$893,MATCH(I47,Backbone!$A$2:$A$893,0))","v":10},null,{"$f":"INDEX(Backbone!$J$2:$J$893,MATCH(I47,Backbone!$A$2:$A$893,0))","v":6.4},null,{"$f":"INDEX(Backbone!$K$1:$K$893,MATCH(I47,Backbone!$A$1:$A$893,0))","v":6},null,{"$f":"INDEX(Backbone!$L$2:$L$893,MATCH(I47,Backbone!$A$2:$A$893,0))","v":7.2},null,{"$f":"INDEX(Backbone!$M$2:$M$893,MATCH(I47,Backbone!$A$2:$A$893,0))","v":5.5},null,{"$f":"INDEX(Backbone!$N$2:$N$893,MATCH(I47,Backbone!$A$2:$A$893,0))","v":6},null,{"$f":"INDEX(Backbone!$O$2:$O$893,MATCH(I47,Backbone!$A$2:$A$893,0))","v":5.8},null,{"$f":"INDEX(Backbone!$P$2:$P$893,MATCH(I47,Backbone!$A$2:$A$893,0))","v":4},null,{"$f":"INDEX(Backbone!$Q$2:$Q$893,MATCH(I47,Backbone!$A$2:$A$893,0))","v":0.66555555555555557},null,null,{"$f":"(AG47*$AG$22+AI47*$AI$22+AK47*$AK$22+AM47*$AM$22+AO47*$AO$22+AQ47*$AQ$22+AS47*$AS$22+AU47*$AU$22+AW47*$AW$22)/(SUM($AG$22:$AW$22)*10)","v":{"$error":"#DIV/0!"}},null,null,"Перейти в Реестр ресурсов: ",null,{"$f":"HYPERLINK(\"#\"&ADDRESS(MATCH(I47,Toolbox!$C$1:$C$300),1,,,\"Toolbox\"),VLOOKUP(I47,Toolbox!$C$1:$C$300,1,FALSE))","v":"Инструмент ВОЗ для оценки качества лабораторий"}]
[]
[]
[]
[]
[]
[]
[null,null,null,"Другие полезные ресурсы",null,null,null,null,{"$f":"Backbone!A33","v":"Рамочная программа для укрепления мер профилактики и борьбы с сибирской язвой "},null,null,null,null,null,null,"Данная рамочная программа рассказывает о сибирской язве и о том, как усилить меры профилактики и борьбы с сибирской язвой у животных и людей.",null,null,null,null,null,null,null,null,{"$f":"INDEX(Backbone!$R$2:$R$893,MATCH(I54,Backbone!$A$2:$A$893,0))","v":"Руководящий документ"},null,null,null,{"$f":"INDEX(Backbone!$S$2:$S$893,MATCH(I54,Backbone!$A$2:$A$893,0))","v":"«Единое здоровье»; ориентированный на конкретную болезнь/угрозу "},null,null,null,{"$f":"INDEX(Backbone!$H$2:$H$893,MATCH(I54,Backbone!$A$2:$A$893,0))","v":9.1},null,{"$f":"INDEX(Backbone!$I$2:$I$893,MATCH(I54,Backbone!$A$2:$A$893,0))","v":10},null,{"$f":"INDEX(Backbone!$J$2:$J$893,MATCH(I54,Backbone!$A$2:$A$893,0))","v":8.6},null,{"$f":"INDEX(Backbone!$K$1:$K$893,MATCH(I54,Backbone!$A$1:$A$893,0))","v":4.7},null,{"$f":"INDEX(Backbone!$L$2:$L$893,MATCH(I54,Backbone!$A$2:$A$893,0))","v":9.1999999999999993},null,{"$f":"INDEX(Backbone!$M$2:$M$893,MATCH(I54,Backbone!$A$2:$A$893,0))","v":2},null,{"$f":"INDEX(Backbone!$N$2:$N$893,MATCH(I54,Backbone!$A$2:$A$893,0))","v":6.3},null,{"$f":"INDEX(Backbone!$O$2:$O$893,MATCH(I54,Backbone!$A$2:$A$893,0))","v":4.3},null,{"$f":"INDEX(Backbone!$P$2:$P$893,MATCH(I54,Backbone!$A$2:$A$893,0))","v":6},null,{"$f":"INDEX(Backbone!$Q$2:$Q$893,MATCH(I54,Backbone!$A$2:$A$893,0))","v":0.66888888888888887},null,null,{"$f":"(AG54*$AG$22+AI54*$AI$22+AK54*$AK$22+AM54*$AM$22+AO54*$AO$22+AQ54*$AQ$22+AS54*$AS$22+AU54*$AU$22+AW54*$AW$22)/(SUM($AG$22:$AW$22)*10)","v":{"$error":"#DIV/0!"}},null,null,"Перейти в Реестр ресурсов: ",null,{"$f":"HYPERLINK(\"#\"&ADDRESS(MATCH(I54,Toolbox!$C$1:$C$300),1,,,\"Toolbox\"),VLOOKUP(I54,Toolbox!$C$1:$C$300,1,FALSE))","v":"Рамочная программа для укрепления мер профилактики и борьбы с сибирской язвой "}]
[]
[]
[]
[]
[]
[null,null,null,null,null,null,null,null,{"$f":"Backbone!A195","v":"Комплексная система эпиднадзора и мер реагирования (IDSR)"},null,null,null,null,null,null,"Стратегия, разработанная с целью укрепить потенциал стран для выявления и подтверждения предполагаемых случаев заболевания и вспышек и реагирования на них, а также для использования информации для прогнозирования событий в области общественного здравоохранения и планирования мер реагирования на них.",null,null,null,null,null,null,null,null,{"$f":"INDEX(Backbone!$R$2:$R$893,MATCH(I60,Backbone!$A$2:$A$893,0))","v":"Руководящий документ"},null,null,null,{"$f":"INDEX(Backbone!$S$2:$S$893,MATCH(I60,Backbone!$A$2:$A$893,0))","v":"Ориентированный на конкретный сектор; универсальный"},null,null,null,{"$f":"INDEX(Backbone!$H$2:$H$893,MATCH(I60,Backbone!$A$2:$A$893,0))","v":7.4},null,{"$f":"INDEX(Backbone!$I$2:$I$893,MATCH(I60,Backbone!$A$2:$A$893,0))","v":10},null,{"$f":"INDEX(Backbone!$J$2:$J$893,MATCH(I60,Backbone!$A$2:$A$893,0))","v":7.4},null,{"$f":"INDEX(Backbone!$K$1:$K$893,MATCH(I60,Backbone!$A$1:$A$893,0))","v":8.6999999999999993},null,{"$f":"INDEX(Backbone!$L$2:$L$893,MATCH(I60,Backbone!$A$2:$A$893,0))","v":6.7},null,{"$f":"INDEX(Backbone!$M$2:$M$893,MATCH(I60,Backbone!$A$2:$A$893,0))","v":4.5},null,{"$f":"INDEX(Backbone!$N$2:$N$893,MATCH(I60,Backbone!$A$2:$A$893,0))","v":8},null,{"$f":"INDEX(Backbone!$O$2:$O$893,MATCH(I60,Backbone!$A$2:$A$893,0))","v":7.2},null,{"$f":"INDEX(Backbone!$P$2:$P$893,MATCH(I60,Backbone!$A$2:$A$893,0))","v":8.5},null,{"$f":"INDEX(Backbone!$Q$2:$Q$893,MATCH(I60,Backbone!$A$2:$A$893,0))","v":0.76},null,null,{"$f":"(AG60*$AG$22+AI60*$AI$22+AK60*$AK$22+AM60*$AM$22+AO60*$AO$22+AQ60*$AQ$22+AS60*$AS$22+AU60*$AU$22+AW60*$AW$22)/(SUM($AG$22:$AW$22)*10)","v":{"$error":"#DIV/0!"}},null,null,"Перейти в Реестр ресурсов: ",null,{"$f":"HYPERLINK(\"#\"&ADDRESS(MATCH(I60,Toolbox!$C$1:$C$300),1,,,\"Toolbox\"),VLOOKUP(I60,Toolbox!$C$1:$C$300,1,FALSE))","v":"Комплексная система эпиднадзора и мер реагирования (IDSR)"}]
[]
[]
[]
[]
[]
[null,null,null,null,null,null,null,null,{"$f":"Backbone!A256","v":"Инструмент совместной внешней оценки (СВО) "},null,null,null,null,null,null,"Процесс независимой оценки потенциала страны в отношении профилактики и выявления угроз здоровью населения и быстрого реагирования на них, доступный для стран-членов ВОЗ.",null,null,null,null,null,null,null,null,{"$f":"INDEX(Backbone!$R$2:$R$893,MATCH(I66,Backbone!$A$2:$A$893,0))","v":"Инструмент или процесс с методическим руководством/пояснениями"},null,null,null,{"$f":"INDEX(Backbone!$S$2:$S$893,MATCH(I66,Backbone!$A$2:$A$893,0))","v":"«Единое здоровье»; универсальный"},null,null,null,{"$f":"INDEX(Backbone!$H$2:$H$893,MATCH(I66,Backbone!$A$2:$A$893,0))","v":8.6999999999999993},null,{"$f":"INDEX(Backbone!$I$2:$I$893,MATCH(I66,Backbone!$A$2:$A$893,0))","v":10},null,{"$f":"INDEX(Backbone!$J$2:$J$893,MATCH(I66,Backbone!$A$2:$A$893,0))","v":7},null,{"$f":"INDEX(Backbone!$K$1:$K$893,MATCH(I66,Backbone!$A$1:$A$893,0))","v":6.3},null,{"$f":"INDEX(Backbone!$L$2:$L$893,MATCH(I66,Backbone!$A$2:$A$893,0))","v":7.7},null,{"$f":"INDEX(Backbone!$M$2:$M$893,MATCH(I66,Backbone!$A$2:$A$893,0))","v":4.7},null,{"$f":"INDEX(Backbone!$N$2:$N$893,MATCH(I66,Backbone!$A$2:$A$893,0))","v":6},null,{"$f":"INDEX(Backbone!$O$2:$O$893,MATCH(I66,Backbone!$A$2:$A$893,0))","v":9.5},null,{"$f":"INDEX(Backbone!$P$2:$P$893,MATCH(I66,Backbone!$A$2:$A$893,0))","v":10},null,{"$f":"INDEX(Backbone!$Q$2:$Q$893,MATCH(I66,Backbone!$A$2:$A$893,0))","v":0.77666666666666673},null,null,{"$f":"(AG66*$AG$22+AI66*$AI$22+AK66*$AK$22+AM66*$AM$22+AO66*$AO$22+AQ66*$AQ$22+AS66*$AS$22+AU66*$AU$22+AW66*$AW$22)/(SUM($AG$22:$AW$22)*10)","v":{"$error":"#DIV/0!"}},null,null,"Перейти в Реестр ресурсов: ",null,{"$f":"HYPERLINK(\"#\"&ADDRESS(MATCH(I66,Toolbox!$C$1:$C$300),1,,,\"Toolbox\"),VLOOKUP(I66,Toolbox!$C$1:$C$300,1,FALSE))","v":"Инструмент совместной внешней оценки (СВО) "}]
[]
[]
[]
[]
[]
[null,null,null,null,null,null,null,null,{"$f":"Backbone!A367","v":"Инструмент оценки систем здравоохранения на предмет предотвращения приоритетных зоонозов и борьбы с ними в соответствии с подходом «Единое здоровье» (OH-SAPZ)"},null,null,null,null,null,null,"Настоящий инструмент призван упростить планомерные оценки национальных структур для координации в рамках подхода «Единое здоровье» с точки зрения профилактики и выявления зоонозов и мер борьбы с ними.",null,null,null,null,null,null,null,null,{"$f":"INDEX(Backbone!$R$2:$R$893,MATCH(I72,Backbone!$A$2:$A$893,0))","v":"Инструмент самооценки"},null,null,null,{"$f":"INDEX(Backbone!$S$2:$S$893,MATCH(I72,Backbone!$A$2:$A$893,0))","v":"«Единое здоровье»; универсальный"},null,null,null,{"$f":"INDEX(Backbone!$H$2:$H$893,MATCH(I72,Backbone!$A$2:$A$893,0))","v":7.9},null,{"$f":"INDEX(Backbone!$I$2:$I$893,MATCH(I72,Backbone!$A$2:$A$893,0))","v":7.3},null,{"$f":"INDEX(Backbone!$J$2:$J$893,MATCH(I72,Backbone!$A$2:$A$893,0))","v":7.2},null,{"$f":"INDEX(Backbone!$K$1:$K$893,MATCH(I72,Backbone!$A$1:$A$893,0))","v":7.8},null,{"$f":"INDEX(Backbone!$L$2:$L$893,MATCH(I72,Backbone!$A$2:$A$893,0))","v":6.5},null,{"$f":"INDEX(Backbone!$M$2:$M$893,MATCH(I72,Backbone!$A$2:$A$893,0))","v":5.2},null,{"$f":"INDEX(Backbone!$N$2:$N$893,MATCH(I72,Backbone!$A$2:$A$893,0))","v":4},null,{"$f":"INDEX(Backbone!$O$2:$O$893,MATCH(I72,Backbone!$A$2:$A$893,0))","v":8.3000000000000007},null,{"$f":"INDEX(Backbone!$P$2:$P$893,MATCH(I72,Backbone!$A$2:$A$893,0))","v":9.6999999999999993},null,{"$f":"INDEX(Backbone!$Q$2:$Q$893,MATCH(I72,Backbone!$A$2:$A$893,0))","v":0.71000000000000008},null,null,{"$f":"(AG72*$AG$22+AI72*$AI$22+AK72*$AK$22+AM72*$AM$22+AO72*$AO$22+AQ72*$AQ$22+AS72*$AS$22+AU72*$AU$22+AW72*$AW$22)/(SUM($AG$22:$AW$22)*10)","v":{"$error":"#DIV/0!"}},null,null,"Перейти в Реестр ресурсов: ",null,{"$f":"HYPERLINK(\"#\"&ADDRESS(MATCH(I72,Toolbox!$C$1:$C$300),1,,,\"Toolbox\"),VLOOKUP(I72,Toolbox!$C$1:$C$300,1,FALSE))","v":"Инструмент оценки систем здравоохранения на предмет предотвращения приоритетных зоонозов и борьбы с ними в соответствии с подходом «Единое здоровье» (OH-SAPZ)"}]
[]
[]
[]
[]
[]
[null,null,null,null,null,null,null,null,{"$f":"Backbone!A427","v":"Миссия ПВС по лабораториям, разработанная Всемирной организацией охраны здоровья животных (МЭБ)"},null,null,null,null,null,null,"Миссия МЭБ для определения ресурсов, необходимых национальной лабораторной сети, и оценки релевантности ее структуры и жизнеспособности в контексте страны.",null,null,null,null,null,null,null,null,{"$f":"INDEX(Backbone!$R$2:$R$893,MATCH(I78,Backbone!$A$2:$A$893,0))","v":"Инструмент или процесс с методическим руководством/пояснениями"},null,null,null,{"$f":"INDEX(Backbone!$S$2:$S$893,MATCH(I78,Backbone!$A$2:$A$893,0))","v":"Ориентированный на конкретный сектор; универсальный"},null,null,null,{"$f":"INDEX(Backbone!$H$2:$H$893,MATCH(I78,Backbone!$A$2:$A$893,0))","v":7.6},null,{"$f":"INDEX(Backbone!$I$2:$I$893,MATCH(I78,Backbone!$A$2:$A$893,0))","v":9},null,{"$f":"INDEX(Backbone!$J$2:$J$893,MATCH(I78,Backbone!$A$2:$A$893,0))","v":5.4},null,{"$f":"INDEX(Backbone!$K$1:$K$893,MATCH(I78,Backbone!$A$1:$A$893,0))","v":3.3},null,{"$f":"INDEX(Backbone!$L$2:$L$893,MATCH(I78,Backbone!$A$2:$A$893,0))","v":7.6},null,{"$f":"INDEX(Backbone!$M$2:$M$893,MATCH(I78,Backbone!$A$2:$A$893,0))","v":4},null,{"$f":"INDEX(Backbone!$N$2:$N$893,MATCH(I78,Backbone!$A$2:$A$893,0))","v":6},null,{"$f":"INDEX(Backbone!$O$2:$O$893,MATCH(I78,Backbone!$A$2:$A$893,0))","v":4.3},null,{"$f":"INDEX(Backbone!$P$2:$P$893,MATCH(I78,Backbone!$A$2:$A$893,0))","v":4},null,{"$f":"INDEX(Backbone!$Q$2:$Q$893,MATCH(I78,Backbone!$A$2:$A$893,0))","v":0.56888888888888889},null,null,{"$f":"(AG78*$AG$22+AI78*$AI$22+AK78*$AK$22+AM78*$AM$22+AO78*$AO$22+AQ78*$AQ$22+AS78*$AS$22+AU78*$AU$22+AW78*$AW$22)/(SUM($AG$22:$AW$22)*10)","v":{"$error":"#DIV/0!"}},null,null,"Перейти в Реестр ресурсов: ",null,{"$f":"HYPERLINK(\"#\"&ADDRESS(MATCH(I78,Toolbox!$C$1:$C$300),1,,,\"Toolbox\"),VLOOKUP(I78,Toolbox!$C$1:$C$300,1,FALSE))","v":"Миссия ПВС по лабораториям, разработанная Всемирной организацией охраны здоровья животных (МЭБ)"}]
[]
[]
[]
[]
[]
[null,null,null,null,null,null,null,null,{"$f":"Backbone!A648","v":"Инструментарий для обеспечения готовности и планирования ответных действий"},null,null,null,null,null,null,"Настоящий инструментарий предназначен для разработки странами их межотраслевых планов по обеспечению готовности и планированию ответных действий в отношении событий общественного здравоохранения.",null,null,null,null,null,null,null,null,{"$f":"INDEX(Backbone!$R$2:$R$893,MATCH(I84,Backbone!$A$2:$A$893,0))","v":"Руководящий документ"},null,null,null,{"$f":"INDEX(Backbone!$S$2:$S$893,MATCH(I84,Backbone!$A$2:$A$893,0))","v":"«Единое здоровье»; универсальный"},null,null,null,{"$f":"INDEX(Backbone!$H$2:$H$893,MATCH(I84,Backbone!$A$2:$A$893,0))","v":8.4},null,{"$f":"INDEX(Backbone!$I$2:$I$893,MATCH(I84,Backbone!$A$2:$A$893,0))","v":8},null,{"$f":"INDEX(Backbone!$J$2:$J$893,MATCH(I84,Backbone!$A$2:$A$893,0))","v":8.4},null,{"$f":"INDEX(Backbone!$K$1:$K$893,MATCH(I84,Backbone!$A$1:$A$893,0))","v":6.7},null,{"$f":"INDEX(Backbone!$L$2:$L$893,MATCH(I84,Backbone!$A$2:$A$893,0))","v":2},null,{"$f":"INDEX(Backbone!$M$2:$M$893,MATCH(I84,Backbone!$A$2:$A$893,0))","v":3.5},null,{"$f":"INDEX(Backbone!$N$2:$N$893,MATCH(I84,Backbone!$A$2:$A$893,0))","v":4},null,{"$f":"INDEX(Backbone!$O$2:$O$893,MATCH(I84,Backbone!$A$2:$A$893,0))","v":6.4},null,{"$f":"INDEX(Backbone!$P$2:$P$893,MATCH(I84,Backbone!$A$2:$A$893,0))","v":8},null,{"$f":"INDEX(Backbone!$Q$2:$Q$893,MATCH(I84,Backbone!$A$2:$A$893,0))","v":0.61555555555555552},null,null,{"$f":"(AG84*$AG$22+AI84*$AI$22+AK84*$AK$22+AM84*$AM$22+AO84*$AO$22+AQ84*$AQ$22+AS84*$AS$22+AU84*$AU$22+AW84*$AW$22)/(SUM($AG$22:$AW$22)*10)","v":{"$error":"#DIV/0!"}},null,null,"Перейти в Реестр ресурсов: ",null,{"$f":"HYPERLINK(\"#\"&ADDRESS(MATCH(I84,Toolbox!$C$1:$C$300),1,,,\"Toolbox\"),VLOOKUP(I84,Toolbox!$C$1:$C$300,1,FALSE))","v":"Инструментарий для обеспечения готовности и планирования ответных действий"}]
[]
[]
[]
[]
[]
[null,null,null,null,null,null,null,null,{"$f":"Backbone!A557","v":"Поэтапный инструмент по искоренению бруцеллеза (STEB)"},null,null,null,null,null,null,"Настоящий инструмент самооценки на базе электронных таблиц создан в помощь странам в оценке имеющегося потенциала профилактики и искоренения бруцеллеза и борьбы с ним.",null,null,null,null,null,null,null,null,{"$f":"INDEX(Backbone!$R$2:$R$893,MATCH(I90,Backbone!$A$2:$A$893,0))","v":"Инструмент или процесс с методическим руководством/пояснениями"},null,null,null,{"$f":"INDEX(Backbone!$S$2:$S$893,MATCH(I90,Backbone!$A$2:$A$893,0))","v":"«Единое здоровье»; ориентированный на конкретную болезнь/угрозу "},null,null,null,{"$f":"INDEX(Backbone!$H$2:$H$893,MATCH(I90,Backbone!$A$2:$A$893,0))","v":9},null,{"$f":"INDEX(Backbone!$I$2:$I$893,MATCH(I90,Backbone!$A$2:$A$893,0))","v":10},null,{"$f":"INDEX(Backbone!$J$2:$J$893,MATCH(I90,Backbone!$A$2:$A$893,0))","v":7.6},null,{"$f":"INDEX(Backbone!$K$1:$K$893,MATCH(I90,Backbone!$A$1:$A$893,0))","v":3.7},null,{"$f":"INDEX(Backbone!$L$2:$L$893,MATCH(I90,Backbone!$A$2:$A$893,0))","v":5.7},null,{"$f":"INDEX(Backbone!$M$2:$M$893,MATCH(I90,Backbone!$A$2:$A$893,0))","v":7.3},null,{"$f":"INDEX(Backbone!$N$2:$N$893,MATCH(I90,Backbone!$A$2:$A$893,0))","v":7},null,{"$f":"INDEX(Backbone!$O$2:$O$893,MATCH(I90,Backbone!$A$2:$A$893,0))","v":8.6},null,{"$f":"INDEX(Backbone!$P$2:$P$893,MATCH(I90,Backbone!$A$2:$A$893,0))","v":8},null,{"$f":"INDEX(Backbone!$Q$2:$Q$893,MATCH(I90,Backbone!$A$2:$A$893,0))","v":0.7433333333333334},null,null,{"$f":"(AG90*$AG$22+AI90*$AI$22+AK90*$AK$22+AM90*$AM$22+AO90*$AO$22+AQ90*$AQ$22+AS90*$AS$22+AU90*$AU$22+AW90*$AW$22)/(SUM($AG$22:$AW$22)*10)","v":{"$error":"#DIV/0!"}},null,null,"Перейти в Реестр ресурсов: ",null,{"$f":"HYPERLINK(\"#\"&ADDRESS(MATCH(I90,Toolbox!$C$1:$C$300),1,,,\"Toolbox\"),VLOOKUP(I90,Toolbox!$C$1:$C$300,1,FALSE))","v":"Поэтапный инструмент по искоренению бруцеллеза (STEB)"}]
[]
[]
[]
[]
[]
[null,null,null,null,null,null,null,null,{"$f":"Backbone!A453","v":"Поэтапный подход к ликвидации бешенства (SARE)"},null,null,null,null,null,null,"Рабочий инструмент планирования, мониторинга и оценки для реализации, разработки и доработки программ борьбы с бешенством.",null,null,null,null,null,null,null,null,{"$f":"INDEX(Backbone!$R$2:$R$893,MATCH(I96,Backbone!$A$2:$A$893,0))","v":"Инструмент самооценки"},null,null,null,{"$f":"INDEX(Backbone!$S$2:$S$893,MATCH(I96,Backbone!$A$2:$A$893,0))","v":"«Единое здоровье»; ориентированный на конкретную болезнь/угрозу "},null,null,null,{"$f":"INDEX(Backbone!$H$2:$H$893,MATCH(I96,Backbone!$A$2:$A$893,0))","v":8},null,{"$f":"INDEX(Backbone!$I$2:$I$893,MATCH(I96,Backbone!$A$2:$A$893,0))","v":9},null,{"$f":"INDEX(Backbone!$J$2:$J$893,MATCH(I96,Backbone!$A$2:$A$893,0))","v":6.6},null,{"$f":"INDEX(Backbone!$K$1:$K$893,MATCH(I96,Backbone!$A$1:$A$893,0))","v":3.3},null,{"$f":"INDEX(Backbone!$L$2:$L$893,MATCH(I96,Backbone!$A$2:$A$893,0))","v":5.7},null,{"$f":"INDEX(Backbone!$M$2:$M$893,MATCH(I96,Backbone!$A$2:$A$893,0))","v":6.8},null,{"$f":"INDEX(Backbone!$N$2:$N$893,MATCH(I96,Backbone!$A$2:$A$893,0))","v":8},null,{"$f":"INDEX(Backbone!$O$2:$O$893,MATCH(I96,Backbone!$A$2:$A$893,0))","v":8.6},null,{"$f":"INDEX(Backbone!$P$2:$P$893,MATCH(I96,Backbone!$A$2:$A$893,0))","v":9.5},null,{"$f":"INDEX(Backbone!$Q$2:$Q$893,MATCH(I96,Backbone!$A$2:$A$893,0))","v":0.72777777777777775},null,null,{"$f":"(AG96*$AG$22+AI96*$AI$22+AK96*$AK$22+AM96*$AM$22+AO96*$AO$22+AQ96*$AQ$22+AS96*$AS$22+AU96*$AU$22+AW96*$AW$22)/(SUM($AG$22:$AW$22)*10)","v":{"$error":"#DIV/0!"}},null,null,"Перейти в Реестр ресурсов: ",null,{"$f":"HYPERLINK(\"#\"&ADDRESS(MATCH(I96,Toolbox!$C$1:$C$300),1,,,\"Toolbox\"),VLOOKUP(I96,Toolbox!$C$1:$C$300,1,FALSE))","v":"Поэтапный подход к ликвидации бешенства (SARE)"}]
[]
[]
[]
[]
[]
[]
[]
[]
[]
[]
[]
[]
[]
[]
[]
[]
[]
[]
[null,"РЕСУРСЫ УРОВНЯ 2",null,null,null,null,null,null,null,null,null,null,null,null,null,null,null,null,null,null,null,null,null,null,null,null,null,null,null,null,null,null,"Доступность",null,"Язык",null,"Простота использования",null,"Гибкость",null,"Потребности в данных",null,"Анализ данных",null,"Приемлемость",null,"«Единое здоровье»",null,"Воздействие"]
[]
[]
[]
[]
[]
[]
[null,null,null,null,null,null,null,null,null,null,null,null,null,null,null,null,null,null,null,null,null,null,null,null,null,null,null,null,null,null,null,null,null,null,null,null,null,null,null,null,null,null,null,null,null,null,null,null,null,null,"ИСХОДНАЯ ОЦЕНКА",null,null,"СКОРРЕКТИРОВАННАЯ ОЦЕНКА \n(Исходя из предпочтений пользователей)"]
[]
[]
[]
[null,null,null,"КЛАССИФИКАЦИЯ",null,null,null,null,"НАЗВАНИЕ РЕСУРСА",null,null,null,null,null,null,"КРАТКОЕ ОПИСАНИЕ",null,null,null,null,null,null,null,null,"ВИД РЕСУРСА",null,null,null,"ОБЩАЯ НАПРАВЛЕННОСТЬ РЕСУРСА"]
[]
[]
[]
[null,null,null,null,null,null,null,null,null,null,null,null,null,null,null,null,null,null,null,null,null,null,null,null,null,null,null,null,null,null,null,null,{"$f":"'Attribute Survey'!S231","v":0},null,{"$f":"'Attribute Survey'!S235","v":0},null,{"$f":"'Attribute Survey'!S239","v":0},null,{"$f":"'Attribute Survey'!S243","v":0},null,{"$f":"'Attribute Survey'!S247","v":0},null,{"$f":"'Attribute Survey'!S251","v":0},null,{"$f":"'Attribute Survey'!S255","v":0},null,{"$f":"'Attribute Survey'!S259","v":0},null,{"$f":"'Attribute Survey'!S263","v":0}]
[null,null,null,"Наиболее подходящие ресурсы",null,null,null,null,{"$f":"Backbone!A303","v":"Национальный план действий по обеспечению безопасности в области здравоохранения (NAPHS)"},null,null,null,null,null,null,"Организуемый самими странами процесс планирования, способный ускорить внедрение основных возможностей Международных медико-санитарных правил (ММСП) и основывающийся на концепции «Единое здоровье» и общегосударственном подходе ко всем видам опасностей.",null,null,null,null,null,null,null,null,{"$f":"INDEX(Backbone!$R$2:$R$893,MATCH(I131,Backbone!$A$2:$A$893,0))","v":"Руководящий документ"},null,null,null,{"$f":"INDEX(Backbone!$S$2:$S$893,MATCH(I131,Backbone!$A$2:$A$893,0))","v":"«Единое здоровье»; универсальный"},null,null,null,{"$f":"INDEX(Backbone!$H$2:$H$893,MATCH(I131,Backbone!$A$2:$A$893,0))","v":8},null,{"$f":"INDEX(Backbone!$I$2:$I$893,MATCH(I131,Backbone!$A$2:$A$893,0))","v":9},null,{"$f":"INDEX(Backbone!$J$2:$J$893,MATCH(I131,Backbone!$A$2:$A$893,0))","v":7.8},null,{"$f":"INDEX(Backbone!$K$2:$K$893,MATCH(I131,Backbone!$A$2:$A$893,0))","v":10},null,{"$f":"INDEX(Backbone!$L$2:$L$893,MATCH(I131,Backbone!$A$2:$A$893,0))","v":8},null,{"$f":"INDEX(Backbone!$M$2:$M$893,MATCH(I131,Backbone!$A$2:$A$893,0))","v":4.5},null,{"$f":"INDEX(Backbone!$N$2:$N$893,MATCH(I131,Backbone!$A$2:$A$893,0))","v":10},null,{"$f":"INDEX(Backbone!$O$2:$O$893,MATCH(I131,Backbone!$A$2:$A$893,0))","v":10},null,{"$f":"INDEX(Backbone!$P$2:$P$893,MATCH(I131,Backbone!$A$2:$A$893,0))","v":10},null,{"$f":"INDEX(Backbone!$Q$2:$Q$893,MATCH(I131,Backbone!$A$2:$A$893,0))","v":0.85888888888888881},null,null,{"$f":"(AG131*$AG$22+AI131*$AI$22+AK131*$AK$22+AM131*$AM$22+AO131*$AO$22+AQ131*$AQ$22+AS131*$AS$22+AU131*$AU$22+AW131*$AW$22)/(SUM($AG$22:$AW$22)*10)","v":{"$error":"#DIV/0!"}},null,null,"Перейти в Реестр ресурсов: ",null,{"$f":"HYPERLINK(\"#\"&ADDRESS(MATCH(I131,Toolbox!$C$1:$C$300),1,,,\"Toolbox\"),VLOOKUP(I131,Toolbox!$C$1:$C$300,1,FALSE))","v":"Национальный план действий по обеспечению безопасности в области здравоохранения (NAPHS)"}]

{"sheet":"A10_tools","index":36,"n_rows":89,"n_cols":59,"rows_kept":89,"cut":false,"hidden":false,"merged":[[88,48,92,48],[88,50,92,51],[88,53,92,54],[88,34,92,34],[88,36,92,36],[88,38,92,38],[88,40,92,40],[88,42,92,42],[88,44,92,44],[79,50,86,51],[79,53,86,54],[83,3,86,6],[83,8,86,13],[83,15,86,22],[83,24,86,26],[83,28,86,30],[72,1,102,1],[72,32,86,32],[72,34,86,34],[72,36,86,36],[72,38,86,38],[72,40,86,40],[72,42,86,42],[88,3,92,6],[88,8,92,13],[88,15,92,22],[88,24,92,26],[88,28,92,30],[88,32,92,32],[72,44,86,44],[72,46,86,46],[72,48,86,48],[88,46,92,46],[53,50,57,51],[53,53,57,54],[47,53,51,54],[53,8,57,13],[53,15,57,22],[53,24,57,26],[53,28,57,30],[53,32,57,32],[53,34,57,34],[53,36,57,36],[53,38,57,38],[53,40,57,40],[47,40,51,40],[47,42,51,42],[47,44,51,44],[47,46,51,46],[47,48,51,48],[47,50,51,51],[41,53,45,54],[47,8,51,13],[47,15,51,22],[47,24,51,26],[47,28,51,30],[47,32,51,32],[47,34,51,34],[47,36,51,36],[47,38,51,38],[41,38,45,38],[41,40,45,40],[41,42,45,42],[41,44,45,44],[41,46,45,46],[41,48,45,48],[28,42,32,42],[28,44,32,44],[28,46,32,46],[28,48,32,48],[28,50,32,51],[28,24,32,26],[28,28,32,30],[28,32,32,32],[41,3,57,6],[41,8,45,13],[41,15,45,22],[41,24,45,26],[41,28,45,30],[41,32,45,32],[41,34,45,34],[41,36,45,36],[34,42,38,42],[53,42,57,42],[22,3,38,6],[22,8,26,13],[41,50,45,51],[53,44,57,44],[53,46,57,46],[53,48,57,48],[34,15,38,22],[34,24,38,26],[34,28,38,30],[34,32,38,32],[34,34,38,34],[34,36,38,36],[34,38,38,38],[34,40,38,40],[28,40,32,40],[6,44,20,44],[6,46,20,46],[6,48,20,48],[13,50,20,51],[13,53,20,54],[17,1,57,1],[17,3,20,6],[17,8,20,13],[17,15,20,22],[17,24,20,26],[17,28,20,30],[22,44,26,44],[22,46,26,46],[22,48,26,48],[22,15,26,22],[22,24,26,26],[22,28,26,30],[34,44,38,44],[34,46,38,46],[34,48,38,48],[34,50,38,51],[34,53,38,54],[28,53,32,54],[34,8,38,13],[22,42,26,42],[22,32,26,32],[22,34,26,34],[22,36,26,36],[6,32,20,32],[6,34,20,34],[6,36,20,36],[6,38,20,38],[6,40,20,40],[6,42,20,42],[47,56,51,57],[47,58,51,62],[53,56,57,57],[53,58,57,62],[88,56,92,57],[88,58,92,62],[1,1,3,62],[22,56,26,57],[22,58,26,62],[28,56,32,57],[28,58,32,62],[34,56,38,57],[34,58,38,62],[41,56,45,57],[41,58,45,62],[22,50,26,51],[22,53,26,54],[28,8,32,13],[28,15,32,22],[28,34,32,34],[28,36,32,36],[28,38,32,38],[22,38,26,38],[22,40,26,40]]}
[]
[null,"Ресурсы по оценке лабораторной логистики и интерпретации результатов исследований"]
[]
[]
[]
[]
[null,null,null,null,null,null,null,null,null,null,null,null,null,null,null,null,null,null,null,null,null,null,null,null,null,null,null,null,null,null,null,null,"Доступность",null,"Язык",null,"Простота использования",null,"Гибкость",null,"Потребности в данных",null,"Анализ данных",null,"Приемлемость",null,"«Единое здоровье»",null,"Воздействие"]
[]
[]
[]
[]
[]
[]
[null,null,null,null,null,null,null,null,null,null,null,null,null,null,null,null,null,null,null,null,null,null,null,null,null,null,null,null,null,null,null,null,null,null,null,null,null,null,null,null,null,null,null,null,null,null,null,null,null,null,"ИСХОДНАЯ ОЦЕНКА",null,null,"СКОРРЕКТИРОВАННАЯ ОЦЕНКА \n(Исходя из предпочтений пользователей)"]
[]
[]
[]
[null,"РЕСУРСЫ УРОВНЯ 1",null,"КЛАССИФИКАЦИЯ",null,null,null,null,"НАЗВАНИЕ РЕСУРСА",null,null,null,null,null,null,"КРАТКОЕ ОПИСАНИЕ",null,null,null,null,null,null,null,null,"ВИД РЕСУРСА",null,null,null,"ОБЩАЯ НАПРАВЛЕННОСТЬ РЕСУРСА"]
[]
[]
[]
[null,null,null,null,null,null,null,null,null,null,null,null,null,null,null,null,null,null,null,null,null,null,null,null,null,null,null,null,null,null,null,null,{"$f":"'Attribute Survey'!S22","v":0},null,{"$f":"'Attribute Survey'!S26","v":0},null,{"$f":"'Attribute Survey'!S30","v":0},null,{"$f":"'Attribute Survey'!S34","v":0},null,{"$f":"'Attribute Survey'!S38","v":0},null,{"$f":"'Attribute Survey'!S42","v":0},null,{"$f":"'Attribute Survey'!S46","v":0},null,{"$f":"'Attribute Survey'!S50","v":0},null,{"$f":"'Attribute Survey'!S54","v":0}]
[null,null,null,"Наиболее подходящие ресурсы",null,null,null,null,{"$f":"Backbone!A100","v":"Оценка сотрудничества в рамках межотраслевой системы эпиднадзора (ECoSur)"},null,null,null,null,null,null,"Инструмент, предназначенный для оценки организации и функционирования взаимодействия в системе межотраслевого эпиднадзора и для анализа сильных и слабых сторон такого взаимодействия.\n\n",null,null,null,null,null,null,null,null,{"$f":"INDEX(Backbone!$R2:$R893,MATCH(I23,Backbone!$A2:$A893,0))","v":"Инструмент или процесс с методическим руководством/пояснениями"},null,null,null,{"$f":"INDEX(Backbone!$S2:$S893,MATCH(I23,Backbone!$A2:$A893,0))","v":"«Единое здоровье»; универсальный"},null,null,null,{"$f":"INDEX(Backbone!$H2:$H893,MATCH(I23,Backbone!$A2:$A893,0))","v":8.3000000000000007},null,{"$f":"INDEX(Backbone!$I2:$I893,MATCH(I23,Backbone!$A2:$A893,0))","v":6},null,{"$f":"INDEX(Backbone!$J2:$J893,MATCH(I23,Backbone!$A2:$A893,0))","v":8.5},null,{"$f":"INDEX(Backbone!$K2:$K893,MATCH(I23,Backbone!$A2:$A893,0))","v":7.8},null,{"$f":"INDEX(Backbone!$L2:$L893,MATCH(I23,Backbone!$A2:$A893,0))","v":8.3000000000000007},null,{"$f":"INDEX(Backbone!$M2:$M893,MATCH(I23,Backbone!$A2:$A893,0))","v":6.7},null,{"$f":"INDEX(Backbone!$N2:$N893,MATCH(I23,Backbone!$A2:$A893,0))","v":3.3},null,{"$f":"INDEX(Backbone!$O2:$O893,MATCH(I23,Backbone!$A2:$A893,0))","v":9.1},null,{"$f":"INDEX(Backbone!$P2:$P893,MATCH(I23,Backbone!$A2:$A893,0))","v":4.7},null,{"$f":"INDEX(Backbone!$Q2:$Q893,MATCH(I23,Backbone!$A2:$A893,0))","v":0.69666666666666677},null,null,{"$f":"(AG23*$AG$22+AI23*$AI$22+AK23*$AK$22+AM23*$AM$22+AO23*$AO$22+AQ23*$AQ$22+AS23*$AS$22+AU23*$AU$22+AW23*$AW$22)/(SUM($AG$22:$AW$22)*10)","v":{"$error":"#DIV/0!"}},null,null,"Перейти в Реестр ресурсов: ",null,{"$f":"HYPERLINK(\"#\"&ADDRESS(MATCH(I23,Toolbox!$C$1:$C$300),1,,,\"Toolbox\"),VLOOKUP(I23,Toolbox!$C$1:$C$300,1,FALSE))","v":"Оценка сотрудничества в рамках межотраслевой системы эпиднадзора (ECoSur)"}]
[]
[]
[]
[]
[]
[null,null,null,null,null,null,null,null,{"$f":"Backbone!A271","v":"Анализ инфраструктуры лабораторной сети (LINA)"},null,null,null,null,null,null,"Простое в использовании веб-приложение с функциями сложного компьютерного моделирования и анализа данных с простой визуализацией на базе карт в отношении потенциала и возможностей национальной лабораторной сети и каждой отдельной лаборатории. ",null,null,null,null,null,null,null,null,{"$f":"INDEX(Backbone!$R$2:$R$893,MATCH(I29,Backbone!$A$2:$A$893,0))","v":"Оборудование или программное обеспечение"},null,null,null,{"$f":"INDEX(Backbone!$S$2:$S$893,MATCH(I29,Backbone!$A$2:$A$893,0))","v":"«Единое здоровье»; универсальный"},null,null,null,{"$f":"INDEX(Backbone!$H$2:$H$893,MATCH(I29,Backbone!$A$2:$A$893,0))","v":9.6},null,{"$f":"INDEX(Backbone!$I$2:$I$893,MATCH(I29,Backbone!$A$2:$A$893,0))","v":6},null,{"$f":"INDEX(Backbone!$J$2:$J$893,MATCH(I29,Backbone!$A$2:$A$893,0))","v":7.6},null,{"$f":"INDEX(Backbone!$K$2:$K$893,MATCH(I29,Backbone!$A$2:$A$893,0))","v":9},null,{"$f":"INDEX(Backbone!$L$2:$L$893,MATCH(I29,Backbone!$A$2:$A$893,0))","v":8.3000000000000007},null,{"$f":"INDEX(Backbone!$M$2:$M$893,MATCH(I29,Backbone!$A$2:$A$893,0))","v":7},null,{"$f":"INDEX(Backbone!$N$2:$N$893,MATCH(I29,Backbone!$A$2:$A$893,0))","v":3},null,{"$f":"INDEX(Backbone!$O$2:$O$893,MATCH(I29,Backbone!$A$2:$A$893,0))","v":9.1},null,{"$f":"INDEX(Backbone!$P$2:$P$893,MATCH(I29,Backbone!$A$2:$A$893,0))","v":4},null,{"$f":"INDEX(Backbone!$Q$2:$Q$893,MATCH(I29,Backbone!$A$2:$A$893,0))","v":0.69555555555555559},null,null,{"$f":"(AG29*$AG$22+AI29*$AI$22+AK29*$AK$22+AM29*$AM$22+AO29*$AO$22+AQ29*$AQ$22+AS29*$AS$22+AU29*$AU$22+AW29*$AW$22)/(SUM($AG$22:$AW$22)*10)","v":{"$error":"#DIV/0!"}},null,null,"Перейти в Реестр ресурсов: ",null,{"$f":"HYPERLINK(\"#\"&ADDRESS(MATCH(I29,Toolbox!$C$1:$C$300),1,,,\"Toolbox\"),VLOOKUP(I29,Toolbox!$C$1:$C$300,1,FALSE))","v":"Анализ инфраструктуры лабораторной сети (LINA)"}]
[]
[]
[]
[]
[]
[null,null,null,null,null,null,null,null,{"$f":"Backbone!A351","v":"Инструмент для оценки сети эпиднадзора (OASIS)"},null,null,null,null,null,null,"Стандартизированный полуколичественный инструмент для оценки систем эпиднадзора за зоонозами и болезнями животных.",null,null,null,null,null,null,null,null,{"$f":"INDEX(Backbone!$R$2:$R$893,MATCH(I35,Backbone!$A$2:$A$893,0))","v":"Инструмент самооценки"},null,null,null,{"$f":"INDEX(Backbone!$S$2:$S$893,MATCH(I35,Backbone!$A$2:$A$893,0))","v":"Ориентированный на конкретный сектор; универсальный"},null,null,null,{"$f":"INDEX(Backbone!$H$2:$H$893,MATCH(I35,Backbone!$A$2:$A$893,0))","v":8.1999999999999993},null,{"$f":"INDEX(Backbone!$I$2:$I$893,MATCH(I35,Backbone!$A$2:$A$893,0))","v":7},null,{"$f":"INDEX(Backbone!$J$2:$J$893,MATCH(I35,Backbone!$A$2:$A$893,0))","v":8},null,{"$f":"INDEX(Backbone!$K$1:$K$893,MATCH(I35,Backbone!$A$1:$A$893,0))","v":8.3000000000000007},null,{"$f":"INDEX(Backbone!$L$2:$L$893,MATCH(I35,Backbone!$A$2:$A$893,0))","v":7},null,{"$f":"INDEX(Backbone!$M$2:$M$893,MATCH(I35,Backbone!$A$2:$A$893,0))","v":6.5},null,{"$f":"INDEX(Backbone!$N$2:$N$893,MATCH(I35,Backbone!$A$2:$A$893,0))","v":4.5},null,{"$f":"INDEX(Backbone!$O$2:$O$893,MATCH(I35,Backbone!$A$2:$A$893,0))","v":5.0999999999999996},null,{"$f":"INDEX(Backbone!$P$2:$P$893,MATCH(I35,Backbone!$A$2:$A$893,0))","v":4.5},null,{"$f":"INDEX(Backbone!$Q$2:$Q$893,MATCH(I35,Backbone!$A$2:$A$893,0))","v":0.65666666666666673},null,null,{"$f":"(AG35*$AG$22+AI35*$AI$22+AK35*$AK$22+AM35*$AM$22+AO35*$AO$22+AQ35*$AQ$22+AS35*$AS$22+AU35*$AU$22+AW35*$AW$22)/(SUM($AG$22:$AW$22)*10)","v":{"$error":"#DIV/0!"}},null,null,"Перейти в Реестр ресурсов: ",null,{"$f":"HYPERLINK(\"#\"&ADDRESS(MATCH(I35,Toolbox!$C$1:$C$300),1,,,\"Toolbox\"),VLOOKUP(I35,Toolbox!$C$1:$C$300,1,FALSE))","v":"Инструмент для оценки сети эпиднадзора (OASIS)"}]
[]
[]
[]
[]
[]
[]
[null,null,null,"Другие полезные ресурсы",null,null,null,null,{"$f":"Backbone!A38","v":"Инструмент оценки информатизации лабораторий (разработка APHL)"},null,null,null,null,null,null,"Инструмент для сбора исходной информации от лабораторий для регистрации потока данных, рабочих процессов, инфраструктуры, кадровых ресурсов и программ обучения, доступного оборудования, процессов управления данными, в том числе их учет и отчетность.",null,null,null,null,null,null,null,null,{"$f":"INDEX(Backbone!$R$2:$R$893,MATCH(I42,Backbone!$A$2:$A$893,0))","v":"Инструмент или процесс с методическим руководством/пояснениями"},null,null,null,{"$f":"INDEX(Backbone!$S$2:$S$893,MATCH(I42,Backbone!$A$2:$A$893,0))","v":"Ориентированный на конкретный сектор; универсальный"},null,null,null,{"$f":"INDEX(Backbone!$H$2:$H$893,MATCH(I42,Backbone!$A$2:$A$893,0))","v":8.4},null,{"$f":"INDEX(Backbone!$I$2:$I$893,MATCH(I42,Backbone!$A$2:$A$893,0))","v":6},null,{"$f":"INDEX(Backbone!$J$2:$J$893,MATCH(I42,Backbone!$A$2:$A$893,0))","v":8},null,{"$f":"INDEX(Backbone!$K$1:$K$893,MATCH(I42,Backbone!$A$1:$A$893,0))","v":10},null,{"$f":"INDEX(Backbone!$L$2:$L$893,MATCH(I42,Backbone!$A$2:$A$893,0))","v":6},null,{"$f":"INDEX(Backbone!$M$2:$M$893,MATCH(I42,Backbone!$A$2:$A$893,0))","v":4.5},null,{"$f":"INDEX(Backbone!$N$2:$N$893,MATCH(I42,Backbone!$A$2:$A$893,0))","v":2},null,{"$f":"INDEX(Backbone!$O$2:$O$893,MATCH(I42,Backbone!$A$2:$A$893,0))","v":2.8},null,{"$f":"INDEX(Backbone!$P$2:$P$893,MATCH(I42,Backbone!$A$2:$A$893,0))","v":6},null,{"$f":"INDEX(Backbone!$Q$2:$Q$893,MATCH(I42,Backbone!$A$2:$A$893,0))","v":0.59666666666666657},null,null,{"$f":"(AG42*$AG$22+AI42*$AI$22+AK42*$AK$22+AM42*$AM$22+AO42*$AO$22+AQ42*$AQ$22+AS42*$AS$22+AU42*$AU$22+AW42*$AW$22)/(SUM($AG$22:$AW$22)*10)","v":{"$error":"#DIV/0!"}},null,null,"Перейти в Реестр ресурсов: ",null,{"$f":"HYPERLINK(\"#\"&ADDRESS(MATCH(I42,Toolbox!$C$1:$C$300),1,,,\"Toolbox\"),VLOOKUP(I42,Toolbox!$C$1:$C$300,1,FALSE))","v":"Инструмент оценки информатизации лабораторий (разработка APHL)"}]
[]
[]
[]
[]
[]
[null,null,null,null,null,null,null,null,{"$f":"Backbone!A420","v":"Анализ пробелов ПВС, разработанный Всемирной организацией охраны здоровья животных (МЭБ)"},null,null,null,null,null,null,"Помогает странам составить подробный план исходя из результатов оценки ПВС.\n\n",null,null,null,null,null,null,null,null,{"$f":"INDEX(Backbone!$R$2:$R$893,MATCH(I48,Backbone!$A$2:$A$893,0))","v":"Инструмент или процесс с методическим руководством/пояснениями"},null,null,null,{"$f":"INDEX(Backbone!$S$2:$S$893,MATCH(I48,Backbone!$A$2:$A$893,0))","v":"Ориентированный на конкретный сектор; универсальный"},null,null,null,{"$f":"INDEX(Backbone!$H$2:$H$893,MATCH(I48,Backbone!$A$2:$A$893,0))","v":6.8},null,{"$f":"INDEX(Backbone!$I$2:$I$893,MATCH(I48,Backbone!$A$2:$A$893,0))","v":8},null,{"$f":"INDEX(Backbone!$J$2:$J$893,MATCH(I48,Backbone!$A$2:$A$893,0))","v":5.6},null,{"$f":"INDEX(Backbone!$K$1:$K$893,MATCH(I48,Backbone!$A$1:$A$893,0))","v":10},null,{"$f":"INDEX(Backbone!$L$2:$L$893,MATCH(I48,Backbone!$A$2:$A$893,0))","v":6},null,{"$f":"INDEX(Backbone!$M$2:$M$893,MATCH(I48,Backbone!$A$2:$A$893,0))","v":4.3},null,{"$f":"INDEX(Backbone!$N$2:$N$893,MATCH(I48,Backbone!$A$2:$A$893,0))","v":9.5},null,{"$f":"INDEX(Backbone!$O$2:$O$893,MATCH(I48,Backbone!$A$2:$A$893,0))","v":4.7},null,{"$f":"INDEX(Backbone!$P$2:$P$893,MATCH(I48,Backbone!$A$2:$A$893,0))","v":7},null,{"$f":"INDEX(Backbone!$Q$2:$Q$893,MATCH(I48,Backbone!$A$2:$A$893,0))","v":0.68777777777777771},null,null,{"$f":"(AG48*$AG$22+AI48*$AI$22+AK48*$AK$22+AM48*$AM$22+AO48*$AO$22+AQ48*$AQ$22+AS48*$AS$22+AU48*$AU$22+AW48*$AW$22)/(SUM($AG$22:$AW$22)*10)","v":{"$error":"#DIV/0!"}},null,null,"Перейти в Реестр ресурсов: ",null,{"$f":"HYPERLINK(\"#\"&ADDRESS(MATCH(I48,Toolbox!$C$1:$C$300),1,,,\"Toolbox\"),VLOOKUP(I48,Toolbox!$C$1:$C$300,1,FALSE))","v":"Анализ пробелов ПВС, разработанный Всемирной организацией охраны здоровья животных (МЭБ)"}]
[]
[]
[]
[]
[]
[null,null,null,null,null,null,null,null,{"$f":"Backbone!A648","v":"Инструментарий для обеспечения готовности и планирования ответных действий"},null,null,null,null,null,null,"Настоящий инструментарий предназначен для разработки странами их межотраслевых планов по обеспечению готовности и планированию ответных действий в отношении событий общественного здравоохранения. ",null,null,null,null,null,null,null,null,{"$f":"INDEX(Backbone!$R$2:$R$893,MATCH(I54,Backbone!$A$2:$A$893,0))","v":"Руководящий документ"},null,null,null,{"$f":"INDEX(Backbone!$S$2:$S$893,MATCH(I54,Backbone!$A$2:$A$893,0))","v":"«Единое здоровье»; универсальный"},null,null,null,{"$f":"INDEX(Backbone!$H$2:$H$893,MATCH(I54,Backbone!$A$2:$A$893,0))","v":8.4},null,{"$f":"INDEX(Backbone!$I$2:$I$893,MATCH(I54,Backbone!$A$2:$A$893,0))","v":8},null,{"$f":"INDEX(Backbone!$J$2:$J$893,MATCH(I54,Backbone!$A$2:$A$893,0))","v":8.4},null,{"$f":"INDEX(Backbone!$K$1:$K$893,MATCH(I54,Backbone!$A$1:$A$893,0))","v":6.7},null,{"$f":"INDEX(Backbone!$L$2:$L$893,MATCH(I54,Backbone!$A$2:$A$893,0))","v":2},null,{"$f":"INDEX(Backbone!$M$2:$M$893,MATCH(I54,Backbone!$A$2:$A$893,0))","v":3.5},null,{"$f":"INDEX(Backbone!$N$2:$N$893,MATCH(I54,Backbone!$A$2:$A$893,0))","v":4},null,{"$f":"INDEX(Backbone!$O$2:$O$893,MATCH(I54,Backbone!$A$2:$A$893,0))","v":6.4},null,{"$f":"INDEX(Backbone!$P$2:$P$893,MATCH(I54,Backbone!$A$2:$A$893,0))","v":8},null,{"$f":"INDEX(Backbone!$Q$2:$Q$893,MATCH(I54,Backbone!$A$2:$A$893,0))","v":0.61555555555555552},null,null,{"$f":"(AG54*$AG$22+AI54*$AI$22+AK54*$AK$22+AM54*$AM$22+AO54*$AO$22+AQ54*$AQ$22+AS54*$AS$22+AU54*$AU$22+AW54*$AW$22)/(SUM($AG$22:$AW$22)*10)","v":{"$error":"#DIV/0!"}},null,null,"Перейти в Реестр ресурсов: ",null,{"$f":"HYPERLINK(\"#\"&ADDRESS(MATCH(I54,Toolbox!$C$1:$C$300),1,,,\"Toolbox\"),VLOOKUP(I54,Toolbox!$C$1:$C$300,1,FALSE))","v":"Инструментарий для обеспечения готовности и планирования ответных действий"}]
[]
[]
[]
[]
[]
[]
[]
[]
[]
[]
[]
[]
[]
[]
[]
[]
[]
[]
[null,"РЕСУРСЫ УРОВНЯ 2",null,null,null,null,null,null,null,null,null,null,null,null,null,null,null,null,null,null,null,null,null,null,null,null,null,null,null,null,null,null,"Доступность",null,"Язык",null,"Простота использования",null,"Гибкость",null,"Потребности в данных",null,"Анализ данных",null,"Приемлемость",null,"«Единое здоровье»",null,"Воздействие"]
[]
[]
[]
[]
[]
[]
[null,null,null,null,null,null,null,null,null,null,null,null,null,null,null,null,null,null,null,null,null,null,null,null,null,null,null,null,null,null,null,null,null,null,null,null,null,null,null,null,null,null,null,null,null,null,null,null,null,null,"ИСХОДНАЯ ОЦЕНКА",null,null,"СКОРРЕКТИРОВАННАЯ ОЦЕНКА \n(Исходя из предпочтений пользователей)"]
[]
[]
[]
[null,null,null,"КЛАССИФИКАЦИЯ",null,null,null,null,"НАЗВАНИЕ РЕСУРСА",null,null,null,null,null,null,"КРАТКОЕ ОПИСАНИЕ",null,null,null,null,null,null,null,null,"ВИД РЕСУРСА",null,null,null,"ОБЩАЯ НАПРАВЛЕННОСТЬ РЕСУРСА"]
[]
[]
[]
[null,null,null,null,null,null,null,null,null,null,null,null,null,null,null,null,null,null,null,null,null,null,null,null,null,null,null,null,null,null,null,null,{"$f":"'Attribute Survey'!S231","v":0},null,{"$f":"'Attribute Survey'!S235","v":0},null,{"$f":"'Attribute Survey'!S239","v":0},null,{"$f":"'Attribute Survey'!S243","v":0},null,{"$f":"'Attribute Survey'!S247","v":0},null,{"$f":"'Attribute Survey'!S251","v":0},null,{"$f":"'Attribute Survey'!S255","v":0},null,{"$f":"'Attribute Survey'!S259","v":0},null,{"$f":"'Attribute Survey'!S263","v":0}]
[null,null,null,"Наиболее подходящие ресурсы",null,null,null,null,{"$f":"Backbone!A648","v":"Инструментарий для обеспечения готовности и планирования ответных действий"},null,null,null,null,null,null,"Настоящий инструментарий предназначен для разработки странами их межотраслевых планов по обеспечению готовности и планированию ответных действий в отношении событий общественного здравоохранения. ",null,null,null,null,null,null,null,null,{"$f":"INDEX(Backbone!$R$2:$R$893,MATCH(I89,Backbone!$A$2:$A$893,0))","v":"Руководящий документ"},null,null,null,{"$f":"INDEX(Backbone!$S$2:$S$893,MATCH(I89,Backbone!$A$2:$A$893,0))","v":"«Единое здоровье»; универсальный"},null,null,null,{"$f":"INDEX(Backbone!$H$2:$H$893,MATCH(I89,Backbone!$A$2:$A$893,0))","v":8.4},null,{"$f":"INDEX(Backbone!$I$2:$I$893,MATCH(I89,Backbone!$A$2:$A$893,0))","v":8},null,{"$f":"INDEX(Backbone!$J$2:$J$893,MATCH(I89,Backbone!$A$2:$A$893,0))","v":8.4},null,{"$f":"INDEX(Backbone!$K$2:$K$893,MATCH(I89,Backbone!$A$2:$A$893,0))","v":6.7},null,{"$f":"INDEX(Backbone!$L$2:$L$893,MATCH(I89,Backbone!$A$2:$A$893,0))","v":2},null,{"$f":"INDEX(Backbone!$M$2:$M$893,MATCH(I89,Backbone!$A$2:$A$893,0))","v":3.5},null,{"$f":"INDEX(Backbone!$N$2:$N$893,MATCH(I89,Backbone!$A$2:$A$893,0))","v":4},null,{"$f":"INDEX(Backbone!$O$2:$O$893,MATCH(I89,Backbone!$A$2:$A$893,0))","v":6.4},null,{"$f":"INDEX(Backbone!$P$2:$P$893,MATCH(I89,Backbone!$A$2:$A$893,0))","v":8},null,{"$f":"INDEX(Backbone!$Q$2:$Q$893,MATCH(I89,Backbone!$A$2:$A$893,0))","v":0.61555555555555552},null,null,{"$f":"(AG89*$AG$22+AI89*$AI$22+AK89*$AK$22+AM89*$AM$22+AO89*$AO$22+AQ89*$AQ$22+AS89*$AS$22+AU89*$AU$22+AW89*$AW$22)/(SUM($AG$22:$AW$22)*10)","v":{"$error":"#DIV/0!"}},null,null,"Перейти в Реестр ресурсов: ",null,{"$f":"HYPERLINK(\"#\"&ADDRESS(MATCH(I89,Toolbox!$C$1:$C$300),1,,,\"Toolbox\"),VLOOKUP(I89,Toolbox!$C$1:$C$300,1,FALSE))","v":"Инструментарий для обеспечения готовности и планирования ответных действий"}]

{"sheet":"A11_tools","index":37,"n_rows":132,"n_cols":59,"rows_kept":132,"cut":false,"hidden":false,"merged":[[131,53,135,54],[105,1,137,1],[131,36,135,36],[131,38,135,38],[131,40,135,40],[131,42,135,42],[131,44,135,44],[131,46,135,46],[119,46,123,46],[119,48,123,48],[119,50,123,51],[119,53,123,54],[131,8,135,13],[131,15,135,22],[131,24,135,26],[131,28,135,30],[131,32,135,32],[131,34,135,34],[119,34,123,34],[119,36,123,36],[119,38,123,38],[119,40,123,40],[119,3,135,6],[119,8,123,13],[119,15,123,22],[119,24,123,26],[119,28,123,30],[119,32,123,32],[112,48,116,48],[131,48,135,48],[131,50,135,51],[112,46,116,46],[112,8,116,13],[112,15,116,22],[112,24,116,26],[112,28,116,30],[112,32,116,32],[112,34,116,34],[119,42,123,42],[119,44,123,44],[125,8,129,13],[125,15,129,22],[125,24,129,26],[125,28,129,30],[125,32,129,32],[125,34,129,34],[125,36,129,36],[125,50,129,51],[107,3,110,6],[107,8,110,13],[107,15,110,22],[107,24,110,26],[107,28,110,30],[112,3,116,6],[96,32,110,32],[96,34,110,34],[96,36,110,36],[112,36,116,36],[65,3,75,6],[65,8,69,13],[65,15,69,22],[65,24,69,26],[65,28,69,30],[71,48,75,48],[71,50,75,51],[71,53,75,54],[71,34,75,34],[71,36,75,36],[71,38,75,38],[71,40,75,40],[71,42,75,42],[71,44,75,44],[71,8,75,13],[71,15,75,22],[71,24,75,26],[71,28,75,30],[71,32,75,32],[65,48,69,48],[65,50,69,51],[65,53,69,54],[58,42,62,42],[58,44,62,44],[58,46,62,46],[71,46,75,46],[58,8,62,13],[58,15,62,22],[58,24,62,26],[58,28,62,30],[58,32,62,32],[58,34,62,34],[58,36,62,36],[58,38,62,38],[58,40,62,40],[65,38,69,38],[65,40,69,40],[65,42,69,42],[65,44,69,44],[65,46,69,46],[52,53,56,54],[52,40,56,40],[52,42,56,42],[52,44,56,44],[52,46,56,46],[52,48,56,48],[52,50,56,51],[46,40,50,40],[46,42,50,42],[52,8,56,13],[52,15,56,22],[52,24,56,26],[52,28,56,30],[52,32,56,32],[52,34,56,34],[52,36,56,36],[52,38,56,38],[46,38,50,38],[40,48,44,48],[40,50,44,51],[40,53,44,54],[46,8,50,13],[46,15,50,22],[46,24,50,26],[46,28,50,30],[46,32,50,32],[46,34,50,34],[46,36,50,36],[40,36,44,36],[40,38,44,38],[40,40,44,40],[40,42,44,42],[40,44,44,44],[40,46,44,46],[40,8,44,13],[40,15,44,22],[40,24,44,26],[40,28,44,30],[40,32,44,32],[40,34,44,34],[46,50,50,51],[46,53,50,54],[13,50,20,51],[13,53,20,54],[17,1,75,1],[17,3,20,6],[17,8,20,13],[17,15,20,22],[17,24,20,26],[22,44,26,44],[22,46,26,46],[22,48,26,48],[22,15,26,22],[22,24,26,26],[22,28,26,30],[22,32,26,32],[34,15,38,22],[34,24,38,26],[34,28,38,30],[34,32,38,32],[34,34,38,34],[34,36,38,36],[34,38,38,38],[34,40,38,40],[28,40,32,40],[28,42,32,42],[6,32,20,32],[6,34,20,34],[6,36,20,36],[6,38,20,38],[6,40,20,40],[6,42,20,42],[6,44,20,44],[6,46,20,46],[6,48,20,48],[22,36,26,36],[34,42,38,42],[34,44,38,44],[34,46,38,46],[34,48,38,48],[34,50,38,51],[34,53,38,54],[28,53,32,54],[34,8,38,13],[28,44,32,44],[28,46,32,46],[28,48,32,48],[28,50,32,51],[28,24,32,26],[28,28,32,30],[1,1,3,62],[22,56,26,57],[22,58,26,62],[28,56,32,57],[28,58,32,62],[34,56,38,57],[34,58,38,62],[40,56,44,57],[40,58,44,62],[17,28,20,30],[22,3,62,6],[22,8,26,13],[22,50,26,51],[22,53,26,54],[28,8,32,13],[28,15,32,22],[28,32,32,32],[28,34,32,34],[28,36,32,36],[28,38,32,38],[22,38,26,38],[22,40,26,40],[22,42,26,42],[22,34,26,34],[125,38,129,38],[125,40,129,40],[125,42,129,42],[125,44,129,44],[125,46,129,46],[125,48,129,48],[46,56,50,57],[46,58,50,62],[52,56,56,57],[52,58,56,62],[58,56,62,57],[58,58,62,62],[71,56,75,57],[71,58,75,62],[112,56,116,57],[112,58,116,62],[65,56,69,57],[65,58,69,62],[46,44,50,44],[46,46,50,46],[46,48,50,48],[58,48,62,48],[58,50,62,51],[58,53,62,54],[125,53,129,54],[125,56,129,57],[125,58,129,62],[65,32,69,32],[65,34,69,34],[65,36,69,36],[119,56,123,57],[119,58,123,62],[131,56,135,57],[131,58,135,62],[96,48,110,48],[103,50,110,51],[103,53,110,54],[96,38,110,38],[96,40,110,40],[96,42,110,42],[96,44,110,44],[96,46,110,46],[112,50,116,51],[112,53,116,54],[112,38,116,38],[112,40,116,40],[112,42,116,42],[112,44,116,44]]}
[]
[null,"Ресурсы по оценке кадровых ресурсов"]
[]
[]
[]
[]
[null,null,null,null,null,null,null,null,null,null,null,null,null,null,null,null,null,null,null,null,null,null,null,null,null,null,null,null,null,null,null,null,"Доступность",null,"Язык",null,"Простота использования",null,"Гибкость",null,"Потребности в данных",null,"Анализ данных",null,"Приемлемость",null,"«Единое здоровье»",null,"Воздействие"]
[]
[]
[]
[]
[]
[]
[null,null,null,null,null,null,null,null,null,null,null,null,null,null,null,null,null,null,null,null,null,null,null,null,null,null,null,null,null,null,null,null,null,null,null,null,null,null,null,null,null,null,null,null,null,null,null,null,null,null,"ИСХОДНАЯ ОЦЕНКА",null,null,"СКОРРЕКТИРОВАННАЯ ОЦЕНКА \n(Исходя из предпочтений пользователей)"]
[]
[]
[]
[null,"РЕСУРСЫ УРОВНЯ 1",null,"КЛАССИФИКАЦИЯ",null,null,null,null,"НАЗВАНИЕ РЕСУРСА",null,null,null,null,null,null,"КРАТКОЕ ОПИСАНИЕ",null,null,null,null,null,null,null,null,"ВИД РЕСУРСА",null,null,null,"ОБЩАЯ НАПРАВЛЕННОСТЬ РЕСУРСА"]
[]
[]
[]
[null,null,null,null,null,null,null,null,null,null,null,null,null,null,null,null,null,null,null,null,null,null,null,null,null,null,null,null,null,null,null,null,{"$f":"'Attribute Survey'!S22","v":0},null,{"$f":"'Attribute Survey'!S26","v":0},null,{"$f":"'Attribute Survey'!S30","v":0},null,{"$f":"'Attribute Survey'!S34","v":0},null,{"$f":"'Attribute Survey'!S38","v":0},null,{"$f":"'Attribute Survey'!S42","v":0},null,{"$f":"'Attribute Survey'!S46","v":0},null,{"$f":"'Attribute Survey'!S50","v":0},null,{"$f":"'Attribute Survey'!S54","v":0}]
[null,null,null,"Наиболее подходящие ресурсы",null,null,null,null,"Руководство для сбора данных о потенциале страны в отношении охраны здоровья в пограничных районах (BHCDG)",null,null,null,null,null,null,"Шаблонные инструменты, помогающие в проведении обсуждений с представителями национальных, районных и наземных пограничных служб по вопросам охраны здоровья на границе.",null,null,null,null,null,null,null,null,{"$f":"INDEX(Backbone!$R2:$R893,MATCH(I23,Backbone!$A2:$A893,0))","v":"Руководящий документ"},null,null,null,{"$f":"INDEX(Backbone!$S2:$S893,MATCH(I23,Backbone!$A2:$A893,0))","v":"«Единое здоровье»; ориентированный на конкретную болезнь/угрозу "},null,null,null,{"$f":"INDEX(Backbone!$H2:$H893,MATCH(I23,Backbone!$A2:$A893,0))","v":8.8000000000000007},null,{"$f":"INDEX(Backbone!$I2:$I893,MATCH(I23,Backbone!$A2:$A893,0))","v":6.7},null,{"$f":"INDEX(Backbone!$J2:$J893,MATCH(I23,Backbone!$A2:$A893,0))","v":7.6},null,{"$f":"INDEX(Backbone!$K2:$K893,MATCH(I23,Backbone!$A2:$A893,0))","v":9},null,{"$f":"INDEX(Backbone!$L2:$L893,MATCH(I23,Backbone!$A2:$A893,0))","v":7},null,{"$f":"INDEX(Backbone!$M2:$M893,MATCH(I23,Backbone!$A2:$A893,0))","v":3.8},null,{"$f":"INDEX(Backbone!$N2:$N893,MATCH(I23,Backbone!$A2:$A893,0))","v":8},null,{"$f":"INDEX(Backbone!$O2:$O893,MATCH(I23,Backbone!$A2:$A893,0))","v":8.4},null,{"$f":"INDEX(Backbone!$P2:$P893,MATCH(I23,Backbone!$A2:$A893,0))","v":6},null,{"$f":"INDEX(Backbone!$Q2:$Q893,MATCH(I23,Backbone!$A2:$A893,0))","v":0.72555555555555551},null,null,{"$f":"(AG23*$AG$22+AI23*$AI$22+AK23*$AK$22+AM23*$AM$22+AO23*$AO$22+AQ23*$AQ$22+AS23*$AS$22+AU23*$AU$22+AW23*$AW$22)/(SUM($AG$22:$AW$22)*10)","v":{"$error":"#DIV/0!"}},null,null,"Перейти в Реестр ресурсов: ",null,{"$f":"HYPERLINK(\"#\"&ADDRESS(MATCH(I23,Toolbox!$C$1:$C$300),1,,,\"Toolbox\"),VLOOKUP(I23,Toolbox!$C$1:$C$300,1,FALSE))","v":"Руководство для сбора данных о потенциале страны в отношении охраны здоровья в пограничных районах (BHCDG)"}]
[]
[]
[]
[]
[]
[null,null,null,null,null,null,null,null,{"$f":"Backbone!A174","v":"Инструмент эпидемиологического картирования (EMT)"},null,null,null,null,null,null," Семинар, позволяющий секторам охраны здоровья животных и здравоохранения человека в странах определить, где пересекается их работа, при необходимости создавать соответствующие связи для обеспечения взаимодействия. ",null,null,null,null,null,null,null,null,{"$f":"INDEX(Backbone!$R$2:$R$893,MATCH(I29,Backbone!$A$2:$A$893,0))","v":"Инструмент или процесс с методическим руководством/пояснениями"},null,null,null,{"$f":"INDEX(Backbone!$S$2:$S$893,MATCH(I29,Backbone!$A$2:$A$893,0))","v":"Ориентированный на конкретный сектор; универсальный"},null,null,null,{"$f":"INDEX(Backbone!$H$2:$H$893,MATCH(I29,Backbone!$A$2:$A$893,0))","v":6.6},null,{"$f":"INDEX(Backbone!$I$2:$I$893,MATCH(I29,Backbone!$A$2:$A$893,0))","v":8},null,{"$f":"INDEX(Backbone!$J$2:$J$893,MATCH(I29,Backbone!$A$2:$A$893,0))","v":7.4},null,{"$f":"INDEX(Backbone!$K$2:$K$893,MATCH(I29,Backbone!$A$2:$A$893,0))","v":7.3},null,{"$f":"INDEX(Backbone!$L$2:$L$893,MATCH(I29,Backbone!$A$2:$A$893,0))","v":6.9},null,{"$f":"INDEX(Backbone!$M$2:$M$893,MATCH(I29,Backbone!$A$2:$A$893,0))","v":5},null,{"$f":"INDEX(Backbone!$N$2:$N$893,MATCH(I29,Backbone!$A$2:$A$893,0))","v":3.5},null,{"$f":"INDEX(Backbone!$O$2:$O$893,MATCH(I29,Backbone!$A$2:$A$893,0))","v":6.8},null,{"$f":"INDEX(Backbone!$P$2:$P$893,MATCH(I29,Backbone!$A$2:$A$893,0))","v":5.5},null,{"$f":"INDEX(Backbone!$Q$2:$Q$893,MATCH(I29,Backbone!$A$2:$A$893,0))","v":0.6333333333333333},null,null,{"$f":"(AG29*$AG$22+AI29*$AI$22+AK29*$AK$22+AM29*$AM$22+AO29*$AO$22+AQ29*$AQ$22+AS29*$AS$22+AU29*$AU$22+AW29*$AW$22)/(SUM($AG$22:$AW$22)*10)","v":{"$error":"#DIV/0!"}},null,null,"Перейти в Реестр ресурсов: ",null,{"$f":"HYPERLINK(\"#\"&ADDRESS(MATCH(I29,Toolbox!$C$1:$C$300),1,,,\"Toolbox\"),VLOOKUP(I29,Toolbox!$C$1:$C$300,1,FALSE))","v":"Инструмент эпидемиологического картирования (EMT)"}]
[]
[]
[]
[]
[]
[null,null,null,null,null,null,null,null,{"$f":"Backbone!A100","v":"Оценка сотрудничества в рамках межотраслевой системы эпиднадзора (ECoSur)"},null,null,null,null,null,null,"Инструмент оценки требований и готовности к эпиднадзору, позволяющий определить уровень готовности страны и собрать требования для развития системы эпиднадзора на основе концепции «Единое здоровье» исходя из важнейших факторов успеха.",null,null,null,null,null,null,null,null,{"$f":"INDEX(Backbone!$R$2:$R$893,MATCH(I35,Backbone!$A$2:$A$893,0))","v":"Инструмент или процесс с методическим руководством/пояснениями"},null,null,null,{"$f":"INDEX(Backbone!$S$2:$S$893,MATCH(I35,Backbone!$A$2:$A$893,0))","v":"«Единое здоровье»; универсальный"},null,null,null,{"$f":"INDEX(Backbone!$H$2:$H$893,MATCH(I35,Backbone!$A$2:$A$893,0))","v":8.3000000000000007},null,{"$f":"INDEX(Backbone!$I$2:$I$893,MATCH(I35,Backbone!$A$2:$A$893,0))","v":6},null,{"$f":"INDEX(Backbone!$J$2:$J$893,MATCH(I35,Backbone!$A$2:$A$893,0))","v":8.5},null,{"$f":"INDEX(Backbone!$K$1:$K$893,MATCH(I35,Backbone!$A$1:$A$893,0))","v":7.8},null,{"$f":"INDEX(Backbone!$L$2:$L$893,MATCH(I35,Backbone!$A$2:$A$893,0))","v":8.3000000000000007},null,{"$f":"INDEX(Backbone!$M$2:$M$893,MATCH(I35,Backbone!$A$2:$A$893,0))","v":6.7},null,{"$f":"INDEX(Backbone!$N$2:$N$893,MATCH(I35,Backbone!$A$2:$A$893,0))","v":3.3},null,{"$f":"INDEX(Backbone!$O$2:$O$893,MATCH(I35,Backbone!$A$2:$A$893,0))","v":9.1},null,{"$f":"INDEX(Backbone!$P$2:$P$893,MATCH(I35,Backbone!$A$2:$A$893,0))","v":4.7},null,{"$f":"INDEX(Backbone!$Q$2:$Q$893,MATCH(I35,Backbone!$A$2:$A$893,0))","v":0.69666666666666677},null,null,{"$f":"(AG35*$AG$22+AI35*$AI$22+AK35*$AK$22+AM35*$AM$22+AO35*$AO$22+AQ35*$AQ$22+AS35*$AS$22+AU35*$AU$22+AW35*$AW$22)/(SUM($AG$22:$AW$22)*10)","v":{"$error":"#DIV/0!"}},null,null,"Перейти в Реестр ресурсов: ",null,{"$f":"HYPERLINK(\"#\"&ADDRESS(MATCH(I35,Toolbox!$C$1:$C$300),1,,,\"Toolbox\"),VLOOKUP(I35,Toolbox!$C$1:$C$300,1,FALSE))","v":"Оценка сотрудничества в рамках межотраслевой системы эпиднадзора (ECoSur)"}]
[]
[]
[]
[]
[]
[null,null,null,null,null,null,null,null,{"$f":"Backbone!A184","v":"Глобальный механизм ликвидации бешенства у собак (GDREP)"},null,null,null,null,null,null,"Настоящий инструмент призван упростить планомерные оценки национальных структур для координации в рамках подхода «Единое здоровье» с точки зрения профилактики и выявления зоонозов и мер борьбы с ними.  ",null,null,null,null,null,null,null,null,{"$f":"INDEX(Backbone!$R$2:$R$893,MATCH(I41,Backbone!$A$2:$A$893,0))","v":"Инструмент самооценки"},null,null,null,{"$f":"INDEX(Backbone!$S$2:$S$893,MATCH(I41,Backbone!$A$2:$A$893,0))","v":"«Единое здоровье»; ориентированный на конкретную болезнь/угрозу "},null,null,null,{"$f":"INDEX(Backbone!$H$2:$H$893,MATCH(I41,Backbone!$A$2:$A$893,0))","v":9.1},null,{"$f":"INDEX(Backbone!$I$2:$I$893,MATCH(I41,Backbone!$A$2:$A$893,0))","v":7.3},null,{"$f":"INDEX(Backbone!$J$2:$J$893,MATCH(I41,Backbone!$A$2:$A$893,0))","v":8.6999999999999993},null,{"$f":"INDEX(Backbone!$K$1:$K$893,MATCH(I41,Backbone!$A$1:$A$893,0))","v":6},null,{"$f":"INDEX(Backbone!$L$2:$L$893,MATCH(I41,Backbone!$A$2:$A$893,0))","v":7.9},null,{"$f":"INDEX(Backbone!$M$2:$M$893,MATCH(I41,Backbone!$A$2:$A$893,0))","v":6},null,{"$f":"INDEX(Backbone!$N$2:$N$893,MATCH(I41,Backbone!$A$2:$A$893,0))","v":7},null,{"$f":"INDEX(Backbone!$O$2:$O$893,MATCH(I41,Backbone!$A$2:$A$893,0))","v":6.3},null,{"$f":"INDEX(Backbone!$P$2:$P$893,MATCH(I41,Backbone!$A$2:$A$893,0))","v":7},null,{"$f":"INDEX(Backbone!$Q$2:$Q$893,MATCH(I41,Backbone!$A$2:$A$893,0))","v":0.72555555555555551},null,null,{"$f":"(AG41*$AG$22+AI41*$AI$22+AK41*$AK$22+AM41*$AM$22+AO41*$AO$22+AQ41*$AQ$22+AS41*$AS$22+AU41*$AU$22+AW41*$AW$22)/(SUM($AG$22:$AW$22)*10)","v":{"$error":"#DIV/0!"}},null,null,"Перейти в Реестр ресурсов: ",null,{"$f":"HYPERLINK(\"#\"&ADDRESS(MATCH(I41,Toolbox!$C$1:$C$300),1,,,\"Toolbox\"),VLOOKUP(I41,Toolbox!$C$1:$C$300,1,FALSE))","v":"Глобальный механизм ликвидации бешенства у собак (GDREP)"}]
[]
[]
[]
[]
[]
[null,null,null,null,null,null,null,null,{"$f":"Backbone!A265","v":"Модель компетенций для лидеров/руководителей лабораторий (GLLP)"},null,null,null,null,null,null,"Процесс, позволяющий заинтересованным сторонам из нескольких секторов картировать, анализировать и улучшать существующую систему, которая требует междисциплинарного и межотраслевого взаимодействия.",null,null,null,null,null,null,null,null,{"$f":"INDEX(Backbone!$R$2:$R$893,MATCH(I47,Backbone!$A$2:$A$893,0))","v":"Руководящий документ"},null,null,null,{"$f":"INDEX(Backbone!$S$2:$S$893,MATCH(I47,Backbone!$A$2:$A$893,0))","v":"«Единое здоровье»; универсальный"},null,null,null,{"$f":"INDEX(Backbone!$H$2:$H$893,MATCH(I47,Backbone!$A$2:$A$893,0))","v":9.6},null,{"$f":"INDEX(Backbone!$I$2:$I$893,MATCH(I47,Backbone!$A$2:$A$893,0))","v":8},null,{"$f":"INDEX(Backbone!$J$2:$J$893,MATCH(I47,Backbone!$A$2:$A$893,0))","v":8.4},null,{"$f":"INDEX(Backbone!$K$1:$K$893,MATCH(I47,Backbone!$A$1:$A$893,0))","v":9.6999999999999993},null,{"$f":"INDEX(Backbone!$L$2:$L$893,MATCH(I47,Backbone!$A$2:$A$893,0))","v":7.3},null,{"$f":"INDEX(Backbone!$M$2:$M$893,MATCH(I47,Backbone!$A$2:$A$893,0))","v":2.2999999999999998},null,{"$f":"INDEX(Backbone!$N$2:$N$893,MATCH(I47,Backbone!$A$2:$A$893,0))","v":5},null,{"$f":"INDEX(Backbone!$O$2:$O$893,MATCH(I47,Backbone!$A$2:$A$893,0))","v":8.9},null,{"$f":"INDEX(Backbone!$P$2:$P$893,MATCH(I47,Backbone!$A$2:$A$893,0))","v":4},null,{"$f":"INDEX(Backbone!$Q$2:$Q$893,MATCH(I47,Backbone!$A$2:$A$893,0))","v":0.70222222222222219},null,null,{"$f":"(AG47*$AG$22+AI47*$AI$22+AK47*$AK$22+AM47*$AM$22+AO47*$AO$22+AQ47*$AQ$22+AS47*$AS$22+AU47*$AU$22+AW47*$AW$22)/(SUM($AG$22:$AW$22)*10)","v":{"$error":"#DIV/0!"}},null,null,"Перейти в Реестр ресурсов: ",null,{"$f":"HYPERLINK(\"#\"&ADDRESS(MATCH(I47,Toolbox!$C$1:$C$300),1,,,\"Toolbox\"),VLOOKUP(I47,Toolbox!$C$1:$C$300,1,FALSE))","v":"Модель компетенций для лидеров/руководителей лабораторий (GLLP)"}]
[]
[]
[]
[]
[]
[null,null,null,null,null,null,null,null,{"$f":"Backbone!A383","v":"Инструментарий для картирования и анализа систем «Единое здоровье» (OH-SMART)"},null,null,null,null,null,null,"Специализированное картирование заинтересованных сторон, позволяющее визуализировать систему организаций и взаимодействие между ними по конкретному вопросу политики. ",null,null,null,null,null,null,null,null,{"$f":"INDEX(Backbone!$R$2:$R$893,MATCH(I53,Backbone!$A$2:$A$893,0))","v":"Инструмент или процесс с методическим руководством/пояснениями"},null,null,null,{"$f":"INDEX(Backbone!$S$2:$S$893,MATCH(I53,Backbone!$A$2:$A$893,0))","v":"«Единое здоровье»; универсальный"},null,null,null,{"$f":"INDEX(Backbone!$H$2:$H$893,MATCH(I53,Backbone!$A$2:$A$893,0))","v":8.6999999999999993},null,{"$f":"INDEX(Backbone!$I$2:$I$893,MATCH(I53,Backbone!$A$2:$A$893,0))","v":7.3},null,{"$f":"INDEX(Backbone!$J$2:$J$893,MATCH(I53,Backbone!$A$2:$A$893,0))","v":8.4},null,{"$f":"INDEX(Backbone!$K$1:$K$893,MATCH(I53,Backbone!$A$1:$A$893,0))","v":9.3000000000000007},null,{"$f":"INDEX(Backbone!$L$2:$L$893,MATCH(I53,Backbone!$A$2:$A$893,0))","v":8.1999999999999993},null,{"$f":"INDEX(Backbone!$M$2:$M$893,MATCH(I53,Backbone!$A$2:$A$893,0))","v":7.4},null,{"$f":"INDEX(Backbone!$N$2:$N$893,MATCH(I53,Backbone!$A$2:$A$893,0))","v":9.5},null,{"$f":"INDEX(Backbone!$O$2:$O$893,MATCH(I53,Backbone!$A$2:$A$893,0))","v":10},null,{"$f":"INDEX(Backbone!$P$2:$P$893,MATCH(I53,Backbone!$A$2:$A$893,0))","v":10},null,{"$f":"INDEX(Backbone!$Q$2:$Q$893,MATCH(I53,Backbone!$A$2:$A$893,0))","v":0.87555555555555564},null,null,{"$f":"(AG53*$AG$22+AI53*$AI$22+AK53*$AK$22+AM53*$AM$22+AO53*$AO$22+AQ53*$AQ$22+AS53*$AS$22+AU53*$AU$22+AW53*$AW$22)/(SUM($AG$22:$AW$22)*10)","v":{"$error":"#DIV/0!"}},null,null,"Перейти в Реестр ресурсов: ",null,{"$f":"HYPERLINK(\"#\"&ADDRESS(MATCH(I53,Toolbox!$C$1:$C$300),1,,,\"Toolbox\"),VLOOKUP(I53,Toolbox!$C$1:$C$300,1,FALSE))","v":"Инструментарий для картирования и анализа систем «Единое здоровье» (OH-SMART)"}]
[]
[]
[]
[]
[]
[null,null,null,null,null,null,null,null,{"$f":"Backbone!A351","v":"Инструмент для оценки сети эпиднадзора (OASIS)"},null,null,null,null,null,null,"Рабочий инструмент на базе Excel по планированию, мониторингу и оценке для реализации, разработки и доработки программ борьбы с бешенством. ",null,null,null,null,null,null,null,null,{"$f":"INDEX(Backbone!$R$2:$R$893,MATCH(I59,Backbone!$A$2:$A$893,0))","v":"Инструмент самооценки"},null,null,null,{"$f":"INDEX(Backbone!$S$2:$S$893,MATCH(I59,Backbone!$A$2:$A$893,0))","v":"Ориентированный на конкретный сектор; универсальный"},null,null,null,{"$f":"INDEX(Backbone!$H$2:$H$893,MATCH(I59,Backbone!$A$2:$A$893,0))","v":8.1999999999999993},null,{"$f":"INDEX(Backbone!$I$2:$I$893,MATCH(I59,Backbone!$A$2:$A$893,0))","v":7},null,{"$f":"INDEX(Backbone!$J$2:$J$893,MATCH(I59,Backbone!$A$2:$A$893,0))","v":8},null,{"$f":"INDEX(Backbone!$K$1:$K$893,MATCH(I59,Backbone!$A$1:$A$893,0))","v":8.3000000000000007},null,{"$f":"INDEX(Backbone!$L$2:$L$893,MATCH(I59,Backbone!$A$2:$A$893,0))","v":7},null,{"$f":"INDEX(Backbone!$M$2:$M$893,MATCH(I59,Backbone!$A$2:$A$893,0))","v":6.5},null,{"$f":"INDEX(Backbone!$N$2:$N$893,MATCH(I59,Backbone!$A$2:$A$893,0))","v":4.5},null,{"$f":"INDEX(Backbone!$O$2:$O$893,MATCH(I59,Backbone!$A$2:$A$893,0))","v":5.0999999999999996},null,{"$f":"INDEX(Backbone!$P$2:$P$893,MATCH(I59,Backbone!$A$2:$A$893,0))","v":4.5},null,{"$f":"INDEX(Backbone!$Q$2:$Q$893,MATCH(I59,Backbone!$A$2:$A$893,0))","v":0.65666666666666673},null,null,{"$f":"(AG59*$AG$22+AI59*$AI$22+AK59*$AK$22+AM59*$AM$22+AO59*$AO$22+AQ59*$AQ$22+AS59*$AS$22+AU59*$AU$22+AW59*$AW$22)/(SUM($AG$22:$AW$22)*10)","v":{"$error":"#DIV/0!"}},null,null,"Перейти в Реестр ресурсов: ",null,{"$f":"HYPERLINK(\"#\"&ADDRESS(MATCH(I59,Toolbox!$C$1:$C$300),1,,,\"Toolbox\"),VLOOKUP(I59,Toolbox!$C$1:$C$300,1,FALSE))","v":"Инструмент для оценки сети эпиднадзора (OASIS)"}]
[]
[]
[]
[]
[]
[]
[null,null,null,"Другие полезные ресурсы",null,null,null,null,{"$f":"Backbone!A59","v":"Руководящие принципы в отношении уровня компетенции специалистов, работающих в лабораториях общественного здравоохранения: ЦКПЗ и Ассоциация лабораторий общественного здравоохранения"},null,null,null,null,null,null,"Настоящие руководящие принципы обозначают знания, навыки и способности, которыми должны обладать специалисты лабораторий общественного здравоохранения (ЛОЗ), чтобы эффективно и результативно предоставлять основные услуги ЛОЗ.  ",null,null,null,null,null,null,null,null,{"$f":"INDEX(Backbone!$R$2:$R$893,MATCH(I66,Backbone!$A$2:$A$893,0))","v":"Руководящий документ"},null,null,null,{"$f":"INDEX(Backbone!$S$2:$S$893,MATCH(I66,Backbone!$A$2:$A$893,0))","v":"Ориентированный на конкретный сектор; универсальный"},null,null,null,{"$f":"INDEX(Backbone!$H$2:$H$893,MATCH(I66,Backbone!$A$2:$A$893,0))","v":9},null,{"$f":"INDEX(Backbone!$I$2:$I$893,MATCH(I66,Backbone!$A$2:$A$893,0))","v":7.8},null,{"$f":"INDEX(Backbone!$J$2:$J$893,MATCH(I66,Backbone!$A$2:$A$893,0))","v":9.1999999999999993},null,{"$f":"INDEX(Backbone!$K$1:$K$893,MATCH(I66,Backbone!$A$1:$A$893,0))","v":9.1},null,{"$f":"INDEX(Backbone!$L$2:$L$893,MATCH(I66,Backbone!$A$2:$A$893,0))","v":6.3},null,{"$f":"INDEX(Backbone!$M$2:$M$893,MATCH(I66,Backbone!$A$2:$A$893,0))","v":3},null,{"$f":"INDEX(Backbone!$N$2:$N$893,MATCH(I66,Backbone!$A$2:$A$893,0))","v":2},null,{"$f":"INDEX(Backbone!$O$2:$O$893,MATCH(I66,Backbone!$A$2:$A$893,0))","v":7.8},null,{"$f":"INDEX(Backbone!$P$2:$P$893,MATCH(I66,Backbone!$A$2:$A$893,0))","v":4},null,{"$f":"INDEX(Backbone!$Q$2:$Q$893,MATCH(I66,Backbone!$A$2:$A$893,0))","v":0.64666666666666661},null,null,{"$f":"(AG66*$AG$22+AI66*$AI$22+AK66*$AK$22+AM66*$AM$22+AO66*$AO$22+AQ66*$AQ$22+AS66*$AS$22+AU66*$AU$22+AW66*$AW$22)/(SUM($AG$22:$AW$22)*10)","v":{"$error":"#DIV/0!"}},null,null,"Перейти в Реестр ресурсов: ",null,{"$f":"HYPERLINK(\"#\"&ADDRESS(MATCH(I66,Toolbox!$C$1:$C$300),1,,,\"Toolbox\"),VLOOKUP(I66,Toolbox!$C$1:$C$300,1,FALSE))","v":"Руководящие принципы в отношении уровня компетенции специалистов, работающих в лабораториях общественного здравоохранения: ЦКПЗ и Ассоциация лабораторий общественного здравоохранения"}]
[]
[]
[]
[]
[]
[null,null,null,null,null,null,null,null,{"$f":"Backbone!A303","v":"Национальный план действий по обеспечению безопасности в области здравоохранения (NAPHS)"},null,null,null,null,null,null,"Инструмент, предназначенный для оценки организации и функционирования взаимодействия в системе межотраслевого эпиднадзора и для анализа сильных и слабых сторон такого взаимодействия. ",null,null,null,null,null,null,null,null,{"$f":"INDEX(Backbone!$R$2:$R$893,MATCH(I72,Backbone!$A$2:$A$893,0))","v":"Руководящий документ"},null,null,null,{"$f":"INDEX(Backbone!$S$2:$S$893,MATCH(I72,Backbone!$A$2:$A$893,0))","v":"«Единое здоровье»; универсальный"},null,null,null,{"$f":"INDEX(Backbone!$H$2:$H$893,MATCH(I72,Backbone!$A$2:$A$893,0))","v":8},null,{"$f":"INDEX(Backbone!$I$2:$I$893,MATCH(I72,Backbone!$A$2:$A$893,0))","v":9},null,{"$f":"INDEX(Backbone!$J$2:$J$893,MATCH(I72,Backbone!$A$2:$A$893,0))","v":7.8},null,{"$f":"INDEX(Backbone!$K$1:$K$893,MATCH(I72,Backbone!$A$1:$A$893,0))","v":10},null,{"$f":"INDEX(Backbone!$L$2:$L$893,MATCH(I72,Backbone!$A$2:$A$893,0))","v":8},null,{"$f":"INDEX(Backbone!$M$2:$M$893,MATCH(I72,Backbone!$A$2:$A$893,0))","v":4.5},null,{"$f":"INDEX(Backbone!$N$2:$N$893,MATCH(I72,Backbone!$A$2:$A$893,0))","v":10},null,{"$f":"INDEX(Backbone!$O$2:$O$893,MATCH(I72,Backbone!$A$2:$A$893,0))","v":10},null,{"$f":"INDEX(Backbone!$P$2:$P$893,MATCH(I72,Backbone!$A$2:$A$893,0))","v":10},null,{"$f":"INDEX(Backbone!$Q$2:$Q$893,MATCH(I72,Backbone!$A$2:$A$893,0))","v":0.85888888888888881},null,null,{"$f":"(AG72*$AG$22+AI72*$AI$22+AK72*$AK$22+AM72*$AM$22+AO72*$AO$22+AQ72*$AQ$22+AS72*$AS$22+AU72*$AU$22+AW72*$AW$22)/(SUM($AG$22:$AW$22)*10)","v":{"$error":"#DIV/0!"}},null,null,"Перейти в Реестр ресурсов: ",null,{"$f":"HYPERLINK(\"#\"&ADDRESS(MATCH(I72,Toolbox!$C$1:$C$300),1,,,\"Toolbox\"),VLOOKUP(I72,Toolbox!$C$1:$C$300,1,FALSE))","v":"Национальный план действий по обеспечению безопасности в области здравоохранения (NAPHS)"}]
[]
[]
[]
[]
[]
[]
[]
[]
[]
[]
[]
[]
[]
[]
[]
[]
[]
[]
[]
[]
[]
[]
[]
[]
[null,null,null,null,null,null,null,null,null,null,null,null,null,null,null,null,null,null,null,null,null,null,null,null,null,null,null,null,null,null,null,null,"Доступность",null,"Язык",null,"Простота использования",null,"Гибкость",null,"Потребности в данных",null,"Анализ данных",null,"Приемлемость",null,"«Единое здоровье»",null,"Воздействие"]
[]
[]
[]
[]
[]
[]
[null,null,null,null,null,null,null,null,null,null,null,null,null,null,null,null,null,null,null,null,null,null,null,null,null,null,null,null,null,null,null,null,null,null,null,null,null,null,null,null,null,null,null,null,null,null,null,null,null,null,"ИСХОДНАЯ ОЦЕНКА",null,null,"СКОРРЕКТИРОВАННАЯ ОЦЕНКА \n(Исходя из предпочтений пользователей)"]
[]
[null,"РЕСУРСЫ УРОВНЯ 3"]
[]
[null,null,null,"КЛАССИФИКАЦИЯ",null,null,null,null,"НАЗВАНИЕ РЕСУРСА",null,null,null,null,null,null,"КРАТКОЕ ОПИСАНИЕ",null,null,null,null,null,null,null,null,"ВИД РЕСУРСА",null,null,null,"ОБЩАЯ НАПРАВЛЕННОСТЬ РЕСУРСА"]
[]
[]
[]
[null,null,null,null,null,null,null,null,null,null,null,null,null,null,null,null,null,null,null,null,null,null,null,null,null,null,null,null,null,null,null,null,{"$f":"'Attribute Survey'!S231","v":0},null,{"$f":"'Attribute Survey'!S235","v":0},null,{"$f":"'Attribute Survey'!S239","v":0},null,{"$f":"'Attribute Survey'!S243","v":0},null,{"$f":"'Attribute Survey'!S247","v":0},null,{"$f":"'Attribute Survey'!S251","v":0},null,{"$f":"'Attribute Survey'!S255","v":0},null,{"$f":"'Attribute Survey'!S259","v":0},null,{"$f":"'Attribute Survey'!S263","v":0}]
[null,null,null,"Наиболее подходящие ресурсы",null,null,null,null,{"$f":"Backbone!A100","v":"Оценка сотрудничества в рамках межотраслевой системы эпиднадзора (ECoSur)"},null,null,null,null,null,null," Семинар, позволяющий секторам охраны здоровья животных и здравоохранения человека в странах определить, где пересекается их работа, при необходимости создавать соответствующие связи для обеспечения взаимодействия. ",null,null,null,null,null,null,null,null,{"$f":"INDEX(Backbone!$R$2:$R$893,MATCH(I113,Backbone!$A$2:$A$893,0))","v":"Инструмент или процесс с методическим руководством/пояснениями"},null,null,null,{"$f":"INDEX(Backbone!$S$2:$S$893,MATCH(I113,Backbone!$A$2:$A$893,0))","v":"«Единое здоровье»; универсальный"},null,null,null,{"$f":"INDEX(Backbone!$H$2:$H$893,MATCH(I113,Backbone!$A$2:$A$893,0))","v":8.3000000000000007},null,{"$f":"INDEX(Backbone!$I$2:$I$893,MATCH(I113,Backbone!$A$2:$A$893,0))","v":6},null,{"$f":"INDEX(Backbone!$J$2:$J$893,MATCH(I113,Backbone!$A$2:$A$893,0))","v":8.5},null,{"$f":"INDEX(Backbone!$K$2:$K$893,MATCH(I113,Backbone!$A$2:$A$893,0))","v":7.8},null,{"$f":"INDEX(Backbone!$L$2:$L$893,MATCH(I113,Backbone!$A$2:$A$893,0))","v":8.3000000000000007},null,{"$f":"INDEX(Backbone!$M$2:$M$893,MATCH(I113,Backbone!$A$2:$A$893,0))","v":6.7},null,{"$f":"INDEX(Backbone!$N$2:$N$893,MATCH(I113,Backbone!$A$2:$A$893,0))","v":3.3},null,{"$f":"INDEX(Backbone!$O$2:$O$893,MATCH(I113,Backbone!$A$2:$A$893,0))","v":9.1},null,{"$f":"INDEX(Backbone!$P$2:$P$893,MATCH(I113,Backbone!$A$2:$A$893,0))","v":4.7},null,{"$f":"INDEX(Backbone!$Q$2:$Q$893,MATCH(I113,Backbone!$A$2:$A$893,0))","v":0.69666666666666677},null,null,{"$f":"(AG113*$AG$22+AI113*$AI$22+AK113*$AK$22+AM113*$AM$22+AO113*$AO$22+AQ113*$AQ$22+AS113*$AS$22+AU113*$AU$22+AW113*$AW$22)/(SUM($AG$22:$AW$22)*10)","v":{"$error":"#DIV/0!"}},null,null,"Перейти в Реестр ресурсов: ",null,{"$f":"HYPERLINK(\"#\"&ADDRESS(MATCH(I113,Toolbox!$C$1:$C$300),1,,,\"Toolbox\"),VLOOKUP(I113,Toolbox!$C$1:$C$300,1,FALSE))","v":"Оценка сотрудничества в рамках межотраслевой системы эпиднадзора (ECoSur)"}]
[]
[]
[]
[]
[]
[]
[null,null,null,"Другие полезные ресурсы",null,null,null,null,{"$f":"Backbone!A2","v":"Рамочная программа Африканских ЦКПЗ по надзору на основе сигнальных событий"},null,null,null,null,null,null,"Инструмент, предназначенный для оценки организации и функционирования взаимодействия в системе межотраслевого эпиднадзора и для анализа сильных и слабых сторон такого взаимодействия. ",null,null,null,null,null,null,null,null,{"$f":"INDEX(Backbone!$R$2:$R$893,MATCH(I120,Backbone!$A$2:$A$893,0))","v":"Руководящий документ"},null,null,null,{"$f":"INDEX(Backbone!$S$2:$S$893,MATCH(I120,Backbone!$A$2:$A$893,0))","v":"«Единое здоровье»; универсальный "},null,null,null,{"$f":"INDEX(Backbone!$H$2:$H$893,MATCH(I120,Backbone!$A$2:$A$893,0))","v":8},null,{"$f":"INDEX(Backbone!$I$2:$I$893,MATCH(I120,Backbone!$A$2:$A$893,0))","v":6},null,{"$f":"INDEX(Backbone!$J$2:$J$893,MATCH(I120,Backbone!$A$2:$A$893,0))","v":8.1999999999999993},null,{"$f":"INDEX(Backbone!$K$1:$K$893,MATCH(I120,Backbone!$A$1:$A$893,0))","v":8.3000000000000007},null,{"$f":"INDEX(Backbone!$L$2:$L$893,MATCH(I120,Backbone!$A$2:$A$893,0))","v":6.1},null,{"$f":"INDEX(Backbone!$M$2:$M$893,MATCH(I120,Backbone!$A$2:$A$893,0))","v":3.5},null,{"$f":"INDEX(Backbone!$N$2:$N$893,MATCH(I120,Backbone!$A$2:$A$893,0))","v":4},null,{"$f":"INDEX(Backbone!$O$2:$O$893,MATCH(I120,Backbone!$A$2:$A$893,0))","v":7},null,{"$f":"INDEX(Backbone!$P$2:$P$893,MATCH(I120,Backbone!$A$2:$A$893,0))","v":6},null,{"$f":"INDEX(Backbone!$Q$2:$Q$893,MATCH(I120,Backbone!$A$2:$A$893,0))","v":0.63222222222222224},null,null,{"$f":"(AG120*$AG$22+AI120*$AI$22+AK120*$AK$22+AM120*$AM$22+AO120*$AO$22+AQ120*$AQ$22+AS120*$AS$22+AU120*$AU$22+AW120*$AW$22)/(SUM($AG$22:$AW$22)*10)","v":{"$error":"#DIV/0!"}},null,null,"Перейти в Реестр ресурсов: ",null,{"$f":"HYPERLINK(\"#\"&ADDRESS(MATCH(I120,Toolbox!$C$1:$C$300),1,,,\"Toolbox\"),VLOOKUP(I120,Toolbox!$C$1:$C$300,1,FALSE))","v":"Рамочная программа Африканских ЦКПЗ по надзору на основе сигнальных событий"}]
[]
[]
[]
[]
[]
[null,null,null,null,null,null,null,null,{"$f":"Backbone!A59","v":"Руководящие принципы в отношении уровня компетенции специалистов, работающих в лабораториях общественного здравоохранения: ЦКПЗ и Ассоциация лабораторий общественного здравоохранения"},null,null,null,null,null,null,"Настоящие руководящие принципы обозначают знания, навыки и способности, которыми должны обладать специалисты лабораторий общественного здравоохранения (ЛОЗ), чтобы эффективно и результативно предоставлять основные услуги ЛОЗ.",null,null,null,null,null,null,null,null,{"$f":"INDEX(Backbone!$R$2:$R$893,MATCH(I126,Backbone!$A$2:$A$893,0))","v":"Руководящий документ"},null,null,null,{"$f":"INDEX(Backbone!$S$2:$S$893,MATCH(I126,Backbone!$A$2:$A$893,0))","v":"Ориентированный на конкретный сектор; универсальный"},null,null,null,{"$f":"INDEX(Backbone!$H$2:$H$893,MATCH(I126,Backbone!$A$2:$A$893,0))","v":9},null,{"$f":"INDEX(Backbone!$I$2:$I$893,MATCH(I126,Backbone!$A$2:$A$893,0))","v":7.8},null,{"$f":"INDEX(Backbone!$J$2:$J$893,MATCH(I126,Backbone!$A$2:$A$893,0))","v":9.1999999999999993},null,{"$f":"INDEX(Backbone!$K$1:$K$893,MATCH(I126,Backbone!$A$1:$A$893,0))","v":9.1},null,{"$f":"INDEX(Backbone!$L$2:$L$893,MATCH(I126,Backbone!$A$2:$A$893,0))","v":6.3},null,{"$f":"INDEX(Backbone!$M$2:$M$893,MATCH(I126,Backbone!$A$2:$A$893,0))","v":3},null,{"$f":"INDEX(Backbone!$N$2:$N$893,MATCH(I126,Backbone!$A$2:$A$893,0))","v":2},null,{"$f":"INDEX(Backbone!$O$2:$O$893,MATCH(I126,Backbone!$A$2:$A$893,0))","v":7.8},null,{"$f":"INDEX(Backbone!$P$2:$P$893,MATCH(I126,Backbone!$A$2:$A$893,0))","v":4},null,{"$f":"INDEX(Backbone!$Q$2:$Q$893,MATCH(I126,Backbone!$A$2:$A$893,0))","v":0.64666666666666661},null,null,{"$f":"(AG126*$AG$22+AI126*$AI$22+AK126*$AK$22+AM126*$AM$22+AO126*$AO$22+AQ126*$AQ$22+AS126*$AS$22+AU126*$AU$22+AW126*$AW$22)/(SUM($AG$22:$AW$22)*10)","v":{"$error":"#DIV/0!"}},null,null,"Перейти в Реестр ресурсов: ",null,{"$f":"HYPERLINK(\"#\"&ADDRESS(MATCH(I126,Toolbox!$C$1:$C$300),1,,,\"Toolbox\"),VLOOKUP(I126,Toolbox!$C$1:$C$300,1,FALSE))","v":"Руководящие принципы в отношении уровня компетенции специалистов, работающих в лабораториях общественного здравоохранения: ЦКПЗ и Ассоциация лабораторий общественного здравоохранения"}]
[]
[]
[]
[]
[]
[null,null,null,null,null,null,null,null,{"$f":"Backbone!A195","v":"Комплексная система эпиднадзора и мер реагирования (IDSR)"},null,null,null,null,null,null,"Стратегия, разработанная с целью укрепить потенциал стран для выявления и подтверждения предполагаемых случаев заболевания и вспышек и реагирования на них, а также для использования информации для прогнозирования событий в области общественного здравоохранения и планирования мер реагирования на них. ",null,null,null,null,null,null,null,null,{"$f":"INDEX(Backbone!$R$2:$R$893,MATCH(I132,Backbone!$A$2:$A$893,0))","v":"Руководящий документ"},null,null,null,{"$f":"INDEX(Backbone!$S$2:$S$893,MATCH(I132,Backbone!$A$2:$A$893,0))","v":"Ориентированный на конкретный сектор; универсальный"},null,null,null,{"$f":"INDEX(Backbone!$H$2:$H$893,MATCH(I132,Backbone!$A$2:$A$893,0))","v":7.4},null,{"$f":"INDEX(Backbone!$I$2:$I$893,MATCH(I132,Backbone!$A$2:$A$893,0))","v":10},null,{"$f":"INDEX(Backbone!$J$2:$J$893,MATCH(I132,Backbone!$A$2:$A$893,0))","v":7.4},null,{"$f":"INDEX(Backbone!$K$1:$K$893,MATCH(I132,Backbone!$A$1:$A$893,0))","v":8.6999999999999993},null,{"$f":"INDEX(Backbone!$L$2:$L$893,MATCH(I132,Backbone!$A$2:$A$893,0))","v":6.7},null,{"$f":"INDEX(Backbone!$M$2:$M$893,MATCH(I132,Backbone!$A$2:$A$893,0))","v":4.5},null,{"$f":"INDEX(Backbone!$N$2:$N$893,MATCH(I132,Backbone!$A$2:$A$893,0))","v":8},null,{"$f":"INDEX(Backbone!$O$2:$O$893,MATCH(I132,Backbone!$A$2:$A$893,0))","v":7.2},null,{"$f":"INDEX(Backbone!$P$2:$P$893,MATCH(I132,Backbone!$A$2:$A$893,0))","v":8.5},null,{"$f":"INDEX(Backbone!$Q$2:$Q$893,MATCH(I132,Backbone!$A$2:$A$893,0))","v":0.76},null,null,{"$f":"(AG132*$AG$22+AI132*$AI$22+AK132*$AK$22+AM132*$AM$22+AO132*$AO$22+AQ132*$AQ$22+AS132*$AS$22+AU132*$AU$22+AW132*$AW$22)/(SUM($AG$22:$AW$22)*10)","v":{"$error":"#DIV/0!"}},null,null,"Перейти в Реестр ресурсов: ",null,{"$f":"HYPERLINK(\"#\"&ADDRESS(MATCH(I132,Toolbox!$C$1:$C$300),1,,,\"Toolbox\"),VLOOKUP(I132,Toolbox!$C$1:$C$300,1,FALSE))","v":"Комплексная система эпиднадзора и мер реагирования (IDSR)"}]

{"sheet":"P1_tools","index":38,"n_rows":148,"n_cols":59,"rows_kept":148,"cut":false,"hidden":false,"merged":[[140,38,144,38],[147,53,151,54],[147,34,151,34],[147,36,151,36],[147,38,151,38],[147,40,151,40],[147,42,151,42],[147,44,151,44],[147,3,151,6],[147,8,151,13],[147,15,151,22],[147,24,151,26],[147,28,151,30],[147,32,151,32],[140,28,144,30],[140,32,144,32],[140,34,144,34],[88,3,92,6],[80,1,108,1],[131,1,155,1],[147,46,151,46],[147,48,151,48],[147,50,151,51],[140,48,144,48],[140,50,144,51],[124,48,138,48],[131,50,138,51],[95,3,105,6],[95,24,99,26],[95,28,99,30],[88,44,92,44],[88,46,92,46],[88,48,92,48],[88,50,92,51],[95,44,99,44],[95,46,99,46],[95,48,99,48],[95,50,99,51],[83,3,86,6],[72,38,86,38],[72,40,86,40],[131,53,138,54],[135,3,138,6],[135,8,138,13],[135,15,138,22],[135,24,138,26],[135,28,138,30],[140,3,144,6],[124,32,138,32],[124,34,138,34],[124,36,138,36],[124,38,138,38],[124,40,138,40],[124,42,138,42],[124,44,138,44],[124,46,138,46],[140,40,144,40],[140,42,144,42],[140,44,144,44],[140,46,144,46],[140,8,144,13],[140,15,144,22],[140,24,144,26],[140,53,144,54],[140,36,144,36],[95,53,99,54],[101,8,105,13],[101,15,105,22],[101,24,105,26],[101,28,105,30],[101,32,105,32],[95,32,99,32],[95,34,99,34],[95,36,99,36],[95,38,99,38],[95,40,99,40],[95,42,99,42],[101,46,105,46],[101,48,105,48],[101,50,105,51],[101,53,105,54],[101,34,105,34],[101,36,105,36],[101,38,105,38],[101,40,105,40],[101,42,105,42],[101,44,105,44],[95,8,99,13],[95,15,99,22],[88,53,92,54],[88,32,92,32],[88,34,92,34],[88,36,92,36],[88,38,92,38],[88,40,92,40],[88,42,92,42],[83,28,86,30],[88,8,92,13],[88,15,92,22],[88,24,92,26],[88,28,92,30],[72,44,86,44],[72,46,86,46],[72,48,86,48],[79,50,86,51],[79,53,86,54],[72,42,86,42],[83,8,86,13],[83,15,86,22],[83,24,86,26],[72,32,86,32],[72,34,86,34],[72,36,86,36],[47,50,51,51],[47,53,51,54],[41,53,45,54],[47,8,51,13],[47,15,51,22],[47,24,51,26],[47,28,51,30],[47,32,51,32],[47,34,51,34],[47,36,51,36],[47,38,51,38],[47,40,51,40],[41,40,45,40],[41,42,45,42],[41,44,45,44],[41,46,45,46],[41,48,45,48],[41,50,45,51],[13,50,20,51],[13,53,20,54],[17,1,51,1],[17,3,20,6],[17,8,20,13],[17,15,20,22],[17,24,20,26],[17,28,20,30],[35,50,39,51],[35,53,39,54],[41,8,45,13],[41,15,45,22],[41,24,45,26],[41,28,45,30],[35,48,39,48],[35,8,39,13],[35,15,39,22],[35,24,39,26],[35,28,39,30],[35,32,39,32],[35,34,39,34],[35,36,39,36],[47,42,51,42],[47,44,51,44],[6,32,20,32],[6,34,20,34],[6,36,20,36],[6,38,20,38],[6,40,20,40],[6,42,20,42],[6,44,20,44],[6,46,20,46],[6,48,20,48],[23,50,27,51],[29,24,33,26],[29,28,33,30],[29,32,33,32],[29,34,33,34],[23,40,27,40],[23,42,27,42],[41,32,45,32],[41,34,45,34],[41,36,45,36],[41,38,45,38],[35,38,39,38],[35,40,39,40],[35,42,39,42],[35,44,39,44],[35,46,39,46],[29,48,33,48],[23,3,51,6],[23,8,27,13],[23,15,27,22],[23,24,27,26],[23,28,27,30],[23,32,27,32],[23,46,27,46],[23,48,27,48],[47,46,51,46],[47,48,51,48],[1,1,3,62],[23,56,27,57],[23,58,27,62],[29,56,33,57],[29,58,33,62],[35,56,39,57],[35,58,39,62],[41,56,45,57],[41,58,45,62],[23,53,27,54],[29,8,33,13],[29,15,33,22],[29,50,33,51],[29,53,33,54],[29,40,33,40],[29,42,33,42],[29,44,33,44],[29,46,33,46],[29,36,33,36],[29,38,33,38],[23,34,27,34],[23,36,27,36],[23,38,27,38],[23,44,27,44],[147,56,151,57],[147,58,151,62],[47,56,51,57],[47,58,51,62],[88,56,92,57],[88,58,92,62],[95,56,99,57],[95,58,99,62],[101,56,105,57],[101,58,105,62],[140,56,144,57],[140,58,144,62]]}
[]
[null,"Ресурсы по формированию политической поддержки"]
[]
[]
[]
[]
[null,null,null,null,null,null,null,null,null,null,null,null,null,null,null,null,null,null,null,null,null,null,null,null,null,null,null,null,null,null,null,null,"Доступность",null,"Язык",null,"Простота использования",null,"Гибкость",null,"Потребности в данных",null,"Анализ данных",null,"Приемлемость",null,"«Единое здоровье»",null,"Воздействие"]
[]
[]
[]
[]
[]
[]
[null,null,null,null,null,null,null,null,null,null,null,null,null,null,null,null,null,null,null,null,null,null,null,null,null,null,null,null,null,null,null,null,null,null,null,null,null,null,null,null,null,null,null,null,null,null,null,null,null,null,"ИСХОДНАЯ ОЦЕНКА",null,null,"СКОРРЕКТИРОВАННАЯ ОЦЕНКА \n(Исходя из предпочтений пользователей)"]
[]
[]
[]
[null,"РЕСУРСЫ УРОВНЯ 1",null,"КЛАССИФИКАЦИЯ",null,null,null,null,"НАЗВАНИЕ РЕСУРСА",null,null,null,null,null,null,"КРАТКОЕ ОПИСАНИЕ",null,null,null,null,null,null,null,null,"ВИД РЕСУРСА",null,null,null,"ОБЩАЯ НАПРАВЛЕННОСТЬ РЕСУРСА"]
[]
[]
[]
[null,null,null,null,null,null,null,null,null,null,null,null,null,null,null,null,null,null,null,null,null,null,null,null,null,null,null,null,null,null,null,null,{"$f":"'Attribute Survey'!S22","v":0},null,{"$f":"'Attribute Survey'!S26","v":0},null,{"$f":"'Attribute Survey'!S30","v":0},null,{"$f":"'Attribute Survey'!S34","v":0},null,{"$f":"'Attribute Survey'!S38","v":0},null,{"$f":"'Attribute Survey'!S42","v":0},null,{"$f":"'Attribute Survey'!S46","v":0},null,{"$f":"'Attribute Survey'!S50","v":0},null,{"$f":"'Attribute Survey'!S54","v":0}]
[]
[null,null,null,"Другие полезные ресурсы",null,null,null,null,"Оценка сотрудничества в рамках межотраслевой системы эпиднадзора (ECoSur)",null,null,null,null,null,null,"Инструмент, предназначенный для оценки организации и функционирования взаимодействия в системе межотраслевого эпиднадзора и для анализа сильных и слабых сторон такого взаимодействия. ",null,null,null,null,null,null,null,null,{"$f":"INDEX(Backbone!$R$2:$R$893,MATCH(I24,Backbone!$A$2:$A$893,0))","v":"Инструмент или процесс с методическим руководством/пояснениями"},null,null,null,{"$f":"INDEX(Backbone!$S$2:$S$893,MATCH(I24,Backbone!$A$2:$A$893,0))","v":"«Единое здоровье»; универсальный"},null,null,null,{"$f":"INDEX(Backbone!$H$2:$H$893,MATCH(I24,Backbone!$A$2:$A$893,0))","v":8.3000000000000007},null,{"$f":"INDEX(Backbone!$I$2:$I$893,MATCH(I24,Backbone!$A$2:$A$893,0))","v":6},null,{"$f":"INDEX(Backbone!$J$2:$J$893,MATCH(I24,Backbone!$A$2:$A$893,0))","v":8.5},null,{"$f":"INDEX(Backbone!$K$1:$K$893,MATCH(I24,Backbone!$A$1:$A$893,0))","v":7.8},null,{"$f":"INDEX(Backbone!$L$2:$L$893,MATCH(I24,Backbone!$A$2:$A$893,0))","v":8.3000000000000007},null,{"$f":"INDEX(Backbone!$M$2:$M$893,MATCH(I24,Backbone!$A$2:$A$893,0))","v":6.7},null,{"$f":"INDEX(Backbone!$N$2:$N$893,MATCH(I24,Backbone!$A$2:$A$893,0))","v":3.3},null,{"$f":"INDEX(Backbone!$O$2:$O$893,MATCH(I24,Backbone!$A$2:$A$893,0))","v":9.1},null,{"$f":"INDEX(Backbone!$P$2:$P$893,MATCH(I24,Backbone!$A$2:$A$893,0))","v":4.7},null,{"$f":"INDEX(Backbone!$Q$2:$Q$893,MATCH(I24,Backbone!$A$2:$A$893,0))","v":0.69666666666666677},null,null,{"$f":"(AG24*$AG$22+AI24*$AI$22+AK24*$AK$22+AM24*$AM$22+AO24*$AO$22+AQ24*$AQ$22+AS24*$AS$22+AU24*$AU$22+AW24*$AW$22)/(SUM($AG$22:$AW$22)*10)","v":{"$error":"#DIV/0!"}},null,null,"Перейти в Реестр ресурсов: ",null,{"$f":"HYPERLINK(\"#\"&ADDRESS(MATCH(I24,Toolbox!$C$1:$C$300),1,,,\"Toolbox\"),VLOOKUP(I24,Toolbox!$C$1:$C$300,1,FALSE))","v":"Оценка сотрудничества в рамках межотраслевой системы эпиднадзора (ECoSur)"}]
[]
[]
[]
[]
[]
[null,null,null,null,null,null,null,null,"Комплексная система эпиднадзора и мер реагирования (IDSR)",null,null,null,null,null,null,"Стратегия, разработанная с целью укрепить потенциал стран для выявления и подтверждения предполагаемых случаев заболевания и вспышек и реагирования на них, а также для использования информации для прогнозирования событий в области общественного здравоохранения и планирования мер реагирования на них. ",null,null,null,null,null,null,null,null,{"$f":"INDEX(Backbone!$R$2:$R$893,MATCH(I30,Backbone!$A$2:$A$893,0))","v":"Руководящий документ"},null,null,null,{"$f":"INDEX(Backbone!$S$2:$S$893,MATCH(I30,Backbone!$A$2:$A$893,0))","v":"Ориентированный на конкретный сектор; универсальный"},null,null,null,{"$f":"INDEX(Backbone!$H$2:$H$893,MATCH(I30,Backbone!$A$2:$A$893,0))","v":7.4},null,{"$f":"INDEX(Backbone!$I$2:$I$893,MATCH(I30,Backbone!$A$2:$A$893,0))","v":10},null,{"$f":"INDEX(Backbone!$J$2:$J$893,MATCH(I30,Backbone!$A$2:$A$893,0))","v":7.4},null,{"$f":"INDEX(Backbone!$K$1:$K$893,MATCH(I30,Backbone!$A$1:$A$893,0))","v":8.6999999999999993},null,{"$f":"INDEX(Backbone!$L$2:$L$893,MATCH(I30,Backbone!$A$2:$A$893,0))","v":6.7},null,{"$f":"INDEX(Backbone!$M$2:$M$893,MATCH(I30,Backbone!$A$2:$A$893,0))","v":4.5},null,{"$f":"INDEX(Backbone!$N$2:$N$893,MATCH(I30,Backbone!$A$2:$A$893,0))","v":8},null,{"$f":"INDEX(Backbone!$O$2:$O$893,MATCH(I30,Backbone!$A$2:$A$893,0))","v":7.2},null,{"$f":"INDEX(Backbone!$P$2:$P$893,MATCH(I30,Backbone!$A$2:$A$893,0))","v":8.5},null,{"$f":"INDEX(Backbone!$Q$2:$Q$893,MATCH(I30,Backbone!$A$2:$A$893,0))","v":0.76},null,null,{"$f":"(AG30*$AG$22+AI30*$AI$22+AK30*$AK$22+AM30*$AM$22+AO30*$AO$22+AQ30*$AQ$22+AS30*$AS$22+AU30*$AU$22+AW30*$AW$22)/(SUM($AG$22:$AW$22)*10)","v":{"$error":"#DIV/0!"}},null,null,"Перейти в Реестр ресурсов: ",null,{"$f":"HYPERLINK(\"#\"&ADDRESS(MATCH(I30,Toolbox!$C$1:$C$300),1,,,\"Toolbox\"),VLOOKUP(I30,Toolbox!$C$1:$C$300,1,FALSE))","v":"Комплексная система эпиднадзора и мер реагирования (IDSR)"}]
[]
[]
[]
[]
[]
[null,null,null,null,null,null,null,null,{"$f":"Backbone!A291","v":"Методология для анализа законодательства, относящегося к УПП, в продовольственном и сельскохозяйственном секторе"},null,null,null,null,null,null,"Методология, предназначенная для проведения анализов государственного законодательства, относящегося к УПП в продовольственном и сельскохозяйственном секторах.",null,null,null,null,null,null,null,null,{"$f":"INDEX(Backbone!$R$2:$R$893,MATCH(I36,Backbone!$A$2:$A$893,0))","v":"Руководящий документ"},null,null,null,{"$f":"INDEX(Backbone!$S$2:$S$893,MATCH(I36,Backbone!$A$2:$A$893,0))","v":"«Единое здоровье»; универсальный"},null,null,null,{"$f":"INDEX(Backbone!$H$2:$H$893,MATCH(I36,Backbone!$A$2:$A$893,0))","v":7.4},null,{"$f":"INDEX(Backbone!$I$2:$I$893,MATCH(I36,Backbone!$A$2:$A$893,0))","v":5.5},null,{"$f":"INDEX(Backbone!$J$2:$J$893,MATCH(I36,Backbone!$A$2:$A$893,0))","v":7.6},null,{"$f":"INDEX(Backbone!$K$1:$K$893,MATCH(I36,Backbone!$A$1:$A$893,0))","v":4},null,{"$f":"INDEX(Backbone!$L$2:$L$893,MATCH(I36,Backbone!$A$2:$A$893,0))","v":8.1999999999999993},null,{"$f":"INDEX(Backbone!$M$2:$M$893,MATCH(I36,Backbone!$A$2:$A$893,0))","v":4.5},null,{"$f":"INDEX(Backbone!$N$2:$N$893,MATCH(I36,Backbone!$A$2:$A$893,0))","v":4.5},null,{"$f":"INDEX(Backbone!$O$2:$O$893,MATCH(I36,Backbone!$A$2:$A$893,0))","v":6.6},null,{"$f":"INDEX(Backbone!$P$2:$P$893,MATCH(I36,Backbone!$A$2:$A$893,0))","v":4.5},null,{"$f":"INDEX(Backbone!$Q$2:$Q$893,MATCH(I36,Backbone!$A$2:$A$893,0))","v":0.58666666666666667},null,null,{"$f":"(AG36*$AG$22+AI36*$AI$22+AK36*$AK$22+AM36*$AM$22+AO36*$AO$22+AQ36*$AQ$22+AS36*$AS$22+AU36*$AU$22+AW36*$AW$22)/(SUM($AG$22:$AW$22)*10)","v":{"$error":"#DIV/0!"}},null,null,"Перейти в Реестр ресурсов: ",null,{"$f":"HYPERLINK(\"#\"&ADDRESS(MATCH(I36,Toolbox!$C$1:$C$300),1,,,\"Toolbox\"),VLOOKUP(I36,Toolbox!$C$1:$C$300,1,FALSE))","v":"Методология для анализа законодательства, относящегося к УПП, в продовольственном и сельскохозяйственном секторе"}]
[]
[]
[]
[]
[]
[null,null,null,null,null,null,null,null,{"$f":"Backbone!A437","v":"Анализ политического поля (PFA)"},null,null,null,null,null,null,"Специализированное картирование заинтересованных сторон, позволяющее визуализировать систему организаций и взаимодействие между ними по конкретному вопросу политики.",null,null,null,null,null,null,null,null,{"$f":"INDEX(Backbone!$R$2:$R$893,MATCH(I42,Backbone!$A$2:$A$893,0))","v":"Руководящий документ"},null,null,null,{"$f":"INDEX(Backbone!$S$2:$S$893,MATCH(I42,Backbone!$A$2:$A$893,0))","v":"«Единое здоровье»; универсальный"},null,null,null,{"$f":"INDEX(Backbone!$H$2:$H$893,MATCH(I42,Backbone!$A$2:$A$893,0))","v":7.8},null,{"$f":"INDEX(Backbone!$I$2:$I$893,MATCH(I42,Backbone!$A$2:$A$893,0))","v":8},null,{"$f":"INDEX(Backbone!$J$2:$J$893,MATCH(I42,Backbone!$A$2:$A$893,0))","v":9.8000000000000007},null,{"$f":"INDEX(Backbone!$K$1:$K$893,MATCH(I42,Backbone!$A$1:$A$893,0))","v":10},null,{"$f":"INDEX(Backbone!$L$2:$L$893,MATCH(I42,Backbone!$A$2:$A$893,0))","v":7.1},null,{"$f":"INDEX(Backbone!$M$2:$M$893,MATCH(I42,Backbone!$A$2:$A$893,0))","v":4},null,{"$f":"INDEX(Backbone!$N$2:$N$893,MATCH(I42,Backbone!$A$2:$A$893,0))","v":7},null,{"$f":"INDEX(Backbone!$O$2:$O$893,MATCH(I42,Backbone!$A$2:$A$893,0))","v":8.8000000000000007},null,{"$f":"INDEX(Backbone!$P$2:$P$893,MATCH(I42,Backbone!$A$2:$A$893,0))","v":5},null,{"$f":"INDEX(Backbone!$Q$2:$Q$893,MATCH(I42,Backbone!$A$2:$A$893,0))","v":0.75},null,null,{"$f":"(AG42*$AG$22+AI42*$AI$22+AK42*$AK$22+AM42*$AM$22+AO42*$AO$22+AQ42*$AQ$22+AS42*$AS$22+AU42*$AU$22+AW42*$AW$22)/(SUM($AG$22:$AW$22)*10)","v":{"$error":"#DIV/0!"}},null,null,"Перейти в Реестр ресурсов: ",null,{"$f":"HYPERLINK(\"#\"&ADDRESS(MATCH(I42,Toolbox!$C$1:$C$300),1,,,\"Toolbox\"),VLOOKUP(I42,Toolbox!$C$1:$C$300,1,FALSE))","v":"Анализ политического поля (PFA)"}]
[]
[]
[]
[]
[]
[null,null,null,null,null,null,null,null,{"$f":"Backbone!A453","v":"Поэтапный подход к ликвидации бешенства (SARE)"},null,null,null,null,null,null,"Рабочий инструмент планирования, мониторинга и оценки для реализации, разработки и доработки программ борьбы с бешенством.",null,null,null,null,null,null,null,null,{"$f":"INDEX(Backbone!$R$2:$R$893,MATCH(I48,Backbone!$A$2:$A$893,0))","v":"Инструмент самооценки"},null,null,null,{"$f":"INDEX(Backbone!$S$2:$S$893,MATCH(I48,Backbone!$A$2:$A$893,0))","v":"«Единое здоровье»; ориентированный на конкретную болезнь/угрозу "},null,null,null,{"$f":"INDEX(Backbone!$H$2:$H$893,MATCH(I48,Backbone!$A$2:$A$893,0))","v":8},null,{"$f":"INDEX(Backbone!$I$2:$I$893,MATCH(I48,Backbone!$A$2:$A$893,0))","v":9},null,{"$f":"INDEX(Backbone!$J$2:$J$893,MATCH(I48,Backbone!$A$2:$A$893,0))","v":6.6},null,{"$f":"INDEX(Backbone!$K$1:$K$893,MATCH(I48,Backbone!$A$1:$A$893,0))","v":3.3},null,{"$f":"INDEX(Backbone!$L$2:$L$893,MATCH(I48,Backbone!$A$2:$A$893,0))","v":5.7},null,{"$f":"INDEX(Backbone!$M$2:$M$893,MATCH(I48,Backbone!$A$2:$A$893,0))","v":6.8},null,{"$f":"INDEX(Backbone!$N$2:$N$893,MATCH(I48,Backbone!$A$2:$A$893,0))","v":8},null,{"$f":"INDEX(Backbone!$O$2:$O$893,MATCH(I48,Backbone!$A$2:$A$893,0))","v":8.6},null,{"$f":"INDEX(Backbone!$P$2:$P$893,MATCH(I48,Backbone!$A$2:$A$893,0))","v":9.5},null,{"$f":"INDEX(Backbone!$Q$2:$Q$893,MATCH(I48,Backbone!$A$2:$A$893,0))","v":0.72777777777777775},null,null,{"$f":"(AG48*$AG$22+AI48*$AI$22+AK48*$AK$22+AM48*$AM$22+AO48*$AO$22+AQ48*$AQ$22+AS48*$AS$22+AU48*$AU$22+AW48*$AW$22)/(SUM($AG$22:$AW$22)*10)","v":{"$error":"#DIV/0!"}},null,null,"Перейти в Реестр ресурсов: ",null,{"$f":"HYPERLINK(\"#\"&ADDRESS(MATCH(I48,Toolbox!$C$1:$C$300),1,,,\"Toolbox\"),VLOOKUP(I48,Toolbox!$C$1:$C$300,1,FALSE))","v":"Поэтапный подход к ликвидации бешенства (SARE)"}]
[]
[]
[]
[]
[]
[]
[]
[]
[]
[]
[]
[]
[]
[]
[]
[]
[]
[]
[]
[]
[]
[]
[]
[]
[null,null,null,null,null,null,null,null,null,null,null,null,null,null,null,null,null,null,null,null,null,null,null,null,null,null,null,null,null,null,null,null,"Доступность",null,"Язык",null,"Простота использования",null,"Гибкость",null,"Потребности в данных",null,"Анализ данных",null,"Приемлемость",null,"«Единое здоровье»",null,"Воздействие"]
[]
[]
[]
[]
[]
[]
[null,null,null,null,null,null,null,null,null,null,null,null,null,null,null,null,null,null,null,null,null,null,null,null,null,null,null,null,null,null,null,null,null,null,null,null,null,null,null,null,null,null,null,null,null,null,null,null,null,null,"ИСХОДНАЯ ОЦЕНКА",null,null,"СКОРРЕКТИРОВАННАЯ ОЦЕНКА \n(Исходя из предпочтений пользователей)"]
[null,"РЕСУРСЫ УРОВНЯ 2"]
[]
[]
[null,null,null,"КЛАССИФИКАЦИЯ",null,null,null,null,"НАЗВАНИЕ РЕСУРСА",null,null,null,null,null,null,"КРАТКОЕ ОПИСАНИЕ",null,null,null,null,null,null,null,null,"ВИД РЕСУРСА",null,null,null,"ОБЩАЯ НАПРАВЛЕННОСТЬ РЕСУРСА"]
[]
[]
[]
[null,null,null,null,null,null,null,null,null,null,null,null,null,null,null,null,null,null,null,null,null,null,null,null,null,null,null,null,null,null,null,null,{"$f":"'Attribute Survey'!S130","v":0},null,{"$f":"'Attribute Survey'!S134","v":0},null,{"$f":"'Attribute Survey'!S138","v":0},null,{"$f":"'Attribute Survey'!S142","v":0},null,{"$f":"'Attribute Survey'!S146","v":0},null,{"$f":"'Attribute Survey'!S150","v":0},null,{"$f":"'Attribute Survey'!S154","v":0},null,{"$f":"'Attribute Survey'!S158","v":0},null,{"$f":"'Attribute Survey'!S162","v":0}]
[null,null,null,"Наиболее подходящие ресурсы",null,null,null,null,{"$f":"Backbone!A683","v":"Инструментарий для пропаганды политики «Единое здоровье»"},null,null,null,null,null,null,"Настоящий инструментарий позволяет заинтересованным сторонам ЕЗ разрабатывать и внедрять стратегию пропаганды политики «Единое здоровье». ",null,null,null,null,null,null,null,null,{"$f":"INDEX(Backbone!$R2:$R893,MATCH(I89,Backbone!$A2:$A893,0))","v":"Руководящий документ"},null,null,null,{"$f":"INDEX(Backbone!S2:S893,MATCH(I89,Backbone!A2:A893,0))","v":"«Единое здоровье»; универсальный"},null,null,null,{"$f":"INDEX(Backbone!H2:H893,MATCH(I89,Backbone!A2:A893,0))","v":8.4},null,{"$f":"INDEX(Backbone!I2:I893,MATCH(I89,Backbone!A2:A893,0))","v":8},null,{"$f":"INDEX(Backbone!J2:J893,MATCH(I89,Backbone!A2:A893,0))","v":8.4},null,{"$f":"INDEX(Backbone!K2:K893,MATCH(I89,Backbone!A2:A893,0))","v":6.7},null,{"$f":"INDEX(Backbone!L2:L893,MATCH(I89,Backbone!A2:A893,0))","v":2},null,{"$f":"INDEX(Backbone!M2:M893,MATCH(I89,Backbone!A2:A893,0))","v":3.5},null,{"$f":"INDEX(Backbone!N2:N893,MATCH(I89,Backbone!A2:A893,0))","v":4},null,{"$f":"INDEX(Backbone!O2:O893,MATCH(I89,Backbone!A2:A893,0))","v":6.4},null,{"$f":"INDEX(Backbone!P2:P893,MATCH(I89,Backbone!A2:A893,0))","v":8},null,{"$f":"INDEX(Backbone!Q2:Q893,MATCH(I89,Backbone!A2:A893,0))","v":0.61555555555555552},null,null,{"$f":"(AG89*$AG$22+AI89*$AI$22+AK89*$AK$22+AM89*$AM$22+AO89*$AO$22+AQ89*$AQ$22+AS89*$AS$22+AU89*$AU$22+AW89*$AW$22)/(SUM($AG$22:$AW$22)*10)","v":{"$error":"#DIV/0!"}},null,null,"Перейти в Реестр ресурсов: ",null,{"$f":"HYPERLINK(\"#\"&ADDRESS(MATCH(I89,Toolbox!$C$1:$C$300),1,,,\"Toolbox\"),VLOOKUP(I89,Toolbox!$C$1:$C$300,1,FALSE))","v":"Инструментарий для пропаганды политики «Единое здоровье»"}]
[]
[]
[]
[]
[]
[]
[null,null,null,"Другие полезные ресурсы",null,null,null,null,{"$f":"Backbone!A332","v":"Сеть для оценки мероприятий на основе концепции «Единое здоровье» (NEOH)"},null,null,null,null,null,null,"Инструмент на базе Excel для оценки приверженности системы эпиднадзора принципу «Единое здоровье» (или степень применения подхода «Единое здоровье», ЕЗ). ",null,null,null,null,null,null,null,null,{"$f":"INDEX(Backbone!$R$2:$R$893,MATCH(I96,Backbone!$A$2:$A$893,0))","v":"Руководящий документ"},null,null,null,{"$f":"INDEX(Backbone!$S$2:$S$893,MATCH(I96,Backbone!$A$2:$A$893,0))","v":"«Единое здоровье»; универсальный"},null,null,null,{"$f":"INDEX(Backbone!$H$2:$H$893,MATCH(I96,Backbone!$A$2:$A$893,0))","v":8.3000000000000007},null,{"$f":"INDEX(Backbone!$I$2:$I$893,MATCH(I96,Backbone!$A$2:$A$893,0))","v":7.7},null,{"$f":"INDEX(Backbone!$J$2:$J$893,MATCH(I96,Backbone!$A$2:$A$893,0))","v":5.3},null,{"$f":"INDEX(Backbone!$K$1:$K$893,MATCH(I96,Backbone!$A$1:$A$893,0))","v":8.9},null,{"$f":"INDEX(Backbone!$L$2:$L$893,MATCH(I96,Backbone!$A$2:$A$893,0))","v":7.8},null,{"$f":"INDEX(Backbone!$M$2:$M$893,MATCH(I96,Backbone!$A$2:$A$893,0))","v":4.7},null,{"$f":"INDEX(Backbone!$N$2:$N$893,MATCH(I96,Backbone!$A$2:$A$893,0))","v":5.3},null,{"$f":"INDEX(Backbone!$O$2:$O$893,MATCH(I96,Backbone!$A$2:$A$893,0))","v":8},null,{"$f":"INDEX(Backbone!$P$2:$P$893,MATCH(I96,Backbone!$A$2:$A$893,0))","v":5.3},null,{"$f":"INDEX(Backbone!$Q$2:$Q$893,MATCH(I96,Backbone!$A$2:$A$893,0))","v":0.68111111111111111},null,null,{"$f":"(AG96*$AG$22+AI96*$AI$22+AK96*$AK$22+AM96*$AM$22+AO96*$AO$22+AQ96*$AQ$22+AS96*$AS$22+AU96*$AU$22+AW96*$AW$22)/(SUM($AG$22:$AW$22)*10)","v":{"$error":"#DIV/0!"}},null,null,"Перейти в Реестр ресурсов: ",null,{"$f":"HYPERLINK(\"#\"&ADDRESS(MATCH(I96,Toolbox!$C$1:$C$300),1,,,\"Toolbox\"),VLOOKUP(I96,Toolbox!$C$1:$C$300,1,FALSE))","v":"Сеть для оценки мероприятий на основе концепции «Единое здоровье» (NEOH)"}]
[]
[]
[]
[]
[]
[null,null,null,null,null,null,null,null,{"$f":"Backbone!A685","v":"Инструментарий для моделирования политики «Единое здоровье»"},null,null,null,null,null,null,"Настоящий инструментарий позволяет ответственным лицам понять характер и масштаб того, как изменения в поголовье скота и популяции человека могут повлиять на здоровье животных, людей и окружающей среды, а также предлагает им некоторые варианты политики.",null,null,null,null,null,null,null,null,{"$f":"INDEX(Backbone!$R$2:$R$893,MATCH(I102,Backbone!$A$2:$A$893,0))","v":"Руководящий документ"},null,null,null,{"$f":"INDEX(Backbone!$S$2:$S$893,MATCH(I102,Backbone!$A$2:$A$893,0))","v":"«Единое здоровье»; универсальный"},null,null,null,{"$f":"INDEX(Backbone!$H$2:$H$893,MATCH(I102,Backbone!$A$2:$A$893,0))","v":8.4},null,{"$f":"INDEX(Backbone!$I$2:$I$893,MATCH(I102,Backbone!$A$2:$A$893,0))","v":8},null,{"$f":"INDEX(Backbone!$J$2:$J$893,MATCH(I102,Backbone!$A$2:$A$893,0))","v":8.4},null,{"$f":"INDEX(Backbone!$K$1:$K$893,MATCH(I102,Backbone!$A$1:$A$893,0))","v":6.7},null,{"$f":"INDEX(Backbone!$L$2:$L$893,MATCH(I102,Backbone!$A$2:$A$893,0))","v":2},null,{"$f":"INDEX(Backbone!$M$2:$M$893,MATCH(I102,Backbone!$A$2:$A$893,0))","v":3.5},null,{"$f":"INDEX(Backbone!$N$2:$N$893,MATCH(I102,Backbone!$A$2:$A$893,0))","v":4},null,{"$f":"INDEX(Backbone!$O$2:$O$893,MATCH(I102,Backbone!$A$2:$A$893,0))","v":6.4},null,{"$f":"INDEX(Backbone!$P$2:$P$893,MATCH(I102,Backbone!$A$2:$A$893,0))","v":8},null,{"$f":"INDEX(Backbone!$Q$2:$Q$893,MATCH(I102,Backbone!$A$2:$A$893,0))","v":0.61555555555555552},null,null,{"$f":"(AG102*$AG$22+AI102*$AI$22+AK102*$AK$22+AM102*$AM$22+AO102*$AO$22+AQ102*$AQ$22+AS102*$AS$22+AU102*$AU$22+AW102*$AW$22)/(SUM($AG$22:$AW$22)*10)","v":{"$error":"#DIV/0!"}},null,null,"Перейти в Реестр ресурсов: ",null,{"$f":"HYPERLINK(\"#\"&ADDRESS(MATCH(I102,Toolbox!$C$1:$C$300),1,,,\"Toolbox\"),VLOOKUP(I102,Toolbox!$C$1:$C$300,1,FALSE))","v":"Инструментарий для моделирования политики «Единое здоровье»"}]
[]
[]
[]
[]
[]
[]
[]
[]
[]
[]
[]
[]
[]
[]
[]
[]
[]
[]
[]
[]
[]
[]
[null,null,null,null,null,null,null,null,null,null,null,null,null,null,null,null,null,null,null,null,null,null,null,null,null,null,null,null,null,null,null,null,"Доступность",null,"Язык",null,"Простота использования",null,"Гибкость",null,"Потребности в данных",null,"Анализ данных",null,"Приемлемость",null,"«Единое здоровье»",null,"Воздействие"]
[]
[]
[]
[]
[]
[]
[null,"РЕСУРСЫ УРОВНЯ 3",null,null,null,null,null,null,null,null,null,null,null,null,null,null,null,null,null,null,null,null,null,null,null,null,null,null,null,null,null,null,null,null,null,null,null,null,null,null,null,null,null,null,null,null,null,null,null,null,"ИСХОДНАЯ ОЦЕНКА",null,null,"СКОРРЕКТИРОВАННАЯ ОЦЕНКА \n(Исходя из предпочтений пользователей)"]
[]
[]
[]
[null,null,null,"КЛАССИФИКАЦИЯ",null,null,null,null,"НАЗВАНИЕ РЕСУРСА",null,null,null,null,null,null,"КРАТКОЕ ОПИСАНИЕ",null,null,null,null,null,null,null,null,"ВИД РЕСУРСА",null,null,null,"ОБЩАЯ НАПРАВЛЕННОСТЬ РЕСУРСА"]
[]
[]
[]
[null,null,null,null,null,null,null,null,null,null,null,null,null,null,null,null,null,null,null,null,null,null,null,null,null,null,null,null,null,null,null,null,{"$f":"'Attribute Survey'!S231","v":0},null,{"$f":"'Attribute Survey'!S235","v":0},null,{"$f":"'Attribute Survey'!S239","v":0},null,{"$f":"'Attribute Survey'!S243","v":0},null,{"$f":"'Attribute Survey'!S247","v":0},null,{"$f":"'Attribute Survey'!S251","v":0},null,{"$f":"'Attribute Survey'!S255","v":0},null,{"$f":"'Attribute Survey'!S259","v":0},null,{"$f":"'Attribute Survey'!S263","v":0}]
[null,null,null,"Наиболее подходящие ресурсы",null,null,null,null,{"$f":"Backbone!A683","v":"Инструментарий для пропаганды политики «Единое здоровье»"},null,null,null,null,null,null,"Настоящий инструментарий позволяет заинтересованным сторонам ЕЗ разрабатывать и внедрять стратегию пропаганды политики «Единое здоровье» ",null,null,null,null,null,null,null,null,{"$f":"INDEX(Backbone!$R$2:$R$893,MATCH(I141,Backbone!$A$2:$A$893,0))","v":"Руководящий документ"},null,null,null,{"$f":"INDEX(Backbone!$S$2:$S$893,MATCH(I141,Backbone!$A$2:$A$893,0))","v":"«Единое здоровье»; универсальный"},null,null,null,{"$f":"INDEX(Backbone!$H$2:$H$893,MATCH(I141,Backbone!$A$2:$A$893,0))","v":8.4},null,{"$f":"INDEX(Backbone!$I$2:$I$893,MATCH(I141,Backbone!$A$2:$A$893,0))","v":8},null,{"$f":"INDEX(Backbone!$J$2:$J$893,MATCH(I141,Backbone!$A$2:$A$893,0))","v":8.4},null,{"$f":"INDEX(Backbone!$K$2:$K$893,MATCH(I141,Backbone!$A$2:$A$893,0))","v":6.7},null,{"$f":"INDEX(Backbone!$L$2:$L$893,MATCH(I141,Backbone!$A$2:$A$893,0))","v":2},null,{"$f":"INDEX(Backbone!$M$2:$M$893,MATCH(I141,Backbone!$A$2:$A$893,0))","v":3.5},null,{"$f":"INDEX(Backbone!$N$2:$N$893,MATCH(I141,Backbone!$A$2:$A$893,0))","v":4},null,{"$f":"INDEX(Backbone!$O$2:$O$893,MATCH(I141,Backbone!$A$2:$A$893,0))","v":6.4},null,{"$f":"INDEX(Backbone!$P$2:$P$893,MATCH(I141,Backbone!$A$2:$A$893,0))","v":8},null,{"$f":"INDEX(Backbone!$Q$2:$Q$893,MATCH(I141,Backbone!$A$2:$A$893,0))","v":0.61555555555555552},null,null,{"$f":"(AG141*$AG$22+AI141*$AI$22+AK141*$AK$22+AM141*$AM$22+AO141*$AO$22+AQ141*$AQ$22+AS141*$AS$22+AU141*$AU$22+AW141*$AW$22)/(SUM($AG$22:$AW$22)*10)","v":{"$error":"#DIV/0!"}},null,null,"Перейти в Реестр ресурсов: ",null,{"$f":"HYPERLINK(\"#\"&ADDRESS(MATCH(I141,Toolbox!$C$1:$C$300),1,,,\"Toolbox\"),VLOOKUP(I141,Toolbox!$C$1:$C$300,1,FALSE))","v":"Инструментарий для пропаганды политики «Единое здоровье»"}]
[]
[]
[]
[]
[]
[]
[null,null,null,"Другие полезные ресурсы",null,null,null,null,{"$f":"Backbone!A303","v":"Национальный план действий по обеспечению безопасности в области здравоохранения (NAPHS)"},null,null,null,null,null,null,"Инструмент, предназначенный для оценки организации и функционирования взаимодействия в системе межотраслевого эпиднадзора и для анализа сильных и слабых сторон такого взаимодействия. ",null,null,null,null,null,null,null,null,{"$f":"INDEX(Backbone!$R$2:$R$893,MATCH(I148,Backbone!$A$2:$A$893,0))","v":"Руководящий документ"},null,null,null,{"$f":"INDEX(Backbone!$S$2:$S$893,MATCH(I148,Backbone!$A$2:$A$893,0))","v":"«Единое здоровье»; универсальный"},null,null,null,{"$f":"INDEX(Backbone!$H$2:$H$893,MATCH(I148,Backbone!$A$2:$A$893,0))","v":8},null,{"$f":"INDEX(Backbone!$I$2:$I$893,MATCH(I148,Backbone!$A$2:$A$893,0))","v":9},null,{"$f":"INDEX(Backbone!$J$2:$J$893,MATCH(I148,Backbone!$A$2:$A$893,0))","v":7.8},null,{"$f":"INDEX(Backbone!$K$1:$K$893,MATCH(I148,Backbone!$A$1:$A$893,0))","v":10},null,{"$f":"INDEX(Backbone!$L$2:$L$893,MATCH(I148,Backbone!$A$2:$A$893,0))","v":8},null,{"$f":"INDEX(Backbone!$M$2:$M$893,MATCH(I148,Backbone!$A$2:$A$893,0))","v":4.5},null,{"$f":"INDEX(Backbone!$N$2:$N$893,MATCH(I148,Backbone!$A$2:$A$893,0))","v":10},null,{"$f":"INDEX(Backbone!$O$2:$O$893,MATCH(I148,Backbone!$A$2:$A$893,0))","v":10},null,{"$f":"INDEX(Backbone!$P$2:$P$893,MATCH(I148,Backbone!$A$2:$A$893,0))","v":10},null,{"$f":"INDEX(Backbone!$Q$2:$Q$893,MATCH(I148,Backbone!$A$2:$A$893,0))","v":0.85888888888888881},null,null,{"$f":"(AG148*$AG$22+AI148*$AI$22+AK148*$AK$22+AM148*$AM$22+AO148*$AO$22+AQ148*$AQ$22+AS148*$AS$22+AU148*$AU$22+AW148*$AW$22)/(SUM($AG$22:$AW$22)*10)","v":{"$error":"#DIV/0!"}},null,null,"Перейти в Реестр ресурсов: ",null,{"$f":"HYPERLINK(\"#\"&ADDRESS(MATCH(I148,Toolbox!$C$1:$C$300),1,,,\"Toolbox\"),VLOOKUP(I148,Toolbox!$C$1:$C$300,1,FALSE))","v":"Национальный план действий по обеспечению безопасности в области здравоохранения (NAPHS)"}]

{"sheet":"P2_tools","index":39,"n_rows":135,"n_cols":59,"rows_kept":135,"cut":false,"hidden":false,"merged":[[40,53,44,54],[22,3,44,6],[17,1,44,1],[67,1,89,1],[40,36,44,36],[40,38,44,38],[40,40,44,40],[40,42,44,42],[40,44,44,44],[40,46,44,46],[75,44,79,44],[75,46,79,46],[75,48,79,48],[75,50,79,51],[75,53,79,54],[81,15,85,22],[81,24,85,26],[81,28,85,30],[81,32,85,32],[75,32,79,32],[75,34,79,34],[75,36,79,36],[75,38,79,38],[75,40,79,40],[134,50,138,51],[134,53,138,54],[40,8,44,13],[40,15,44,22],[40,24,44,26],[40,28,44,30],[40,32,44,32],[40,34,44,34],[134,34,138,34],[134,36,138,36],[134,38,138,38],[134,40,138,40],[134,42,138,42],[134,44,138,44],[128,44,132,44],[128,46,132,46],[128,48,132,48],[128,50,132,51],[128,53,132,54],[134,8,138,13],[134,15,138,22],[134,24,138,26],[40,48,44,48],[40,50,44,51],[121,50,125,51],[121,53,125,54],[128,3,138,6],[128,8,132,13],[128,15,132,22],[128,24,132,26],[128,28,132,30],[121,32,125,32],[121,34,125,34],[121,36,125,36],[121,38,125,38],[121,40,125,40],[121,42,125,42],[134,28,138,30],[134,32,138,32],[128,32,132,32],[128,34,132,34],[128,36,132,36],[128,38,132,38],[128,40,132,40],[128,42,132,42],[121,44,125,44],[134,46,138,46],[134,48,138,48],[115,28,118,30],[120,3,125,6],[121,8,125,13],[121,15,125,22],[121,24,125,26],[121,28,125,30],[104,44,118,44],[104,46,118,46],[104,48,118,48],[121,46,125,46],[121,48,125,48],[111,50,118,51],[111,53,118,54],[115,1,138,1],[115,3,118,6],[115,8,118,13],[115,15,118,22],[115,24,118,26],[81,46,85,46],[81,48,85,48],[81,50,85,51],[81,53,85,54],[104,32,118,32],[104,34,118,34],[104,36,118,36],[104,38,118,38],[104,40,118,40],[104,42,118,42],[81,34,85,34],[81,36,85,36],[81,38,85,38],[81,40,85,40],[81,42,85,42],[81,44,85,44],[81,8,85,13],[75,42,79,42],[75,3,85,6],[75,8,79,13],[75,15,79,22],[75,24,79,26],[75,28,79,30],[70,28,73,30],[59,44,73,44],[59,46,73,46],[59,48,73,48],[66,50,73,51],[66,53,73,54],[70,3,73,6],[70,8,73,13],[70,15,73,22],[70,24,73,26],[59,32,73,32],[59,34,73,34],[59,36,73,36],[59,38,73,38],[59,40,73,40],[59,42,73,42],[34,42,38,42],[34,44,38,44],[34,46,38,46],[34,48,38,48],[34,50,38,51],[34,53,38,54],[28,53,32,54],[34,8,38,13],[34,15,38,22],[34,24,38,26],[34,28,38,30],[34,32,38,32],[34,34,38,34],[34,36,38,36],[34,38,38,38],[34,40,38,40],[28,40,32,40],[28,42,32,42],[28,44,32,44],[28,46,32,46],[28,48,32,48],[28,50,32,51],[1,1,3,62],[22,50,26,51],[22,53,26,54],[28,8,32,13],[28,15,32,22],[28,24,32,26],[28,28,32,30],[28,32,32,32],[28,34,32,34],[28,36,32,36],[28,38,32,38],[22,38,26,38],[22,40,26,40],[22,42,26,42],[22,44,26,44],[22,46,26,46],[22,48,26,48],[22,8,26,13],[22,15,26,22],[22,24,26,26],[22,28,26,30],[22,32,26,32],[22,34,26,34],[22,36,26,36],[13,50,20,51],[13,53,20,54],[17,3,20,6],[17,8,20,13],[17,15,20,22],[17,24,20,26],[17,28,20,30],[6,32,20,32],[6,34,20,34],[6,36,20,36],[6,38,20,38],[6,40,20,40],[6,42,20,42],[6,44,20,44],[6,46,20,46],[6,48,20,48],[81,56,85,57],[81,58,85,62],[121,56,125,57],[121,58,125,62],[128,56,132,57],[128,58,132,62],[134,56,138,57],[134,58,138,62],[22,56,26,57],[22,58,26,62],[28,56,32,57],[28,58,32,62],[34,56,38,57],[34,58,38,62],[40,56,44,57],[40,58,44,62],[75,56,79,57],[75,58,79,62]]}
[]
[null,"Ресурсы по общим элементам данных"]
[]
[]
[]
[]
[null,null,null,null,null,null,null,null,null,null,null,null,null,null,null,null,null,null,null,null,null,null,null,null,null,null,null,null,null,null,null,null,"Доступность",null,"Язык",null,"Простота использования",null,"Гибкость",null,"Потребности в данных",null,"Анализ данных",null,"Приемлемость",null,"«Единое здоровье»",null,"Воздействие"]
[]
[]
[]
[]
[]
[]
[null,null,null,null,null,null,null,null,null,null,null,null,null,null,null,null,null,null,null,null,null,null,null,null,null,null,null,null,null,null,null,null,null,null,null,null,null,null,null,null,null,null,null,null,null,null,null,null,null,null,"ИСХОДНАЯ ОЦЕНКА",null,null,"СКОРРЕКТИРОВАННАЯ ОЦЕНКА \n(Исходя из предпочтений пользователей)"]
[]
[]
[]
[null,"РЕСУРСЫ УРОВНЯ 1",null,"КЛАССИФИКАЦИЯ",null,null,null,null,"НАЗВАНИЕ РЕСУРСА",null,null,null,null,null,null,"КРАТКОЕ ОПИСАНИЕ",null,null,null,null,null,null,null,null,"ВИД РЕСУРСА",null,null,null,"ОБЩАЯ НАПРАВЛЕННОСТЬ РЕСУРСА"]
[]
[]
[]
[null,null,null,null,null,null,null,null,null,null,null,null,null,null,null,null,null,null,null,null,null,null,null,null,null,null,null,null,null,null,null,null,{"$f":"'Attribute Survey'!S22","v":0},null,{"$f":"'Attribute Survey'!S26","v":0},null,{"$f":"'Attribute Survey'!S30","v":0},null,{"$f":"'Attribute Survey'!S34","v":0},null,{"$f":"'Attribute Survey'!S38","v":0},null,{"$f":"'Attribute Survey'!S42","v":0},null,{"$f":"'Attribute Survey'!S46","v":0},null,{"$f":"'Attribute Survey'!S50","v":0},null,{"$f":"'Attribute Survey'!S54","v":0}]
[null,null,null,"Другие полезные ресурсы",null,null,null,null,{"$f":"Backbone!A100","v":"Оценка сотрудничества в рамках межотраслевой системы эпиднадзора (ECoSur)"},null,null,null,null,null,null,"Инструмент, предназначенный для оценки организации и функционирования взаимодействия в системе межотраслевого эпиднадзора и для анализа сильных и слабых сторон такого взаимодействия.",null,null,null,null,null,null,null,null,{"$f":"INDEX(Backbone!$R$2:$R$893,MATCH(I23,Backbone!$A$2:$A$893,0))","v":"Инструмент или процесс с методическим руководством/пояснениями"},null,null,null,{"$f":"INDEX(Backbone!$S$2:$S$893,MATCH(I23,Backbone!$A$2:$A$893,0))","v":"«Единое здоровье»; универсальный"},null,null,null,{"$f":"INDEX(Backbone!$H$2:$H$893,MATCH(I23,Backbone!$A$2:$A$893,0))","v":8.3000000000000007},null,{"$f":"INDEX(Backbone!$I$2:$I$893,MATCH(I23,Backbone!$A$2:$A$893,0))","v":6},null,{"$f":"INDEX(Backbone!$J$2:$J$893,MATCH(I23,Backbone!$A$2:$A$893,0))","v":8.5},null,{"$f":"INDEX(Backbone!$K$1:$K$893,MATCH(I23,Backbone!$A$1:$A$893,0))","v":7.8},null,{"$f":"INDEX(Backbone!$L$2:$L$893,MATCH(I23,Backbone!$A$2:$A$893,0))","v":8.3000000000000007},null,{"$f":"INDEX(Backbone!$M$2:$M$893,MATCH(I23,Backbone!$A$2:$A$893,0))","v":6.7},null,{"$f":"INDEX(Backbone!$N$2:$N$893,MATCH(I23,Backbone!$A$2:$A$893,0))","v":3.3},null,{"$f":"INDEX(Backbone!$O$2:$O$893,MATCH(I23,Backbone!$A$2:$A$893,0))","v":9.1},null,{"$f":"INDEX(Backbone!$P$2:$P$893,MATCH(I23,Backbone!$A$2:$A$893,0))","v":4.7},null,{"$f":"INDEX(Backbone!$Q$2:$Q$893,MATCH(I23,Backbone!$A$2:$A$893,0))","v":0.69666666666666677},null,null,{"$f":"(AG23*$AG$22+AI23*$AI$22+AK23*$AK$22+AM23*$AM$22+AO23*$AO$22+AQ23*$AQ$22+AS23*$AS$22+AU23*$AU$22+AW23*$AW$22)/(SUM($AG$22:$AW$22)*10)","v":{"$error":"#DIV/0!"}},null,null,"Перейти в Реестр ресурсов: ",null,{"$f":"HYPERLINK(\"#\"&ADDRESS(MATCH(I23,Toolbox!$C$1:$C$300),1,,,\"Toolbox\"),VLOOKUP(I23,Toolbox!$C$1:$C$300,1,FALSE))","v":"Оценка сотрудничества в рамках межотраслевой системы эпиднадзора (ECoSur)"}]
[]
[]
[]
[]
[]
[null,null,null,null,null,null,null,null,{"$f":"Backbone!A33","v":"Рамочная программа для укрепления мер профилактики и борьбы с сибирской язвой "},null,null,null,null,null,null,"Данная рамочная программа рассказывает о сибирской язве и о том, как усилить меры профилактики и борьбы с сибирской язвой у животных и людей.",null,null,null,null,null,null,null,null,{"$f":"INDEX(Backbone!$R$2:$R$893,MATCH(I29,Backbone!$A$2:$A$893,0))","v":"Руководящий документ"},null,null,null,{"$f":"INDEX(Backbone!$S$2:$S$893,MATCH(I29,Backbone!$A$2:$A$893,0))","v":"«Единое здоровье»; ориентированный на конкретную болезнь/угрозу "},null,null,null,{"$f":"INDEX(Backbone!$H$2:$H$893,MATCH(I29,Backbone!$A$2:$A$893,0))","v":9.1},null,{"$f":"INDEX(Backbone!$I$2:$I$893,MATCH(I29,Backbone!$A$2:$A$893,0))","v":10},null,{"$f":"INDEX(Backbone!$J$2:$J$893,MATCH(I29,Backbone!$A$2:$A$893,0))","v":8.6},null,{"$f":"INDEX(Backbone!$K$1:$K$893,MATCH(I29,Backbone!$A$1:$A$893,0))","v":4.7},null,{"$f":"INDEX(Backbone!$L$2:$L$893,MATCH(I29,Backbone!$A$2:$A$893,0))","v":9.1999999999999993},null,{"$f":"INDEX(Backbone!$M$2:$M$893,MATCH(I29,Backbone!$A$2:$A$893,0))","v":2},null,{"$f":"INDEX(Backbone!$N$2:$N$893,MATCH(I29,Backbone!$A$2:$A$893,0))","v":6.3},null,{"$f":"INDEX(Backbone!$O$2:$O$893,MATCH(I29,Backbone!$A$2:$A$893,0))","v":4.3},null,{"$f":"INDEX(Backbone!$P$2:$P$893,MATCH(I29,Backbone!$A$2:$A$893,0))","v":6},null,{"$f":"INDEX(Backbone!$Q$2:$Q$893,MATCH(I29,Backbone!$A$2:$A$893,0))","v":0.66888888888888887},null,null,{"$f":"(AG29*$AG$22+AI29*$AI$22+AK29*$AK$22+AM29*$AM$22+AO29*$AO$22+AQ29*$AQ$22+AS29*$AS$22+AU29*$AU$22+AW29*$AW$22)/(SUM($AG$22:$AW$22)*10)","v":{"$error":"#DIV/0!"}},null,null,"Перейти в Реестр ресурсов: ",null,{"$f":"HYPERLINK(\"#\"&ADDRESS(MATCH(I29,Toolbox!$C$1:$C$300),1,,,\"Toolbox\"),VLOOKUP(I29,Toolbox!$C$1:$C$300,1,FALSE))","v":"Рамочная программа для укрепления мер профилактики и борьбы с сибирской язвой "}]
[]
[]
[]
[]
[]
[null,null,null,null,null,null,null,null,{"$f":"Backbone!A239","v":"Национальный семинар по выстраиванию связей ММСП-ПВС"},null,null,null,null,null,null,"Семинар, в ходе которого заинтересованные стороны подхода «Единое здоровье» (ЕЗ) исследуют возможные пересекающиеся области своей работы, рассматриваемые в рамочных программах развития потенциала МЭБ (ПВС) и ММСП (Рамочная программа мониторинга и оценки ММСП), и при необходимости создают соответствующие связи для обеспечения взаимодействия между секторами.  \n\n",null,null,null,null,null,null,null,null,{"$f":"INDEX(Backbone!$R$2:$R$893,MATCH(I35,Backbone!$A$2:$A$893,0))","v":"Инструмент или процесс с методическим руководством/пояснениями"},null,null,null,{"$f":"INDEX(Backbone!$S$2:$S$893,MATCH(I35,Backbone!$A$2:$A$893,0))","v":"«Единое здоровье»; универсальный"},null,null,null,{"$f":"INDEX(Backbone!$H$2:$H$893,MATCH(I35,Backbone!$A$2:$A$893,0))","v":8.6},null,{"$f":"INDEX(Backbone!$I$2:$I$893,MATCH(I35,Backbone!$A$2:$A$893,0))","v":10},null,{"$f":"INDEX(Backbone!$J$2:$J$893,MATCH(I35,Backbone!$A$2:$A$893,0))","v":6.2},null,{"$f":"INDEX(Backbone!$K$1:$K$893,MATCH(I35,Backbone!$A$1:$A$893,0))","v":10},null,{"$f":"INDEX(Backbone!$L$2:$L$893,MATCH(I35,Backbone!$A$2:$A$893,0))","v":6},null,{"$f":"INDEX(Backbone!$M$2:$M$893,MATCH(I35,Backbone!$A$2:$A$893,0))","v":7},null,{"$f":"INDEX(Backbone!$N$2:$N$893,MATCH(I35,Backbone!$A$2:$A$893,0))","v":9},null,{"$f":"INDEX(Backbone!$O$2:$O$893,MATCH(I35,Backbone!$A$2:$A$893,0))","v":8.1999999999999993},null,{"$f":"INDEX(Backbone!$P$2:$P$893,MATCH(I35,Backbone!$A$2:$A$893,0))","v":10},null,{"$f":"INDEX(Backbone!$Q$2:$Q$893,MATCH(I35,Backbone!$A$2:$A$893,0))","v":0.83333333333333337},null,null,{"$f":"(AG35*$AG$22+AI35*$AI$22+AK35*$AK$22+AM35*$AM$22+AO35*$AO$22+AQ35*$AQ$22+AS35*$AS$22+AU35*$AU$22+AW35*$AW$22)/(SUM($AG$22:$AW$22)*10)","v":{"$error":"#DIV/0!"}},null,null,"Перейти в Реестр ресурсов: ",null,{"$f":"HYPERLINK(\"#\"&ADDRESS(MATCH(I35,Toolbox!$C$1:$C$300),1,,,\"Toolbox\"),VLOOKUP(I35,Toolbox!$C$1:$C$300,1,FALSE))","v":"Национальный семинар по выстраиванию связей ММСП-ПВС"}]
[]
[]
[]
[]
[]
[null,null,null,null,null,null,null,null,{"$f":"Backbone!A195","v":"Комплексная система эпиднадзора и мер реагирования (IDSR)"},null,null,null,null,null,null,"Стратегия, разработанная с целью укрепить потенциал стран для выявления и подтверждения предполагаемых случаев заболевания и вспышек и реагирования на них, а также для использования информации для прогнозирования событий в области общественного здравоохранения и планирования мер реагирования на них.",null,null,null,null,null,null,null,null,{"$f":"INDEX(Backbone!$R$2:$R$893,MATCH(I41,Backbone!$A$2:$A$893,0))","v":"Руководящий документ"},null,null,null,{"$f":"INDEX(Backbone!$S$2:$S$893,MATCH(I41,Backbone!$A$2:$A$893,0))","v":"Ориентированный на конкретный сектор; универсальный"},null,null,null,{"$f":"INDEX(Backbone!$H$2:$H$893,MATCH(I41,Backbone!$A$2:$A$893,0))","v":7.4},null,{"$f":"INDEX(Backbone!$I$2:$I$893,MATCH(I41,Backbone!$A$2:$A$893,0))","v":10},null,{"$f":"INDEX(Backbone!$J$2:$J$893,MATCH(I41,Backbone!$A$2:$A$893,0))","v":7.4},null,{"$f":"INDEX(Backbone!$K$1:$K$893,MATCH(I41,Backbone!$A$1:$A$893,0))","v":8.6999999999999993},null,{"$f":"INDEX(Backbone!$L$2:$L$893,MATCH(I41,Backbone!$A$2:$A$893,0))","v":6.7},null,{"$f":"INDEX(Backbone!$M$2:$M$893,MATCH(I41,Backbone!$A$2:$A$893,0))","v":4.5},null,{"$f":"INDEX(Backbone!$N$2:$N$893,MATCH(I41,Backbone!$A$2:$A$893,0))","v":8},null,{"$f":"INDEX(Backbone!$O$2:$O$893,MATCH(I41,Backbone!$A$2:$A$893,0))","v":7.2},null,{"$f":"INDEX(Backbone!$P$2:$P$893,MATCH(I41,Backbone!$A$2:$A$893,0))","v":8.5},null,{"$f":"INDEX(Backbone!$Q$2:$Q$893,MATCH(I41,Backbone!$A$2:$A$893,0))","v":0.76},null,null,{"$f":"(AG41*$AG$22+AI41*$AI$22+AK41*$AK$22+AM41*$AM$22+AO41*$AO$22+AQ41*$AQ$22+AS41*$AS$22+AU41*$AU$22+AW41*$AW$22)/(SUM($AG$22:$AW$22)*10)","v":{"$error":"#DIV/0!"}},null,null,"Перейти в Реестр ресурсов: ",null,{"$f":"HYPERLINK(\"#\"&ADDRESS(MATCH(I41,Toolbox!$C$1:$C$300),1,,,\"Toolbox\"),VLOOKUP(I41,Toolbox!$C$1:$C$300,1,FALSE))","v":"Комплексная система эпиднадзора и мер реагирования (IDSR)"}]
[]
[]
[]
[]
[]
[]
[]
[]
[]
[]
[]
[]
[]
[]
[]
[]
[]
[]
[null,null,null,null,null,null,null,null,null,null,null,null,null,null,null,null,null,null,null,null,null,null,null,null,null,null,null,null,null,null,null,null,"Доступность",null,"Язык",null,"Простота использования",null,"Гибкость",null,"Потребности в данных",null,"Анализ данных",null,"Приемлемость",null,"«Единое здоровье»",null,"Воздействие"]
[]
[]
[]
[]
[]
[]
[null,null,null,null,null,null,null,null,null,null,null,null,null,null,null,null,null,null,null,null,null,null,null,null,null,null,null,null,null,null,null,null,null,null,null,null,null,null,null,null,null,null,null,null,null,null,null,null,null,null,"ИСХОДНАЯ ОЦЕНКА",null,null,"СКОРРЕКТИРОВАННАЯ ОЦЕНКА \n(Исходя из предпочтений пользователей)"]
[null,"РЕСУРСЫ УРОВНЯ 2"]
[]
[]
[null,null,null,"КЛАССИФИКАЦИЯ",null,null,null,null,"НАЗВАНИЕ РЕСУРСА",null,null,null,null,null,null,"КРАТКОЕ ОПИСАНИЕ",null,null,null,null,null,null,null,null,"ВИД РЕСУРСА",null,null,null,"ОБЩАЯ НАПРАВЛЕННОСТЬ РЕСУРСА"]
[]
[]
[]
[null,null,null,null,null,null,null,null,null,null,null,null,null,null,null,null,null,null,null,null,null,null,null,null,null,null,null,null,null,null,null,null,{"$f":"'Attribute Survey'!S130","v":0},null,{"$f":"'Attribute Survey'!S134","v":0},null,{"$f":"'Attribute Survey'!S138","v":0},null,{"$f":"'Attribute Survey'!S142","v":0},null,{"$f":"'Attribute Survey'!S146","v":0},null,{"$f":"'Attribute Survey'!S150","v":0},null,{"$f":"'Attribute Survey'!S154","v":0},null,{"$f":"'Attribute Survey'!S158","v":0},null,{"$f":"'Attribute Survey'!S162","v":0}]
[null,null,null,"Другие полезные ресурсы",null,null,null,null,{"$f":"Backbone!A100","v":"Оценка сотрудничества в рамках межотраслевой системы эпиднадзора (ECoSur)"},null,null,null,null,null,null,"Инструмент, предназначенный для оценки организации и функционирования взаимодействия в системе межотраслевого эпиднадзора и для анализа сильных и слабых сторон такого взаимодействия.",null,null,null,null,null,null,null,null,{"$f":"INDEX(Backbone!$R$2:$R$893,MATCH(I76,Backbone!$A$2:$A$893,0))","v":"Инструмент или процесс с методическим руководством/пояснениями"},null,null,null,{"$f":"INDEX(Backbone!$S$2:$S$893,MATCH(I76,Backbone!$A$2:$A$893,0))","v":"«Единое здоровье»; универсальный"},null,null,null,{"$f":"INDEX(Backbone!$H$2:$H$893,MATCH(I76,Backbone!$A$2:$A$893,0))","v":8.3000000000000007},null,{"$f":"INDEX(Backbone!$I$2:$I$893,MATCH(I76,Backbone!$A$2:$A$893,0))","v":6},null,{"$f":"INDEX(Backbone!$J$2:$J$893,MATCH(I76,Backbone!$A$2:$A$893,0))","v":8.5},null,{"$f":"INDEX(Backbone!$K$1:$K$893,MATCH(I76,Backbone!$A$1:$A$893,0))","v":7.8},null,{"$f":"INDEX(Backbone!$L$2:$L$893,MATCH(I76,Backbone!$A$2:$A$893,0))","v":8.3000000000000007},null,{"$f":"INDEX(Backbone!$M$2:$M$893,MATCH(I76,Backbone!$A$2:$A$893,0))","v":6.7},null,{"$f":"INDEX(Backbone!$N$2:$N$893,MATCH(I76,Backbone!$A$2:$A$893,0))","v":3.3},null,{"$f":"INDEX(Backbone!$O$2:$O$893,MATCH(I76,Backbone!$A$2:$A$893,0))","v":9.1},null,{"$f":"INDEX(Backbone!$P$2:$P$893,MATCH(I76,Backbone!$A$2:$A$893,0))","v":4.7},null,{"$f":"INDEX(Backbone!$Q$2:$Q$893,MATCH(I76,Backbone!$A$2:$A$893,0))","v":0.69666666666666677},null,null,{"$f":"(AG76*$AG$22+AI76*$AI$22+AK76*$AK$22+AM76*$AM$22+AO76*$AO$22+AQ76*$AQ$22+AS76*$AS$22+AU76*$AU$22+AW76*$AW$22)/(SUM($AG$22:$AW$22)*10)","v":{"$error":"#DIV/0!"}},null,null,"Перейти в Реестр ресурсов: ",null,{"$f":"HYPERLINK(\"#\"&ADDRESS(MATCH(I76,Toolbox!$C$1:$C$300),1,,,\"Toolbox\"),VLOOKUP(I76,Toolbox!$C$1:$C$300,1,FALSE))","v":"Оценка сотрудничества в рамках межотраслевой системы эпиднадзора (ECoSur)"}]
[]
[]
[]
[]
[]
[null,null,null,null,null,null,null,null,{"$f":"Backbone!A137","v":"Рамочная программа ЕФСА для сбора данных"},null,null,null,null,null,null,"Онлайн-инструмент для сбора данных, подаваемых всеми странами-членами ЕС.",null,null,null,null,null,null,null,null,{"$f":"INDEX(Backbone!$R$2:$R$893,MATCH(I82,Backbone!$A$2:$A$893,0))","v":"Оборудование или программное обеспечение"},null,null,null,{"$f":"INDEX(Backbone!$S$2:$S$893,MATCH(I82,Backbone!$A$2:$A$893,0))","v":"«Единое здоровье»; универсальный"},null,null,null,{"$f":"INDEX(Backbone!$H$2:$H$893,MATCH(I82,Backbone!$A$2:$A$893,0))","v":8.5},null,{"$f":"INDEX(Backbone!$I$2:$I$893,MATCH(I82,Backbone!$A$2:$A$893,0))","v":4},null,{"$f":"INDEX(Backbone!$J$2:$J$893,MATCH(I82,Backbone!$A$2:$A$893,0))","v":6.8},null,{"$f":"INDEX(Backbone!$K$1:$K$893,MATCH(I82,Backbone!$A$1:$A$893,0))","v":9.3000000000000007},null,{"$f":"INDEX(Backbone!$L$2:$L$893,MATCH(I82,Backbone!$A$2:$A$893,0))","v":7.1},null,{"$f":"INDEX(Backbone!$M$2:$M$893,MATCH(I82,Backbone!$A$2:$A$893,0))","v":5.5},null,{"$f":"INDEX(Backbone!$N$2:$N$893,MATCH(I82,Backbone!$A$2:$A$893,0))","v":5},null,{"$f":"INDEX(Backbone!$O$2:$O$893,MATCH(I82,Backbone!$A$2:$A$893,0))","v":8.3000000000000007},null,{"$f":"INDEX(Backbone!$P$2:$P$893,MATCH(I82,Backbone!$A$2:$A$893,0))","v":10},null,{"$f":"INDEX(Backbone!$Q$2:$Q$893,MATCH(I82,Backbone!$A$2:$A$893,0))","v":0.71666666666666667},null,null,{"$f":"(AG82*$AG$22+AI82*$AI$22+AK82*$AK$22+AM82*$AM$22+AO82*$AO$22+AQ82*$AQ$22+AS82*$AS$22+AU82*$AU$22+AW82*$AW$22)/(SUM($AG$22:$AW$22)*10)","v":{"$error":"#DIV/0!"}},null,null,"Перейти в Реестр ресурсов: ",null,{"$f":"HYPERLINK(\"#\"&ADDRESS(MATCH(I82,Toolbox!$C$1:$C$300),1,,,\"Toolbox\"),VLOOKUP(I82,Toolbox!$C$1:$C$300,1,FALSE))","v":"Рамочная программа ЕФСА для сбора данных"}]
[]
[]
[]
[]
[]
[]
[]
[]
[]
[]
[]
[]
[]
[]
[]
[]
[]
[]
[]
[]
[]
[]
[null,null,null,null,null,null,null,null,null,null,null,null,null,null,null,null,null,null,null,null,null,null,null,null,null,null,null,null,null,null,null,null,"Доступность",null,"Язык",null,"Простота использования",null,"Гибкость",null,"Потребности в данных",null,"Анализ данных",null,"Приемлемость",null,"«Единое здоровье»",null,"Воздействие"]
[]
[]
[]
[]
[]
[]
[null,null,null,null,null,null,null,null,null,null,null,null,null,null,null,null,null,null,null,null,null,null,null,null,null,null,null,null,null,null,null,null,null,null,null,null,null,null,null,null,null,null,null,null,null,null,null,null,null,null,"ИСХОДНАЯ ОЦЕНКА",null,null,"СКОРРЕКТИРОВАННАЯ ОЦЕНКА \n(Исходя из предпочтений пользователей)"]
[]
[]
[]
[null,"РЕСУРСЫ УРОВНЯ 3",null,"КЛАССИФИКАЦИЯ",null,null,null,null,"НАЗВАНИЕ РЕСУРСА",null,null,null,null,null,null,"КРАТКОЕ ОПИСАНИЕ",null,null,null,null,null,null,null,null,"ВИД РЕСУРСА",null,null,null,"ОБЩАЯ НАПРАВЛЕННОСТЬ РЕСУРСА"]
[]
[]
[]
[null,null,null,null,null,null,null,null,null,null,null,null,null,null,null,null,null,null,null,null,null,null,null,null,null,null,null,null,null,null,null,null,{"$f":"'Attribute Survey'!S231","v":0},null,{"$f":"'Attribute Survey'!S235","v":0},null,{"$f":"'Attribute Survey'!S239","v":0},null,{"$f":"'Attribute Survey'!S243","v":0},null,{"$f":"'Attribute Survey'!S247","v":0},null,{"$f":"'Attribute Survey'!S251","v":0},null,{"$f":"'Attribute Survey'!S255","v":0},null,{"$f":"'Attribute Survey'!S259","v":0},null,{"$f":"'Attribute Survey'!S263","v":0}]
[null,null,null,"Наиболее подходящие ресурсы"]
[null,null,null,null,null,null,null,null,{"$f":"Backbone!A396","v":"Кодекс по эпиднадзору на основе концепции «Единое здоровье» (OHS) "},null,null,null,null,null,null,"Рамочная программа высокого уровня, поддерживающая взаимодействие, взаимопонимание, обмен знаниями и совместимость данных среди секторов, осуществляющих эпиднадзор в рамках концепции «Единое здоровье».",null,null,null,null,null,null,null,null,{"$f":"INDEX(Backbone!$R$2:$R$893,MATCH(I122,Backbone!$A$2:$A$893,0))","v":"Инструмент самооценки"},null,null,null,{"$f":"INDEX(Backbone!$S$2:$S$893,MATCH(I122,Backbone!$A$2:$A$893,0))","v":"«Единое здоровье»; универсальный"},null,null,null,{"$f":"INDEX(Backbone!$H$2:$H$893,MATCH(I122,Backbone!$A$2:$A$893,0))","v":9},null,{"$f":"INDEX(Backbone!$I$2:$I$893,MATCH(I122,Backbone!$A$2:$A$893,0))","v":6},null,{"$f":"INDEX(Backbone!$J$2:$J$893,MATCH(I122,Backbone!$A$2:$A$893,0))","v":8.5},null,{"$f":"INDEX(Backbone!$K$1:$K$893,MATCH(I122,Backbone!$A$1:$A$893,0))","v":8.6999999999999993},null,{"$f":"INDEX(Backbone!$L$2:$L$893,MATCH(I122,Backbone!$A$2:$A$893,0))","v":8.1},null,{"$f":"INDEX(Backbone!$M$2:$M$893,MATCH(I122,Backbone!$A$2:$A$893,0))","v":2.8},null,{"$f":"INDEX(Backbone!$N$2:$N$893,MATCH(I122,Backbone!$A$2:$A$893,0))","v":2},null,{"$f":"INDEX(Backbone!$O$2:$O$893,MATCH(I122,Backbone!$A$2:$A$893,0))","v":6},null,{"$f":"INDEX(Backbone!$P$2:$P$893,MATCH(I122,Backbone!$A$2:$A$893,0))","v":5},null,{"$f":"INDEX(Backbone!$Q$2:$Q$893,MATCH(I122,Backbone!$A$2:$A$893,0))","v":0.62333333333333329},null,null,{"$f":"(AG122*$AG$22+AI122*$AI$22+AK122*$AK$22+AM122*$AM$22+AO122*$AO$22+AQ122*$AQ$22+AS122*$AS$22+AU122*$AU$22+AW122*$AW$22)/(SUM($AG$22:$AW$22)*10)","v":{"$error":"#DIV/0!"}},null,null,"Перейти в Реестр ресурсов: ",null,{"$f":"HYPERLINK(\"#\"&ADDRESS(MATCH(I122,Toolbox!$C$1:$C$300),1,,,\"Toolbox\"),VLOOKUP(I122,Toolbox!$C$1:$C$300,1,FALSE))","v":"Кодекс по эпиднадзору на основе концепции «Единое здоровье» (OHS) "}]
[]
[]
[]
[]
[]
[]
[null,null,null,"Другие полезные ресурсы",null,null,null,null,{"$f":"Backbone!A61","v":"Стратегии трансграничной межотраслевой коммуникации и координации"},null,null,null,null,null,null,"Семинар, служащий руководством заинтересованным сторонам в процессе определения отраслевых механизмов обмена информацией и создания межотраслевых или трансграничных механизмов обмена информацией.",null,null,null,null,null,null,null,null,{"$f":"INDEX(Backbone!$R$2:$R$893,MATCH(I129,Backbone!$A$2:$A$893,0))","v":"Инструмент или процесс с методическим руководством/пояснениями"},null,null,null,{"$f":"INDEX(Backbone!$S$2:$S$893,MATCH(I129,Backbone!$A$2:$A$893,0))","v":"«Единое здоровье»; универсальный "},null,null,null,{"$f":"INDEX(Backbone!$H$2:$H$893,MATCH(I129,Backbone!$A$2:$A$893,0))","v":8.9},null,{"$f":"INDEX(Backbone!$I$2:$I$893,MATCH(I129,Backbone!$A$2:$A$893,0))","v":6},null,{"$f":"INDEX(Backbone!$J$2:$J$893,MATCH(I129,Backbone!$A$2:$A$893,0))","v":7.6},null,{"$f":"INDEX(Backbone!$K$1:$K$893,MATCH(I129,Backbone!$A$1:$A$893,0))","v":9},null,{"$f":"INDEX(Backbone!$L$2:$L$893,MATCH(I129,Backbone!$A$2:$A$893,0))","v":5.6},null,{"$f":"INDEX(Backbone!$M$2:$M$893,MATCH(I129,Backbone!$A$2:$A$893,0))","v":3.5},null,{"$f":"INDEX(Backbone!$N$2:$N$893,MATCH(I129,Backbone!$A$2:$A$893,0))","v":4},null,{"$f":"INDEX(Backbone!$O$2:$O$893,MATCH(I129,Backbone!$A$2:$A$893,0))","v":8.3000000000000007},null,{"$f":"INDEX(Backbone!$P$2:$P$893,MATCH(I129,Backbone!$A$2:$A$893,0))","v":8},null,{"$f":"INDEX(Backbone!$Q$2:$Q$893,MATCH(I129,Backbone!$A$2:$A$893,0))","v":0.67666666666666675},null,null,{"$f":"(AG129*$AG$22+AI129*$AI$22+AK129*$AK$22+AM129*$AM$22+AO129*$AO$22+AQ129*$AQ$22+AS129*$AS$22+AU129*$AU$22+AW129*$AW$22)/(SUM($AG$22:$AW$22)*10)","v":{"$error":"#DIV/0!"}},null,null,"Перейти в Реестр ресурсов: ",null,{"$f":"HYPERLINK(\"#\"&ADDRESS(MATCH(I129,Toolbox!$C$1:$C$300),1,,,\"Toolbox\"),VLOOKUP(I129,Toolbox!$C$1:$C$300,1,FALSE))","v":"Стратегии трансграничной межотраслевой коммуникации и координации"}]
[]
[]
[]
[]
[]
[null,null,null,null,null,null,null,null,{"$f":"Backbone!A400","v":"Инструмент для оценки требований и готовности к эпиднадзору на основе концепции «Единое здоровье» (OHSRRT)"},null,null,null,null,null,null,"Инструмент оценки требований и готовности к эпиднадзору, позволяющий определить уровень готовности страны и собрать требования для развития системы эпиднадзора на основе концепции «Единое здоровье» исходя из важнейших факторов успеха. ",null,null,null,null,null,null,null,null,{"$f":"INDEX(Backbone!$R$2:$R$893,MATCH(I135,Backbone!$A$2:$A$893,0))","v":"Инструмент самооценки"},null,null,null,{"$f":"INDEX(Backbone!$S$2:$S$893,MATCH(I135,Backbone!$A$2:$A$893,0))","v":"«Единое здоровье»; универсальный"},null,null,null,{"$f":"INDEX(Backbone!$H$2:$H$893,MATCH(I135,Backbone!$A$2:$A$893,0))","v":8},null,{"$f":"INDEX(Backbone!$I$2:$I$893,MATCH(I135,Backbone!$A$2:$A$893,0))","v":6},null,{"$f":"INDEX(Backbone!$J$2:$J$893,MATCH(I135,Backbone!$A$2:$A$893,0))","v":7.4},null,{"$f":"INDEX(Backbone!$K$1:$K$893,MATCH(I135,Backbone!$A$1:$A$893,0))","v":8.6999999999999993},null,{"$f":"INDEX(Backbone!$L$2:$L$893,MATCH(I135,Backbone!$A$2:$A$893,0))","v":6},null,{"$f":"INDEX(Backbone!$M$2:$M$893,MATCH(I135,Backbone!$A$2:$A$893,0))","v":2.5},null,{"$f":"INDEX(Backbone!$N$2:$N$893,MATCH(I135,Backbone!$A$2:$A$893,0))","v":2},null,{"$f":"INDEX(Backbone!$O$2:$O$893,MATCH(I135,Backbone!$A$2:$A$893,0))","v":9.6},null,{"$f":"INDEX(Backbone!$P$2:$P$893,MATCH(I135,Backbone!$A$2:$A$893,0))","v":5.5},null,{"$f":"INDEX(Backbone!$Q$2:$Q$893,MATCH(I135,Backbone!$A$2:$A$893,0))","v":0.61888888888888882},null,null,{"$f":"(AG135*$AG$22+AI135*$AI$22+AK135*$AK$22+AM135*$AM$22+AO135*$AO$22+AQ135*$AQ$22+AS135*$AS$22+AU135*$AU$22+AW135*$AW$22)/(SUM($AG$22:$AW$22)*10)","v":{"$error":"#DIV/0!"}},null,null,"Перейти в Реестр ресурсов: ",null,{"$f":"HYPERLINK(\"#\"&ADDRESS(MATCH(I135,Toolbox!$C$1:$C$300),1,,,\"Toolbox\"),VLOOKUP(I135,Toolbox!$C$1:$C$300,1,FALSE))","v":"Инструмент для оценки требований и готовности к эпиднадзору на основе концепции «Единое здоровье» (OHSRRT)"}]

{"sheet":"P3_tools","index":40,"n_rows":219,"n_cols":59,"rows_kept":219,"cut":false,"hidden":false,"merged":[[22,3,134,6],[88,40,92,40],[88,42,92,42],[88,44,92,44],[88,46,92,46],[88,48,92,48],[88,50,92,51],[88,53,92,54],[88,56,92,57],[40,46,44,46],[40,48,44,48],[40,50,44,51],[40,53,44,54],[40,56,44,57],[70,40,74,40],[70,32,74,32],[70,34,74,34],[40,40,44,40],[40,42,44,42],[40,44,44,44],[46,44,50,44],[46,46,50,46],[46,48,50,48],[46,50,50,51],[46,53,50,54],[46,56,50,57],[200,1,220,1],[46,8,50,13],[46,15,50,22],[46,24,50,26],[46,28,50,30],[46,32,50,32],[46,34,50,34],[46,36,50,36],[46,38,50,38],[17,1,134,1],[150,1,178,1],[88,38,92,38],[70,8,74,13],[70,15,74,22],[70,24,74,26],[70,28,74,30],[40,36,44,36],[40,38,44,38],[70,36,74,36],[70,38,74,38],[40,24,44,26],[40,28,44,30],[40,32,44,32],[40,34,44,34],[64,42,68,42],[82,42,86,42],[82,44,86,44],[64,44,68,44],[70,42,74,42],[70,44,74,44],[70,58,74,62],[46,40,50,40],[64,46,68,46],[64,48,68,48],[64,50,68,51],[64,53,68,54],[46,42,50,42],[70,53,74,54],[70,56,74,57],[46,58,50,62],[82,46,86,46],[82,48,86,48],[82,50,86,51],[82,53,86,54],[76,53,80,54],[76,40,80,40],[124,53,128,54],[124,56,128,57],[52,8,56,13],[52,15,56,22],[52,24,56,26],[52,28,56,30],[52,32,56,32],[52,34,56,34],[52,36,56,36],[52,38,56,38],[52,40,56,40],[52,42,56,42],[52,44,56,44],[52,46,56,46],[52,48,56,48],[52,50,56,51],[52,53,56,54],[52,56,56,57],[106,8,110,13],[106,15,110,22],[106,24,110,26],[70,46,74,46],[70,48,74,48],[70,50,74,51],[130,42,134,42],[130,44,134,44],[130,46,134,46],[130,48,134,48],[130,50,134,51],[112,50,116,51],[106,36,110,36],[106,38,110,38],[106,40,110,40],[118,50,122,51],[124,46,128,46],[124,48,128,48],[124,50,128,51],[124,38,128,38],[124,40,128,40],[124,42,128,42],[124,44,128,44],[106,28,110,30],[106,32,110,32],[106,34,110,34],[82,38,86,38],[82,40,86,40],[100,8,104,13],[100,15,104,22],[100,24,104,26],[130,53,134,54],[118,53,122,54],[130,8,134,13],[130,15,134,22],[130,24,134,26],[130,28,134,30],[130,32,134,32],[130,34,134,34],[130,36,134,36],[130,38,134,38],[130,40,134,40],[118,40,122,40],[118,42,122,42],[118,44,122,44],[118,46,122,46],[118,48,122,48],[124,8,128,13],[124,15,128,22],[124,24,128,26],[124,28,128,30],[124,32,128,32],[124,34,128,34],[124,36,128,36],[112,53,116,54],[118,8,122,13],[118,15,122,22],[118,24,122,26],[118,28,122,30],[118,32,122,32],[118,34,122,34],[118,36,122,36],[118,38,122,38],[112,38,116,38],[112,40,116,40],[112,42,116,42],[112,44,116,44],[112,46,116,46],[112,48,116,48],[112,8,116,13],[112,15,116,22],[112,24,116,26],[112,28,116,30],[112,32,116,32],[112,34,116,34],[112,36,116,36],[94,36,98,36],[82,8,86,13],[82,15,86,22],[82,24,86,26],[82,28,86,30],[82,32,86,32],[82,34,86,34],[82,36,86,36],[94,8,98,13],[94,15,98,22],[94,24,98,26],[94,28,98,30],[94,32,98,32],[94,34,98,34],[88,8,92,13],[88,15,92,22],[88,24,92,26],[88,28,92,30],[88,32,92,32],[88,34,92,34],[88,36,92,36],[100,40,104,40],[100,42,104,42],[100,44,104,44],[100,46,104,46],[100,48,104,48],[100,50,104,51],[100,28,104,30],[100,32,104,32],[100,34,104,34],[100,36,104,36],[100,38,104,38],[94,50,98,51],[94,53,98,54],[94,38,98,38],[94,40,98,40],[94,42,98,42],[94,44,98,44],[94,46,98,46],[94,48,98,48],[218,48,222,48],[218,50,222,51],[218,53,222,54],[212,53,216,54],[171,44,175,44],[171,46,175,46],[171,48,175,48],[171,50,175,51],[171,53,175,54],[106,42,110,42],[106,44,110,44],[106,46,110,46],[106,48,110,48],[106,50,110,51],[106,53,110,54],[100,53,104,54],[218,40,222,40],[218,42,222,42],[218,44,222,44],[218,46,222,46],[212,46,216,46],[212,48,216,48],[212,50,216,51],[212,40,216,40],[212,42,216,42],[212,44,216,44],[218,24,222,26],[218,28,222,30],[218,32,222,32],[218,34,222,34],[212,34,216,34],[212,36,216,36],[212,38,216,38],[218,36,222,36],[218,38,222,38],[212,3,222,6],[212,8,216,13],[212,15,216,22],[212,24,216,26],[212,28,216,30],[212,32,216,32],[196,48,210,48],[203,50,210,51],[203,53,210,54],[207,3,210,6],[207,8,210,13],[207,15,210,22],[207,24,210,26],[207,28,210,30],[196,32,210,32],[196,34,210,34],[196,36,210,36],[196,38,210,38],[196,40,210,40],[196,42,210,42],[196,44,210,44],[196,46,210,46],[218,8,222,13],[218,15,222,22],[171,32,175,32],[171,34,175,34],[171,36,175,36],[171,38,175,38],[171,40,175,40],[171,42,175,42],[171,3,175,6],[171,8,175,13],[171,15,175,22],[171,24,175,26],[171,28,175,30],[166,28,169,30],[155,44,169,44],[155,46,169,46],[155,48,169,48],[162,50,169,51],[162,53,169,54],[166,3,169,6],[166,8,169,13],[166,15,169,22],[166,24,169,26],[155,32,169,32],[155,34,169,34],[155,36,169,36],[155,38,169,38],[155,40,169,40],[155,42,169,42],[64,8,68,13],[64,15,68,22],[64,24,68,26],[64,28,68,30],[64,32,68,32],[64,34,68,34],[64,36,68,36],[64,38,68,38],[64,40,68,40],[34,53,38,54],[58,8,62,13],[58,15,62,22],[58,24,62,26],[58,28,62,30],[58,32,62,32],[58,34,62,34],[58,36,62,36],[58,38,62,38],[34,38,38,38],[34,40,38,40],[34,42,38,42],[34,44,38,44],[34,46,38,46],[34,48,38,48],[58,53,62,54],[58,40,62,40],[58,42,62,42],[58,44,62,44],[58,46,62,46],[58,48,62,48],[58,50,62,51],[40,8,44,13],[40,15,44,22],[22,8,26,13],[22,15,26,22],[22,24,26,26],[22,28,26,30],[22,32,26,32],[28,48,32,48],[28,50,32,51],[28,53,32,54],[28,36,32,36],[28,38,32,38],[28,40,32,40],[28,28,32,30],[28,32,32,32],[28,34,32,34],[22,34,26,34],[22,36,26,36],[22,38,26,38],[22,40,26,40],[22,42,26,42],[22,44,26,44],[76,42,80,42],[76,44,80,44],[76,46,80,46],[76,48,80,48],[76,50,80,51],[1,1,3,62],[76,8,80,13],[76,15,80,22],[76,24,80,26],[76,28,80,30],[76,32,80,32],[76,34,80,34],[76,36,80,36],[76,38,80,38],[13,50,20,51],[22,46,26,46],[22,48,26,48],[22,50,26,51],[34,8,38,13],[34,15,38,22],[34,24,38,26],[34,28,38,30],[34,32,38,32],[34,34,38,34],[34,36,38,36],[28,42,32,42],[28,44,32,44],[28,46,32,46],[34,50,38,51],[13,53,20,54],[17,3,20,6],[17,8,20,13],[17,15,20,22],[17,24,20,26],[17,28,20,30],[6,32,20,32],[6,34,20,34],[6,36,20,36],[6,38,20,38],[6,40,20,40],[6,42,20,42],[6,44,20,44],[6,46,20,46],[6,48,20,48],[22,53,26,54],[28,8,32,13],[28,15,32,22],[28,24,32,26],[22,56,26,57],[22,58,26,62],[28,56,32,57],[28,58,32,62],[34,56,38,57],[34,58,38,62],[58,56,62,57],[58,58,62,62],[64,56,68,57],[64,58,68,62],[52,58,56,62],[40,58,44,62],[76,56,80,57],[76,58,80,62],[82,56,86,57],[82,58,86,62],[94,56,98,57],[94,58,98,62],[100,56,104,57],[100,58,104,62],[106,56,110,57],[106,58,110,62],[88,58,92,62],[218,56,222,57],[218,58,222,62],[112,56,116,57],[112,58,116,62],[118,56,122,57],[118,58,122,62],[130,56,134,57],[130,58,134,62],[171,56,175,57],[171,58,175,62],[212,56,216,57],[212,58,216,62],[124,58,128,62]]}
[]
[null,"Ресурсы по рамочным документам и стратегическим планам"]
[]
[]
[]
[]
[null,null,null,null,null,null,null,null,null,null,null,null,null,null,null,null,null,null,null,null,null,null,null,null,null,null,null,null,null,null,null,null,"Доступность",null,"Язык",null,"Простота использования",null,"Гибкость",null,"Потребности в данных",null,"Анализ данных",null,"Приемлемость",null,"«Единое здоровье»",null,"Воздействие"]
[]
[]
[]
[]
[]
[]
[null,null,null,null,null,null,null,null,null,null,null,null,null,null,null,null,null,null,null,null,null,null,null,null,null,null,null,null,null,null,null,null,null,null,null,null,null,null,null,null,null,null,null,null,null,null,null,null,null,null,"ИСХОДНАЯ ОЦЕНКА",null,null,"СКОРРЕКТИРОВАННАЯ ОЦЕНКА \n(Исходя из предпочтений пользователей)"]
[]
[]
[]
[null,"РЕСУРСЫ УРОВНЯ 1",null,"КЛАССИФИКАЦИЯ",null,null,null,null,"НАЗВАНИЕ РЕСУРСА",null,null,null,null,null,null,"КРАТКОЕ ОПИСАНИЕ",null,null,null,null,null,null,null,null,"ВИД РЕСУРСА",null,null,null,"ОБЩАЯ НАПРАВЛЕННОСТЬ РЕСУРСА"]
[]
[]
[]
[null,null,null,null,null,null,null,null,null,null,null,null,null,null,null,null,null,null,null,null,null,null,null,null,null,null,null,null,null,null,null,null,{"$f":"'Attribute Survey'!S22","v":0},null,{"$f":"'Attribute Survey'!S26","v":0},null,{"$f":"'Attribute Survey'!S30","v":0},null,{"$f":"'Attribute Survey'!S34","v":0},null,{"$f":"'Attribute Survey'!S38","v":0},null,{"$f":"'Attribute Survey'!S42","v":0},null,{"$f":"'Attribute Survey'!S46","v":0},null,{"$f":"'Attribute Survey'!S50","v":0},null,{"$f":"'Attribute Survey'!S54","v":0}]
[null,null,null,"Другие полезные ресурсы",null,null,null,null,{"$f":"Backbone!A2","v":"Рамочная программа Африканских ЦКПЗ по надзору на основе сигнальных событий"},null,null,null,null,null,null,"Руководство для работников системы общественного здравоохранения, стремящихся внедрить надзор на основе событий на всех административных уровнях.",null,null,null,null,null,null,null,null,{"$f":"INDEX(Backbone!$R$2:$R$893,MATCH(I23,Backbone!$A$2:$A$893,0))","v":"Руководящий документ"},null,null,null,{"$f":"INDEX(Backbone!$S$2:$S$893,MATCH(I23,Backbone!$A$2:$A$893,0))","v":"«Единое здоровье»; универсальный "},null,null,null,{"$f":"INDEX(Backbone!$H$2:$H$893,MATCH(I23,Backbone!$A$2:$A$893,0))","v":8},null,{"$f":"INDEX(Backbone!$I$2:$I$893,MATCH(I23,Backbone!$A$2:$A$893,0))","v":6},null,{"$f":"INDEX(Backbone!$J$2:$J$893,MATCH(I23,Backbone!$A$2:$A$893,0))","v":8.1999999999999993},null,{"$f":"INDEX(Backbone!$K$1:$K$893,MATCH(I23,Backbone!$A$1:$A$893,0))","v":8.3000000000000007},null,{"$f":"INDEX(Backbone!$L$2:$L$893,MATCH(I23,Backbone!$A$2:$A$893,0))","v":6.1},null,{"$f":"INDEX(Backbone!$M$2:$M$893,MATCH(I23,Backbone!$A$2:$A$893,0))","v":3.5},null,{"$f":"INDEX(Backbone!$N$2:$N$893,MATCH(I23,Backbone!$A$2:$A$893,0))","v":4},null,{"$f":"INDEX(Backbone!$O$2:$O$893,MATCH(I23,Backbone!$A$2:$A$893,0))","v":7},null,{"$f":"INDEX(Backbone!$P$2:$P$893,MATCH(I23,Backbone!$A$2:$A$893,0))","v":6},null,{"$f":"INDEX(Backbone!$Q$2:$Q$893,MATCH(I23,Backbone!$A$2:$A$893,0))","v":0.63222222222222224},null,null,{"$f":"(AG23*$AG$22+AI23*$AI$22+AK23*$AK$22+AM23*$AM$22+AO23*$AO$22+AQ23*$AQ$22+AS23*$AS$22+AU23*$AU$22+AW23*$AW$22)/(SUM($AG$22:$AW$22)*10)","v":{"$error":"#DIV/0!"}},null,null,"Перейти в Реестр ресурсов: ",null,{"$f":"HYPERLINK(\"#\"&ADDRESS(MATCH(I23,Toolbox!$C$1:$C$300),1,,,\"Toolbox\"),VLOOKUP(I23,Toolbox!$C$1:$C$300,1,FALSE))","v":"Рамочная программа Африканских ЦКПЗ по надзору на основе сигнальных событий"}]
[]
[]
[]
[]
[]
[null,null,null,null,null,null,null,null,{"$f":"Backbone!A575","v":"Устойчивость к противомикробным препаратам: руководство для разработки национальных планов действий"},null,null,null,null,null,null,"Руководство для разработки национальных планов действий для решения проблемы устойчивости к противомикробным препаратам.",null,null,null,null,null,null,null,null,{"$f":"INDEX(Backbone!$R$2:$R$893,MATCH(I29,Backbone!$A$2:$A$893,0))","v":"Руководящий документ"},null,null,null,{"$f":"INDEX(Backbone!$S$2:$S$893,MATCH(I29,Backbone!$A$2:$A$893,0))","v":"«Единое здоровье»; ориентированный на конкретную болезнь/угрозу "},null,null,null,{"$f":"INDEX(Backbone!$H$2:$H$893,MATCH(I29,Backbone!$A$2:$A$893,0))","v":10},null,{"$f":"INDEX(Backbone!$I$2:$I$893,MATCH(I29,Backbone!$A$2:$A$893,0))","v":6},null,{"$f":"INDEX(Backbone!$J$2:$J$893,MATCH(I29,Backbone!$A$2:$A$893,0))","v":6.6},null,{"$f":"INDEX(Backbone!$K$1:$K$893,MATCH(I29,Backbone!$A$1:$A$893,0))","v":8.6999999999999993},null,{"$f":"INDEX(Backbone!$L$2:$L$893,MATCH(I29,Backbone!$A$2:$A$893,0))","v":8},null,{"$f":"INDEX(Backbone!$M$2:$M$893,MATCH(I29,Backbone!$A$2:$A$893,0))","v":3.8},null,{"$f":"INDEX(Backbone!$N$2:$N$893,MATCH(I29,Backbone!$A$2:$A$893,0))","v":4.5},null,{"$f":"INDEX(Backbone!$O$2:$O$893,MATCH(I29,Backbone!$A$2:$A$893,0))","v":9},null,{"$f":"INDEX(Backbone!$P$2:$P$893,MATCH(I29,Backbone!$A$2:$A$893,0))","v":10},null,{"$f":"INDEX(Backbone!$Q$2:$Q$893,MATCH(I29,Backbone!$A$2:$A$893,0))","v":0.74},null,null,{"$f":"(AG29*$AG$22+AI29*$AI$22+AK29*$AK$22+AM29*$AM$22+AO29*$AO$22+AQ29*$AQ$22+AS29*$AS$22+AU29*$AU$22+AW29*$AW$22)/(SUM($AG$22:$AW$22)*10)","v":{"$error":"#DIV/0!"}},null,null,"Перейти в Реестр ресурсов: ",null,{"$f":"HYPERLINK(\"#\"&ADDRESS(MATCH(I29,Toolbox!$C$1:$C$300),1,,,\"Toolbox\"),VLOOKUP(I29,Toolbox!$C$1:$C$300,1,FALSE))","v":"Устойчивость к противомикробным препаратам: руководство для разработки национальных планов действий"}]
[]
[]
[]
[]
[]
[null,null,null,null,null,null,null,null,{"$f":"Backbone!A51","v":"Руководство для сбора данных о потенциале страны в отношении охраны здоровья в пограничных районах (BHCDG)"},null,null,null,null,null,null,"Включает шаблонные инструменты, помогающие в проведении обсуждений с представителями национальных, районных и наземных пограничных служб по семи темам, связанным с охраной здоровья на границе.",null,null,null,null,null,null,null,null,{"$f":"INDEX(Backbone!$R$2:$R$893,MATCH(I35,Backbone!$A$2:$A$893,0))","v":"Руководящий документ"},null,null,null,{"$f":"INDEX(Backbone!$S$2:$S$893,MATCH(I35,Backbone!$A$2:$A$893,0))","v":"«Единое здоровье»; ориентированный на конкретную болезнь/угрозу "},null,null,null,{"$f":"INDEX(Backbone!$H$2:$H$893,MATCH(I35,Backbone!$A$2:$A$893,0))","v":8.8000000000000007},null,{"$f":"INDEX(Backbone!$I$2:$I$893,MATCH(I35,Backbone!$A$2:$A$893,0))","v":6.7},null,{"$f":"INDEX(Backbone!$J$2:$J$893,MATCH(I35,Backbone!$A$2:$A$893,0))","v":7.6},null,{"$f":"INDEX(Backbone!$K$1:$K$893,MATCH(I35,Backbone!$A$1:$A$893,0))","v":9},null,{"$f":"INDEX(Backbone!$L$2:$L$893,MATCH(I35,Backbone!$A$2:$A$893,0))","v":7},null,{"$f":"INDEX(Backbone!$M$2:$M$893,MATCH(I35,Backbone!$A$2:$A$893,0))","v":3.8},null,{"$f":"INDEX(Backbone!$N$2:$N$893,MATCH(I35,Backbone!$A$2:$A$893,0))","v":8},null,{"$f":"INDEX(Backbone!$O$2:$O$893,MATCH(I35,Backbone!$A$2:$A$893,0))","v":8.4},null,{"$f":"INDEX(Backbone!$P$2:$P$893,MATCH(I35,Backbone!$A$2:$A$893,0))","v":6},null,{"$f":"INDEX(Backbone!$Q$2:$Q$893,MATCH(I35,Backbone!$A$2:$A$893,0))","v":0.72555555555555551},null,null,{"$f":"(AG35*$AG$22+AI35*$AI$22+AK35*$AK$22+AM35*$AM$22+AO35*$AO$22+AQ35*$AQ$22+AS35*$AS$22+AU35*$AU$22+AW35*$AW$22)/(SUM($AG$22:$AW$22)*10)","v":{"$error":"#DIV/0!"}},null,null,"Перейти в Реестр ресурсов: ",null,{"$f":"HYPERLINK(\"#\"&ADDRESS(MATCH(I35,Toolbox!$C$1:$C$300),1,,,\"Toolbox\"),VLOOKUP(I35,Toolbox!$C$1:$C$300,1,FALSE))","v":"Руководство для сбора данных о потенциале страны в отношении охраны здоровья в пограничных районах (BHCDG)"}]
[]
[]
[]
[]
[]
[null,null,null,null,null,null,null,null,{"$f":"Backbone!A100","v":"Оценка сотрудничества в рамках межотраслевой системы эпиднадзора (ECoSur)"},null,null,null,null,null,null,"Инструмент, предназначенный для оценки организации и функционирования взаимодействия в системе межотраслевого эпиднадзора и для анализа сильных и слабых сторон такого взаимодействия.",null,null,null,null,null,null,null,null,{"$f":"INDEX(Backbone!$R$2:$R$893,MATCH(I41,Backbone!$A$2:$A$893,0))","v":"Инструмент или процесс с методическим руководством/пояснениями"},null,null,null,{"$f":"INDEX(Backbone!$S$2:$S$893,MATCH(I41,Backbone!$A$2:$A$893,0))","v":"«Единое здоровье»; универсальный"},null,null,null,{"$f":"INDEX(Backbone!$H$2:$H$893,MATCH(I41,Backbone!$A$2:$A$893,0))","v":8.3000000000000007},null,{"$f":"INDEX(Backbone!$I$2:$I$893,MATCH(I41,Backbone!$A$2:$A$893,0))","v":6},null,{"$f":"INDEX(Backbone!$J$2:$J$893,MATCH(I41,Backbone!$A$2:$A$893,0))","v":8.5},null,{"$f":"INDEX(Backbone!$K$1:$K$893,MATCH(I41,Backbone!$A$1:$A$893,0))","v":7.8},null,{"$f":"INDEX(Backbone!$L$2:$L$893,MATCH(I41,Backbone!$A$2:$A$893,0))","v":8.3000000000000007},null,{"$f":"INDEX(Backbone!$M$2:$M$893,MATCH(I41,Backbone!$A$2:$A$893,0))","v":6.7},null,{"$f":"INDEX(Backbone!$N$2:$N$893,MATCH(I41,Backbone!$A$2:$A$893,0))","v":3.3},null,{"$f":"INDEX(Backbone!$O$2:$O$893,MATCH(I41,Backbone!$A$2:$A$893,0))","v":9.1},null,{"$f":"INDEX(Backbone!$P$2:$P$893,MATCH(I41,Backbone!$A$2:$A$893,0))","v":4.7},null,{"$f":"INDEX(Backbone!$Q$2:$Q$893,MATCH(I41,Backbone!$A$2:$A$893,0))","v":0.69666666666666677},null,null,{"$f":"(AG41*$AG$22+AI41*$AI$22+AK41*$AK$22+AM41*$AM$22+AO41*$AO$22+AQ41*$AQ$22+AS41*$AS$22+AU41*$AU$22+AW41*$AW$22)/(SUM($AG$22:$AW$22)*10)","v":{"$error":"#DIV/0!"}},null,null,"Перейти в Реестр ресурсов: ",null,{"$f":"HYPERLINK(\"#\"&ADDRESS(MATCH(I41,Toolbox!$C$1:$C$300),1,,,\"Toolbox\"),VLOOKUP(I41,Toolbox!$C$1:$C$300,1,FALSE))","v":"Оценка сотрудничества в рамках межотраслевой системы эпиднадзора (ECoSur)"}]
[]
[]
[]
[]
[]
[null,null,null,null,null,null,null,null,{"$f":"Backbone!A183","v":"Рамочная программа для оценки систем эпиднадзора за здоровьем человека с целью раннего обнаружения вспышек заболеваний "},null,null,null,null,null,null,"Инструмент, предназначенный для оценки организации и функционирования взаимодействия в системе межотраслевого эпиднадзора и для анализа сильных и слабых сторон такого взаимодействия.",null,null,null,null,null,null,null,null,{"$f":"INDEX(Backbone!$R$2:$R$893,MATCH(I47,Backbone!$A$2:$A$893,0))","v":"Руководящий документ"},null,null,null,{"$f":"INDEX(Backbone!$S$2:$S$893,MATCH(I47,Backbone!$A$2:$A$893,0))","v":"Ориентированный на конкретный сектор; универсальный"},null,null,null,{"$f":"INDEX(Backbone!$H$2:$H$893,MATCH(I47,Backbone!$A$2:$A$893,0))","v":9.1999999999999993},null,{"$f":"INDEX(Backbone!$I$2:$I$893,MATCH(I47,Backbone!$A$2:$A$893,0))","v":6.7},null,{"$f":"INDEX(Backbone!$J$2:$J$893,MATCH(I47,Backbone!$A$2:$A$893,0))","v":8.4},null,{"$f":"INDEX(Backbone!$K$1:$K$893,MATCH(I47,Backbone!$A$1:$A$893,0))","v":8.6999999999999993},null,{"$f":"INDEX(Backbone!$L$2:$L$893,MATCH(I47,Backbone!$A$2:$A$893,0))","v":7.1},null,{"$f":"INDEX(Backbone!$M$2:$M$893,MATCH(I47,Backbone!$A$2:$A$893,0))","v":2},null,{"$f":"INDEX(Backbone!$N$2:$N$893,MATCH(I47,Backbone!$A$2:$A$893,0))","v":2.5},null,{"$f":"INDEX(Backbone!$O$2:$O$893,MATCH(I47,Backbone!$A$2:$A$893,0))","v":8.1999999999999993},null,{"$f":"INDEX(Backbone!$P$2:$P$893,MATCH(I47,Backbone!$A$2:$A$893,0))","v":6},null,{"$f":"INDEX(Backbone!$Q$2:$Q$893,MATCH(I47,Backbone!$A$2:$A$893,0))","v":0.65333333333333332},null,null,{"$f":"(AG47*$AG$22+AI47*$AI$22+AK47*$AK$22+AM47*$AM$22+AO47*$AO$22+AQ47*$AQ$22+AS47*$AS$22+AU47*$AU$22+AW47*$AW$22)/(SUM($AG$22:$AW$22)*10)","v":{"$error":"#DIV/0!"}},null,null,"Перейти в Реестр ресурсов: ",null,{"$f":"HYPERLINK(\"#\"&ADDRESS(MATCH(I47,Toolbox!$C$1:$C$300),1,,,\"Toolbox\"),VLOOKUP(I47,Toolbox!$C$1:$C$300,1,FALSE))","v":"Рамочная программа для оценки систем эпиднадзора за здоровьем человека с целью раннего обнаружения вспышек заболеваний "}]
[]
[]
[]
[]
[]
[null,null,null,null,null,null,null,null,{"$f":"Backbone!A33","v":"Рамочная программа для укрепления мер профилактики и борьбы с сибирской язвой "},null,null,null,null,null,null,"Оперативная рамочная программа по планированию и оценке систем синдромного надзора. ",null,null,null,null,null,null,null,null,{"$f":"INDEX(Backbone!$R$2:$R$893,MATCH(I53,Backbone!$A$2:$A$893,0))","v":"Руководящий документ"},null,null,null,{"$f":"INDEX(Backbone!$S$2:$S$893,MATCH(I53,Backbone!$A$2:$A$893,0))","v":"«Единое здоровье»; ориентированный на конкретную болезнь/угрозу "},null,null,null,{"$f":"INDEX(Backbone!$H$2:$H$893,MATCH(I53,Backbone!$A$2:$A$893,0))","v":9.1},null,{"$f":"INDEX(Backbone!$I$2:$I$893,MATCH(I53,Backbone!$A$2:$A$893,0))","v":10},null,{"$f":"INDEX(Backbone!$J$2:$J$893,MATCH(I53,Backbone!$A$2:$A$893,0))","v":8.6},null,{"$f":"INDEX(Backbone!$K$1:$K$893,MATCH(I53,Backbone!$A$1:$A$893,0))","v":4.7},null,{"$f":"INDEX(Backbone!$L$2:$L$893,MATCH(I53,Backbone!$A$2:$A$893,0))","v":9.1999999999999993},null,{"$f":"INDEX(Backbone!$M$2:$M$893,MATCH(I53,Backbone!$A$2:$A$893,0))","v":2},null,{"$f":"INDEX(Backbone!$N$2:$N$893,MATCH(I53,Backbone!$A$2:$A$893,0))","v":6.3},null,{"$f":"INDEX(Backbone!$O$2:$O$893,MATCH(I53,Backbone!$A$2:$A$893,0))","v":4.3},null,{"$f":"INDEX(Backbone!$P$2:$P$893,MATCH(I53,Backbone!$A$2:$A$893,0))","v":6},null,{"$f":"INDEX(Backbone!$Q$2:$Q$893,MATCH(I53,Backbone!$A$2:$A$893,0))","v":0.66888888888888887},null,null,{"$f":"(AG53*$AG$22+AI53*$AI$22+AK53*$AK$22+AM53*$AM$22+AO53*$AO$22+AQ53*$AQ$22+AS53*$AS$22+AU53*$AU$22+AW53*$AW$22)/(SUM($AG$22:$AW$22)*10)","v":{"$error":"#DIV/0!"}},null,null,"Перейти в Реестр ресурсов: ",null,{"$f":"HYPERLINK(\"#\"&ADDRESS(MATCH(I53,Toolbox!$C$1:$C$300),1,,,\"Toolbox\"),VLOOKUP(I53,Toolbox!$C$1:$C$300,1,FALSE))","v":"Рамочная программа для укрепления мер профилактики и борьбы с сибирской язвой "}]
[]
[]
[]
[]
[]
[null,null,null,null,null,null,null,null,{"$f":"Backbone!A239","v":"Национальный семинар по выстраиванию связей ММСП-ПВС"},null,null,null,null,null,null,"Семинар, в ходе которого заинтересованные стороны подхода «Единое здоровье» (ЕЗ) исследуют возможные пересекающиеся области своей работы, рассматриваемые в рамочных программах развития потенциала МЭБ (ПВС) и ММСП (Рамочная программа мониторинга и оценки ММСП), и при необходимости создают соответствующие связи для обеспечения взаимодействия между секторами.  ",null,null,null,null,null,null,null,null,{"$f":"INDEX(Backbone!$R$2:$R$893,MATCH(I59,Backbone!$A$2:$A$893,0))","v":"Инструмент или процесс с методическим руководством/пояснениями"},null,null,null,{"$f":"INDEX(Backbone!$S$2:$S$893,MATCH(I59,Backbone!$A$2:$A$893,0))","v":"«Единое здоровье»; универсальный"},null,null,null,{"$f":"INDEX(Backbone!$H$2:$H$893,MATCH(I59,Backbone!$A$2:$A$893,0))","v":8.6},null,{"$f":"INDEX(Backbone!$I$2:$I$893,MATCH(I59,Backbone!$A$2:$A$893,0))","v":10},null,{"$f":"INDEX(Backbone!$J$2:$J$893,MATCH(I59,Backbone!$A$2:$A$893,0))","v":6.2},null,{"$f":"INDEX(Backbone!$K$1:$K$893,MATCH(I59,Backbone!$A$1:$A$893,0))","v":10},null,{"$f":"INDEX(Backbone!$L$2:$L$893,MATCH(I59,Backbone!$A$2:$A$893,0))","v":6},null,{"$f":"INDEX(Backbone!$M$2:$M$893,MATCH(I59,Backbone!$A$2:$A$893,0))","v":7},null,{"$f":"INDEX(Backbone!$N$2:$N$893,MATCH(I59,Backbone!$A$2:$A$893,0))","v":9},null,{"$f":"INDEX(Backbone!$O$2:$O$893,MATCH(I59,Backbone!$A$2:$A$893,0))","v":8.1999999999999993},null,{"$f":"INDEX(Backbone!$P$2:$P$893,MATCH(I59,Backbone!$A$2:$A$893,0))","v":10},null,{"$f":"INDEX(Backbone!$Q$2:$Q$893,MATCH(I59,Backbone!$A$2:$A$893,0))","v":0.83333333333333337},null,null,{"$f":"(AG59*$AG$22+AI59*$AI$22+AK59*$AK$22+AM59*$AM$22+AO59*$AO$22+AQ59*$AQ$22+AS59*$AS$22+AU59*$AU$22+AW59*$AW$22)/(SUM($AG$22:$AW$22)*10)","v":{"$error":"#DIV/0!"}},null,null,"Перейти в Реестр ресурсов: ",null,{"$f":"HYPERLINK(\"#\"&ADDRESS(MATCH(I59,Toolbox!$C$1:$C$300),1,,,\"Toolbox\"),VLOOKUP(I59,Toolbox!$C$1:$C$300,1,FALSE))","v":"Национальный семинар по выстраиванию связей ММСП-ПВС"}]
[]
[]
[]
[]
[]
[null,null,null,null,null,null,null,null,{"$f":"Backbone!A195","v":"Комплексная система эпиднадзора и мер реагирования (IDSR)"},null,null,null,null,null,null,"Стратегия, разработанная с целью укрепить потенциал стран для выявления и подтверждения предполагаемых случаев заболевания и вспышек и реагирования на них, а также для использования информации для прогнозирования событий в области общественного здравоохранения и планирования мер реагирования на них.",null,null,null,null,null,null,null,null,{"$f":"INDEX(Backbone!$R$2:$R$893,MATCH(I65,Backbone!$A$2:$A$893,0))","v":"Руководящий документ"},null,null,null,{"$f":"INDEX(Backbone!$S$2:$S$893,MATCH(I65,Backbone!$A$2:$A$893,0))","v":"Ориентированный на конкретный сектор; универсальный"},null,null,null,{"$f":"INDEX(Backbone!$H$2:$H$893,MATCH(I65,Backbone!$A$2:$A$893,0))","v":7.4},null,{"$f":"INDEX(Backbone!$I$2:$I$893,MATCH(I65,Backbone!$A$2:$A$893,0))","v":10},null,{"$f":"INDEX(Backbone!$J$2:$J$893,MATCH(I65,Backbone!$A$2:$A$893,0))","v":7.4},null,{"$f":"INDEX(Backbone!$K$1:$K$893,MATCH(I65,Backbone!$A$1:$A$893,0))","v":8.6999999999999993},null,{"$f":"INDEX(Backbone!$L$2:$L$893,MATCH(I65,Backbone!$A$2:$A$893,0))","v":6.7},null,{"$f":"INDEX(Backbone!$M$2:$M$893,MATCH(I65,Backbone!$A$2:$A$893,0))","v":4.5},null,{"$f":"INDEX(Backbone!$N$2:$N$893,MATCH(I65,Backbone!$A$2:$A$893,0))","v":8},null,{"$f":"INDEX(Backbone!$O$2:$O$893,MATCH(I65,Backbone!$A$2:$A$893,0))","v":7.2},null,{"$f":"INDEX(Backbone!$P$2:$P$893,MATCH(I65,Backbone!$A$2:$A$893,0))","v":8.5},null,{"$f":"INDEX(Backbone!$Q$2:$Q$893,MATCH(I65,Backbone!$A$2:$A$893,0))","v":0.76},null,null,{"$f":"(AG65*$AG$22+AI65*$AI$22+AK65*$AK$22+AM65*$AM$22+AO65*$AO$22+AQ65*$AQ$22+AS65*$AS$22+AU65*$AU$22+AW65*$AW$22)/(SUM($AG$22:$AW$22)*10)","v":{"$error":"#DIV/0!"}},null,null,"Перейти в Реестр ресурсов: ",null,{"$f":"HYPERLINK(\"#\"&ADDRESS(MATCH(I65,Toolbox!$C$1:$C$300),1,,,\"Toolbox\"),VLOOKUP(I65,Toolbox!$C$1:$C$300,1,FALSE))","v":"Комплексная система эпиднадзора и мер реагирования (IDSR)"}]
[]
[]
[]
[]
[]
[null,null,null,null,null,null,null,null,{"$f":"Backbone!A256","v":"Инструмент совместной внешней оценки (СВО) "},null,null,null,null,null,null,"Процесс независимой оценки потенциала страны в отношении профилактики и выявления угроз здоровью населения и быстрого реагирования на них, доступный для стран-членов ВОЗ.",null,null,null,null,null,null,null,null,{"$f":"INDEX(Backbone!$R$2:$R$893,MATCH(I71,Backbone!$A$2:$A$893,0))","v":"Инструмент или процесс с методическим руководством/пояснениями"},null,null,null,{"$f":"INDEX(Backbone!$S$2:$S$893,MATCH(I71,Backbone!$A$2:$A$893,0))","v":"«Единое здоровье»; универсальный"},null,null,null,{"$f":"INDEX(Backbone!$H$2:$H$893,MATCH(I71,Backbone!$A$2:$A$893,0))","v":8.6999999999999993},null,{"$f":"INDEX(Backbone!$I$2:$I$893,MATCH(I71,Backbone!$A$2:$A$893,0))","v":10},null,{"$f":"INDEX(Backbone!$J$2:$J$893,MATCH(I71,Backbone!$A$2:$A$893,0))","v":7},null,{"$f":"INDEX(Backbone!$K$1:$K$893,MATCH(I71,Backbone!$A$1:$A$893,0))","v":6.3},null,{"$f":"INDEX(Backbone!$L$2:$L$893,MATCH(I71,Backbone!$A$2:$A$893,0))","v":7.7},null,{"$f":"INDEX(Backbone!$M$2:$M$893,MATCH(I71,Backbone!$A$2:$A$893,0))","v":4.7},null,{"$f":"INDEX(Backbone!$N$2:$N$893,MATCH(I71,Backbone!$A$2:$A$893,0))","v":6},null,{"$f":"INDEX(Backbone!$O$2:$O$893,MATCH(I71,Backbone!$A$2:$A$893,0))","v":9.5},null,{"$f":"INDEX(Backbone!$P$2:$P$893,MATCH(I71,Backbone!$A$2:$A$893,0))","v":10},null,{"$f":"INDEX(Backbone!$Q$2:$Q$893,MATCH(I71,Backbone!$A$2:$A$893,0))","v":0.77666666666666673},null,null,{"$f":"(AG71*$AG$22+AI71*$AI$22+AK71*$AK$22+AM71*$AM$22+AO71*$AO$22+AQ71*$AQ$22+AS71*$AS$22+AU71*$AU$22+AW71*$AW$22)/(SUM($AG$22:$AW$22)*10)","v":{"$error":"#DIV/0!"}},null,null,"Перейти в Реестр ресурсов: ",null,{"$f":"HYPERLINK(\"#\"&ADDRESS(MATCH(I71,Toolbox!$C$1:$C$300),1,,,\"Toolbox\"),VLOOKUP(I71,Toolbox!$C$1:$C$300,1,FALSE))","v":"Инструмент совместной внешней оценки (СВО) "}]
[]
[]
[]
[]
[]
[null,null,null,null,null,null,null,null,{"$f":"Backbone!A291","v":"Методология для анализа законодательства, относящегося к УПП, в продовольственном и сельскохозяйственном секторе"},null,null,null,null,null,null,"Методология, предназначенная для проведения анализов государственного законодательства, относящегося к УПП в продовольственном и сельскохозяйственном секторах.",null,null,null,null,null,null,null,null,{"$f":"INDEX(Backbone!$R$2:$R$893,MATCH(I77,Backbone!$A$2:$A$893,0))","v":"Руководящий документ"},null,null,null,{"$f":"INDEX(Backbone!$S$2:$S$893,MATCH(I77,Backbone!$A$2:$A$893,0))","v":"«Единое здоровье»; универсальный"},null,null,null,{"$f":"INDEX(Backbone!$H$2:$H$893,MATCH(I77,Backbone!$A$2:$A$893,0))","v":7.4},null,{"$f":"INDEX(Backbone!$I$2:$I$893,MATCH(I77,Backbone!$A$2:$A$893,0))","v":5.5},null,{"$f":"INDEX(Backbone!$J$2:$J$893,MATCH(I77,Backbone!$A$2:$A$893,0))","v":7.6},null,{"$f":"INDEX(Backbone!$K$1:$K$893,MATCH(I77,Backbone!$A$1:$A$893,0))","v":4},null,{"$f":"INDEX(Backbone!$L$2:$L$893,MATCH(I77,Backbone!$A$2:$A$893,0))","v":8.1999999999999993},null,{"$f":"INDEX(Backbone!$M$2:$M$893,MATCH(I77,Backbone!$A$2:$A$893,0))","v":4.5},null,{"$f":"INDEX(Backbone!$N$2:$N$893,MATCH(I77,Backbone!$A$2:$A$893,0))","v":4.5},null,{"$f":"INDEX(Backbone!$O$2:$O$893,MATCH(I77,Backbone!$A$2:$A$893,0))","v":6.6},null,{"$f":"INDEX(Backbone!$P$2:$P$893,MATCH(I77,Backbone!$A$2:$A$893,0))","v":4.5},null,{"$f":"INDEX(Backbone!$Q$2:$Q$893,MATCH(I77,Backbone!$A$2:$A$893,0))","v":0.58666666666666667},null,null,{"$f":"(AG77*$AG$22+AI77*$AI$22+AK77*$AK$22+AM77*$AM$22+AO77*$AO$22+AQ77*$AQ$22+AS77*$AS$22+AU77*$AU$22+AW77*$AW$22)/(SUM($AG$22:$AW$22)*10)","v":{"$error":"#DIV/0!"}},null,null,"Перейти в Реестр ресурсов: ",null,{"$f":"HYPERLINK(\"#\"&ADDRESS(MATCH(I77,Toolbox!$C$1:$C$300),1,,,\"Toolbox\"),VLOOKUP(I77,Toolbox!$C$1:$C$300,1,FALSE))","v":"Методология для анализа законодательства, относящегося к УПП, в продовольственном и сельскохозяйственном секторе"}]
[]
[]
[]
[]
[]
[null,null,null,null,null,null,null,null,{"$f":"Backbone!A303","v":"Национальный план действий по обеспечению безопасности в области здравоохранения (NAPHS)"},null,null,null,null,null,null,"Организуемый самими странами процесс планирования, способный ускорить внедрение основных возможностей Международных медико-санитарных правил (ММСП) и основывающийся на концепции «Единое здоровье» и общегосударственном подходе ко всем видам опасностей.",null,null,null,null,null,null,null,null,{"$f":"INDEX(Backbone!$R$2:$R$893,MATCH(I83,Backbone!$A$2:$A$893,0))","v":"Руководящий документ"},null,null,null,{"$f":"INDEX(Backbone!$S$2:$S$893,MATCH(I83,Backbone!$A$2:$A$893,0))","v":"«Единое здоровье»; универсальный"},null,null,null,{"$f":"INDEX(Backbone!$H$2:$H$893,MATCH(I83,Backbone!$A$2:$A$893,0))","v":8},null,{"$f":"INDEX(Backbone!$I$2:$I$893,MATCH(I83,Backbone!$A$2:$A$893,0))","v":9},null,{"$f":"INDEX(Backbone!$J$2:$J$893,MATCH(I83,Backbone!$A$2:$A$893,0))","v":7.8},null,{"$f":"INDEX(Backbone!$K$1:$K$893,MATCH(I83,Backbone!$A$1:$A$893,0))","v":10},null,{"$f":"INDEX(Backbone!$L$2:$L$893,MATCH(I83,Backbone!$A$2:$A$893,0))","v":8},null,{"$f":"INDEX(Backbone!$M$2:$M$893,MATCH(I83,Backbone!$A$2:$A$893,0))","v":4.5},null,{"$f":"INDEX(Backbone!$N$2:$N$893,MATCH(I83,Backbone!$A$2:$A$893,0))","v":10},null,{"$f":"INDEX(Backbone!$O$2:$O$893,MATCH(I83,Backbone!$A$2:$A$893,0))","v":10},null,{"$f":"INDEX(Backbone!$P$2:$P$893,MATCH(I83,Backbone!$A$2:$A$893,0))","v":10},null,{"$f":"INDEX(Backbone!$Q$2:$Q$893,MATCH(I83,Backbone!$A$2:$A$893,0))","v":0.85888888888888881},null,null,{"$f":"(AG83*$AG$22+AI83*$AI$22+AK83*$AK$22+AM83*$AM$22+AO83*$AO$22+AQ83*$AQ$22+AS83*$AS$22+AU83*$AU$22+AW83*$AW$22)/(SUM($AG$22:$AW$22)*10)","v":{"$error":"#DIV/0!"}},null,null,"Перейти в Реестр ресурсов: ",null,{"$f":"HYPERLINK(\"#\"&ADDRESS(MATCH(I83,Toolbox!$C$1:$C$300),1,,,\"Toolbox\"),VLOOKUP(I83,Toolbox!$C$1:$C$300,1,FALSE))","v":"Национальный план действий по обеспечению безопасности в области здравоохранения (NAPHS)"}]
[]
[]
[]
[]
[]
[null,null,null,null,null,null,null,null,{"$f":"Backbone!A332","v":"Сеть для оценки мероприятий на основе концепции «Единое здоровье» (NEOH)"},null,null,null,null,null,null,"Инструмент на базе Excel для оценки приверженности системы эпиднадзора принципу «Единое здоровье» (или степень применения подхода «Единое здоровье», ЕЗ). ",null,null,null,null,null,null,null,null,{"$f":"INDEX(Backbone!$R$2:$R$893,MATCH(I89,Backbone!$A$2:$A$893,0))","v":"Руководящий документ"},null,null,null,{"$f":"INDEX(Backbone!$S$2:$S$893,MATCH(I89,Backbone!$A$2:$A$893,0))","v":"«Единое здоровье»; универсальный"},null,null,null,{"$f":"INDEX(Backbone!$H$2:$H$893,MATCH(I89,Backbone!$A$2:$A$893,0))","v":8.3000000000000007},null,{"$f":"INDEX(Backbone!$I$2:$I$893,MATCH(I89,Backbone!$A$2:$A$893,0))","v":7.7},null,{"$f":"INDEX(Backbone!$J$2:$J$893,MATCH(I89,Backbone!$A$2:$A$893,0))","v":5.3},null,{"$f":"INDEX(Backbone!$K$1:$K$893,MATCH(I89,Backbone!$A$1:$A$893,0))","v":8.9},null,{"$f":"INDEX(Backbone!$L$2:$L$893,MATCH(I89,Backbone!$A$2:$A$893,0))","v":7.8},null,{"$f":"INDEX(Backbone!$M$2:$M$893,MATCH(I89,Backbone!$A$2:$A$893,0))","v":4.7},null,{"$f":"INDEX(Backbone!$N$2:$N$893,MATCH(I89,Backbone!$A$2:$A$893,0))","v":5.3},null,{"$f":"INDEX(Backbone!$O$2:$O$893,MATCH(I89,Backbone!$A$2:$A$893,0))","v":8},null,{"$f":"INDEX(Backbone!$P$2:$P$893,MATCH(I89,Backbone!$A$2:$A$893,0))","v":5.3},null,{"$f":"INDEX(Backbone!$Q$2:$Q$893,MATCH(I89,Backbone!$A$2:$A$893,0))","v":0.68111111111111111},null,null,{"$f":"(AG89*$AG$22+AI89*$AI$22+AK89*$AK$22+AM89*$AM$22+AO89*$AO$22+AQ89*$AQ$22+AS89*$AS$22+AU89*$AU$22+AW89*$AW$22)/(SUM($AG$22:$AW$22)*10)","v":{"$error":"#DIV/0!"}},null,null,"Перейти в Реестр ресурсов: ",null,{"$f":"HYPERLINK(\"#\"&ADDRESS(MATCH(I89,Toolbox!$C$1:$C$300),1,,,\"Toolbox\"),VLOOKUP(I89,Toolbox!$C$1:$C$300,1,FALSE))","v":"Сеть для оценки мероприятий на основе концепции «Единое здоровье» (NEOH)"}]
[]
[]
[]
[]
[]
[null,null,null,null,null,null,null,null,{"$f":"Backbone!A420","v":"Анализ пробелов ПВС, разработанный Всемирной организацией охраны здоровья животных (МЭБ)"},null,null,null,null,null,null,"Помогает странам составить подробный план исходя из результатов оценки ПВС.",null,null,null,null,null,null,null,null,{"$f":"INDEX(Backbone!$R$2:$R$893,MATCH(I95,Backbone!$A$2:$A$893,0))","v":"Инструмент или процесс с методическим руководством/пояснениями"},null,null,null,{"$f":"INDEX(Backbone!$S$2:$S$893,MATCH(I95,Backbone!$A$2:$A$893,0))","v":"Ориентированный на конкретный сектор; универсальный"},null,null,null,{"$f":"INDEX(Backbone!$H$2:$H$893,MATCH(I95,Backbone!$A$2:$A$893,0))","v":6.8},null,{"$f":"INDEX(Backbone!$I$2:$I$893,MATCH(I95,Backbone!$A$2:$A$893,0))","v":8},null,{"$f":"INDEX(Backbone!$J$2:$J$893,MATCH(I95,Backbone!$A$2:$A$893,0))","v":5.6},null,{"$f":"INDEX(Backbone!$K$1:$K$893,MATCH(I95,Backbone!$A$1:$A$893,0))","v":10},null,{"$f":"INDEX(Backbone!$L$2:$L$893,MATCH(I95,Backbone!$A$2:$A$893,0))","v":6},null,{"$f":"INDEX(Backbone!$M$2:$M$893,MATCH(I95,Backbone!$A$2:$A$893,0))","v":4.3},null,{"$f":"INDEX(Backbone!$N$2:$N$893,MATCH(I95,Backbone!$A$2:$A$893,0))","v":9.5},null,{"$f":"INDEX(Backbone!$O$2:$O$893,MATCH(I95,Backbone!$A$2:$A$893,0))","v":4.7},null,{"$f":"INDEX(Backbone!$P$2:$P$893,MATCH(I95,Backbone!$A$2:$A$893,0))","v":7},null,{"$f":"INDEX(Backbone!$Q$2:$Q$893,MATCH(I95,Backbone!$A$2:$A$893,0))","v":0.68777777777777771},null,null,{"$f":"(AG95*$AG$22+AI95*$AI$22+AK95*$AK$22+AM95*$AM$22+AO95*$AO$22+AQ95*$AQ$22+AS95*$AS$22+AU95*$AU$22+AW95*$AW$22)/(SUM($AG$22:$AW$22)*10)","v":{"$error":"#DIV/0!"}},null,null,"Перейти в Реестр ресурсов: ",null,{"$f":"HYPERLINK(\"#\"&ADDRESS(MATCH(I95,Toolbox!$C$1:$C$300),1,,,\"Toolbox\"),VLOOKUP(I95,Toolbox!$C$1:$C$300,1,FALSE))","v":"Анализ пробелов ПВС, разработанный Всемирной организацией охраны здоровья животных (МЭБ)"}]
[]
[]
[]
[]
[]
[null,null,null,null,null,null,null,null,{"$f":"Backbone!A643","v":"Разработка стратегического плана на основе концепции «Единое здоровье»"},null,null,null,null,null,null,"Настоящий инструмент представляет собой пошаговое руководство для разработки национального стратегического плана на основе концепции «Единое здоровье» при помощи коллективного подхода с учетом потребностей заинтересованных сторон.",null,null,null,null,null,null,null,null,{"$f":"INDEX(Backbone!$R$2:$R$893,MATCH(I101,Backbone!$A$2:$A$893,0))","v":"Руководящий документ"},null,null,null,{"$f":"INDEX(Backbone!$S$2:$S$893,MATCH(I101,Backbone!$A$2:$A$893,0))","v":"«Единое здоровье»; универсальный"},null,null,null,{"$f":"INDEX(Backbone!$H$2:$H$893,MATCH(I101,Backbone!$A$2:$A$893,0))","v":8.4},null,{"$f":"INDEX(Backbone!$I$2:$I$893,MATCH(I101,Backbone!$A$2:$A$893,0))","v":8},null,{"$f":"INDEX(Backbone!$J$2:$J$893,MATCH(I101,Backbone!$A$2:$A$893,0))","v":8.4},null,{"$f":"INDEX(Backbone!$K$1:$K$893,MATCH(I101,Backbone!$A$1:$A$893,0))","v":6.7},null,{"$f":"INDEX(Backbone!$L$2:$L$893,MATCH(I101,Backbone!$A$2:$A$893,0))","v":2},null,{"$f":"INDEX(Backbone!$M$2:$M$893,MATCH(I101,Backbone!$A$2:$A$893,0))","v":3.5},null,{"$f":"INDEX(Backbone!$N$2:$N$893,MATCH(I101,Backbone!$A$2:$A$893,0))","v":4},null,{"$f":"INDEX(Backbone!$O$2:$O$893,MATCH(I101,Backbone!$A$2:$A$893,0))","v":6.4},null,{"$f":"INDEX(Backbone!$P$2:$P$893,MATCH(I101,Backbone!$A$2:$A$893,0))","v":8},null,{"$f":"INDEX(Backbone!$Q$2:$Q$893,MATCH(I101,Backbone!$A$2:$A$893,0))","v":0.61555555555555552},null,null,{"$f":"(AG101*$AG$22+AI101*$AI$22+AK101*$AK$22+AM101*$AM$22+AO101*$AO$22+AQ101*$AQ$22+AS101*$AS$22+AU101*$AU$22+AW101*$AW$22)/(SUM($AG$22:$AW$22)*10)","v":{"$error":"#DIV/0!"}},null,null,"Перейти в Реестр ресурсов: ",null,{"$f":"HYPERLINK(\"#\"&ADDRESS(MATCH(I101,Toolbox!$C$1:$C$300),1,,,\"Toolbox\"),VLOOKUP(I101,Toolbox!$C$1:$C$300,1,FALSE))","v":"Разработка стратегического плана на основе концепции «Единое здоровье»"}]
[]
[]
[]
[]
[]
[null,null,null,null,null,null,null,null,{"$f":"Backbone!A413","v":"Инструментарий для картирования и анализа систем «Единое здоровье» (OH-SMART)"},null,null,null,null,null,null,"Процесс из шести этапов, которые позволяют заинтересованным сторонам из разных секторов картировать, анализировать и улучшать существующую систему, требующую междисциплинарного и межотраслевого взаимодействия.",null,null,null,null,null,null,null,null,{"$f":"INDEX(Backbone!$R$2:$R$893,MATCH(I107,Backbone!$A$2:$A$893,0))","v":"Инструмент или процесс с методическим руководством/пояснениями"},null,null,null,{"$f":"INDEX(Backbone!$S$2:$S$893,MATCH(I107,Backbone!$A$2:$A$893,0))","v":"«Единое здоровье»; универсальный"},null,null,null,{"$f":"INDEX(Backbone!$H$2:$H$893,MATCH(I107,Backbone!$A$2:$A$893,0))","v":8.6999999999999993},null,{"$f":"INDEX(Backbone!$I$2:$I$893,MATCH(I107,Backbone!$A$2:$A$893,0))","v":7.3},null,{"$f":"INDEX(Backbone!$J$2:$J$893,MATCH(I107,Backbone!$A$2:$A$893,0))","v":8.4},null,{"$f":"INDEX(Backbone!$K$1:$K$893,MATCH(I107,Backbone!$A$1:$A$893,0))","v":9.3000000000000007},null,{"$f":"INDEX(Backbone!$L$2:$L$893,MATCH(I107,Backbone!$A$2:$A$893,0))","v":8.1999999999999993},null,{"$f":"INDEX(Backbone!$M$2:$M$893,MATCH(I107,Backbone!$A$2:$A$893,0))","v":7.4},null,{"$f":"INDEX(Backbone!$N$2:$N$893,MATCH(I107,Backbone!$A$2:$A$893,0))","v":9.5},null,{"$f":"INDEX(Backbone!$O$2:$O$893,MATCH(I107,Backbone!$A$2:$A$893,0))","v":10},null,{"$f":"INDEX(Backbone!$P$2:$P$893,MATCH(I107,Backbone!$A$2:$A$893,0))","v":10},null,{"$f":"INDEX(Backbone!$Q$2:$Q$893,MATCH(I107,Backbone!$A$2:$A$893,0))","v":0.87555555555555564},null,null,{"$f":"(AG107*$AG$22+AI107*$AI$22+AK107*$AK$22+AM107*$AM$22+AO107*$AO$22+AQ107*$AQ$22+AS107*$AS$22+AU107*$AU$22+AW107*$AW$22)/(SUM($AG$22:$AW$22)*10)","v":{"$error":"#DIV/0!"}},null,null,"Перейти в Реестр ресурсов: ",null,{"$f":"HYPERLINK(\"#\"&ADDRESS(MATCH(I107,Toolbox!$C$1:$C$300),1,,,\"Toolbox\"),VLOOKUP(I107,Toolbox!$C$1:$C$300,1,FALSE))","v":"Инструментарий для картирования и анализа систем «Единое здоровье» (OH-SMART)"}]
[]
[]
[]
[]
[]
[null,null,null,null,null,null,null,null,{"$f":"Backbone!A557","v":"Поэтапный инструмент по искоренению бруцеллеза (STEB)"},null,null,null,null,null,null,"Настоящий инструмент самооценки на базе электронных таблиц создан в помощь странам в оценке имеющегося потенциала профилактики и искоренения бруцеллеза и борьбы с ним.",null,null,null,null,null,null,null,null,{"$f":"INDEX(Backbone!$R$2:$R$893,MATCH(I113,Backbone!$A$2:$A$893,0))","v":"Инструмент или процесс с методическим руководством/пояснениями"},null,null,null,{"$f":"INDEX(Backbone!$S$2:$S$893,MATCH(I113,Backbone!$A$2:$A$893,0))","v":"«Единое здоровье»; ориентированный на конкретную болезнь/угрозу "},null,null,null,{"$f":"INDEX(Backbone!$H$2:$H$893,MATCH(I113,Backbone!$A$2:$A$893,0))","v":9},null,{"$f":"INDEX(Backbone!$I$2:$I$893,MATCH(I113,Backbone!$A$2:$A$893,0))","v":10},null,{"$f":"INDEX(Backbone!$J$2:$J$893,MATCH(I113,Backbone!$A$2:$A$893,0))","v":7.6},null,{"$f":"INDEX(Backbone!$K$1:$K$893,MATCH(I113,Backbone!$A$1:$A$893,0))","v":3.7},null,{"$f":"INDEX(Backbone!$L$2:$L$893,MATCH(I113,Backbone!$A$2:$A$893,0))","v":5.7},null,{"$f":"INDEX(Backbone!$M$2:$M$893,MATCH(I113,Backbone!$A$2:$A$893,0))","v":7.3},null,{"$f":"INDEX(Backbone!$N$2:$N$893,MATCH(I113,Backbone!$A$2:$A$893,0))","v":7},null,{"$f":"INDEX(Backbone!$O$2:$O$893,MATCH(I113,Backbone!$A$2:$A$893,0))","v":8.6},null,{"$f":"INDEX(Backbone!$P$2:$P$893,MATCH(I113,Backbone!$A$2:$A$893,0))","v":8},null,{"$f":"INDEX(Backbone!$Q$2:$Q$893,MATCH(I113,Backbone!$A$2:$A$893,0))","v":0.7433333333333334},null,null,{"$f":"(AG113*$AG$22+AI113*$AI$22+AK113*$AK$22+AM113*$AM$22+AO113*$AO$22+AQ113*$AQ$22+AS113*$AS$22+AU113*$AU$22+AW113*$AW$22)/(SUM($AG$22:$AW$22)*10)","v":{"$error":"#DIV/0!"}},null,null,"Перейти в Реестр ресурсов: ",null,{"$f":"HYPERLINK(\"#\"&ADDRESS(MATCH(I113,Toolbox!$C$1:$C$300),1,,,\"Toolbox\"),VLOOKUP(I113,Toolbox!$C$1:$C$300,1,FALSE))","v":"Поэтапный инструмент по искоренению бруцеллеза (STEB)"}]
[]
[]
[]
[]
[]
[null,null,null,null,null,null,null,null,{"$f":"Backbone!A453","v":"Поэтапный подход к ликвидации бешенства (SARE)"},null,null,null,null,null,null,"Рабочий инструмент планирования, мониторинга и оценки для реализации, разработки и доработки программ борьбы с бешенством.",null,null,null,null,null,null,null,null,{"$f":"INDEX(Backbone!$R$2:$R$893,MATCH(I119,Backbone!$A$2:$A$893,0))","v":"Инструмент самооценки"},null,null,null,{"$f":"INDEX(Backbone!$S$2:$S$893,MATCH(I119,Backbone!$A$2:$A$893,0))","v":"«Единое здоровье»; ориентированный на конкретную болезнь/угрозу "},null,null,null,{"$f":"INDEX(Backbone!$H$2:$H$893,MATCH(I119,Backbone!$A$2:$A$893,0))","v":8},null,{"$f":"INDEX(Backbone!$I$2:$I$893,MATCH(I119,Backbone!$A$2:$A$893,0))","v":9},null,{"$f":"INDEX(Backbone!$J$2:$J$893,MATCH(I119,Backbone!$A$2:$A$893,0))","v":6.6},null,{"$f":"INDEX(Backbone!$K$1:$K$893,MATCH(I119,Backbone!$A$1:$A$893,0))","v":3.3},null,{"$f":"INDEX(Backbone!$L$2:$L$893,MATCH(I119,Backbone!$A$2:$A$893,0))","v":5.7},null,{"$f":"INDEX(Backbone!$M$2:$M$893,MATCH(I119,Backbone!$A$2:$A$893,0))","v":6.8},null,{"$f":"INDEX(Backbone!$N$2:$N$893,MATCH(I119,Backbone!$A$2:$A$893,0))","v":8},null,{"$f":"INDEX(Backbone!$O$2:$O$893,MATCH(I119,Backbone!$A$2:$A$893,0))","v":8.6},null,{"$f":"INDEX(Backbone!$P$2:$P$893,MATCH(I119,Backbone!$A$2:$A$893,0))","v":9.5},null,{"$f":"INDEX(Backbone!$Q$2:$Q$893,MATCH(I119,Backbone!$A$2:$A$893,0))","v":0.72777777777777775},null,null,{"$f":"(AG119*$AG$22+AI119*$AI$22+AK119*$AK$22+AM119*$AM$22+AO119*$AO$22+AQ119*$AQ$22+AS119*$AS$22+AU119*$AU$22+AW119*$AW$22)/(SUM($AG$22:$AW$22)*10)","v":{"$error":"#DIV/0!"}},null,null,"Перейти в Реестр ресурсов: ",null,{"$f":"HYPERLINK(\"#\"&ADDRESS(MATCH(I119,Toolbox!$C$1:$C$300),1,,,\"Toolbox\"),VLOOKUP(I119,Toolbox!$C$1:$C$300,1,FALSE))","v":"Поэтапный подход к ликвидации бешенства (SARE)"}]
[]
[]
[]
[]
[]
[null,null,null,null,null,null,null,null,{"$f":"Backbone!A367","v":"Инструмент оценки систем здравоохранения на предмет предотвращения приоритетных зоонозов и борьбы с ними в соответствии с подходом «Единое здоровье» (OH-SAPZ)"},null,null,null,null,null,null,"Инструмент призван упростить планомерные оценки национальных структур для координации в рамках подхода «Единое здоровье» с точки зрения профилактики и выявления зоонозов и мер борьбы с ними.",null,null,null,null,null,null,null,null,{"$f":"INDEX(Backbone!$R$2:$R$893,MATCH(I125,Backbone!$A$2:$A$893,0))","v":"Инструмент самооценки"},null,null,null,{"$f":"INDEX(Backbone!$S$2:$S$893,MATCH(I125,Backbone!$A$2:$A$893,0))","v":"«Единое здоровье»; универсальный"},null,null,null,{"$f":"INDEX(Backbone!$H$2:$H$893,MATCH(I125,Backbone!$A$2:$A$893,0))","v":7.9},null,{"$f":"INDEX(Backbone!$I$2:$I$893,MATCH(I125,Backbone!$A$2:$A$893,0))","v":7.3},null,{"$f":"INDEX(Backbone!$J$2:$J$893,MATCH(I125,Backbone!$A$2:$A$893,0))","v":7.2},null,{"$f":"INDEX(Backbone!$K$1:$K$893,MATCH(I125,Backbone!$A$1:$A$893,0))","v":7.8},null,{"$f":"INDEX(Backbone!$L$2:$L$893,MATCH(I125,Backbone!$A$2:$A$893,0))","v":6.5},null,{"$f":"INDEX(Backbone!$M$2:$M$893,MATCH(I125,Backbone!$A$2:$A$893,0))","v":5.2},null,{"$f":"INDEX(Backbone!$N$2:$N$893,MATCH(I125,Backbone!$A$2:$A$893,0))","v":4},null,{"$f":"INDEX(Backbone!$O$2:$O$893,MATCH(I125,Backbone!$A$2:$A$893,0))","v":8.3000000000000007},null,{"$f":"INDEX(Backbone!$P$2:$P$893,MATCH(I125,Backbone!$A$2:$A$893,0))","v":9.6999999999999993},null,{"$f":"INDEX(Backbone!$Q$2:$Q$893,MATCH(I125,Backbone!$A$2:$A$893,0))","v":0.71000000000000008},null,null,{"$f":"(AG125*$AG$22+AI125*$AI$22+AK125*$AK$22+AM125*$AM$22+AO125*$AO$22+AQ125*$AQ$22+AS125*$AS$22+AU125*$AU$22+AW125*$AW$22)/(SUM($AG$22:$AW$22)*10)","v":{"$error":"#DIV/0!"}},null,null,"Перейти в Реестр ресурсов: ",null,{"$f":"HYPERLINK(\"#\"&ADDRESS(MATCH(I125,Toolbox!$C$1:$C$300),1,,,\"Toolbox\"),VLOOKUP(I125,Toolbox!$C$1:$C$300,1,FALSE))","v":"Инструмент оценки систем здравоохранения на предмет предотвращения приоритетных зоонозов и борьбы с ними в соответствии с подходом «Единое здоровье» (OH-SAPZ)"}]
[]
[]
[]
[]
[]
[null,null,null,null,null,null,null,null,{"$f":"Backbone!A592","v":"Программа ВОЗ «WHO-CHOICE»"},null,null,null,null,null,null," Программа, помогающая странам расставлять приоритеты в отношении системы здравоохранения с учетом затрат и последствий.",null,null,null,null,null,null,null,null,{"$f":"INDEX(Backbone!$R$2:$R$893,MATCH(I131,Backbone!$A$2:$A$893,0))","v":"Инструмент самооценки"},null,null,null,{"$f":"INDEX(Backbone!$S$2:$S$893,MATCH(I131,Backbone!$A$2:$A$893,0))","v":"Ориентированный на конкретный сектор; универсальный"},null,null,null,{"$f":"INDEX(Backbone!$H$2:$H$893,MATCH(I131,Backbone!$A$2:$A$893,0))","v":9.6},null,{"$f":"INDEX(Backbone!$I$2:$I$893,MATCH(I131,Backbone!$A$2:$A$893,0))","v":8},null,{"$f":"INDEX(Backbone!$J$2:$J$893,MATCH(I131,Backbone!$A$2:$A$893,0))","v":7.4},null,{"$f":"INDEX(Backbone!$K$1:$K$893,MATCH(I131,Backbone!$A$1:$A$893,0))","v":5.3},null,{"$f":"INDEX(Backbone!$L$2:$L$893,MATCH(I131,Backbone!$A$2:$A$893,0))","v":7.3},null,{"$f":"INDEX(Backbone!$M$2:$M$893,MATCH(I131,Backbone!$A$2:$A$893,0))","v":5},null,{"$f":"INDEX(Backbone!$N$2:$N$893,MATCH(I131,Backbone!$A$2:$A$893,0))","v":8.5},null,{"$f":"INDEX(Backbone!$O$2:$O$893,MATCH(I131,Backbone!$A$2:$A$893,0))","v":5},null,{"$f":"INDEX(Backbone!$P$2:$P$893,MATCH(I131,Backbone!$A$2:$A$893,0))","v":9},null,{"$f":"INDEX(Backbone!$Q$2:$Q$893,MATCH(I131,Backbone!$A$2:$A$893,0))","v":0.72333333333333327},null,null,{"$f":"(AG131*$AG$22+AI131*$AI$22+AK131*$AK$22+AM131*$AM$22+AO131*$AO$22+AQ131*$AQ$22+AS131*$AS$22+AU131*$AU$22+AW131*$AW$22)/(SUM($AG$22:$AW$22)*10)","v":{"$error":"#DIV/0!"}},null,null,"Перейти в Реестр ресурсов: ",null,{"$f":"HYPERLINK(\"#\"&ADDRESS(MATCH(I131,Toolbox!$C$1:$C$300),1,,,\"Toolbox\"),VLOOKUP(I131,Toolbox!$C$1:$C$300,1,FALSE))","v":"Программа ВОЗ «WHO-CHOICE»"}]
[]
[]
[]
[]
[]
[]
[]
[]
[]
[]
[]
[]
[]
[]
[]
[]
[]
[]
[]
[null,"РЕСУРСЫ УРОВНЯ 2"]
[]
[]
[]
[]
[null,null,null,null,null,null,null,null,null,null,null,null,null,null,null,null,null,null,null,null,null,null,null,null,null,null,null,null,null,null,null,null,"Доступность",null,"Язык",null,"Простота использования",null,"Гибкость",null,"Потребности в данных",null,"Анализ данных",null,"Приемлемость",null,"«Единое здоровье»",null,"Воздействие"]
[]
[]
[]
[]
[]
[]
[null,null,null,null,null,null,null,null,null,null,null,null,null,null,null,null,null,null,null,null,null,null,null,null,null,null,null,null,null,null,null,null,null,null,null,null,null,null,null,null,null,null,null,null,null,null,null,null,null,null,"ИСХОДНАЯ ОЦЕНКА",null,null,"СКОРРЕКТИРОВАННАЯ ОЦЕНКА \n(Исходя из предпочтений пользователей)"]
[]
[]
[]
[null,null,null,"КЛАССИФИКАЦИЯ",null,null,null,null,"НАЗВАНИЕ РЕСУРСА",null,null,null,null,null,null,"КРАТКОЕ ОПИСАНИЕ",null,null,null,null,null,null,null,null,"ВИД РЕСУРСА",null,null,null,"ОБЩАЯ НАПРАВЛЕННОСТЬ РЕСУРСА"]
[]
[]
[]
[null,null,null,null,null,null,null,null,null,null,null,null,null,null,null,null,null,null,null,null,null,null,null,null,null,null,null,null,null,null,null,null,{"$f":"'Attribute Survey'!S130","v":0},null,{"$f":"'Attribute Survey'!S134","v":0},null,{"$f":"'Attribute Survey'!S138","v":0},null,{"$f":"'Attribute Survey'!S142","v":0},null,{"$f":"'Attribute Survey'!S146","v":0},null,{"$f":"'Attribute Survey'!S150","v":0},null,{"$f":"'Attribute Survey'!S154","v":0},null,{"$f":"'Attribute Survey'!S158","v":0},null,{"$f":"'Attribute Survey'!S162","v":0}]
[null,null,null,"Другие полезные ресурсы",null,null,null,null,{"$f":"Backbone!A643","v":"Разработка стратегического плана на основе концепции «Единое здоровье»"},null,null,null,null,null,null,"Настоящий инструмент представляет собой пошаговое руководство для разработки национального стратегического плана на основе концепции «Единое здоровье» при помощи коллективного подхода с учетом потребностей заинтересованных сторон.",null,null,null,null,null,null,null,null,{"$f":"INDEX(Backbone!$R$2:$R$893,MATCH(I172,Backbone!$A$2:$A$893,0))","v":"Руководящий документ"},null,null,null,{"$f":"INDEX(Backbone!$S$2:$S$893,MATCH(I172,Backbone!$A$2:$A$893,0))","v":"«Единое здоровье»; универсальный"},null,null,null,{"$f":"INDEX(Backbone!$H$2:$H$893,MATCH(I172,Backbone!$A$2:$A$893,0))","v":8.4},null,{"$f":"INDEX(Backbone!$I$2:$I$893,MATCH(I172,Backbone!$A$2:$A$893,0))","v":8},null,{"$f":"INDEX(Backbone!$J$2:$J$893,MATCH(I172,Backbone!$A$2:$A$893,0))","v":8.4},null,{"$f":"INDEX(Backbone!$K$1:$K$893,MATCH(I172,Backbone!$A$1:$A$893,0))","v":6.7},null,{"$f":"INDEX(Backbone!$L$2:$L$893,MATCH(I172,Backbone!$A$2:$A$893,0))","v":2},null,{"$f":"INDEX(Backbone!$M$2:$M$893,MATCH(I172,Backbone!$A$2:$A$893,0))","v":3.5},null,{"$f":"INDEX(Backbone!$N$2:$N$893,MATCH(I172,Backbone!$A$2:$A$893,0))","v":4},null,{"$f":"INDEX(Backbone!$O$2:$O$893,MATCH(I172,Backbone!$A$2:$A$893,0))","v":6.4},null,{"$f":"INDEX(Backbone!$P$2:$P$893,MATCH(I172,Backbone!$A$2:$A$893,0))","v":8},null,{"$f":"INDEX(Backbone!$Q$2:$Q$893,MATCH(I172,Backbone!$A$2:$A$893,0))","v":0.61555555555555552},null,null,{"$f":"(AG172*$AG$22+AI172*$AI$22+AK172*$AK$22+AM172*$AM$22+AO172*$AO$22+AQ172*$AQ$22+AS172*$AS$22+AU172*$AU$22+AW172*$AW$22)/(SUM($AG$22:$AW$22)*10)","v":{"$error":"#DIV/0!"}},null,null,"Перейти в Реестр ресурсов: ",null,{"$f":"HYPERLINK(\"#\"&ADDRESS(MATCH(I172,Toolbox!$C$1:$C$300),1,,,\"Toolbox\"),VLOOKUP(I172,Toolbox!$C$1:$C$300,1,FALSE))","v":"Разработка стратегического плана на основе концепции «Единое здоровье»"}]
[]
[]
[]
[]
[]
[]
[]
[]
[]
[]
[]
[]
[]
[]
[]
[]
[]
[]
[]
[]
[]
[]
[]
[]
[null,null,null,null,null,null,null,null,null,null,null,null,null,null,null,null,null,null,null,null,null,null,null,null,null,null,null,null,null,null,null,null,"Доступность",null,"Язык",null,"Простота использования",null,"Гибкость",null,"Потребности в данных",null,"Анализ данных",null,"Приемлемость",null,"«Единое здоровье»",null,"Воздействие"]
[]
[]
[]
[null,"РЕСУРСЫ УРОВНЯ 3"]
[]
[]
[null,null,null,null,null,null,null,null,null,null,null,null,null,null,null,null,null,null,null,null,null,null,null,null,null,null,null,null,null,null,null,null,null,null,null,null,null,null,null,null,null,null,null,null,null,null,null,null,null,null,"ИСХОДНАЯ ОЦЕНКА",null,null,"СКОРРЕКТИРОВАННАЯ ОЦЕНКА \n(Исходя из предпочтений пользователей)"]
[]
[]
[]
[null,null,null,"КЛАССИФИКАЦИЯ",null,null,null,null,"НАЗВАНИЕ РЕСУРСА",null,null,null,null,null,null,"КРАТКОЕ ОПИСАНИЕ",null,null,null,null,null,null,null,null,"ВИД РЕСУРСА",null,null,null,"ОБЩАЯ НАПРАВЛЕННОСТЬ РЕСУРСА"]
[]
[]
[]
[null,null,null,null,null,null,null,null,null,null,null,null,null,null,null,null,null,null,null,null,null,null,null,null,null,null,null,null,null,null,null,null,{"$f":"'Attribute Survey'!S231","v":0},null,{"$f":"'Attribute Survey'!S235","v":0},null,{"$f":"'Attribute Survey'!S239","v":0},null,{"$f":"'Attribute Survey'!S243","v":0},null,{"$f":"'Attribute Survey'!S247","v":0},null,{"$f":"'Attribute Survey'!S251","v":0},null,{"$f":"'Attribute Survey'!S255","v":0},null,{"$f":"'Attribute Survey'!S259","v":0},null,{"$f":"'Attribute Survey'!S263","v":0}]
[null,null,null,"Другие полезные ресурсы",null,null,null,null,{"$f":"Backbone!A61","v":"Стратегии трансграничной межотраслевой коммуникации и координации"},null,null,null,null,null,null,"Семинар, служащий руководством заинтересованным сторонам в процессе определения отраслевых механизмов обмена информацией и создания межотраслевых или трансграничных механизмов обмена информацией",null,null,null,null,null,null,null,null,{"$f":"INDEX(Backbone!$R$2:$R$893,MATCH(I213,Backbone!$A$2:$A$893,0))","v":"Инструмент или процесс с методическим руководством/пояснениями"},null,null,null,{"$f":"INDEX(Backbone!$S$2:$S$893,MATCH(I213,Backbone!$A$2:$A$893,0))","v":"«Единое здоровье»; универсальный "},null,null,null,{"$f":"INDEX(Backbone!$H$2:$H$893,MATCH(I213,Backbone!$A$2:$A$893,0))","v":8.9},null,{"$f":"INDEX(Backbone!$I$2:$I$893,MATCH(I213,Backbone!$A$2:$A$893,0))","v":6},null,{"$f":"INDEX(Backbone!$J$2:$J$893,MATCH(I213,Backbone!$A$2:$A$893,0))","v":7.6},null,{"$f":"INDEX(Backbone!$K$1:$K$893,MATCH(I213,Backbone!$A$1:$A$893,0))","v":9},null,{"$f":"INDEX(Backbone!$L$2:$L$893,MATCH(I213,Backbone!$A$2:$A$893,0))","v":5.6},null,{"$f":"INDEX(Backbone!$M$2:$M$893,MATCH(I213,Backbone!$A$2:$A$893,0))","v":3.5},null,{"$f":"INDEX(Backbone!$N$2:$N$893,MATCH(I213,Backbone!$A$2:$A$893,0))","v":4},null,{"$f":"INDEX(Backbone!$O$2:$O$893,MATCH(I213,Backbone!$A$2:$A$893,0))","v":8.3000000000000007},null,{"$f":"INDEX(Backbone!$P$2:$P$893,MATCH(I213,Backbone!$A$2:$A$893,0))","v":8},null,{"$f":"INDEX(Backbone!$Q$2:$Q$893,MATCH(I213,Backbone!$A$2:$A$893,0))","v":0.67666666666666675},null,null,{"$f":"(AG213*$AG$22+AI213*$AI$22+AK213*$AK$22+AM213*$AM$22+AO213*$AO$22+AQ213*$AQ$22+AS213*$AS$22+AU213*$AU$22+AW213*$AW$22)/(SUM($AG$22:$AW$22)*10)","v":{"$error":"#DIV/0!"}},null,null,"Перейти в Реестр ресурсов: ",null,{"$f":"HYPERLINK(\"#\"&ADDRESS(MATCH(I213,Toolbox!$C$1:$C$300),1,,,\"Toolbox\"),VLOOKUP(I213,Toolbox!$C$1:$C$300,1,FALSE))","v":"Стратегии трансграничной межотраслевой коммуникации и координации"}]
[]
[]
[]
[]
[]
[null,null,null,null,null,null,null,null,{"$f":"Backbone!A643","v":"Разработка стратегического плана на основе концепции «Единое здоровье»"},null,null,null,null,null,null,"Настоящий инструмент представляет собой пошаговое руководство для разработки национального стратегического плана на основе концепции «Единое здоровье» при помощи коллективного подхода с учетом потребностей заинтересованных сторон",null,null,null,null,null,null,null,null,{"$f":"INDEX(Backbone!$R$2:$R$893,MATCH(I219,Backbone!$A$2:$A$893,0))","v":"Руководящий документ"},null,null,null,{"$f":"INDEX(Backbone!$S$2:$S$893,MATCH(I219,Backbone!$A$2:$A$893,0))","v":"«Единое здоровье»; универсальный"},null,null,null,{"$f":"INDEX(Backbone!$H$2:$H$893,MATCH(I219,Backbone!$A$2:$A$893,0))","v":8.4},null,{"$f":"INDEX(Backbone!$I$2:$I$893,MATCH(I219,Backbone!$A$2:$A$893,0))","v":8},null,{"$f":"INDEX(Backbone!$J$2:$J$893,MATCH(I219,Backbone!$A$2:$A$893,0))","v":8.4},null,{"$f":"INDEX(Backbone!$K$1:$K$893,MATCH(I219,Backbone!$A$1:$A$893,0))","v":6.7},null,{"$f":"INDEX(Backbone!$L$2:$L$893,MATCH(I219,Backbone!$A$2:$A$893,0))","v":2},null,{"$f":"INDEX(Backbone!$M$2:$M$893,MATCH(I219,Backbone!$A$2:$A$893,0))","v":3.5},null,{"$f":"INDEX(Backbone!$N$2:$N$893,MATCH(I219,Backbone!$A$2:$A$893,0))","v":4},null,{"$f":"INDEX(Backbone!$O$2:$O$893,MATCH(I219,Backbone!$A$2:$A$893,0))","v":6.4},null,{"$f":"INDEX(Backbone!$P$2:$P$893,MATCH(I219,Backbone!$A$2:$A$893,0))","v":8},null,{"$f":"INDEX(Backbone!$Q$2:$Q$893,MATCH(I219,Backbone!$A$2:$A$893,0))","v":0.61555555555555552},null,null,{"$f":"(AG219*$AG$22+AI219*$AI$22+AK219*$AK$22+AM219*$AM$22+AO219*$AO$22+AQ219*$AQ$22+AS219*$AS$22+AU219*$AU$22+AW219*$AW$22)/(SUM($AG$22:$AW$22)*10)","v":{"$error":"#DIV/0!"}},null,null,"Перейти в Реестр ресурсов: ",null,{"$f":"HYPERLINK(\"#\"&ADDRESS(MATCH(I219,Toolbox!$C$1:$C$300),1,,,\"Toolbox\"),VLOOKUP(I219,Toolbox!$C$1:$C$300,1,FALSE))","v":"Разработка стратегического плана на основе концепции «Единое здоровье»"}]

{"sheet":"P4_tools","index":41,"n_rows":221,"n_cols":59,"rows_kept":221,"cut":false,"hidden":false,"merged":[[47,48,51,48],[47,50,51,51],[47,53,51,54],[47,56,51,57],[41,8,45,13],[41,15,45,22],[41,24,45,26],[41,28,45,30],[41,32,45,32],[41,34,45,34],[41,36,45,36],[41,38,45,38],[41,40,45,40],[41,42,45,42],[41,44,45,44],[41,46,45,46],[41,48,45,48],[41,50,45,51],[41,53,45,54],[77,42,81,42],[77,44,81,44],[77,46,81,46],[77,48,81,48],[77,50,81,51],[77,53,81,54],[77,56,81,57],[77,58,81,62],[53,8,57,13],[77,8,81,13],[77,15,81,22],[77,24,81,26],[77,28,81,30],[77,32,81,32],[77,34,81,34],[77,36,81,36],[77,38,81,38],[77,40,81,40],[53,15,57,22],[53,24,57,26],[53,28,57,30],[53,32,57,32],[53,34,57,34],[53,36,57,36],[53,38,57,38],[53,40,57,40],[29,42,33,42],[47,36,51,36],[47,38,51,38],[47,40,51,40],[47,42,51,42],[29,8,33,13],[29,15,33,22],[29,24,33,26],[29,28,33,30],[29,32,33,32],[29,34,33,34],[29,36,33,36],[29,38,33,38],[29,40,33,40],[47,8,51,13],[47,15,51,22],[47,24,51,26],[47,28,51,30],[47,32,51,32],[47,34,51,34],[119,56,123,57],[119,58,123,62],[47,58,51,62],[89,42,93,42],[89,44,93,44],[89,46,93,46],[89,48,93,48],[89,50,93,51],[89,53,93,54],[83,53,87,54],[71,53,75,54],[59,42,63,42],[59,44,63,44],[59,46,63,46],[59,48,63,48],[59,50,63,51],[59,53,63,54],[53,44,57,44],[53,46,57,46],[53,48,57,48],[53,50,57,51],[53,53,57,54],[53,56,57,57],[53,58,57,62],[207,53,211,54],[207,32,211,32],[207,34,211,34],[207,36,211,36],[207,38,211,38],[207,40,211,40],[207,42,211,42],[172,34,176,34],[191,44,205,44],[198,50,205,51],[191,42,205,42],[172,44,176,44],[172,46,176,46],[172,36,176,36],[172,38,176,38],[198,53,205,54],[172,48,176,48],[172,50,176,51],[172,53,176,54],[172,42,176,42],[172,40,176,40],[172,32,176,32],[157,50,164,51],[157,53,164,54],[150,38,164,38],[150,40,164,40],[150,42,164,42],[150,44,164,44],[150,46,164,46],[166,40,170,40],[166,42,170,42],[166,50,170,51],[166,53,170,54],[166,46,170,46],[166,48,170,48],[166,38,170,38],[166,44,170,44],[220,48,224,48],[220,36,224,36],[220,38,224,38],[220,40,224,40],[220,42,224,42],[220,44,224,44],[220,46,224,46],[202,8,205,13],[202,15,205,22],[202,24,205,26],[202,28,205,30],[191,32,205,32],[191,34,205,34],[191,36,205,36],[191,38,205,38],[191,40,205,40],[214,8,218,13],[214,15,218,22],[214,24,218,26],[214,28,218,30],[214,32,218,32],[191,46,205,46],[191,48,205,48],[214,46,218,46],[214,50,218,51],[214,53,218,54],[220,8,224,13],[214,42,218,42],[214,44,218,44],[207,8,211,13],[207,15,211,22],[207,24,211,26],[207,28,211,30],[220,50,224,51],[220,53,224,54],[220,28,224,30],[220,32,224,32],[220,34,224,34],[214,34,218,34],[214,36,218,36],[214,38,218,38],[214,40,218,40],[220,15,224,22],[220,24,224,26],[207,44,211,44],[207,46,211,46],[207,48,211,48],[207,50,211,51],[214,48,218,48],[161,8,164,13],[161,15,164,22],[161,24,164,26],[161,28,164,30],[150,32,164,32],[150,34,164,34],[150,36,164,36],[166,8,170,13],[166,15,170,22],[166,24,170,26],[166,28,170,30],[166,32,170,32],[166,34,170,34],[166,36,170,36],[172,8,176,13],[172,15,176,22],[172,24,176,26],[172,28,176,30],[150,48,164,48],[125,53,129,54],[125,40,129,40],[125,42,129,42],[125,44,129,44],[125,46,129,46],[125,48,129,48],[125,50,129,51],[107,50,111,51],[107,53,111,54],[107,40,111,40],[107,42,111,42],[107,44,111,44],[107,46,111,46],[107,48,111,48],[113,53,117,54],[119,42,123,42],[119,44,123,44],[119,46,123,46],[119,48,123,48],[119,50,123,51],[119,53,123,54],[119,40,123,40],[113,40,117,40],[113,42,117,42],[125,8,129,13],[125,15,129,22],[125,24,129,26],[125,28,129,30],[125,32,129,32],[125,34,129,34],[125,36,129,36],[125,38,129,38],[107,38,111,38],[119,8,123,13],[119,15,123,22],[119,24,123,26],[119,28,123,30],[119,32,123,32],[119,34,123,34],[119,36,123,36],[119,38,123,38],[113,36,117,36],[113,38,117,38],[101,53,105,54],[107,8,111,13],[107,15,111,22],[107,24,111,26],[107,28,111,30],[107,32,111,32],[107,34,111,34],[107,36,111,36],[101,36,105,36],[101,38,105,38],[101,40,105,40],[101,42,105,42],[101,44,105,44],[101,46,105,46],[101,8,105,13],[101,15,105,22],[101,24,105,26],[101,28,105,30],[101,32,105,32],[101,34,105,34],[89,8,93,13],[89,15,93,22],[89,24,93,26],[89,28,93,30],[89,32,93,32],[89,34,93,34],[89,36,93,36],[89,38,93,38],[89,40,93,40],[83,40,87,40],[83,42,87,42],[83,44,87,44],[83,46,87,46],[83,48,87,48],[83,50,87,51],[83,8,87,13],[83,15,87,22],[83,36,87,36],[83,38,87,38],[83,24,87,26],[83,28,87,30],[83,32,87,32],[83,34,87,34],[71,38,75,38],[65,48,69,48],[65,50,69,51],[65,53,69,54],[71,8,75,13],[71,15,75,22],[71,24,75,26],[71,28,75,30],[71,32,75,32],[71,34,75,34],[71,36,75,36],[65,36,69,36],[65,38,69,38],[65,40,69,40],[65,42,69,42],[65,44,69,44],[65,46,69,46],[65,8,69,13],[65,15,69,22],[65,24,69,26],[65,28,69,30],[65,32,69,32],[65,34,69,34],[71,50,75,51],[71,40,75,40],[71,42,75,42],[71,44,75,44],[71,46,75,46],[71,48,75,48],[35,46,39,46],[35,48,39,48],[35,50,39,51],[35,24,39,26],[35,28,39,30],[35,32,39,32],[35,34,39,34],[35,36,39,36],[35,38,39,38],[59,28,63,30],[59,32,63,32],[59,34,63,34],[59,36,63,36],[59,38,63,38],[59,40,63,40],[35,40,39,40],[35,42,39,42],[35,44,39,44],[53,42,57,42],[23,15,27,22],[23,24,27,26],[23,28,27,30],[23,32,27,32],[23,34,27,34],[23,36,27,36],[23,38,27,38],[23,40,27,40],[23,42,27,42],[59,8,63,13],[59,15,63,22],[59,24,63,26],[1,1,3,62],[23,56,27,57],[23,58,27,62],[35,56,39,57],[35,58,39,62],[59,56,63,57],[59,58,63,62],[17,3,20,6],[17,8,20,13],[17,15,20,22],[47,44,51,44],[17,24,20,26],[17,28,20,30],[23,8,27,13],[23,50,27,51],[23,53,27,54],[35,8,39,13],[35,15,39,22],[23,44,27,44],[23,46,27,46],[23,48,27,48],[65,56,69,57],[65,58,69,62],[6,32,20,32],[6,34,20,34],[6,36,20,36],[6,38,20,38],[6,40,20,40],[6,42,20,42],[6,44,20,44],[6,46,20,46],[6,48,20,48],[13,50,20,51],[13,53,20,54],[35,53,39,54],[29,44,33,44],[29,46,33,46],[29,48,33,48],[29,50,33,51],[29,53,33,54],[29,56,33,57],[29,58,33,62],[41,56,45,57],[41,58,45,62],[47,46,51,46],[71,56,75,57],[71,58,75,62],[83,56,87,57],[83,58,87,62],[89,56,93,57],[89,58,93,62],[101,56,105,57],[101,58,105,62],[107,56,111,57],[107,58,111,62],[220,56,224,57],[220,58,224,62],[125,56,129,57],[125,58,129,62],[166,56,170,57],[166,58,170,62],[172,56,176,57],[172,58,176,62],[207,56,211,57],[207,58,211,62],[214,56,218,57],[214,58,218,62],[113,44,117,44],[113,46,117,46],[113,48,117,48],[113,50,117,51],[95,8,99,13],[95,15,99,22],[95,24,99,26],[95,28,99,30],[95,32,99,32],[95,34,99,34],[95,36,99,36],[95,38,99,38],[95,40,99,40],[101,48,105,48],[101,50,105,51],[113,56,117,57],[113,58,117,62],[23,3,129,6],[17,1,131,1],[214,3,224,6],[207,3,211,6],[166,3,176,6],[161,1,184,1],[161,3,164,6],[202,1,228,1],[95,42,99,42],[95,44,99,44],[95,46,99,46],[95,48,99,48],[95,50,99,51],[95,53,99,54],[95,56,99,57],[95,58,99,62],[113,8,117,13],[113,15,117,22],[113,24,117,26],[113,28,117,30],[113,32,117,32],[113,34,117,34]]}
[]
[null,"Ресурсы по национальным оперативным планам"]
[]
[]
[]
[]
[null,null,null,null,null,null,null,null,null,null,null,null,null,null,null,null,null,null,null,null,null,null,null,null,null,null,null,null,null,null,null,null,"Доступность",null,"Язык",null,"Простота использования",null,"Гибкость",null,"Потребности в данных",null,"Анализ данных",null,"Приемлемость",null,"«Единое здоровье»",null,"Воздействие"]
[]
[]
[]
[]
[]
[]
[null,null,null,null,null,null,null,null,null,null,null,null,null,null,null,null,null,null,null,null,null,null,null,null,null,null,null,null,null,null,null,null,null,null,null,null,null,null,null,null,null,null,null,null,null,null,null,null,null,null,"ИСХОДНАЯ ОЦЕНКА",null,null,"СКОРРЕКТИРОВАННАЯ ОЦЕНКА \n(Исходя из предпочтений пользователей)"]
[]
[]
[]
[null,"РЕСУРСЫ УРОВНЯ 1",null,"КЛАССИФИКАЦИЯ",null,null,null,null,"НАЗВАНИЕ РЕСУРСА",null,null,null,null,null,null,"КРАТКОЕ ОПИСАНИЕ",null,null,null,null,null,null,null,null,"ВИД РЕСУРСА",null,null,null,"ОБЩАЯ НАПРАВЛЕННОСТЬ РЕСУРСА"]
[]
[]
[]
[]
[null,null,null,null,null,null,null,null,null,null,null,null,null,null,null,null,null,null,null,null,null,null,null,null,null,null,null,null,null,null,null,null,{"$f":"'Attribute Survey'!S22","v":0},null,{"$f":"'Attribute Survey'!S26","v":0},null,{"$f":"'Attribute Survey'!S30","v":0},null,{"$f":"'Attribute Survey'!S34","v":0},null,{"$f":"'Attribute Survey'!S38","v":0},null,{"$f":"'Attribute Survey'!S42","v":0},null,{"$f":"'Attribute Survey'!S46","v":0},null,{"$f":"'Attribute Survey'!S50","v":0},null,{"$f":"'Attribute Survey'!S54","v":0}]
[null,null,null,"Другие полезные ресурсы",null,null,null,null,{"$f":"Backbone!A2","v":"Рамочная программа Африканских ЦКПЗ по надзору на основе сигнальных событий"},null,null,null,null,null,null,"Руководство для работников системы общественного здравоохранения, стремящихся внедрить надзор на основе событий на всех административных уровнях.",null,null,null,null,null,null,null,null,{"$f":"INDEX(Backbone!$R$2:$R$893,MATCH(I24,Backbone!$A$2:$A$893,0))","v":"Руководящий документ"},null,null,null,{"$f":"INDEX(Backbone!$S$2:$S$893,MATCH(I24,Backbone!$A$2:$A$893,0))","v":"«Единое здоровье»; универсальный "},null,null,null,{"$f":"INDEX(Backbone!$H$2:$H$893,MATCH(I24,Backbone!$A$2:$A$893,0))","v":8},null,{"$f":"INDEX(Backbone!$I$2:$I$893,MATCH(I24,Backbone!$A$2:$A$893,0))","v":6},null,{"$f":"INDEX(Backbone!$J$2:$J$893,MATCH(I24,Backbone!$A$2:$A$893,0))","v":8.1999999999999993},null,{"$f":"INDEX(Backbone!$K$1:$K$893,MATCH(I24,Backbone!$A$1:$A$893,0))","v":8.3000000000000007},null,{"$f":"INDEX(Backbone!$L$2:$L$893,MATCH(I24,Backbone!$A$2:$A$893,0))","v":6.1},null,{"$f":"INDEX(Backbone!$M$2:$M$893,MATCH(I24,Backbone!$A$2:$A$893,0))","v":3.5},null,{"$f":"INDEX(Backbone!$N$2:$N$893,MATCH(I24,Backbone!$A$2:$A$893,0))","v":4},null,{"$f":"INDEX(Backbone!$O$2:$O$893,MATCH(I24,Backbone!$A$2:$A$893,0))","v":7},null,{"$f":"INDEX(Backbone!$P$2:$P$893,MATCH(I24,Backbone!$A$2:$A$893,0))","v":6},null,{"$f":"INDEX(Backbone!$Q$2:$Q$893,MATCH(I24,Backbone!$A$2:$A$893,0))","v":0.63222222222222224},null,null,{"$f":"(AG24*$AG$23+AI24*$AI$23+AK24*$AK$23+AM24*$AM$23+AO24*$AO$23+AQ24*$AQ$23+AS24*$AS$23+AU24*$AU$23+AW24*$AW$23)/(SUM($AG$23:$AW$23)*10)","v":{"$error":"#DIV/0!"}},null,null,"Перейти в Реестр ресурсов: ",null,{"$f":"HYPERLINK(\"#\"&ADDRESS(MATCH(I24,Toolbox!$C$1:$C$300),1,,,\"Toolbox\"),VLOOKUP(I24,Toolbox!$C$1:$C$300,1,FALSE))","v":"Рамочная программа Африканских ЦКПЗ по надзору на основе сигнальных событий"}]
[]
[]
[]
[]
[]
[null,null,null,null,null,null,null,null,{"$f":"Backbone!A51","v":"Руководство для сбора данных о потенциале страны в отношении охраны здоровья в пограничных районах (BHCDG)"},null,null,null,null,null,null,"Шаблонные инструменты, помогающие в проведении обсуждений с представителями национальных, районных и наземных пограничных служб по вопросам охраны здоровья на границе. ",null,null,null,null,null,null,null,null,{"$f":"INDEX(Backbone!$R$2:$R$893,MATCH(I30,Backbone!$A$2:$A$893,0))","v":"Руководящий документ"},null,null,null,{"$f":"INDEX(Backbone!$S$2:$S$893,MATCH(I30,Backbone!$A$2:$A$893,0))","v":"«Единое здоровье»; ориентированный на конкретную болезнь/угрозу "},null,null,null,{"$f":"INDEX(Backbone!$H$2:$H$893,MATCH(I30,Backbone!$A$2:$A$893,0))","v":8.8000000000000007},null,{"$f":"INDEX(Backbone!$I$2:$I$893,MATCH(I30,Backbone!$A$2:$A$893,0))","v":6.7},null,{"$f":"INDEX(Backbone!$J$2:$J$893,MATCH(I30,Backbone!$A$2:$A$893,0))","v":7.6},null,{"$f":"INDEX(Backbone!$K$1:$K$893,MATCH(I30,Backbone!$A$1:$A$893,0))","v":9},null,{"$f":"INDEX(Backbone!$L$2:$L$893,MATCH(I30,Backbone!$A$2:$A$893,0))","v":7},null,{"$f":"INDEX(Backbone!$M$2:$M$893,MATCH(I30,Backbone!$A$2:$A$893,0))","v":3.8},null,{"$f":"INDEX(Backbone!$N$2:$N$893,MATCH(I30,Backbone!$A$2:$A$893,0))","v":8},null,{"$f":"INDEX(Backbone!$O$2:$O$893,MATCH(I30,Backbone!$A$2:$A$893,0))","v":8.4},null,{"$f":"INDEX(Backbone!$P$2:$P$893,MATCH(I30,Backbone!$A$2:$A$893,0))","v":6},null,{"$f":"INDEX(Backbone!$Q$2:$Q$893,MATCH(I30,Backbone!$A$2:$A$893,0))","v":0.72555555555555551},null,null,{"$f":"(AG30*$AG$23+AI30*$AI$23+AK30*$AK$23+AM30*$AM$23+AO30*$AO$23+AQ30*$AQ$23+AS30*$AS$23+AU30*$AU$23+AW30*$AW$23)/(SUM($AG$23:$AW$23)*10)","v":{"$error":"#DIV/0!"}},null,null,"Перейти в Реестр ресурсов: ",null,{"$f":"HYPERLINK(\"#\"&ADDRESS(MATCH(I30,Toolbox!$C$1:$C$300),1,,,\"Toolbox\"),VLOOKUP(I30,Toolbox!$C$1:$C$300,1,FALSE))","v":"Руководство для сбора данных о потенциале страны в отношении охраны здоровья в пограничных районах (BHCDG)"}]
[]
[]
[]
[]
[]
[null,null,null,null,null,null,null,null,{"$f":"Backbone!A83","v":"Оценка системы эпиднадзора и мониторинга качества данных Европейского ЦКПЗ — справочник методов и применений "},null,null,null,null,null,null,"Справочник по мониторингу качества данных эпиднадзора для специалистов сектора общественного здравоохранения.",null,null,null,null,null,null,null,null,{"$f":"INDEX(Backbone!$R$2:$R$893,MATCH(I36,Backbone!$A$2:$A$893,0))","v":"Руководящий документ"},null,null,null,{"$f":"INDEX(Backbone!$S$2:$S$893,MATCH(I36,Backbone!$A$2:$A$893,0))","v":"Ориентированный на конкретный сектор; универсальный"},null,null,null,{"$f":"INDEX(Backbone!$H$2:$H$893,MATCH(I36,Backbone!$A$2:$A$893,0))","v":8.1999999999999993},null,{"$f":"INDEX(Backbone!$I$2:$I$893,MATCH(I36,Backbone!$A$2:$A$893,0))","v":6},null,{"$f":"INDEX(Backbone!$J$2:$J$893,MATCH(I36,Backbone!$A$2:$A$893,0))","v":6.4},null,{"$f":"INDEX(Backbone!$K$1:$K$893,MATCH(I36,Backbone!$A$1:$A$893,0))","v":7.3},null,{"$f":"INDEX(Backbone!$L$2:$L$893,MATCH(I36,Backbone!$A$2:$A$893,0))","v":7.7},null,{"$f":"INDEX(Backbone!$M$2:$M$893,MATCH(I36,Backbone!$A$2:$A$893,0))","v":4.5},null,{"$f":"INDEX(Backbone!$N$2:$N$893,MATCH(I36,Backbone!$A$2:$A$893,0))","v":5.3},null,{"$f":"INDEX(Backbone!$O$2:$O$893,MATCH(I36,Backbone!$A$2:$A$893,0))","v":6.2},null,{"$f":"INDEX(Backbone!$P$2:$P$893,MATCH(I36,Backbone!$A$2:$A$893,0))","v":8},null,{"$f":"INDEX(Backbone!$Q$2:$Q$893,MATCH(I36,Backbone!$A$2:$A$893,0))","v":0.66222222222222227},null,null,{"$f":"(AG36*$AG$23+AI36*$AI$23+AK36*$AK$23+AM36*$AM$23+AO36*$AO$23+AQ36*$AQ$23+AS36*$AS$23+AU36*$AU$23+AW36*$AW$23)/(SUM($AG$23:$AW$23)*10)","v":{"$error":"#DIV/0!"}},null,null,"Перейти в Реестр ресурсов: ",null,{"$f":"HYPERLINK(\"#\"&ADDRESS(MATCH(I36,Toolbox!$C$1:$C$300),1,,,\"Toolbox\"),VLOOKUP(I36,Toolbox!$C$1:$C$300,1,FALSE))","v":"Оценка системы эпиднадзора и мониторинга качества данных Европейского ЦКПЗ — справочник методов и применений "}]
[]
[]
[]
[]
[]
[null,null,null,null,null,null,null,null,{"$f":"Backbone!A174","v":"Инструмент эпидемиологического картирования (EMT)"},null,null,null,null,null,null,"Инструмент на базе Excel для оценки национального эпидемиологического потенциала ветеринарных служб.",null,null,null,null,null,null,null,null,{"$f":"INDEX(Backbone!$R$2:$R$893,MATCH(I42,Backbone!$A$2:$A$893,0))","v":"Инструмент или процесс с методическим руководством/пояснениями"},null,null,null,{"$f":"INDEX(Backbone!$S$2:$S$893,MATCH(I42,Backbone!$A$2:$A$893,0))","v":"Ориентированный на конкретный сектор; универсальный"},null,null,null,{"$f":"INDEX(Backbone!$H$2:$H$893,MATCH(I42,Backbone!$A$2:$A$893,0))","v":6.6},null,{"$f":"INDEX(Backbone!$I$2:$I$893,MATCH(I42,Backbone!$A$2:$A$893,0))","v":8},null,{"$f":"INDEX(Backbone!$J$2:$J$893,MATCH(I42,Backbone!$A$2:$A$893,0))","v":7.4},null,{"$f":"INDEX(Backbone!$K$2:$K$893,MATCH(I42,Backbone!$A$2:$A$893,0))","v":7.3},null,{"$f":"INDEX(Backbone!$L$2:$L$893,MATCH(I42,Backbone!$A$2:$A$893,0))","v":6.9},null,{"$f":"INDEX(Backbone!$M$2:$M$893,MATCH(I42,Backbone!$A$2:$A$893,0))","v":5},null,{"$f":"INDEX(Backbone!$N$2:$N$893,MATCH(I42,Backbone!$A$2:$A$893,0))","v":3.5},null,{"$f":"INDEX(Backbone!$O$2:$O$893,MATCH(I42,Backbone!$A$2:$A$893,0))","v":6.8},null,{"$f":"INDEX(Backbone!$P$2:$P$893,MATCH(I42,Backbone!$A$2:$A$893,0))","v":5.5},null,{"$f":"INDEX(Backbone!$Q$2:$Q$893,MATCH(I42,Backbone!$A$2:$A$893,0))","v":0.6333333333333333},null,null,{"$f":"(AG42*$AG$23+AI42*$AI$23+AK42*$AK$23+AM42*$AM$23+AO42*$AO$23+AQ42*$AQ$23+AS42*$AS$23+AU42*$AU$23+AW42*$AW$23)/(SUM($AG$23:$AW$23)*10)","v":{"$error":"#DIV/0!"}},null,null,"Перейти в Реестр ресурсов: ",null,{"$f":"HYPERLINK(\"#\"&ADDRESS(MATCH(I42,Toolbox!$C$1:$C$300),1,,,\"Toolbox\"),VLOOKUP(I42,Toolbox!$C$1:$C$300,1,FALSE))","v":"Инструмент эпидемиологического картирования (EMT)"}]
[]
[]
[]
[]
[]
[null,null,null,null,null,null,null,null,{"$f":"Backbone!A100","v":"Оценка сотрудничества в рамках межотраслевой системы эпиднадзора (ECoSur)"},null,null,null,null,null,null,"Инструмент, предназначенный для оценки организации и функционирования взаимодействия в системе межотраслевого эпиднадзора и для анализа сильных и слабых сторон такого взаимодействия.",null,null,null,null,null,null,null,null,{"$f":"INDEX(Backbone!$R$2:$R$893,MATCH(I48,Backbone!$A$2:$A$893,0))","v":"Инструмент или процесс с методическим руководством/пояснениями"},null,null,null,{"$f":"INDEX(Backbone!$S$2:$S$893,MATCH(I48,Backbone!$A$2:$A$893,0))","v":"«Единое здоровье»; универсальный"},null,null,null,{"$f":"INDEX(Backbone!$H$2:$H$893,MATCH(I48,Backbone!$A$2:$A$893,0))","v":8.3000000000000007},null,{"$f":"INDEX(Backbone!$I$2:$I$893,MATCH(I48,Backbone!$A$2:$A$893,0))","v":6},null,{"$f":"INDEX(Backbone!$J$2:$J$893,MATCH(I48,Backbone!$A$2:$A$893,0))","v":8.5},null,{"$f":"INDEX(Backbone!$K$1:$K$893,MATCH(I48,Backbone!$A$1:$A$893,0))","v":7.8},null,{"$f":"INDEX(Backbone!$L$2:$L$893,MATCH(I48,Backbone!$A$2:$A$893,0))","v":8.3000000000000007},null,{"$f":"INDEX(Backbone!$M$2:$M$893,MATCH(I48,Backbone!$A$2:$A$893,0))","v":6.7},null,{"$f":"INDEX(Backbone!$N$2:$N$893,MATCH(I48,Backbone!$A$2:$A$893,0))","v":3.3},null,{"$f":"INDEX(Backbone!$O$2:$O$893,MATCH(I48,Backbone!$A$2:$A$893,0))","v":9.1},null,{"$f":"INDEX(Backbone!$P$2:$P$893,MATCH(I48,Backbone!$A$2:$A$893,0))","v":4.7},null,{"$f":"INDEX(Backbone!$Q$2:$Q$893,MATCH(I48,Backbone!$A$2:$A$893,0))","v":0.69666666666666677},null,null,{"$f":"(AG48*$AG$23+AI48*$AI$23+AK48*$AK$23+AM48*$AM$23+AO48*$AO$23+AQ48*$AQ$23+AS48*$AS$23+AU48*$AU$23+AW48*$AW$23)/(SUM($AG$23:$AW$23)*10)","v":{"$error":"#DIV/0!"}},null,null,"Перейти в Реестр ресурсов: ",null,{"$f":"HYPERLINK(\"#\"&ADDRESS(MATCH(I48,Toolbox!$C$1:$C$300),1,,,\"Toolbox\"),VLOOKUP(I48,Toolbox!$C$1:$C$300,1,FALSE))","v":"Оценка сотрудничества в рамках межотраслевой системы эпиднадзора (ECoSur)"}]
[]
[]
[]
[]
[]
[null,null,null,null,null,null,null,null,{"$f":"Backbone!A517","v":"Инструмент ФАО для оценки эффективности эпиднадзора (SET)"},null,null,null,null,null,null,"Используется для оценки национальных систем надзора за болезнями животных с помощью комплексной и повторяемой методологии.",null,null,null,null,null,null,null,null,{"$f":"INDEX(Backbone!$R$2:$R$893,MATCH(I54,Backbone!$A$2:$A$893,0))","v":"Инструмент или процесс с методическим руководством/пояснениями"},null,null,null,{"$f":"INDEX(Backbone!$S$2:$S$893,MATCH(I54,Backbone!$A$2:$A$893,0))","v":"Ориентированный на конкретный сектор; универсальный"},null,null,null,{"$f":"INDEX(Backbone!$H$2:$H$893,MATCH(I54,Backbone!$A$2:$A$893,0))","v":8.1999999999999993},null,{"$f":"INDEX(Backbone!$I$2:$I$893,MATCH(I54,Backbone!$A$2:$A$893,0))","v":8.3000000000000007},null,{"$f":"INDEX(Backbone!$J$2:$J$893,MATCH(I54,Backbone!$A$2:$A$893,0))","v":7},null,{"$f":"INDEX(Backbone!$K$1:$K$893,MATCH(I54,Backbone!$A$1:$A$893,0))","v":7.7},null,{"$f":"INDEX(Backbone!$L$2:$L$893,MATCH(I54,Backbone!$A$2:$A$893,0))","v":6.7},null,{"$f":"INDEX(Backbone!$M$2:$M$893,MATCH(I54,Backbone!$A$2:$A$893,0))","v":6.3},null,{"$f":"INDEX(Backbone!$N$2:$N$893,MATCH(I54,Backbone!$A$2:$A$893,0))","v":8},null,{"$f":"INDEX(Backbone!$O$2:$O$893,MATCH(I54,Backbone!$A$2:$A$893,0))","v":6.8},null,{"$f":"INDEX(Backbone!$P$2:$P$893,MATCH(I54,Backbone!$A$2:$A$893,0))","v":8.5},null,{"$f":"INDEX(Backbone!$Q$2:$Q$893,MATCH(I54,Backbone!$A$2:$A$893,0))","v":0.75},null,null,{"$f":"(AG54*$AG$23+AI54*$AI$23+AK54*$AK$23+AM54*$AM$23+AO54*$AO$23+AQ54*$AQ$23+AS54*$AS$23+AU54*$AU$23+AW54*$AW$23)/(SUM($AG$23:$AW$23)*10)","v":{"$error":"#DIV/0!"}},null,null,"Перейти в Реестр ресурсов: ",null,{"$f":"HYPERLINK(\"#\"&ADDRESS(MATCH(I54,Toolbox!$C$1:$C$300),1,,,\"Toolbox\"),VLOOKUP(I54,Toolbox!$C$1:$C$300,1,FALSE))","v":"Инструмент ФАО для оценки эффективности эпиднадзора (SET)"}]
[]
[]
[]
[]
[]
[null,null,null,null,null,null,null,null,{"$f":"Backbone!A33","v":"Рамочная программа для укрепления мер профилактики и борьбы с сибирской язвой "},null,null,null,null,null,null,"Данная рамочная программа рассказывает о сибирской язве и о том, как усилить меры профилактики и борьбы с сибирской язвой у животных и людей.",null,null,null,null,null,null,null,null,{"$f":"INDEX(Backbone!$R$2:$R$893,MATCH(I60,Backbone!$A$2:$A$893,0))","v":"Руководящий документ"},null,null,null,{"$f":"INDEX(Backbone!$S$2:$S$893,MATCH(I60,Backbone!$A$2:$A$893,0))","v":"«Единое здоровье»; ориентированный на конкретную болезнь/угрозу "},null,null,null,{"$f":"INDEX(Backbone!$H$2:$H$893,MATCH(I60,Backbone!$A$2:$A$893,0))","v":9.1},null,{"$f":"INDEX(Backbone!$I$2:$I$893,MATCH(I60,Backbone!$A$2:$A$893,0))","v":10},null,{"$f":"INDEX(Backbone!$J$2:$J$893,MATCH(I60,Backbone!$A$2:$A$893,0))","v":8.6},null,{"$f":"INDEX(Backbone!$K$1:$K$893,MATCH(I60,Backbone!$A$1:$A$893,0))","v":4.7},null,{"$f":"INDEX(Backbone!$L$2:$L$893,MATCH(I60,Backbone!$A$2:$A$893,0))","v":9.1999999999999993},null,{"$f":"INDEX(Backbone!$M$2:$M$893,MATCH(I60,Backbone!$A$2:$A$893,0))","v":2},null,{"$f":"INDEX(Backbone!$N$2:$N$893,MATCH(I60,Backbone!$A$2:$A$893,0))","v":6.3},null,{"$f":"INDEX(Backbone!$O$2:$O$893,MATCH(I60,Backbone!$A$2:$A$893,0))","v":4.3},null,{"$f":"INDEX(Backbone!$P$2:$P$893,MATCH(I60,Backbone!$A$2:$A$893,0))","v":6},null,{"$f":"INDEX(Backbone!$Q$2:$Q$893,MATCH(I60,Backbone!$A$2:$A$893,0))","v":0.66888888888888887},null,null,{"$f":"(AG60*$AG$23+AI60*$AI$23+AK60*$AK$23+AM60*$AM$23+AO60*$AO$23+AQ60*$AQ$23+AS60*$AS$23+AU60*$AU$23+AW60*$AW$23)/(SUM($AG$23:$AW$23)*10)","v":{"$error":"#DIV/0!"}},null,null,"Перейти в Реестр ресурсов: ",null,{"$f":"HYPERLINK(\"#\"&ADDRESS(MATCH(I60,Toolbox!$C$1:$C$300),1,,,\"Toolbox\"),VLOOKUP(I60,Toolbox!$C$1:$C$300,1,FALSE))","v":"Рамочная программа для укрепления мер профилактики и борьбы с сибирской язвой "}]
[]
[]
[]
[]
[]
[null,null,null,null,null,null,null,null,{"$f":"Backbone!A176","v":"Руководство для разработки планов эпиднадзора за\nболезнями животных\n\n"},null,null,null,null,null,null,"Общий шаблон с рамочной программой для планирования эпиднадзора за инфекционными заболеваниями.",null,null,null,null,null,null,null,null,{"$f":"INDEX(Backbone!$R$2:$R$893,MATCH(I66,Backbone!$A$2:$A$893,0))","v":"Шаблон"},null,null,null,{"$f":"INDEX(Backbone!$S$2:$S$893,MATCH(I66,Backbone!$A$2:$A$893,0))","v":"Ориентированный на конкретный сектор; универсальный"},null,null,null,{"$f":"INDEX(Backbone!$H$2:$H$893,MATCH(I66,Backbone!$A$2:$A$893,0))","v":9.1999999999999993},null,{"$f":"INDEX(Backbone!$I$2:$I$893,MATCH(I66,Backbone!$A$2:$A$893,0))","v":10},null,{"$f":"INDEX(Backbone!$J$2:$J$893,MATCH(I66,Backbone!$A$2:$A$893,0))","v":7.5},null,{"$f":"INDEX(Backbone!$K$1:$K$893,MATCH(I66,Backbone!$A$1:$A$893,0))","v":8.6999999999999993},null,{"$f":"INDEX(Backbone!$L$2:$L$893,MATCH(I66,Backbone!$A$2:$A$893,0))","v":5.7},null,{"$f":"INDEX(Backbone!$M$2:$M$893,MATCH(I66,Backbone!$A$2:$A$893,0))","v":2.5},null,{"$f":"INDEX(Backbone!$N$2:$N$893,MATCH(I66,Backbone!$A$2:$A$893,0))","v":3.3},null,{"$f":"INDEX(Backbone!$O$2:$O$893,MATCH(I66,Backbone!$A$2:$A$893,0))","v":5.0999999999999996},null,{"$f":"INDEX(Backbone!$P$2:$P$893,MATCH(I66,Backbone!$A$2:$A$893,0))","v":4},null,{"$f":"INDEX(Backbone!$Q$2:$Q$893,MATCH(I66,Backbone!$A$2:$A$893,0))","v":0.62222222222222223},null,null,{"$f":"(AG66*$AG$23+AI66*$AI$23+AK66*$AK$23+AM66*$AM$23+AO66*$AO$23+AQ66*$AQ$23+AS66*$AS$23+AU66*$AU$23+AW66*$AW$23)/(SUM($AG$23:$AW$23)*10)","v":{"$error":"#DIV/0!"}},null,null,"Перейти в Реестр ресурсов: ",null,{"$f":"HYPERLINK(\"#\"&ADDRESS(MATCH(I66,Toolbox!$C$1:$C$300),1,,,\"Toolbox\"),VLOOKUP(I66,Toolbox!$C$1:$C$300,1,FALSE))","v":"Руководство для разработки планов эпиднадзора за\nболезнями животных\n\n"}]
[]
[]
[]
[]
[]
[null,null,null,null,null,null,null,null,{"$f":"Backbone!A239","v":"Национальный семинар по выстраиванию связей ММСП-ПВС"},null,null,null,null,null,null,"Семинар, в ходе которого заинтересованные стороны подхода «Единое здоровье» (ЕЗ) исследуют возможные пересекающиеся области их работы, рассматриваемые в рамочных программах развития потенциала МЭБ (ПВС) и ММСП (Рамочная программа мониторинга и оценки ММСП), и при необходимости создают соответствующие связи для обеспечения взаимодействия между секторами.  ",null,null,null,null,null,null,null,null,{"$f":"INDEX(Backbone!$R$2:$R$893,MATCH(I72,Backbone!$A$2:$A$893,0))","v":"Инструмент или процесс с методическим руководством/пояснениями"},null,null,null,{"$f":"INDEX(Backbone!$S$2:$S$893,MATCH(I72,Backbone!$A$2:$A$893,0))","v":"«Единое здоровье»; универсальный"},null,null,null,{"$f":"INDEX(Backbone!$H$2:$H$893,MATCH(I72,Backbone!$A$2:$A$893,0))","v":8.6},null,{"$f":"INDEX(Backbone!$I$2:$I$893,MATCH(I72,Backbone!$A$2:$A$893,0))","v":10},null,{"$f":"INDEX(Backbone!$J$2:$J$893,MATCH(I72,Backbone!$A$2:$A$893,0))","v":6.2},null,{"$f":"INDEX(Backbone!$K$1:$K$893,MATCH(I72,Backbone!$A$1:$A$893,0))","v":10},null,{"$f":"INDEX(Backbone!$L$2:$L$893,MATCH(I72,Backbone!$A$2:$A$893,0))","v":6},null,{"$f":"INDEX(Backbone!$M$2:$M$893,MATCH(I72,Backbone!$A$2:$A$893,0))","v":7},null,{"$f":"INDEX(Backbone!$N$2:$N$893,MATCH(I72,Backbone!$A$2:$A$893,0))","v":9},null,{"$f":"INDEX(Backbone!$O$2:$O$893,MATCH(I72,Backbone!$A$2:$A$893,0))","v":8.1999999999999993},null,{"$f":"INDEX(Backbone!$P$2:$P$893,MATCH(I72,Backbone!$A$2:$A$893,0))","v":10},null,{"$f":"INDEX(Backbone!$Q$2:$Q$893,MATCH(I72,Backbone!$A$2:$A$893,0))","v":0.83333333333333337},null,null,{"$f":"(AG72*$AG$23+AI72*$AI$23+AK72*$AK$23+AM72*$AM$23+AO72*$AO$23+AQ72*$AQ$23+AS72*$AS$23+AU72*$AU$23+AW72*$AW$23)/(SUM($AG$23:$AW$23)*10)","v":{"$error":"#DIV/0!"}},null,null,"Перейти в Реестр ресурсов: ",null,{"$f":"HYPERLINK(\"#\"&ADDRESS(MATCH(I72,Toolbox!$C$1:$C$300),1,,,\"Toolbox\"),VLOOKUP(I72,Toolbox!$C$1:$C$300,1,FALSE))","v":"Национальный семинар по выстраиванию связей ММСП-ПВС"}]
[]
[]
[]
[]
[]
[null,null,null,null,null,null,null,null,{"$f":"Backbone!A195","v":"Комплексная система эпиднадзора и мер реагирования (IDSR)"},null,null,null,null,null,null,"Стратегия, разработанная с целью укрепить потенциал стран для выявления и подтверждения предполагаемых случаев заболевания и вспышек и реагирования на них, а также для использования информации для прогнозирования событий в области общественного здравоохранения и планирования мер реагирования на них.",null,null,null,null,null,null,null,null,{"$f":"INDEX(Backbone!$R$2:$R$893,MATCH(I78,Backbone!$A$2:$A$893,0))","v":"Руководящий документ"},null,null,null,{"$f":"INDEX(Backbone!$S$2:$S$893,MATCH(I78,Backbone!$A$2:$A$893,0))","v":"Ориентированный на конкретный сектор; универсальный"},null,null,null,{"$f":"INDEX(Backbone!$H$2:$H$893,MATCH(I78,Backbone!$A$2:$A$893,0))","v":7.4},null,{"$f":"INDEX(Backbone!$I$2:$I$893,MATCH(I78,Backbone!$A$2:$A$893,0))","v":10},null,{"$f":"INDEX(Backbone!$J$2:$J$893,MATCH(I78,Backbone!$A$2:$A$893,0))","v":7.4},null,{"$f":"INDEX(Backbone!$K$2:$K$893,MATCH(I78,Backbone!$A$2:$A$893,0))","v":8.6999999999999993},null,{"$f":"INDEX(Backbone!$L$2:$L$893,MATCH(I78,Backbone!$A$2:$A$893,0))","v":6.7},null,{"$f":"INDEX(Backbone!$M$2:$M$893,MATCH(I78,Backbone!$A$2:$A$893,0))","v":4.5},null,{"$f":"INDEX(Backbone!$N$2:$N$893,MATCH(I78,Backbone!$A$2:$A$893,0))","v":8},null,{"$f":"INDEX(Backbone!$O$2:$O$893,MATCH(I78,Backbone!$A$2:$A$893,0))","v":7.2},null,{"$f":"INDEX(Backbone!$P$2:$P$893,MATCH(I78,Backbone!$A$2:$A$893,0))","v":8.5},null,{"$f":"INDEX([1]Backbone!$Q45:$Q936,MATCH(I78,[1]Backbone!$A45:$A936,0))","v":{"$error":"#N/A"}},null,null,{"$f":"(AG78*$AG$23+AI78*$AI$23+AK78*$AK$23+AM78*$AM$23+AO78*$AO$23+AQ78*$AQ$23+AS78*$AS$23+AU78*$AU$23+AW78*$AW$23)/(SUM($AG$23:$AW$23)*10)","v":{"$error":"#DIV/0!"}},null,null,"Перейти в Реестр ресурсов: ",null,{"$f":"HYPERLINK(\"#\"&ADDRESS(MATCH(I78,Toolbox!$C$1:$C$300),1,,,\"Toolbox\"),VLOOKUP(I78,Toolbox!$C$1:$C$300,1,FALSE))","v":"Комплексная система эпиднадзора и мер реагирования (IDSR)"}]
[]
[]
[]
[]
[]
[null,null,null,null,null,null,null,null,{"$f":"Backbone!A291","v":"Методология для анализа законодательства, относящегося к УПП, в продовольственном и сельскохозяйственном секторе"},null,null,null,null,null,null,"Методология, предназначенная для проведения анализов государственного законодательства, относящегося к УПП в продовольственном и сельскохозяйственном секторах.",null,null,null,null,null,null,null,null,{"$f":"INDEX(Backbone!$R$2:$R$893,MATCH(I84,Backbone!$A$2:$A$893,0))","v":"Руководящий документ"},null,null,null,{"$f":"INDEX(Backbone!$S$2:$S$893,MATCH(I84,Backbone!$A$2:$A$893,0))","v":"«Единое здоровье»; универсальный"},null,null,null,{"$f":"INDEX(Backbone!$H$2:$H$893,MATCH(I84,Backbone!$A$2:$A$893,0))","v":7.4},null,{"$f":"INDEX(Backbone!$I$2:$I$893,MATCH(I84,Backbone!$A$2:$A$893,0))","v":5.5},null,{"$f":"INDEX(Backbone!$J$2:$J$893,MATCH(I84,Backbone!$A$2:$A$893,0))","v":7.6},null,{"$f":"INDEX(Backbone!$K$1:$K$893,MATCH(I84,Backbone!$A$1:$A$893,0))","v":4},null,{"$f":"INDEX(Backbone!$L$2:$L$893,MATCH(I84,Backbone!$A$2:$A$893,0))","v":8.1999999999999993},null,{"$f":"INDEX(Backbone!$M$2:$M$893,MATCH(I84,Backbone!$A$2:$A$893,0))","v":4.5},null,{"$f":"INDEX(Backbone!$N$2:$N$893,MATCH(I84,Backbone!$A$2:$A$893,0))","v":4.5},null,{"$f":"INDEX(Backbone!$O$2:$O$893,MATCH(I84,Backbone!$A$2:$A$893,0))","v":6.6},null,{"$f":"INDEX(Backbone!$P$2:$P$893,MATCH(I84,Backbone!$A$2:$A$893,0))","v":4.5},null,{"$f":"INDEX(Backbone!$Q$2:$Q$893,MATCH(I84,Backbone!$A$2:$A$893,0))","v":0.58666666666666667},null,null,{"$f":"(AG84*$AG$23+AI84*$AI$23+AK84*$AK$23+AM84*$AM$23+AO84*$AO$23+AQ84*$AQ$23+AS84*$AS$23+AU84*$AU$23+AW84*$AW$23)/(SUM($AG$23:$AW$23)*10)","v":{"$error":"#DIV/0!"}},null,null,"Перейти в Реестр ресурсов: ",null,{"$f":"HYPERLINK(\"#\"&ADDRESS(MATCH(I84,Toolbox!$C$1:$C$300),1,,,\"Toolbox\"),VLOOKUP(I84,Toolbox!$C$1:$C$300,1,FALSE))","v":"Методология для анализа законодательства, относящегося к УПП, в продовольственном и сельскохозяйственном секторе"}]
[]
[]
[]
[]
[]
[null,null,null,null,null,null,null,null,{"$f":"Backbone!A303","v":"Национальный план действий по обеспечению безопасности в области здравоохранения (NAPHS)"},null,null,null,null,null,null,"Организуемый самими странами процесс планирования, способный ускорить внедрение основных возможностей Международных медико-санитарных правил (ММСП) и основывающийся на концепции «Единое здоровье» и общегосударственном подходе ко всем видам опасностей.",null,null,null,null,null,null,null,null,{"$f":"INDEX(Backbone!$R$2:$R$893,MATCH(I90,Backbone!$A$2:$A$893,0))","v":"Руководящий документ"},null,null,null,{"$f":"INDEX(Backbone!$S$2:$S$893,MATCH(I90,Backbone!$A$2:$A$893,0))","v":"«Единое здоровье»; универсальный"},null,null,null,{"$f":"INDEX(Backbone!$H$2:$H$893,MATCH(I90,Backbone!$A$2:$A$893,0))","v":8},null,{"$f":"INDEX(Backbone!$I$2:$I$893,MATCH(I90,Backbone!$A$2:$A$893,0))","v":9},null,{"$f":"INDEX(Backbone!$J$2:$J$893,MATCH(I90,Backbone!$A$2:$A$893,0))","v":7.8},null,{"$f":"INDEX(Backbone!$K$1:$K$893,MATCH(I90,Backbone!$A$1:$A$893,0))","v":10},null,{"$f":"INDEX(Backbone!$L$2:$L$893,MATCH(I90,Backbone!$A$2:$A$893,0))","v":8},null,{"$f":"INDEX(Backbone!$M$2:$M$893,MATCH(I90,Backbone!$A$2:$A$893,0))","v":4.5},null,{"$f":"INDEX(Backbone!$N$2:$N$893,MATCH(I90,Backbone!$A$2:$A$893,0))","v":10},null,{"$f":"INDEX(Backbone!$O$2:$O$893,MATCH(I90,Backbone!$A$2:$A$893,0))","v":10},null,{"$f":"INDEX(Backbone!$P$2:$P$893,MATCH(I90,Backbone!$A$2:$A$893,0))","v":10},null,{"$f":"INDEX(Backbone!$Q$2:$Q$893,MATCH(I90,Backbone!$A$2:$A$893,0))","v":0.85888888888888881},null,null,{"$f":"(AG90*$AG$23+AI90*$AI$23+AK90*$AK$23+AM90*$AM$23+AO90*$AO$23+AQ90*$AQ$23+AS90*$AS$23+AU90*$AU$23+AW90*$AW$23)/(SUM($AG$23:$AW$23)*10)","v":{"$error":"#DIV/0!"}},null,null,"Перейти в Реестр ресурсов: ",null,{"$f":"HYPERLINK(\"#\"&ADDRESS(MATCH(I90,Toolbox!$C$1:$C$300),1,,,\"Toolbox\"),VLOOKUP(I90,Toolbox!$C$1:$C$300,1,FALSE))","v":"Национальный план действий по обеспечению безопасности в области здравоохранения (NAPHS)"}]
[]
[]
[]
[]
[]
[null,null,null,null,null,null,null,null,{"$f":"Backbone!A400","v":"Инструмент для оценки требований и готовности к эпиднадзору на основе концепции «Единое здоровье» (OHSRRT)"},null,null,null,null,null,null,"Инструмент оценки требований и готовности к эпиднадзору, позволяющий определить уровень готовности страны и собрать требования для развития системы эпиднадзора на основе концепции «Единое здоровье» исходя из важнейших факторов успеха.",null,null,null,null,null,null,null,null,{"$f":"INDEX(Backbone!$R$2:$R$893,MATCH(I96,Backbone!$A$2:$A$893,0))","v":"Инструмент самооценки"},null,null,null,{"$f":"INDEX(Backbone!$S$2:$S$893,MATCH(I96,Backbone!$A$2:$A$893,0))","v":"«Единое здоровье»; универсальный"},null,null,null,{"$f":"INDEX(Backbone!$H$2:$H$893,MATCH(I96,Backbone!$A$2:$A$893,0))","v":8},null,{"$f":"INDEX(Backbone!$I$2:$I$893,MATCH(I96,Backbone!$A$2:$A$893,0))","v":6},null,{"$f":"INDEX(Backbone!$J$2:$J$893,MATCH(I96,Backbone!$A$2:$A$893,0))","v":7.4},null,{"$f":"INDEX(Backbone!$K$1:$K$893,MATCH(I96,Backbone!$A$1:$A$893,0))","v":8.6999999999999993},null,{"$f":"INDEX(Backbone!$L$2:$L$893,MATCH(I96,Backbone!$A$2:$A$893,0))","v":6},null,{"$f":"INDEX(Backbone!$M$2:$M$893,MATCH(I96,Backbone!$A$2:$A$893,0))","v":2.5},null,{"$f":"INDEX(Backbone!$N$2:$N$893,MATCH(I96,Backbone!$A$2:$A$893,0))","v":2},null,{"$f":"INDEX(Backbone!$O$2:$O$893,MATCH(I96,Backbone!$A$2:$A$893,0))","v":9.6},null,{"$f":"INDEX(Backbone!$P$2:$P$893,MATCH(I96,Backbone!$A$2:$A$893,0))","v":5.5},null,{"$f":"INDEX(Backbone!$Q$2:$Q$893,MATCH(I96,Backbone!$A$2:$A$893,0))","v":0.61888888888888882},null,null,{"$f":"(AG96*$AG$23+AI96*$AI$23+AK96*$AK$23+AM96*$AM$23+AO96*$AO$23+AQ96*$AQ$23+AS96*$AS$23+AU96*$AU$23+AW96*$AW$23)/(SUM($AG$23:$AW$23)*10)","v":{"$error":"#DIV/0!"}},null,null,"Перейти в Реестр ресурсов: ",null,{"$f":"HYPERLINK(\"#\"&ADDRESS(MATCH(I96,Toolbox!$C$1:$C$300),1,,,\"Toolbox\"),VLOOKUP(I96,Toolbox!$C$1:$C$300,1,FALSE))","v":"Инструмент для оценки требований и готовности к эпиднадзору на основе концепции «Единое здоровье» (OHSRRT)"}]
[]
[]
[]
[]
[]
[null,null,null,null,null,null,null,null,{"$f":"Backbone!A648","v":"Инструментарий для обеспечения готовности и планирования ответных действий"},null,null,null,null,null,null,"Настоящий инструментарий предназначен для разработки странами их межотраслевых планов по обеспечению готовности и планированию ответных действий в отношении событий общественного здравоохранения. ",null,null,null,null,null,null,null,null,{"$f":"INDEX(Backbone!$R$2:$R$893,MATCH(I102,Backbone!$A$2:$A$893,0))","v":"Руководящий документ"},null,null,null,{"$f":"INDEX(Backbone!$S$2:$S$893,MATCH(I102,Backbone!$A$2:$A$893,0))","v":"«Единое здоровье»; универсальный"},null,null,null,{"$f":"INDEX(Backbone!$H$2:$H$893,MATCH(I102,Backbone!$A$2:$A$893,0))","v":8.4},null,{"$f":"INDEX(Backbone!$I$2:$I$893,MATCH(I102,Backbone!$A$2:$A$893,0))","v":8},null,{"$f":"INDEX(Backbone!$J$2:$J$893,MATCH(I102,Backbone!$A$2:$A$893,0))","v":8.4},null,{"$f":"INDEX(Backbone!$K$1:$K$893,MATCH(I102,Backbone!$A$1:$A$893,0))","v":6.7},null,{"$f":"INDEX(Backbone!$L$2:$L$893,MATCH(I102,Backbone!$A$2:$A$893,0))","v":2},null,{"$f":"INDEX(Backbone!$M$2:$M$893,MATCH(I102,Backbone!$A$2:$A$893,0))","v":3.5},null,{"$f":"INDEX(Backbone!$N$2:$N$893,MATCH(I102,Backbone!$A$2:$A$893,0))","v":4},null,{"$f":"INDEX(Backbone!$O$2:$O$893,MATCH(I102,Backbone!$A$2:$A$893,0))","v":6.4},null,{"$f":"INDEX(Backbone!$P$2:$P$893,MATCH(I102,Backbone!$A$2:$A$893,0))","v":8},null,{"$f":"INDEX(Backbone!$Q$2:$Q$893,MATCH(I102,Backbone!$A$2:$A$893,0))","v":0.61555555555555552},null,null,{"$f":"(AG102*$AG$23+AI102*$AI$23+AK102*$AK$23+AM102*$AM$23+AO102*$AO$23+AQ102*$AQ$23+AS102*$AS$23+AU102*$AU$23+AW102*$AW$23)/(SUM($AG$23:$AW$23)*10)","v":{"$error":"#DIV/0!"}},null,null,"Перейти в Реестр ресурсов: ",null,{"$f":"HYPERLINK(\"#\"&ADDRESS(MATCH(I102,Toolbox!$C$1:$C$300),1,,,\"Toolbox\"),VLOOKUP(I102,Toolbox!$C$1:$C$300,1,FALSE))","v":"Инструментарий для обеспечения готовности и планирования ответных действий"}]
[]
[]
[]
[]
[]
[null,null,null,null,null,null,null,null,{"$f":"Backbone!A453","v":"Поэтапный подход к ликвидации бешенства (SARE)"},null,null,null,null,null,null,"Рабочий инструмент планирования, мониторинга и оценки для реализации, разработки и доработки программ борьбы с бешенством.",null,null,null,null,null,null,null,null,{"$f":"INDEX(Backbone!$R$2:$R$893,MATCH(I108,Backbone!$A$2:$A$893,0))","v":"Инструмент самооценки"},null,null,null,{"$f":"INDEX(Backbone!$S$2:$S$893,MATCH(I108,Backbone!$A$2:$A$893,0))","v":"«Единое здоровье»; ориентированный на конкретную болезнь/угрозу "},null,null,null,{"$f":"INDEX(Backbone!$H$2:$H$893,MATCH(I108,Backbone!$A$2:$A$893,0))","v":8},null,{"$f":"INDEX(Backbone!$I$2:$I$893,MATCH(I108,Backbone!$A$2:$A$893,0))","v":9},null,{"$f":"INDEX(Backbone!$J$2:$J$893,MATCH(I108,Backbone!$A$2:$A$893,0))","v":6.6},null,{"$f":"INDEX(Backbone!$K$1:$K$893,MATCH(I108,Backbone!$A$1:$A$893,0))","v":3.3},null,{"$f":"INDEX(Backbone!$L$2:$L$893,MATCH(I108,Backbone!$A$2:$A$893,0))","v":5.7},null,{"$f":"INDEX(Backbone!$M$2:$M$893,MATCH(I108,Backbone!$A$2:$A$893,0))","v":6.8},null,{"$f":"INDEX(Backbone!$N$2:$N$893,MATCH(I108,Backbone!$A$2:$A$893,0))","v":8},null,{"$f":"INDEX(Backbone!$O$2:$O$893,MATCH(I108,Backbone!$A$2:$A$893,0))","v":8.6},null,{"$f":"INDEX(Backbone!$P$2:$P$893,MATCH(I108,Backbone!$A$2:$A$893,0))","v":9.5},null,{"$f":"INDEX(Backbone!$Q$2:$Q$893,MATCH(I108,Backbone!$A$2:$A$893,0))","v":0.72777777777777775},null,null,{"$f":"(AG108*$AG$23+AI108*$AI$23+AK108*$AK$23+AM108*$AM$23+AO108*$AO$23+AQ108*$AQ$23+AS108*$AS$23+AU108*$AU$23+AW108*$AW$23)/(SUM($AG$23:$AW$23)*10)","v":{"$error":"#DIV/0!"}},null,null,"Перейти в Реестр ресурсов: ",null,{"$f":"HYPERLINK(\"#\"&ADDRESS(MATCH(I108,Toolbox!$C$1:$C$300),1,,,\"Toolbox\"),VLOOKUP(I108,Toolbox!$C$1:$C$300,1,FALSE))","v":"Поэтапный подход к ликвидации бешенства (SARE)"}]
[]
[]
[]
[]
[]
[null,null,null,null,null,null,null,null,{"$f":"Backbone!A510","v":"Рамочная программа по оценке эпиднадзора за здоровьем животных (SERVAL)"},null,null,null,null,null,null,"Пошаговое руководство по планированию, структурированию и оценке систем надзора за здоровьем животных.",null,null,null,null,null,null,null,null,{"$f":"INDEX(Backbone!$R$2:$R$893,MATCH(I114,Backbone!$A$2:$A$893,0))","v":"Руководящий документ"},null,null,null,{"$f":"INDEX(Backbone!$S$2:$S$893,MATCH(I114,Backbone!$A$2:$A$893,0))","v":"Ориентированный на конкретный сектор; универсальный"},null,null,null,{"$f":"INDEX(Backbone!$H$2:$H$893,MATCH(I114,Backbone!$A$2:$A$893,0))","v":8.8000000000000007},null,{"$f":"INDEX(Backbone!$I$2:$I$893,MATCH(I114,Backbone!$A$2:$A$893,0))","v":9},null,{"$f":"INDEX(Backbone!$J$2:$J$893,MATCH(I114,Backbone!$A$2:$A$893,0))","v":9},null,{"$f":"INDEX(Backbone!$K$1:$K$893,MATCH(I114,Backbone!$A$1:$A$893,0))","v":10},null,{"$f":"INDEX(Backbone!$L$2:$L$893,MATCH(I114,Backbone!$A$2:$A$893,0))","v":8.1},null,{"$f":"INDEX(Backbone!$M$2:$M$893,MATCH(I114,Backbone!$A$2:$A$893,0))","v":3.3},null,{"$f":"INDEX(Backbone!$N$2:$N$893,MATCH(I114,Backbone!$A$2:$A$893,0))","v":4},null,{"$f":"INDEX(Backbone!$O$2:$O$893,MATCH(I114,Backbone!$A$2:$A$893,0))","v":6.8},null,{"$f":"INDEX(Backbone!$P$2:$P$893,MATCH(I114,Backbone!$A$2:$A$893,0))","v":8},null,{"$f":"INDEX(Backbone!$Q$2:$Q$893,MATCH(I114,Backbone!$A$2:$A$893,0))","v":0.74444444444444446},null,null,{"$f":"(AG114*$AG$23+AI114*$AI$23+AK114*$AK$23+AM114*$AM$23+AO114*$AO$23+AQ114*$AQ$23+AS114*$AS$23+AU114*$AU$23+AW114*$AW$23)/(SUM($AG$23:$AW$23)*10)","v":{"$error":"#DIV/0!"}},null,null,"Перейти в Реестр ресурсов: ",null,{"$f":"HYPERLINK(\"#\"&ADDRESS(MATCH(I114,Toolbox!$C$1:$C$300),1,,,\"Toolbox\"),VLOOKUP(I114,Toolbox!$C$1:$C$300,1,FALSE))","v":"Рамочная программа по оценке эпиднадзора за здоровьем животных (SERVAL)"}]
[]
[]
[]
[]
[]
[null,null,null,null,null,null,null,null,{"$f":"Backbone!A351","v":"Инструмент для оценки сети эпиднадзора (OASIS)"},null,null,null,null,null,null,"Стандартизированный полуколичественный инструмент для оценки систем эпиднадзора за зоонозами и болезнями животных.",null,null,null,null,null,null,null,null,{"$f":"INDEX(Backbone!$R$2:$R$893,MATCH(I120,Backbone!$A$2:$A$893,0))","v":"Инструмент самооценки"},null,null,null,{"$f":"INDEX(Backbone!$S$2:$S$893,MATCH(I120,Backbone!$A$2:$A$893,0))","v":"Ориентированный на конкретный сектор; универсальный"},null,null,null,{"$f":"INDEX(Backbone!$H$2:$H$893,MATCH(I120,Backbone!$A$2:$A$893,0))","v":8.1999999999999993},null,{"$f":"INDEX(Backbone!$I$2:$I$893,MATCH(I120,Backbone!$A$2:$A$893,0))","v":7},null,{"$f":"INDEX(Backbone!$J$2:$J$893,MATCH(I120,Backbone!$A$2:$A$893,0))","v":8},null,{"$f":"INDEX(Backbone!$K$1:$K$893,MATCH(I120,Backbone!$A$1:$A$893,0))","v":8.3000000000000007},null,{"$f":"INDEX(Backbone!$L$2:$L$893,MATCH(I120,Backbone!$A$2:$A$893,0))","v":7},null,{"$f":"INDEX(Backbone!$M$2:$M$893,MATCH(I120,Backbone!$A$2:$A$893,0))","v":6.5},null,{"$f":"INDEX(Backbone!$N$2:$N$893,MATCH(I120,Backbone!$A$2:$A$893,0))","v":4.5},null,{"$f":"INDEX(Backbone!$O$2:$O$893,MATCH(I120,Backbone!$A$2:$A$893,0))","v":5.0999999999999996},null,{"$f":"INDEX(Backbone!$P$2:$P$893,MATCH(I120,Backbone!$A$2:$A$893,0))","v":4.5},null,{"$f":"INDEX(Backbone!$Q$2:$Q$893,MATCH(I120,Backbone!$A$2:$A$893,0))","v":0.65666666666666673},null,null,{"$f":"(AG120*$AG$23+AI120*$AI$23+AK120*$AK$23+AM120*$AM$23+AO120*$AO$23+AQ120*$AQ$23+AS120*$AS$23+AU120*$AU$23+AW120*$AW$23)/(SUM($AG$23:$AW$23)*10)","v":{"$error":"#DIV/0!"}},null,null,"Перейти в Реестр ресурсов: ",null,{"$f":"HYPERLINK(\"#\"&ADDRESS(MATCH(I120,Toolbox!$C$1:$C$300),1,,,\"Toolbox\"),VLOOKUP(I120,Toolbox!$C$1:$C$300,1,FALSE))","v":"Инструмент для оценки сети эпиднадзора (OASIS)"}]
[]
[]
[]
[]
[]
[null,null,null,null,null,null,null,null,{"$f":"Backbone!A483","v":"Онлайн-инструменты для разработки и оценки систем эпиднадзора (SURVTOOLS) "},null,null,null,null,null,null,"Объединенные инструменты для проектирования и оценки эпиднадзора предназначены для компетентных технических пользователей, проектирующих, внедряющих или оценивающих системы эпиднадзора за здоровьем животных.",null,null,null,null,null,null,null,null,{"$f":"INDEX(Backbone!$R$2:$R$893,MATCH(I126,Backbone!$A$2:$A$893,0))","v":"Оборудование или программное обеспечение"},null,null,null,{"$f":"INDEX(Backbone!$S$2:$S$893,MATCH(I126,Backbone!$A$2:$A$893,0))","v":"Ориентированный на конкретный сектор; универсальный"},null,null,null,{"$f":"INDEX(Backbone!$H$2:$H$893,MATCH(I126,Backbone!$A$2:$A$893,0))","v":9.6},null,{"$f":"INDEX(Backbone!$I$2:$I$893,MATCH(I126,Backbone!$A$2:$A$893,0))","v":2},null,{"$f":"INDEX(Backbone!$J$2:$J$893,MATCH(I126,Backbone!$A$2:$A$893,0))","v":6.7},null,{"$f":"INDEX(Backbone!$K$1:$K$893,MATCH(I126,Backbone!$A$1:$A$893,0))","v":6.7},null,{"$f":"INDEX(Backbone!$L$2:$L$893,MATCH(I126,Backbone!$A$2:$A$893,0))","v":6.6},null,{"$f":"INDEX(Backbone!$M$2:$M$893,MATCH(I126,Backbone!$A$2:$A$893,0))","v":3.5},null,{"$f":"INDEX(Backbone!$N$2:$N$893,MATCH(I126,Backbone!$A$2:$A$893,0))","v":6.7},null,{"$f":"INDEX(Backbone!$O$2:$O$893,MATCH(I126,Backbone!$A$2:$A$893,0))","v":4.9000000000000004},null,{"$f":"INDEX(Backbone!$P$2:$P$893,MATCH(I126,Backbone!$A$2:$A$893,0))","v":4.7},null,{"$f":"INDEX(Backbone!$Q$2:$Q$893,MATCH(I126,Backbone!$A$2:$A$893,0))","v":0.57111111111111112},null,null,{"$f":"(AG126*$AG$23+AI126*$AI$23+AK126*$AK$23+AM126*$AM$23+AO126*$AO$23+AQ126*$AQ$23+AS126*$AS$23+AU126*$AU$23+AW126*$AW$23)/(SUM($AG$23:$AW$23)*10)","v":{"$error":"#DIV/0!"}},null,null,"Перейти в Реестр ресурсов: ",null,{"$f":"HYPERLINK(\"#\"&ADDRESS(MATCH(I126,Toolbox!$C$1:$C$300),1,,,\"Toolbox\"),VLOOKUP(I126,Toolbox!$C$1:$C$300,1,FALSE))","v":"Онлайн-инструменты для разработки и оценки систем эпиднадзора (SURVTOOLS) "}]
[]
[]
[]
[]
[]
[]
[]
[]
[]
[]
[]
[]
[]
[]
[]
[]
[]
[]
[]
[]
[]
[]
[]
[]
[null,null,null,null,null,null,null,null,null,null,null,null,null,null,null,null,null,null,null,null,null,null,null,null,null,null,null,null,null,null,null,null,"Доступность",null,"Язык",null,"Простота использования",null,"Гибкость",null,"Потребности в данных",null,"Анализ данных",null,"Приемлемость",null,"«Единое здоровье»",null,"Воздействие"]
[]
[]
[]
[]
[]
[]
[null,null,null,null,null,null,null,null,null,null,null,null,null,null,null,null,null,null,null,null,null,null,null,null,null,null,null,null,null,null,null,null,null,null,null,null,null,null,null,null,null,null,null,null,null,null,null,null,null,null,"ИСХОДНАЯ ОЦЕНКА",null,null,"СКОРРЕКТИРОВАННАЯ ОЦЕНКА \n(Исходя из предпочтений пользователей)"]
[]
[]
[]
[null,"РЕСУРСЫ УРОВНЯ 2",null,"КЛАССИФИКАЦИЯ",null,null,null,null,"НАЗВАНИЕ РЕСУРСА",null,null,null,null,null,null,"КРАТКОЕ ОПИСАНИЕ",null,null,null,null,null,null,null,null,"ВИД РЕСУРСА",null,null,null,"ОБЩАЯ НАПРАВЛЕННОСТЬ РЕСУРСА"]
[]
[]
[]
[null,null,null,null,null,null,null,null,null,null,null,null,null,null,null,null,null,null,null,null,null,null,null,null,null,null,null,null,null,null,null,null,{"$f":"'Attribute Survey'!S130","v":0},null,{"$f":"'Attribute Survey'!S134","v":0},null,{"$f":"'Attribute Survey'!S138","v":0},null,{"$f":"'Attribute Survey'!S142","v":0},null,{"$f":"'Attribute Survey'!S146","v":0},null,{"$f":"'Attribute Survey'!S150","v":0},null,{"$f":"'Attribute Survey'!S154","v":0},null,{"$f":"'Attribute Survey'!S158","v":0},null,{"$f":"'Attribute Survey'!S162","v":0}]
[null,null,null,"Другие полезные ресурсы",null,null,null,null,{"$f":"Backbone!A176","v":"Руководство для разработки планов эпиднадзора за\nболезнями животных\n\n"},null,null,null,null,null,null,"Общий шаблон с рамочной программой для планирования эпиднадзора за инфекционными заболеваниями.",null,null,null,null,null,null,null,null,{"$f":"INDEX(Backbone!$R$2:$R$893,MATCH(I167,Backbone!$A$2:$A$893,0))","v":"Шаблон"},null,null,null,{"$f":"INDEX(Backbone!$S$2:$S$893,MATCH(I167,Backbone!$A$2:$A$893,0))","v":"Ориентированный на конкретный сектор; универсальный"},null,null,null,{"$f":"INDEX(Backbone!$H$2:$H$893,MATCH(I167,Backbone!$A$2:$A$893,0))","v":9.1999999999999993},null,{"$f":"INDEX(Backbone!$I$2:$I$893,MATCH(I167,Backbone!$A$2:$A$893,0))","v":10},null,{"$f":"INDEX(Backbone!$J$2:$J$893,MATCH(I167,Backbone!$A$2:$A$893,0))","v":7.5},null,{"$f":"INDEX(Backbone!$K$1:$K$893,MATCH(I167,Backbone!$A$1:$A$893,0))","v":8.6999999999999993},null,{"$f":"INDEX(Backbone!$L$2:$L$893,MATCH(I167,Backbone!$A$2:$A$893,0))","v":5.7},null,{"$f":"INDEX(Backbone!$M$2:$M$893,MATCH(I167,Backbone!$A$2:$A$893,0))","v":2.5},null,{"$f":"INDEX(Backbone!$N$2:$N$893,MATCH(I167,Backbone!$A$2:$A$893,0))","v":3.3},null,{"$f":"INDEX(Backbone!$O$2:$O$893,MATCH(I167,Backbone!$A$2:$A$893,0))","v":5.0999999999999996},null,{"$f":"INDEX(Backbone!$P$2:$P$893,MATCH(I167,Backbone!$A$2:$A$893,0))","v":4},null,{"$f":"INDEX(Backbone!$Q$2:$Q$893,MATCH(I167,Backbone!$A$2:$A$893,0))","v":0.62222222222222223},null,null,{"$f":"(AG167*$AG$23+AI167*$AI$23+AK167*$AK$23+AM167*$AM$23+AO167*$AO$23+AQ167*$AQ$23+AS167*$AS$23+AU167*$AU$23+AW167*$AW$23)/(SUM($AG$23:$AW$23)*10)","v":{"$error":"#DIV/0!"}},null,null,"Перейти в Реестр ресурсов: ",null,{"$f":"HYPERLINK(\"#\"&ADDRESS(MATCH(I167,Toolbox!$C$1:$C$300),1,,,\"Toolbox\"),VLOOKUP(I167,Toolbox!$C$1:$C$300,1,FALSE))","v":"Руководство для разработки планов эпиднадзора за\nболезнями животных\n\n"}]
[]
[]
[]
[]
[]
[null,null,null,null,null,null,null,null,{"$f":"Backbone!A648","v":"Инструментарий для обеспечения готовности и планирования ответных действий"},null,null,null,null,null,null,"Настоящий инструментарий предназначен для разработки странами их межотраслевых планов по обеспечению готовности и планированию ответных действий в отношении событий общественного здравоохранения. ",null,null,null,null,null,null,null,null,{"$f":"INDEX(Backbone!$R$2:$R$893,MATCH(I173,Backbone!$A$2:$A$893,0))","v":"Руководящий документ"},null,null,null,{"$f":"INDEX(Backbone!$S$2:$S$893,MATCH(I173,Backbone!$A$2:$A$893,0))","v":"«Единое здоровье»; универсальный"},null,null,null,{"$f":"INDEX(Backbone!$H$2:$H$893,MATCH(I173,Backbone!$A$2:$A$893,0))","v":8.4},null,{"$f":"INDEX(Backbone!$I$2:$I$893,MATCH(I173,Backbone!$A$2:$A$893,0))","v":8},null,{"$f":"INDEX(Backbone!$J$2:$J$893,MATCH(I173,Backbone!$A$2:$A$893,0))","v":8.4},null,{"$f":"INDEX(Backbone!$K$1:$K$893,MATCH(I173,Backbone!$A$1:$A$893,0))","v":6.7},null,{"$f":"INDEX(Backbone!$L$2:$L$893,MATCH(I173,Backbone!$A$2:$A$893,0))","v":2},null,{"$f":"INDEX(Backbone!$M$2:$M$893,MATCH(I173,Backbone!$A$2:$A$893,0))","v":3.5},null,{"$f":"INDEX(Backbone!$N$2:$N$893,MATCH(I173,Backbone!$A$2:$A$893,0))","v":4},null,{"$f":"INDEX(Backbone!$O$2:$O$893,MATCH(I173,Backbone!$A$2:$A$893,0))","v":6.4},null,{"$f":"INDEX(Backbone!$P$2:$P$893,MATCH(I173,Backbone!$A$2:$A$893,0))","v":8},null,{"$f":"INDEX(Backbone!$Q$2:$Q$893,MATCH(I173,Backbone!$A$2:$A$893,0))","v":0.61555555555555552},null,null,{"$f":"(AG173*$AG$23+AI173*$AI$23+AK173*$AK$23+AM173*$AM$23+AO173*$AO$23+AQ173*$AQ$23+AS173*$AS$23+AU173*$AU$23+AW173*$AW$23)/(SUM($AG$23:$AW$23)*10)","v":{"$error":"#DIV/0!"}},null,null,"Перейти в Реестр ресурсов: ",null,{"$f":"HYPERLINK(\"#\"&ADDRESS(MATCH(I173,Toolbox!$C$1:$C$300),1,,,\"Toolbox\"),VLOOKUP(I173,Toolbox!$C$1:$C$300,1,FALSE))","v":"Инструментарий для обеспечения готовности и планирования ответных действий"}]
[]
[]
[]
[]
[]
[]
[]
[]
[]
[]
[]
[]
[]
[]
[]
[]
[]
[]
[null,null,null,null,null,null,null,null,null,null,null,null,null,null,null,null,null,null,null,null,null,null,null,null,null,null,null,null,null,null,null,null,"Доступность",null,"Язык",null,"Простота использования",null,"Гибкость",null,"Потребности в данных",null,"Анализ данных",null,"Приемлемость",null,"«Единое здоровье»",null,"Воздействие"]
[]
[]
[]
[]
[]
[]
[null,null,null,null,null,null,null,null,null,null,null,null,null,null,null,null,null,null,null,null,null,null,null,null,null,null,null,null,null,null,null,null,null,null,null,null,null,null,null,null,null,null,null,null,null,null,null,null,null,null,"ИСХОДНАЯ ОЦЕНКА",null,null,"СКОРРЕКТИРОВАННАЯ ОЦЕНКА \n(Исходя из предпочтений пользователей)"]
[]
[]
[]
[null,"РЕСУРСЫ УРОВНЯ 3",null,"КЛАССИФИКАЦИЯ",null,null,null,null,"НАЗВАНИЕ РЕСУРСА",null,null,null,null,null,null,"КРАТКОЕ ОПИСАНИЕ",null,null,null,null,null,null,null,null,"ВИД РЕСУРСА",null,null,null,"ОБЩАЯ НАПРАВЛЕННОСТЬ РЕСУРСА"]
[]
[]
[]
[null,null,null,null,null,null,null,null,null,null,null,null,null,null,null,null,null,null,null,null,null,null,null,null,null,null,null,null,null,null,null,null,{"$f":"'Attribute Survey'!S231","v":0},null,{"$f":"'Attribute Survey'!S235","v":0},null,{"$f":"'Attribute Survey'!S239","v":0},null,{"$f":"'Attribute Survey'!S243","v":0},null,{"$f":"'Attribute Survey'!S247","v":0},null,{"$f":"'Attribute Survey'!S251","v":0},null,{"$f":"'Attribute Survey'!S255","v":0},null,{"$f":"'Attribute Survey'!S259","v":0},null,{"$f":"'Attribute Survey'!S263","v":0}]
[null,null,null,"Наиболее подходящие ресурсы",null,null,null,null,{"$f":"Backbone!A396","v":"Кодекс по эпиднадзору на основе концепции «Единое здоровье» (OHS) "},null,null,null,null,null,null,"Рамочная программа высокого уровня, поддерживающая взаимодействие, взаимопонимание, обмен знаниями и совместимость данных среди секторов, осуществляющих эпиднадзор в рамках концепции «Единое здоровье».",null,null,null,null,null,null,null,null,{"$f":"INDEX(Backbone!$R$2:$R$893,MATCH(I208,Backbone!$A$2:$A$893,0))","v":"Инструмент самооценки"},null,null,null,{"$f":"INDEX(Backbone!$S$2:$S$893,MATCH(I208,Backbone!$A$2:$A$893,0))","v":"«Единое здоровье»; универсальный"},null,null,null,{"$f":"INDEX(Backbone!$H$2:$H$893,MATCH(I208,Backbone!$A$2:$A$893,0))","v":9},null,{"$f":"INDEX(Backbone!$I$2:$I$893,MATCH(I208,Backbone!$A$2:$A$893,0))","v":6},null,{"$f":"INDEX(Backbone!$J$2:$J$893,MATCH(I208,Backbone!$A$2:$A$893,0))","v":8.5},null,{"$f":"INDEX(Backbone!$K$2:$K$893,MATCH(I208,Backbone!$A$2:$A$893,0))","v":8.6999999999999993},null,{"$f":"INDEX(Backbone!$L$2:$L$893,MATCH(I208,Backbone!$A$2:$A$893,0))","v":8.1},null,{"$f":"INDEX(Backbone!$M$2:$M$893,MATCH(I208,Backbone!$A$2:$A$893,0))","v":2.8},null,{"$f":"INDEX(Backbone!$N$2:$N$893,MATCH(I208,Backbone!$A$2:$A$893,0))","v":2},null,{"$f":"INDEX(Backbone!$O$2:$O$893,MATCH(I208,Backbone!$A$2:$A$893,0))","v":6},null,{"$f":"INDEX(Backbone!$P$2:$P$893,MATCH(I208,Backbone!$A$2:$A$893,0))","v":5},null,{"$f":"INDEX(Backbone!$Q$2:$Q$893,MATCH(I208,Backbone!$A$2:$A$893,0))","v":0.62333333333333329},null,null,{"$f":"(AG208*$AG$23+AI208*$AI$23+AK208*$AK$23+AM208*$AM$23+AO208*$AO$23+AQ208*$AQ$23+AS208*$AS$23+AU208*$AU$23+AW208*$AW$23)/(SUM($AG$23:$AW$23)*10)","v":{"$error":"#DIV/0!"}},null,null,"Перейти в Реестр ресурсов: ",null,{"$f":"HYPERLINK(\"#\"&ADDRESS(MATCH(I208,Toolbox!$C$1:$C$300),1,,,\"Toolbox\"),VLOOKUP(I208,Toolbox!$C$1:$C$300,1,FALSE))","v":"Кодекс по эпиднадзору на основе концепции «Единое здоровье» (OHS) "}]
[]
[]
[]
[]
[]
[]
[null,null,null,"Другие полезные ресурсы",null,null,null,null,{"$f":"Backbone!A176","v":"Руководство для разработки планов эпиднадзора за\nболезнями животных\n\n"},null,null,null,null,null,null,"Общий шаблон с рамочной программой для планирования эпиднадзора за инфекционными заболеваниями.",null,null,null,null,null,null,null,null,{"$f":"INDEX(Backbone!$R$2:$R$893,MATCH(I215,Backbone!$A$2:$A$893,0))","v":"Шаблон"},null,null,null,{"$f":"INDEX(Backbone!$S$2:$S$893,MATCH(I215,Backbone!$A$2:$A$893,0))","v":"Ориентированный на конкретный сектор; универсальный"},null,null,null,{"$f":"INDEX(Backbone!$H$2:$H$893,MATCH(I215,Backbone!$A$2:$A$893,0))","v":9.1999999999999993},null,{"$f":"INDEX(Backbone!$I$2:$I$893,MATCH(I215,Backbone!$A$2:$A$893,0))","v":10},null,{"$f":"INDEX(Backbone!$J$2:$J$893,MATCH(I215,Backbone!$A$2:$A$893,0))","v":7.5},null,{"$f":"INDEX(Backbone!$K$1:$K$893,MATCH(I215,Backbone!$A$1:$A$893,0))","v":8.6999999999999993},null,{"$f":"INDEX(Backbone!$L$2:$L$893,MATCH(I215,Backbone!$A$2:$A$893,0))","v":5.7},null,{"$f":"INDEX(Backbone!$M$2:$M$893,MATCH(I215,Backbone!$A$2:$A$893,0))","v":2.5},null,{"$f":"INDEX(Backbone!$N$2:$N$893,MATCH(I215,Backbone!$A$2:$A$893,0))","v":3.3},null,{"$f":"INDEX(Backbone!$O$2:$O$893,MATCH(I215,Backbone!$A$2:$A$893,0))","v":5.0999999999999996},null,{"$f":"INDEX(Backbone!$P$2:$P$893,MATCH(I215,Backbone!$A$2:$A$893,0))","v":4},null,{"$f":"INDEX(Backbone!$Q$2:$Q$893,MATCH(I215,Backbone!$A$2:$A$893,0))","v":0.62222222222222223},null,null,{"$f":"(AG215*$AG$23+AI215*$AI$23+AK215*$AK$23+AM215*$AM$23+AO215*$AO$23+AQ215*$AQ$23+AS215*$AS$23+AU215*$AU$23+AW215*$AW$23)/(SUM($AG$23:$AW$23)*10)","v":{"$error":"#DIV/0!"}},null,null,"Перейти в Реестр ресурсов: ",null,{"$f":"HYPERLINK(\"#\"&ADDRESS(MATCH(I215,Toolbox!$C$1:$C$300),1,,,\"Toolbox\"),VLOOKUP(I215,Toolbox!$C$1:$C$300,1,FALSE))","v":"Руководство для разработки планов эпиднадзора за\nболезнями животных\n\n"}]
[]
[]
[]
[]
[]
[null,null,null,null,null,null,null,null,{"$f":"Backbone!A648","v":"Инструментарий для обеспечения готовности и планирования ответных действий"},null,null,null,null,null,null,"Настоящий инструментарий предназначен для разработки странами их межотраслевых планов по обеспечению готовности и планированию ответных действий в отношении событий общественного здравоохранения. ",null,null,null,null,null,null,null,null,{"$f":"INDEX(Backbone!$R$2:$R$893,MATCH(I221,Backbone!$A$2:$A$893,0))","v":"Руководящий документ"},null,null,null,{"$f":"INDEX(Backbone!$S$2:$S$893,MATCH(I221,Backbone!$A$2:$A$893,0))","v":"«Единое здоровье»; универсальный"},null,null,null,{"$f":"INDEX(Backbone!$H$2:$H$893,MATCH(I221,Backbone!$A$2:$A$893,0))","v":8.4},null,{"$f":"INDEX(Backbone!$I$2:$I$893,MATCH(I221,Backbone!$A$2:$A$893,0))","v":8},null,{"$f":"INDEX(Backbone!$J$2:$J$893,MATCH(I221,Backbone!$A$2:$A$893,0))","v":8.4},null,{"$f":"INDEX(Backbone!$K$1:$K$893,MATCH(I221,Backbone!$A$1:$A$893,0))","v":6.7},null,{"$f":"INDEX(Backbone!$L$2:$L$893,MATCH(I221,Backbone!$A$2:$A$893,0))","v":2},null,{"$f":"INDEX(Backbone!$M$2:$M$893,MATCH(I221,Backbone!$A$2:$A$893,0))","v":3.5},null,{"$f":"INDEX(Backbone!$N$2:$N$893,MATCH(I221,Backbone!$A$2:$A$893,0))","v":4},null,{"$f":"INDEX(Backbone!$O$2:$O$893,MATCH(I221,Backbone!$A$2:$A$893,0))","v":6.4},null,{"$f":"INDEX(Backbone!$P$2:$P$893,MATCH(I221,Backbone!$A$2:$A$893,0))","v":8},null,{"$f":"INDEX(Backbone!$Q$2:$Q$893,MATCH(I221,Backbone!$A$2:$A$893,0))","v":0.61555555555555552},null,null,{"$f":"(AG221*$AG$23+AI221*$AI$23+AK221*$AK$23+AM221*$AM$23+AO221*$AO$23+AQ221*$AQ$23+AS221*$AS$23+AU221*$AU$23+AW221*$AW$23)/(SUM($AG$23:$AW$23)*10)","v":{"$error":"#DIV/0!"}},null,null,"Перейти в Реестр ресурсов: ",null,{"$f":"HYPERLINK(\"#\"&ADDRESS(MATCH(I221,Toolbox!$C$1:$C$300),1,,,\"Toolbox\"),VLOOKUP(I221,Toolbox!$C$1:$C$300,1,FALSE))","v":"Инструментарий для обеспечения готовности и планирования ответных действий"}]

{"sheet":"P5_tools","index":42,"n_rows":53,"n_cols":59,"rows_kept":53,"cut":false,"hidden":false,"merged":[[52,48,56,48],[34,46,38,46],[46,48,50,48],[46,50,50,51],[46,53,50,54],[52,8,56,13],[52,15,56,22],[52,24,56,26],[52,28,56,30],[52,32,56,32],[52,34,56,34],[52,36,56,36],[46,36,50,36],[46,38,50,38],[46,40,50,40],[46,42,50,42],[46,44,50,44],[46,46,50,46],[52,50,56,51],[52,53,56,54],[52,38,56,38],[52,40,56,40],[52,42,56,42],[52,44,56,44],[52,46,56,46],[28,48,32,48],[28,50,32,51],[22,50,26,51],[40,50,44,51],[40,53,44,54],[28,53,32,54],[40,8,44,13],[40,15,44,22],[40,24,44,26],[40,28,44,30],[40,32,44,32],[40,34,44,34],[40,36,44,36],[40,38,44,38],[40,40,44,40],[28,40,32,40],[28,42,32,42],[28,44,32,44],[28,46,32,46],[40,48,44,48],[34,48,38,48],[34,50,38,51],[34,53,38,54],[34,36,38,36],[34,44,38,44],[28,8,32,13],[28,15,32,22],[28,24,32,26],[28,28,32,30],[28,32,32,32],[28,34,32,34],[28,36,32,36],[28,38,32,38],[46,8,50,13],[46,15,50,22],[46,24,50,26],[46,28,50,30],[46,32,50,32],[17,1,56,1],[17,3,20,6],[17,8,20,13],[17,15,20,22],[22,15,26,22],[22,24,26,26],[22,28,26,30],[22,32,26,32],[34,28,38,30],[34,32,38,32],[1,1,3,62],[22,56,26,57],[22,58,26,62],[28,56,32,57],[28,58,32,62],[34,56,38,57],[34,58,38,62],[40,56,44,57],[17,24,20,26],[17,28,20,30],[22,3,56,6],[22,8,26,13],[22,46,26,46],[46,34,50,34],[40,42,44,42],[40,44,44,44],[40,46,44,46],[34,8,38,13],[34,15,38,22],[34,24,38,26],[40,58,44,62],[46,56,50,57],[46,58,50,62],[52,56,56,57],[52,58,56,62],[6,32,20,32],[6,34,20,34],[6,36,20,36],[6,38,20,38],[6,40,20,40],[6,42,20,42],[6,44,20,44],[6,46,20,46],[6,48,20,48],[13,50,20,51],[13,53,20,54],[34,38,38,38],[34,40,38,40],[34,42,38,42],[22,53,26,54],[22,40,26,40],[22,42,26,42],[22,44,26,44],[22,48,26,48],[22,38,26,38],[22,34,26,34],[22,36,26,36],[34,34,38,34]]}
[]
[null,"Ресурсы по финансовому планированию"]
[]
[]
[]
[]
[null,null,null,null,null,null,null,null,null,null,null,null,null,null,null,null,null,null,null,null,null,null,null,null,null,null,null,null,null,null,null,null,"Доступность",null,"Язык",null,"Простота использования",null,"Гибкость",null,"Потребности в данных",null,"Анализ данных",null,"Приемлемость",null,"«Единое здоровье»",null,"Воздействие"]
[]
[]
[]
[]
[]
[]
[null,null,null,null,null,null,null,null,null,null,null,null,null,null,null,null,null,null,null,null,null,null,null,null,null,null,null,null,null,null,null,null,null,null,null,null,null,null,null,null,null,null,null,null,null,null,null,null,null,null,"ИСХОДНАЯ ОЦЕНКА",null,null,"СКОРРЕКТИРОВАННАЯ ОЦЕНКА \n(Исходя из предпочтений пользователей)"]
[]
[]
[]
[null,"РЕСУРСЫ УРОВНЯ 1",null,"КЛАССИФИКАЦИЯ",null,null,null,null,"НАЗВАНИЕ РЕСУРСА",null,null,null,null,null,null,"КРАТКОЕ ОПИСАНИЕ",null,null,null,null,null,null,null,null,"ВИД РЕСУРСА",null,null,null,"ОБЩАЯ НАПРАВЛЕННОСТЬ РЕСУРСА"]
[]
[]
[]
[null,null,null,null,null,null,null,null,null,null,null,null,null,null,null,null,null,null,null,null,null,null,null,null,null,null,null,null,null,null,null,null,{"$f":"'Attribute Survey'!S22","v":0},null,{"$f":"'Attribute Survey'!S26","v":0},null,{"$f":"'Attribute Survey'!S30","v":0},null,{"$f":"'Attribute Survey'!S34","v":0},null,{"$f":"'Attribute Survey'!S38","v":0},null,{"$f":"'Attribute Survey'!S42","v":0},null,{"$f":"'Attribute Survey'!S46","v":0},null,{"$f":"'Attribute Survey'!S50","v":0},null,{"$f":"'Attribute Survey'!S54","v":0}]
[null,null,null,"Другие полезные ресурсы",null,null,null,null,{"$f":"Backbone!A2","v":"Рамочная программа Африканских ЦКПЗ по надзору на основе сигнальных событий"},null,null,null,null,null,null,"Руководство для работников системы общественного здравоохранения, стремящихся внедрить надзор на основе событий на всех административных уровнях.",null,null,null,null,null,null,null,null,{"$f":"INDEX(Backbone!$R$2:$R$893,MATCH(I23,Backbone!$A$2:$A$893,0))","v":"Руководящий документ"},null,null,null,{"$f":"INDEX(Backbone!$S$2:$S$893,MATCH(I23,Backbone!$A$2:$A$893,0))","v":"«Единое здоровье»; универсальный "},null,null,null,{"$f":"INDEX(Backbone!$H$2:$H$893,MATCH(I23,Backbone!$A$2:$A$893,0))","v":8},null,{"$f":"INDEX(Backbone!$I$2:$I$893,MATCH(I23,Backbone!$A$2:$A$893,0))","v":6},null,{"$f":"INDEX(Backbone!$J$2:$J$893,MATCH(I23,Backbone!$A$2:$A$893,0))","v":8.1999999999999993},null,{"$f":"INDEX(Backbone!$K$1:$K$893,MATCH(I23,Backbone!$A$1:$A$893,0))","v":8.3000000000000007},null,{"$f":"INDEX(Backbone!$L$2:$L$893,MATCH(I23,Backbone!$A$2:$A$893,0))","v":6.1},null,{"$f":"INDEX(Backbone!$M$2:$M$893,MATCH(I23,Backbone!$A$2:$A$893,0))","v":3.5},null,{"$f":"INDEX(Backbone!$N$2:$N$893,MATCH(I23,Backbone!$A$2:$A$893,0))","v":4},null,{"$f":"INDEX(Backbone!$O$2:$O$893,MATCH(I23,Backbone!$A$2:$A$893,0))","v":7},null,{"$f":"INDEX(Backbone!$P$2:$P$893,MATCH(I23,Backbone!$A$2:$A$893,0))","v":6},null,{"$f":"INDEX(Backbone!$Q$2:$Q$893,MATCH(I23,Backbone!$A$2:$A$893,0))","v":0.63222222222222224},null,null,{"$f":"(AG23*$AG$22+AI23*$AI$22+AK23*$AK$22+AM23*$AM$22+AO23*$AO$22+AQ23*$AQ$22+AS23*$AS$22+AU23*$AU$22+AW23*$AW$22)/(SUM($AG$22:$AW$22)*10)","v":{"$error":"#DIV/0!"}},null,null,"Перейти в Реестр ресурсов: ",null,{"$f":"HYPERLINK(\"#\"&ADDRESS(MATCH(I23,Toolbox!$C$1:$C$300),1,,,\"Toolbox\"),VLOOKUP(I23,Toolbox!$C$1:$C$300,1,FALSE))","v":"Рамочная программа Африканских ЦКПЗ по надзору на основе сигнальных событий"}]
[]
[]
[]
[]
[]
[null,null,null,null,null,null,null,null,{"$f":"Backbone!A83","v":"Оценка системы эпиднадзора и мониторинга качества данных Европейского ЦКПЗ — справочник методов и применений "},null,null,null,null,null,null,"Справочник по мониторингу качества данных эпиднадзора для специалистов сектора общественного здравоохранения.",null,null,null,null,null,null,null,null,{"$f":"INDEX(Backbone!$R$2:$R$893,MATCH(I29,Backbone!$A$2:$A$893,0))","v":"Руководящий документ"},null,null,null,{"$f":"INDEX(Backbone!$S$2:$S$893,MATCH(I29,Backbone!$A$2:$A$893,0))","v":"Ориентированный на конкретный сектор; универсальный"},null,null,null,{"$f":"INDEX(Backbone!$H$2:$H$893,MATCH(I29,Backbone!$A$2:$A$893,0))","v":8.1999999999999993},null,{"$f":"INDEX(Backbone!$I$2:$I$893,MATCH(I29,Backbone!$A$2:$A$893,0))","v":6},null,{"$f":"INDEX(Backbone!$J$2:$J$893,MATCH(I29,Backbone!$A$2:$A$893,0))","v":6.4},null,{"$f":"INDEX(Backbone!$K$1:$K$893,MATCH(I29,Backbone!$A$1:$A$893,0))","v":7.3},null,{"$f":"INDEX(Backbone!$L$2:$L$893,MATCH(I29,Backbone!$A$2:$A$893,0))","v":7.7},null,{"$f":"INDEX(Backbone!$M$2:$M$893,MATCH(I29,Backbone!$A$2:$A$893,0))","v":4.5},null,{"$f":"INDEX(Backbone!$N$2:$N$893,MATCH(I29,Backbone!$A$2:$A$893,0))","v":5.3},null,{"$f":"INDEX(Backbone!$O$2:$O$893,MATCH(I29,Backbone!$A$2:$A$893,0))","v":6.2},null,{"$f":"INDEX(Backbone!$P$2:$P$893,MATCH(I29,Backbone!$A$2:$A$893,0))","v":8},null,{"$f":"INDEX(Backbone!$Q$2:$Q$893,MATCH(I29,Backbone!$A$2:$A$893,0))","v":0.66222222222222227},null,null,{"$f":"(AG29*$AG$22+AI29*$AI$22+AK29*$AK$22+AM29*$AM$22+AO29*$AO$22+AQ29*$AQ$22+AS29*$AS$22+AU29*$AU$22+AW29*$AW$22)/(SUM($AG$22:$AW$22)*10)","v":{"$error":"#DIV/0!"}},null,null,"Перейти в Реестр ресурсов: ",null,{"$f":"HYPERLINK(\"#\"&ADDRESS(MATCH(I29,Toolbox!$C$1:$C$300),1,,,\"Toolbox\"),VLOOKUP(I29,Toolbox!$C$1:$C$300,1,FALSE))","v":"Оценка системы эпиднадзора и мониторинга качества данных Европейского ЦКПЗ — справочник методов и применений "}]
[]
[]
[]
[]
[]
[null,null,null,null,null,null,null,null,{"$f":"Backbone!A234","v":"Инструмент расчета затрат для соответствия Международным медико-санитарным правилам (ММСП) (разработка Джорджтаунского университета)"},null,null,null,null,null,null,"Общий шаблон с рамочной программой для планирования эпиднадзора за инфекционными заболеваниями.\n\n",null,null,null,null,null,null,null,null,{"$f":"INDEX(Backbone!$R$2:$R$893,MATCH(I35,Backbone!$A$2:$A$893,0))","v":"Инструмент самооценки"},null,null,null,{"$f":"INDEX(Backbone!$S$2:$S$893,MATCH(I35,Backbone!$A$2:$A$893,0))","v":"Ориентированный на конкретный сектор; универсальный"},null,null,null,{"$f":"INDEX(Backbone!$H$2:$H$893,MATCH(I35,Backbone!$A$2:$A$893,0))","v":9.6},null,{"$f":"INDEX(Backbone!$I$2:$I$893,MATCH(I35,Backbone!$A$2:$A$893,0))","v":6},null,{"$f":"INDEX(Backbone!$J$2:$J$893,MATCH(I35,Backbone!$A$2:$A$893,0))","v":9.3000000000000007},null,{"$f":"INDEX(Backbone!$K$1:$K$893,MATCH(I35,Backbone!$A$1:$A$893,0))","v":7.3},null,{"$f":"INDEX(Backbone!$L$2:$L$893,MATCH(I35,Backbone!$A$2:$A$893,0))","v":7.1},null,{"$f":"INDEX(Backbone!$M$2:$M$893,MATCH(I35,Backbone!$A$2:$A$893,0))","v":8.8000000000000007},null,{"$f":"INDEX(Backbone!$N$2:$N$893,MATCH(I35,Backbone!$A$2:$A$893,0))","v":9.3000000000000007},null,{"$f":"INDEX(Backbone!$O$2:$O$893,MATCH(I35,Backbone!$A$2:$A$893,0))","v":7.5},null,{"$f":"INDEX(Backbone!$P$2:$P$893,MATCH(I35,Backbone!$A$2:$A$893,0))","v":8},null,{"$f":"INDEX(Backbone!$Q$2:$Q$893,MATCH(I35,Backbone!$A$2:$A$893,0))","v":0.80999999999999994},null,null,{"$f":"(AG35*$AG$22+AI35*$AI$22+AK35*$AK$22+AM35*$AM$22+AO35*$AO$22+AQ35*$AQ$22+AS35*$AS$22+AU35*$AU$22+AW35*$AW$22)/(SUM($AG$22:$AW$22)*10)","v":{"$error":"#DIV/0!"}},null,null,"Перейти в Реестр ресурсов: ",null,{"$f":"HYPERLINK(\"#\"&ADDRESS(MATCH(I35,Toolbox!$C$1:$C$300),1,,,\"Toolbox\"),VLOOKUP(I35,Toolbox!$C$1:$C$300,1,FALSE))","v":"Инструмент расчета затрат для соответствия Международным медико-санитарным правилам (ММСП) (разработка Джорджтаунского университета)"}]
[]
[]
[]
[]
[]
[null,null,null,null,null,null,null,null,{"$f":"Backbone!A176","v":"Руководство для разработки планов эпиднадзора за\nболезнями животных\n\n"},null,null,null,null,null,null,"Общий шаблон с рамочной программой для планирования эпиднадзора за инфекционными заболеваниями.\n\n",null,null,null,null,null,null,null,null,{"$f":"INDEX(Backbone!$R$2:$R$893,MATCH(I41,Backbone!$A$2:$A$893,0))","v":"Шаблон"},null,null,null,{"$f":"INDEX(Backbone!$S$2:$S$893,MATCH(I41,Backbone!$A$2:$A$893,0))","v":"Ориентированный на конкретный сектор; универсальный"},null,null,null,{"$f":"INDEX(Backbone!$H$2:$H$893,MATCH(I41,Backbone!$A$2:$A$893,0))","v":9.1999999999999993},null,{"$f":"INDEX(Backbone!$I$2:$I$893,MATCH(I41,Backbone!$A$2:$A$893,0))","v":10},null,{"$f":"INDEX(Backbone!$J$2:$J$893,MATCH(I41,Backbone!$A$2:$A$893,0))","v":7.5},null,{"$f":"INDEX(Backbone!$K$1:$K$893,MATCH(I41,Backbone!$A$1:$A$893,0))","v":8.6999999999999993},null,{"$f":"INDEX(Backbone!$L$2:$L$893,MATCH(I41,Backbone!$A$2:$A$893,0))","v":5.7},null,{"$f":"INDEX(Backbone!$M$2:$M$893,MATCH(I41,Backbone!$A$2:$A$893,0))","v":2.5},null,{"$f":"INDEX(Backbone!$N$2:$N$893,MATCH(I41,Backbone!$A$2:$A$893,0))","v":3.3},null,{"$f":"INDEX(Backbone!$O$2:$O$893,MATCH(I41,Backbone!$A$2:$A$893,0))","v":5.0999999999999996},null,{"$f":"INDEX(Backbone!$P$2:$P$893,MATCH(I41,Backbone!$A$2:$A$893,0))","v":4},null,{"$f":"INDEX(Backbone!$Q$2:$Q$893,MATCH(I41,Backbone!$A$2:$A$893,0))","v":0.62222222222222223},null,null,{"$f":"(AG41*$AG$22+AI41*$AI$22+AK41*$AK$22+AM41*$AM$22+AO41*$AO$22+AQ41*$AQ$22+AS41*$AS$22+AU41*$AU$22+AW41*$AW$22)/(SUM($AG$22:$AW$22)*10)","v":{"$error":"#DIV/0!"}},null,null,"Перейти в Реестр ресурсов: ",null,{"$f":"HYPERLINK(\"#\"&ADDRESS(MATCH(I41,Toolbox!$C$1:$C$300),1,,,\"Toolbox\"),VLOOKUP(I41,Toolbox!$C$1:$C$300,1,FALSE))","v":"Руководство для разработки планов эпиднадзора за\nболезнями животных\n\n"}]
[]
[]
[]
[]
[]
[null,null,null,null,null,null,null,null,{"$f":"Backbone!A33","v":"Рамочная программа для укрепления мер профилактики и борьбы с сибирской язвой "},null,null,null,null,null,null,"Данная рамочная программа рассказывает о сибирской язве и о том, как усилить меры профилактики и борьбы с сибирской язвой у животных и людей.",null,null,null,null,null,null,null,null,{"$f":"INDEX(Backbone!$R$2:$R$893,MATCH(I47,Backbone!$A$2:$A$893,0))","v":"Руководящий документ"},null,null,null,{"$f":"INDEX(Backbone!$S$2:$S$893,MATCH(I47,Backbone!$A$2:$A$893,0))","v":"«Единое здоровье»; ориентированный на конкретную болезнь/угрозу "},null,null,null,{"$f":"INDEX(Backbone!$H$2:$H$893,MATCH(I47,Backbone!$A$2:$A$893,0))","v":9.1},null,{"$f":"INDEX(Backbone!$I$2:$I$893,MATCH(I47,Backbone!$A$2:$A$893,0))","v":10},null,{"$f":"INDEX(Backbone!$J$2:$J$893,MATCH(I47,Backbone!$A$2:$A$893,0))","v":8.6},null,{"$f":"INDEX(Backbone!$K$1:$K$893,MATCH(I47,Backbone!$A$1:$A$893,0))","v":4.7},null,{"$f":"INDEX(Backbone!$L$2:$L$893,MATCH(I47,Backbone!$A$2:$A$893,0))","v":9.1999999999999993},null,{"$f":"INDEX(Backbone!$M$2:$M$893,MATCH(I47,Backbone!$A$2:$A$893,0))","v":2},null,{"$f":"INDEX(Backbone!$N$2:$N$893,MATCH(I47,Backbone!$A$2:$A$893,0))","v":6.3},null,{"$f":"INDEX(Backbone!$O$2:$O$893,MATCH(I47,Backbone!$A$2:$A$893,0))","v":4.3},null,{"$f":"INDEX(Backbone!$P$2:$P$893,MATCH(I47,Backbone!$A$2:$A$893,0))","v":6},null,{"$f":"INDEX(Backbone!$Q$2:$Q$893,MATCH(I47,Backbone!$A$2:$A$893,0))","v":0.66888888888888887},null,null,{"$f":"(AG47*$AG$22+AI47*$AI$22+AK47*$AK$22+AM47*$AM$22+AO47*$AO$22+AQ47*$AQ$22+AS47*$AS$22+AU47*$AU$22+AW47*$AW$22)/(SUM($AG$22:$AW$22)*10)","v":{"$error":"#DIV/0!"}},null,null,"Перейти в Реестр ресурсов: ",null,{"$f":"HYPERLINK(\"#\"&ADDRESS(MATCH(I47,Toolbox!$C$1:$C$300),1,,,\"Toolbox\"),VLOOKUP(I47,Toolbox!$C$1:$C$300,1,FALSE))","v":"Рамочная программа для укрепления мер профилактики и борьбы с сибирской язвой "}]
[]
[]
[]
[]
[]
[null,null,null,null,null,null,null,null,{"$f":"Backbone!A195","v":"Комплексная система эпиднадзора и мер реагирования (IDSR)"},null,null,null,null,null,null,"Стратегия, разработанная с целью укрепить потенциал стран для выявления и подтверждения предполагаемых случаев заболевания и вспышек и реагирования на них, а также для использования информации для прогнозирования событий в области общественного здравоохранения и планирования мер реагирования на них.",null,null,null,null,null,null,null,null,{"$f":"INDEX(Backbone!$R$2:$R$893,MATCH(I53,Backbone!$A$2:$A$893,0))","v":"Руководящий документ"},null,null,null,{"$f":"INDEX(Backbone!$S$2:$S$893,MATCH(I53,Backbone!$A$2:$A$893,0))","v":"Ориентированный на конкретный сектор; универсальный"},null,null,null,{"$f":"INDEX(Backbone!$H$2:$H$893,MATCH(I53,Backbone!$A$2:$A$893,0))","v":7.4},null,{"$f":"INDEX(Backbone!$I$2:$I$893,MATCH(I53,Backbone!$A$2:$A$893,0))","v":10},null,{"$f":"INDEX(Backbone!$J$2:$J$893,MATCH(I53,Backbone!$A$2:$A$893,0))","v":7.4},null,{"$f":"INDEX(Backbone!$K$1:$K$893,MATCH(I53,Backbone!$A$1:$A$893,0))","v":8.6999999999999993},null,{"$f":"INDEX(Backbone!$L$2:$L$893,MATCH(I53,Backbone!$A$2:$A$893,0))","v":6.7},null,{"$f":"INDEX(Backbone!$M$2:$M$893,MATCH(I53,Backbone!$A$2:$A$893,0))","v":4.5},null,{"$f":"INDEX(Backbone!$N$2:$N$893,MATCH(I53,Backbone!$A$2:$A$893,0))","v":8},null,{"$f":"INDEX(Backbone!$O$2:$O$893,MATCH(I53,Backbone!$A$2:$A$893,0))","v":7.2},null,{"$f":"INDEX(Backbone!$P$2:$P$893,MATCH(I53,Backbone!$A$2:$A$893,0))","v":8.5},null,{"$f":"INDEX(Backbone!$Q$2:$Q$893,MATCH(I53,Backbone!$A$2:$A$893,0))","v":0.76},null,null,{"$f":"(AG53*$AG$22+AI53*$AI$22+AK53*$AK$22+AM53*$AM$22+AO53*$AO$22+AQ53*$AQ$22+AS53*$AS$22+AU53*$AU$22+AW53*$AW$22)/(SUM($AG$22:$AW$22)*10)","v":{"$error":"#DIV/0!"}},null,null,"Перейти в Реестр ресурсов: ",null,{"$f":"HYPERLINK(\"#\"&ADDRESS(MATCH(I53,Toolbox!$C$1:$C$300),1,,,\"Toolbox\"),VLOOKUP(I53,Toolbox!$C$1:$C$300,1,FALSE))","v":"Комплексная система эпиднадзора и мер реагирования (IDSR)"}]

{"sheet":"P6_tools","index":43,"n_rows":36,"n_cols":59,"rows_kept":36,"cut":false,"hidden":false,"merged":[[29,46,33,46],[29,48,33,48],[29,50,33,51],[29,53,33,54],[35,8,39,13],[35,15,39,22],[35,48,39,48],[35,50,39,51],[35,53,39,54],[35,36,39,36],[35,38,39,38],[35,40,39,40],[35,42,39,42],[35,44,39,44],[35,46,39,46],[35,32,39,32],[17,1,40,1],[29,36,33,36],[22,36,26,36],[22,3,26,6],[22,8,26,13],[22,15,26,22],[22,24,26,26],[22,28,26,30],[22,32,26,32],[22,34,26,34],[17,28,20,30],[29,38,33,38],[29,40,33,40],[29,42,33,42],[29,44,33,44],[29,3,39,6],[29,8,33,13],[29,15,33,22],[29,24,33,26],[29,28,33,30],[35,24,39,26],[35,28,39,30],[35,34,39,34],[29,34,33,34],[29,32,33,32],[22,53,26,54],[22,38,26,38],[22,40,26,40],[22,42,26,42],[22,44,26,44],[22,46,26,46],[22,48,26,48],[22,50,26,51],[13,50,20,51],[13,53,20,54],[17,3,20,6],[17,8,20,13],[17,15,20,22],[17,24,20,26],[35,56,39,57],[35,58,39,62],[1,1,3,62],[22,56,26,57],[22,58,26,62],[29,56,33,57],[29,58,33,62],[6,32,20,32],[6,34,20,34],[6,36,20,36],[6,38,20,38],[6,40,20,40],[6,42,20,42],[6,44,20,44],[6,46,20,46],[6,48,20,48]]}
[]
[null,"Ресурсы по планированию в области кадровых ресурсов"]
[]
[]
[]
[]
[null,null,null,null,null,null,null,null,null,null,null,null,null,null,null,null,null,null,null,null,null,null,null,null,null,null,null,null,null,null,null,null,"Доступность",null,"Язык",null,"Простота использования",null,"Гибкость",null,"Потребности в данных",null,"Анализ данных",null,"Приемлемость",null,"«Единое здоровье»",null,"Воздействие"]
[]
[]
[]
[]
[]
[]
[null,null,null,null,null,null,null,null,null,null,null,null,null,null,null,null,null,null,null,null,null,null,null,null,null,null,null,null,null,null,null,null,null,null,null,null,null,null,null,null,null,null,null,null,null,null,null,null,null,null,"ИСХОДНАЯ ОЦЕНКА",null,null,"СКОРРЕКТИРОВАННАЯ ОЦЕНКА \n(Исходя из предпочтений пользователей)"]
[]
[]
[]
[null,"РЕСУРСЫ УРОВНЯ 1",null,"КЛАССИФИКАЦИЯ",null,null,null,null,"НАЗВАНИЕ РЕСУРСА",null,null,null,null,null,null,"КРАТКОЕ ОПИСАНИЕ",null,null,null,null,null,null,null,null,"ВИД РЕСУРСА",null,null,null,"ОБЩАЯ НАПРАВЛЕННОСТЬ РЕСУРСА"]
[]
[]
[]
[null,null,null,null,null,null,null,null,null,null,null,null,null,null,null,null,null,null,null,null,null,null,null,null,null,null,null,null,null,null,null,null,{"$f":"'Attribute Survey'!S22","v":0},null,{"$f":"'Attribute Survey'!S26","v":0},null,{"$f":"'Attribute Survey'!S30","v":0},null,{"$f":"'Attribute Survey'!S34","v":0},null,{"$f":"'Attribute Survey'!S38","v":0},null,{"$f":"'Attribute Survey'!S42","v":0},null,{"$f":"'Attribute Survey'!S46","v":0},null,{"$f":"'Attribute Survey'!S50","v":0},null,{"$f":"'Attribute Survey'!S54","v":0}]
[null,null,null,"Наиболее подходящие ресурсы",null,null,null,null,{"$f":"Backbone!A195","v":"Комплексная система эпиднадзора и мер реагирования (IDSR)"},null,null,null,null,null,null,"Стратегия, разработанная с целью укрепить потенциал стран для выявления и подтверждения предполагаемых случаев заболевания и вспышек и реагирования на них, а также для использования информации для прогнозирования событий в области общественного здравоохранения и планирования мер реагирования на них.",null,null,null,null,null,null,null,null,{"$f":"INDEX(Backbone!$R2:$R893,MATCH(I23,Backbone!$A2:$A893,0))","v":"Руководящий документ"},null,null,null,{"$f":"INDEX(Backbone!$S2:$S893,MATCH(I23,Backbone!$A2:$A893,0))","v":"Ориентированный на конкретный сектор; универсальный"},null,null,null,{"$f":"INDEX(Backbone!$H2:$H893,MATCH(I23,Backbone!$A2:$A893,0))","v":7.4},null,{"$f":"INDEX(Backbone!$I2:$I893,MATCH(I23,Backbone!$A2:$A893,0))","v":10},null,{"$f":"INDEX(Backbone!$J2:$J893,MATCH(I23,Backbone!$A2:$A893,0))","v":7.4},null,{"$f":"INDEX(Backbone!$K2:$K893,MATCH(I23,Backbone!$A2:$A893,0))","v":8.6999999999999993},null,{"$f":"INDEX(Backbone!$L2:$L893,MATCH(I23,Backbone!$A2:$A893,0))","v":6.7},null,{"$f":"INDEX(Backbone!$M2:$M893,MATCH(I23,Backbone!$A2:$A893,0))","v":4.5},null,{"$f":"INDEX(Backbone!$N2:$N893,MATCH(I23,Backbone!$A2:$A893,0))","v":8},null,{"$f":"INDEX(Backbone!$O2:$O893,MATCH(I23,Backbone!$A2:$A893,0))","v":7.2},null,{"$f":"INDEX(Backbone!$P2:$P893,MATCH(I23,Backbone!$A2:$A893,0))","v":8.5},null,{"$f":"INDEX(Backbone!$Q2:$Q893,MATCH(I23,Backbone!$A2:$A893,0))","v":0.76},null,null,{"$f":"(AG23*$AG$22+AI23*$AI$22+AK23*$AK$22+AM23*$AM$22+AO23*$AO$22+AQ23*$AQ$22+AS23*$AS$22+AU23*$AU$22+AW23*$AW$22)/(SUM($AG$22:$AW$22)*10)","v":{"$error":"#DIV/0!"}},null,null,"Перейти в Реестр ресурсов: ",null,{"$f":"HYPERLINK(\"#\"&ADDRESS(MATCH(I23,Toolbox!$C$1:$C$300),1,,,\"Toolbox\"),VLOOKUP(I23,Toolbox!$C$1:$C$300,1,FALSE))","v":"Комплексная система эпиднадзора и мер реагирования (IDSR)"}]
[]
[]
[]
[]
[]
[]
[null,null,null,"Другие полезные ресурсы",null,null,null,null,{"$f":"Backbone!A184","v":"Глобальный механизм ликвидации бешенства у собак (GDREP)"},null,null,null,null,null,null,"Инструмент на базе Excel с простым в использовании интерфейсом, включающим разные аспекты программы по ликвидации бешенства у собак, разбит на две основные категории: эпидемиологические/логистические и финансовые аспекты соответственно.",null,null,null,null,null,null,null,null,{"$f":"INDEX(Backbone!$R$2:$R$893,MATCH(I30,Backbone!$A$2:$A$893,0))","v":"Инструмент самооценки"},null,null,null,{"$f":"INDEX(Backbone!$S$2:$S$893,MATCH(I30,Backbone!$A$2:$A$893,0))","v":"«Единое здоровье»; ориентированный на конкретную болезнь/угрозу "},null,null,null,{"$f":"INDEX(Backbone!$H$2:$H$893,MATCH(I30,Backbone!$A$2:$A$893,0))","v":9.1},null,{"$f":"INDEX(Backbone!$I$2:$I$893,MATCH(I30,Backbone!$A$2:$A$893,0))","v":7.3},null,{"$f":"INDEX(Backbone!$J$2:$J$893,MATCH(I30,Backbone!$A$2:$A$893,0))","v":8.6999999999999993},null,{"$f":"INDEX(Backbone!$K$1:$K$893,MATCH(I30,Backbone!$A$1:$A$893,0))","v":6},null,{"$f":"INDEX(Backbone!$L$2:$L$893,MATCH(I30,Backbone!$A$2:$A$893,0))","v":7.9},null,{"$f":"INDEX(Backbone!$M$2:$M$893,MATCH(I30,Backbone!$A$2:$A$893,0))","v":6},null,{"$f":"INDEX(Backbone!$N$2:$N$893,MATCH(I30,Backbone!$A$2:$A$893,0))","v":7},null,{"$f":"INDEX(Backbone!$O$2:$O$893,MATCH(I30,Backbone!$A$2:$A$893,0))","v":6.3},null,{"$f":"INDEX(Backbone!$P$2:$P$893,MATCH(I30,Backbone!$A$2:$A$893,0))","v":7},null,{"$f":"INDEX(Backbone!$Q$2:$Q$893,MATCH(I30,Backbone!$A$2:$A$893,0))","v":0.72555555555555551},null,null,{"$f":"(AG30*$AG$22+AI30*$AI$22+AK30*$AK$22+AM30*$AM$22+AO30*$AO$22+AQ30*$AQ$22+AS30*$AS$22+AU30*$AU$22+AW30*$AW$22)/(SUM($AG$22:$AW$22)*10)","v":{"$error":"#DIV/0!"}},null,null,"Перейти в Реестр ресурсов: ",null,{"$f":"HYPERLINK(\"#\"&ADDRESS(MATCH(I30,Toolbox!$C$1:$C$300),1,,,\"Toolbox\"),VLOOKUP(I30,Toolbox!$C$1:$C$300,1,FALSE))","v":"Глобальный механизм ликвидации бешенства у собак (GDREP)"}]
[]
[]
[]
[]
[]
[null,null,null,null,null,null,null,null,{"$f":"Backbone!A265","v":"Модель компетенций для лидеров/руководителей лабораторий (GLLP)"},null,null,null,null,null,null,"Данная модель обозначает девять важных компетенций, которые нужны для создания «Национальной системы лабораторий здравоохранения», включающей лаборатории, проводящие исследования материалов от людей, животных, окружающей среды, сельского хозяйства, продуктов питания, и химические лаборатории, и управления ею.",null,null,null,null,null,null,null,null,{"$f":"INDEX(Backbone!$R$2:$R$893,MATCH(I36,Backbone!$A$2:$A$893,0))","v":"Руководящий документ"},null,null,null,{"$f":"INDEX(Backbone!$S$2:$S$893,MATCH(I36,Backbone!$A$2:$A$893,0))","v":"«Единое здоровье»; универсальный"},null,null,null,{"$f":"INDEX(Backbone!$H$2:$H$893,MATCH(I36,Backbone!$A$2:$A$893,0))","v":9.6},null,{"$f":"INDEX(Backbone!$I$2:$I$893,MATCH(I36,Backbone!$A$2:$A$893,0))","v":8},null,{"$f":"INDEX(Backbone!$J$2:$J$893,MATCH(I36,Backbone!$A$2:$A$893,0))","v":8.4},null,{"$f":"INDEX(Backbone!$K$1:$K$893,MATCH(I36,Backbone!$A$1:$A$893,0))","v":9.6999999999999993},null,{"$f":"INDEX(Backbone!$L$2:$L$893,MATCH(I36,Backbone!$A$2:$A$893,0))","v":7.3},null,{"$f":"INDEX(Backbone!$M$2:$M$893,MATCH(I36,Backbone!$A$2:$A$893,0))","v":2.2999999999999998},null,{"$f":"INDEX(Backbone!$N$2:$N$893,MATCH(I36,Backbone!$A$2:$A$893,0))","v":5},null,{"$f":"INDEX(Backbone!$O$2:$O$893,MATCH(I36,Backbone!$A$2:$A$893,0))","v":8.9},null,{"$f":"INDEX(Backbone!$P$2:$P$893,MATCH(I36,Backbone!$A$2:$A$893,0))","v":4},null,{"$f":"INDEX(Backbone!$Q$2:$Q$893,MATCH(I36,Backbone!$A$2:$A$893,0))","v":0.70222222222222219},null,null,{"$f":"(AG36*$AG$22+AI36*$AI$22+AK36*$AK$22+AM36*$AM$22+AO36*$AO$22+AQ36*$AQ$22+AS36*$AS$22+AU36*$AU$22+AW36*$AW$22)/(SUM($AG$22:$AW$22)*10)","v":{"$error":"#DIV/0!"}},null,null,"Перейти в Реестр ресурсов: ",null,{"$f":"HYPERLINK(\"#\"&ADDRESS(MATCH(I36,Toolbox!$C$1:$C$300),1,,,\"Toolbox\"),VLOOKUP(I36,Toolbox!$C$1:$C$300,1,FALSE))","v":"Модель компетенций для лидеров/руководителей лабораторий (GLLP)"}]

{"sheet":"P7_tools","index":44,"n_rows":89,"n_cols":59,"rows_kept":89,"cut":false,"hidden":false,"merged":[[88,53,92,54],[88,36,92,36],[88,38,92,38],[88,40,92,40],[88,42,92,42],[88,44,92,44],[88,46,92,46],[81,48,85,48],[81,50,85,51],[81,53,85,54],[81,36,85,36],[81,38,85,38],[72,53,79,54],[76,3,79,6],[76,8,79,13],[76,15,79,22],[76,24,79,26],[76,28,79,30],[81,3,85,6],[65,32,79,32],[65,34,79,34],[65,36,79,36],[65,38,79,38],[65,40,79,40],[65,42,79,42],[65,44,79,44],[65,46,79,46],[81,44,85,44],[81,46,85,46],[81,8,85,13],[81,15,85,22],[81,24,85,26],[81,28,85,30],[81,32,85,32],[81,42,85,42],[65,48,79,48],[81,34,85,34],[45,1,55,1],[40,48,44,48],[40,50,44,51],[81,40,85,40],[72,50,79,51],[72,1,96,1],[88,48,92,48],[88,50,92,51],[88,3,92,6],[88,8,92,13],[88,15,92,22],[88,24,92,26],[88,28,92,30],[88,32,92,32],[88,34,92,34],[40,36,44,36],[40,38,44,38],[40,40,44,40],[40,42,44,42],[40,44,44,44],[40,46,44,46],[40,8,44,13],[40,15,44,22],[6,40,20,40],[6,42,20,42],[6,44,20,44],[6,46,20,46],[6,48,20,48],[13,50,20,51],[13,53,20,54],[17,1,44,1],[17,3,20,6],[17,8,20,13],[17,15,20,22],[28,42,32,42],[17,24,20,26],[28,44,32,44],[28,46,32,46],[28,48,32,48],[28,50,32,51],[28,24,32,26],[28,28,32,30],[40,53,44,54],[40,24,44,26],[40,28,44,30],[40,32,44,32],[40,34,44,34],[22,48,26,48],[22,15,26,22],[22,24,26,26],[22,28,26,30],[22,32,26,32],[17,28,20,30],[22,3,44,6],[22,8,26,13],[34,42,38,42],[34,44,38,44],[34,46,38,46],[34,48,38,48],[34,32,38,32],[34,34,38,34],[34,36,38,36],[34,38,38,38],[34,40,38,40],[28,40,32,40],[34,15,38,22],[34,28,38,30],[6,32,20,32],[6,34,20,34],[6,36,20,36],[6,38,20,38],[28,36,32,36],[28,38,32,38],[22,38,26,38],[22,40,26,40],[22,42,26,42],[22,34,26,34],[22,36,26,36],[22,44,26,44],[22,46,26,46],[81,56,85,57],[81,58,85,62],[88,56,92,57],[88,58,92,62],[1,1,3,62],[22,56,26,57],[22,58,26,62],[28,56,32,57],[28,58,32,62],[34,56,38,57],[34,58,38,62],[40,56,44,57],[40,58,44,62],[34,50,38,51],[34,53,38,54],[28,53,32,54],[34,8,38,13],[34,24,38,26],[22,50,26,51],[22,53,26,54],[28,8,32,13],[28,15,32,22],[28,32,32,32],[28,34,32,34]]}
[]
[null,"Ресурсы по планированию нормативно-правовой базы"]
[]
[]
[]
[]
[null,null,null,null,null,null,null,null,null,null,null,null,null,null,null,null,null,null,null,null,null,null,null,null,null,null,null,null,null,null,null,null,"Доступность",null,"Язык",null,"Простота использования",null,"Гибкость",null,"Потребности в данных",null,"Анализ данных",null,"Приемлемость",null,"«Единое здоровье»",null,"Воздействие"]
[]
[]
[]
[]
[]
[]
[null,null,null,null,null,null,null,null,null,null,null,null,null,null,null,null,null,null,null,null,null,null,null,null,null,null,null,null,null,null,null,null,null,null,null,null,null,null,null,null,null,null,null,null,null,null,null,null,null,null,"ИСХОДНАЯ ОЦЕНКА",null,null,"СКОРРЕКТИРОВАННАЯ ОЦЕНКА \n(Исходя из предпочтений пользователей)"]
[]
[]
[]
[null,"РЕСУРСЫ УРОВНЯ 1",null,"КЛАССИФИКАЦИЯ",null,null,null,null,"НАЗВАНИЕ РЕСУРСА",null,null,null,null,null,null,"КРАТКОЕ ОПИСАНИЕ",null,null,null,null,null,null,null,null,"ВИД РЕСУРСА",null,null,null,"ОБЩАЯ НАПРАВЛЕННОСТЬ РЕСУРСА"]
[]
[]
[]
[null,null,null,null,null,null,null,null,null,null,null,null,null,null,null,null,null,null,null,null,null,null,null,null,null,null,null,null,null,null,null,null,{"$f":"'Attribute Survey'!S22","v":0},null,{"$f":"'Attribute Survey'!S26","v":0},null,{"$f":"'Attribute Survey'!S30","v":0},null,{"$f":"'Attribute Survey'!S34","v":0},null,{"$f":"'Attribute Survey'!S38","v":0},null,{"$f":"'Attribute Survey'!S42","v":0},null,{"$f":"'Attribute Survey'!S46","v":0},null,{"$f":"'Attribute Survey'!S50","v":0},null,{"$f":"'Attribute Survey'!S54","v":0}]
[null,null,null,"Другие полезные ресурсы",null,null,null,null,{"$f":"Backbone!A184","v":"Глобальный механизм ликвидации бешенства у собак (GDREP)"},null,null,null,null,null,null,"Инструмент на базе Excel с простым в использовании интерфейсом, включающим разные аспекты программы по ликвидации бешенства у собак, разбит на две основные категории: эпидемиологические/логистические и финансовые аспекты соответственно.",null,null,null,null,null,null,null,null,{"$f":"INDEX(Backbone!$R$2:$R$893,MATCH(I23,Backbone!$A$2:$A$893,0))","v":"Инструмент самооценки"},null,null,null,{"$f":"INDEX(Backbone!$S$2:$S$893,MATCH(I23,Backbone!$A$2:$A$893,0))","v":"«Единое здоровье»; ориентированный на конкретную болезнь/угрозу "},null,null,null,{"$f":"INDEX(Backbone!$H$2:$H$893,MATCH(I23,Backbone!$A$2:$A$893,0))","v":9.1},null,{"$f":"INDEX(Backbone!$I$2:$I$893,MATCH(I23,Backbone!$A$2:$A$893,0))","v":7.3},null,{"$f":"INDEX(Backbone!$J$2:$J$893,MATCH(I23,Backbone!$A$2:$A$893,0))","v":8.6999999999999993},null,{"$f":"INDEX(Backbone!$K$1:$K$893,MATCH(I23,Backbone!$A$1:$A$893,0))","v":6},null,{"$f":"INDEX(Backbone!$L$2:$L$893,MATCH(I23,Backbone!$A$2:$A$893,0))","v":7.9},null,{"$f":"INDEX(Backbone!$M$2:$M$893,MATCH(I23,Backbone!$A$2:$A$893,0))","v":6},null,{"$f":"INDEX(Backbone!$N$2:$N$893,MATCH(I23,Backbone!$A$2:$A$893,0))","v":7},null,{"$f":"INDEX(Backbone!$O$2:$O$893,MATCH(I23,Backbone!$A$2:$A$893,0))","v":6.3},null,{"$f":"INDEX(Backbone!$P$2:$P$893,MATCH(I23,Backbone!$A$2:$A$893,0))","v":7},null,{"$f":"INDEX(Backbone!$Q$2:$Q$893,MATCH(I23,Backbone!$A$2:$A$893,0))","v":0.72555555555555551},null,null,{"$f":"(AG23*$AG$22+AI23*$AI$22+AK23*$AK$22+AM23*$AM$22+AO23*$AO$22+AQ23*$AQ$22+AS23*$AS$22+AU23*$AU$22+AW23*$AW$22)/(SUM($AG$22:$AW$22)*10)","v":{"$error":"#DIV/0!"}},null,null,"Перейти в Реестр ресурсов: ",null,{"$f":"HYPERLINK(\"#\"&ADDRESS(MATCH(I23,Toolbox!$C$1:$C$300),1,,,\"Toolbox\"),VLOOKUP(I23,Toolbox!$C$1:$C$300,1,FALSE))","v":"Глобальный механизм ликвидации бешенства у собак (GDREP)"}]
[]
[]
[]
[]
[]
[null,null,null,null,null,null,null,null,{"$f":"Backbone!A291","v":"Методология для анализа законодательства, относящегося к УПП, в продовольственном и сельскохозяйственном секторе"},null,null,null,null,null,null,"Методология, предназначенная для проведения анализов государственного законодательства, относящегося к УПП в продовольственном и сельскохозяйственном секторах.",null,null,null,null,null,null,null,null,{"$f":"INDEX(Backbone!$R$2:$R$893,MATCH(I29,Backbone!$A$2:$A$893,0))","v":"Руководящий документ"},null,null,null,{"$f":"INDEX(Backbone!$S$2:$S$893,MATCH(I29,Backbone!$A$2:$A$893,0))","v":"«Единое здоровье»; универсальный"},null,null,null,{"$f":"INDEX(Backbone!$H$2:$H$893,MATCH(I29,Backbone!$A$2:$A$893,0))","v":7.4},null,{"$f":"INDEX(Backbone!$I$2:$I$893,MATCH(I29,Backbone!$A$2:$A$893,0))","v":5.5},null,{"$f":"INDEX(Backbone!$J$2:$J$893,MATCH(I29,Backbone!$A$2:$A$893,0))","v":7.6},null,{"$f":"INDEX(Backbone!$K$1:$K$893,MATCH(I29,Backbone!$A$1:$A$893,0))","v":4},null,{"$f":"INDEX(Backbone!$L$2:$L$893,MATCH(I29,Backbone!$A$2:$A$893,0))","v":8.1999999999999993},null,{"$f":"INDEX(Backbone!$M$2:$M$893,MATCH(I29,Backbone!$A$2:$A$893,0))","v":4.5},null,{"$f":"INDEX(Backbone!$N$2:$N$893,MATCH(I29,Backbone!$A$2:$A$893,0))","v":4.5},null,{"$f":"INDEX(Backbone!$O$2:$O$893,MATCH(I29,Backbone!$A$2:$A$893,0))","v":6.6},null,{"$f":"INDEX(Backbone!$P$2:$P$893,MATCH(I29,Backbone!$A$2:$A$893,0))","v":4.5},null,{"$f":"INDEX(Backbone!$Q$2:$Q$893,MATCH(I29,Backbone!$A$2:$A$893,0))","v":0.58666666666666667},null,null,{"$f":"(AG29*$AG$22+AI29*$AI$22+AK29*$AK$22+AM29*$AM$22+AO29*$AO$22+AQ29*$AQ$22+AS29*$AS$22+AU29*$AU$22+AW29*$AW$22)/(SUM($AG$22:$AW$22)*10)","v":{"$error":"#DIV/0!"}},null,null,"Перейти в Реестр ресурсов: ",null,{"$f":"HYPERLINK(\"#\"&ADDRESS(MATCH(I29,Toolbox!$C$1:$C$300),1,,,\"Toolbox\"),VLOOKUP(I29,Toolbox!$C$1:$C$300,1,FALSE))","v":"Методология для анализа законодательства, относящегося к УПП, в продовольственном и сельскохозяйственном секторе"}]
[]
[]
[]
[]
[]
[null,null,null,null,null,null,null,null,{"$f":"Backbone!A420","v":"Анализ пробелов ПВС, разработанный Всемирной организацией охраны здоровья животных (МЭБ)"},null,null,null,null,null,null,"Помогает странам составить подробный план исходя из результатов оценки ПВС.",null,null,null,null,null,null,null,null,{"$f":"INDEX(Backbone!$R$2:$R$893,MATCH(I35,Backbone!$A$2:$A$893,0))","v":"Инструмент или процесс с методическим руководством/пояснениями"},null,null,null,{"$f":"INDEX(Backbone!$S$2:$S$893,MATCH(I35,Backbone!$A$2:$A$893,0))","v":"Ориентированный на конкретный сектор; универсальный"},null,null,null,{"$f":"INDEX(Backbone!$H$2:$H$893,MATCH(I35,Backbone!$A$2:$A$893,0))","v":6.8},null,{"$f":"INDEX(Backbone!$I$2:$I$893,MATCH(I35,Backbone!$A$2:$A$893,0))","v":8},null,{"$f":"INDEX(Backbone!$J$2:$J$893,MATCH(I35,Backbone!$A$2:$A$893,0))","v":5.6},null,{"$f":"INDEX(Backbone!$K$1:$K$893,MATCH(I35,Backbone!$A$1:$A$893,0))","v":10},null,{"$f":"INDEX(Backbone!$L$2:$L$893,MATCH(I35,Backbone!$A$2:$A$893,0))","v":6},null,{"$f":"INDEX(Backbone!$M$2:$M$893,MATCH(I35,Backbone!$A$2:$A$893,0))","v":4.3},null,{"$f":"INDEX(Backbone!$N$2:$N$893,MATCH(I35,Backbone!$A$2:$A$893,0))","v":9.5},null,{"$f":"INDEX(Backbone!$O$2:$O$893,MATCH(I35,Backbone!$A$2:$A$893,0))","v":4.7},null,{"$f":"INDEX(Backbone!$P$2:$P$893,MATCH(I35,Backbone!$A$2:$A$893,0))","v":7},null,{"$f":"INDEX(Backbone!$Q$2:$Q$893,MATCH(I35,Backbone!$A$2:$A$893,0))","v":0.68777777777777771},null,null,{"$f":"(AG35*$AG$22+AI35*$AI$22+AK35*$AK$22+AM35*$AM$22+AO35*$AO$22+AQ35*$AQ$22+AS35*$AS$22+AU35*$AU$22+AW35*$AW$22)/(SUM($AG$22:$AW$22)*10)","v":{"$error":"#DIV/0!"}},null,null,"Перейти в Реестр ресурсов: ",null,{"$f":"HYPERLINK(\"#\"&ADDRESS(MATCH(I35,Toolbox!$C$1:$C$300),1,,,\"Toolbox\"),VLOOKUP(I35,Toolbox!$C$1:$C$300,1,FALSE))","v":"Анализ пробелов ПВС, разработанный Всемирной организацией охраны здоровья животных (МЭБ)"}]
[]
[]
[]
[]
[]
[null,null,null,null,null,null,null,null,{"$f":"Backbone!A453","v":"Поэтапный подход к ликвидации бешенства (SARE)"},null,null,null,null,null,null,"Рабочий инструмент планирования, мониторинга и оценки для реализации, разработки и доработки программ борьбы с бешенством.",null,null,null,null,null,null,null,null,{"$f":"INDEX(Backbone!$R$2:$R$893,MATCH(I41,Backbone!$A$2:$A$893,0))","v":"Инструмент самооценки"},null,null,null,{"$f":"INDEX(Backbone!$S$2:$S$893,MATCH(I41,Backbone!$A$2:$A$893,0))","v":"«Единое здоровье»; ориентированный на конкретную болезнь/угрозу "},null,null,null,{"$f":"INDEX(Backbone!$H$2:$H$893,MATCH(I41,Backbone!$A$2:$A$893,0))","v":8},null,{"$f":"INDEX(Backbone!$I$2:$I$893,MATCH(I41,Backbone!$A$2:$A$893,0))","v":9},null,{"$f":"INDEX(Backbone!$J$2:$J$893,MATCH(I41,Backbone!$A$2:$A$893,0))","v":6.6},null,{"$f":"INDEX(Backbone!$K$1:$K$893,MATCH(I41,Backbone!$A$1:$A$893,0))","v":3.3},null,{"$f":"INDEX(Backbone!$L$2:$L$893,MATCH(I41,Backbone!$A$2:$A$893,0))","v":5.7},null,{"$f":"INDEX(Backbone!$M$2:$M$893,MATCH(I41,Backbone!$A$2:$A$893,0))","v":6.8},null,{"$f":"INDEX(Backbone!$N$2:$N$893,MATCH(I41,Backbone!$A$2:$A$893,0))","v":8},null,{"$f":"INDEX(Backbone!$O$2:$O$893,MATCH(I41,Backbone!$A$2:$A$893,0))","v":8.6},null,{"$f":"INDEX(Backbone!$P$2:$P$893,MATCH(I41,Backbone!$A$2:$A$893,0))","v":9.5},null,{"$f":"INDEX(Backbone!$Q$2:$Q$893,MATCH(I41,Backbone!$A$2:$A$893,0))","v":0.72777777777777775},null,null,{"$f":"(AG41*$AG$22+AI41*$AI$22+AK41*$AK$22+AM41*$AM$22+AO41*$AO$22+AQ41*$AQ$22+AS41*$AS$22+AU41*$AU$22+AW41*$AW$22)/(SUM($AG$22:$AW$22)*10)","v":{"$error":"#DIV/0!"}},null,null,"Перейти в Реестр ресурсов: ",null,{"$f":"HYPERLINK(\"#\"&ADDRESS(MATCH(I41,Toolbox!$C$1:$C$300),1,,,\"Toolbox\"),VLOOKUP(I41,Toolbox!$C$1:$C$300,1,FALSE))","v":"Поэтапный подход к ликвидации бешенства (SARE)"}]
[]
[]
[]
[]
[]
[]
[]
[]
[]
[]
[]
[]
[]
[]
[]
[]
[]
[]
[]
[]
[]
[]
[]
[]
[null,null,null,null,null,null,null,null,null,null,null,null,null,null,null,null,null,null,null,null,null,null,null,null,null,null,null,null,null,null,null,null,"Доступность",null,"Язык",null,"Простота использования",null,"Гибкость",null,"Потребности в данных",null,"Анализ данных",null,"Приемлемость",null,"«Единое здоровье»",null,"Воздействие"]
[]
[]
[]
[]
[]
[]
[null,"РЕСУРСЫ УРОВНЯ 3",null,null,null,null,null,null,null,null,null,null,null,null,null,null,null,null,null,null,null,null,null,null,null,null,null,null,null,null,null,null,null,null,null,null,null,null,null,null,null,null,null,null,null,null,null,null,null,null,"ИСХОДНАЯ ОЦЕНКА",null,null,"СКОРРЕКТИРОВАННАЯ ОЦЕНКА \n(Исходя из предпочтений пользователей)"]
[]
[]
[]
[null,null,null,"КЛАССИФИКАЦИЯ",null,null,null,null,"НАЗВАНИЕ РЕСУРСА",null,null,null,null,null,null,"КРАТКОЕ ОПИСАНИЕ",null,null,null,null,null,null,null,null,"ВИД РЕСУРСА",null,null,null,"ОБЩАЯ НАПРАВЛЕННОСТЬ РЕСУРСА"]
[]
[]
[]
[null,null,null,null,null,null,null,null,null,null,null,null,null,null,null,null,null,null,null,null,null,null,null,null,null,null,null,null,null,null,null,null,{"$f":"'Attribute Survey'!S231","v":0},null,{"$f":"'Attribute Survey'!S235","v":0},null,{"$f":"'Attribute Survey'!S239","v":0},null,{"$f":"'Attribute Survey'!S243","v":0},null,{"$f":"'Attribute Survey'!S247","v":0},null,{"$f":"'Attribute Survey'!S251","v":0},null,{"$f":"'Attribute Survey'!S255","v":0},null,{"$f":"'Attribute Survey'!S259","v":0},null,{"$f":"'Attribute Survey'!S263","v":0}]
[null,null,null,"Наиболее подходящие ресурсы",null,null,null,null,{"$f":"Backbone!A61","v":"Стратегии трансграничной межотраслевой коммуникации и координации"},null,null,null,null,null,null,"Семинар, служащий руководством заинтересованным сторонам в процессе определения отраслевых механизмов обмена информацией и создания межотраслевых или трансграничных механизмов обмена информацией.",null,null,null,null,null,null,null,null,{"$f":"INDEX(Backbone!$R$2:$R$893,MATCH(I82,Backbone!$A$2:$A$893,0))","v":"Инструмент или процесс с методическим руководством/пояснениями"},null,null,null,{"$f":"INDEX(Backbone!$S$2:$S$893,MATCH(I82,Backbone!$A$2:$A$893,0))","v":"«Единое здоровье»; универсальный "},null,null,null,{"$f":"INDEX(Backbone!$H$2:$H$893,MATCH(I82,Backbone!$A$2:$A$893,0))","v":8.9},null,{"$f":"INDEX(Backbone!$I$2:$I$893,MATCH(I82,Backbone!$A$2:$A$893,0))","v":6},null,{"$f":"INDEX(Backbone!$J$2:$J$893,MATCH(I82,Backbone!$A$2:$A$893,0))","v":7.6},null,{"$f":"INDEX(Backbone!$K$2:$K$893,MATCH(I82,Backbone!$A$2:$A$893,0))","v":9},null,{"$f":"INDEX(Backbone!$L$2:$L$893,MATCH(I82,Backbone!$A$2:$A$893,0))","v":5.6},null,{"$f":"INDEX(Backbone!$M$2:$M$893,MATCH(I82,Backbone!$A$2:$A$893,0))","v":3.5},null,{"$f":"INDEX(Backbone!$N$2:$N$893,MATCH(I82,Backbone!$A$2:$A$893,0))","v":4},null,{"$f":"INDEX(Backbone!$O$2:$O$893,MATCH(I82,Backbone!$A$2:$A$893,0))","v":8.3000000000000007},null,{"$f":"INDEX(Backbone!$P$2:$P$893,MATCH(I82,Backbone!$A$2:$A$893,0))","v":8},null,{"$f":"INDEX(Backbone!$Q$2:$Q$893,MATCH(I82,Backbone!$A$2:$A$893,0))","v":0.67666666666666675},null,null,{"$f":"(AG82*$AG$22+AI82*$AI$22+AK82*$AK$22+AM82*$AM$22+AO82*$AO$22+AQ82*$AQ$22+AS82*$AS$22+AU82*$AU$22+AW82*$AW$22)/(SUM($AG$22:$AW$22)*10)","v":{"$error":"#DIV/0!"}},null,null,"Перейти в Реестр ресурсов: ",null,{"$f":"HYPERLINK(\"#\"&ADDRESS(MATCH(I82,Toolbox!$C$1:$C$300),1,,,\"Toolbox\"),VLOOKUP(I82,Toolbox!$C$1:$C$300,1,FALSE))","v":"Стратегии трансграничной межотраслевой коммуникации и координации"}]
[]
[]
[]
[]
[]
[]
[null,null,null,"Другие полезные ресурсы",null,null,null,null,{"$f":"Backbone!A418","v":"Сборник материалов для организации единых пунктов пограничного контроля"},null,null,null,null,null,null,"Настоящий ресурс дает подробное описание ряда соображений, которые следует принимать во внимание национальным ведомствам двух граничащих стран при организации общей системы контроля перемещений людей и товаров через приоритетные наземные пограничные пункты.",null,null,null,null,null,null,null,null,{"$f":"INDEX(Backbone!$R$2:$R$893,MATCH(I89,Backbone!$A$2:$A$893,0))","v":"Руководящий документ"},null,null,null,{"$f":"INDEX(Backbone!$S$2:$S$893,MATCH(I89,Backbone!$A$2:$A$893,0))","v":"«Единое здоровье»; ориентированный на конкретную болезнь/угрозу "},null,null,null,{"$f":"INDEX(Backbone!$H$2:$H$893,MATCH(I89,Backbone!$A$2:$A$893,0))","v":8.4},null,{"$f":"INDEX(Backbone!$I$2:$I$893,MATCH(I89,Backbone!$A$2:$A$893,0))","v":2},null,{"$f":"INDEX(Backbone!$J$2:$J$893,MATCH(I89,Backbone!$A$2:$A$893,0))","v":6},null,{"$f":"INDEX(Backbone!$K$1:$K$893,MATCH(I89,Backbone!$A$1:$A$893,0))","v":10},null,{"$f":"INDEX(Backbone!$L$2:$L$893,MATCH(I89,Backbone!$A$2:$A$893,0))","v":8.6},null,{"$f":"INDEX(Backbone!$M$2:$M$893,MATCH(I89,Backbone!$A$2:$A$893,0))","v":2},null,{"$f":"INDEX(Backbone!$N$2:$N$893,MATCH(I89,Backbone!$A$2:$A$893,0))","v":8},null,{"$f":"INDEX(Backbone!$O$2:$O$893,MATCH(I89,Backbone!$A$2:$A$893,0))","v":5.5},null,{"$f":"INDEX(Backbone!$P$2:$P$893,MATCH(I89,Backbone!$A$2:$A$893,0))","v":8},null,{"$f":"INDEX(Backbone!$Q$2:$Q$893,MATCH(I89,Backbone!$A$2:$A$893,0))","v":0.65},null,null,{"$f":"(AG89*$AG$22+AI89*$AI$22+AK89*$AK$22+AM89*$AM$22+AO89*$AO$22+AQ89*$AQ$22+AS89*$AS$22+AU89*$AU$22+AW89*$AW$22)/(SUM($AG$22:$AW$22)*10)","v":{"$error":"#DIV/0!"}},null,null,"Перейти в Реестр ресурсов: ",null,{"$f":"HYPERLINK(\"#\"&ADDRESS(MATCH(I89,Toolbox!$C$1:$C$300),1,,,\"Toolbox\"),VLOOKUP(I89,Toolbox!$C$1:$C$300,1,FALSE))","v":"Сборник материалов для организации единых пунктов пограничного контроля"}]

{"sheet":"P8_tools","index":45,"n_rows":134,"n_cols":59,"rows_kept":134,"cut":false,"hidden":false,"merged":[[127,42,131,42],[111,48,125,48],[70,1,99,1],[117,1,142,1],[133,50,137,51],[133,53,137,54],[133,38,137,38],[133,40,137,40],[133,42,137,42],[133,44,137,44],[133,46,137,46],[133,48,137,48],[127,48,131,48],[127,50,131,51],[127,53,131,54],[133,8,137,13],[133,15,137,22],[133,24,137,26],[133,28,137,30],[133,32,137,32],[133,34,137,34],[133,36,137,36],[127,36,131,36],[127,38,131,38],[127,40,131,40],[118,50,125,51],[118,53,125,54],[122,3,125,6],[122,8,125,13],[122,15,125,22],[122,24,125,26],[122,28,125,30],[127,3,137,6],[111,32,125,32],[111,34,125,34],[111,36,125,36],[111,38,125,38],[111,40,125,40],[111,42,125,42],[111,44,125,44],[111,46,125,46],[127,44,131,44],[127,46,131,46],[127,8,131,13],[127,15,131,22],[127,24,131,26],[127,28,131,30],[127,32,131,32],[127,34,131,34],[82,50,86,51],[82,53,86,54],[88,8,92,13],[88,15,92,22],[88,24,92,26],[88,28,92,30],[88,32,92,32],[82,32,86,32],[82,34,86,34],[82,36,86,36],[82,38,86,38],[82,40,86,40],[82,42,86,42],[88,46,92,46],[88,48,92,48],[88,50,92,51],[88,53,92,54],[88,34,92,34],[88,36,92,36],[88,38,92,38],[88,40,92,40],[88,42,92,42],[88,44,92,44],[82,3,92,6],[82,8,86,13],[82,15,86,22],[82,24,86,26],[82,28,86,30],[66,44,80,44],[66,46,80,46],[66,48,80,48],[82,44,86,44],[82,46,86,46],[82,48,86,48],[73,50,80,51],[73,53,80,54],[77,3,80,6],[77,8,80,13],[77,15,80,22],[77,24,80,26],[66,32,80,32],[66,34,80,34],[66,36,80,36],[66,38,80,38],[66,40,80,40],[66,42,80,42],[77,28,80,30],[41,48,45,48],[41,50,45,51],[41,53,45,54],[41,34,45,34],[41,36,45,36],[41,38,45,38],[41,40,45,40],[41,42,45,42],[41,44,45,44],[41,3,45,6],[41,8,45,13],[41,15,45,22],[41,24,45,26],[41,28,45,30],[41,32,45,32],[34,42,38,42],[34,44,38,44],[34,46,38,46],[41,46,45,46],[34,8,38,13],[34,15,38,22],[34,24,38,26],[34,28,38,30],[34,32,38,32],[34,34,38,34],[34,36,38,36],[34,38,38,38],[34,40,38,40],[28,40,32,40],[28,42,32,42],[28,44,32,44],[28,46,32,46],[28,48,32,48],[28,50,32,51],[28,24,32,26],[28,28,32,30],[28,32,32,32],[28,34,32,34],[28,36,32,36],[6,48,20,48],[13,50,20,51],[13,53,20,54],[17,1,45,1],[17,3,20,6],[17,8,20,13],[17,15,20,22],[17,24,20,26],[17,28,20,30],[22,3,38,6],[22,8,26,13],[22,44,26,44],[22,46,26,46],[22,48,26,48],[22,15,26,22],[22,24,26,26],[22,28,26,30],[22,32,26,32],[22,34,26,34],[22,36,26,36],[34,48,38,48],[34,50,38,51],[34,53,38,54],[28,53,32,54],[22,42,26,42],[6,32,20,32],[6,34,20,34],[6,36,20,36],[6,38,20,38],[6,40,20,40],[6,42,20,42],[6,44,20,44],[6,46,20,46],[82,56,86,57],[82,58,86,62],[88,56,92,57],[88,58,92,62],[127,56,131,57],[127,58,131,62],[133,56,137,57],[133,58,137,62],[1,1,3,62],[22,56,26,57],[22,58,26,62],[28,56,32,57],[28,58,32,62],[34,56,38,57],[34,58,38,62],[41,56,45,57],[41,58,45,62],[22,50,26,51],[22,53,26,54],[28,8,32,13],[28,15,32,22],[28,38,32,38],[22,38,26,38],[22,40,26,40]]}
[]
[null,"Ресурсы по планированию скоординированной коммуникации"]
[]
[]
[]
[]
[null,null,null,null,null,null,null,null,null,null,null,null,null,null,null,null,null,null,null,null,null,null,null,null,null,null,null,null,null,null,null,null,"Доступность",null,"Язык",null,"Простота использования",null,"Гибкость",null,"Потребности в данных",null,"Анализ данных",null,"Приемлемость",null,"«Единое здоровье»",null,"Воздействие"]
[]
[]
[]
[]
[]
[]
[null,null,null,null,null,null,null,null,null,null,null,null,null,null,null,null,null,null,null,null,null,null,null,null,null,null,null,null,null,null,null,null,null,null,null,null,null,null,null,null,null,null,null,null,null,null,null,null,null,null,"ИСХОДНАЯ ОЦЕНКА",null,null,"СКОРРЕКТИРОВАННАЯ ОЦЕНКА \n(Исходя из предпочтений пользователей)"]
[]
[]
[]
[null,"РЕСУРСЫ УРОВНЯ 1",null,"КЛАССИФИКАЦИЯ",null,null,null,null,"НАЗВАНИЕ РЕСУРСА",null,null,null,null,null,null,"КРАТКОЕ ОПИСАНИЕ",null,null,null,null,null,null,null,null,"ВИД РЕСУРСА",null,null,null,"ОБЩАЯ НАПРАВЛЕННОСТЬ РЕСУРСА"]
[]
[]
[]
[null,null,null,null,null,null,null,null,null,null,null,null,null,null,null,null,null,null,null,null,null,null,null,null,null,null,null,null,null,null,null,null,{"$f":"'Attribute Survey'!S22","v":0},null,{"$f":"'Attribute Survey'!S26","v":0},null,{"$f":"'Attribute Survey'!S30","v":0},null,{"$f":"'Attribute Survey'!S34","v":0},null,{"$f":"'Attribute Survey'!S38","v":0},null,{"$f":"'Attribute Survey'!S42","v":0},null,{"$f":"'Attribute Survey'!S46","v":0},null,{"$f":"'Attribute Survey'!S50","v":0},null,{"$f":"'Attribute Survey'!S54","v":0}]
[null,null,null,"Наиболее подходящие ресурсы",null,null,null,null,{"$f":"Backbone!A433","v":"Глоссарий Общеевропейской программы «Единое здоровье» (OHEJP)"},null,null,null,null,null,null,"Онлайн-глоссарий, создаваемый в рамках концепции «Единое здоровье» силами сообщества, включает различные термины по темам здравоохранения человека, охраны здоровья животных и безопасности пищевых продуктов, относящихся к «Единому здоровью» или конкретному сектору.",null,null,null,null,null,null,null,null,{"$f":"INDEX(Backbone!$R2:$R893,MATCH(I23,Backbone!$A2:$A893,0))","v":"Оборудование или программное обеспечение"},null,null,null,{"$f":"INDEX(Backbone!$S2:$S893,MATCH(I23,Backbone!$A2:$A893,0))","v":"«Единое здоровье»; универсальный"},null,null,null,{"$f":"INDEX(Backbone!$H2:$H893,MATCH(I23,Backbone!$A2:$A893,0))","v":8.8000000000000007},null,{"$f":"INDEX(Backbone!$I2:$I893,MATCH(I23,Backbone!$A2:$A893,0))","v":6},null,{"$f":"INDEX(Backbone!$J2:$J893,MATCH(I23,Backbone!$A2:$A893,0))","v":8.4},null,{"$f":"INDEX(Backbone!$K2:$K893,MATCH(I23,Backbone!$A2:$A893,0))","v":7},null,{"$f":"INDEX(Backbone!$L2:$L893,MATCH(I23,Backbone!$A2:$A893,0))","v":9.1999999999999993},null,{"$f":"INDEX(Backbone!$M2:$M893,MATCH(I23,Backbone!$A2:$A893,0))","v":7.6},null,{"$f":"INDEX(Backbone!$N2:$N893,MATCH(I23,Backbone!$A2:$A893,0))","v":7},null,{"$f":"INDEX(Backbone!$O2:$O893,MATCH(I23,Backbone!$A2:$A893,0))","v":7.1},null,{"$f":"INDEX(Backbone!$P2:$P893,MATCH(I23,Backbone!$A2:$A893,0))","v":5},null,{"$f":"INDEX(Backbone!$Q2:$Q893,MATCH(I23,Backbone!$A2:$A893,0))","v":0.73444444444444457},null,null,{"$f":"(AG23*$AG$22+AI23*$AI$22+AK23*$AK$22+AM23*$AM$22+AO23*$AO$22+AQ23*$AQ$22+AS23*$AS$22+AU23*$AU$22+AW23*$AW$22)/(SUM($AG$22:$AW$22)*10)","v":{"$error":"#DIV/0!"}},null,null,"Перейти в Реестр ресурсов: ",null,{"$f":"HYPERLINK(\"#\"&ADDRESS(MATCH(I23,Toolbox!$C$1:$C$300),1,,,\"Toolbox\"),VLOOKUP(I23,Toolbox!$C$1:$C$300,1,FALSE))","v":"Глоссарий Общеевропейской программы «Единое здоровье» (OHEJP)"}]
[]
[]
[]
[]
[]
[null,null,null,null,null,null,null,null,{"$f":"Backbone!A396","v":"Кодекс по эпиднадзору на основе концепции «Единое здоровье» (OHS) "},null,null,null,null,null,null,"Рамочная программа высокого уровня, поддерживающая взаимодействие, взаимопонимание, обмен знаниями и совместимость данных среди секторов, осуществляющих эпиднадзор в рамках концепции «Единое здоровье».",null,null,null,null,null,null,null,null,{"$f":"INDEX(Backbone!$R$2:$R$893,MATCH(I29,Backbone!$A$2:$A$893,0))","v":"Инструмент самооценки"},null,null,null,{"$f":"INDEX(Backbone!$S$2:$S$893,MATCH(I29,Backbone!$A$2:$A$893,0))","v":"«Единое здоровье»; универсальный"},null,null,null,{"$f":"INDEX(Backbone!$H$2:$H$893,MATCH(I29,Backbone!$A$2:$A$893,0))","v":9},null,{"$f":"INDEX(Backbone!$I$2:$I$893,MATCH(I29,Backbone!$A$2:$A$893,0))","v":6},null,{"$f":"INDEX(Backbone!$J$2:$J$893,MATCH(I29,Backbone!$A$2:$A$893,0))","v":8.5},null,{"$f":"INDEX(Backbone!$K$2:$K$893,MATCH(I29,Backbone!$A$2:$A$893,0))","v":8.6999999999999993},null,{"$f":"INDEX(Backbone!$L$2:$L$893,MATCH(I29,Backbone!$A$2:$A$893,0))","v":8.1},null,{"$f":"INDEX(Backbone!$M$2:$M$893,MATCH(I29,Backbone!$A$2:$A$893,0))","v":2.8},null,{"$f":"INDEX(Backbone!$N$2:$N$893,MATCH(I29,Backbone!$A$2:$A$893,0))","v":2},null,{"$f":"INDEX(Backbone!$O$2:$O$893,MATCH(I29,Backbone!$A$2:$A$893,0))","v":6},null,{"$f":"INDEX(Backbone!$P$2:$P$893,MATCH(I29,Backbone!$A$2:$A$893,0))","v":5},null,{"$f":"INDEX(Backbone!$Q$2:$Q$893,MATCH(I29,Backbone!$A$2:$A$893,0))","v":0.62333333333333329},null,null,{"$f":"(AG29*$AG$22+AI29*$AI$22+AK29*$AK$22+AM29*$AM$22+AO29*$AO$22+AQ29*$AQ$22+AS29*$AS$22+AU29*$AU$22+AW29*$AW$22)/(SUM($AG$22:$AW$22)*10)","v":{"$error":"#DIV/0!"}},null,null,"Перейти в Реестр ресурсов: ",null,{"$f":"HYPERLINK(\"#\"&ADDRESS(MATCH(I29,Toolbox!$C$1:$C$300),1,,,\"Toolbox\"),VLOOKUP(I29,Toolbox!$C$1:$C$300,1,FALSE))","v":"Кодекс по эпиднадзору на основе концепции «Единое здоровье» (OHS) "}]
[]
[]
[]
[]
[]
[null,null,null,null,null,null,null,null,{"$f":"Backbone!A648","v":"Инструментарий для обеспечения готовности и планирования ответных действий"},null,null,null,null,null,null,"Настоящий инструментарий предназначен для разработки странами их межотраслевых планов по обеспечению готовности и планированию ответных действий в отношении событий общественного здравоохранения.",null,null,null,null,null,null,null,null,{"$f":"INDEX(Backbone!$R$2:$R$893,MATCH(I35,Backbone!$A$2:$A$893,0))","v":"Руководящий документ"},null,null,null,{"$f":"INDEX(Backbone!$S$2:$S$893,MATCH(I35,Backbone!$A$2:$A$893,0))","v":"«Единое здоровье»; универсальный"},null,null,null,{"$f":"INDEX(Backbone!$H$2:$H$893,MATCH(I35,Backbone!$A$2:$A$893,0))","v":8.4},null,{"$f":"INDEX(Backbone!$I$2:$I$893,MATCH(I35,Backbone!$A$2:$A$893,0))","v":8},null,{"$f":"INDEX(Backbone!$J$2:$J$893,MATCH(I35,Backbone!$A$2:$A$893,0))","v":8.4},null,{"$f":"INDEX(Backbone!$K$1:$K$893,MATCH(I35,Backbone!$A$1:$A$893,0))","v":6.7},null,{"$f":"INDEX(Backbone!$L$2:$L$893,MATCH(I35,Backbone!$A$2:$A$893,0))","v":2},null,{"$f":"INDEX(Backbone!$M$2:$M$893,MATCH(I35,Backbone!$A$2:$A$893,0))","v":3.5},null,{"$f":"INDEX(Backbone!$N$2:$N$893,MATCH(I35,Backbone!$A$2:$A$893,0))","v":4},null,{"$f":"INDEX(Backbone!$O$2:$O$893,MATCH(I35,Backbone!$A$2:$A$893,0))","v":6.4},null,{"$f":"INDEX(Backbone!$P$2:$P$893,MATCH(I35,Backbone!$A$2:$A$893,0))","v":8},null,{"$f":"INDEX(Backbone!$Q$2:$Q$893,MATCH(I35,Backbone!$A$2:$A$893,0))","v":0.61555555555555552},null,null,{"$f":"(AG35*$AG$22+AI35*$AI$22+AK35*$AK$22+AM35*$AM$22+AO35*$AO$22+AQ35*$AQ$22+AS35*$AS$22+AU35*$AU$22+AW35*$AW$22)/(SUM($AG$22:$AW$22)*10)","v":{"$error":"#DIV/0!"}},null,null,"Перейти в Реестр ресурсов: ",null,{"$f":"HYPERLINK(\"#\"&ADDRESS(MATCH(I35,Toolbox!$C$1:$C$300),1,,,\"Toolbox\"),VLOOKUP(I35,Toolbox!$C$1:$C$300,1,FALSE))","v":"Инструментарий для обеспечения готовности и планирования ответных действий"}]
[]
[]
[]
[]
[]
[]
[null,null,null,"Другие полезные ресурсы",null,null,null,null,{"$f":"Backbone!A453","v":"Поэтапный подход к ликвидации бешенства (SARE)"},null,null,null,null,null,null,"Рабочий инструмент планирования, мониторинга и оценки для реализации, разработки и доработки программ борьбы с бешенством.",null,null,null,null,null,null,null,null,{"$f":"INDEX(Backbone!$R$2:$R$893,MATCH(I42,Backbone!$A$2:$A$893,0))","v":"Инструмент самооценки"},null,null,null,{"$f":"INDEX(Backbone!$S$2:$S$893,MATCH(I42,Backbone!$A$2:$A$893,0))","v":"«Единое здоровье»; ориентированный на конкретную болезнь/угрозу "},null,null,null,{"$f":"INDEX(Backbone!$H$2:$H$893,MATCH(I42,Backbone!$A$2:$A$893,0))","v":8},null,{"$f":"INDEX(Backbone!$I$2:$I$893,MATCH(I42,Backbone!$A$2:$A$893,0))","v":9},null,{"$f":"INDEX(Backbone!$J$2:$J$893,MATCH(I42,Backbone!$A$2:$A$893,0))","v":6.6},null,{"$f":"INDEX(Backbone!$K$1:$K$893,MATCH(I42,Backbone!$A$1:$A$893,0))","v":3.3},null,{"$f":"INDEX(Backbone!$L$2:$L$893,MATCH(I42,Backbone!$A$2:$A$893,0))","v":5.7},null,{"$f":"INDEX(Backbone!$M$2:$M$893,MATCH(I42,Backbone!$A$2:$A$893,0))","v":6.8},null,{"$f":"INDEX(Backbone!$N$2:$N$893,MATCH(I42,Backbone!$A$2:$A$893,0))","v":8},null,{"$f":"INDEX(Backbone!$O$2:$O$893,MATCH(I42,Backbone!$A$2:$A$893,0))","v":8.6},null,{"$f":"INDEX(Backbone!$P$2:$P$893,MATCH(I42,Backbone!$A$2:$A$893,0))","v":9.5},null,{"$f":"INDEX(Backbone!$Q$2:$Q$893,MATCH(I42,Backbone!$A$2:$A$893,0))","v":0.72777777777777775},null,null,{"$f":"(AG42*$AG$22+AI42*$AI$22+AK42*$AK$22+AM42*$AM$22+AO42*$AO$22+AQ42*$AQ$22+AS42*$AS$22+AU42*$AU$22+AW42*$AW$22)/(SUM($AG$22:$AW$22)*10)","v":{"$error":"#DIV/0!"}},null,null,"Перейти в Реестр ресурсов: ",null,{"$f":"HYPERLINK(\"#\"&ADDRESS(MATCH(I42,Toolbox!$C$1:$C$300),1,,,\"Toolbox\"),VLOOKUP(I42,Toolbox!$C$1:$C$300,1,FALSE))","v":"Поэтапный подход к ликвидации бешенства (SARE)"}]
[]
[]
[]
[]
[]
[]
[]
[]
[]
[]
[]
[]
[]
[]
[]
[]
[]
[]
[]
[]
[]
[]
[]
[]
[null,null,null,null,null,null,null,null,null,null,null,null,null,null,null,null,null,null,null,null,null,null,null,null,null,null,null,null,null,null,null,null,"Доступность",null,"Язык",null,"Простота использования",null,"Гибкость",null,"Потребности в данных",null,"Анализ данных",null,"Приемлемость",null,"«Единое здоровье»",null,"Воздействие"]
[]
[]
[]
[null,"РЕСУРСЫ УРОВНЯ 2"]
[]
[]
[null,null,null,null,null,null,null,null,null,null,null,null,null,null,null,null,null,null,null,null,null,null,null,null,null,null,null,null,null,null,null,null,null,null,null,null,null,null,null,null,null,null,null,null,null,null,null,null,null,null,"ИСХОДНАЯ ОЦЕНКА",null,null,"СКОРРЕКТИРОВАННАЯ ОЦЕНКА \n(Исходя из предпочтений пользователей)"]
[]
[]
[]
[null,null,null,"КЛАССИФИКАЦИЯ",null,null,null,null,"НАЗВАНИЕ РЕСУРСА",null,null,null,null,null,null,"КРАТКОЕ ОПИСАНИЕ",null,null,null,null,null,null,null,null,"ВИД РЕСУРСА",null,null,null,"ОБЩАЯ НАПРАВЛЕННОСТЬ РЕСУРСА"]
[]
[]
[]
[null,null,null,null,null,null,null,null,null,null,null,null,null,null,null,null,null,null,null,null,null,null,null,null,null,null,null,null,null,null,null,null,{"$f":"'Attribute Survey'!S130","v":0},null,{"$f":"'Attribute Survey'!S134","v":0},null,{"$f":"'Attribute Survey'!S138","v":0},null,{"$f":"'Attribute Survey'!S142","v":0},null,{"$f":"'Attribute Survey'!S146","v":0},null,{"$f":"'Attribute Survey'!S150","v":0},null,{"$f":"'Attribute Survey'!S154","v":0},null,{"$f":"'Attribute Survey'!S158","v":0},null,{"$f":"'Attribute Survey'!S162","v":0}]
[null,null,null,"Наиболее подходящие ресурсы",null,null,null,null,{"$f":"Backbone!A433","v":"Глоссарий Общеевропейской программы «Единое здоровье» (OHEJP)"},null,null,null,null,null,null,"Онлайн-глоссарий, создаваемый в рамках концепции «Единое здоровье» силами сообщества, включает различные термины по темам здравоохранения человека, охраны здоровья животных и безопасности пищевых продуктов, относящихся к «Единому здоровью» или конкретному сектору.",null,null,null,null,null,null,null,null,{"$f":"INDEX(Backbone!$R2:$R893,MATCH(I83,Backbone!$A2:$A893,0))","v":"Оборудование или программное обеспечение"},null,null,null,{"$f":"INDEX(Backbone!S2:S893,MATCH(I83,Backbone!A2:A893,0))","v":"«Единое здоровье»; универсальный"},null,null,null,{"$f":"INDEX(Backbone!H2:H893,MATCH(I83,Backbone!A2:A893,0))","v":8.8000000000000007},null,{"$f":"INDEX(Backbone!I2:I893,MATCH(I83,Backbone!A2:A893,0))","v":6},null,{"$f":"INDEX(Backbone!J2:J893,MATCH(I83,Backbone!A2:A893,0))","v":8.4},null,{"$f":"INDEX(Backbone!K2:K893,MATCH(I83,Backbone!A2:A893,0))","v":7},null,{"$f":"INDEX(Backbone!L2:L893,MATCH(I83,Backbone!A2:A893,0))","v":9.1999999999999993},null,{"$f":"INDEX(Backbone!M2:M893,MATCH(I83,Backbone!A2:A893,0))","v":7.6},null,{"$f":"INDEX(Backbone!N2:N893,MATCH(I83,Backbone!A2:A893,0))","v":7},null,{"$f":"INDEX(Backbone!O2:O893,MATCH(I83,Backbone!A2:A893,0))","v":7.1},null,{"$f":"INDEX(Backbone!P2:P893,MATCH(I83,Backbone!A2:A893,0))","v":5},null,{"$f":"INDEX(Backbone!Q2:Q893,MATCH(I83,Backbone!A2:A893,0))","v":0.73444444444444457},null,null,{"$f":"(AG83*AG22+AI23*AI22+AK83*AK22+AM83*AM22+AO83*AO22+AQ83*AQ22+AS83*AS22+AU83*AU22+AW83*AW22)/(SUM(AG22:AW22)*10)","v":{"$error":"#DIV/0!"}},null,null,"Перейти в Реестр ресурсов: ",null,{"$f":"HYPERLINK(\"#\"&ADDRESS(MATCH(I83,Toolbox!$C$1:$C$300),1,,,\"Toolbox\"),VLOOKUP(I83,Toolbox!$C$1:$C$300,1,FALSE))","v":"Глоссарий Общеевропейской программы «Единое здоровье» (OHEJP)"}]
[]
[]
[]
[]
[]
[null,null,null,null,null,null,null,null,{"$f":"Backbone!A648","v":"Инструментарий для обеспечения готовности и планирования ответных действий"},null,null,null,null,null,null,"Настоящий инструментарий предназначен для разработки странами их межотраслевых планов по обеспечению готовности и планированию ответных действий в отношении событий общественного здравоохранения. ",null,null,null,null,null,null,null,null,{"$f":"INDEX(Backbone!$R$2:$R$893,MATCH(I89,Backbone!$A$2:$A$893,0))","v":"Руководящий документ"},null,null,null,{"$f":"INDEX(Backbone!$S$2:$S$893,MATCH(I89,Backbone!$A$2:$A$893,0))","v":"«Единое здоровье»; универсальный"},null,null,null,{"$f":"INDEX(Backbone!$H$2:$H$893,MATCH(I89,Backbone!$A$2:$A$893,0))","v":8.4},null,{"$f":"INDEX(Backbone!$I$2:$I$893,MATCH(I89,Backbone!$A$2:$A$893,0))","v":8},null,{"$f":"INDEX(Backbone!$J$2:$J$893,MATCH(I89,Backbone!$A$2:$A$893,0))","v":8.4},null,{"$f":"INDEX(Backbone!$K$2:$K$893,MATCH(I89,Backbone!$A$2:$A$893,0))","v":6.7},null,{"$f":"INDEX(Backbone!$L$2:$L$893,MATCH(I89,Backbone!$A$2:$A$893,0))","v":2},null,{"$f":"INDEX(Backbone!$M$2:$M$893,MATCH(I89,Backbone!$A$2:$A$893,0))","v":3.5},null,{"$f":"INDEX(Backbone!$N$2:$N$893,MATCH(I89,Backbone!$A$2:$A$893,0))","v":4},null,{"$f":"INDEX(Backbone!$O$2:$O$893,MATCH(I89,Backbone!$A$2:$A$893,0))","v":6.4},null,{"$f":"INDEX(Backbone!$P$2:$P$893,MATCH(I89,Backbone!$A$2:$A$893,0))","v":8},null,{"$f":"INDEX(Backbone!$Q$2:$Q$893,MATCH(I89,Backbone!$A$2:$A$893,0))","v":0.61555555555555552},null,null,{"$f":"(AG89*$AG$22+AI89*$AI$22+AK89*$AK$22+AM89*$AM$22+AO89*$AO$22+AQ89*$AQ$22+AS89*$AS$22+AU89*$AU$22+AW89*$AW$22)/(SUM($AG$22:$AW$22)*10)","v":{"$error":"#DIV/0!"}},null,null,"Перейти в Реестр ресурсов: ",null,{"$f":"HYPERLINK(\"#\"&ADDRESS(MATCH(I89,Toolbox!$C$1:$C$300),1,,,\"Toolbox\"),VLOOKUP(I89,Toolbox!$C$1:$C$300,1,FALSE))","v":"Инструментарий для обеспечения готовности и планирования ответных действий"}]
[]
[]
[]
[]
[]
[]
[]
[]
[]
[]
[]
[]
[]
[]
[]
[]
[]
[]
[]
[]
[]
[]
[null,null,null,null,null,null,null,null,null,null,null,null,null,null,null,null,null,null,null,null,null,null,null,null,null,null,null,null,null,null,null,null,"Доступность",null,"Язык",null,"Простота использования",null,"Гибкость",null,"Потребности в данных",null,"Анализ данных",null,"Приемлемость",null,"«Единое здоровье»",null,"Воздействие"]
[]
[]
[]
[]
[]
[null,"РЕСУРСЫ УРОВНЯ 3"]
[null,null,null,null,null,null,null,null,null,null,null,null,null,null,null,null,null,null,null,null,null,null,null,null,null,null,null,null,null,null,null,null,null,null,null,null,null,null,null,null,null,null,null,null,null,null,null,null,null,null,"ИСХОДНАЯ ОЦЕНКА",null,null,"СКОРРЕКТИРОВАННАЯ ОЦЕНКА \n(Исходя из предпочтений пользователей)"]
[]
[]
[]
[null,null,null,"КЛАССИФИКАЦИЯ",null,null,null,null,"НАЗВАНИЕ РЕСУРСА",null,null,null,null,null,null,"КРАТКОЕ ОПИСАНИЕ",null,null,null,null,null,null,null,null,"ВИД РЕСУРСА",null,null,null,"ОБЩАЯ НАПРАВЛЕННОСТЬ РЕСУРСА"]
[]
[]
[]
[null,null,null,null,null,null,null,null,null,null,null,null,null,null,null,null,null,null,null,null,null,null,null,null,null,null,null,null,null,null,null,null,{"$f":"'Attribute Survey'!S231","v":0},null,{"$f":"'Attribute Survey'!S235","v":0},null,{"$f":"'Attribute Survey'!S239","v":0},null,{"$f":"'Attribute Survey'!S243","v":0},null,{"$f":"'Attribute Survey'!S247","v":0},null,{"$f":"'Attribute Survey'!S251","v":0},null,{"$f":"'Attribute Survey'!S255","v":0},null,{"$f":"'Attribute Survey'!S259","v":0},null,{"$f":"'Attribute Survey'!S263","v":0}]
[null,null,null,"Наиболее подходящие ресурсы",null,null,null,null,{"$f":"Backbone!A61","v":"Стратегии трансграничной межотраслевой коммуникации и координации"},null,null,null,null,null,null,"Семинар, служащий руководством заинтересованным сторонам в процессе определения отраслевых механизмов обмена информацией и создания межотраслевых или трансграничных механизмов обмена информацией.",null,null,null,null,null,null,null,null,{"$f":"INDEX(Backbone!$R$2:$R$893,MATCH(I128,Backbone!$A$2:$A$893,0))","v":"Инструмент или процесс с методическим руководством/пояснениями"},null,null,null,{"$f":"INDEX(Backbone!$S$2:$S$893,MATCH(I128,Backbone!$A$2:$A$893,0))","v":"«Единое здоровье»; универсальный "},null,null,null,{"$f":"INDEX(Backbone!$H$2:$H$893,MATCH(I128,Backbone!$A$2:$A$893,0))","v":8.9},null,{"$f":"INDEX(Backbone!$I$2:$I$893,MATCH(I128,Backbone!$A$2:$A$893,0))","v":6},null,{"$f":"INDEX(Backbone!$J$2:$J$893,MATCH(I128,Backbone!$A$2:$A$893,0))","v":7.6},null,{"$f":"INDEX(Backbone!$K$2:$K$893,MATCH(I128,Backbone!$A$2:$A$893,0))","v":9},null,{"$f":"INDEX(Backbone!$L$2:$L$893,MATCH(I128,Backbone!$A$2:$A$893,0))","v":5.6},null,{"$f":"INDEX(Backbone!$M$2:$M$893,MATCH(I128,Backbone!$A$2:$A$893,0))","v":3.5},null,{"$f":"INDEX(Backbone!$N$2:$N$893,MATCH(I128,Backbone!$A$2:$A$893,0))","v":4},null,{"$f":"INDEX(Backbone!$O$2:$O$893,MATCH(I128,Backbone!$A$2:$A$893,0))","v":8.3000000000000007},null,{"$f":"INDEX(Backbone!$P$2:$P$893,MATCH(I128,Backbone!$A$2:$A$893,0))","v":8},null,{"$f":"INDEX(Backbone!$Q$2:$Q$893,MATCH(I128,Backbone!$A$2:$A$893,0))","v":0.67666666666666675},null,null,{"$f":"(AG128*$AG$22+AI128*$AI$22+AK128*$AK$22+AM128*$AM$22+AO128*$AO$22+AQ128*$AQ$22+AS128*$AS$22+AU128*$AU$22+AW128*$AW$22)/(SUM($AG$22:$AW$22)*10)","v":{"$error":"#DIV/0!"}},null,null,"Перейти в Реестр ресурсов: ",null,{"$f":"HYPERLINK(\"#\"&ADDRESS(MATCH(I128,Toolbox!$C$1:$C$300),1,,,\"Toolbox\"),VLOOKUP(I128,Toolbox!$C$1:$C$300,1,FALSE))","v":"Стратегии трансграничной межотраслевой коммуникации и координации"}]
[]
[]
[]
[]
[]
[null,null,null,null,null,null,null,null,{"$f":"Backbone!A648","v":"Инструментарий для обеспечения готовности и планирования ответных действий"},null,null,null,null,null,null,"Настоящий инструментарий предназначен для разработки странами их межотраслевых планов по обеспечению готовности и планированию ответных действий в отношении событий общественного здравоохранения. ",null,null,null,null,null,null,null,null,{"$f":"INDEX(Backbone!$R$2:$R$893,MATCH(I134,Backbone!$A$2:$A$893,0))","v":"Руководящий документ"},null,null,null,{"$f":"INDEX(Backbone!$S$2:$S$893,MATCH(I134,Backbone!$A$2:$A$893,0))","v":"«Единое здоровье»; универсальный"},null,null,null,{"$f":"INDEX(Backbone!$H$2:$H$893,MATCH(I134,Backbone!$A$2:$A$893,0))","v":8.4},null,{"$f":"INDEX(Backbone!$I$2:$I$893,MATCH(I134,Backbone!$A$2:$A$893,0))","v":8},null,{"$f":"INDEX(Backbone!$J$2:$J$893,MATCH(I134,Backbone!$A$2:$A$893,0))","v":8.4},null,{"$f":"INDEX(Backbone!$K$1:$K$893,MATCH(I134,Backbone!$A$1:$A$893,0))","v":6.7},null,{"$f":"INDEX(Backbone!$L$2:$L$893,MATCH(I134,Backbone!$A$2:$A$893,0))","v":2},null,{"$f":"INDEX(Backbone!$M$2:$M$893,MATCH(I134,Backbone!$A$2:$A$893,0))","v":3.5},null,{"$f":"INDEX(Backbone!$N$2:$N$893,MATCH(I134,Backbone!$A$2:$A$893,0))","v":4},null,{"$f":"INDEX(Backbone!$O$2:$O$893,MATCH(I134,Backbone!$A$2:$A$893,0))","v":6.4},null,{"$f":"INDEX(Backbone!$P$2:$P$893,MATCH(I134,Backbone!$A$2:$A$893,0))","v":8},null,{"$f":"INDEX(Backbone!$Q$2:$Q$893,MATCH(I134,Backbone!$A$2:$A$893,0))","v":0.61555555555555552},null,null,{"$f":"(AG134*$AG$22+AI134*$AI$22+AK134*$AK$22+AM134*$AM$22+AO134*$AO$22+AQ134*$AQ$22+AS134*$AS$22+AU134*$AU$22+AW134*$AW$22)/(SUM($AG$22:$AW$22)*10)","v":{"$error":"#DIV/0!"}},null,null,"Перейти в Реестр ресурсов: ",null,{"$f":"HYPERLINK(\"#\"&ADDRESS(MATCH(I134,Toolbox!$C$1:$C$300),1,,,\"Toolbox\"),VLOOKUP(I134,Toolbox!$C$1:$C$300,1,FALSE))","v":"Инструментарий для обеспечения готовности и планирования ответных действий"}]

{"sheet":"I1_tools","index":46,"n_rows":121,"n_cols":59,"rows_kept":121,"cut":false,"hidden":false,"merged":[[120,48,124,48],[120,50,124,51],[120,53,124,54],[108,1,132,1],[120,36,124,36],[120,38,124,38],[120,40,124,40],[120,42,124,42],[120,44,124,44],[120,46,124,46],[120,8,124,13],[120,15,124,22],[120,24,124,26],[120,28,124,30],[120,32,124,32],[120,34,124,34],[104,48,118,48],[111,50,118,51],[111,53,118,54],[115,3,118,6],[115,8,118,13],[115,15,118,22],[115,24,118,26],[115,28,118,30],[120,3,124,6],[66,1,93,1],[104,32,118,32],[104,34,118,34],[104,36,118,36],[104,38,118,38],[104,40,118,40],[104,42,118,42],[104,44,118,44],[104,46,118,46],[81,53,85,54],[81,40,85,40],[81,42,85,42],[81,44,85,44],[81,46,85,46],[81,48,85,48],[81,50,85,51],[81,24,85,26],[81,28,85,30],[81,32,85,32],[81,34,85,34],[81,36,85,36],[81,38,85,38],[72,53,79,54],[76,3,79,6],[76,8,79,13],[76,15,79,22],[76,24,79,26],[76,28,79,30],[81,3,85,6],[81,8,85,13],[81,15,85,22],[65,40,79,40],[65,42,79,42],[65,44,79,44],[65,46,79,46],[65,48,79,48],[72,50,79,51],[41,42,45,42],[41,44,45,44],[41,46,45,46],[22,3,26,6],[22,8,26,13],[29,42,33,42],[29,44,33,44],[29,46,33,46],[35,32,39,32],[35,34,39,34],[35,36,39,36],[35,38,39,38],[29,38,33,38],[35,15,39,22],[35,24,39,26],[35,28,39,30],[29,3,45,6],[35,44,39,44],[35,46,39,46],[22,38,26,38],[22,40,26,40],[22,15,26,22],[22,24,26,26],[22,28,26,30],[17,1,45,1],[65,32,79,32],[65,34,79,34],[65,36,79,36],[65,38,79,38],[29,50,33,51],[29,53,33,54],[29,40,33,40],[29,48,33,48],[41,48,45,48],[41,50,45,51],[41,53,45,54],[35,53,39,54],[41,8,45,13],[41,15,45,22],[41,24,45,26],[41,28,45,30],[41,32,45,32],[41,34,45,34],[41,36,45,36],[41,38,45,38],[41,40,45,40],[35,40,39,40],[35,42,39,42],[17,24,20,26],[17,28,20,30],[35,48,39,48],[35,50,39,51],[35,8,39,13],[29,8,33,13],[29,15,33,22],[29,24,33,26],[29,28,33,30],[29,32,33,32],[29,34,33,34],[29,36,33,36],[1,1,3,62],[22,50,26,51],[22,53,26,54],[22,42,26,42],[22,44,26,44],[22,46,26,46],[22,48,26,48],[6,32,20,32],[6,34,20,34],[6,36,20,36],[6,38,20,38],[6,40,20,40],[6,42,20,42],[6,44,20,44],[6,46,20,46],[6,48,20,48],[22,32,26,32],[22,34,26,34],[22,36,26,36],[13,50,20,51],[13,53,20,54],[17,3,20,6],[17,8,20,13],[17,15,20,22],[120,56,124,57],[120,58,124,62],[22,56,26,57],[22,58,26,62],[29,56,33,57],[29,58,33,62],[35,56,39,57],[35,58,39,62],[41,56,45,57],[41,58,45,62],[81,56,85,57],[81,58,85,62]]}
[]
[null,"Ресурсы по привлечению финансовых ресурсов"]
[]
[]
[]
[]
[null,null,null,null,null,null,null,null,null,null,null,null,null,null,null,null,null,null,null,null,null,null,null,null,null,null,null,null,null,null,null,null,"Доступность",null,"Язык",null,"Простота использования",null,"Гибкость",null,"Потребности в данных",null,"Анализ данных",null,"Приемлемость",null,"«Единое здоровье»",null,"Воздействие"]
[]
[]
[]
[]
[]
[]
[null,null,null,null,null,null,null,null,null,null,null,null,null,null,null,null,null,null,null,null,null,null,null,null,null,null,null,null,null,null,null,null,null,null,null,null,null,null,null,null,null,null,null,null,null,null,null,null,null,null,"ИСХОДНАЯ ОЦЕНКА",null,null,"СКОРРЕКТИРОВАННАЯ ОЦЕНКА \n(Исходя из предпочтений пользователей)"]
[]
[]
[]
[null,"РЕСУРСЫ УРОВНЯ 1",null,"КЛАССИФИКАЦИЯ",null,null,null,null,"НАЗВАНИЕ РЕСУРСА",null,null,null,null,null,null,"КРАТКОЕ ОПИСАНИЕ",null,null,null,null,null,null,null,null,"ВИД РЕСУРСА",null,null,null,"ОБЩАЯ НАПРАВЛЕННОСТЬ РЕСУРСА"]
[]
[]
[]
[null,null,null,null,null,null,null,null,null,null,null,null,null,null,null,null,null,null,null,null,null,null,null,null,null,null,null,null,null,null,null,null,{"$f":"'Attribute Survey'!S22","v":0},null,{"$f":"'Attribute Survey'!S26","v":0},null,{"$f":"'Attribute Survey'!S30","v":0},null,{"$f":"'Attribute Survey'!S34","v":0},null,{"$f":"'Attribute Survey'!S38","v":0},null,{"$f":"'Attribute Survey'!S42","v":0},null,{"$f":"'Attribute Survey'!S46","v":0},null,{"$f":"'Attribute Survey'!S50","v":0},null,{"$f":"'Attribute Survey'!S54","v":0}]
[null,null,null,"Наиболее подходящие ресурсы",null,null,null,null,{"$f":"Backbone!A686","v":"Инструментарий для реализации стратегии устойчивого финансирования в рамках концепции «Единое здоровье»"},null,null,null,null,null,null,"Данный инструментарий призван поддерживать платформы «Единое здоровье» и другие координационные механизмы в их работе по привлечению и получению средств на организацию работы платформы и ее мероприятий в долгосрочной перспективе.",null,null,null,null,null,null,null,null,{"$f":"INDEX(Backbone!$R2:$R893,MATCH(I23,Backbone!$A2:$A893,0))","v":"Руководящий документ"},null,null,null,{"$f":"INDEX(Backbone!$S2:$S893,MATCH(I23,Backbone!$A2:$A893,0))","v":"«Единое здоровье»; универсальный"},null,null,null,{"$f":"INDEX(Backbone!$H2:$H893,MATCH(I23,Backbone!$A2:$A893,0))","v":8.4},null,{"$f":"INDEX(Backbone!$I2:$I893,MATCH(I23,Backbone!$A2:$A893,0))","v":8},null,{"$f":"INDEX(Backbone!$J2:$J893,MATCH(I23,Backbone!$A2:$A893,0))","v":8.4},null,{"$f":"INDEX(Backbone!$K2:$K893,MATCH(I23,Backbone!$A2:$A893,0))","v":6.7},null,{"$f":"INDEX(Backbone!$L2:$L893,MATCH(I23,Backbone!$A2:$A893,0))","v":2},null,{"$f":"INDEX(Backbone!$M2:$M893,MATCH(I23,Backbone!$A2:$A893,0))","v":3.5},null,{"$f":"INDEX(Backbone!$N2:$N893,MATCH(I23,Backbone!$A2:$A893,0))","v":4},null,{"$f":"INDEX(Backbone!$O2:$O893,MATCH(I23,Backbone!$A2:$A893,0))","v":6.4},null,{"$f":"INDEX(Backbone!$P2:$P893,MATCH(I23,Backbone!$A2:$A893,0))","v":8},null,{"$f":"INDEX(Backbone!$Q2:$Q893,MATCH(I23,Backbone!$A2:$A893,0))","v":0.61555555555555552},null,null,{"$f":"(AG23*$AG$22+AI23*$AI$22+AK23*$AK$22+AM23*$AM$22+AO23*$AO$22+AQ23*$AQ$22+AS23*$AS$22+AU23*$AU$22+AW23*$AW$22)/(SUM($AG$22:$AW$22)*10)","v":{"$error":"#DIV/0!"}},null,null,"Перейти в Реестр ресурсов: ",null,{"$f":"HYPERLINK(\"#\"&ADDRESS(MATCH(I23,Toolbox!$C$1:$C$300),1,,,\"Toolbox\"),VLOOKUP(I23,Toolbox!$C$1:$C$300,1,FALSE))","v":"Инструментарий для реализации стратегии устойчивого финансирования в рамках концепции «Единое здоровье»"}]
[]
[]
[]
[]
[]
[]
[null,null,null,"Другие полезные ресурсы",null,null,null,null,{"$f":"Backbone!A567","v":"SurvCost: Инструмент для оценки стоимости комплексной системы эпиднадзора и мер реагирования"},null,null,null,null,null,null,"Инструмент на базе Excel создан для оценки стоимости Комплексной системы эпиднадзора и мер реагирования (IDSR).",null,null,null,null,null,null,null,null,{"$f":"INDEX(Backbone!$R$2:$R$893,MATCH(I30,Backbone!$A$2:$A$893,0))","v":"Инструмент самооценки"},null,null,null,{"$f":"INDEX(Backbone!$S$2:$S$893,MATCH(I30,Backbone!$A$2:$A$893,0))","v":"Ориентированный на конкретный сектор; универсальный"},null,null,null,{"$f":"INDEX(Backbone!$H$2:$H$893,MATCH(I30,Backbone!$A$2:$A$893,0))","v":9.8000000000000007},null,{"$f":"INDEX(Backbone!$I$2:$I$893,MATCH(I30,Backbone!$A$2:$A$893,0))","v":8},null,{"$f":"INDEX(Backbone!$J$2:$J$893,MATCH(I30,Backbone!$A$2:$A$893,0))","v":7.6},null,{"$f":"INDEX(Backbone!$K$1:$K$893,MATCH(I30,Backbone!$A$1:$A$893,0))","v":9.6999999999999993},null,{"$f":"INDEX(Backbone!$L$2:$L$893,MATCH(I30,Backbone!$A$2:$A$893,0))","v":7.7},null,{"$f":"INDEX(Backbone!$M$2:$M$893,MATCH(I30,Backbone!$A$2:$A$893,0))","v":5.8},null,{"$f":"INDEX(Backbone!$N$2:$N$893,MATCH(I30,Backbone!$A$2:$A$893,0))","v":7},null,{"$f":"INDEX(Backbone!$O$2:$O$893,MATCH(I30,Backbone!$A$2:$A$893,0))","v":7.3},null,{"$f":"INDEX(Backbone!$P$2:$P$893,MATCH(I30,Backbone!$A$2:$A$893,0))","v":8},null,{"$f":"INDEX(Backbone!$Q$2:$Q$893,MATCH(I30,Backbone!$A$2:$A$893,0))","v":0.78777777777777769},null,null,{"$f":"(AG30*$AG$22+AI30*$AI$22+AK30*$AK$22+AM30*$AM$22+AO30*$AO$22+AQ30*$AQ$22+AS30*$AS$22+AU30*$AU$22+AW30*$AW$22)/(SUM($AG$22:$AW$22)*10)","v":{"$error":"#DIV/0!"}},null,null,"Перейти в Реестр ресурсов: ",null,{"$f":"HYPERLINK(\"#\"&ADDRESS(MATCH(I30,Toolbox!$C$1:$C$300),1,,,\"Toolbox\"),VLOOKUP(I30,Toolbox!$C$1:$C$300,1,FALSE))","v":"SurvCost: Инструмент для оценки стоимости комплексной системы эпиднадзора и мер реагирования"}]
[]
[]
[]
[]
[]
[null,null,null,null,null,null,null,null,{"$f":"Backbone!A447","v":"Инструмент оценки экономической эффективности системы эпиднадзора за бешенством у животных"},null,null,null,null,null,null,"Инструмент на базе Excel для расчета затрат и эффективности программ профилактики бешенства.",null,null,null,null,null,null,null,null,{"$f":"INDEX(Backbone!$R$2:$R$893,MATCH(I36,Backbone!$A$2:$A$893,0))","v":"Инструмент самооценки"},null,null,null,{"$f":"INDEX(Backbone!$S$2:$S$893,MATCH(I36,Backbone!$A$2:$A$893,0))","v":"«Единое здоровье»; ориентированный на конкретную болезнь/угрозу "},null,null,null,{"$f":"INDEX(Backbone!$H$2:$H$893,MATCH(I36,Backbone!$A$2:$A$893,0))","v":9.6},null,{"$f":"INDEX(Backbone!$I$2:$I$893,MATCH(I36,Backbone!$A$2:$A$893,0))","v":6},null,{"$f":"INDEX(Backbone!$J$2:$J$893,MATCH(I36,Backbone!$A$2:$A$893,0))","v":7},null,{"$f":"INDEX(Backbone!$K$1:$K$893,MATCH(I36,Backbone!$A$1:$A$893,0))","v":8.6999999999999993},null,{"$f":"INDEX(Backbone!$L$2:$L$893,MATCH(I36,Backbone!$A$2:$A$893,0))","v":6.7},null,{"$f":"INDEX(Backbone!$M$2:$M$893,MATCH(I36,Backbone!$A$2:$A$893,0))","v":6.8},null,{"$f":"INDEX(Backbone!$N$2:$N$893,MATCH(I36,Backbone!$A$2:$A$893,0))","v":6},null,{"$f":"INDEX(Backbone!$O$2:$O$893,MATCH(I36,Backbone!$A$2:$A$893,0))","v":8.8000000000000007},null,{"$f":"INDEX(Backbone!$P$2:$P$893,MATCH(I36,Backbone!$A$2:$A$893,0))","v":8},null,{"$f":"INDEX(Backbone!$Q$2:$Q$893,MATCH(I36,Backbone!$A$2:$A$893,0))","v":0.75111111111111106},null,null,{"$f":"(AG36*$AG$22+AI36*$AI$22+AK36*$AK$22+AM36*$AM$22+AO36*$AO$22+AQ36*$AQ$22+AS36*$AS$22+AU36*$AU$22+AW36*$AW$22)/(SUM($AG$22:$AW$22)*10)","v":{"$error":"#DIV/0!"}},null,null,"Перейти в Реестр ресурсов: ",null,{"$f":"HYPERLINK(\"#\"&ADDRESS(MATCH(I36,Toolbox!$C$1:$C$300),1,,,\"Toolbox\"),VLOOKUP(I36,Toolbox!$C$1:$C$300,1,FALSE))","v":"Инструмент оценки экономической эффективности системы эпиднадзора за бешенством у животных"}]
[]
[]
[]
[]
[]
[null,null,null,null,null,null,null,null,{"$f":"Backbone!A234","v":"Инструмент расчета затрат для соответствия Международным медико-санитарным правилам (ММСП) (разработка Джорджтаунского университета)"},null,null,null,null,null,null,"Настоящий инструмент позволяет пользователям разработать смету расходов на развитие устойчивого потенциала согласно Международным медико-санитарным правилам (ММСП).",null,null,null,null,null,null,null,null,{"$f":"INDEX(Backbone!$R$2:$R$893,MATCH(I42,Backbone!$A$2:$A$893,0))","v":"Инструмент самооценки"},null,null,null,{"$f":"INDEX(Backbone!$S$2:$S$893,MATCH(I42,Backbone!$A$2:$A$893,0))","v":"Ориентированный на конкретный сектор; универсальный"},null,null,null,{"$f":"INDEX(Backbone!$H$2:$H$893,MATCH(I42,Backbone!$A$2:$A$893,0))","v":9.6},null,{"$f":"INDEX(Backbone!$I$2:$I$893,MATCH(I42,Backbone!$A$2:$A$893,0))","v":6},null,{"$f":"INDEX(Backbone!$J$2:$J$893,MATCH(I42,Backbone!$A$2:$A$893,0))","v":9.3000000000000007},null,{"$f":"INDEX(Backbone!$K$1:$K$893,MATCH(I42,Backbone!$A$1:$A$893,0))","v":7.3},null,{"$f":"INDEX(Backbone!$L$2:$L$893,MATCH(I42,Backbone!$A$2:$A$893,0))","v":7.1},null,{"$f":"INDEX(Backbone!$M$2:$M$893,MATCH(I42,Backbone!$A$2:$A$893,0))","v":8.8000000000000007},null,{"$f":"INDEX(Backbone!$N$2:$N$893,MATCH(I42,Backbone!$A$2:$A$893,0))","v":9.3000000000000007},null,{"$f":"INDEX(Backbone!$O$2:$O$893,MATCH(I42,Backbone!$A$2:$A$893,0))","v":7.5},null,{"$f":"INDEX(Backbone!$P$2:$P$893,MATCH(I42,Backbone!$A$2:$A$893,0))","v":8},null,{"$f":"INDEX(Backbone!$Q$2:$Q$893,MATCH(I42,Backbone!$A$2:$A$893,0))","v":0.80999999999999994},null,null,{"$f":"(AG42*$AG$22+AI42*$AI$22+AK42*$AK$22+AM42*$AM$22+AO42*$AO$22+AQ42*$AQ$22+AS42*$AS$22+AU42*$AU$22+AW42*$AW$22)/(SUM($AG$22:$AW$22)*10)","v":{"$error":"#DIV/0!"}},null,null,"Перейти в Реестр ресурсов: ",null,{"$f":"HYPERLINK(\"#\"&ADDRESS(MATCH(I42,Toolbox!$C$1:$C$300),1,,,\"Toolbox\"),VLOOKUP(I42,Toolbox!$C$1:$C$300,1,FALSE))","v":"Инструмент расчета затрат для соответствия Международным медико-санитарным правилам (ММСП) (разработка Джорджтаунского университета)"}]
[]
[]
[]
[]
[]
[]
[]
[]
[]
[]
[]
[]
[]
[]
[]
[]
[]
[]
[]
[]
[]
[]
[]
[null,null,null,null,null,null,null,null,null,null,null,null,null,null,null,null,null,null,null,null,null,null,null,null,null,null,null,null,null,null,null,null,"Доступность",null,"Язык",null,"Простота использования",null,"Гибкость",null,"Потребности в данных",null,"Анализ данных",null,"Приемлемость",null,"«Единое здоровье»",null,"Воздействие"]
[null,"РЕСУРСЫ УРОВНЯ 2"]
[]
[]
[]
[]
[]
[null,null,null,null,null,null,null,null,null,null,null,null,null,null,null,null,null,null,null,null,null,null,null,null,null,null,null,null,null,null,null,null,null,null,null,null,null,null,null,null,null,null,null,null,null,null,null,null,null,null,"ИСХОДНАЯ ОЦЕНКА",null,null,"СКОРРЕКТИРОВАННАЯ ОЦЕНКА \n(Исходя из предпочтений пользователей)"]
[]
[]
[]
[null,null,null,"КЛАССИФИКАЦИЯ",null,null,null,null,"НАЗВАНИЕ РЕСУРСА",null,null,null,null,null,null,"КРАТКОЕ ОПИСАНИЕ",null,null,null,null,null,null,null,null,"ВИД РЕСУРСА",null,null,null,"ОБЩАЯ НАПРАВЛЕННОСТЬ РЕСУРСА"]
[]
[]
[]
[null,null,null,null,null,null,null,null,null,null,null,null,null,null,null,null,null,null,null,null,null,null,null,null,null,null,null,null,null,null,null,null,{"$f":"'Attribute Survey'!S81","v":0},null,{"$f":"'Attribute Survey'!S85","v":0},null,{"$f":"'Attribute Survey'!S89","v":0},null,{"$f":"'Attribute Survey'!S93","v":0},null,{"$f":"'Attribute Survey'!S97","v":0},null,{"$f":"'Attribute Survey'!S101","v":0},null,{"$f":"'Attribute Survey'!S105","v":0},null,{"$f":"'Attribute Survey'!S109","v":0},null,{"$f":"'Attribute Survey'!S113","v":0}]
[null,null,null,"Наиболее подходящие ресурсы",null,null,null,null,{"$f":"Backbone!A686","v":"Инструментарий для реализации стратегии устойчивого финансирования в рамках концепции «Единое здоровье»"},null,null,null,null,null,null,"Данный инструментарий призван поддерживать платформы «Единое здоровье» и другие координационные механизмы в их работе по привлечению и получению средств на организацию работы платформы и ее мероприятий в долгосрочной перспективе.",null,null,null,null,null,null,null,null,{"$f":"INDEX(Backbone!$R61:$R952,MATCH(I82,Backbone!$A61:$A952,0))","v":"Руководящий документ"},null,null,null,{"$f":"INDEX(Backbone!$S61:$S952,MATCH(I82,Backbone!$A61:$A952,0))","v":"«Единое здоровье»; универсальный"},null,null,null,{"$f":"INDEX(Backbone!$H61:$H952,MATCH(I82,Backbone!$A61:$A952,0))","v":8.4},null,{"$f":"INDEX(Backbone!$I61:$I952,MATCH(I82,Backbone!$A61:$A952,0))","v":8},null,{"$f":"INDEX(Backbone!$J61:$J952,MATCH(I82,Backbone!$A61:$A952,0))","v":8.4},null,{"$f":"INDEX(Backbone!$K61:$K952,MATCH(I82,Backbone!$A61:$A952,0))","v":6.7},null,{"$f":"INDEX(Backbone!$L61:$L952,MATCH(I82,Backbone!$A61:$A952,0))","v":2},null,{"$f":"INDEX(Backbone!$M61:$M952,MATCH(I82,Backbone!$A61:$A952,0))","v":3.5},null,{"$f":"INDEX(Backbone!$N61:$N952,MATCH(I82,Backbone!$A61:$A952,0))","v":4},null,{"$f":"INDEX(Backbone!$O61:$O952,MATCH(I82,Backbone!$A61:$A952,0))","v":6.4},null,{"$f":"INDEX(Backbone!$P61:$P952,MATCH(I82,Backbone!$A61:$A952,0))","v":8},null,{"$f":"INDEX(Backbone!$Q61:$Q952,MATCH(I82,Backbone!$A61:$A952,0))","v":0.61555555555555552},null,null,{"$f":"(AG82*$AG$22+AI82*$AI$22+AK82*$AK$22+AM82*$AM$22+AO82*$AO$22+AQ82*$AQ$22+AS82*$AS$22+AU82*$AU$22+AW82*$AW$22)/(SUM($AG$22:$AW$22)*10)","v":{"$error":"#DIV/0!"}},null,null,"Перейти в Реестр ресурсов: ",null,{"$f":"HYPERLINK(\"#\"&ADDRESS(MATCH(I82,Toolbox!$C$1:$C$300),1,,,\"Toolbox\"),VLOOKUP(I82,Toolbox!$C$1:$C$300,1,FALSE))","v":"Инструментарий для реализации стратегии устойчивого финансирования в рамках концепции «Единое здоровье»"}]
[]
[]
[]
[]
[]
[]
[]
[]
[]
[]
[]
[]
[]
[]
[]
[]
[]
[]
[]
[]
[]
[]
[null,null,null,null,null,null,null,null,null,null,null,null,null,null,null,null,null,null,null,null,null,null,null,null,null,null,null,null,null,null,null,null,"Доступность",null,"Язык",null,"Простота использования",null,"Гибкость",null,"Потребности в данных",null,"Анализ данных",null,"Приемлемость",null,"«Единое здоровье»",null,"Воздействие"]
[]
[]
[]
[null,"РЕСУРСЫ УРОВНЯ 3"]
[]
[]
[null,null,null,null,null,null,null,null,null,null,null,null,null,null,null,null,null,null,null,null,null,null,null,null,null,null,null,null,null,null,null,null,null,null,null,null,null,null,null,null,null,null,null,null,null,null,null,null,null,null,"ИСХОДНАЯ ОЦЕНКА",null,null,"СКОРРЕКТИРОВАННАЯ ОЦЕНКА \n(Исходя из предпочтений пользователей)"]
[]
[]
[]
[null,null,null,"КЛАССИФИКАЦИЯ",null,null,null,null,"НАЗВАНИЕ РЕСУРСА",null,null,null,null,null,null,"КРАТКОЕ ОПИСАНИЕ",null,null,null,null,null,null,null,null,"ВИД РЕСУРСА",null,null,null,"ОБЩАЯ НАПРАВЛЕННОСТЬ РЕСУРСА"]
[]
[]
[]
[null,null,null,null,null,null,null,null,null,null,null,null,null,null,null,null,null,null,null,null,null,null,null,null,null,null,null,null,null,null,null,null,{"$f":"'Attribute Survey'!S120","v":0},null,{"$f":"'Attribute Survey'!S124","v":0},null,{"$f":"'Attribute Survey'!S128","v":0},null,{"$f":"'Attribute Survey'!S132","v":0},null,{"$f":"'Attribute Survey'!S136","v":0},null,{"$f":"'Attribute Survey'!S140","v":0},null,{"$f":"'Attribute Survey'!S144","v":0},null,{"$f":"'Attribute Survey'!S148","v":0},null,{"$f":"'Attribute Survey'!S152","v":0}]
[null,null,null,"Наиболее подходящие ресурсы",null,null,null,null,{"$f":"Backbone!A686","v":"Инструментарий для реализации стратегии устойчивого финансирования в рамках концепции «Единое здоровье»"},null,null,null,null,null,null,"Данный инструментарий призван поддерживать платформы «Единое здоровье» и другие координационные механизмы в их работе по привлечению и получению средств на организацию работы платформы и ее мероприятий в долгосрочной перспективе",null,null,null,null,null,null,null,null,{"$f":"INDEX(Backbone!$R100:$R991,MATCH(I121,Backbone!$A100:$A991,0))","v":"Руководящий документ"},null,null,null,{"$f":"INDEX(Backbone!$S100:$S991,MATCH(I121,Backbone!$A100:$A991,0))","v":"«Единое здоровье»; универсальный"},null,null,null,{"$f":"INDEX(Backbone!$H100:$H991,MATCH(I121,Backbone!$A100:$A991,0))","v":8.4},null,{"$f":"INDEX(Backbone!$I100:$I991,MATCH(I121,Backbone!$A100:$A991,0))","v":8},null,{"$f":"INDEX(Backbone!$J100:$J991,MATCH(I121,Backbone!$A100:$A991,0))","v":8.4},null,{"$f":"INDEX(Backbone!$K100:$K991,MATCH(I121,Backbone!$A100:$A991,0))","v":6.7},null,{"$f":"INDEX(Backbone!$L100:$L991,MATCH(I121,Backbone!$A100:$A991,0))","v":2},null,{"$f":"INDEX(Backbone!$M100:$M991,MATCH(I121,Backbone!$A100:$A991,0))","v":3.5},null,{"$f":"INDEX(Backbone!$N100:$N991,MATCH(I121,Backbone!$A100:$A991,0))","v":4},null,{"$f":"INDEX(Backbone!$O100:$O991,MATCH(I121,Backbone!$A100:$A991,0))","v":6.4},null,{"$f":"INDEX(Backbone!$P100:$P991,MATCH(I121,Backbone!$A100:$A991,0))","v":8},null,{"$f":"INDEX(Backbone!$Q100:$Q991,MATCH(I121,Backbone!$A100:$A991,0))","v":0.61555555555555552},null,null,{"$f":"(AG121*$AG$22+AI121*$AI$22+AK121*$AK$22+AM121*$AM$22+AO121*$AO$22+AQ121*$AQ$22+AS121*$AS$22+AU121*$AU$22+AW121*$AW$22)/(SUM($AG$22:$AW$22)*10)","v":{"$error":"#DIV/0!"}},null,null,"Перейти в Реестр ресурсов: ",null,{"$f":"HYPERLINK(\"#\"&ADDRESS(MATCH(I121,Toolbox!$C$1:$C$300),1,,,\"Toolbox\"),VLOOKUP(I121,Toolbox!$C$1:$C$300,1,FALSE))","v":"Инструментарий для реализации стратегии устойчивого финансирования в рамках концепции «Единое здоровье»"}]

{"sheet":"I2_tools","index":47,"n_rows":148,"n_cols":59,"rows_kept":148,"cut":false,"hidden":false,"merged":[[147,46,151,46],[147,48,151,48],[147,50,151,51],[147,53,151,54],[123,1,151,1],[135,3,151,6],[147,34,151,34],[147,36,151,36],[147,38,151,38],[147,40,151,40],[147,42,151,42],[147,44,151,44],[141,46,145,46],[141,48,145,48],[141,50,145,51],[141,53,145,54],[147,8,151,13],[147,15,151,22],[147,24,151,26],[147,28,151,30],[147,32,151,32],[141,34,145,34],[141,36,145,36],[141,38,145,38],[141,40,145,40],[141,42,145,42],[141,44,145,44],[135,44,139,44],[135,46,139,46],[135,48,139,48],[135,50,139,51],[135,53,139,54],[141,8,145,13],[141,15,145,22],[141,24,145,26],[141,28,145,30],[141,32,145,32],[135,32,139,32],[135,34,139,34],[135,36,139,36],[135,38,139,38],[135,40,139,40],[135,42,139,42],[128,50,132,51],[128,53,132,54],[135,8,139,13],[135,15,139,22],[135,24,139,26],[135,28,139,30],[128,24,132,26],[128,28,132,30],[128,32,132,32],[128,34,132,34],[128,36,132,36],[128,38,132,38],[128,40,132,40],[128,42,132,42],[128,48,132,48],[119,50,126,51],[119,53,126,54],[123,3,126,6],[123,8,126,13],[123,15,126,22],[123,24,126,26],[112,34,126,34],[112,36,126,36],[112,38,126,38],[112,40,126,40],[112,32,126,32],[112,42,126,42],[123,28,126,30],[112,48,126,48],[82,53,86,54],[88,8,92,13],[88,15,92,22],[88,24,92,26],[88,28,92,30],[88,32,92,32],[88,34,92,34],[82,34,86,34],[82,36,86,36],[82,38,86,38],[82,40,86,40],[75,53,79,54],[82,3,92,6],[82,8,86,13],[82,15,86,22],[82,24,86,26],[82,28,86,30],[82,32,86,32],[75,28,79,30],[75,32,79,32],[75,34,79,34],[75,36,79,36],[75,38,79,38],[75,40,79,40],[88,48,92,48],[88,50,92,51],[88,53,92,54],[88,36,92,36],[88,38,92,38],[88,40,92,40],[88,42,92,42],[88,44,92,44],[88,46,92,46],[82,46,86,46],[82,48,86,48],[66,53,73,54],[70,3,73,6],[70,8,73,13],[70,15,73,22],[70,24,73,26],[70,28,73,30],[59,34,73,34],[59,36,73,36],[59,38,73,38],[59,40,73,40],[59,42,73,42],[59,44,73,44],[17,1,39,1],[59,32,73,32],[75,3,79,6],[75,8,79,13],[75,15,79,22],[75,24,79,26],[29,3,39,6],[35,48,39,48],[35,50,39,51],[75,42,79,42],[75,44,79,44],[22,50,26,51],[13,50,20,51],[59,46,73,46],[59,48,73,48],[66,50,73,51],[75,46,79,46],[75,48,79,48],[75,50,79,51],[68,1,95,1],[82,50,86,51],[29,50,33,51],[22,48,26,48],[22,15,26,22],[35,53,39,54],[35,36,39,36],[35,38,39,38],[35,40,39,40],[35,42,39,42],[35,44,39,44],[35,46,39,46],[35,8,39,13],[35,15,39,22],[35,24,39,26],[35,28,39,30],[35,32,39,32],[35,34,39,34],[29,53,33,54],[29,34,33,34],[29,36,33,36],[29,38,33,38],[29,40,33,40],[29,42,33,42],[29,44,33,44],[29,8,33,13],[29,15,33,22],[29,24,33,26],[29,28,33,30],[29,32,33,32],[29,48,33,48],[128,3,132,6],[128,8,132,13],[128,15,132,22],[29,46,33,46],[82,42,86,42],[82,44,86,44],[112,44,126,44],[112,46,126,46],[128,44,132,44],[128,46,132,46],[6,46,20,46],[6,48,20,48],[22,53,26,54],[22,38,26,38],[22,40,26,40],[22,42,26,42],[22,44,26,44],[22,46,26,46],[22,24,26,26],[22,28,26,30],[22,32,26,32],[22,34,26,34],[22,36,26,36],[1,1,3,62],[22,56,26,57],[22,58,26,62],[29,56,33,57],[29,58,33,62],[35,56,39,57],[35,58,39,62],[75,56,79,57],[75,58,79,62],[13,53,20,54],[17,3,20,6],[17,8,20,13],[17,15,20,22],[17,24,20,26],[17,28,20,30],[22,3,26,6],[22,8,26,13],[6,32,20,32],[6,34,20,34],[6,36,20,36],[6,38,20,38],[6,40,20,40],[6,42,20,42],[6,44,20,44],[147,56,151,57],[147,58,151,62],[82,56,86,57],[82,58,86,62],[88,56,92,57],[88,58,92,62],[128,56,132,57],[128,58,132,62],[135,56,139,57],[135,58,139,62],[141,56,145,57],[141,58,145,62]]}
[]
[null,"Ресурсы по привлечению кадровых ресурсов и заинтересованных сторон"]
[]
[]
[]
[]
[null,null,null,null,null,null,null,null,null,null,null,null,null,null,null,null,null,null,null,null,null,null,null,null,null,null,null,null,null,null,null,null,"Доступность",null,"Язык",null,"Простота использования",null,"Гибкость",null,"Потребности в данных",null,"Анализ данных",null,"Приемлемость",null,"«Единое здоровье»",null,"Воздействие"]
[]
[]
[]
[]
[]
[]
[null,null,null,null,null,null,null,null,null,null,null,null,null,null,null,null,null,null,null,null,null,null,null,null,null,null,null,null,null,null,null,null,null,null,null,null,null,null,null,null,null,null,null,null,null,null,null,null,null,null,"ИСХОДНАЯ ОЦЕНКА",null,null,"СКОРРЕКТИРОВАННАЯ ОЦЕНКА \n(Исходя из предпочтений пользователей)"]
[]
[]
[]
[null,"РЕСУРСЫ УРОВНЯ 1",null,"КЛАССИФИКАЦИЯ",null,null,null,null,"НАЗВАНИЕ РЕСУРСА",null,null,null,null,null,null,"КРАТКОЕ ОПИСАНИЕ",null,null,null,null,null,null,null,null,"ВИД РЕСУРСА",null,null,null,"ОБЩАЯ НАПРАВЛЕННОСТЬ РЕСУРСА"]
[]
[]
[]
[null,null,null,null,null,null,null,null,null,null,null,null,null,null,null,null,null,null,null,null,null,null,null,null,null,null,null,null,null,null,null,null,{"$f":"'Attribute Survey'!S22","v":0},null,{"$f":"'Attribute Survey'!S26","v":0},null,{"$f":"'Attribute Survey'!S30","v":0},null,{"$f":"'Attribute Survey'!S34","v":0},null,{"$f":"'Attribute Survey'!S38","v":0},null,{"$f":"'Attribute Survey'!S42","v":0},null,{"$f":"'Attribute Survey'!S46","v":0},null,{"$f":"'Attribute Survey'!S50","v":0},null,{"$f":"'Attribute Survey'!S54","v":0}]
[null,null,null,"Наиболее подходящие ресурсы",null,null,null,null,{"$f":"Backbone!A634","v":"Инструментарий для создания руководства по управлению"},null,null,null,null,null,null,"Инструментарий, описывающий процесс разработки руководства по управлению для платформы «Единое здоровье».",null,null,null,null,null,null,null,null,{"$f":"INDEX(Backbone!$R2:$R893,MATCH(I23,Backbone!$A2:$A893,0))","v":"Руководящий документ"},null,null,null,{"$f":"INDEX(Backbone!$S2:$S893,MATCH(I23,Backbone!$A2:$A893,0))","v":"«Единое здоровье»; универсальный"},null,null,null,{"$f":"INDEX(Backbone!$H2:$H893,MATCH(I23,Backbone!$A2:$A893,0))","v":8.4},null,{"$f":"INDEX(Backbone!$I2:$I893,MATCH(I23,Backbone!$A2:$A893,0))","v":8},null,{"$f":"INDEX(Backbone!$J2:$J893,MATCH(I23,Backbone!$A2:$A893,0))","v":8.4},null,{"$f":"INDEX(Backbone!$K2:$K893,MATCH(I23,Backbone!$A2:$A893,0))","v":6.7},null,{"$f":"INDEX(Backbone!$L2:$L893,MATCH(I23,Backbone!$A2:$A893,0))","v":2},null,{"$f":"INDEX(Backbone!$M2:$M893,MATCH(I23,Backbone!$A2:$A893,0))","v":3.5},null,{"$f":"INDEX(Backbone!$N2:$N893,MATCH(I23,Backbone!$A2:$A893,0))","v":4},null,{"$f":"INDEX(Backbone!$O2:$O893,MATCH(I23,Backbone!$A2:$A893,0))","v":6.4},null,{"$f":"INDEX(Backbone!$P2:$P893,MATCH(I23,Backbone!$A2:$A893,0))","v":8},null,{"$f":"INDEX(Backbone!$Q2:$Q893,MATCH(I23,Backbone!$A2:$A893,0))","v":0.61555555555555552},null,null,{"$f":"(AG23*$AG$22+AI23*$AI$22+AK23*$AK$22+AM23*$AM$22+AO23*$AO$22+AQ23*$AQ$22+AS23*$AS$22+AU23*$AU$22+AW23*$AW$22)/(SUM($AG$22:$AW$22)*10)","v":{"$error":"#DIV/0!"}},null,null,"Перейти в Реестр ресурсов: ",null,{"$f":"HYPERLINK(\"#\"&ADDRESS(MATCH(I23,Toolbox!$C$1:$C$300),1,,,\"Toolbox\"),VLOOKUP(I23,Toolbox!$C$1:$C$300,1,FALSE))","v":"Инструментарий для создания руководства по управлению"}]
[]
[]
[]
[]
[]
[]
[null,null,null,"Другие полезные ресурсы",null,null,null,null,{"$f":"Backbone!A2","v":"Рамочная программа Африканских ЦКПЗ по надзору на основе сигнальных событий"},null,null,null,null,null,null,"Руководство для работников системы общественного здравоохранения, стремящихся внедрить надзор на основе событий на всех административных уровнях.",null,null,null,null,null,null,null,null,{"$f":"INDEX(Backbone!$R$2:$R$893,MATCH(I30,Backbone!$A$2:$A$893,0))","v":"Руководящий документ"},null,null,null,{"$f":"INDEX(Backbone!$S$2:$S$893,MATCH(I30,Backbone!$A$2:$A$893,0))","v":"«Единое здоровье»; универсальный "},null,null,null,{"$f":"INDEX(Backbone!$H$2:$H$893,MATCH(I30,Backbone!$A$2:$A$893,0))","v":8},null,{"$f":"INDEX(Backbone!$I$2:$I$893,MATCH(I30,Backbone!$A$2:$A$893,0))","v":6},null,{"$f":"INDEX(Backbone!$J$2:$J$893,MATCH(I30,Backbone!$A$2:$A$893,0))","v":8.1999999999999993},null,{"$f":"INDEX(Backbone!$K$1:$K$893,MATCH(I30,Backbone!$A$1:$A$893,0))","v":8.3000000000000007},null,{"$f":"INDEX(Backbone!$L$2:$L$893,MATCH(I30,Backbone!$A$2:$A$893,0))","v":6.1},null,{"$f":"INDEX(Backbone!$M$2:$M$893,MATCH(I30,Backbone!$A$2:$A$893,0))","v":3.5},null,{"$f":"INDEX(Backbone!$N$2:$N$893,MATCH(I30,Backbone!$A$2:$A$893,0))","v":4},null,{"$f":"INDEX(Backbone!$O$2:$O$893,MATCH(I30,Backbone!$A$2:$A$893,0))","v":7},null,{"$f":"INDEX(Backbone!$P$2:$P$893,MATCH(I30,Backbone!$A$2:$A$893,0))","v":6},null,{"$f":"INDEX(Backbone!$Q$2:$Q$893,MATCH(I30,Backbone!$A$2:$A$893,0))","v":0.63222222222222224},null,null,{"$f":"(AG30*$AG$22+AI30*$AI$22+AK30*$AK$22+AM30*$AM$22+AO30*$AO$22+AQ30*$AQ$22+AS30*$AS$22+AU30*$AU$22+AW30*$AW$22)/(SUM($AG$22:$AW$22)*10)","v":{"$error":"#DIV/0!"}},null,null,"Перейти в Реестр ресурсов: ",null,{"$f":"HYPERLINK(\"#\"&ADDRESS(MATCH(I30,Toolbox!$C$1:$C$300),1,,,\"Toolbox\"),VLOOKUP(I30,Toolbox!$C$1:$C$300,1,FALSE))","v":"Рамочная программа Африканских ЦКПЗ по надзору на основе сигнальных событий"}]
[]
[]
[]
[]
[]
[null,null,null,null,null,null,null,null,{"$f":"Backbone!A680","v":"Инструментарий для проведения обзора принятых мер после вспышки заболевания"},null,null,null,null,null,null,"Настоящий инструментарий помогает представителям платформы «Единое здоровье» в пошаговом процессе планирования и проведения Обзора принятых мер (ОПМ) после вспышки заболевания.",null,null,null,null,null,null,null,null,{"$f":"INDEX(Backbone!$R$2:$R$893,MATCH(I36,Backbone!$A$2:$A$893,0))","v":"Руководящий документ"},null,null,null,{"$f":"INDEX(Backbone!$S$2:$S$893,MATCH(I36,Backbone!$A$2:$A$893,0))","v":"«Единое здоровье»; универсальный"},null,null,null,{"$f":"INDEX(Backbone!$H$2:$H$893,MATCH(I36,Backbone!$A$2:$A$893,0))","v":8.4},null,{"$f":"INDEX(Backbone!$I$2:$I$893,MATCH(I36,Backbone!$A$2:$A$893,0))","v":8},null,{"$f":"INDEX(Backbone!$J$2:$J$893,MATCH(I36,Backbone!$A$2:$A$893,0))","v":8.4},null,{"$f":"INDEX(Backbone!$K$1:$K$893,MATCH(I36,Backbone!$A$1:$A$893,0))","v":6.7},null,{"$f":"INDEX(Backbone!$L$2:$L$893,MATCH(I36,Backbone!$A$2:$A$893,0))","v":2},null,{"$f":"INDEX(Backbone!$M$2:$M$893,MATCH(I36,Backbone!$A$2:$A$893,0))","v":3.5},null,{"$f":"INDEX(Backbone!$N$2:$N$893,MATCH(I36,Backbone!$A$2:$A$893,0))","v":4},null,{"$f":"INDEX(Backbone!$O$2:$O$893,MATCH(I36,Backbone!$A$2:$A$893,0))","v":6.4},null,{"$f":"INDEX(Backbone!$P$2:$P$893,MATCH(I36,Backbone!$A$2:$A$893,0))","v":8},null,{"$f":"INDEX(Backbone!$Q$2:$Q$893,MATCH(I36,Backbone!$A$2:$A$893,0))","v":0.61555555555555552},null,null,{"$f":"(AG36*$AG$22+AI36*$AI$22+AK36*$AK$22+AM36*$AM$22+AO36*$AO$22+AQ36*$AQ$22+AS36*$AS$22+AU36*$AU$22+AW36*$AW$22)/(SUM($AG$22:$AW$22)*10)","v":{"$error":"#DIV/0!"}},null,null,"Перейти в Реестр ресурсов: ",null,{"$f":"HYPERLINK(\"#\"&ADDRESS(MATCH(I36,Toolbox!$C$1:$C$300),1,,,\"Toolbox\"),VLOOKUP(I36,Toolbox!$C$1:$C$300,1,FALSE))","v":"Инструментарий для проведения обзора принятых мер после вспышки заболевания"}]
[]
[]
[]
[]
[]
[]
[]
[]
[]
[]
[]
[]
[]
[]
[]
[]
[]
[]
[]
[]
[]
[]
[]
[null,null,null,null,null,null,null,null,null,null,null,null,null,null,null,null,null,null,null,null,null,null,null,null,null,null,null,null,null,null,null,null,"Доступность",null,"Язык",null,"Простота использования",null,"Гибкость",null,"Потребности в данных",null,"Анализ данных",null,"Приемлемость",null,"«Единое здоровье»",null,"Воздействие"]
[]
[]
[]
[]
[]
[]
[null,null,null,null,null,null,null,null,null,null,null,null,null,null,null,null,null,null,null,null,null,null,null,null,null,null,null,null,null,null,null,null,null,null,null,null,null,null,null,null,null,null,null,null,null,null,null,null,null,null,"ИСХОДНАЯ ОЦЕНКА",null,null,"СКОРРЕКТИРОВАННАЯ ОЦЕНКА \n(Исходя из предпочтений пользователей)"]
[]
[null,"РЕСУРСЫ УРОВНЯ 2"]
[]
[null,null,null,"КЛАССИФИКАЦИЯ",null,null,null,null,"НАЗВАНИЕ РЕСУРСА",null,null,null,null,null,null,"КРАТКОЕ ОПИСАНИЕ",null,null,null,null,null,null,null,null,"ВИД РЕСУРСА",null,null,null,"ОБЩАЯ НАПРАВЛЕННОСТЬ РЕСУРСА"]
[]
[]
[]
[null,null,null,null,null,null,null,null,null,null,null,null,null,null,null,null,null,null,null,null,null,null,null,null,null,null,null,null,null,null,null,null,{"$f":"'Attribute Survey'!S75","v":0},null,{"$f":"'Attribute Survey'!S79","v":0},null,{"$f":"'Attribute Survey'!S83","v":0},null,{"$f":"'Attribute Survey'!S87","v":0},null,{"$f":"'Attribute Survey'!S91","v":0},null,{"$f":"'Attribute Survey'!S95","v":0},null,{"$f":"'Attribute Survey'!S99","v":0},null,{"$f":"'Attribute Survey'!S103","v":0},null,{"$f":"'Attribute Survey'!S107","v":0}]
[null,null,null,"Наиболее подходящие ресурсы",null,null,null,null,{"$f":"Backbone!A634","v":"Инструментарий для создания руководства по управлению"},null,null,null,null,null,null,"Инструментарий, описывающий процесс разработки руководства по управлению для платформы «Единое здоровье».",null,null,null,null,null,null,null,null,{"$f":"INDEX(Backbone!$R55:$R946,MATCH(I76,Backbone!$A55:$A946,0))","v":"Руководящий документ"},null,null,null,{"$f":"INDEX(Backbone!$S55:$S946,MATCH(I76,Backbone!$A55:$A946,0))","v":"«Единое здоровье»; универсальный"},null,null,null,{"$f":"INDEX(Backbone!$H55:$H946,MATCH(I76,Backbone!$A55:$A946,0))","v":8.4},null,{"$f":"INDEX(Backbone!$I55:$I946,MATCH(I76,Backbone!$A55:$A946,0))","v":8},null,{"$f":"INDEX(Backbone!$J55:$J946,MATCH(I76,Backbone!$A55:$A946,0))","v":8.4},null,{"$f":"INDEX(Backbone!$K55:$K946,MATCH(I76,Backbone!$A55:$A946,0))","v":6.7},null,{"$f":"INDEX(Backbone!$L55:$L946,MATCH(I76,Backbone!$A55:$A946,0))","v":2},null,{"$f":"INDEX(Backbone!$M55:$M946,MATCH(I76,Backbone!$A55:$A946,0))","v":3.5},null,{"$f":"INDEX(Backbone!$N55:$N946,MATCH(I76,Backbone!$A55:$A946,0))","v":4},null,{"$f":"INDEX(Backbone!$O55:$O946,MATCH(I76,Backbone!$A55:$A946,0))","v":6.4},null,{"$f":"INDEX(Backbone!$P55:$P946,MATCH(I76,Backbone!$A55:$A946,0))","v":8},null,{"$f":"INDEX(Backbone!$Q55:$Q946,MATCH(I76,Backbone!$A55:$A946,0))","v":0.61555555555555552},null,null,{"$f":"(AG76*$AG$22+AI76*$AI$22+AK76*$AK$22+AM76*$AM$22+AO76*$AO$22+AQ76*$AQ$22+AS76*$AS$22+AU76*$AU$22+AW76*$AW$22)/(SUM($AG$22:$AW$22)*10)","v":{"$error":"#DIV/0!"}},null,null,"Перейти в Реестр ресурсов: ",null,{"$f":"HYPERLINK(\"#\"&ADDRESS(MATCH(I76,Toolbox!$C$1:$C$300),1,,,\"Toolbox\"),VLOOKUP(I76,Toolbox!$C$1:$C$300,1,FALSE))","v":"Инструментарий для создания руководства по управлению"}]
[]
[]
[]
[]
[]
[]
[null,null,null,"Другие полезные ресурсы",null,null,null,null,{"$f":"Backbone!A2","v":"Рамочная программа Африканских ЦКПЗ по надзору на основе сигнальных событий"},null,null,null,null,null,null,"Руководство для работников системы общественного здравоохранения, стремящихся внедрить надзор на основе событий на всех административных уровнях.",null,null,null,null,null,null,null,null,{"$f":"INDEX(Backbone!$R$2:$R$893,MATCH(I83,Backbone!$A$2:$A$893,0))","v":"Руководящий документ"},null,null,null,{"$f":"INDEX(Backbone!$S$2:$S$893,MATCH(I83,Backbone!$A$2:$A$893,0))","v":"«Единое здоровье»; универсальный "},null,null,null,{"$f":"INDEX(Backbone!$H$2:$H$893,MATCH(I83,Backbone!$A$2:$A$893,0))","v":8},null,{"$f":"INDEX(Backbone!$I$2:$I$893,MATCH(I83,Backbone!$A$2:$A$893,0))","v":6},null,{"$f":"INDEX(Backbone!$J$2:$J$893,MATCH(I83,Backbone!$A$2:$A$893,0))","v":8.1999999999999993},null,{"$f":"INDEX(Backbone!$K$1:$K$893,MATCH(I83,Backbone!$A$1:$A$893,0))","v":8.3000000000000007},null,{"$f":"INDEX(Backbone!$L$2:$L$893,MATCH(I83,Backbone!$A$2:$A$893,0))","v":6.1},null,{"$f":"INDEX(Backbone!$M$2:$M$893,MATCH(I83,Backbone!$A$2:$A$893,0))","v":3.5},null,{"$f":"INDEX(Backbone!$N$2:$N$893,MATCH(I83,Backbone!$A$2:$A$893,0))","v":4},null,{"$f":"INDEX(Backbone!$O$2:$O$893,MATCH(I83,Backbone!$A$2:$A$893,0))","v":7},null,{"$f":"INDEX(Backbone!$P$2:$P$893,MATCH(I83,Backbone!$A$2:$A$893,0))","v":6},null,{"$f":"INDEX(Backbone!$Q$2:$Q$893,MATCH(I83,Backbone!$A$2:$A$893,0))","v":0.63222222222222224},null,null,{"$f":"(AG83*$AG$22+AI83*$AI$22+AK83*$AK$22+AM83*$AM$22+AO83*$AO$22+AQ83*$AQ$22+AS83*$AS$22+AU83*$AU$22+AW83*$AW$22)/(SUM($AG$22:$AW$22)*10)","v":{"$error":"#DIV/0!"}},null,null,"Перейти в Реестр ресурсов: ",null,{"$f":"HYPERLINK(\"#\"&ADDRESS(MATCH(I83,Toolbox!$C$1:$C$300),1,,,\"Toolbox\"),VLOOKUP(I83,Toolbox!$C$1:$C$300,1,FALSE))","v":"Рамочная программа Африканских ЦКПЗ по надзору на основе сигнальных событий"}]
[]
[]
[]
[]
[]
[null,null,null,null,null,null,null,null,{"$f":"Backbone!A680","v":"Инструментарий для проведения обзора принятых мер после вспышки заболевания"},null,null,null,null,null,null,"Настоящий инструментарий помогает представителям платформы «Единое здоровье» в пошаговом процессе планирования и проведения Обзора принятых мер (ОПМ) после вспышки заболевания.",null,null,null,null,null,null,null,null,{"$f":"INDEX(Backbone!$R$2:$R$893,MATCH(I89,Backbone!$A$2:$A$893,0))","v":"Руководящий документ"},null,null,null,{"$f":"INDEX(Backbone!$S$2:$S$893,MATCH(I89,Backbone!$A$2:$A$893,0))","v":"«Единое здоровье»; универсальный"},null,null,null,{"$f":"INDEX(Backbone!$H$2:$H$893,MATCH(I89,Backbone!$A$2:$A$893,0))","v":8.4},null,{"$f":"INDEX(Backbone!$I$2:$I$893,MATCH(I89,Backbone!$A$2:$A$893,0))","v":8},null,{"$f":"INDEX(Backbone!$J$2:$J$893,MATCH(I89,Backbone!$A$2:$A$893,0))","v":8.4},null,{"$f":"INDEX(Backbone!$K$1:$K$893,MATCH(I89,Backbone!$A$1:$A$893,0))","v":6.7},null,{"$f":"INDEX(Backbone!$L$2:$L$893,MATCH(I89,Backbone!$A$2:$A$893,0))","v":2},null,{"$f":"INDEX(Backbone!$M$2:$M$893,MATCH(I89,Backbone!$A$2:$A$893,0))","v":3.5},null,{"$f":"INDEX(Backbone!$N$2:$N$893,MATCH(I89,Backbone!$A$2:$A$893,0))","v":4},null,{"$f":"INDEX(Backbone!$O$2:$O$893,MATCH(I89,Backbone!$A$2:$A$893,0))","v":6.4},null,{"$f":"INDEX(Backbone!$P$2:$P$893,MATCH(I89,Backbone!$A$2:$A$893,0))","v":8},null,{"$f":"INDEX(Backbone!$Q$2:$Q$893,MATCH(I89,Backbone!$A$2:$A$893,0))","v":0.61555555555555552},null,null,{"$f":"(AG89*$AG$22+AI89*$AI$22+AK89*$AK$22+AM89*$AM$22+AO89*$AO$22+AQ89*$AQ$22+AS89*$AS$22+AU89*$AU$22+AW89*$AW$22)/(SUM($AG$22:$AW$22)*10)","v":{"$error":"#DIV/0!"}},null,null,"Перейти в Реестр ресурсов: ",null,{"$f":"HYPERLINK(\"#\"&ADDRESS(MATCH(I89,Toolbox!$C$1:$C$300),1,,,\"Toolbox\"),VLOOKUP(I89,Toolbox!$C$1:$C$300,1,FALSE))","v":"Инструментарий для проведения обзора принятых мер после вспышки заболевания"}]
[]
[]
[]
[]
[]
[]
[]
[]
[]
[]
[]
[]
[]
[]
[]
[]
[]
[]
[]
[]
[]
[]
[]
[null,null,null,null,null,null,null,null,null,null,null,null,null,null,null,null,null,null,null,null,null,null,null,null,null,null,null,null,null,null,null,null,"Доступность",null,"Язык",null,"Простота использования",null,"Гибкость",null,"Потребности в данных",null,"Анализ данных",null,"Приемлемость",null,"«Единое здоровье»",null,"Воздействие"]
[]
[]
[]
[]
[]
[]
[null,null,null,null,null,null,null,null,null,null,null,null,null,null,null,null,null,null,null,null,null,null,null,null,null,null,null,null,null,null,null,null,null,null,null,null,null,null,null,null,null,null,null,null,null,null,null,null,null,null,"ИСХОДНАЯ ОЦЕНКА",null,null,"СКОРРЕКТИРОВАННАЯ ОЦЕНКА \n(Исходя из предпочтений пользователей)"]
[]
[]
[]
[null,"РЕСУРСЫ УРОВНЯ 3",null,"КЛАССИФИКАЦИЯ",null,null,null,null,"НАЗВАНИЕ РЕСУРСА",null,null,null,null,null,null,"КРАТКОЕ ОПИСАНИЕ",null,null,null,null,null,null,null,null,"ВИД РЕСУРСА",null,null,null,"ОБЩАЯ НАПРАВЛЕННОСТЬ РЕСУРСА"]
[]
[]
[]
[null,null,null,null,null,null,null,null,null,null,null,null,null,null,null,null,null,null,null,null,null,null,null,null,null,null,null,null,null,null,null,null,{"$f":"'Attribute Survey'!S128","v":0},null,{"$f":"'Attribute Survey'!S132","v":0},null,{"$f":"'Attribute Survey'!S136","v":0},null,{"$f":"'Attribute Survey'!S140","v":0},null,{"$f":"'Attribute Survey'!S144","v":0},null,{"$f":"'Attribute Survey'!S148","v":0},null,{"$f":"'Attribute Survey'!S152","v":0},null,{"$f":"'Attribute Survey'!S156","v":0},null,{"$f":"'Attribute Survey'!S160","v":0}]
[null,null,null,"Наиболее подходящие ресурсы",null,null,null,null,{"$f":"Backbone!A634","v":"Инструментарий для создания руководства по управлению"},null,null,null,null,null,null,"Инструментарий, описывающий процесс разработки руководства по управлению для платформы «Единое здоровье».",null,null,null,null,null,null,null,null,{"$f":"INDEX(Backbone!$R108:$R999,MATCH(I129,Backbone!$A108:$A999,0))","v":"Руководящий документ"},null,null,null,{"$f":"INDEX(Backbone!$S108:$S999,MATCH(I129,Backbone!$A108:$A999,0))","v":"«Единое здоровье»; универсальный"},null,null,null,{"$f":"INDEX(Backbone!$H108:$H999,MATCH(I129,Backbone!$A108:$A999,0))","v":8.4},null,{"$f":"INDEX(Backbone!$I108:$I999,MATCH(I129,Backbone!$A108:$A999,0))","v":8},null,{"$f":"INDEX(Backbone!$J108:$J999,MATCH(I129,Backbone!$A108:$A999,0))","v":8.4},null,{"$f":"INDEX(Backbone!$K108:$K999,MATCH(I129,Backbone!$A108:$A999,0))","v":6.7},null,{"$f":"INDEX(Backbone!$L108:$L999,MATCH(I129,Backbone!$A108:$A999,0))","v":2},null,{"$f":"INDEX(Backbone!$M108:$M999,MATCH(I129,Backbone!$A108:$A999,0))","v":3.5},null,{"$f":"INDEX(Backbone!$N108:$N999,MATCH(I129,Backbone!$A108:$A999,0))","v":4},null,{"$f":"INDEX(Backbone!$O108:$O999,MATCH(I129,Backbone!$A108:$A999,0))","v":6.4},null,{"$f":"INDEX(Backbone!$P108:$P999,MATCH(I129,Backbone!$A108:$A999,0))","v":8},null,{"$f":"INDEX(Backbone!$Q108:$Q999,MATCH(I129,Backbone!$A108:$A999,0))","v":0.61555555555555552},null,null,{"$f":"(AG129*$AG$22+AI129*$AI$22+AK129*$AK$22+AM129*$AM$22+AO129*$AO$22+AQ129*$AQ$22+AS129*$AS$22+AU129*$AU$22+AW129*$AW$22)/(SUM($AG$22:$AW$22)*10)","v":{"$error":"#DIV/0!"}},null,null,"Перейти в Реестр ресурсов: ",null,{"$f":"HYPERLINK(\"#\"&ADDRESS(MATCH(I129,Toolbox!$C$1:$C$300),1,,,\"Toolbox\"),VLOOKUP(I129,Toolbox!$C$1:$C$300,1,FALSE))","v":"Инструментарий для создания руководства по управлению"}]
[]
[]
[]
[]
[]
[]
[null,null,null,"Другие полезные ресурсы",null,null,null,null,{"$f":"Backbone!A2","v":"Рамочная программа Африканских ЦКПЗ по надзору на основе сигнальных событий"},null,null,null,null,null,null,"Руководство для работников системы общественного здравоохранения, стремящихся внедрить надзор на основе событий на всех административных уровнях.",null,null,null,null,null,null,null,null,{"$f":"INDEX(Backbone!$R$2:$R$893,MATCH(I136,Backbone!$A$2:$A$893,0))","v":"Руководящий документ"},null,null,null,{"$f":"INDEX(Backbone!$S$2:$S$893,MATCH(I136,Backbone!$A$2:$A$893,0))","v":"«Единое здоровье»; универсальный "},null,null,null,{"$f":"INDEX(Backbone!$H$2:$H$893,MATCH(I136,Backbone!$A$2:$A$893,0))","v":8},null,{"$f":"INDEX(Backbone!$I$2:$I$893,MATCH(I136,Backbone!$A$2:$A$893,0))","v":6},null,{"$f":"INDEX(Backbone!$J$2:$J$893,MATCH(I136,Backbone!$A$2:$A$893,0))","v":8.1999999999999993},null,{"$f":"INDEX(Backbone!$K$1:$K$893,MATCH(I136,Backbone!$A$1:$A$893,0))","v":8.3000000000000007},null,{"$f":"INDEX(Backbone!$L$2:$L$893,MATCH(I136,Backbone!$A$2:$A$893,0))","v":6.1},null,{"$f":"INDEX(Backbone!$M$2:$M$893,MATCH(I136,Backbone!$A$2:$A$893,0))","v":3.5},null,{"$f":"INDEX(Backbone!$N$2:$N$893,MATCH(I136,Backbone!$A$2:$A$893,0))","v":4},null,{"$f":"INDEX(Backbone!$O$2:$O$893,MATCH(I136,Backbone!$A$2:$A$893,0))","v":7},null,{"$f":"INDEX(Backbone!$P$2:$P$893,MATCH(I136,Backbone!$A$2:$A$893,0))","v":6},null,{"$f":"INDEX(Backbone!$Q$2:$Q$893,MATCH(I136,Backbone!$A$2:$A$893,0))","v":0.63222222222222224},null,null,{"$f":"(AG136*$AG$22+AI136*$AI$22+AK136*$AK$22+AM136*$AM$22+AO136*$AO$22+AQ136*$AQ$22+AS136*$AS$22+AU136*$AU$22+AW136*$AW$22)/(SUM($AG$22:$AW$22)*10)","v":{"$error":"#DIV/0!"}},null,null,"Перейти в Реестр ресурсов: ",null,{"$f":"HYPERLINK(\"#\"&ADDRESS(MATCH(I136,Toolbox!$C$1:$C$300),1,,,\"Toolbox\"),VLOOKUP(I136,Toolbox!$C$1:$C$300,1,FALSE))","v":"Рамочная программа Африканских ЦКПЗ по надзору на основе сигнальных событий"}]
[]
[]
[]
[]
[]
[null,null,null,null,null,null,null,null,{"$f":"Backbone!A680","v":"Инструментарий для проведения обзора принятых мер после вспышки заболевания"},null,null,null,null,null,null,"Настоящий инструментарий помогает представителям платформы «Единое здоровье» в пошаговом процессе планирования и проведения Обзора принятых мер после вспышки заболевания.",null,null,null,null,null,null,null,null,{"$f":"INDEX(Backbone!$R$2:$R$893,MATCH(I142,Backbone!$A$2:$A$893,0))","v":"Руководящий документ"},null,null,null,{"$f":"INDEX(Backbone!$S$2:$S$893,MATCH(I142,Backbone!$A$2:$A$893,0))","v":"«Единое здоровье»; универсальный"},null,null,null,{"$f":"INDEX(Backbone!$H$2:$H$893,MATCH(I142,Backbone!$A$2:$A$893,0))","v":8.4},null,{"$f":"INDEX(Backbone!$I$2:$I$893,MATCH(I142,Backbone!$A$2:$A$893,0))","v":8},null,{"$f":"INDEX(Backbone!$J$2:$J$893,MATCH(I142,Backbone!$A$2:$A$893,0))","v":8.4},null,{"$f":"INDEX(Backbone!$K$1:$K$893,MATCH(I142,Backbone!$A$1:$A$893,0))","v":6.7},null,{"$f":"INDEX(Backbone!$L$2:$L$893,MATCH(I142,Backbone!$A$2:$A$893,0))","v":2},null,{"$f":"INDEX(Backbone!$M$2:$M$893,MATCH(I142,Backbone!$A$2:$A$893,0))","v":3.5},null,{"$f":"INDEX(Backbone!$N$2:$N$893,MATCH(I142,Backbone!$A$2:$A$893,0))","v":4},null,{"$f":"INDEX(Backbone!$O$2:$O$893,MATCH(I142,Backbone!$A$2:$A$893,0))","v":6.4},null,{"$f":"INDEX(Backbone!$P$2:$P$893,MATCH(I142,Backbone!$A$2:$A$893,0))","v":8},null,{"$f":"INDEX(Backbone!$Q$2:$Q$893,MATCH(I142,Backbone!$A$2:$A$893,0))","v":0.61555555555555552},null,null,{"$f":"(AG142*$AG$22+AI142*$AI$22+AK142*$AK$22+AM142*$AM$22+AO142*$AO$22+AQ142*$AQ$22+AS142*$AS$22+AU142*$AU$22+AW142*$AW$22)/(SUM($AG$22:$AW$22)*10)","v":{"$error":"#DIV/0!"}},null,null,"Перейти в Реестр ресурсов: ",null,{"$f":"HYPERLINK(\"#\"&ADDRESS(MATCH(I142,Toolbox!$C$1:$C$300),1,,,\"Toolbox\"),VLOOKUP(I142,Toolbox!$C$1:$C$300,1,FALSE))","v":"Инструментарий для проведения обзора принятых мер после вспышки заболевания"}]
[]
[]
[]
[]
[]
[null,null,null,null,null,null,null,null,{"$f":"Backbone!A648","v":"Инструментарий для обеспечения готовности и планирования ответных действий"},null,null,null,null,null,null,"Настоящий инструментарий предназначен для разработки странами их межотраслевых планов по обеспечению готовности и планированию ответных действий в отношении событий общественного здравоохранения. ",null,null,null,null,null,null,null,null,{"$f":"INDEX(Backbone!$R$2:$R$893,MATCH(I148,Backbone!$A$2:$A$893,0))","v":"Руководящий документ"},null,null,null,{"$f":"INDEX(Backbone!$S$2:$S$893,MATCH(I148,Backbone!$A$2:$A$893,0))","v":"«Единое здоровье»; универсальный"},null,null,null,{"$f":"INDEX(Backbone!$H$2:$H$893,MATCH(I148,Backbone!$A$2:$A$893,0))","v":8.4},null,{"$f":"INDEX(Backbone!$I$2:$I$893,MATCH(I148,Backbone!$A$2:$A$893,0))","v":8},null,{"$f":"INDEX(Backbone!$J$2:$J$893,MATCH(I148,Backbone!$A$2:$A$893,0))","v":8.4},null,{"$f":"INDEX(Backbone!$K$1:$K$893,MATCH(I148,Backbone!$A$1:$A$893,0))","v":6.7},null,{"$f":"INDEX(Backbone!$L$2:$L$893,MATCH(I148,Backbone!$A$2:$A$893,0))","v":2},null,{"$f":"INDEX(Backbone!$M$2:$M$893,MATCH(I148,Backbone!$A$2:$A$893,0))","v":3.5},null,{"$f":"INDEX(Backbone!$N$2:$N$893,MATCH(I148,Backbone!$A$2:$A$893,0))","v":4},null,{"$f":"INDEX(Backbone!$O$2:$O$893,MATCH(I148,Backbone!$A$2:$A$893,0))","v":6.4},null,{"$f":"INDEX(Backbone!$P$2:$P$893,MATCH(I148,Backbone!$A$2:$A$893,0))","v":8},null,{"$f":"INDEX(Backbone!$Q$2:$Q$893,MATCH(I148,Backbone!$A$2:$A$893,0))","v":0.61555555555555552},null,null,{"$f":"(AG148*$AG$22+AI148*$AI$22+AK148*$AK$22+AM148*$AM$22+AO148*$AO$22+AQ148*$AQ$22+AS148*$AS$22+AU148*$AU$22+AW148*$AW$22)/(SUM($AG$22:$AW$22)*10)","v":{"$error":"#DIV/0!"}},null,null,"Перейти в Реестр ресурсов: ",null,{"$f":"HYPERLINK(\"#\"&ADDRESS(MATCH(I148,Toolbox!$C$1:$C$300),1,,,\"Toolbox\"),VLOOKUP(I148,Toolbox!$C$1:$C$300,1,FALSE))","v":"Инструментарий для обеспечения готовности и планирования ответных действий"}]

{"sheet":"I3_tools","index":48,"n_rows":243,"n_cols":59,"rows_kept":243,"cut":false,"hidden":false,"merged":[[229,42,233,42],[229,44,233,44],[229,46,233,46],[229,48,233,48],[229,50,233,51],[242,8,246,13],[242,15,246,22],[242,24,246,26],[242,28,246,30],[242,32,246,32],[242,34,246,34],[242,36,246,36],[236,36,240,36],[236,38,240,38],[236,32,240,32],[236,34,240,34],[229,32,233,32],[229,34,233,34],[229,36,233,36],[223,50,227,51],[242,50,246,51],[242,53,246,54],[242,38,246,38],[242,40,246,40],[242,42,246,42],[242,44,246,44],[242,46,246,46],[242,48,246,48],[229,38,233,38],[236,48,240,48],[236,50,240,51],[236,53,240,54],[236,40,240,40],[236,42,240,42],[236,44,240,44],[236,46,240,46],[229,53,233,54],[229,40,233,40],[223,53,227,54],[223,40,227,40],[223,42,227,42],[223,44,227,44],[223,46,227,46],[223,48,227,48],[217,24,221,26],[217,28,221,30],[217,32,221,32],[223,32,227,32],[223,34,227,34],[223,36,227,36],[217,36,221,36],[217,38,221,38],[217,40,221,40],[217,42,221,42],[217,44,221,44],[217,46,221,46],[223,38,227,38],[211,46,215,46],[211,48,215,48],[211,50,215,51],[211,53,215,54],[217,8,221,13],[217,15,221,22],[195,40,209,40],[195,42,209,42],[195,44,209,44],[217,34,221,34],[211,40,215,40],[211,42,215,42],[211,44,215,44],[217,48,221,48],[217,50,221,51],[195,48,209,48],[202,50,209,51],[202,53,209,54],[195,46,209,46],[211,36,215,36],[211,38,215,38],[217,53,221,54],[211,32,215,32],[211,34,215,34],[206,1,246,1],[206,3,209,6],[206,8,209,13],[206,15,209,22],[206,24,209,26],[206,28,209,30],[211,3,233,6],[211,8,215,13],[211,15,215,22],[211,24,215,26],[223,8,227,13],[223,15,227,22],[223,24,227,26],[223,28,227,30],[229,8,233,13],[229,15,233,22],[229,24,233,26],[229,28,233,30],[211,28,215,30],[236,3,246,6],[236,8,240,13],[236,15,240,22],[236,24,240,26],[236,28,240,30],[165,38,169,38],[165,40,169,40],[165,42,169,42],[165,44,169,44],[165,46,169,46],[165,8,169,13],[165,15,169,22],[165,24,169,26],[165,28,169,30],[165,32,169,32],[165,34,169,34],[165,36,169,36],[171,32,175,32],[171,34,175,34],[171,36,175,36],[171,38,175,38],[195,32,209,32],[195,34,209,34],[195,36,209,36],[195,38,209,38],[171,40,175,40],[171,42,175,42],[159,42,163,42],[159,44,163,44],[159,46,163,46],[159,48,163,48],[159,50,163,51],[159,53,163,54],[153,53,157,54],[153,40,157,40],[153,42,157,42],[153,44,157,44],[153,46,157,46],[153,48,157,48],[153,50,157,51],[165,50,169,51],[165,53,169,54],[165,48,169,48],[171,44,175,44],[171,46,175,46],[171,48,175,48],[171,50,175,51],[171,53,175,54],[147,46,151,46],[147,48,151,48],[159,8,163,13],[159,15,163,22],[159,24,163,26],[159,28,163,30],[159,32,163,32],[159,34,163,34],[159,36,163,36],[159,38,163,38],[159,40,163,40],[153,8,157,13],[153,15,157,22],[153,24,157,26],[153,28,157,30],[153,32,157,32],[153,34,157,34],[153,36,157,36],[153,38,157,38],[147,38,151,38],[135,40,139,40],[135,42,139,42],[135,44,139,44],[141,48,145,48],[141,50,145,51],[141,53,145,54],[147,8,151,13],[147,15,151,22],[147,24,151,26],[147,28,151,30],[147,32,151,32],[147,34,151,34],[147,36,151,36],[141,36,145,36],[141,38,145,38],[141,40,145,40],[141,42,145,42],[141,44,145,44],[141,46,145,46],[147,50,151,51],[147,53,151,54],[147,40,151,40],[147,42,151,42],[147,44,151,44],[141,8,145,13],[141,15,145,22],[141,24,145,26],[141,28,145,30],[141,32,145,32],[141,34,145,34],[135,34,139,34],[135,36,139,36],[135,38,139,38],[119,46,133,46],[119,48,133,48],[126,50,133,51],[126,53,133,54],[130,1,175,1],[130,3,133,6],[130,8,133,13],[130,15,133,22],[130,24,133,26],[130,28,133,30],[135,3,175,6],[135,8,139,13],[135,15,139,22],[135,24,139,26],[135,28,139,30],[135,32,139,32],[171,8,175,13],[171,15,175,22],[171,24,175,26],[171,28,175,30],[135,46,139,46],[135,48,139,48],[135,50,139,51],[135,53,139,54],[46,46,50,46],[46,48,50,48],[46,50,50,51],[46,53,50,54],[119,32,133,32],[119,34,133,34],[119,36,133,36],[119,38,133,38],[119,40,133,40],[119,42,133,42],[46,42,50,42],[46,44,50,44],[119,44,133,44],[95,42,99,42],[95,44,99,44],[95,46,99,46],[95,48,99,48],[95,50,99,51],[95,53,99,54],[89,53,93,54],[89,40,93,40],[89,42,93,42],[89,44,93,44],[89,46,93,46],[46,8,50,13],[46,15,50,22],[46,24,50,26],[46,28,50,30],[46,32,50,32],[46,34,50,34],[46,36,50,36],[46,38,50,38],[46,40,50,40],[89,48,93,48],[89,50,93,51],[83,50,87,51],[83,53,87,54],[89,8,93,13],[89,15,93,22],[89,24,93,26],[89,28,93,30],[89,32,93,32],[89,34,93,34],[89,36,93,36],[89,38,93,38],[83,38,87,38],[83,40,87,40],[83,42,87,42],[83,44,87,44],[83,46,87,46],[83,48,87,48],[77,48,81,48],[77,50,81,51],[77,53,81,54],[83,8,87,13],[83,15,87,22],[83,24,87,26],[83,28,87,30],[83,32,87,32],[83,34,87,34],[83,36,87,36],[77,36,81,36],[77,38,81,38],[77,40,81,40],[77,42,81,42],[77,44,81,44],[77,46,81,46],[77,8,81,13],[77,15,81,22],[77,24,81,26],[77,28,81,30],[77,32,81,32],[77,34,81,34],[71,46,75,46],[71,48,75,48],[71,50,75,51],[71,53,75,54],[65,53,69,54],[71,8,75,13],[71,15,75,22],[71,24,75,26],[71,28,75,30],[71,32,75,32],[71,34,75,34],[71,36,75,36],[71,38,75,38],[71,40,75,40],[65,40,69,40],[65,42,69,42],[65,44,69,44],[65,46,69,46],[65,48,69,48],[65,50,69,51],[71,42,75,42],[71,44,75,44],[52,46,56,46],[52,48,56,48],[59,50,63,51],[59,53,63,54],[65,8,69,13],[65,15,69,22],[65,24,69,26],[65,28,69,30],[65,32,69,32],[65,34,69,34],[65,36,69,36],[65,38,69,38],[59,38,63,38],[59,40,63,40],[59,42,63,42],[59,44,63,44],[59,46,63,46],[59,48,63,48],[52,40,56,40],[52,42,56,42],[52,44,56,44],[52,53,56,54],[59,3,99,6],[59,8,63,13],[59,15,63,22],[59,24,63,26],[59,28,63,30],[59,32,63,32],[59,34,63,34],[59,36,63,36],[52,38,56,38],[95,8,99,13],[95,15,99,22],[95,24,99,26],[95,28,99,30],[95,32,99,32],[95,34,99,34],[95,36,99,36],[95,38,99,38],[95,40,99,40],[40,48,44,48],[40,50,44,51],[40,53,44,54],[52,8,56,13],[52,15,56,22],[52,24,56,26],[52,28,56,30],[52,32,56,32],[52,34,56,34],[52,36,56,36],[40,36,44,36],[40,38,44,38],[40,40,44,40],[40,42,44,42],[40,44,44,44],[40,46,44,46],[40,8,44,13],[40,15,44,22],[40,24,44,26],[40,28,44,30],[40,32,44,32],[40,34,44,34],[52,50,56,51],[13,50,20,51],[13,53,20,54],[17,1,99,1],[17,3,20,6],[17,8,20,13],[17,15,20,22],[17,24,20,26],[22,44,26,44],[22,46,26,46],[22,48,26,48],[22,15,26,22],[22,24,26,26],[22,28,26,30],[22,32,26,32],[34,15,38,22],[34,24,38,26],[34,28,38,30],[34,32,38,32],[34,34,38,34],[34,36,38,36],[34,38,38,38],[34,40,38,40],[28,40,32,40],[28,42,32,42],[6,32,20,32],[6,34,20,34],[6,36,20,36],[6,38,20,38],[6,40,20,40],[6,42,20,42],[6,44,20,44],[6,46,20,46],[6,48,20,48],[22,36,26,36],[34,42,38,42],[34,44,38,44],[34,46,38,46],[34,48,38,48],[34,50,38,51],[34,53,38,54],[28,53,32,54],[34,8,38,13],[28,44,32,44],[28,46,32,46],[28,48,32,48],[28,50,32,51],[28,24,32,26],[28,28,32,30],[1,1,3,62],[22,56,26,57],[22,58,26,62],[28,56,32,57],[28,58,32,62],[34,56,38,57],[34,58,38,62],[40,56,44,57],[40,58,44,62],[17,28,20,30],[22,3,56,6],[22,8,26,13],[22,50,26,51],[22,53,26,54],[28,8,32,13],[28,15,32,22],[28,32,32,32],[28,34,32,34],[28,36,32,36],[28,38,32,38],[22,38,26,38],[22,40,26,40],[22,42,26,42],[22,34,26,34],[46,56,50,57],[46,58,50,62],[52,56,56,57],[52,58,56,62],[59,56,63,57],[59,58,63,62],[65,56,69,57],[65,58,69,62],[71,56,75,57],[71,58,75,62],[77,56,81,57],[77,58,81,62],[83,56,87,57],[83,58,87,62],[89,56,93,57],[89,58,93,62],[95,56,99,57],[95,58,99,62],[135,56,139,57],[135,58,139,62],[141,56,145,57],[141,58,145,62],[147,56,151,57],[147,58,151,62],[153,56,157,57],[153,58,157,62],[159,56,163,57],[159,58,163,62],[165,56,169,57],[165,58,169,62],[236,56,240,57],[236,58,240,62],[242,56,246,57],[242,58,246,62],[171,56,175,57],[171,58,175,62],[211,56,215,57],[211,58,215,62],[217,56,221,57],[217,58,221,62],[223,56,227,57],[223,58,227,62],[229,56,233,57],[229,58,233,62]]}
[]
[null,"Ресурсы по обмену данными и информацией"]
[]
[]
[]
[]
[null,null,null,null,null,null,null,null,null,null,null,null,null,null,null,null,null,null,null,null,null,null,null,null,null,null,null,null,null,null,null,null,"Доступность",null,"Язык",null,"Простота использования",null,"Гибкость",null,"Потребности в данных",null,"Анализ данных",null,"Приемлемость",null,"«Единое здоровье»",null,"Воздействие"]
[]
[]
[]
[]
[]
[]
[null,null,null,null,null,null,null,null,null,null,null,null,null,null,null,null,null,null,null,null,null,null,null,null,null,null,null,null,null,null,null,null,null,null,null,null,null,null,null,null,null,null,null,null,null,null,null,null,null,null,"ИСХОДНАЯ ОЦЕНКА",null,null,"СКОРРЕКТИРОВАННАЯ ОЦЕНКА \n(Исходя из предпочтений пользователей)"]
[]
[]
[]
[null,"РЕСУРСЫ УРОВНЯ 1",null,"КЛАССИФИКАЦИЯ",null,null,null,null,"НАЗВАНИЕ РЕСУРСА",null,null,null,null,null,null,"КРАТКОЕ ОПИСАНИЕ",null,null,null,null,null,null,null,null,"ВИД РЕСУРСА",null,null,null,"ОБЩАЯ НАПРАВЛЕННОСТЬ РЕСУРСА"]
[]
[]
[]
[null,null,null,null,null,null,null,null,null,null,null,null,null,null,null,null,null,null,null,null,null,null,null,null,null,null,null,null,null,null,null,null,{"$f":"'Attribute Survey'!S22","v":0},null,{"$f":"'Attribute Survey'!S26","v":0},null,{"$f":"'Attribute Survey'!S30","v":0},null,{"$f":"'Attribute Survey'!S34","v":0},null,{"$f":"'Attribute Survey'!S38","v":0},null,{"$f":"'Attribute Survey'!S42","v":0},null,{"$f":"'Attribute Survey'!S46","v":0},null,{"$f":"'Attribute Survey'!S50","v":0},null,{"$f":"'Attribute Survey'!S54","v":0}]
[null,null,null,"Наиболее подходящие ресурсы",null,null,null,null,{"$f":"Backbone!A21","v":"Инструмент AfyaData"},null,null,null,null,null,null,"Инструмент эпиднадзора, основанный на концепции «Единое здоровье» и разработанный для эпиднадзора в области здравоохранения человека, охраны здоровья животных и окружающей среды. Доступен в виде мобильного и веб-приложения.",null,null,null,null,null,null,null,null,{"$f":"INDEX(Backbone!$R$2:$R$893,MATCH(I23,Backbone!$A$2:$A$893,0))","v":"Оборудование или программное обеспечение"},null,null,null,{"$f":"INDEX(Backbone!$S$2:$S$893,MATCH(I23,Backbone!$A$2:$A$893,0))","v":"«Единое здоровье»; универсальный "},null,null,null,{"$f":"INDEX(Backbone!$H$2:$H$893,MATCH(I23,Backbone!$A$2:$A$893,0))","v":7.3},null,{"$f":"INDEX(Backbone!$I$2:$I$893,MATCH(I23,Backbone!$A$2:$A$893,0))","v":10},null,{"$f":"INDEX(Backbone!$J$2:$J$893,MATCH(I23,Backbone!$A$2:$A$893,0))","v":8.1999999999999993},null,{"$f":"INDEX(Backbone!$K$2:$K$893,MATCH(I23,Backbone!$A$2:$A$893,0))","v":7.3},null,{"$f":"INDEX(Backbone!$L$2:$L$893,MATCH(I23,Backbone!$A$2:$A$893,0))","v":7.6},null,{"$f":"INDEX(Backbone!$M$2:$M$893,MATCH(I23,Backbone!$A$2:$A$893,0))","v":8.8000000000000007},null,{"$f":"INDEX(Backbone!$N$2:$N$893,MATCH(I23,Backbone!$A$2:$A$893,0))","v":5.5},null,{"$f":"INDEX(Backbone!$O$2:$O$893,MATCH(I23,Backbone!$A$2:$A$893,0))","v":7.6},null,{"$f":"INDEX(Backbone!$P$2:$P$893,MATCH(I23,Backbone!$A$2:$A$893,0))","v":7},null,{"$f":"INDEX(Backbone!$Q$2:$Q$893,MATCH(I23,Backbone!$A$2:$A$893,0))","v":0.77000000000000013},null,null,{"$f":"(AG23*$AG$22+AI23*$AI$22+AK23*$AK$22+AM23*$AM$22+AO23*$AO$22+AQ23*$AQ$22+AS23*$AS$22+AU23*$AU$22+AW23*$AW$22)/(SUM($AG$22:$AW$22)*10)","v":{"$error":"#DIV/0!"}},null,null,"Перейти в Реестр ресурсов: ",null,{"$f":"HYPERLINK(\"#\"&ADDRESS(MATCH(I23,Toolbox!$C$1:$C$300),1,,,\"Toolbox\"),VLOOKUP(I23,Toolbox!$C$1:$C$300,1,FALSE))","v":"Инструмент AfyaData"}]
[]
[]
[]
[]
[]
[null,null,null,null,null,null,null,null,{"$f":"Backbone!A65","v":"Районная информационная система здравоохранения, версия 2 (DHIS2) "},null,null,null,null,null,null,"Онлайн-платформа информационной системы управления в системе здравоохранения с открытым исходным кодом.",null,null,null,null,null,null,null,null,{"$f":"INDEX(Backbone!$R$2:$R$893,MATCH(I29,Backbone!$A$2:$A$893,0))","v":"Оборудование или программное обеспечение"},null,null,null,{"$f":"INDEX(Backbone!$S$2:$S$893,MATCH(I29,Backbone!$A$2:$A$893,0))","v":"Ориентированный на конкретный сектор; универсальный"},null,null,null,{"$f":"INDEX(Backbone!$H$2:$H$893,MATCH(I29,Backbone!$A$2:$A$893,0))","v":8.8000000000000007},null,{"$f":"INDEX(Backbone!$I$2:$I$893,MATCH(I29,Backbone!$A$2:$A$893,0))","v":8.6999999999999993},null,{"$f":"INDEX(Backbone!$J$2:$J$893,MATCH(I29,Backbone!$A$2:$A$893,0))","v":8},null,{"$f":"INDEX(Backbone!$K$2:$K$893,MATCH(I29,Backbone!$A$2:$A$893,0))","v":8.6999999999999993},null,{"$f":"INDEX(Backbone!$L$2:$L$893,MATCH(I29,Backbone!$A$2:$A$893,0))","v":9.3000000000000007},null,{"$f":"INDEX(Backbone!$M$2:$M$893,MATCH(I29,Backbone!$A$2:$A$893,0))","v":9},null,{"$f":"INDEX(Backbone!$N$2:$N$893,MATCH(I29,Backbone!$A$2:$A$893,0))","v":10},null,{"$f":"INDEX(Backbone!$O$2:$O$893,MATCH(I29,Backbone!$A$2:$A$893,0))","v":7.8},null,{"$f":"INDEX(Backbone!$P$2:$P$893,MATCH(I29,Backbone!$A$2:$A$893,0))","v":7},null,{"$f":"INDEX(Backbone!$Q$2:$Q$893,MATCH(I29,Backbone!$A$2:$A$893,0))","v":0.85888888888888881},null,null,{"$f":"(AG29*$AG$22+AI29*$AI$22+AK29*$AK$22+AM29*$AM$22+AO29*$AO$22+AQ29*$AQ$22+AS29*$AS$22+AU29*$AU$22+AW29*$AW$22)/(SUM($AG$22:$AW$22)*10)","v":{"$error":"#DIV/0!"}},null,null,"Перейти в Реестр ресурсов: ",null,{"$f":"HYPERLINK(\"#\"&ADDRESS(MATCH(I29,Toolbox!$C$1:$C$300),1,,,\"Toolbox\"),VLOOKUP(I29,Toolbox!$C$1:$C$300,1,FALSE))","v":"Районная информационная система здравоохранения, версия 2 (DHIS2) "}]
[]
[]
[]
[]
[]
[null,null,null,null,null,null,null,null,{"$f":"Backbone!A138","v":"Электронная интегрированная система эпиднадзора за болезнями (EIDSS)"},null,null,null,null,null,null,"Электронная онлайн-система передачи эпидемиологической информации адаптируется под требования заказчика. Она создана для пассивного и активного эпиднадзора при содействии медицинских и ветеринарных учреждений, для лабораторной диагностики, надзора за переносчиками и управления вспышками заболеваний. ",null,null,null,null,null,null,null,null,{"$f":"INDEX(Backbone!$R$2:$R$893,MATCH(I35,Backbone!$A$2:$A$893,0))","v":"Оборудование или программное обеспечение"},null,null,null,{"$f":"INDEX(Backbone!$S$2:$S$893,MATCH(I35,Backbone!$A$2:$A$893,0))","v":"«Единое здоровье»; универсальный"},null,null,null,{"$f":"INDEX(Backbone!$H$2:$H$893,MATCH(I35,Backbone!$A$2:$A$893,0))","v":6.8},null,{"$f":"INDEX(Backbone!$I$2:$I$893,MATCH(I35,Backbone!$A$2:$A$893,0))","v":10},null,{"$f":"INDEX(Backbone!$J$2:$J$893,MATCH(I35,Backbone!$A$2:$A$893,0))","v":8.4},null,{"$f":"INDEX(Backbone!$K$1:$K$893,MATCH(I35,Backbone!$A$1:$A$893,0))","v":8.6999999999999993},null,{"$f":"INDEX(Backbone!$L$2:$L$893,MATCH(I35,Backbone!$A$2:$A$893,0))","v":9.1},null,{"$f":"INDEX(Backbone!$M$2:$M$893,MATCH(I35,Backbone!$A$2:$A$893,0))","v":8},null,{"$f":"INDEX(Backbone!$N$2:$N$893,MATCH(I35,Backbone!$A$2:$A$893,0))","v":7},null,{"$f":"INDEX(Backbone!$O$2:$O$893,MATCH(I35,Backbone!$A$2:$A$893,0))","v":7.2},null,{"$f":"INDEX(Backbone!$P$2:$P$893,MATCH(I35,Backbone!$A$2:$A$893,0))","v":10},null,{"$f":"INDEX(Backbone!$Q$2:$Q$893,MATCH(I35,Backbone!$A$2:$A$893,0))","v":0.83555555555555561},null,null,{"$f":"(AG35*$AG$22+AI35*$AI$22+AK35*$AK$22+AM35*$AM$22+AO35*$AO$22+AQ35*$AQ$22+AS35*$AS$22+AU35*$AU$22+AW35*$AW$22)/(SUM($AG$22:$AW$22)*10)","v":{"$error":"#DIV/0!"}},null,null,"Перейти в Реестр ресурсов: ",null,{"$f":"HYPERLINK(\"#\"&ADDRESS(MATCH(I35,Toolbox!$C$1:$C$300),1,,,\"Toolbox\"),VLOOKUP(I35,Toolbox!$C$1:$C$300,1,FALSE))","v":"Электронная интегрированная система эпиднадзора за болезнями (EIDSS)"}]
[]
[]
[]
[]
[]
[null,null,null,null,null,null,null,null,{"$f":"Backbone!A604","v":"Приложение для оценки воздействия бешенства и выявления контактных лиц (REACT)"},null,null,null,null,null,null,"Инструмент, помогающий реализации комплексных программ управления случаями укусов (IBCM).",null,null,null,null,null,null,null,null,{"$f":"INDEX(Backbone!$R$2:$R$893,MATCH(I41,Backbone!$A$2:$A$893,0))","v":"Оборудование или программное обеспечение"},null,null,null,{"$f":"INDEX(Backbone!$S$2:$S$893,MATCH(I41,Backbone!$A$2:$A$893,0))","v":"«Единое здоровье»; ориентированный на конкретную болезнь/угрозу "},null,null,null,{"$f":"INDEX(Backbone!$H$2:$H$893,MATCH(I41,Backbone!$A$2:$A$893,0))","v":8.6},null,{"$f":"INDEX(Backbone!$I$2:$I$893,MATCH(I41,Backbone!$A$2:$A$893,0))","v":8.6},null,{"$f":"INDEX(Backbone!$J$2:$J$893,MATCH(I41,Backbone!$A$2:$A$893,0))","v":8},null,{"$f":"INDEX(Backbone!$K$1:$K$893,MATCH(I41,Backbone!$A$1:$A$893,0))","v":8.6},null,{"$f":"INDEX(Backbone!$L$2:$L$893,MATCH(I41,Backbone!$A$2:$A$893,0))","v":9.4},null,{"$f":"INDEX(Backbone!$M$2:$M$893,MATCH(I41,Backbone!$A$2:$A$893,0))","v":9.5},null,{"$f":"INDEX(Backbone!$N$2:$N$893,MATCH(I41,Backbone!$A$2:$A$893,0))","v":9},null,{"$f":"INDEX(Backbone!$O$2:$O$893,MATCH(I41,Backbone!$A$2:$A$893,0))","v":9.1999999999999993},null,{"$f":"INDEX(Backbone!$P$2:$P$893,MATCH(I41,Backbone!$A$2:$A$893,0))","v":9},null,{"$f":"INDEX(Backbone!$Q$2:$Q$893,MATCH(I41,Backbone!$A$2:$A$893,0))","v":0.88777777777777767},null,null,{"$f":"(AG41*$AG$22+AI41*$AI$22+AK41*$AK$22+AM41*$AM$22+AO41*$AO$22+AQ41*$AQ$22+AS41*$AS$22+AU41*$AU$22+AW41*$AW$22)/(SUM($AG$22:$AW$22)*10)","v":{"$error":"#DIV/0!"}},null,null,"Перейти в Реестр ресурсов: ",null,{"$f":"HYPERLINK(\"#\"&ADDRESS(MATCH(I41,Toolbox!$C$1:$C$300),1,,,\"Toolbox\"),VLOOKUP(I41,Toolbox!$C$1:$C$300,1,FALSE))","v":"Приложение для оценки воздействия бешенства и выявления контактных лиц (REACT)"}]
[]
[]
[]
[]
[]
[null,null,null,null,null,null,null,null,{"$f":"Backbone!A489","v":"Пакет программного обеспечения для проведения автоматического глобального электронного биомониторинга (SAGES)"},null,null,null,null,null,null,"Пакет программного обеспечения с открытым исходным кодом для улучшения электронного эпиднадзора в условиях ограниченных ресурсов.",null,null,null,null,null,null,null,null,{"$f":"INDEX(Backbone!$R$2:$R$893,MATCH(I47,Backbone!$A$2:$A$893,0))","v":"Оборудование или программное обеспечение"},null,null,null,{"$f":"INDEX(Backbone!$S$2:$S$893,MATCH(I47,Backbone!$A$2:$A$893,0))","v":"«Единое здоровье»; универсальный"},null,null,null,{"$f":"INDEX(Backbone!$H$2:$H$893,MATCH(I47,Backbone!$A$2:$A$893,0))","v":9.8000000000000007},null,{"$f":"INDEX(Backbone!$I$2:$I$893,MATCH(I47,Backbone!$A$2:$A$893,0))","v":10},null,{"$f":"INDEX(Backbone!$J$2:$J$893,MATCH(I47,Backbone!$A$2:$A$893,0))","v":10},null,{"$f":"INDEX(Backbone!$K$1:$K$893,MATCH(I47,Backbone!$A$1:$A$893,0))","v":9.3000000000000007},null,{"$f":"INDEX(Backbone!$L$2:$L$893,MATCH(I47,Backbone!$A$2:$A$893,0))","v":8.5},null,{"$f":"INDEX(Backbone!$M$2:$M$893,MATCH(I47,Backbone!$A$2:$A$893,0))","v":9},null,{"$f":"INDEX(Backbone!$N$2:$N$893,MATCH(I47,Backbone!$A$2:$A$893,0))","v":5.5},null,{"$f":"INDEX(Backbone!$O$2:$O$893,MATCH(I47,Backbone!$A$2:$A$893,0))","v":9.5},null,{"$f":"INDEX(Backbone!$P$2:$P$893,MATCH(I47,Backbone!$A$2:$A$893,0))","v":7},null,{"$f":"INDEX(Backbone!$Q$2:$Q$893,MATCH(I47,Backbone!$A$2:$A$893,0))","v":0.87333333333333329},null,null,{"$f":"(AG47*$AG$22+AI47*$AI$22+AK47*$AK$22+AM47*$AM$22+AO47*$AO$22+AQ47*$AQ$22+AS47*$AS$22+AU47*$AU$22+AW47*$AW$22)/(SUM($AG$22:$AW$22)*10)","v":{"$error":"#DIV/0!"}},null,null,"Перейти в Реестр ресурсов: ",null,{"$f":"HYPERLINK(\"#\"&ADDRESS(MATCH(I47,Toolbox!$C$1:$C$300),1,,,\"Toolbox\"),VLOOKUP(I47,Toolbox!$C$1:$C$300,1,FALSE))","v":"Пакет программного обеспечения для проведения автоматического глобального электронного биомониторинга (SAGES)"}]
[]
[]
[]
[]
[]
[null,null,null,null,null,null,null,null,{"$f":"Backbone!A540","v":"Система анализа и управления мерами эпиднадзора и реагирования на вспышки (SORMAS)"},null,null,null,null,null,null,"Мобильная система eHealth с открытым исходным кодом, которая помимо эпиднадзора и раннего обнаружения вспышек обрабатывает процедуры борьбы с заболеваниями и управления вспышками при помощи цифрового эпиднадзора в реальном времени.",null,null,null,null,null,null,null,null,{"$f":"INDEX(Backbone!$R$2:$R$893,MATCH(I53,Backbone!$A$2:$A$893,0))","v":"Оборудование или программное обеспечение"},null,null,null,{"$f":"INDEX(Backbone!$S$2:$S$893,MATCH(I53,Backbone!$A$2:$A$893,0))","v":"Ориентированный на конкретный сектор; универсальный"},null,null,null,{"$f":"INDEX(Backbone!$H$2:$H$893,MATCH(I53,Backbone!$A$2:$A$893,0))","v":9.1999999999999993},null,{"$f":"INDEX(Backbone!$I$2:$I$893,MATCH(I53,Backbone!$A$2:$A$893,0))","v":8},null,{"$f":"INDEX(Backbone!$J$2:$J$893,MATCH(I53,Backbone!$A$2:$A$893,0))","v":9.3000000000000007},null,{"$f":"INDEX(Backbone!$K$1:$K$893,MATCH(I53,Backbone!$A$1:$A$893,0))","v":9.1},null,{"$f":"INDEX(Backbone!$L$2:$L$893,MATCH(I53,Backbone!$A$2:$A$893,0))","v":9.3000000000000007},null,{"$f":"INDEX(Backbone!$M$2:$M$893,MATCH(I53,Backbone!$A$2:$A$893,0))","v":9.3000000000000007},null,{"$f":"INDEX(Backbone!$N$2:$N$893,MATCH(I53,Backbone!$A$2:$A$893,0))","v":6.8},null,{"$f":"INDEX(Backbone!$O$2:$O$893,MATCH(I53,Backbone!$A$2:$A$893,0))","v":3.9},null,{"$f":"INDEX(Backbone!$P$2:$P$893,MATCH(I53,Backbone!$A$2:$A$893,0))","v":5.3},null,{"$f":"INDEX(Backbone!$Q$2:$Q$893,MATCH(I53,Backbone!$A$2:$A$893,0))","v":0.78},null,null,{"$f":"(AG53*$AG$22+AI53*$AI$22+AK53*$AK$22+AM53*$AM$22+AO53*$AO$22+AQ53*$AQ$22+AS53*$AS$22+AU53*$AU$22+AW53*$AW$22)/(SUM($AG$22:$AW$22)*10)","v":{"$error":"#DIV/0!"}},null,null,"Перейти в Реестр ресурсов: ",null,{"$f":"HYPERLINK(\"#\"&ADDRESS(MATCH(I53,Toolbox!$C$1:$C$300),1,,,\"Toolbox\"),VLOOKUP(I53,Toolbox!$C$1:$C$300,1,FALSE))","v":"Система анализа и управления мерами эпиднадзора и реагирования на вспышки (SORMAS)"}]
[]
[]
[]
[]
[]
[]
[null,null,null,"Другие полезные ресурсы",null,null,null,null,{"$f":"Backbone!A166","v":"Глобальная информационная система болезней животных (EMPRES-i)"},null,null,null,null,null,null,"Защищенная информационная онлайн-система, созданная в помощь национальным ветеринарным службам. Она обеспечивает сбор глобальных и региональных данных о заболеваниях и является глобальной справочной базой данных о болезнях животных, включая зоонозы.",null,null,null,null,null,null,null,null,{"$f":"INDEX(Backbone!$R$2:$R$893,MATCH(I60,Backbone!$A$2:$A$893,0))","v":"Оборудование или программное обеспечение"},null,null,null,{"$f":"INDEX(Backbone!$S$2:$S$893,MATCH(I60,Backbone!$A$2:$A$893,0))","v":"Ориентированный на конкретный сектор; универсальный"},null,null,null,{"$f":"INDEX(Backbone!$H$2:$H$893,MATCH(I60,Backbone!$A$2:$A$893,0))","v":9},null,{"$f":"INDEX(Backbone!$I$2:$I$893,MATCH(I60,Backbone!$A$2:$A$893,0))","v":8.3000000000000007},null,{"$f":"INDEX(Backbone!$J$2:$J$893,MATCH(I60,Backbone!$A$2:$A$893,0))","v":8.9},null,{"$f":"INDEX(Backbone!$K$1:$K$893,MATCH(I60,Backbone!$A$1:$A$893,0))","v":8.6999999999999993},null,{"$f":"INDEX(Backbone!$L$2:$L$893,MATCH(I60,Backbone!$A$2:$A$893,0))","v":8},null,{"$f":"INDEX(Backbone!$M$2:$M$893,MATCH(I60,Backbone!$A$2:$A$893,0))","v":7.8},null,{"$f":"INDEX(Backbone!$N$2:$N$893,MATCH(I60,Backbone!$A$2:$A$893,0))","v":7.4},null,{"$f":"INDEX(Backbone!$O$2:$O$893,MATCH(I60,Backbone!$A$2:$A$893,0))","v":4.8},null,{"$f":"INDEX(Backbone!$P$2:$P$893,MATCH(I60,Backbone!$A$2:$A$893,0))","v":4.7},null,{"$f":"INDEX(Backbone!$Q$2:$Q$893,MATCH(I60,Backbone!$A$2:$A$893,0))","v":0.75111111111111106},null,null,{"$f":"(AG60*$AG$22+AI60*$AI$22+AK60*$AK$22+AM60*$AM$22+AO60*$AO$22+AQ60*$AQ$22+AS60*$AS$22+AU60*$AU$22+AW60*$AW$22)/(SUM($AG$22:$AW$22)*10)","v":{"$error":"#DIV/0!"}},null,null,"Перейти в Реестр ресурсов: ",null,{"$f":"HYPERLINK(\"#\"&ADDRESS(MATCH(I60,Toolbox!$C$1:$C$300),1,,,\"Toolbox\"),VLOOKUP(I60,Toolbox!$C$1:$C$300,1,FALSE))","v":"Глобальная информационная система болезней животных (EMPRES-i)"}]
[]
[]
[]
[]
[]
[null,null,null,null,null,null,null,null,{"$f":"Backbone!A155","v":"Инициатива по выявлению эпидемиологических угроз с использованием открытых источников (EIOS)"},null,null,null,null,null,null,"Инициатива EIOS — это уникальное сотрудничество между ВОЗ и различными заинтересованными сторонами, объединяющее новые и существующие инициативы, сети и системы для создания унифицированного подхода «Единое здоровье», учитывающего все угрозы, к раннему обнаружению, проверке и оценке рисков и угроз для здоровья людей с использованием открытых источников.",null,null,null,null,null,null,null,null,{"$f":"INDEX(Backbone!$R$2:$R$893,MATCH(I66,Backbone!$A$2:$A$893,0))","v":"Оборудование или программное обеспечение"},null,null,null,{"$f":"INDEX(Backbone!$S$2:$S$893,MATCH(I66,Backbone!$A$2:$A$893,0))","v":"«Единое здоровье»; универсальный"},null,null,null,{"$f":"INDEX(Backbone!$H$2:$H$893,MATCH(I66,Backbone!$A$2:$A$893,0))","v":8.4},null,{"$f":"INDEX(Backbone!$I$2:$I$893,MATCH(I66,Backbone!$A$2:$A$893,0))","v":9},null,{"$f":"INDEX(Backbone!$J$2:$J$893,MATCH(I66,Backbone!$A$2:$A$893,0))","v":7.4},null,{"$f":"INDEX(Backbone!$K$1:$K$893,MATCH(I66,Backbone!$A$1:$A$893,0))","v":9},null,{"$f":"INDEX(Backbone!$L$2:$L$893,MATCH(I66,Backbone!$A$2:$A$893,0))","v":8.8000000000000007},null,{"$f":"INDEX(Backbone!$M$2:$M$893,MATCH(I66,Backbone!$A$2:$A$893,0))","v":8},null,{"$f":"INDEX(Backbone!$N$2:$N$893,MATCH(I66,Backbone!$A$2:$A$893,0))","v":5.5},null,{"$f":"INDEX(Backbone!$O$2:$O$893,MATCH(I66,Backbone!$A$2:$A$893,0))","v":9.1999999999999993},null,{"$f":"INDEX(Backbone!$P$2:$P$893,MATCH(I66,Backbone!$A$2:$A$893,0))","v":6},null,{"$f":"INDEX(Backbone!$Q$2:$Q$893,MATCH(I66,Backbone!$A$2:$A$893,0))","v":0.79222222222222216},null,null,{"$f":"(AG66*$AG$22+AI66*$AI$22+AK66*$AK$22+AM66*$AM$22+AO66*$AO$22+AQ66*$AQ$22+AS66*$AS$22+AU66*$AU$22+AW66*$AW$22)/(SUM($AG$22:$AW$22)*10)","v":{"$error":"#DIV/0!"}},null,null,"Перейти в Реестр ресурсов: ",null,{"$f":"HYPERLINK(\"#\"&ADDRESS(MATCH(I66,Toolbox!$C$1:$C$300),1,,,\"Toolbox\"),VLOOKUP(I66,Toolbox!$C$1:$C$300,1,FALSE))","v":"Инициатива по выявлению эпидемиологических угроз с использованием открытых источников (EIOS)"}]
[]
[]
[]
[]
[]
[null,null,null,null,null,null,null,null,{"$f":"Backbone!A163","v":"Мобильное приложение EMA-i для обмена данными о болезнях животных"},null,null,null,null,null,null,"Приложение отчетности в реальном времени, используемое для сбора информации о болезнях животных на местах и генерирования отчетов с географической привязкой, которые передаются на пользовательский интерфейс страны в Глобальной информационной системе болезней животных ФАО (EMPRES-i).\n\n",null,null,null,null,null,null,null,null,{"$f":"INDEX(Backbone!$R$2:$R$893,MATCH(I72,Backbone!$A$2:$A$893,0))","v":"Оборудование или программное обеспечение"},null,null,null,{"$f":"INDEX(Backbone!$S$2:$S$893,MATCH(I72,Backbone!$A$2:$A$893,0))","v":"Ориентированный на конкретный сектор; универсальный"},null,null,null,{"$f":"INDEX(Backbone!$H$2:$H$893,MATCH(I72,Backbone!$A$2:$A$893,0))","v":8.9},null,{"$f":"INDEX(Backbone!$I$2:$I$893,MATCH(I72,Backbone!$A$2:$A$893,0))","v":7.7},null,{"$f":"INDEX(Backbone!$J$2:$J$893,MATCH(I72,Backbone!$A$2:$A$893,0))","v":9.1},null,{"$f":"INDEX(Backbone!$K$1:$K$893,MATCH(I72,Backbone!$A$1:$A$893,0))","v":6},null,{"$f":"INDEX(Backbone!$L$2:$L$893,MATCH(I72,Backbone!$A$2:$A$893,0))","v":8.3000000000000007},null,{"$f":"INDEX(Backbone!$M$2:$M$893,MATCH(I72,Backbone!$A$2:$A$893,0))","v":9.3000000000000007},null,{"$f":"INDEX(Backbone!$N$2:$N$893,MATCH(I72,Backbone!$A$2:$A$893,0))","v":6.7},null,{"$f":"INDEX(Backbone!$O$2:$O$893,MATCH(I72,Backbone!$A$2:$A$893,0))","v":4.5},null,{"$f":"INDEX(Backbone!$P$2:$P$893,MATCH(I72,Backbone!$A$2:$A$893,0))","v":5.7},null,{"$f":"INDEX(Backbone!$Q$2:$Q$893,MATCH(I72,Backbone!$A$2:$A$893,0))","v":0.73555555555555563},null,null,{"$f":"(AG72*$AG$22+AI72*$AI$22+AK72*$AK$22+AM72*$AM$22+AO72*$AO$22+AQ72*$AQ$22+AS72*$AS$22+AU72*$AU$22+AW72*$AW$22)/(SUM($AG$22:$AW$22)*10)","v":{"$error":"#DIV/0!"}},null,null,"Перейти в Реестр ресурсов: ",null,{"$f":"HYPERLINK(\"#\"&ADDRESS(MATCH(I72,Toolbox!$C$1:$C$300),1,,,\"Toolbox\"),VLOOKUP(I72,Toolbox!$C$1:$C$300,1,FALSE))","v":"Мобильное приложение EMA-i для обмена данными о болезнях животных"}]
[]
[]
[]
[]
[]
[null,null,null,null,null,null,null,null,{"$f":"Backbone!A179","v":"Приложение FoodChain-Lab (FCL) "},null,null,null,null,null,null,"Бесплатное программное обеспечение для отслеживания с открытым исходным кодом, позволяющее отслеживать продукты питания по всей цепочки поставки как вперед, так и назад с целью определения источника заражения, вызвавшего вспышку заболевания пищевого происхождения или иной инцидент, связанный с пищевыми продуктами.",null,null,null,null,null,null,null,null,{"$f":"INDEX(Backbone!$R$2:$R$893,MATCH(I78,Backbone!$A$2:$A$893,0))","v":"Оборудование или программное обеспечение"},null,null,null,{"$f":"INDEX(Backbone!$S$2:$S$893,MATCH(I78,Backbone!$A$2:$A$893,0))","v":"«Единое здоровье»; ориентированный на конкретную болезнь/угрозу "},null,null,null,{"$f":"INDEX(Backbone!$H$2:$H$893,MATCH(I78,Backbone!$A$2:$A$893,0))","v":9.6999999999999993},null,{"$f":"INDEX(Backbone!$I$2:$I$893,MATCH(I78,Backbone!$A$2:$A$893,0))","v":6},null,{"$f":"INDEX(Backbone!$J$2:$J$893,MATCH(I78,Backbone!$A$2:$A$893,0))","v":7.9},null,{"$f":"INDEX(Backbone!$K$1:$K$893,MATCH(I78,Backbone!$A$1:$A$893,0))","v":7.8},null,{"$f":"INDEX(Backbone!$L$2:$L$893,MATCH(I78,Backbone!$A$2:$A$893,0))","v":8.1},null,{"$f":"INDEX(Backbone!$M$2:$M$893,MATCH(I78,Backbone!$A$2:$A$893,0))","v":8},null,{"$f":"INDEX(Backbone!$N$2:$N$893,MATCH(I78,Backbone!$A$2:$A$893,0))","v":7.9},null,{"$f":"INDEX(Backbone!$O$2:$O$893,MATCH(I78,Backbone!$A$2:$A$893,0))","v":8.4},null,{"$f":"INDEX(Backbone!$P$2:$P$893,MATCH(I78,Backbone!$A$2:$A$893,0))","v":9.6999999999999993},null,{"$f":"INDEX(Backbone!$Q$2:$Q$893,MATCH(I78,Backbone!$A$2:$A$893,0))","v":0.81666666666666665},null,null,{"$f":"(AG78*$AG$22+AI78*$AI$22+AK78*$AK$22+AM78*$AM$22+AO78*$AO$22+AQ78*$AQ$22+AS78*$AS$22+AU78*$AU$22+AW78*$AW$22)/(SUM($AG$22:$AW$22)*10)","v":{"$error":"#DIV/0!"}},null,null,"Перейти в Реестр ресурсов: ",null,{"$f":"HYPERLINK(\"#\"&ADDRESS(MATCH(I78,Toolbox!$C$1:$C$300),1,,,\"Toolbox\"),VLOOKUP(I78,Toolbox!$C$1:$C$300,1,FALSE))","v":"Приложение FoodChain-Lab (FCL) "}]
[]
[]
[]
[]
[]
[null,null,null,null,null,null,null,null,{"$f":"Backbone!A531","v":"Лабораторная информационная менеджмент-система, облегченная версия (МиниЛИМС)"},null,null,null,null,null,null,"Информационная система для управления лабораторией анализов с простой организационной структурой.",null,null,null,null,null,null,null,null,{"$f":"INDEX(Backbone!$R$2:$R$893,MATCH(I84,Backbone!$A$2:$A$893,0))","v":"Оборудование или программное обеспечение"},null,null,null,{"$f":"INDEX(Backbone!$S$2:$S$893,MATCH(I84,Backbone!$A$2:$A$893,0))","v":"Ориентированный на конкретный сектор; универсальный"},null,null,null,{"$f":"INDEX(Backbone!$H$2:$H$893,MATCH(I84,Backbone!$A$2:$A$893,0))","v":9},null,{"$f":"INDEX(Backbone!$I$2:$I$893,MATCH(I84,Backbone!$A$2:$A$893,0))","v":7.3},null,{"$f":"INDEX(Backbone!$J$2:$J$893,MATCH(I84,Backbone!$A$2:$A$893,0))","v":8.4},null,{"$f":"INDEX(Backbone!$K$1:$K$893,MATCH(I84,Backbone!$A$1:$A$893,0))","v":9.3000000000000007},null,{"$f":"INDEX(Backbone!$L$2:$L$893,MATCH(I84,Backbone!$A$2:$A$893,0))","v":7.2},null,{"$f":"INDEX(Backbone!$M$2:$M$893,MATCH(I84,Backbone!$A$2:$A$893,0))","v":6.5},null,{"$f":"INDEX(Backbone!$N$2:$N$893,MATCH(I84,Backbone!$A$2:$A$893,0))","v":2},null,{"$f":"INDEX(Backbone!$O$2:$O$893,MATCH(I84,Backbone!$A$2:$A$893,0))","v":4.4000000000000004},null,{"$f":"INDEX(Backbone!$P$2:$P$893,MATCH(I84,Backbone!$A$2:$A$893,0))","v":4},null,{"$f":"INDEX(Backbone!$Q$2:$Q$893,MATCH(I84,Backbone!$A$2:$A$893,0))","v":0.64555555555555555},null,null,{"$f":"(AG84*$AG$22+AI84*$AI$22+AK84*$AK$22+AM84*$AM$22+AO84*$AO$22+AQ84*$AQ$22+AS84*$AS$22+AU84*$AU$22+AW84*$AW$22)/(SUM($AG$22:$AW$22)*10)","v":{"$error":"#DIV/0!"}},null,null,"Перейти в Реестр ресурсов: ",null,{"$f":"HYPERLINK(\"#\"&ADDRESS(MATCH(I84,Toolbox!$C$1:$C$300),1,,,\"Toolbox\"),VLOOKUP(I84,Toolbox!$C$1:$C$300,1,FALSE))","v":"Лабораторная информационная менеджмент-система, облегченная версия (МиниЛИМС)"}]
[]
[]
[]
[]
[]
[null,null,null,null,null,null,null,null,{"$f":"Backbone!A522","v":"Лабораторная информационная менеджмент-система для африканских ветеринарных служб (SILABFA)"},null,null,null,null,null,null,"Лабораторная информационная менеджмент-система (ЛИМС) позволяет отследить все этапы диагностирования от получения образцов до лабораторных заключений.",null,null,null,null,null,null,null,null,{"$f":"INDEX(Backbone!$R$2:$R$893,MATCH(I90,Backbone!$A$2:$A$893,0))","v":"Оборудование или программное обеспечение"},null,null,null,{"$f":"INDEX(Backbone!$S$2:$S$893,MATCH(I90,Backbone!$A$2:$A$893,0))","v":"Ориентированный на конкретный сектор; универсальный"},null,null,null,{"$f":"INDEX(Backbone!$H$2:$H$893,MATCH(I90,Backbone!$A$2:$A$893,0))","v":9.3000000000000007},null,{"$f":"INDEX(Backbone!$I$2:$I$893,MATCH(I90,Backbone!$A$2:$A$893,0))","v":10},null,{"$f":"INDEX(Backbone!$J$2:$J$893,MATCH(I90,Backbone!$A$2:$A$893,0))","v":6.8},null,{"$f":"INDEX(Backbone!$K$1:$K$893,MATCH(I90,Backbone!$A$1:$A$893,0))","v":9.3000000000000007},null,{"$f":"INDEX(Backbone!$L$2:$L$893,MATCH(I90,Backbone!$A$2:$A$893,0))","v":8},null,{"$f":"INDEX(Backbone!$M$2:$M$893,MATCH(I90,Backbone!$A$2:$A$893,0))","v":6.5},null,{"$f":"INDEX(Backbone!$N$2:$N$893,MATCH(I90,Backbone!$A$2:$A$893,0))","v":8},null,{"$f":"INDEX(Backbone!$O$2:$O$893,MATCH(I90,Backbone!$A$2:$A$893,0))","v":7.2},null,{"$f":"INDEX(Backbone!$P$2:$P$893,MATCH(I90,Backbone!$A$2:$A$893,0))","v":8},null,{"$f":"INDEX(Backbone!$Q$2:$Q$893,MATCH(I90,Backbone!$A$2:$A$893,0))","v":0.81222222222222229},null,null,{"$f":"(AG90*$AG$22+AI90*$AI$22+AK90*$AK$22+AM90*$AM$22+AO90*$AO$22+AQ90*$AQ$22+AS90*$AS$22+AU90*$AU$22+AW90*$AW$22)/(SUM($AG$22:$AW$22)*10)","v":{"$error":"#DIV/0!"}},null,null,"Перейти в Реестр ресурсов: ",null,{"$f":"HYPERLINK(\"#\"&ADDRESS(MATCH(I90,Toolbox!$C$1:$C$300),1,,,\"Toolbox\"),VLOOKUP(I90,Toolbox!$C$1:$C$300,1,FALSE))","v":"Лабораторная информационная менеджмент-система для африканских ветеринарных служб (SILABFA)"}]
[]
[]
[]
[]
[]
[null,null,null,null,null,null,null,null,{"$f":"Backbone!A648","v":"Инструментарий для обеспечения готовности и планирования ответных действий"},null,null,null,null,null,null,"Настоящий инструментарий предназначен для разработки странами их межотраслевых планов по обеспечению готовности и планированию ответных действий в отношении событий общественного здравоохранения. ",null,null,null,null,null,null,null,null,{"$f":"INDEX(Backbone!$R$2:$R$893,MATCH(I96,Backbone!$A$2:$A$893,0))","v":"Руководящий документ"},null,null,null,{"$f":"INDEX(Backbone!$S$2:$S$893,MATCH(I96,Backbone!$A$2:$A$893,0))","v":"«Единое здоровье»; универсальный"},null,null,null,{"$f":"INDEX(Backbone!$H$2:$H$893,MATCH(I96,Backbone!$A$2:$A$893,0))","v":8.4},null,{"$f":"INDEX(Backbone!$I$2:$I$893,MATCH(I96,Backbone!$A$2:$A$893,0))","v":8},null,{"$f":"INDEX(Backbone!$J$2:$J$893,MATCH(I96,Backbone!$A$2:$A$893,0))","v":8.4},null,{"$f":"INDEX(Backbone!$K$1:$K$893,MATCH(I96,Backbone!$A$1:$A$893,0))","v":6.7},null,{"$f":"INDEX(Backbone!$L$2:$L$893,MATCH(I96,Backbone!$A$2:$A$893,0))","v":2},null,{"$f":"INDEX(Backbone!$M$2:$M$893,MATCH(I96,Backbone!$A$2:$A$893,0))","v":3.5},null,{"$f":"INDEX(Backbone!$N$2:$N$893,MATCH(I96,Backbone!$A$2:$A$893,0))","v":4},null,{"$f":"INDEX(Backbone!$O$2:$O$893,MATCH(I96,Backbone!$A$2:$A$893,0))","v":6.4},null,{"$f":"INDEX(Backbone!$P$2:$P$893,MATCH(I96,Backbone!$A$2:$A$893,0))","v":8},null,{"$f":"INDEX(Backbone!$Q$2:$Q$893,MATCH(I96,Backbone!$A$2:$A$893,0))","v":0.61555555555555552},null,null,{"$f":"(AG96*$AG$22+AI96*$AI$22+AK96*$AK$22+AM96*$AM$22+AO96*$AO$22+AQ96*$AQ$22+AS96*$AS$22+AU96*$AU$22+AW96*$AW$22)/(SUM($AG$22:$AW$22)*10)","v":{"$error":"#DIV/0!"}},null,null,"Перейти в Реестр ресурсов: ",null,{"$f":"HYPERLINK(\"#\"&ADDRESS(MATCH(I96,Toolbox!$C$1:$C$300),1,,,\"Toolbox\"),VLOOKUP(I96,Toolbox!$C$1:$C$300,1,FALSE))","v":"Инструментарий для обеспечения готовности и планирования ответных действий"}]
[]
[]
[]
[]
[]
[]
[]
[]
[]
[]
[]
[]
[]
[]
[]
[]
[]
[]
[]
[]
[]
[]
[]
[null,null,null,null,null,null,null,null,null,null,null,null,null,null,null,null,null,null,null,null,null,null,null,null,null,null,null,null,null,null,null,null,"Доступность",null,"Язык",null,"Простота использования",null,"Гибкость",null,"Потребности в данных",null,"Анализ данных",null,"Приемлемость",null,"«Единое здоровье»",null,"Воздействие"]
[]
[]
[]
[]
[]
[]
[null,null,null,null,null,null,null,null,null,null,null,null,null,null,null,null,null,null,null,null,null,null,null,null,null,null,null,null,null,null,null,null,null,null,null,null,null,null,null,null,null,null,null,null,null,null,null,null,null,null,"ИСХОДНАЯ ОЦЕНКА",null,null,"СКОРРЕКТИРОВАННАЯ ОЦЕНКА \n(Исходя из предпочтений пользователей)"]
[]
[]
[]
[null,"РЕСУРСЫ УРОВНЯ 2",null,"КЛАССИФИКАЦИЯ",null,null,null,null,"НАЗВАНИЕ РЕСУРСА",null,null,null,null,null,null,"КРАТКОЕ ОПИСАНИЕ",null,null,null,null,null,null,null,null,"ВИД РЕСУРСА",null,null,null,"ОБЩАЯ НАПРАВЛЕННОСТЬ РЕСУРСА"]
[]
[]
[]
[null,null,null,null,null,null,null,null,null,null,null,null,null,null,null,null,null,null,null,null,null,null,null,null,null,null,null,null,null,null,null,null,{"$f":"'Attribute Survey'!S135","v":0},null,{"$f":"'Attribute Survey'!S139","v":0},null,{"$f":"'Attribute Survey'!S143","v":0},null,{"$f":"'Attribute Survey'!S147","v":0},null,{"$f":"'Attribute Survey'!S151","v":0},null,{"$f":"'Attribute Survey'!S155","v":0},null,{"$f":"'Attribute Survey'!S159","v":0},null,{"$f":"'Attribute Survey'!S163","v":0},null,{"$f":"'Attribute Survey'!S167","v":0}]
[null,null,null,"Наиболее подходящие ресурсы",null,null,null,null,{"$f":"Backbone!A21","v":"Инструмент AfyaData"},null,null,null,null,null,null,"Инструмент эпиднадзора, основанный на концепции «Единое здоровье» и разработанный для эпиднадзора в области здравоохранения человека, охраны здоровья животных и окружающей среды. Доступен в виде мобильного и веб-приложения.",null,null,null,null,null,null,null,null,{"$f":"INDEX(Backbone!$R$2:$R$893,MATCH(I136,Backbone!$A$2:$A$893,0))","v":"Оборудование или программное обеспечение"},null,null,null,{"$f":"INDEX(Backbone!$S$2:$S$893,MATCH(I136,Backbone!$A$2:$A$893,0))","v":"«Единое здоровье»; универсальный "},null,null,null,{"$f":"INDEX(Backbone!$H$2:$H$893,MATCH(I136,Backbone!$A$2:$A$893,0))","v":7.3},null,{"$f":"INDEX(Backbone!$I$2:$I$893,MATCH(I136,Backbone!$A$2:$A$893,0))","v":10},null,{"$f":"INDEX(Backbone!$J$2:$J$893,MATCH(I136,Backbone!$A$2:$A$893,0))","v":8.1999999999999993},null,{"$f":"INDEX(Backbone!$K$2:$K$893,MATCH(I136,Backbone!$A$2:$A$893,0))","v":7.3},null,{"$f":"INDEX(Backbone!$L$2:$L$893,MATCH(I136,Backbone!$A$2:$A$893,0))","v":7.6},null,{"$f":"INDEX(Backbone!$M$2:$M$893,MATCH(I136,Backbone!$A$2:$A$893,0))","v":8.8000000000000007},null,{"$f":"INDEX(Backbone!$N$2:$N$893,MATCH(I136,Backbone!$A$2:$A$893,0))","v":5.5},null,{"$f":"INDEX(Backbone!$O$2:$O$893,MATCH(I136,Backbone!$A$2:$A$893,0))","v":7.6},null,{"$f":"INDEX(Backbone!$P$2:$P$893,MATCH(I136,Backbone!$A$2:$A$893,0))","v":7},null,{"$f":"INDEX(Backbone!$Q$2:$Q$893,MATCH(I136,Backbone!$A$2:$A$893,0))","v":0.77000000000000013},null,null,{"$f":"(AG136*$AG$22+AI136*$AI$22+AK136*$AK$22+AM136*$AM$22+AO136*$AO$22+AQ136*$AQ$22+AS136*$AS$22+AU136*$AU$22+AW136*$AW$22)/(SUM($AG$22:$AW$22)*10)","v":{"$error":"#DIV/0!"}},null,null,"Перейти в Реестр ресурсов: ",null,{"$f":"HYPERLINK(\"#\"&ADDRESS(MATCH(I136,Toolbox!$C$1:$C$300),1,,,\"Toolbox\"),VLOOKUP(I136,Toolbox!$C$1:$C$300,1,FALSE))","v":"Инструмент AfyaData"}]
[]
[]
[]
[]
[]
[null,null,null,null,null,null,null,null,{"$f":"Backbone!A65","v":"Районная информационная система здравоохранения, версия 2 (DHIS2) "},null,null,null,null,null,null,"Онлайн-платформа информационной системы управления в системе здравоохранения с открытым исходным кодом.",null,null,null,null,null,null,null,null,{"$f":"INDEX(Backbone!$R$2:$R$893,MATCH(I142,Backbone!$A$2:$A$893,0))","v":"Оборудование или программное обеспечение"},null,null,null,{"$f":"INDEX(Backbone!$S$2:$S$893,MATCH(I142,Backbone!$A$2:$A$893,0))","v":"Ориентированный на конкретный сектор; универсальный"},null,null,null,{"$f":"INDEX(Backbone!$H$2:$H$893,MATCH(I142,Backbone!$A$2:$A$893,0))","v":8.8000000000000007},null,{"$f":"INDEX(Backbone!$I$2:$I$893,MATCH(I142,Backbone!$A$2:$A$893,0))","v":8.6999999999999993},null,{"$f":"INDEX(Backbone!$J$2:$J$893,MATCH(I142,Backbone!$A$2:$A$893,0))","v":8},null,{"$f":"INDEX(Backbone!$K$2:$K$893,MATCH(I142,Backbone!$A$2:$A$893,0))","v":8.6999999999999993},null,{"$f":"INDEX(Backbone!$L$2:$L$893,MATCH(I142,Backbone!$A$2:$A$893,0))","v":9.3000000000000007},null,{"$f":"INDEX(Backbone!$M$2:$M$893,MATCH(I142,Backbone!$A$2:$A$893,0))","v":9},null,{"$f":"INDEX(Backbone!$N$2:$N$893,MATCH(I142,Backbone!$A$2:$A$893,0))","v":10},null,{"$f":"INDEX(Backbone!$O$2:$O$893,MATCH(I142,Backbone!$A$2:$A$893,0))","v":7.8},null,{"$f":"INDEX(Backbone!$P$2:$P$893,MATCH(I142,Backbone!$A$2:$A$893,0))","v":7},null,{"$f":"INDEX(Backbone!$Q$2:$Q$893,MATCH(I142,Backbone!$A$2:$A$893,0))","v":0.85888888888888881},null,null,{"$f":"(AG142*$AG$22+AI142*$AI$22+AK142*$AK$22+AM142*$AM$22+AO142*$AO$22+AQ142*$AQ$22+AS142*$AS$22+AU142*$AU$22+AW142*$AW$22)/(SUM($AG$22:$AW$22)*10)","v":{"$error":"#DIV/0!"}},null,null,"Перейти в Реестр ресурсов: ",null,{"$f":"HYPERLINK(\"#\"&ADDRESS(MATCH(I142,Toolbox!$C$1:$C$300),1,,,\"Toolbox\"),VLOOKUP(I142,Toolbox!$C$1:$C$300,1,FALSE))","v":"Районная информационная система здравоохранения, версия 2 (DHIS2) "}]
[]
[]
[]
[]
[]
[null,null,null,null,null,null,null,null,{"$f":"Backbone!A138","v":"Электронная интегрированная система эпиднадзора за болезнями (EIDSS)"},null,null,null,null,null,null,"Электронная онлайн-система передачи эпидемиологической информации адаптируется под требования заказчика. Она создана для пассивного и активного эпиднадзора при содействии медицинских и ветеринарных учреждений, для лабораторной диагностики, надзора за переносчиками и управления вспышками заболеваний.",null,null,null,null,null,null,null,null,{"$f":"INDEX(Backbone!$R$2:$R$893,MATCH(I148,Backbone!$A$2:$A$893,0))","v":"Оборудование или программное обеспечение"},null,null,null,{"$f":"INDEX(Backbone!$S$2:$S$893,MATCH(I148,Backbone!$A$2:$A$893,0))","v":"«Единое здоровье»; универсальный"},null,null,null,{"$f":"INDEX(Backbone!$H$2:$H$893,MATCH(I148,Backbone!$A$2:$A$893,0))","v":6.8},null,{"$f":"INDEX(Backbone!$I$2:$I$893,MATCH(I148,Backbone!$A$2:$A$893,0))","v":10},null,{"$f":"INDEX(Backbone!$J$2:$J$893,MATCH(I148,Backbone!$A$2:$A$893,0))","v":8.4},null,{"$f":"INDEX(Backbone!$K$1:$K$893,MATCH(I148,Backbone!$A$1:$A$893,0))","v":8.6999999999999993},null,{"$f":"INDEX(Backbone!$L$2:$L$893,MATCH(I148,Backbone!$A$2:$A$893,0))","v":9.1},null,{"$f":"INDEX(Backbone!$M$2:$M$893,MATCH(I148,Backbone!$A$2:$A$893,0))","v":8},null,{"$f":"INDEX(Backbone!$N$2:$N$893,MATCH(I148,Backbone!$A$2:$A$893,0))","v":7},null,{"$f":"INDEX(Backbone!$O$2:$O$893,MATCH(I148,Backbone!$A$2:$A$893,0))","v":7.2},null,{"$f":"INDEX(Backbone!$P$2:$P$893,MATCH(I148,Backbone!$A$2:$A$893,0))","v":10},null,{"$f":"INDEX(Backbone!$Q$2:$Q$893,MATCH(I148,Backbone!$A$2:$A$893,0))","v":0.83555555555555561},null,null,{"$f":"(AG148*$AG$22+AI148*$AI$22+AK148*$AK$22+AM148*$AM$22+AO148*$AO$22+AQ148*$AQ$22+AS148*$AS$22+AU148*$AU$22+AW148*$AW$22)/(SUM($AG$22:$AW$22)*10)","v":{"$error":"#DIV/0!"}},null,null,"Перейти в Реестр ресурсов: ",null,{"$f":"HYPERLINK(\"#\"&ADDRESS(MATCH(I148,Toolbox!$C$1:$C$300),1,,,\"Toolbox\"),VLOOKUP(I148,Toolbox!$C$1:$C$300,1,FALSE))","v":"Электронная интегрированная система эпиднадзора за болезнями (EIDSS)"}]
[]
[]
[]
[]
[]
[null,null,null,null,null,null,null,null,{"$f":"Backbone!A166","v":"Глобальная информационная система болезней животных (EMPRES-i)"},null,null,null,null,null,null,"Защищенная информационная онлайн-система, созданная в помощь национальным ветеринарным службам. Она обеспечивает сбор глобальных и региональных данных о заболеваниях и является глобальной справочной базой данных о болезнях животных, включая зоонозы.",null,null,null,null,null,null,null,null,{"$f":"INDEX(Backbone!$R$2:$R$893,MATCH(I154,Backbone!$A$2:$A$893,0))","v":"Оборудование или программное обеспечение"},null,null,null,{"$f":"INDEX(Backbone!$S$2:$S$893,MATCH(I154,Backbone!$A$2:$A$893,0))","v":"Ориентированный на конкретный сектор; универсальный"},null,null,null,{"$f":"INDEX(Backbone!$H$2:$H$893,MATCH(I154,Backbone!$A$2:$A$893,0))","v":9},null,{"$f":"INDEX(Backbone!$I$2:$I$893,MATCH(I154,Backbone!$A$2:$A$893,0))","v":8.3000000000000007},null,{"$f":"INDEX(Backbone!$J$2:$J$893,MATCH(I154,Backbone!$A$2:$A$893,0))","v":8.9},null,{"$f":"INDEX(Backbone!$K$1:$K$893,MATCH(I154,Backbone!$A$1:$A$893,0))","v":8.6999999999999993},null,{"$f":"INDEX(Backbone!$L$2:$L$893,MATCH(I154,Backbone!$A$2:$A$893,0))","v":8},null,{"$f":"INDEX(Backbone!$M$2:$M$893,MATCH(I154,Backbone!$A$2:$A$893,0))","v":7.8},null,{"$f":"INDEX(Backbone!$N$2:$N$893,MATCH(I154,Backbone!$A$2:$A$893,0))","v":7.4},null,{"$f":"INDEX(Backbone!$O$2:$O$893,MATCH(I154,Backbone!$A$2:$A$893,0))","v":4.8},null,{"$f":"INDEX(Backbone!$P$2:$P$893,MATCH(I154,Backbone!$A$2:$A$893,0))","v":4.7},null,{"$f":"INDEX(Backbone!$Q$2:$Q$893,MATCH(I154,Backbone!$A$2:$A$893,0))","v":0.75111111111111106},null,null,{"$f":"(AG154*$AG$22+AI154*$AI$22+AK154*$AK$22+AM154*$AM$22+AO154*$AO$22+AQ154*$AQ$22+AS154*$AS$22+AU154*$AU$22+AW154*$AW$22)/(SUM($AG$22:$AW$22)*10)","v":{"$error":"#DIV/0!"}},null,null,"Перейти в Реестр ресурсов: ",null,{"$f":"HYPERLINK(\"#\"&ADDRESS(MATCH(I154,Toolbox!$C$1:$C$300),1,,,\"Toolbox\"),VLOOKUP(I154,Toolbox!$C$1:$C$300,1,FALSE))","v":"Глобальная информационная система болезней животных (EMPRES-i)"}]
[]
[]
[]
[]
[]
[null,null,null,null,null,null,null,null,{"$f":"Backbone!A604","v":"Приложение для оценки воздействия бешенства и выявления контактных лиц (REACT)"},null,null,null,null,null,null,"Инструмент, помогающий реализации комплексных программ управления случаями укусов (IBCM).",null,null,null,null,null,null,null,null,{"$f":"INDEX(Backbone!$R$2:$R$893,MATCH(I160,Backbone!$A$2:$A$893,0))","v":"Оборудование или программное обеспечение"},null,null,null,{"$f":"INDEX(Backbone!$S$2:$S$893,MATCH(I160,Backbone!$A$2:$A$893,0))","v":"«Единое здоровье»; ориентированный на конкретную болезнь/угрозу "},null,null,null,{"$f":"INDEX(Backbone!$H$2:$H$893,MATCH(I160,Backbone!$A$2:$A$893,0))","v":8.6},null,{"$f":"INDEX(Backbone!$I$2:$I$893,MATCH(I160,Backbone!$A$2:$A$893,0))","v":8.6},null,{"$f":"INDEX(Backbone!$J$2:$J$893,MATCH(I160,Backbone!$A$2:$A$893,0))","v":8},null,{"$f":"INDEX(Backbone!$K$1:$K$893,MATCH(I160,Backbone!$A$1:$A$893,0))","v":8.6},null,{"$f":"INDEX(Backbone!$L$2:$L$893,MATCH(I160,Backbone!$A$2:$A$893,0))","v":9.4},null,{"$f":"INDEX(Backbone!$M$2:$M$893,MATCH(I160,Backbone!$A$2:$A$893,0))","v":9.5},null,{"$f":"INDEX(Backbone!$N$2:$N$893,MATCH(I160,Backbone!$A$2:$A$893,0))","v":9},null,{"$f":"INDEX(Backbone!$O$2:$O$893,MATCH(I160,Backbone!$A$2:$A$893,0))","v":9.1999999999999993},null,{"$f":"INDEX(Backbone!$P$2:$P$893,MATCH(I160,Backbone!$A$2:$A$893,0))","v":9},null,{"$f":"INDEX(Backbone!$Q$2:$Q$893,MATCH(I160,Backbone!$A$2:$A$893,0))","v":0.88777777777777767},null,null,{"$f":"(AG160*$AG$22+AI160*$AI$22+AK160*$AK$22+AM160*$AM$22+AO160*$AO$22+AQ160*$AQ$22+AS160*$AS$22+AU160*$AU$22+AW160*$AW$22)/(SUM($AG$22:$AW$22)*10)","v":{"$error":"#DIV/0!"}},null,null,"Перейти в Реестр ресурсов: ",null,{"$f":"HYPERLINK(\"#\"&ADDRESS(MATCH(I160,Toolbox!$C$1:$C$300),1,,,\"Toolbox\"),VLOOKUP(I160,Toolbox!$C$1:$C$300,1,FALSE))","v":"Приложение для оценки воздействия бешенства и выявления контактных лиц (REACT)"}]
[]
[]
[]
[]
[]
[null,null,null,null,null,null,null,null,{"$f":"Backbone!A489","v":"Пакет программного обеспечения для проведения автоматического глобального электронного биомониторинга (SAGES)"},null,null,null,null,null,null,"Пакет программного обеспечения с открытым исходным кодом для улучшения электронного эпиднадзора в условиях ограниченных ресурсов.",null,null,null,null,null,null,null,null,{"$f":"INDEX(Backbone!$R$2:$R$893,MATCH(I166,Backbone!$A$2:$A$893,0))","v":"Оборудование или программное обеспечение"},null,null,null,{"$f":"INDEX(Backbone!$S$2:$S$893,MATCH(I166,Backbone!$A$2:$A$893,0))","v":"«Единое здоровье»; универсальный"},null,null,null,{"$f":"INDEX(Backbone!$H$2:$H$893,MATCH(I166,Backbone!$A$2:$A$893,0))","v":9.8000000000000007},null,{"$f":"INDEX(Backbone!$I$2:$I$893,MATCH(I166,Backbone!$A$2:$A$893,0))","v":10},null,{"$f":"INDEX(Backbone!$J$2:$J$893,MATCH(I166,Backbone!$A$2:$A$893,0))","v":10},null,{"$f":"INDEX(Backbone!$K$1:$K$893,MATCH(I166,Backbone!$A$1:$A$893,0))","v":9.3000000000000007},null,{"$f":"INDEX(Backbone!$L$2:$L$893,MATCH(I166,Backbone!$A$2:$A$893,0))","v":8.5},null,{"$f":"INDEX(Backbone!$M$2:$M$893,MATCH(I166,Backbone!$A$2:$A$893,0))","v":9},null,{"$f":"INDEX(Backbone!$N$2:$N$893,MATCH(I166,Backbone!$A$2:$A$893,0))","v":5.5},null,{"$f":"INDEX(Backbone!$O$2:$O$893,MATCH(I166,Backbone!$A$2:$A$893,0))","v":9.5},null,{"$f":"INDEX(Backbone!$P$2:$P$893,MATCH(I166,Backbone!$A$2:$A$893,0))","v":7},null,{"$f":"INDEX(Backbone!$Q$2:$Q$893,MATCH(I166,Backbone!$A$2:$A$893,0))","v":0.87333333333333329},null,null,{"$f":"(AG166*$AG$22+AI166*$AI$22+AK166*$AK$22+AM166*$AM$22+AO166*$AO$22+AQ166*$AQ$22+AS166*$AS$22+AU166*$AU$22+AW166*$AW$22)/(SUM($AG$22:$AW$22)*10)","v":{"$error":"#DIV/0!"}},null,null,"Перейти в Реестр ресурсов: ",null,{"$f":"HYPERLINK(\"#\"&ADDRESS(MATCH(I166,Toolbox!$C$1:$C$300),1,,,\"Toolbox\"),VLOOKUP(I166,Toolbox!$C$1:$C$300,1,FALSE))","v":"Пакет программного обеспечения для проведения автоматического глобального электронного биомониторинга (SAGES)"}]
[]
[]
[]
[]
[]
[null,null,null,null,null,null,null,null,{"$f":"Backbone!A540","v":"Система анализа и управления мерами эпиднадзора и реагирования на вспышки (SORMAS)"},null,null,null,null,null,null,"Мобильная система eHealth с открытым исходным кодом, которая помимо эпиднадзора и раннего обнаружения вспышек обрабатывает процедуры борьбы с заболеваниями и управления вспышками при помощи цифрового эпиднадзора в реальном времени.",null,null,null,null,null,null,null,null,{"$f":"INDEX(Backbone!$R$2:$R$893,MATCH(I172,Backbone!$A$2:$A$893,0))","v":"Оборудование или программное обеспечение"},null,null,null,{"$f":"INDEX(Backbone!$S$2:$S$893,MATCH(I172,Backbone!$A$2:$A$893,0))","v":"Ориентированный на конкретный сектор; универсальный"},null,null,null,{"$f":"INDEX(Backbone!$H$2:$H$893,MATCH(I172,Backbone!$A$2:$A$893,0))","v":9.1999999999999993},null,{"$f":"INDEX(Backbone!$I$2:$I$893,MATCH(I172,Backbone!$A$2:$A$893,0))","v":8},null,{"$f":"INDEX(Backbone!$J$2:$J$893,MATCH(I172,Backbone!$A$2:$A$893,0))","v":9.3000000000000007},null,{"$f":"INDEX(Backbone!$K$1:$K$893,MATCH(I172,Backbone!$A$1:$A$893,0))","v":9.1},null,{"$f":"INDEX(Backbone!$L$2:$L$893,MATCH(I172,Backbone!$A$2:$A$893,0))","v":9.3000000000000007},null,{"$f":"INDEX(Backbone!$M$2:$M$893,MATCH(I172,Backbone!$A$2:$A$893,0))","v":9.3000000000000007},null,{"$f":"INDEX(Backbone!$N$2:$N$893,MATCH(I172,Backbone!$A$2:$A$893,0))","v":6.8},null,{"$f":"INDEX(Backbone!$O$2:$O$893,MATCH(I172,Backbone!$A$2:$A$893,0))","v":3.9},null,{"$f":"INDEX(Backbone!$P$2:$P$893,MATCH(I172,Backbone!$A$2:$A$893,0))","v":5.3},null,{"$f":"INDEX(Backbone!$Q$2:$Q$893,MATCH(I172,Backbone!$A$2:$A$893,0))","v":0.78},null,null,{"$f":"(AG172*$AG$22+AI172*$AI$22+AK172*$AK$22+AM172*$AM$22+AO172*$AO$22+AQ172*$AQ$22+AS172*$AS$22+AU172*$AU$22+AW172*$AW$22)/(SUM($AG$22:$AW$22)*10)","v":{"$error":"#DIV/0!"}},null,null,"Перейти в Реестр ресурсов: ",null,{"$f":"HYPERLINK(\"#\"&ADDRESS(MATCH(I172,Toolbox!$C$1:$C$300),1,,,\"Toolbox\"),VLOOKUP(I172,Toolbox!$C$1:$C$300,1,FALSE))","v":"Система анализа и управления мерами эпиднадзора и реагирования на вспышки (SORMAS)"}]
[]
[]
[]
[]
[]
[]
[]
[]
[]
[]
[]
[]
[]
[]
[]
[]
[]
[]
[]
[]
[]
[]
[]
[null,null,null,null,null,null,null,null,null,null,null,null,null,null,null,null,null,null,null,null,null,null,null,null,null,null,null,null,null,null,null,null,"Доступность",null,"Язык",null,"Простота использования",null,"Гибкость",null,"Потребности в данных",null,"Анализ данных",null,"Приемлемость",null,"«Единое здоровье»",null,"Воздействие"]
[]
[]
[]
[]
[]
[]
[null,null,null,null,null,null,null,null,null,null,null,null,null,null,null,null,null,null,null,null,null,null,null,null,null,null,null,null,null,null,null,null,null,null,null,null,null,null,null,null,null,null,null,null,null,null,null,null,null,null,"ИСХОДНАЯ ОЦЕНКА",null,null,"СКОРРЕКТИРОВАННАЯ ОЦЕНКА \n(Исходя из предпочтений пользователей)"]
[]
[]
[]
[null,"РЕСУРСЫ УРОВНЯ 3",null,"КЛАССИФИКАЦИЯ",null,null,null,null,"НАЗВАНИЕ РЕСУРСА",null,null,null,null,null,null,"КРАТКОЕ ОПИСАНИЕ",null,null,null,null,null,null,null,null,"ВИД РЕСУРСА",null,null,null,"ОБЩАЯ НАПРАВЛЕННОСТЬ РЕСУРСА"]
[]
[]
[]
[null,null,null,null,null,null,null,null,null,null,null,null,null,null,null,null,null,null,null,null,null,null,null,null,null,null,null,null,null,null,null,null,{"$f":"'Attribute Survey'!S211","v":0},null,{"$f":"'Attribute Survey'!S215","v":0},null,{"$f":"'Attribute Survey'!S219","v":0},null,{"$f":"'Attribute Survey'!S223","v":0},null,{"$f":"'Attribute Survey'!S227","v":0},null,{"$f":"'Attribute Survey'!S231","v":0},null,{"$f":"'Attribute Survey'!S235","v":0},null,{"$f":"'Attribute Survey'!S239","v":0},null,{"$f":"'Attribute Survey'!S243","v":0}]
[null,null,null,"Наиболее подходящие ресурсы",null,null,null,null,{"$f":"Backbone!A138","v":"Электронная интегрированная система эпиднадзора за болезнями (EIDSS)"},null,null,null,null,null,null,"Электронная онлайн-система передачи эпидемиологической информации адаптируется под требования заказчика. Она создана для пассивного и активного эпиднадзора при содействии медицинских и ветеринарных учреждений, для лабораторной диагностики, надзора за переносчиками и управления вспышками заболеваний.",null,null,null,null,null,null,null,null,{"$f":"INDEX(Backbone!$R$2:$R$893,MATCH(I212,Backbone!$A$2:$A$893,0))","v":"Оборудование или программное обеспечение"},null,null,null,{"$f":"INDEX(Backbone!$S$2:$S$893,MATCH(I212,Backbone!$A$2:$A$893,0))","v":"«Единое здоровье»; универсальный"},null,null,null,{"$f":"INDEX(Backbone!$H$2:$H$893,MATCH(I212,Backbone!$A$2:$A$893,0))","v":6.8},null,{"$f":"INDEX(Backbone!$I$2:$I$893,MATCH(I212,Backbone!$A$2:$A$893,0))","v":10},null,{"$f":"INDEX(Backbone!$J$2:$J$893,MATCH(I212,Backbone!$A$2:$A$893,0))","v":8.4},null,{"$f":"INDEX(Backbone!$K$2:$K$893,MATCH(I212,Backbone!$A$2:$A$893,0))","v":8.6999999999999993},null,{"$f":"INDEX(Backbone!$L$2:$L$893,MATCH(I212,Backbone!$A$2:$A$893,0))","v":9.1},null,{"$f":"INDEX(Backbone!$M$2:$M$893,MATCH(I212,Backbone!$A$2:$A$893,0))","v":8},null,{"$f":"INDEX(Backbone!$N$2:$N$893,MATCH(I212,Backbone!$A$2:$A$893,0))","v":7},null,{"$f":"INDEX(Backbone!$O$2:$O$893,MATCH(I212,Backbone!$A$2:$A$893,0))","v":7.2},null,{"$f":"INDEX(Backbone!$P$2:$P$893,MATCH(I212,Backbone!$A$2:$A$893,0))","v":10},null,{"$f":"INDEX(Backbone!$Q$2:$Q$893,MATCH(I212,Backbone!$A$2:$A$893,0))","v":0.83555555555555561},null,null,{"$f":"(AG212*$AG$22+AI212*$AI$22+AK212*$AK$22+AM212*$AM$22+AO212*$AO$22+AQ212*$AQ$22+AS212*$AS$22+AU212*$AU$22+AW212*$AW$22)/(SUM($AG$22:$AW$22)*10)","v":{"$error":"#DIV/0!"}},null,null,"Перейти в Реестр ресурсов: ",null,{"$f":"HYPERLINK(\"#\"&ADDRESS(MATCH(I212,Toolbox!$C$1:$C$300),1,,,\"Toolbox\"),VLOOKUP(I212,Toolbox!$C$1:$C$300,1,FALSE))","v":"Электронная интегрированная система эпиднадзора за болезнями (EIDSS)"}]
[]
[]
[]
[]
[]
[null,null,null,null,null,null,null,null,{"$f":"Backbone!A604","v":"Приложение для оценки воздействия бешенства и выявления контактных лиц (REACT)"},null,null,null,null,null,null,"Инструмент, помогающий реализации комплексных программ управления случаями укусов (IBCM).",null,null,null,null,null,null,null,null,{"$f":"INDEX(Backbone!$R$2:$R$893,MATCH(I218,Backbone!$A$2:$A$893,0))","v":"Оборудование или программное обеспечение"},null,null,null,{"$f":"INDEX(Backbone!$S$2:$S$893,MATCH(I218,Backbone!$A$2:$A$893,0))","v":"«Единое здоровье»; ориентированный на конкретную болезнь/угрозу "},null,null,null,{"$f":"INDEX(Backbone!$H$2:$H$893,MATCH(I218,Backbone!$A$2:$A$893,0))","v":8.6},null,{"$f":"INDEX(Backbone!$I$2:$I$893,MATCH(I218,Backbone!$A$2:$A$893,0))","v":8.6},null,{"$f":"INDEX(Backbone!$J$2:$J$893,MATCH(I218,Backbone!$A$2:$A$893,0))","v":8},null,{"$f":"INDEX(Backbone!$K$2:$K$893,MATCH(I218,Backbone!$A$2:$A$893,0))","v":8.6},null,{"$f":"INDEX(Backbone!$L$2:$L$893,MATCH(I218,Backbone!$A$2:$A$893,0))","v":9.4},null,{"$f":"INDEX(Backbone!$M$2:$M$893,MATCH(I218,Backbone!$A$2:$A$893,0))","v":9.5},null,{"$f":"INDEX(Backbone!$N$2:$N$893,MATCH(I218,Backbone!$A$2:$A$893,0))","v":9},null,{"$f":"INDEX(Backbone!$O$2:$O$893,MATCH(I218,Backbone!$A$2:$A$893,0))","v":9.1999999999999993},null,{"$f":"INDEX(Backbone!$P$2:$P$893,MATCH(I218,Backbone!$A$2:$A$893,0))","v":9},null,{"$f":"INDEX(Backbone!$Q$2:$Q$893,MATCH(I218,Backbone!$A$2:$A$893,0))","v":0.88777777777777767},null,null,{"$f":"(AG218*$AG$22+AI218*$AI$22+AK218*$AK$22+AM218*$AM$22+AO218*$AO$22+AQ218*$AQ$22+AS218*$AS$22+AU218*$AU$22+AW218*$AW$22)/(SUM($AG$22:$AW$22)*10)","v":{"$error":"#DIV/0!"}},null,null,"Перейти в Реестр ресурсов: ",null,{"$f":"HYPERLINK(\"#\"&ADDRESS(MATCH(I218,Toolbox!$C$1:$C$300),1,,,\"Toolbox\"),VLOOKUP(I218,Toolbox!$C$1:$C$300,1,FALSE))","v":"Приложение для оценки воздействия бешенства и выявления контактных лиц (REACT)"}]
[]
[]
[]
[]
[]
[null,null,null,null,null,null,null,null,{"$f":"Backbone!A489","v":"Пакет программного обеспечения для проведения автоматического глобального электронного биомониторинга (SAGES)"},null,null,null,null,null,null,"Пакет программного обеспечения с открытым исходным кодом для улучшения электронного эпиднадзора в условиях ограниченных ресурсов.",null,null,null,null,null,null,null,null,{"$f":"INDEX(Backbone!$R$2:$R$893,MATCH(I224,Backbone!$A$2:$A$893,0))","v":"Оборудование или программное обеспечение"},null,null,null,{"$f":"INDEX(Backbone!$S$2:$S$893,MATCH(I224,Backbone!$A$2:$A$893,0))","v":"«Единое здоровье»; универсальный"},null,null,null,{"$f":"INDEX(Backbone!$H$2:$H$893,MATCH(I224,Backbone!$A$2:$A$893,0))","v":9.8000000000000007},null,{"$f":"INDEX(Backbone!$I$2:$I$893,MATCH(I224,Backbone!$A$2:$A$893,0))","v":10},null,{"$f":"INDEX(Backbone!$J$2:$J$893,MATCH(I224,Backbone!$A$2:$A$893,0))","v":10},null,{"$f":"INDEX(Backbone!$K$1:$K$893,MATCH(I224,Backbone!$A$1:$A$893,0))","v":9.3000000000000007},null,{"$f":"INDEX(Backbone!$L$2:$L$893,MATCH(I224,Backbone!$A$2:$A$893,0))","v":8.5},null,{"$f":"INDEX(Backbone!$M$2:$M$893,MATCH(I224,Backbone!$A$2:$A$893,0))","v":9},null,{"$f":"INDEX(Backbone!$N$2:$N$893,MATCH(I224,Backbone!$A$2:$A$893,0))","v":5.5},null,{"$f":"INDEX(Backbone!$O$2:$O$893,MATCH(I224,Backbone!$A$2:$A$893,0))","v":9.5},null,{"$f":"INDEX(Backbone!$P$2:$P$893,MATCH(I224,Backbone!$A$2:$A$893,0))","v":7},null,{"$f":"INDEX(Backbone!$Q$2:$Q$893,MATCH(I224,Backbone!$A$2:$A$893,0))","v":0.87333333333333329},null,null,{"$f":"(AG224*$AG$22+AI224*$AI$22+AK224*$AK$22+AM224*$AM$22+AO224*$AO$22+AQ224*$AQ$22+AS224*$AS$22+AU224*$AU$22+AW224*$AW$22)/(SUM($AG$22:$AW$22)*10)","v":{"$error":"#DIV/0!"}},null,null,"Перейти в Реестр ресурсов: ",null,{"$f":"HYPERLINK(\"#\"&ADDRESS(MATCH(I224,Toolbox!$C$1:$C$300),1,,,\"Toolbox\"),VLOOKUP(I224,Toolbox!$C$1:$C$300,1,FALSE))","v":"Пакет программного обеспечения для проведения автоматического глобального электронного биомониторинга (SAGES)"}]
[]
[]
[]
[]
[]
[null,null,null,null,null,null,null,null,{"$f":"Backbone!A540","v":"Система анализа и управления мерами эпиднадзора и реагирования на вспышки (SORMAS)"},null,null,null,null,null,null,"Мобильная система eHealth с открытым исходным кодом, которая помимо эпиднадзора и раннего обнаружения вспышек обрабатывает процедуры борьбы с заболеваниями и управления вспышками при помощи цифрового эпиднадзора в реальном времени.",null,null,null,null,null,null,null,null,{"$f":"INDEX(Backbone!$R$2:$R$893,MATCH(I230,Backbone!$A$2:$A$893,0))","v":"Оборудование или программное обеспечение"},null,null,null,{"$f":"INDEX(Backbone!$S$2:$S$893,MATCH(I230,Backbone!$A$2:$A$893,0))","v":"Ориентированный на конкретный сектор; универсальный"},null,null,null,{"$f":"INDEX(Backbone!$H$2:$H$893,MATCH(I230,Backbone!$A$2:$A$893,0))","v":9.1999999999999993},null,{"$f":"INDEX(Backbone!$I$2:$I$893,MATCH(I230,Backbone!$A$2:$A$893,0))","v":8},null,{"$f":"INDEX(Backbone!$J$2:$J$893,MATCH(I230,Backbone!$A$2:$A$893,0))","v":9.3000000000000007},null,{"$f":"INDEX(Backbone!$K$1:$K$893,MATCH(I230,Backbone!$A$1:$A$893,0))","v":9.1},null,{"$f":"INDEX(Backbone!$L$2:$L$893,MATCH(I230,Backbone!$A$2:$A$893,0))","v":9.3000000000000007},null,{"$f":"INDEX(Backbone!$M$2:$M$893,MATCH(I230,Backbone!$A$2:$A$893,0))","v":9.3000000000000007},null,{"$f":"INDEX(Backbone!$N$2:$N$893,MATCH(I230,Backbone!$A$2:$A$893,0))","v":6.8},null,{"$f":"INDEX(Backbone!$O$2:$O$893,MATCH(I230,Backbone!$A$2:$A$893,0))","v":3.9},null,{"$f":"INDEX(Backbone!$P$2:$P$893,MATCH(I230,Backbone!$A$2:$A$893,0))","v":5.3},null,{"$f":"INDEX(Backbone!$Q$2:$Q$893,MATCH(I230,Backbone!$A$2:$A$893,0))","v":0.78},null,null,{"$f":"(AG230*$AG$22+AI230*$AI$22+AK230*$AK$22+AM230*$AM$22+AO230*$AO$22+AQ230*$AQ$22+AS230*$AS$22+AU230*$AU$22+AW230*$AW$22)/(SUM($AG$22:$AW$22)*10)","v":{"$error":"#DIV/0!"}},null,null,"Перейти в Реестр ресурсов: ",null,{"$f":"HYPERLINK(\"#\"&ADDRESS(MATCH(I230,Toolbox!$C$1:$C$300),1,,,\"Toolbox\"),VLOOKUP(I230,Toolbox!$C$1:$C$300,1,FALSE))","v":"Система анализа и управления мерами эпиднадзора и реагирования на вспышки (SORMAS)"}]
[]
[]
[]
[]
[]
[]
[null,null,null,"Другие полезные ресурсы",null,null,null,null,{"$f":"Backbone!A65","v":"Районная информационная система здравоохранения, версия 2 (DHIS2) "},null,null,null,null,null,null,"Онлайн-платформа информационной системы управления в системе здравоохранения с открытым исходным кодом.",null,null,null,null,null,null,null,null,{"$f":"INDEX(Backbone!$R$2:$R$893,MATCH(I237,Backbone!$A$2:$A$893,0))","v":"Оборудование или программное обеспечение"},null,null,null,{"$f":"INDEX(Backbone!$S$2:$S$893,MATCH(I237,Backbone!$A$2:$A$893,0))","v":"Ориентированный на конкретный сектор; универсальный"},null,null,null,{"$f":"INDEX(Backbone!$H$2:$H$893,MATCH(I237,Backbone!$A$2:$A$893,0))","v":8.8000000000000007},null,{"$f":"INDEX(Backbone!$I$2:$I$893,MATCH(I237,Backbone!$A$2:$A$893,0))","v":8.6999999999999993},null,{"$f":"INDEX(Backbone!$J$2:$J$893,MATCH(I237,Backbone!$A$2:$A$893,0))","v":8},null,{"$f":"INDEX(Backbone!$K$1:$K$893,MATCH(I237,Backbone!$A$1:$A$893,0))","v":8.6999999999999993},null,{"$f":"INDEX(Backbone!$L$2:$L$893,MATCH(I237,Backbone!$A$2:$A$893,0))","v":9.3000000000000007},null,{"$f":"INDEX(Backbone!$M$2:$M$893,MATCH(I237,Backbone!$A$2:$A$893,0))","v":9},null,{"$f":"INDEX(Backbone!$N$2:$N$893,MATCH(I237,Backbone!$A$2:$A$893,0))","v":10},null,{"$f":"INDEX(Backbone!$O$2:$O$893,MATCH(I237,Backbone!$A$2:$A$893,0))","v":7.8},null,{"$f":"INDEX(Backbone!$P$2:$P$893,MATCH(I237,Backbone!$A$2:$A$893,0))","v":7},null,{"$f":"INDEX(Backbone!$Q$2:$Q$893,MATCH(I237,Backbone!$A$2:$A$893,0))","v":0.85888888888888881},null,null,{"$f":"(AG237*$AG$22+AI237*$AI$22+AK237*$AK$22+AM237*$AM$22+AO237*$AO$22+AQ237*$AQ$22+AS237*$AS$22+AU237*$AU$22+AW237*$AW$22)/(SUM($AG$22:$AW$22)*10)","v":{"$error":"#DIV/0!"}},null,null,"Перейти в Реестр ресурсов: ",null,{"$f":"HYPERLINK(\"#\"&ADDRESS(MATCH(I237,Toolbox!$C$1:$C$300),1,,,\"Toolbox\"),VLOOKUP(I237,Toolbox!$C$1:$C$300,1,FALSE))","v":"Районная информационная система здравоохранения, версия 2 (DHIS2) "}]
[]
[]
[]
[]
[]
[null,null,null,null,null,null,null,null,{"$f":"Backbone!A155","v":"Инициатива по выявлению эпидемиологических угроз с использованием открытых источников (EIOS)"},null,null,null,null,null,null,"Инициатива EIOS — это уникальное сотрудничество между ВОЗ и различными заинтересованными сторонами, объединяющее новые и существующие инициативы, сети и системы для создания унифицированного подхода «Единое здоровье», учитывающего все угрозы, к раннему обнаружению, проверке и оценке рисков и угроз для здоровья людей с использованием открытых источников.",null,null,null,null,null,null,null,null,{"$f":"INDEX(Backbone!$R$2:$R$893,MATCH(I243,Backbone!$A$2:$A$893,0))","v":"Оборудование или программное обеспечение"},null,null,null,{"$f":"INDEX(Backbone!$S$2:$S$893,MATCH(I243,Backbone!$A$2:$A$893,0))","v":"«Единое здоровье»; универсальный"},null,null,null,{"$f":"INDEX(Backbone!$H$2:$H$893,MATCH(I243,Backbone!$A$2:$A$893,0))","v":8.4},null,{"$f":"INDEX(Backbone!$I$2:$I$893,MATCH(I243,Backbone!$A$2:$A$893,0))","v":9},null,{"$f":"INDEX(Backbone!$J$2:$J$893,MATCH(I243,Backbone!$A$2:$A$893,0))","v":7.4},null,{"$f":"INDEX(Backbone!$K$1:$K$893,MATCH(I243,Backbone!$A$1:$A$893,0))","v":9},null,{"$f":"INDEX(Backbone!$L$2:$L$893,MATCH(I243,Backbone!$A$2:$A$893,0))","v":8.8000000000000007},null,{"$f":"INDEX(Backbone!$M$2:$M$893,MATCH(I243,Backbone!$A$2:$A$893,0))","v":8},null,{"$f":"INDEX(Backbone!$N$2:$N$893,MATCH(I243,Backbone!$A$2:$A$893,0))","v":5.5},null,{"$f":"INDEX(Backbone!$O$2:$O$893,MATCH(I243,Backbone!$A$2:$A$893,0))","v":9.1999999999999993},null,{"$f":"INDEX(Backbone!$P$2:$P$893,MATCH(I243,Backbone!$A$2:$A$893,0))","v":6},null,{"$f":"INDEX(Backbone!$Q$2:$Q$893,MATCH(I243,Backbone!$A$2:$A$893,0))","v":0.79222222222222216},null,null,{"$f":"(AG243*$AG$22+AI243*$AI$22+AK243*$AK$22+AM243*$AM$22+AO243*$AO$22+AQ243*$AQ$22+AS243*$AS$22+AU243*$AU$22+AW243*$AW$22)/(SUM($AG$22:$AW$22)*10)","v":{"$error":"#DIV/0!"}},null,null,"Перейти в Реестр ресурсов: ",null,{"$f":"HYPERLINK(\"#\"&ADDRESS(MATCH(I243,Toolbox!$C$1:$C$300),1,,,\"Toolbox\"),VLOOKUP(I243,Toolbox!$C$1:$C$300,1,FALSE))","v":"Инициатива по выявлению эпидемиологических угроз с использованием открытых источников (EIOS)"}]

{"sheet":"I4_tools","index":49,"n_rows":245,"n_cols":59,"rows_kept":245,"cut":false,"hidden":false,"merged":[[238,42,242,42],[238,44,242,44],[238,46,242,46],[244,50,248,51],[244,53,248,54],[244,36,248,36],[244,38,248,38],[244,40,248,40],[244,42,248,42],[244,44,248,44],[244,46,248,46],[238,50,242,51],[238,53,242,54],[238,38,242,38],[238,40,242,40],[226,50,230,51],[226,53,230,54],[232,8,236,13],[232,15,236,22],[232,24,236,26],[232,28,236,30],[232,32,236,32],[232,34,236,34],[232,36,236,36],[232,38,236,38],[226,38,230,38],[226,40,230,40],[226,42,230,42],[226,44,230,44],[226,46,230,46],[226,48,230,48],[232,53,236,54],[232,40,236,40],[232,42,236,42],[232,44,236,44],[232,46,236,46],[232,48,236,48],[232,50,236,51],[226,3,248,6],[226,8,230,13],[226,15,230,22],[226,24,230,26],[226,28,230,30],[226,32,230,32],[226,34,230,34],[226,36,230,36],[219,48,223,48],[238,48,242,48],[244,8,248,13],[244,15,248,22],[244,24,248,26],[244,28,248,30],[244,32,248,32],[244,34,248,34],[244,48,248,48],[238,8,242,13],[238,15,242,22],[238,24,242,26],[238,28,242,30],[238,32,242,32],[238,34,242,34],[238,36,242,36],[219,50,223,51],[219,53,223,54],[219,36,223,36],[219,38,223,38],[219,40,223,40],[219,42,223,42],[219,44,223,44],[219,46,223,46],[219,8,223,13],[219,15,223,22],[219,24,223,26],[219,28,223,30],[219,32,223,32],[219,34,223,34],[213,50,217,51],[213,53,217,54],[207,53,211,54],[213,8,217,13],[213,15,217,22],[213,24,217,26],[213,28,217,30],[213,32,217,32],[213,34,217,34],[213,36,217,36],[213,38,217,38],[213,40,217,40],[207,40,211,40],[207,42,211,42],[207,44,211,44],[207,46,211,46],[207,48,211,48],[207,50,211,51],[201,46,205,46],[201,48,205,48],[201,15,205,22],[201,24,205,26],[201,28,205,30],[201,32,205,32],[201,34,205,34],[201,36,205,36],[213,42,217,42],[213,44,217,44],[213,46,217,46],[213,48,217,48],[192,50,199,51],[192,53,199,54],[196,1,248,1],[196,3,199,6],[196,8,199,13],[196,15,199,22],[196,24,199,26],[196,28,199,30],[201,3,223,6],[201,8,205,13],[201,50,205,51],[201,53,205,54],[207,8,211,13],[207,15,211,22],[207,24,211,26],[207,28,211,30],[207,32,211,32],[207,34,211,34],[207,36,211,36],[207,38,211,38],[201,38,205,38],[201,40,205,40],[201,42,205,42],[201,44,205,44],[185,32,199,32],[185,34,199,34],[185,36,199,36],[185,38,199,38],[185,40,199,40],[185,42,199,42],[185,44,199,44],[185,46,199,46],[185,48,199,48],[155,50,159,51],[155,53,159,54],[161,8,165,13],[161,15,165,22],[161,24,165,26],[161,28,165,30],[161,32,165,32],[161,34,165,34],[161,36,165,36],[161,38,165,38],[155,38,159,38],[155,40,159,40],[155,42,159,42],[155,44,159,44],[155,46,159,46],[155,48,159,48],[161,53,165,54],[161,40,165,40],[161,42,165,42],[161,44,165,44],[161,46,165,46],[161,48,165,48],[161,50,165,51],[143,48,147,48],[143,50,147,51],[143,53,147,54],[149,8,153,13],[149,15,153,22],[149,24,153,26],[149,28,153,30],[149,32,153,32],[149,34,153,34],[143,34,147,34],[143,36,147,36],[143,38,147,38],[143,40,147,40],[143,42,147,42],[143,44,147,44],[149,48,153,48],[149,50,153,51],[149,53,153,54],[149,36,153,36],[149,38,153,38],[149,40,153,40],[149,42,153,42],[149,44,153,44],[149,46,153,46],[143,3,165,6],[143,8,147,13],[143,15,147,22],[143,24,147,26],[143,28,147,30],[143,32,147,32],[136,42,140,42],[136,44,140,44],[136,46,140,46],[112,3,140,6],[143,46,147,46],[155,8,159,13],[155,15,159,22],[155,24,159,26],[155,28,159,30],[155,32,159,32],[155,34,159,34],[155,36,159,36],[124,42,128,42],[124,44,128,44],[124,46,128,46],[130,32,134,32],[130,34,134,34],[130,36,134,36],[136,48,140,48],[136,50,140,51],[136,53,140,54],[130,53,134,54],[136,8,140,13],[136,15,140,22],[136,24,140,26],[136,28,140,30],[136,32,140,32],[136,34,140,34],[136,36,140,36],[136,38,140,38],[136,40,140,40],[130,40,134,40],[130,42,134,42],[130,44,134,44],[130,46,134,46],[130,48,134,48],[130,50,134,51],[130,8,134,13],[130,15,134,22],[130,24,134,26],[130,28,134,30],[130,38,134,38],[112,8,116,13],[112,15,116,22],[112,24,116,26],[112,28,116,30],[112,32,116,32],[118,48,122,48],[118,50,122,51],[112,34,116,34],[112,36,116,36],[112,38,116,38],[112,40,116,40],[112,42,116,42],[112,44,116,44],[118,53,122,54],[124,8,128,13],[124,15,128,22],[124,24,128,26],[124,28,128,30],[124,32,128,32],[124,34,128,34],[124,36,128,36],[118,36,122,36],[118,38,122,38],[118,40,122,40],[118,42,122,42],[118,44,122,44],[118,46,122,46],[124,50,128,51],[124,53,128,54],[124,40,128,40],[118,28,122,30],[118,32,122,32],[118,34,122,34],[124,38,128,38],[124,48,128,48],[96,46,110,46],[96,48,110,48],[103,50,110,51],[103,53,110,54],[107,1,165,1],[107,3,110,6],[107,8,110,13],[107,15,110,22],[107,24,110,26],[107,28,110,30],[96,32,110,32],[96,34,110,34],[96,36,110,36],[96,38,110,38],[96,40,110,40],[96,42,110,42],[96,44,110,44],[112,46,116,46],[112,48,116,48],[112,50,116,51],[112,53,116,54],[118,8,122,13],[118,15,122,22],[118,24,122,26],[71,50,75,51],[71,53,75,54],[71,38,75,38],[71,40,75,40],[71,42,75,42],[71,44,75,44],[71,46,75,46],[71,48,75,48],[65,48,69,48],[65,50,69,51],[65,53,69,54],[65,40,69,40],[65,42,69,42],[65,44,69,44],[65,46,69,46],[71,8,75,13],[71,15,75,22],[71,24,75,26],[71,28,75,30],[71,32,75,32],[71,34,75,34],[71,36,75,36],[65,36,69,36],[65,38,69,38],[65,8,69,13],[65,15,69,22],[65,24,69,26],[65,28,69,30],[65,32,69,32],[65,34,69,34],[59,48,63,48],[59,50,63,51],[59,53,63,54],[53,53,57,54],[59,8,63,13],[59,15,63,22],[59,24,63,26],[59,28,63,30],[59,32,63,32],[59,34,63,34],[59,36,63,36],[59,38,63,38],[59,40,63,40],[53,40,57,40],[53,42,57,42],[53,44,57,44],[53,46,57,46],[53,48,57,48],[53,50,57,51],[40,40,44,40],[40,42,44,42],[40,44,44,44],[40,46,44,46],[40,48,44,48],[46,53,50,54],[53,3,75,6],[53,8,57,13],[53,15,57,22],[53,24,57,26],[53,28,57,30],[53,32,57,32],[53,34,57,34],[53,36,57,36],[53,38,57,38],[46,40,50,40],[46,42,50,42],[46,44,50,44],[46,46,50,46],[46,48,50,48],[46,50,50,51],[59,42,63,42],[59,44,63,44],[59,46,63,46],[46,8,50,13],[46,15,50,22],[46,24,50,26],[46,28,50,30],[46,32,50,32],[46,34,50,34],[46,36,50,36],[46,38,50,38],[40,38,44,38],[34,48,38,48],[34,50,38,51],[34,53,38,54],[40,8,44,13],[40,15,44,22],[40,24,44,26],[40,28,44,30],[40,32,44,32],[40,34,44,34],[40,36,44,36],[34,36,38,36],[34,38,38,38],[34,40,38,40],[34,42,38,42],[34,44,38,44],[34,46,38,46],[34,8,38,13],[34,15,38,22],[34,24,38,26],[34,28,38,30],[34,32,38,32],[34,34,38,34],[40,50,44,51],[40,53,44,54],[28,42,32,42],[28,44,32,44],[28,46,32,46],[28,48,32,48],[28,50,32,51],[28,53,32,54],[28,8,32,13],[28,15,32,22],[28,24,32,26],[28,28,32,30],[28,32,32,32],[28,34,32,34],[28,36,32,36],[28,38,32,38],[28,40,32,40],[22,42,26,42],[22,44,26,44],[22,46,26,46],[22,48,26,48],[22,15,26,22],[22,24,26,26],[22,28,26,30],[22,32,26,32],[22,34,26,34],[22,36,26,36],[1,1,3,61],[6,32,20,32],[6,34,20,34],[6,36,20,36],[6,38,20,38],[6,40,20,40],[6,42,20,42],[6,44,20,44],[6,46,20,46],[6,48,20,48],[13,50,20,51],[13,53,20,54],[17,1,75,1],[17,3,20,6],[17,8,20,13],[17,15,20,22],[17,24,20,26],[17,28,20,30],[22,3,50,6],[22,8,26,13],[22,50,26,51],[22,53,26,54],[22,38,26,38],[22,40,26,40],[22,56,26,57],[22,58,26,62],[28,56,32,57],[28,58,32,62],[34,56,38,57],[34,58,38,62],[40,56,44,57],[40,58,44,62],[46,56,50,57],[46,58,50,62],[53,56,57,57],[53,58,57,62],[59,56,63,57],[59,58,63,62],[65,56,69,57],[65,58,69,62],[71,56,75,57],[71,58,75,62],[112,56,116,57],[112,58,116,62],[118,56,122,57],[118,58,122,62],[124,56,128,57],[124,58,128,62],[130,56,134,57],[130,58,134,62],[136,56,140,57],[136,58,140,62],[143,56,147,57],[143,58,147,62],[149,56,153,57],[149,58,153,62],[155,56,159,57],[155,58,159,62],[161,56,165,57],[161,58,165,62],[201,56,205,57],[201,58,205,62],[207,56,211,57],[207,58,211,62],[244,56,248,57],[244,58,248,62],[213,56,217,57],[213,58,217,62],[219,56,223,57],[219,58,223,62],[226,56,230,57],[226,58,230,62],[232,56,236,57],[232,58,236,62],[238,56,242,57],[238,58,242,62]]}
[]
[null,"Ресурсы по хранению данных"]
[]
[]
[]
[]
[null,null,null,null,null,null,null,null,null,null,null,null,null,null,null,null,null,null,null,null,null,null,null,null,null,null,null,null,null,null,null,null,"Доступность",null,"Язык",null,"Простота использования",null,"Гибкость",null,"Потребности в данных",null,"Анализ данных",null,"Приемлемость",null,"«Единое здоровье»",null,"Воздействие"]
[]
[]
[]
[]
[]
[]
[null,null,null,null,null,null,null,null,null,null,null,null,null,null,null,null,null,null,null,null,null,null,null,null,null,null,null,null,null,null,null,null,null,null,null,null,null,null,null,null,null,null,null,null,null,null,null,null,null,null,"ИСХОДНАЯ ОЦЕНКА",null,null,"СКОРРЕКТИРОВАННАЯ ОЦЕНКА \n(Исходя из предпочтений пользователей)"]
[]
[]
[]
[null,"РЕСУРСЫ УРОВНЯ 1",null,"КЛАССИФИКАЦИЯ",null,null,null,null,"НАЗВАНИЕ РЕСУРСА",null,null,null,null,null,null,"КРАТКОЕ ОПИСАНИЕ",null,null,null,null,null,null,null,null,"ВИД РЕСУРСА",null,null,null,"ОБЩАЯ НАПРАВЛЕННОСТЬ РЕСУРСА"]
[]
[]
[]
[null,null,null,null,null,null,null,null,null,null,null,null,null,null,null,null,null,null,null,null,null,null,null,null,null,null,null,null,null,null,null,null,{"$f":"'Attribute Survey'!S22","v":0},null,{"$f":"'Attribute Survey'!S26","v":0},null,{"$f":"'Attribute Survey'!S30","v":0},null,{"$f":"'Attribute Survey'!S34","v":0},null,{"$f":"'Attribute Survey'!S38","v":0},null,{"$f":"'Attribute Survey'!S42","v":0},null,{"$f":"'Attribute Survey'!S46","v":0},null,{"$f":"'Attribute Survey'!S50","v":0},null,{"$f":"'Attribute Survey'!S54","v":0}]
[null,null,null,"Наиболее подходящие ресурсы",null,null,null,null,{"$f":"Backbone!A21","v":"Инструмент AfyaData"},null,null,null,null,null,null,"Инструмент эпиднадзора, основанный на концепции «Единое здоровье» и разработанный для эпиднадзора в области здравоохранения человека, охраны здоровья животных и окружающей среды. Доступен в виде мобильного и веб-приложения.",null,null,null,null,null,null,null,null,{"$f":"INDEX(Backbone!$R$2:$R$893,MATCH(I23,Backbone!$A$2:$A$893,0))","v":"Оборудование или программное обеспечение"},null,null,null,{"$f":"INDEX(Backbone!$S$2:$S$893,MATCH(I23,Backbone!$A$2:$A$893,0))","v":"«Единое здоровье»; универсальный "},null,null,null,{"$f":"INDEX(Backbone!$H$2:$H$893,MATCH(I23,Backbone!$A$2:$A$893,0))","v":7.3},null,{"$f":"INDEX(Backbone!$I$2:$I$893,MATCH(I23,Backbone!$A$2:$A$893,0))","v":10},null,{"$f":"INDEX(Backbone!$J$2:$J$893,MATCH(I23,Backbone!$A$2:$A$893,0))","v":8.1999999999999993},null,{"$f":"INDEX(Backbone!$K$2:$K$893,MATCH(I23,Backbone!$A$2:$A$893,0))","v":7.3},null,{"$f":"INDEX(Backbone!$L$2:$L$893,MATCH(I23,Backbone!$A$2:$A$893,0))","v":7.6},null,{"$f":"INDEX(Backbone!$M$2:$M$893,MATCH(I23,Backbone!$A$2:$A$893,0))","v":8.8000000000000007},null,{"$f":"INDEX(Backbone!$N$2:$N$893,MATCH(I23,Backbone!$A$2:$A$893,0))","v":5.5},null,{"$f":"INDEX(Backbone!$O$2:$O$893,MATCH(I23,Backbone!$A$2:$A$893,0))","v":7.6},null,{"$f":"INDEX(Backbone!$P$2:$P$893,MATCH(I23,Backbone!$A$2:$A$893,0))","v":7},null,{"$f":"INDEX(Backbone!$Q$2:$Q$893,MATCH(I23,Backbone!$A$2:$A$893,0))","v":0.77000000000000013},null,null,{"$f":"(AG23*$AG$22+AI23*$AI$22+AK23*$AK$22+AM23*$AM$22+AO23*$AO$22+AQ23*$AQ$22+AS23*$AS$22+AU23*$AU$22+AW23*$AW$22)/(SUM($AG$22:$AW$22)*10)","v":{"$error":"#DIV/0!"}},null,null,"Перейти в Реестр ресурсов: ",null,{"$f":"HYPERLINK(\"#\"&ADDRESS(MATCH(I23,Toolbox!$C$1:$C$300),1,,,\"Toolbox\"),VLOOKUP(I23,Toolbox!$C$1:$C$300,1,FALSE))","v":"Инструмент AfyaData"}]
[]
[]
[]
[]
[]
[null,null,null,null,null,null,null,null,{"$f":"Backbone!A138","v":"Электронная интегрированная система эпиднадзора за болезнями (EIDSS)"},null,null,null,null,null,null,"Электронная онлайн-система передачи эпидемиологической информации адаптируется под требования заказчика. Она создана для пассивного и активного эпиднадзора при содействии медицинских и ветеринарных учреждений, для лабораторной диагностики, надзора за переносчиками и управления вспышками заболеваний. ",null,null,null,null,null,null,null,null,{"$f":"INDEX(Backbone!$R$2:$R$893,MATCH(I29,Backbone!$A$2:$A$893,0))","v":"Оборудование или программное обеспечение"},null,null,null,{"$f":"INDEX(Backbone!$S$2:$S$893,MATCH(I29,Backbone!$A$2:$A$893,0))","v":"«Единое здоровье»; универсальный"},null,null,null,{"$f":"INDEX(Backbone!$H$2:$H$893,MATCH(I29,Backbone!$A$2:$A$893,0))","v":6.8},null,{"$f":"INDEX(Backbone!$I$2:$I$893,MATCH(I29,Backbone!$A$2:$A$893,0))","v":10},null,{"$f":"INDEX(Backbone!$J$2:$J$893,MATCH(I29,Backbone!$A$2:$A$893,0))","v":8.4},null,{"$f":"INDEX(Backbone!$K$1:$K$893,MATCH(I29,Backbone!$A$1:$A$893,0))","v":8.6999999999999993},null,{"$f":"INDEX(Backbone!$L$2:$L$893,MATCH(I29,Backbone!$A$2:$A$893,0))","v":9.1},null,{"$f":"INDEX(Backbone!$M$2:$M$893,MATCH(I29,Backbone!$A$2:$A$893,0))","v":8},null,{"$f":"INDEX(Backbone!$N$2:$N$893,MATCH(I29,Backbone!$A$2:$A$893,0))","v":7},null,{"$f":"INDEX(Backbone!$O$2:$O$893,MATCH(I29,Backbone!$A$2:$A$893,0))","v":7.2},null,{"$f":"INDEX(Backbone!$P$2:$P$893,MATCH(I29,Backbone!$A$2:$A$893,0))","v":10},null,{"$f":"INDEX(Backbone!$Q$2:$Q$893,MATCH(I29,Backbone!$A$2:$A$893,0))","v":0.83555555555555561},null,null,{"$f":"(AG29*$AG$22+AI29*$AI$22+AK29*$AK$22+AM29*$AM$22+AO29*$AO$22+AQ29*$AQ$22+AS29*$AS$22+AU29*$AU$22+AW29*$AW$22)/(SUM($AG$22:$AW$22)*10)","v":{"$error":"#DIV/0!"}},null,null,"Перейти в Реестр ресурсов: ",null,{"$f":"HYPERLINK(\"#\"&ADDRESS(MATCH(I29,Toolbox!$C$1:$C$300),1,,,\"Toolbox\"),VLOOKUP(I29,Toolbox!$C$1:$C$300,1,FALSE))","v":"Электронная интегрированная система эпиднадзора за болезнями (EIDSS)"}]
[]
[]
[]
[]
[]
[null,null,null,null,null,null,null,null,{"$f":"Backbone!A604","v":"Приложение для оценки воздействия бешенства и выявления контактных лиц (REACT)"},null,null,null,null,null,null,"Инструмент, помогающий реализации комплексных программ управления случаями укусов (IBCM).",null,null,null,null,null,null,null,null,{"$f":"INDEX(Backbone!$R$2:$R$893,MATCH(I35,Backbone!$A$2:$A$893,0))","v":"Оборудование или программное обеспечение"},null,null,null,{"$f":"INDEX(Backbone!$S$2:$S$893,MATCH(I35,Backbone!$A$2:$A$893,0))","v":"«Единое здоровье»; ориентированный на конкретную болезнь/угрозу "},null,null,null,{"$f":"INDEX(Backbone!$H$2:$H$893,MATCH(I35,Backbone!$A$2:$A$893,0))","v":8.6},null,{"$f":"INDEX(Backbone!$I$2:$I$893,MATCH(I35,Backbone!$A$2:$A$893,0))","v":8.6},null,{"$f":"INDEX(Backbone!$J$2:$J$893,MATCH(I35,Backbone!$A$2:$A$893,0))","v":8},null,{"$f":"INDEX(Backbone!$K$1:$K$893,MATCH(I35,Backbone!$A$1:$A$893,0))","v":8.6},null,{"$f":"INDEX(Backbone!$L$2:$L$893,MATCH(I35,Backbone!$A$2:$A$893,0))","v":9.4},null,{"$f":"INDEX(Backbone!$M$2:$M$893,MATCH(I35,Backbone!$A$2:$A$893,0))","v":9.5},null,{"$f":"INDEX(Backbone!$N$2:$N$893,MATCH(I35,Backbone!$A$2:$A$893,0))","v":9},null,{"$f":"INDEX(Backbone!$O$2:$O$893,MATCH(I35,Backbone!$A$2:$A$893,0))","v":9.1999999999999993},null,{"$f":"INDEX(Backbone!$P$2:$P$893,MATCH(I35,Backbone!$A$2:$A$893,0))","v":9},null,{"$f":"INDEX(Backbone!$Q$2:$Q$893,MATCH(I35,Backbone!$A$2:$A$893,0))","v":0.88777777777777767},null,null,{"$f":"(AG35*$AG$22+AI35*$AI$22+AK35*$AK$22+AM35*$AM$22+AO35*$AO$22+AQ35*$AQ$22+AS35*$AS$22+AU35*$AU$22+AW35*$AW$22)/(SUM($AG$22:$AW$22)*10)","v":{"$error":"#DIV/0!"}},null,null,"Перейти в Реестр ресурсов: ",null,{"$f":"HYPERLINK(\"#\"&ADDRESS(MATCH(I35,Toolbox!$C$1:$C$300),1,,,\"Toolbox\"),VLOOKUP(I35,Toolbox!$C$1:$C$300,1,FALSE))","v":"Приложение для оценки воздействия бешенства и выявления контактных лиц (REACT)"}]
[]
[]
[]
[]
[]
[null,null,null,null,null,null,null,null,{"$f":"Backbone!A489","v":"Пакет программного обеспечения для проведения автоматического глобального электронного биомониторинга (SAGES)"},null,null,null,null,null,null,"Пакет программного обеспечения с открытым исходным кодом для улучшения электронного эпиднадзора в условиях ограниченных ресурсов.",null,null,null,null,null,null,null,null,{"$f":"INDEX(Backbone!$R$2:$R$893,MATCH(I41,Backbone!$A$2:$A$893,0))","v":"Оборудование или программное обеспечение"},null,null,null,{"$f":"INDEX(Backbone!$S$2:$S$893,MATCH(I41,Backbone!$A$2:$A$893,0))","v":"«Единое здоровье»; универсальный"},null,null,null,{"$f":"INDEX(Backbone!$H$2:$H$893,MATCH(I41,Backbone!$A$2:$A$893,0))","v":9.8000000000000007},null,{"$f":"INDEX(Backbone!$I$2:$I$893,MATCH(I41,Backbone!$A$2:$A$893,0))","v":10},null,{"$f":"INDEX(Backbone!$J$2:$J$893,MATCH(I41,Backbone!$A$2:$A$893,0))","v":10},null,{"$f":"INDEX(Backbone!$K$1:$K$893,MATCH(I41,Backbone!$A$1:$A$893,0))","v":9.3000000000000007},null,{"$f":"INDEX(Backbone!$L$2:$L$893,MATCH(I41,Backbone!$A$2:$A$893,0))","v":8.5},null,{"$f":"INDEX(Backbone!$M$2:$M$893,MATCH(I41,Backbone!$A$2:$A$893,0))","v":9},null,{"$f":"INDEX(Backbone!$N$2:$N$893,MATCH(I41,Backbone!$A$2:$A$893,0))","v":5.5},null,{"$f":"INDEX(Backbone!$O$2:$O$893,MATCH(I41,Backbone!$A$2:$A$893,0))","v":9.5},null,{"$f":"INDEX(Backbone!$P$2:$P$893,MATCH(I41,Backbone!$A$2:$A$893,0))","v":7},null,{"$f":"INDEX(Backbone!$Q$2:$Q$893,MATCH(I41,Backbone!$A$2:$A$893,0))","v":0.87333333333333329},null,null,{"$f":"(AG41*$AG$22+AI41*$AI$22+AK41*$AK$22+AM41*$AM$22+AO41*$AO$22+AQ41*$AQ$22+AS41*$AS$22+AU41*$AU$22+AW41*$AW$22)/(SUM($AG$22:$AW$22)*10)","v":{"$error":"#DIV/0!"}},null,null,"Перейти в Реестр ресурсов: ",null,{"$f":"HYPERLINK(\"#\"&ADDRESS(MATCH(I41,Toolbox!$C$1:$C$300),1,,,\"Toolbox\"),VLOOKUP(I41,Toolbox!$C$1:$C$300,1,FALSE))","v":"Пакет программного обеспечения для проведения автоматического глобального электронного биомониторинга (SAGES)"}]
[]
[]
[]
[]
[]
[null,null,null,null,null,null,null,null,{"$f":"Backbone!A540","v":"Система анализа и управления мерами эпиднадзора и реагирования на вспышки (SORMAS)"},null,null,null,null,null,null,"Мобильная система eHealth с открытым исходным кодом, которая помимо эпиднадзора и раннего обнаружения вспышек обрабатывает процедуры борьбы с заболеваниями и управления вспышками при помощи цифрового эпиднадзора в реальном времени.",null,null,null,null,null,null,null,null,{"$f":"INDEX(Backbone!$R$2:$R$893,MATCH(I47,Backbone!$A$2:$A$893,0))","v":"Оборудование или программное обеспечение"},null,null,null,{"$f":"INDEX(Backbone!$S$2:$S$893,MATCH(I47,Backbone!$A$2:$A$893,0))","v":"Ориентированный на конкретный сектор; универсальный"},null,null,null,{"$f":"INDEX(Backbone!$H$2:$H$893,MATCH(I47,Backbone!$A$2:$A$893,0))","v":9.1999999999999993},null,{"$f":"INDEX(Backbone!$I$2:$I$893,MATCH(I47,Backbone!$A$2:$A$893,0))","v":8},null,{"$f":"INDEX(Backbone!$J$2:$J$893,MATCH(I47,Backbone!$A$2:$A$893,0))","v":9.3000000000000007},null,{"$f":"INDEX(Backbone!$K$1:$K$893,MATCH(I47,Backbone!$A$1:$A$893,0))","v":9.1},null,{"$f":"INDEX(Backbone!$L$2:$L$893,MATCH(I47,Backbone!$A$2:$A$893,0))","v":9.3000000000000007},null,{"$f":"INDEX(Backbone!$M$2:$M$893,MATCH(I47,Backbone!$A$2:$A$893,0))","v":9.3000000000000007},null,{"$f":"INDEX(Backbone!$N$2:$N$893,MATCH(I47,Backbone!$A$2:$A$893,0))","v":6.8},null,{"$f":"INDEX(Backbone!$O$2:$O$893,MATCH(I47,Backbone!$A$2:$A$893,0))","v":3.9},null,{"$f":"INDEX(Backbone!$P$2:$P$893,MATCH(I47,Backbone!$A$2:$A$893,0))","v":5.3},null,{"$f":"INDEX(Backbone!$Q$2:$Q$893,MATCH(I47,Backbone!$A$2:$A$893,0))","v":0.78},null,null,{"$f":"(AG47*$AG$22+AI47*$AI$22+AK47*$AK$22+AM47*$AM$22+AO47*$AO$22+AQ47*$AQ$22+AS47*$AS$22+AU47*$AU$22+AW47*$AW$22)/(SUM($AG$22:$AW$22)*10)","v":{"$error":"#DIV/0!"}},null,null,"Перейти в Реестр ресурсов: ",null,{"$f":"HYPERLINK(\"#\"&ADDRESS(MATCH(I47,Toolbox!$C$1:$C$300),1,,,\"Toolbox\"),VLOOKUP(I47,Toolbox!$C$1:$C$300,1,FALSE))","v":"Система анализа и управления мерами эпиднадзора и реагирования на вспышки (SORMAS)"}]
[]
[]
[]
[]
[]
[]
[null,null,null,"Другие полезные ресурсы",null,null,null,null,{"$f":"Backbone!A65","v":"Районная информационная система здравоохранения, версия 2 (DHIS2) "},null,null,null,null,null,null,"Онлайн-платформа информационной системы управления в системе здравоохранения с открытым исходным кодом.",null,null,null,null,null,null,null,null,{"$f":"INDEX(Backbone!$R$2:$R$893,MATCH(I54,Backbone!$A$2:$A$893,0))","v":"Оборудование или программное обеспечение"},null,null,null,{"$f":"INDEX(Backbone!$S$2:$S$893,MATCH(I54,Backbone!$A$2:$A$893,0))","v":"Ориентированный на конкретный сектор; универсальный"},null,null,null,{"$f":"INDEX(Backbone!$H$2:$H$893,MATCH(I54,Backbone!$A$2:$A$893,0))","v":8.8000000000000007},null,{"$f":"INDEX(Backbone!$I$2:$I$893,MATCH(I54,Backbone!$A$2:$A$893,0))","v":8.6999999999999993},null,{"$f":"INDEX(Backbone!$J$2:$J$893,MATCH(I54,Backbone!$A$2:$A$893,0))","v":8},null,{"$f":"INDEX(Backbone!$K$1:$K$893,MATCH(I54,Backbone!$A$1:$A$893,0))","v":8.6999999999999993},null,{"$f":"INDEX(Backbone!$L$2:$L$893,MATCH(I54,Backbone!$A$2:$A$893,0))","v":9.3000000000000007},null,{"$f":"INDEX(Backbone!$M$2:$M$893,MATCH(I54,Backbone!$A$2:$A$893,0))","v":9},null,{"$f":"INDEX(Backbone!$N$2:$N$893,MATCH(I54,Backbone!$A$2:$A$893,0))","v":10},null,{"$f":"INDEX(Backbone!$O$2:$O$893,MATCH(I54,Backbone!$A$2:$A$893,0))","v":7.8},null,{"$f":"INDEX(Backbone!$P$2:$P$893,MATCH(I54,Backbone!$A$2:$A$893,0))","v":7},null,{"$f":"INDEX(Backbone!$Q$2:$Q$893,MATCH(I54,Backbone!$A$2:$A$893,0))","v":0.85888888888888881},null,null,{"$f":"(AG54*$AG$22+AI54*$AI$22+AK54*$AK$22+AM54*$AM$22+AO54*$AO$22+AQ54*$AQ$22+AS54*$AS$22+AU54*$AU$22+AW54*$AW$22)/(SUM($AG$22:$AW$22)*10)","v":{"$error":"#DIV/0!"}},null,null,"Перейти в Реестр ресурсов: ",null,{"$f":"HYPERLINK(\"#\"&ADDRESS(MATCH(I54,Toolbox!$C$1:$C$300),1,,,\"Toolbox\"),VLOOKUP(I54,Toolbox!$C$1:$C$300,1,FALSE))","v":"Районная информационная система здравоохранения, версия 2 (DHIS2) "}]
[]
[]
[]
[]
[]
[null,null,null,null,null,null,null,null,{"$f":"Backbone!A166","v":"Глобальная информационная система болезней животных (EMPRES-i)"},null,null,null,null,null,null,"Защищенная информационная онлайн-система, созданная в помощь национальным ветеринарным службам. Она обеспечивает сбор глобальных и региональных данных о заболеваниях и является глобальной справочной базой данных о болезнях животных, включая зоонозы.",null,null,null,null,null,null,null,null,{"$f":"INDEX(Backbone!$R$2:$R$893,MATCH(I60,Backbone!$A$2:$A$893,0))","v":"Оборудование или программное обеспечение"},null,null,null,{"$f":"INDEX(Backbone!$S$2:$S$893,MATCH(I60,Backbone!$A$2:$A$893,0))","v":"Ориентированный на конкретный сектор; универсальный"},null,null,null,{"$f":"INDEX(Backbone!$H$2:$H$893,MATCH(I60,Backbone!$A$2:$A$893,0))","v":9},null,{"$f":"INDEX(Backbone!$I$2:$I$893,MATCH(I60,Backbone!$A$2:$A$893,0))","v":8.3000000000000007},null,{"$f":"INDEX(Backbone!$J$2:$J$893,MATCH(I60,Backbone!$A$2:$A$893,0))","v":8.9},null,{"$f":"INDEX(Backbone!$K$1:$K$893,MATCH(I60,Backbone!$A$1:$A$893,0))","v":8.6999999999999993},null,{"$f":"INDEX(Backbone!$L$2:$L$893,MATCH(I60,Backbone!$A$2:$A$893,0))","v":8},null,{"$f":"INDEX(Backbone!$M$2:$M$893,MATCH(I60,Backbone!$A$2:$A$893,0))","v":7.8},null,{"$f":"INDEX(Backbone!$N$2:$N$893,MATCH(I60,Backbone!$A$2:$A$893,0))","v":7.4},null,{"$f":"INDEX(Backbone!$O$2:$O$893,MATCH(I60,Backbone!$A$2:$A$893,0))","v":4.8},null,{"$f":"INDEX(Backbone!$P$2:$P$893,MATCH(I60,Backbone!$A$2:$A$893,0))","v":4.7},null,{"$f":"INDEX(Backbone!$Q$2:$Q$893,MATCH(I60,Backbone!$A$2:$A$893,0))","v":0.75111111111111106},null,null,{"$f":"(AG60*$AG$22+AI60*$AI$22+AK60*$AK$22+AM60*$AM$22+AO60*$AO$22+AQ60*$AQ$22+AS60*$AS$22+AU60*$AU$22+AW60*$AW$22)/(SUM($AG$22:$AW$22)*10)","v":{"$error":"#DIV/0!"}},null,null,"Перейти в Реестр ресурсов: ",null,{"$f":"HYPERLINK(\"#\"&ADDRESS(MATCH(I60,Toolbox!$C$1:$C$300),1,,,\"Toolbox\"),VLOOKUP(I60,Toolbox!$C$1:$C$300,1,FALSE))","v":"Глобальная информационная система болезней животных (EMPRES-i)"}]
[]
[]
[]
[]
[]
[null,null,null,null,null,null,null,null,{"$f":"Backbone!A531","v":"Лабораторная информационная менеджмент-система, облегченная версия (МиниЛИМС)"},null,null,null,null,null,null,"Информационная система для управления лабораторией анализов с простой организационной структурой.",null,null,null,null,null,null,null,null,{"$f":"INDEX(Backbone!$R$2:$R$893,MATCH(I66,Backbone!$A$2:$A$893,0))","v":"Оборудование или программное обеспечение"},null,null,null,{"$f":"INDEX(Backbone!$S$2:$S$893,MATCH(I66,Backbone!$A$2:$A$893,0))","v":"Ориентированный на конкретный сектор; универсальный"},null,null,null,{"$f":"INDEX(Backbone!$H$2:$H$893,MATCH(I66,Backbone!$A$2:$A$893,0))","v":9},null,{"$f":"INDEX(Backbone!$I$2:$I$893,MATCH(I66,Backbone!$A$2:$A$893,0))","v":7.3},null,{"$f":"INDEX(Backbone!$J$2:$J$893,MATCH(I66,Backbone!$A$2:$A$893,0))","v":8.4},null,{"$f":"INDEX(Backbone!$K$1:$K$893,MATCH(I66,Backbone!$A$1:$A$893,0))","v":9.3000000000000007},null,{"$f":"INDEX(Backbone!$L$2:$L$893,MATCH(I66,Backbone!$A$2:$A$893,0))","v":7.2},null,{"$f":"INDEX(Backbone!$M$2:$M$893,MATCH(I66,Backbone!$A$2:$A$893,0))","v":6.5},null,{"$f":"INDEX(Backbone!$N$2:$N$893,MATCH(I66,Backbone!$A$2:$A$893,0))","v":2},null,{"$f":"INDEX(Backbone!$O$2:$O$893,MATCH(I66,Backbone!$A$2:$A$893,0))","v":4.4000000000000004},null,{"$f":"INDEX(Backbone!$P$2:$P$893,MATCH(I66,Backbone!$A$2:$A$893,0))","v":4},null,{"$f":"INDEX(Backbone!$Q$2:$Q$893,MATCH(I66,Backbone!$A$2:$A$893,0))","v":0.64555555555555555},null,null,{"$f":"(AG66*$AG$22+AI66*$AI$22+AK66*$AK$22+AM66*$AM$22+AO66*$AO$22+AQ66*$AQ$22+AS66*$AS$22+AU66*$AU$22+AW66*$AW$22)/(SUM($AG$22:$AW$22)*10)","v":{"$error":"#DIV/0!"}},null,null,"Перейти в Реестр ресурсов: ",null,{"$f":"HYPERLINK(\"#\"&ADDRESS(MATCH(I66,Toolbox!$C$1:$C$300),1,,,\"Toolbox\"),VLOOKUP(I66,Toolbox!$C$1:$C$300,1,FALSE))","v":"Лабораторная информационная менеджмент-система, облегченная версия (МиниЛИМС)"}]
[]
[]
[]
[]
[]
[null,null,null,null,null,null,null,null,{"$f":"Backbone!A522","v":"Лабораторная информационная менеджмент-система для африканских ветеринарных служб (SILABFA)"},null,null,null,null,null,null,"Лабораторная информационная менеджмент-система (ЛИМС) позволяет отследить все этапы диагностирования от получения образцов до лабораторных заключений.",null,null,null,null,null,null,null,null,{"$f":"INDEX(Backbone!$R$2:$R$893,MATCH(I72,Backbone!$A$2:$A$893,0))","v":"Оборудование или программное обеспечение"},null,null,null,{"$f":"INDEX(Backbone!$S$2:$S$893,MATCH(I72,Backbone!$A$2:$A$893,0))","v":"Ориентированный на конкретный сектор; универсальный"},null,null,null,{"$f":"INDEX(Backbone!$H$2:$H$893,MATCH(I72,Backbone!$A$2:$A$893,0))","v":9.3000000000000007},null,{"$f":"INDEX(Backbone!$I$2:$I$893,MATCH(I72,Backbone!$A$2:$A$893,0))","v":10},null,{"$f":"INDEX(Backbone!$J$2:$J$893,MATCH(I72,Backbone!$A$2:$A$893,0))","v":6.8},null,{"$f":"INDEX(Backbone!$K$1:$K$893,MATCH(I72,Backbone!$A$1:$A$893,0))","v":9.3000000000000007},null,{"$f":"INDEX(Backbone!$L$2:$L$893,MATCH(I72,Backbone!$A$2:$A$893,0))","v":8},null,{"$f":"INDEX(Backbone!$M$2:$M$893,MATCH(I72,Backbone!$A$2:$A$893,0))","v":6.5},null,{"$f":"INDEX(Backbone!$N$2:$N$893,MATCH(I72,Backbone!$A$2:$A$893,0))","v":8},null,{"$f":"INDEX(Backbone!$O$2:$O$893,MATCH(I72,Backbone!$A$2:$A$893,0))","v":7.2},null,{"$f":"INDEX(Backbone!$P$2:$P$893,MATCH(I72,Backbone!$A$2:$A$893,0))","v":8},null,{"$f":"INDEX(Backbone!$Q$2:$Q$893,MATCH(I72,Backbone!$A$2:$A$893,0))","v":0.81222222222222229},null,null,{"$f":"(AG72*$AG$22+AI72*$AI$22+AK72*$AK$22+AM72*$AM$22+AO72*$AO$22+AQ72*$AQ$22+AS72*$AS$22+AU72*$AU$22+AW72*$AW$22)/(SUM($AG$22:$AW$22)*10)","v":{"$error":"#DIV/0!"}},null,null,"Перейти в Реестр ресурсов: ",null,{"$f":"HYPERLINK(\"#\"&ADDRESS(MATCH(I72,Toolbox!$C$1:$C$300),1,,,\"Toolbox\"),VLOOKUP(I72,Toolbox!$C$1:$C$300,1,FALSE))","v":"Лабораторная информационная менеджмент-система для африканских ветеринарных служб (SILABFA)"}]
[]
[]
[]
[]
[]
[]
[]
[]
[]
[]
[]
[]
[]
[]
[]
[]
[]
[]
[]
[]
[]
[]
[]
[]
[null,null,null,null,null,null,null,null,null,null,null,null,null,null,null,null,null,null,null,null,null,null,null,null,null,null,null,null,null,null,null,null,"Доступность",null,"Язык",null,"Простота использования",null,"Гибкость",null,"Потребности в данных",null,"Анализ данных",null,"Приемлемость",null,"«Единое здоровье»",null,"Воздействие"]
[]
[]
[]
[]
[]
[]
[null,null,null,null,null,null,null,null,null,null,null,null,null,null,null,null,null,null,null,null,null,null,null,null,null,null,null,null,null,null,null,null,null,null,null,null,null,null,null,null,null,null,null,null,null,null,null,null,null,null,"ИСХОДНАЯ ОЦЕНКА",null,null,"СКОРРЕКТИРОВАННАЯ ОЦЕНКА \n(Исходя из предпочтений пользователей)"]
[]
[]
[]
[null,"РЕСУРСЫ УРОВНЯ 2",null,"КЛАССИФИКАЦИЯ",null,null,null,null,"НАЗВАНИЕ РЕСУРСА",null,null,null,null,null,null,"КРАТКОЕ ОПИСАНИЕ",null,null,null,null,null,null,null,null,"ВИД РЕСУРСА",null,null,null,"ОБЩАЯ НАПРАВЛЕННОСТЬ РЕСУРСА"]
[]
[]
[]
[null,null,null,null,null,null,null,null,null,null,null,null,null,null,null,null,null,null,null,null,null,null,null,null,null,null,null,null,null,null,null,null,{"$f":"'Attribute Survey'!S112","v":0},null,{"$f":"'Attribute Survey'!S116","v":0},null,{"$f":"'Attribute Survey'!S120","v":0},null,{"$f":"'Attribute Survey'!S124","v":0},null,{"$f":"'Attribute Survey'!S128","v":0},null,{"$f":"'Attribute Survey'!S132","v":0},null,{"$f":"'Attribute Survey'!S136","v":0},null,{"$f":"'Attribute Survey'!S140","v":0},null,{"$f":"'Attribute Survey'!S144","v":0}]
[null,null,null,"Наиболее подходящие ресурсы",null,null,null,null,{"$f":"Backbone!A21","v":"Инструмент AfyaData"},null,null,null,null,null,null,"Инструмент эпиднадзора, основанный на концепции «Единое здоровье» и разработанный для эпиднадзора в области здравоохранения человека, охраны здоровья животных и окружающей среды. Доступен в виде мобильного и веб-приложения.",null,null,null,null,null,null,null,null,{"$f":"INDEX(Backbone!$R$2:$R$893,MATCH(I113,Backbone!$A$2:$A$893,0))","v":"Оборудование или программное обеспечение"},null,null,null,{"$f":"INDEX(Backbone!$S$2:$S$893,MATCH(I113,Backbone!$A$2:$A$893,0))","v":"«Единое здоровье»; универсальный "},null,null,null,{"$f":"INDEX(Backbone!$H$2:$H$893,MATCH(I113,Backbone!$A$2:$A$893,0))","v":7.3},null,{"$f":"INDEX(Backbone!$I$2:$I$893,MATCH(I113,Backbone!$A$2:$A$893,0))","v":10},null,{"$f":"INDEX(Backbone!$J$2:$J$893,MATCH(I113,Backbone!$A$2:$A$893,0))","v":8.1999999999999993},null,{"$f":"INDEX(Backbone!$K$2:$K$893,MATCH(I113,Backbone!$A$2:$A$893,0))","v":7.3},null,{"$f":"INDEX(Backbone!$L$2:$L$893,MATCH(I113,Backbone!$A$2:$A$893,0))","v":7.6},null,{"$f":"INDEX(Backbone!$M$2:$M$893,MATCH(I113,Backbone!$A$2:$A$893,0))","v":8.8000000000000007},null,{"$f":"INDEX(Backbone!$N$2:$N$893,MATCH(I113,Backbone!$A$2:$A$893,0))","v":5.5},null,{"$f":"INDEX(Backbone!$O$2:$O$893,MATCH(I113,Backbone!$A$2:$A$893,0))","v":7.6},null,{"$f":"INDEX(Backbone!$P$2:$P$893,MATCH(I113,Backbone!$A$2:$A$893,0))","v":7},null,{"$f":"INDEX(Backbone!$Q$2:$Q$893,MATCH(I113,Backbone!$A$2:$A$893,0))","v":0.77000000000000013},null,null,{"$f":"(AG113*$AG$22+AI113*$AI$22+AK113*$AK$22+AM113*$AM$22+AO113*$AO$22+AQ113*$AQ$22+AS113*$AS$22+AU113*$AU$22+AW113*$AW$22)/(SUM($AG$22:$AW$22)*10)","v":{"$error":"#DIV/0!"}},null,null,"Перейти в Реестр ресурсов: ",null,{"$f":"HYPERLINK(\"#\"&ADDRESS(MATCH(I113,Toolbox!$C$1:$C$300),1,,,\"Toolbox\"),VLOOKUP(I113,Toolbox!$C$1:$C$300,1,FALSE))","v":"Инструмент AfyaData"}]
[]
[]
[]
[]
[]
[null,null,null,null,null,null,null,null,{"$f":"Backbone!A138","v":"Электронная интегрированная система эпиднадзора за болезнями (EIDSS)"},null,null,null,null,null,null,"Электронная онлайн-система передачи эпидемиологической информации адаптируется под требования заказчика. Она создана для пассивного и активного эпиднадзора при содействии медицинских и ветеринарных учреждений, для лабораторной диагностики, надзора за переносчиками и управления вспышками заболеваний. ",null,null,null,null,null,null,null,null,{"$f":"INDEX(Backbone!$R$2:$R$893,MATCH(I119,Backbone!$A$2:$A$893,0))","v":"Оборудование или программное обеспечение"},null,null,null,{"$f":"INDEX(Backbone!$S$2:$S$893,MATCH(I119,Backbone!$A$2:$A$893,0))","v":"«Единое здоровье»; универсальный"},null,null,null,{"$f":"INDEX(Backbone!$H$2:$H$893,MATCH(I119,Backbone!$A$2:$A$893,0))","v":6.8},null,{"$f":"INDEX(Backbone!$I$2:$I$893,MATCH(I119,Backbone!$A$2:$A$893,0))","v":10},null,{"$f":"INDEX(Backbone!$J$2:$J$893,MATCH(I119,Backbone!$A$2:$A$893,0))","v":8.4},null,{"$f":"INDEX(Backbone!$K$1:$K$893,MATCH(I119,Backbone!$A$1:$A$893,0))","v":8.6999999999999993},null,{"$f":"INDEX(Backbone!$L$2:$L$893,MATCH(I119,Backbone!$A$2:$A$893,0))","v":9.1},null,{"$f":"INDEX(Backbone!$M$2:$M$893,MATCH(I119,Backbone!$A$2:$A$893,0))","v":8},null,{"$f":"INDEX(Backbone!$N$2:$N$893,MATCH(I119,Backbone!$A$2:$A$893,0))","v":7},null,{"$f":"INDEX(Backbone!$O$2:$O$893,MATCH(I119,Backbone!$A$2:$A$893,0))","v":7.2},null,{"$f":"INDEX(Backbone!$P$2:$P$893,MATCH(I119,Backbone!$A$2:$A$893,0))","v":10},null,{"$f":"INDEX(Backbone!$Q$2:$Q$893,MATCH(I119,Backbone!$A$2:$A$893,0))","v":0.83555555555555561},null,null,{"$f":"(AG119*$AG$22+AI119*$AI$22+AK119*$AK$22+AM119*$AM$22+AO119*$AO$22+AQ119*$AQ$22+AS119*$AS$22+AU119*$AU$22+AW119*$AW$22)/(SUM($AG$22:$AW$22)*10)","v":{"$error":"#DIV/0!"}},null,null,"Перейти в Реестр ресурсов: ",null,{"$f":"HYPERLINK(\"#\"&ADDRESS(MATCH(I119,Toolbox!$C$1:$C$300),1,,,\"Toolbox\"),VLOOKUP(I119,Toolbox!$C$1:$C$300,1,FALSE))","v":"Электронная интегрированная система эпиднадзора за болезнями (EIDSS)"}]
[]
[]
[]
[]
[]
[null,null,null,null,null,null,null,null,{"$f":"Backbone!A604","v":"Приложение для оценки воздействия бешенства и выявления контактных лиц (REACT)"},null,null,null,null,null,null,"Инструмент, помогающий реализации комплексных программ управления случаями укусов (IBCM).",null,null,null,null,null,null,null,null,{"$f":"INDEX(Backbone!$R$2:$R$893,MATCH(I125,Backbone!$A$2:$A$893,0))","v":"Оборудование или программное обеспечение"},null,null,null,{"$f":"INDEX(Backbone!$S$2:$S$893,MATCH(I125,Backbone!$A$2:$A$893,0))","v":"«Единое здоровье»; ориентированный на конкретную болезнь/угрозу "},null,null,null,{"$f":"INDEX(Backbone!$H$2:$H$893,MATCH(I125,Backbone!$A$2:$A$893,0))","v":8.6},null,{"$f":"INDEX(Backbone!$I$2:$I$893,MATCH(I125,Backbone!$A$2:$A$893,0))","v":8.6},null,{"$f":"INDEX(Backbone!$J$2:$J$893,MATCH(I125,Backbone!$A$2:$A$893,0))","v":8},null,{"$f":"INDEX(Backbone!$K$1:$K$893,MATCH(I125,Backbone!$A$1:$A$893,0))","v":8.6},null,{"$f":"INDEX(Backbone!$L$2:$L$893,MATCH(I125,Backbone!$A$2:$A$893,0))","v":9.4},null,{"$f":"INDEX(Backbone!$M$2:$M$893,MATCH(I125,Backbone!$A$2:$A$893,0))","v":9.5},null,{"$f":"INDEX(Backbone!$N$2:$N$893,MATCH(I125,Backbone!$A$2:$A$893,0))","v":9},null,{"$f":"INDEX(Backbone!$O$2:$O$893,MATCH(I125,Backbone!$A$2:$A$893,0))","v":9.1999999999999993},null,{"$f":"INDEX(Backbone!$P$2:$P$893,MATCH(I125,Backbone!$A$2:$A$893,0))","v":9},null,{"$f":"INDEX(Backbone!$Q$2:$Q$893,MATCH(I125,Backbone!$A$2:$A$893,0))","v":0.88777777777777767},null,null,{"$f":"(AG125*$AG$22+AI125*$AI$22+AK125*$AK$22+AM125*$AM$22+AO125*$AO$22+AQ125*$AQ$22+AS125*$AS$22+AU125*$AU$22+AW125*$AW$22)/(SUM($AG$22:$AW$22)*10)","v":{"$error":"#DIV/0!"}},null,null,"Перейти в Реестр ресурсов: ",null,{"$f":"HYPERLINK(\"#\"&ADDRESS(MATCH(I125,Toolbox!$C$1:$C$300),1,,,\"Toolbox\"),VLOOKUP(I125,Toolbox!$C$1:$C$300,1,FALSE))","v":"Приложение для оценки воздействия бешенства и выявления контактных лиц (REACT)"}]
[]
[]
[]
[]
[]
[null,null,null,null,null,null,null,null,{"$f":"Backbone!A489","v":"Пакет программного обеспечения для проведения автоматического глобального электронного биомониторинга (SAGES)"},null,null,null,null,null,null,"Пакет программного обеспечения с открытым исходным кодом для улучшения электронного эпиднадзора в условиях ограниченных ресурсов.",null,null,null,null,null,null,null,null,{"$f":"INDEX(Backbone!$R$2:$R$893,MATCH(I131,Backbone!$A$2:$A$893,0))","v":"Оборудование или программное обеспечение"},null,null,null,{"$f":"INDEX(Backbone!$S$2:$S$893,MATCH(I131,Backbone!$A$2:$A$893,0))","v":"«Единое здоровье»; универсальный"},null,null,null,{"$f":"INDEX(Backbone!$H$2:$H$893,MATCH(I131,Backbone!$A$2:$A$893,0))","v":9.8000000000000007},null,{"$f":"INDEX(Backbone!$I$2:$I$893,MATCH(I131,Backbone!$A$2:$A$893,0))","v":10},null,{"$f":"INDEX(Backbone!$J$2:$J$893,MATCH(I131,Backbone!$A$2:$A$893,0))","v":10},null,{"$f":"INDEX(Backbone!$K$1:$K$893,MATCH(I131,Backbone!$A$1:$A$893,0))","v":9.3000000000000007},null,{"$f":"INDEX(Backbone!$L$2:$L$893,MATCH(I131,Backbone!$A$2:$A$893,0))","v":8.5},null,{"$f":"INDEX(Backbone!$M$2:$M$893,MATCH(I131,Backbone!$A$2:$A$893,0))","v":9},null,{"$f":"INDEX(Backbone!$N$2:$N$893,MATCH(I131,Backbone!$A$2:$A$893,0))","v":5.5},null,{"$f":"INDEX(Backbone!$O$2:$O$893,MATCH(I131,Backbone!$A$2:$A$893,0))","v":9.5},null,{"$f":"INDEX(Backbone!$P$2:$P$893,MATCH(I131,Backbone!$A$2:$A$893,0))","v":7},null,{"$f":"INDEX(Backbone!$Q$2:$Q$893,MATCH(I131,Backbone!$A$2:$A$893,0))","v":0.87333333333333329},null,null,{"$f":"(AG131*$AG$22+AI131*$AI$22+AK131*$AK$22+AM131*$AM$22+AO131*$AO$22+AQ131*$AQ$22+AS131*$AS$22+AU131*$AU$22+AW131*$AW$22)/(SUM($AG$22:$AW$22)*10)","v":{"$error":"#DIV/0!"}},null,null,"Перейти в Реестр ресурсов: ",null,{"$f":"HYPERLINK(\"#\"&ADDRESS(MATCH(I131,Toolbox!$C$1:$C$300),1,,,\"Toolbox\"),VLOOKUP(I131,Toolbox!$C$1:$C$300,1,FALSE))","v":"Пакет программного обеспечения для проведения автоматического глобального электронного биомониторинга (SAGES)"}]
[]
[]
[]
[]
[]
[null,null,null,null,null,null,null,null,{"$f":"Backbone!A540","v":"Система анализа и управления мерами эпиднадзора и реагирования на вспышки (SORMAS)"},null,null,null,null,null,null,"Мобильная система eHealth с открытым исходным кодом, которая помимо эпиднадзора и раннего обнаружения вспышек обрабатывает процедуры борьбы с заболеваниями и управления вспышками при помощи цифрового эпиднадзора в реальном времени.",null,null,null,null,null,null,null,null,{"$f":"INDEX(Backbone!$R$2:$R$893,MATCH(I137,Backbone!$A$2:$A$893,0))","v":"Оборудование или программное обеспечение"},null,null,null,{"$f":"INDEX(Backbone!$S$2:$S$893,MATCH(I137,Backbone!$A$2:$A$893,0))","v":"Ориентированный на конкретный сектор; универсальный"},null,null,null,{"$f":"INDEX(Backbone!$H$2:$H$893,MATCH(I137,Backbone!$A$2:$A$893,0))","v":9.1999999999999993},null,{"$f":"INDEX(Backbone!$I$2:$I$893,MATCH(I137,Backbone!$A$2:$A$893,0))","v":8},null,{"$f":"INDEX(Backbone!$J$2:$J$893,MATCH(I137,Backbone!$A$2:$A$893,0))","v":9.3000000000000007},null,{"$f":"INDEX(Backbone!$K$1:$K$893,MATCH(I137,Backbone!$A$1:$A$893,0))","v":9.1},null,{"$f":"INDEX(Backbone!$L$2:$L$893,MATCH(I137,Backbone!$A$2:$A$893,0))","v":9.3000000000000007},null,{"$f":"INDEX(Backbone!$M$2:$M$893,MATCH(I137,Backbone!$A$2:$A$893,0))","v":9.3000000000000007},null,{"$f":"INDEX(Backbone!$N$2:$N$893,MATCH(I137,Backbone!$A$2:$A$893,0))","v":6.8},null,{"$f":"INDEX(Backbone!$O$2:$O$893,MATCH(I137,Backbone!$A$2:$A$893,0))","v":3.9},null,{"$f":"INDEX(Backbone!$P$2:$P$893,MATCH(I137,Backbone!$A$2:$A$893,0))","v":5.3},null,{"$f":"INDEX(Backbone!$Q$2:$Q$893,MATCH(I137,Backbone!$A$2:$A$893,0))","v":0.78},null,null,{"$f":"(AG137*$AG$22+AI137*$AI$22+AK137*$AK$22+AM137*$AM$22+AO137*$AO$22+AQ137*$AQ$22+AS137*$AS$22+AU137*$AU$22+AW137*$AW$22)/(SUM($AG$22:$AW$22)*10)","v":{"$error":"#DIV/0!"}},null,null,"Перейти в Реестр ресурсов: ",null,{"$f":"HYPERLINK(\"#\"&ADDRESS(MATCH(I137,Toolbox!$C$1:$C$300),1,,,\"Toolbox\"),VLOOKUP(I137,Toolbox!$C$1:$C$300,1,FALSE))","v":"Система анализа и управления мерами эпиднадзора и реагирования на вспышки (SORMAS)"}]
[]
[]
[]
[]
[]
[]
[null,null,null,"Другие полезные ресурсы",null,null,null,null,{"$f":"Backbone!A65","v":"Районная информационная система здравоохранения, версия 2 (DHIS2) "},null,null,null,null,null,null,"Онлайн-платформа информационной системы управления в системе здравоохранения с открытым исходным кодом.",null,null,null,null,null,null,null,null,{"$f":"INDEX(Backbone!$R$2:$R$893,MATCH(I144,Backbone!$A$2:$A$893,0))","v":"Оборудование или программное обеспечение"},null,null,null,{"$f":"INDEX(Backbone!$S$2:$S$893,MATCH(I144,Backbone!$A$2:$A$893,0))","v":"Ориентированный на конкретный сектор; универсальный"},null,null,null,{"$f":"INDEX(Backbone!$H$2:$H$893,MATCH(I144,Backbone!$A$2:$A$893,0))","v":8.8000000000000007},null,{"$f":"INDEX(Backbone!$I$2:$I$893,MATCH(I144,Backbone!$A$2:$A$893,0))","v":8.6999999999999993},null,{"$f":"INDEX(Backbone!$J$2:$J$893,MATCH(I144,Backbone!$A$2:$A$893,0))","v":8},null,{"$f":"INDEX(Backbone!$K$1:$K$893,MATCH(I144,Backbone!$A$1:$A$893,0))","v":8.6999999999999993},null,{"$f":"INDEX(Backbone!$L$2:$L$893,MATCH(I144,Backbone!$A$2:$A$893,0))","v":9.3000000000000007},null,{"$f":"INDEX(Backbone!$M$2:$M$893,MATCH(I144,Backbone!$A$2:$A$893,0))","v":9},null,{"$f":"INDEX(Backbone!$N$2:$N$893,MATCH(I144,Backbone!$A$2:$A$893,0))","v":10},null,{"$f":"INDEX(Backbone!$O$2:$O$893,MATCH(I144,Backbone!$A$2:$A$893,0))","v":7.8},null,{"$f":"INDEX(Backbone!$P$2:$P$893,MATCH(I144,Backbone!$A$2:$A$893,0))","v":7},null,{"$f":"INDEX(Backbone!$Q$2:$Q$893,MATCH(I144,Backbone!$A$2:$A$893,0))","v":0.85888888888888881},null,null,{"$f":"(AG144*$AG$22+AI144*$AI$22+AK144*$AK$22+AM144*$AM$22+AO144*$AO$22+AQ144*$AQ$22+AS144*$AS$22+AU144*$AU$22+AW144*$AW$22)/(SUM($AG$22:$AW$22)*10)","v":{"$error":"#DIV/0!"}},null,null,"Перейти в Реестр ресурсов: ",null,{"$f":"HYPERLINK(\"#\"&ADDRESS(MATCH(I144,Toolbox!$C$1:$C$300),1,,,\"Toolbox\"),VLOOKUP(I144,Toolbox!$C$1:$C$300,1,FALSE))","v":"Районная информационная система здравоохранения, версия 2 (DHIS2) "}]
[]
[]
[]
[]
[]
[null,null,null,null,null,null,null,null,{"$f":"Backbone!A166","v":"Глобальная информационная система болезней животных (EMPRES-i)"},null,null,null,null,null,null,"Защищенная информационная онлайн-система, созданная в помощь национальным ветеринарным службам. Она обеспечивает сбор глобальных и региональных данных о заболеваниях и является глобальной справочной базой данных о болезнях животных, включая зоонозы.",null,null,null,null,null,null,null,null,{"$f":"INDEX(Backbone!$R$2:$R$893,MATCH(I150,Backbone!$A$2:$A$893,0))","v":"Оборудование или программное обеспечение"},null,null,null,{"$f":"INDEX(Backbone!$S$2:$S$893,MATCH(I150,Backbone!$A$2:$A$893,0))","v":"Ориентированный на конкретный сектор; универсальный"},null,null,null,{"$f":"INDEX(Backbone!$H$2:$H$893,MATCH(I150,Backbone!$A$2:$A$893,0))","v":9},null,{"$f":"INDEX(Backbone!$I$2:$I$893,MATCH(I150,Backbone!$A$2:$A$893,0))","v":8.3000000000000007},null,{"$f":"INDEX(Backbone!$J$2:$J$893,MATCH(I150,Backbone!$A$2:$A$893,0))","v":8.9},null,{"$f":"INDEX(Backbone!$K$1:$K$893,MATCH(I150,Backbone!$A$1:$A$893,0))","v":8.6999999999999993},null,{"$f":"INDEX(Backbone!$L$2:$L$893,MATCH(I150,Backbone!$A$2:$A$893,0))","v":8},null,{"$f":"INDEX(Backbone!$M$2:$M$893,MATCH(I150,Backbone!$A$2:$A$893,0))","v":7.8},null,{"$f":"INDEX(Backbone!$N$2:$N$893,MATCH(I150,Backbone!$A$2:$A$893,0))","v":7.4},null,{"$f":"INDEX(Backbone!$O$2:$O$893,MATCH(I150,Backbone!$A$2:$A$893,0))","v":4.8},null,{"$f":"INDEX(Backbone!$P$2:$P$893,MATCH(I150,Backbone!$A$2:$A$893,0))","v":4.7},null,{"$f":"INDEX(Backbone!$Q$2:$Q$893,MATCH(I150,Backbone!$A$2:$A$893,0))","v":0.75111111111111106},null,null,{"$f":"(AG150*$AG$22+AI150*$AI$22+AK150*$AK$22+AM150*$AM$22+AO150*$AO$22+AQ150*$AQ$22+AS150*$AS$22+AU150*$AU$22+AW150*$AW$22)/(SUM($AG$22:$AW$22)*10)","v":{"$error":"#DIV/0!"}},null,null,"Перейти в Реестр ресурсов: ",null,{"$f":"HYPERLINK(\"#\"&ADDRESS(MATCH(I150,Toolbox!$C$1:$C$300),1,,,\"Toolbox\"),VLOOKUP(I150,Toolbox!$C$1:$C$300,1,FALSE))","v":"Глобальная информационная система болезней животных (EMPRES-i)"}]
[]
[]
[]
[]
[]
[null,null,null,null,null,null,null,null,{"$f":"Backbone!A531","v":"Лабораторная информационная менеджмент-система, облегченная версия (МиниЛИМС)"},null,null,null,null,null,null,"Информационная система для управления лабораторией анализов с простой организационной структурой.",null,null,null,null,null,null,null,null,{"$f":"INDEX(Backbone!$R$2:$R$893,MATCH(I156,Backbone!$A$2:$A$893,0))","v":"Оборудование или программное обеспечение"},null,null,null,{"$f":"INDEX(Backbone!$S$2:$S$893,MATCH(I156,Backbone!$A$2:$A$893,0))","v":"Ориентированный на конкретный сектор; универсальный"},null,null,null,{"$f":"INDEX(Backbone!$H$2:$H$893,MATCH(I156,Backbone!$A$2:$A$893,0))","v":9},null,{"$f":"INDEX(Backbone!$I$2:$I$893,MATCH(I156,Backbone!$A$2:$A$893,0))","v":7.3},null,{"$f":"INDEX(Backbone!$J$2:$J$893,MATCH(I156,Backbone!$A$2:$A$893,0))","v":8.4},null,{"$f":"INDEX(Backbone!$K$1:$K$893,MATCH(I156,Backbone!$A$1:$A$893,0))","v":9.3000000000000007},null,{"$f":"INDEX(Backbone!$L$2:$L$893,MATCH(I156,Backbone!$A$2:$A$893,0))","v":7.2},null,{"$f":"INDEX(Backbone!$M$2:$M$893,MATCH(I156,Backbone!$A$2:$A$893,0))","v":6.5},null,{"$f":"INDEX(Backbone!$N$2:$N$893,MATCH(I156,Backbone!$A$2:$A$893,0))","v":2},null,{"$f":"INDEX(Backbone!$O$2:$O$893,MATCH(I156,Backbone!$A$2:$A$893,0))","v":4.4000000000000004},null,{"$f":"INDEX(Backbone!$P$2:$P$893,MATCH(I156,Backbone!$A$2:$A$893,0))","v":4},null,{"$f":"INDEX(Backbone!$Q$2:$Q$893,MATCH(I156,Backbone!$A$2:$A$893,0))","v":0.64555555555555555},null,null,{"$f":"(AG156*$AG$22+AI156*$AI$22+AK156*$AK$22+AM156*$AM$22+AO156*$AO$22+AQ156*$AQ$22+AS156*$AS$22+AU156*$AU$22+AW156*$AW$22)/(SUM($AG$22:$AW$22)*10)","v":{"$error":"#DIV/0!"}},null,null,"Перейти в Реестр ресурсов: ",null,{"$f":"HYPERLINK(\"#\"&ADDRESS(MATCH(I156,Toolbox!$C$1:$C$300),1,,,\"Toolbox\"),VLOOKUP(I156,Toolbox!$C$1:$C$300,1,FALSE))","v":"Лабораторная информационная менеджмент-система, облегченная версия (МиниЛИМС)"}]
[]
[]
[]
[]
[]
[null,null,null,null,null,null,null,null,{"$f":"Backbone!A522","v":"Лабораторная информационная менеджмент-система для африканских ветеринарных служб (SILABFA)"},null,null,null,null,null,null,"Лабораторная информационная менеджмент-система (ЛИМС) позволяет отследить все этапы диагностирования от получения образцов до лабораторных заключений.",null,null,null,null,null,null,null,null,{"$f":"INDEX(Backbone!$R$2:$R$893,MATCH(I162,Backbone!$A$2:$A$893,0))","v":"Оборудование или программное обеспечение"},null,null,null,{"$f":"INDEX(Backbone!$S$2:$S$893,MATCH(I162,Backbone!$A$2:$A$893,0))","v":"Ориентированный на конкретный сектор; универсальный"},null,null,null,{"$f":"INDEX(Backbone!$H$2:$H$893,MATCH(I162,Backbone!$A$2:$A$893,0))","v":9.3000000000000007},null,{"$f":"INDEX(Backbone!$I$2:$I$893,MATCH(I162,Backbone!$A$2:$A$893,0))","v":10},null,{"$f":"INDEX(Backbone!$J$2:$J$893,MATCH(I162,Backbone!$A$2:$A$893,0))","v":6.8},null,{"$f":"INDEX(Backbone!$K$1:$K$893,MATCH(I162,Backbone!$A$1:$A$893,0))","v":9.3000000000000007},null,{"$f":"INDEX(Backbone!$L$2:$L$893,MATCH(I162,Backbone!$A$2:$A$893,0))","v":8},null,{"$f":"INDEX(Backbone!$M$2:$M$893,MATCH(I162,Backbone!$A$2:$A$893,0))","v":6.5},null,{"$f":"INDEX(Backbone!$N$2:$N$893,MATCH(I162,Backbone!$A$2:$A$893,0))","v":8},null,{"$f":"INDEX(Backbone!$O$2:$O$893,MATCH(I162,Backbone!$A$2:$A$893,0))","v":7.2},null,{"$f":"INDEX(Backbone!$P$2:$P$893,MATCH(I162,Backbone!$A$2:$A$893,0))","v":8},null,{"$f":"INDEX(Backbone!$Q$2:$Q$893,MATCH(I162,Backbone!$A$2:$A$893,0))","v":0.81222222222222229},null,null,{"$f":"(AG162*$AG$22+AI162*$AI$22+AK162*$AK$22+AM162*$AM$22+AO162*$AO$22+AQ162*$AQ$22+AS162*$AS$22+AU162*$AU$22+AW162*$AW$22)/(SUM($AG$22:$AW$22)*10)","v":{"$error":"#DIV/0!"}},null,null,"Перейти в Реестр ресурсов: ",null,{"$f":"HYPERLINK(\"#\"&ADDRESS(MATCH(I162,Toolbox!$C$1:$C$300),1,,,\"Toolbox\"),VLOOKUP(I162,Toolbox!$C$1:$C$300,1,FALSE))","v":"Лабораторная информационная менеджмент-система для африканских ветеринарных служб (SILABFA)"}]
[]
[]
[]
[]
[]
[]
[]
[]
[]
[]
[]
[]
[]
[]
[]
[]
[]
[]
[]
[]
[]
[]
[]
[null,null,null,null,null,null,null,null,null,null,null,null,null,null,null,null,null,null,null,null,null,null,null,null,null,null,null,null,null,null,null,null,"Доступность",null,"Язык",null,"Простота использования",null,"Гибкость",null,"Потребности в данных",null,"Анализ данных",null,"Приемлемость",null,"«Единое здоровье»",null,"Воздействие"]
[]
[]
[]
[]
[]
[]
[null,null,null,null,null,null,null,null,null,null,null,null,null,null,null,null,null,null,null,null,null,null,null,null,null,null,null,null,null,null,null,null,null,null,null,null,null,null,null,null,null,null,null,null,null,null,null,null,null,null,"ИСХОДНАЯ ОЦЕНКА",null,null,"СКОРРЕКТИРОВАННАЯ ОЦЕНКА \n(Исходя из предпочтений пользователей)"]
[]
[]
[]
[null,"РЕСУРСЫ УРОВНЯ 3",null,"КЛАССИФИКАЦИЯ",null,null,null,null,"НАЗВАНИЕ РЕСУРСА",null,null,null,null,null,null,"КРАТКОЕ ОПИСАНИЕ",null,null,null,null,null,null,null,null,"ВИД РЕСУРСА",null,null,null,"ОБЩАЯ НАПРАВЛЕННОСТЬ РЕСУРСА"]
[]
[]
[]
[null,null,null,null,null,null,null,null,null,null,null,null,null,null,null,null,null,null,null,null,null,null,null,null,null,null,null,null,null,null,null,null,{"$f":"'Attribute Survey'!S201","v":0},null,{"$f":"'Attribute Survey'!S205","v":0},null,{"$f":"'Attribute Survey'!S209","v":0},null,{"$f":"'Attribute Survey'!S213","v":0},null,{"$f":"'Attribute Survey'!S217","v":0},null,{"$f":"'Attribute Survey'!S221","v":0},null,{"$f":"'Attribute Survey'!S225","v":0},null,{"$f":"'Attribute Survey'!S229","v":0},null,{"$f":"'Attribute Survey'!S233","v":0}]
[null,null,null,"Наиболее подходящие ресурсы",null,null,null,null,{"$f":"Backbone!A138","v":"Электронная интегрированная система эпиднадзора за болезнями (EIDSS)"},null,null,null,null,null,null,"Электронная онлайн-система передачи эпидемиологической информации адаптируется под требования заказчика. Она создана для пассивного и активного эпиднадзора при содействии медицинских и ветеринарных учреждений, для лабораторной диагностики, надзора за переносчиками и управления вспышками заболеваний. ",null,null,null,null,null,null,null,null,{"$f":"INDEX(Backbone!$R$2:$R$893,MATCH(I202,Backbone!$A$2:$A$893,0))","v":"Оборудование или программное обеспечение"},null,null,null,{"$f":"INDEX(Backbone!$S$2:$S$893,MATCH(I202,Backbone!$A$2:$A$893,0))","v":"«Единое здоровье»; универсальный"},null,null,null,{"$f":"INDEX(Backbone!$H$2:$H$893,MATCH(I202,Backbone!$A$2:$A$893,0))","v":6.8},null,{"$f":"INDEX(Backbone!$I$2:$I$893,MATCH(I202,Backbone!$A$2:$A$893,0))","v":10},null,{"$f":"INDEX(Backbone!$J$2:$J$893,MATCH(I202,Backbone!$A$2:$A$893,0))","v":8.4},null,{"$f":"INDEX(Backbone!$K$2:$K$893,MATCH(I202,Backbone!$A$2:$A$893,0))","v":8.6999999999999993},null,{"$f":"INDEX(Backbone!$L$2:$L$893,MATCH(I202,Backbone!$A$2:$A$893,0))","v":9.1},null,{"$f":"INDEX(Backbone!$M$2:$M$893,MATCH(I202,Backbone!$A$2:$A$893,0))","v":8},null,{"$f":"INDEX(Backbone!$N$2:$N$893,MATCH(I202,Backbone!$A$2:$A$893,0))","v":7},null,{"$f":"INDEX(Backbone!$O$2:$O$893,MATCH(I202,Backbone!$A$2:$A$893,0))","v":7.2},null,{"$f":"INDEX(Backbone!$P$2:$P$893,MATCH(I202,Backbone!$A$2:$A$893,0))","v":10},null,{"$f":"INDEX(Backbone!$Q$2:$Q$893,MATCH(I202,Backbone!$A$2:$A$893,0))","v":0.83555555555555561},null,null,{"$f":"(AG202*$AG$22+AI202*$AI$22+AK202*$AK$22+AM202*$AM$22+AO202*$AO$22+AQ202*$AQ$22+AS202*$AS$22+AU202*$AU$22+AW202*$AW$22)/(SUM($AG$22:$AW$22)*10)","v":{"$error":"#DIV/0!"}},null,null,"Перейти в Реестр ресурсов: ",null,{"$f":"HYPERLINK(\"#\"&ADDRESS(MATCH(I202,Toolbox!$C$1:$C$300),1,,,\"Toolbox\"),VLOOKUP(I202,Toolbox!$C$1:$C$300,1,FALSE))","v":"Электронная интегрированная система эпиднадзора за болезнями (EIDSS)"}]
[]
[]
[]
[]
[]
[null,null,null,null,null,null,null,null,{"$f":"Backbone!A604","v":"Приложение для оценки воздействия бешенства и выявления контактных лиц (REACT)"},null,null,null,null,null,null,"Инструмент, помогающий реализации комплексных программ управления случаями укусов (IBCM).",null,null,null,null,null,null,null,null,{"$f":"INDEX(Backbone!$R$2:$R$893,MATCH(I208,Backbone!$A$2:$A$893,0))","v":"Оборудование или программное обеспечение"},null,null,null,{"$f":"INDEX(Backbone!$S$2:$S$893,MATCH(I208,Backbone!$A$2:$A$893,0))","v":"«Единое здоровье»; ориентированный на конкретную болезнь/угрозу "},null,null,null,{"$f":"INDEX(Backbone!$H$2:$H$893,MATCH(I208,Backbone!$A$2:$A$893,0))","v":8.6},null,{"$f":"INDEX(Backbone!$I$2:$I$893,MATCH(I208,Backbone!$A$2:$A$893,0))","v":8.6},null,{"$f":"INDEX(Backbone!$J$2:$J$893,MATCH(I208,Backbone!$A$2:$A$893,0))","v":8},null,{"$f":"INDEX(Backbone!$K$1:$K$893,MATCH(I208,Backbone!$A$1:$A$893,0))","v":8.6},null,{"$f":"INDEX(Backbone!$L$2:$L$893,MATCH(I208,Backbone!$A$2:$A$893,0))","v":9.4},null,{"$f":"INDEX(Backbone!$M$2:$M$893,MATCH(I208,Backbone!$A$2:$A$893,0))","v":9.5},null,{"$f":"INDEX(Backbone!$N$2:$N$893,MATCH(I208,Backbone!$A$2:$A$893,0))","v":9},null,{"$f":"INDEX(Backbone!$O$2:$O$893,MATCH(I208,Backbone!$A$2:$A$893,0))","v":9.1999999999999993},null,{"$f":"INDEX(Backbone!$P$2:$P$893,MATCH(I208,Backbone!$A$2:$A$893,0))","v":9},null,{"$f":"INDEX(Backbone!$Q$2:$Q$893,MATCH(I208,Backbone!$A$2:$A$893,0))","v":0.88777777777777767},null,null,{"$f":"(AG208*$AG$22+AI208*$AI$22+AK208*$AK$22+AM208*$AM$22+AO208*$AO$22+AQ208*$AQ$22+AS208*$AS$22+AU208*$AU$22+AW208*$AW$22)/(SUM($AG$22:$AW$22)*10)","v":{"$error":"#DIV/0!"}},null,null,"Перейти в Реестр ресурсов: ",null,{"$f":"HYPERLINK(\"#\"&ADDRESS(MATCH(I208,Toolbox!$C$1:$C$300),1,,,\"Toolbox\"),VLOOKUP(I208,Toolbox!$C$1:$C$300,1,FALSE))","v":"Приложение для оценки воздействия бешенства и выявления контактных лиц (REACT)"}]
[]
[]
[]
[]
[]
[null,null,null,null,null,null,null,null,{"$f":"Backbone!A489","v":"Пакет программного обеспечения для проведения автоматического глобального электронного биомониторинга (SAGES)"},null,null,null,null,null,null,"Пакет программного обеспечения с открытым исходным кодом для улучшения электронного эпиднадзора в условиях ограниченных ресурсов.",null,null,null,null,null,null,null,null,{"$f":"INDEX(Backbone!$R$2:$R$893,MATCH(I214,Backbone!$A$2:$A$893,0))","v":"Оборудование или программное обеспечение"},null,null,null,{"$f":"INDEX(Backbone!$S$2:$S$893,MATCH(I214,Backbone!$A$2:$A$893,0))","v":"«Единое здоровье»; универсальный"},null,null,null,{"$f":"INDEX(Backbone!$H$2:$H$893,MATCH(I214,Backbone!$A$2:$A$893,0))","v":9.8000000000000007},null,{"$f":"INDEX(Backbone!$I$2:$I$893,MATCH(I214,Backbone!$A$2:$A$893,0))","v":10},null,{"$f":"INDEX(Backbone!$J$2:$J$893,MATCH(I214,Backbone!$A$2:$A$893,0))","v":10},null,{"$f":"INDEX(Backbone!$K$1:$K$893,MATCH(I214,Backbone!$A$1:$A$893,0))","v":9.3000000000000007},null,{"$f":"INDEX(Backbone!$L$2:$L$893,MATCH(I214,Backbone!$A$2:$A$893,0))","v":8.5},null,{"$f":"INDEX(Backbone!$M$2:$M$893,MATCH(I214,Backbone!$A$2:$A$893,0))","v":9},null,{"$f":"INDEX(Backbone!$N$2:$N$893,MATCH(I214,Backbone!$A$2:$A$893,0))","v":5.5},null,{"$f":"INDEX(Backbone!$O$2:$O$893,MATCH(I214,Backbone!$A$2:$A$893,0))","v":9.5},null,{"$f":"INDEX(Backbone!$P$2:$P$893,MATCH(I214,Backbone!$A$2:$A$893,0))","v":7},null,{"$f":"INDEX(Backbone!$Q$2:$Q$893,MATCH(I214,Backbone!$A$2:$A$893,0))","v":0.87333333333333329},null,null,{"$f":"(AG214*$AG$22+AI214*$AI$22+AK214*$AK$22+AM214*$AM$22+AO214*$AO$22+AQ214*$AQ$22+AS214*$AS$22+AU214*$AU$22+AW214*$AW$22)/(SUM($AG$22:$AW$22)*10)","v":{"$error":"#DIV/0!"}},null,null,"Перейти в Реестр ресурсов: ",null,{"$f":"HYPERLINK(\"#\"&ADDRESS(MATCH(I214,Toolbox!$C$1:$C$300),1,,,\"Toolbox\"),VLOOKUP(I214,Toolbox!$C$1:$C$300,1,FALSE))","v":"Пакет программного обеспечения для проведения автоматического глобального электронного биомониторинга (SAGES)"}]
[]
[]
[]
[]
[]
[null,null,null,null,null,null,null,null,{"$f":"Backbone!A540","v":"Система анализа и управления мерами эпиднадзора и реагирования на вспышки (SORMAS)"},null,null,null,null,null,null,"Мобильная система eHealth с открытым исходным кодом, которая помимо эпиднадзора и раннего обнаружения вспышек обрабатывает процедуры борьбы с заболеваниями и управления вспышками при помощи цифрового эпиднадзора в реальном времени.",null,null,null,null,null,null,null,null,{"$f":"INDEX(Backbone!$R$2:$R$893,MATCH(I220,Backbone!$A$2:$A$893,0))","v":"Оборудование или программное обеспечение"},null,null,null,{"$f":"INDEX(Backbone!$S$2:$S$893,MATCH(I220,Backbone!$A$2:$A$893,0))","v":"Ориентированный на конкретный сектор; универсальный"},null,null,null,{"$f":"INDEX(Backbone!$H$2:$H$893,MATCH(I220,Backbone!$A$2:$A$893,0))","v":9.1999999999999993},null,{"$f":"INDEX(Backbone!$I$2:$I$893,MATCH(I220,Backbone!$A$2:$A$893,0))","v":8},null,{"$f":"INDEX(Backbone!$J$2:$J$893,MATCH(I220,Backbone!$A$2:$A$893,0))","v":9.3000000000000007},null,{"$f":"INDEX(Backbone!$K$1:$K$893,MATCH(I220,Backbone!$A$1:$A$893,0))","v":9.1},null,{"$f":"INDEX(Backbone!$L$2:$L$893,MATCH(I220,Backbone!$A$2:$A$893,0))","v":9.3000000000000007},null,{"$f":"INDEX(Backbone!$M$2:$M$893,MATCH(I220,Backbone!$A$2:$A$893,0))","v":9.3000000000000007},null,{"$f":"INDEX(Backbone!$N$2:$N$893,MATCH(I220,Backbone!$A$2:$A$893,0))","v":6.8},null,{"$f":"INDEX(Backbone!$O$2:$O$893,MATCH(I220,Backbone!$A$2:$A$893,0))","v":3.9},null,{"$f":"INDEX(Backbone!$P$2:$P$893,MATCH(I220,Backbone!$A$2:$A$893,0))","v":5.3},null,{"$f":"INDEX(Backbone!$Q$2:$Q$893,MATCH(I220,Backbone!$A$2:$A$893,0))","v":0.78},null,null,{"$f":"(AG220*$AG$22+AI220*$AI$22+AK220*$AK$22+AM220*$AM$22+AO220*$AO$22+AQ220*$AQ$22+AS220*$AS$22+AU220*$AU$22+AW220*$AW$22)/(SUM($AG$22:$AW$22)*10)","v":{"$error":"#DIV/0!"}},null,null,"Перейти в Реестр ресурсов: ",null,{"$f":"HYPERLINK(\"#\"&ADDRESS(MATCH(I220,Toolbox!$C$1:$C$300),1,,,\"Toolbox\"),VLOOKUP(I220,Toolbox!$C$1:$C$300,1,FALSE))","v":"Система анализа и управления мерами эпиднадзора и реагирования на вспышки (SORMAS)"}]
[]
[]
[]
[]
[]
[]
[null,null,null,"Другие полезные ресурсы",null,null,null,null,{"$f":"Backbone!A65","v":"Районная информационная система здравоохранения, версия 2 (DHIS2) "},null,null,null,null,null,null,"Онлайн-платформа информационной системы управления в системе здравоохранения с открытым исходным кодом.",null,null,null,null,null,null,null,null,{"$f":"INDEX(Backbone!$R$2:$R$893,MATCH(I227,Backbone!$A$2:$A$893,0))","v":"Оборудование или программное обеспечение"},null,null,null,{"$f":"INDEX(Backbone!$S$2:$S$893,MATCH(I227,Backbone!$A$2:$A$893,0))","v":"Ориентированный на конкретный сектор; универсальный"},null,null,null,{"$f":"INDEX(Backbone!$H$2:$H$893,MATCH(I227,Backbone!$A$2:$A$893,0))","v":8.8000000000000007},null,{"$f":"INDEX(Backbone!$I$2:$I$893,MATCH(I227,Backbone!$A$2:$A$893,0))","v":8.6999999999999993},null,{"$f":"INDEX(Backbone!$J$2:$J$893,MATCH(I227,Backbone!$A$2:$A$893,0))","v":8},null,{"$f":"INDEX(Backbone!$K$1:$K$893,MATCH(I227,Backbone!$A$1:$A$893,0))","v":8.6999999999999993},null,{"$f":"INDEX(Backbone!$L$2:$L$893,MATCH(I227,Backbone!$A$2:$A$893,0))","v":9.3000000000000007},null,{"$f":"INDEX(Backbone!$M$2:$M$893,MATCH(I227,Backbone!$A$2:$A$893,0))","v":9},null,{"$f":"INDEX(Backbone!$N$2:$N$893,MATCH(I227,Backbone!$A$2:$A$893,0))","v":10},null,{"$f":"INDEX(Backbone!$O$2:$O$893,MATCH(I227,Backbone!$A$2:$A$893,0))","v":7.8},null,{"$f":"INDEX(Backbone!$P$2:$P$893,MATCH(I227,Backbone!$A$2:$A$893,0))","v":7},null,{"$f":"INDEX(Backbone!$Q$2:$Q$893,MATCH(I227,Backbone!$A$2:$A$893,0))","v":0.85888888888888881},null,null,{"$f":"(AG227*$AG$22+AI227*$AI$22+AK227*$AK$22+AM227*$AM$22+AO227*$AO$22+AQ227*$AQ$22+AS227*$AS$22+AU227*$AU$22+AW227*$AW$22)/(SUM($AG$22:$AW$22)*10)","v":{"$error":"#DIV/0!"}},null,null,"Перейти в Реестр ресурсов: ",null,{"$f":"HYPERLINK(\"#\"&ADDRESS(MATCH(I227,Toolbox!$C$1:$C$300),1,,,\"Toolbox\"),VLOOKUP(I227,Toolbox!$C$1:$C$300,1,FALSE))","v":"Районная информационная система здравоохранения, версия 2 (DHIS2) "}]
[]
[]
[]
[]
[]
[null,null,null,null,null,null,null,null,{"$f":"Backbone!A166","v":"Глобальная информационная система болезней животных (EMPRES-i)"},null,null,null,null,null,null,"Защищенная информационная онлайн-система, созданная в помощь национальным ветеринарным службам. Она обеспечивает сбор глобальных и региональных данных о заболеваниях и является глобальной справочной базой данных о болезнях животных, включая зоонозы.",null,null,null,null,null,null,null,null,{"$f":"INDEX(Backbone!$R$2:$R$893,MATCH(I233,Backbone!$A$2:$A$893,0))","v":"Оборудование или программное обеспечение"},null,null,null,{"$f":"INDEX(Backbone!$S$2:$S$893,MATCH(I233,Backbone!$A$2:$A$893,0))","v":"Ориентированный на конкретный сектор; универсальный"},null,null,null,{"$f":"INDEX(Backbone!$H$2:$H$893,MATCH(I233,Backbone!$A$2:$A$893,0))","v":9},null,{"$f":"INDEX(Backbone!$I$2:$I$893,MATCH(I233,Backbone!$A$2:$A$893,0))","v":8.3000000000000007},null,{"$f":"INDEX(Backbone!$J$2:$J$893,MATCH(I233,Backbone!$A$2:$A$893,0))","v":8.9},null,{"$f":"INDEX(Backbone!$K$1:$K$893,MATCH(I233,Backbone!$A$1:$A$893,0))","v":8.6999999999999993},null,{"$f":"INDEX(Backbone!$L$2:$L$893,MATCH(I233,Backbone!$A$2:$A$893,0))","v":8},null,{"$f":"INDEX(Backbone!$M$2:$M$893,MATCH(I233,Backbone!$A$2:$A$893,0))","v":7.8},null,{"$f":"INDEX(Backbone!$N$2:$N$893,MATCH(I233,Backbone!$A$2:$A$893,0))","v":7.4},null,{"$f":"INDEX(Backbone!$O$2:$O$893,MATCH(I233,Backbone!$A$2:$A$893,0))","v":4.8},null,{"$f":"INDEX(Backbone!$P$2:$P$893,MATCH(I233,Backbone!$A$2:$A$893,0))","v":4.7},null,{"$f":"INDEX(Backbone!$Q$2:$Q$893,MATCH(I233,Backbone!$A$2:$A$893,0))","v":0.75111111111111106},null,null,{"$f":"(AG233*$AG$22+AI233*$AI$22+AK233*$AK$22+AM233*$AM$22+AO233*$AO$22+AQ233*$AQ$22+AS233*$AS$22+AU233*$AU$22+AW233*$AW$22)/(SUM($AG$22:$AW$22)*10)","v":{"$error":"#DIV/0!"}},null,null,"Перейти в Реестр ресурсов: ",null,{"$f":"HYPERLINK(\"#\"&ADDRESS(MATCH(I233,Toolbox!$C$1:$C$300),1,,,\"Toolbox\"),VLOOKUP(I233,Toolbox!$C$1:$C$300,1,FALSE))","v":"Глобальная информационная система болезней животных (EMPRES-i)"}]
[]
[]
[]
[]
[]
[null,null,null,null,null,null,null,null,{"$f":"Backbone!A531","v":"Лабораторная информационная менеджмент-система, облегченная версия (МиниЛИМС)"},null,null,null,null,null,null,"Информационная система для управления лабораторией анализов с простой организационной структурой.",null,null,null,null,null,null,null,null,{"$f":"INDEX(Backbone!$R$2:$R$893,MATCH(I239,Backbone!$A$2:$A$893,0))","v":"Оборудование или программное обеспечение"},null,null,null,{"$f":"INDEX(Backbone!$S$2:$S$893,MATCH(I239,Backbone!$A$2:$A$893,0))","v":"Ориентированный на конкретный сектор; универсальный"},null,null,null,{"$f":"INDEX(Backbone!$H$2:$H$893,MATCH(I239,Backbone!$A$2:$A$893,0))","v":9},null,{"$f":"INDEX(Backbone!$I$2:$I$893,MATCH(I239,Backbone!$A$2:$A$893,0))","v":7.3},null,{"$f":"INDEX(Backbone!$J$2:$J$893,MATCH(I239,Backbone!$A$2:$A$893,0))","v":8.4},null,{"$f":"INDEX(Backbone!$K$1:$K$893,MATCH(I239,Backbone!$A$1:$A$893,0))","v":9.3000000000000007},null,{"$f":"INDEX(Backbone!$L$2:$L$893,MATCH(I239,Backbone!$A$2:$A$893,0))","v":7.2},null,{"$f":"INDEX(Backbone!$M$2:$M$893,MATCH(I239,Backbone!$A$2:$A$893,0))","v":6.5},null,{"$f":"INDEX(Backbone!$N$2:$N$893,MATCH(I239,Backbone!$A$2:$A$893,0))","v":2},null,{"$f":"INDEX(Backbone!$O$2:$O$893,MATCH(I239,Backbone!$A$2:$A$893,0))","v":4.4000000000000004},null,{"$f":"INDEX(Backbone!$P$2:$P$893,MATCH(I239,Backbone!$A$2:$A$893,0))","v":4},null,{"$f":"INDEX(Backbone!$Q$2:$Q$893,MATCH(I239,Backbone!$A$2:$A$893,0))","v":0.64555555555555555},null,null,{"$f":"(AG239*$AG$22+AI239*$AI$22+AK239*$AK$22+AM239*$AM$22+AO239*$AO$22+AQ239*$AQ$22+AS239*$AS$22+AU239*$AU$22+AW239*$AW$22)/(SUM($AG$22:$AW$22)*10)","v":{"$error":"#DIV/0!"}},null,null,"Перейти в Реестр ресурсов: ",null,{"$f":"HYPERLINK(\"#\"&ADDRESS(MATCH(I239,Toolbox!$C$1:$C$300),1,,,\"Toolbox\"),VLOOKUP(I239,Toolbox!$C$1:$C$300,1,FALSE))","v":"Лабораторная информационная менеджмент-система, облегченная версия (МиниЛИМС)"}]
[]
[]
[]
[]
[]
[null,null,null,null,null,null,null,null,{"$f":"Backbone!A522","v":"Лабораторная информационная менеджмент-система для африканских ветеринарных служб (SILABFA)"},null,null,null,null,null,null,"Лабораторная информационная менеджмент-система (ЛИМС) позволяет отследить все этапы диагностирования от получения образцов до лабораторных заключений.",null,null,null,null,null,null,null,null,{"$f":"INDEX(Backbone!$R$2:$R$893,MATCH(I245,Backbone!$A$2:$A$893,0))","v":"Оборудование или программное обеспечение"},null,null,null,{"$f":"INDEX(Backbone!$S$2:$S$893,MATCH(I245,Backbone!$A$2:$A$893,0))","v":"Ориентированный на конкретный сектор; универсальный"},null,null,null,{"$f":"INDEX(Backbone!$H$2:$H$893,MATCH(I245,Backbone!$A$2:$A$893,0))","v":9.3000000000000007},null,{"$f":"INDEX(Backbone!$I$2:$I$893,MATCH(I245,Backbone!$A$2:$A$893,0))","v":10},null,{"$f":"INDEX(Backbone!$J$2:$J$893,MATCH(I245,Backbone!$A$2:$A$893,0))","v":6.8},null,{"$f":"INDEX(Backbone!$K$1:$K$893,MATCH(I245,Backbone!$A$1:$A$893,0))","v":9.3000000000000007},null,{"$f":"INDEX(Backbone!$L$2:$L$893,MATCH(I245,Backbone!$A$2:$A$893,0))","v":8},null,{"$f":"INDEX(Backbone!$M$2:$M$893,MATCH(I245,Backbone!$A$2:$A$893,0))","v":6.5},null,{"$f":"INDEX(Backbone!$N$2:$N$893,MATCH(I245,Backbone!$A$2:$A$893,0))","v":8},null,{"$f":"INDEX(Backbone!$O$2:$O$893,MATCH(I245,Backbone!$A$2:$A$893,0))","v":7.2},null,{"$f":"INDEX(Backbone!$P$2:$P$893,MATCH(I245,Backbone!$A$2:$A$893,0))","v":8},null,{"$f":"INDEX(Backbone!$Q$2:$Q$893,MATCH(I245,Backbone!$A$2:$A$893,0))","v":0.81222222222222229},null,null,{"$f":"(AG245*$AG$22+AI245*$AI$22+AK245*$AK$22+AM245*$AM$22+AO245*$AO$22+AQ245*$AQ$22+AS245*$AS$22+AU245*$AU$22+AW245*$AW$22)/(SUM($AG$22:$AW$22)*10)","v":{"$error":"#DIV/0!"}},null,null,"Перейти в Реестр ресурсов: ",null,{"$f":"HYPERLINK(\"#\"&ADDRESS(MATCH(I245,Toolbox!$C$1:$C$300),1,,,\"Toolbox\"),VLOOKUP(I245,Toolbox!$C$1:$C$300,1,FALSE))","v":"Лабораторная информационная менеджмент-система для африканских ветеринарных служб (SILABFA)"}]

{"sheet":"I5_tools","index":50,"n_rows":233,"n_cols":59,"rows_kept":233,"cut":false,"hidden":false,"merged":[[232,50,236,51],[232,53,236,54],[232,38,236,38],[232,40,236,40],[232,42,236,42],[232,44,236,44],[232,46,236,46],[232,48,236,48],[225,50,229,51],[225,53,229,54],[225,40,229,40],[225,42,229,42],[225,44,229,44],[225,46,229,46],[225,48,229,48],[232,3,236,6],[232,8,236,13],[232,15,236,22],[232,24,236,26],[232,28,236,30],[232,32,236,32],[232,34,236,34],[232,36,236,36],[225,38,229,38],[219,48,223,48],[219,50,223,51],[219,53,223,54],[225,8,229,13],[225,15,229,22],[225,24,229,26],[225,28,229,30],[225,32,229,32],[225,34,229,34],[225,36,229,36],[219,36,223,36],[219,38,223,38],[219,40,223,40],[219,42,223,42],[219,44,223,44],[219,46,223,46],[219,8,223,13],[219,15,223,22],[219,24,223,26],[219,28,223,30],[219,32,223,32],[219,34,223,34],[213,50,217,51],[213,53,217,54],[207,53,211,54],[213,8,217,13],[213,15,217,22],[213,24,217,26],[213,28,217,30],[213,32,217,32],[213,34,217,34],[213,36,217,36],[213,38,217,38],[213,40,217,40],[207,40,211,40],[207,42,211,42],[207,44,211,44],[207,46,211,46],[207,48,211,48],[207,50,211,51],[201,46,205,46],[201,48,205,48],[201,15,205,22],[201,24,205,26],[201,28,205,30],[201,32,205,32],[201,34,205,34],[201,36,205,36],[213,42,217,42],[213,44,217,44],[213,46,217,46],[213,48,217,48],[192,50,199,51],[192,53,199,54],[196,1,236,1],[196,3,199,6],[196,8,199,13],[196,15,199,22],[196,24,199,26],[196,28,199,30],[201,3,229,6],[201,8,205,13],[201,50,205,51],[201,53,205,54],[207,8,211,13],[207,15,211,22],[207,24,211,26],[207,28,211,30],[207,32,211,32],[207,34,211,34],[207,36,211,36],[207,38,211,38],[201,38,205,38],[201,40,205,40],[201,42,205,42],[201,44,205,44],[185,32,199,32],[185,34,199,34],[185,36,199,36],[185,38,199,38],[185,40,199,40],[185,42,199,42],[185,44,199,44],[185,46,199,46],[185,48,199,48],[154,50,158,51],[154,53,158,54],[160,8,164,13],[160,15,164,22],[160,24,164,26],[160,28,164,30],[160,32,164,32],[160,34,164,34],[160,36,164,36],[160,38,164,38],[154,38,158,38],[154,40,158,40],[154,42,158,42],[154,44,158,44],[154,46,158,46],[154,48,158,48],[160,53,164,54],[160,40,164,40],[160,42,164,42],[160,44,164,44],[160,46,164,46],[160,48,164,48],[160,50,164,51],[142,48,146,48],[142,50,146,51],[142,53,146,54],[148,8,152,13],[148,15,152,22],[148,24,152,26],[148,28,152,30],[148,32,152,32],[148,34,152,34],[142,34,146,34],[142,36,146,36],[142,38,146,38],[142,40,146,40],[142,42,146,42],[142,44,146,44],[148,48,152,48],[148,50,152,51],[148,53,152,54],[148,36,152,36],[148,38,152,38],[148,40,152,40],[148,42,152,42],[148,44,152,44],[148,46,152,46],[142,3,164,6],[142,8,146,13],[142,15,146,22],[142,24,146,26],[142,28,146,30],[142,32,146,32],[135,42,139,42],[135,44,139,44],[135,46,139,46],[111,3,139,6],[142,46,146,46],[154,8,158,13],[154,15,158,22],[154,24,158,26],[154,28,158,30],[154,32,158,32],[154,34,158,34],[154,36,158,36],[123,42,127,42],[123,44,127,44],[123,46,127,46],[129,32,133,32],[129,34,133,34],[129,36,133,36],[135,48,139,48],[135,50,139,51],[135,53,139,54],[129,53,133,54],[135,8,139,13],[135,15,139,22],[135,24,139,26],[135,28,139,30],[135,32,139,32],[135,34,139,34],[135,36,139,36],[135,38,139,38],[135,40,139,40],[129,40,133,40],[129,42,133,42],[129,44,133,44],[129,46,133,46],[129,48,133,48],[129,50,133,51],[129,8,133,13],[129,15,133,22],[129,24,133,26],[129,28,133,30],[129,38,133,38],[111,8,115,13],[111,15,115,22],[111,24,115,26],[111,28,115,30],[111,32,115,32],[117,48,121,48],[117,50,121,51],[111,34,115,34],[111,36,115,36],[111,38,115,38],[111,40,115,40],[111,42,115,42],[111,44,115,44],[117,53,121,54],[123,8,127,13],[123,15,127,22],[123,24,127,26],[123,28,127,30],[123,32,127,32],[123,34,127,34],[123,36,127,36],[117,36,121,36],[117,38,121,38],[117,40,121,40],[117,42,121,42],[117,44,121,44],[117,46,121,46],[123,50,127,51],[123,53,127,54],[123,40,127,40],[117,28,121,30],[117,32,121,32],[117,34,121,34],[123,38,127,38],[123,48,127,48],[95,46,109,46],[95,48,109,48],[102,50,109,51],[102,53,109,54],[106,1,164,1],[106,3,109,6],[106,8,109,13],[106,15,109,22],[106,24,109,26],[106,28,109,30],[95,32,109,32],[95,34,109,34],[95,36,109,36],[95,38,109,38],[95,40,109,40],[95,42,109,42],[95,44,109,44],[111,46,115,46],[111,48,115,48],[111,50,115,51],[111,53,115,54],[117,8,121,13],[117,15,121,22],[117,24,121,26],[71,50,75,51],[71,53,75,54],[71,38,75,38],[71,40,75,40],[71,42,75,42],[71,44,75,44],[71,46,75,46],[71,48,75,48],[65,48,69,48],[65,50,69,51],[65,53,69,54],[65,40,69,40],[65,42,69,42],[65,44,69,44],[65,46,69,46],[59,42,63,42],[59,44,63,44],[59,46,63,46],[59,48,63,48],[59,50,63,51],[59,53,63,54],[53,53,57,54],[59,8,63,13],[59,15,63,22],[59,24,63,26],[59,28,63,30],[59,32,63,32],[59,34,63,34],[59,36,63,36],[59,38,63,38],[59,40,63,40],[53,40,57,40],[53,42,57,42],[53,44,57,44],[53,46,57,46],[53,48,57,48],[53,50,57,51],[53,3,75,6],[53,8,57,13],[53,15,57,22],[53,24,57,26],[53,28,57,30],[53,32,57,32],[53,34,57,34],[53,36,57,36],[53,38,57,38],[71,8,75,13],[71,15,75,22],[71,24,75,26],[71,28,75,30],[71,32,75,32],[71,34,75,34],[71,36,75,36],[65,36,69,36],[65,38,69,38],[65,8,69,13],[65,15,69,22],[65,24,69,26],[65,28,69,30],[65,32,69,32],[65,34,69,34],[40,50,44,51],[40,53,44,54],[46,8,50,13],[46,15,50,22],[46,24,50,26],[46,28,50,30],[46,32,50,32],[46,34,50,34],[46,36,50,36],[46,38,50,38],[40,38,44,38],[40,40,44,40],[40,42,44,42],[40,44,44,44],[40,46,44,46],[40,48,44,48],[46,53,50,54],[46,40,50,40],[46,42,50,42],[46,44,50,44],[46,46,50,46],[46,48,50,48],[46,50,50,51],[40,8,44,13],[40,15,44,22],[40,24,44,26],[40,28,44,30],[40,32,44,32],[40,34,44,34],[40,36,44,36],[34,36,38,36],[34,38,38,38],[34,8,38,13],[34,15,38,22],[34,24,38,26],[34,28,38,30],[34,32,38,32],[34,34,38,34],[34,48,38,48],[34,50,38,51],[34,53,38,54],[34,40,38,40],[34,42,38,42],[34,44,38,44],[34,46,38,46],[28,24,32,26],[28,28,32,30],[28,32,32,32],[28,34,32,34],[28,36,32,36],[28,38,32,38],[28,40,32,40],[28,53,32,54],[22,53,26,54],[28,8,32,13],[28,15,32,22],[22,44,26,44],[22,46,26,46],[22,48,26,48],[22,50,26,51],[22,8,26,13],[22,15,26,22],[22,40,26,40],[22,42,26,42],[22,24,26,26],[22,28,26,30],[22,32,26,32],[22,34,26,34],[22,36,26,36],[22,38,26,38],[1,1,3,61],[6,32,20,32],[6,34,20,34],[6,36,20,36],[6,38,20,38],[6,40,20,40],[6,42,20,42],[6,44,20,44],[6,46,20,46],[6,48,20,48],[13,50,20,51],[13,53,20,54],[17,1,75,1],[17,3,20,6],[17,8,20,13],[17,15,20,22],[17,24,20,26],[17,28,20,30],[22,3,50,6],[28,42,32,42],[28,44,32,44],[28,46,32,46],[28,48,32,48],[28,50,32,51],[22,56,26,57],[22,58,26,62],[28,56,32,57],[28,58,32,62],[34,56,38,57],[34,58,38,62],[40,56,44,57],[40,58,44,62],[46,56,50,57],[46,58,50,62],[53,56,57,57],[53,58,57,62],[59,56,63,57],[59,58,63,62],[65,56,69,57],[65,58,69,62],[71,56,75,57],[71,58,75,62],[111,56,115,57],[111,58,115,62],[117,56,121,57],[117,58,121,62],[123,56,127,57],[123,58,127,62],[129,56,133,57],[129,58,133,62],[135,56,139,57],[135,58,139,62],[142,56,146,57],[142,58,146,62],[213,56,217,57],[213,58,217,62],[219,56,223,57],[219,58,223,62],[225,56,229,57],[225,58,229,62],[232,56,236,57],[232,58,236,62],[148,56,152,57],[148,58,152,62],[154,56,158,57],[154,58,158,62],[160,56,164,57],[160,58,164,62],[201,56,205,57],[201,58,205,62],[207,56,211,57],[207,58,211,62]]}
[]
[null,"Ресурсы по применению мер по обеспечению конфиденциальности и безопасности данных"]
[]
[]
[]
[]
[null,null,null,null,null,null,null,null,null,null,null,null,null,null,null,null,null,null,null,null,null,null,null,null,null,null,null,null,null,null,null,null,"Доступность",null,"Язык",null,"Простота использования",null,"Гибкость",null,"Потребности в данных",null,"Анализ данных",null,"Приемлемость",null,"«Единое здоровье»",null,"Воздействие"]
[]
[]
[]
[]
[]
[]
[null,null,null,null,null,null,null,null,null,null,null,null,null,null,null,null,null,null,null,null,null,null,null,null,null,null,null,null,null,null,null,null,null,null,null,null,null,null,null,null,null,null,null,null,null,null,null,null,null,null,"ИСХОДНАЯ ОЦЕНКА",null,null,"СКОРРЕКТИРОВАННАЯ ОЦЕНКА \n(Исходя из предпочтений пользователей)"]
[]
[]
[]
[null,"РЕСУРСЫ УРОВНЯ 1",null,"КЛАССИФИКАЦИЯ",null,null,null,null,"НАЗВАНИЕ РЕСУРСА",null,null,null,null,null,null,"КРАТКОЕ ОПИСАНИЕ",null,null,null,null,null,null,null,null,"ВИД РЕСУРСА",null,null,null,"ОБЩАЯ НАПРАВЛЕННОСТЬ РЕСУРСА"]
[]
[]
[]
[null,null,null,null,null,null,null,null,null,null,null,null,null,null,null,null,null,null,null,null,null,null,null,null,null,null,null,null,null,null,null,null,{"$f":"'Attribute Survey'!S22","v":0},null,{"$f":"'Attribute Survey'!S26","v":0},null,{"$f":"'Attribute Survey'!S30","v":0},null,{"$f":"'Attribute Survey'!S34","v":0},null,{"$f":"'Attribute Survey'!S38","v":0},null,{"$f":"'Attribute Survey'!S42","v":0},null,{"$f":"'Attribute Survey'!S46","v":0},null,{"$f":"'Attribute Survey'!S50","v":0},null,{"$f":"'Attribute Survey'!S54","v":0}]
[null,null,null,"Наиболее подходящие ресурсы",null,null,null,null,{"$f":"Backbone!A65","v":"Районная информационная система здравоохранения, версия 2 (DHIS2) "},null,null,null,null,null,null,"Онлайн-платформа информационной системы управления в системе здравоохранения с открытым исходным кодом.",null,null,null,null,null,null,null,null,{"$f":"INDEX(Backbone!$R$2:$R$893,MATCH(I23,Backbone!$A$2:$A$893,0))","v":"Оборудование или программное обеспечение"},null,null,null,{"$f":"INDEX(Backbone!$S$2:$S$893,MATCH(I23,Backbone!$A$2:$A$893,0))","v":"Ориентированный на конкретный сектор; универсальный"},null,null,null,{"$f":"INDEX(Backbone!$H$2:$H$893,MATCH(I23,Backbone!$A$2:$A$893,0))","v":8.8000000000000007},null,{"$f":"INDEX(Backbone!$I$2:$I$893,MATCH(I23,Backbone!$A$2:$A$893,0))","v":8.6999999999999993},null,{"$f":"INDEX(Backbone!$J$2:$J$893,MATCH(I23,Backbone!$A$2:$A$893,0))","v":8},null,{"$f":"INDEX(Backbone!$K$2:$K$893,MATCH(I23,Backbone!$A$2:$A$893,0))","v":8.6999999999999993},null,{"$f":"INDEX(Backbone!$L$2:$L$893,MATCH(I23,Backbone!$A$2:$A$893,0))","v":9.3000000000000007},null,{"$f":"INDEX(Backbone!$M$2:$M$893,MATCH(I23,Backbone!$A$2:$A$893,0))","v":9},null,{"$f":"INDEX(Backbone!$N$2:$N$893,MATCH(I23,Backbone!$A$2:$A$893,0))","v":10},null,{"$f":"INDEX(Backbone!$O$2:$O$893,MATCH(I23,Backbone!$A$2:$A$893,0))","v":7.8},null,{"$f":"INDEX(Backbone!$P$2:$P$893,MATCH(I23,Backbone!$A$2:$A$893,0))","v":7},null,{"$f":"INDEX(Backbone!$Q$2:$Q$893,MATCH(I23,Backbone!$A$2:$A$893,0))","v":0.85888888888888881},null,null,{"$f":"(AG23*$AG$22+AI23*$AI$22+AK23*$AK$22+AM23*$AM$22+AO23*$AO$22+AQ23*$AQ$22+AS23*$AS$22+AU23*$AU$22+AW23*$AW$22)/(SUM($AG$22:$AW$22)*10)","v":{"$error":"#DIV/0!"}},null,null,"Перейти в Реестр ресурсов: ",null,{"$f":"HYPERLINK(\"#\"&ADDRESS(MATCH(I23,Toolbox!$C$1:$C$300),1,,,\"Toolbox\"),VLOOKUP(I23,Toolbox!$C$1:$C$300,1,FALSE))","v":"Районная информационная система здравоохранения, версия 2 (DHIS2) "}]
[]
[]
[]
[]
[]
[null,null,null,null,null,null,null,null,{"$f":"Backbone!A138","v":"Электронная интегрированная система эпиднадзора за болезнями (EIDSS)"},null,null,null,null,null,null,"Электронная онлайн-система передачи эпидемиологической информации адаптируется под требования заказчика. Она создана для пассивного и активного эпиднадзора при содействии медицинских и ветеринарных учреждений, для лабораторной диагностики, надзора за переносчиками и управления вспышками заболеваний. ",null,null,null,null,null,null,null,null,{"$f":"INDEX(Backbone!$R$2:$R$893,MATCH(I29,Backbone!$A$2:$A$893,0))","v":"Оборудование или программное обеспечение"},null,null,null,{"$f":"INDEX(Backbone!$S$2:$S$893,MATCH(I29,Backbone!$A$2:$A$893,0))","v":"«Единое здоровье»; универсальный"},null,null,null,{"$f":"INDEX(Backbone!$H$2:$H$893,MATCH(I29,Backbone!$A$2:$A$893,0))","v":6.8},null,{"$f":"INDEX(Backbone!$I$2:$I$893,MATCH(I29,Backbone!$A$2:$A$893,0))","v":10},null,{"$f":"INDEX(Backbone!$J$2:$J$893,MATCH(I29,Backbone!$A$2:$A$893,0))","v":8.4},null,{"$f":"INDEX(Backbone!$K$1:$K$893,MATCH(I29,Backbone!$A$1:$A$893,0))","v":8.6999999999999993},null,{"$f":"INDEX(Backbone!$L$2:$L$893,MATCH(I29,Backbone!$A$2:$A$893,0))","v":9.1},null,{"$f":"INDEX(Backbone!$M$2:$M$893,MATCH(I29,Backbone!$A$2:$A$893,0))","v":8},null,{"$f":"INDEX(Backbone!$N$2:$N$893,MATCH(I29,Backbone!$A$2:$A$893,0))","v":7},null,{"$f":"INDEX(Backbone!$O$2:$O$893,MATCH(I29,Backbone!$A$2:$A$893,0))","v":7.2},null,{"$f":"INDEX(Backbone!$P$2:$P$893,MATCH(I29,Backbone!$A$2:$A$893,0))","v":10},null,{"$f":"INDEX(Backbone!$Q$2:$Q$893,MATCH(I29,Backbone!$A$2:$A$893,0))","v":0.83555555555555561},null,null,{"$f":"(AG29*$AG$22+AI29*$AI$22+AK29*$AK$22+AM29*$AM$22+AO29*$AO$22+AQ29*$AQ$22+AS29*$AS$22+AU29*$AU$22+AW29*$AW$22)/(SUM($AG$22:$AW$22)*10)","v":{"$error":"#DIV/0!"}},null,null,"Перейти в Реестр ресурсов: ",null,{"$f":"HYPERLINK(\"#\"&ADDRESS(MATCH(I29,Toolbox!$C$1:$C$300),1,,,\"Toolbox\"),VLOOKUP(I29,Toolbox!$C$1:$C$300,1,FALSE))","v":"Электронная интегрированная система эпиднадзора за болезнями (EIDSS)"}]
[]
[]
[]
[]
[]
[null,null,null,null,null,null,null,null,{"$f":"Backbone!A604","v":"Приложение для оценки воздействия бешенства и выявления контактных лиц (REACT)"},null,null,null,null,null,null,"Инструмент, помогающий реализации комплексных программ управления случаями укусов (IBCM).",null,null,null,null,null,null,null,null,{"$f":"INDEX(Backbone!$R$2:$R$893,MATCH(I35,Backbone!$A$2:$A$893,0))","v":"Оборудование или программное обеспечение"},null,null,null,{"$f":"INDEX(Backbone!$S$2:$S$893,MATCH(I35,Backbone!$A$2:$A$893,0))","v":"«Единое здоровье»; ориентированный на конкретную болезнь/угрозу "},null,null,null,{"$f":"INDEX(Backbone!$H$2:$H$893,MATCH(I35,Backbone!$A$2:$A$893,0))","v":8.6},null,{"$f":"INDEX(Backbone!$I$2:$I$893,MATCH(I35,Backbone!$A$2:$A$893,0))","v":8.6},null,{"$f":"INDEX(Backbone!$J$2:$J$893,MATCH(I35,Backbone!$A$2:$A$893,0))","v":8},null,{"$f":"INDEX(Backbone!$K$1:$K$893,MATCH(I35,Backbone!$A$1:$A$893,0))","v":8.6},null,{"$f":"INDEX(Backbone!$L$2:$L$893,MATCH(I35,Backbone!$A$2:$A$893,0))","v":9.4},null,{"$f":"INDEX(Backbone!$M$2:$M$893,MATCH(I35,Backbone!$A$2:$A$893,0))","v":9.5},null,{"$f":"INDEX(Backbone!$N$2:$N$893,MATCH(I35,Backbone!$A$2:$A$893,0))","v":9},null,{"$f":"INDEX(Backbone!$O$2:$O$893,MATCH(I35,Backbone!$A$2:$A$893,0))","v":9.1999999999999993},null,{"$f":"INDEX(Backbone!$P$2:$P$893,MATCH(I35,Backbone!$A$2:$A$893,0))","v":9},null,{"$f":"INDEX(Backbone!$Q$2:$Q$893,MATCH(I35,Backbone!$A$2:$A$893,0))","v":0.88777777777777767},null,null,{"$f":"(AG35*$AG$22+AI35*$AI$22+AK35*$AK$22+AM35*$AM$22+AO35*$AO$22+AQ35*$AQ$22+AS35*$AS$22+AU35*$AU$22+AW35*$AW$22)/(SUM($AG$22:$AW$22)*10)","v":{"$error":"#DIV/0!"}},null,null,"Перейти в Реестр ресурсов: ",null,{"$f":"HYPERLINK(\"#\"&ADDRESS(MATCH(I35,Toolbox!$C$1:$C$300),1,,,\"Toolbox\"),VLOOKUP(I35,Toolbox!$C$1:$C$300,1,FALSE))","v":"Приложение для оценки воздействия бешенства и выявления контактных лиц (REACT)"}]
[]
[]
[]
[]
[]
[null,null,null,null,null,null,null,null,{"$f":"Backbone!A489","v":"Пакет программного обеспечения для проведения автоматического глобального электронного биомониторинга (SAGES)"},null,null,null,null,null,null,"Пакет программного обеспечения с открытым исходным кодом для улучшения электронного эпиднадзора в условиях ограниченных ресурсов.",null,null,null,null,null,null,null,null,{"$f":"INDEX(Backbone!$R$2:$R$893,MATCH(I41,Backbone!$A$2:$A$893,0))","v":"Оборудование или программное обеспечение"},null,null,null,{"$f":"INDEX(Backbone!$S$2:$S$893,MATCH(I41,Backbone!$A$2:$A$893,0))","v":"«Единое здоровье»; универсальный"},null,null,null,{"$f":"INDEX(Backbone!$H$2:$H$893,MATCH(I41,Backbone!$A$2:$A$893,0))","v":9.8000000000000007},null,{"$f":"INDEX(Backbone!$I$2:$I$893,MATCH(I41,Backbone!$A$2:$A$893,0))","v":10},null,{"$f":"INDEX(Backbone!$J$2:$J$893,MATCH(I41,Backbone!$A$2:$A$893,0))","v":10},null,{"$f":"INDEX(Backbone!$K$1:$K$893,MATCH(I41,Backbone!$A$1:$A$893,0))","v":9.3000000000000007},null,{"$f":"INDEX(Backbone!$L$2:$L$893,MATCH(I41,Backbone!$A$2:$A$893,0))","v":8.5},null,{"$f":"INDEX(Backbone!$M$2:$M$893,MATCH(I41,Backbone!$A$2:$A$893,0))","v":9},null,{"$f":"INDEX(Backbone!$N$2:$N$893,MATCH(I41,Backbone!$A$2:$A$893,0))","v":5.5},null,{"$f":"INDEX(Backbone!$O$2:$O$893,MATCH(I41,Backbone!$A$2:$A$893,0))","v":9.5},null,{"$f":"INDEX(Backbone!$P$2:$P$893,MATCH(I41,Backbone!$A$2:$A$893,0))","v":7},null,{"$f":"INDEX(Backbone!$Q$2:$Q$893,MATCH(I41,Backbone!$A$2:$A$893,0))","v":0.87333333333333329},null,null,{"$f":"(AG41*$AG$22+AI41*$AI$22+AK41*$AK$22+AM41*$AM$22+AO41*$AO$22+AQ41*$AQ$22+AS41*$AS$22+AU41*$AU$22+AW41*$AW$22)/(SUM($AG$22:$AW$22)*10)","v":{"$error":"#DIV/0!"}},null,null,"Перейти в Реестр ресурсов: ",null,{"$f":"HYPERLINK(\"#\"&ADDRESS(MATCH(I41,Toolbox!$C$1:$C$300),1,,,\"Toolbox\"),VLOOKUP(I41,Toolbox!$C$1:$C$300,1,FALSE))","v":"Пакет программного обеспечения для проведения автоматического глобального электронного биомониторинга (SAGES)"}]
[]
[]
[]
[]
[]
[null,null,null,null,null,null,null,null,{"$f":"Backbone!A540","v":"Система анализа и управления мерами эпиднадзора и реагирования на вспышки (SORMAS)"},null,null,null,null,null,null,"Мобильная система eHealth с открытым исходным кодом, которая помимо эпиднадзора и раннего обнаружения вспышек обрабатывает процедуры борьбы с заболеваниями и управления вспышками при помощи цифрового эпиднадзора в реальном времени.",null,null,null,null,null,null,null,null,{"$f":"INDEX(Backbone!$R$2:$R$893,MATCH(I47,Backbone!$A$2:$A$893,0))","v":"Оборудование или программное обеспечение"},null,null,null,{"$f":"INDEX(Backbone!$S$2:$S$893,MATCH(I47,Backbone!$A$2:$A$893,0))","v":"Ориентированный на конкретный сектор; универсальный"},null,null,null,{"$f":"INDEX(Backbone!$H$2:$H$893,MATCH(I47,Backbone!$A$2:$A$893,0))","v":9.1999999999999993},null,{"$f":"INDEX(Backbone!$I$2:$I$893,MATCH(I47,Backbone!$A$2:$A$893,0))","v":8},null,{"$f":"INDEX(Backbone!$J$2:$J$893,MATCH(I47,Backbone!$A$2:$A$893,0))","v":9.3000000000000007},null,{"$f":"INDEX(Backbone!$K$1:$K$893,MATCH(I47,Backbone!$A$1:$A$893,0))","v":9.1},null,{"$f":"INDEX(Backbone!$L$2:$L$893,MATCH(I47,Backbone!$A$2:$A$893,0))","v":9.3000000000000007},null,{"$f":"INDEX(Backbone!$M$2:$M$893,MATCH(I47,Backbone!$A$2:$A$893,0))","v":9.3000000000000007},null,{"$f":"INDEX(Backbone!$N$2:$N$893,MATCH(I47,Backbone!$A$2:$A$893,0))","v":6.8},null,{"$f":"INDEX(Backbone!$O$2:$O$893,MATCH(I47,Backbone!$A$2:$A$893,0))","v":3.9},null,{"$f":"INDEX(Backbone!$P$2:$P$893,MATCH(I47,Backbone!$A$2:$A$893,0))","v":5.3},null,{"$f":"INDEX(Backbone!$Q$2:$Q$893,MATCH(I47,Backbone!$A$2:$A$893,0))","v":0.78},null,null,{"$f":"(AG47*$AG$22+AI47*$AI$22+AK47*$AK$22+AM47*$AM$22+AO47*$AO$22+AQ47*$AQ$22+AS47*$AS$22+AU47*$AU$22+AW47*$AW$22)/(SUM($AG$22:$AW$22)*10)","v":{"$error":"#DIV/0!"}},null,null,"Перейти в Реестр ресурсов: ",null,{"$f":"HYPERLINK(\"#\"&ADDRESS(MATCH(I47,Toolbox!$C$1:$C$300),1,,,\"Toolbox\"),VLOOKUP(I47,Toolbox!$C$1:$C$300,1,FALSE))","v":"Система анализа и управления мерами эпиднадзора и реагирования на вспышки (SORMAS)"}]
[]
[]
[]
[]
[]
[]
[null,null,null,"Другие полезные ресурсы",null,null,null,null,{"$f":"Backbone!A42","v":"Инструмент самооценки информатизации лабораторий (разработка Ассоциации лабораторий общественного здравоохранения (APHL))"},null,null,null,null,null,null,"Инструмент, позволяющий лабораториям общественного здравоохранения оценить свои сильные стороны и пробелы в вопросе потенциала информатизации по 19 функциональным направлениям работы лабораторий.",null,null,null,null,null,null,null,null,{"$f":"INDEX(Backbone!$R$2:$R$893,MATCH(I54,Backbone!$A$2:$A$893,0))","v":"Руководящий документ"},null,null,null,{"$f":"INDEX(Backbone!$S$2:$S$893,MATCH(I54,Backbone!$A$2:$A$893,0))","v":"Ориентированный на конкретный сектор; универсальный"},null,null,null,{"$f":"INDEX(Backbone!$H$2:$H$893,MATCH(I54,Backbone!$A$2:$A$893,0))","v":9.1},null,{"$f":"INDEX(Backbone!$I$2:$I$893,MATCH(I54,Backbone!$A$2:$A$893,0))","v":6.7},null,{"$f":"INDEX(Backbone!$J$2:$J$893,MATCH(I54,Backbone!$A$2:$A$893,0))","v":8.3000000000000007},null,{"$f":"INDEX(Backbone!$K$1:$K$893,MATCH(I54,Backbone!$A$1:$A$893,0))","v":8.4},null,{"$f":"INDEX(Backbone!$L$2:$L$893,MATCH(I54,Backbone!$A$2:$A$893,0))","v":8.1},null,{"$f":"INDEX(Backbone!$M$2:$M$893,MATCH(I54,Backbone!$A$2:$A$893,0))","v":8.5},null,{"$f":"INDEX(Backbone!$N$2:$N$893,MATCH(I54,Backbone!$A$2:$A$893,0))","v":5},null,{"$f":"INDEX(Backbone!$O$2:$O$893,MATCH(I54,Backbone!$A$2:$A$893,0))","v":6.1},null,{"$f":"INDEX(Backbone!$P$2:$P$893,MATCH(I54,Backbone!$A$2:$A$893,0))","v":4.3},null,{"$f":"INDEX(Backbone!$Q$2:$Q$893,MATCH(I54,Backbone!$A$2:$A$893,0))","v":0.71666666666666667},null,null,{"$f":"(AG54*$AG$22+AI54*$AI$22+AK54*$AK$22+AM54*$AM$22+AO54*$AO$22+AQ54*$AQ$22+AS54*$AS$22+AU54*$AU$22+AW54*$AW$22)/(SUM($AG$22:$AW$22)*10)","v":{"$error":"#DIV/0!"}},null,null,"Перейти в Реестр ресурсов: ",null,{"$f":"HYPERLINK(\"#\"&ADDRESS(MATCH(I54,Toolbox!$C$1:$C$300),1,,,\"Toolbox\"),VLOOKUP(I54,Toolbox!$C$1:$C$300,1,FALSE))","v":"Инструмент самооценки информатизации лабораторий (разработка Ассоциации лабораторий общественного здравоохранения (APHL))"}]
[]
[]
[]
[]
[]
[null,null,null,null,null,null,null,null,{"$f":"Backbone!A166","v":"Глобальная информационная система болезней животных (EMPRES-i)"},null,null,null,null,null,null,"Защищенная информационная онлайн-система, созданная в помощь национальным ветеринарным службам. Она обеспечивает сбор глобальных и региональных данных о заболеваниях и является глобальной справочной базой данных о болезнях животных, включая зоонозы.",null,null,null,null,null,null,null,null,{"$f":"INDEX(Backbone!$R$2:$R$893,MATCH(I60,Backbone!$A$2:$A$893,0))","v":"Оборудование или программное обеспечение"},null,null,null,{"$f":"INDEX(Backbone!$S$2:$S$893,MATCH(I60,Backbone!$A$2:$A$893,0))","v":"Ориентированный на конкретный сектор; универсальный"},null,null,null,{"$f":"INDEX(Backbone!$H$2:$H$893,MATCH(I60,Backbone!$A$2:$A$893,0))","v":9},null,{"$f":"INDEX(Backbone!$I$2:$I$893,MATCH(I60,Backbone!$A$2:$A$893,0))","v":8.3000000000000007},null,{"$f":"INDEX(Backbone!$J$2:$J$893,MATCH(I60,Backbone!$A$2:$A$893,0))","v":8.9},null,{"$f":"INDEX(Backbone!$K$1:$K$893,MATCH(I60,Backbone!$A$1:$A$893,0))","v":8.6999999999999993},null,{"$f":"INDEX(Backbone!$L$2:$L$893,MATCH(I60,Backbone!$A$2:$A$893,0))","v":8},null,{"$f":"INDEX(Backbone!$M$2:$M$893,MATCH(I60,Backbone!$A$2:$A$893,0))","v":7.8},null,{"$f":"INDEX(Backbone!$N$2:$N$893,MATCH(I60,Backbone!$A$2:$A$893,0))","v":7.4},null,{"$f":"INDEX(Backbone!$O$2:$O$893,MATCH(I60,Backbone!$A$2:$A$893,0))","v":4.8},null,{"$f":"INDEX(Backbone!$P$2:$P$893,MATCH(I60,Backbone!$A$2:$A$893,0))","v":4.7},null,{"$f":"INDEX(Backbone!$Q$2:$Q$893,MATCH(I60,Backbone!$A$2:$A$893,0))","v":0.75111111111111106},null,null,{"$f":"(AG60*$AG$22+AI60*$AI$22+AK60*$AK$22+AM60*$AM$22+AO60*$AO$22+AQ60*$AQ$22+AS60*$AS$22+AU60*$AU$22+AW60*$AW$22)/(SUM($AG$22:$AW$22)*10)","v":{"$error":"#DIV/0!"}},null,null,"Перейти в Реестр ресурсов: ",null,{"$f":"HYPERLINK(\"#\"&ADDRESS(MATCH(I60,Toolbox!$C$1:$C$300),1,,,\"Toolbox\"),VLOOKUP(I60,Toolbox!$C$1:$C$300,1,FALSE))","v":"Глобальная информационная система болезней животных (EMPRES-i)"}]
[]
[]
[]
[]
[]
[null,null,null,null,null,null,null,null,{"$f":"Backbone!A531","v":"Лабораторная информационная менеджмент-система, облегченная версия (МиниЛИМС)"},null,null,null,null,null,null,"Информационная система для управления лабораторией анализов с простой организационной структурой.",null,null,null,null,null,null,null,null,{"$f":"INDEX(Backbone!$R$2:$R$893,MATCH(I66,Backbone!$A$2:$A$893,0))","v":"Оборудование или программное обеспечение"},null,null,null,{"$f":"INDEX(Backbone!$S$2:$S$893,MATCH(I66,Backbone!$A$2:$A$893,0))","v":"Ориентированный на конкретный сектор; универсальный"},null,null,null,{"$f":"INDEX(Backbone!$H$2:$H$893,MATCH(I66,Backbone!$A$2:$A$893,0))","v":9},null,{"$f":"INDEX(Backbone!$I$2:$I$893,MATCH(I66,Backbone!$A$2:$A$893,0))","v":7.3},null,{"$f":"INDEX(Backbone!$J$2:$J$893,MATCH(I66,Backbone!$A$2:$A$893,0))","v":8.4},null,{"$f":"INDEX(Backbone!$K$1:$K$893,MATCH(I66,Backbone!$A$1:$A$893,0))","v":9.3000000000000007},null,{"$f":"INDEX(Backbone!$L$2:$L$893,MATCH(I66,Backbone!$A$2:$A$893,0))","v":7.2},null,{"$f":"INDEX(Backbone!$M$2:$M$893,MATCH(I66,Backbone!$A$2:$A$893,0))","v":6.5},null,{"$f":"INDEX(Backbone!$N$2:$N$893,MATCH(I66,Backbone!$A$2:$A$893,0))","v":2},null,{"$f":"INDEX(Backbone!$O$2:$O$893,MATCH(I66,Backbone!$A$2:$A$893,0))","v":4.4000000000000004},null,{"$f":"INDEX(Backbone!$P$2:$P$893,MATCH(I66,Backbone!$A$2:$A$893,0))","v":4},null,{"$f":"INDEX(Backbone!$Q$2:$Q$893,MATCH(I66,Backbone!$A$2:$A$893,0))","v":0.64555555555555555},null,null,{"$f":"(AG66*$AG$22+AI66*$AI$22+AK66*$AK$22+AM66*$AM$22+AO66*$AO$22+AQ66*$AQ$22+AS66*$AS$22+AU66*$AU$22+AW66*$AW$22)/(SUM($AG$22:$AW$22)*10)","v":{"$error":"#DIV/0!"}},null,null,"Перейти в Реестр ресурсов: ",null,{"$f":"HYPERLINK(\"#\"&ADDRESS(MATCH(I66,Toolbox!$C$1:$C$300),1,,,\"Toolbox\"),VLOOKUP(I66,Toolbox!$C$1:$C$300,1,FALSE))","v":"Лабораторная информационная менеджмент-система, облегченная версия (МиниЛИМС)"}]
[]
[]
[]
[]
[]
[null,null,null,null,null,null,null,null,{"$f":"Backbone!A522","v":"Лабораторная информационная менеджмент-система для африканских ветеринарных служб (SILABFA)"},null,null,null,null,null,null,"Лабораторная информационная менеджмент-система (ЛИМС) позволяет отследить все этапы диагностирования от получения образцов до лабораторных заключений.",null,null,null,null,null,null,null,null,{"$f":"INDEX(Backbone!$R$2:$R$893,MATCH(I72,Backbone!$A$2:$A$893,0))","v":"Оборудование или программное обеспечение"},null,null,null,{"$f":"INDEX(Backbone!$S$2:$S$893,MATCH(I72,Backbone!$A$2:$A$893,0))","v":"Ориентированный на конкретный сектор; универсальный"},null,null,null,{"$f":"INDEX(Backbone!$H$2:$H$893,MATCH(I72,Backbone!$A$2:$A$893,0))","v":9.3000000000000007},null,{"$f":"INDEX(Backbone!$I$2:$I$893,MATCH(I72,Backbone!$A$2:$A$893,0))","v":10},null,{"$f":"INDEX(Backbone!$J$2:$J$893,MATCH(I72,Backbone!$A$2:$A$893,0))","v":6.8},null,{"$f":"INDEX(Backbone!$K$1:$K$893,MATCH(I72,Backbone!$A$1:$A$893,0))","v":9.3000000000000007},null,{"$f":"INDEX(Backbone!$L$2:$L$893,MATCH(I72,Backbone!$A$2:$A$893,0))","v":8},null,{"$f":"INDEX(Backbone!$M$2:$M$893,MATCH(I72,Backbone!$A$2:$A$893,0))","v":6.5},null,{"$f":"INDEX(Backbone!$N$2:$N$893,MATCH(I72,Backbone!$A$2:$A$893,0))","v":8},null,{"$f":"INDEX(Backbone!$O$2:$O$893,MATCH(I72,Backbone!$A$2:$A$893,0))","v":7.2},null,{"$f":"INDEX(Backbone!$P$2:$P$893,MATCH(I72,Backbone!$A$2:$A$893,0))","v":8},null,{"$f":"INDEX(Backbone!$Q$2:$Q$893,MATCH(I72,Backbone!$A$2:$A$893,0))","v":0.81222222222222229},null,null,{"$f":"(AG72*$AG$22+AI72*$AI$22+AK72*$AK$22+AM72*$AM$22+AO72*$AO$22+AQ72*$AQ$22+AS72*$AS$22+AU72*$AU$22+AW72*$AW$22)/(SUM($AG$22:$AW$22)*10)","v":{"$error":"#DIV/0!"}},null,null,"Перейти в Реестр ресурсов: ",null,{"$f":"HYPERLINK(\"#\"&ADDRESS(MATCH(I72,Toolbox!$C$1:$C$300),1,,,\"Toolbox\"),VLOOKUP(I72,Toolbox!$C$1:$C$300,1,FALSE))","v":"Лабораторная информационная менеджмент-система для африканских ветеринарных служб (SILABFA)"}]
[]
[]
[]
[]
[]
[]
[]
[]
[]
[]
[]
[]
[]
[]
[]
[]
[]
[]
[]
[]
[]
[]
[]
[null,null,null,null,null,null,null,null,null,null,null,null,null,null,null,null,null,null,null,null,null,null,null,null,null,null,null,null,null,null,null,null,"Доступность",null,"Язык",null,"Простота использования",null,"Гибкость",null,"Потребности в данных",null,"Анализ данных",null,"Приемлемость",null,"«Единое здоровье»",null,"Воздействие"]
[]
[]
[]
[]
[]
[]
[null,null,null,null,null,null,null,null,null,null,null,null,null,null,null,null,null,null,null,null,null,null,null,null,null,null,null,null,null,null,null,null,null,null,null,null,null,null,null,null,null,null,null,null,null,null,null,null,null,null,"ИСХОДНАЯ ОЦЕНКА",null,null,"СКОРРЕКТИРОВАННАЯ ОЦЕНКА \n(Исходя из предпочтений пользователей)"]
[]
[]
[]
[null,"РЕСУРСЫ УРОВНЯ 2",null,"КЛАССИФИКАЦИЯ",null,null,null,null,"НАЗВАНИЕ РЕСУРСА",null,null,null,null,null,null,"КРАТКОЕ ОПИСАНИЕ",null,null,null,null,null,null,null,null,"ВИД РЕСУРСА",null,null,null,"ОБЩАЯ НАПРАВЛЕННОСТЬ РЕСУРСА"]
[]
[]
[]
[null,null,null,null,null,null,null,null,null,null,null,null,null,null,null,null,null,null,null,null,null,null,null,null,null,null,null,null,null,null,null,null,{"$f":"'Attribute Survey'!S111","v":0},null,{"$f":"'Attribute Survey'!S115","v":0},null,{"$f":"'Attribute Survey'!S119","v":0},null,{"$f":"'Attribute Survey'!S123","v":0},null,{"$f":"'Attribute Survey'!S127","v":0},null,{"$f":"'Attribute Survey'!S131","v":0},null,{"$f":"'Attribute Survey'!S135","v":0},null,{"$f":"'Attribute Survey'!S139","v":0},null,{"$f":"'Attribute Survey'!S143","v":0}]
[null,null,null,"Наиболее подходящие ресурсы",null,null,null,null,{"$f":"Backbone!A65","v":"Районная информационная система здравоохранения, версия 2 (DHIS2) "},null,null,null,null,null,null,"Онлайн-платформа информационной системы управления в системе здравоохранения с открытым исходным кодом.",null,null,null,null,null,null,null,null,{"$f":"INDEX(Backbone!$R$2:$R$893,MATCH(I112,Backbone!$A$2:$A$893,0))","v":"Оборудование или программное обеспечение"},null,null,null,{"$f":"INDEX(Backbone!$S$2:$S$893,MATCH(I112,Backbone!$A$2:$A$893,0))","v":"Ориентированный на конкретный сектор; универсальный"},null,null,null,{"$f":"INDEX(Backbone!$H$2:$H$893,MATCH(I112,Backbone!$A$2:$A$893,0))","v":8.8000000000000007},null,{"$f":"INDEX(Backbone!$I$2:$I$893,MATCH(I112,Backbone!$A$2:$A$893,0))","v":8.6999999999999993},null,{"$f":"INDEX(Backbone!$J$2:$J$893,MATCH(I112,Backbone!$A$2:$A$893,0))","v":8},null,{"$f":"INDEX(Backbone!$K$2:$K$893,MATCH(I112,Backbone!$A$2:$A$893,0))","v":8.6999999999999993},null,{"$f":"INDEX(Backbone!$L$2:$L$893,MATCH(I112,Backbone!$A$2:$A$893,0))","v":9.3000000000000007},null,{"$f":"INDEX(Backbone!$M$2:$M$893,MATCH(I112,Backbone!$A$2:$A$893,0))","v":9},null,{"$f":"INDEX(Backbone!$N$2:$N$893,MATCH(I112,Backbone!$A$2:$A$893,0))","v":10},null,{"$f":"INDEX(Backbone!$O$2:$O$893,MATCH(I112,Backbone!$A$2:$A$893,0))","v":7.8},null,{"$f":"INDEX(Backbone!$P$2:$P$893,MATCH(I112,Backbone!$A$2:$A$893,0))","v":7},null,{"$f":"INDEX(Backbone!$Q$2:$Q$893,MATCH(I112,Backbone!$A$2:$A$893,0))","v":0.85888888888888881},null,null,{"$f":"(AG112*$AG$22+AI112*$AI$22+AK112*$AK$22+AM112*$AM$22+AO112*$AO$22+AQ112*$AQ$22+AS112*$AS$22+AU112*$AU$22+AW112*$AW$22)/(SUM($AG$22:$AW$22)*10)","v":{"$error":"#DIV/0!"}},null,null,"Перейти в Реестр ресурсов: ",null,{"$f":"HYPERLINK(\"#\"&ADDRESS(MATCH(I112,Toolbox!$C$1:$C$300),1,,,\"Toolbox\"),VLOOKUP(I112,Toolbox!$C$1:$C$300,1,FALSE))","v":"Районная информационная система здравоохранения, версия 2 (DHIS2) "}]
[]
[]
[]
[]
[]
[null,null,null,null,null,null,null,null,{"$f":"Backbone!A138","v":"Электронная интегрированная система эпиднадзора за болезнями (EIDSS)"},null,null,null,null,null,null,"Электронная онлайн-система передачи эпидемиологической информации адаптируется под требования заказчика. Она создана для пассивного и активного эпиднадзора при содействии медицинских и ветеринарных учреждений, для лабораторной диагностики, надзора за переносчиками и управления вспышками заболеваний. ",null,null,null,null,null,null,null,null,{"$f":"INDEX(Backbone!$R$2:$R$893,MATCH(I118,Backbone!$A$2:$A$893,0))","v":"Оборудование или программное обеспечение"},null,null,null,{"$f":"INDEX(Backbone!$S$2:$S$893,MATCH(I118,Backbone!$A$2:$A$893,0))","v":"«Единое здоровье»; универсальный"},null,null,null,{"$f":"INDEX(Backbone!$H$2:$H$893,MATCH(I118,Backbone!$A$2:$A$893,0))","v":6.8},null,{"$f":"INDEX(Backbone!$I$2:$I$893,MATCH(I118,Backbone!$A$2:$A$893,0))","v":10},null,{"$f":"INDEX(Backbone!$J$2:$J$893,MATCH(I118,Backbone!$A$2:$A$893,0))","v":8.4},null,{"$f":"INDEX(Backbone!$K$1:$K$893,MATCH(I118,Backbone!$A$1:$A$893,0))","v":8.6999999999999993},null,{"$f":"INDEX(Backbone!$L$2:$L$893,MATCH(I118,Backbone!$A$2:$A$893,0))","v":9.1},null,{"$f":"INDEX(Backbone!$M$2:$M$893,MATCH(I118,Backbone!$A$2:$A$893,0))","v":8},null,{"$f":"INDEX(Backbone!$N$2:$N$893,MATCH(I118,Backbone!$A$2:$A$893,0))","v":7},null,{"$f":"INDEX(Backbone!$O$2:$O$893,MATCH(I118,Backbone!$A$2:$A$893,0))","v":7.2},null,{"$f":"INDEX(Backbone!$P$2:$P$893,MATCH(I118,Backbone!$A$2:$A$893,0))","v":10},null,{"$f":"INDEX(Backbone!$Q$2:$Q$893,MATCH(I118,Backbone!$A$2:$A$893,0))","v":0.83555555555555561},null,null,{"$f":"(AG118*$AG$22+AI118*$AI$22+AK118*$AK$22+AM118*$AM$22+AO118*$AO$22+AQ118*$AQ$22+AS118*$AS$22+AU118*$AU$22+AW118*$AW$22)/(SUM($AG$22:$AW$22)*10)","v":{"$error":"#DIV/0!"}},null,null,"Перейти в Реестр ресурсов: ",null,{"$f":"HYPERLINK(\"#\"&ADDRESS(MATCH(I118,Toolbox!$C$1:$C$300),1,,,\"Toolbox\"),VLOOKUP(I118,Toolbox!$C$1:$C$300,1,FALSE))","v":"Электронная интегрированная система эпиднадзора за болезнями (EIDSS)"}]
[]
[]
[]
[]
[]
[null,null,null,null,null,null,null,null,{"$f":"Backbone!A604","v":"Приложение для оценки воздействия бешенства и выявления контактных лиц (REACT)"},null,null,null,null,null,null,"Инструмент, помогающий реализации комплексных программ управления случаями укусов (IBCM).",null,null,null,null,null,null,null,null,{"$f":"INDEX(Backbone!$R$2:$R$893,MATCH(I124,Backbone!$A$2:$A$893,0))","v":"Оборудование или программное обеспечение"},null,null,null,{"$f":"INDEX(Backbone!$S$2:$S$893,MATCH(I124,Backbone!$A$2:$A$893,0))","v":"«Единое здоровье»; ориентированный на конкретную болезнь/угрозу "},null,null,null,{"$f":"INDEX(Backbone!$H$2:$H$893,MATCH(I124,Backbone!$A$2:$A$893,0))","v":8.6},null,{"$f":"INDEX(Backbone!$I$2:$I$893,MATCH(I124,Backbone!$A$2:$A$893,0))","v":8.6},null,{"$f":"INDEX(Backbone!$J$2:$J$893,MATCH(I124,Backbone!$A$2:$A$893,0))","v":8},null,{"$f":"INDEX(Backbone!$K$1:$K$893,MATCH(I124,Backbone!$A$1:$A$893,0))","v":8.6},null,{"$f":"INDEX(Backbone!$L$2:$L$893,MATCH(I124,Backbone!$A$2:$A$893,0))","v":9.4},null,{"$f":"INDEX(Backbone!$M$2:$M$893,MATCH(I124,Backbone!$A$2:$A$893,0))","v":9.5},null,{"$f":"INDEX(Backbone!$N$2:$N$893,MATCH(I124,Backbone!$A$2:$A$893,0))","v":9},null,{"$f":"INDEX(Backbone!$O$2:$O$893,MATCH(I124,Backbone!$A$2:$A$893,0))","v":9.1999999999999993},null,{"$f":"INDEX(Backbone!$P$2:$P$893,MATCH(I124,Backbone!$A$2:$A$893,0))","v":9},null,{"$f":"INDEX(Backbone!$Q$2:$Q$893,MATCH(I124,Backbone!$A$2:$A$893,0))","v":0.88777777777777767},null,null,{"$f":"(AG124*$AG$22+AI124*$AI$22+AK124*$AK$22+AM124*$AM$22+AO124*$AO$22+AQ124*$AQ$22+AS124*$AS$22+AU124*$AU$22+AW124*$AW$22)/(SUM($AG$22:$AW$22)*10)","v":{"$error":"#DIV/0!"}},null,null,"Перейти в Реестр ресурсов: ",null,{"$f":"HYPERLINK(\"#\"&ADDRESS(MATCH(I124,Toolbox!$C$1:$C$300),1,,,\"Toolbox\"),VLOOKUP(I124,Toolbox!$C$1:$C$300,1,FALSE))","v":"Приложение для оценки воздействия бешенства и выявления контактных лиц (REACT)"}]
[]
[]
[]
[]
[]
[null,null,null,null,null,null,null,null,{"$f":"Backbone!A489","v":"Пакет программного обеспечения для проведения автоматического глобального электронного биомониторинга (SAGES)"},null,null,null,null,null,null,"Пакет программного обеспечения с открытым исходным кодом для улучшения электронного эпиднадзора в условиях ограниченных ресурсов.",null,null,null,null,null,null,null,null,{"$f":"INDEX(Backbone!$R$2:$R$893,MATCH(I130,Backbone!$A$2:$A$893,0))","v":"Оборудование или программное обеспечение"},null,null,null,{"$f":"INDEX(Backbone!$S$2:$S$893,MATCH(I130,Backbone!$A$2:$A$893,0))","v":"«Единое здоровье»; универсальный"},null,null,null,{"$f":"INDEX(Backbone!$H$2:$H$893,MATCH(I130,Backbone!$A$2:$A$893,0))","v":9.8000000000000007},null,{"$f":"INDEX(Backbone!$I$2:$I$893,MATCH(I130,Backbone!$A$2:$A$893,0))","v":10},null,{"$f":"INDEX(Backbone!$J$2:$J$893,MATCH(I130,Backbone!$A$2:$A$893,0))","v":10},null,{"$f":"INDEX(Backbone!$K$1:$K$893,MATCH(I130,Backbone!$A$1:$A$893,0))","v":9.3000000000000007},null,{"$f":"INDEX(Backbone!$L$2:$L$893,MATCH(I130,Backbone!$A$2:$A$893,0))","v":8.5},null,{"$f":"INDEX(Backbone!$M$2:$M$893,MATCH(I130,Backbone!$A$2:$A$893,0))","v":9},null,{"$f":"INDEX(Backbone!$N$2:$N$893,MATCH(I130,Backbone!$A$2:$A$893,0))","v":5.5},null,{"$f":"INDEX(Backbone!$O$2:$O$893,MATCH(I130,Backbone!$A$2:$A$893,0))","v":9.5},null,{"$f":"INDEX(Backbone!$P$2:$P$893,MATCH(I130,Backbone!$A$2:$A$893,0))","v":7},null,{"$f":"INDEX(Backbone!$Q$2:$Q$893,MATCH(I130,Backbone!$A$2:$A$893,0))","v":0.87333333333333329},null,null,{"$f":"(AG130*$AG$22+AI130*$AI$22+AK130*$AK$22+AM130*$AM$22+AO130*$AO$22+AQ130*$AQ$22+AS130*$AS$22+AU130*$AU$22+AW130*$AW$22)/(SUM($AG$22:$AW$22)*10)","v":{"$error":"#DIV/0!"}},null,null,"Перейти в Реестр ресурсов: ",null,{"$f":"HYPERLINK(\"#\"&ADDRESS(MATCH(I130,Toolbox!$C$1:$C$300),1,,,\"Toolbox\"),VLOOKUP(I130,Toolbox!$C$1:$C$300,1,FALSE))","v":"Пакет программного обеспечения для проведения автоматического глобального электронного биомониторинга (SAGES)"}]
[]
[]
[]
[]
[]
[null,null,null,null,null,null,null,null,{"$f":"Backbone!A540","v":"Система анализа и управления мерами эпиднадзора и реагирования на вспышки (SORMAS)"},null,null,null,null,null,null,"Мобильная система eHealth с открытым исходным кодом, которая помимо эпиднадзора и раннего обнаружения вспышек обрабатывает процедуры борьбы с заболеваниями и управления вспышками при помощи цифрового эпиднадзора в реальном времени.",null,null,null,null,null,null,null,null,{"$f":"INDEX(Backbone!$R$2:$R$893,MATCH(I136,Backbone!$A$2:$A$893,0))","v":"Оборудование или программное обеспечение"},null,null,null,{"$f":"INDEX(Backbone!$S$2:$S$893,MATCH(I136,Backbone!$A$2:$A$893,0))","v":"Ориентированный на конкретный сектор; универсальный"},null,null,null,{"$f":"INDEX(Backbone!$H$2:$H$893,MATCH(I136,Backbone!$A$2:$A$893,0))","v":9.1999999999999993},null,{"$f":"INDEX(Backbone!$I$2:$I$893,MATCH(I136,Backbone!$A$2:$A$893,0))","v":8},null,{"$f":"INDEX(Backbone!$J$2:$J$893,MATCH(I136,Backbone!$A$2:$A$893,0))","v":9.3000000000000007},null,{"$f":"INDEX(Backbone!$K$1:$K$893,MATCH(I136,Backbone!$A$1:$A$893,0))","v":9.1},null,{"$f":"INDEX(Backbone!$L$2:$L$893,MATCH(I136,Backbone!$A$2:$A$893,0))","v":9.3000000000000007},null,{"$f":"INDEX(Backbone!$M$2:$M$893,MATCH(I136,Backbone!$A$2:$A$893,0))","v":9.3000000000000007},null,{"$f":"INDEX(Backbone!$N$2:$N$893,MATCH(I136,Backbone!$A$2:$A$893,0))","v":6.8},null,{"$f":"INDEX(Backbone!$O$2:$O$893,MATCH(I136,Backbone!$A$2:$A$893,0))","v":3.9},null,{"$f":"INDEX(Backbone!$P$2:$P$893,MATCH(I136,Backbone!$A$2:$A$893,0))","v":5.3},null,{"$f":"INDEX(Backbone!$Q$2:$Q$893,MATCH(I136,Backbone!$A$2:$A$893,0))","v":0.78},null,null,{"$f":"(AG136*$AG$22+AI136*$AI$22+AK136*$AK$22+AM136*$AM$22+AO136*$AO$22+AQ136*$AQ$22+AS136*$AS$22+AU136*$AU$22+AW136*$AW$22)/(SUM($AG$22:$AW$22)*10)","v":{"$error":"#DIV/0!"}},null,null,"Перейти в Реестр ресурсов: ",null,{"$f":"HYPERLINK(\"#\"&ADDRESS(MATCH(I136,Toolbox!$C$1:$C$300),1,,,\"Toolbox\"),VLOOKUP(I136,Toolbox!$C$1:$C$300,1,FALSE))","v":"Система анализа и управления мерами эпиднадзора и реагирования на вспышки (SORMAS)"}]
[]
[]
[]
[]
[]
[]
[null,null,null,"Другие полезные ресурсы",null,null,null,null,{"$f":"Backbone!A42","v":"Инструмент самооценки информатизации лабораторий (разработка Ассоциации лабораторий общественного здравоохранения (APHL))"},null,null,null,null,null,null,"Инструмент, позволяющий лабораториям общественного здравоохранения оценить свои сильные стороны и пробелы в вопросе потенциала информатизации по 19 функциональным направлениям работы лабораторий.",null,null,null,null,null,null,null,null,{"$f":"INDEX(Backbone!$R$2:$R$893,MATCH(I143,Backbone!$A$2:$A$893,0))","v":"Руководящий документ"},null,null,null,{"$f":"INDEX(Backbone!$S$2:$S$893,MATCH(I143,Backbone!$A$2:$A$893,0))","v":"Ориентированный на конкретный сектор; универсальный"},null,null,null,{"$f":"INDEX(Backbone!$H$2:$H$893,MATCH(I143,Backbone!$A$2:$A$893,0))","v":9.1},null,{"$f":"INDEX(Backbone!$I$2:$I$893,MATCH(I143,Backbone!$A$2:$A$893,0))","v":6.7},null,{"$f":"INDEX(Backbone!$J$2:$J$893,MATCH(I143,Backbone!$A$2:$A$893,0))","v":8.3000000000000007},null,{"$f":"INDEX(Backbone!$K$1:$K$893,MATCH(I143,Backbone!$A$1:$A$893,0))","v":8.4},null,{"$f":"INDEX(Backbone!$L$2:$L$893,MATCH(I143,Backbone!$A$2:$A$893,0))","v":8.1},null,{"$f":"INDEX(Backbone!$M$2:$M$893,MATCH(I143,Backbone!$A$2:$A$893,0))","v":8.5},null,{"$f":"INDEX(Backbone!$N$2:$N$893,MATCH(I143,Backbone!$A$2:$A$893,0))","v":5},null,{"$f":"INDEX(Backbone!$O$2:$O$893,MATCH(I143,Backbone!$A$2:$A$893,0))","v":6.1},null,{"$f":"INDEX(Backbone!$P$2:$P$893,MATCH(I143,Backbone!$A$2:$A$893,0))","v":4.3},null,{"$f":"INDEX(Backbone!$Q$2:$Q$893,MATCH(I143,Backbone!$A$2:$A$893,0))","v":0.71666666666666667},null,null,{"$f":"(AG143*$AG$22+AI143*$AI$22+AK143*$AK$22+AM143*$AM$22+AO143*$AO$22+AQ143*$AQ$22+AS143*$AS$22+AU143*$AU$22+AW143*$AW$22)/(SUM($AG$22:$AW$22)*10)","v":{"$error":"#DIV/0!"}},null,null,"Перейти в Реестр ресурсов: ",null,{"$f":"HYPERLINK(\"#\"&ADDRESS(MATCH(I143,Toolbox!$C$1:$C$300),1,,,\"Toolbox\"),VLOOKUP(I143,Toolbox!$C$1:$C$300,1,FALSE))","v":"Инструмент самооценки информатизации лабораторий (разработка Ассоциации лабораторий общественного здравоохранения (APHL))"}]
[]
[]
[]
[]
[]
[null,null,null,null,null,null,null,null,{"$f":"Backbone!A166","v":"Глобальная информационная система болезней животных (EMPRES-i)"},null,null,null,null,null,null,"Защищенная информационная онлайн-система, созданная в помощь национальным ветеринарным службам. Она обеспечивает сбор глобальных и региональных данных о заболеваниях и является глобальной справочной базой данных о болезнях животных, включая зоонозы.",null,null,null,null,null,null,null,null,{"$f":"INDEX(Backbone!$R$2:$R$893,MATCH(I149,Backbone!$A$2:$A$893,0))","v":"Оборудование или программное обеспечение"},null,null,null,{"$f":"INDEX(Backbone!$S$2:$S$893,MATCH(I149,Backbone!$A$2:$A$893,0))","v":"Ориентированный на конкретный сектор; универсальный"},null,null,null,{"$f":"INDEX(Backbone!$H$2:$H$893,MATCH(I149,Backbone!$A$2:$A$893,0))","v":9},null,{"$f":"INDEX(Backbone!$I$2:$I$893,MATCH(I149,Backbone!$A$2:$A$893,0))","v":8.3000000000000007},null,{"$f":"INDEX(Backbone!$J$2:$J$893,MATCH(I149,Backbone!$A$2:$A$893,0))","v":8.9},null,{"$f":"INDEX(Backbone!$K$1:$K$893,MATCH(I149,Backbone!$A$1:$A$893,0))","v":8.6999999999999993},null,{"$f":"INDEX(Backbone!$L$2:$L$893,MATCH(I149,Backbone!$A$2:$A$893,0))","v":8},null,{"$f":"INDEX(Backbone!$M$2:$M$893,MATCH(I149,Backbone!$A$2:$A$893,0))","v":7.8},null,{"$f":"INDEX(Backbone!$N$2:$N$893,MATCH(I149,Backbone!$A$2:$A$893,0))","v":7.4},null,{"$f":"INDEX(Backbone!$O$2:$O$893,MATCH(I149,Backbone!$A$2:$A$893,0))","v":4.8},null,{"$f":"INDEX(Backbone!$P$2:$P$893,MATCH(I149,Backbone!$A$2:$A$893,0))","v":4.7},null,{"$f":"INDEX(Backbone!$Q$2:$Q$893,MATCH(I149,Backbone!$A$2:$A$893,0))","v":0.75111111111111106},null,null,{"$f":"(AG149*$AG$22+AI149*$AI$22+AK149*$AK$22+AM149*$AM$22+AO149*$AO$22+AQ149*$AQ$22+AS149*$AS$22+AU149*$AU$22+AW149*$AW$22)/(SUM($AG$22:$AW$22)*10)","v":{"$error":"#DIV/0!"}},null,null,"Перейти в Реестр ресурсов: ",null,{"$f":"HYPERLINK(\"#\"&ADDRESS(MATCH(I149,Toolbox!$C$1:$C$300),1,,,\"Toolbox\"),VLOOKUP(I149,Toolbox!$C$1:$C$300,1,FALSE))","v":"Глобальная информационная система болезней животных (EMPRES-i)"}]
[]
[]
[]
[]
[]
[null,null,null,null,null,null,null,null,{"$f":"Backbone!A531","v":"Лабораторная информационная менеджмент-система, облегченная версия (МиниЛИМС)"},null,null,null,null,null,null,"Информационная система для управления лабораторией анализов с простой организационной структурой.",null,null,null,null,null,null,null,null,{"$f":"INDEX(Backbone!$R$2:$R$893,MATCH(I155,Backbone!$A$2:$A$893,0))","v":"Оборудование или программное обеспечение"},null,null,null,{"$f":"INDEX(Backbone!$S$2:$S$893,MATCH(I155,Backbone!$A$2:$A$893,0))","v":"Ориентированный на конкретный сектор; универсальный"},null,null,null,{"$f":"INDEX(Backbone!$H$2:$H$893,MATCH(I155,Backbone!$A$2:$A$893,0))","v":9},null,{"$f":"INDEX(Backbone!$I$2:$I$893,MATCH(I155,Backbone!$A$2:$A$893,0))","v":7.3},null,{"$f":"INDEX(Backbone!$J$2:$J$893,MATCH(I155,Backbone!$A$2:$A$893,0))","v":8.4},null,{"$f":"INDEX(Backbone!$K$1:$K$893,MATCH(I155,Backbone!$A$1:$A$893,0))","v":9.3000000000000007},null,{"$f":"INDEX(Backbone!$L$2:$L$893,MATCH(I155,Backbone!$A$2:$A$893,0))","v":7.2},null,{"$f":"INDEX(Backbone!$M$2:$M$893,MATCH(I155,Backbone!$A$2:$A$893,0))","v":6.5},null,{"$f":"INDEX(Backbone!$N$2:$N$893,MATCH(I155,Backbone!$A$2:$A$893,0))","v":2},null,{"$f":"INDEX(Backbone!$O$2:$O$893,MATCH(I155,Backbone!$A$2:$A$893,0))","v":4.4000000000000004},null,{"$f":"INDEX(Backbone!$P$2:$P$893,MATCH(I155,Backbone!$A$2:$A$893,0))","v":4},null,{"$f":"INDEX(Backbone!$Q$2:$Q$893,MATCH(I155,Backbone!$A$2:$A$893,0))","v":0.64555555555555555},null,null,{"$f":"(AG155*$AG$22+AI155*$AI$22+AK155*$AK$22+AM155*$AM$22+AO155*$AO$22+AQ155*$AQ$22+AS155*$AS$22+AU155*$AU$22+AW155*$AW$22)/(SUM($AG$22:$AW$22)*10)","v":{"$error":"#DIV/0!"}},null,null,"Перейти в Реестр ресурсов: ",null,{"$f":"HYPERLINK(\"#\"&ADDRESS(MATCH(I155,Toolbox!$C$1:$C$300),1,,,\"Toolbox\"),VLOOKUP(I155,Toolbox!$C$1:$C$300,1,FALSE))","v":"Лабораторная информационная менеджмент-система, облегченная версия (МиниЛИМС)"}]
[]
[]
[]
[]
[]
[null,null,null,null,null,null,null,null,{"$f":"Backbone!A522","v":"Лабораторная информационная менеджмент-система для африканских ветеринарных служб (SILABFA)"},null,null,null,null,null,null,"Лабораторная информационная менеджмент-система (ЛИМС) позволяет отследить все этапы диагностирования от получения образцов до лабораторных заключений.",null,null,null,null,null,null,null,null,{"$f":"INDEX(Backbone!$R$2:$R$893,MATCH(I161,Backbone!$A$2:$A$893,0))","v":"Оборудование или программное обеспечение"},null,null,null,{"$f":"INDEX(Backbone!$S$2:$S$893,MATCH(I161,Backbone!$A$2:$A$893,0))","v":"Ориентированный на конкретный сектор; универсальный"},null,null,null,{"$f":"INDEX(Backbone!$H$2:$H$893,MATCH(I161,Backbone!$A$2:$A$893,0))","v":9.3000000000000007},null,{"$f":"INDEX(Backbone!$I$2:$I$893,MATCH(I161,Backbone!$A$2:$A$893,0))","v":10},null,{"$f":"INDEX(Backbone!$J$2:$J$893,MATCH(I161,Backbone!$A$2:$A$893,0))","v":6.8},null,{"$f":"INDEX(Backbone!$K$1:$K$893,MATCH(I161,Backbone!$A$1:$A$893,0))","v":9.3000000000000007},null,{"$f":"INDEX(Backbone!$L$2:$L$893,MATCH(I161,Backbone!$A$2:$A$893,0))","v":8},null,{"$f":"INDEX(Backbone!$M$2:$M$893,MATCH(I161,Backbone!$A$2:$A$893,0))","v":6.5},null,{"$f":"INDEX(Backbone!$N$2:$N$893,MATCH(I161,Backbone!$A$2:$A$893,0))","v":8},null,{"$f":"INDEX(Backbone!$O$2:$O$893,MATCH(I161,Backbone!$A$2:$A$893,0))","v":7.2},null,{"$f":"INDEX(Backbone!$P$2:$P$893,MATCH(I161,Backbone!$A$2:$A$893,0))","v":8},null,{"$f":"INDEX(Backbone!$Q$2:$Q$893,MATCH(I161,Backbone!$A$2:$A$893,0))","v":0.81222222222222229},null,null,{"$f":"(AG161*$AG$22+AI161*$AI$22+AK161*$AK$22+AM161*$AM$22+AO161*$AO$22+AQ161*$AQ$22+AS161*$AS$22+AU161*$AU$22+AW161*$AW$22)/(SUM($AG$22:$AW$22)*10)","v":{"$error":"#DIV/0!"}},null,null,"Перейти в Реестр ресурсов: ",null,{"$f":"HYPERLINK(\"#\"&ADDRESS(MATCH(I161,Toolbox!$C$1:$C$300),1,,,\"Toolbox\"),VLOOKUP(I161,Toolbox!$C$1:$C$300,1,FALSE))","v":"Лабораторная информационная менеджмент-система для африканских ветеринарных служб (SILABFA)"}]
[]
[]
[]
[]
[]
[]
[]
[]
[]
[]
[]
[]
[]
[]
[]
[]
[]
[]
[]
[]
[]
[]
[]
[]
[null,null,null,null,null,null,null,null,null,null,null,null,null,null,null,null,null,null,null,null,null,null,null,null,null,null,null,null,null,null,null,null,"Доступность",null,"Язык",null,"Простота использования",null,"Гибкость",null,"Потребности в данных",null,"Анализ данных",null,"Приемлемость",null,"«Единое здоровье»",null,"Воздействие"]
[]
[]
[]
[]
[]
[]
[null,null,null,null,null,null,null,null,null,null,null,null,null,null,null,null,null,null,null,null,null,null,null,null,null,null,null,null,null,null,null,null,null,null,null,null,null,null,null,null,null,null,null,null,null,null,null,null,null,null,"ИСХОДНАЯ ОЦЕНКА",null,null,"СКОРРЕКТИРОВАННАЯ ОЦЕНКА \n(Исходя из предпочтений пользователей)"]
[]
[]
[]
[null,"РЕСУРСЫ УРОВНЯ 3",null,"КЛАССИФИКАЦИЯ",null,null,null,null,"НАЗВАНИЕ РЕСУРСА",null,null,null,null,null,null,"КРАТКОЕ ОПИСАНИЕ",null,null,null,null,null,null,null,null,"ВИД РЕСУРСА",null,null,null,"ОБЩАЯ НАПРАВЛЕННОСТЬ РЕСУРСА"]
[]
[]
[]
[null,null,null,null,null,null,null,null,null,null,null,null,null,null,null,null,null,null,null,null,null,null,null,null,null,null,null,null,null,null,null,null,{"$f":"'Attribute Survey'!S201","v":0},null,{"$f":"'Attribute Survey'!S205","v":0},null,{"$f":"'Attribute Survey'!S209","v":0},null,{"$f":"'Attribute Survey'!S213","v":0},null,{"$f":"'Attribute Survey'!S217","v":0},null,{"$f":"'Attribute Survey'!S221","v":0},null,{"$f":"'Attribute Survey'!S225","v":0},null,{"$f":"'Attribute Survey'!S229","v":0},null,{"$f":"'Attribute Survey'!S233","v":0}]
[null,null,null,"Наиболее подходящие ресурсы",null,null,null,null,{"$f":"Backbone!A65","v":"Районная информационная система здравоохранения, версия 2 (DHIS2) "},null,null,null,null,null,null,"Онлайн-платформа информационной системы управления в системе здравоохранения с открытым исходным кодом.",null,null,null,null,null,null,null,null,{"$f":"INDEX(Backbone!$R$2:$R$893,MATCH(I202,Backbone!$A$2:$A$893,0))","v":"Оборудование или программное обеспечение"},null,null,null,{"$f":"INDEX(Backbone!$S$2:$S$893,MATCH(I202,Backbone!$A$2:$A$893,0))","v":"Ориентированный на конкретный сектор; универсальный"},null,null,null,{"$f":"INDEX(Backbone!$H$2:$H$893,MATCH(I202,Backbone!$A$2:$A$893,0))","v":8.8000000000000007},null,{"$f":"INDEX(Backbone!$I$2:$I$893,MATCH(I202,Backbone!$A$2:$A$893,0))","v":8.6999999999999993},null,{"$f":"INDEX(Backbone!$J$2:$J$893,MATCH(I202,Backbone!$A$2:$A$893,0))","v":8},null,{"$f":"INDEX(Backbone!$K$2:$K$893,MATCH(I202,Backbone!$A$2:$A$893,0))","v":8.6999999999999993},null,{"$f":"INDEX(Backbone!$L$2:$L$893,MATCH(I202,Backbone!$A$2:$A$893,0))","v":9.3000000000000007},null,{"$f":"INDEX(Backbone!$M$2:$M$893,MATCH(I202,Backbone!$A$2:$A$893,0))","v":9},null,{"$f":"INDEX(Backbone!$N$2:$N$893,MATCH(I202,Backbone!$A$2:$A$893,0))","v":10},null,{"$f":"INDEX(Backbone!$O$2:$O$893,MATCH(I202,Backbone!$A$2:$A$893,0))","v":7.8},null,{"$f":"INDEX(Backbone!$P$2:$P$893,MATCH(I202,Backbone!$A$2:$A$893,0))","v":7},null,{"$f":"INDEX(Backbone!$Q$2:$Q$893,MATCH(I202,Backbone!$A$2:$A$893,0))","v":0.85888888888888881},null,null,{"$f":"(AG202*$AG$22+AI202*$AI$22+AK202*$AK$22+AM202*$AM$22+AO202*$AO$22+AQ202*$AQ$22+AS202*$AS$22+AU202*$AU$22+AW202*$AW$22)/(SUM($AG$22:$AW$22)*10)","v":{"$error":"#DIV/0!"}},null,null,"Перейти в Реестр ресурсов: ",null,{"$f":"HYPERLINK(\"#\"&ADDRESS(MATCH(I202,Toolbox!$C$1:$C$300),1,,,\"Toolbox\"),VLOOKUP(I202,Toolbox!$C$1:$C$300,1,FALSE))","v":"Районная информационная система здравоохранения, версия 2 (DHIS2) "}]
[]
[]
[]
[]
[]
[null,null,null,null,null,null,null,null,{"$f":"Backbone!A138","v":"Электронная интегрированная система эпиднадзора за болезнями (EIDSS)"},null,null,null,null,null,null,"Электронная онлайн-система передачи эпидемиологической информации адаптируется под требования заказчика. Она создана для пассивного и активного эпиднадзора при содействии медицинских и ветеринарных учреждений, для лабораторной диагностики, надзора за переносчиками и управления вспышками заболеваний. ",null,null,null,null,null,null,null,null,{"$f":"INDEX(Backbone!$R$2:$R$893,MATCH(I208,Backbone!$A$2:$A$893,0))","v":"Оборудование или программное обеспечение"},null,null,null,{"$f":"INDEX(Backbone!$S$2:$S$893,MATCH(I208,Backbone!$A$2:$A$893,0))","v":"«Единое здоровье»; универсальный"},null,null,null,{"$f":"INDEX(Backbone!$H$2:$H$893,MATCH(I208,Backbone!$A$2:$A$893,0))","v":6.8},null,{"$f":"INDEX(Backbone!$I$2:$I$893,MATCH(I208,Backbone!$A$2:$A$893,0))","v":10},null,{"$f":"INDEX(Backbone!$J$2:$J$893,MATCH(I208,Backbone!$A$2:$A$893,0))","v":8.4},null,{"$f":"INDEX(Backbone!$K$1:$K$893,MATCH(I208,Backbone!$A$1:$A$893,0))","v":8.6999999999999993},null,{"$f":"INDEX(Backbone!$L$2:$L$893,MATCH(I208,Backbone!$A$2:$A$893,0))","v":9.1},null,{"$f":"INDEX(Backbone!$M$2:$M$893,MATCH(I208,Backbone!$A$2:$A$893,0))","v":8},null,{"$f":"INDEX(Backbone!$N$2:$N$893,MATCH(I208,Backbone!$A$2:$A$893,0))","v":7},null,{"$f":"INDEX(Backbone!$O$2:$O$893,MATCH(I208,Backbone!$A$2:$A$893,0))","v":7.2},null,{"$f":"INDEX(Backbone!$P$2:$P$893,MATCH(I208,Backbone!$A$2:$A$893,0))","v":10},null,{"$f":"INDEX(Backbone!$Q$2:$Q$893,MATCH(I208,Backbone!$A$2:$A$893,0))","v":0.83555555555555561},null,null,{"$f":"(AG208*$AG$22+AI208*$AI$22+AK208*$AK$22+AM208*$AM$22+AO208*$AO$22+AQ208*$AQ$22+AS208*$AS$22+AU208*$AU$22+AW208*$AW$22)/(SUM($AG$22:$AW$22)*10)","v":{"$error":"#DIV/0!"}},null,null,"Перейти в Реестр ресурсов: ",null,{"$f":"HYPERLINK(\"#\"&ADDRESS(MATCH(I208,Toolbox!$C$1:$C$300),1,,,\"Toolbox\"),VLOOKUP(I208,Toolbox!$C$1:$C$300,1,FALSE))","v":"Электронная интегрированная система эпиднадзора за болезнями (EIDSS)"}]
[]
[]
[]
[]
[]
[null,null,null,null,null,null,null,null,{"$f":"Backbone!A604","v":"Приложение для оценки воздействия бешенства и выявления контактных лиц (REACT)"},null,null,null,null,null,null,"Инструмент, помогающий реализации комплексных программ управления случаями укусов (IBCM).",null,null,null,null,null,null,null,null,{"$f":"INDEX(Backbone!$R$2:$R$893,MATCH(I214,Backbone!$A$2:$A$893,0))","v":"Оборудование или программное обеспечение"},null,null,null,{"$f":"INDEX(Backbone!$S$2:$S$893,MATCH(I214,Backbone!$A$2:$A$893,0))","v":"«Единое здоровье»; ориентированный на конкретную болезнь/угрозу "},null,null,null,{"$f":"INDEX(Backbone!$H$2:$H$893,MATCH(I214,Backbone!$A$2:$A$893,0))","v":8.6},null,{"$f":"INDEX(Backbone!$I$2:$I$893,MATCH(I214,Backbone!$A$2:$A$893,0))","v":8.6},null,{"$f":"INDEX(Backbone!$J$2:$J$893,MATCH(I214,Backbone!$A$2:$A$893,0))","v":8},null,{"$f":"INDEX(Backbone!$K$1:$K$893,MATCH(I214,Backbone!$A$1:$A$893,0))","v":8.6},null,{"$f":"INDEX(Backbone!$L$2:$L$893,MATCH(I214,Backbone!$A$2:$A$893,0))","v":9.4},null,{"$f":"INDEX(Backbone!$M$2:$M$893,MATCH(I214,Backbone!$A$2:$A$893,0))","v":9.5},null,{"$f":"INDEX(Backbone!$N$2:$N$893,MATCH(I214,Backbone!$A$2:$A$893,0))","v":9},null,{"$f":"INDEX(Backbone!$O$2:$O$893,MATCH(I214,Backbone!$A$2:$A$893,0))","v":9.1999999999999993},null,{"$f":"INDEX(Backbone!$P$2:$P$893,MATCH(I214,Backbone!$A$2:$A$893,0))","v":9},null,{"$f":"INDEX(Backbone!$Q$2:$Q$893,MATCH(I214,Backbone!$A$2:$A$893,0))","v":0.88777777777777767},null,null,{"$f":"(AG214*$AG$22+AI214*$AI$22+AK214*$AK$22+AM214*$AM$22+AO214*$AO$22+AQ214*$AQ$22+AS214*$AS$22+AU214*$AU$22+AW214*$AW$22)/(SUM($AG$22:$AW$22)*10)","v":{"$error":"#DIV/0!"}},null,null,"Перейти в Реестр ресурсов: ",null,{"$f":"HYPERLINK(\"#\"&ADDRESS(MATCH(I214,Toolbox!$C$1:$C$300),1,,,\"Toolbox\"),VLOOKUP(I214,Toolbox!$C$1:$C$300,1,FALSE))","v":"Приложение для оценки воздействия бешенства и выявления контактных лиц (REACT)"}]
[]
[]
[]
[]
[]
[null,null,null,null,null,null,null,null,{"$f":"Backbone!A489","v":"Пакет программного обеспечения для проведения автоматического глобального электронного биомониторинга (SAGES)"},null,null,null,null,null,null,"Пакет программного обеспечения с открытым исходным кодом для улучшения электронного эпиднадзора в условиях ограниченных ресурсов.",null,null,null,null,null,null,null,null,{"$f":"INDEX(Backbone!$R$2:$R$893,MATCH(I220,Backbone!$A$2:$A$893,0))","v":"Оборудование или программное обеспечение"},null,null,null,{"$f":"INDEX(Backbone!$S$2:$S$893,MATCH(I220,Backbone!$A$2:$A$893,0))","v":"«Единое здоровье»; универсальный"},null,null,null,{"$f":"INDEX(Backbone!$H$2:$H$893,MATCH(I220,Backbone!$A$2:$A$893,0))","v":9.8000000000000007},null,{"$f":"INDEX(Backbone!$I$2:$I$893,MATCH(I220,Backbone!$A$2:$A$893,0))","v":10},null,{"$f":"INDEX(Backbone!$J$2:$J$893,MATCH(I220,Backbone!$A$2:$A$893,0))","v":10},null,{"$f":"INDEX(Backbone!$K$1:$K$893,MATCH(I220,Backbone!$A$1:$A$893,0))","v":9.3000000000000007},null,{"$f":"INDEX(Backbone!$L$2:$L$893,MATCH(I220,Backbone!$A$2:$A$893,0))","v":8.5},null,{"$f":"INDEX(Backbone!$M$2:$M$893,MATCH(I220,Backbone!$A$2:$A$893,0))","v":9},null,{"$f":"INDEX(Backbone!$N$2:$N$893,MATCH(I220,Backbone!$A$2:$A$893,0))","v":5.5},null,{"$f":"INDEX(Backbone!$O$2:$O$893,MATCH(I220,Backbone!$A$2:$A$893,0))","v":9.5},null,{"$f":"INDEX(Backbone!$P$2:$P$893,MATCH(I220,Backbone!$A$2:$A$893,0))","v":7},null,{"$f":"INDEX(Backbone!$Q$2:$Q$893,MATCH(I220,Backbone!$A$2:$A$893,0))","v":0.87333333333333329},null,null,{"$f":"(AG220*$AG$22+AI220*$AI$22+AK220*$AK$22+AM220*$AM$22+AO220*$AO$22+AQ220*$AQ$22+AS220*$AS$22+AU220*$AU$22+AW220*$AW$22)/(SUM($AG$22:$AW$22)*10)","v":{"$error":"#DIV/0!"}},null,null,"Перейти в Реестр ресурсов: ",null,{"$f":"HYPERLINK(\"#\"&ADDRESS(MATCH(I220,Toolbox!$C$1:$C$300),1,,,\"Toolbox\"),VLOOKUP(I220,Toolbox!$C$1:$C$300,1,FALSE))","v":"Пакет программного обеспечения для проведения автоматического глобального электронного биомониторинга (SAGES)"}]
[]
[]
[]
[]
[]
[null,null,null,null,null,null,null,null,{"$f":"Backbone!A540","v":"Система анализа и управления мерами эпиднадзора и реагирования на вспышки (SORMAS)"},null,null,null,null,null,null,"Мобильная система eHealth с открытым исходным кодом, которая помимо эпиднадзора и раннего обнаружения вспышек обрабатывает процедуры борьбы с заболеваниями и управления вспышками при помощи цифрового эпиднадзора в реальном времени.",null,null,null,null,null,null,null,null,{"$f":"INDEX(Backbone!$R$2:$R$893,MATCH(I226,Backbone!$A$2:$A$893,0))","v":"Оборудование или программное обеспечение"},null,null,null,{"$f":"INDEX(Backbone!$S$2:$S$893,MATCH(I226,Backbone!$A$2:$A$893,0))","v":"Ориентированный на конкретный сектор; универсальный"},null,null,null,{"$f":"INDEX(Backbone!$H$2:$H$893,MATCH(I226,Backbone!$A$2:$A$893,0))","v":9.1999999999999993},null,{"$f":"INDEX(Backbone!$I$2:$I$893,MATCH(I226,Backbone!$A$2:$A$893,0))","v":8},null,{"$f":"INDEX(Backbone!$J$2:$J$893,MATCH(I226,Backbone!$A$2:$A$893,0))","v":9.3000000000000007},null,{"$f":"INDEX(Backbone!$K$1:$K$893,MATCH(I226,Backbone!$A$1:$A$893,0))","v":9.1},null,{"$f":"INDEX(Backbone!$L$2:$L$893,MATCH(I226,Backbone!$A$2:$A$893,0))","v":9.3000000000000007},null,{"$f":"INDEX(Backbone!$M$2:$M$893,MATCH(I226,Backbone!$A$2:$A$893,0))","v":9.3000000000000007},null,{"$f":"INDEX(Backbone!$N$2:$N$893,MATCH(I226,Backbone!$A$2:$A$893,0))","v":6.8},null,{"$f":"INDEX(Backbone!$O$2:$O$893,MATCH(I226,Backbone!$A$2:$A$893,0))","v":3.9},null,{"$f":"INDEX(Backbone!$P$2:$P$893,MATCH(I226,Backbone!$A$2:$A$893,0))","v":5.3},null,{"$f":"INDEX(Backbone!$Q$2:$Q$893,MATCH(I226,Backbone!$A$2:$A$893,0))","v":0.78},null,null,{"$f":"(AG226*$AG$22+AI226*$AI$22+AK226*$AK$22+AM226*$AM$22+AO226*$AO$22+AQ226*$AQ$22+AS226*$AS$22+AU226*$AU$22+AW226*$AW$22)/(SUM($AG$22:$AW$22)*10)","v":{"$error":"#DIV/0!"}},null,null,"Перейти в Реестр ресурсов: ",null,{"$f":"HYPERLINK(\"#\"&ADDRESS(MATCH(I226,Toolbox!$C$1:$C$300),1,,,\"Toolbox\"),VLOOKUP(I226,Toolbox!$C$1:$C$300,1,FALSE))","v":"Система анализа и управления мерами эпиднадзора и реагирования на вспышки (SORMAS)"}]
[]
[]
[]
[]
[]
[]
[null,null,null,"Другие полезные ресурсы",null,null,null,null,{"$f":"Backbone!A42","v":"Инструмент самооценки информатизации лабораторий (разработка Ассоциации лабораторий общественного здравоохранения (APHL))"},null,null,null,null,null,null,"Инструмент, позволяющий лабораториям общественного здравоохранения оценить свои сильные стороны и пробелы в вопросе потенциала информатизации по 19 функциональным направлениям работы лабораторий.",null,null,null,null,null,null,null,null,{"$f":"INDEX(Backbone!$R$2:$R$893,MATCH(I233,Backbone!$A$2:$A$893,0))","v":"Руководящий документ"},null,null,null,{"$f":"INDEX(Backbone!$S$2:$S$893,MATCH(I233,Backbone!$A$2:$A$893,0))","v":"Ориентированный на конкретный сектор; универсальный"},null,null,null,{"$f":"INDEX(Backbone!$H$2:$H$893,MATCH(I233,Backbone!$A$2:$A$893,0))","v":9.1},null,{"$f":"INDEX(Backbone!$I$2:$I$893,MATCH(I233,Backbone!$A$2:$A$893,0))","v":6.7},null,{"$f":"INDEX(Backbone!$J$2:$J$893,MATCH(I233,Backbone!$A$2:$A$893,0))","v":8.3000000000000007},null,{"$f":"INDEX(Backbone!$K$1:$K$893,MATCH(I233,Backbone!$A$1:$A$893,0))","v":8.4},null,{"$f":"INDEX(Backbone!$L$2:$L$893,MATCH(I233,Backbone!$A$2:$A$893,0))","v":8.1},null,{"$f":"INDEX(Backbone!$M$2:$M$893,MATCH(I233,Backbone!$A$2:$A$893,0))","v":8.5},null,{"$f":"INDEX(Backbone!$N$2:$N$893,MATCH(I233,Backbone!$A$2:$A$893,0))","v":5},null,{"$f":"INDEX(Backbone!$O$2:$O$893,MATCH(I233,Backbone!$A$2:$A$893,0))","v":6.1},null,{"$f":"INDEX(Backbone!$P$2:$P$893,MATCH(I233,Backbone!$A$2:$A$893,0))","v":4.3},null,{"$f":"INDEX(Backbone!$Q$2:$Q$893,MATCH(I233,Backbone!$A$2:$A$893,0))","v":0.71666666666666667},null,null,{"$f":"(AG233*$AG$22+AI233*$AI$22+AK233*$AK$22+AM233*$AM$22+AO233*$AO$22+AQ233*$AQ$22+AS233*$AS$22+AU233*$AU$22+AW233*$AW$22)/(SUM($AG$22:$AW$22)*10)","v":{"$error":"#DIV/0!"}},null,null,"Перейти в Реестр ресурсов: ",null,{"$f":"HYPERLINK(\"#\"&ADDRESS(MATCH(I233,Toolbox!$C$1:$C$300),1,,,\"Toolbox\"),VLOOKUP(I233,Toolbox!$C$1:$C$300,1,FALSE))","v":"Инструмент самооценки информатизации лабораторий (разработка Ассоциации лабораторий общественного здравоохранения (APHL))"}]

{"sheet":"I6_tools","index":51,"n_rows":241,"n_cols":59,"rows_kept":241,"cut":false,"hidden":false,"merged":[[240,36,244,36],[234,36,238,36],[234,38,238,38],[240,50,244,51],[240,53,244,54],[240,38,244,38],[240,40,244,40],[240,42,244,42],[240,44,244,44],[240,46,244,46],[240,48,244,48],[234,48,238,48],[234,50,238,51],[234,53,238,54],[234,40,238,40],[234,42,238,42],[234,44,238,44],[234,46,238,46],[234,8,238,13],[234,15,238,22],[234,24,238,26],[234,28,238,30],[234,32,238,32],[234,34,238,34],[240,8,244,13],[240,15,244,22],[240,24,244,26],[240,28,244,30],[240,32,244,32],[240,34,244,34],[222,34,226,34],[222,36,226,36],[222,48,226,48],[222,50,226,51],[222,53,226,54],[228,8,232,13],[228,15,232,22],[228,24,232,26],[228,28,232,30],[228,32,232,32],[228,34,232,34],[228,36,232,36],[228,46,232,46],[228,48,232,48],[228,50,232,51],[228,53,232,54],[222,46,226,46],[222,32,226,32],[210,53,214,54],[216,8,220,13],[216,15,220,22],[216,24,220,26],[216,28,220,30],[216,32,220,32],[216,34,220,34],[216,36,220,36],[216,38,220,38],[216,40,220,40],[216,48,220,48],[216,50,220,51],[216,53,220,54],[216,46,220,46],[210,44,214,44],[210,46,214,46],[210,48,214,48],[210,50,214,51],[198,53,202,54],[204,8,208,13],[204,15,208,22],[204,24,208,26],[204,28,208,30],[204,32,208,32],[204,34,208,34],[198,8,202,13],[198,15,202,22],[198,24,202,26],[198,28,202,30],[198,32,202,32],[198,34,202,34],[204,53,208,54],[204,38,208,38],[204,40,208,40],[204,42,208,42],[204,44,208,44],[204,46,208,46],[204,48,208,48],[204,50,208,51],[198,44,202,44],[198,46,202,46],[198,48,202,48],[198,50,202,51],[193,1,244,1],[193,3,196,6],[193,8,196,13],[193,15,196,22],[193,24,196,26],[193,28,196,30],[198,3,244,6],[228,44,232,44],[222,44,226,44],[216,44,220,44],[210,8,214,13],[210,15,214,22],[210,24,214,26],[210,28,214,30],[210,32,214,32],[210,34,214,34],[210,36,214,36],[210,38,214,38],[210,40,214,40],[222,8,226,13],[222,15,226,22],[222,24,226,26],[222,28,226,30],[158,48,162,48],[158,50,162,51],[158,53,162,54],[182,32,196,32],[182,34,196,34],[182,36,196,36],[182,38,196,38],[182,40,196,40],[182,42,196,42],[182,44,196,44],[182,46,196,46],[182,48,196,48],[189,50,196,51],[189,53,196,54],[158,8,162,13],[158,15,162,22],[158,24,162,26],[158,28,162,30],[158,32,162,32],[158,34,162,34],[158,36,162,36],[158,38,162,38],[152,36,156,36],[152,38,156,38],[146,48,150,48],[146,50,150,51],[146,53,150,54],[152,8,156,13],[152,15,156,22],[152,24,156,26],[152,28,156,30],[152,32,156,32],[152,34,156,34],[152,50,156,51],[152,53,156,54],[152,40,156,40],[152,42,156,42],[152,44,156,44],[152,46,156,46],[146,8,150,13],[146,15,150,22],[146,24,150,26],[146,28,150,30],[146,32,150,32],[146,34,150,34],[146,42,150,42],[146,44,150,44],[146,46,150,46],[140,48,144,48],[140,50,144,51],[140,53,144,54],[134,8,138,13],[134,15,138,22],[134,24,138,26],[134,28,138,30],[134,32,138,32],[134,34,138,34],[134,36,138,36],[140,8,144,13],[140,15,144,22],[140,24,144,26],[140,28,144,30],[140,32,144,32],[140,34,144,34],[140,36,144,36],[140,38,144,38],[140,40,144,40],[134,38,138,38],[134,40,138,40],[134,46,138,46],[134,48,138,48],[134,53,138,54],[122,8,126,13],[122,15,126,22],[122,24,126,26],[122,28,126,30],[122,32,126,32],[122,34,126,34],[122,36,126,36],[134,50,138,51],[140,42,144,42],[140,44,144,44],[128,8,132,13],[128,15,132,22],[128,24,132,26],[128,28,132,30],[128,32,132,32],[128,34,132,34],[134,42,138,42],[134,44,138,44],[128,36,132,36],[128,38,132,38],[128,40,132,40],[128,42,132,42],[128,44,132,44],[140,46,144,46],[116,48,120,48],[116,50,120,51],[116,53,120,54],[116,46,120,46],[122,46,126,46],[122,48,126,48],[122,50,126,51],[122,53,126,54],[128,48,132,48],[128,50,132,51],[128,53,132,54],[128,46,132,46],[116,34,120,34],[116,36,120,36],[116,38,120,38],[116,40,120,40],[116,42,120,42],[116,44,120,44],[122,38,126,38],[122,40,126,40],[122,42,126,42],[122,44,126,44],[110,42,114,42],[110,44,114,44],[110,46,114,46],[110,48,114,48],[110,50,114,51],[110,53,114,54],[105,28,108,30],[110,3,162,6],[110,8,114,13],[110,15,114,22],[110,24,114,26],[110,28,114,30],[116,8,120,13],[116,15,120,22],[116,24,120,26],[116,28,120,30],[94,44,108,44],[94,46,108,46],[94,48,108,48],[101,50,108,51],[101,53,108,54],[158,44,162,44],[158,46,162,46],[152,48,156,48],[105,1,162,1],[105,3,108,6],[105,8,108,13],[105,15,108,22],[105,24,108,26],[70,50,74,51],[70,53,74,54],[22,3,74,6],[17,1,74,1],[94,32,108,32],[94,34,108,34],[94,36,108,36],[94,38,108,38],[94,40,108,40],[94,42,108,42],[70,38,74,38],[70,40,74,40],[70,42,74,42],[70,44,74,44],[70,46,74,46],[70,48,74,48],[64,48,68,48],[64,50,68,51],[64,53,68,54],[70,8,74,13],[70,15,74,22],[70,24,74,26],[70,28,74,30],[70,32,74,32],[70,34,74,34],[70,36,74,36],[64,36,68,36],[64,38,68,38],[64,42,68,42],[64,44,68,44],[64,46,68,46],[64,8,68,13],[64,15,68,22],[64,24,68,26],[64,28,68,30],[64,32,68,32],[64,34,68,34],[58,46,62,46],[58,48,62,48],[58,50,62,51],[58,53,62,54],[52,53,56,54],[58,8,62,13],[58,15,62,22],[58,24,62,26],[58,28,62,30],[58,32,62,32],[58,34,62,34],[58,36,62,36],[58,38,62,38],[58,40,62,40],[52,40,56,40],[52,42,56,42],[52,44,56,44],[52,46,56,46],[52,48,56,48],[52,50,56,51],[52,8,56,13],[52,15,56,22],[52,24,56,26],[52,28,56,30],[52,34,56,34],[52,36,56,36],[52,38,56,38],[228,38,232,38],[228,40,232,40],[228,42,232,42],[222,38,226,38],[222,40,226,40],[222,42,226,42],[216,42,220,42],[210,42,214,42],[198,38,202,38],[198,40,202,40],[198,42,202,42],[198,36,202,36],[204,36,208,36],[158,40,162,40],[158,42,162,42],[146,36,150,36],[146,38,150,38],[146,40,150,40],[110,34,114,34],[110,36,114,36],[64,40,68,40],[110,38,114,38],[110,40,114,40],[110,32,114,32],[116,32,120,32],[40,48,44,48],[40,50,44,51],[40,53,44,54],[40,36,44,36],[40,38,44,38],[40,40,44,40],[40,42,44,42],[40,44,44,44],[40,46,44,46],[46,50,50,51],[46,53,50,54],[46,38,50,38],[46,40,50,40],[46,42,50,42],[46,44,50,44],[46,46,50,46],[46,48,50,48],[58,42,62,42],[58,44,62,44],[52,32,56,32],[40,8,44,13],[40,15,44,22],[40,24,44,26],[40,28,44,30],[40,32,44,32],[40,34,44,34],[34,42,38,42],[34,44,38,44],[34,46,38,46],[34,53,38,54],[28,53,32,54],[34,8,38,13],[34,15,38,22],[34,24,38,26],[34,28,38,30],[34,32,38,32],[34,34,38,34],[34,36,38,36],[34,38,38,38],[34,40,38,40],[28,40,32,40],[28,42,32,42],[28,44,32,44],[28,46,32,46],[28,48,32,48],[28,50,32,51],[22,8,26,13],[22,15,26,22],[22,24,26,26],[22,28,26,30],[22,32,26,32],[22,34,26,34],[22,36,26,36],[34,48,38,48],[34,50,38,51],[46,8,50,13],[46,15,50,22],[46,24,50,26],[46,28,50,30],[46,32,50,32],[46,34,50,34],[46,36,50,36],[13,50,20,51],[13,53,20,54],[22,50,26,51],[22,53,26,54],[28,8,32,13],[28,15,32,22],[28,24,32,26],[28,28,32,30],[28,32,32,32],[28,34,32,34],[28,36,32,36],[28,38,32,38],[22,38,26,38],[22,40,26,40],[22,42,26,42],[22,44,26,44],[22,46,26,46],[22,56,26,57],[22,58,26,62],[1,1,3,62],[28,56,32,57],[28,58,32,62],[34,56,38,57],[34,58,38,62],[40,56,44,57],[40,58,44,62],[17,3,20,6],[17,8,20,13],[17,15,20,22],[17,24,20,26],[17,28,20,30],[6,32,20,32],[6,34,20,34],[6,36,20,36],[6,38,20,38],[6,40,20,40],[6,42,20,42],[6,44,20,44],[6,46,20,46],[6,48,20,48],[22,48,26,48],[46,56,50,57],[46,58,50,62],[52,56,56,57],[52,58,56,62],[58,56,62,57],[58,58,62,62],[64,56,68,57],[64,58,68,62],[70,56,74,57],[70,58,74,62],[110,56,114,57],[110,58,114,62],[116,56,120,57],[116,58,120,62],[122,56,126,57],[122,58,126,62],[128,56,132,57],[128,58,132,62],[134,56,138,57],[134,58,138,62],[140,56,144,57],[140,58,144,62],[146,56,150,57],[146,58,150,62],[152,56,156,57],[152,58,156,62],[158,56,162,57],[158,58,162,62],[198,56,202,57],[198,58,202,62],[234,56,238,57],[234,58,238,62],[240,56,244,57],[240,58,244,62],[204,56,208,57],[204,58,208,62],[210,56,214,57],[210,58,214,62],[216,56,220,57],[216,58,220,62],[222,56,226,57],[222,58,226,62],[228,56,232,57],[228,58,232,62]]}
[]
[null,"Ресурсы по внедрению координированной системы эпиднадзора"]
[]
[]
[]
[]
[null,null,null,null,null,null,null,null,null,null,null,null,null,null,null,null,null,null,null,null,null,null,null,null,null,null,null,null,null,null,null,null,"Доступность",null,"Язык",null,"Простота использования",null,"Гибкость",null,"Потребности в данных",null,"Анализ данных",null,"Приемлемость",null,"«Единое здоровье»",null,"Воздействие"]
[]
[]
[]
[]
[]
[]
[null,null,null,null,null,null,null,null,null,null,null,null,null,null,null,null,null,null,null,null,null,null,null,null,null,null,null,null,null,null,null,null,null,null,null,null,null,null,null,null,null,null,null,null,null,null,null,null,null,null,"ИСХОДНАЯ ОЦЕНКА",null,null,"СКОРРЕКТИРОВАННАЯ ОЦЕНКА \n(Исходя из предпочтений пользователей)"]
[]
[]
[]
[null,"РЕСУРСЫ УРОВНЯ 1",null,"КЛАССИФИКАЦИЯ",null,null,null,null,"НАЗВАНИЕ РЕСУРСА",null,null,null,null,null,null,"КРАТКОЕ ОПИСАНИЕ",null,null,null,null,null,null,null,null,"ВИД РЕСУРСА",null,null,null,"ОБЩАЯ НАПРАВЛЕННОСТЬ РЕСУРСА"]
[]
[]
[]
[null,null,null,null,null,null,null,null,null,null,null,null,null,null,null,null,null,null,null,null,null,null,null,null,null,null,null,null,null,null,null,null,{"$f":"'Attribute Survey'!S22","v":0},null,{"$f":"'Attribute Survey'!S26","v":0},null,{"$f":"'Attribute Survey'!S30","v":0},null,{"$f":"'Attribute Survey'!S34","v":0},null,{"$f":"'Attribute Survey'!S38","v":0},null,{"$f":"'Attribute Survey'!S42","v":0},null,{"$f":"'Attribute Survey'!S46","v":0},null,{"$f":"'Attribute Survey'!S50","v":0},null,{"$f":"'Attribute Survey'!S54","v":0}]
[null,null,null,"Другие полезные ресурсы",null,null,null,null,{"$f":"Backbone!A2","v":"Рамочная программа Африканских ЦКПЗ по надзору на основе сигнальных событий"},null,null,null,null,null,null,"Руководство для работников системы общественного здравоохранения, стремящихся внедрить надзор на основе событий на всех административных уровнях.",null,null,null,null,null,null,null,null,{"$f":"INDEX(Backbone!$R$2:$R$893,MATCH(I23,Backbone!$A$2:$A$893,0))","v":"Руководящий документ"},null,null,null,{"$f":"INDEX(Backbone!$S$2:$S$893,MATCH(I23,Backbone!$A$2:$A$893,0))","v":"«Единое здоровье»; универсальный "},null,null,null,{"$f":"INDEX(Backbone!$H$2:$H$893,MATCH(I23,Backbone!$A$2:$A$893,0))","v":8},null,{"$f":"INDEX(Backbone!$I$2:$I$893,MATCH(I23,Backbone!$A$2:$A$893,0))","v":6},null,{"$f":"INDEX(Backbone!$J$2:$J$893,MATCH(I23,Backbone!$A$2:$A$893,0))","v":8.1999999999999993},null,{"$f":"INDEX(Backbone!$K$1:$K$893,MATCH(I23,Backbone!$A$1:$A$893,0))","v":8.3000000000000007},null,{"$f":"INDEX(Backbone!$L$2:$L$893,MATCH(I23,Backbone!$A$2:$A$893,0))","v":6.1},null,{"$f":"INDEX(Backbone!$M$2:$M$893,MATCH(I23,Backbone!$A$2:$A$893,0))","v":3.5},null,{"$f":"INDEX(Backbone!$N$2:$N$893,MATCH(I23,Backbone!$A$2:$A$893,0))","v":4},null,{"$f":"INDEX(Backbone!$O$2:$O$893,MATCH(I23,Backbone!$A$2:$A$893,0))","v":7},null,{"$f":"INDEX(Backbone!$P$2:$P$893,MATCH(I23,Backbone!$A$2:$A$893,0))","v":6},null,{"$f":"INDEX(Backbone!$Q$2:$Q$893,MATCH(I23,Backbone!$A$2:$A$893,0))","v":0.63222222222222224},null,null,{"$f":"(AG23*$AG$22+AI23*$AI$22+AK23*$AK$22+AM23*$AM$22+AO23*$AO$22+AQ23*$AQ$22+AS23*$AS$22+AU23*$AU$22+AW23*$AW$22)/(SUM($AG$22:$AW$22)*10)","v":{"$error":"#DIV/0!"}},null,null,"Перейти в Реестр ресурсов: ",null,{"$f":"HYPERLINK(\"#\"&ADDRESS(MATCH(I23,Toolbox!$C$1:$C$300),1,,,\"Toolbox\"),VLOOKUP(I23,Toolbox!$C$1:$C$300,1,FALSE))","v":"Рамочная программа Африканских ЦКПЗ по надзору на основе сигнальных событий"}]
[]
[]
[]
[]
[]
[null,null,null,null,null,null,null,null,{"$f":"Backbone!A21","v":"Инструмент AfyaData"},null,null,null,null,null,null,"Инструмент эпиднадзора, основанный на концепции «Единое здоровье» и разработанный для эпиднадзора в области здравоохранения человека, охраны здоровья животных и окружающей среды. Доступен в виде мобильного и веб-приложения.",null,null,null,null,null,null,null,null,{"$f":"INDEX(Backbone!$R$2:$R$893,MATCH(I29,Backbone!$A$2:$A$893,0))","v":"Оборудование или программное обеспечение"},null,null,null,{"$f":"INDEX(Backbone!$S$2:$S$893,MATCH(I29,Backbone!$A$2:$A$893,0))","v":"«Единое здоровье»; универсальный "},null,null,null,{"$f":"INDEX(Backbone!$H$2:$H$893,MATCH(I29,Backbone!$A$2:$A$893,0))","v":7.3},null,{"$f":"INDEX(Backbone!$I$2:$I$893,MATCH(I29,Backbone!$A$2:$A$893,0))","v":10},null,{"$f":"INDEX(Backbone!$J$2:$J$893,MATCH(I29,Backbone!$A$2:$A$893,0))","v":8.1999999999999993},null,{"$f":"INDEX(Backbone!$K$1:$K$893,MATCH(I29,Backbone!$A$1:$A$893,0))","v":7.3},null,{"$f":"INDEX(Backbone!$L$2:$L$893,MATCH(I29,Backbone!$A$2:$A$893,0))","v":7.6},null,{"$f":"INDEX(Backbone!$M$2:$M$893,MATCH(I29,Backbone!$A$2:$A$893,0))","v":8.8000000000000007},null,{"$f":"INDEX(Backbone!$N$2:$N$893,MATCH(I29,Backbone!$A$2:$A$893,0))","v":5.5},null,{"$f":"INDEX(Backbone!$O$2:$O$893,MATCH(I29,Backbone!$A$2:$A$893,0))","v":7.6},null,{"$f":"INDEX(Backbone!$P$2:$P$893,MATCH(I29,Backbone!$A$2:$A$893,0))","v":7},null,{"$f":"INDEX(Backbone!$Q$2:$Q$893,MATCH(I29,Backbone!$A$2:$A$893,0))","v":0.77000000000000013},null,null,{"$f":"(AG29*$AG$22+AI29*$AI$22+AK29*$AK$22+AM29*$AM$22+AO29*$AO$22+AQ29*$AQ$22+AS29*$AS$22+AU29*$AU$22+AW29*$AW$22)/(SUM($AG$22:$AW$22)*10)","v":{"$error":"#DIV/0!"}},null,null,"Перейти в Реестр ресурсов: ",null,{"$f":"HYPERLINK(\"#\"&ADDRESS(MATCH(I29,Toolbox!$C$1:$C$300),1,,,\"Toolbox\"),VLOOKUP(I29,Toolbox!$C$1:$C$300,1,FALSE))","v":"Инструмент AfyaData"}]
[]
[]
[]
[]
[]
[null,null,null,null,null,null,null,null,{"$f":"Backbone!A138","v":"Электронная интегрированная система эпиднадзора за болезнями (EIDSS)"},null,null,null,null,null,null,"Электронная онлайн-система передачи эпидемиологической информации адаптируется под требования заказчика. Она создана для пассивного и активного эпиднадзора при содействии медицинских и ветеринарных учреждений, для лабораторной диагностики, надзора за переносчиками и управления вспышками заболеваний. ",null,null,null,null,null,null,null,null,{"$f":"INDEX(Backbone!$R$2:$R$893,MATCH(I35,Backbone!$A$2:$A$893,0))","v":"Оборудование или программное обеспечение"},null,null,null,{"$f":"INDEX(Backbone!$S$2:$S$893,MATCH(I35,Backbone!$A$2:$A$893,0))","v":"«Единое здоровье»; универсальный"},null,null,null,{"$f":"INDEX(Backbone!$H$2:$H$893,MATCH(I35,Backbone!$A$2:$A$893,0))","v":6.8},null,{"$f":"INDEX(Backbone!$I$2:$I$893,MATCH(I35,Backbone!$A$2:$A$893,0))","v":10},null,{"$f":"INDEX(Backbone!$J$2:$J$893,MATCH(I35,Backbone!$A$2:$A$893,0))","v":8.4},null,{"$f":"INDEX(Backbone!$K$1:$K$893,MATCH(I35,Backbone!$A$1:$A$893,0))","v":8.6999999999999993},null,{"$f":"INDEX(Backbone!$L$2:$L$893,MATCH(I35,Backbone!$A$2:$A$893,0))","v":9.1},null,{"$f":"INDEX(Backbone!$M$2:$M$893,MATCH(I35,Backbone!$A$2:$A$893,0))","v":8},null,{"$f":"INDEX(Backbone!$N$2:$N$893,MATCH(I35,Backbone!$A$2:$A$893,0))","v":7},null,{"$f":"INDEX(Backbone!$O$2:$O$893,MATCH(I35,Backbone!$A$2:$A$893,0))","v":7.2},null,{"$f":"INDEX(Backbone!$P$2:$P$893,MATCH(I35,Backbone!$A$2:$A$893,0))","v":10},null,{"$f":"INDEX(Backbone!$Q$2:$Q$893,MATCH(I35,Backbone!$A$2:$A$893,0))","v":0.83555555555555561},null,null,{"$f":"(AG35*$AG$22+AI35*$AI$22+AK35*$AK$22+AM35*$AM$22+AO35*$AO$22+AQ35*$AQ$22+AS35*$AS$22+AU35*$AU$22+AW35*$AW$22)/(SUM($AG$22:$AW$22)*10)","v":{"$error":"#DIV/0!"}},null,null,"Перейти в Реестр ресурсов: ",null,{"$f":"HYPERLINK(\"#\"&ADDRESS(MATCH(I35,Toolbox!$C$1:$C$300),1,,,\"Toolbox\"),VLOOKUP(I35,Toolbox!$C$1:$C$300,1,FALSE))","v":"Электронная интегрированная система эпиднадзора за болезнями (EIDSS)"}]
[]
[]
[]
[]
[]
[null,null,null,null,null,null,null,null,{"$f":"Backbone!A531","v":"Лабораторная информационная менеджмент-система, облегченная версия (МиниЛИМС)"},null,null,null,null,null,null,"Информационная система для управления лабораторией анализов с простой организационной структурой.",null,null,null,null,null,null,null,null,{"$f":"INDEX(Backbone!$R$2:$R$893,MATCH(I41,Backbone!$A$2:$A$893,0))","v":"Оборудование или программное обеспечение"},null,null,null,{"$f":"INDEX(Backbone!$S$2:$S$893,MATCH(I41,Backbone!$A$2:$A$893,0))","v":"Ориентированный на конкретный сектор; универсальный"},null,null,null,{"$f":"INDEX(Backbone!$H$2:$H$893,MATCH(I41,Backbone!$A$2:$A$893,0))","v":9},null,{"$f":"INDEX(Backbone!$I$2:$I$893,MATCH(I41,Backbone!$A$2:$A$893,0))","v":7.3},null,{"$f":"INDEX(Backbone!$J$2:$J$893,MATCH(I41,Backbone!$A$2:$A$893,0))","v":8.4},null,{"$f":"INDEX(Backbone!$K$1:$K$893,MATCH(I41,Backbone!$A$1:$A$893,0))","v":9.3000000000000007},null,{"$f":"INDEX(Backbone!$L$2:$L$893,MATCH(I41,Backbone!$A$2:$A$893,0))","v":7.2},null,{"$f":"INDEX(Backbone!$M$2:$M$893,MATCH(I41,Backbone!$A$2:$A$893,0))","v":6.5},null,{"$f":"INDEX(Backbone!$N$2:$N$893,MATCH(I41,Backbone!$A$2:$A$893,0))","v":2},null,{"$f":"INDEX(Backbone!$O$2:$O$893,MATCH(I41,Backbone!$A$2:$A$893,0))","v":4.4000000000000004},null,{"$f":"INDEX(Backbone!$P$2:$P$893,MATCH(I41,Backbone!$A$2:$A$893,0))","v":4},null,{"$f":"INDEX(Backbone!$Q$2:$Q$893,MATCH(I41,Backbone!$A$2:$A$893,0))","v":0.64555555555555555},null,null,{"$f":"(AG41*$AG$22+AI41*$AI$22+AK41*$AK$22+AM41*$AM$22+AO41*$AO$22+AQ41*$AQ$22+AS41*$AS$22+AU41*$AU$22+AW41*$AW$22)/(SUM($AG$22:$AW$22)*10)","v":{"$error":"#DIV/0!"}},null,null,"Перейти в Реестр ресурсов: ",null,{"$f":"HYPERLINK(\"#\"&ADDRESS(MATCH(I41,Toolbox!$C$1:$C$300),1,,,\"Toolbox\"),VLOOKUP(I41,Toolbox!$C$1:$C$300,1,FALSE))","v":"Лабораторная информационная менеджмент-система, облегченная версия (МиниЛИМС)"}]
[]
[]
[]
[]
[]
[null,null,null,null,null,null,null,null,{"$f":"Backbone!A522","v":"Лабораторная информационная менеджмент-система для африканских ветеринарных служб (SILABFA)"},null,null,null,null,null,null,"Лабораторная информационная менеджмент-система (ЛИМС) позволяет отследить все этапы диагностирования от получения образцов до лабораторных заключений.",null,null,null,null,null,null,null,null,{"$f":"INDEX(Backbone!$R$2:$R$893,MATCH(I47,Backbone!$A$2:$A$893,0))","v":"Оборудование или программное обеспечение"},null,null,null,{"$f":"INDEX(Backbone!$S$2:$S$893,MATCH(I47,Backbone!$A$2:$A$893,0))","v":"Ориентированный на конкретный сектор; универсальный"},null,null,null,{"$f":"INDEX(Backbone!$H$2:$H$893,MATCH(I47,Backbone!$A$2:$A$893,0))","v":9.3000000000000007},null,{"$f":"INDEX(Backbone!$I$2:$I$893,MATCH(I47,Backbone!$A$2:$A$893,0))","v":10},null,{"$f":"INDEX(Backbone!$J$2:$J$893,MATCH(I47,Backbone!$A$2:$A$893,0))","v":6.8},null,{"$f":"INDEX(Backbone!$K$1:$K$893,MATCH(I47,Backbone!$A$1:$A$893,0))","v":9.3000000000000007},null,{"$f":"INDEX(Backbone!$L$2:$L$893,MATCH(I47,Backbone!$A$2:$A$893,0))","v":8},null,{"$f":"INDEX(Backbone!$M$2:$M$893,MATCH(I47,Backbone!$A$2:$A$893,0))","v":6.5},null,{"$f":"INDEX(Backbone!$N$2:$N$893,MATCH(I47,Backbone!$A$2:$A$893,0))","v":8},null,{"$f":"INDEX(Backbone!$O$2:$O$893,MATCH(I47,Backbone!$A$2:$A$893,0))","v":7.2},null,{"$f":"INDEX(Backbone!$P$2:$P$893,MATCH(I47,Backbone!$A$2:$A$893,0))","v":8},null,{"$f":"INDEX(Backbone!$Q$2:$Q$893,MATCH(I47,Backbone!$A$2:$A$893,0))","v":0.81222222222222229},null,null,{"$f":"(AG47*$AG$22+AI47*$AI$22+AK47*$AK$22+AM47*$AM$22+AO47*$AO$22+AQ47*$AQ$22+AS47*$AS$22+AU47*$AU$22+AW47*$AW$22)/(SUM($AG$22:$AW$22)*10)","v":{"$error":"#DIV/0!"}},null,null,"Перейти в Реестр ресурсов: ",null,{"$f":"HYPERLINK(\"#\"&ADDRESS(MATCH(I47,Toolbox!$C$1:$C$300),1,,,\"Toolbox\"),VLOOKUP(I47,Toolbox!$C$1:$C$300,1,FALSE))","v":"Лабораторная информационная менеджмент-система для африканских ветеринарных служб (SILABFA)"}]
[]
[]
[]
[]
[]
[null,null,null,null,null,null,null,null,{"$f":"Backbone!A271","v":"Анализ инфраструктуры лабораторной сети (LINA)"},null,null,null,null,null,null,"Простое в использовании веб-приложение с функциями сложного компьютерного моделирования и анализа данных с простой визуализацией на базе карт в отношении потенциала и возможностей национальной лабораторной сети и каждой отдельной лаборатории.",null,null,null,null,null,null,null,null,{"$f":"INDEX(Backbone!$R$2:$R$893,MATCH(I53,Backbone!$A$2:$A$893,0))","v":"Оборудование или программное обеспечение"},null,null,null,{"$f":"INDEX(Backbone!$S$2:$S$893,MATCH(I53,Backbone!$A$2:$A$893,0))","v":"«Единое здоровье»; универсальный"},null,null,null,{"$f":"INDEX(Backbone!$H$2:$H$893,MATCH(I53,Backbone!$A$2:$A$893,0))","v":9.6},null,{"$f":"INDEX(Backbone!$I$2:$I$893,MATCH(I53,Backbone!$A$2:$A$893,0))","v":6},null,{"$f":"INDEX(Backbone!$J$2:$J$893,MATCH(I53,Backbone!$A$2:$A$893,0))","v":7.6},null,{"$f":"INDEX(Backbone!$K$1:$K$893,MATCH(I53,Backbone!$A$1:$A$893,0))","v":9},null,{"$f":"INDEX(Backbone!$L$2:$L$893,MATCH(I53,Backbone!$A$2:$A$893,0))","v":8.3000000000000007},null,{"$f":"INDEX(Backbone!$M$2:$M$893,MATCH(I53,Backbone!$A$2:$A$893,0))","v":7},null,{"$f":"INDEX(Backbone!$N$2:$N$893,MATCH(I53,Backbone!$A$2:$A$893,0))","v":3},null,{"$f":"INDEX(Backbone!$O$2:$O$893,MATCH(I53,Backbone!$A$2:$A$893,0))","v":9.1},null,{"$f":"INDEX(Backbone!$P$2:$P$893,MATCH(I53,Backbone!$A$2:$A$893,0))","v":4},null,{"$f":"INDEX(Backbone!$Q$2:$Q$893,MATCH(I53,Backbone!$A$2:$A$893,0))","v":0.69555555555555559},null,null,{"$f":"(AG53*$AG$22+AI53*$AI$22+AK53*$AK$22+AM53*$AM$22+AO53*$AO$22+AQ53*$AQ$22+AS53*$AS$22+AU53*$AU$22+AW53*$AW$22)/(SUM($AG$22:$AW$22)*10)","v":{"$error":"#DIV/0!"}},null,null,"Перейти в Реестр ресурсов: ",null,{"$f":"HYPERLINK(\"#\"&ADDRESS(MATCH(I53,Toolbox!$C$1:$C$300),1,,,\"Toolbox\"),VLOOKUP(I53,Toolbox!$C$1:$C$300,1,FALSE))","v":"Анализ инфраструктуры лабораторной сети (LINA)"}]
[]
[]
[]
[]
[]
[null,null,null,null,null,null,null,null,{"$f":"Backbone!A604","v":"Приложение для оценки воздействия бешенства и выявления контактных лиц (REACT)"},null,null,null,null,null,null,"Инструмент, помогающий реализации комплексных программ управления случаями укусов (IBCM).",null,null,null,null,null,null,null,null,{"$f":"INDEX(Backbone!$R$2:$R$893,MATCH(I59,Backbone!$A$2:$A$893,0))","v":"Оборудование или программное обеспечение"},null,null,null,{"$f":"INDEX(Backbone!$S$2:$S$893,MATCH(I59,Backbone!$A$2:$A$893,0))","v":"«Единое здоровье»; ориентированный на конкретную болезнь/угрозу "},null,null,null,{"$f":"INDEX(Backbone!$H$2:$H$893,MATCH(I59,Backbone!$A$2:$A$893,0))","v":8.6},null,{"$f":"INDEX(Backbone!$I$2:$I$893,MATCH(I59,Backbone!$A$2:$A$893,0))","v":8.6},null,{"$f":"INDEX(Backbone!$J$2:$J$893,MATCH(I59,Backbone!$A$2:$A$893,0))","v":8},null,{"$f":"INDEX(Backbone!$K$1:$K$893,MATCH(I59,Backbone!$A$1:$A$893,0))","v":8.6},null,{"$f":"INDEX(Backbone!$L$2:$L$893,MATCH(I59,Backbone!$A$2:$A$893,0))","v":9.4},null,{"$f":"INDEX(Backbone!$M$2:$M$893,MATCH(I59,Backbone!$A$2:$A$893,0))","v":9.5},null,{"$f":"INDEX(Backbone!$N$2:$N$893,MATCH(I59,Backbone!$A$2:$A$893,0))","v":9},null,{"$f":"INDEX(Backbone!$O$2:$O$893,MATCH(I59,Backbone!$A$2:$A$893,0))","v":9.1999999999999993},null,{"$f":"INDEX(Backbone!$P$2:$P$893,MATCH(I59,Backbone!$A$2:$A$893,0))","v":9},null,{"$f":"INDEX(Backbone!$Q$2:$Q$893,MATCH(I59,Backbone!$A$2:$A$893,0))","v":0.88777777777777767},null,null,{"$f":"(AG59*$AG$22+AI59*$AI$22+AK59*$AK$22+AM59*$AM$22+AO59*$AO$22+AQ59*$AQ$22+AS59*$AS$22+AU59*$AU$22+AW59*$AW$22)/(SUM($AG$22:$AW$22)*10)","v":{"$error":"#DIV/0!"}},null,null,"Перейти в Реестр ресурсов: ",null,{"$f":"HYPERLINK(\"#\"&ADDRESS(MATCH(I59,Toolbox!$C$1:$C$300),1,,,\"Toolbox\"),VLOOKUP(I59,Toolbox!$C$1:$C$300,1,FALSE))","v":"Приложение для оценки воздействия бешенства и выявления контактных лиц (REACT)"}]
[]
[]
[]
[]
[]
[null,null,null,null,null,null,null,null,{"$f":"Backbone!A489","v":"Пакет программного обеспечения для проведения автоматического глобального электронного биомониторинга (SAGES)"},null,null,null,null,null,null,"Пакет программного обеспечения с открытым исходным кодом для улучшения электронного эпиднадзора в условиях ограниченных ресурсов.",null,null,null,null,null,null,null,null,{"$f":"INDEX(Backbone!$R$2:$R$893,MATCH(I65,Backbone!$A$2:$A$893,0))","v":"Оборудование или программное обеспечение"},null,null,null,{"$f":"INDEX(Backbone!$S$2:$S$893,MATCH(I65,Backbone!$A$2:$A$893,0))","v":"«Единое здоровье»; универсальный"},null,null,null,{"$f":"INDEX(Backbone!$H$2:$H$893,MATCH(I65,Backbone!$A$2:$A$893,0))","v":9.8000000000000007},null,{"$f":"INDEX(Backbone!$I$2:$I$893,MATCH(I65,Backbone!$A$2:$A$893,0))","v":10},null,{"$f":"INDEX(Backbone!$J$2:$J$893,MATCH(I65,Backbone!$A$2:$A$893,0))","v":10},null,{"$f":"INDEX(Backbone!$K$1:$K$893,MATCH(I65,Backbone!$A$1:$A$893,0))","v":9.3000000000000007},null,{"$f":"INDEX(Backbone!$L$2:$L$893,MATCH(I65,Backbone!$A$2:$A$893,0))","v":8.5},null,{"$f":"INDEX(Backbone!$M$2:$M$893,MATCH(I65,Backbone!$A$2:$A$893,0))","v":9},null,{"$f":"INDEX(Backbone!$N$2:$N$893,MATCH(I65,Backbone!$A$2:$A$893,0))","v":5.5},null,{"$f":"INDEX(Backbone!$O$2:$O$893,MATCH(I65,Backbone!$A$2:$A$893,0))","v":9.5},null,{"$f":"INDEX(Backbone!$P$2:$P$893,MATCH(I65,Backbone!$A$2:$A$893,0))","v":7},null,{"$f":"INDEX(Backbone!$Q$2:$Q$893,MATCH(I65,Backbone!$A$2:$A$893,0))","v":0.87333333333333329},null,null,{"$f":"(AG65*$AG$22+AI65*$AI$22+AK65*$AK$22+AM65*$AM$22+AO65*$AO$22+AQ65*$AQ$22+AS65*$AS$22+AU65*$AU$22+AW65*$AW$22)/(SUM($AG$22:$AW$22)*10)","v":{"$error":"#DIV/0!"}},null,null,"Перейти в Реестр ресурсов: ",null,{"$f":"HYPERLINK(\"#\"&ADDRESS(MATCH(I65,Toolbox!$C$1:$C$300),1,,,\"Toolbox\"),VLOOKUP(I65,Toolbox!$C$1:$C$300,1,FALSE))","v":"Пакет программного обеспечения для проведения автоматического глобального электронного биомониторинга (SAGES)"}]
[]
[]
[]
[]
[]
[null,null,null,null,null,null,null,null,{"$f":"Backbone!A450","v":"Инструмент для оценки прогресса на пути к ликвидации бешенства (TAPER)"},null,null,null,null,null,null,"Настоящий инструмент позволяет анализировать регулярно собираемые данные эпиднадзора за бешенством, чтобы давать актуальные рекомендации для контроля за ситуацией в каждом конкретном случае.",null,null,null,null,null,null,null,null,{"$f":"INDEX(Backbone!$R$2:$R$893,MATCH(I71,Backbone!$A$2:$A$893,0))","v":"Оборудование или программное обеспечение"},null,null,null,{"$f":"INDEX(Backbone!$S$2:$S$893,MATCH(I71,Backbone!$A$2:$A$893,0))","v":"«Единое здоровье»; ориентированный на конкретную болезнь/угрозу "},null,null,null,{"$f":"INDEX(Backbone!$H$2:$H$893,MATCH(I71,Backbone!$A$2:$A$893,0))","v":9.6},null,{"$f":"INDEX(Backbone!$I$2:$I$893,MATCH(I71,Backbone!$A$2:$A$893,0))","v":10},null,{"$f":"INDEX(Backbone!$J$2:$J$893,MATCH(I71,Backbone!$A$2:$A$893,0))","v":7.3},null,{"$f":"INDEX(Backbone!$K$1:$K$893,MATCH(I71,Backbone!$A$1:$A$893,0))","v":8},null,{"$f":"INDEX(Backbone!$L$2:$L$893,MATCH(I71,Backbone!$A$2:$A$893,0))","v":8.8000000000000007},null,{"$f":"INDEX(Backbone!$M$2:$M$893,MATCH(I71,Backbone!$A$2:$A$893,0))","v":5.5},null,{"$f":"INDEX(Backbone!$N$2:$N$893,MATCH(I71,Backbone!$A$2:$A$893,0))","v":4.3},null,{"$f":"INDEX(Backbone!$O$2:$O$893,MATCH(I71,Backbone!$A$2:$A$893,0))","v":7.9},null,{"$f":"INDEX(Backbone!$P$2:$P$893,MATCH(I71,Backbone!$A$2:$A$893,0))","v":6},null,{"$f":"INDEX(Backbone!$Q$2:$Q$893,MATCH(I71,Backbone!$A$2:$A$893,0))","v":0.74888888888888894},null,null,{"$f":"(AG71*$AG$22+AI71*$AI$22+AK71*$AK$22+AM71*$AM$22+AO71*$AO$22+AQ71*$AQ$22+AS71*$AS$22+AU71*$AU$22+AW71*$AW$22)/(SUM($AG$22:$AW$22)*10)","v":{"$error":"#DIV/0!"}},null,null,"Перейти в Реестр ресурсов: ",null,{"$f":"HYPERLINK(\"#\"&ADDRESS(MATCH(I71,Toolbox!$C$1:$C$300),1,,,\"Toolbox\"),VLOOKUP(I71,Toolbox!$C$1:$C$300,1,FALSE))","v":"Инструмент для оценки прогресса на пути к ликвидации бешенства (TAPER)"}]
[]
[]
[]
[]
[]
[]
[]
[]
[]
[]
[]
[]
[]
[]
[]
[]
[]
[]
[]
[]
[]
[]
[]
[null,null,null,null,null,null,null,null,null,null,null,null,null,null,null,null,null,null,null,null,null,null,null,null,null,null,null,null,null,null,null,null,"Доступность",null,"Язык",null,"Простота использования",null,"Гибкость",null,"Потребности в данных",null,"Анализ данных",null,"Приемлемость",null,"«Единое здоровье»",null,"Воздействие"]
[]
[]
[]
[]
[]
[]
[null,null,null,null,null,null,null,null,null,null,null,null,null,null,null,null,null,null,null,null,null,null,null,null,null,null,null,null,null,null,null,null,null,null,null,null,null,null,null,null,null,null,null,null,null,null,null,null,null,null,"ИСХОДНАЯ ОЦЕНКА",null,null,"СКОРРЕКТИРОВАННАЯ ОЦЕНКА \n(Исходя из предпочтений пользователей)"]
[]
[]
[]
[null,"РЕСУРСЫ УРОВНЯ 2",null,"КЛАССИФИКАЦИЯ",null,null,null,null,"НАЗВАНИЕ РЕСУРСА",null,null,null,null,null,null,"КРАТКОЕ ОПИСАНИЕ",null,null,null,null,null,null,null,null,"ВИД РЕСУРСА",null,null,null,"ОБЩАЯ НАПРАВЛЕННОСТЬ РЕСУРСА"]
[]
[]
[]
[null,null,null,null,null,null,null,null,null,null,null,null,null,null,null,null,null,null,null,null,null,null,null,null,null,null,null,null,null,null,null,null,{"$f":"'Attribute Survey'!S110","v":0},null,{"$f":"'Attribute Survey'!S114","v":0},null,{"$f":"'Attribute Survey'!S118","v":0},null,{"$f":"'Attribute Survey'!S122","v":0},null,{"$f":"'Attribute Survey'!S126","v":0},null,{"$f":"'Attribute Survey'!S130","v":0},null,{"$f":"'Attribute Survey'!S134","v":0},null,{"$f":"'Attribute Survey'!S138","v":0},null,{"$f":"'Attribute Survey'!S142","v":0}]
[null,null,null,"Другие полезные ресурсы",null,null,null,null,{"$f":"Backbone!A2","v":"Рамочная программа Африканских ЦКПЗ по надзору на основе сигнальных событий"},null,null,null,null,null,null,"Руководство для работников системы общественного здравоохранения, стремящихся внедрить надзор на основе событий на всех административных уровнях.",null,null,null,null,null,null,null,null,{"$f":"INDEX(Backbone!$R$2:$R$893,MATCH(I111,Backbone!$A$2:$A$893,0))","v":"Руководящий документ"},null,null,null,{"$f":"INDEX(Backbone!$S$2:$S$893,MATCH(I111,Backbone!$A$2:$A$893,0))","v":"«Единое здоровье»; универсальный "},null,null,null,{"$f":"INDEX(Backbone!$H$2:$H$893,MATCH(I111,Backbone!$A$2:$A$893,0))","v":8},null,{"$f":"INDEX(Backbone!$I$2:$I$893,MATCH(I111,Backbone!$A$2:$A$893,0))","v":6},null,{"$f":"INDEX(Backbone!$J$2:$J$893,MATCH(I111,Backbone!$A$2:$A$893,0))","v":8.1999999999999993},null,{"$f":"INDEX(Backbone!$K$1:$K$893,MATCH(I111,Backbone!$A$1:$A$893,0))","v":8.3000000000000007},null,{"$f":"INDEX(Backbone!$L$2:$L$893,MATCH(I111,Backbone!$A$2:$A$893,0))","v":6.1},null,{"$f":"INDEX(Backbone!$M$2:$M$893,MATCH(I111,Backbone!$A$2:$A$893,0))","v":3.5},null,{"$f":"INDEX(Backbone!$N$2:$N$893,MATCH(I111,Backbone!$A$2:$A$893,0))","v":4},null,{"$f":"INDEX(Backbone!$O$2:$O$893,MATCH(I111,Backbone!$A$2:$A$893,0))","v":7},null,{"$f":"INDEX(Backbone!$P$2:$P$893,MATCH(I111,Backbone!$A$2:$A$893,0))","v":6},null,{"$f":"INDEX(Backbone!$Q$2:$Q$893,MATCH(I111,Backbone!$A$2:$A$893,0))","v":0.63222222222222224},null,null,{"$f":"(AG111*$AG$22+AI111*$AI$22+AK111*$AK$22+AM111*$AM$22+AO111*$AO$22+AQ111*$AQ$22+AS111*$AS$22+AU111*$AU$22+AW111*$AW$22)/(SUM($AG$22:$AW$22)*10)","v":{"$error":"#DIV/0!"}},null,null,"Перейти в Реестр ресурсов: ",null,{"$f":"HYPERLINK(\"#\"&ADDRESS(MATCH(I111,Toolbox!$C$1:$C$300),1,,,\"Toolbox\"),VLOOKUP(I111,Toolbox!$C$1:$C$300,1,FALSE))","v":"Рамочная программа Африканских ЦКПЗ по надзору на основе сигнальных событий"}]
[]
[]
[]
[]
[]
[null,null,null,null,null,null,null,null,{"$f":"Backbone!A21","v":"Инструмент AfyaData"},null,null,null,null,null,null,"Инструмент эпиднадзора, основанный на концепции «Единое здоровье» и разработанный для эпиднадзора в области здравоохранения человека, охраны здоровья животных и окружающей среды. Доступен в виде мобильного и веб-приложения.",null,null,null,null,null,null,null,null,{"$f":"INDEX(Backbone!$R$2:$R$893,MATCH(I117,Backbone!$A$2:$A$893,0))","v":"Оборудование или программное обеспечение"},null,null,null,{"$f":"INDEX(Backbone!$S$2:$S$893,MATCH(I117,Backbone!$A$2:$A$893,0))","v":"«Единое здоровье»; универсальный "},null,null,null,{"$f":"INDEX(Backbone!$H$2:$H$893,MATCH(I117,Backbone!$A$2:$A$893,0))","v":7.3},null,{"$f":"INDEX(Backbone!$I$2:$I$893,MATCH(I117,Backbone!$A$2:$A$893,0))","v":10},null,{"$f":"INDEX(Backbone!$J$2:$J$893,MATCH(I117,Backbone!$A$2:$A$893,0))","v":8.1999999999999993},null,{"$f":"INDEX(Backbone!$K$1:$K$893,MATCH(I117,Backbone!$A$1:$A$893,0))","v":7.3},null,{"$f":"INDEX(Backbone!$L$2:$L$893,MATCH(I117,Backbone!$A$2:$A$893,0))","v":7.6},null,{"$f":"INDEX(Backbone!$M$2:$M$893,MATCH(I117,Backbone!$A$2:$A$893,0))","v":8.8000000000000007},null,{"$f":"INDEX(Backbone!$N$2:$N$893,MATCH(I117,Backbone!$A$2:$A$893,0))","v":5.5},null,{"$f":"INDEX(Backbone!$O$2:$O$893,MATCH(I117,Backbone!$A$2:$A$893,0))","v":7.6},null,{"$f":"INDEX(Backbone!$P$2:$P$893,MATCH(I117,Backbone!$A$2:$A$893,0))","v":7},null,{"$f":"INDEX(Backbone!$Q$2:$Q$893,MATCH(I117,Backbone!$A$2:$A$893,0))","v":0.77000000000000013},null,null,{"$f":"(AG117*$AG$22+AI117*$AI$22+AK117*$AK$22+AM117*$AM$22+AO117*$AO$22+AQ117*$AQ$22+AS117*$AS$22+AU117*$AU$22+AW117*$AW$22)/(SUM($AG$22:$AW$22)*10)","v":{"$error":"#DIV/0!"}},null,null,"Перейти в Реестр ресурсов: ",null,{"$f":"HYPERLINK(\"#\"&ADDRESS(MATCH(I117,Toolbox!$C$1:$C$300),1,,,\"Toolbox\"),VLOOKUP(I117,Toolbox!$C$1:$C$300,1,FALSE))","v":"Инструмент AfyaData"}]
[]
[]
[]
[]
[]
[null,null,null,null,null,null,null,null,{"$f":"Backbone!A138","v":"Электронная интегрированная система эпиднадзора за болезнями (EIDSS)"},null,null,null,null,null,null,"Электронная онлайн-система передачи эпидемиологической информации адаптируется под требования заказчика. Она создана для пассивного и активного эпиднадзора при содействии медицинских и ветеринарных учреждений, для лабораторной диагностики, надзора за переносчиками и управления вспышками заболеваний. ",null,null,null,null,null,null,null,null,{"$f":"INDEX(Backbone!$R$2:$R$893,MATCH(I123,Backbone!$A$2:$A$893,0))","v":"Оборудование или программное обеспечение"},null,null,null,{"$f":"INDEX(Backbone!$S$2:$S$893,MATCH(I123,Backbone!$A$2:$A$893,0))","v":"«Единое здоровье»; универсальный"},null,null,null,{"$f":"INDEX(Backbone!$H$2:$H$893,MATCH(I123,Backbone!$A$2:$A$893,0))","v":6.8},null,{"$f":"INDEX(Backbone!$I$2:$I$893,MATCH(I123,Backbone!$A$2:$A$893,0))","v":10},null,{"$f":"INDEX(Backbone!$J$2:$J$893,MATCH(I123,Backbone!$A$2:$A$893,0))","v":8.4},null,{"$f":"INDEX(Backbone!$K$1:$K$893,MATCH(I123,Backbone!$A$1:$A$893,0))","v":8.6999999999999993},null,{"$f":"INDEX(Backbone!$L$2:$L$893,MATCH(I123,Backbone!$A$2:$A$893,0))","v":9.1},null,{"$f":"INDEX(Backbone!$M$2:$M$893,MATCH(I123,Backbone!$A$2:$A$893,0))","v":8},null,{"$f":"INDEX(Backbone!$N$2:$N$893,MATCH(I123,Backbone!$A$2:$A$893,0))","v":7},null,{"$f":"INDEX(Backbone!$O$2:$O$893,MATCH(I123,Backbone!$A$2:$A$893,0))","v":7.2},null,{"$f":"INDEX(Backbone!$P$2:$P$893,MATCH(I123,Backbone!$A$2:$A$893,0))","v":10},null,{"$f":"INDEX(Backbone!$Q$2:$Q$893,MATCH(I123,Backbone!$A$2:$A$893,0))","v":0.83555555555555561},null,null,{"$f":"(AG123*$AG$22+AI123*$AI$22+AK123*$AK$22+AM123*$AM$22+AO123*$AO$22+AQ123*$AQ$22+AS123*$AS$22+AU123*$AU$22+AW123*$AW$22)/(SUM($AG$22:$AW$22)*10)","v":{"$error":"#DIV/0!"}},null,null,"Перейти в Реестр ресурсов: ",null,{"$f":"HYPERLINK(\"#\"&ADDRESS(MATCH(I123,Toolbox!$C$1:$C$300),1,,,\"Toolbox\"),VLOOKUP(I123,Toolbox!$C$1:$C$300,1,FALSE))","v":"Электронная интегрированная система эпиднадзора за болезнями (EIDSS)"}]
[]
[]
[]
[]
[]
[null,null,null,null,null,null,null,null,{"$f":"Backbone!A531","v":"Лабораторная информационная менеджмент-система, облегченная версия (МиниЛИМС)"},null,null,null,null,null,null,"Информационная система для управления лабораторией анализов с простой организационной структурой.",null,null,null,null,null,null,null,null,{"$f":"INDEX(Backbone!$R$2:$R$893,MATCH(I129,Backbone!$A$2:$A$893,0))","v":"Оборудование или программное обеспечение"},null,null,null,{"$f":"INDEX(Backbone!$S$2:$S$893,MATCH(I129,Backbone!$A$2:$A$893,0))","v":"Ориентированный на конкретный сектор; универсальный"},null,null,null,{"$f":"INDEX(Backbone!$H$2:$H$893,MATCH(I129,Backbone!$A$2:$A$893,0))","v":9},null,{"$f":"INDEX(Backbone!$I$2:$I$893,MATCH(I129,Backbone!$A$2:$A$893,0))","v":7.3},null,{"$f":"INDEX(Backbone!$J$2:$J$893,MATCH(I129,Backbone!$A$2:$A$893,0))","v":8.4},null,{"$f":"INDEX(Backbone!$K$1:$K$893,MATCH(I129,Backbone!$A$1:$A$893,0))","v":9.3000000000000007},null,{"$f":"INDEX(Backbone!$L$2:$L$893,MATCH(I129,Backbone!$A$2:$A$893,0))","v":7.2},null,{"$f":"INDEX(Backbone!$M$2:$M$893,MATCH(I129,Backbone!$A$2:$A$893,0))","v":6.5},null,{"$f":"INDEX(Backbone!$N$2:$N$893,MATCH(I129,Backbone!$A$2:$A$893,0))","v":2},null,{"$f":"INDEX(Backbone!$O$2:$O$893,MATCH(I129,Backbone!$A$2:$A$893,0))","v":4.4000000000000004},null,{"$f":"INDEX(Backbone!$P$2:$P$893,MATCH(I129,Backbone!$A$2:$A$893,0))","v":4},null,{"$f":"INDEX(Backbone!$Q$2:$Q$893,MATCH(I129,Backbone!$A$2:$A$893,0))","v":0.64555555555555555},null,null,{"$f":"(AG129*$AG$22+AI129*$AI$22+AK129*$AK$22+AM129*$AM$22+AO129*$AO$22+AQ129*$AQ$22+AS129*$AS$22+AU129*$AU$22+AW129*$AW$22)/(SUM($AG$22:$AW$22)*10)","v":{"$error":"#DIV/0!"}},null,null,"Перейти в Реестр ресурсов: ",null,{"$f":"HYPERLINK(\"#\"&ADDRESS(MATCH(I129,Toolbox!$C$1:$C$300),1,,,\"Toolbox\"),VLOOKUP(I129,Toolbox!$C$1:$C$300,1,FALSE))","v":"Лабораторная информационная менеджмент-система, облегченная версия (МиниЛИМС)"}]
[]
[]
[]
[]
[]
[null,null,null,null,null,null,null,null,{"$f":"Backbone!A522","v":"Лабораторная информационная менеджмент-система для африканских ветеринарных служб (SILABFA)"},null,null,null,null,null,null,"Лабораторная информационная менеджмент-система (ЛИМС) позволяет отследить все этапы диагностирования от получения образцов до лабораторных заключений.",null,null,null,null,null,null,null,null,{"$f":"INDEX(Backbone!$R$2:$R$893,MATCH(I135,Backbone!$A$2:$A$893,0))","v":"Оборудование или программное обеспечение"},null,null,null,{"$f":"INDEX(Backbone!$S$2:$S$893,MATCH(I135,Backbone!$A$2:$A$893,0))","v":"Ориентированный на конкретный сектор; универсальный"},null,null,null,{"$f":"INDEX(Backbone!$H$2:$H$893,MATCH(I135,Backbone!$A$2:$A$893,0))","v":9.3000000000000007},null,{"$f":"INDEX(Backbone!$I$2:$I$893,MATCH(I135,Backbone!$A$2:$A$893,0))","v":10},null,{"$f":"INDEX(Backbone!$J$2:$J$893,MATCH(I135,Backbone!$A$2:$A$893,0))","v":6.8},null,{"$f":"INDEX(Backbone!$K$1:$K$893,MATCH(I135,Backbone!$A$1:$A$893,0))","v":9.3000000000000007},null,{"$f":"INDEX(Backbone!$L$2:$L$893,MATCH(I135,Backbone!$A$2:$A$893,0))","v":8},null,{"$f":"INDEX(Backbone!$M$2:$M$893,MATCH(I135,Backbone!$A$2:$A$893,0))","v":6.5},null,{"$f":"INDEX(Backbone!$N$2:$N$893,MATCH(I135,Backbone!$A$2:$A$893,0))","v":8},null,{"$f":"INDEX(Backbone!$O$2:$O$893,MATCH(I135,Backbone!$A$2:$A$893,0))","v":7.2},null,{"$f":"INDEX(Backbone!$P$2:$P$893,MATCH(I135,Backbone!$A$2:$A$893,0))","v":8},null,{"$f":"INDEX(Backbone!$Q$2:$Q$893,MATCH(I135,Backbone!$A$2:$A$893,0))","v":0.81222222222222229},null,null,{"$f":"(AG135*$AG$22+AI135*$AI$22+AK135*$AK$22+AM135*$AM$22+AO135*$AO$22+AQ135*$AQ$22+AS135*$AS$22+AU135*$AU$22+AW135*$AW$22)/(SUM($AG$22:$AW$22)*10)","v":{"$error":"#DIV/0!"}},null,null,"Перейти в Реестр ресурсов: ",null,{"$f":"HYPERLINK(\"#\"&ADDRESS(MATCH(I135,Toolbox!$C$1:$C$300),1,,,\"Toolbox\"),VLOOKUP(I135,Toolbox!$C$1:$C$300,1,FALSE))","v":"Лабораторная информационная менеджмент-система для африканских ветеринарных служб (SILABFA)"}]
[]
[]
[]
[]
[]
[null,null,null,null,null,null,null,null,{"$f":"Backbone!A271","v":"Анализ инфраструктуры лабораторной сети (LINA)"},null,null,null,null,null,null,"Простое в использовании веб-приложение с функциями сложного компьютерного моделирования и анализа данных с простой визуализацией на базе карт в отношении потенциала и возможностей национальной лабораторной сети и каждой отдельной лаборатории.",null,null,null,null,null,null,null,null,{"$f":"INDEX(Backbone!$R$2:$R$893,MATCH(I141,Backbone!$A$2:$A$893,0))","v":"Оборудование или программное обеспечение"},null,null,null,{"$f":"INDEX(Backbone!$S$2:$S$893,MATCH(I141,Backbone!$A$2:$A$893,0))","v":"«Единое здоровье»; универсальный"},null,null,null,{"$f":"INDEX(Backbone!$H$2:$H$893,MATCH(I141,Backbone!$A$2:$A$893,0))","v":9.6},null,{"$f":"INDEX(Backbone!$I$2:$I$893,MATCH(I141,Backbone!$A$2:$A$893,0))","v":6},null,{"$f":"INDEX(Backbone!$J$2:$J$893,MATCH(I141,Backbone!$A$2:$A$893,0))","v":7.6},null,{"$f":"INDEX(Backbone!$K$1:$K$893,MATCH(I141,Backbone!$A$1:$A$893,0))","v":9},null,{"$f":"INDEX(Backbone!$L$2:$L$893,MATCH(I141,Backbone!$A$2:$A$893,0))","v":8.3000000000000007},null,{"$f":"INDEX(Backbone!$M$2:$M$893,MATCH(I141,Backbone!$A$2:$A$893,0))","v":7},null,{"$f":"INDEX(Backbone!$N$2:$N$893,MATCH(I141,Backbone!$A$2:$A$893,0))","v":3},null,{"$f":"INDEX(Backbone!$O$2:$O$893,MATCH(I141,Backbone!$A$2:$A$893,0))","v":9.1},null,{"$f":"INDEX(Backbone!$P$2:$P$893,MATCH(I141,Backbone!$A$2:$A$893,0))","v":4},null,{"$f":"INDEX(Backbone!$Q$2:$Q$893,MATCH(I141,Backbone!$A$2:$A$893,0))","v":0.69555555555555559},null,null,{"$f":"(AG141*$AG$22+AI141*$AI$22+AK141*$AK$22+AM141*$AM$22+AO141*$AO$22+AQ141*$AQ$22+AS141*$AS$22+AU141*$AU$22+AW141*$AW$22)/(SUM($AG$22:$AW$22)*10)","v":{"$error":"#DIV/0!"}},null,null,"Перейти в Реестр ресурсов: ",null,{"$f":"HYPERLINK(\"#\"&ADDRESS(MATCH(I141,Toolbox!$C$1:$C$300),1,,,\"Toolbox\"),VLOOKUP(I141,Toolbox!$C$1:$C$300,1,FALSE))","v":"Анализ инфраструктуры лабораторной сети (LINA)"}]
[]
[]
[]
[]
[]
[null,null,null,null,null,null,null,null,{"$f":"Backbone!A604","v":"Приложение для оценки воздействия бешенства и выявления контактных лиц (REACT)"},null,null,null,null,null,null,"Инструмент, помогающий реализации комплексных программ управления случаями укусов (IBCM).",null,null,null,null,null,null,null,null,{"$f":"INDEX(Backbone!$R$2:$R$893,MATCH(I147,Backbone!$A$2:$A$893,0))","v":"Оборудование или программное обеспечение"},null,null,null,{"$f":"INDEX(Backbone!$S$2:$S$893,MATCH(I147,Backbone!$A$2:$A$893,0))","v":"«Единое здоровье»; ориентированный на конкретную болезнь/угрозу "},null,null,null,{"$f":"INDEX(Backbone!$H$2:$H$893,MATCH(I147,Backbone!$A$2:$A$893,0))","v":8.6},null,{"$f":"INDEX(Backbone!$I$2:$I$893,MATCH(I147,Backbone!$A$2:$A$893,0))","v":8.6},null,{"$f":"INDEX(Backbone!$J$2:$J$893,MATCH(I147,Backbone!$A$2:$A$893,0))","v":8},null,{"$f":"INDEX(Backbone!$K$1:$K$893,MATCH(I147,Backbone!$A$1:$A$893,0))","v":8.6},null,{"$f":"INDEX(Backbone!$L$2:$L$893,MATCH(I147,Backbone!$A$2:$A$893,0))","v":9.4},null,{"$f":"INDEX(Backbone!$M$2:$M$893,MATCH(I147,Backbone!$A$2:$A$893,0))","v":9.5},null,{"$f":"INDEX(Backbone!$N$2:$N$893,MATCH(I147,Backbone!$A$2:$A$893,0))","v":9},null,{"$f":"INDEX(Backbone!$O$2:$O$893,MATCH(I147,Backbone!$A$2:$A$893,0))","v":9.1999999999999993},null,{"$f":"INDEX(Backbone!$P$2:$P$893,MATCH(I147,Backbone!$A$2:$A$893,0))","v":9},null,{"$f":"INDEX(Backbone!$Q$2:$Q$893,MATCH(I147,Backbone!$A$2:$A$893,0))","v":0.88777777777777767},null,null,{"$f":"(AG147*$AG$22+AI147*$AI$22+AK147*$AK$22+AM147*$AM$22+AO147*$AO$22+AQ147*$AQ$22+AS147*$AS$22+AU147*$AU$22+AW147*$AW$22)/(SUM($AG$22:$AW$22)*10)","v":{"$error":"#DIV/0!"}},null,null,"Перейти в Реестр ресурсов: ",null,{"$f":"HYPERLINK(\"#\"&ADDRESS(MATCH(I147,Toolbox!$C$1:$C$300),1,,,\"Toolbox\"),VLOOKUP(I147,Toolbox!$C$1:$C$300,1,FALSE))","v":"Приложение для оценки воздействия бешенства и выявления контактных лиц (REACT)"}]
[]
[]
[]
[]
[]
[null,null,null,null,null,null,null,null,{"$f":"Backbone!A489","v":"Пакет программного обеспечения для проведения автоматического глобального электронного биомониторинга (SAGES)"},null,null,null,null,null,null,"Пакет программного обеспечения с открытым исходным кодом для улучшения электронного эпиднадзора в условиях ограниченных ресурсов.",null,null,null,null,null,null,null,null,{"$f":"INDEX(Backbone!$R$2:$R$893,MATCH(I153,Backbone!$A$2:$A$893,0))","v":"Оборудование или программное обеспечение"},null,null,null,{"$f":"INDEX(Backbone!$S$2:$S$893,MATCH(I153,Backbone!$A$2:$A$893,0))","v":"«Единое здоровье»; универсальный"},null,null,null,{"$f":"INDEX(Backbone!$H$2:$H$893,MATCH(I153,Backbone!$A$2:$A$893,0))","v":9.8000000000000007},null,{"$f":"INDEX(Backbone!$I$2:$I$893,MATCH(I153,Backbone!$A$2:$A$893,0))","v":10},null,{"$f":"INDEX(Backbone!$J$2:$J$893,MATCH(I153,Backbone!$A$2:$A$893,0))","v":10},null,{"$f":"INDEX(Backbone!$K$1:$K$893,MATCH(I153,Backbone!$A$1:$A$893,0))","v":9.3000000000000007},null,{"$f":"INDEX(Backbone!$L$2:$L$893,MATCH(I153,Backbone!$A$2:$A$893,0))","v":8.5},null,{"$f":"INDEX(Backbone!$M$2:$M$893,MATCH(I153,Backbone!$A$2:$A$893,0))","v":9},null,{"$f":"INDEX(Backbone!$N$2:$N$893,MATCH(I153,Backbone!$A$2:$A$893,0))","v":5.5},null,{"$f":"INDEX(Backbone!$O$2:$O$893,MATCH(I153,Backbone!$A$2:$A$893,0))","v":9.5},null,{"$f":"INDEX(Backbone!$P$2:$P$893,MATCH(I153,Backbone!$A$2:$A$893,0))","v":7},null,{"$f":"INDEX(Backbone!$Q$2:$Q$893,MATCH(I153,Backbone!$A$2:$A$893,0))","v":0.87333333333333329},null,null,{"$f":"(AG153*$AG$22+AI153*$AI$22+AK153*$AK$22+AM153*$AM$22+AO153*$AO$22+AQ153*$AQ$22+AS153*$AS$22+AU153*$AU$22+AW153*$AW$22)/(SUM($AG$22:$AW$22)*10)","v":{"$error":"#DIV/0!"}},null,null,"Перейти в Реестр ресурсов: ",null,{"$f":"HYPERLINK(\"#\"&ADDRESS(MATCH(I153,Toolbox!$C$1:$C$300),1,,,\"Toolbox\"),VLOOKUP(I153,Toolbox!$C$1:$C$300,1,FALSE))","v":"Пакет программного обеспечения для проведения автоматического глобального электронного биомониторинга (SAGES)"}]
[]
[]
[]
[]
[]
[null,null,null,null,null,null,null,null,{"$f":"Backbone!A450","v":"Инструмент для оценки прогресса на пути к ликвидации бешенства (TAPER)"},null,null,null,null,null,null,"Настоящий инструмент позволяет анализировать регулярно собираемые данные эпиднадзора за бешенством, чтобы давать актуальные рекомендации для контроля за ситуацией в каждом конкретном случае.",null,null,null,null,null,null,null,null,{"$f":"INDEX(Backbone!$R$2:$R$893,MATCH(I159,Backbone!$A$2:$A$893,0))","v":"Оборудование или программное обеспечение"},null,null,null,{"$f":"INDEX(Backbone!$S$2:$S$893,MATCH(I159,Backbone!$A$2:$A$893,0))","v":"«Единое здоровье»; ориентированный на конкретную болезнь/угрозу "},null,null,null,{"$f":"INDEX(Backbone!$H$2:$H$893,MATCH(I159,Backbone!$A$2:$A$893,0))","v":9.6},null,{"$f":"INDEX(Backbone!$I$2:$I$893,MATCH(I159,Backbone!$A$2:$A$893,0))","v":10},null,{"$f":"INDEX(Backbone!$J$2:$J$893,MATCH(I159,Backbone!$A$2:$A$893,0))","v":7.3},null,{"$f":"INDEX(Backbone!$K$1:$K$893,MATCH(I159,Backbone!$A$1:$A$893,0))","v":8},null,{"$f":"INDEX(Backbone!$L$2:$L$893,MATCH(I159,Backbone!$A$2:$A$893,0))","v":8.8000000000000007},null,{"$f":"INDEX(Backbone!$M$2:$M$893,MATCH(I159,Backbone!$A$2:$A$893,0))","v":5.5},null,{"$f":"INDEX(Backbone!$N$2:$N$893,MATCH(I159,Backbone!$A$2:$A$893,0))","v":4.3},null,{"$f":"INDEX(Backbone!$O$2:$O$893,MATCH(I159,Backbone!$A$2:$A$893,0))","v":7.9},null,{"$f":"INDEX(Backbone!$P$2:$P$893,MATCH(I159,Backbone!$A$2:$A$893,0))","v":6},null,{"$f":"INDEX(Backbone!$Q$2:$Q$893,MATCH(I159,Backbone!$A$2:$A$893,0))","v":0.74888888888888894},null,null,{"$f":"(AG159*$AG$22+AI159*$AI$22+AK159*$AK$22+AM159*$AM$22+AO159*$AO$22+AQ159*$AQ$22+AS159*$AS$22+AU159*$AU$22+AW159*$AW$22)/(SUM($AG$22:$AW$22)*10)","v":{"$error":"#DIV/0!"}},null,null,"Перейти в Реестр ресурсов: ",null,{"$f":"HYPERLINK(\"#\"&ADDRESS(MATCH(I159,Toolbox!$C$1:$C$300),1,,,\"Toolbox\"),VLOOKUP(I159,Toolbox!$C$1:$C$300,1,FALSE))","v":"Инструмент для оценки прогресса на пути к ликвидации бешенства (TAPER)"}]
[]
[]
[]
[]
[]
[]
[]
[]
[]
[]
[]
[]
[]
[]
[]
[]
[]
[]
[]
[]
[]
[]
[]
[null,null,null,null,null,null,null,null,null,null,null,null,null,null,null,null,null,null,null,null,null,null,null,null,null,null,null,null,null,null,null,null,"Доступность",null,"Язык",null,"Простота использования",null,"Гибкость",null,"Потребности в данных",null,"Анализ данных",null,"Приемлемость",null,"«Единое здоровье»",null,"Воздействие"]
[]
[]
[]
[]
[]
[]
[null,null,null,null,null,null,null,null,null,null,null,null,null,null,null,null,null,null,null,null,null,null,null,null,null,null,null,null,null,null,null,null,null,null,null,null,null,null,null,null,null,null,null,null,null,null,null,null,null,null,"ИСХОДНАЯ ОЦЕНКА",null,null,"СКОРРЕКТИРОВАННАЯ ОЦЕНКА \n(Исходя из предпочтений пользователей)"]
[]
[]
[]
[null,"РЕСУРСЫ УРОВНЯ 3",null,"КЛАССИФИКАЦИЯ",null,null,null,null,"НАЗВАНИЕ РЕСУРСА",null,null,null,null,null,null,"КРАТКОЕ ОПИСАНИЕ",null,null,null,null,null,null,null,null,"ВИД РЕСУРСА",null,null,null,"ОБЩАЯ НАПРАВЛЕННОСТЬ РЕСУРСА"]
[]
[]
[]
[null,null,null,null,null,null,null,null,null,null,null,null,null,null,null,null,null,null,null,null,null,null,null,null,null,null,null,null,null,null,null,null,{"$f":"'Attribute Survey'!S198","v":0},null,{"$f":"'Attribute Survey'!S202","v":0},null,{"$f":"'Attribute Survey'!S206","v":0},null,{"$f":"'Attribute Survey'!S210","v":0},null,{"$f":"'Attribute Survey'!S214","v":0},null,{"$f":"'Attribute Survey'!S218","v":0},null,{"$f":"'Attribute Survey'!S222","v":0},null,{"$f":"'Attribute Survey'!S226","v":0},null,{"$f":"'Attribute Survey'!S230","v":0}]
[null,null,null,"Другие полезные ресурсы",null,null,null,null,{"$f":"Backbone!A2","v":"Рамочная программа Африканских ЦКПЗ по надзору на основе сигнальных событий"},null,null,null,null,null,null,"Руководство для работников системы общественного здравоохранения, стремящихся внедрить надзор на основе событий на всех административных уровнях.",null,null,null,null,null,null,null,null,{"$f":"INDEX(Backbone!$R$2:$R$893,MATCH(I199,Backbone!$A$2:$A$893,0))","v":"Руководящий документ"},null,null,null,{"$f":"INDEX(Backbone!$S$2:$S$893,MATCH(I199,Backbone!$A$2:$A$893,0))","v":"«Единое здоровье»; универсальный "},null,null,null,{"$f":"INDEX(Backbone!$H$2:$H$893,MATCH(I199,Backbone!$A$2:$A$893,0))","v":8},null,{"$f":"INDEX(Backbone!$I$2:$I$893,MATCH(I199,Backbone!$A$2:$A$893,0))","v":6},null,{"$f":"INDEX(Backbone!$J$2:$J$893,MATCH(I199,Backbone!$A$2:$A$893,0))","v":8.1999999999999993},null,{"$f":"INDEX(Backbone!$K$1:$K$893,MATCH(I199,Backbone!$A$1:$A$893,0))","v":8.3000000000000007},null,{"$f":"INDEX(Backbone!$L$2:$L$893,MATCH(I199,Backbone!$A$2:$A$893,0))","v":6.1},null,{"$f":"INDEX(Backbone!$M$2:$M$893,MATCH(I199,Backbone!$A$2:$A$893,0))","v":3.5},null,{"$f":"INDEX(Backbone!$N$2:$N$893,MATCH(I199,Backbone!$A$2:$A$893,0))","v":4},null,{"$f":"INDEX(Backbone!$O$2:$O$893,MATCH(I199,Backbone!$A$2:$A$893,0))","v":7},null,{"$f":"INDEX(Backbone!$P$2:$P$893,MATCH(I199,Backbone!$A$2:$A$893,0))","v":6},null,{"$f":"INDEX(Backbone!$Q$2:$Q$893,MATCH(I199,Backbone!$A$2:$A$893,0))","v":0.63222222222222224},null,null,{"$f":"(AG199*$AG$22+AI199*$AI$22+AK199*$AK$22+AM199*$AM$22+AO199*$AO$22+AQ199*$AQ$22+AS199*$AS$22+AU199*$AU$22+AW199*$AW$22)/(SUM($AG$22:$AW$22)*10)","v":{"$error":"#DIV/0!"}},null,null,"Перейти в Реестр ресурсов: ",null,{"$f":"HYPERLINK(\"#\"&ADDRESS(MATCH(I199,Toolbox!$C$1:$C$300),1,,,\"Toolbox\"),VLOOKUP(I199,Toolbox!$C$1:$C$300,1,FALSE))","v":"Рамочная программа Африканских ЦКПЗ по надзору на основе сигнальных событий"}]
[]
[]
[]
[]
[]
[null,null,null,null,null,null,null,null,{"$f":"Backbone!A138","v":"Электронная интегрированная система эпиднадзора за болезнями (EIDSS)"},null,null,null,null,null,null,"Электронная онлайн-система передачи эпидемиологической информации адаптируется под требования заказчика. Она создана для пассивного и активного эпиднадзора при содействии медицинских и ветеринарных учреждений, для лабораторной диагностики, надзора за переносчиками и управления вспышками заболеваний. ",null,null,null,null,null,null,null,null,{"$f":"INDEX(Backbone!$R$2:$R$893,MATCH(I205,Backbone!$A$2:$A$893,0))","v":"Оборудование или программное обеспечение"},null,null,null,{"$f":"INDEX(Backbone!$S$2:$S$893,MATCH(I205,Backbone!$A$2:$A$893,0))","v":"«Единое здоровье»; универсальный"},null,null,null,{"$f":"INDEX(Backbone!$H$2:$H$893,MATCH(I205,Backbone!$A$2:$A$893,0))","v":6.8},null,{"$f":"INDEX(Backbone!$I$2:$I$893,MATCH(I205,Backbone!$A$2:$A$893,0))","v":10},null,{"$f":"INDEX(Backbone!$J$2:$J$893,MATCH(I205,Backbone!$A$2:$A$893,0))","v":8.4},null,{"$f":"INDEX(Backbone!$K$1:$K$893,MATCH(I205,Backbone!$A$1:$A$893,0))","v":8.6999999999999993},null,{"$f":"INDEX(Backbone!$L$2:$L$893,MATCH(I205,Backbone!$A$2:$A$893,0))","v":9.1},null,{"$f":"INDEX(Backbone!$M$2:$M$893,MATCH(I205,Backbone!$A$2:$A$893,0))","v":8},null,{"$f":"INDEX(Backbone!$N$2:$N$893,MATCH(I205,Backbone!$A$2:$A$893,0))","v":7},null,{"$f":"INDEX(Backbone!$O$2:$O$893,MATCH(I205,Backbone!$A$2:$A$893,0))","v":7.2},null,{"$f":"INDEX(Backbone!$P$2:$P$893,MATCH(I205,Backbone!$A$2:$A$893,0))","v":10},null,{"$f":"INDEX(Backbone!$Q$2:$Q$893,MATCH(I205,Backbone!$A$2:$A$893,0))","v":0.83555555555555561},null,null,{"$f":"(AG205*$AG$22+AI205*$AI$22+AK205*$AK$22+AM205*$AM$22+AO205*$AO$22+AQ205*$AQ$22+AS205*$AS$22+AU205*$AU$22+AW205*$AW$22)/(SUM($AG$22:$AW$22)*10)","v":{"$error":"#DIV/0!"}},null,null,"Перейти в Реестр ресурсов: ",null,{"$f":"HYPERLINK(\"#\"&ADDRESS(MATCH(I205,Toolbox!$C$1:$C$300),1,,,\"Toolbox\"),VLOOKUP(I205,Toolbox!$C$1:$C$300,1,FALSE))","v":"Электронная интегрированная система эпиднадзора за болезнями (EIDSS)"}]
[]
[]
[]
[]
[]
[null,null,null,null,null,null,null,null,{"$f":"Backbone!A531","v":"Лабораторная информационная менеджмент-система, облегченная версия (МиниЛИМС)"},null,null,null,null,null,null,"Информационная система для управления лабораторией анализов с простой организационной структурой.",null,null,null,null,null,null,null,null,{"$f":"INDEX(Backbone!$R$2:$R$893,MATCH(I211,Backbone!$A$2:$A$893,0))","v":"Оборудование или программное обеспечение"},null,null,null,{"$f":"INDEX(Backbone!$S$2:$S$893,MATCH(I211,Backbone!$A$2:$A$893,0))","v":"Ориентированный на конкретный сектор; универсальный"},null,null,null,{"$f":"INDEX(Backbone!$H$2:$H$893,MATCH(I211,Backbone!$A$2:$A$893,0))","v":9},null,{"$f":"INDEX(Backbone!$I$2:$I$893,MATCH(I211,Backbone!$A$2:$A$893,0))","v":7.3},null,{"$f":"INDEX(Backbone!$J$2:$J$893,MATCH(I211,Backbone!$A$2:$A$893,0))","v":8.4},null,{"$f":"INDEX(Backbone!$K$1:$K$893,MATCH(I211,Backbone!$A$1:$A$893,0))","v":9.3000000000000007},null,{"$f":"INDEX(Backbone!$L$2:$L$893,MATCH(I211,Backbone!$A$2:$A$893,0))","v":7.2},null,{"$f":"INDEX(Backbone!$M$2:$M$893,MATCH(I211,Backbone!$A$2:$A$893,0))","v":6.5},null,{"$f":"INDEX(Backbone!$N$2:$N$893,MATCH(I211,Backbone!$A$2:$A$893,0))","v":2},null,{"$f":"INDEX(Backbone!$O$2:$O$893,MATCH(I211,Backbone!$A$2:$A$893,0))","v":4.4000000000000004},null,{"$f":"INDEX(Backbone!$P$2:$P$893,MATCH(I211,Backbone!$A$2:$A$893,0))","v":4},null,{"$f":"INDEX(Backbone!$Q$2:$Q$893,MATCH(I211,Backbone!$A$2:$A$893,0))","v":0.64555555555555555},null,null,{"$f":"(AG211*$AG$22+AI211*$AI$22+AK211*$AK$22+AM211*$AM$22+AO211*$AO$22+AQ211*$AQ$22+AS211*$AS$22+AU211*$AU$22+AW211*$AW$22)/(SUM($AG$22:$AW$22)*10)","v":{"$error":"#DIV/0!"}},null,null,"Перейти в Реестр ресурсов: ",null,{"$f":"HYPERLINK(\"#\"&ADDRESS(MATCH(I211,Toolbox!$C$1:$C$300),1,,,\"Toolbox\"),VLOOKUP(I211,Toolbox!$C$1:$C$300,1,FALSE))","v":"Лабораторная информационная менеджмент-система, облегченная версия (МиниЛИМС)"}]
[]
[]
[]
[]
[]
[null,null,null,null,null,null,null,null,{"$f":"Backbone!A522","v":"Лабораторная информационная менеджмент-система для африканских ветеринарных служб (SILABFA)"},null,null,null,null,null,null,"Лабораторная информационная менеджмент-система (ЛИМС) позволяет отследить все этапы диагностирования от получения образцов до лабораторных заключений.",null,null,null,null,null,null,null,null,{"$f":"INDEX(Backbone!$R$2:$R$893,MATCH(I217,Backbone!$A$2:$A$893,0))","v":"Оборудование или программное обеспечение"},null,null,null,{"$f":"INDEX(Backbone!$S$2:$S$893,MATCH(I217,Backbone!$A$2:$A$893,0))","v":"Ориентированный на конкретный сектор; универсальный"},null,null,null,{"$f":"INDEX(Backbone!$H$2:$H$893,MATCH(I217,Backbone!$A$2:$A$893,0))","v":9.3000000000000007},null,{"$f":"INDEX(Backbone!$I$2:$I$893,MATCH(I217,Backbone!$A$2:$A$893,0))","v":10},null,{"$f":"INDEX(Backbone!$J$2:$J$893,MATCH(I217,Backbone!$A$2:$A$893,0))","v":6.8},null,{"$f":"INDEX(Backbone!$K$1:$K$893,MATCH(I217,Backbone!$A$1:$A$893,0))","v":9.3000000000000007},null,{"$f":"INDEX(Backbone!$L$2:$L$893,MATCH(I217,Backbone!$A$2:$A$893,0))","v":8},null,{"$f":"INDEX(Backbone!$M$2:$M$893,MATCH(I217,Backbone!$A$2:$A$893,0))","v":6.5},null,{"$f":"INDEX(Backbone!$N$2:$N$893,MATCH(I217,Backbone!$A$2:$A$893,0))","v":8},null,{"$f":"INDEX(Backbone!$O$2:$O$893,MATCH(I217,Backbone!$A$2:$A$893,0))","v":7.2},null,{"$f":"INDEX(Backbone!$P$2:$P$893,MATCH(I217,Backbone!$A$2:$A$893,0))","v":8},null,{"$f":"INDEX(Backbone!$Q$2:$Q$893,MATCH(I217,Backbone!$A$2:$A$893,0))","v":0.81222222222222229},null,null,{"$f":"(AG217*$AG$22+AI217*$AI$22+AK217*$AK$22+AM217*$AM$22+AO217*$AO$22+AQ217*$AQ$22+AS217*$AS$22+AU217*$AU$22+AW217*$AW$22)/(SUM($AG$22:$AW$22)*10)","v":{"$error":"#DIV/0!"}},null,null,"Перейти в Реестр ресурсов: ",null,{"$f":"HYPERLINK(\"#\"&ADDRESS(MATCH(I217,Toolbox!$C$1:$C$300),1,,,\"Toolbox\"),VLOOKUP(I217,Toolbox!$C$1:$C$300,1,FALSE))","v":"Лабораторная информационная менеджмент-система для африканских ветеринарных служб (SILABFA)"}]
[]
[]
[]
[]
[]
[null,null,null,null,null,null,null,null,{"$f":"Backbone!A271","v":"Анализ инфраструктуры лабораторной сети (LINA)"},null,null,null,null,null,null,"Простое в использовании веб-приложение с функциями сложного компьютерного моделирования и анализа данных с простой визуализацией на базе карт в отношении потенциала и возможностей национальной лабораторной сети и каждой отдельной лаборатории. ",null,null,null,null,null,null,null,null,{"$f":"INDEX(Backbone!$R$2:$R$893,MATCH(I223,Backbone!$A$2:$A$893,0))","v":"Оборудование или программное обеспечение"},null,null,null,{"$f":"INDEX(Backbone!$S$2:$S$893,MATCH(I223,Backbone!$A$2:$A$893,0))","v":"«Единое здоровье»; универсальный"},null,null,null,{"$f":"INDEX(Backbone!$H$2:$H$893,MATCH(I223,Backbone!$A$2:$A$893,0))","v":9.6},null,{"$f":"INDEX(Backbone!$I$2:$I$893,MATCH(I223,Backbone!$A$2:$A$893,0))","v":6},null,{"$f":"INDEX(Backbone!$J$2:$J$893,MATCH(I223,Backbone!$A$2:$A$893,0))","v":7.6},null,{"$f":"INDEX(Backbone!$K$1:$K$893,MATCH(I223,Backbone!$A$1:$A$893,0))","v":9},null,{"$f":"INDEX(Backbone!$L$2:$L$893,MATCH(I223,Backbone!$A$2:$A$893,0))","v":8.3000000000000007},null,{"$f":"INDEX(Backbone!$M$2:$M$893,MATCH(I223,Backbone!$A$2:$A$893,0))","v":7},null,{"$f":"INDEX(Backbone!$N$2:$N$893,MATCH(I223,Backbone!$A$2:$A$893,0))","v":3},null,{"$f":"INDEX(Backbone!$O$2:$O$893,MATCH(I223,Backbone!$A$2:$A$893,0))","v":9.1},null,{"$f":"INDEX(Backbone!$P$2:$P$893,MATCH(I223,Backbone!$A$2:$A$893,0))","v":4},null,{"$f":"INDEX(Backbone!$Q$2:$Q$893,MATCH(I223,Backbone!$A$2:$A$893,0))","v":0.69555555555555559},null,null,{"$f":"(AG223*$AG$22+AI223*$AI$22+AK223*$AK$22+AM223*$AM$22+AO223*$AO$22+AQ223*$AQ$22+AS223*$AS$22+AU223*$AU$22+AW223*$AW$22)/(SUM($AG$22:$AW$22)*10)","v":{"$error":"#DIV/0!"}},null,null,"Перейти в Реестр ресурсов: ",null,{"$f":"HYPERLINK(\"#\"&ADDRESS(MATCH(I223,Toolbox!$C$1:$C$300),1,,,\"Toolbox\"),VLOOKUP(I223,Toolbox!$C$1:$C$300,1,FALSE))","v":"Анализ инфраструктуры лабораторной сети (LINA)"}]
[]
[]
[]
[]
[]
[null,null,null,null,null,null,null,null,{"$f":"Backbone!A604","v":"Приложение для оценки воздействия бешенства и выявления контактных лиц (REACT)"},null,null,null,null,null,null,"Инструмент, помогающий реализации комплексных программ управления случаями укусов (IBCM).",null,null,null,null,null,null,null,null,{"$f":"INDEX(Backbone!$R$2:$R$893,MATCH(I229,Backbone!$A$2:$A$893,0))","v":"Оборудование или программное обеспечение"},null,null,null,{"$f":"INDEX(Backbone!$S$2:$S$893,MATCH(I229,Backbone!$A$2:$A$893,0))","v":"«Единое здоровье»; ориентированный на конкретную болезнь/угрозу "},null,null,null,{"$f":"INDEX(Backbone!$H$2:$H$893,MATCH(I229,Backbone!$A$2:$A$893,0))","v":8.6},null,{"$f":"INDEX(Backbone!$I$2:$I$893,MATCH(I229,Backbone!$A$2:$A$893,0))","v":8.6},null,{"$f":"INDEX(Backbone!$J$2:$J$893,MATCH(I229,Backbone!$A$2:$A$893,0))","v":8},null,{"$f":"INDEX(Backbone!$K$1:$K$893,MATCH(I229,Backbone!$A$1:$A$893,0))","v":8.6},null,{"$f":"INDEX(Backbone!$L$2:$L$893,MATCH(I229,Backbone!$A$2:$A$893,0))","v":9.4},null,{"$f":"INDEX(Backbone!$M$2:$M$893,MATCH(I229,Backbone!$A$2:$A$893,0))","v":9.5},null,{"$f":"INDEX(Backbone!$N$2:$N$893,MATCH(I229,Backbone!$A$2:$A$893,0))","v":9},null,{"$f":"INDEX(Backbone!$O$2:$O$893,MATCH(I229,Backbone!$A$2:$A$893,0))","v":9.1999999999999993},null,{"$f":"INDEX(Backbone!$P$2:$P$893,MATCH(I229,Backbone!$A$2:$A$893,0))","v":9},null,{"$f":"INDEX(Backbone!$Q$2:$Q$893,MATCH(I229,Backbone!$A$2:$A$893,0))","v":0.88777777777777767},null,null,{"$f":"(AG229*$AG$22+AI229*$AI$22+AK229*$AK$22+AM229*$AM$22+AO229*$AO$22+AQ229*$AQ$22+AS229*$AS$22+AU229*$AU$22+AW229*$AW$22)/(SUM($AG$22:$AW$22)*10)","v":{"$error":"#DIV/0!"}},null,null,"Перейти в Реестр ресурсов: ",null,{"$f":"HYPERLINK(\"#\"&ADDRESS(MATCH(I229,Toolbox!$C$1:$C$300),1,,,\"Toolbox\"),VLOOKUP(I229,Toolbox!$C$1:$C$300,1,FALSE))","v":"Приложение для оценки воздействия бешенства и выявления контактных лиц (REACT)"}]
[]
[]
[]
[]
[]
[null,null,null,null,null,null,null,null,{"$f":"Backbone!A489","v":"Пакет программного обеспечения для проведения автоматического глобального электронного биомониторинга (SAGES)"},null,null,null,null,null,null,"Пакет программного обеспечения с открытым исходным кодом для улучшения электронного эпиднадзора в условиях ограниченных ресурсов.",null,null,null,null,null,null,null,null,{"$f":"INDEX(Backbone!$R$2:$R$893,MATCH(I235,Backbone!$A$2:$A$893,0))","v":"Оборудование или программное обеспечение"},null,null,null,{"$f":"INDEX(Backbone!$S$2:$S$893,MATCH(I235,Backbone!$A$2:$A$893,0))","v":"«Единое здоровье»; универсальный"},null,null,null,{"$f":"INDEX(Backbone!$H$2:$H$893,MATCH(I235,Backbone!$A$2:$A$893,0))","v":9.8000000000000007},null,{"$f":"INDEX(Backbone!$I$2:$I$893,MATCH(I235,Backbone!$A$2:$A$893,0))","v":10},null,{"$f":"INDEX(Backbone!$J$2:$J$893,MATCH(I235,Backbone!$A$2:$A$893,0))","v":10},null,{"$f":"INDEX(Backbone!$K$1:$K$893,MATCH(I235,Backbone!$A$1:$A$893,0))","v":9.3000000000000007},null,{"$f":"INDEX(Backbone!$L$2:$L$893,MATCH(I235,Backbone!$A$2:$A$893,0))","v":8.5},null,{"$f":"INDEX(Backbone!$M$2:$M$893,MATCH(I235,Backbone!$A$2:$A$893,0))","v":9},null,{"$f":"INDEX(Backbone!$N$2:$N$893,MATCH(I235,Backbone!$A$2:$A$893,0))","v":5.5},null,{"$f":"INDEX(Backbone!$O$2:$O$893,MATCH(I235,Backbone!$A$2:$A$893,0))","v":9.5},null,{"$f":"INDEX(Backbone!$P$2:$P$893,MATCH(I235,Backbone!$A$2:$A$893,0))","v":7},null,{"$f":"INDEX(Backbone!$Q$2:$Q$893,MATCH(I235,Backbone!$A$2:$A$893,0))","v":0.87333333333333329},null,null,{"$f":"(AG235*$AG$22+AI235*$AI$22+AK235*$AK$22+AM235*$AM$22+AO235*$AO$22+AQ235*$AQ$22+AS235*$AS$22+AU235*$AU$22+AW235*$AW$22)/(SUM($AG$22:$AW$22)*10)","v":{"$error":"#DIV/0!"}},null,null,"Перейти в Реестр ресурсов: ",null,{"$f":"HYPERLINK(\"#\"&ADDRESS(MATCH(I235,Toolbox!$C$1:$C$300),1,,,\"Toolbox\"),VLOOKUP(I235,Toolbox!$C$1:$C$300,1,FALSE))","v":"Пакет программного обеспечения для проведения автоматического глобального электронного биомониторинга (SAGES)"}]
[]
[]
[]
[]
[]
[null,null,null,null,null,null,null,null,{"$f":"Backbone!A450","v":"Инструмент для оценки прогресса на пути к ликвидации бешенства (TAPER)"},null,null,null,null,null,null,"Настоящий инструмент позволяет анализировать регулярно собираемые данные эпиднадзора за бешенством, чтобы давать актуальные рекомендации для контроля за ситуацией в каждом конкретном случае.",null,null,null,null,null,null,null,null,{"$f":"INDEX(Backbone!$R$2:$R$893,MATCH(I241,Backbone!$A$2:$A$893,0))","v":"Оборудование или программное обеспечение"},null,null,null,{"$f":"INDEX(Backbone!$S$2:$S$893,MATCH(I241,Backbone!$A$2:$A$893,0))","v":"«Единое здоровье»; ориентированный на конкретную болезнь/угрозу "},null,null,null,{"$f":"INDEX(Backbone!$H$2:$H$893,MATCH(I241,Backbone!$A$2:$A$893,0))","v":9.6},null,{"$f":"INDEX(Backbone!$I$2:$I$893,MATCH(I241,Backbone!$A$2:$A$893,0))","v":10},null,{"$f":"INDEX(Backbone!$J$2:$J$893,MATCH(I241,Backbone!$A$2:$A$893,0))","v":7.3},null,{"$f":"INDEX(Backbone!$K$1:$K$893,MATCH(I241,Backbone!$A$1:$A$893,0))","v":8},null,{"$f":"INDEX(Backbone!$L$2:$L$893,MATCH(I241,Backbone!$A$2:$A$893,0))","v":8.8000000000000007},null,{"$f":"INDEX(Backbone!$M$2:$M$893,MATCH(I241,Backbone!$A$2:$A$893,0))","v":5.5},null,{"$f":"INDEX(Backbone!$N$2:$N$893,MATCH(I241,Backbone!$A$2:$A$893,0))","v":4.3},null,{"$f":"INDEX(Backbone!$O$2:$O$893,MATCH(I241,Backbone!$A$2:$A$893,0))","v":7.9},null,{"$f":"INDEX(Backbone!$P$2:$P$893,MATCH(I241,Backbone!$A$2:$A$893,0))","v":6},null,{"$f":"INDEX(Backbone!$Q$2:$Q$893,MATCH(I241,Backbone!$A$2:$A$893,0))","v":0.74888888888888894},null,null,{"$f":"(AG241*$AG$22+AI241*$AI$22+AK241*$AK$22+AM241*$AM$22+AO241*$AO$22+AQ241*$AQ$22+AS241*$AS$22+AU241*$AU$22+AW241*$AW$22)/(SUM($AG$22:$AW$22)*10)","v":{"$error":"#DIV/0!"}},null,null,"Перейти в Реестр ресурсов: ",null,{"$f":"HYPERLINK(\"#\"&ADDRESS(MATCH(I241,Toolbox!$C$1:$C$300),1,,,\"Toolbox\"),VLOOKUP(I241,Toolbox!$C$1:$C$300,1,FALSE))","v":"Инструмент для оценки прогресса на пути к ликвидации бешенства (TAPER)"}]

{"sheet":"I7_tools","index":52,"n_rows":220,"n_cols":59,"rows_kept":220,"cut":false,"hidden":false,"merged":[[219,53,223,54],[219,36,223,36],[219,38,223,38],[219,40,223,40],[219,42,223,42],[219,44,223,44],[219,46,223,46],[207,48,211,48],[207,50,211,51],[219,48,223,48],[219,50,223,51],[207,40,211,40],[207,42,211,42],[207,44,211,44],[207,46,211,46],[219,8,223,13],[219,15,223,22],[219,24,223,26],[219,28,223,30],[219,32,223,32],[219,34,223,34],[213,42,217,42],[213,44,217,44],[213,46,217,46],[213,32,217,32],[213,34,217,34],[213,36,217,36],[213,38,217,38],[213,40,217,40],[200,53,204,54],[200,36,204,36],[200,38,204,38],[200,40,204,40],[200,42,204,42],[200,44,204,44],[200,46,204,46],[207,3,223,6],[207,8,211,13],[207,15,211,22],[207,24,211,26],[207,28,211,30],[207,32,211,32],[207,34,211,34],[207,36,211,36],[207,38,211,38],[213,48,217,48],[213,50,217,51],[213,53,217,54],[207,53,211,54],[213,8,217,13],[213,15,217,22],[213,24,217,26],[213,28,217,30],[188,46,192,46],[188,48,192,48],[188,50,192,51],[188,24,192,26],[188,28,192,30],[188,32,192,32],[188,34,192,34],[188,36,192,36],[200,8,204,13],[200,15,204,22],[200,24,204,26],[200,28,204,30],[200,32,204,32],[200,34,204,34],[194,42,198,42],[194,44,198,44],[194,46,198,46],[200,48,204,48],[200,50,204,51],[194,28,198,30],[194,32,198,32],[194,34,198,34],[194,36,198,36],[194,38,198,38],[194,40,198,40],[188,40,192,40],[188,42,192,42],[188,44,192,44],[188,38,192,38],[179,53,186,54],[183,1,223,1],[183,3,186,6],[183,8,186,13],[183,15,186,22],[183,24,186,26],[183,28,186,30],[188,3,204,6],[188,8,192,13],[188,15,192,22],[172,40,186,40],[172,42,186,42],[172,44,186,44],[172,46,186,46],[172,48,186,48],[179,50,186,51],[194,48,198,48],[194,50,198,51],[194,53,198,54],[188,53,192,54],[194,8,198,13],[194,15,198,22],[194,24,198,26],[136,3,152,6],[100,1,152,1],[172,32,186,32],[172,34,186,34],[172,36,186,36],[172,38,186,38],[148,42,152,42],[148,44,152,44],[148,46,152,46],[111,46,115,46],[105,44,109,44],[105,46,109,46],[100,28,103,30],[105,3,133,6],[89,44,103,44],[89,46,103,46],[123,15,127,22],[123,24,127,26],[123,28,127,30],[123,32,127,32],[123,34,127,34],[123,36,127,36],[123,38,127,38],[148,48,152,48],[148,50,152,51],[148,53,152,54],[142,53,146,54],[148,8,152,13],[148,15,152,22],[148,24,152,26],[148,28,152,30],[148,32,152,32],[148,34,152,34],[148,36,152,36],[148,38,152,38],[148,40,152,40],[142,40,146,40],[142,42,146,42],[142,44,146,44],[142,46,146,46],[142,48,146,48],[142,50,146,51],[142,8,146,13],[142,15,146,22],[142,24,146,26],[142,28,146,30],[142,32,146,32],[142,34,146,34],[142,36,146,36],[142,38,146,38],[136,38,140,38],[129,50,133,51],[129,53,133,54],[129,42,133,42],[129,44,133,44],[129,46,133,46],[129,48,133,48],[136,50,140,51],[136,53,140,54],[136,42,140,42],[136,44,140,44],[136,46,140,46],[136,48,140,48],[136,8,140,13],[136,15,140,22],[136,24,140,26],[136,28,140,30],[136,32,140,32],[136,34,140,34],[136,36,140,36],[129,38,133,38],[129,40,133,40],[136,40,140,40],[117,48,121,48],[117,50,121,51],[117,53,121,54],[129,8,133,13],[129,15,133,22],[129,24,133,26],[129,28,133,30],[129,32,133,32],[129,34,133,34],[129,36,133,36],[117,36,121,36],[117,38,121,38],[117,40,121,40],[117,42,121,42],[117,44,121,44],[117,46,121,46],[123,53,127,54],[123,40,127,40],[123,42,127,42],[123,44,127,44],[123,46,127,46],[123,48,127,48],[123,50,127,51],[123,8,127,13],[117,8,121,13],[117,15,121,22],[117,24,121,26],[117,28,121,30],[117,32,121,32],[117,34,121,34],[111,34,115,34],[111,36,115,36],[111,38,115,38],[105,48,109,48],[105,50,109,51],[105,53,109,54],[111,8,115,13],[111,15,115,22],[111,24,115,26],[111,28,115,30],[111,32,115,32],[105,32,109,32],[105,34,109,34],[105,36,109,36],[105,38,109,38],[105,40,109,40],[105,42,109,42],[105,8,109,13],[105,15,109,22],[105,24,109,26],[105,28,109,30],[111,48,115,48],[111,50,115,51],[111,53,115,54],[111,40,115,40],[111,42,115,42],[111,44,115,44],[100,3,103,6],[100,8,103,13],[100,15,103,22],[100,24,103,26],[89,32,103,32],[89,34,103,34],[89,36,103,36],[89,38,103,38],[89,40,103,40],[65,36,69,36],[65,38,69,38],[65,40,69,40],[65,42,69,42],[65,44,69,44],[65,46,69,46],[89,48,103,48],[96,50,103,51],[96,53,103,54],[89,42,103,42],[53,46,57,46],[53,48,57,48],[53,50,57,51],[59,42,63,42],[59,44,63,44],[59,46,63,46],[65,48,69,48],[65,50,69,51],[65,53,69,54],[59,28,63,30],[59,32,63,32],[59,34,63,34],[59,36,63,36],[59,38,63,38],[59,40,63,40],[53,40,57,40],[53,42,57,42],[53,44,57,44],[34,50,38,51],[34,53,38,54],[53,3,69,6],[53,8,57,13],[53,15,57,22],[53,24,57,26],[53,28,57,30],[53,32,57,32],[53,34,57,34],[53,36,57,36],[53,38,57,38],[65,8,69,13],[65,15,69,22],[65,24,69,26],[65,28,69,30],[65,32,69,32],[65,34,69,34],[59,48,63,48],[59,50,63,51],[59,53,63,54],[53,53,57,54],[59,8,63,13],[59,15,63,22],[59,24,63,26],[46,53,50,54],[46,38,50,38],[46,40,50,40],[46,42,50,42],[46,44,50,44],[46,46,50,46],[46,48,50,48],[40,48,44,48],[40,50,44,51],[40,53,44,54],[40,40,44,40],[40,42,44,42],[40,44,44,44],[40,46,44,46],[6,40,20,40],[6,42,20,42],[6,44,20,44],[6,46,20,46],[6,48,20,48],[13,50,20,51],[13,53,20,54],[17,1,69,1],[17,3,20,6],[17,8,20,13],[17,15,20,22],[28,42,32,42],[17,24,20,26],[28,44,32,44],[28,46,32,46],[28,48,32,48],[28,50,32,51],[28,24,32,26],[28,28,32,30],[40,24,44,26],[40,28,44,30],[40,32,44,32],[40,34,44,34],[46,50,50,51],[46,34,50,34],[46,36,50,36],[40,36,44,36],[40,38,44,38],[40,8,44,13],[40,15,44,22],[6,32,20,32],[6,34,20,34],[6,36,20,36],[6,38,20,38],[34,15,38,22],[34,28,38,30],[22,46,26,46],[22,48,26,48],[22,15,26,22],[22,24,26,26],[22,28,26,30],[22,32,26,32],[17,28,20,30],[22,3,50,6],[22,8,26,13],[34,42,38,42],[34,44,38,44],[34,46,38,46],[34,48,38,48],[34,32,38,32],[34,34,38,34],[34,36,38,36],[34,38,38,38],[34,40,38,40],[28,40,32,40],[46,8,50,13],[46,15,50,22],[46,24,50,26],[46,28,50,30],[46,32,50,32],[1,1,3,62],[22,56,26,57],[22,58,26,62],[28,56,32,57],[28,58,32,62],[34,56,38,57],[34,58,38,62],[28,53,32,54],[34,8,38,13],[34,24,38,26],[22,50,26,51],[22,53,26,54],[28,8,32,13],[28,15,32,22],[28,32,32,32],[28,34,32,34],[28,36,32,36],[28,38,32,38],[22,38,26,38],[22,40,26,40],[22,42,26,42],[22,34,26,34],[22,36,26,36],[22,44,26,44],[40,56,44,57],[40,58,44,62],[46,56,50,57],[46,58,50,62],[53,56,57,57],[53,58,57,62],[59,56,63,57],[59,58,63,62],[65,56,69,57],[65,58,69,62],[105,56,109,57],[105,58,109,62],[111,56,115,57],[111,58,115,62],[117,56,121,57],[117,58,121,62],[123,56,127,57],[123,58,127,62],[129,56,133,57],[129,58,133,62],[200,56,204,57],[200,58,204,62],[207,56,211,57],[207,58,211,62],[213,56,217,57],[213,58,217,62],[219,56,223,57],[219,58,223,62],[136,56,140,57],[136,58,140,62],[142,56,146,57],[142,58,146,62],[148,56,152,57],[148,58,152,62],[188,56,192,57],[188,58,192,62],[194,56,198,57],[194,58,198,62]]}
[]
[null,"Ресурсы по обмену данными"]
[]
[]
[]
[]
[null,null,null,null,null,null,null,null,null,null,null,null,null,null,null,null,null,null,null,null,null,null,null,null,null,null,null,null,null,null,null,null,"Доступность",null,"Язык",null,"Простота использования",null,"Гибкость",null,"Потребности в данных",null,"Анализ данных",null,"Приемлемость",null,"«Единое здоровье»",null,"Воздействие"]
[]
[]
[]
[]
[]
[]
[null,null,null,null,null,null,null,null,null,null,null,null,null,null,null,null,null,null,null,null,null,null,null,null,null,null,null,null,null,null,null,null,null,null,null,null,null,null,null,null,null,null,null,null,null,null,null,null,null,null,"ИСХОДНАЯ ОЦЕНКА",null,null,"СКОРРЕКТИРОВАННАЯ ОЦЕНКА \n(Исходя из предпочтений пользователей)"]
[]
[]
[]
[null,"РЕСУРСЫ УРОВНЯ 1",null,"КЛАССИФИКАЦИЯ",null,null,null,null,"НАЗВАНИЕ РЕСУРСА",null,null,null,null,null,null,"КРАТКОЕ ОПИСАНИЕ",null,null,null,null,null,null,null,null,"ВИД РЕСУРСА",null,null,null,"ОБЩАЯ НАПРАВЛЕННОСТЬ РЕСУРСА"]
[]
[]
[]
[null,null,null,null,null,null,null,null,null,null,null,null,null,null,null,null,null,null,null,null,null,null,null,null,null,null,null,null,null,null,null,null,{"$f":"'Attribute Survey'!S22","v":0},null,{"$f":"'Attribute Survey'!S26","v":0},null,{"$f":"'Attribute Survey'!S30","v":0},null,{"$f":"'Attribute Survey'!S34","v":0},null,{"$f":"'Attribute Survey'!S38","v":0},null,{"$f":"'Attribute Survey'!S42","v":0},null,{"$f":"'Attribute Survey'!S46","v":0},null,{"$f":"'Attribute Survey'!S50","v":0},null,{"$f":"'Attribute Survey'!S54","v":0}]
[null,null,null,"Наиболее подходящие ресурсы",null,null,null,null,{"$f":"Backbone!A21","v":"Инструмент AfyaData"},null,null,null,null,null,null,"Инструмент эпиднадзора, основанный на концепции «Единое здоровье» и разработанный для эпиднадзора в области здравоохранения человека, охраны здоровья животных и окружающей среды. Доступен в виде мобильного и веб-приложения.",null,null,null,null,null,null,null,null,{"$f":"INDEX(Backbone!$R$2:$R$893,MATCH(I23,Backbone!$A$2:$A$893,0))","v":"Оборудование или программное обеспечение"},null,null,null,{"$f":"INDEX(Backbone!$S$2:$S$893,MATCH(I23,Backbone!$A$2:$A$893,0))","v":"«Единое здоровье»; универсальный "},null,null,null,{"$f":"INDEX(Backbone!$H$2:$H$893,MATCH(I23,Backbone!$A$2:$A$893,0))","v":7.3},null,{"$f":"INDEX(Backbone!$I$2:$I$893,MATCH(I23,Backbone!$A$2:$A$893,0))","v":10},null,{"$f":"INDEX(Backbone!$J$2:$J$893,MATCH(I23,Backbone!$A$2:$A$893,0))","v":8.1999999999999993},null,{"$f":"INDEX(Backbone!$K$2:$K$893,MATCH(I23,Backbone!$A$2:$A$893,0))","v":7.3},null,{"$f":"INDEX(Backbone!$L$2:$L$893,MATCH(I23,Backbone!$A$2:$A$893,0))","v":7.6},null,{"$f":"INDEX(Backbone!$M$2:$M$893,MATCH(I23,Backbone!$A$2:$A$893,0))","v":8.8000000000000007},null,{"$f":"INDEX(Backbone!$N$2:$N$893,MATCH(I23,Backbone!$A$2:$A$893,0))","v":5.5},null,{"$f":"INDEX(Backbone!$O$2:$O$893,MATCH(I23,Backbone!$A$2:$A$893,0))","v":7.6},null,{"$f":"INDEX(Backbone!$P$2:$P$893,MATCH(I23,Backbone!$A$2:$A$893,0))","v":7},null,{"$f":"INDEX(Backbone!$Q$2:$Q$893,MATCH(I23,Backbone!$A$2:$A$893,0))","v":0.77000000000000013},null,null,{"$f":"(AG23*$AG$22+AI23*$AI$22+AK23*$AK$22+AM23*$AM$22+AO23*$AO$22+AQ23*$AQ$22+AS23*$AS$22+AU23*$AU$22+AW23*$AW$22)/(SUM($AG$22:$AW$22)*10)","v":{"$error":"#DIV/0!"}},null,null,"Перейти в Реестр ресурсов: ",null,{"$f":"HYPERLINK(\"#\"&ADDRESS(MATCH(I23,Toolbox!$C$1:$C$300),1,,,\"Toolbox\"),VLOOKUP(I23,Toolbox!$C$1:$C$300,1,FALSE))","v":"Инструмент AfyaData"}]
[]
[]
[]
[]
[]
[null,null,null,null,null,null,null,null,{"$f":"Backbone!A65","v":"Районная информационная система здравоохранения, версия 2 (DHIS2) "},null,null,null,null,null,null,"Онлайн-платформа информационной системы управления в системе здравоохранения с открытым исходным кодом.",null,null,null,null,null,null,null,null,{"$f":"INDEX(Backbone!$R$2:$R$893,MATCH(I29,Backbone!$A$2:$A$893,0))","v":"Оборудование или программное обеспечение"},null,null,null,{"$f":"INDEX(Backbone!$S$2:$S$893,MATCH(I29,Backbone!$A$2:$A$893,0))","v":"Ориентированный на конкретный сектор; универсальный"},null,null,null,{"$f":"INDEX(Backbone!$H$2:$H$893,MATCH(I29,Backbone!$A$2:$A$893,0))","v":8.8000000000000007},null,{"$f":"INDEX(Backbone!$I$2:$I$893,MATCH(I29,Backbone!$A$2:$A$893,0))","v":8.6999999999999993},null,{"$f":"INDEX(Backbone!$J$2:$J$893,MATCH(I29,Backbone!$A$2:$A$893,0))","v":8},null,{"$f":"INDEX(Backbone!$K$2:$K$893,MATCH(I29,Backbone!$A$2:$A$893,0))","v":8.6999999999999993},null,{"$f":"INDEX(Backbone!$L$2:$L$893,MATCH(I29,Backbone!$A$2:$A$893,0))","v":9.3000000000000007},null,{"$f":"INDEX(Backbone!$M$2:$M$893,MATCH(I29,Backbone!$A$2:$A$893,0))","v":9},null,{"$f":"INDEX(Backbone!$N$2:$N$893,MATCH(I29,Backbone!$A$2:$A$893,0))","v":10},null,{"$f":"INDEX(Backbone!$O$2:$O$893,MATCH(I29,Backbone!$A$2:$A$893,0))","v":7.8},null,{"$f":"INDEX(Backbone!$P$2:$P$893,MATCH(I29,Backbone!$A$2:$A$893,0))","v":7},null,{"$f":"INDEX(Backbone!$Q$2:$Q$893,MATCH(I29,Backbone!$A$2:$A$893,0))","v":0.85888888888888881},null,null,{"$f":"(AG29*$AG$22+AI29*$AI$22+AK29*$AK$22+AM29*$AM$22+AO29*$AO$22+AQ29*$AQ$22+AS29*$AS$22+AU29*$AU$22+AW29*$AW$22)/(SUM($AG$22:$AW$22)*10)","v":{"$error":"#DIV/0!"}},null,null,"Перейти в Реестр ресурсов: ",null,{"$f":"HYPERLINK(\"#\"&ADDRESS(MATCH(I29,Toolbox!$C$1:$C$300),1,,,\"Toolbox\"),VLOOKUP(I29,Toolbox!$C$1:$C$300,1,FALSE))","v":"Районная информационная система здравоохранения, версия 2 (DHIS2) "}]
[]
[]
[]
[]
[]
[null,null,null,null,null,null,null,null,{"$f":"Backbone!A138","v":"Электронная интегрированная система эпиднадзора за болезнями (EIDSS)"},null,null,null,null,null,null,"Электронная онлайн-система передачи эпидемиологической информации адаптируется под требования заказчика. Она создана для пассивного и активного эпиднадзора при содействии медицинских и ветеринарных учреждений, для лабораторной диагностики, надзора за переносчиками и управления вспышками заболеваний. ",null,null,null,null,null,null,null,null,{"$f":"INDEX(Backbone!$R$2:$R$893,MATCH(I35,Backbone!$A$2:$A$893,0))","v":"Оборудование или программное обеспечение"},null,null,null,{"$f":"INDEX(Backbone!$S$2:$S$893,MATCH(I35,Backbone!$A$2:$A$893,0))","v":"«Единое здоровье»; универсальный"},null,null,null,{"$f":"INDEX(Backbone!$H$2:$H$893,MATCH(I35,Backbone!$A$2:$A$893,0))","v":6.8},null,{"$f":"INDEX(Backbone!$I$2:$I$893,MATCH(I35,Backbone!$A$2:$A$893,0))","v":10},null,{"$f":"INDEX(Backbone!$J$2:$J$893,MATCH(I35,Backbone!$A$2:$A$893,0))","v":8.4},null,{"$f":"INDEX(Backbone!$K$1:$K$893,MATCH(I35,Backbone!$A$1:$A$893,0))","v":8.6999999999999993},null,{"$f":"INDEX(Backbone!$L$2:$L$893,MATCH(I35,Backbone!$A$2:$A$893,0))","v":9.1},null,{"$f":"INDEX(Backbone!$M$2:$M$893,MATCH(I35,Backbone!$A$2:$A$893,0))","v":8},null,{"$f":"INDEX(Backbone!$N$2:$N$893,MATCH(I35,Backbone!$A$2:$A$893,0))","v":7},null,{"$f":"INDEX(Backbone!$O$2:$O$893,MATCH(I35,Backbone!$A$2:$A$893,0))","v":7.2},null,{"$f":"INDEX(Backbone!$P$2:$P$893,MATCH(I35,Backbone!$A$2:$A$893,0))","v":10},null,{"$f":"INDEX(Backbone!$Q$2:$Q$893,MATCH(I35,Backbone!$A$2:$A$893,0))","v":0.83555555555555561},null,null,{"$f":"(AG35*$AG$22+AI35*$AI$22+AK35*$AK$22+AM35*$AM$22+AO35*$AO$22+AQ35*$AQ$22+AS35*$AS$22+AU35*$AU$22+AW35*$AW$22)/(SUM($AG$22:$AW$22)*10)","v":{"$error":"#DIV/0!"}},null,null,"Перейти в Реестр ресурсов: ",null,{"$f":"HYPERLINK(\"#\"&ADDRESS(MATCH(I35,Toolbox!$C$1:$C$300),1,,,\"Toolbox\"),VLOOKUP(I35,Toolbox!$C$1:$C$300,1,FALSE))","v":"Электронная интегрированная система эпиднадзора за болезнями (EIDSS)"}]
[]
[]
[]
[]
[]
[null,null,null,null,null,null,null,null,{"$f":"Backbone!A195","v":"Комплексная система эпиднадзора и мер реагирования (IDSR)"},null,null,null,null,null,null,"Стратегия, разработанная с целью укрепить потенциал стран для выявления и подтверждения предполагаемых случаев заболевания и вспышек и реагирования на них, а также для использования информации для прогнозирования событий в области общественного здравоохранения и планирования мер реагирования на них.",null,null,null,null,null,null,null,null,{"$f":"INDEX(Backbone!$R$2:$R$893,MATCH(I41,Backbone!$A$2:$A$893,0))","v":"Руководящий документ"},null,null,null,{"$f":"INDEX(Backbone!$S$2:$S$893,MATCH(I41,Backbone!$A$2:$A$893,0))","v":"Ориентированный на конкретный сектор; универсальный"},null,null,null,{"$f":"INDEX(Backbone!$H$2:$H$893,MATCH(I41,Backbone!$A$2:$A$893,0))","v":7.4},null,{"$f":"INDEX(Backbone!$I$2:$I$893,MATCH(I41,Backbone!$A$2:$A$893,0))","v":10},null,{"$f":"INDEX(Backbone!$J$2:$J$893,MATCH(I41,Backbone!$A$2:$A$893,0))","v":7.4},null,{"$f":"INDEX(Backbone!$K$1:$K$893,MATCH(I41,Backbone!$A$1:$A$893,0))","v":8.6999999999999993},null,{"$f":"INDEX(Backbone!$L$2:$L$893,MATCH(I41,Backbone!$A$2:$A$893,0))","v":6.7},null,{"$f":"INDEX(Backbone!$M$2:$M$893,MATCH(I41,Backbone!$A$2:$A$893,0))","v":4.5},null,{"$f":"INDEX(Backbone!$N$2:$N$893,MATCH(I41,Backbone!$A$2:$A$893,0))","v":8},null,{"$f":"INDEX(Backbone!$O$2:$O$893,MATCH(I41,Backbone!$A$2:$A$893,0))","v":7.2},null,{"$f":"INDEX(Backbone!$P$2:$P$893,MATCH(I41,Backbone!$A$2:$A$893,0))","v":8.5},null,{"$f":"INDEX(Backbone!$Q$2:$Q$893,MATCH(I41,Backbone!$A$2:$A$893,0))","v":0.76},null,null,{"$f":"(AG41*$AG$22+AI41*$AI$22+AK41*$AK$22+AM41*$AM$22+AO41*$AO$22+AQ41*$AQ$22+AS41*$AS$22+AU41*$AU$22+AW41*$AW$22)/(SUM($AG$22:$AW$22)*10)","v":{"$error":"#DIV/0!"}},null,null,"Перейти в Реестр ресурсов: ",null,{"$f":"HYPERLINK(\"#\"&ADDRESS(MATCH(I41,Toolbox!$C$1:$C$300),1,,,\"Toolbox\"),VLOOKUP(I41,Toolbox!$C$1:$C$300,1,FALSE))","v":"Комплексная система эпиднадзора и мер реагирования (IDSR)"}]
[]
[]
[]
[]
[]
[null,null,null,null,null,null,null,null,{"$f":"Backbone!A489","v":"Пакет программного обеспечения для проведения автоматического глобального электронного биомониторинга (SAGES)"},null,null,null,null,null,null,"Пакет программного обеспечения с открытым исходным кодом для улучшения электронного эпиднадзора в условиях ограниченных ресурсов.",null,null,null,null,null,null,null,null,{"$f":"INDEX(Backbone!$R$2:$R$893,MATCH(I47,Backbone!$A$2:$A$893,0))","v":"Оборудование или программное обеспечение"},null,null,null,{"$f":"INDEX(Backbone!$S$2:$S$893,MATCH(I47,Backbone!$A$2:$A$893,0))","v":"«Единое здоровье»; универсальный"},null,null,null,{"$f":"INDEX(Backbone!$H$2:$H$893,MATCH(I47,Backbone!$A$2:$A$893,0))","v":9.8000000000000007},null,{"$f":"INDEX(Backbone!$I$2:$I$893,MATCH(I47,Backbone!$A$2:$A$893,0))","v":10},null,{"$f":"INDEX(Backbone!$J$2:$J$893,MATCH(I47,Backbone!$A$2:$A$893,0))","v":10},null,{"$f":"INDEX(Backbone!$K$1:$K$893,MATCH(I47,Backbone!$A$1:$A$893,0))","v":9.3000000000000007},null,{"$f":"INDEX(Backbone!$L$2:$L$893,MATCH(I47,Backbone!$A$2:$A$893,0))","v":8.5},null,{"$f":"INDEX(Backbone!$M$2:$M$893,MATCH(I47,Backbone!$A$2:$A$893,0))","v":9},null,{"$f":"INDEX(Backbone!$N$2:$N$893,MATCH(I47,Backbone!$A$2:$A$893,0))","v":5.5},null,{"$f":"INDEX(Backbone!$O$2:$O$893,MATCH(I47,Backbone!$A$2:$A$893,0))","v":9.5},null,{"$f":"INDEX(Backbone!$P$2:$P$893,MATCH(I47,Backbone!$A$2:$A$893,0))","v":7},null,{"$f":"INDEX(Backbone!$Q$2:$Q$893,MATCH(I47,Backbone!$A$2:$A$893,0))","v":0.87333333333333329},null,null,{"$f":"(AG47*$AG$22+AI47*$AI$22+AK47*$AK$22+AM47*$AM$22+AO47*$AO$22+AQ47*$AQ$22+AS47*$AS$22+AU47*$AU$22+AW47*$AW$22)/(SUM($AG$22:$AW$22)*10)","v":{"$error":"#DIV/0!"}},null,null,"Перейти в Реестр ресурсов: ",null,{"$f":"HYPERLINK(\"#\"&ADDRESS(MATCH(I47,Toolbox!$C$1:$C$300),1,,,\"Toolbox\"),VLOOKUP(I47,Toolbox!$C$1:$C$300,1,FALSE))","v":"Пакет программного обеспечения для проведения автоматического глобального электронного биомониторинга (SAGES)"}]
[]
[]
[]
[]
[]
[]
[null,null,null,"Другие полезные ресурсы",null,null,null,null,{"$f":"Backbone!A155","v":"Инициатива по выявлению эпидемиологических угроз с использованием открытых источников (EIOS)"},null,null,null,null,null,null,"Инициатива EIOS — это уникальное сотрудничество между ВОЗ и различными заинтересованными сторонами, объединяющее новые и существующие инициативы, сети и системы для создания унифицированного подхода «Единое здоровье», учитывающего все угрозы, к раннему обнаружению, проверке и оценке рисков и угроз для здоровья людей с использованием открытых источников.",null,null,null,null,null,null,null,null,{"$f":"INDEX(Backbone!$R$2:$R$893,MATCH(I54,Backbone!$A$2:$A$893,0))","v":"Оборудование или программное обеспечение"},null,null,null,{"$f":"INDEX(Backbone!$S$2:$S$893,MATCH(I54,Backbone!$A$2:$A$893,0))","v":"«Единое здоровье»; универсальный"},null,null,null,{"$f":"INDEX(Backbone!$H$2:$H$893,MATCH(I54,Backbone!$A$2:$A$893,0))","v":8.4},null,{"$f":"INDEX(Backbone!$I$2:$I$893,MATCH(I54,Backbone!$A$2:$A$893,0))","v":9},null,{"$f":"INDEX(Backbone!$J$2:$J$893,MATCH(I54,Backbone!$A$2:$A$893,0))","v":7.4},null,{"$f":"INDEX(Backbone!$K$1:$K$893,MATCH(I54,Backbone!$A$1:$A$893,0))","v":9},null,{"$f":"INDEX(Backbone!$L$2:$L$893,MATCH(I54,Backbone!$A$2:$A$893,0))","v":8.8000000000000007},null,{"$f":"INDEX(Backbone!$M$2:$M$893,MATCH(I54,Backbone!$A$2:$A$893,0))","v":8},null,{"$f":"INDEX(Backbone!$N$2:$N$893,MATCH(I54,Backbone!$A$2:$A$893,0))","v":5.5},null,{"$f":"INDEX(Backbone!$O$2:$O$893,MATCH(I54,Backbone!$A$2:$A$893,0))","v":9.1999999999999993},null,{"$f":"INDEX(Backbone!$P$2:$P$893,MATCH(I54,Backbone!$A$2:$A$893,0))","v":6},null,{"$f":"INDEX(Backbone!$Q$2:$Q$893,MATCH(I54,Backbone!$A$2:$A$893,0))","v":0.79222222222222216},null,null,{"$f":"(AG54*$AG$22+AI54*$AI$22+AK54*$AK$22+AM54*$AM$22+AO54*$AO$22+AQ54*$AQ$22+AS54*$AS$22+AU54*$AU$22+AW54*$AW$22)/(SUM($AG$22:$AW$22)*10)","v":{"$error":"#DIV/0!"}},null,null,"Перейти в Реестр ресурсов: ",null,{"$f":"HYPERLINK(\"#\"&ADDRESS(MATCH(I54,Toolbox!$C$1:$C$300),1,,,\"Toolbox\"),VLOOKUP(I54,Toolbox!$C$1:$C$300,1,FALSE))","v":"Инициатива по выявлению эпидемиологических угроз с использованием открытых источников (EIOS)"}]
[]
[]
[]
[]
[]
[null,null,null,null,null,null,null,null,{"$f":"Backbone!A648","v":"Инструментарий для обеспечения готовности и планирования ответных действий"},null,null,null,null,null,null,"Настоящий инструментарий предназначен для разработки странами их межотраслевых планов по обеспечению готовности и планированию ответных действий в отношении событий общественного здравоохранения. ",null,null,null,null,null,null,null,null,{"$f":"INDEX(Backbone!$R$2:$R$893,MATCH(I60,Backbone!$A$2:$A$893,0))","v":"Руководящий документ"},null,null,null,{"$f":"INDEX(Backbone!$S$2:$S$893,MATCH(I60,Backbone!$A$2:$A$893,0))","v":"«Единое здоровье»; универсальный"},null,null,null,{"$f":"INDEX(Backbone!$H$2:$H$893,MATCH(I60,Backbone!$A$2:$A$893,0))","v":8.4},null,{"$f":"INDEX(Backbone!$I$2:$I$893,MATCH(I60,Backbone!$A$2:$A$893,0))","v":8},null,{"$f":"INDEX(Backbone!$J$2:$J$893,MATCH(I60,Backbone!$A$2:$A$893,0))","v":8.4},null,{"$f":"INDEX(Backbone!$K$1:$K$893,MATCH(I60,Backbone!$A$1:$A$893,0))","v":6.7},null,{"$f":"INDEX(Backbone!$L$2:$L$893,MATCH(I60,Backbone!$A$2:$A$893,0))","v":2},null,{"$f":"INDEX(Backbone!$M$2:$M$893,MATCH(I60,Backbone!$A$2:$A$893,0))","v":3.5},null,{"$f":"INDEX(Backbone!$N$2:$N$893,MATCH(I60,Backbone!$A$2:$A$893,0))","v":4},null,{"$f":"INDEX(Backbone!$O$2:$O$893,MATCH(I60,Backbone!$A$2:$A$893,0))","v":6.4},null,{"$f":"INDEX(Backbone!$P$2:$P$893,MATCH(I60,Backbone!$A$2:$A$893,0))","v":8},null,{"$f":"INDEX(Backbone!$Q$2:$Q$893,MATCH(I60,Backbone!$A$2:$A$893,0))","v":0.61555555555555552},null,null,{"$f":"(AG60*$AG$22+AI60*$AI$22+AK60*$AK$22+AM60*$AM$22+AO60*$AO$22+AQ60*$AQ$22+AS60*$AS$22+AU60*$AU$22+AW60*$AW$22)/(SUM($AG$22:$AW$22)*10)","v":{"$error":"#DIV/0!"}},null,null,"Перейти в Реестр ресурсов: ",null,{"$f":"HYPERLINK(\"#\"&ADDRESS(MATCH(I60,Toolbox!$C$1:$C$300),1,,,\"Toolbox\"),VLOOKUP(I60,Toolbox!$C$1:$C$300,1,FALSE))","v":"Инструментарий для обеспечения готовности и планирования ответных действий"}]
[]
[]
[]
[]
[]
[null,null,null,null,null,null,null,null,{"$f":"Backbone!A604","v":"Приложение для оценки воздействия бешенства и выявления контактных лиц (REACT)"},null,null,null,null,null,null,"Инструмент, помогающий реализации комплексных программ управления случаями укусов (IBCM).",null,null,null,null,null,null,null,null,{"$f":"INDEX(Backbone!$R$2:$R$893,MATCH(I66,Backbone!$A$2:$A$893,0))","v":"Оборудование или программное обеспечение"},null,null,null,{"$f":"INDEX(Backbone!$S$2:$S$893,MATCH(I66,Backbone!$A$2:$A$893,0))","v":"«Единое здоровье»; ориентированный на конкретную болезнь/угрозу "},null,null,null,{"$f":"INDEX(Backbone!$H$2:$H$893,MATCH(I66,Backbone!$A$2:$A$893,0))","v":8.6},null,{"$f":"INDEX(Backbone!$I$2:$I$893,MATCH(I66,Backbone!$A$2:$A$893,0))","v":8.6},null,{"$f":"INDEX(Backbone!$J$2:$J$893,MATCH(I66,Backbone!$A$2:$A$893,0))","v":8},null,{"$f":"INDEX(Backbone!$K$1:$K$893,MATCH(I66,Backbone!$A$1:$A$893,0))","v":8.6},null,{"$f":"INDEX(Backbone!$L$2:$L$893,MATCH(I66,Backbone!$A$2:$A$893,0))","v":9.4},null,{"$f":"INDEX(Backbone!$M$2:$M$893,MATCH(I66,Backbone!$A$2:$A$893,0))","v":9.5},null,{"$f":"INDEX(Backbone!$N$2:$N$893,MATCH(I66,Backbone!$A$2:$A$893,0))","v":9},null,{"$f":"INDEX(Backbone!$O$2:$O$893,MATCH(I66,Backbone!$A$2:$A$893,0))","v":9.1999999999999993},null,{"$f":"INDEX(Backbone!$P$2:$P$893,MATCH(I66,Backbone!$A$2:$A$893,0))","v":9},null,{"$f":"INDEX(Backbone!$Q$2:$Q$893,MATCH(I66,Backbone!$A$2:$A$893,0))","v":0.88777777777777767},null,null,{"$f":"(AG66*$AG$22+AI66*$AI$22+AK66*$AK$22+AM66*$AM$22+AO66*$AO$22+AQ66*$AQ$22+AS66*$AS$22+AU66*$AU$22+AW66*$AW$22)/(SUM($AG$22:$AW$22)*10)","v":{"$error":"#DIV/0!"}},null,null,"Перейти в Реестр ресурсов: ",null,{"$f":"HYPERLINK(\"#\"&ADDRESS(MATCH(I66,Toolbox!$C$1:$C$300),1,,,\"Toolbox\"),VLOOKUP(I66,Toolbox!$C$1:$C$300,1,FALSE))","v":"Приложение для оценки воздействия бешенства и выявления контактных лиц (REACT)"}]
[]
[]
[]
[]
[]
[]
[]
[]
[]
[]
[]
[]
[]
[]
[]
[]
[]
[]
[]
[]
[]
[]
[]
[null,null,null,null,null,null,null,null,null,null,null,null,null,null,null,null,null,null,null,null,null,null,null,null,null,null,null,null,null,null,null,null,"Доступность",null,"Язык",null,"Простота использования",null,"Гибкость",null,"Потребности в данных",null,"Анализ данных",null,"Приемлемость",null,"«Единое здоровье»",null,"Воздействие"]
[]
[]
[]
[]
[]
[]
[null,null,null,null,null,null,null,null,null,null,null,null,null,null,null,null,null,null,null,null,null,null,null,null,null,null,null,null,null,null,null,null,null,null,null,null,null,null,null,null,null,null,null,null,null,null,null,null,null,null,"ИСХОДНАЯ ОЦЕНКА",null,null,"СКОРРЕКТИРОВАННАЯ ОЦЕНКА \n(Исходя из предпочтений пользователей)"]
[]
[]
[]
[null,"РЕСУРСЫ УРОВНЯ 2",null,"КЛАССИФИКАЦИЯ",null,null,null,null,"НАЗВАНИЕ РЕСУРСА",null,null,null,null,null,null,"КРАТКОЕ ОПИСАНИЕ",null,null,null,null,null,null,null,null,"ВИД РЕСУРСА",null,null,null,"ОБЩАЯ НАПРАВЛЕННОСТЬ РЕСУРСА"]
[]
[]
[]
[null,null,null,null,null,null,null,null,null,null,null,null,null,null,null,null,null,null,null,null,null,null,null,null,null,null,null,null,null,null,null,null,{"$f":"'Attribute Survey'!S211","v":0},null,{"$f":"'Attribute Survey'!S215","v":0},null,{"$f":"'Attribute Survey'!S219","v":0},null,{"$f":"'Attribute Survey'!S223","v":0},null,{"$f":"'Attribute Survey'!S227","v":0},null,{"$f":"'Attribute Survey'!S231","v":0},null,{"$f":"'Attribute Survey'!S235","v":0},null,{"$f":"'Attribute Survey'!S239","v":0},null,{"$f":"'Attribute Survey'!S243","v":0}]
[null,null,null,"Наиболее подходящие ресурсы",null,null,null,null,{"$f":"Backbone!A21","v":"Инструмент AfyaData"},null,null,null,null,null,null,"Инструмент эпиднадзора, основанный на концепции «Единое здоровье» и разработанный для эпиднадзора в области здравоохранения человека, охраны здоровья животных и окружающей среды. Доступен в виде мобильного и веб-приложения.",null,null,null,null,null,null,null,null,{"$f":"INDEX(Backbone!$R$2:$R$893,MATCH(I106,Backbone!$A$2:$A$893,0))","v":"Оборудование или программное обеспечение"},null,null,null,{"$f":"INDEX(Backbone!$S$2:$S$893,MATCH(I106,Backbone!$A$2:$A$893,0))","v":"«Единое здоровье»; универсальный "},null,null,null,{"$f":"INDEX(Backbone!$H$2:$H$893,MATCH(I106,Backbone!$A$2:$A$893,0))","v":7.3},null,{"$f":"INDEX(Backbone!$I$2:$I$893,MATCH(I106,Backbone!$A$2:$A$893,0))","v":10},null,{"$f":"INDEX(Backbone!$J$2:$J$893,MATCH(I106,Backbone!$A$2:$A$893,0))","v":8.1999999999999993},null,{"$f":"INDEX(Backbone!$K$2:$K$893,MATCH(I106,Backbone!$A$2:$A$893,0))","v":7.3},null,{"$f":"INDEX(Backbone!$L$2:$L$893,MATCH(I106,Backbone!$A$2:$A$893,0))","v":7.6},null,{"$f":"INDEX(Backbone!$M$2:$M$893,MATCH(I106,Backbone!$A$2:$A$893,0))","v":8.8000000000000007},null,{"$f":"INDEX(Backbone!$N$2:$N$893,MATCH(I106,Backbone!$A$2:$A$893,0))","v":5.5},null,{"$f":"INDEX(Backbone!$O$2:$O$893,MATCH(I106,Backbone!$A$2:$A$893,0))","v":7.6},null,{"$f":"INDEX(Backbone!$P$2:$P$893,MATCH(I106,Backbone!$A$2:$A$893,0))","v":7},null,{"$f":"INDEX(Backbone!$Q$2:$Q$893,MATCH(I106,Backbone!$A$2:$A$893,0))","v":0.77000000000000013},null,null,{"$f":"(AG106*$AG$22+AI106*$AI$22+AK106*$AK$22+AM106*$AM$22+AO106*$AO$22+AQ106*$AQ$22+AS106*$AS$22+AU106*$AU$22+AW106*$AW$22)/(SUM($AG$22:$AW$22)*10)","v":{"$error":"#DIV/0!"}},null,null,"Перейти в Реестр ресурсов: ",null,{"$f":"HYPERLINK(\"#\"&ADDRESS(MATCH(I106,Toolbox!$C$1:$C$300),1,,,\"Toolbox\"),VLOOKUP(I106,Toolbox!$C$1:$C$300,1,FALSE))","v":"Инструмент AfyaData"}]
[]
[]
[]
[]
[]
[null,null,null,null,null,null,null,null,{"$f":"Backbone!A65","v":"Районная информационная система здравоохранения, версия 2 (DHIS2) "},null,null,null,null,null,null,"Онлайн-платформа информационной системы управления в системе здравоохранения с открытым исходным кодом.",null,null,null,null,null,null,null,null,{"$f":"INDEX(Backbone!$R$2:$R$893,MATCH(I112,Backbone!$A$2:$A$893,0))","v":"Оборудование или программное обеспечение"},null,null,null,{"$f":"INDEX(Backbone!$S$2:$S$893,MATCH(I112,Backbone!$A$2:$A$893,0))","v":"Ориентированный на конкретный сектор; универсальный"},null,null,null,{"$f":"INDEX(Backbone!$H$2:$H$893,MATCH(I112,Backbone!$A$2:$A$893,0))","v":8.8000000000000007},null,{"$f":"INDEX(Backbone!$I$2:$I$893,MATCH(I112,Backbone!$A$2:$A$893,0))","v":8.6999999999999993},null,{"$f":"INDEX(Backbone!$J$2:$J$893,MATCH(I112,Backbone!$A$2:$A$893,0))","v":8},null,{"$f":"INDEX(Backbone!$K$2:$K$893,MATCH(I112,Backbone!$A$2:$A$893,0))","v":8.6999999999999993},null,{"$f":"INDEX(Backbone!$L$2:$L$893,MATCH(I112,Backbone!$A$2:$A$893,0))","v":9.3000000000000007},null,{"$f":"INDEX(Backbone!$M$2:$M$893,MATCH(I112,Backbone!$A$2:$A$893,0))","v":9},null,{"$f":"INDEX(Backbone!$N$2:$N$893,MATCH(I112,Backbone!$A$2:$A$893,0))","v":10},null,{"$f":"INDEX(Backbone!$O$2:$O$893,MATCH(I112,Backbone!$A$2:$A$893,0))","v":7.8},null,{"$f":"INDEX(Backbone!$P$2:$P$893,MATCH(I112,Backbone!$A$2:$A$893,0))","v":7},null,{"$f":"INDEX(Backbone!$Q$2:$Q$893,MATCH(I112,Backbone!$A$2:$A$893,0))","v":0.85888888888888881},null,null,{"$f":"(AG112*$AG$22+AI112*$AI$22+AK112*$AK$22+AM112*$AM$22+AO112*$AO$22+AQ112*$AQ$22+AS112*$AS$22+AU112*$AU$22+AW112*$AW$22)/(SUM($AG$22:$AW$22)*10)","v":{"$error":"#DIV/0!"}},null,null,"Перейти в Реестр ресурсов: ",null,{"$f":"HYPERLINK(\"#\"&ADDRESS(MATCH(I112,Toolbox!$C$1:$C$300),1,,,\"Toolbox\"),VLOOKUP(I112,Toolbox!$C$1:$C$300,1,FALSE))","v":"Районная информационная система здравоохранения, версия 2 (DHIS2) "}]
[]
[]
[]
[]
[]
[null,null,null,null,null,null,null,null,{"$f":"Backbone!A138","v":"Электронная интегрированная система эпиднадзора за болезнями (EIDSS)"},null,null,null,null,null,null,"Электронная онлайн-система передачи эпидемиологической информации адаптируется под требования заказчика. Она создана для пассивного и активного эпиднадзора при содействии медицинских и ветеринарных учреждений, для лабораторной диагностики, надзора за переносчиками и управления вспышками заболеваний.",null,null,null,null,null,null,null,null,{"$f":"INDEX(Backbone!$R$2:$R$893,MATCH(I118,Backbone!$A$2:$A$893,0))","v":"Оборудование или программное обеспечение"},null,null,null,{"$f":"INDEX(Backbone!$S$2:$S$893,MATCH(I118,Backbone!$A$2:$A$893,0))","v":"«Единое здоровье»; универсальный"},null,null,null,{"$f":"INDEX(Backbone!$H$2:$H$893,MATCH(I118,Backbone!$A$2:$A$893,0))","v":6.8},null,{"$f":"INDEX(Backbone!$I$2:$I$893,MATCH(I118,Backbone!$A$2:$A$893,0))","v":10},null,{"$f":"INDEX(Backbone!$J$2:$J$893,MATCH(I118,Backbone!$A$2:$A$893,0))","v":8.4},null,{"$f":"INDEX(Backbone!$K$1:$K$893,MATCH(I118,Backbone!$A$1:$A$893,0))","v":8.6999999999999993},null,{"$f":"INDEX(Backbone!$L$2:$L$893,MATCH(I118,Backbone!$A$2:$A$893,0))","v":9.1},null,{"$f":"INDEX(Backbone!$M$2:$M$893,MATCH(I118,Backbone!$A$2:$A$893,0))","v":8},null,{"$f":"INDEX(Backbone!$N$2:$N$893,MATCH(I118,Backbone!$A$2:$A$893,0))","v":7},null,{"$f":"INDEX(Backbone!$O$2:$O$893,MATCH(I118,Backbone!$A$2:$A$893,0))","v":7.2},null,{"$f":"INDEX(Backbone!$P$2:$P$893,MATCH(I118,Backbone!$A$2:$A$893,0))","v":10},null,{"$f":"INDEX(Backbone!$Q$2:$Q$893,MATCH(I118,Backbone!$A$2:$A$893,0))","v":0.83555555555555561},null,null,{"$f":"(AG118*$AG$22+AI118*$AI$22+AK118*$AK$22+AM118*$AM$22+AO118*$AO$22+AQ118*$AQ$22+AS118*$AS$22+AU118*$AU$22+AW118*$AW$22)/(SUM($AG$22:$AW$22)*10)","v":{"$error":"#DIV/0!"}},null,null,"Перейти в Реестр ресурсов: ",null,{"$f":"HYPERLINK(\"#\"&ADDRESS(MATCH(I118,Toolbox!$C$1:$C$300),1,,,\"Toolbox\"),VLOOKUP(I118,Toolbox!$C$1:$C$300,1,FALSE))","v":"Электронная интегрированная система эпиднадзора за болезнями (EIDSS)"}]
[]
[]
[]
[]
[]
[null,null,null,null,null,null,null,null,{"$f":"Backbone!A195","v":"Комплексная система эпиднадзора и мер реагирования (IDSR)"},null,null,null,null,null,null,"Стратегия, разработанная с целью укрепить потенциал стран для выявления и подтверждения предполагаемых случаев заболевания и вспышек и реагирования на них, а также для использования информации для прогнозирования событий в области общественного здравоохранения и планирования мер реагирования на них.",null,null,null,null,null,null,null,null,{"$f":"INDEX(Backbone!$R$2:$R$893,MATCH(I124,Backbone!$A$2:$A$893,0))","v":"Руководящий документ"},null,null,null,{"$f":"INDEX(Backbone!$S$2:$S$893,MATCH(I124,Backbone!$A$2:$A$893,0))","v":"Ориентированный на конкретный сектор; универсальный"},null,null,null,{"$f":"INDEX(Backbone!$H$2:$H$893,MATCH(I124,Backbone!$A$2:$A$893,0))","v":7.4},null,{"$f":"INDEX(Backbone!$I$2:$I$893,MATCH(I124,Backbone!$A$2:$A$893,0))","v":10},null,{"$f":"INDEX(Backbone!$J$2:$J$893,MATCH(I124,Backbone!$A$2:$A$893,0))","v":7.4},null,{"$f":"INDEX(Backbone!$K$1:$K$893,MATCH(I124,Backbone!$A$1:$A$893,0))","v":8.6999999999999993},null,{"$f":"INDEX(Backbone!$L$2:$L$893,MATCH(I124,Backbone!$A$2:$A$893,0))","v":6.7},null,{"$f":"INDEX(Backbone!$M$2:$M$893,MATCH(I124,Backbone!$A$2:$A$893,0))","v":4.5},null,{"$f":"INDEX(Backbone!$N$2:$N$893,MATCH(I124,Backbone!$A$2:$A$893,0))","v":8},null,{"$f":"INDEX(Backbone!$O$2:$O$893,MATCH(I124,Backbone!$A$2:$A$893,0))","v":7.2},null,{"$f":"INDEX(Backbone!$P$2:$P$893,MATCH(I124,Backbone!$A$2:$A$893,0))","v":8.5},null,{"$f":"INDEX(Backbone!$Q$2:$Q$893,MATCH(I124,Backbone!$A$2:$A$893,0))","v":0.76},null,null,{"$f":"(AG124*$AG$22+AI124*$AI$22+AK124*$AK$22+AM124*$AM$22+AO124*$AO$22+AQ124*$AQ$22+AS124*$AS$22+AU124*$AU$22+AW124*$AW$22)/(SUM($AG$22:$AW$22)*10)","v":{"$error":"#DIV/0!"}},null,null,"Перейти в Реестр ресурсов: ",null,{"$f":"HYPERLINK(\"#\"&ADDRESS(MATCH(I124,Toolbox!$C$1:$C$300),1,,,\"Toolbox\"),VLOOKUP(I124,Toolbox!$C$1:$C$300,1,FALSE))","v":"Комплексная система эпиднадзора и мер реагирования (IDSR)"}]
[]
[]
[]
[]
[]
[null,null,null,null,null,null,null,null,{"$f":"Backbone!A489","v":"Пакет программного обеспечения для проведения автоматического глобального электронного биомониторинга (SAGES)"},null,null,null,null,null,null,"Пакет программного обеспечения с открытым исходным кодом для улучшения электронного эпиднадзора в условиях ограниченных ресурсов.",null,null,null,null,null,null,null,null,{"$f":"INDEX(Backbone!$R$2:$R$893,MATCH(I130,Backbone!$A$2:$A$893,0))","v":"Оборудование или программное обеспечение"},null,null,null,{"$f":"INDEX(Backbone!$S$2:$S$893,MATCH(I130,Backbone!$A$2:$A$893,0))","v":"«Единое здоровье»; универсальный"},null,null,null,{"$f":"INDEX(Backbone!$H$2:$H$893,MATCH(I130,Backbone!$A$2:$A$893,0))","v":9.8000000000000007},null,{"$f":"INDEX(Backbone!$I$2:$I$893,MATCH(I130,Backbone!$A$2:$A$893,0))","v":10},null,{"$f":"INDEX(Backbone!$J$2:$J$893,MATCH(I130,Backbone!$A$2:$A$893,0))","v":10},null,{"$f":"INDEX(Backbone!$K$1:$K$893,MATCH(I130,Backbone!$A$1:$A$893,0))","v":9.3000000000000007},null,{"$f":"INDEX(Backbone!$L$2:$L$893,MATCH(I130,Backbone!$A$2:$A$893,0))","v":8.5},null,{"$f":"INDEX(Backbone!$M$2:$M$893,MATCH(I130,Backbone!$A$2:$A$893,0))","v":9},null,{"$f":"INDEX(Backbone!$N$2:$N$893,MATCH(I130,Backbone!$A$2:$A$893,0))","v":5.5},null,{"$f":"INDEX(Backbone!$O$2:$O$893,MATCH(I130,Backbone!$A$2:$A$893,0))","v":9.5},null,{"$f":"INDEX(Backbone!$P$2:$P$893,MATCH(I130,Backbone!$A$2:$A$893,0))","v":7},null,{"$f":"INDEX(Backbone!$Q$2:$Q$893,MATCH(I130,Backbone!$A$2:$A$893,0))","v":0.87333333333333329},null,null,{"$f":"(AG130*$AG$22+AI130*$AI$22+AK130*$AK$22+AM130*$AM$22+AO130*$AO$22+AQ130*$AQ$22+AS130*$AS$22+AU130*$AU$22+AW130*$AW$22)/(SUM($AG$22:$AW$22)*10)","v":{"$error":"#DIV/0!"}},null,null,"Перейти в Реестр ресурсов: ",null,{"$f":"HYPERLINK(\"#\"&ADDRESS(MATCH(I130,Toolbox!$C$1:$C$300),1,,,\"Toolbox\"),VLOOKUP(I130,Toolbox!$C$1:$C$300,1,FALSE))","v":"Пакет программного обеспечения для проведения автоматического глобального электронного биомониторинга (SAGES)"}]
[]
[]
[]
[]
[]
[]
[null,null,null,"Другие полезные ресурсы",null,null,null,null,{"$f":"Backbone!A155","v":"Инициатива по выявлению эпидемиологических угроз с использованием открытых источников (EIOS)"},null,null,null,null,null,null,"Инициатива EIOS — это уникальное сотрудничество между ВОЗ и различными заинтересованными сторонами, объединяющее новые и существующие инициативы, сети и системы для создания унифицированного подхода «Единое здоровье», учитывающего все угрозы, к раннему обнаружению, проверке и оценке рисков и угроз для здоровья людей с использованием открытых источников.",null,null,null,null,null,null,null,null,{"$f":"INDEX(Backbone!$R$2:$R$893,MATCH(I137,Backbone!$A$2:$A$893,0))","v":"Оборудование или программное обеспечение"},null,null,null,{"$f":"INDEX(Backbone!$S$2:$S$893,MATCH(I137,Backbone!$A$2:$A$893,0))","v":"«Единое здоровье»; универсальный"},null,null,null,{"$f":"INDEX(Backbone!$H$2:$H$893,MATCH(I137,Backbone!$A$2:$A$893,0))","v":8.4},null,{"$f":"INDEX(Backbone!$I$2:$I$893,MATCH(I137,Backbone!$A$2:$A$893,0))","v":9},null,{"$f":"INDEX(Backbone!$J$2:$J$893,MATCH(I137,Backbone!$A$2:$A$893,0))","v":7.4},null,{"$f":"INDEX(Backbone!$K$1:$K$893,MATCH(I137,Backbone!$A$1:$A$893,0))","v":9},null,{"$f":"INDEX(Backbone!$L$2:$L$893,MATCH(I137,Backbone!$A$2:$A$893,0))","v":8.8000000000000007},null,{"$f":"INDEX(Backbone!$M$2:$M$893,MATCH(I137,Backbone!$A$2:$A$893,0))","v":8},null,{"$f":"INDEX(Backbone!$N$2:$N$893,MATCH(I137,Backbone!$A$2:$A$893,0))","v":5.5},null,{"$f":"INDEX(Backbone!$O$2:$O$893,MATCH(I137,Backbone!$A$2:$A$893,0))","v":9.1999999999999993},null,{"$f":"INDEX(Backbone!$P$2:$P$893,MATCH(I137,Backbone!$A$2:$A$893,0))","v":6},null,{"$f":"INDEX(Backbone!$Q$2:$Q$893,MATCH(I137,Backbone!$A$2:$A$893,0))","v":0.79222222222222216},null,null,{"$f":"(AG137*$AG$22+AI137*$AI$22+AK137*$AK$22+AM137*$AM$22+AO137*$AO$22+AQ137*$AQ$22+AS137*$AS$22+AU137*$AU$22+AW137*$AW$22)/(SUM($AG$22:$AW$22)*10)","v":{"$error":"#DIV/0!"}},null,null,"Перейти в Реестр ресурсов: ",null,{"$f":"HYPERLINK(\"#\"&ADDRESS(MATCH(I137,Toolbox!$C$1:$C$300),1,,,\"Toolbox\"),VLOOKUP(I137,Toolbox!$C$1:$C$300,1,FALSE))","v":"Инициатива по выявлению эпидемиологических угроз с использованием открытых источников (EIOS)"}]
[]
[]
[]
[]
[]
[null,null,null,null,null,null,null,null,{"$f":"Backbone!A648","v":"Инструментарий для обеспечения готовности и планирования ответных действий"},null,null,null,null,null,null,"Настоящий инструментарий предназначен для разработки странами их межотраслевых планов по обеспечению готовности и планированию ответных действий в отношении событий общественного здравоохранения. ",null,null,null,null,null,null,null,null,{"$f":"INDEX(Backbone!$R$2:$R$893,MATCH(I143,Backbone!$A$2:$A$893,0))","v":"Руководящий документ"},null,null,null,{"$f":"INDEX(Backbone!$S$2:$S$893,MATCH(I143,Backbone!$A$2:$A$893,0))","v":"«Единое здоровье»; универсальный"},null,null,null,{"$f":"INDEX(Backbone!$H$2:$H$893,MATCH(I143,Backbone!$A$2:$A$893,0))","v":8.4},null,{"$f":"INDEX(Backbone!$I$2:$I$893,MATCH(I143,Backbone!$A$2:$A$893,0))","v":8},null,{"$f":"INDEX(Backbone!$J$2:$J$893,MATCH(I143,Backbone!$A$2:$A$893,0))","v":8.4},null,{"$f":"INDEX(Backbone!$K$1:$K$893,MATCH(I143,Backbone!$A$1:$A$893,0))","v":6.7},null,{"$f":"INDEX(Backbone!$L$2:$L$893,MATCH(I143,Backbone!$A$2:$A$893,0))","v":2},null,{"$f":"INDEX(Backbone!$M$2:$M$893,MATCH(I143,Backbone!$A$2:$A$893,0))","v":3.5},null,{"$f":"INDEX(Backbone!$N$2:$N$893,MATCH(I143,Backbone!$A$2:$A$893,0))","v":4},null,{"$f":"INDEX(Backbone!$O$2:$O$893,MATCH(I143,Backbone!$A$2:$A$893,0))","v":6.4},null,{"$f":"INDEX(Backbone!$P$2:$P$893,MATCH(I143,Backbone!$A$2:$A$893,0))","v":8},null,{"$f":"INDEX(Backbone!$Q$2:$Q$893,MATCH(I143,Backbone!$A$2:$A$893,0))","v":0.61555555555555552},null,null,{"$f":"(AG143*$AG$22+AI143*$AI$22+AK143*$AK$22+AM143*$AM$22+AO143*$AO$22+AQ143*$AQ$22+AS143*$AS$22+AU143*$AU$22+AW143*$AW$22)/(SUM($AG$22:$AW$22)*10)","v":{"$error":"#DIV/0!"}},null,null,"Перейти в Реестр ресурсов: ",null,{"$f":"HYPERLINK(\"#\"&ADDRESS(MATCH(I143,Toolbox!$C$1:$C$300),1,,,\"Toolbox\"),VLOOKUP(I143,Toolbox!$C$1:$C$300,1,FALSE))","v":"Инструментарий для обеспечения готовности и планирования ответных действий"}]
[]
[]
[]
[]
[]
[null,null,null,null,null,null,null,null,{"$f":"Backbone!A604","v":"Приложение для оценки воздействия бешенства и выявления контактных лиц (REACT)"},null,null,null,null,null,null,"Инструмент, помогающий реализации комплексных программ управления случаями укусов (IBCM).",null,null,null,null,null,null,null,null,{"$f":"INDEX(Backbone!$R$2:$R$893,MATCH(I149,Backbone!$A$2:$A$893,0))","v":"Оборудование или программное обеспечение"},null,null,null,{"$f":"INDEX(Backbone!$S$2:$S$893,MATCH(I149,Backbone!$A$2:$A$893,0))","v":"«Единое здоровье»; ориентированный на конкретную болезнь/угрозу "},null,null,null,{"$f":"INDEX(Backbone!$H$2:$H$893,MATCH(I149,Backbone!$A$2:$A$893,0))","v":8.6},null,{"$f":"INDEX(Backbone!$I$2:$I$893,MATCH(I149,Backbone!$A$2:$A$893,0))","v":8.6},null,{"$f":"INDEX(Backbone!$J$2:$J$893,MATCH(I149,Backbone!$A$2:$A$893,0))","v":8},null,{"$f":"INDEX(Backbone!$K$1:$K$893,MATCH(I149,Backbone!$A$1:$A$893,0))","v":8.6},null,{"$f":"INDEX(Backbone!$L$2:$L$893,MATCH(I149,Backbone!$A$2:$A$893,0))","v":9.4},null,{"$f":"INDEX(Backbone!$M$2:$M$893,MATCH(I149,Backbone!$A$2:$A$893,0))","v":9.5},null,{"$f":"INDEX(Backbone!$N$2:$N$893,MATCH(I149,Backbone!$A$2:$A$893,0))","v":9},null,{"$f":"INDEX(Backbone!$O$2:$O$893,MATCH(I149,Backbone!$A$2:$A$893,0))","v":9.1999999999999993},null,{"$f":"INDEX(Backbone!$P$2:$P$893,MATCH(I149,Backbone!$A$2:$A$893,0))","v":9},null,{"$f":"INDEX(Backbone!$Q$2:$Q$893,MATCH(I149,Backbone!$A$2:$A$893,0))","v":0.88777777777777767},null,null,{"$f":"(AG149*$AG$22+AI149*$AI$22+AK149*$AK$22+AM149*$AM$22+AO149*$AO$22+AQ149*$AQ$22+AS149*$AS$22+AU149*$AU$22+AW149*$AW$22)/(SUM($AG$22:$AW$22)*10)","v":{"$error":"#DIV/0!"}},null,null,"Перейти в Реестр ресурсов: ",null,{"$f":"HYPERLINK(\"#\"&ADDRESS(MATCH(I149,Toolbox!$C$1:$C$300),1,,,\"Toolbox\"),VLOOKUP(I149,Toolbox!$C$1:$C$300,1,FALSE))","v":"Приложение для оценки воздействия бешенства и выявления контактных лиц (REACT)"}]
[]
[]
[]
[]
[]
[]
[]
[]
[]
[]
[]
[]
[]
[]
[]
[]
[]
[]
[]
[]
[]
[]
[]
[null,null,null,null,null,null,null,null,null,null,null,null,null,null,null,null,null,null,null,null,null,null,null,null,null,null,null,null,null,null,null,null,"Доступность",null,"Язык",null,"Простота использования",null,"Гибкость",null,"Потребности в данных",null,"Анализ данных",null,"Приемлемость",null,"«Единое здоровье»",null,"Воздействие"]
[]
[]
[]
[]
[]
[]
[null,null,null,null,null,null,null,null,null,null,null,null,null,null,null,null,null,null,null,null,null,null,null,null,null,null,null,null,null,null,null,null,null,null,null,null,null,null,null,null,null,null,null,null,null,null,null,null,null,null,"ИСХОДНАЯ ОЦЕНКА",null,null,"СКОРРЕКТИРОВАННАЯ ОЦЕНКА \n(Исходя из предпочтений пользователей)"]
[]
[]
[]
[null,"РЕСУРСЫ УРОВНЯ 3",null,"КЛАССИФИКАЦИЯ",null,null,null,null,"НАЗВАНИЕ РЕСУРСА",null,null,null,null,null,null,"КРАТКОЕ ОПИСАНИЕ",null,null,null,null,null,null,null,null,"ВИД РЕСУРСА",null,null,null,"ОБЩАЯ НАПРАВЛЕННОСТЬ РЕСУРСА"]
[]
[]
[]
[null,null,null,null,null,null,null,null,null,null,null,null,null,null,null,null,null,null,null,null,null,null,null,null,null,null,null,null,null,null,null,null,{"$f":"'Attribute Survey'!S294","v":0},null,{"$f":"'Attribute Survey'!S298","v":0},null,{"$f":"'Attribute Survey'!S302","v":0},null,{"$f":"'Attribute Survey'!S306","v":0},null,{"$f":"'Attribute Survey'!S310","v":0},null,{"$f":"'Attribute Survey'!S314","v":0},null,{"$f":"'Attribute Survey'!S318","v":0},null,{"$f":"'Attribute Survey'!S322","v":0},null,{"$f":"'Attribute Survey'!S326","v":0}]
[null,null,null,"Наиболее подходящие ресурсы",null,null,null,null,{"$f":"Backbone!A65","v":"Районная информационная система здравоохранения, версия 2 (DHIS2) "},null,null,null,null,null,null,"Онлайн-платформа информационной системы управления в системе здравоохранения с открытым исходным кодом.",null,null,null,null,null,null,null,null,{"$f":"INDEX(Backbone!$R$2:$R$893,MATCH(I189,Backbone!$A$2:$A$893,0))","v":"Оборудование или программное обеспечение"},null,null,null,{"$f":"INDEX(Backbone!$S$2:$S$893,MATCH(I189,Backbone!$A$2:$A$893,0))","v":"Ориентированный на конкретный сектор; универсальный"},null,null,null,{"$f":"INDEX(Backbone!$H$2:$H$893,MATCH(I189,Backbone!$A$2:$A$893,0))","v":8.8000000000000007},null,{"$f":"INDEX(Backbone!$I$2:$I$893,MATCH(I189,Backbone!$A$2:$A$893,0))","v":8.6999999999999993},null,{"$f":"INDEX(Backbone!$J$2:$J$893,MATCH(I189,Backbone!$A$2:$A$893,0))","v":8},null,{"$f":"INDEX(Backbone!$K$2:$K$893,MATCH(I189,Backbone!$A$2:$A$893,0))","v":8.6999999999999993},null,{"$f":"INDEX(Backbone!$L$2:$L$893,MATCH(I189,Backbone!$A$2:$A$893,0))","v":9.3000000000000007},null,{"$f":"INDEX(Backbone!$M$2:$M$893,MATCH(I189,Backbone!$A$2:$A$893,0))","v":9},null,{"$f":"INDEX(Backbone!$N$2:$N$893,MATCH(I189,Backbone!$A$2:$A$893,0))","v":10},null,{"$f":"INDEX(Backbone!$O$2:$O$893,MATCH(I189,Backbone!$A$2:$A$893,0))","v":7.8},null,{"$f":"INDEX(Backbone!$P$2:$P$893,MATCH(I189,Backbone!$A$2:$A$893,0))","v":7},null,{"$f":"INDEX(Backbone!$Q$2:$Q$893,MATCH(I189,Backbone!$A$2:$A$893,0))","v":0.85888888888888881},null,null,{"$f":"(AG189*$AG$22+AI189*$AI$22+AK189*$AK$22+AM189*$AM$22+AO189*$AO$22+AQ189*$AQ$22+AS189*$AS$22+AU189*$AU$22+AW189*$AW$22)/(SUM($AG$22:$AW$22)*10)","v":{"$error":"#DIV/0!"}},null,null,"Перейти в Реестр ресурсов: ",null,{"$f":"HYPERLINK(\"#\"&ADDRESS(MATCH(I189,Toolbox!$C$1:$C$300),1,,,\"Toolbox\"),VLOOKUP(I189,Toolbox!$C$1:$C$300,1,FALSE))","v":"Районная информационная система здравоохранения, версия 2 (DHIS2) "}]
[]
[]
[]
[]
[]
[null,null,null,null,null,null,null,null,{"$f":"Backbone!A138","v":"Электронная интегрированная система эпиднадзора за болезнями (EIDSS)"},null,null,null,null,null,null,"Электронная онлайн-система передачи эпидемиологической информации адаптируется под требования заказчика. Она создана для пассивного и активного эпиднадзора при содействии медицинских и ветеринарных учреждений, для лабораторной диагностики, надзора за переносчиками и управления вспышками заболеваний. ",null,null,null,null,null,null,null,null,{"$f":"INDEX(Backbone!$R$2:$R$893,MATCH(I195,Backbone!$A$2:$A$893,0))","v":"Оборудование или программное обеспечение"},null,null,null,{"$f":"INDEX(Backbone!$S$2:$S$893,MATCH(I195,Backbone!$A$2:$A$893,0))","v":"«Единое здоровье»; универсальный"},null,null,null,{"$f":"INDEX(Backbone!$H$2:$H$893,MATCH(I195,Backbone!$A$2:$A$893,0))","v":6.8},null,{"$f":"INDEX(Backbone!$I$2:$I$893,MATCH(I195,Backbone!$A$2:$A$893,0))","v":10},null,{"$f":"INDEX(Backbone!$J$2:$J$893,MATCH(I195,Backbone!$A$2:$A$893,0))","v":8.4},null,{"$f":"INDEX(Backbone!$K$2:$K$893,MATCH(I195,Backbone!$A$2:$A$893,0))","v":8.6999999999999993},null,{"$f":"INDEX(Backbone!$L$2:$L$893,MATCH(I195,Backbone!$A$2:$A$893,0))","v":9.1},null,{"$f":"INDEX(Backbone!$M$2:$M$893,MATCH(I195,Backbone!$A$2:$A$893,0))","v":8},null,{"$f":"INDEX(Backbone!$N$2:$N$893,MATCH(I195,Backbone!$A$2:$A$893,0))","v":7},null,{"$f":"INDEX(Backbone!$O$2:$O$893,MATCH(I195,Backbone!$A$2:$A$893,0))","v":7.2},null,{"$f":"INDEX(Backbone!$P$2:$P$893,MATCH(I195,Backbone!$A$2:$A$893,0))","v":10},null,{"$f":"INDEX(Backbone!$Q$2:$Q$893,MATCH(I195,Backbone!$A$2:$A$893,0))","v":0.83555555555555561},null,null,{"$f":"(AG195*$AG$22+AI195*$AI$22+AK195*$AK$22+AM195*$AM$22+AO195*$AO$22+AQ195*$AQ$22+AS195*$AS$22+AU195*$AU$22+AW195*$AW$22)/(SUM($AG$22:$AW$22)*10)","v":{"$error":"#DIV/0!"}},null,null,"Перейти в Реестр ресурсов: ",null,{"$f":"HYPERLINK(\"#\"&ADDRESS(MATCH(I195,Toolbox!$C$1:$C$300),1,,,\"Toolbox\"),VLOOKUP(I195,Toolbox!$C$1:$C$300,1,FALSE))","v":"Электронная интегрированная система эпиднадзора за болезнями (EIDSS)"}]
[]
[]
[]
[]
[]
[null,null,null,null,null,null,null,null,{"$f":"Backbone!A489","v":"Пакет программного обеспечения для проведения автоматического глобального электронного биомониторинга (SAGES)"},null,null,null,null,null,null,"Пакет программного обеспечения с открытым исходным кодом для улучшения электронного эпиднадзора в условиях ограниченных ресурсов.",null,null,null,null,null,null,null,null,{"$f":"INDEX(Backbone!$R$2:$R$893,MATCH(I201,Backbone!$A$2:$A$893,0))","v":"Оборудование или программное обеспечение"},null,null,null,{"$f":"INDEX(Backbone!$S$2:$S$893,MATCH(I201,Backbone!$A$2:$A$893,0))","v":"«Единое здоровье»; универсальный"},null,null,null,{"$f":"INDEX(Backbone!$H$2:$H$893,MATCH(I201,Backbone!$A$2:$A$893,0))","v":9.8000000000000007},null,{"$f":"INDEX(Backbone!$I$2:$I$893,MATCH(I201,Backbone!$A$2:$A$893,0))","v":10},null,{"$f":"INDEX(Backbone!$J$2:$J$893,MATCH(I201,Backbone!$A$2:$A$893,0))","v":10},null,{"$f":"INDEX(Backbone!$K$1:$K$893,MATCH(I201,Backbone!$A$1:$A$893,0))","v":9.3000000000000007},null,{"$f":"INDEX(Backbone!$L$2:$L$893,MATCH(I201,Backbone!$A$2:$A$893,0))","v":8.5},null,{"$f":"INDEX(Backbone!$M$2:$M$893,MATCH(I201,Backbone!$A$2:$A$893,0))","v":9},null,{"$f":"INDEX(Backbone!$N$2:$N$893,MATCH(I201,Backbone!$A$2:$A$893,0))","v":5.5},null,{"$f":"INDEX(Backbone!$O$2:$O$893,MATCH(I201,Backbone!$A$2:$A$893,0))","v":9.5},null,{"$f":"INDEX(Backbone!$P$2:$P$893,MATCH(I201,Backbone!$A$2:$A$893,0))","v":7},null,{"$f":"INDEX(Backbone!$Q$2:$Q$893,MATCH(I201,Backbone!$A$2:$A$893,0))","v":0.87333333333333329},null,null,{"$f":"(AG201*$AG$22+AI201*$AI$22+AK201*$AK$22+AM201*$AM$22+AO201*$AO$22+AQ201*$AQ$22+AS201*$AS$22+AU201*$AU$22+AW201*$AW$22)/(SUM($AG$22:$AW$22)*10)","v":{"$error":"#DIV/0!"}},null,null,"Перейти в Реестр ресурсов: ",null,{"$f":"HYPERLINK(\"#\"&ADDRESS(MATCH(I201,Toolbox!$C$1:$C$300),1,,,\"Toolbox\"),VLOOKUP(I201,Toolbox!$C$1:$C$300,1,FALSE))","v":"Пакет программного обеспечения для проведения автоматического глобального электронного биомониторинга (SAGES)"}]
[]
[]
[]
[]
[]
[]
[null,null,null,"Другие полезные ресурсы",null,null,null,null,{"$f":"Backbone!A155","v":"Инициатива по выявлению эпидемиологических угроз с использованием открытых источников (EIOS)"},null,null,null,null,null,null,"Инициатива EIOS — это уникальное сотрудничество между ВОЗ и различными заинтересованными сторонами, объединяющее новые и существующие инициативы, сети и системы для создания унифицированного подхода «Единое здоровье», учитывающего все угрозы, к раннему обнаружению, проверке и оценке рисков и угроз для здоровья людей с использованием открытых источников.",null,null,null,null,null,null,null,null,{"$f":"INDEX(Backbone!$R$2:$R$893,MATCH(I208,Backbone!$A$2:$A$893,0))","v":"Оборудование или программное обеспечение"},null,null,null,{"$f":"INDEX(Backbone!$S$2:$S$893,MATCH(I208,Backbone!$A$2:$A$893,0))","v":"«Единое здоровье»; универсальный"},null,null,null,{"$f":"INDEX(Backbone!$H$2:$H$893,MATCH(I208,Backbone!$A$2:$A$893,0))","v":8.4},null,{"$f":"INDEX(Backbone!$I$2:$I$893,MATCH(I208,Backbone!$A$2:$A$893,0))","v":9},null,{"$f":"INDEX(Backbone!$J$2:$J$893,MATCH(I208,Backbone!$A$2:$A$893,0))","v":7.4},null,{"$f":"INDEX(Backbone!$K$1:$K$893,MATCH(I208,Backbone!$A$1:$A$893,0))","v":9},null,{"$f":"INDEX(Backbone!$L$2:$L$893,MATCH(I208,Backbone!$A$2:$A$893,0))","v":8.8000000000000007},null,{"$f":"INDEX(Backbone!$M$2:$M$893,MATCH(I208,Backbone!$A$2:$A$893,0))","v":8},null,{"$f":"INDEX(Backbone!$N$2:$N$893,MATCH(I208,Backbone!$A$2:$A$893,0))","v":5.5},null,{"$f":"INDEX(Backbone!$O$2:$O$893,MATCH(I208,Backbone!$A$2:$A$893,0))","v":9.1999999999999993},null,{"$f":"INDEX(Backbone!$P$2:$P$893,MATCH(I208,Backbone!$A$2:$A$893,0))","v":6},null,{"$f":"INDEX(Backbone!$Q$2:$Q$893,MATCH(I208,Backbone!$A$2:$A$893,0))","v":0.79222222222222216},null,null,{"$f":"(AG208*$AG$22+AI208*$AI$22+AK208*$AK$22+AM208*$AM$22+AO208*$AO$22+AQ208*$AQ$22+AS208*$AS$22+AU208*$AU$22+AW208*$AW$22)/(SUM($AG$22:$AW$22)*10)","v":{"$error":"#DIV/0!"}},null,null,"Перейти в Реестр ресурсов: ",null,{"$f":"HYPERLINK(\"#\"&ADDRESS(MATCH(I208,Toolbox!$C$1:$C$300),1,,,\"Toolbox\"),VLOOKUP(I208,Toolbox!$C$1:$C$300,1,FALSE))","v":"Инициатива по выявлению эпидемиологических угроз с использованием открытых источников (EIOS)"}]
[]
[]
[]
[]
[]
[null,null,null,null,null,null,null,null,{"$f":"Backbone!A648","v":"Инструментарий для обеспечения готовности и планирования ответных действий"},null,null,null,null,null,null,"Настоящий инструментарий предназначен для разработки странами их межотраслевых планов по обеспечению готовности и планированию ответных действий в отношении событий общественного здравоохранения. ",null,null,null,null,null,null,null,null,{"$f":"INDEX(Backbone!$R$2:$R$893,MATCH(I214,Backbone!$A$2:$A$893,0))","v":"Руководящий документ"},null,null,null,{"$f":"INDEX(Backbone!$S$2:$S$893,MATCH(I214,Backbone!$A$2:$A$893,0))","v":"«Единое здоровье»; универсальный"},null,null,null,{"$f":"INDEX(Backbone!$H$2:$H$893,MATCH(I214,Backbone!$A$2:$A$893,0))","v":8.4},null,{"$f":"INDEX(Backbone!$I$2:$I$893,MATCH(I214,Backbone!$A$2:$A$893,0))","v":8},null,{"$f":"INDEX(Backbone!$J$2:$J$893,MATCH(I214,Backbone!$A$2:$A$893,0))","v":8.4},null,{"$f":"INDEX(Backbone!$K$1:$K$893,MATCH(I214,Backbone!$A$1:$A$893,0))","v":6.7},null,{"$f":"INDEX(Backbone!$L$2:$L$893,MATCH(I214,Backbone!$A$2:$A$893,0))","v":2},null,{"$f":"INDEX(Backbone!$M$2:$M$893,MATCH(I214,Backbone!$A$2:$A$893,0))","v":3.5},null,{"$f":"INDEX(Backbone!$N$2:$N$893,MATCH(I214,Backbone!$A$2:$A$893,0))","v":4},null,{"$f":"INDEX(Backbone!$O$2:$O$893,MATCH(I214,Backbone!$A$2:$A$893,0))","v":6.4},null,{"$f":"INDEX(Backbone!$P$2:$P$893,MATCH(I214,Backbone!$A$2:$A$893,0))","v":8},null,{"$f":"INDEX(Backbone!$Q$2:$Q$893,MATCH(I214,Backbone!$A$2:$A$893,0))","v":0.61555555555555552},null,null,{"$f":"(AG214*$AG$22+AI214*$AI$22+AK214*$AK$22+AM214*$AM$22+AO214*$AO$22+AQ214*$AQ$22+AS214*$AS$22+AU214*$AU$22+AW214*$AW$22)/(SUM($AG$22:$AW$22)*10)","v":{"$error":"#DIV/0!"}},null,null,"Перейти в Реестр ресурсов: ",null,{"$f":"HYPERLINK(\"#\"&ADDRESS(MATCH(I214,Toolbox!$C$1:$C$300),1,,,\"Toolbox\"),VLOOKUP(I214,Toolbox!$C$1:$C$300,1,FALSE))","v":"Инструментарий для обеспечения готовности и планирования ответных действий"}]
[]
[]
[]
[]
[]
[null,null,null,null,null,null,null,null,{"$f":"Backbone!A604","v":"Приложение для оценки воздействия бешенства и выявления контактных лиц (REACT)"},null,null,null,null,null,null,"Инструмент, помогающий реализации комплексных программ управления случаями укусов (IBCM).",null,null,null,null,null,null,null,null,{"$f":"INDEX(Backbone!$R$2:$R$893,MATCH(I220,Backbone!$A$2:$A$893,0))","v":"Оборудование или программное обеспечение"},null,null,null,{"$f":"INDEX(Backbone!$S$2:$S$893,MATCH(I220,Backbone!$A$2:$A$893,0))","v":"«Единое здоровье»; ориентированный на конкретную болезнь/угрозу "},null,null,null,{"$f":"INDEX(Backbone!$H$2:$H$893,MATCH(I220,Backbone!$A$2:$A$893,0))","v":8.6},null,{"$f":"INDEX(Backbone!$I$2:$I$893,MATCH(I220,Backbone!$A$2:$A$893,0))","v":8.6},null,{"$f":"INDEX(Backbone!$J$2:$J$893,MATCH(I220,Backbone!$A$2:$A$893,0))","v":8},null,{"$f":"INDEX(Backbone!$K$1:$K$893,MATCH(I220,Backbone!$A$1:$A$893,0))","v":8.6},null,{"$f":"INDEX(Backbone!$L$2:$L$893,MATCH(I220,Backbone!$A$2:$A$893,0))","v":9.4},null,{"$f":"INDEX(Backbone!$M$2:$M$893,MATCH(I220,Backbone!$A$2:$A$893,0))","v":9.5},null,{"$f":"INDEX(Backbone!$N$2:$N$893,MATCH(I220,Backbone!$A$2:$A$893,0))","v":9},null,{"$f":"INDEX(Backbone!$O$2:$O$893,MATCH(I220,Backbone!$A$2:$A$893,0))","v":9.1999999999999993},null,{"$f":"INDEX(Backbone!$P$2:$P$893,MATCH(I220,Backbone!$A$2:$A$893,0))","v":9},null,{"$f":"INDEX(Backbone!$Q$2:$Q$893,MATCH(I220,Backbone!$A$2:$A$893,0))","v":0.88777777777777767},null,null,{"$f":"(AG220*$AG$22+AI220*$AI$22+AK220*$AK$22+AM220*$AM$22+AO220*$AO$22+AQ220*$AQ$22+AS220*$AS$22+AU220*$AU$22+AW220*$AW$22)/(SUM($AG$22:$AW$22)*10)","v":{"$error":"#DIV/0!"}},null,null,"Перейти в Реестр ресурсов: ",null,{"$f":"HYPERLINK(\"#\"&ADDRESS(MATCH(I220,Toolbox!$C$1:$C$300),1,,,\"Toolbox\"),VLOOKUP(I220,Toolbox!$C$1:$C$300,1,FALSE))","v":"Приложение для оценки воздействия бешенства и выявления контактных лиц (REACT)"}]

{"sheet":"I8_tools","index":53,"n_rows":166,"n_cols":59,"rows_kept":166,"cut":false,"hidden":false,"merged":[[146,1,170,1],[165,53,169,54],[165,40,169,40],[165,42,169,42],[165,44,169,44],[165,46,169,46],[165,48,169,48],[165,50,169,51],[159,50,163,51],[159,53,163,54],[165,8,169,13],[165,15,169,22],[165,24,169,26],[165,28,169,30],[165,32,169,32],[165,34,169,34],[165,36,169,36],[165,38,169,38],[159,38,163,38],[159,40,163,40],[159,42,163,42],[159,44,163,44],[159,46,163,46],[159,48,163,48],[159,3,169,6],[159,8,163,13],[159,15,163,22],[159,24,163,26],[159,28,163,30],[159,32,163,32],[159,34,163,34],[159,36,163,36],[152,46,156,46],[152,3,156,6],[152,8,156,13],[152,15,156,22],[152,24,156,26],[152,28,156,30],[152,32,156,32],[152,48,156,48],[152,50,156,51],[152,53,156,54],[152,34,156,34],[152,36,156,36],[152,38,156,38],[152,40,156,40],[152,42,156,42],[152,44,156,44],[136,46,150,46],[136,48,150,48],[143,50,150,51],[143,53,150,54],[147,3,150,6],[147,8,150,13],[147,15,150,22],[147,24,150,26],[147,28,150,30],[136,32,150,32],[136,34,150,34],[136,36,150,36],[136,38,150,38],[136,40,150,40],[136,42,150,42],[136,44,150,44],[112,40,116,40],[112,42,116,42],[112,44,116,44],[106,53,110,54],[106,40,110,40],[106,42,110,42],[106,44,110,44],[106,46,110,46],[106,48,110,48],[106,50,110,51],[112,48,116,48],[112,50,116,51],[112,53,116,54],[112,46,116,46],[106,3,116,6],[106,8,110,13],[106,15,110,22],[106,24,110,26],[106,28,110,30],[106,32,110,32],[106,34,110,34],[106,36,110,36],[106,38,110,38],[112,8,116,13],[112,15,116,22],[112,24,116,26],[112,28,116,30],[112,32,116,32],[112,34,116,34],[112,36,116,36],[112,38,116,38],[99,50,103,51],[99,53,103,54],[99,38,103,38],[99,40,103,40],[99,42,103,42],[99,44,103,44],[99,46,103,46],[99,48,103,48],[99,8,103,13],[99,15,103,22],[99,24,103,26],[99,28,103,30],[99,32,103,32],[99,34,103,34],[99,36,103,36],[93,48,97,48],[93,50,97,51],[93,53,97,54],[93,34,97,34],[93,36,97,36],[93,38,97,38],[93,40,97,40],[93,42,97,42],[93,44,97,44],[77,48,91,48],[84,50,91,51],[84,53,91,54],[88,1,116,1],[88,3,91,6],[88,8,91,13],[88,15,91,22],[88,24,91,26],[77,32,91,32],[77,34,91,34],[77,36,91,36],[77,38,91,38],[77,40,91,40],[77,42,91,42],[93,8,97,13],[93,15,97,22],[93,24,97,26],[93,28,97,30],[93,32,97,32],[88,28,91,30],[93,3,103,6],[77,44,91,44],[77,46,91,46],[93,46,97,46],[53,50,57,51],[53,53,57,54],[47,53,51,54],[53,8,57,13],[53,15,57,22],[53,24,57,26],[53,28,57,30],[53,32,57,32],[53,34,57,34],[53,36,57,36],[53,38,57,38],[53,40,57,40],[47,40,51,40],[47,42,51,42],[47,44,51,44],[47,46,51,46],[47,48,51,48],[47,50,51,51],[41,50,45,51],[41,53,45,54],[47,8,51,13],[47,15,51,22],[47,24,51,26],[47,28,51,30],[47,32,51,32],[47,34,51,34],[47,36,51,36],[47,38,51,38],[41,38,45,38],[41,40,45,40],[41,42,45,42],[41,44,45,44],[41,46,45,46],[41,48,45,48],[41,3,57,6],[41,8,45,13],[41,15,45,22],[41,24,45,26],[41,28,45,30],[41,32,45,32],[41,34,45,34],[41,36,45,36],[34,48,38,48],[53,42,57,42],[53,44,57,44],[53,46,57,46],[53,48,57,48],[34,50,38,51],[34,53,38,54],[34,36,38,36],[34,38,38,38],[34,40,38,40],[34,42,38,42],[34,44,38,44],[34,46,38,46],[34,8,38,13],[34,15,38,22],[34,24,38,26],[34,28,38,30],[34,32,38,32],[34,34,38,34],[28,53,32,54],[28,40,32,40],[28,42,32,42],[28,44,32,44],[28,46,32,46],[28,48,32,48],[28,50,32,51],[22,50,26,51],[22,53,26,54],[22,40,26,40],[22,42,26,42],[22,44,26,44],[22,46,26,46],[22,48,26,48],[28,34,32,34],[28,36,32,36],[28,38,32,38],[22,38,26,38],[22,15,26,22],[22,24,26,26],[22,28,26,30],[22,32,26,32],[22,34,26,34],[22,36,26,36],[17,24,20,26],[17,28,20,30],[22,3,38,6],[22,8,26,13],[28,8,32,13],[28,15,32,22],[28,24,32,26],[28,28,32,30],[28,32,32,32],[1,1,3,62],[22,56,26,57],[22,58,26,62],[28,56,32,57],[28,58,32,62],[34,56,38,57],[34,58,38,62],[41,56,45,57],[41,58,45,62],[6,32,20,32],[6,34,20,34],[6,36,20,36],[6,38,20,38],[6,40,20,40],[6,42,20,42],[6,44,20,44],[6,46,20,46],[6,48,20,48],[13,50,20,51],[13,53,20,54],[17,1,57,1],[17,3,20,6],[17,8,20,13],[17,15,20,22],[112,56,116,57],[112,58,116,62],[152,56,156,57],[152,58,156,62],[159,56,163,57],[159,58,163,62],[165,56,169,57],[165,58,169,62],[47,56,51,57],[47,58,51,62],[53,56,57,57],[53,58,57,62],[93,56,97,57],[93,58,97,62],[99,56,103,57],[99,58,103,62],[106,56,110,57],[106,58,110,62]]}
[]
[null,"Ресурсы по коммуникации и использованию данных"]
[]
[]
[]
[]
[null,null,null,null,null,null,null,null,null,null,null,null,null,null,null,null,null,null,null,null,null,null,null,null,null,null,null,null,null,null,null,null,"Доступность",null,"Язык",null,"Простота использования",null,"Гибкость",null,"Потребности в данных",null,"Анализ данных",null,"Приемлемость",null,"«Единое здоровье»",null,"Воздействие"]
[]
[]
[]
[]
[]
[]
[null,null,null,null,null,null,null,null,null,null,null,null,null,null,null,null,null,null,null,null,null,null,null,null,null,null,null,null,null,null,null,null,null,null,null,null,null,null,null,null,null,null,null,null,null,null,null,null,null,null,"ИСХОДНАЯ ОЦЕНКА",null,null,"СКОРРЕКТИРОВАННАЯ ОЦЕНКА \n(Исходя из предпочтений пользователей)"]
[]
[]
[]
[null,"РЕСУРСЫ УРОВНЯ 1",null,"КЛАССИФИКАЦИЯ",null,null,null,null,"НАЗВАНИЕ РЕСУРСА",null,null,null,null,null,null,"КРАТКОЕ ОПИСАНИЕ",null,null,null,null,null,null,null,null,"ВИД РЕСУРСА",null,null,null,"ОБЩАЯ НАПРАВЛЕННОСТЬ РЕСУРСА"]
[]
[]
[]
[null,null,null,null,null,null,null,null,null,null,null,null,null,null,null,null,null,null,null,null,null,null,null,null,null,null,null,null,null,null,null,null,{"$f":"'Attribute Survey'!S22","v":0},null,{"$f":"'Attribute Survey'!S26","v":0},null,{"$f":"'Attribute Survey'!S30","v":0},null,{"$f":"'Attribute Survey'!S34","v":0},null,{"$f":"'Attribute Survey'!S38","v":0},null,{"$f":"'Attribute Survey'!S42","v":0},null,{"$f":"'Attribute Survey'!S46","v":0},null,{"$f":"'Attribute Survey'!S50","v":0},null,{"$f":"'Attribute Survey'!S54","v":0}]
[null,null,null,"Наиболее подходящие ресурсы",null,null,null,null,{"$f":"Backbone!A21","v":"Инструмент AfyaData"},null,null,null,null,null,null,"Инструмент эпиднадзора, основанный на концепции «Единое здоровье» и разработанный для эпиднадзора в области здравоохранения человека, охраны здоровья животных и окружающей среды. Доступен в виде мобильного и веб-приложения.",null,null,null,null,null,null,null,null,{"$f":"INDEX(Backbone!$R$2:$R$893,MATCH(I23,Backbone!$A$2:$A$893,0))","v":"Оборудование или программное обеспечение"},null,null,null,{"$f":"INDEX(Backbone!$S$2:$S$893,MATCH(I23,Backbone!$A$2:$A$893,0))","v":"«Единое здоровье»; универсальный "},null,null,null,{"$f":"INDEX(Backbone!$H$2:$H$893,MATCH(I23,Backbone!$A$2:$A$893,0))","v":7.3},null,{"$f":"INDEX(Backbone!$I$2:$I$893,MATCH(I23,Backbone!$A$2:$A$893,0))","v":10},null,{"$f":"INDEX(Backbone!$J$2:$J$893,MATCH(I23,Backbone!$A$2:$A$893,0))","v":8.1999999999999993},null,{"$f":"INDEX(Backbone!$K$2:$K$893,MATCH(I23,Backbone!$A$2:$A$893,0))","v":7.3},null,{"$f":"INDEX(Backbone!$L$2:$L$893,MATCH(I23,Backbone!$A$2:$A$893,0))","v":7.6},null,{"$f":"INDEX(Backbone!$M$2:$M$893,MATCH(I23,Backbone!$A$2:$A$893,0))","v":8.8000000000000007},null,{"$f":"INDEX(Backbone!$N$2:$N$893,MATCH(I23,Backbone!$A$2:$A$893,0))","v":5.5},null,{"$f":"INDEX(Backbone!$O$2:$O$893,MATCH(I23,Backbone!$A$2:$A$893,0))","v":7.6},null,{"$f":"INDEX(Backbone!$P$2:$P$893,MATCH(I23,Backbone!$A$2:$A$893,0))","v":7},null,{"$f":"INDEX(Backbone!$Q$2:$Q$893,MATCH(I23,Backbone!$A$2:$A$893,0))","v":0.77000000000000013},null,null,{"$f":"(AG23*$AG$22+AI23*$AI$22+AK23*$AK$22+AM23*$AM$22+AO23*$AO$22+AQ23*$AQ$22+AS23*$AS$22+AU23*$AU$22+AW23*$AW$22)/(SUM($AG$22:$AW$22)*10)","v":{"$error":"#DIV/0!"}},null,null,"Перейти в Реестр ресурсов: ",null,{"$f":"HYPERLINK(\"#\"&ADDRESS(MATCH(I23,Toolbox!$C$1:$C$300),1,,,\"Toolbox\"),VLOOKUP(I23,Toolbox!$C$1:$C$300,1,FALSE))","v":"Инструмент AfyaData"}]
[]
[]
[]
[]
[]
[null,null,null,null,null,null,null,null,{"$f":"Backbone!A65","v":"Районная информационная система здравоохранения, версия 2 (DHIS2) "},null,null,null,null,null,null,"Онлайн-платформа информационной системы управления в системе здравоохранения с открытым исходным кодом.",null,null,null,null,null,null,null,null,{"$f":"INDEX(Backbone!$R$2:$R$893,MATCH(I29,Backbone!$A$2:$A$893,0))","v":"Оборудование или программное обеспечение"},null,null,null,{"$f":"INDEX(Backbone!$S$2:$S$893,MATCH(I29,Backbone!$A$2:$A$893,0))","v":"Ориентированный на конкретный сектор; универсальный"},null,null,null,{"$f":"INDEX(Backbone!$H$2:$H$893,MATCH(I29,Backbone!$A$2:$A$893,0))","v":8.8000000000000007},null,{"$f":"INDEX(Backbone!$I$2:$I$893,MATCH(I29,Backbone!$A$2:$A$893,0))","v":8.6999999999999993},null,{"$f":"INDEX(Backbone!$J$2:$J$893,MATCH(I29,Backbone!$A$2:$A$893,0))","v":8},null,{"$f":"INDEX(Backbone!$K$2:$K$893,MATCH(I29,Backbone!$A$2:$A$893,0))","v":8.6999999999999993},null,{"$f":"INDEX(Backbone!$L$2:$L$893,MATCH(I29,Backbone!$A$2:$A$893,0))","v":9.3000000000000007},null,{"$f":"INDEX(Backbone!$M$2:$M$893,MATCH(I29,Backbone!$A$2:$A$893,0))","v":9},null,{"$f":"INDEX(Backbone!$N$2:$N$893,MATCH(I29,Backbone!$A$2:$A$893,0))","v":10},null,{"$f":"INDEX(Backbone!$O$2:$O$893,MATCH(I29,Backbone!$A$2:$A$893,0))","v":7.8},null,{"$f":"INDEX(Backbone!$P$2:$P$893,MATCH(I29,Backbone!$A$2:$A$893,0))","v":7},null,{"$f":"INDEX(Backbone!$Q$2:$Q$893,MATCH(I29,Backbone!$A$2:$A$893,0))","v":0.85888888888888881},null,null,{"$f":"(AG29*$AG$22+AI29*$AI$22+AK29*$AK$22+AM29*$AM$22+AO29*$AO$22+AQ29*$AQ$22+AS29*$AS$22+AU29*$AU$22+AW29*$AW$22)/(SUM($AG$22:$AW$22)*10)","v":{"$error":"#DIV/0!"}},null,null,"Перейти в Реестр ресурсов: ",null,{"$f":"HYPERLINK(\"#\"&ADDRESS(MATCH(I29,Toolbox!$C$1:$C$300),1,,,\"Toolbox\"),VLOOKUP(I29,Toolbox!$C$1:$C$300,1,FALSE))","v":"Районная информационная система здравоохранения, версия 2 (DHIS2) "}]
[]
[]
[]
[]
[]
[null,null,null,null,null,null,null,null,{"$f":"Backbone!A195","v":"Комплексная система эпиднадзора и мер реагирования (IDSR)"},null,null,null,null,null,null,"Стратегия, разработанная с целью укрепить потенциал стран для выявления и подтверждения предполагаемых случаев заболевания и вспышек и реагирования на них, а также для использования информации для прогнозирования событий в области общественного здравоохранения и планирования мер реагирования на них.",null,null,null,null,null,null,null,null,{"$f":"INDEX(Backbone!$R$2:$R$893,MATCH(I35,Backbone!$A$2:$A$893,0))","v":"Руководящий документ"},null,null,null,{"$f":"INDEX(Backbone!$S$2:$S$893,MATCH(I35,Backbone!$A$2:$A$893,0))","v":"Ориентированный на конкретный сектор; универсальный"},null,null,null,{"$f":"INDEX(Backbone!$H$2:$H$893,MATCH(I35,Backbone!$A$2:$A$893,0))","v":7.4},null,{"$f":"INDEX(Backbone!$I$2:$I$893,MATCH(I35,Backbone!$A$2:$A$893,0))","v":10},null,{"$f":"INDEX(Backbone!$J$2:$J$893,MATCH(I35,Backbone!$A$2:$A$893,0))","v":7.4},null,{"$f":"INDEX(Backbone!$K$1:$K$893,MATCH(I35,Backbone!$A$1:$A$893,0))","v":8.6999999999999993},null,{"$f":"INDEX(Backbone!$L$2:$L$893,MATCH(I35,Backbone!$A$2:$A$893,0))","v":6.7},null,{"$f":"INDEX(Backbone!$M$2:$M$893,MATCH(I35,Backbone!$A$2:$A$893,0))","v":4.5},null,{"$f":"INDEX(Backbone!$N$2:$N$893,MATCH(I35,Backbone!$A$2:$A$893,0))","v":8},null,{"$f":"INDEX(Backbone!$O$2:$O$893,MATCH(I35,Backbone!$A$2:$A$893,0))","v":7.2},null,{"$f":"INDEX(Backbone!$P$2:$P$893,MATCH(I35,Backbone!$A$2:$A$893,0))","v":8.5},null,{"$f":"INDEX(Backbone!$Q$2:$Q$893,MATCH(I35,Backbone!$A$2:$A$893,0))","v":0.76},null,null,{"$f":"(AG35*$AG$22+AI35*$AI$22+AK35*$AK$22+AM35*$AM$22+AO35*$AO$22+AQ35*$AQ$22+AS35*$AS$22+AU35*$AU$22+AW35*$AW$22)/(SUM($AG$22:$AW$22)*10)","v":{"$error":"#DIV/0!"}},null,null,"Перейти в Реестр ресурсов: ",null,{"$f":"HYPERLINK(\"#\"&ADDRESS(MATCH(I35,Toolbox!$C$1:$C$300),1,,,\"Toolbox\"),VLOOKUP(I35,Toolbox!$C$1:$C$300,1,FALSE))","v":"Комплексная система эпиднадзора и мер реагирования (IDSR)"}]
[]
[]
[]
[]
[]
[]
[null,null,null,"Другие полезные ресурсы",null,null,null,null,{"$f":"Backbone!A155","v":"Инициатива по выявлению эпидемиологических угроз с использованием открытых источников (EIOS)"},null,null,null,null,null,null,"Инициатива EIOS — это уникальное сотрудничество между ВОЗ и различными заинтересованными сторонами, объединяющее новые и существующие инициативы, сети и системы для создания унифицированного подхода «Единое здоровье», учитывающего все угрозы, к раннему обнаружению, проверке и оценке рисков и угроз для здоровья людей с использованием открытых источников.",null,null,null,null,null,null,null,null,{"$f":"INDEX(Backbone!$R$2:$R$893,MATCH(I42,Backbone!$A$2:$A$893,0))","v":"Оборудование или программное обеспечение"},null,null,null,{"$f":"INDEX(Backbone!$S$2:$S$893,MATCH(I42,Backbone!$A$2:$A$893,0))","v":"«Единое здоровье»; универсальный"},null,null,null,{"$f":"INDEX(Backbone!$H$2:$H$893,MATCH(I42,Backbone!$A$2:$A$893,0))","v":8.4},null,{"$f":"INDEX(Backbone!$I$2:$I$893,MATCH(I42,Backbone!$A$2:$A$893,0))","v":9},null,{"$f":"INDEX(Backbone!$J$2:$J$893,MATCH(I42,Backbone!$A$2:$A$893,0))","v":7.4},null,{"$f":"INDEX(Backbone!$K$1:$K$893,MATCH(I42,Backbone!$A$1:$A$893,0))","v":9},null,{"$f":"INDEX(Backbone!$L$2:$L$893,MATCH(I42,Backbone!$A$2:$A$893,0))","v":8.8000000000000007},null,{"$f":"INDEX(Backbone!$M$2:$M$893,MATCH(I42,Backbone!$A$2:$A$893,0))","v":8},null,{"$f":"INDEX(Backbone!$N$2:$N$893,MATCH(I42,Backbone!$A$2:$A$893,0))","v":5.5},null,{"$f":"INDEX(Backbone!$O$2:$O$893,MATCH(I42,Backbone!$A$2:$A$893,0))","v":9.1999999999999993},null,{"$f":"INDEX(Backbone!$P$2:$P$893,MATCH(I42,Backbone!$A$2:$A$893,0))","v":6},null,{"$f":"INDEX(Backbone!$Q$2:$Q$893,MATCH(I42,Backbone!$A$2:$A$893,0))","v":0.79222222222222216},null,null,{"$f":"(AG42*$AG$22+AI42*$AI$22+AK42*$AK$22+AM42*$AM$22+AO42*$AO$22+AQ42*$AQ$22+AS42*$AS$22+AU42*$AU$22+AW42*$AW$22)/(SUM($AG$22:$AW$22)*10)","v":{"$error":"#DIV/0!"}},null,null,"Перейти в Реестр ресурсов: ",null,{"$f":"HYPERLINK(\"#\"&ADDRESS(MATCH(I42,Toolbox!$C$1:$C$300),1,,,\"Toolbox\"),VLOOKUP(I42,Toolbox!$C$1:$C$300,1,FALSE))","v":"Инициатива по выявлению эпидемиологических угроз с использованием открытых источников (EIOS)"}]
[]
[]
[]
[]
[]
[null,null,null,null,null,null,null,null,{"$f":"Backbone!A166","v":"Глобальная информационная система болезней животных (EMPRES-i)"},null,null,null,null,null,null,"Защищенная информационная онлайн-система, созданная в помощь национальным ветеринарным службам. Она обеспечивает сбор глобальных и региональных данных о заболеваниях и является глобальной справочной базой данных о болезнях животных, включая зоонозы.",null,null,null,null,null,null,null,null,{"$f":"INDEX(Backbone!$R$2:$R$893,MATCH(I48,Backbone!$A$2:$A$893,0))","v":"Оборудование или программное обеспечение"},null,null,null,{"$f":"INDEX(Backbone!$S$2:$S$893,MATCH(I48,Backbone!$A$2:$A$893,0))","v":"Ориентированный на конкретный сектор; универсальный"},null,null,null,{"$f":"INDEX(Backbone!$H$2:$H$893,MATCH(I48,Backbone!$A$2:$A$893,0))","v":9},null,{"$f":"INDEX(Backbone!$I$2:$I$893,MATCH(I48,Backbone!$A$2:$A$893,0))","v":8.3000000000000007},null,{"$f":"INDEX(Backbone!$J$2:$J$893,MATCH(I48,Backbone!$A$2:$A$893,0))","v":8.9},null,{"$f":"INDEX(Backbone!$K$1:$K$893,MATCH(I48,Backbone!$A$1:$A$893,0))","v":8.6999999999999993},null,{"$f":"INDEX(Backbone!$L$2:$L$893,MATCH(I48,Backbone!$A$2:$A$893,0))","v":8},null,{"$f":"INDEX(Backbone!$M$2:$M$893,MATCH(I48,Backbone!$A$2:$A$893,0))","v":7.8},null,{"$f":"INDEX(Backbone!$N$2:$N$893,MATCH(I48,Backbone!$A$2:$A$893,0))","v":7.4},null,{"$f":"INDEX(Backbone!$O$2:$O$893,MATCH(I48,Backbone!$A$2:$A$893,0))","v":4.8},null,{"$f":"INDEX(Backbone!$P$2:$P$893,MATCH(I48,Backbone!$A$2:$A$893,0))","v":4.7},null,{"$f":"INDEX(Backbone!$Q$2:$Q$893,MATCH(I48,Backbone!$A$2:$A$893,0))","v":0.75111111111111106},null,null,{"$f":"(AG48*$AG$22+AI48*$AI$22+AK48*$AK$22+AM48*$AM$22+AO48*$AO$22+AQ48*$AQ$22+AS48*$AS$22+AU48*$AU$22+AW48*$AW$22)/(SUM($AG$22:$AW$22)*10)","v":{"$error":"#DIV/0!"}},null,null,"Перейти в Реестр ресурсов: ",null,{"$f":"HYPERLINK(\"#\"&ADDRESS(MATCH(I48,Toolbox!$C$1:$C$300),1,,,\"Toolbox\"),VLOOKUP(I48,Toolbox!$C$1:$C$300,1,FALSE))","v":"Глобальная информационная система болезней животных (EMPRES-i)"}]
[]
[]
[]
[]
[]
[null,null,null,null,null,null,null,null,{"$f":"Backbone!A604","v":"Приложение для оценки воздействия бешенства и выявления контактных лиц (REACT)"},null,null,null,null,null,null,"Инструмент, помогающий реализации комплексных программ управления случаями укусов (IBCM).",null,null,null,null,null,null,null,null,{"$f":"INDEX(Backbone!$R$2:$R$893,MATCH(I54,Backbone!$A$2:$A$893,0))","v":"Оборудование или программное обеспечение"},null,null,null,{"$f":"INDEX(Backbone!$S$2:$S$893,MATCH(I54,Backbone!$A$2:$A$893,0))","v":"«Единое здоровье»; ориентированный на конкретную болезнь/угрозу "},null,null,null,{"$f":"INDEX(Backbone!$H$2:$H$893,MATCH(I54,Backbone!$A$2:$A$893,0))","v":8.6},null,{"$f":"INDEX(Backbone!$I$2:$I$893,MATCH(I54,Backbone!$A$2:$A$893,0))","v":8.6},null,{"$f":"INDEX(Backbone!$J$2:$J$893,MATCH(I54,Backbone!$A$2:$A$893,0))","v":8},null,{"$f":"INDEX(Backbone!$K$1:$K$893,MATCH(I54,Backbone!$A$1:$A$893,0))","v":8.6},null,{"$f":"INDEX(Backbone!$L$2:$L$893,MATCH(I54,Backbone!$A$2:$A$893,0))","v":9.4},null,{"$f":"INDEX(Backbone!$M$2:$M$893,MATCH(I54,Backbone!$A$2:$A$893,0))","v":9.5},null,{"$f":"INDEX(Backbone!$N$2:$N$893,MATCH(I54,Backbone!$A$2:$A$893,0))","v":9},null,{"$f":"INDEX(Backbone!$O$2:$O$893,MATCH(I54,Backbone!$A$2:$A$893,0))","v":9.1999999999999993},null,{"$f":"INDEX(Backbone!$P$2:$P$893,MATCH(I54,Backbone!$A$2:$A$893,0))","v":9},null,{"$f":"INDEX(Backbone!$Q$2:$Q$893,MATCH(I54,Backbone!$A$2:$A$893,0))","v":0.88777777777777767},null,null,{"$f":"(AG54*$AG$22+AI54*$AI$22+AK54*$AK$22+AM54*$AM$22+AO54*$AO$22+AQ54*$AQ$22+AS54*$AS$22+AU54*$AU$22+AW54*$AW$22)/(SUM($AG$22:$AW$22)*10)","v":{"$error":"#DIV/0!"}},null,null,"Перейти в Реестр ресурсов: ",null,{"$f":"HYPERLINK(\"#\"&ADDRESS(MATCH(I54,Toolbox!$C$1:$C$300),1,,,\"Toolbox\"),VLOOKUP(I54,Toolbox!$C$1:$C$300,1,FALSE))","v":"Приложение для оценки воздействия бешенства и выявления контактных лиц (REACT)"}]
[]
[]
[]
[]
[]
[]
[]
[]
[]
[]
[]
[]
[]
[]
[]
[]
[]
[]
[]
[]
[]
[]
[]
[null,null,null,null,null,null,null,null,null,null,null,null,null,null,null,null,null,null,null,null,null,null,null,null,null,null,null,null,null,null,null,null,"Доступность",null,"Язык",null,"Простота использования",null,"Гибкость",null,"Потребности в данных",null,"Анализ данных",null,"Приемлемость",null,"«Единое здоровье»",null,"Воздействие"]
[]
[]
[]
[]
[]
[]
[null,null,null,null,null,null,null,null,null,null,null,null,null,null,null,null,null,null,null,null,null,null,null,null,null,null,null,null,null,null,null,null,null,null,null,null,null,null,null,null,null,null,null,null,null,null,null,null,null,null,"ИСХОДНАЯ ОЦЕНКА",null,null,"СКОРРЕКТИРОВАННАЯ ОЦЕНКА \n(Исходя из предпочтений пользователей)"]
[]
[]
[]
[null,"РЕСУРСЫ УРОВНЯ 2",null,"КЛАССИФИКАЦИЯ",null,null,null,null,"НАЗВАНИЕ РЕСУРСА",null,null,null,null,null,null,"КРАТКОЕ ОПИСАНИЕ",null,null,null,null,null,null,null,null,"ВИД РЕСУРСА",null,null,null,"ОБЩАЯ НАПРАВЛЕННОСТЬ РЕСУРСА"]
[]
[]
[]
[null,null,null,null,null,null,null,null,null,null,null,null,null,null,null,null,null,null,null,null,null,null,null,null,null,null,null,null,null,null,null,null,{"$f":"'Attribute Survey'!S211","v":0},null,{"$f":"'Attribute Survey'!S215","v":0},null,{"$f":"'Attribute Survey'!S219","v":0},null,{"$f":"'Attribute Survey'!S223","v":0},null,{"$f":"'Attribute Survey'!S227","v":0},null,{"$f":"'Attribute Survey'!S231","v":0},null,{"$f":"'Attribute Survey'!S235","v":0},null,{"$f":"'Attribute Survey'!S239","v":0},null,{"$f":"'Attribute Survey'!S243","v":0}]
[null,null,null,"Наиболее подходящие ресурсы",null,null,null,null,{"$f":"Backbone!A65","v":"Районная информационная система здравоохранения, версия 2 (DHIS2) "},null,null,null,null,null,null,"Онлайн-платформа информационной системы управления в системе здравоохранения с открытым исходным кодом.",null,null,null,null,null,null,null,null,{"$f":"INDEX(Backbone!$R$2:$R$893,MATCH(I94,Backbone!$A$2:$A$893,0))","v":"Оборудование или программное обеспечение"},null,null,null,{"$f":"INDEX(Backbone!$S$2:$S$893,MATCH(I94,Backbone!$A$2:$A$893,0))","v":"Ориентированный на конкретный сектор; универсальный"},null,null,null,{"$f":"INDEX(Backbone!$H$2:$H$893,MATCH(I94,Backbone!$A$2:$A$893,0))","v":8.8000000000000007},null,{"$f":"INDEX(Backbone!$I$2:$I$893,MATCH(I94,Backbone!$A$2:$A$893,0))","v":8.6999999999999993},null,{"$f":"INDEX(Backbone!$J$2:$J$893,MATCH(I94,Backbone!$A$2:$A$893,0))","v":8},null,{"$f":"INDEX(Backbone!$K$2:$K$893,MATCH(I94,Backbone!$A$2:$A$893,0))","v":8.6999999999999993},null,{"$f":"INDEX(Backbone!$L$2:$L$893,MATCH(I94,Backbone!$A$2:$A$893,0))","v":9.3000000000000007},null,{"$f":"INDEX(Backbone!$M$2:$M$893,MATCH(I94,Backbone!$A$2:$A$893,0))","v":9},null,{"$f":"INDEX(Backbone!$N$2:$N$893,MATCH(I94,Backbone!$A$2:$A$893,0))","v":10},null,{"$f":"INDEX(Backbone!$O$2:$O$893,MATCH(I94,Backbone!$A$2:$A$893,0))","v":7.8},null,{"$f":"INDEX(Backbone!$P$2:$P$893,MATCH(I94,Backbone!$A$2:$A$893,0))","v":7},null,{"$f":"INDEX(Backbone!$Q$2:$Q$893,MATCH(I94,Backbone!$A$2:$A$893,0))","v":0.85888888888888881},null,null,{"$f":"(AG94*$AG$22+AI94*$AI$22+AK94*$AK$22+AM94*$AM$22+AO94*$AO$22+AQ94*$AQ$22+AS94*$AS$22+AU94*$AU$22+AW94*$AW$22)/(SUM($AG$22:$AW$22)*10)","v":{"$error":"#DIV/0!"}},null,null,"Перейти в Реестр ресурсов: ",null,{"$f":"HYPERLINK(\"#\"&ADDRESS(MATCH(I94,Toolbox!$C$1:$C$300),1,,,\"Toolbox\"),VLOOKUP(I94,Toolbox!$C$1:$C$300,1,FALSE))","v":"Районная информационная система здравоохранения, версия 2 (DHIS2) "}]
[]
[]
[]
[]
[]
[null,null,null,null,null,null,null,null,{"$f":"Backbone!A195","v":"Комплексная система эпиднадзора и мер реагирования (IDSR)"},null,null,null,null,null,null,"Стратегия, разработанная с целью укрепить потенциал стран для выявления и подтверждения предполагаемых случаев заболевания и вспышек и реагирования на них, а также для использования информации для прогнозирования событий в области общественного здравоохранения и планирования мер реагирования на них.",null,null,null,null,null,null,null,null,{"$f":"INDEX(Backbone!$R$2:$R$893,MATCH(I100,Backbone!$A$2:$A$893,0))","v":"Руководящий документ"},null,null,null,{"$f":"INDEX(Backbone!$S$2:$S$893,MATCH(I100,Backbone!$A$2:$A$893,0))","v":"Ориентированный на конкретный сектор; универсальный"},null,null,null,{"$f":"INDEX(Backbone!$H$2:$H$893,MATCH(I100,Backbone!$A$2:$A$893,0))","v":7.4},null,{"$f":"INDEX(Backbone!$I$2:$I$893,MATCH(I100,Backbone!$A$2:$A$893,0))","v":10},null,{"$f":"INDEX(Backbone!$J$2:$J$893,MATCH(I100,Backbone!$A$2:$A$893,0))","v":7.4},null,{"$f":"INDEX(Backbone!$K$1:$K$893,MATCH(I100,Backbone!$A$1:$A$893,0))","v":8.6999999999999993},null,{"$f":"INDEX(Backbone!$L$2:$L$893,MATCH(I100,Backbone!$A$2:$A$893,0))","v":6.7},null,{"$f":"INDEX(Backbone!$M$2:$M$893,MATCH(I100,Backbone!$A$2:$A$893,0))","v":4.5},null,{"$f":"INDEX(Backbone!$N$2:$N$893,MATCH(I100,Backbone!$A$2:$A$893,0))","v":8},null,{"$f":"INDEX(Backbone!$O$2:$O$893,MATCH(I100,Backbone!$A$2:$A$893,0))","v":7.2},null,{"$f":"INDEX(Backbone!$P$2:$P$893,MATCH(I100,Backbone!$A$2:$A$893,0))","v":8.5},null,{"$f":"INDEX(Backbone!$Q$2:$Q$893,MATCH(I100,Backbone!$A$2:$A$893,0))","v":0.76},null,null,{"$f":"(AG100*$AG$22+AI100*$AI$22+AK100*$AK$22+AM100*$AM$22+AO100*$AO$22+AQ100*$AQ$22+AS100*$AS$22+AU100*$AU$22+AW100*$AW$22)/(SUM($AG$22:$AW$22)*10)","v":{"$error":"#DIV/0!"}},null,null,"Перейти в Реестр ресурсов: ",null,{"$f":"HYPERLINK(\"#\"&ADDRESS(MATCH(I100,Toolbox!$C$1:$C$300),1,,,\"Toolbox\"),VLOOKUP(I100,Toolbox!$C$1:$C$300,1,FALSE))","v":"Комплексная система эпиднадзора и мер реагирования (IDSR)"}]
[]
[]
[]
[]
[]
[]
[null,null,null,"Другие полезные ресурсы",null,null,null,null,{"$f":"Backbone!A155","v":"Инициатива по выявлению эпидемиологических угроз с использованием открытых источников (EIOS)"},null,null,null,null,null,null,"Инициатива EIOS — это уникальное сотрудничество между ВОЗ и различными заинтересованными сторонами, объединяющее новые и существующие инициативы, сети и системы для создания унифицированного подхода «Единое здоровье», учитывающего все угрозы, к раннему обнаружению, проверке и оценке рисков и угроз для здоровья людей с использованием открытых источников.",null,null,null,null,null,null,null,null,{"$f":"INDEX(Backbone!$R$2:$R$893,MATCH(I107,Backbone!$A$2:$A$893,0))","v":"Оборудование или программное обеспечение"},null,null,null,{"$f":"INDEX(Backbone!$S$2:$S$893,MATCH(I107,Backbone!$A$2:$A$893,0))","v":"«Единое здоровье»; универсальный"},null,null,null,{"$f":"INDEX(Backbone!$H$2:$H$893,MATCH(I107,Backbone!$A$2:$A$893,0))","v":8.4},null,{"$f":"INDEX(Backbone!$I$2:$I$893,MATCH(I107,Backbone!$A$2:$A$893,0))","v":9},null,{"$f":"INDEX(Backbone!$J$2:$J$893,MATCH(I107,Backbone!$A$2:$A$893,0))","v":7.4},null,{"$f":"INDEX(Backbone!$K$1:$K$893,MATCH(I107,Backbone!$A$1:$A$893,0))","v":9},null,{"$f":"INDEX(Backbone!$L$2:$L$893,MATCH(I107,Backbone!$A$2:$A$893,0))","v":8.8000000000000007},null,{"$f":"INDEX(Backbone!$M$2:$M$893,MATCH(I107,Backbone!$A$2:$A$893,0))","v":8},null,{"$f":"INDEX(Backbone!$N$2:$N$893,MATCH(I107,Backbone!$A$2:$A$893,0))","v":5.5},null,{"$f":"INDEX(Backbone!$O$2:$O$893,MATCH(I107,Backbone!$A$2:$A$893,0))","v":9.1999999999999993},null,{"$f":"INDEX(Backbone!$P$2:$P$893,MATCH(I107,Backbone!$A$2:$A$893,0))","v":6},null,{"$f":"INDEX(Backbone!$Q$2:$Q$893,MATCH(I107,Backbone!$A$2:$A$893,0))","v":0.79222222222222216},null,null,{"$f":"(AG107*$AG$22+AI107*$AI$22+AK107*$AK$22+AM107*$AM$22+AO107*$AO$22+AQ107*$AQ$22+AS107*$AS$22+AU107*$AU$22+AW107*$AW$22)/(SUM($AG$22:$AW$22)*10)","v":{"$error":"#DIV/0!"}},null,null,"Перейти в Реестр ресурсов: ",null,{"$f":"HYPERLINK(\"#\"&ADDRESS(MATCH(I107,Toolbox!$C$1:$C$300),1,,,\"Toolbox\"),VLOOKUP(I107,Toolbox!$C$1:$C$300,1,FALSE))","v":"Инициатива по выявлению эпидемиологических угроз с использованием открытых источников (EIOS)"}]
[]
[]
[]
[]
[]
[null,null,null,null,null,null,null,null,{"$f":"Backbone!A604","v":"Приложение для оценки воздействия бешенства и выявления контактных лиц (REACT)"},null,null,null,null,null,null,"Инструмент, помогающий реализации комплексных программ управления случаями укусов (IBCM).",null,null,null,null,null,null,null,null,{"$f":"INDEX(Backbone!$R$2:$R$893,MATCH(I113,Backbone!$A$2:$A$893,0))","v":"Оборудование или программное обеспечение"},null,null,null,{"$f":"INDEX(Backbone!$S$2:$S$893,MATCH(I113,Backbone!$A$2:$A$893,0))","v":"«Единое здоровье»; ориентированный на конкретную болезнь/угрозу "},null,null,null,{"$f":"INDEX(Backbone!$H$2:$H$893,MATCH(I113,Backbone!$A$2:$A$893,0))","v":8.6},null,{"$f":"INDEX(Backbone!$I$2:$I$893,MATCH(I113,Backbone!$A$2:$A$893,0))","v":8.6},null,{"$f":"INDEX(Backbone!$J$2:$J$893,MATCH(I113,Backbone!$A$2:$A$893,0))","v":8},null,{"$f":"INDEX(Backbone!$K$1:$K$893,MATCH(I113,Backbone!$A$1:$A$893,0))","v":8.6},null,{"$f":"INDEX(Backbone!$L$2:$L$893,MATCH(I113,Backbone!$A$2:$A$893,0))","v":9.4},null,{"$f":"INDEX(Backbone!$M$2:$M$893,MATCH(I113,Backbone!$A$2:$A$893,0))","v":9.5},null,{"$f":"INDEX(Backbone!$N$2:$N$893,MATCH(I113,Backbone!$A$2:$A$893,0))","v":9},null,{"$f":"INDEX(Backbone!$O$2:$O$893,MATCH(I113,Backbone!$A$2:$A$893,0))","v":9.1999999999999993},null,{"$f":"INDEX(Backbone!$P$2:$P$893,MATCH(I113,Backbone!$A$2:$A$893,0))","v":9},null,{"$f":"INDEX(Backbone!$Q$2:$Q$893,MATCH(I113,Backbone!$A$2:$A$893,0))","v":0.88777777777777767},null,null,{"$f":"(AG113*$AG$22+AI113*$AI$22+AK113*$AK$22+AM113*$AM$22+AO113*$AO$22+AQ113*$AQ$22+AS113*$AS$22+AU113*$AU$22+AW113*$AW$22)/(SUM($AG$22:$AW$22)*10)","v":{"$error":"#DIV/0!"}},null,null,"Перейти в Реестр ресурсов: ",null,{"$f":"HYPERLINK(\"#\"&ADDRESS(MATCH(I113,Toolbox!$C$1:$C$300),1,,,\"Toolbox\"),VLOOKUP(I113,Toolbox!$C$1:$C$300,1,FALSE))","v":"Приложение для оценки воздействия бешенства и выявления контактных лиц (REACT)"}]
[]
[]
[]
[]
[]
[]
[]
[]
[]
[]
[]
[]
[]
[]
[]
[]
[]
[]
[]
[]
[]
[]
[]
[null,null,null,null,null,null,null,null,null,null,null,null,null,null,null,null,null,null,null,null,null,null,null,null,null,null,null,null,null,null,null,null,"Доступность",null,"Язык",null,"Простота использования",null,"Гибкость",null,"Потребности в данных",null,"Анализ данных",null,"Приемлемость",null,"«Единое здоровье»",null,"Воздействие"]
[]
[]
[]
[]
[]
[]
[null,null,null,null,null,null,null,null,null,null,null,null,null,null,null,null,null,null,null,null,null,null,null,null,null,null,null,null,null,null,null,null,null,null,null,null,null,null,null,null,null,null,null,null,null,null,null,null,null,null,"ИСХОДНАЯ ОЦЕНКА",null,null,"СКОРРЕКТИРОВАННАЯ ОЦЕНКА \n(Исходя из предпочтений пользователей)"]
[]
[]
[null,"РЕСУРСЫ УРОВНЯ 3"]
[null,null,null,"КЛАССИФИКАЦИЯ",null,null,null,null,"НАЗВАНИЕ РЕСУРСА",null,null,null,null,null,null,"КРАТКОЕ ОПИСАНИЕ",null,null,null,null,null,null,null,null,"ВИД РЕСУРСА",null,null,null,"ОБЩАЯ НАПРАВЛЕННОСТЬ РЕСУРСА"]
[]
[]
[]
[null,null,null,null,null,null,null,null,null,null,null,null,null,null,null,null,null,null,null,null,null,null,null,null,null,null,null,null,null,null,null,null,{"$f":"'Attribute Survey'!S294","v":0},null,{"$f":"'Attribute Survey'!S298","v":0},null,{"$f":"'Attribute Survey'!S302","v":0},null,{"$f":"'Attribute Survey'!S306","v":0},null,{"$f":"'Attribute Survey'!S310","v":0},null,{"$f":"'Attribute Survey'!S314","v":0},null,{"$f":"'Attribute Survey'!S318","v":0},null,{"$f":"'Attribute Survey'!S322","v":0},null,{"$f":"'Attribute Survey'!S326","v":0}]
[null,null,null,"Наиболее подходящие ресурсы",null,null,null,null,{"$f":"Backbone!A195","v":"Комплексная система эпиднадзора и мер реагирования (IDSR)"},null,null,null,null,null,null,"Стратегия, разработанная с целью укрепить потенциал стран для выявления и подтверждения предполагаемых случаев заболевания и вспышек и реагирования на них, а также для использования информации для прогнозирования событий в области общественного здравоохранения и планирования мер реагирования на них.",null,null,null,null,null,null,null,null,{"$f":"INDEX(Backbone!$R$2:$R$893,MATCH(I153,Backbone!$A$2:$A$893,0))","v":"Руководящий документ"},null,null,null,{"$f":"INDEX(Backbone!$S$2:$S$893,MATCH(I153,Backbone!$A$2:$A$893,0))","v":"Ориентированный на конкретный сектор; универсальный"},null,null,null,{"$f":"INDEX(Backbone!$H$2:$H$893,MATCH(I153,Backbone!$A$2:$A$893,0))","v":7.4},null,{"$f":"INDEX(Backbone!$I$2:$I$893,MATCH(I153,Backbone!$A$2:$A$893,0))","v":10},null,{"$f":"INDEX(Backbone!$J$2:$J$893,MATCH(I153,Backbone!$A$2:$A$893,0))","v":7.4},null,{"$f":"INDEX(Backbone!$K$2:$K$893,MATCH(I153,Backbone!$A$2:$A$893,0))","v":8.6999999999999993},null,{"$f":"INDEX(Backbone!$L$2:$L$893,MATCH(I153,Backbone!$A$2:$A$893,0))","v":6.7},null,{"$f":"INDEX(Backbone!$M$2:$M$893,MATCH(I153,Backbone!$A$2:$A$893,0))","v":4.5},null,{"$f":"INDEX(Backbone!$N$2:$N$893,MATCH(I153,Backbone!$A$2:$A$893,0))","v":8},null,{"$f":"INDEX(Backbone!$O$2:$O$893,MATCH(I153,Backbone!$A$2:$A$893,0))","v":7.2},null,{"$f":"INDEX(Backbone!$P$2:$P$893,MATCH(I153,Backbone!$A$2:$A$893,0))","v":8.5},null,{"$f":"INDEX(Backbone!$Q$2:$Q$893,MATCH(I153,Backbone!$A$2:$A$893,0))","v":0.76},null,null,{"$f":"(AG153*$AG$22+AI153*$AI$22+AK153*$AK$22+AM153*$AM$22+AO153*$AO$22+AQ153*$AQ$22+AS153*$AS$22+AU153*$AU$22+AW153*$AW$22)/(SUM($AG$22:$AW$22)*10)","v":{"$error":"#DIV/0!"}},null,null,"Перейти в Реестр ресурсов: ",null,{"$f":"HYPERLINK(\"#\"&ADDRESS(MATCH(I153,Toolbox!$C$1:$C$300),1,,,\"Toolbox\"),VLOOKUP(I153,Toolbox!$C$1:$C$300,1,FALSE))","v":"Комплексная система эпиднадзора и мер реагирования (IDSR)"}]
[]
[]
[]
[]
[]
[]
[null,null,null,"Другие полезные ресурсы",null,null,null,null,{"$f":"Backbone!A65","v":"Районная информационная система здравоохранения, версия 2 (DHIS2) "},null,null,null,null,null,null,"Онлайн-платформа информационной системы управления в системе здравоохранения с открытым исходным кодом.",null,null,null,null,null,null,null,null,{"$f":"INDEX(Backbone!$R$2:$R$893,MATCH(I160,Backbone!$A$2:$A$893,0))","v":"Оборудование или программное обеспечение"},null,null,null,{"$f":"INDEX(Backbone!$S$2:$S$893,MATCH(I160,Backbone!$A$2:$A$893,0))","v":"Ориентированный на конкретный сектор; универсальный"},null,null,null,{"$f":"INDEX(Backbone!$H$2:$H$893,MATCH(I160,Backbone!$A$2:$A$893,0))","v":8.8000000000000007},null,{"$f":"INDEX(Backbone!$I$2:$I$893,MATCH(I160,Backbone!$A$2:$A$893,0))","v":8.6999999999999993},null,{"$f":"INDEX(Backbone!$J$2:$J$893,MATCH(I160,Backbone!$A$2:$A$893,0))","v":8},null,{"$f":"INDEX(Backbone!$K$1:$K$893,MATCH(I160,Backbone!$A$1:$A$893,0))","v":8.6999999999999993},null,{"$f":"INDEX(Backbone!$L$2:$L$893,MATCH(I160,Backbone!$A$2:$A$893,0))","v":9.3000000000000007},null,{"$f":"INDEX(Backbone!$M$2:$M$893,MATCH(I160,Backbone!$A$2:$A$893,0))","v":9},null,{"$f":"INDEX(Backbone!$N$2:$N$893,MATCH(I160,Backbone!$A$2:$A$893,0))","v":10},null,{"$f":"INDEX(Backbone!$O$2:$O$893,MATCH(I160,Backbone!$A$2:$A$893,0))","v":7.8},null,{"$f":"INDEX(Backbone!$P$2:$P$893,MATCH(I160,Backbone!$A$2:$A$893,0))","v":7},null,{"$f":"INDEX(Backbone!$Q$2:$Q$893,MATCH(I160,Backbone!$A$2:$A$893,0))","v":0.85888888888888881},null,null,{"$f":"(AG160*$AG$22+AI160*$AI$22+AK160*$AK$22+AM160*$AM$22+AO160*$AO$22+AQ160*$AQ$22+AS160*$AS$22+AU160*$AU$22+AW160*$AW$22)/(SUM($AG$22:$AW$22)*10)","v":{"$error":"#DIV/0!"}},null,null,"Перейти в Реестр ресурсов: ",null,{"$f":"HYPERLINK(\"#\"&ADDRESS(MATCH(I160,Toolbox!$C$1:$C$300),1,,,\"Toolbox\"),VLOOKUP(I160,Toolbox!$C$1:$C$300,1,FALSE))","v":"Районная информационная система здравоохранения, версия 2 (DHIS2) "}]
[]
[]
[]
[]
[]
[null,null,null,null,null,null,null,null,{"$f":"Backbone!A155","v":"Инициатива по выявлению эпидемиологических угроз с использованием открытых источников (EIOS)"},null,null,null,null,null,null,"Инициатива EIOS — это уникальное сотрудничество между ВОЗ и различными заинтересованными сторонами, объединяющее новые и существующие инициативы, сети и системы для создания унифицированного подхода «Единое здоровье», учитывающего все угрозы, к раннему обнаружению, проверке и оценке рисков и угроз для здоровья людей с использованием открытых источников.",null,null,null,null,null,null,null,null,{"$f":"INDEX(Backbone!$R$2:$R$893,MATCH(I166,Backbone!$A$2:$A$893,0))","v":"Оборудование или программное обеспечение"},null,null,null,{"$f":"INDEX(Backbone!$S$2:$S$893,MATCH(I166,Backbone!$A$2:$A$893,0))","v":"«Единое здоровье»; универсальный"},null,null,null,{"$f":"INDEX(Backbone!$H$2:$H$893,MATCH(I166,Backbone!$A$2:$A$893,0))","v":8.4},null,{"$f":"INDEX(Backbone!$I$2:$I$893,MATCH(I166,Backbone!$A$2:$A$893,0))","v":9},null,{"$f":"INDEX(Backbone!$J$2:$J$893,MATCH(I166,Backbone!$A$2:$A$893,0))","v":7.4},null,{"$f":"INDEX(Backbone!$K$1:$K$893,MATCH(I166,Backbone!$A$1:$A$893,0))","v":9},null,{"$f":"INDEX(Backbone!$L$2:$L$893,MATCH(I166,Backbone!$A$2:$A$893,0))","v":8.8000000000000007},null,{"$f":"INDEX(Backbone!$M$2:$M$893,MATCH(I166,Backbone!$A$2:$A$893,0))","v":8},null,{"$f":"INDEX(Backbone!$N$2:$N$893,MATCH(I166,Backbone!$A$2:$A$893,0))","v":5.5},null,{"$f":"INDEX(Backbone!$O$2:$O$893,MATCH(I166,Backbone!$A$2:$A$893,0))","v":9.1999999999999993},null,{"$f":"INDEX(Backbone!$P$2:$P$893,MATCH(I166,Backbone!$A$2:$A$893,0))","v":6},null,{"$f":"INDEX(Backbone!$Q$2:$Q$893,MATCH(I166,Backbone!$A$2:$A$893,0))","v":0.79222222222222216},null,null,{"$f":"(AG166*$AG$22+AI166*$AI$22+AK166*$AK$22+AM166*$AM$22+AO166*$AO$22+AQ166*$AQ$22+AS166*$AS$22+AU166*$AU$22+AW166*$AW$22)/(SUM($AG$22:$AW$22)*10)","v":{"$error":"#DIV/0!"}},null,null,"Перейти в Реестр ресурсов: ",null,{"$f":"HYPERLINK(\"#\"&ADDRESS(MATCH(I166,Toolbox!$C$1:$C$300),1,,,\"Toolbox\"),VLOOKUP(I166,Toolbox!$C$1:$C$300,1,FALSE))","v":"Инициатива по выявлению эпидемиологических угроз с использованием открытых источников (EIOS)"}]

{"sheet":"I9_tools","index":54,"n_rows":41,"n_cols":59,"rows_kept":41,"cut":false,"hidden":false,"merged":[[40,48,44,48],[40,50,44,51],[40,53,44,54],[40,36,44,36],[40,38,44,38],[40,40,44,40],[40,42,44,42],[40,44,44,44],[40,46,44,46],[40,8,44,13],[40,15,44,22],[40,24,44,26],[40,28,44,30],[40,32,44,32],[34,50,38,51],[34,53,38,54],[28,53,32,54],[34,8,38,13],[34,15,38,22],[34,24,38,26],[34,28,38,30],[34,32,38,32],[34,34,38,34],[34,36,38,36],[34,38,38,38],[34,40,38,40],[28,40,32,40],[28,42,32,42],[28,44,32,44],[28,46,32,46],[28,50,32,51],[22,50,26,51],[22,53,26,54],[28,8,32,13],[28,15,32,22],[28,24,32,26],[28,28,32,30],[28,32,32,32],[28,34,32,34],[28,36,32,36],[28,38,32,38],[22,38,26,38],[22,40,26,40],[22,42,26,42],[22,44,26,44],[34,46,38,46],[22,48,26,48],[22,15,26,22],[22,24,26,26],[22,28,26,30],[22,32,26,32],[22,34,26,34],[22,36,26,36],[28,48,32,48],[34,48,38,48],[6,46,20,46],[6,48,20,48],[13,50,20,51],[13,53,20,54],[17,1,44,1],[17,3,20,6],[17,8,20,13],[17,15,20,22],[17,24,20,26],[17,28,20,30],[22,3,44,6],[22,8,26,13],[22,46,26,46],[40,34,44,34],[34,42,38,42],[34,44,38,44],[34,56,38,57],[34,58,38,62],[40,56,44,57],[40,58,44,62],[1,1,3,62],[22,56,26,57],[22,58,26,62],[28,56,32,57],[28,58,32,62],[6,32,20,32],[6,34,20,34],[6,36,20,36],[6,38,20,38],[6,40,20,40],[6,42,20,42],[6,44,20,44]]}
[]
[null,"Ресурсы по соблюдению международных требований в отношении оповещений"]
[]
[]
[]
[]
[null,null,null,null,null,null,null,null,null,null,null,null,null,null,null,null,null,null,null,null,null,null,null,null,null,null,null,null,null,null,null,null,"Доступность",null,"Язык",null,"Простота использования",null,"Гибкость",null,"Потребности в данных",null,"Анализ данных",null,"Приемлемость",null,"«Единое здоровье»",null,"Воздействие"]
[]
[]
[]
[]
[]
[]
[null,null,null,null,null,null,null,null,null,null,null,null,null,null,null,null,null,null,null,null,null,null,null,null,null,null,null,null,null,null,null,null,null,null,null,null,null,null,null,null,null,null,null,null,null,null,null,null,null,null,"ИСХОДНАЯ ОЦЕНКА",null,null,"СКОРРЕКТИРОВАННАЯ ОЦЕНКА \n(Исходя из предпочтений пользователей)"]
[]
[]
[]
[null,"РЕСУРСЫ УРОВНЯ 1",null,"КЛАССИФИКАЦИЯ",null,null,null,null,"НАЗВАНИЕ РЕСУРСА",null,null,null,null,null,null,"КРАТКОЕ ОПИСАНИЕ",null,null,null,null,null,null,null,null,"ВИД РЕСУРСА",null,null,null,"ОБЩАЯ НАПРАВЛЕННОСТЬ РЕСУРСА"]
[]
[]
[]
[null,null,null,null,null,null,null,null,null,null,null,null,null,null,null,null,null,null,null,null,null,null,null,null,null,null,null,null,null,null,null,null,{"$f":"'Attribute Survey'!S22","v":0},null,{"$f":"'Attribute Survey'!S26","v":0},null,{"$f":"'Attribute Survey'!S30","v":0},null,{"$f":"'Attribute Survey'!S34","v":0},null,{"$f":"'Attribute Survey'!S38","v":0},null,{"$f":"'Attribute Survey'!S42","v":0},null,{"$f":"'Attribute Survey'!S46","v":0},null,{"$f":"'Attribute Survey'!S50","v":0},null,{"$f":"'Attribute Survey'!S54","v":0}]
[null,null,null,"Другие полезные ресурсы",null,null,null,null,{"$f":"Backbone!A163","v":"Мобильное приложение EMA-i для обмена данными о болезнях животных"},null,null,null,null,null,null,"Приложение отчетности в реальном времени, используемое для сбора информации о болезнях животных на местах и генерирования отчетов с географической привязкой, которые передаются на пользовательский интерфейс страны в Глобальной информационной системе болезней животных ФАО (EMPRES-i).",null,null,null,null,null,null,null,null,{"$f":"INDEX(Backbone!$R$2:$R$893,MATCH(I23,Backbone!$A$2:$A$893,0))","v":"Оборудование или программное обеспечение"},null,null,null,{"$f":"INDEX(Backbone!$S$2:$S$893,MATCH(I23,Backbone!$A$2:$A$893,0))","v":"Ориентированный на конкретный сектор; универсальный"},null,null,null,{"$f":"INDEX(Backbone!$H$2:$H$893,MATCH(I23,Backbone!$A$2:$A$893,0))","v":8.9},null,{"$f":"INDEX(Backbone!$I$2:$I$893,MATCH(I23,Backbone!$A$2:$A$893,0))","v":7.7},null,{"$f":"INDEX(Backbone!$J$2:$J$893,MATCH(I23,Backbone!$A$2:$A$893,0))","v":9.1},null,{"$f":"INDEX(Backbone!$K$1:$K$893,MATCH(I23,Backbone!$A$1:$A$893,0))","v":6},null,{"$f":"INDEX(Backbone!$L$2:$L$893,MATCH(I23,Backbone!$A$2:$A$893,0))","v":8.3000000000000007},null,{"$f":"INDEX(Backbone!$M$2:$M$893,MATCH(I23,Backbone!$A$2:$A$893,0))","v":9.3000000000000007},null,{"$f":"INDEX(Backbone!$N$2:$N$893,MATCH(I23,Backbone!$A$2:$A$893,0))","v":6.7},null,{"$f":"INDEX(Backbone!$O$2:$O$893,MATCH(I23,Backbone!$A$2:$A$893,0))","v":4.5},null,{"$f":"INDEX(Backbone!$P$2:$P$893,MATCH(I23,Backbone!$A$2:$A$893,0))","v":5.7},null,{"$f":"INDEX(Backbone!$Q$2:$Q$893,MATCH(I23,Backbone!$A$2:$A$893,0))","v":0.73555555555555563},null,null,{"$f":"(AG23*$AG$22+AI23*$AI$22+AK23*$AK$22+AM23*$AM$22+AO23*$AO$22+AQ23*$AQ$22+AS23*$AS$22+AU23*$AU$22+AW23*$AW$22)/(SUM($AG$22:$AW$22)*10)","v":{"$error":"#DIV/0!"}},null,null,"Перейти в Реестр ресурсов: ",null,{"$f":"HYPERLINK(\"#\"&ADDRESS(MATCH(I23,Toolbox!$C$1:$C$300),1,,,\"Toolbox\"),VLOOKUP(I23,Toolbox!$C$1:$C$300,1,FALSE))","v":"Мобильное приложение EMA-i для обмена данными о болезнях животных"}]
[]
[]
[]
[]
[]
[null,null,null,null,null,null,null,null,{"$f":"Backbone!A195","v":"Комплексная система эпиднадзора и мер реагирования (IDSR)"},null,null,null,null,null,null,"Стратегия, разработанная с целью укрепить потенциал стран для выявления и подтверждения предполагаемых случаев заболевания и вспышек и реагирования на них, а также для использования информации для прогнозирования событий в области общественного здравоохранения и планирования мер реагирования на них.",null,null,null,null,null,null,null,null,{"$f":"INDEX(Backbone!$R$2:$R$893,MATCH(I29,Backbone!$A$2:$A$893,0))","v":"Руководящий документ"},null,null,null,{"$f":"INDEX(Backbone!$S$2:$S$893,MATCH(I29,Backbone!$A$2:$A$893,0))","v":"Ориентированный на конкретный сектор; универсальный"},null,null,null,{"$f":"INDEX(Backbone!$H$2:$H$893,MATCH(I29,Backbone!$A$2:$A$893,0))","v":7.4},null,{"$f":"INDEX(Backbone!$I$2:$I$893,MATCH(I29,Backbone!$A$2:$A$893,0))","v":10},null,{"$f":"INDEX(Backbone!$J$2:$J$893,MATCH(I29,Backbone!$A$2:$A$893,0))","v":7.4},null,{"$f":"INDEX(Backbone!$K$1:$K$893,MATCH(I29,Backbone!$A$1:$A$893,0))","v":8.6999999999999993},null,{"$f":"INDEX(Backbone!$L$2:$L$893,MATCH(I29,Backbone!$A$2:$A$893,0))","v":6.7},null,{"$f":"INDEX(Backbone!$M$2:$M$893,MATCH(I29,Backbone!$A$2:$A$893,0))","v":4.5},null,{"$f":"INDEX(Backbone!$N$2:$N$893,MATCH(I29,Backbone!$A$2:$A$893,0))","v":8},null,{"$f":"INDEX(Backbone!$O$2:$O$893,MATCH(I29,Backbone!$A$2:$A$893,0))","v":7.2},null,{"$f":"INDEX(Backbone!$P$2:$P$893,MATCH(I29,Backbone!$A$2:$A$893,0))","v":8.5},null,{"$f":"INDEX(Backbone!$Q$2:$Q$893,MATCH(I29,Backbone!$A$2:$A$893,0))","v":0.76},null,null,{"$f":"(AG29*$AG$22+AI29*$AI$22+AK29*$AK$22+AM29*$AM$22+AO29*$AO$22+AQ29*$AQ$22+AS29*$AS$22+AU29*$AU$22+AW29*$AW$22)/(SUM($AG$22:$AW$22)*10)","v":{"$error":"#DIV/0!"}},null,null,"Перейти в Реестр ресурсов: ",null,{"$f":"HYPERLINK(\"#\"&ADDRESS(MATCH(I29,Toolbox!$C$1:$C$300),1,,,\"Toolbox\"),VLOOKUP(I29,Toolbox!$C$1:$C$300,1,FALSE))","v":"Комплексная система эпиднадзора и мер реагирования (IDSR)"}]
[]
[]
[]
[]
[]
[null,null,null,null,null,null,null,null,{"$f":"Backbone!A256","v":"Инструмент совместной внешней оценки (СВО) "},null,null,null,null,null,null,"Процесс независимой оценки потенциала страны в отношении профилактики и выявления угроз здоровью населения и быстрого реагирования на них, доступный для стран-членов ВОЗ.",null,null,null,null,null,null,null,null,{"$f":"INDEX(Backbone!$R$2:$R$893,MATCH(I35,Backbone!$A$2:$A$893,0))","v":"Инструмент или процесс с методическим руководством/пояснениями"},null,null,null,{"$f":"INDEX(Backbone!$S$2:$S$893,MATCH(I35,Backbone!$A$2:$A$893,0))","v":"«Единое здоровье»; универсальный"},null,null,null,{"$f":"INDEX(Backbone!$H$2:$H$893,MATCH(I35,Backbone!$A$2:$A$893,0))","v":8.6999999999999993},null,{"$f":"INDEX(Backbone!$I$2:$I$893,MATCH(I35,Backbone!$A$2:$A$893,0))","v":10},null,{"$f":"INDEX(Backbone!$J$2:$J$893,MATCH(I35,Backbone!$A$2:$A$893,0))","v":7},null,{"$f":"INDEX(Backbone!$K$1:$K$893,MATCH(I35,Backbone!$A$1:$A$893,0))","v":6.3},null,{"$f":"INDEX(Backbone!$L$2:$L$893,MATCH(I35,Backbone!$A$2:$A$893,0))","v":7.7},null,{"$f":"INDEX(Backbone!$M$2:$M$893,MATCH(I35,Backbone!$A$2:$A$893,0))","v":4.7},null,{"$f":"INDEX(Backbone!$N$2:$N$893,MATCH(I35,Backbone!$A$2:$A$893,0))","v":6},null,{"$f":"INDEX(Backbone!$O$2:$O$893,MATCH(I35,Backbone!$A$2:$A$893,0))","v":9.5},null,{"$f":"INDEX(Backbone!$P$2:$P$893,MATCH(I35,Backbone!$A$2:$A$893,0))","v":10},null,{"$f":"INDEX(Backbone!$Q$2:$Q$893,MATCH(I35,Backbone!$A$2:$A$893,0))","v":0.77666666666666673},null,null,{"$f":"(AG35*$AG$22+AI35*$AI$22+AK35*$AK$22+AM35*$AM$22+AO35*$AO$22+AQ35*$AQ$22+AS35*$AS$22+AU35*$AU$22+AW35*$AW$22)/(SUM($AG$22:$AW$22)*10)","v":{"$error":"#DIV/0!"}},null,null,"Перейти в Реестр ресурсов: ",null,{"$f":"HYPERLINK(\"#\"&ADDRESS(MATCH(I35,Toolbox!$C$1:$C$300),1,,,\"Toolbox\"),VLOOKUP(I35,Toolbox!$C$1:$C$300,1,FALSE))","v":"Инструмент совместной внешней оценки (СВО) "}]
[]
[]
[]
[]
[]
[null,null,null,null,null,null,null,null,{"$f":"Backbone!A571","v":"Приложение Всемирной организации охраны здоровья животных (МЭБ) для получения оповещений от ВАХИС (WAHIS Alerts)"},null,null,null,null,null,null,"Приложение, позволяющее пользователям получать на мобильный телефон или планшет (мгновенные) оповещения о заболеваниях животных и последующие отчеты по мере их публикации МЭБ.",null,null,null,null,null,null,null,null,{"$f":"INDEX(Backbone!$R$2:$R$893,MATCH(I41,Backbone!$A$2:$A$893,0))","v":"Оборудование или программное обеспечение"},null,null,null,{"$f":"INDEX(Backbone!$S$2:$S$893,MATCH(I41,Backbone!$A$2:$A$893,0))","v":"Ориентированный на конкретный сектор; универсальный"},null,null,null,{"$f":"INDEX(Backbone!$H$2:$H$893,MATCH(I41,Backbone!$A$2:$A$893,0))","v":9.6999999999999993},null,{"$f":"INDEX(Backbone!$I$2:$I$893,MATCH(I41,Backbone!$A$2:$A$893,0))","v":10},null,{"$f":"INDEX(Backbone!$J$2:$J$893,MATCH(I41,Backbone!$A$2:$A$893,0))","v":8.8000000000000007},null,{"$f":"INDEX(Backbone!$K$1:$K$893,MATCH(I41,Backbone!$A$1:$A$893,0))","v":8.6999999999999993},null,{"$f":"INDEX(Backbone!$L$2:$L$893,MATCH(I41,Backbone!$A$2:$A$893,0))","v":8.3000000000000007},null,{"$f":"INDEX(Backbone!$M$2:$M$893,MATCH(I41,Backbone!$A$2:$A$893,0))","v":5},null,{"$f":"INDEX(Backbone!$N$2:$N$893,MATCH(I41,Backbone!$A$2:$A$893,0))","v":7.5},null,{"$f":"INDEX(Backbone!$O$2:$O$893,MATCH(I41,Backbone!$A$2:$A$893,0))","v":3.3},null,{"$f":"INDEX(Backbone!$P$2:$P$893,MATCH(I41,Backbone!$A$2:$A$893,0))","v":6},null,{"$f":"INDEX(Backbone!$Q$2:$Q$893,MATCH(I41,Backbone!$A$2:$A$893,0))","v":0.74777777777777776},null,null,{"$f":"(AG41*$AG$22+AI41*$AI$22+AK41*$AK$22+AM41*$AM$22+AO41*$AO$22+AQ41*$AQ$22+AS41*$AS$22+AU41*$AU$22+AW41*$AW$22)/(SUM($AG$22:$AW$22)*10)","v":{"$error":"#DIV/0!"}},null,null,"Перейти в Реестр ресурсов: ",null,{"$f":"HYPERLINK(\"#\"&ADDRESS(MATCH(I41,Toolbox!$C$1:$C$300),1,,,\"Toolbox\"),VLOOKUP(I41,Toolbox!$C$1:$C$300,1,FALSE))","v":"Приложение Всемирной организации охраны здоровья животных (МЭБ) для получения оповещений от ВАХИС (WAHIS Alerts)"}]

{"sheet":"I10_tools","index":55,"n_rows":209,"n_cols":59,"rows_kept":209,"cut":false,"hidden":false,"merged":[[34,50,38,51],[40,8,44,13],[40,15,44,22],[40,24,44,26],[40,28,44,30],[40,32,44,32],[40,34,44,34],[40,36,44,36],[40,38,44,38],[40,40,44,40],[208,50,212,51],[208,53,212,54],[34,8,38,13],[34,15,38,22],[34,24,38,26],[34,28,38,30],[34,32,38,32],[34,34,38,34],[34,36,38,36],[34,38,38,38],[208,38,212,38],[208,40,212,40],[208,42,212,42],[208,44,212,44],[208,46,212,46],[208,48,212,48],[201,50,205,51],[201,53,205,54],[201,40,205,40],[201,42,205,42],[201,44,205,44],[201,46,205,46],[201,48,205,48],[195,53,199,54],[208,3,212,6],[208,8,212,13],[208,15,212,22],[208,24,212,26],[208,28,212,30],[208,32,212,32],[208,34,212,34],[208,36,212,36],[201,38,205,38],[201,8,205,13],[201,15,205,22],[201,24,205,26],[201,28,205,30],[201,32,205,32],[201,34,205,34],[201,36,205,36],[195,50,199,51],[189,50,193,51],[189,53,193,54],[195,8,199,13],[195,15,199,22],[195,24,199,26],[195,28,199,30],[195,32,199,32],[195,34,199,34],[195,36,199,36],[195,38,199,38],[189,38,193,38],[189,40,193,40],[189,42,193,42],[189,44,193,44],[189,46,193,46],[189,48,193,48],[189,15,193,22],[189,24,193,26],[189,28,193,30],[189,32,193,32],[189,34,193,34],[189,36,193,36],[180,50,187,51],[180,53,187,54],[184,1,212,1],[184,3,187,6],[184,8,187,13],[184,15,187,22],[184,24,187,26],[184,28,187,30],[189,3,205,6],[189,8,193,13],[173,32,187,32],[173,34,187,34],[173,36,187,36],[173,38,187,38],[173,40,187,40],[173,42,187,42],[173,44,187,44],[173,46,187,46],[173,48,187,48],[195,40,199,40],[195,42,199,42],[195,44,199,44],[195,46,199,46],[195,48,199,48],[142,48,146,48],[142,50,146,51],[142,53,146,54],[148,8,152,13],[148,15,152,22],[148,24,152,26],[148,28,152,30],[148,32,152,32],[148,34,152,34],[142,34,146,34],[142,36,146,36],[142,38,146,38],[142,40,146,40],[142,42,146,42],[142,44,146,44],[148,48,152,48],[148,50,152,51],[148,53,152,54],[148,36,152,36],[148,38,152,38],[148,40,152,40],[148,42,152,42],[148,44,152,44],[148,46,152,46],[142,3,152,6],[142,8,146,13],[142,15,146,22],[142,24,146,26],[142,28,146,30],[142,32,146,32],[135,42,139,42],[135,44,139,44],[135,46,139,46],[117,3,139,6],[142,46,146,46],[135,8,139,13],[135,15,139,22],[135,24,139,26],[135,28,139,30],[135,32,139,32],[135,34,139,34],[135,36,139,36],[135,38,139,38],[135,40,139,40],[117,8,121,13],[117,15,121,22],[117,24,121,26],[117,28,121,30],[123,50,127,51],[123,53,127,54],[123,36,127,36],[123,38,127,38],[123,40,127,40],[123,42,127,42],[123,44,127,44],[123,46,127,46],[135,48,139,48],[135,50,139,51],[135,53,139,54],[129,53,133,54],[129,40,133,40],[129,42,133,42],[129,44,133,44],[129,46,133,46],[129,48,133,48],[129,50,133,51],[117,32,121,32],[129,34,133,34],[129,36,133,36],[129,38,133,38],[123,48,127,48],[129,8,133,13],[129,15,133,22],[129,24,133,26],[129,28,133,30],[129,32,133,32],[123,28,127,30],[123,32,127,32],[123,34,127,34],[117,34,121,34],[117,36,121,36],[117,38,121,38],[117,40,121,40],[117,42,121,42],[117,44,121,44],[101,46,115,46],[101,48,115,48],[108,50,115,51],[108,53,115,54],[112,1,152,1],[112,3,115,6],[112,8,115,13],[112,15,115,22],[112,24,115,26],[112,28,115,30],[101,32,115,32],[101,34,115,34],[101,36,115,36],[101,38,115,38],[101,40,115,40],[101,42,115,42],[101,44,115,44],[117,46,121,46],[117,48,121,48],[117,50,121,51],[117,53,121,54],[123,8,127,13],[123,15,127,22],[123,24,127,26],[77,42,81,42],[77,44,81,44],[77,46,81,46],[77,48,81,48],[77,50,81,51],[77,53,81,54],[71,53,75,54],[77,8,81,13],[77,15,81,22],[77,24,81,26],[77,28,81,30],[77,32,81,32],[77,34,81,34],[77,36,81,36],[77,38,81,38],[77,40,81,40],[71,40,75,40],[71,42,75,42],[71,44,75,44],[71,46,75,46],[71,48,75,48],[71,50,75,51],[58,40,62,40],[58,42,62,42],[58,44,62,44],[58,46,62,46],[58,48,62,48],[65,50,69,51],[65,53,69,54],[71,8,75,13],[71,15,75,22],[71,24,75,26],[71,28,75,30],[71,32,75,32],[71,34,75,34],[71,36,75,36],[71,38,75,38],[65,38,69,38],[65,40,69,40],[65,42,69,42],[65,44,69,44],[65,46,69,46],[65,48,69,48],[65,3,81,6],[65,8,69,13],[65,15,69,22],[65,24,69,26],[65,28,69,30],[65,32,69,32],[65,34,69,34],[65,36,69,36],[58,38,62,38],[52,48,56,48],[52,50,56,51],[52,53,56,54],[58,8,62,13],[58,15,62,22],[58,24,62,26],[58,28,62,30],[58,32,62,32],[58,34,62,34],[58,36,62,36],[52,36,56,36],[52,38,56,38],[52,40,56,40],[52,42,56,42],[52,44,56,44],[52,46,56,46],[52,8,56,13],[52,15,56,22],[52,24,56,26],[52,28,56,30],[52,32,56,32],[52,34,56,34],[58,50,62,51],[58,53,62,54],[46,8,50,13],[46,15,50,22],[46,24,50,26],[46,28,50,30],[46,32,50,32],[46,34,50,34],[46,36,50,36],[46,38,50,38],[46,40,50,40],[22,24,26,26],[22,28,26,30],[22,32,26,32],[22,34,26,34],[22,36,26,36],[46,42,50,42],[46,44,50,44],[46,46,50,46],[46,48,50,48],[28,40,32,40],[28,42,32,42],[28,44,32,44],[28,46,32,46],[28,48,32,48],[40,42,44,42],[40,44,44,44],[40,46,44,46],[40,48,44,48],[34,40,38,40],[34,42,38,42],[34,44,38,44],[34,46,38,46],[34,48,38,48],[17,1,81,1],[17,3,20,6],[17,8,20,13],[17,15,20,22],[17,24,20,26],[17,28,20,30],[22,3,62,6],[22,8,26,13],[22,50,26,51],[28,8,32,13],[28,15,32,22],[28,24,32,26],[28,28,32,30],[28,32,32,32],[28,34,32,34],[28,36,32,36],[28,38,32,38],[22,38,26,38],[22,40,26,40],[22,42,26,42],[22,44,26,44],[22,46,26,46],[22,48,26,48],[22,15,26,22],[34,58,38,62],[40,56,44,57],[40,58,44,62],[46,56,50,57],[46,58,50,62],[6,32,20,32],[6,34,20,34],[6,36,20,36],[6,38,20,38],[6,40,20,40],[6,42,20,42],[6,44,20,44],[6,46,20,46],[6,48,20,48],[13,50,20,51],[13,53,20,54],[22,53,26,54],[46,50,50,51],[46,53,50,54],[28,53,32,54],[28,50,32,51],[40,50,44,51],[40,53,44,54],[34,53,38,54],[208,56,212,57],[208,58,212,62],[117,56,121,57],[117,58,121,62],[123,56,127,57],[123,58,127,62],[129,56,133,57],[129,58,133,62],[135,56,139,57],[135,58,139,62],[142,56,146,57],[142,58,146,62],[1,1,3,62],[148,56,152,57],[148,58,152,62],[189,56,193,57],[189,58,193,62],[195,56,199,57],[195,58,199,62],[201,56,205,57],[201,58,205,62],[52,56,56,57],[52,58,56,62],[58,56,62,57],[58,58,62,62],[65,56,69,57],[65,58,69,62],[71,56,75,57],[71,58,75,62],[77,56,81,57],[77,58,81,62],[22,56,26,57],[22,58,26,62],[28,56,32,57],[28,58,32,62],[34,56,38,57]]}
[]
[null,"Ресурсы по визуализации и анализу данных координированного эпиднадзора"]
[]
[]
[]
[]
[null,null,null,null,null,null,null,null,null,null,null,null,null,null,null,null,null,null,null,null,null,null,null,null,null,null,null,null,null,null,null,null,"Доступность",null,"Язык",null,"Простота использования",null,"Гибкость",null,"Потребности в данных",null,"Анализ данных",null,"Приемлемость",null,"«Единое здоровье»",null,"Воздействие"]
[]
[]
[]
[]
[]
[]
[null,null,null,null,null,null,null,null,null,null,null,null,null,null,null,null,null,null,null,null,null,null,null,null,null,null,null,null,null,null,null,null,null,null,null,null,null,null,null,null,null,null,null,null,null,null,null,null,null,null,"ИСХОДНАЯ ОЦЕНКА",null,null,"СКОРРЕКТИРОВАННАЯ ОЦЕНКА \n(Исходя из предпочтений пользователей)"]
[]
[]
[]
[null,"РЕСУРСЫ УРОВНЯ 1",null,"КЛАССИФИКАЦИЯ",null,null,null,null,"НАЗВАНИЕ РЕСУРСА",null,null,null,null,null,null,"КРАТКОЕ ОПИСАНИЕ",null,null,null,null,null,null,null,null,"ВИД РЕСУРСА",null,null,null,"ОБЩАЯ НАПРАВЛЕННОСТЬ РЕСУРСА"]
[]
[]
[]
[null,null,null,null,null,null,null,null,null,null,null,null,null,null,null,null,null,null,null,null,null,null,null,null,null,null,null,null,null,null,null,null,{"$f":"'Attribute Survey'!S22","v":0},null,{"$f":"'Attribute Survey'!S26","v":0},null,{"$f":"'Attribute Survey'!S30","v":0},null,{"$f":"'Attribute Survey'!S34","v":0},null,{"$f":"'Attribute Survey'!S38","v":0},null,{"$f":"'Attribute Survey'!S42","v":0},null,{"$f":"'Attribute Survey'!S46","v":0},null,{"$f":"'Attribute Survey'!S50","v":0},null,{"$f":"'Attribute Survey'!S54","v":0}]
[null,null,null,"Наиболее подходящие ресурсы",null,null,null,null,{"$f":"Backbone!A21","v":"Инструмент AfyaData"},null,null,null,null,null,null,"Инструмент эпиднадзора, основанный на концепции «Единое здоровье» и разработанный для эпиднадзора в области здравоохранения человека, охраны здоровья животных и окружающей среды. Доступен в виде мобильного и веб-приложения.",null,null,null,null,null,null,null,null,{"$f":"INDEX(Backbone!$R$2:$R$893,MATCH(I23,Backbone!$A$2:$A$893,0))","v":"Оборудование или программное обеспечение"},null,null,null,{"$f":"INDEX(Backbone!$S$2:$S$893,MATCH(I23,Backbone!$A$2:$A$893,0))","v":"«Единое здоровье»; универсальный "},null,null,null,{"$f":"INDEX(Backbone!$H$2:$H$893,MATCH(I23,Backbone!$A$2:$A$893,0))","v":7.3},null,{"$f":"INDEX(Backbone!$I$2:$I$893,MATCH(I23,Backbone!$A$2:$A$893,0))","v":10},null,{"$f":"INDEX(Backbone!$J$2:$J$893,MATCH(I23,Backbone!$A$2:$A$893,0))","v":8.1999999999999993},null,{"$f":"INDEX(Backbone!$K$2:$K$893,MATCH(I23,Backbone!$A$2:$A$893,0))","v":7.3},null,{"$f":"INDEX(Backbone!$L$2:$L$893,MATCH(I23,Backbone!$A$2:$A$893,0))","v":7.6},null,{"$f":"INDEX(Backbone!$M$2:$M$893,MATCH(I23,Backbone!$A$2:$A$893,0))","v":8.8000000000000007},null,{"$f":"INDEX(Backbone!$N$2:$N$893,MATCH(I23,Backbone!$A$2:$A$893,0))","v":5.5},null,{"$f":"INDEX(Backbone!$O$2:$O$893,MATCH(I23,Backbone!$A$2:$A$893,0))","v":7.6},null,{"$f":"INDEX(Backbone!$P$2:$P$893,MATCH(I23,Backbone!$A$2:$A$893,0))","v":7},null,{"$f":"INDEX(Backbone!$Q$2:$Q$893,MATCH(I23,Backbone!$A$2:$A$893,0))","v":0.77000000000000013},null,null,{"$f":"(AG23*$AG$22+AI23*$AI$22+AK23*$AK$22+AM23*$AM$22+AO23*$AO$22+AQ23*$AQ$22+AS23*$AS$22+AU23*$AU$22+AW23*$AW$22)/(SUM($AG$22:$AW$22)*10)","v":{"$error":"#DIV/0!"}},null,null,"Перейти в Реестр ресурсов: ",null,{"$f":"HYPERLINK(\"#\"&ADDRESS(MATCH(I23,Toolbox!$C$1:$C$300),1,,,\"Toolbox\"),VLOOKUP(I23,Toolbox!$C$1:$C$300,1,FALSE))","v":"Инструмент AfyaData"}]
[]
[]
[]
[]
[]
[null,null,null,null,null,null,null,null,{"$f":"Backbone!A65","v":"Районная информационная система здравоохранения, версия 2 (DHIS2) "},null,null,null,null,null,null,"Онлайн-платформа информационной системы управления в системе здравоохранения с открытым исходным кодом.",null,null,null,null,null,null,null,null,{"$f":"INDEX(Backbone!$R$2:$R$893,MATCH(I29,Backbone!$A$2:$A$893,0))","v":"Оборудование или программное обеспечение"},null,null,null,{"$f":"INDEX(Backbone!$S$2:$S$893,MATCH(I29,Backbone!$A$2:$A$893,0))","v":"Ориентированный на конкретный сектор; универсальный"},null,null,null,{"$f":"INDEX(Backbone!$H$2:$H$893,MATCH(I29,Backbone!$A$2:$A$893,0))","v":8.8000000000000007},null,{"$f":"INDEX(Backbone!$I$2:$I$893,MATCH(I29,Backbone!$A$2:$A$893,0))","v":8.6999999999999993},null,{"$f":"INDEX(Backbone!$J$2:$J$893,MATCH(I29,Backbone!$A$2:$A$893,0))","v":8},null,{"$f":"INDEX(Backbone!$K$1:$K$893,MATCH(I29,Backbone!$A$1:$A$893,0))","v":8.6999999999999993},null,{"$f":"INDEX(Backbone!$L$2:$L$893,MATCH(I29,Backbone!$A$2:$A$893,0))","v":9.3000000000000007},null,{"$f":"INDEX(Backbone!$M$2:$M$893,MATCH(I29,Backbone!$A$2:$A$893,0))","v":9},null,{"$f":"INDEX(Backbone!$N$2:$N$893,MATCH(I29,Backbone!$A$2:$A$893,0))","v":10},null,{"$f":"INDEX(Backbone!$O$2:$O$893,MATCH(I29,Backbone!$A$2:$A$893,0))","v":7.8},null,{"$f":"INDEX(Backbone!$P$2:$P$893,MATCH(I29,Backbone!$A$2:$A$893,0))","v":7},null,{"$f":"INDEX(Backbone!$Q$2:$Q$893,MATCH(I29,Backbone!$A$2:$A$893,0))","v":0.85888888888888881},null,null,{"$f":"(AG29*$AG$22+AI29*$AI$22+AK29*$AK$22+AM29*$AM$22+AO29*$AO$22+AQ29*$AQ$22+AS29*$AS$22+AU29*$AU$22+AW29*$AW$22)/(SUM($AG$22:$AW$22)*10)","v":{"$error":"#DIV/0!"}},null,null,"Перейти в Реестр ресурсов: ",null,{"$f":"HYPERLINK(\"#\"&ADDRESS(MATCH(I29,Toolbox!$C$1:$C$300),1,,,\"Toolbox\"),VLOOKUP(I29,Toolbox!$C$1:$C$300,1,FALSE))","v":"Районная информационная система здравоохранения, версия 2 (DHIS2) "}]
[]
[]
[]
[]
[]
[null,null,null,null,null,null,null,null,{"$f":"Backbone!A138","v":"Электронная интегрированная система эпиднадзора за болезнями (EIDSS)"},null,null,null,null,null,null,"Электронная онлайн-система передачи эпидемиологической информации адаптируется под требования заказчика. Она создана для пассивного и активного эпиднадзора при содействии медицинских и ветеринарных учреждений, для лабораторной диагностики, надзора за переносчиками и управления вспышками заболеваний. ",null,null,null,null,null,null,null,null,{"$f":"INDEX(Backbone!$R$2:$R$893,MATCH(I35,Backbone!$A$2:$A$893,0))","v":"Оборудование или программное обеспечение"},null,null,null,{"$f":"INDEX(Backbone!$S$2:$S$893,MATCH(I35,Backbone!$A$2:$A$893,0))","v":"«Единое здоровье»; универсальный"},null,null,null,{"$f":"INDEX(Backbone!$H$2:$H$893,MATCH(I35,Backbone!$A$2:$A$893,0))","v":6.8},null,{"$f":"INDEX(Backbone!$I$2:$I$893,MATCH(I35,Backbone!$A$2:$A$893,0))","v":10},null,{"$f":"INDEX(Backbone!$J$2:$J$893,MATCH(I35,Backbone!$A$2:$A$893,0))","v":8.4},null,{"$f":"INDEX(Backbone!$K$1:$K$893,MATCH(I35,Backbone!$A$1:$A$893,0))","v":8.6999999999999993},null,{"$f":"INDEX(Backbone!$L$2:$L$893,MATCH(I35,Backbone!$A$2:$A$893,0))","v":9.1},null,{"$f":"INDEX(Backbone!$M$2:$M$893,MATCH(I35,Backbone!$A$2:$A$893,0))","v":8},null,{"$f":"INDEX(Backbone!$N$2:$N$893,MATCH(I35,Backbone!$A$2:$A$893,0))","v":7},null,{"$f":"INDEX(Backbone!$O$2:$O$893,MATCH(I35,Backbone!$A$2:$A$893,0))","v":7.2},null,{"$f":"INDEX(Backbone!$P$2:$P$893,MATCH(I35,Backbone!$A$2:$A$893,0))","v":10},null,{"$f":"INDEX(Backbone!$Q$2:$Q$893,MATCH(I35,Backbone!$A$2:$A$893,0))","v":0.83555555555555561},null,null,{"$f":"(AG35*$AG$22+AI35*$AI$22+AK35*$AK$22+AM35*$AM$22+AO35*$AO$22+AQ35*$AQ$22+AS35*$AS$22+AU35*$AU$22+AW35*$AW$22)/(SUM($AG$22:$AW$22)*10)","v":{"$error":"#DIV/0!"}},null,null,"Перейти в Реестр ресурсов: ",null,{"$f":"HYPERLINK(\"#\"&ADDRESS(MATCH(I35,Toolbox!$C$1:$C$300),1,,,\"Toolbox\"),VLOOKUP(I35,Toolbox!$C$1:$C$300,1,FALSE))","v":"Электронная интегрированная система эпиднадзора за болезнями (EIDSS)"}]
[]
[]
[]
[]
[]
[null,null,null,null,null,null,null,null,{"$f":"Backbone!A195","v":"Комплексная система эпиднадзора и мер реагирования (IDSR)"},null,null,null,null,null,null,"Стратегия, разработанная с целью укрепить потенциал стран для выявления и подтверждения предполагаемых случаев заболевания и вспышек и реагирования на них, а также для использования информации для прогнозирования событий в области общественного здравоохранения и планирования мер реагирования на них.",null,null,null,null,null,null,null,null,{"$f":"INDEX(Backbone!$R$2:$R$893,MATCH(I41,Backbone!$A$2:$A$893,0))","v":"Руководящий документ"},null,null,null,{"$f":"INDEX(Backbone!$S$2:$S$893,MATCH(I41,Backbone!$A$2:$A$893,0))","v":"Ориентированный на конкретный сектор; универсальный"},null,null,null,{"$f":"INDEX(Backbone!$H$2:$H$893,MATCH(I41,Backbone!$A$2:$A$893,0))","v":7.4},null,{"$f":"INDEX(Backbone!$I$2:$I$893,MATCH(I41,Backbone!$A$2:$A$893,0))","v":10},null,{"$f":"INDEX(Backbone!$J$2:$J$893,MATCH(I41,Backbone!$A$2:$A$893,0))","v":7.4},null,{"$f":"INDEX(Backbone!$K$1:$K$893,MATCH(I41,Backbone!$A$1:$A$893,0))","v":8.6999999999999993},null,{"$f":"INDEX(Backbone!$L$2:$L$893,MATCH(I41,Backbone!$A$2:$A$893,0))","v":6.7},null,{"$f":"INDEX(Backbone!$M$2:$M$893,MATCH(I41,Backbone!$A$2:$A$893,0))","v":4.5},null,{"$f":"INDEX(Backbone!$N$2:$N$893,MATCH(I41,Backbone!$A$2:$A$893,0))","v":8},null,{"$f":"INDEX(Backbone!$O$2:$O$893,MATCH(I41,Backbone!$A$2:$A$893,0))","v":7.2},null,{"$f":"INDEX(Backbone!$P$2:$P$893,MATCH(I41,Backbone!$A$2:$A$893,0))","v":8.5},null,{"$f":"INDEX(Backbone!$Q$2:$Q$893,MATCH(I41,Backbone!$A$2:$A$893,0))","v":0.76},null,null,{"$f":"(AG41*$AG$22+AI41*$AI$22+AK41*$AK$22+AM41*$AM$22+AO41*$AO$22+AQ41*$AQ$22+AS41*$AS$22+AU41*$AU$22+AW41*$AW$22)/(SUM($AG$22:$AW$22)*10)","v":{"$error":"#DIV/0!"}},null,null,"Перейти в Реестр ресурсов: ",null,{"$f":"HYPERLINK(\"#\"&ADDRESS(MATCH(I41,Toolbox!$C$1:$C$300),1,,,\"Toolbox\"),VLOOKUP(I41,Toolbox!$C$1:$C$300,1,FALSE))","v":"Комплексная система эпиднадзора и мер реагирования (IDSR)"}]
[]
[]
[]
[]
[]
[null,null,null,null,null,null,null,null,{"$f":"Backbone!A271","v":"Анализ инфраструктуры лабораторной сети (LINA)"},null,null,null,null,null,null,"Простое в использовании веб-приложение с функциями сложного компьютерного моделирования и анализа данных с простой визуализацией на базе карт в отношении потенциала и возможностей национальной лабораторной сети и каждой отдельной лаборатории.\n\n\n",null,null,null,null,null,null,null,null,{"$f":"INDEX(Backbone!$R$2:$R$893,MATCH(I47,Backbone!$A$2:$A$893,0))","v":"Оборудование или программное обеспечение"},null,null,null,{"$f":"INDEX(Backbone!$S$2:$S$893,MATCH(I47,Backbone!$A$2:$A$893,0))","v":"«Единое здоровье»; универсальный"},null,null,null,{"$f":"INDEX(Backbone!$H$2:$H$893,MATCH(I47,Backbone!$A$2:$A$893,0))","v":9.6},null,{"$f":"INDEX(Backbone!$I$2:$I$893,MATCH(I47,Backbone!$A$2:$A$893,0))","v":6},null,{"$f":"INDEX(Backbone!$J$2:$J$893,MATCH(I47,Backbone!$A$2:$A$893,0))","v":7.6},null,{"$f":"INDEX(Backbone!$K$1:$K$893,MATCH(I47,Backbone!$A$1:$A$893,0))","v":9},null,{"$f":"INDEX(Backbone!$L$2:$L$893,MATCH(I47,Backbone!$A$2:$A$893,0))","v":8.3000000000000007},null,{"$f":"INDEX(Backbone!$M$2:$M$893,MATCH(I47,Backbone!$A$2:$A$893,0))","v":7},null,{"$f":"INDEX(Backbone!$N$2:$N$893,MATCH(I47,Backbone!$A$2:$A$893,0))","v":3},null,{"$f":"INDEX(Backbone!$O$2:$O$893,MATCH(I47,Backbone!$A$2:$A$893,0))","v":9.1},null,{"$f":"INDEX(Backbone!$P$2:$P$893,MATCH(I47,Backbone!$A$2:$A$893,0))","v":4},null,{"$f":"INDEX(Backbone!$Q$2:$Q$893,MATCH(I47,Backbone!$A$2:$A$893,0))","v":0.69555555555555559},null,null,{"$f":"(AG47*$AG$22+AI47*$AI$22+AK47*$AK$22+AM47*$AM$22+AO47*$AO$22+AQ47*$AQ$22+AS47*$AS$22+AU47*$AU$22+AW47*$AW$22)/(SUM($AG$22:$AW$22)*10)","v":{"$error":"#DIV/0!"}},null,null,"Перейти в Реестр ресурсов: ",null,{"$f":"HYPERLINK(\"#\"&ADDRESS(MATCH(I47,Toolbox!$C$1:$C$300),1,,,\"Toolbox\"),VLOOKUP(I47,Toolbox!$C$1:$C$300,1,FALSE))","v":"Анализ инфраструктуры лабораторной сети (LINA)"}]
[]
[]
[]
[]
[]
[null,null,null,null,null,null,null,null,{"$f":"Backbone!A489","v":"Пакет программного обеспечения для проведения автоматического глобального электронного биомониторинга (SAGES)"},null,null,null,null,null,null,"Пакет программного обеспечения с открытым исходным кодом для улучшения электронного эпиднадзора в условиях ограниченных ресурсов.",null,null,null,null,null,null,null,null,{"$f":"INDEX(Backbone!$R$2:$R$893,MATCH(I53,Backbone!$A$2:$A$893,0))","v":"Оборудование или программное обеспечение"},null,null,null,{"$f":"INDEX(Backbone!$S$2:$S$893,MATCH(I53,Backbone!$A$2:$A$893,0))","v":"«Единое здоровье»; универсальный"},null,null,null,{"$f":"INDEX(Backbone!$H$2:$H$893,MATCH(I53,Backbone!$A$2:$A$893,0))","v":9.8000000000000007},null,{"$f":"INDEX(Backbone!$I$2:$I$893,MATCH(I53,Backbone!$A$2:$A$893,0))","v":10},null,{"$f":"INDEX(Backbone!$J$2:$J$893,MATCH(I53,Backbone!$A$2:$A$893,0))","v":10},null,{"$f":"INDEX(Backbone!$K$1:$K$893,MATCH(I53,Backbone!$A$1:$A$893,0))","v":9.3000000000000007},null,{"$f":"INDEX(Backbone!$L$2:$L$893,MATCH(I53,Backbone!$A$2:$A$893,0))","v":8.5},null,{"$f":"INDEX(Backbone!$M$2:$M$893,MATCH(I53,Backbone!$A$2:$A$893,0))","v":9},null,{"$f":"INDEX(Backbone!$N$2:$N$893,MATCH(I53,Backbone!$A$2:$A$893,0))","v":5.5},null,{"$f":"INDEX(Backbone!$O$2:$O$893,MATCH(I53,Backbone!$A$2:$A$893,0))","v":9.5},null,{"$f":"INDEX(Backbone!$P$2:$P$893,MATCH(I53,Backbone!$A$2:$A$893,0))","v":7},null,{"$f":"INDEX(Backbone!$Q$2:$Q$893,MATCH(I53,Backbone!$A$2:$A$893,0))","v":0.87333333333333329},null,null,{"$f":"(AG53*$AG$22+AI53*$AI$22+AK53*$AK$22+AM53*$AM$22+AO53*$AO$22+AQ53*$AQ$22+AS53*$AS$22+AU53*$AU$22+AW53*$AW$22)/(SUM($AG$22:$AW$22)*10)","v":{"$error":"#DIV/0!"}},null,null,"Перейти в Реестр ресурсов: ",null,{"$f":"HYPERLINK(\"#\"&ADDRESS(MATCH(I53,Toolbox!$C$1:$C$300),1,,,\"Toolbox\"),VLOOKUP(I53,Toolbox!$C$1:$C$300,1,FALSE))","v":"Пакет программного обеспечения для проведения автоматического глобального электронного биомониторинга (SAGES)"}]
[]
[]
[]
[]
[]
[null,null,null,null,null,null,null,null,{"$f":"Backbone!A540","v":"Система анализа и управления мерами эпиднадзора и реагирования на вспышки (SORMAS)"},null,null,null,null,null,null,"Мобильная система eHealth с открытым исходным кодом, которая помимо эпиднадзора и раннего обнаружения вспышек обрабатывает процедуры борьбы с заболеваниями и управления вспышками при помощи цифрового эпиднадзора в реальном времени.",null,null,null,null,null,null,null,null,{"$f":"INDEX(Backbone!$R$2:$R$893,MATCH(I59,Backbone!$A$2:$A$893,0))","v":"Оборудование или программное обеспечение"},null,null,null,{"$f":"INDEX(Backbone!$S$2:$S$893,MATCH(I59,Backbone!$A$2:$A$893,0))","v":"Ориентированный на конкретный сектор; универсальный"},null,null,null,{"$f":"INDEX(Backbone!$H$2:$H$893,MATCH(I59,Backbone!$A$2:$A$893,0))","v":9.1999999999999993},null,{"$f":"INDEX(Backbone!$I$2:$I$893,MATCH(I59,Backbone!$A$2:$A$893,0))","v":8},null,{"$f":"INDEX(Backbone!$J$2:$J$893,MATCH(I59,Backbone!$A$2:$A$893,0))","v":9.3000000000000007},null,{"$f":"INDEX(Backbone!$K$1:$K$893,MATCH(I59,Backbone!$A$1:$A$893,0))","v":9.1},null,{"$f":"INDEX(Backbone!$L$2:$L$893,MATCH(I59,Backbone!$A$2:$A$893,0))","v":9.3000000000000007},null,{"$f":"INDEX(Backbone!$M$2:$M$893,MATCH(I59,Backbone!$A$2:$A$893,0))","v":9.3000000000000007},null,{"$f":"INDEX(Backbone!$N$2:$N$893,MATCH(I59,Backbone!$A$2:$A$893,0))","v":6.8},null,{"$f":"INDEX(Backbone!$O$2:$O$893,MATCH(I59,Backbone!$A$2:$A$893,0))","v":3.9},null,{"$f":"INDEX(Backbone!$P$2:$P$893,MATCH(I59,Backbone!$A$2:$A$893,0))","v":5.3},null,{"$f":"INDEX(Backbone!$Q$2:$Q$893,MATCH(I59,Backbone!$A$2:$A$893,0))","v":0.78},null,null,{"$f":"(AG59*$AG$22+AI59*$AI$22+AK59*$AK$22+AM59*$AM$22+AO59*$AO$22+AQ59*$AQ$22+AS59*$AS$22+AU59*$AU$22+AW59*$AW$22)/(SUM($AG$22:$AW$22)*10)","v":{"$error":"#DIV/0!"}},null,null,"Перейти в Реестр ресурсов: ",null,{"$f":"HYPERLINK(\"#\"&ADDRESS(MATCH(I59,Toolbox!$C$1:$C$300),1,,,\"Toolbox\"),VLOOKUP(I59,Toolbox!$C$1:$C$300,1,FALSE))","v":"Система анализа и управления мерами эпиднадзора и реагирования на вспышки (SORMAS)"}]
[]
[]
[]
[]
[]
[]
[null,null,null,"Другие полезные ресурсы",null,null,null,null,{"$f":"Backbone!A179","v":"Приложение FoodChain-Lab (FCL) "},null,null,null,null,null,null,"Бесплатное программное обеспечение для отслеживания с открытым исходным кодом, позволяющее отслеживать продукты питания по всей цепочки поставки как вперед, так и назад с целью определения источника заражения, вызвавшего вспышку заболевания пищевого происхождения или иной инцидент, связанный с пищевыми продуктами.",null,null,null,null,null,null,null,null,{"$f":"INDEX(Backbone!$R$2:$R$893,MATCH(I66,Backbone!$A$2:$A$893,0))","v":"Оборудование или программное обеспечение"},null,null,null,{"$f":"INDEX(Backbone!$S$2:$S$893,MATCH(I66,Backbone!$A$2:$A$893,0))","v":"«Единое здоровье»; ориентированный на конкретную болезнь/угрозу "},null,null,null,{"$f":"INDEX(Backbone!$H$2:$H$893,MATCH(I66,Backbone!$A$2:$A$893,0))","v":9.6999999999999993},null,{"$f":"INDEX(Backbone!$I$2:$I$893,MATCH(I66,Backbone!$A$2:$A$893,0))","v":6},null,{"$f":"INDEX(Backbone!$J$2:$J$893,MATCH(I66,Backbone!$A$2:$A$893,0))","v":7.9},null,{"$f":"INDEX(Backbone!$K$1:$K$893,MATCH(I66,Backbone!$A$1:$A$893,0))","v":7.8},null,{"$f":"INDEX(Backbone!$L$2:$L$893,MATCH(I66,Backbone!$A$2:$A$893,0))","v":8.1},null,{"$f":"INDEX(Backbone!$M$2:$M$893,MATCH(I66,Backbone!$A$2:$A$893,0))","v":8},null,{"$f":"INDEX(Backbone!$N$2:$N$893,MATCH(I66,Backbone!$A$2:$A$893,0))","v":7.9},null,{"$f":"INDEX(Backbone!$O$2:$O$893,MATCH(I66,Backbone!$A$2:$A$893,0))","v":8.4},null,{"$f":"INDEX(Backbone!$P$2:$P$893,MATCH(I66,Backbone!$A$2:$A$893,0))","v":9.6999999999999993},null,{"$f":"INDEX(Backbone!$Q$2:$Q$893,MATCH(I66,Backbone!$A$2:$A$893,0))","v":0.81666666666666665},null,null,{"$f":"(AG66*$AG$22+AI66*$AI$22+AK66*$AK$22+AM66*$AM$22+AO66*$AO$22+AQ66*$AQ$22+AS66*$AS$22+AU66*$AU$22+AW66*$AW$22)/(SUM($AG$22:$AW$22)*10)","v":{"$error":"#DIV/0!"}},null,null,"Перейти в Реестр ресурсов: ",null,{"$f":"HYPERLINK(\"#\"&ADDRESS(MATCH(I66,Toolbox!$C$1:$C$300),1,,,\"Toolbox\"),VLOOKUP(I66,Toolbox!$C$1:$C$300,1,FALSE))","v":"Приложение FoodChain-Lab (FCL) "}]
[]
[]
[]
[]
[]
[null,null,null,null,null,null,null,null,{"$f":"Backbone!A571","v":"Приложение Всемирной организации охраны здоровья животных (МЭБ) для получения оповещений от ВАХИС (WAHIS Alerts)"},null,null,null,null,null,null,"Приложение, позволяющее пользователям получать на мобильный телефон или планшет (мгновенные) оповещения о заболеваниях животных и последующие отчеты по мере их публикации МЭБ.",null,null,null,null,null,null,null,null,{"$f":"INDEX(Backbone!$R$2:$R$893,MATCH(I72,Backbone!$A$2:$A$893,0))","v":"Оборудование или программное обеспечение"},null,null,null,{"$f":"INDEX(Backbone!$S$2:$S$893,MATCH(I72,Backbone!$A$2:$A$893,0))","v":"Ориентированный на конкретный сектор; универсальный"},null,null,null,{"$f":"INDEX(Backbone!$H$2:$H$893,MATCH(I72,Backbone!$A$2:$A$893,0))","v":9.6999999999999993},null,{"$f":"INDEX(Backbone!$I$2:$I$893,MATCH(I72,Backbone!$A$2:$A$893,0))","v":10},null,{"$f":"INDEX(Backbone!$J$2:$J$893,MATCH(I72,Backbone!$A$2:$A$893,0))","v":8.8000000000000007},null,{"$f":"INDEX(Backbone!$K$1:$K$893,MATCH(I72,Backbone!$A$1:$A$893,0))","v":8.6999999999999993},null,{"$f":"INDEX(Backbone!$L$2:$L$893,MATCH(I72,Backbone!$A$2:$A$893,0))","v":8.3000000000000007},null,{"$f":"INDEX(Backbone!$M$2:$M$893,MATCH(I72,Backbone!$A$2:$A$893,0))","v":5},null,{"$f":"INDEX(Backbone!$N$2:$N$893,MATCH(I72,Backbone!$A$2:$A$893,0))","v":7.5},null,{"$f":"INDEX(Backbone!$O$2:$O$893,MATCH(I72,Backbone!$A$2:$A$893,0))","v":3.3},null,{"$f":"INDEX(Backbone!$P$2:$P$893,MATCH(I72,Backbone!$A$2:$A$893,0))","v":6},null,{"$f":"INDEX(Backbone!$Q$2:$Q$893,MATCH(I72,Backbone!$A$2:$A$893,0))","v":0.74777777777777776},null,null,{"$f":"(AG72*$AG$22+AI72*$AI$22+AK72*$AK$22+AM72*$AM$22+AO72*$AO$22+AQ72*$AQ$22+AS72*$AS$22+AU72*$AU$22+AW72*$AW$22)/(SUM($AG$22:$AW$22)*10)","v":{"$error":"#DIV/0!"}},null,null,"Перейти в Реестр ресурсов: ",null,{"$f":"HYPERLINK(\"#\"&ADDRESS(MATCH(I72,Toolbox!$C$1:$C$300),1,,,\"Toolbox\"),VLOOKUP(I72,Toolbox!$C$1:$C$300,1,FALSE))","v":"Приложение Всемирной организации охраны здоровья животных (МЭБ) для получения оповещений от ВАХИС (WAHIS Alerts)"}]
[]
[]
[]
[]
[]
[null,null,null,null,null,null,null,null,{"$f":"Backbone!A604","v":"Приложение для оценки воздействия бешенства и выявления контактных лиц (REACT)"},null,null,null,null,null,null,"Инструмент, помогающий реализации комплексных программ управления случаями укусов (IBCM).",null,null,null,null,null,null,null,null,{"$f":"INDEX(Backbone!$R$2:$R$893,MATCH(I78,Backbone!$A$2:$A$893,0))","v":"Оборудование или программное обеспечение"},null,null,null,{"$f":"INDEX(Backbone!$S$2:$S$893,MATCH(I78,Backbone!$A$2:$A$893,0))","v":"«Единое здоровье»; ориентированный на конкретную болезнь/угрозу "},null,null,null,{"$f":"INDEX(Backbone!$H$2:$H$893,MATCH(I78,Backbone!$A$2:$A$893,0))","v":8.6},null,{"$f":"INDEX(Backbone!$I$2:$I$893,MATCH(I78,Backbone!$A$2:$A$893,0))","v":8.6},null,{"$f":"INDEX(Backbone!$J$2:$J$893,MATCH(I78,Backbone!$A$2:$A$893,0))","v":8},null,{"$f":"INDEX(Backbone!$K$1:$K$893,MATCH(I78,Backbone!$A$1:$A$893,0))","v":8.6},null,{"$f":"INDEX(Backbone!$L$2:$L$893,MATCH(I78,Backbone!$A$2:$A$893,0))","v":9.4},null,{"$f":"INDEX(Backbone!$M$2:$M$893,MATCH(I78,Backbone!$A$2:$A$893,0))","v":9.5},null,{"$f":"INDEX(Backbone!$N$2:$N$893,MATCH(I78,Backbone!$A$2:$A$893,0))","v":9},null,{"$f":"INDEX(Backbone!$O$2:$O$893,MATCH(I78,Backbone!$A$2:$A$893,0))","v":9.1999999999999993},null,{"$f":"INDEX(Backbone!$P$2:$P$893,MATCH(I78,Backbone!$A$2:$A$893,0))","v":9},null,{"$f":"INDEX(Backbone!$Q$2:$Q$893,MATCH(I78,Backbone!$A$2:$A$893,0))","v":0.88777777777777767},null,null,{"$f":"(AG78*$AG$22+AI78*$AI$22+AK78*$AK$22+AM78*$AM$22+AO78*$AO$22+AQ78*$AQ$22+AS78*$AS$22+AU78*$AU$22+AW78*$AW$22)/(SUM($AG$22:$AW$22)*10)","v":{"$error":"#DIV/0!"}},null,null,"Перейти в Реестр ресурсов: ",null,{"$f":"HYPERLINK(\"#\"&ADDRESS(MATCH(I78,Toolbox!$C$1:$C$300),1,,,\"Toolbox\"),VLOOKUP(I78,Toolbox!$C$1:$C$300,1,FALSE))","v":"Приложение для оценки воздействия бешенства и выявления контактных лиц (REACT)"}]
[]
[]
[]
[]
[]
[]
[]
[]
[]
[]
[]
[]
[]
[]
[]
[]
[]
[]
[]
[]
[]
[]
[]
[null,null,null,null,null,null,null,null,null,null,null,null,null,null,null,null,null,null,null,null,null,null,null,null,null,null,null,null,null,null,null,null,"Доступность",null,"Язык",null,"Простота использования",null,"Гибкость",null,"Потребности в данных",null,"Анализ данных",null,"Приемлемость",null,"«Единое здоровье»",null,"Воздействие"]
[]
[]
[]
[]
[]
[]
[null,null,null,null,null,null,null,null,null,null,null,null,null,null,null,null,null,null,null,null,null,null,null,null,null,null,null,null,null,null,null,null,null,null,null,null,null,null,null,null,null,null,null,null,null,null,null,null,null,null,"ИСХОДНАЯ ОЦЕНКА",null,null,"СКОРРЕКТИРОВАННАЯ ОЦЕНКА \n(Исходя из предпочтений пользователей)"]
[]
[]
[]
[null,"РЕСУРСЫ УРОВНЯ 2",null,"КЛАССИФИКАЦИЯ",null,null,null,null,"НАЗВАНИЕ РЕСУРСА",null,null,null,null,null,null,"КРАТКОЕ ОПИСАНИЕ",null,null,null,null,null,null,null,null,"ВИД РЕСУРСА",null,null,null,"ОБЩАЯ НАПРАВЛЕННОСТЬ РЕСУРСА"]
[]
[]
[]
[null,null,null,null,null,null,null,null,null,null,null,null,null,null,null,null,null,null,null,null,null,null,null,null,null,null,null,null,null,null,null,null,{"$f":"'Attribute Survey'!S111","v":0},null,{"$f":"'Attribute Survey'!S115","v":0},null,{"$f":"'Attribute Survey'!S119","v":0},null,{"$f":"'Attribute Survey'!S123","v":0},null,{"$f":"'Attribute Survey'!S127","v":0},null,{"$f":"'Attribute Survey'!S131","v":0},null,{"$f":"'Attribute Survey'!S135","v":0},null,{"$f":"'Attribute Survey'!S139","v":0},null,{"$f":"'Attribute Survey'!S143","v":0}]
[null,null,null,"Наиболее подходящие ресурсы",null,null,null,null,{"$f":"Backbone!A195","v":"Комплексная система эпиднадзора и мер реагирования (IDSR)"},null,null,null,null,null,null,"Стратегия, разработанная с целью укрепить потенциал стран для выявления и подтверждения предполагаемых случаев заболевания и вспышек и реагирования на них, а также для использования информации для прогнозирования событий в области общественного здравоохранения и планирования мер реагирования на них.",null,null,null,null,null,null,null,null,{"$f":"INDEX(Backbone!$R$2:$R$893,MATCH(I118,Backbone!$A$2:$A$893,0))","v":"Руководящий документ"},null,null,null,{"$f":"INDEX(Backbone!$S$2:$S$893,MATCH(I118,Backbone!$A$2:$A$893,0))","v":"Ориентированный на конкретный сектор; универсальный"},null,null,null,{"$f":"INDEX(Backbone!$H$2:$H$893,MATCH(I118,Backbone!$A$2:$A$893,0))","v":7.4},null,{"$f":"INDEX(Backbone!$I$2:$I$893,MATCH(I118,Backbone!$A$2:$A$893,0))","v":10},null,{"$f":"INDEX(Backbone!$J$2:$J$893,MATCH(I118,Backbone!$A$2:$A$893,0))","v":7.4},null,{"$f":"INDEX(Backbone!$K$2:$K$893,MATCH(I118,Backbone!$A$2:$A$893,0))","v":8.6999999999999993},null,{"$f":"INDEX(Backbone!$L$2:$L$893,MATCH(I118,Backbone!$A$2:$A$893,0))","v":6.7},null,{"$f":"INDEX(Backbone!$M$2:$M$893,MATCH(I118,Backbone!$A$2:$A$893,0))","v":4.5},null,{"$f":"INDEX(Backbone!$N$2:$N$893,MATCH(I118,Backbone!$A$2:$A$893,0))","v":8},null,{"$f":"INDEX(Backbone!$O$2:$O$893,MATCH(I118,Backbone!$A$2:$A$893,0))","v":7.2},null,{"$f":"INDEX(Backbone!$P$2:$P$893,MATCH(I118,Backbone!$A$2:$A$893,0))","v":8.5},null,{"$f":"INDEX(Backbone!$Q$2:$Q$893,MATCH(I118,Backbone!$A$2:$A$893,0))","v":0.76},null,null,{"$f":"(AG118*$AG$22+AI118*$AI$22+AK118*$AK$22+AM118*$AM$22+AO118*$AO$22+AQ118*$AQ$22+AS118*$AS$22+AU118*$AU$22+AW118*$AW$22)/(SUM($AG$22:$AW$22)*10)","v":{"$error":"#DIV/0!"}},null,null,"Перейти в Реестр ресурсов: ",null,{"$f":"HYPERLINK(\"#\"&ADDRESS(MATCH(I118,Toolbox!$C$1:$C$300),1,,,\"Toolbox\"),VLOOKUP(I118,Toolbox!$C$1:$C$300,1,FALSE))","v":"Комплексная система эпиднадзора и мер реагирования (IDSR)"}]
[]
[]
[]
[]
[]
[null,null,null,null,null,null,null,null,{"$f":"Backbone!A271","v":"Анализ инфраструктуры лабораторной сети (LINA)"},null,null,null,null,null,null,"Простое в использовании веб-приложение с функциями сложного компьютерного моделирования и анализа данных с простой визуализацией на базе карт в отношении потенциала и возможностей национальной лабораторной сети и каждой отдельной лаборатории.\n\n\n",null,null,null,null,null,null,null,null,{"$f":"INDEX(Backbone!$R$2:$R$893,MATCH(I124,Backbone!$A$2:$A$893,0))","v":"Оборудование или программное обеспечение"},null,null,null,{"$f":"INDEX(Backbone!$S$2:$S$893,MATCH(I124,Backbone!$A$2:$A$893,0))","v":"«Единое здоровье»; универсальный"},null,null,null,{"$f":"INDEX(Backbone!$H$2:$H$893,MATCH(I124,Backbone!$A$2:$A$893,0))","v":9.6},null,{"$f":"INDEX(Backbone!$I$2:$I$893,MATCH(I124,Backbone!$A$2:$A$893,0))","v":6},null,{"$f":"INDEX(Backbone!$J$2:$J$893,MATCH(I124,Backbone!$A$2:$A$893,0))","v":7.6},null,{"$f":"INDEX(Backbone!$K$1:$K$893,MATCH(I124,Backbone!$A$1:$A$893,0))","v":9},null,{"$f":"INDEX(Backbone!$L$2:$L$893,MATCH(I124,Backbone!$A$2:$A$893,0))","v":8.3000000000000007},null,{"$f":"INDEX(Backbone!$M$2:$M$893,MATCH(I124,Backbone!$A$2:$A$893,0))","v":7},null,{"$f":"INDEX(Backbone!$N$2:$N$893,MATCH(I124,Backbone!$A$2:$A$893,0))","v":3},null,{"$f":"INDEX(Backbone!$O$2:$O$893,MATCH(I124,Backbone!$A$2:$A$893,0))","v":9.1},null,{"$f":"INDEX(Backbone!$P$2:$P$893,MATCH(I124,Backbone!$A$2:$A$893,0))","v":4},null,{"$f":"INDEX(Backbone!$Q$2:$Q$893,MATCH(I124,Backbone!$A$2:$A$893,0))","v":0.69555555555555559},null,null,{"$f":"(AG124*$AG$22+AI124*$AI$22+AK124*$AK$22+AM124*$AM$22+AO124*$AO$22+AQ124*$AQ$22+AS124*$AS$22+AU124*$AU$22+AW124*$AW$22)/(SUM($AG$22:$AW$22)*10)","v":{"$error":"#DIV/0!"}},null,null,"Перейти в Реестр ресурсов: ",null,{"$f":"HYPERLINK(\"#\"&ADDRESS(MATCH(I124,Toolbox!$C$1:$C$300),1,,,\"Toolbox\"),VLOOKUP(I124,Toolbox!$C$1:$C$300,1,FALSE))","v":"Анализ инфраструктуры лабораторной сети (LINA)"}]
[]
[]
[]
[]
[]
[null,null,null,null,null,null,null,null,{"$f":"Backbone!A489","v":"Пакет программного обеспечения для проведения автоматического глобального электронного биомониторинга (SAGES)"},null,null,null,null,null,null,"Пакет программного обеспечения с открытым исходным кодом для улучшения электронного эпиднадзора в условиях ограниченных ресурсов.",null,null,null,null,null,null,null,null,{"$f":"INDEX(Backbone!$R$2:$R$893,MATCH(I130,Backbone!$A$2:$A$893,0))","v":"Оборудование или программное обеспечение"},null,null,null,{"$f":"INDEX(Backbone!$S$2:$S$893,MATCH(I130,Backbone!$A$2:$A$893,0))","v":"«Единое здоровье»; универсальный"},null,null,null,{"$f":"INDEX(Backbone!$H$2:$H$893,MATCH(I130,Backbone!$A$2:$A$893,0))","v":9.8000000000000007},null,{"$f":"INDEX(Backbone!$I$2:$I$893,MATCH(I130,Backbone!$A$2:$A$893,0))","v":10},null,{"$f":"INDEX(Backbone!$J$2:$J$893,MATCH(I130,Backbone!$A$2:$A$893,0))","v":10},null,{"$f":"INDEX(Backbone!$K$1:$K$893,MATCH(I130,Backbone!$A$1:$A$893,0))","v":9.3000000000000007},null,{"$f":"INDEX(Backbone!$L$2:$L$893,MATCH(I130,Backbone!$A$2:$A$893,0))","v":8.5},null,{"$f":"INDEX(Backbone!$M$2:$M$893,MATCH(I130,Backbone!$A$2:$A$893,0))","v":9},null,{"$f":"INDEX(Backbone!$N$2:$N$893,MATCH(I130,Backbone!$A$2:$A$893,0))","v":5.5},null,{"$f":"INDEX(Backbone!$O$2:$O$893,MATCH(I130,Backbone!$A$2:$A$893,0))","v":9.5},null,{"$f":"INDEX(Backbone!$P$2:$P$893,MATCH(I130,Backbone!$A$2:$A$893,0))","v":7},null,{"$f":"INDEX(Backbone!$Q$2:$Q$893,MATCH(I130,Backbone!$A$2:$A$893,0))","v":0.87333333333333329},null,null,{"$f":"(AG130*$AG$22+AI130*$AI$22+AK130*$AK$22+AM130*$AM$22+AO130*$AO$22+AQ130*$AQ$22+AS130*$AS$22+AU130*$AU$22+AW130*$AW$22)/(SUM($AG$22:$AW$22)*10)","v":{"$error":"#DIV/0!"}},null,null,"Перейти в Реестр ресурсов: ",null,{"$f":"HYPERLINK(\"#\"&ADDRESS(MATCH(I130,Toolbox!$C$1:$C$300),1,,,\"Toolbox\"),VLOOKUP(I130,Toolbox!$C$1:$C$300,1,FALSE))","v":"Пакет программного обеспечения для проведения автоматического глобального электронного биомониторинга (SAGES)"}]
[]
[]
[]
[]
[]
[null,null,null,null,null,null,null,null,{"$f":"Backbone!A540","v":"Система анализа и управления мерами эпиднадзора и реагирования на вспышки (SORMAS)"},null,null,null,null,null,null,"Мобильная система eHealth с открытым исходным кодом, которая помимо эпиднадзора и раннего обнаружения вспышек обрабатывает процедуры борьбы с заболеваниями и управления вспышками при помощи цифрового эпиднадзора в реальном времени.",null,null,null,null,null,null,null,null,{"$f":"INDEX(Backbone!$R$2:$R$893,MATCH(I136,Backbone!$A$2:$A$893,0))","v":"Оборудование или программное обеспечение"},null,null,null,{"$f":"INDEX(Backbone!$S$2:$S$893,MATCH(I136,Backbone!$A$2:$A$893,0))","v":"Ориентированный на конкретный сектор; универсальный"},null,null,null,{"$f":"INDEX(Backbone!$H$2:$H$893,MATCH(I136,Backbone!$A$2:$A$893,0))","v":9.1999999999999993},null,{"$f":"INDEX(Backbone!$I$2:$I$893,MATCH(I136,Backbone!$A$2:$A$893,0))","v":8},null,{"$f":"INDEX(Backbone!$J$2:$J$893,MATCH(I136,Backbone!$A$2:$A$893,0))","v":9.3000000000000007},null,{"$f":"INDEX(Backbone!$K$1:$K$893,MATCH(I136,Backbone!$A$1:$A$893,0))","v":9.1},null,{"$f":"INDEX(Backbone!$L$2:$L$893,MATCH(I136,Backbone!$A$2:$A$893,0))","v":9.3000000000000007},null,{"$f":"INDEX(Backbone!$M$2:$M$893,MATCH(I136,Backbone!$A$2:$A$893,0))","v":9.3000000000000007},null,{"$f":"INDEX(Backbone!$N$2:$N$893,MATCH(I136,Backbone!$A$2:$A$893,0))","v":6.8},null,{"$f":"INDEX(Backbone!$O$2:$O$893,MATCH(I136,Backbone!$A$2:$A$893,0))","v":3.9},null,{"$f":"INDEX(Backbone!$P$2:$P$893,MATCH(I136,Backbone!$A$2:$A$893,0))","v":5.3},null,{"$f":"INDEX(Backbone!$Q$2:$Q$893,MATCH(I136,Backbone!$A$2:$A$893,0))","v":0.78},null,null,{"$f":"(AG136*$AG$22+AI136*$AI$22+AK136*$AK$22+AM136*$AM$22+AO136*$AO$22+AQ136*$AQ$22+AS136*$AS$22+AU136*$AU$22+AW136*$AW$22)/(SUM($AG$22:$AW$22)*10)","v":{"$error":"#DIV/0!"}},null,null,"Перейти в Реестр ресурсов: ",null,{"$f":"HYPERLINK(\"#\"&ADDRESS(MATCH(I136,Toolbox!$C$1:$C$300),1,,,\"Toolbox\"),VLOOKUP(I136,Toolbox!$C$1:$C$300,1,FALSE))","v":"Система анализа и управления мерами эпиднадзора и реагирования на вспышки (SORMAS)"}]
[]
[]
[]
[]
[]
[]
[null,null,null,"Другие полезные ресурсы",null,null,null,null,{"$f":"Backbone!A571","v":"Приложение Всемирной организации охраны здоровья животных (МЭБ) для получения оповещений от ВАХИС (WAHIS Alerts)"},null,null,null,null,null,null,"Приложение, позволяющее пользователям получать на мобильный телефон или планшет (мгновенные) оповещения о заболеваниях животных и последующие отчеты по мере их публикации МЭБ.",null,null,null,null,null,null,null,null,{"$f":"INDEX(Backbone!$R$2:$R$893,MATCH(I143,Backbone!$A$2:$A$893,0))","v":"Оборудование или программное обеспечение"},null,null,null,{"$f":"INDEX(Backbone!$S$2:$S$893,MATCH(I143,Backbone!$A$2:$A$893,0))","v":"Ориентированный на конкретный сектор; универсальный"},null,null,null,{"$f":"INDEX(Backbone!$H$2:$H$893,MATCH(I143,Backbone!$A$2:$A$893,0))","v":9.6999999999999993},null,{"$f":"INDEX(Backbone!$I$2:$I$893,MATCH(I143,Backbone!$A$2:$A$893,0))","v":10},null,{"$f":"INDEX(Backbone!$J$2:$J$893,MATCH(I143,Backbone!$A$2:$A$893,0))","v":8.8000000000000007},null,{"$f":"INDEX(Backbone!$K$1:$K$893,MATCH(I143,Backbone!$A$1:$A$893,0))","v":8.6999999999999993},null,{"$f":"INDEX(Backbone!$L$2:$L$893,MATCH(I143,Backbone!$A$2:$A$893,0))","v":8.3000000000000007},null,{"$f":"INDEX(Backbone!$M$2:$M$893,MATCH(I143,Backbone!$A$2:$A$893,0))","v":5},null,{"$f":"INDEX(Backbone!$N$2:$N$893,MATCH(I143,Backbone!$A$2:$A$893,0))","v":7.5},null,{"$f":"INDEX(Backbone!$O$2:$O$893,MATCH(I143,Backbone!$A$2:$A$893,0))","v":3.3},null,{"$f":"INDEX(Backbone!$P$2:$P$893,MATCH(I143,Backbone!$A$2:$A$893,0))","v":6},null,{"$f":"INDEX(Backbone!$Q$2:$Q$893,MATCH(I143,Backbone!$A$2:$A$893,0))","v":0.74777777777777776},null,null,{"$f":"(AG143*$AG$22+AI143*$AI$22+AK143*$AK$22+AM143*$AM$22+AO143*$AO$22+AQ143*$AQ$22+AS143*$AS$22+AU143*$AU$22+AW143*$AW$22)/(SUM($AG$22:$AW$22)*10)","v":{"$error":"#DIV/0!"}},null,null,"Перейти в Реестр ресурсов: ",null,{"$f":"HYPERLINK(\"#\"&ADDRESS(MATCH(I143,Toolbox!$C$1:$C$300),1,,,\"Toolbox\"),VLOOKUP(I143,Toolbox!$C$1:$C$300,1,FALSE))","v":"Приложение Всемирной организации охраны здоровья животных (МЭБ) для получения оповещений от ВАХИС (WAHIS Alerts)"}]
[]
[]
[]
[]
[]
[null,null,null,null,null,null,null,null,{"$f":"Backbone!A604","v":"Приложение для оценки воздействия бешенства и выявления контактных лиц (REACT)"},null,null,null,null,null,null,"Инструмент, помогающий реализации комплексных программ управления случаями укусов (IBCM).",null,null,null,null,null,null,null,null,{"$f":"INDEX(Backbone!$R$2:$R$893,MATCH(I149,Backbone!$A$2:$A$893,0))","v":"Оборудование или программное обеспечение"},null,null,null,{"$f":"INDEX(Backbone!$S$2:$S$893,MATCH(I149,Backbone!$A$2:$A$893,0))","v":"«Единое здоровье»; ориентированный на конкретную болезнь/угрозу "},null,null,null,{"$f":"INDEX(Backbone!$H$2:$H$893,MATCH(I149,Backbone!$A$2:$A$893,0))","v":8.6},null,{"$f":"INDEX(Backbone!$I$2:$I$893,MATCH(I149,Backbone!$A$2:$A$893,0))","v":8.6},null,{"$f":"INDEX(Backbone!$J$2:$J$893,MATCH(I149,Backbone!$A$2:$A$893,0))","v":8},null,{"$f":"INDEX(Backbone!$K$1:$K$893,MATCH(I149,Backbone!$A$1:$A$893,0))","v":8.6},null,{"$f":"INDEX(Backbone!$L$2:$L$893,MATCH(I149,Backbone!$A$2:$A$893,0))","v":9.4},null,{"$f":"INDEX(Backbone!$M$2:$M$893,MATCH(I149,Backbone!$A$2:$A$893,0))","v":9.5},null,{"$f":"INDEX(Backbone!$N$2:$N$893,MATCH(I149,Backbone!$A$2:$A$893,0))","v":9},null,{"$f":"INDEX(Backbone!$O$2:$O$893,MATCH(I149,Backbone!$A$2:$A$893,0))","v":9.1999999999999993},null,{"$f":"INDEX(Backbone!$P$2:$P$893,MATCH(I149,Backbone!$A$2:$A$893,0))","v":9},null,{"$f":"INDEX(Backbone!$Q$2:$Q$893,MATCH(I149,Backbone!$A$2:$A$893,0))","v":0.88777777777777767},null,null,{"$f":"(AG149*$AG$22+AI149*$AI$22+AK149*$AK$22+AM149*$AM$22+AO149*$AO$22+AQ149*$AQ$22+AS149*$AS$22+AU149*$AU$22+AW149*$AW$22)/(SUM($AG$22:$AW$22)*10)","v":{"$error":"#DIV/0!"}},null,null,"Перейти в Реестр ресурсов: ",null,{"$f":"HYPERLINK(\"#\"&ADDRESS(MATCH(I149,Toolbox!$C$1:$C$300),1,,,\"Toolbox\"),VLOOKUP(I149,Toolbox!$C$1:$C$300,1,FALSE))","v":"Приложение для оценки воздействия бешенства и выявления контактных лиц (REACT)"}]
[]
[]
[]
[]
[]
[]
[]
[]
[]
[]
[]
[]
[]
[]
[]
[]
[]
[]
[]
[]
[]
[]
[]
[]
[null,null,null,null,null,null,null,null,null,null,null,null,null,null,null,null,null,null,null,null,null,null,null,null,null,null,null,null,null,null,null,null,"Доступность",null,"Язык",null,"Простота использования",null,"Гибкость",null,"Потребности в данных",null,"Анализ данных",null,"Приемлемость",null,"«Единое здоровье»",null,"Воздействие"]
[]
[]
[]
[]
[]
[]
[null,null,null,null,null,null,null,null,null,null,null,null,null,null,null,null,null,null,null,null,null,null,null,null,null,null,null,null,null,null,null,null,null,null,null,null,null,null,null,null,null,null,null,null,null,null,null,null,null,null,"ИСХОДНАЯ ОЦЕНКА",null,null,"СКОРРЕКТИРОВАННАЯ ОЦЕНКА \n(Исходя из предпочтений пользователей)"]
[]
[]
[]
[null,"РЕСУРСЫ УРОВНЯ 3",null,"КЛАССИФИКАЦИЯ",null,null,null,null,"НАЗВАНИЕ РЕСУРСА",null,null,null,null,null,null,"КРАТКОЕ ОПИСАНИЕ",null,null,null,null,null,null,null,null,"ВИД РЕСУРСА",null,null,null,"ОБЩАЯ НАПРАВЛЕННОСТЬ РЕСУРСА"]
[]
[]
[]
[null,null,null,null,null,null,null,null,null,null,null,null,null,null,null,null,null,null,null,null,null,null,null,null,null,null,null,null,null,null,null,null,{"$f":"'Attribute Survey'!S201","v":0},null,{"$f":"'Attribute Survey'!S205","v":0},null,{"$f":"'Attribute Survey'!S209","v":0},null,{"$f":"'Attribute Survey'!S213","v":0},null,{"$f":"'Attribute Survey'!S217","v":0},null,{"$f":"'Attribute Survey'!S221","v":0},null,{"$f":"'Attribute Survey'!S225","v":0},null,{"$f":"'Attribute Survey'!S229","v":0},null,{"$f":"'Attribute Survey'!S233","v":0}]
[null,null,null,"Наиболее подходящие ресурсы",null,null,null,null,{"$f":"Backbone!A195","v":"Комплексная система эпиднадзора и мер реагирования (IDSR)"},null,null,null,null,null,null,"Стратегия, разработанная с целью укрепить потенциал стран для выявления и подтверждения предполагаемых случаев заболевания и вспышек и реагирования на них, а также для использования информации для прогнозирования событий в области общественного здравоохранения и планирования мер реагирования на них.",null,null,null,null,null,null,null,null,{"$f":"INDEX(Backbone!$R$2:$R$893,MATCH(I190,Backbone!$A$2:$A$893,0))","v":"Руководящий документ"},null,null,null,{"$f":"INDEX(Backbone!$S$2:$S$893,MATCH(I190,Backbone!$A$2:$A$893,0))","v":"Ориентированный на конкретный сектор; универсальный"},null,null,null,{"$f":"INDEX(Backbone!$H$2:$H$893,MATCH(I190,Backbone!$A$2:$A$893,0))","v":7.4},null,{"$f":"INDEX(Backbone!$I$2:$I$893,MATCH(I190,Backbone!$A$2:$A$893,0))","v":10},null,{"$f":"INDEX(Backbone!$J$2:$J$893,MATCH(I190,Backbone!$A$2:$A$893,0))","v":7.4},null,{"$f":"INDEX(Backbone!$K$2:$K$893,MATCH(I190,Backbone!$A$2:$A$893,0))","v":8.6999999999999993},null,{"$f":"INDEX(Backbone!$L$2:$L$893,MATCH(I190,Backbone!$A$2:$A$893,0))","v":6.7},null,{"$f":"INDEX(Backbone!$M$2:$M$893,MATCH(I190,Backbone!$A$2:$A$893,0))","v":4.5},null,{"$f":"INDEX(Backbone!$N$2:$N$893,MATCH(I190,Backbone!$A$2:$A$893,0))","v":8},null,{"$f":"INDEX(Backbone!$O$2:$O$893,MATCH(I190,Backbone!$A$2:$A$893,0))","v":7.2},null,{"$f":"INDEX(Backbone!$P$2:$P$893,MATCH(I190,Backbone!$A$2:$A$893,0))","v":8.5},null,{"$f":"INDEX(Backbone!$Q$2:$Q$893,MATCH(I190,Backbone!$A$2:$A$893,0))","v":0.76},null,null,{"$f":"(AG190*$AG$22+AI190*$AI$22+AK190*$AK$22+AM190*$AM$22+AO190*$AO$22+AQ190*$AQ$22+AS190*$AS$22+AU190*$AU$22+AW190*$AW$22)/(SUM($AG$22:$AW$22)*10)","v":{"$error":"#DIV/0!"}},null,null,"Перейти в Реестр ресурсов: ",null,{"$f":"HYPERLINK(\"#\"&ADDRESS(MATCH(I190,Toolbox!$C$1:$C$300),1,,,\"Toolbox\"),VLOOKUP(I190,Toolbox!$C$1:$C$300,1,FALSE))","v":"Комплексная система эпиднадзора и мер реагирования (IDSR)"}]
[]
[]
[]
[]
[]
[null,null,null,null,null,null,null,null,{"$f":"Backbone!A271","v":"Анализ инфраструктуры лабораторной сети (LINA)"},null,null,null,null,null,null,"Простое в использовании веб-приложение с функциями сложного компьютерного моделирования и анализа данных с простой визуализацией на базе карт в отношении потенциала и возможностей национальной лабораторной сети и каждой отдельной лаборатории. \n\n\n",null,null,null,null,null,null,null,null,{"$f":"INDEX(Backbone!$R$2:$R$893,MATCH(I196,Backbone!$A$2:$A$893,0))","v":"Оборудование или программное обеспечение"},null,null,null,{"$f":"INDEX(Backbone!$S$2:$S$893,MATCH(I196,Backbone!$A$2:$A$893,0))","v":"«Единое здоровье»; универсальный"},null,null,null,{"$f":"INDEX(Backbone!$H$2:$H$893,MATCH(I196,Backbone!$A$2:$A$893,0))","v":9.6},null,{"$f":"INDEX(Backbone!$I$2:$I$893,MATCH(I196,Backbone!$A$2:$A$893,0))","v":6},null,{"$f":"INDEX(Backbone!$J$2:$J$893,MATCH(I196,Backbone!$A$2:$A$893,0))","v":7.6},null,{"$f":"INDEX(Backbone!$K$1:$K$893,MATCH(I196,Backbone!$A$1:$A$893,0))","v":9},null,{"$f":"INDEX(Backbone!$L$2:$L$893,MATCH(I196,Backbone!$A$2:$A$893,0))","v":8.3000000000000007},null,{"$f":"INDEX(Backbone!$M$2:$M$893,MATCH(I196,Backbone!$A$2:$A$893,0))","v":7},null,{"$f":"INDEX(Backbone!$N$2:$N$893,MATCH(I196,Backbone!$A$2:$A$893,0))","v":3},null,{"$f":"INDEX(Backbone!$O$2:$O$893,MATCH(I196,Backbone!$A$2:$A$893,0))","v":9.1},null,{"$f":"INDEX(Backbone!$P$2:$P$893,MATCH(I196,Backbone!$A$2:$A$893,0))","v":4},null,{"$f":"INDEX(Backbone!$Q$2:$Q$893,MATCH(I196,Backbone!$A$2:$A$893,0))","v":0.69555555555555559},null,null,{"$f":"(AG196*$AG$22+AI196*$AI$22+AK196*$AK$22+AM196*$AM$22+AO196*$AO$22+AQ196*$AQ$22+AS196*$AS$22+AU196*$AU$22+AW196*$AW$22)/(SUM($AG$22:$AW$22)*10)","v":{"$error":"#DIV/0!"}},null,null,"Перейти в Реестр ресурсов: ",null,{"$f":"HYPERLINK(\"#\"&ADDRESS(MATCH(I196,Toolbox!$C$1:$C$300),1,,,\"Toolbox\"),VLOOKUP(I196,Toolbox!$C$1:$C$300,1,FALSE))","v":"Анализ инфраструктуры лабораторной сети (LINA)"}]
[]
[]
[]
[]
[]
[null,null,null,null,null,null,null,null,{"$f":"Backbone!A540","v":"Система анализа и управления мерами эпиднадзора и реагирования на вспышки (SORMAS)"},null,null,null,null,null,null,"Мобильная система eHealth с открытым исходным кодом, которая помимо эпиднадзора и раннего обнаружения вспышек обрабатывает процедуры борьбы с заболеваниями и управления вспышками при помощи цифрового эпиднадзора в реальном времени.",null,null,null,null,null,null,null,null,{"$f":"INDEX(Backbone!$R$2:$R$893,MATCH(I202,Backbone!$A$2:$A$893,0))","v":"Оборудование или программное обеспечение"},null,null,null,{"$f":"INDEX(Backbone!$S$2:$S$893,MATCH(I202,Backbone!$A$2:$A$893,0))","v":"Ориентированный на конкретный сектор; универсальный"},null,null,null,{"$f":"INDEX(Backbone!$H$2:$H$893,MATCH(I202,Backbone!$A$2:$A$893,0))","v":9.1999999999999993},null,{"$f":"INDEX(Backbone!$I$2:$I$893,MATCH(I202,Backbone!$A$2:$A$893,0))","v":8},null,{"$f":"INDEX(Backbone!$J$2:$J$893,MATCH(I202,Backbone!$A$2:$A$893,0))","v":9.3000000000000007},null,{"$f":"INDEX(Backbone!$K$1:$K$893,MATCH(I202,Backbone!$A$1:$A$893,0))","v":9.1},null,{"$f":"INDEX(Backbone!$L$2:$L$893,MATCH(I202,Backbone!$A$2:$A$893,0))","v":9.3000000000000007},null,{"$f":"INDEX(Backbone!$M$2:$M$893,MATCH(I202,Backbone!$A$2:$A$893,0))","v":9.3000000000000007},null,{"$f":"INDEX(Backbone!$N$2:$N$893,MATCH(I202,Backbone!$A$2:$A$893,0))","v":6.8},null,{"$f":"INDEX(Backbone!$O$2:$O$893,MATCH(I202,Backbone!$A$2:$A$893,0))","v":3.9},null,{"$f":"INDEX(Backbone!$P$2:$P$893,MATCH(I202,Backbone!$A$2:$A$893,0))","v":5.3},null,{"$f":"INDEX(Backbone!$Q$2:$Q$893,MATCH(I202,Backbone!$A$2:$A$893,0))","v":0.78},null,null,{"$f":"(AG202*$AG$22+AI202*$AI$22+AK202*$AK$22+AM202*$AM$22+AO202*$AO$22+AQ202*$AQ$22+AS202*$AS$22+AU202*$AU$22+AW202*$AW$22)/(SUM($AG$22:$AW$22)*10)","v":{"$error":"#DIV/0!"}},null,null,"Перейти в Реестр ресурсов: ",null,{"$f":"HYPERLINK(\"#\"&ADDRESS(MATCH(I202,Toolbox!$C$1:$C$300),1,,,\"Toolbox\"),VLOOKUP(I202,Toolbox!$C$1:$C$300,1,FALSE))","v":"Система анализа и управления мерами эпиднадзора и реагирования на вспышки (SORMAS)"}]
[]
[]
[]
[]
[]
[]
[null,null,null,"Другие полезные ресурсы",null,null,null,null,{"$f":"Backbone!A604","v":"Приложение для оценки воздействия бешенства и выявления контактных лиц (REACT)"},null,null,null,null,null,null,"Инструмент, помогающий реализации комплексных программ управления случаями укусов (IBCM).",null,null,null,null,null,null,null,null,{"$f":"INDEX(Backbone!$R$2:$R$893,MATCH(I209,Backbone!$A$2:$A$893,0))","v":"Оборудование или программное обеспечение"},null,null,null,{"$f":"INDEX(Backbone!$S$2:$S$893,MATCH(I209,Backbone!$A$2:$A$893,0))","v":"«Единое здоровье»; ориентированный на конкретную болезнь/угрозу "},null,null,null,{"$f":"INDEX(Backbone!$H$2:$H$893,MATCH(I209,Backbone!$A$2:$A$893,0))","v":8.6},null,{"$f":"INDEX(Backbone!$I$2:$I$893,MATCH(I209,Backbone!$A$2:$A$893,0))","v":8.6},null,{"$f":"INDEX(Backbone!$J$2:$J$893,MATCH(I209,Backbone!$A$2:$A$893,0))","v":8},null,{"$f":"INDEX(Backbone!$K$1:$K$893,MATCH(I209,Backbone!$A$1:$A$893,0))","v":8.6},null,{"$f":"INDEX(Backbone!$L$2:$L$893,MATCH(I209,Backbone!$A$2:$A$893,0))","v":9.4},null,{"$f":"INDEX(Backbone!$M$2:$M$893,MATCH(I209,Backbone!$A$2:$A$893,0))","v":9.5},null,{"$f":"INDEX(Backbone!$N$2:$N$893,MATCH(I209,Backbone!$A$2:$A$893,0))","v":9},null,{"$f":"INDEX(Backbone!$O$2:$O$893,MATCH(I209,Backbone!$A$2:$A$893,0))","v":9.1999999999999993},null,{"$f":"INDEX(Backbone!$P$2:$P$893,MATCH(I209,Backbone!$A$2:$A$893,0))","v":9},null,{"$f":"INDEX(Backbone!$Q$2:$Q$893,MATCH(I209,Backbone!$A$2:$A$893,0))","v":0.88777777777777767},null,null,{"$f":"(AG209*$AG$22+AI209*$AI$22+AK209*$AK$22+AM209*$AM$22+AO209*$AO$22+AQ209*$AQ$22+AS209*$AS$22+AU209*$AU$22+AW209*$AW$22)/(SUM($AG$22:$AW$22)*10)","v":{"$error":"#DIV/0!"}},null,null,"Перейти в Реестр ресурсов: ",null,{"$f":"HYPERLINK(\"#\"&ADDRESS(MATCH(I209,Toolbox!$C$1:$C$300),1,,,\"Toolbox\"),VLOOKUP(I209,Toolbox!$C$1:$C$300,1,FALSE))","v":"Приложение для оценки воздействия бешенства и выявления контактных лиц (REACT)"}]

{"sheet":"ME1_tools","index":56,"n_rows":154,"n_cols":59,"rows_kept":154,"cut":false,"hidden":false,"merged":[[153,46,157,46],[153,48,157,48],[153,50,157,51],[153,53,157,54],[141,3,157,6],[147,48,151,48],[147,50,151,51],[147,53,151,54],[153,8,157,13],[153,15,157,22],[153,24,157,26],[153,28,157,30],[153,32,157,32],[153,34,157,34],[153,36,157,36],[147,34,151,34],[147,36,151,36],[147,38,151,38],[147,40,151,40],[147,42,151,42],[147,44,151,44],[153,44,157,44],[147,46,151,46],[141,50,145,51],[76,1,104,1],[147,8,151,13],[147,15,151,22],[147,24,151,26],[147,28,151,30],[147,32,151,32],[134,1,158,1],[100,40,104,40],[100,42,104,42],[141,32,145,32],[141,34,145,34],[141,36,145,36],[153,38,157,38],[153,40,157,40],[153,42,157,42],[88,3,104,6],[81,8,85,13],[81,15,85,22],[81,24,85,26],[81,28,85,30],[81,32,85,32],[81,34,85,34],[94,40,98,40],[94,42,98,42],[94,36,98,36],[94,38,98,38],[141,53,145,54],[100,8,104,13],[100,15,104,22],[100,24,104,26],[100,28,104,30],[100,32,104,32],[100,34,104,34],[100,36,104,36],[100,38,104,38],[141,38,145,38],[141,40,145,40],[141,42,145,42],[141,44,145,44],[141,46,145,46],[141,48,145,48],[141,8,145,13],[141,15,145,22],[141,24,145,26],[141,28,145,30],[100,53,104,54],[124,46,138,46],[124,48,138,48],[131,50,138,51],[131,53,138,54],[135,3,138,6],[135,8,138,13],[135,15,138,22],[135,24,138,26],[135,28,138,30],[100,44,104,44],[100,46,104,46],[100,48,104,48],[100,50,104,51],[124,32,138,32],[124,34,138,34],[124,36,138,36],[124,38,138,38],[124,40,138,40],[124,42,138,42],[124,44,138,44],[88,46,92,46],[88,48,92,48],[88,50,92,51],[88,53,92,54],[94,8,98,13],[94,15,98,22],[94,24,98,26],[94,28,98,30],[94,32,98,32],[94,34,98,34],[88,34,92,34],[88,36,92,36],[88,38,92,38],[88,40,92,40],[88,42,92,42],[88,44,92,44],[88,8,92,13],[88,15,92,22],[88,24,92,26],[88,28,92,30],[88,32,92,32],[94,48,98,48],[94,50,98,51],[94,46,98,46],[94,53,98,54],[65,48,79,48],[72,50,79,51],[72,53,79,54],[76,3,79,6],[76,8,79,13],[76,15,79,22],[76,24,79,26],[76,28,79,30],[81,3,85,6],[81,48,85,48],[81,50,85,51],[81,53,85,54],[81,36,85,36],[81,38,85,38],[81,40,85,40],[81,42,85,42],[81,44,85,44],[81,46,85,46],[65,32,79,32],[65,34,79,34],[65,36,79,36],[65,38,79,38],[94,44,98,44],[35,8,39,13],[35,15,39,22],[35,24,39,26],[35,28,39,30],[35,32,39,32],[35,34,39,34],[65,42,79,42],[65,44,79,44],[65,46,79,46],[41,38,45,38],[41,40,45,40],[41,42,45,42],[41,44,45,44],[41,46,45,46],[65,40,79,40],[41,36,45,36],[35,36,39,36],[35,38,39,38],[35,40,39,40],[35,42,39,42],[35,44,39,44],[35,46,39,46],[41,24,45,26],[41,28,45,30],[41,50,45,51],[41,53,45,54],[41,48,45,48],[35,48,39,48],[13,50,20,51],[13,53,20,54],[17,1,45,1],[17,3,20,6],[17,8,20,13],[17,15,20,22],[29,46,33,46],[29,48,33,48],[29,50,33,51],[29,40,33,40],[29,42,33,42],[29,44,33,44],[29,28,33,30],[29,32,33,32],[22,34,26,34],[22,36,26,36],[35,50,39,51],[35,53,39,54],[41,8,45,13],[41,15,45,22],[41,32,45,32],[41,34,45,34],[6,32,20,32],[6,34,20,34],[6,36,20,36],[6,38,20,38],[6,40,20,40],[6,42,20,42],[6,44,20,44],[6,46,20,46],[6,48,20,48],[29,53,33,54],[22,50,26,51],[29,34,33,34],[29,36,33,36],[29,38,33,38],[22,15,26,22],[22,24,26,26],[22,28,26,30],[22,32,26,32],[1,1,3,62],[22,56,26,57],[22,58,26,62],[29,56,33,57],[29,58,33,62],[35,56,39,57],[35,58,39,62],[41,56,45,57],[41,58,45,62],[17,24,20,26],[17,28,20,30],[22,3,26,6],[22,8,26,13],[29,3,45,6],[29,8,33,13],[29,15,33,22],[29,24,33,26],[22,53,26,54],[22,38,26,38],[22,40,26,40],[22,42,26,42],[22,44,26,44],[22,46,26,46],[22,48,26,48],[147,56,151,57],[147,58,151,62],[153,56,157,57],[153,58,157,62],[81,56,85,57],[81,58,85,62],[88,56,92,57],[88,58,92,62],[94,56,98,57],[94,58,98,62],[100,56,104,57],[100,58,104,62],[141,56,145,57],[141,58,145,62]]}
[]
[null,"Ресурсы по имитационным учениям"]
[]
[]
[]
[]
[null,null,null,null,null,null,null,null,null,null,null,null,null,null,null,null,null,null,null,null,null,null,null,null,null,null,null,null,null,null,null,null,"Доступность",null,"Язык",null,"Простота использования",null,"Гибкость",null,"Потребности в данных",null,"Анализ данных",null,"Приемлемость",null,"«Единое здоровье»",null,"Воздействие"]
[]
[]
[]
[]
[]
[]
[null,null,null,null,null,null,null,null,null,null,null,null,null,null,null,null,null,null,null,null,null,null,null,null,null,null,null,null,null,null,null,null,null,null,null,null,null,null,null,null,null,null,null,null,null,null,null,null,null,null,"ИСХОДНАЯ ОЦЕНКА",null,null,"СКОРРЕКТИРОВАННАЯ ОЦЕНКА \n(Исходя из предпочтений пользователей)"]
[]
[]
[]
[null,"РЕСУРСЫ УРОВНЯ 1",null,"КЛАССИФИКАЦИЯ",null,null,null,null,"НАЗВАНИЕ РЕСУРСА",null,null,null,null,null,null,"КРАТКОЕ ОПИСАНИЕ",null,null,null,null,null,null,null,null,"ВИД РЕСУРСА",null,null,null,"ОБЩАЯ НАПРАВЛЕННОСТЬ РЕСУРСА"]
[]
[]
[]
[null,null,null,null,null,null,null,null,null,null,null,null,null,null,null,null,null,null,null,null,null,null,null,null,null,null,null,null,null,null,null,null,{"$f":"'Attribute Survey'!S22","v":0},null,{"$f":"'Attribute Survey'!S26","v":0},null,{"$f":"'Attribute Survey'!S30","v":0},null,{"$f":"'Attribute Survey'!S34","v":0},null,{"$f":"'Attribute Survey'!S38","v":0},null,{"$f":"'Attribute Survey'!S42","v":0},null,{"$f":"'Attribute Survey'!S46","v":0},null,{"$f":"'Attribute Survey'!S50","v":0},null,{"$f":"'Attribute Survey'!S54","v":0}]
[null,null,null,"Наиболее подходящие ресурсы",null,null,null,null,{"$f":"Backbone!A677","v":"Инструментарий для проведения имитационных учений"},null,null,null,null,null,null,"Настоящий инструментарий позволяет платформам «Единое здоровье» и другим заинтересованным сторонам выбрать нужный тип моделирования, а также спроектировать и внедрить эффективное моделирование.",null,null,null,null,null,null,null,null,{"$f":"INDEX(Backbone!$R$2:$R$893,MATCH(I23,Backbone!$A$2:$A$893,0))","v":"Руководящий документ"},null,null,null,{"$f":"INDEX(Backbone!$S$2:$S$893,MATCH(I23,Backbone!$A$2:$A$893,0))","v":"«Единое здоровье»; универсальный"},null,null,null,{"$f":"INDEX(Backbone!$H$2:$H$893,MATCH(I23,Backbone!$A$2:$A$893,0))","v":8.4},null,{"$f":"INDEX(Backbone!$I$2:$I$893,MATCH(I23,Backbone!$A$2:$A$893,0))","v":8},null,{"$f":"INDEX(Backbone!$J$2:$J$893,MATCH(I23,Backbone!$A$2:$A$893,0))","v":8.4},null,{"$f":"INDEX(Backbone!$K$2:$K$893,MATCH(I23,Backbone!$A$2:$A$893,0))","v":6.7},null,{"$f":"INDEX(Backbone!$L$2:$L$893,MATCH(I23,Backbone!$A$2:$A$893,0))","v":2},null,{"$f":"INDEX(Backbone!$M$2:$M$893,MATCH(I23,Backbone!$A$2:$A$893,0))","v":3.5},null,{"$f":"INDEX(Backbone!$N$2:$N$893,MATCH(I23,Backbone!$A$2:$A$893,0))","v":4},null,{"$f":"INDEX(Backbone!$O$2:$O$893,MATCH(I23,Backbone!$A$2:$A$893,0))","v":6.4},null,{"$f":"INDEX(Backbone!$P$2:$P$893,MATCH(I23,Backbone!$A$2:$A$893,0))","v":8},null,{"$f":"INDEX(Backbone!$Q$2:$Q$893,MATCH(I23,Backbone!$A$2:$A$893,0))","v":0.61555555555555552},null,null,{"$f":"(AG23*$AG$22+AI23*$AI$22+AK23*$AK$22+AM23*$AM$22+AO23*$AO$22+AQ23*$AQ$22+AS23*$AS$22+AU23*$AU$22+AW23*$AW$22)/(SUM($AG$22:$AW$22)*10)","v":{"$error":"#DIV/0!"}},null,null,"Перейти в Реестр ресурсов: ",null,{"$f":"HYPERLINK(\"#\"&ADDRESS(MATCH(I23,Toolbox!$C$1:$C$300),1,,,\"Toolbox\"),VLOOKUP(I23,Toolbox!$C$1:$C$300,1,FALSE))","v":"Инструментарий для проведения имитационных учений"}]
[]
[]
[]
[]
[]
[]
[null,null,null,"Другие полезные ресурсы",null,null,null,null,{"$f":"Backbone!A271","v":"Анализ инфраструктуры лабораторной сети (LINA)"},null,null,null,null,null,null,"Простое в использовании веб-приложение с функциями сложного компьютерного моделирования и анализа данных с простой визуализацией на базе карт в отношении потенциала и возможностей национальной лабораторной сети и каждой отдельной лаборатории.",null,null,null,null,null,null,null,null,{"$f":"INDEX(Backbone!$R$2:$R$893,MATCH(I30,Backbone!$A$2:$A$893,0))","v":"Оборудование или программное обеспечение"},null,null,null,{"$f":"INDEX(Backbone!$S$2:$S$893,MATCH(I30,Backbone!$A$2:$A$893,0))","v":"«Единое здоровье»; универсальный"},null,null,null,{"$f":"INDEX(Backbone!$H$2:$H$893,MATCH(I30,Backbone!$A$2:$A$893,0))","v":9.6},null,{"$f":"INDEX(Backbone!$I$2:$I$893,MATCH(I30,Backbone!$A$2:$A$893,0))","v":6},null,{"$f":"INDEX(Backbone!$J$2:$J$893,MATCH(I30,Backbone!$A$2:$A$893,0))","v":7.6},null,{"$f":"INDEX(Backbone!$K$1:$K$893,MATCH(I30,Backbone!$A$1:$A$893,0))","v":9},null,{"$f":"INDEX(Backbone!$L$2:$L$893,MATCH(I30,Backbone!$A$2:$A$893,0))","v":8.3000000000000007},null,{"$f":"INDEX(Backbone!$M$2:$M$893,MATCH(I30,Backbone!$A$2:$A$893,0))","v":7},null,{"$f":"INDEX(Backbone!$N$2:$N$893,MATCH(I30,Backbone!$A$2:$A$893,0))","v":3},null,{"$f":"INDEX(Backbone!$O$2:$O$893,MATCH(I30,Backbone!$A$2:$A$893,0))","v":9.1},null,{"$f":"INDEX(Backbone!$P$2:$P$893,MATCH(I30,Backbone!$A$2:$A$893,0))","v":4},null,{"$f":"INDEX(Backbone!$Q$2:$Q$893,MATCH(I30,Backbone!$A$2:$A$893,0))","v":0.69555555555555559},null,null,{"$f":"(AG30*$AG$22+AI30*$AI$22+AK30*$AK$22+AM30*$AM$22+AO30*$AO$22+AQ30*$AQ$22+AS30*$AS$22+AU30*$AU$22+AW30*$AW$22)/(SUM($AG$22:$AW$22)*10)","v":{"$error":"#DIV/0!"}},null,null,"Перейти в Реестр ресурсов: ",null,{"$f":"HYPERLINK(\"#\"&ADDRESS(MATCH(I30,Toolbox!$C$1:$C$300),1,,,\"Toolbox\"),VLOOKUP(I30,Toolbox!$C$1:$C$300,1,FALSE))","v":"Анализ инфраструктуры лабораторной сети (LINA)"}]
[]
[]
[]
[]
[]
[null,null,null,null,null,null,null,null,{"$f":"Backbone!A383","v":"Инструментарий для картирования и анализа систем «Единое здоровье» (OH-SMART)"},null,null,null,null,null,null,"Процесс из шести этапов, которые позволяют заинтересованным сторонам из разных секторов картировать, анализировать и улучшать существующую систему, требующую междисциплинарного и межотраслевого взаимодействия.",null,null,null,null,null,null,null,null,{"$f":"INDEX(Backbone!$R$2:$R$893,MATCH(I36,Backbone!$A$2:$A$893,0))","v":"Инструмент или процесс с методическим руководством/пояснениями"},null,null,null,{"$f":"INDEX(Backbone!$S$2:$S$893,MATCH(I36,Backbone!$A$2:$A$893,0))","v":"«Единое здоровье»; универсальный"},null,null,null,{"$f":"INDEX(Backbone!$H$2:$H$893,MATCH(I36,Backbone!$A$2:$A$893,0))","v":8.6999999999999993},null,{"$f":"INDEX(Backbone!$I$2:$I$893,MATCH(I36,Backbone!$A$2:$A$893,0))","v":7.3},null,{"$f":"INDEX(Backbone!$J$2:$J$893,MATCH(I36,Backbone!$A$2:$A$893,0))","v":8.4},null,{"$f":"INDEX(Backbone!$K$1:$K$893,MATCH(I36,Backbone!$A$1:$A$893,0))","v":9.3000000000000007},null,{"$f":"INDEX(Backbone!$L$2:$L$893,MATCH(I36,Backbone!$A$2:$A$893,0))","v":8.1999999999999993},null,{"$f":"INDEX(Backbone!$M$2:$M$893,MATCH(I36,Backbone!$A$2:$A$893,0))","v":7.4},null,{"$f":"INDEX(Backbone!$N$2:$N$893,MATCH(I36,Backbone!$A$2:$A$893,0))","v":9.5},null,{"$f":"INDEX(Backbone!$O$2:$O$893,MATCH(I36,Backbone!$A$2:$A$893,0))","v":10},null,{"$f":"INDEX(Backbone!$P$2:$P$893,MATCH(I36,Backbone!$A$2:$A$893,0))","v":10},null,{"$f":"INDEX(Backbone!$Q$2:$Q$893,MATCH(I36,Backbone!$A$2:$A$893,0))","v":0.87555555555555564},null,null,{"$f":"(AG36*$AG$22+AI36*$AI$22+AK36*$AK$22+AM36*$AM$22+AO36*$AO$22+AQ36*$AQ$22+AS36*$AS$22+AU36*$AU$22+AW36*$AW$22)/(SUM($AG$22:$AW$22)*10)","v":{"$error":"#DIV/0!"}},null,null,"Перейти в Реестр ресурсов: ",null,{"$f":"HYPERLINK(\"#\"&ADDRESS(MATCH(I36,Toolbox!$C$1:$C$300),1,,,\"Toolbox\"),VLOOKUP(I36,Toolbox!$C$1:$C$300,1,FALSE))","v":"Инструментарий для картирования и анализа систем «Единое здоровье» (OH-SMART)"}]
[]
[]
[]
[]
[]
[null,null,null,null,null,null,null,null,{"$f":"Backbone!A489","v":"Пакет программного обеспечения для проведения автоматического глобального электронного биомониторинга (SAGES)"},null,null,null,null,null,null,"Пакет программного обеспечения с открытым исходным кодом для улучшения электронного эпиднадзора в условиях ограниченных ресурсов.",null,null,null,null,null,null,null,null,{"$f":"INDEX(Backbone!$R$2:$R$893,MATCH(I42,Backbone!$A$2:$A$893,0))","v":"Оборудование или программное обеспечение"},null,null,null,{"$f":"INDEX(Backbone!$S$2:$S$893,MATCH(I42,Backbone!$A$2:$A$893,0))","v":"«Единое здоровье»; универсальный"},null,null,null,{"$f":"INDEX(Backbone!$H$2:$H$893,MATCH(I42,Backbone!$A$2:$A$893,0))","v":9.8000000000000007},null,{"$f":"INDEX(Backbone!$I$2:$I$893,MATCH(I42,Backbone!$A$2:$A$893,0))","v":10},null,{"$f":"INDEX(Backbone!$J$2:$J$893,MATCH(I42,Backbone!$A$2:$A$893,0))","v":10},null,{"$f":"INDEX(Backbone!$K$1:$K$893,MATCH(I42,Backbone!$A$1:$A$893,0))","v":9.3000000000000007},null,{"$f":"INDEX(Backbone!$L$2:$L$893,MATCH(I42,Backbone!$A$2:$A$893,0))","v":8.5},null,{"$f":"INDEX(Backbone!$M$2:$M$893,MATCH(I42,Backbone!$A$2:$A$893,0))","v":9},null,{"$f":"INDEX(Backbone!$N$2:$N$893,MATCH(I42,Backbone!$A$2:$A$893,0))","v":5.5},null,{"$f":"INDEX(Backbone!$O$2:$O$893,MATCH(I42,Backbone!$A$2:$A$893,0))","v":9.5},null,{"$f":"INDEX(Backbone!$P$2:$P$893,MATCH(I42,Backbone!$A$2:$A$893,0))","v":7},null,{"$f":"INDEX(Backbone!$Q$2:$Q$893,MATCH(I42,Backbone!$A$2:$A$893,0))","v":0.87333333333333329},null,null,{"$f":"(AG42*$AG$22+AI42*$AI$22+AK42*$AK$22+AM42*$AM$22+AO42*$AO$22+AQ42*$AQ$22+AS42*$AS$22+AU42*$AU$22+AW42*$AW$22)/(SUM($AG$22:$AW$22)*10)","v":{"$error":"#DIV/0!"}},null,null,"Перейти в Реестр ресурсов: ",null,{"$f":"HYPERLINK(\"#\"&ADDRESS(MATCH(I42,Toolbox!$C$1:$C$300),1,,,\"Toolbox\"),VLOOKUP(I42,Toolbox!$C$1:$C$300,1,FALSE))","v":"Пакет программного обеспечения для проведения автоматического глобального электронного биомониторинга (SAGES)"}]
[]
[]
[]
[]
[]
[]
[]
[]
[]
[]
[]
[]
[]
[]
[]
[]
[]
[]
[]
[]
[]
[]
[]
[null,null,null,null,null,null,null,null,null,null,null,null,null,null,null,null,null,null,null,null,null,null,null,null,null,null,null,null,null,null,null,null,"Доступность",null,"Язык",null,"Простота использования",null,"Гибкость",null,"Потребности в данных",null,"Анализ данных",null,"Приемлемость",null,"«Единое здоровье»",null,"Воздействие"]
[]
[]
[]
[]
[]
[]
[null,null,null,null,null,null,null,null,null,null,null,null,null,null,null,null,null,null,null,null,null,null,null,null,null,null,null,null,null,null,null,null,null,null,null,null,null,null,null,null,null,null,null,null,null,null,null,null,null,null,"ИСХОДНАЯ ОЦЕНКА",null,null,"СКОРРЕКТИРОВАННАЯ ОЦЕНКА \n(Исходя из предпочтений пользователей)"]
[]
[]
[]
[null,"РЕСУРСЫ УРОВНЯ 2",null,"КЛАССИФИКАЦИЯ",null,null,null,null,"НАЗВАНИЕ РЕСУРСА",null,null,null,null,null,null,"КРАТКОЕ ОПИСАНИЕ",null,null,null,null,null,null,null,null,"ВИД РЕСУРСА",null,null,null,"ОБЩАЯ НАПРАВЛЕННОСТЬ РЕСУРСА"]
[]
[]
[]
[null,null,null,null,null,null,null,null,null,null,null,null,null,null,null,null,null,null,null,null,null,null,null,null,null,null,null,null,null,null,null,null,{"$f":"'Attribute Survey'!S111","v":0},null,{"$f":"'Attribute Survey'!S115","v":0},null,{"$f":"'Attribute Survey'!S119","v":0},null,{"$f":"'Attribute Survey'!S123","v":0},null,{"$f":"'Attribute Survey'!S127","v":0},null,{"$f":"'Attribute Survey'!S131","v":0},null,{"$f":"'Attribute Survey'!S135","v":0},null,{"$f":"'Attribute Survey'!S139","v":0},null,{"$f":"'Attribute Survey'!S143","v":0}]
[null,null,null,"Наиболее подходящие ресурсы",null,null,null,null,{"$f":"Backbone!A677","v":"Инструментарий для проведения имитационных учений"},null,null,null,null,null,null,"Настоящий инструментарий позволяет платформам «Единое здоровье» и другим заинтересованным сторонам выбрать нужный тип моделирования, а также спроектировать и внедрить эффективное моделирование.",null,null,null,null,null,null,null,null,{"$f":"INDEX(Backbone!$R$2:$R$893,MATCH(I82,Backbone!$A$2:$A$893,0))","v":"Руководящий документ"},null,null,null,{"$f":"INDEX(Backbone!$S$2:$S$893,MATCH(I82,Backbone!$A$2:$A$893,0))","v":"«Единое здоровье»; универсальный"},null,null,null,{"$f":"INDEX(Backbone!$H$2:$H$893,MATCH(I82,Backbone!$A$2:$A$893,0))","v":8.4},null,{"$f":"INDEX(Backbone!$I$2:$I$893,MATCH(I82,Backbone!$A$2:$A$893,0))","v":8},null,{"$f":"INDEX(Backbone!$J$2:$J$893,MATCH(I82,Backbone!$A$2:$A$893,0))","v":8.4},null,{"$f":"INDEX(Backbone!$K$2:$K$893,MATCH(I82,Backbone!$A$2:$A$893,0))","v":6.7},null,{"$f":"INDEX(Backbone!$L$2:$L$893,MATCH(I82,Backbone!$A$2:$A$893,0))","v":2},null,{"$f":"INDEX(Backbone!$M$2:$M$893,MATCH(I82,Backbone!$A$2:$A$893,0))","v":3.5},null,{"$f":"INDEX(Backbone!$N$2:$N$893,MATCH(I82,Backbone!$A$2:$A$893,0))","v":4},null,{"$f":"INDEX(Backbone!$O$2:$O$893,MATCH(I82,Backbone!$A$2:$A$893,0))","v":6.4},null,{"$f":"INDEX(Backbone!$P$2:$P$893,MATCH(I82,Backbone!$A$2:$A$893,0))","v":8},null,{"$f":"INDEX(Backbone!$Q$2:$Q$893,MATCH(I82,Backbone!$A$2:$A$893,0))","v":0.61555555555555552},null,null,{"$f":"(AG82*$AG$22+AI82*$AI$22+AK82*$AK$22+AM82*$AM$22+AO82*$AO$22+AQ82*$AQ$22+AS82*$AS$22+AU82*$AU$22+AW82*$AW$22)/(SUM($AG$22:$AW$22)*10)","v":{"$error":"#DIV/0!"}},null,null,"Перейти в Реестр ресурсов: ",null,{"$f":"HYPERLINK(\"#\"&ADDRESS(MATCH(I82,Toolbox!$C$1:$C$300),1,,,\"Toolbox\"),VLOOKUP(I82,Toolbox!$C$1:$C$300,1,FALSE))","v":"Инструментарий для проведения имитационных учений"}]
[]
[]
[]
[]
[]
[]
[null,null,null,"Другие полезные ресурсы",null,null,null,null,{"$f":"Backbone!A271","v":"Анализ инфраструктуры лабораторной сети (LINA)"},null,null,null,null,null,null,"Простое в использовании веб-приложение с функциями сложного компьютерного моделирования и анализа данных с простой визуализацией на базе карт в отношении потенциала и возможностей национальной лабораторной сети и каждой отдельной лаборатории.\n\n\n",null,null,null,null,null,null,null,null,{"$f":"INDEX(Backbone!$R$2:$R$893,MATCH(I89,Backbone!$A$2:$A$893,0))","v":"Оборудование или программное обеспечение"},null,null,null,{"$f":"INDEX(Backbone!$S$2:$S$893,MATCH(I89,Backbone!$A$2:$A$893,0))","v":"«Единое здоровье»; универсальный"},null,null,null,{"$f":"INDEX(Backbone!$H$2:$H$893,MATCH(I89,Backbone!$A$2:$A$893,0))","v":9.6},null,{"$f":"INDEX(Backbone!$I$2:$I$893,MATCH(I89,Backbone!$A$2:$A$893,0))","v":6},null,{"$f":"INDEX(Backbone!$J$2:$J$893,MATCH(I89,Backbone!$A$2:$A$893,0))","v":7.6},null,{"$f":"INDEX(Backbone!$K$1:$K$893,MATCH(I89,Backbone!$A$1:$A$893,0))","v":9},null,{"$f":"INDEX(Backbone!$L$2:$L$893,MATCH(I89,Backbone!$A$2:$A$893,0))","v":8.3000000000000007},null,{"$f":"INDEX(Backbone!$M$2:$M$893,MATCH(I89,Backbone!$A$2:$A$893,0))","v":7},null,{"$f":"INDEX(Backbone!$N$2:$N$893,MATCH(I89,Backbone!$A$2:$A$893,0))","v":3},null,{"$f":"INDEX(Backbone!$O$2:$O$893,MATCH(I89,Backbone!$A$2:$A$893,0))","v":9.1},null,{"$f":"INDEX(Backbone!$P$2:$P$893,MATCH(I89,Backbone!$A$2:$A$893,0))","v":4},null,{"$f":"INDEX(Backbone!$Q$2:$Q$893,MATCH(I89,Backbone!$A$2:$A$893,0))","v":0.69555555555555559},null,null,{"$f":"(AG89*$AG$22+AI89*$AI$22+AK89*$AK$22+AM89*$AM$22+AO89*$AO$22+AQ89*$AQ$22+AS89*$AS$22+AU89*$AU$22+AW89*$AW$22)/(SUM($AG$22:$AW$22)*10)","v":{"$error":"#DIV/0!"}},null,null,"Перейти в Реестр ресурсов: ",null,{"$f":"HYPERLINK(\"#\"&ADDRESS(MATCH(I89,Toolbox!$C$1:$C$300),1,,,\"Toolbox\"),VLOOKUP(I89,Toolbox!$C$1:$C$300,1,FALSE))","v":"Анализ инфраструктуры лабораторной сети (LINA)"}]
[]
[]
[]
[]
[]
[null,null,null,null,null,null,null,null,{"$f":"Backbone!A383","v":"Инструментарий для картирования и анализа систем «Единое здоровье» (OH-SMART)"},null,null,null,null,null,null,"Процесс из шести этапов, которые позволяют заинтересованным сторонам из разных секторов картировать, анализировать и улучшать существующую систему, требующую междисциплинарного и межотраслевого взаимодействия. ",null,null,null,null,null,null,null,null,{"$f":"INDEX(Backbone!$R$2:$R$893,MATCH(I95,Backbone!$A$2:$A$893,0))","v":"Инструмент или процесс с методическим руководством/пояснениями"},null,null,null,{"$f":"INDEX(Backbone!$S$2:$S$893,MATCH(I95,Backbone!$A$2:$A$893,0))","v":"«Единое здоровье»; универсальный"},null,null,null,{"$f":"INDEX(Backbone!$H$2:$H$893,MATCH(I95,Backbone!$A$2:$A$893,0))","v":8.6999999999999993},null,{"$f":"INDEX(Backbone!$I$2:$I$893,MATCH(I95,Backbone!$A$2:$A$893,0))","v":7.3},null,{"$f":"INDEX(Backbone!$J$2:$J$893,MATCH(I95,Backbone!$A$2:$A$893,0))","v":8.4},null,{"$f":"INDEX(Backbone!$K$1:$K$893,MATCH(I95,Backbone!$A$1:$A$893,0))","v":9.3000000000000007},null,{"$f":"INDEX(Backbone!$L$2:$L$893,MATCH(I95,Backbone!$A$2:$A$893,0))","v":8.1999999999999993},null,{"$f":"INDEX(Backbone!$M$2:$M$893,MATCH(I95,Backbone!$A$2:$A$893,0))","v":7.4},null,{"$f":"INDEX(Backbone!$N$2:$N$893,MATCH(I95,Backbone!$A$2:$A$893,0))","v":9.5},null,{"$f":"INDEX(Backbone!$O$2:$O$893,MATCH(I95,Backbone!$A$2:$A$893,0))","v":10},null,{"$f":"INDEX(Backbone!$P$2:$P$893,MATCH(I95,Backbone!$A$2:$A$893,0))","v":10},null,{"$f":"INDEX(Backbone!$Q$2:$Q$893,MATCH(I95,Backbone!$A$2:$A$893,0))","v":0.87555555555555564},null,null,{"$f":"(AG95*$AG$22+AI95*$AI$22+AK95*$AK$22+AM95*$AM$22+AO95*$AO$22+AQ95*$AQ$22+AS95*$AS$22+AU95*$AU$22+AW95*$AW$22)/(SUM($AG$22:$AW$22)*10)","v":{"$error":"#DIV/0!"}},null,null,"Перейти в Реестр ресурсов: ",null,{"$f":"HYPERLINK(\"#\"&ADDRESS(MATCH(I95,Toolbox!$C$1:$C$300),1,,,\"Toolbox\"),VLOOKUP(I95,Toolbox!$C$1:$C$300,1,FALSE))","v":"Инструментарий для картирования и анализа систем «Единое здоровье» (OH-SMART)"}]
[]
[]
[]
[]
[]
[null,null,null,null,null,null,null,null,{"$f":"Backbone!A489","v":"Пакет программного обеспечения для проведения автоматического глобального электронного биомониторинга (SAGES)"},null,null,null,null,null,null,"Пакет программного обеспечения с открытым исходным кодом для улучшения электронного эпиднадзора в условиях ограниченных ресурсов.",null,null,null,null,null,null,null,null,{"$f":"INDEX(Backbone!$R$2:$R$893,MATCH(I101,Backbone!$A$2:$A$893,0))","v":"Оборудование или программное обеспечение"},null,null,null,{"$f":"INDEX(Backbone!$S$2:$S$893,MATCH(I101,Backbone!$A$2:$A$893,0))","v":"«Единое здоровье»; универсальный"},null,null,null,{"$f":"INDEX(Backbone!$H$2:$H$893,MATCH(I101,Backbone!$A$2:$A$893,0))","v":9.8000000000000007},null,{"$f":"INDEX(Backbone!$I$2:$I$893,MATCH(I101,Backbone!$A$2:$A$893,0))","v":10},null,{"$f":"INDEX(Backbone!$J$2:$J$893,MATCH(I101,Backbone!$A$2:$A$893,0))","v":10},null,{"$f":"INDEX(Backbone!$K$1:$K$893,MATCH(I101,Backbone!$A$1:$A$893,0))","v":9.3000000000000007},null,{"$f":"INDEX(Backbone!$L$2:$L$893,MATCH(I101,Backbone!$A$2:$A$893,0))","v":8.5},null,{"$f":"INDEX(Backbone!$M$2:$M$893,MATCH(I101,Backbone!$A$2:$A$893,0))","v":9},null,{"$f":"INDEX(Backbone!$N$2:$N$893,MATCH(I101,Backbone!$A$2:$A$893,0))","v":5.5},null,{"$f":"INDEX(Backbone!$O$2:$O$893,MATCH(I101,Backbone!$A$2:$A$893,0))","v":9.5},null,{"$f":"INDEX(Backbone!$P$2:$P$893,MATCH(I101,Backbone!$A$2:$A$893,0))","v":7},null,{"$f":"INDEX(Backbone!$Q$2:$Q$893,MATCH(I101,Backbone!$A$2:$A$893,0))","v":0.87333333333333329},null,null,{"$f":"(AG101*$AG$22+AI101*$AI$22+AK101*$AK$22+AM101*$AM$22+AO101*$AO$22+AQ101*$AQ$22+AS101*$AS$22+AU101*$AU$22+AW101*$AW$22)/(SUM($AG$22:$AW$22)*10)","v":{"$error":"#DIV/0!"}},null,null,"Перейти в Реестр ресурсов: ",null,{"$f":"HYPERLINK(\"#\"&ADDRESS(MATCH(I101,Toolbox!$C$1:$C$300),1,,,\"Toolbox\"),VLOOKUP(I101,Toolbox!$C$1:$C$300,1,FALSE))","v":"Пакет программного обеспечения для проведения автоматического глобального электронного биомониторинга (SAGES)"}]
[]
[]
[]
[]
[]
[]
[]
[]
[]
[]
[]
[]
[]
[]
[]
[]
[]
[]
[]
[]
[]
[]
[]
[null,null,null,null,null,null,null,null,null,null,null,null,null,null,null,null,null,null,null,null,null,null,null,null,null,null,null,null,null,null,null,null,"Доступность",null,"Язык",null,"Простота использования",null,"Гибкость",null,"Потребности в данных",null,"Анализ данных",null,"Приемлемость",null,"«Единое здоровье»",null,"Воздействие"]
[]
[]
[]
[]
[]
[]
[null,null,null,null,null,null,null,null,null,null,null,null,null,null,null,null,null,null,null,null,null,null,null,null,null,null,null,null,null,null,null,null,null,null,null,null,null,null,null,null,null,null,null,null,null,null,null,null,null,null,"ИСХОДНАЯ ОЦЕНКА",null,null,"СКОРРЕКТИРОВАННАЯ ОЦЕНКА \n(Исходя из предпочтений пользователей)"]
[]
[]
[null,"РЕСУРСЫ УРОВНЯ 3"]
[null,null,null,"КЛАССИФИКАЦИЯ",null,null,null,null,"НАЗВАНИЕ РЕСУРСА",null,null,null,null,null,null,"КРАТКОЕ ОПИСАНИЕ",null,null,null,null,null,null,null,null,"ВИД РЕСУРСА",null,null,null,"ОБЩАЯ НАПРАВЛЕННОСТЬ РЕСУРСА"]
[]
[]
[]
[null,null,null,null,null,null,null,null,null,null,null,null,null,null,null,null,null,null,null,null,null,null,null,null,null,null,null,null,null,null,null,null,{"$f":"'Attribute Survey'!S201","v":0},null,{"$f":"'Attribute Survey'!S205","v":0},null,{"$f":"'Attribute Survey'!S209","v":0},null,{"$f":"'Attribute Survey'!S213","v":0},null,{"$f":"'Attribute Survey'!S217","v":0},null,{"$f":"'Attribute Survey'!S221","v":0},null,{"$f":"'Attribute Survey'!S225","v":0},null,{"$f":"'Attribute Survey'!S229","v":0},null,{"$f":"'Attribute Survey'!S233","v":0}]
[]
[null,null,null,"Другие полезные ресурсы",null,null,null,null,{"$f":"Backbone!A383","v":"Инструментарий для картирования и анализа систем «Единое здоровье» (OH-SMART)"},null,null,null,null,null,null,"Процесс из шести этапов, которые позволяют заинтересованным сторонам из разных секторов картировать, анализировать и улучшать существующую систему, требующую междисциплинарного и межотраслевого взаимодействия.",null,null,null,null,null,null,null,null,{"$f":"INDEX(Backbone!$R$2:$R$893,MATCH(I142,Backbone!$A$2:$A$893,0))","v":"Инструмент или процесс с методическим руководством/пояснениями"},null,null,null,{"$f":"INDEX(Backbone!$S$2:$S$893,MATCH(I142,Backbone!$A$2:$A$893,0))","v":"«Единое здоровье»; универсальный"},null,null,null,{"$f":"INDEX(Backbone!$H$2:$H$893,MATCH(I142,Backbone!$A$2:$A$893,0))","v":8.6999999999999993},null,{"$f":"INDEX(Backbone!$I$2:$I$893,MATCH(I142,Backbone!$A$2:$A$893,0))","v":7.3},null,{"$f":"INDEX(Backbone!$J$2:$J$893,MATCH(I142,Backbone!$A$2:$A$893,0))","v":8.4},null,{"$f":"INDEX(Backbone!$K$1:$K$893,MATCH(I142,Backbone!$A$1:$A$893,0))","v":9.3000000000000007},null,{"$f":"INDEX(Backbone!$L$2:$L$893,MATCH(I142,Backbone!$A$2:$A$893,0))","v":8.1999999999999993},null,{"$f":"INDEX(Backbone!$M$2:$M$893,MATCH(I142,Backbone!$A$2:$A$893,0))","v":7.4},null,{"$f":"INDEX(Backbone!$N$2:$N$893,MATCH(I142,Backbone!$A$2:$A$893,0))","v":9.5},null,{"$f":"INDEX(Backbone!$O$2:$O$893,MATCH(I142,Backbone!$A$2:$A$893,0))","v":10},null,{"$f":"INDEX(Backbone!$P$2:$P$893,MATCH(I142,Backbone!$A$2:$A$893,0))","v":10},null,{"$f":"INDEX(Backbone!$Q$2:$Q$893,MATCH(I142,Backbone!$A$2:$A$893,0))","v":0.87555555555555564},null,null,{"$f":"(AG142*$AG$22+AI142*$AI$22+AK142*$AK$22+AM142*$AM$22+AO142*$AO$22+AQ142*$AQ$22+AS142*$AS$22+AU142*$AU$22+AW142*$AW$22)/(SUM($AG$22:$AW$22)*10)","v":{"$error":"#DIV/0!"}},null,null,"Перейти в Реестр ресурсов: ",null,{"$f":"HYPERLINK(\"#\"&ADDRESS(MATCH(I142,Toolbox!$C$1:$C$300),1,,,\"Toolbox\"),VLOOKUP(I142,Toolbox!$C$1:$C$300,1,FALSE))","v":"Инструментарий для картирования и анализа систем «Единое здоровье» (OH-SMART)"}]
[]
[]
[]
[]
[]
[null,null,null,null,null,null,null,null,{"$f":"Backbone!A677","v":"Инструментарий для проведения имитационных учений"},null,null,null,null,null,null,"Настоящий инструментарий позволяет платформам «Единое здоровье» и другим заинтересованным сторонам выбрать нужный тип моделирования, а также спроектировать и внедрить эффективное моделирование.",null,null,null,null,null,null,null,null,{"$f":"INDEX(Backbone!$R$2:$R$893,MATCH(I148,Backbone!$A$2:$A$893,0))","v":"Руководящий документ"},null,null,null,{"$f":"INDEX(Backbone!$S$2:$S$893,MATCH(I148,Backbone!$A$2:$A$893,0))","v":"«Единое здоровье»; универсальный"},null,null,null,{"$f":"INDEX(Backbone!$H$2:$H$893,MATCH(I148,Backbone!$A$2:$A$893,0))","v":8.4},null,{"$f":"INDEX(Backbone!$I$2:$I$893,MATCH(I148,Backbone!$A$2:$A$893,0))","v":8},null,{"$f":"INDEX(Backbone!$J$2:$J$893,MATCH(I148,Backbone!$A$2:$A$893,0))","v":8.4},null,{"$f":"INDEX(Backbone!$K$1:$K$893,MATCH(I148,Backbone!$A$1:$A$893,0))","v":6.7},null,{"$f":"INDEX(Backbone!$L$2:$L$893,MATCH(I148,Backbone!$A$2:$A$893,0))","v":2},null,{"$f":"INDEX(Backbone!$M$2:$M$893,MATCH(I148,Backbone!$A$2:$A$893,0))","v":3.5},null,{"$f":"INDEX(Backbone!$N$2:$N$893,MATCH(I148,Backbone!$A$2:$A$893,0))","v":4},null,{"$f":"INDEX(Backbone!$O$2:$O$893,MATCH(I148,Backbone!$A$2:$A$893,0))","v":6.4},null,{"$f":"INDEX(Backbone!$P$2:$P$893,MATCH(I148,Backbone!$A$2:$A$893,0))","v":8},null,{"$f":"INDEX(Backbone!$Q$2:$Q$893,MATCH(I148,Backbone!$A$2:$A$893,0))","v":0.61555555555555552},null,null,{"$f":"(AG148*$AG$22+AI148*$AI$22+AK148*$AK$22+AM148*$AM$22+AO148*$AO$22+AQ148*$AQ$22+AS148*$AS$22+AU148*$AU$22+AW148*$AW$22)/(SUM($AG$22:$AW$22)*10)","v":{"$error":"#DIV/0!"}},null,null,"Перейти в Реестр ресурсов: ",null,{"$f":"HYPERLINK(\"#\"&ADDRESS(MATCH(I148,Toolbox!$C$1:$C$300),1,,,\"Toolbox\"),VLOOKUP(I148,Toolbox!$C$1:$C$300,1,FALSE))","v":"Инструментарий для проведения имитационных учений"}]
[]
[]
[]
[]
[]
[null,null,null,null,null,null,null,null,{"$f":"Backbone!A489","v":"Пакет программного обеспечения для проведения автоматического глобального электронного биомониторинга (SAGES)"},null,null,null,null,null,null,"Пакет программного обеспечения с открытым исходным кодом для улучшения электронного эпиднадзора в условиях ограниченных ресурсов.",null,null,null,null,null,null,null,null,{"$f":"INDEX(Backbone!$R$2:$R$893,MATCH(I154,Backbone!$A$2:$A$893,0))","v":"Оборудование или программное обеспечение"},null,null,null,{"$f":"INDEX(Backbone!$S$2:$S$893,MATCH(I154,Backbone!$A$2:$A$893,0))","v":"«Единое здоровье»; универсальный"},null,null,null,{"$f":"INDEX(Backbone!$H$2:$H$893,MATCH(I154,Backbone!$A$2:$A$893,0))","v":9.8000000000000007},null,{"$f":"INDEX(Backbone!$I$2:$I$893,MATCH(I154,Backbone!$A$2:$A$893,0))","v":10},null,{"$f":"INDEX(Backbone!$J$2:$J$893,MATCH(I154,Backbone!$A$2:$A$893,0))","v":10},null,{"$f":"INDEX(Backbone!$K$1:$K$893,MATCH(I154,Backbone!$A$1:$A$893,0))","v":9.3000000000000007},null,{"$f":"INDEX(Backbone!$L$2:$L$893,MATCH(I154,Backbone!$A$2:$A$893,0))","v":8.5},null,{"$f":"INDEX(Backbone!$M$2:$M$893,MATCH(I154,Backbone!$A$2:$A$893,0))","v":9},null,{"$f":"INDEX(Backbone!$N$2:$N$893,MATCH(I154,Backbone!$A$2:$A$893,0))","v":5.5},null,{"$f":"INDEX(Backbone!$O$2:$O$893,MATCH(I154,Backbone!$A$2:$A$893,0))","v":9.5},null,{"$f":"INDEX(Backbone!$P$2:$P$893,MATCH(I154,Backbone!$A$2:$A$893,0))","v":7},null,{"$f":"INDEX(Backbone!$Q$2:$Q$893,MATCH(I154,Backbone!$A$2:$A$893,0))","v":0.87333333333333329},null,null,{"$f":"(AG154*$AG$22+AI154*$AI$22+AK154*$AK$22+AM154*$AM$22+AO154*$AO$22+AQ154*$AQ$22+AS154*$AS$22+AU154*$AU$22+AW154*$AW$22)/(SUM($AG$22:$AW$22)*10)","v":{"$error":"#DIV/0!"}},null,null,"Перейти в Реестр ресурсов: ",null,{"$f":"HYPERLINK(\"#\"&ADDRESS(MATCH(I154,Toolbox!$C$1:$C$300),1,,,\"Toolbox\"),VLOOKUP(I154,Toolbox!$C$1:$C$300,1,FALSE))","v":"Пакет программного обеспечения для проведения автоматического глобального электронного биомониторинга (SAGES)"}]

{"sheet":"ME2_tools","index":57,"n_rows":178,"n_cols":59,"rows_kept":178,"cut":false,"hidden":false,"merged":[[177,48,181,48],[177,50,181,51],[177,53,181,54],[159,3,181,6],[152,1,181,1],[177,36,181,36],[177,38,181,38],[177,40,181,40],[177,42,181,42],[177,44,181,44],[177,46,181,46],[177,8,181,13],[177,15,181,22],[177,24,181,26],[177,28,181,30],[177,32,181,32],[177,34,181,34],[171,50,175,51],[171,53,175,54],[171,38,175,38],[171,40,175,40],[171,42,175,42],[171,44,175,44],[171,46,175,46],[118,44,122,44],[118,46,122,46],[118,48,122,48],[118,50,122,51],[118,53,122,54],[100,3,122,6],[118,32,122,32],[118,34,122,34],[118,36,122,36],[118,38,122,38],[118,40,122,40],[118,42,122,42],[112,48,116,48],[112,50,116,51],[112,53,116,54],[112,46,116,46],[106,46,110,46],[106,48,110,48],[106,50,110,51],[106,53,110,54],[106,34,110,34],[106,36,110,36],[106,38,110,38],[106,40,110,40],[29,3,57,6],[17,1,57,1],[118,8,122,13],[118,15,122,22],[118,24,122,26],[118,28,122,30],[88,1,122,1],[53,42,57,42],[53,44,57,44],[47,32,51,32],[47,34,51,34],[47,36,51,36],[47,38,51,38],[112,36,116,36],[112,38,116,38],[112,40,116,40],[112,42,116,42],[112,44,116,44],[112,8,116,13],[112,15,116,22],[112,24,116,26],[112,28,116,30],[112,32,116,32],[112,34,116,34],[53,46,57,46],[53,48,57,48],[53,50,57,51],[53,53,57,54],[47,53,51,54],[53,8,57,13],[53,15,57,22],[53,24,57,26],[53,28,57,30],[53,32,57,32],[53,34,57,34],[53,36,57,36],[53,38,57,38],[53,40,57,40],[47,40,51,40],[47,42,51,42],[47,44,51,44],[47,46,51,46],[47,48,51,48],[47,50,51,51],[47,8,51,13],[47,15,51,22],[47,24,51,26],[47,28,51,30],[171,48,175,48],[165,48,169,48],[165,50,169,51],[165,53,169,54],[171,8,175,13],[171,15,175,22],[171,24,175,26],[171,28,175,30],[171,32,175,32],[171,34,175,34],[171,36,175,36],[165,36,169,36],[165,38,169,38],[165,40,169,40],[165,42,169,42],[165,44,169,44],[165,46,169,46],[159,46,163,46],[159,48,163,48],[159,50,163,51],[159,53,163,54],[165,8,169,13],[165,15,169,22],[165,24,169,26],[165,28,169,30],[165,32,169,32],[165,34,169,34],[159,34,163,34],[159,36,163,36],[159,38,163,38],[159,40,163,40],[159,42,163,42],[159,44,163,44],[159,8,163,13],[159,15,163,22],[159,24,163,26],[159,28,163,30],[159,32,163,32],[142,46,156,46],[142,48,156,48],[149,50,156,51],[149,53,156,54],[153,3,156,6],[153,8,156,13],[153,15,156,22],[153,24,156,26],[153,28,156,30],[142,32,156,32],[142,34,156,34],[142,36,156,36],[142,38,156,38],[142,40,156,40],[142,42,156,42],[142,44,156,44],[106,42,110,42],[106,44,110,44],[100,44,104,44],[100,46,104,46],[100,48,104,48],[100,50,104,51],[100,53,104,54],[106,8,110,13],[106,15,110,22],[106,24,110,26],[106,28,110,30],[106,32,110,32],[100,32,104,32],[100,34,104,34],[100,36,104,36],[100,38,104,38],[100,40,104,40],[100,42,104,42],[93,50,97,51],[93,53,97,54],[100,8,104,13],[100,15,104,22],[100,24,104,26],[100,28,104,30],[93,32,97,32],[93,34,97,34],[93,36,97,36],[93,38,97,38],[93,40,97,40],[93,42,97,42],[93,3,97,6],[93,8,97,13],[93,15,97,22],[93,24,97,26],[93,28,97,30],[77,44,91,44],[77,46,91,46],[77,48,91,48],[93,44,97,44],[93,46,97,46],[93,48,97,48],[84,50,91,51],[84,53,91,54],[88,3,91,6],[88,8,91,13],[88,15,91,22],[88,24,91,26],[77,32,91,32],[77,34,91,34],[77,36,91,36],[77,38,91,38],[77,40,91,40],[77,42,91,42],[88,28,91,30],[41,42,45,42],[41,44,45,44],[41,46,45,46],[41,48,45,48],[41,50,45,51],[41,53,45,54],[35,53,39,54],[41,8,45,13],[41,15,45,22],[41,24,45,26],[41,28,45,30],[41,32,45,32],[41,34,45,34],[41,36,45,36],[41,38,45,38],[41,40,45,40],[35,40,39,40],[35,42,39,42],[35,44,39,44],[35,46,39,46],[35,48,39,48],[35,50,39,51],[29,50,33,51],[29,53,33,54],[35,8,39,13],[35,15,39,22],[35,24,39,26],[35,28,39,30],[35,32,39,32],[35,34,39,34],[35,36,39,36],[35,38,39,38],[29,38,33,38],[29,40,33,40],[29,42,33,42],[29,44,33,44],[29,46,33,46],[29,48,33,48],[29,8,33,13],[29,15,33,22],[29,24,33,26],[29,28,33,30],[29,32,33,32],[29,34,33,34],[29,36,33,36],[22,38,26,38],[22,40,26,40],[22,15,26,22],[22,24,26,26],[22,28,26,30],[22,32,26,32],[22,34,26,34],[22,36,26,36],[13,50,20,51],[13,53,20,54],[17,3,20,6],[17,8,20,13],[17,15,20,22],[17,24,20,26],[17,28,20,30],[1,1,3,62],[22,3,26,6],[22,8,26,13],[22,50,26,51],[22,53,26,54],[22,42,26,42],[22,44,26,44],[22,46,26,46],[22,48,26,48],[6,32,20,32],[6,34,20,34],[6,36,20,36],[6,38,20,38],[6,40,20,40],[6,42,20,42],[6,44,20,44],[6,46,20,46],[6,48,20,48],[22,56,26,57],[22,58,26,62],[29,56,33,57],[29,58,33,62],[35,56,39,57],[35,58,39,62],[41,56,45,57],[41,58,45,62],[47,56,51,57],[47,58,51,62],[53,56,57,57],[53,58,57,62],[93,56,97,57],[93,58,97,62],[100,56,104,57],[100,58,104,62],[106,56,110,57],[106,58,110,62],[112,56,116,57],[112,58,116,62],[118,56,122,57],[118,58,122,62],[159,56,163,57],[159,58,163,62],[165,56,169,57],[165,58,169,62],[171,56,175,57],[171,58,175,62],[177,56,181,57],[177,58,181,62]]}
[]
[null,"Ресурсы по планированию деятельности по мониторингу и оценке"]
[]
[]
[]
[]
[null,null,null,null,null,null,null,null,null,null,null,null,null,null,null,null,null,null,null,null,null,null,null,null,null,null,null,null,null,null,null,null,"Доступность",null,"Язык",null,"Простота использования",null,"Гибкость",null,"Потребности в данных",null,"Анализ данных",null,"Приемлемость",null,"«Единое здоровье»",null,"Воздействие"]
[]
[]
[]
[]
[]
[]
[null,null,null,null,null,null,null,null,null,null,null,null,null,null,null,null,null,null,null,null,null,null,null,null,null,null,null,null,null,null,null,null,null,null,null,null,null,null,null,null,null,null,null,null,null,null,null,null,null,null,"ИСХОДНАЯ ОЦЕНКА",null,null,"СКОРРЕКТИРОВАННАЯ ОЦЕНКА \n(Исходя из предпочтений пользователей)"]
[]
[]
[]
[null,"РЕСУРСЫ УРОВНЯ 1",null,"КЛАССИФИКАЦИЯ",null,null,null,null,"НАЗВАНИЕ РЕСУРСА",null,null,null,null,null,null,"КРАТКОЕ ОПИСАНИЕ",null,null,null,null,null,null,null,null,"ВИД РЕСУРСА",null,null,null,"ОБЩАЯ НАПРАВЛЕННОСТЬ РЕСУРСА"]
[]
[]
[]
[null,null,null,null,null,null,null,null,null,null,null,null,null,null,null,null,null,null,null,null,null,null,null,null,null,null,null,null,null,null,null,null,{"$f":"'Attribute Survey'!S22","v":0},null,{"$f":"'Attribute Survey'!S26","v":0},null,{"$f":"'Attribute Survey'!S30","v":0},null,{"$f":"'Attribute Survey'!S34","v":0},null,{"$f":"'Attribute Survey'!S38","v":0},null,{"$f":"'Attribute Survey'!S42","v":0},null,{"$f":"'Attribute Survey'!S46","v":0},null,{"$f":"'Attribute Survey'!S50","v":0},null,{"$f":"'Attribute Survey'!S54","v":0}]
[null,null,null,"Наиболее подходящие ресурсы",null,null,null,null,{"$f":"Backbone!A561","v":"Рамочная программа по оценке эпиднадзора за биозащитой (SurF)"},null,null,null,null,null,null,"Рамочная программа оценки систем эпиднадзора, которую можно использовать для обеспечения биозащиты, здоровья животных и растений. ",null,null,null,null,null,null,null,null,{"$f":"INDEX(Backbone!$R$2:$R$893,MATCH(I23,Backbone!$A$2:$A$893,0))","v":"Руководящий документ"},null,null,null,{"$f":"INDEX(Backbone!$S$2:$S$893,MATCH(I23,Backbone!$A$2:$A$893,0))","v":"«Единое здоровье»; универсальный"},null,null,null,{"$f":"INDEX(Backbone!$H$2:$H$893,MATCH(I23,Backbone!$A$2:$A$893,0))","v":7.6},null,{"$f":"INDEX(Backbone!$I$2:$I$893,MATCH(I23,Backbone!$A$2:$A$893,0))","v":6},null,{"$f":"INDEX(Backbone!$J$2:$J$893,MATCH(I23,Backbone!$A$2:$A$893,0))","v":8},null,{"$f":"INDEX(Backbone!$K$2:$K$893,MATCH(I23,Backbone!$A$2:$A$893,0))","v":8.6999999999999993},null,{"$f":"INDEX(Backbone!$L$2:$L$893,MATCH(I23,Backbone!$A$2:$A$893,0))","v":8.6},null,{"$f":"INDEX(Backbone!$M$2:$M$893,MATCH(I23,Backbone!$A$2:$A$893,0))","v":4.0999999999999996},null,{"$f":"INDEX(Backbone!$N$2:$N$893,MATCH(I23,Backbone!$A$2:$A$893,0))","v":4},null,{"$f":"INDEX(Backbone!$O$2:$O$893,MATCH(I23,Backbone!$A$2:$A$893,0))","v":8},null,{"$f":"INDEX(Backbone!$P$2:$P$893,MATCH(I23,Backbone!$A$2:$A$893,0))","v":4},null,{"$f":"INDEX(Backbone!$Q$2:$Q$893,MATCH(I23,Backbone!$A$2:$A$893,0))","v":0.65555555555555556},null,null,{"$f":"(AG23*$AG$22+AI23*$AI$22+AK23*$AK$22+AM23*$AM$22+AO23*$AO$22+AQ23*$AQ$22+AS23*$AS$22+AU23*$AU$22+AW23*$AW$22)/(SUM($AG$22:$AW$22)*10)","v":{"$error":"#DIV/0!"}},null,null,"Перейти в Реестр ресурсов: ",null,{"$f":"HYPERLINK(\"#\"&ADDRESS(MATCH(I23,Toolbox!$C$1:$C$300),1,,,\"Toolbox\"),VLOOKUP(I23,Toolbox!$C$1:$C$300,1,FALSE))","v":"Рамочная программа по оценке эпиднадзора за биозащитой (SurF)"}]
[]
[]
[]
[]
[]
[]
[null,null,null,"Другие полезные ресурсы",null,null,null,null,{"$f":"Backbone!A575","v":"Устойчивость к противомикробным препаратам: руководство для разработки национальных планов действий"},null,null,null,null,null,null,"Руководство для разработки национальных планов действий для решения проблемы устойчивости к противомикробным препаратам.",null,null,null,null,null,null,null,null,{"$f":"INDEX(Backbone!$R$2:$R$893,MATCH(I30,Backbone!$A$2:$A$893,0))","v":"Руководящий документ"},null,null,null,{"$f":"INDEX(Backbone!$S$2:$S$893,MATCH(I30,Backbone!$A$2:$A$893,0))","v":"«Единое здоровье»; ориентированный на конкретную болезнь/угрозу "},null,null,null,{"$f":"INDEX(Backbone!$H$2:$H$893,MATCH(I30,Backbone!$A$2:$A$893,0))","v":10},null,{"$f":"INDEX(Backbone!$I$2:$I$893,MATCH(I30,Backbone!$A$2:$A$893,0))","v":6},null,{"$f":"INDEX(Backbone!$J$2:$J$893,MATCH(I30,Backbone!$A$2:$A$893,0))","v":6.6},null,{"$f":"INDEX(Backbone!$K$1:$K$893,MATCH(I30,Backbone!$A$1:$A$893,0))","v":8.6999999999999993},null,{"$f":"INDEX(Backbone!$L$2:$L$893,MATCH(I30,Backbone!$A$2:$A$893,0))","v":8},null,{"$f":"INDEX(Backbone!$M$2:$M$893,MATCH(I30,Backbone!$A$2:$A$893,0))","v":3.8},null,{"$f":"INDEX(Backbone!$N$2:$N$893,MATCH(I30,Backbone!$A$2:$A$893,0))","v":4.5},null,{"$f":"INDEX(Backbone!$O$2:$O$893,MATCH(I30,Backbone!$A$2:$A$893,0))","v":9},null,{"$f":"INDEX(Backbone!$P$2:$P$893,MATCH(I30,Backbone!$A$2:$A$893,0))","v":10},null,{"$f":"INDEX(Backbone!$Q$2:$Q$893,MATCH(I30,Backbone!$A$2:$A$893,0))","v":0.74},null,null,{"$f":"(AG30*$AG$22+AI30*$AI$22+AK30*$AK$22+AM30*$AM$22+AO30*$AO$22+AQ30*$AQ$22+AS30*$AS$22+AU30*$AU$22+AW30*$AW$22)/(SUM($AG$22:$AW$22)*10)","v":{"$error":"#DIV/0!"}},null,null,"Перейти в Реестр ресурсов: ",null,{"$f":"HYPERLINK(\"#\"&ADDRESS(MATCH(I30,Toolbox!$C$1:$C$300),1,,,\"Toolbox\"),VLOOKUP(I30,Toolbox!$C$1:$C$300,1,FALSE))","v":"Устойчивость к противомикробным препаратам: руководство для разработки национальных планов действий"}]
[]
[]
[]
[]
[]
[null,null,null,null,null,null,null,null,{"$f":"Backbone!A83","v":"Оценка системы эпиднадзора и мониторинга качества данных Европейского ЦКПЗ — справочник методов и применений "},null,null,null,null,null,null,"Справочник по мониторингу качества данных эпиднадзора для специалистов сектора общественного здравоохранения.",null,null,null,null,null,null,null,null,{"$f":"INDEX(Backbone!$R$2:$R$893,MATCH(I36,Backbone!$A$2:$A$893,0))","v":"Руководящий документ"},null,null,null,{"$f":"INDEX(Backbone!$S$2:$S$893,MATCH(I36,Backbone!$A$2:$A$893,0))","v":"Ориентированный на конкретный сектор; универсальный"},null,null,null,{"$f":"INDEX(Backbone!$H$2:$H$893,MATCH(I36,Backbone!$A$2:$A$893,0))","v":8.1999999999999993},null,{"$f":"INDEX(Backbone!$I$2:$I$893,MATCH(I36,Backbone!$A$2:$A$893,0))","v":6},null,{"$f":"INDEX(Backbone!$J$2:$J$893,MATCH(I36,Backbone!$A$2:$A$893,0))","v":6.4},null,{"$f":"INDEX(Backbone!$K$1:$K$893,MATCH(I36,Backbone!$A$1:$A$893,0))","v":7.3},null,{"$f":"INDEX(Backbone!$L$2:$L$893,MATCH(I36,Backbone!$A$2:$A$893,0))","v":7.7},null,{"$f":"INDEX(Backbone!$M$2:$M$893,MATCH(I36,Backbone!$A$2:$A$893,0))","v":4.5},null,{"$f":"INDEX(Backbone!$N$2:$N$893,MATCH(I36,Backbone!$A$2:$A$893,0))","v":5.3},null,{"$f":"INDEX(Backbone!$O$2:$O$893,MATCH(I36,Backbone!$A$2:$A$893,0))","v":6.2},null,{"$f":"INDEX(Backbone!$P$2:$P$893,MATCH(I36,Backbone!$A$2:$A$893,0))","v":8},null,{"$f":"INDEX(Backbone!$Q$2:$Q$893,MATCH(I36,Backbone!$A$2:$A$893,0))","v":0.66222222222222227},null,null,{"$f":"(AG36*$AG$22+AI36*$AI$22+AK36*$AK$22+AM36*$AM$22+AO36*$AO$22+AQ36*$AQ$22+AS36*$AS$22+AU36*$AU$22+AW36*$AW$22)/(SUM($AG$22:$AW$22)*10)","v":{"$error":"#DIV/0!"}},null,null,"Перейти в Реестр ресурсов: ",null,{"$f":"HYPERLINK(\"#\"&ADDRESS(MATCH(I36,Toolbox!$C$1:$C$300),1,,,\"Toolbox\"),VLOOKUP(I36,Toolbox!$C$1:$C$300,1,FALSE))","v":"Оценка системы эпиднадзора и мониторинга качества данных Европейского ЦКПЗ — справочник методов и применений "}]
[]
[]
[]
[]
[]
[null,null,null,null,null,null,null,null,{"$f":"Backbone!A510","v":"Рамочная программа по оценке эпиднадзора за здоровьем животных (SERVAL)"},null,null,null,null,null,null,"Пошаговое руководство по планированию, структурированию и оценке систем надзора за здоровьем животных.",null,null,null,null,null,null,null,null,{"$f":"INDEX(Backbone!$R$2:$R$893,MATCH(I42,Backbone!$A$2:$A$893,0))","v":"Руководящий документ"},null,null,null,{"$f":"INDEX(Backbone!$S$2:$S$893,MATCH(I42,Backbone!$A$2:$A$893,0))","v":"Ориентированный на конкретный сектор; универсальный"},null,null,null,{"$f":"INDEX(Backbone!$H$2:$H$893,MATCH(I42,Backbone!$A$2:$A$893,0))","v":8.8000000000000007},null,{"$f":"INDEX(Backbone!$I$2:$I$893,MATCH(I42,Backbone!$A$2:$A$893,0))","v":9},null,{"$f":"INDEX(Backbone!$J$2:$J$893,MATCH(I42,Backbone!$A$2:$A$893,0))","v":9},null,{"$f":"INDEX(Backbone!$K$1:$K$893,MATCH(I42,Backbone!$A$1:$A$893,0))","v":10},null,{"$f":"INDEX(Backbone!$L$2:$L$893,MATCH(I42,Backbone!$A$2:$A$893,0))","v":8.1},null,{"$f":"INDEX(Backbone!$M$2:$M$893,MATCH(I42,Backbone!$A$2:$A$893,0))","v":3.3},null,{"$f":"INDEX(Backbone!$N$2:$N$893,MATCH(I42,Backbone!$A$2:$A$893,0))","v":4},null,{"$f":"INDEX(Backbone!$O$2:$O$893,MATCH(I42,Backbone!$A$2:$A$893,0))","v":6.8},null,{"$f":"INDEX(Backbone!$P$2:$P$893,MATCH(I42,Backbone!$A$2:$A$893,0))","v":8},null,{"$f":"INDEX(Backbone!$Q$2:$Q$893,MATCH(I42,Backbone!$A$2:$A$893,0))","v":0.74444444444444446},null,null,{"$f":"(AG42*$AG$22+AI42*$AI$22+AK42*$AK$22+AM42*$AM$22+AO42*$AO$22+AQ42*$AQ$22+AS42*$AS$22+AU42*$AU$22+AW42*$AW$22)/(SUM($AG$22:$AW$22)*10)","v":{"$error":"#DIV/0!"}},null,null,"Перейти в Реестр ресурсов: ",null,{"$f":"HYPERLINK(\"#\"&ADDRESS(MATCH(I42,Toolbox!$C$1:$C$300),1,,,\"Toolbox\"),VLOOKUP(I42,Toolbox!$C$1:$C$300,1,FALSE))","v":"Рамочная программа по оценке эпиднадзора за здоровьем животных (SERVAL)"}]
[]
[]
[]
[]
[]
[null,null,null,null,null,null,null,null,{"$f":"Backbone!A483","v":"Онлайн-инструменты для разработки и оценки систем эпиднадзора (SURVTOOLS) "},null,null,null,null,null,null,"Объединенные инструменты для проектирования и оценки эпиднадзора предназначены для компетентных технических пользователей, проектирующих, внедряющих или оценивающих системы эпиднадзора за здоровьем животных.",null,null,null,null,null,null,null,null,{"$f":"INDEX(Backbone!$R$2:$R$893,MATCH(I48,Backbone!$A$2:$A$893,0))","v":"Оборудование или программное обеспечение"},null,null,null,{"$f":"INDEX(Backbone!$S$2:$S$893,MATCH(I48,Backbone!$A$2:$A$893,0))","v":"Ориентированный на конкретный сектор; универсальный"},null,null,null,{"$f":"INDEX(Backbone!$H$2:$H$893,MATCH(I48,Backbone!$A$2:$A$893,0))","v":9.6},null,{"$f":"INDEX(Backbone!$I$2:$I$893,MATCH(I48,Backbone!$A$2:$A$893,0))","v":2},null,{"$f":"INDEX(Backbone!$J$2:$J$893,MATCH(I48,Backbone!$A$2:$A$893,0))","v":6.7},null,{"$f":"INDEX(Backbone!$K$1:$K$893,MATCH(I48,Backbone!$A$1:$A$893,0))","v":6.7},null,{"$f":"INDEX(Backbone!$L$2:$L$893,MATCH(I48,Backbone!$A$2:$A$893,0))","v":6.6},null,{"$f":"INDEX(Backbone!$M$2:$M$893,MATCH(I48,Backbone!$A$2:$A$893,0))","v":3.5},null,{"$f":"INDEX(Backbone!$N$2:$N$893,MATCH(I48,Backbone!$A$2:$A$893,0))","v":6.7},null,{"$f":"INDEX(Backbone!$O$2:$O$893,MATCH(I48,Backbone!$A$2:$A$893,0))","v":4.9000000000000004},null,{"$f":"INDEX(Backbone!$P$2:$P$893,MATCH(I48,Backbone!$A$2:$A$893,0))","v":4.7},null,{"$f":"INDEX(Backbone!$Q$2:$Q$893,MATCH(I48,Backbone!$A$2:$A$893,0))","v":0.57111111111111112},null,null,{"$f":"(AG48*$AG$22+AI48*$AI$22+AK48*$AK$22+AM48*$AM$22+AO48*$AO$22+AQ48*$AQ$22+AS48*$AS$22+AU48*$AU$22+AW48*$AW$22)/(SUM($AG$22:$AW$22)*10)","v":{"$error":"#DIV/0!"}},null,null,"Перейти в Реестр ресурсов: ",null,{"$f":"HYPERLINK(\"#\"&ADDRESS(MATCH(I48,Toolbox!$C$1:$C$300),1,,,\"Toolbox\"),VLOOKUP(I48,Toolbox!$C$1:$C$300,1,FALSE))","v":"Онлайн-инструменты для разработки и оценки систем эпиднадзора (SURVTOOLS) "}]
[]
[]
[]
[]
[]
[null,null,null,null,null,null,null,null,{"$f":"Backbone!A296","v":"Обновленные руководящие принципы для оценки систем эпиднадзора за здоровьем человека "},null,null,null,null,null,null,"Настоящий отчет предоставляет обновленные руководящие принципы для оценки систем эпиднадзора с описанием задач и связанных мероприятий, применимых к системе эпиднадзора за здоровьем человека.",null,null,null,null,null,null,null,null,{"$f":"INDEX(Backbone!$R$2:$R$893,MATCH(I54,Backbone!$A$2:$A$893,0))","v":"Руководящий документ"},null,null,null,{"$f":"INDEX(Backbone!$S$2:$S$893,MATCH(I54,Backbone!$A$2:$A$893,0))","v":"Ориентированный на конкретный сектор; универсальный"},null,null,null,{"$f":"INDEX(Backbone!$H$2:$H$893,MATCH(I54,Backbone!$A$2:$A$893,0))","v":7.6},null,{"$f":"INDEX(Backbone!$I$2:$I$893,MATCH(I54,Backbone!$A$2:$A$893,0))","v":8},null,{"$f":"INDEX(Backbone!$J$2:$J$893,MATCH(I54,Backbone!$A$2:$A$893,0))","v":7.2},null,{"$f":"INDEX(Backbone!$K$1:$K$893,MATCH(I54,Backbone!$A$1:$A$893,0))","v":8.6999999999999993},null,{"$f":"INDEX(Backbone!$L$2:$L$893,MATCH(I54,Backbone!$A$2:$A$893,0))","v":7.7},null,{"$f":"INDEX(Backbone!$M$2:$M$893,MATCH(I54,Backbone!$A$2:$A$893,0))","v":2.2999999999999998},null,{"$f":"INDEX(Backbone!$N$2:$N$893,MATCH(I54,Backbone!$A$2:$A$893,0))","v":4},null,{"$f":"INDEX(Backbone!$O$2:$O$893,MATCH(I54,Backbone!$A$2:$A$893,0))","v":5.8},null,{"$f":"INDEX(Backbone!$P$2:$P$893,MATCH(I54,Backbone!$A$2:$A$893,0))","v":4},null,{"$f":"INDEX(Backbone!$Q$2:$Q$893,MATCH(I54,Backbone!$A$2:$A$893,0))","v":0.61444444444444446},null,null,{"$f":"(AG54*$AG$22+AI54*$AI$22+AK54*$AK$22+AM54*$AM$22+AO54*$AO$22+AQ54*$AQ$22+AS54*$AS$22+AU54*$AU$22+AW54*$AW$22)/(SUM($AG$22:$AW$22)*10)","v":{"$error":"#DIV/0!"}},null,null,"Перейти в Реестр ресурсов: ",null,{"$f":"HYPERLINK(\"#\"&ADDRESS(MATCH(I54,Toolbox!$C$1:$C$300),1,,,\"Toolbox\"),VLOOKUP(I54,Toolbox!$C$1:$C$300,1,FALSE))","v":"Обновленные руководящие принципы для оценки систем эпиднадзора за здоровьем человека "}]
[]
[]
[]
[]
[]
[]
[]
[]
[]
[]
[]
[]
[]
[]
[]
[]
[]
[]
[]
[]
[]
[]
[]
[null,null,null,null,null,null,null,null,null,null,null,null,null,null,null,null,null,null,null,null,null,null,null,null,null,null,null,null,null,null,null,null,"Доступность",null,"Язык",null,"Простота использования",null,"Гибкость",null,"Потребности в данных",null,"Анализ данных",null,"Приемлемость",null,"«Единое здоровье»",null,"Воздействие"]
[]
[]
[]
[]
[]
[]
[null,null,null,null,null,null,null,null,null,null,null,null,null,null,null,null,null,null,null,null,null,null,null,null,null,null,null,null,null,null,null,null,null,null,null,null,null,null,null,null,null,null,null,null,null,null,null,null,null,null,"ИСХОДНАЯ ОЦЕНКА",null,null,"СКОРРЕКТИРОВАННАЯ ОЦЕНКА \n(Исходя из предпочтений пользователей)"]
[]
[]
[]
[null,"РЕСУРСЫ УРОВНЯ 2",null,"КЛАССИФИКАЦИЯ",null,null,null,null,"НАЗВАНИЕ РЕСУРСА",null,null,null,null,null,null,"КРАТКОЕ ОПИСАНИЕ",null,null,null,null,null,null,null,null,"ВИД РЕСУРСА",null,null,null,"ОБЩАЯ НАПРАВЛЕННОСТЬ РЕСУРСА"]
[]
[]
[]
[null,null,null,null,null,null,null,null,null,null,null,null,null,null,null,null,null,null,null,null,null,null,null,null,null,null,null,null,null,null,null,null,{"$f":"'Attribute Survey'!S111","v":0},null,{"$f":"'Attribute Survey'!S115","v":0},null,{"$f":"'Attribute Survey'!S119","v":0},null,{"$f":"'Attribute Survey'!S123","v":0},null,{"$f":"'Attribute Survey'!S127","v":0},null,{"$f":"'Attribute Survey'!S131","v":0},null,{"$f":"'Attribute Survey'!S135","v":0},null,{"$f":"'Attribute Survey'!S139","v":0},null,{"$f":"'Attribute Survey'!S143","v":0}]
[null,null,null,"Наиболее подходящие ресурсы",null,null,null,null,{"$f":"Backbone!A561","v":"Рамочная программа по оценке эпиднадзора за биозащитой (SurF)"},null,null,null,null,null,null,"Рамочная программа оценки систем эпиднадзора, которую можно использовать для обеспечения биозащиты, здоровья животных и растений. ",null,null,null,null,null,null,null,null,{"$f":"INDEX(Backbone!$R$2:$R$893,MATCH(I94,Backbone!$A$2:$A$893,0))","v":"Руководящий документ"},null,null,null,{"$f":"INDEX(Backbone!$S$2:$S$893,MATCH(I94,Backbone!$A$2:$A$893,0))","v":"«Единое здоровье»; универсальный"},null,null,null,{"$f":"INDEX(Backbone!$H$2:$H$893,MATCH(I94,Backbone!$A$2:$A$893,0))","v":7.6},null,{"$f":"INDEX(Backbone!$I$2:$I$893,MATCH(I94,Backbone!$A$2:$A$893,0))","v":6},null,{"$f":"INDEX(Backbone!$J$2:$J$893,MATCH(I94,Backbone!$A$2:$A$893,0))","v":8},null,{"$f":"INDEX(Backbone!$K$2:$K$893,MATCH(I94,Backbone!$A$2:$A$893,0))","v":8.6999999999999993},null,{"$f":"INDEX(Backbone!$L$2:$L$893,MATCH(I94,Backbone!$A$2:$A$893,0))","v":8.6},null,{"$f":"INDEX(Backbone!$M$2:$M$893,MATCH(I94,Backbone!$A$2:$A$893,0))","v":4.0999999999999996},null,{"$f":"INDEX(Backbone!$N$2:$N$893,MATCH(I94,Backbone!$A$2:$A$893,0))","v":4},null,{"$f":"INDEX(Backbone!$O$2:$O$893,MATCH(I94,Backbone!$A$2:$A$893,0))","v":8},null,{"$f":"INDEX(Backbone!$P$2:$P$893,MATCH(I94,Backbone!$A$2:$A$893,0))","v":4},null,{"$f":"INDEX(Backbone!$Q$2:$Q$893,MATCH(I94,Backbone!$A$2:$A$893,0))","v":0.65555555555555556},null,null,{"$f":"(AG94*$AG$22+AI94*$AI$22+AK94*$AK$22+AM94*$AM$22+AO94*$AO$22+AQ94*$AQ$22+AS94*$AS$22+AU94*$AU$22+AW94*$AW$22)/(SUM($AG$22:$AW$22)*10)","v":{"$error":"#DIV/0!"}},null,null,"Перейти в Реестр ресурсов: ",null,{"$f":"HYPERLINK(\"#\"&ADDRESS(MATCH(I94,Toolbox!$C$1:$C$300),1,,,\"Toolbox\"),VLOOKUP(I94,Toolbox!$C$1:$C$300,1,FALSE))","v":"Рамочная программа по оценке эпиднадзора за биозащитой (SurF)"}]
[]
[]
[]
[]
[]
[]
[null,null,null,"Другие полезные ресурсы",null,null,null,null,{"$f":"Backbone!A83","v":"Оценка системы эпиднадзора и мониторинга качества данных Европейского ЦКПЗ — справочник методов и применений "},null,null,null,null,null,null,"Справочник по мониторингу качества данных эпиднадзора для специалистов сектора общественного здравоохранения.",null,null,null,null,null,null,null,null,{"$f":"INDEX(Backbone!$R$2:$R$893,MATCH(I101,Backbone!$A$2:$A$893,0))","v":"Руководящий документ"},null,null,null,{"$f":"INDEX(Backbone!$S$2:$S$893,MATCH(I101,Backbone!$A$2:$A$893,0))","v":"Ориентированный на конкретный сектор; универсальный"},null,null,null,{"$f":"INDEX(Backbone!$H$2:$H$893,MATCH(I101,Backbone!$A$2:$A$893,0))","v":8.1999999999999993},null,{"$f":"INDEX(Backbone!$I$2:$I$893,MATCH(I101,Backbone!$A$2:$A$893,0))","v":6},null,{"$f":"INDEX(Backbone!$J$2:$J$893,MATCH(I101,Backbone!$A$2:$A$893,0))","v":6.4},null,{"$f":"INDEX(Backbone!$K$1:$K$893,MATCH(I101,Backbone!$A$1:$A$893,0))","v":7.3},null,{"$f":"INDEX(Backbone!$L$2:$L$893,MATCH(I101,Backbone!$A$2:$A$893,0))","v":7.7},null,{"$f":"INDEX(Backbone!$M$2:$M$893,MATCH(I101,Backbone!$A$2:$A$893,0))","v":4.5},null,{"$f":"INDEX(Backbone!$N$2:$N$893,MATCH(I101,Backbone!$A$2:$A$893,0))","v":5.3},null,{"$f":"INDEX(Backbone!$O$2:$O$893,MATCH(I101,Backbone!$A$2:$A$893,0))","v":6.2},null,{"$f":"INDEX(Backbone!$P$2:$P$893,MATCH(I101,Backbone!$A$2:$A$893,0))","v":8},null,{"$f":"INDEX(Backbone!$Q$2:$Q$893,MATCH(I101,Backbone!$A$2:$A$893,0))","v":0.66222222222222227},null,null,{"$f":"(AG101*$AG$22+AI101*$AI$22+AK101*$AK$22+AM101*$AM$22+AO101*$AO$22+AQ101*$AQ$22+AS101*$AS$22+AU101*$AU$22+AW101*$AW$22)/(SUM($AG$22:$AW$22)*10)","v":{"$error":"#DIV/0!"}},null,null,"Перейти в Реестр ресурсов: ",null,{"$f":"HYPERLINK(\"#\"&ADDRESS(MATCH(I101,Toolbox!$C$1:$C$300),1,,,\"Toolbox\"),VLOOKUP(I101,Toolbox!$C$1:$C$300,1,FALSE))","v":"Оценка системы эпиднадзора и мониторинга качества данных Европейского ЦКПЗ — справочник методов и применений "}]
[]
[]
[]
[]
[]
[null,null,null,null,null,null,null,null,{"$f":"Backbone!A332","v":"Сеть для оценки мероприятий на основе концепции «Единое здоровье» (NEOH)"},null,null,null,null,null,null,"Инструмент на базе Excel для оценки приверженности системы эпиднадзора принципу «Единое здоровье» (или степень применения подхода «Единое здоровье», ЕЗ). ",null,null,null,null,null,null,null,null,{"$f":"INDEX(Backbone!$R$2:$R$893,MATCH(I107,Backbone!$A$2:$A$893,0))","v":"Руководящий документ"},null,null,null,{"$f":"INDEX(Backbone!$S$2:$S$893,MATCH(I107,Backbone!$A$2:$A$893,0))","v":"«Единое здоровье»; универсальный"},null,null,null,{"$f":"INDEX(Backbone!$H$2:$H$893,MATCH(I107,Backbone!$A$2:$A$893,0))","v":8.3000000000000007},null,{"$f":"INDEX(Backbone!$I$2:$I$893,MATCH(I107,Backbone!$A$2:$A$893,0))","v":7.7},null,{"$f":"INDEX(Backbone!$J$2:$J$893,MATCH(I107,Backbone!$A$2:$A$893,0))","v":5.3},null,{"$f":"INDEX(Backbone!$K$1:$K$893,MATCH(I107,Backbone!$A$1:$A$893,0))","v":8.9},null,{"$f":"INDEX(Backbone!$L$2:$L$893,MATCH(I107,Backbone!$A$2:$A$893,0))","v":7.8},null,{"$f":"INDEX(Backbone!$M$2:$M$893,MATCH(I107,Backbone!$A$2:$A$893,0))","v":4.7},null,{"$f":"INDEX(Backbone!$N$2:$N$893,MATCH(I107,Backbone!$A$2:$A$893,0))","v":5.3},null,{"$f":"INDEX(Backbone!$O$2:$O$893,MATCH(I107,Backbone!$A$2:$A$893,0))","v":8},null,{"$f":"INDEX(Backbone!$P$2:$P$893,MATCH(I107,Backbone!$A$2:$A$893,0))","v":5.3},null,{"$f":"INDEX(Backbone!$Q$2:$Q$893,MATCH(I107,Backbone!$A$2:$A$893,0))","v":0.68111111111111111},null,null,{"$f":"(AG107*$AG$22+AI107*$AI$22+AK107*$AK$22+AM107*$AM$22+AO107*$AO$22+AQ107*$AQ$22+AS107*$AS$22+AU107*$AU$22+AW107*$AW$22)/(SUM($AG$22:$AW$22)*10)","v":{"$error":"#DIV/0!"}},null,null,"Перейти в Реестр ресурсов: ",null,{"$f":"HYPERLINK(\"#\"&ADDRESS(MATCH(I107,Toolbox!$C$1:$C$300),1,,,\"Toolbox\"),VLOOKUP(I107,Toolbox!$C$1:$C$300,1,FALSE))","v":"Сеть для оценки мероприятий на основе концепции «Единое здоровье» (NEOH)"}]
[]
[]
[]
[]
[]
[null,null,null,null,null,null,null,null,{"$f":"Backbone!A510","v":"Рамочная программа по оценке эпиднадзора за здоровьем животных (SERVAL)"},null,null,null,null,null,null,"Пошаговое руководство по планированию, структурированию и оценке систем надзора за здоровьем животных.",null,null,null,null,null,null,null,null,{"$f":"INDEX(Backbone!$R$2:$R$893,MATCH(I113,Backbone!$A$2:$A$893,0))","v":"Руководящий документ"},null,null,null,{"$f":"INDEX(Backbone!$S$2:$S$893,MATCH(I113,Backbone!$A$2:$A$893,0))","v":"Ориентированный на конкретный сектор; универсальный"},null,null,null,{"$f":"INDEX(Backbone!$H$2:$H$893,MATCH(I113,Backbone!$A$2:$A$893,0))","v":8.8000000000000007},null,{"$f":"INDEX(Backbone!$I$2:$I$893,MATCH(I113,Backbone!$A$2:$A$893,0))","v":9},null,{"$f":"INDEX(Backbone!$J$2:$J$893,MATCH(I113,Backbone!$A$2:$A$893,0))","v":9},null,{"$f":"INDEX(Backbone!$K$1:$K$893,MATCH(I113,Backbone!$A$1:$A$893,0))","v":10},null,{"$f":"INDEX(Backbone!$L$2:$L$893,MATCH(I113,Backbone!$A$2:$A$893,0))","v":8.1},null,{"$f":"INDEX(Backbone!$M$2:$M$893,MATCH(I113,Backbone!$A$2:$A$893,0))","v":3.3},null,{"$f":"INDEX(Backbone!$N$2:$N$893,MATCH(I113,Backbone!$A$2:$A$893,0))","v":4},null,{"$f":"INDEX(Backbone!$O$2:$O$893,MATCH(I113,Backbone!$A$2:$A$893,0))","v":6.8},null,{"$f":"INDEX(Backbone!$P$2:$P$893,MATCH(I113,Backbone!$A$2:$A$893,0))","v":8},null,{"$f":"INDEX(Backbone!$Q$2:$Q$893,MATCH(I113,Backbone!$A$2:$A$893,0))","v":0.74444444444444446},null,null,{"$f":"(AG113*$AG$22+AI113*$AI$22+AK113*$AK$22+AM113*$AM$22+AO113*$AO$22+AQ113*$AQ$22+AS113*$AS$22+AU113*$AU$22+AW113*$AW$22)/(SUM($AG$22:$AW$22)*10)","v":{"$error":"#DIV/0!"}},null,null,"Перейти в Реестр ресурсов: ",null,{"$f":"HYPERLINK(\"#\"&ADDRESS(MATCH(I113,Toolbox!$C$1:$C$300),1,,,\"Toolbox\"),VLOOKUP(I113,Toolbox!$C$1:$C$300,1,FALSE))","v":"Рамочная программа по оценке эпиднадзора за здоровьем животных (SERVAL)"}]
[]
[]
[]
[]
[]
[null,null,null,null,null,null,null,null,{"$f":"Backbone!A296","v":"Обновленные руководящие принципы для оценки систем эпиднадзора за здоровьем человека "},null,null,null,null,null,null,"Настоящий отчет предоставляет обновленные руководящие принципы для оценки систем эпиднадзора с описанием задач и связанных мероприятий, применимых к системе эпиднадзора за здоровьем человека.",null,null,null,null,null,null,null,null,{"$f":"INDEX(Backbone!$R$2:$R$893,MATCH(I119,Backbone!$A$2:$A$893,0))","v":"Руководящий документ"},null,null,null,{"$f":"INDEX(Backbone!$S$2:$S$893,MATCH(I119,Backbone!$A$2:$A$893,0))","v":"Ориентированный на конкретный сектор; универсальный"},null,null,null,{"$f":"INDEX(Backbone!$H$2:$H$893,MATCH(I119,Backbone!$A$2:$A$893,0))","v":7.6},null,{"$f":"INDEX(Backbone!$I$2:$I$893,MATCH(I119,Backbone!$A$2:$A$893,0))","v":8},null,{"$f":"INDEX(Backbone!$J$2:$J$893,MATCH(I119,Backbone!$A$2:$A$893,0))","v":7.2},null,{"$f":"INDEX(Backbone!$K$1:$K$893,MATCH(I119,Backbone!$A$1:$A$893,0))","v":8.6999999999999993},null,{"$f":"INDEX(Backbone!$L$2:$L$893,MATCH(I119,Backbone!$A$2:$A$893,0))","v":7.7},null,{"$f":"INDEX(Backbone!$M$2:$M$893,MATCH(I119,Backbone!$A$2:$A$893,0))","v":2.2999999999999998},null,{"$f":"INDEX(Backbone!$N$2:$N$893,MATCH(I119,Backbone!$A$2:$A$893,0))","v":4},null,{"$f":"INDEX(Backbone!$O$2:$O$893,MATCH(I119,Backbone!$A$2:$A$893,0))","v":5.8},null,{"$f":"INDEX(Backbone!$P$2:$P$893,MATCH(I119,Backbone!$A$2:$A$893,0))","v":4},null,{"$f":"INDEX(Backbone!$Q$2:$Q$893,MATCH(I119,Backbone!$A$2:$A$893,0))","v":0.61444444444444446},null,null,{"$f":"(AG119*$AG$22+AI119*$AI$22+AK119*$AK$22+AM119*$AM$22+AO119*$AO$22+AQ119*$AQ$22+AS119*$AS$22+AU119*$AU$22+AW119*$AW$22)/(SUM($AG$22:$AW$22)*10)","v":{"$error":"#DIV/0!"}},null,null,"Перейти в Реестр ресурсов: ",null,{"$f":"HYPERLINK(\"#\"&ADDRESS(MATCH(I119,Toolbox!$C$1:$C$300),1,,,\"Toolbox\"),VLOOKUP(I119,Toolbox!$C$1:$C$300,1,FALSE))","v":"Обновленные руководящие принципы для оценки систем эпиднадзора за здоровьем человека "}]
[]
[]
[]
[]
[]
[]
[]
[]
[]
[]
[]
[]
[]
[]
[]
[]
[]
[]
[]
[]
[]
[]
[]
[null,null,null,null,null,null,null,null,null,null,null,null,null,null,null,null,null,null,null,null,null,null,null,null,null,null,null,null,null,null,null,null,"Доступность",null,"Язык",null,"Простота использования",null,"Гибкость",null,"Потребности в данных",null,"Анализ данных",null,"Приемлемость",null,"«Единое здоровье»",null,"Воздействие"]
[]
[]
[]
[]
[]
[]
[null,null,null,null,null,null,null,null,null,null,null,null,null,null,null,null,null,null,null,null,null,null,null,null,null,null,null,null,null,null,null,null,null,null,null,null,null,null,null,null,null,null,null,null,null,null,null,null,null,null,"ИСХОДНАЯ ОЦЕНКА",null,null,"СКОРРЕКТИРОВАННАЯ ОЦЕНКА \n(Исходя из предпочтений пользователей)"]
[]
[]
[null,"РЕСУРСЫ УРОВНЯ 3"]
[null,null,null,"КЛАССИФИКАЦИЯ",null,null,null,null,"НАЗВАНИЕ РЕСУРСА",null,null,null,null,null,null,"КРАТКОЕ ОПИСАНИЕ",null,null,null,null,null,null,null,null,"ВИД РЕСУРСА",null,null,null,"ОБЩАЯ НАПРАВЛЕННОСТЬ РЕСУРСА"]
[]
[]
[]
[null,null,null,null,null,null,null,null,null,null,null,null,null,null,null,null,null,null,null,null,null,null,null,null,null,null,null,null,null,null,null,null,{"$f":"'Attribute Survey'!S201","v":0},null,{"$f":"'Attribute Survey'!S205","v":0},null,{"$f":"'Attribute Survey'!S209","v":0},null,{"$f":"'Attribute Survey'!S213","v":0},null,{"$f":"'Attribute Survey'!S217","v":0},null,{"$f":"'Attribute Survey'!S221","v":0},null,{"$f":"'Attribute Survey'!S225","v":0},null,{"$f":"'Attribute Survey'!S229","v":0},null,{"$f":"'Attribute Survey'!S233","v":0}]
[]
[null,null,null,"Другие полезные ресурсы",null,null,null,null,{"$f":"Backbone!A83","v":"Оценка системы эпиднадзора и мониторинга качества данных Европейского ЦКПЗ — справочник методов и применений "},null,null,null,null,null,null,"Справочник по мониторингу качества данных эпиднадзора для специалистов сектора общественного здравоохранения.",null,null,null,null,null,null,null,null,{"$f":"INDEX(Backbone!$R$2:$R$893,MATCH(I160,Backbone!$A$2:$A$893,0))","v":"Руководящий документ"},null,null,null,{"$f":"INDEX(Backbone!$S$2:$S$893,MATCH(I160,Backbone!$A$2:$A$893,0))","v":"Ориентированный на конкретный сектор; универсальный"},null,null,null,{"$f":"INDEX(Backbone!$H$2:$H$893,MATCH(I160,Backbone!$A$2:$A$893,0))","v":8.1999999999999993},null,{"$f":"INDEX(Backbone!$I$2:$I$893,MATCH(I160,Backbone!$A$2:$A$893,0))","v":6},null,{"$f":"INDEX(Backbone!$J$2:$J$893,MATCH(I160,Backbone!$A$2:$A$893,0))","v":6.4},null,{"$f":"INDEX(Backbone!$K$1:$K$893,MATCH(I160,Backbone!$A$1:$A$893,0))","v":7.3},null,{"$f":"INDEX(Backbone!$L$2:$L$893,MATCH(I160,Backbone!$A$2:$A$893,0))","v":7.7},null,{"$f":"INDEX(Backbone!$M$2:$M$893,MATCH(I160,Backbone!$A$2:$A$893,0))","v":4.5},null,{"$f":"INDEX(Backbone!$N$2:$N$893,MATCH(I160,Backbone!$A$2:$A$893,0))","v":5.3},null,{"$f":"INDEX(Backbone!$O$2:$O$893,MATCH(I160,Backbone!$A$2:$A$893,0))","v":6.2},null,{"$f":"INDEX(Backbone!$P$2:$P$893,MATCH(I160,Backbone!$A$2:$A$893,0))","v":8},null,{"$f":"INDEX(Backbone!$Q$2:$Q$893,MATCH(I160,Backbone!$A$2:$A$893,0))","v":0.66222222222222227},null,null,{"$f":"(AG160*$AG$22+AI160*$AI$22+AK160*$AK$22+AM160*$AM$22+AO160*$AO$22+AQ160*$AQ$22+AS160*$AS$22+AU160*$AU$22+AW160*$AW$22)/(SUM($AG$22:$AW$22)*10)","v":{"$error":"#DIV/0!"}},null,null,"Перейти в Реестр ресурсов: ",null,{"$f":"HYPERLINK(\"#\"&ADDRESS(MATCH(I160,Toolbox!$C$1:$C$300),1,,,\"Toolbox\"),VLOOKUP(I160,Toolbox!$C$1:$C$300,1,FALSE))","v":"Оценка системы эпиднадзора и мониторинга качества данных Европейского ЦКПЗ — справочник методов и применений "}]
[]
[]
[]
[]
[]
[null,null,null,null,null,null,null,null,{"$f":"Backbone!A552","v":"Международные медико-санитарные правила (2005 г.): инструмент ежегодной отчетности государств-участников на основе самооценки (SPAR)"},null,null,null,null,null,null,"Инструмент отчетности, помогающий государствам-участникам Международных медико-санитарных правил (ММСП) в выполнении их обязательств по представлению ежегодных докладов Всемирной ассамблее здравоохранения (ВАЗ) по выполнению ими требований в отношении потенциала в соответствие с ММСП.",null,null,null,null,null,null,null,null,{"$f":"INDEX(Backbone!$R$2:$R$893,MATCH(I166,Backbone!$A$2:$A$893,0))","v":"Инструмент самооценки"},null,null,null,{"$f":"INDEX(Backbone!$S$2:$S$893,MATCH(I166,Backbone!$A$2:$A$893,0))","v":"«Единое здоровье»; универсальный"},null,null,null,{"$f":"INDEX(Backbone!$H$2:$H$893,MATCH(I166,Backbone!$A$2:$A$893,0))","v":9.9},null,{"$f":"INDEX(Backbone!$I$2:$I$893,MATCH(I166,Backbone!$A$2:$A$893,0))","v":10},null,{"$f":"INDEX(Backbone!$J$2:$J$893,MATCH(I166,Backbone!$A$2:$A$893,0))","v":9.3000000000000007},null,{"$f":"INDEX(Backbone!$K$1:$K$893,MATCH(I166,Backbone!$A$1:$A$893,0))","v":7.3},null,{"$f":"INDEX(Backbone!$L$2:$L$893,MATCH(I166,Backbone!$A$2:$A$893,0))","v":9.4},null,{"$f":"INDEX(Backbone!$M$2:$M$893,MATCH(I166,Backbone!$A$2:$A$893,0))","v":9},null,{"$f":"INDEX(Backbone!$N$2:$N$893,MATCH(I166,Backbone!$A$2:$A$893,0))","v":8.5},null,{"$f":"INDEX(Backbone!$O$2:$O$893,MATCH(I166,Backbone!$A$2:$A$893,0))","v":6.3},null,{"$f":"INDEX(Backbone!$P$2:$P$893,MATCH(I166,Backbone!$A$2:$A$893,0))","v":6.7},null,{"$f":"INDEX(Backbone!$Q$2:$Q$893,MATCH(I166,Backbone!$A$2:$A$893,0))","v":0.84888888888888892},null,null,{"$f":"(AG166*$AG$22+AI166*$AI$22+AK166*$AK$22+AM166*$AM$22+AO166*$AO$22+AQ166*$AQ$22+AS166*$AS$22+AU166*$AU$22+AW166*$AW$22)/(SUM($AG$22:$AW$22)*10)","v":{"$error":"#DIV/0!"}},null,null,"Перейти в Реестр ресурсов: ",null,{"$f":"HYPERLINK(\"#\"&ADDRESS(MATCH(I166,Toolbox!$C$1:$C$300),1,,,\"Toolbox\"),VLOOKUP(I166,Toolbox!$C$1:$C$300,1,FALSE))","v":"Международные медико-санитарные правила (2005 г.): инструмент ежегодной отчетности государств-участников на основе самооценки (SPAR)"}]
[]
[]
[]
[]
[]
[null,null,null,null,null,null,null,null,{"$f":"Backbone!A332","v":"Сеть для оценки мероприятий на основе концепции «Единое здоровье» (NEOH)"},null,null,null,null,null,null,"Инструмент на базе Excel для оценки приверженности системы эпиднадзора принципу «Единое здоровье» (или степень применения подхода «Единое здоровье», ЕЗ).",null,null,null,null,null,null,null,null,{"$f":"INDEX(Backbone!$R$2:$R$893,MATCH(I172,Backbone!$A$2:$A$893,0))","v":"Руководящий документ"},null,null,null,{"$f":"INDEX(Backbone!$S$2:$S$893,MATCH(I172,Backbone!$A$2:$A$893,0))","v":"«Единое здоровье»; универсальный"},null,null,null,{"$f":"INDEX(Backbone!$H$2:$H$893,MATCH(I172,Backbone!$A$2:$A$893,0))","v":8.3000000000000007},null,{"$f":"INDEX(Backbone!$I$2:$I$893,MATCH(I172,Backbone!$A$2:$A$893,0))","v":7.7},null,{"$f":"INDEX(Backbone!$J$2:$J$893,MATCH(I172,Backbone!$A$2:$A$893,0))","v":5.3},null,{"$f":"INDEX(Backbone!$K$1:$K$893,MATCH(I172,Backbone!$A$1:$A$893,0))","v":8.9},null,{"$f":"INDEX(Backbone!$L$2:$L$893,MATCH(I172,Backbone!$A$2:$A$893,0))","v":7.8},null,{"$f":"INDEX(Backbone!$M$2:$M$893,MATCH(I172,Backbone!$A$2:$A$893,0))","v":4.7},null,{"$f":"INDEX(Backbone!$N$2:$N$893,MATCH(I172,Backbone!$A$2:$A$893,0))","v":5.3},null,{"$f":"INDEX(Backbone!$O$2:$O$893,MATCH(I172,Backbone!$A$2:$A$893,0))","v":8},null,{"$f":"INDEX(Backbone!$P$2:$P$893,MATCH(I172,Backbone!$A$2:$A$893,0))","v":5.3},null,{"$f":"INDEX(Backbone!$Q$2:$Q$893,MATCH(I172,Backbone!$A$2:$A$893,0))","v":0.68111111111111111},null,null,{"$f":"(AG172*$AG$22+AI172*$AI$22+AK172*$AK$22+AM172*$AM$22+AO172*$AO$22+AQ172*$AQ$22+AS172*$AS$22+AU172*$AU$22+AW172*$AW$22)/(SUM($AG$22:$AW$22)*10)","v":{"$error":"#DIV/0!"}},null,null,"Перейти в Реестр ресурсов: ",null,{"$f":"HYPERLINK(\"#\"&ADDRESS(MATCH(I172,Toolbox!$C$1:$C$300),1,,,\"Toolbox\"),VLOOKUP(I172,Toolbox!$C$1:$C$300,1,FALSE))","v":"Сеть для оценки мероприятий на основе концепции «Единое здоровье» (NEOH)"}]
[]
[]
[]
[]
[]
[null,null,null,null,null,null,null,null,{"$f":"Backbone!A296","v":"Обновленные руководящие принципы для оценки систем эпиднадзора за здоровьем человека "},null,null,null,null,null,null,"Настоящий отчет предоставляет обновленные руководящие принципы для оценки систем эпиднадзора с описанием задач и связанных мероприятий, применимых к системе эпиднадзора за здоровьем человека.",null,null,null,null,null,null,null,null,{"$f":"INDEX(Backbone!$R$2:$R$893,MATCH(I178,Backbone!$A$2:$A$893,0))","v":"Руководящий документ"},null,null,null,{"$f":"INDEX(Backbone!$S$2:$S$893,MATCH(I178,Backbone!$A$2:$A$893,0))","v":"Ориентированный на конкретный сектор; универсальный"},null,null,null,{"$f":"INDEX(Backbone!$H$2:$H$893,MATCH(I178,Backbone!$A$2:$A$893,0))","v":7.6},null,{"$f":"INDEX(Backbone!$I$2:$I$893,MATCH(I178,Backbone!$A$2:$A$893,0))","v":8},null,{"$f":"INDEX(Backbone!$J$2:$J$893,MATCH(I178,Backbone!$A$2:$A$893,0))","v":7.2},null,{"$f":"INDEX(Backbone!$K$1:$K$893,MATCH(I178,Backbone!$A$1:$A$893,0))","v":8.6999999999999993},null,{"$f":"INDEX(Backbone!$L$2:$L$893,MATCH(I178,Backbone!$A$2:$A$893,0))","v":7.7},null,{"$f":"INDEX(Backbone!$M$2:$M$893,MATCH(I178,Backbone!$A$2:$A$893,0))","v":2.2999999999999998},null,{"$f":"INDEX(Backbone!$N$2:$N$893,MATCH(I178,Backbone!$A$2:$A$893,0))","v":4},null,{"$f":"INDEX(Backbone!$O$2:$O$893,MATCH(I178,Backbone!$A$2:$A$893,0))","v":5.8},null,{"$f":"INDEX(Backbone!$P$2:$P$893,MATCH(I178,Backbone!$A$2:$A$893,0))","v":4},null,{"$f":"INDEX(Backbone!$Q$2:$Q$893,MATCH(I178,Backbone!$A$2:$A$893,0))","v":0.61444444444444446},null,null,{"$f":"(AG178*$AG$22+AI178*$AI$22+AK178*$AK$22+AM178*$AM$22+AO178*$AO$22+AQ178*$AQ$22+AS178*$AS$22+AU178*$AU$22+AW178*$AW$22)/(SUM($AG$22:$AW$22)*10)","v":{"$error":"#DIV/0!"}},null,null,"Перейти в Реестр ресурсов: ",null,{"$f":"HYPERLINK(\"#\"&ADDRESS(MATCH(I178,Toolbox!$C$1:$C$300),1,,,\"Toolbox\"),VLOOKUP(I178,Toolbox!$C$1:$C$300,1,FALSE))","v":"Обновленные руководящие принципы для оценки систем эпиднадзора за здоровьем человека "}]

{"sheet":"ME3_tools","index":58,"n_rows":196,"n_cols":59,"rows_kept":196,"cut":false,"hidden":false,"merged":[[195,53,199,54],[195,40,199,40],[195,42,199,42],[195,44,199,44],[195,46,199,46],[195,48,199,48],[195,50,199,51],[189,50,193,51],[189,53,193,54],[189,40,193,40],[189,42,193,42],[189,44,193,44],[189,48,193,48],[195,8,199,13],[195,15,199,22],[195,24,199,26],[195,28,199,30],[195,32,199,32],[195,34,199,34],[195,36,199,36],[195,38,199,38],[189,34,193,34],[189,36,193,36],[189,38,193,38],[183,38,187,38],[183,40,187,40],[183,42,187,42],[183,44,187,44],[183,46,187,46],[183,48,187,48],[165,1,199,1],[165,3,168,6],[165,8,168,13],[165,15,168,22],[165,24,168,26],[165,28,168,30],[170,3,174,6],[170,8,174,13],[189,46,193,46],[177,3,199,6],[189,8,193,13],[189,15,193,22],[189,24,193,26],[189,28,193,30],[189,32,193,32],[170,42,174,42],[170,28,174,30],[170,32,174,32],[170,44,174,44],[170,46,174,46],[170,34,174,34],[170,36,174,36],[170,38,174,38],[170,40,174,40],[170,15,174,22],[170,24,174,26],[124,53,128,54],[154,32,168,32],[154,34,168,34],[124,50,128,51],[124,46,128,46],[118,48,122,48],[118,50,122,51],[118,53,122,54],[118,36,122,36],[170,48,174,48],[170,50,174,51],[170,53,174,54],[161,50,168,51],[161,53,168,54],[130,53,134,54],[154,36,168,36],[154,38,168,38],[154,40,168,40],[154,42,168,42],[154,44,168,44],[154,46,168,46],[154,48,168,48],[130,40,134,40],[130,42,134,42],[130,44,134,44],[130,46,134,46],[130,48,134,48],[130,50,134,51],[124,48,128,48],[112,46,116,46],[106,53,110,54],[112,8,116,13],[112,15,116,22],[112,24,116,26],[112,28,116,30],[112,32,116,32],[112,34,116,34],[112,36,116,36],[112,38,116,38],[112,40,116,40],[106,32,110,32],[106,34,110,34],[106,36,110,36],[106,38,110,38],[106,40,110,40],[106,42,110,42],[106,50,110,51],[112,50,116,51],[112,53,116,54],[112,48,116,48],[106,44,110,44],[106,46,110,46],[106,48,110,48],[118,46,122,46],[124,8,128,13],[124,15,128,22],[124,24,128,26],[124,28,128,30],[124,32,128,32],[124,34,128,34],[118,34,122,34],[118,38,122,38],[118,40,122,40],[118,42,122,42],[118,44,122,44],[118,8,122,13],[118,15,122,22],[118,24,122,26],[99,28,103,30],[99,32,103,32],[99,34,103,34],[118,28,122,30],[118,32,122,32],[112,42,116,42],[124,40,128,40],[124,42,128,42],[124,44,128,44],[112,44,116,44],[59,46,63,46],[41,32,45,32],[41,34,45,34],[94,1,134,1],[99,3,103,6],[106,3,134,6],[106,8,110,13],[106,15,110,22],[106,24,110,26],[106,28,110,30],[124,36,128,36],[124,38,128,38],[130,8,134,13],[130,15,134,22],[130,24,134,26],[130,28,134,30],[130,32,134,32],[130,34,134,34],[130,36,134,36],[130,38,134,38],[94,3,97,6],[99,8,103,13],[99,15,103,22],[99,24,103,26],[53,32,57,32],[53,34,57,34],[53,36,57,36],[41,40,45,40],[41,42,45,42],[41,15,45,22],[41,24,45,26],[41,28,45,30],[83,44,97,44],[47,15,51,22],[47,24,51,26],[47,28,51,30],[47,32,51,32],[47,34,51,34],[47,36,51,36],[41,44,45,44],[59,44,63,44],[177,50,181,51],[177,53,181,54],[183,8,187,13],[183,15,187,22],[183,24,187,26],[183,28,187,30],[183,32,187,32],[183,34,187,34],[183,36,187,36],[177,36,181,36],[177,38,181,38],[177,40,181,40],[177,42,181,42],[177,44,181,44],[177,46,181,46],[177,8,181,13],[177,15,181,22],[177,24,181,26],[177,28,181,30],[177,32,181,32],[177,34,181,34],[177,48,181,48],[183,50,187,51],[183,53,187,54],[99,48,103,48],[99,50,103,51],[99,53,103,54],[99,36,103,36],[99,38,103,38],[99,40,103,40],[99,42,103,42],[99,44,103,44],[99,46,103,46],[83,48,97,48],[90,50,97,51],[90,53,97,54],[94,8,97,13],[94,15,97,22],[94,24,97,26],[94,28,97,30],[83,32,97,32],[83,34,97,34],[83,36,97,36],[83,38,97,38],[83,40,97,40],[83,42,97,42],[83,46,97,46],[59,48,63,48],[53,48,57,48],[53,50,57,51],[53,53,57,54],[59,8,63,13],[59,15,63,22],[59,24,63,26],[59,28,63,30],[59,32,63,32],[53,44,57,44],[53,46,57,46],[53,38,57,38],[59,50,63,51],[59,53,63,54],[53,40,57,40],[59,38,63,38],[59,40,63,40],[59,42,63,42],[53,42,57,42],[59,34,63,34],[59,36,63,36],[53,8,57,13],[53,15,57,22],[53,24,57,26],[22,48,26,48],[22,50,26,51],[22,53,26,54],[28,53,32,54],[35,53,39,54],[28,40,32,40],[28,42,32,42],[28,44,32,44],[28,46,32,46],[28,48,32,48],[28,50,32,51],[35,46,39,46],[35,48,39,48],[35,50,39,51],[35,40,39,40],[35,42,39,42],[35,44,39,44],[35,32,39,32],[41,36,45,36],[41,38,45,38],[47,38,51,38],[47,40,51,40],[47,42,51,42],[41,8,45,13],[22,44,26,44],[22,46,26,46],[47,8,51,13],[41,46,45,46],[22,32,26,32],[22,34,26,34],[22,36,26,36],[28,24,32,26],[28,28,32,30],[28,32,32,32],[28,34,32,34],[28,36,32,36],[28,8,32,13],[28,15,32,22],[47,50,51,51],[47,53,51,54],[47,44,51,44],[47,46,51,46],[47,48,51,48],[41,48,45,48],[41,50,45,51],[41,53,45,54],[35,34,39,34],[35,36,39,36],[35,38,39,38],[17,3,20,6],[17,8,20,13],[17,15,20,22],[17,24,20,26],[17,28,20,30],[17,1,63,1],[22,3,32,6],[22,8,26,13],[22,15,26,22],[22,24,26,26],[22,28,26,30],[35,8,39,13],[35,15,39,22],[35,24,39,26],[35,28,39,30],[35,3,63,6],[53,28,57,30],[1,1,3,62],[22,56,26,57],[22,58,26,62],[28,56,32,57],[28,58,32,62],[35,56,39,57],[35,58,39,62],[41,56,45,57],[41,58,45,62],[28,38,32,38],[22,38,26,38],[22,40,26,40],[22,42,26,42],[6,32,20,32],[6,34,20,34],[6,36,20,36],[6,38,20,38],[6,40,20,40],[6,42,20,42],[6,44,20,44],[6,46,20,46],[6,48,20,48],[13,50,20,51],[13,53,20,54],[47,56,51,57],[47,58,51,62],[53,56,57,57],[53,58,57,62],[59,56,63,57],[59,58,63,62],[99,56,103,57],[99,58,103,62],[106,56,110,57],[106,58,110,62],[177,56,181,57],[177,58,181,62],[183,56,187,57],[183,58,187,62],[189,56,193,57],[189,58,193,62],[195,56,199,57],[195,58,199,62],[112,56,116,57],[112,58,116,62],[118,56,122,57],[118,58,122,62],[124,56,128,57],[124,58,128,62],[130,56,134,57],[130,58,134,62],[170,56,174,57],[170,58,174,62]]}
[]
[null,"Ресурсы по обеспечению соответствия стандартам качества данных"]
[]
[]
[]
[]
[null,null,null,null,null,null,null,null,null,null,null,null,null,null,null,null,null,null,null,null,null,null,null,null,null,null,null,null,null,null,null,null,"Доступность",null,"Язык",null,"Простота использования",null,"Гибкость",null,"Потребности в данных",null,"Анализ данных",null,"Приемлемость",null,"«Единое здоровье»",null,"Воздействие"]
[]
[]
[]
[]
[]
[]
[null,null,null,null,null,null,null,null,null,null,null,null,null,null,null,null,null,null,null,null,null,null,null,null,null,null,null,null,null,null,null,null,null,null,null,null,null,null,null,null,null,null,null,null,null,null,null,null,null,null,"ИСХОДНАЯ ОЦЕНКА",null,null,"СКОРРЕКТИРОВАННАЯ ОЦЕНКА \n(Исходя из предпочтений пользователей)"]
[]
[]
[]
[null,"РЕСУРСЫ УРОВНЯ 1",null,"КЛАССИФИКАЦИЯ",null,null,null,null,"НАЗВАНИЕ РЕСУРСА",null,null,null,null,null,null,"КРАТКОЕ ОПИСАНИЕ",null,null,null,null,null,null,null,null,"ВИД РЕСУРСА",null,null,null,"ОБЩАЯ НАПРАВЛЕННОСТЬ РЕСУРСА"]
[]
[]
[]
[null,null,null,null,null,null,null,null,null,null,null,null,null,null,null,null,null,null,null,null,null,null,null,null,null,null,null,null,null,null,null,null,{"$f":"'Attribute Survey'!S22","v":0},null,{"$f":"'Attribute Survey'!S26","v":0},null,{"$f":"'Attribute Survey'!S30","v":0},null,{"$f":"'Attribute Survey'!S34","v":0},null,{"$f":"'Attribute Survey'!S38","v":0},null,{"$f":"'Attribute Survey'!S42","v":0},null,{"$f":"'Attribute Survey'!S46","v":0},null,{"$f":"'Attribute Survey'!S50","v":0},null,{"$f":"'Attribute Survey'!S54","v":0}]
[null,null,null,"Наиболее подходящие ресурсы",null,null,null,null,{"$f":"Backbone!A595","v":"Инструментарий для оценки качества данных (DQR)"},null,null,null,null,null,null,"Руководящие принципы и инструменты, лежащие в основе стандартизованного и комплексного подхода к качеству данных, который пропагандирует институционализацию регулярных оценок качества данных в странах.",null,null,null,null,null,null,null,null,{"$f":"INDEX(Backbone!$R$2:$R$893,MATCH(I23,Backbone!$A$2:$A$893,0))","v":"Инструмент самооценки"},null,null,null,{"$f":"INDEX(Backbone!$S$2:$S$893,MATCH(I23,Backbone!$A$2:$A$893,0))","v":"Ориентированный на конкретный сектор; универсальный"},null,null,null,{"$f":"INDEX(Backbone!$H$2:$H$893,MATCH(I23,Backbone!$A$2:$A$893,0))","v":7.7},null,{"$f":"INDEX(Backbone!$I$2:$I$893,MATCH(I23,Backbone!$A$2:$A$893,0))","v":7},null,{"$f":"INDEX(Backbone!$J$2:$J$893,MATCH(I23,Backbone!$A$2:$A$893,0))","v":7.7},null,{"$f":"INDEX(Backbone!$K$2:$K$893,MATCH(I23,Backbone!$A$2:$A$893,0))","v":10},null,{"$f":"INDEX(Backbone!$L$2:$L$893,MATCH(I23,Backbone!$A$2:$A$893,0))","v":6.3},null,{"$f":"INDEX(Backbone!$M$2:$M$893,MATCH(I23,Backbone!$A$2:$A$893,0))","v":4.8},null,{"$f":"INDEX(Backbone!$N$2:$N$893,MATCH(I23,Backbone!$A$2:$A$893,0))","v":5.5},null,{"$f":"INDEX(Backbone!$O$2:$O$893,MATCH(I23,Backbone!$A$2:$A$893,0))","v":5},null,{"$f":"INDEX(Backbone!$P$2:$P$893,MATCH(I23,Backbone!$A$2:$A$893,0))","v":4},null,{"$f":"INDEX(Backbone!$Q$2:$Q$893,MATCH(I23,Backbone!$A$2:$A$893,0))","v":0.64444444444444438},null,null,{"$f":"(AG23*$AG$22+AI23*$AI$22+AK23*$AK$22+AM23*$AM$22+AO23*$AO$22+AQ23*$AQ$22+AS23*$AS$22+AU23*$AU$22+AW23*$AW$22)/(SUM($AG$22:$AW$22)*10)","v":{"$error":"#DIV/0!"}},null,null,"Перейти в Реестр ресурсов: ",null,{"$f":"HYPERLINK(\"#\"&ADDRESS(MATCH(I23,Toolbox!$C$1:$C$300),1,,,\"Toolbox\"),VLOOKUP(I23,Toolbox!$C$1:$C$300,1,FALSE))","v":"Инструментарий для оценки качества данных (DQR)"}]
[]
[]
[]
[]
[]
[null,null,null,null,null,null,null,null,{"$f":"Backbone!A83","v":"Оценка системы эпиднадзора и мониторинга качества данных Европейского ЦКПЗ — справочник методов и применений "},null,null,null,null,null,null,"Справочник по мониторингу качества данных эпиднадзора для специалистов сектора общественного здравоохранения.",null,null,null,null,null,null,null,null,{"$f":"INDEX(Backbone!$R$2:$R$893,MATCH(I29,Backbone!$A$2:$A$893,0))","v":"Руководящий документ"},null,null,null,{"$f":"INDEX(Backbone!$S$2:$S$893,MATCH(I29,Backbone!$A$2:$A$893,0))","v":"Ориентированный на конкретный сектор; универсальный"},null,null,null,{"$f":"INDEX(Backbone!$H$2:$H$893,MATCH(I29,Backbone!$A$2:$A$893,0))","v":8.1999999999999993},null,{"$f":"INDEX(Backbone!$I$2:$I$893,MATCH(I29,Backbone!$A$2:$A$893,0))","v":6},null,{"$f":"INDEX(Backbone!$J$2:$J$893,MATCH(I29,Backbone!$A$2:$A$893,0))","v":6.4},null,{"$f":"INDEX(Backbone!$K$1:$K$893,MATCH(I29,Backbone!$A$1:$A$893,0))","v":7.3},null,{"$f":"INDEX(Backbone!$L$2:$L$893,MATCH(I29,Backbone!$A$2:$A$893,0))","v":7.7},null,{"$f":"INDEX(Backbone!$M$2:$M$893,MATCH(I29,Backbone!$A$2:$A$893,0))","v":4.5},null,{"$f":"INDEX(Backbone!$N$2:$N$893,MATCH(I29,Backbone!$A$2:$A$893,0))","v":5.3},null,{"$f":"INDEX(Backbone!$O$2:$O$893,MATCH(I29,Backbone!$A$2:$A$893,0))","v":6.2},null,{"$f":"INDEX(Backbone!$P$2:$P$893,MATCH(I29,Backbone!$A$2:$A$893,0))","v":8},null,{"$f":"INDEX(Backbone!$Q$2:$Q$893,MATCH(I29,Backbone!$A$2:$A$893,0))","v":0.66222222222222227},null,null,{"$f":"(AG29*$AG$22+AI29*$AI$22+AK29*$AK$22+AM29*$AM$22+AO29*$AO$22+AQ29*$AQ$22+AS29*$AS$22+AU29*$AU$22+AW29*$AW$22)/(SUM($AG$22:$AW$22)*10)","v":{"$error":"#DIV/0!"}},null,null,"Перейти в Реестр ресурсов: ",null,{"$f":"HYPERLINK(\"#\"&ADDRESS(MATCH(I29,Toolbox!$C$1:$C$300),1,,,\"Toolbox\"),VLOOKUP(I29,Toolbox!$C$1:$C$300,1,FALSE))","v":"Оценка системы эпиднадзора и мониторинга качества данных Европейского ЦКПЗ — справочник методов и применений "}]
[]
[]
[]
[]
[]
[]
[null,null,null,"Другие полезные ресурсы",null,null,null,null,{"$f":"Backbone!A33","v":"Рамочная программа для укрепления мер профилактики и борьбы с сибирской язвой "},null,null,null,null,null,null,"Данная рамочная программа рассказывает о сибирской язве и о том, как усилить меры профилактики и борьбы с сибирской язвой у животных и людей.",null,null,null,null,null,null,null,null,{"$f":"INDEX(Backbone!$R$2:$R$893,MATCH(I36,Backbone!$A$2:$A$893,0))","v":"Руководящий документ"},null,null,null,{"$f":"INDEX(Backbone!$S$2:$S$893,MATCH(I36,Backbone!$A$2:$A$893,0))","v":"«Единое здоровье»; ориентированный на конкретную болезнь/угрозу "},null,null,null,{"$f":"INDEX(Backbone!$H$2:$H$893,MATCH(I36,Backbone!$A$2:$A$893,0))","v":9.1},null,{"$f":"INDEX(Backbone!$I$2:$I$893,MATCH(I36,Backbone!$A$2:$A$893,0))","v":10},null,{"$f":"INDEX(Backbone!$J$2:$J$893,MATCH(I36,Backbone!$A$2:$A$893,0))","v":8.6},null,{"$f":"INDEX(Backbone!$K$1:$K$893,MATCH(I36,Backbone!$A$1:$A$893,0))","v":4.7},null,{"$f":"INDEX(Backbone!$L$2:$L$893,MATCH(I36,Backbone!$A$2:$A$893,0))","v":9.1999999999999993},null,{"$f":"INDEX(Backbone!$M$2:$M$893,MATCH(I36,Backbone!$A$2:$A$893,0))","v":2},null,{"$f":"INDEX(Backbone!$N$2:$N$893,MATCH(I36,Backbone!$A$2:$A$893,0))","v":6.3},null,{"$f":"INDEX(Backbone!$O$2:$O$893,MATCH(I36,Backbone!$A$2:$A$893,0))","v":4.3},null,{"$f":"INDEX(Backbone!$P$2:$P$893,MATCH(I36,Backbone!$A$2:$A$893,0))","v":6},null,{"$f":"INDEX(Backbone!$Q$2:$Q$893,MATCH(I36,Backbone!$A$2:$A$893,0))","v":0.66888888888888887},null,null,{"$f":"(AG36*$AG$22+AI36*$AI$22+AK36*$AK$22+AM36*$AM$22+AO36*$AO$22+AQ36*$AQ$22+AS36*$AS$22+AU36*$AU$22+AW36*$AW$22)/(SUM($AG$22:$AW$22)*10)","v":{"$error":"#DIV/0!"}},null,null,"Перейти в Реестр ресурсов: ",null,{"$f":"HYPERLINK(\"#\"&ADDRESS(MATCH(I36,Toolbox!$C$1:$C$300),1,,,\"Toolbox\"),VLOOKUP(I36,Toolbox!$C$1:$C$300,1,FALSE))","v":"Рамочная программа для укрепления мер профилактики и борьбы с сибирской язвой "}]
[]
[]
[]
[]
[]
[null,null,null,null,null,null,null,null,{"$f":"Backbone!A195","v":"Комплексная система эпиднадзора и мер реагирования (IDSR)"},null,null,null,null,null,null,"Стратегия, разработанная с целью укрепить потенциал стран для выявления и подтверждения предполагаемых случаев заболевания и вспышек и реагирования на них, а также для использования информации для прогнозирования событий в области общественного здравоохранения и планирования мер реагирования на них.",null,null,null,null,null,null,null,null,{"$f":"INDEX(Backbone!$R$2:$R$893,MATCH(I42,Backbone!$A$2:$A$893,0))","v":"Руководящий документ"},null,null,null,{"$f":"INDEX(Backbone!$S$2:$S$893,MATCH(I42,Backbone!$A$2:$A$893,0))","v":"Ориентированный на конкретный сектор; универсальный"},null,null,null,{"$f":"INDEX(Backbone!$H$2:$H$893,MATCH(I42,Backbone!$A$2:$A$893,0))","v":7.4},null,{"$f":"INDEX(Backbone!$I$2:$I$893,MATCH(I42,Backbone!$A$2:$A$893,0))","v":10},null,{"$f":"INDEX(Backbone!$J$2:$J$893,MATCH(I42,Backbone!$A$2:$A$893,0))","v":7.4},null,{"$f":"INDEX(Backbone!$K$1:$K$893,MATCH(I42,Backbone!$A$1:$A$893,0))","v":8.6999999999999993},null,{"$f":"INDEX(Backbone!$L$2:$L$893,MATCH(I42,Backbone!$A$2:$A$893,0))","v":6.7},null,{"$f":"INDEX(Backbone!$M$2:$M$893,MATCH(I42,Backbone!$A$2:$A$893,0))","v":4.5},null,{"$f":"INDEX(Backbone!$N$2:$N$893,MATCH(I42,Backbone!$A$2:$A$893,0))","v":8},null,{"$f":"INDEX(Backbone!$O$2:$O$893,MATCH(I42,Backbone!$A$2:$A$893,0))","v":7.2},null,{"$f":"INDEX(Backbone!$P$2:$P$893,MATCH(I42,Backbone!$A$2:$A$893,0))","v":8.5},null,{"$f":"INDEX(Backbone!$Q$2:$Q$893,MATCH(I42,Backbone!$A$2:$A$893,0))","v":0.76},null,null,{"$f":"(AG42*$AG$22+AI42*$AI$22+AK42*$AK$22+AM42*$AM$22+AO42*$AO$22+AQ42*$AQ$22+AS42*$AS$22+AU42*$AU$22+AW42*$AW$22)/(SUM($AG$22:$AW$22)*10)","v":{"$error":"#DIV/0!"}},null,null,"Перейти в Реестр ресурсов: ",null,{"$f":"HYPERLINK(\"#\"&ADDRESS(MATCH(I42,Toolbox!$C$1:$C$300),1,,,\"Toolbox\"),VLOOKUP(I42,Toolbox!$C$1:$C$300,1,FALSE))","v":"Комплексная система эпиднадзора и мер реагирования (IDSR)"}]
[]
[]
[]
[]
[]
[null,null,null,null,null,null,null,null,{"$f":"Backbone!A510","v":"Рамочная программа по оценке эпиднадзора за здоровьем животных (SERVAL)"},null,null,null,null,null,null,"Пошаговое руководство по планированию, структурированию и оценке систем надзора за здоровьем животных.",null,null,null,null,null,null,null,null,{"$f":"INDEX(Backbone!$R$2:$R$893,MATCH(I48,Backbone!$A$2:$A$893,0))","v":"Руководящий документ"},null,null,null,{"$f":"INDEX(Backbone!$S$2:$S$893,MATCH(I48,Backbone!$A$2:$A$893,0))","v":"Ориентированный на конкретный сектор; универсальный"},null,null,null,{"$f":"INDEX(Backbone!$H$2:$H$893,MATCH(I48,Backbone!$A$2:$A$893,0))","v":8.8000000000000007},null,{"$f":"INDEX(Backbone!$I$2:$I$893,MATCH(I48,Backbone!$A$2:$A$893,0))","v":9},null,{"$f":"INDEX(Backbone!$J$2:$J$893,MATCH(I48,Backbone!$A$2:$A$893,0))","v":9},null,{"$f":"INDEX(Backbone!$K$1:$K$893,MATCH(I48,Backbone!$A$1:$A$893,0))","v":10},null,{"$f":"INDEX(Backbone!$L$2:$L$893,MATCH(I48,Backbone!$A$2:$A$893,0))","v":8.1},null,{"$f":"INDEX(Backbone!$M$2:$M$893,MATCH(I48,Backbone!$A$2:$A$893,0))","v":3.3},null,{"$f":"INDEX(Backbone!$N$2:$N$893,MATCH(I48,Backbone!$A$2:$A$893,0))","v":4},null,{"$f":"INDEX(Backbone!$O$2:$O$893,MATCH(I48,Backbone!$A$2:$A$893,0))","v":6.8},null,{"$f":"INDEX(Backbone!$P$2:$P$893,MATCH(I48,Backbone!$A$2:$A$893,0))","v":8},null,{"$f":"INDEX(Backbone!$Q$2:$Q$893,MATCH(I48,Backbone!$A$2:$A$893,0))","v":0.74444444444444446},null,null,{"$f":"(AG48*$AG$22+AI48*$AI$22+AK48*$AK$22+AM48*$AM$22+AO48*$AO$22+AQ48*$AQ$22+AS48*$AS$22+AU48*$AU$22+AW48*$AW$22)/(SUM($AG$22:$AW$22)*10)","v":{"$error":"#DIV/0!"}},null,null,"Перейти в Реестр ресурсов: ",null,{"$f":"HYPERLINK(\"#\"&ADDRESS(MATCH(I48,Toolbox!$C$1:$C$300),1,,,\"Toolbox\"),VLOOKUP(I48,Toolbox!$C$1:$C$300,1,FALSE))","v":"Рамочная программа по оценке эпиднадзора за здоровьем животных (SERVAL)"}]
[]
[]
[]
[]
[]
[null,null,null,null,null,null,null,null,{"$f":"Backbone!A561","v":"Рамочная программа по оценке эпиднадзора за биозащитой (SurF)"},null,null,null,null,null,null,"Рамочная программа оценки систем эпиднадзора, которую можно использовать для обеспечения биозащиты, здоровья животных и растений. ",null,null,null,null,null,null,null,null,{"$f":"INDEX(Backbone!$R$2:$R$893,MATCH(I54,Backbone!$A$2:$A$893,0))","v":"Руководящий документ"},null,null,null,{"$f":"INDEX(Backbone!$S$2:$S$893,MATCH(I54,Backbone!$A$2:$A$893,0))","v":"«Единое здоровье»; универсальный"},null,null,null,{"$f":"INDEX(Backbone!$H$2:$H$893,MATCH(I54,Backbone!$A$2:$A$893,0))","v":7.6},null,{"$f":"INDEX(Backbone!$I$2:$I$893,MATCH(I54,Backbone!$A$2:$A$893,0))","v":6},null,{"$f":"INDEX(Backbone!$J$2:$J$893,MATCH(I54,Backbone!$A$2:$A$893,0))","v":8},null,{"$f":"INDEX(Backbone!$K$1:$K$893,MATCH(I54,Backbone!$A$1:$A$893,0))","v":8.6999999999999993},null,{"$f":"INDEX(Backbone!$L$2:$L$893,MATCH(I54,Backbone!$A$2:$A$893,0))","v":8.6},null,{"$f":"INDEX(Backbone!$M$2:$M$893,MATCH(I54,Backbone!$A$2:$A$893,0))","v":4.0999999999999996},null,{"$f":"INDEX(Backbone!$N$2:$N$893,MATCH(I54,Backbone!$A$2:$A$893,0))","v":4},null,{"$f":"INDEX(Backbone!$O$2:$O$893,MATCH(I54,Backbone!$A$2:$A$893,0))","v":8},null,{"$f":"INDEX(Backbone!$P$2:$P$893,MATCH(I54,Backbone!$A$2:$A$893,0))","v":4},null,{"$f":"INDEX(Backbone!$Q$2:$Q$893,MATCH(I54,Backbone!$A$2:$A$893,0))","v":0.65555555555555556},null,null,{"$f":"(AG54*$AG$22+AI54*$AI$22+AK54*$AK$22+AM54*$AM$22+AO54*$AO$22+AQ54*$AQ$22+AS54*$AS$22+AU54*$AU$22+AW54*$AW$22)/(SUM($AG$22:$AW$22)*10)","v":{"$error":"#DIV/0!"}},null,null,"Перейти в Реестр ресурсов: ",null,{"$f":"HYPERLINK(\"#\"&ADDRESS(MATCH(I54,Toolbox!$C$1:$C$300),1,,,\"Toolbox\"),VLOOKUP(I54,Toolbox!$C$1:$C$300,1,FALSE))","v":"Рамочная программа по оценке эпиднадзора за биозащитой (SurF)"}]
[]
[]
[]
[]
[]
[null,null,null,null,null,null,null,null,{"$f":"Backbone!A296","v":"Обновленные руководящие принципы для оценки систем эпиднадзора за здоровьем человека "},null,null,null,null,null,null,"Настоящий отчет предоставляет обновленные руководящие принципы для оценки систем эпиднадзора с описанием задач и связанных мероприятий, применимых к системе эпиднадзора за здоровьем человека.",null,null,null,null,null,null,null,null,{"$f":"INDEX(Backbone!$R$2:$R$893,MATCH(I60,Backbone!$A$2:$A$893,0))","v":"Руководящий документ"},null,null,null,{"$f":"INDEX(Backbone!$S$2:$S$893,MATCH(I60,Backbone!$A$2:$A$893,0))","v":"Ориентированный на конкретный сектор; универсальный"},null,null,null,{"$f":"INDEX(Backbone!$H$2:$H$893,MATCH(I60,Backbone!$A$2:$A$893,0))","v":7.6},null,{"$f":"INDEX(Backbone!$I$2:$I$893,MATCH(I60,Backbone!$A$2:$A$893,0))","v":8},null,{"$f":"INDEX(Backbone!$J$2:$J$893,MATCH(I60,Backbone!$A$2:$A$893,0))","v":7.2},null,{"$f":"INDEX(Backbone!$K$1:$K$893,MATCH(I60,Backbone!$A$1:$A$893,0))","v":8.6999999999999993},null,{"$f":"INDEX(Backbone!$L$2:$L$893,MATCH(I60,Backbone!$A$2:$A$893,0))","v":7.7},null,{"$f":"INDEX(Backbone!$M$2:$M$893,MATCH(I60,Backbone!$A$2:$A$893,0))","v":2.2999999999999998},null,{"$f":"INDEX(Backbone!$N$2:$N$893,MATCH(I60,Backbone!$A$2:$A$893,0))","v":4},null,{"$f":"INDEX(Backbone!$O$2:$O$893,MATCH(I60,Backbone!$A$2:$A$893,0))","v":5.8},null,{"$f":"INDEX(Backbone!$P$2:$P$893,MATCH(I60,Backbone!$A$2:$A$893,0))","v":4},null,{"$f":"INDEX(Backbone!$Q$2:$Q$893,MATCH(I60,Backbone!$A$2:$A$893,0))","v":0.61444444444444446},null,null,{"$f":"(AG60*$AG$22+AI60*$AI$22+AK60*$AK$22+AM60*$AM$22+AO60*$AO$22+AQ60*$AQ$22+AS60*$AS$22+AU60*$AU$22+AW60*$AW$22)/(SUM($AG$22:$AW$22)*10)","v":{"$error":"#DIV/0!"}},null,null,"Перейти в Реестр ресурсов: ",null,{"$f":"HYPERLINK(\"#\"&ADDRESS(MATCH(I60,Toolbox!$C$1:$C$300),1,,,\"Toolbox\"),VLOOKUP(I60,Toolbox!$C$1:$C$300,1,FALSE))","v":"Обновленные руководящие принципы для оценки систем эпиднадзора за здоровьем человека "}]
[]
[]
[]
[]
[]
[]
[]
[]
[]
[]
[]
[]
[]
[]
[]
[]
[]
[]
[]
[]
[]
[]
[]
[null,null,null,null,null,null,null,null,null,null,null,null,null,null,null,null,null,null,null,null,null,null,null,null,null,null,null,null,null,null,null,null,"Доступность",null,"Язык",null,"Простота использования",null,"Гибкость",null,"Потребности в данных",null,"Анализ данных",null,"Приемлемость",null,"«Единое здоровье»",null,"Воздействие"]
[]
[]
[]
[]
[]
[]
[null,null,null,null,null,null,null,null,null,null,null,null,null,null,null,null,null,null,null,null,null,null,null,null,null,null,null,null,null,null,null,null,null,null,null,null,null,null,null,null,null,null,null,null,null,null,null,null,null,null,"ИСХОДНАЯ ОЦЕНКА",null,null,"СКОРРЕКТИРОВАННАЯ ОЦЕНКА \n(Исходя из предпочтений пользователей)"]
[]
[]
[]
[null,"РЕСУРСЫ УРОВНЯ 2",null,"КЛАССИФИКАЦИЯ",null,null,null,null,"НАЗВАНИЕ РЕСУРСА",null,null,null,null,null,null,"КРАТКОЕ ОПИСАНИЕ",null,null,null,null,null,null,null,null,"ВИД РЕСУРСА",null,null,null,"ОБЩАЯ НАПРАВЛЕННОСТЬ РЕСУРСА"]
[]
[]
[]
[null,null,null,null,null,null,null,null,null,null,null,null,null,null,null,null,null,null,null,null,null,null,null,null,null,null,null,null,null,null,null,null,{"$f":"'Attribute Survey'!S99","v":0},null,{"$f":"'Attribute Survey'!S103","v":0},null,{"$f":"'Attribute Survey'!S107","v":0},null,{"$f":"'Attribute Survey'!S111","v":0},null,{"$f":"'Attribute Survey'!S115","v":0},null,{"$f":"'Attribute Survey'!S119","v":0},null,{"$f":"'Attribute Survey'!S123","v":0},null,{"$f":"'Attribute Survey'!S127","v":0},null,{"$f":"'Attribute Survey'!S131","v":0}]
[null,null,null,"Наиболее подходящие ресурсы",null,null,null,null,{"$f":"Backbone!A595","v":"Инструментарий для оценки качества данных (DQR)"},null,null,null,null,null,null,"Руководящие принципы и инструменты, лежащие в основе стандартизованного и комплексного подхода к качеству данных, который пропагандирует институционализацию регулярных оценок качества данных в странах.",null,null,null,null,null,null,null,null,{"$f":"INDEX(Backbone!$R$2:$R$893,MATCH(I100,Backbone!$A$2:$A$893,0))","v":"Инструмент самооценки"},null,null,null,{"$f":"INDEX(Backbone!$S$2:$S$893,MATCH(I100,Backbone!$A$2:$A$893,0))","v":"Ориентированный на конкретный сектор; универсальный"},null,null,null,{"$f":"INDEX(Backbone!$H$2:$H$893,MATCH(I100,Backbone!$A$2:$A$893,0))","v":7.7},null,{"$f":"INDEX(Backbone!$I$2:$I$893,MATCH(I100,Backbone!$A$2:$A$893,0))","v":7},null,{"$f":"INDEX(Backbone!$J$2:$J$893,MATCH(I100,Backbone!$A$2:$A$893,0))","v":7.7},null,{"$f":"INDEX(Backbone!$K$2:$K$893,MATCH(I100,Backbone!$A$2:$A$893,0))","v":10},null,{"$f":"INDEX(Backbone!$L$2:$L$893,MATCH(I100,Backbone!$A$2:$A$893,0))","v":6.3},null,{"$f":"INDEX(Backbone!$M$2:$M$893,MATCH(I100,Backbone!$A$2:$A$893,0))","v":4.8},null,{"$f":"INDEX(Backbone!$N$2:$N$893,MATCH(I100,Backbone!$A$2:$A$893,0))","v":5.5},null,{"$f":"INDEX(Backbone!$O$2:$O$893,MATCH(I100,Backbone!$A$2:$A$893,0))","v":5},null,{"$f":"INDEX(Backbone!$P$2:$P$893,MATCH(I100,Backbone!$A$2:$A$893,0))","v":4},null,{"$f":"INDEX(Backbone!$Q$2:$Q$893,MATCH(I100,Backbone!$A$2:$A$893,0))","v":0.64444444444444438},null,null,{"$f":"(AG100*$AG$22+AI100*$AI$22+AK100*$AK$22+AM100*$AM$22+AO100*$AO$22+AQ100*$AQ$22+AS100*$AS$22+AU100*$AU$22+AW100*$AW$22)/(SUM($AG$22:$AW$22)*10)","v":{"$error":"#DIV/0!"}},null,null,"Перейти в Реестр ресурсов: ",null,{"$f":"HYPERLINK(\"#\"&ADDRESS(MATCH(I100,Toolbox!$C$1:$C$300),1,,,\"Toolbox\"),VLOOKUP(I100,Toolbox!$C$1:$C$300,1,FALSE))","v":"Инструментарий для оценки качества данных (DQR)"}]
[]
[]
[]
[]
[]
[]
[null,null,null,"Другие полезные ресурсы",null,null,null,null,{"$f":"Backbone!A83","v":"Оценка системы эпиднадзора и мониторинга качества данных Европейского ЦКПЗ — справочник методов и применений "},null,null,null,null,null,null,"Справочник по мониторингу качества данных эпиднадзора для специалистов сектора общественного здравоохранения.",null,null,null,null,null,null,null,null,{"$f":"INDEX(Backbone!$R$2:$R$893,MATCH(I107,Backbone!$A$2:$A$893,0))","v":"Руководящий документ"},null,null,null,{"$f":"INDEX(Backbone!$S$2:$S$893,MATCH(I107,Backbone!$A$2:$A$893,0))","v":"Ориентированный на конкретный сектор; универсальный"},null,null,null,{"$f":"INDEX(Backbone!$H$2:$H$893,MATCH(I107,Backbone!$A$2:$A$893,0))","v":8.1999999999999993},null,{"$f":"INDEX(Backbone!$I$2:$I$893,MATCH(I107,Backbone!$A$2:$A$893,0))","v":6},null,{"$f":"INDEX(Backbone!$J$2:$J$893,MATCH(I107,Backbone!$A$2:$A$893,0))","v":6.4},null,{"$f":"INDEX(Backbone!$K$1:$K$893,MATCH(I107,Backbone!$A$1:$A$893,0))","v":7.3},null,{"$f":"INDEX(Backbone!$L$2:$L$893,MATCH(I107,Backbone!$A$2:$A$893,0))","v":7.7},null,{"$f":"INDEX(Backbone!$M$2:$M$893,MATCH(I107,Backbone!$A$2:$A$893,0))","v":4.5},null,{"$f":"INDEX(Backbone!$N$2:$N$893,MATCH(I107,Backbone!$A$2:$A$893,0))","v":5.3},null,{"$f":"INDEX(Backbone!$O$2:$O$893,MATCH(I107,Backbone!$A$2:$A$893,0))","v":6.2},null,{"$f":"INDEX(Backbone!$P$2:$P$893,MATCH(I107,Backbone!$A$2:$A$893,0))","v":8},null,{"$f":"INDEX(Backbone!$Q$2:$Q$893,MATCH(I107,Backbone!$A$2:$A$893,0))","v":0.66222222222222227},null,null,{"$f":"(AG107*$AG$22+AI107*$AI$22+AK107*$AK$22+AM107*$AM$22+AO107*$AO$22+AQ107*$AQ$22+AS107*$AS$22+AU107*$AU$22+AW107*$AW$22)/(SUM($AG$22:$AW$22)*10)","v":{"$error":"#DIV/0!"}},null,null,"Перейти в Реестр ресурсов: ",null,{"$f":"HYPERLINK(\"#\"&ADDRESS(MATCH(I107,Toolbox!$C$1:$C$300),1,,,\"Toolbox\"),VLOOKUP(I107,Toolbox!$C$1:$C$300,1,FALSE))","v":"Оценка системы эпиднадзора и мониторинга качества данных Европейского ЦКПЗ — справочник методов и применений "}]
[]
[]
[]
[]
[]
[null,null,null,null,null,null,null,null,{"$f":"Backbone!A195","v":"Комплексная система эпиднадзора и мер реагирования (IDSR)"},null,null,null,null,null,null,"Стратегия, разработанная с целью укрепить потенциал стран для выявления и подтверждения предполагаемых случаев заболевания и вспышек и реагирования на них, а также для использования информации для прогнозирования событий в области общественного здравоохранения и планирования мер реагирования на них.",null,null,null,null,null,null,null,null,{"$f":"INDEX(Backbone!$R$2:$R$893,MATCH(I113,Backbone!$A$2:$A$893,0))","v":"Руководящий документ"},null,null,null,{"$f":"INDEX(Backbone!$S$2:$S$893,MATCH(I113,Backbone!$A$2:$A$893,0))","v":"Ориентированный на конкретный сектор; универсальный"},null,null,null,{"$f":"INDEX(Backbone!$H$2:$H$893,MATCH(I113,Backbone!$A$2:$A$893,0))","v":7.4},null,{"$f":"INDEX(Backbone!$I$2:$I$893,MATCH(I113,Backbone!$A$2:$A$893,0))","v":10},null,{"$f":"INDEX(Backbone!$J$2:$J$893,MATCH(I113,Backbone!$A$2:$A$893,0))","v":7.4},null,{"$f":"INDEX(Backbone!$K$1:$K$893,MATCH(I113,Backbone!$A$1:$A$893,0))","v":8.6999999999999993},null,{"$f":"INDEX(Backbone!$L$2:$L$893,MATCH(I113,Backbone!$A$2:$A$893,0))","v":6.7},null,{"$f":"INDEX(Backbone!$M$2:$M$893,MATCH(I113,Backbone!$A$2:$A$893,0))","v":4.5},null,{"$f":"INDEX(Backbone!$N$2:$N$893,MATCH(I113,Backbone!$A$2:$A$893,0))","v":8},null,{"$f":"INDEX(Backbone!$O$2:$O$893,MATCH(I113,Backbone!$A$2:$A$893,0))","v":7.2},null,{"$f":"INDEX(Backbone!$P$2:$P$893,MATCH(I113,Backbone!$A$2:$A$893,0))","v":8.5},null,{"$f":"INDEX(Backbone!$Q$2:$Q$893,MATCH(I113,Backbone!$A$2:$A$893,0))","v":0.76},null,null,{"$f":"(AG113*$AG$22+AI113*$AI$22+AK113*$AK$22+AM113*$AM$22+AO113*$AO$22+AQ113*$AQ$22+AS113*$AS$22+AU113*$AU$22+AW113*$AW$22)/(SUM($AG$22:$AW$22)*10)","v":{"$error":"#DIV/0!"}},null,null,"Перейти в Реестр ресурсов: ",null,{"$f":"HYPERLINK(\"#\"&ADDRESS(MATCH(I113,Toolbox!$C$1:$C$300),1,,,\"Toolbox\"),VLOOKUP(I113,Toolbox!$C$1:$C$300,1,FALSE))","v":"Комплексная система эпиднадзора и мер реагирования (IDSR)"}]
[]
[]
[]
[]
[]
[null,null,null,null,null,null,null,null,{"$f":"Backbone!A489","v":"Пакет программного обеспечения для проведения автоматического глобального электронного биомониторинга (SAGES)"},null,null,null,null,null,null,"Пакет программного обеспечения с открытым исходным кодом для улучшения электронного эпиднадзора в условиях ограниченных ресурсов.",null,null,null,null,null,null,null,null,{"$f":"INDEX(Backbone!$R$2:$R$893,MATCH(I119,Backbone!$A$2:$A$893,0))","v":"Оборудование или программное обеспечение"},null,null,null,{"$f":"INDEX(Backbone!$S$2:$S$893,MATCH(I119,Backbone!$A$2:$A$893,0))","v":"«Единое здоровье»; универсальный"},null,null,null,{"$f":"INDEX(Backbone!$H$2:$H$893,MATCH(I119,Backbone!$A$2:$A$893,0))","v":9.8000000000000007},null,{"$f":"INDEX(Backbone!$I$2:$I$893,MATCH(I119,Backbone!$A$2:$A$893,0))","v":10},null,{"$f":"INDEX(Backbone!$J$2:$J$893,MATCH(I119,Backbone!$A$2:$A$893,0))","v":10},null,{"$f":"INDEX(Backbone!$K$1:$K$893,MATCH(I119,Backbone!$A$1:$A$893,0))","v":9.3000000000000007},null,{"$f":"INDEX(Backbone!$L$2:$L$893,MATCH(I119,Backbone!$A$2:$A$893,0))","v":8.5},null,{"$f":"INDEX(Backbone!$M$2:$M$893,MATCH(I119,Backbone!$A$2:$A$893,0))","v":9},null,{"$f":"INDEX(Backbone!$N$2:$N$893,MATCH(I119,Backbone!$A$2:$A$893,0))","v":5.5},null,{"$f":"INDEX(Backbone!$O$2:$O$893,MATCH(I119,Backbone!$A$2:$A$893,0))","v":9.5},null,{"$f":"INDEX(Backbone!$P$2:$P$893,MATCH(I119,Backbone!$A$2:$A$893,0))","v":7},null,{"$f":"INDEX(Backbone!$Q$2:$Q$893,MATCH(I119,Backbone!$A$2:$A$893,0))","v":0.87333333333333329},null,null,{"$f":"(AG119*$AG$22+AI119*$AI$22+AK119*$AK$22+AM119*$AM$22+AO119*$AO$22+AQ119*$AQ$22+AS119*$AS$22+AU119*$AU$22+AW119*$AW$22)/(SUM($AG$22:$AW$22)*10)","v":{"$error":"#DIV/0!"}},null,null,"Перейти в Реестр ресурсов: ",null,{"$f":"HYPERLINK(\"#\"&ADDRESS(MATCH(I119,Toolbox!$C$1:$C$300),1,,,\"Toolbox\"),VLOOKUP(I119,Toolbox!$C$1:$C$300,1,FALSE))","v":"Пакет программного обеспечения для проведения автоматического глобального электронного биомониторинга (SAGES)"}]
[]
[]
[]
[]
[]
[null,null,null,null,null,null,null,null,{"$f":"Backbone!A561","v":"Рамочная программа по оценке эпиднадзора за биозащитой (SurF)"},null,null,null,null,null,null,"Рамочная программа оценки систем эпиднадзора, которую можно использовать для обеспечения биозащиты, здоровья животных и растений. ",null,null,null,null,null,null,null,null,{"$f":"INDEX(Backbone!$R$2:$R$893,MATCH(I125,Backbone!$A$2:$A$893,0))","v":"Руководящий документ"},null,null,null,{"$f":"INDEX(Backbone!$S$2:$S$893,MATCH(I125,Backbone!$A$2:$A$893,0))","v":"«Единое здоровье»; универсальный"},null,null,null,{"$f":"INDEX(Backbone!$H$2:$H$893,MATCH(I125,Backbone!$A$2:$A$893,0))","v":7.6},null,{"$f":"INDEX(Backbone!$I$2:$I$893,MATCH(I125,Backbone!$A$2:$A$893,0))","v":6},null,{"$f":"INDEX(Backbone!$J$2:$J$893,MATCH(I125,Backbone!$A$2:$A$893,0))","v":8},null,{"$f":"INDEX(Backbone!$K$1:$K$893,MATCH(I125,Backbone!$A$1:$A$893,0))","v":8.6999999999999993},null,{"$f":"INDEX(Backbone!$L$2:$L$893,MATCH(I125,Backbone!$A$2:$A$893,0))","v":8.6},null,{"$f":"INDEX(Backbone!$M$2:$M$893,MATCH(I125,Backbone!$A$2:$A$893,0))","v":4.0999999999999996},null,{"$f":"INDEX(Backbone!$N$2:$N$893,MATCH(I125,Backbone!$A$2:$A$893,0))","v":4},null,{"$f":"INDEX(Backbone!$O$2:$O$893,MATCH(I125,Backbone!$A$2:$A$893,0))","v":8},null,{"$f":"INDEX(Backbone!$P$2:$P$893,MATCH(I125,Backbone!$A$2:$A$893,0))","v":4},null,{"$f":"INDEX(Backbone!$Q$2:$Q$893,MATCH(I125,Backbone!$A$2:$A$893,0))","v":0.65555555555555556},null,null,{"$f":"(AG125*$AG$22+AI125*$AI$22+AK125*$AK$22+AM125*$AM$22+AO125*$AO$22+AQ125*$AQ$22+AS125*$AS$22+AU125*$AU$22+AW125*$AW$22)/(SUM($AG$22:$AW$22)*10)","v":{"$error":"#DIV/0!"}},null,null,"Перейти в Реестр ресурсов: ",null,{"$f":"HYPERLINK(\"#\"&ADDRESS(MATCH(I125,Toolbox!$C$1:$C$300),1,,,\"Toolbox\"),VLOOKUP(I125,Toolbox!$C$1:$C$300,1,FALSE))","v":"Рамочная программа по оценке эпиднадзора за биозащитой (SurF)"}]
[]
[]
[]
[]
[]
[null,null,null,null,null,null,null,null,{"$f":"Backbone!A296","v":"Обновленные руководящие принципы для оценки систем эпиднадзора за здоровьем человека "},null,null,null,null,null,null,"Настоящий отчет предоставляет обновленные руководящие принципы для оценки систем эпиднадзора с описанием задач и связанных мероприятий, применимых к системе эпиднадзора за здоровьем человека.",null,null,null,null,null,null,null,null,{"$f":"INDEX(Backbone!$R$2:$R$893,MATCH(I131,Backbone!$A$2:$A$893,0))","v":"Руководящий документ"},null,null,null,{"$f":"INDEX(Backbone!$S$2:$S$893,MATCH(I131,Backbone!$A$2:$A$893,0))","v":"Ориентированный на конкретный сектор; универсальный"},null,null,null,{"$f":"INDEX(Backbone!$H$2:$H$893,MATCH(I131,Backbone!$A$2:$A$893,0))","v":7.6},null,{"$f":"INDEX(Backbone!$I$2:$I$893,MATCH(I131,Backbone!$A$2:$A$893,0))","v":8},null,{"$f":"INDEX(Backbone!$J$2:$J$893,MATCH(I131,Backbone!$A$2:$A$893,0))","v":7.2},null,{"$f":"INDEX(Backbone!$K$1:$K$893,MATCH(I131,Backbone!$A$1:$A$893,0))","v":8.6999999999999993},null,{"$f":"INDEX(Backbone!$L$2:$L$893,MATCH(I131,Backbone!$A$2:$A$893,0))","v":7.7},null,{"$f":"INDEX(Backbone!$M$2:$M$893,MATCH(I131,Backbone!$A$2:$A$893,0))","v":2.2999999999999998},null,{"$f":"INDEX(Backbone!$N$2:$N$893,MATCH(I131,Backbone!$A$2:$A$893,0))","v":4},null,{"$f":"INDEX(Backbone!$O$2:$O$893,MATCH(I131,Backbone!$A$2:$A$893,0))","v":5.8},null,{"$f":"INDEX(Backbone!$P$2:$P$893,MATCH(I131,Backbone!$A$2:$A$893,0))","v":4},null,{"$f":"INDEX(Backbone!$Q$2:$Q$893,MATCH(I131,Backbone!$A$2:$A$893,0))","v":0.61444444444444446},null,null,{"$f":"(AG131*$AG$22+AI131*$AI$22+AK131*$AK$22+AM131*$AM$22+AO131*$AO$22+AQ131*$AQ$22+AS131*$AS$22+AU131*$AU$22+AW131*$AW$22)/(SUM($AG$22:$AW$22)*10)","v":{"$error":"#DIV/0!"}},null,null,"Перейти в Реестр ресурсов: ",null,{"$f":"HYPERLINK(\"#\"&ADDRESS(MATCH(I131,Toolbox!$C$1:$C$300),1,,,\"Toolbox\"),VLOOKUP(I131,Toolbox!$C$1:$C$300,1,FALSE))","v":"Обновленные руководящие принципы для оценки систем эпиднадзора за здоровьем человека "}]
[]
[]
[]
[]
[]
[]
[]
[]
[]
[]
[]
[]
[]
[]
[]
[]
[]
[]
[]
[]
[]
[]
[]
[null,null,null,null,null,null,null,null,null,null,null,null,null,null,null,null,null,null,null,null,null,null,null,null,null,null,null,null,null,null,null,null,"Доступность",null,"Язык",null,"Простота использования",null,"Гибкость",null,"Потребности в данных",null,"Анализ данных",null,"Приемлемость",null,"«Единое здоровье»",null,"Воздействие"]
[]
[]
[]
[]
[]
[]
[null,null,null,null,null,null,null,null,null,null,null,null,null,null,null,null,null,null,null,null,null,null,null,null,null,null,null,null,null,null,null,null,null,null,null,null,null,null,null,null,null,null,null,null,null,null,null,null,null,null,"ИСХОДНАЯ ОЦЕНКА",null,null,"СКОРРЕКТИРОВАННАЯ ОЦЕНКА \n(Исходя из предпочтений пользователей)"]
[]
[]
[]
[null,"РЕСУРСЫ УРОВНЯ 3",null,"КЛАССИФИКАЦИЯ",null,null,null,null,"НАЗВАНИЕ РЕСУРСА",null,null,null,null,null,null,"КРАТКОЕ ОПИСАНИЕ",null,null,null,null,null,null,null,null,"ВИД РЕСУРСА",null,null,null,"ОБЩАЯ НАПРАВЛЕННОСТЬ РЕСУРСА"]
[]
[]
[]
[null,null,null,null,null,null,null,null,null,null,null,null,null,null,null,null,null,null,null,null,null,null,null,null,null,null,null,null,null,null,null,null,{"$f":"'Attribute Survey'!S170","v":0},null,{"$f":"'Attribute Survey'!S174","v":0},null,{"$f":"'Attribute Survey'!S178","v":0},null,{"$f":"'Attribute Survey'!S182","v":0},null,{"$f":"'Attribute Survey'!S186","v":0},null,{"$f":"'Attribute Survey'!S190","v":0},null,{"$f":"'Attribute Survey'!S194","v":0},null,{"$f":"'Attribute Survey'!S198","v":0},null,{"$f":"'Attribute Survey'!S202","v":0}]
[null,null,null,"Наиболее подходящие ресурсы",null,null,null,null,{"$f":"Backbone!A595","v":"Инструментарий для оценки качества данных (DQR)"},null,null,null,null,null,null,"Руководящие принципы и инструменты, лежащие в основе стандартизованного и комплексного подхода к качеству данных, который пропагандирует институционализацию регулярных оценок качества данных в странах.",null,null,null,null,null,null,null,null,{"$f":"INDEX(Backbone!$R$2:$R$893,MATCH(I171,Backbone!$A$2:$A$893,0))","v":"Инструмент самооценки"},null,null,null,{"$f":"INDEX(Backbone!$S$2:$S$893,MATCH(I171,Backbone!$A$2:$A$893,0))","v":"Ориентированный на конкретный сектор; универсальный"},null,null,null,{"$f":"INDEX(Backbone!$H$2:$H$893,MATCH(I171,Backbone!$A$2:$A$893,0))","v":7.7},null,{"$f":"INDEX(Backbone!$I$2:$I$893,MATCH(I171,Backbone!$A$2:$A$893,0))","v":7},null,{"$f":"INDEX(Backbone!$J$2:$J$893,MATCH(I171,Backbone!$A$2:$A$893,0))","v":7.7},null,{"$f":"INDEX(Backbone!$K$2:$K$893,MATCH(I171,Backbone!$A$2:$A$893,0))","v":10},null,{"$f":"INDEX(Backbone!$L$2:$L$893,MATCH(I171,Backbone!$A$2:$A$893,0))","v":6.3},null,{"$f":"INDEX(Backbone!$M$2:$M$893,MATCH(I171,Backbone!$A$2:$A$893,0))","v":4.8},null,{"$f":"INDEX(Backbone!$N$2:$N$893,MATCH(I171,Backbone!$A$2:$A$893,0))","v":5.5},null,{"$f":"INDEX(Backbone!$O$2:$O$893,MATCH(I171,Backbone!$A$2:$A$893,0))","v":5},null,{"$f":"INDEX(Backbone!$P$2:$P$893,MATCH(I171,Backbone!$A$2:$A$893,0))","v":4},null,{"$f":"INDEX(Backbone!$Q$2:$Q$893,MATCH(I171,Backbone!$A$2:$A$893,0))","v":0.64444444444444438},null,null,{"$f":"(AG171*$AG$22+AI171*$AI$22+AK171*$AK$22+AM171*$AM$22+AO171*$AO$22+AQ171*$AQ$22+AS171*$AS$22+AU171*$AU$22+AW171*$AW$22)/(SUM($AG$22:$AW$22)*10)","v":{"$error":"#DIV/0!"}},null,null,"Перейти в Реестр ресурсов: ",null,{"$f":"HYPERLINK(\"#\"&ADDRESS(MATCH(I171,Toolbox!$C$1:$C$300),1,,,\"Toolbox\"),VLOOKUP(I171,Toolbox!$C$1:$C$300,1,FALSE))","v":"Инструментарий для оценки качества данных (DQR)"}]
[]
[]
[]
[]
[]
[]
[null,null,null,"Другие полезные ресурсы",null,null,null,null,{"$f":"Backbone!A83","v":"Оценка системы эпиднадзора и мониторинга качества данных Европейского ЦКПЗ — справочник методов и применений "},null,null,null,null,null,null,"Справочник по мониторингу качества данных эпиднадзора для специалистов сектора общественного здравоохранения.",null,null,null,null,null,null,null,null,{"$f":"INDEX(Backbone!$R$2:$R$893,MATCH(I178,Backbone!$A$2:$A$893,0))","v":"Руководящий документ"},null,null,null,{"$f":"INDEX(Backbone!$S$2:$S$893,MATCH(I178,Backbone!$A$2:$A$893,0))","v":"Ориентированный на конкретный сектор; универсальный"},null,null,null,{"$f":"INDEX(Backbone!$H$2:$H$893,MATCH(I178,Backbone!$A$2:$A$893,0))","v":8.1999999999999993},null,{"$f":"INDEX(Backbone!$I$2:$I$893,MATCH(I178,Backbone!$A$2:$A$893,0))","v":6},null,{"$f":"INDEX(Backbone!$J$2:$J$893,MATCH(I178,Backbone!$A$2:$A$893,0))","v":6.4},null,{"$f":"INDEX(Backbone!$K$1:$K$893,MATCH(I178,Backbone!$A$1:$A$893,0))","v":7.3},null,{"$f":"INDEX(Backbone!$L$2:$L$893,MATCH(I178,Backbone!$A$2:$A$893,0))","v":7.7},null,{"$f":"INDEX(Backbone!$M$2:$M$893,MATCH(I178,Backbone!$A$2:$A$893,0))","v":4.5},null,{"$f":"INDEX(Backbone!$N$2:$N$893,MATCH(I178,Backbone!$A$2:$A$893,0))","v":5.3},null,{"$f":"INDEX(Backbone!$O$2:$O$893,MATCH(I178,Backbone!$A$2:$A$893,0))","v":6.2},null,{"$f":"INDEX(Backbone!$P$2:$P$893,MATCH(I178,Backbone!$A$2:$A$893,0))","v":8},null,{"$f":"INDEX(Backbone!$Q$2:$Q$893,MATCH(I178,Backbone!$A$2:$A$893,0))","v":0.66222222222222227},null,null,{"$f":"(AG178*$AG$22+AI178*$AI$22+AK178*$AK$22+AM178*$AM$22+AO178*$AO$22+AQ178*$AQ$22+AS178*$AS$22+AU178*$AU$22+AW178*$AW$22)/(SUM($AG$22:$AW$22)*10)","v":{"$error":"#DIV/0!"}},null,null,"Перейти в Реестр ресурсов: ",null,{"$f":"HYPERLINK(\"#\"&ADDRESS(MATCH(I178,Toolbox!$C$1:$C$300),1,,,\"Toolbox\"),VLOOKUP(I178,Toolbox!$C$1:$C$300,1,FALSE))","v":"Оценка системы эпиднадзора и мониторинга качества данных Европейского ЦКПЗ — справочник методов и применений "}]
[]
[]
[]
[]
[]
[null,null,null,null,null,null,null,null,{"$f":"Backbone!A195","v":"Комплексная система эпиднадзора и мер реагирования (IDSR)"},null,null,null,null,null,null,"Стратегия, разработанная с целью укрепить потенциал стран для выявления и подтверждения предполагаемых случаев заболевания и вспышек и реагирования на них, а также для использования информации для прогнозирования событий в области общественного здравоохранения и планирования мер реагирования на них.",null,null,null,null,null,null,null,null,{"$f":"INDEX(Backbone!$R$2:$R$893,MATCH(I184,Backbone!$A$2:$A$893,0))","v":"Руководящий документ"},null,null,null,{"$f":"INDEX(Backbone!$S$2:$S$893,MATCH(I184,Backbone!$A$2:$A$893,0))","v":"Ориентированный на конкретный сектор; универсальный"},null,null,null,{"$f":"INDEX(Backbone!$H$2:$H$893,MATCH(I184,Backbone!$A$2:$A$893,0))","v":7.4},null,{"$f":"INDEX(Backbone!$I$2:$I$893,MATCH(I184,Backbone!$A$2:$A$893,0))","v":10},null,{"$f":"INDEX(Backbone!$J$2:$J$893,MATCH(I184,Backbone!$A$2:$A$893,0))","v":7.4},null,{"$f":"INDEX(Backbone!$K$1:$K$893,MATCH(I184,Backbone!$A$1:$A$893,0))","v":8.6999999999999993},null,{"$f":"INDEX(Backbone!$L$2:$L$893,MATCH(I184,Backbone!$A$2:$A$893,0))","v":6.7},null,{"$f":"INDEX(Backbone!$M$2:$M$893,MATCH(I184,Backbone!$A$2:$A$893,0))","v":4.5},null,{"$f":"INDEX(Backbone!$N$2:$N$893,MATCH(I184,Backbone!$A$2:$A$893,0))","v":8},null,{"$f":"INDEX(Backbone!$O$2:$O$893,MATCH(I184,Backbone!$A$2:$A$893,0))","v":7.2},null,{"$f":"INDEX(Backbone!$P$2:$P$893,MATCH(I184,Backbone!$A$2:$A$893,0))","v":8.5},null,{"$f":"INDEX(Backbone!$Q$2:$Q$893,MATCH(I184,Backbone!$A$2:$A$893,0))","v":0.76},null,null,{"$f":"(AG184*$AG$22+AI184*$AI$22+AK184*$AK$22+AM184*$AM$22+AO184*$AO$22+AQ184*$AQ$22+AS184*$AS$22+AU184*$AU$22+AW184*$AW$22)/(SUM($AG$22:$AW$22)*10)","v":{"$error":"#DIV/0!"}},null,null,"Перейти в Реестр ресурсов: ",null,{"$f":"HYPERLINK(\"#\"&ADDRESS(MATCH(I184,Toolbox!$C$1:$C$300),1,,,\"Toolbox\"),VLOOKUP(I184,Toolbox!$C$1:$C$300,1,FALSE))","v":"Комплексная система эпиднадзора и мер реагирования (IDSR)"}]
[]
[]
[]
[]
[]
[null,null,null,null,null,null,null,null,{"$f":"Backbone!A561","v":"Рамочная программа по оценке эпиднадзора за биозащитой (SurF)"},null,null,null,null,null,null,"Рамочная программа оценки систем эпиднадзора, которую можно использовать для обеспечения биозащиты, здоровья животных и растений. ",null,null,null,null,null,null,null,null,{"$f":"INDEX(Backbone!$R$2:$R$893,MATCH(I190,Backbone!$A$2:$A$893,0))","v":"Руководящий документ"},null,null,null,{"$f":"INDEX(Backbone!$S$2:$S$893,MATCH(I190,Backbone!$A$2:$A$893,0))","v":"«Единое здоровье»; универсальный"},null,null,null,{"$f":"INDEX(Backbone!$H$2:$H$893,MATCH(I190,Backbone!$A$2:$A$893,0))","v":7.6},null,{"$f":"INDEX(Backbone!$I$2:$I$893,MATCH(I190,Backbone!$A$2:$A$893,0))","v":6},null,{"$f":"INDEX(Backbone!$J$2:$J$893,MATCH(I190,Backbone!$A$2:$A$893,0))","v":8},null,{"$f":"INDEX(Backbone!$K$1:$K$893,MATCH(I190,Backbone!$A$1:$A$893,0))","v":8.6999999999999993},null,{"$f":"INDEX(Backbone!$L$2:$L$893,MATCH(I190,Backbone!$A$2:$A$893,0))","v":8.6},null,{"$f":"INDEX(Backbone!$M$2:$M$893,MATCH(I190,Backbone!$A$2:$A$893,0))","v":4.0999999999999996},null,{"$f":"INDEX(Backbone!$N$2:$N$893,MATCH(I190,Backbone!$A$2:$A$893,0))","v":4},null,{"$f":"INDEX(Backbone!$O$2:$O$893,MATCH(I190,Backbone!$A$2:$A$893,0))","v":8},null,{"$f":"INDEX(Backbone!$P$2:$P$893,MATCH(I190,Backbone!$A$2:$A$893,0))","v":4},null,{"$f":"INDEX(Backbone!$Q$2:$Q$893,MATCH(I190,Backbone!$A$2:$A$893,0))","v":0.65555555555555556},null,null,{"$f":"(AG190*$AG$22+AI190*$AI$22+AK190*$AK$22+AM190*$AM$22+AO190*$AO$22+AQ190*$AQ$22+AS190*$AS$22+AU190*$AU$22+AW190*$AW$22)/(SUM($AG$22:$AW$22)*10)","v":{"$error":"#DIV/0!"}},null,null,"Перейти в Реестр ресурсов: ",null,{"$f":"HYPERLINK(\"#\"&ADDRESS(MATCH(I190,Toolbox!$C$1:$C$300),1,,,\"Toolbox\"),VLOOKUP(I190,Toolbox!$C$1:$C$300,1,FALSE))","v":"Рамочная программа по оценке эпиднадзора за биозащитой (SurF)"}]
[]
[]
[]
[]
[]
[null,null,null,null,null,null,null,null,{"$f":"Backbone!A296","v":"Обновленные руководящие принципы для оценки систем эпиднадзора за здоровьем человека "},null,null,null,null,null,null,"Настоящий отчет предоставляет обновленные руководящие принципы для оценки систем эпиднадзора с описанием задач и связанных мероприятий, применимых к системе эпиднадзора за здоровьем человека.",null,null,null,null,null,null,null,null,{"$f":"INDEX(Backbone!$R$2:$R$893,MATCH(I196,Backbone!$A$2:$A$893,0))","v":"Руководящий документ"},null,null,null,{"$f":"INDEX(Backbone!$S$2:$S$893,MATCH(I196,Backbone!$A$2:$A$893,0))","v":"Ориентированный на конкретный сектор; универсальный"},null,null,null,{"$f":"INDEX(Backbone!$H$2:$H$893,MATCH(I196,Backbone!$A$2:$A$893,0))","v":7.6},null,{"$f":"INDEX(Backbone!$I$2:$I$893,MATCH(I196,Backbone!$A$2:$A$893,0))","v":8},null,{"$f":"INDEX(Backbone!$J$2:$J$893,MATCH(I196,Backbone!$A$2:$A$893,0))","v":7.2},null,{"$f":"INDEX(Backbone!$K$1:$K$893,MATCH(I196,Backbone!$A$1:$A$893,0))","v":8.6999999999999993},null,{"$f":"INDEX(Backbone!$L$2:$L$893,MATCH(I196,Backbone!$A$2:$A$893,0))","v":7.7},null,{"$f":"INDEX(Backbone!$M$2:$M$893,MATCH(I196,Backbone!$A$2:$A$893,0))","v":2.2999999999999998},null,{"$f":"INDEX(Backbone!$N$2:$N$893,MATCH(I196,Backbone!$A$2:$A$893,0))","v":4},null,{"$f":"INDEX(Backbone!$O$2:$O$893,MATCH(I196,Backbone!$A$2:$A$893,0))","v":5.8},null,{"$f":"INDEX(Backbone!$P$2:$P$893,MATCH(I196,Backbone!$A$2:$A$893,0))","v":4},null,{"$f":"INDEX(Backbone!$Q$2:$Q$893,MATCH(I196,Backbone!$A$2:$A$893,0))","v":0.61444444444444446},null,null,{"$f":"(AG196*$AG$22+AI196*$AI$22+AK196*$AK$22+AM196*$AM$22+AO196*$AO$22+AQ196*$AQ$22+AS196*$AS$22+AU196*$AU$22+AW196*$AW$22)/(SUM($AG$22:$AW$22)*10)","v":{"$error":"#DIV/0!"}},null,null,"Перейти в Реестр ресурсов: ",null,{"$f":"HYPERLINK(\"#\"&ADDRESS(MATCH(I196,Toolbox!$C$1:$C$300),1,,,\"Toolbox\"),VLOOKUP(I196,Toolbox!$C$1:$C$300,1,FALSE))","v":"Обновленные руководящие принципы для оценки систем эпиднадзора за здоровьем человека "}]

{"sheet":"Activities","index":59,"n_rows":29,"n_cols":24,"rows_kept":29,"cut":false,"hidden":false,"merged":[[19,11,21,11],[22,11,24,11],[4,11,6,11],[7,11,9,11],[10,11,12,11],[13,11,15,11],[16,11,18,11],[0,0,0,3],[0,5,0,7],[0,10,0,13],[0,15,0,18],[0,20,0,23],[13,6,14,6],[15,6,17,6],[18,6,19,6],[20,6,22,6],[1,1,3,1],[4,1,6,1],[7,1,9,1],[1,6,3,6],[4,6,6,6],[7,6,8,6],[9,6,10,6],[1,21,3,21],[4,21,6,21],[7,21,9,21],[23,6,25,6],[26,6,27,6],[1,11,3,11],[1,16,3,16],[4,16,6,16],[7,16,9,16],[10,16,12,16],[13,16,15,16],[16,16,18,16],[19,16,21,16],[22,16,24,16],[26,16,28,16],[11,6,12,6]]}
["ПРЕДВАРИТЕЛЬНОЕ ПЛАНИРОВАНИЕ",null,null,null,null,"ОЦЕНКА",null,null,null,null,"ПЛАНИРОВАНИЕ",null,null,null,null,"ВНЕДРЕНИЕ",null,null,null,null,"Мониторинг и оценка"]
["ПП-1","ПП-1 Предварительное выявление заинтересованных сторон","Во всех участвующих секторах на национальном уровне определены координаторы, «лидеры» или технические рабочие группы для планирования внедрения координированного эпиднадзора","У1",null,"О-1","О-1 Картирование заинтересованных сторон","Заинтересованные стороны в области эпиднадзора, эпидемиологии, лабораторных исследований и обмена информацией выявлены","У1",null,"ПЛ-1","ПЛ-1 Политическая воля","Определены лица, принимающие решения в отношении создания координированной системы эпиднадзора","У1",null,"В-1","В-1 Привлечение финансовых ресурсов","Имеется финансирование для осуществления координированного эпиднадзора на национальном уровне","У1",null,"MO-1","МО-1 Имитационные учения","Имитационные учения проводятся для оценки эффективности и функциональности координированной системы эпиднадзора на национальном уровне  ","У1"]
["ПП-1",null,"Во всех участвующих секторах на всех уровнях в стране определены координаторы, «лидеры» или технические рабочие группы для планирования внедрения координированного эпиднадзора","У2",null,"О-1",null,"В ходе анализа заинтересованных сторон определены участники на всех уровнях в стране ","У2",null,"ПЛ-1",null,"Политическая поддержка координированной системы эпиднадзора сформирована, и ее сторонники имеются на всех страновых уровнях","У2",null,"В-1 ",null,"Финансирование для осуществления координированного эпиднадзора имеется на всех уровнях в стране","У2",null,"MO-1",null,"Имитационные учения проводятся для оценки эффективности и функциональности координированной системы эпиднадзора на всех уровнях в стране  ","У2"]
["ПП-1",null,"Координаторы, «лидеры» или технические рабочие группы (включая выявленных координаторов или «лидеров») в области координированного эпиднадзора институализированы (например: в рамках руководящего органа, такого как МКМ)   ","У3",null,"О-1",null,"Функции и обязанности заинтересованных сторон институционализированы и включены в политические документы","У3",null,"ПЛ-1",null,"Имеется стратегия информационно-разъяснительной работы, которая служит основой для коммуникации с лицами, принимающими решения, по вопросам координированной системы эпиднадзора","У3",null,"В-1",null,"Устойчивое финансирование (т. е. заложенное в национальный бюджет) выделено на мероприятия по координированному эпиднадзору, оценено и признано соответствующим целям координированной системы эпиднадзора","У3",null,"MO-1",null,"Результаты имитационных учений используются при составлении и пересмотре планов по координированному эпиднадзору ","У3"]
["ПП-2.1","ПП-2 Приоритизация","Существует список приоритетных зоонозов, подлежащих включению в координированную систему эпиднадзора","У1",null,"О-2","О-2 Оценка взаимосвязей в системе эпиднадзора","Оценка взаимосвязей между существующими системами эпиднадзора за приоритетными зоонозами проведена на межотраслевом уровне","У1",null,"ПЛ-2","ПЛ-2 Общие элементы данных","В каждом участвующем секторе общие элементы данных для достижения общих аналитических целей координированной системы эпиднадзора определены и согласованы на национальном уровне","У1",null,"В-2","В-2 Привлечение кадровых ресурсов и заинтересованных сторон","Координаторы или технические рабочие группы проводят совещания эпизодически","У1",null,"MO-2","МО-2 Планирование деятельности по мониторингу и оценке","Существует план мониторинга и оценки, отвечающий целям координированной системы эпиднадзора","У1"]
["ПП-2.1",null,"Список зоонозов широко распространен на субнациональном уровне и уровне сообществ","У2",null,"О-2",null,"Оценка взаимосвязей между существующими системами эпиднадзора проведена на межотраслевом уровне и на всех уровнях в стране","У2",null,"ПЛ-2",null,"В каждом участвующем секторе общие элементы данных для достижения общих аналитических целей координированной системы эпиднадзора определены и согласованы на всех уровнях в стране","У2",null,"В-2",null,"Координаторы или технические рабочие группы встречаются на регулярной основе и для решения приоритетных вопросов по мере их возникновения","У2",null,"MO-2",null,"С помощью плана мониторинга и оценки оценивается эффективность деятельности и достигнутый прогресс в рамках координированной системы эпиднадзора","У2"]
["ПП-2.1",null,"Список зоонозов составляется с использованием межотраслевого подхода «Единое здоровье». Такой подход предполагает участие всех соответствующих секторов в основанном на фактических данных, прозрачном и воспроизводимом процессе определения приоритетов","У3",null,"О-2",null,"Взаимосвязи между существующими системами эпиднадзора проанализированы и признаны соответствующими целям координированной системы эпиднадзора","У3",null,"ПЛ-2",null,"Общие элементы данных стандартизированы во всех участвующих секторах на основе общих аналитических целей координированной системы эпиднадзора и отвечают международным стандартам данных","У3",null,"В-2",null,"Технические рабочие группы регулярно проводят обзоры мероприятий по координированному эпиднадзору и ее оптимизацию ","У3",null,"MO-2",null,"Результаты мониторинга и оценки позволяют последовательно совершенствовать или расширять координированную систему эпиднадзора и приводить ее в соответствие с международными стандартами и рекомендациями ","У3"]
["ПП-3.1","ПП-3 Постановка целей","Цель(и), функции и обязанности всех участвующих секторов координированной системы эпиднадзора согласованы на национальном уровне","У1",null,"О-3","О-3 Оценка нормативно-правовой базы","Оценка нормативно-правовой базы (правил, политики, руководящих принципов и положений, включая международные стандарты), регулирующей стандарты этики и конфиденциальности в области эпиднадзора и обмена данными, проведена","У1",null,"ПЛ-3","ПЛ-3 Стратегические планы и рамочные документы по координированному эпиднадзору","В целях планирования проведен межотраслевой сбор и обзор национальных стратегических документов (стратегий, рамочных программ и стратегических планов), относящихся к координированной системе эпиднадзора","У1",null,"В-3\n","В-3 Обмен данными и информацией","Существует механизм обмена данными между секторами на национальном уровне","У1",null,"МО-3","МО-3 Стандарты качества данных ","Существует методология управления качеством данных","У1"]
["ПП-3.1",null,"Цель(и), функции и обязанности всех участвующих секторов координированной системы эпиднадзора согласованы и охватывают все уровни в стране","У2",null,"О-3",null,"Оценка нормативно-правовой базы (правил, политики, руководящих принципов и положений, включая международные стандарты), регулирующей стандарты этики и конфиденциальности в области эпиднадзора и обмена данными, проводится на всех уровнях в стране ","У3",null,"ПЛ-3",null,"Национальные стратегические документы (стратегии, рамочные программы и стратегические планы) по координированной системе эпиднадзора сведены воедино и согласованы на основе результатов оценки на всех уровнях в стране","У2",null,"В-3 \n",null,"Существует механизм обмена данными между секторами на всех страновых уровнях","У2",null,"МО-3",null,"Качество данных проверено и признано соответствующим целям координированной системы эпиднадзора  ","У2"]
["ПП-3.1",null,"Цель(и), функции и обязанности в рамках координированной системы эпиднадзора пересмотрены для учета текущих потребностей координированной системы эпиднадзора ","У3",null,null,null,null,null,null,"ПЛ-3",null,"Пересмотренные стратегические документы (стратегии, рамочные программы и стратегические планы) по координированной системе эпиднадзора приведены в соответствие с международными стандартами и рекомендациями","У3",null,"В-3 \n",null,"Существует доступный, функциональный и удобный для использования всеми участвующими секторами механизм обмена данными","У3",null,"МО-3",null,"Качество данных соответствует международным стандартам и рекомендациям ","У3"]
[null,null,null,null,null,null,null,null,null,null,"ПЛ-4","ПЛ-4 Национальные оперативные планы ","В целях планирования проведен межотраслевой сбор и обзор национальных оперативных планов и других важные документов (включая планы эпиднадзора, определения случаев, протоколы и стандартные операционные процедуры), относящихся к координированной системе эпиднадзора\n","У1",null,"В-4\n","В-4 Хранение данных","Существуют структура и место для хранения и ведения данных, получаемых из различных секторов, на национальном уровне.","У1"]
[null,null,null,null,null,null,null,null,null,null,"ПЛ-4",null,"Пересмотренные оперативные планы и другие важные документы (включая планы эпиднадзора, определения случаев, протоколы и стандартные операционные процедуры), относящиеся к координированной системе эпиднадзора и обмена информацией, утверждены всеми ведомствами, осуществляющими эпиднадзор на всех уровнях в стране\n","У2",null,"В-4\n",null,"Существуют структура и место для хранения и ведения данных, получаемых из различных секторов, на всех уровнях в стране","У2"]
[null,null,null,null,null,null,null,null,null,null,"ПЛ-4",null,"Пересмотренные оперативные планы (включая планы эпиднадзора, определения случаев, протоколы и стандартные операционные процедуры), относящиеся к координированной системе эпиднадзора, приведены в соответствие с международными руководящими указаниями и рекомендациями\n","У3",null,"В-4\n",null,"Существуют доступная, функциональная и используемая всеми участвующими секторами структура и место для хранения и ведения данных, получаемых из всех соответствующих секторов","У3"]
[null,null,null,null,null,null,null,null,null,null,"ПЛ-5","ПЛ-5 Финансовое планирование","Имеются бюджетный план и механизм распределения средств для осуществления координированного эпиднадзора на национальном уровне","У1",null,"В-5\n","В-5 Меры по обеспечению конфиденциальности и безопасности данных","Меры по обеспечению конфиденциальности и безопасности данных для защиты данных координированного эпиднадзора применяются на национальном уровне","У1"]
[null,null,null,null,null,null,null,null,null,null,"ПЛ-5",null,"Имеются бюджетный план и механизм распределения средств для осуществления координированного эпиднадзора на всех страновых уровнях","У2",null,"В-5\n",null,"Меры по обеспечению конфиденциальности и безопасности данных для защиты данных координированного эпиднадзора применяются на всех страновых уровнях","У2"]
[null,null,null,null,null,"О-4","О-4 Картирование инфраструктуры","В результате проведения базового картирования инфраструктуры (в соответствие с ТРЗ, гл. 4.1) были описаны структура и взаимосвязи внутри секторов и между ними ","У1",null,"ПЛ-5",null,"Бюджетный план и механизм распределения средств подвергнуты оценке и признаны соответствующими целям координированной системы эпиднадзора ","У3",null,"В-5\n",null,"Меры по обеспечению конфиденциальности и безопасности данных для защиты данных координированного эпиднадзора прошли оценку и соответствуют целям координированной системы эпиднадзора","У3"]
[null,null,null,null,null,"О-4",null,"В ходе картирования инфраструктуры описано большинство подлежащих картированию областей (в соответствие с ТРЗ, гл. 4.1)","У2",null,"ПЛ-6","ПЛ-6 Планирование в области кадровых ресурсов","План обучения и профессиональной подготовки кадров для координированной системы эпиднадзора разработан на основе оценки кадровых ресурсов на национальном уровне","У1",null,"В-6","В-6 Внедрение координированной системы эпиднадзора","Запущен пилотный проект координированной системы эпиднадзора в целевых регионах","У1"]
[null,null,null,null,null,"О-4",null,"Полное картирование инфраструктуры использовано для описания всех подлежащих картированию областей (в соответствие с ТРЗ, гл. 4.1).","У3",null,"ПЛ-6",null,"План обучения и профессиональной подготовки кадров для координированной системы эпиднадзора разработан на основе оценки кадровых ресурсов для всех страновых уровней","У2",null,"В-6",null,"Координированная система эпиднадзора расширена до дополнительных областей исходя из пилотных внедрений","У2"]
[null,null,null,null,null,"О-5","О-5 Оценка экономических потребностей","Экономические оценки были использованы для определения национальных финансовых потребностей координированной системы эпиднадзора ","У1",null,"ПЛ-6",null,"Образование и профессиональная подготовка кадров включены в процесс национального межотраслевого кадрового планирования с учетом международных компетенций и оценок\n","У3",null,"В-6",null,"Координированная системы эпиднадзора является общегосударственной программой","У3"]
[null,null,null,null,null,"О-5",null,"Экономические оценки проведены для определения финансовых потребностей на всех уровнях в стране в отношении координированной системы эпиднадзора ","У3",null,"ПЛ-7","ПЛ-7 Обеспечение нормативно-правовой базы","По результатам оценки необходимые нормативно-правовые рамки (правила, стратегии, руководства и положения, включая международные стандарты) стандартизированы во всех секторах на национальном уровне","У1",null,"В-7","В-7 Обмен данными эпиднадзора","Обмен данными эпиднадзора осуществляется неофициально или официально эпизодически на национальном уровне","У1"]
[null,null,null,null,null,"О-6","О-6 Оценка лабораторного потенциала","В результате проведения оценок лабораторного потенциала были определены квалифицированные национальные или международные референс-лаборатории, которые могут проводить тестирование для поддержки деятельности в рамках координированного эпиднадзора","У1",null,"ПЛ-7",null,"По результатам оценки необходимые нормативно-правовые рамки (правила, стратегии, руководства и положения, включая международные стандарты) стандартизированы во всех секторах на всех страновых уровнях","У2",null,"В-7",null,"Обмен данными эпиднадзора осуществляется неофициально или официально регулярно и своевременно на всех уровнях в стране","У2"]
[null,null,null,null,null,"О-6",null," В результате проведения оценок лабораторного потенциала были определены квалифицированные лаборатории на всех уровнях (включая международный), которые могут проводить тестирование для поддержки мероприятий в рамках координированного эпиднадзора","У2",null,"ПЛ-7",null,"Пересмотренные нормативно-правовые рамки для координированной системы эпиднадзора приведены в соответствие с международными стандартами и рекомендациями. ","У3",null,"В-7",null,"Данные эпиднадзора систематически, регулярно и своевременно предоставляются всем участвующим секторам через универсальную или объединенную платформу (платформы) ","У3"]
[null,null,null,null,null,"О-6",null,"В результате проведения оценок лабораторного потенциала выявлена сеть квалифицированных лабораторий, которые могут проводить тестирование для поддержки мероприятий в рамках координированного эпиднадзора","У3",null,"ПЛ-8","ПЛ-8 Планирование скоординированной коммуникации","Проведено согласование коммуникационной терминологии и сообщений между всеми секторами, участвующими в координированной системе эпиднадзора на национальном уровне.","У1",null,"B-8 ","В-8 Коммуникация и обмен информацией","Осуществляется эпизодический обмен информацией и коммуникация с соответствующими заинтересованными сторонами","У1"]
[null,null,null,null,null,"О-7","О-7 Лабораторная логистика и интерпретация результатов исследований","Поставки лабораторных материалов, транспортные цепочки и методы интерпретации результатов оценены на предмет согласования между участвующими секторами на национальном уровне","У1",null,"ПЛ-8",null,"Согласованная коммуникационная терминология и сообщения между всеми секторами, участвующими в координированной системе эпиднадзора, доведены до всех уровней в стране","У2",null,"B-8 ",null,"Осуществляется регулярный обмен информацией и коммуникация с соответствующими заинтересованными сторонами","У2"]
[null,null,null,null,null,"О-7",null,"Поставки лабораторных материалов, транспортные цепочки и методы интерпретации результатов оценены на предмет согласования между участвующими секторами на всех уровнях в стране","У2",null,"ПЛ-8",null,"Существует стратегия коммуникации и/или план коммуникации (включающий терминологию и формы сообщений), на основе которых осуществляется коммуникация с заинтересованными сторонами и населением в рамках координированной системы эпиднадзора","У3",null,"B-8 ",null,"Осуществляется регулярный и своевременный обмен информацией с соответствующими заинтересованными сторонами, включая трансграничные, региональные и международные структуры","У3"]
[null,null,null,null,null,"О-7",null,"Степень согласованности способов поставок лабораторных материалов, транспортных цепочек и методов интерпретации результатов между участвующими секторами оценена и признана соответствующей целям координированной системы эпиднадзора","У3",null,null,null,null,null,null,"B-9","В-9 Международные требования в отношении оповещений","Соблюдение международных требований в отношении оповещения обо всех случаях зоонозов","У1"]
[null,null,null,null,null,"О-8","О-8 Оценка кадровых ресурсов","Оценки кадровых ресурсов проведены для определения текущих требований, компетенций, потребностей и пробелов в области кадрового потенциала на национальном уровне","У1",null,null,null,null,null,null,"B-10","B-10 Визуализация и анализ данных координированного эпиднадзора","Данные координированного эпиднадзора позволяют получить выходные материалы (например: рисунки, графики, отчеты или бюллетени), которые распространяются на национальном уровне","У1"]
[null,null,null,null,null,"О-8",null," Оценка кадровых ресурсов проведена для определения текущих требований, компетенций, потребностей и пробелов в области кадрового потенциала на всех уровнях в стране","У3",null,null,null,null,null,null,"B-10",null,"Данные координированного эпиднадзора позволяют получить выходные материалы (например: рисунки, графики, отчеты или бюллетени), которые распространяются среди заинтересованных сторон на всех уровнях в стране","У2"]
[null,null,null,null,null,null,null,null,null,null,null,null,null,null,null,"B-10",null,"Данные координированного эпиднадзора, включая отчеты о результатах мониторинга и оценки, позволяют получить выходные материалы, которые используются при разработке ответных мер, политики и программ","У3"]